{"text_format":"1","workbook":"xlsx","n_sheets":19,"sheets":["notes","parameters","Index","MoreAboutData","localcont","Foundation Budget","Municipal Contribution","Regional Allocation","Summary","Regional District Members","Comparison to FY20","Rates","Townwide Contributions","Aid436","ceyregionalcalc","disthist","dist435","leas","frac"],"not_rendered":{"charts":6,"images":5,"macros":1,"external_links":0,"defined_names":151,"comments":1,"pivot_tables":0},"unopened":[],"bounds":{"document_bytes":16777216,"sheet_cells":100000,"rows_first":2000,"rows_last":500,"rows_between":2000,"halvings":0,"cell_chars":16384,"cell_head_chars":4096},"cells_cut":0,"cells_raw":0,"read":"whole","date_system":"1900"}

{"sheet":"notes","index":0,"n_rows":28,"n_cols":4,"rows_kept":28,"cut":false,"hidden":true,"merged":[]}
["FY21 Chapter 70"]
[]
["Tabs","What happens on this sheet","Data source (if any)","Notes"]
["Parameters","Allows the user to adjust all of the policy levers in Chapter 70, except for changes to foundation.  Foundation budget scenarios can be changed, but they must 1st be run separately and dropped into localcont (all the way to the right).  Up to 11 alternatives can be included.",null,"Updated table for graph re: \"additional increments toward target\" to include 175%CEY increment"]
["Index","Controls the district being viewed for all reports except regional dist members","Dropdown box reads LEAs","Changed LEA 603 label to \"Hoosac Valley\""]
["Rates","CY and PY foundation budget rates\nUsed to calculate foundation budget report","Copied in from found file","Copied in FY21 rates"]
["Foundation Budget","1 district report showing build-up of foundation budget","Rates, dist435","labels"]
["Municipal Contribution","1 city/town report showing build-up of required local contribution (municipal level)","townwide contributions","labels"]
["Regional Allocation","1 city/town report showing allocation of total municipal required local contribution based on proportion of foundation budget at each district to which it belongs","localcont","labels"]
["Summary","1 district report summarizing C70 calculation and comparison to PY","aid436, disthist","labels"]
["Regional Dist Members","1 regional district report summarizing enrollment and local contribution for each member town\nChanged in FY18 to vlookup on localcont","localcont, leas","Updated sheet to present foundation enrollment and local contribution for each town-to-regional-district combination"]
["LocalCont","Results from distfrac get copied into the far right (up to 11 versions of foundation budget can be entered).  Toggle is on parameters sheet.\nData is organized in 5 row format for each city/town (municipality and its districts, blanks are 998 and total is 999).\nUsed to calculate each municipal-district combination's RLC.","found file, distfrac (allocate sheet)","Copied in FY20 foundation budget, %s, RLCs and enro."]
[]
["Comparison to FY19","2 year comparison for operating districts","aid436, disthist, localcont"]
["Townwide Contributions","Calculates municipal required local contributions","DOR (EQV, Income, MRGFs), PY file (RLCs), parameters","Copied FY20 RLCs into PY RLC column"]
["Aid436","Calculates district Ch 70 aid","disthist, localcont, frac, parameters\nStarting w/ LEA 406, in col J (target aid %), formula changes to pull from frac tab.","Added columns for minimum aid adjustment"]
["Frac","Calculates target aid percentage for regional districts",null,"updated 1/13/2020"]
["DistHist","***Don't forget to copy in target aid %s from PY\nHistorical C70 data used in summary report, and other places",null,"Copied in FY20 FB, RLC and Aid\nCopied in target aid %s from FY20***"]
["Dist435","Data source for foundation budget report, shows detailed enrollment and budget columns","found20"]
[]
["Data","Source","Year","Notes"]
["Inflation","BEA website","Q3 2018 to Q3 2019 as of Dec 2018 (1.99%)","Table 1.1.9. Implicit Price Deflators for Gross Domestic Product"]
["Wage Adjustment Factor Inputs","EOLWD","Calendar Year 2017","wagesense21"]
["EQV","DOR","2018 EQV","DOR file Dec. 2018"]
["Income","DOR","2017 Income","DOR file Dec. 2019"]
["Enrollment","DESE","FY21","found21multi"]
["Postgrad Enrollment","DESE-CVTE office","FY21","FY21"]
["MRGFs","DOR/ANF","FY21","DOR 1/8/2020"]

{"sheet":"parameters","index":1,"n_rows":50,"n_cols":26,"rows_kept":50,"cut":false,"hidden":true,"merged":[[4,10,4,29]]}
["Cyr","FY21",21]
["Pyr","FY20",20]
["As of","2020-01-15"]
[]
["Parameters",null,null,"Base",null,null,null,null,null,null,"Analysis of Aggregate Wealth Model Implementation"]
[null,"Which version of foundation budget? ",1,1,null,null,"FY20 C70",5176002652]
[null,"Effort reduction",1,0,null,null,null,null,null,null,"Progress Towards Target Local Share"]
[null,"Pct downpayment on target aid share",0,0,null,null,"FY20 foundation aid increase",{"$f":"'Aid436'!K448","v":290761055}]
[null,null,null,0,null,null,null,null,null,null,null,"FY07","FY08","FY09","FY10","FY11","FY12","FY13","FY14","FY15","FY16","FY17","FY18","FY19","FY20","FY21"]
[null,null,null,null,null,null,"Minimum per pupil aid increase",{"$f":"'Aid436'!X448","v":11928187.000000659},null,null,"excess effort before effort reduction",621.084157,494.05891200000002,372.382091,228.110232,366,293.3,229.8,234.5,307.90301399999998,235.358789,299.86437000000001,151.670894,68.664220999999998,21.435137000000001,{"$f":"'Townwide Contributions'!V361/1000000","v":29.712230000000002}]
[null,null,null,null,null,null,"Min aid adjustment increase",{"$f":"'Aid436'!AI448","v":906487.00000000105},null,null,"effort reduction",124.21683139999998,123.51472800000001,122.88609003000001,34.216535,109.8,58.7,34.5,35.200000000000003,153.95150699999999,117.6793945,254.88471449999989,128.92025990000005,68.664220999999998,21.435137000000001,{"$f":"'Townwide Contributions'!V361/1000000","v":29.712230000000002}]
[null,null,null,null,null,null,"Non-op reduction",{"$f":"'Aid436'!AK448","v":63840.610000000008},null,null,"net excess after effort reduction",496.86732560000002,370.54418399999997,249.49600097000001,193.893697,256.2,{"$f":"Q10-Q11","v":234.60000000000002},{"$f":"R10-R11","v":195.3},199.3,152.08069825743701,117.482913201,44.978793475999993,22.749214023213945,0,0,{"$f":"'Townwide Contributions'!AC361/1000000","v":0}]
[null,null,null,null,null,null,"FY20 Chapter 70",{"$f":"'Aid436'!AM448","v":5479225982.3900013},null,null,"shortfall below target before increment",-321.45232199999998,-352.17487499999999,-359.19356299999998,-427.2,-228,-211,-200,-180.2,-162.97221500000001,-132.627218,-96.928090999999995,-103.17317,-117.254713,-207.485209,{"$f":"'Townwide Contributions'!AA361/1000000","v":-280.10148600000002}]
[null,"Per pupil guaranteed increase",30,0,null,null,"Devens",{"$f":"308558","v":308558},null,null,"additional increments toward target",0,-19.739149000000001,-21.387588000000001,-121.2,-10.6,-10,-4.2,-3.9,-7.5630930000000003,-5.8487390000000001,-2.4742150000000001,-3.6281780000000001,-5.3203490000000002,-19.253945000000002,{"$f":"('Townwide Contributions'!T361/1000000*-1)+('Townwide Contributions'!W361/1000000*-1)","v":-21.712780000000002}]
[null,"Which version of mrgf? ",1,1,null,null,null,null,null,null,"net shortfall below target after increment",-321.45232199999998,-332.43572599999999,-337.80597499999999,-306,-217.4,-200.9,-195.7,-176.3,-155.409122,-126.778479,-94.453875999999994,-99.544991999999993,-111.934364,-188.23126400000001,{"$f":"'Townwide Contributions'!AB361/1000000","v":-258.38870600000001}]
[null,"Below effort threshold 1",2.5,2.5,null,null,"Change in C70 Appropriation",{"$f":"H13+H14-H6","v":303531888.3900013},null,null,"n of municipalities with effort too high",232,218,214,193,282,257,249,255,279,278,303,291,0,0,{"$f":"'Townwide Contributions'!AC364","v":0}]
[null,"Below effort threshold 2",7.5,7.5,null,null,"Percent Change",{"$f":"H16/H6","v":5.8642143135826448E-2}]
[null,"Below effort contribution increment, 5-10% under",0.01,0.01]
[null,"Below effort contribution increment, >10% under",0.02,0.02,null,null,"N of Foundation Aid Districts",{"$f":"'Aid436'!O448","v":143}]
[null,"Maximum local contribution pct of foundation",0.82499999999999996,0.82499999999999996,null,null,"N of Districts with an Aid Increase",{"$f":"'Comparison to FY20'!N331","v":318}]
[null,"Statewide target for local contribution % of foundation",0.59,0.59,null,null,"Total C70 Including Devens",{"$f":"H13+H14","v":5479534540.3900013}]
[null,"Cap contributions at fixed percentage of foundation",0.9,0.9]
[null,"Percentage cut to base aid",0,0]
["Eqv/income percentages"]
[]
[null,"Target effort",{"$f":"C21*localcont!K1765","v":7050981835.623889}]
[null,"Effort based upon following percentages",{"$f":"'Townwide Contributions'!K361","v":7050981832}]
[null,"Difference  from target",{"$f":"IF(ABS(C27-C26)<10,0,C27-C26)","v":0}]
[null,"           Percentage of EQV ",3.7410493839610281E-3]
[null,"           Percentage of INCOME",{"$f":"C29*1/C34","v":1.4789076764641458E-2}]
[]
[null,"Total EQV",{"$f":"'Townwide Contributions'!C361","v":1249672575100}]
[null,"Total Income",{"$f":"'Townwide Contributions'!E361","v":316117557007.22998}]
[null,"State Average % of EQV",{"$f":"C33/C32","v":0.25296030600810293}]
[]
[]
["See Progress Towards Targets"]
[]
[]
[]
[]
[null,null,null,null,null,null,null,null,null,null,"Progress Towards Target Aid Share"]
[]
[null,null,null,null,null,null,null,null,null,null,null,"FY07","FY08","FY09","FY10","FY11","FY12","FY13","FY14","FY15","FY16","FY17","FY18","FY19","FY20","FY21"]
[null,null,null,null,null,null,null,null,null,null,"aid above target",394.9,421,440.4,413.59914561056684,489.29058672761249,360.5802896250691,372.91397258755205,385.3,404.65393358144092,419.07307786449184,488.13621374028867,497.40384494550671,487.80696944632837,518.44879540449108,{"$f":"'Aid436'!AT449/1000000","v":579.43819945652524}]
[null,null,null,null,null,null,null,null,null,null,"aid below target",-176.3,-143,-105.5,-97.823632622684812,-75.730739773442338,-110.4290612110001,-84.706296922117531,-66.900000000000006,-49.399214270156875,-44.487988876901781,-13.013026762936654,-7.2026888360463408,-1.8096836867057722E-2,-1.1899810261307884E-3,{"$f":"'Aid436'!AT450/1000000","v":-4.4590863591275048E-4}]
[]
[]
[]
[null,null,{"$f":"TEXT(effortred,\"0%\")","v":"100%"}]

{"sheet":"Index","index":2,"n_rows":464,"n_cols":10,"rows_kept":464,"cut":false,"hidden":false,"merged":[]}
["Massachusetts Department of Elementary and Secondary Education",null,null,null,null,null,null,null,null,"2020-01-22"]
[{"$f":"parameters!B1& \" Chapter 70 and Net School Spending Formula Spreadsheet\"","v":"FY21 Chapter 70 and Net School Spending Formula Spreadsheet"},null,null,null,null,null,null,null,null,""]
[null,"Select or type full district name below","LEA code"]
[{"$f":"C4","v":999},"Select a district",{"$f":"VLOOKUP(B4,leas!$E$4:$F$446,2,FALSE)","v":999}]
[]
[null,"Use the drop-down menu to select a municipal or regional district  and then go to any of the first four links below.  "]
[null,"Only municipal district selections will activate the Municipal Contribution Requirement and Regional Allocation reports."]
[null,"A list of LEAs by code begins on row 26 of this sheet."]
[]
[null,"We recommend that you save this workbook to your computer before proceeding, then leave this browser, and open the workbook using Excel or My Computer."]
[]
[null,"Summary"]
[null,"Foundation Budget"]
[null,"Municipal Contribution Requirement"]
[null,"Regional Allocation"]
[]
[null,"Regional District Detail",null,"(go to this sheet to see any particular regional district's comparison of enrollment and minimum contributions to the prior year)"]
[]
[null,"There are also a number of \"hidden\" sheets which contain the underlying spreadsheet calculations."]
[null,"They can be accessed by right-clicking on any of the tabs below and choosing a sheet to unhide."]
[]
[null,"Questions or comments about Chapter 70 may be directed to:"]
[null,"Rob O'Donnell",null,"rodonnell@doe.mass.edu",null,null,"781-338-6512"]
[null,"Rob Hanna",null,"robert.hanna@doe.mass.edu",null,null,"781-338-6525"]
[]
[null,"District",null,"LEA Number"]
[null,"Abington                     ",null,1]
[null,"Acton                        ",null,2]
[null,"Acton Boxborough             ",null,600]
[null,"Acushnet                     ",null,3]
[null,"Adams                        ",null,4]
[null,"Agawam                       ",null,5]
[null,"Alford                       ",null,6]
[null,"Amesbury                     ",null,7]
[null,"Amherst                      ",null,8]
[null,"Amherst Pelham               ",null,605]
[null,"Andover                      ",null,9]
[null,"Arlington                    ",null,10]
[null,"Ashburnham                   ",null,11]
[null,"Ashburnham Westminster       ",null,610]
[null,"Ashby                        ",null,12]
[null,"Ashfield                     ",null,13]
[null,"Ashland                      ",null,14]
[null,"Assabet Valley               ",null,801]
[null,"Athol                        ",null,15]
[null,"Athol Royalston              ",null,615]
[null,"Attleboro                    ",null,16]
[null,"Auburn                       ",null,17]
[null,"Avon                         ",null,18]
[null,"Ayer                         ",null,19]
[null,"Ayer Shirley",null,616]
[null,"Barnstable                   ",null,20]
[null,"Barre                        ",null,21]
[null,"Becket                       ",null,22]
[null,"Bedford                      ",null,23]
[null,"Belchertown                  ",null,24]
[null,"Bellingham                   ",null,25]
[null,"Belmont                      ",null,26]
[null,"Berkley                      ",null,27]
[null,"Berkshire Hills              ",null,618]
[null,"Berlin                       ",null,28]
[null,"Berlin Boylston              ",null,620]
[null,"Bernardston                  ",null,29]
[null,"Beverly                      ",null,30]
[null,"Billerica                    ",null,31]
[null,"Blackstone                   ",null,32]
[null,"Blackstone Millville         ",null,622]
[null,"Blackstone Valley            ",null,805]
[null,"Blandford                    ",null,33]
[null,"Blue Hills                   ",null,806]
[null,"Bolton                       ",null,34]
[null,"Boston                       ",null,35]
[null,"Bourne                       ",null,36]
[null,"Boxborough                   ",null,37]
[null,"Boxford                      ",null,38]
[null,"Boylston                     ",null,39]
[null,"Braintree                    ",null,40]
[null,"Brewster                     ",null,41]
[null,"Bridgewater                  ",null,42]
[null,"Bridgewater Raynham          ",null,625]
[null,"Brimfield                    ",null,43]
[null,"Bristol County               ",null,910]
[null,"Bristol Plymouth             ",null,810]
[null,"Brockton                     ",null,44]
[null,"Brookfield                   ",null,45]
[null,"Brookline                    ",null,46]
[null,"Buckland                     ",null,47]
[null,"Burlington                   ",null,48]
[null,"Cambridge                    ",null,49]
[null,"Canton                       ",null,50]
[null,"Cape Cod                     ",null,815]
[null,"Carlisle                     ",null,51]
[null,"Carver                       ",null,52]
[null,"Central Berkshire            ",null,635]
[null,"Charlemont                   ",null,53]
[null,"Charlton                     ",null,54]
[null,"Chatham                      ",null,55]
[null,"Chelmsford                   ",null,56]
[null,"Chelsea                      ",null,57]
[null,"Cheshire                     ",null,58]
[null,"Chester                      ",null,59]
[null,"Chesterfield                 ",null,60]
[null,"Chesterfield Goshen",null,632]
[null,"Chicopee                     ",null,61]
[null,"Chilmark                     ",null,62]
[null,"Clarksburg                   ",null,63]
[null,"Clinton                      ",null,64]
[null,"Cohasset                     ",null,65]
[null,"Colrain                      ",null,66]
[null,"Concord                      ",null,67]
[null,"Concord Carlisle             ",null,640]
[null,"Conway                       ",null,68]
[null,"Cummington                   ",null,69]
[null,"Dalton                       ",null,70]
[null,"Danvers                      ",null,71]
[null,"Dartmouth                    ",null,72]
[null,"Dedham                       ",null,73]
[null,"Deerfield                    ",null,74]
[null,"Dennis                       ",null,75]
[null,"Dennis Yarmouth              ",null,645]
[null,"Dighton                      ",null,76]
[null,"Dighton Rehoboth             ",null,650]
[null,"Douglas                      ",null,77]
[null,"Dover                        ",null,78]
[null,"Dover Sherborn               ",null,655]
[null,"Dracut                       ",null,79]
[null,"Dudley                       ",null,80]
[null,"Dudley Charlton              ",null,658]
[null,"Dunstable                    ",null,81]
[null,"Duxbury                      ",null,82]
[null,"East Bridgewater             ",null,83]
[null,"East Brookfield              ",null,84]
[null,"East Longmeadow              ",null,87]
[null,"Eastham                      ",null,85]
[null,"Easthampton                  ",null,86]
[null,"Easton                       ",null,88]
[null,"Edgartown                    ",null,89]
[null,"Egremont                     ",null,90]
[null,"Erving                       ",null,91]
[null,"Essex                        ",null,92]
[null,"Essex North Shore",null,817]
[null,"Everett                      ",null,93]
[null,"Fairhaven                    ",null,94]
[null,"Fall River                   ",null,95]
[null,"Falmouth                     ",null,96]
[null,"Farmington River",null,662]
[null,"Fitchburg                    ",null,97]
[null,"Florida                      ",null,98]
[null,"Foxborough                   ",null,99]
[null,"Framingham                   ",null,100]
[null,"Franklin                     ",null,101]
[null,"Franklin County              ",null,818]
[null,"Freetown                     ",null,102]
[null,"Freetown Lakeville           ",null,665]
[null,"Frontier                     ",null,670]
[null,"Gardner                      ",null,103]
[null,"Gateway                      ",null,672]
[null,"Gay Head                     ",null,104]
[null,"Georgetown                   ",null,105]
[null,"Gill                         ",null,106]
[null,"Gill Montague                ",null,674]
[null,"Gloucester                   ",null,107]
[null,"Goshen                       ",null,108]
[null,"Gosnold                      ",null,109]
[null,"Grafton                      ",null,110]
[null,"Granby                       ",null,111]
[null,"Granville                    ",null,112]
[null,"Great Barrington             ",null,113]
[null,"Greater Fall River           ",null,821]
[null,"Greater Lawrence             ",null,823]
[null,"Greater Lowell               ",null,828]
[null,"Greater New Bedford          ",null,825]
[null,"Greenfield                   ",null,114]
[null,"Groton                       ",null,115]
[null,"Groton Dunstable             ",null,673]
[null,"Groveland                    ",null,116]
[null,"Hadley                       ",null,117]
[null,"Halifax                      ",null,118]
[null,"Hamilton                     ",null,119]
[null,"Hamilton Wenham              ",null,675]
[null,"Hampden                      ",null,120]
[null,"Hampden Wilbraham            ",null,680]
[null,"Hampshire                    ",null,683]
[null,"Hancock                      ",null,121]
[null,"Hanover                      ",null,122]
[null,"Hanson                       ",null,123]
[null,"Hardwick                     ",null,124]
[null,"Harvard                      ",null,125]
[null,"Harwich                      ",null,126]
[null,"Hatfield                     ",null,127]
[null,"Haverhill                    ",null,128]
[null,"Hawlemont                    ",null,685]
[null,"Hawley                       ",null,129]
[null,"Heath                        ",null,130]
[null,"Hingham                      ",null,131]
[null,"Hinsdale                     ",null,132]
[null,"Holbrook                     ",null,133]
[null,"Holden                       ",null,134]
[null,"Holland                      ",null,135]
[null,"Holliston                    ",null,136]
[null,"Holyoke                      ",null,137]
[null,"Hoosac Valley",null,603]
[null,"Hopedale                     ",null,138]
[null,"Hopkinton                    ",null,139]
[null,"Hubbardston                  ",null,140]
[null,"Hudson                       ",null,141]
[null,"Hull                         ",null,142]
[null,"Huntington                   ",null,143]
[null,"Ipswich                      ",null,144]
[null,"King Philip                  ",null,690]
[null,"Kingston                     ",null,145]
[null,"Lakeville                    ",null,146]
[null,"Lancaster                    ",null,147]
[null,"Lanesborough                 ",null,148]
[null,"Lawrence                     ",null,149]
[null,"Lee                          ",null,150]
[null,"Leicester                    ",null,151]
[null,"Lenox                        ",null,152]
[null,"Leominster                   ",null,153]
[null,"Leverett                     ",null,154]
[null,"Lexington                    ",null,155]
[null,"Leyden                       ",null,156]
[null,"Lincoln                      ",null,157]
[null,"Lincoln Sudbury              ",null,695]
[null,"Littleton                    ",null,158]
[null,"Longmeadow                   ",null,159]
[null,"Lowell                       ",null,160]
[null,"Ludlow                       ",null,161]
[null,"Lunenburg                    ",null,162]
[null,"Lynn                         ",null,163]
[null,"Lynnfield                    ",null,164]
[null,"Malden                       ",null,165]
[null,"Manchester                   ",null,166]
[null,"Manchester Essex",null,698]
[null,"Mansfield                    ",null,167]
[null,"Marblehead                   ",null,168]
[null,"Marion                       ",null,169]
[null,"Marlborough                  ",null,170]
[null,"Marshfield                   ",null,171]
[null,"Marthas Vineyard             ",null,700]
[null,"Masconomet                   ",null,705]
[null,"Mashpee                      ",null,172]
[null,"Mattapoisett                 ",null,173]
[null,"Maynard                      ",null,174]
[null,"Medfield                     ",null,175]
[null,"Medford                      ",null,176]
[null,"Medway                       ",null,177]
[null,"Melrose                      ",null,178]
[null,"Mendon                       ",null,179]
[null,"Mendon Upton                 ",null,710]
[null,"Merrimac                     ",null,180]
[null,"Methuen                      ",null,181]
[null,"Middleborough                ",null,182]
[null,"Middlefield                  ",null,183]
[null,"Middleton                    ",null,184]
[null,"Milford                      ",null,185]
[null,"Millbury                     ",null,186]
[null,"Millis                       ",null,187]
[null,"Millville                    ",null,188]
[null,"Milton                       ",null,189]
[null,"Minuteman                    ",null,830]
[null,"Mohawk Trail                 ",null,717]
[null,"Monomoy",null,712]
[null,"Monroe                       ",null,190]
[null,"Monson                       ",null,191]
[null,"Montachusett                 ",null,832]
[null,"Montague                     ",null,192]
[null,"Monterey                     ",null,193]
[null,"Montgomery                   ",null,194]
[null,"Mount Greylock               ",null,715]
[null,"Mount Washington             ",null,195]
[null,"Nahant                       ",null,196]
[null,"Nantucket                    ",null,197]
[null,"Narragansett                 ",null,720]
[null,"Nashoba                      ",null,725]
[null,"Nashoba Valley               ",null,852]
[null,"Natick                       ",null,198]
[null,"Nauset                       ",null,660]
[null,"Needham                      ",null,199]
[null,"New Ashford                  ",null,200]
[null,"New Bedford                  ",null,201]
[null,"New Braintree                ",null,202]
[null,"New Marlborough              ",null,205]
[null,"New Salem                    ",null,206]
[null,"New Salem Wendell            ",null,728]
[null,"Newbury                      ",null,203]
[null,"Newburyport                  ",null,204]
[null,"Newton                       ",null,207]
[null,"Norfolk                      ",null,208]
[null,"Norfolk County               ",null,915]
[null,"North Adams                  ",null,209]
[null,"North Andover                ",null,211]
[null,"North Attleborough           ",null,212]
[null,"North Brookfield             ",null,215]
[null,"North Middlesex              ",null,735]
[null,"North Reading                ",null,217]
[null,"Northampton                  ",null,210]
[null,"Northampton Smith            ",null,406]
[null,"Northboro Southboro          ",null,730]
[null,"Northborough                 ",null,213]
[null,"Northbridge                  ",null,214]
[null,"Northeast Metropolitan       ",null,853]
[null,"Northern Berkshire           ",null,851]
[null,"Northfield                   ",null,216]
[null,"Norton                       ",null,218]
[null,"Norwell                      ",null,219]
[null,"Norwood                      ",null,220]
[null,"Oak Bluffs                   ",null,221]
[null,"Oakham                       ",null,222]
[null,"Old Colony                   ",null,855]
[null,"Old Rochester                ",null,740]
[null,"Orange                       ",null,223]
[null,"Orleans                      ",null,224]
[null,"Otis                         ",null,225]
[null,"Oxford                       ",null,226]
[null,"Palmer                       ",null,227]
[null,"Pathfinder                   ",null,860]
[null,"Paxton                       ",null,228]
[null,"Peabody                      ",null,229]
[null,"Pelham                       ",null,230]
[null,"Pembroke                     ",null,231]
[null,"Pentucket                    ",null,745]
[null,"Pepperell                    ",null,232]
[null,"Peru                         ",null,233]
[null,"Petersham                    ",null,234]
[null,"Phillipston                  ",null,235]
[null,"Pioneer                      ",null,750]
[null,"Pittsfield                   ",null,236]
[null,"Plainfield                   ",null,237]
[null,"Plainville                   ",null,238]
[null,"Plymouth                     ",null,239]
[null,"Plympton                     ",null,240]
[null,"Princeton                    ",null,241]
[null,"Provincetown                 ",null,242]
[null,"Quabbin                      ",null,753]
[null,"Quaboag",null,778]
[null,"Quincy                       ",null,243]
[null,"Ralph C Mahar                ",null,755]
[null,"Randolph                     ",null,244]
[null,"Raynham                      ",null,245]
[null,"Reading                      ",null,246]
[null,"Rehoboth                     ",null,247]
[null,"Revere                       ",null,248]
[null,"Richmond                     ",null,249]
[null,"Rochester                    ",null,250]
[null,"Rockland                     ",null,251]
[null,"Rockport                     ",null,252]
[null,"Rowe                         ",null,253]
[null,"Rowley                       ",null,254]
[null,"Royalston                    ",null,255]
[null,"Russell                      ",null,256]
[null,"Rutland                      ",null,257]
[null,"Salem                        ",null,258]
[null,"Salisbury                    ",null,259]
[null,"Sandisfield                  ",null,260]
[null,"Sandwich                     ",null,261]
[null,"Saugus                       ",null,262]
[null,"Savoy                        ",null,263]
[null,"Scituate                     ",null,264]
[null,"Seekonk                      ",null,265]
[null,"Sharon                       ",null,266]
[null,"Shawsheen Valley             ",null,871]
[null,"Sheffield                    ",null,267]
[null,"Shelburne                    ",null,268]
[null,"Sherborn                     ",null,269]
[null,"Shirley                      ",null,270]
[null,"Shrewsbury                   ",null,271]
[null,"Shutesbury                   ",null,272]
[null,"Silver Lake                  ",null,760]
[null,"Somerset                     ",null,273]
[null,"Somerset Berkley",null,763]
[null,"Somerville                   ",null,274]
[null,"South Hadley                 ",null,278]
[null,"South Middlesex              ",null,829]
[null,"South Shore                  ",null,873]
[null,"Southampton                  ",null,275]
[null,"Southborough                 ",null,276]
[null,"Southbridge                  ",null,277]
[null,"Southeastern                 ",null,872]
[null,"Southern Berkshire           ",null,765]
[null,"Southern Worcester           ",null,876]
[null,"Southwick                    ",null,279]
[null,"Southwick Tolland Granville",null,766]
[null,"Spencer                      ",null,280]
[null,"Spencer East Brookfield      ",null,767]
[null,"Springfield                  ",null,281]
[null,"Sterling                     ",null,282]
[null,"Stockbridge                  ",null,283]
[null,"Stoneham                     ",null,284]
[null,"Stoughton                    ",null,285]
[null,"Stow                         ",null,286]
[null,"Sturbridge                   ",null,287]
[null,"Sudbury                      ",null,288]
[null,"Sunderland                   ",null,289]
[null,"Sutton                       ",null,290]
[null,"Swampscott                   ",null,291]
[null,"Swansea                      ",null,292]
[null,"Tantasqua                    ",null,770]
[null,"Taunton                      ",null,293]
[null,"Templeton                    ",null,294]
[null,"Tewksbury                    ",null,295]
[null,"Tisbury                      ",null,296]
[null,"Tolland                      ",null,297]
[null,"Topsfield                    ",null,298]
[null,"Townsend                     ",null,299]
[null,"Tri County                   ",null,878]
[null,"Triton                       ",null,773]
[null,"Truro                        ",null,300]
[null,"Tyngsborough                 ",null,301]
[null,"Tyringham                    ",null,302]
[null,"Upisland",null,774]
[null,"Upper Cape Cod               ",null,879]
[null,"Upton                        ",null,303]
[null,"Uxbridge                     ",null,304]
[null,"Wachusett                    ",null,775]
[null,"Wakefield                    ",null,305]
[null,"Wales                        ",null,306]
[null,"Walpole                      ",null,307]
[null,"Waltham                      ",null,308]
[null,"Ware                         ",null,309]
[null,"Wareham                      ",null,310]
[null,"Warren                       ",null,311]
[null,"Warwick                      ",null,312]
[null,"Washington                   ",null,313]
[null,"Watertown                    ",null,314]
[null,"Wayland                      ",null,315]
[null,"Webster                      ",null,316]
[null,"Wellesley                    ",null,317]
[null,"Wellfleet                    ",null,318]
[null,"Wendell                      ",null,319]
[null,"Wenham                       ",null,320]
[null,"West Boylston                ",null,322]
[null,"West Bridgewater             ",null,323]
[null,"West Brookfield              ",null,324]
[null,"West Newbury                 ",null,329]
[null,"West Springfield             ",null,332]
[null,"West Stockbridge             ",null,333]
[null,"West Tisbury                 ",null,334]
[null,"Westborough                  ",null,321]
[null,"Westfield                    ",null,325]
[null,"Westford                     ",null,326]
[null,"Westhampton                  ",null,327]
[null,"Westminster                  ",null,328]
[null,"Weston                       ",null,330]
[null,"Westport                     ",null,331]
[null,"Westwood                     ",null,335]
[null,"Weymouth                     ",null,336]
[null,"Whately                      ",null,337]
[null,"Whitman                      ",null,338]
[null,"Whitman Hanson               ",null,780]
[null,"Whittier                     ",null,885]
[null,"Wilbraham                    ",null,339]
[null,"Williamsburg                 ",null,340]
[null,"Williamstown                 ",null,341]
[null,"Wilmington                   ",null,342]
[null,"Winchendon                   ",null,343]
[null,"Winchester                   ",null,344]
[null,"Windsor                      ",null,345]
[null,"Winthrop                     ",null,346]
[null,"Woburn",null,347]
[null,"Worcester                    ",null,348]
[null,"Worthington                  ",null,349]
[null,"Wrentham                     ",null,350]
[null,"Yarmouth                     ",null,351]

{"sheet":"MoreAboutData","index":3,"n_rows":34,"n_cols":7,"rows_kept":34,"cut":false,"hidden":false,"merged":[[0,1,0,5],[1,1,1,5],[2,0,2,5],[3,4,3,5],[33,0,33,5],[16,0,16,5],[5,4,5,5],[10,4,10,5],[15,4,15,5],[17,4,17,5],[21,4,21,5],[6,0,7,5],[11,0,12,5],[18,0,18,5],[9,0,9,5],[32,4,32,5],[26,0,27,5],[28,4,28,5],[29,0,29,5],[31,0,31,5],[14,0,14,5],[20,0,20,5],[24,0,24,5],[25,4,25,5],[30,4,30,5]]}
[null,{"$f":"CYr&\" Chapter 70 and Net School Spending Formula\"","v":"FY21 Chapter 70 and Net School Spending Formula"},"FY18 Chapter 70 and Net School Spending Formula Spreadsheet","FY18 Chapter 70 and Net School Spending Formula Spreadsheet","FY18 Chapter 70 and Net School Spending Formula Spreadsheet","FY18 Chapter 70 and Net School Spending Formula Spreadsheet","Return to Index"]
[null,"More about the data"]
["TABLE OF CONTENTS\n"]
["Index",null,null,null,"Back to the top"]
["Select the district you're interested in from the dropdown list on this sheet."]
["Foundation Budget",null,null,null,"Back to the top"]
["This report displays the foundation enrollment and foundation budget for a single district. A district’s foundation budget is updated each year and it is derived by multiplying the number of pupils in thirteen enrollment categories by cost rates in eleven functional areas. "]
[]
["Key Terms"]
["Foundation Enrollment: A count of the students for whom a school district is financially responsible on October 1st of any given year.\nInflation: Foundation budget rates are adjusted each year by a statutorily defined inflationary factor.  It affects all districts in the same way. \nWage Adjustment Factor (WAF): Gives a district credit for having higher school costs if it is located in a geographic area where average wages are higher than in other areas of the state. Calculated using the latest available average wage data supplied by the state’s Executive Office of Labor and Workforce Development (EOLWD).  \nLow Income Group: Determined based on the relative concentration of low income students served in the district. Corresponds to a foundation budget rate for low income students."]
["Municipal Contribution",null,null,null,"Back to the top"]
["This report displays the required local contribution for a single municipality. Each municipality has a target local share of its foundation budget, based on local ability to pay. The required local contribution for each municipality is based on the previous year's required contribution, and includes some transition factors so that the shift toward the target levels occurs over a period of several years."]
[]
["Key Terms"]
["Equalized Valuation (EQV): Calculated by DOR every two years. Full and fair cash value of all taxable property for each municipality.\nIncome: Derived annually by DOR from state income tax returns. Includes all forms of wage, pension, interest, business, investment, and capital gains income.\nCombined Effort Yield (CEY): Sum of property and income effort. Based on DESE-calculated property and income percentages, which, when applied to all municipalities in the Commonwealth, yields 59% of statewide foundation coming from local revenue.\nTarget Local Contribution/Share: Calculated for each municipality as an equitable share of its foundation budget based on property wealth and income.\nMunicipal Revenue Growth Factor (MRGF): Calculated each year by DOR and quantifies the most recent annual percentage change in each community's local revenues (such as the annual increase in the Proposition 2½ levy limit) that should be available for schools. "]
["Regional Allocation",null,null,null,"Back to the top"]
["This report displays the allocation of a municipality's required local contribution across the districts to which it belongs. The municipality's required contribution is allocated in direct proportion to the district's share of the municipality's foundation budget."]
["Summary",null,null,null,"Back to the top"]
["This report displays the Chapter 70 aid calculation for a single district. The aid calculation begins with each district's prior year Chapter 70 amount. The difference between each district's foundation budget and its required contribution equals foundation aid. On the right-hand side, there is a comparison to the prior year."]
["Key Terms"]
["Foundation Aid: The amount of aid needed by a district to reach its foundation budget, after factoring in this year's required local contribution. Foundation budget - Required Local Contribution = Foundation Aid\nMinimum Aid: A guaranteed per pupil aid increase over the prior year.\nMinimum Aid Adjustment: The minimum aid adjustment provides “hold harmless” aid to districts that otherwise would have lost aid due to the new foundation budget factors in the Student Opportunity Act.  An aid adjustment increment is included in the total Chapter 70 aid amount to ensure that all operating districts receive Chapter 70 aid equal to or greater than the minimum aid adjustment.\nRequired Net School Spending (NSS): The sum of this year's required local contribution and Chapter 70 aid. A district must spend this amount to be in compliance."]
["Regional District Members",null,null,null,"Back to the top"]
["This report displays relevant data for municipal members of a single regional district."]
["Key Terms"]
["Foundation Enrollment: Foundation enrollment for the selected district, in total and by member.\nRequired Minimum Contribution: Total required minimum contribution for the selected district, in total and by member."]
["Comparison to FY20",null,null,null,"Back to the top"]
["This report displays prior year and current year foundation enrollment, foundation budget, required local contribution and Chapter 70 aid for all operating districts."]
[]
["Rates",null,null,null,"Back to the top"]
["This sheet displays the FY21 foundation budget rates."]
["Townwide Contributions",null,null,null,"Back to the top"]
["This sheet calculates FY21 required local contributions for each municipality."]
["Aid436",null,null,null,"Back to the top"]
["This sheet calculates FY21 Chapter 70 aid for each district."]

{"sheet":"localcont","index":4,"n_rows":1766,"n_cols":102,"rows_kept":562,"cut":true,"hidden":false,"merged":[[5,95,5,99],[4,95,4,99],[4,61,4,65],[5,61,5,65],[4,67,4,71],[5,67,5,71],[4,85,4,89],[5,85,5,89],[4,73,4,77],[5,73,5,77],[4,79,4,83],[5,79,5,83],[4,55,4,59],[5,55,5,59],[5,19,5,23],[4,43,4,47],[5,43,5,47],[4,49,4,53],[5,49,5,53],[5,25,5,29],[4,31,4,35],[5,31,5,35],[4,37,4,41],[5,37,5,41],[4,25,4,29]],"bounds":{"rows_first":250,"rows_last":62,"rows_between":250,"halvings":3}}
[null,null,null,null,null,null,null,null,"c70fy20","c70fy20",null,null,null,null,"c70fy20",null,null,"c70fy20",null,null,null,null,null,null,null,"2020-01-09",null,null,null,null,null,null,null,null,null,null,null,null,null,null,null,null,null,null,null,null,null,null,null,"2019-03-21",null,null,null,null,null,"2019-03-21",null,null,null,null,null,null,null,null,null,null,null,null,null,null,null,null,null,null,null,null,null,null,null,null,null,null,null,null,null,null,null,null,null,null,"Lookup table for foundation budget scenarios",1,2]
[null,null,null,null,null,null,null,null,null,null,null,null,null,null,null,null,null,null,null,null,null,null,null,null,null,null,null,null,null,null,null,null,null,null,null,null,null,null,null,null,null,null,null,null,null,null,null,null,null,null,null,null,null,null,null,null,null,null,null,null,null,null,null,null,null,null,null,null,null,null,null,null,null,null,null,null,null,null,null,null,null,null,null,null,null,null,null,null,null,null,null,2,8]
[null,null,null,1,2,3,4,5,6,7,8,9,10,11,12,13,14,15,16,17,18,19,20,21,1,2,3,4,5,6,7,8,9,10,11,12,13,14,15,16,17,18,19,20,21,22,23,24,25,26,27,28,29,30,31,32,33,34,35,36,37,38,39,40,41,42,43,44,45,46,47,48,49,50,51,52,53,54,55,56,57,58,59,60,61,62,63,64,65,66,null,3,14,null,null,62,63,64,65,66]
[null,null,null,null,null,null,"lea1755",null,null,null,"found1755",null,null,"prelcont1755","pynetJin",null,null,"pyenro",null,null,null,null,"enro1755",null,null,null,null,null,null,null,null,null,null,null,null,null,null,null,null,null,null,null,null,null,null,null,null,null,null,null,null,null,null,null,null,null,null,null,null,null,null,null,null,null,null,null,null,null,null,null,null,null,null,null,null,null,null,null,null,null,null,null,null,null,null,null,null,null,null,null,null,4,20]
[null,null,null,null,null,null,null,null,null,null,null,null,null,null,null,null,null,null,null,null,null,null,null,null,null,1,null,null,null,null,null,2,null,null,null,null,null,3,null,null,null,null,null,4,null,null,null,null,null,5,null,null,null,null,null,6,null,null,null,null,null,7,null,null,null,null,null,8,null,null,null,null,null,9,null,null,null,null,null,10,null,null,null,null,null,11,null,null,null,null,null,5,26,null,null,"FY19"]
[null,null,null,null,null,null,null,null,null,null,null,null,null,null,null,null,null,null,null,{"$f":"parameters!$C$6","v":1},null,null,null,null,null,"FY21",null,null,null,null,null,null,null,null,null,null,null,null,null,null,null,null,null,null,null,null,null,null,null,null,null,null,null,null,null,null,null,null,null,null,null,null,null,null,null,null,null,null,null,null,null,null,null,null,null,null,null,null,null,null,null,null,null,null,null,null,null,null,null,null,null,6,32,null,null,"FY19"]
[null,null,null,null,null,null,null,null,{"$f":"PYr","v":"FY20"},{"$f":"PYr","v":"FY20"},{"$f":"CYr","v":"FY21"},{"$f":"CYr","v":"FY21"},{"$f":"CYr","v":"FY21"},{"$f":"CYr","v":"FY21"},{"$f":"PYr","v":"FY20"},null,null,null,null,null,null,null,null,null,null,null,null,null,null,null,null,null,null,null,null,null,null,null,null,null,null,null,null,null,null,null,null,null,null,null,null,null,null,null,null,null,null,null,null,null,null,null,null,null,null,null,null,null,null,null,null,null,null,null,null,null,null,null,null,null,null,null,null,null,null,null,null,null,null,null,null,7,38,null,null,null,null,null,null,null,"FY19","FY19"]
[null,null,null,null,null,null,null,null,"Foundation","Share of Total","Foundation","Share of Total","Townwide","Net Minimum","Net Minimum",{"$f":"PYr&\" to \"&CYr","v":"FY20 to FY21"},"Percent",{"$f":"PYr","v":"FY20"},"FY21",null,null,null,"final","foundation",null,null,null,null,"final","foundation",null,null,null,null,"final","foundation",null,null,null,null,"final","foundation",null,null,null,null,"final","foundation",null,null,null,null,"final","foundation",null,null,null,null,"final","foundation",null,null,null,null,"final","foundation",null,null,null,null,"final","foundation",null,null,null,null,"final","foundation",null,null,null,null,"final","foundation",null,null,null,null,"final","foundation",null,8,44,null,null,null,null,null,"final","foundation","Share of Total","Net Minimum"]
["TownLEA","Town","LEA","Order","Town","City or Town","LEA","School District","Budget","Foundation","Budget","Foundation","Contribution","Contribution","Contribution","Change","Change","Enrollment","Enrollment","Town","LEA","Order","enrollment","budget",null,"Town","LEA","Order","enrollment","budget",null,"Town","LEA","Order","enrollment","budget",null,"Town","LEA","Order","enrollment","budget",null,"Town","LEA","Order","enrollment","budget",null,"Town","LEA","Order","enrollment","budget",null,"Town","LEA","Order","enrollment","budget",null,"Town","LEA","Order","enrollment","budget",null,"Town","LEA","Order","enrollment","budget",null,"Town","LEA","Order","enrollment","budget",null,"Town","LEA","Order","enrollment","budget",null,"Town","LEA","Order","enrollment","budget",null,9,50,null,null,"Town","LEA","Order","enrollment","budget","Foundation","Contribution"]
[{"$f":"B10&C10","v":"00010001"},"0001","0001",1,1,"Abington                     ",1,"Abington",23388476.609717574,0.93362054556046181,{"$f":"X10","v":25403702.406400003},{"$f":"IF(K14>0, K10/K14, 0)","v":0.94283941639974878},null,{"$f":"ROUND(M14*L10,0)","v":15436064},14463601,{"$f":"N10-O10","v":972463},{"$f":"IF(O10>0,P10*100/O10,IF(P10>0,100,0))","v":6.7235192674355435},2105,2197,{"$f":"VLOOKUP($D10, foundoptions, VLOOKUP($T$6, foundoptcell, 2, FALSE), FALSE)","v":1},{"$f":"VLOOKUP($D10, foundoptions, VLOOKUP($T$6, foundoptcell, 2, FALSE)+1, FALSE)","v":1},{"$f":"VLOOKUP($D10, foundoptions, VLOOKUP($T$6, foundoptcell, 2, FALSE)+2, FALSE)","v":1},{"$f":"VLOOKUP($D10, foundoptions, VLOOKUP($T$6, foundoptcell, 2, FALSE)+3, FALSE)","v":2197},{"$f":"VLOOKUP($D10, foundoptions, VLOOKUP($T$6, foundoptcell, 2, FALSE)+4, FALSE)","v":25403702.406400003},{"$f":"D10","v":1},1,1,1,2197,25403702.406400003,null,null,null,null,null,null,null,null,null,null,null,null,null,null,null,null,null,null,null,null,null,null,null,null,null,null,null,null,null,null,null,null,null,null,null,null,null,null,null,null,null,null,null,null,null,null,null,null,null,null,null,null,null,null,null,null,null,null,null,null,null,10,56,null,null,1,1,1,2024,21515960.214600004,0.91773712298248644,13701008]
["00010873","0001","0873",2,1,"Abington                     ",873,"South Shore",1662896.4785612782,6.6379454439538146E-2,{"$f":"X11","v":1540124.8928494828},{"$f":"IF(K14>0, K11/K14, 0)","v":5.716058360025128E-2},null,{"$f":"ROUND(M14*L11,0)","v":935827},1028347,{"$f":"N11-O11","v":-92520},-8.9969630873625341,94.647160067849995,84.465804065919997,1,873,2,84.465804065919997,1540124.8928494828,{"$f":"D11","v":2},1,873,2,84.465804065919997,1540124.8928494828,null,null,null,null,null,null,null,null,null,null,null,null,null,null,null,null,null,null,null,null,null,null,null,null,null,null,null,null,null,null,null,null,null,null,null,null,null,null,null,null,null,null,null,null,null,null,null,null,null,null,null,null,null,null,null,null,null,null,null,null,null,11,62,null,null,1,873,2,115.00000000068999,1928618.4951255748,8.2262877017513683E-2,1228112]
["00010998","0001","0998",3,1,"",998,"",0,0,{"$f":"X12","v":0},{"$f":"IF(K14>0, K12/K14, 0)","v":0},null,{"$f":"ROUND(M14*L12,0)","v":0},0,{"$f":"N12-O12","v":0},0,0,0,1,998,3,0,0,3,1,998,3,0,0,null,null,null,null,null,null,null,null,null,null,null,null,null,null,null,null,null,null,null,null,null,null,null,null,null,null,null,null,null,null,null,null,null,null,null,null,null,null,null,null,null,null,null,null,null,null,null,null,null,null,null,null,null,null,null,null,null,null,null,null,null,null,null,null,null,1,998,3,0,0,0,0]
["00010998","0001","0998",4,1,"",998,"",0,0,{"$f":"X13","v":0},{"$f":"IF(K14>0, K13/K14, 0)","v":0},null,{"$f":"ROUND(M14*L13,0)","v":0},0,{"$f":"N13-O13","v":0},0,0,0,1,998,4,0,0,4,1,998,4,0,0,null,null,null,null,null,null,null,null,null,null,null,null,null,null,null,null,null,null,null,null,null,null,null,null,null,null,null,null,null,null,null,null,null,null,null,null,null,null,null,null,null,null,null,null,null,null,null,null,null,null,null,null,null,null,null,null,null,null,null,null,null,null,null,null,null,1,998,4,0,0,0,0]
["00010999","0001","0999",5,1,"Abington                     ",999,"Total",25051373.088278852,1,{"$f":"SUM(K10:K13)","v":26943827.299249485},{"$f":"SUM(L10:L13)","v":1},{"$f":"VLOOKUP(E14,town351,24)","v":16371891},{"$f":"SUM(N10:N13)","v":16371891},15491948,{"$f":"SUM(P10:P13)","v":879943},5.6800022824760319,2199.6471600678501,2281.4658040659201,1,999,5,2281.4658040659201,26943827.299249485,5,1,999,5,2281.4658040659201,26943827.299249485,null,null,null,null,null,null,null,null,null,null,null,null,null,null,null,null,null,null,null,null,null,null,null,null,null,null,null,null,null,null,null,null,null,null,null,null,null,null,null,null,null,null,null,null,null,null,null,null,null,null,null,null,null,null,null,null,null,null,null,null,null,null,null,null,null,1,999,5,2139.0000000006899,23444578.709725577,1.0000000000000002,14929120]
["00020002","0002","0002",6,2,"Acton                        ",2,"Acton",0,0,{"$f":"X15","v":0},{"$f":"IF(K19>0, K15/K19, 0)","v":0},null,{"$f":"ROUND(M19*L15,0)","v":0},0,{"$f":"N15-O15","v":0},0,0,0,2,2,6,0,0,6,2,2,6,0,0,null,null,null,null,null,null,null,null,null,null,null,null,null,null,null,null,null,null,null,null,null,null,null,null,null,null,null,null,null,null,null,null,null,null,null,null,null,null,null,null,null,null,null,null,null,null,null,null,null,null,null,null,null,null,null,null,null,null,null,null,null,null,null,null,null,2,2,6,0,0,0,0]
["00020600","0002","0600",7,2,"Acton                        ",600,"Acton Boxborough",48574850.567566603,0.98802658752774764,48847617.73973459,{"$f":"IF(K19>0, K16/K19, 0)","v":0.98179957728137368},null,{"$f":"ROUND(M19*L16,0)","v":38774483},37733689,{"$f":"N16-O16","v":1040794},2.7582619870535319,4585.6791031387702,4437.9781441188807,2,600,7,4437.9781441188807,48847617.73973459,7,2,600,7,4437.9781441188807,48847617.73973459,null,null,null,null,null,null,null,null,null,null,null,null,null,null,null,null,null,null,null,null,null,null,null,null,null,null,null,null,null,null,null,null,null,null,null,null,null,null,null,null,null,null,null,null,null,null,null,null,null,null,null,null,null,null,null,null,null,null,null,null,null,null,null,null,null,2,600,7,4587.5392895375999,46559239.307240434,0.98668050972294941,35990717]
["00020830","0002","0830",8,2,"Acton                        ",830,"Minuteman",588654.92990305356,1.1973412472252419E-2,905528.28931015625,{"$f":"IF(K19>0, K17/K19, 0)","v":1.8200422718626267E-2},null,{"$f":"ROUND(M19*L17,0)","v":718794},457276,{"$f":"N17-O17","v":261518},57.190405794312404,31.999999999240003,45.410757947339995,2,830,8,45.410757947339995,905528.28931015625,8,2,830,8,45.410757947339995,905528.28931015625,null,null,null,null,null,null,null,null,null,null,null,null,null,null,null,null,null,null,null,null,null,null,null,null,null,null,null,null,null,null,null,null,null,null,null,null,null,null,null,null,null,null,null,null,null,null,null,null,null,null,null,null,null,null,null,null,null,null,null,null,null,null,null,null,null,2,830,8,35.102639296980001,628516.85945817502,1.3319490277050565E-2,485849]
["00020998","0002","0998",9,2,"",998,"",0,0,0,{"$f":"IF(K19>0, K18/K19, 0)","v":0},null,{"$f":"ROUND(M19*L18,0)","v":0},0,{"$f":"N18-O18","v":0},0,0,0,2,998,9,0,0,9,2,998,9,0,0,null,null,null,null,null,null,null,null,null,null,null,null,null,null,null,null,null,null,null,null,null,null,null,null,null,null,null,null,null,null,null,null,null,null,null,null,null,null,null,null,null,null,null,null,null,null,null,null,null,null,null,null,null,null,null,null,null,null,null,null,null,null,null,null,null,2,998,9,0,0,0,0]
["00020999","0002","0999",10,2,"Acton                        ",999,"Total",49163505.497469656,1,{"$f":"SUM(K15:K18)","v":49753146.029044747},{"$f":"SUM(L15:L18)","v":1},{"$f":"VLOOKUP(E19,town351,24)","v":39493277},{"$f":"SUM(N15:N18)","v":39493277},38190965,{"$f":"SUM(P15:P18)","v":1302312},{"$f":"IF(O19>0,P19*100/O19,IF(P19>0,100,0))","v":3.410000244822303},4617.6791031380099,4483.3889020662209,2,999,10,4483.3889020662209,49753146.029044747,10,2,999,10,4483.3889020662209,49753146.029044747,null,null,null,null,null,null,null,null,null,null,null,null,null,null,null,null,null,null,null,null,null,null,null,null,null,null,null,null,null,null,null,null,null,null,null,null,null,null,null,null,null,null,null,null,null,null,null,null,null,null,null,null,null,null,null,null,null,null,null,null,null,null,null,null,null,2,999,10,4622.6419288345796,47187756.166698612,1,36476566]
["00030003","0003","0003",11,3,"Acushnet                     ",3,"Acushnet",13443441.482329441,0.85264023204343542,{"$f":"X20","v":14140972.610000001},{"$f":"IF(K24>0, K20/K24, 0)","v":0.85307295176581088},null,{"$f":"ROUND(M24*L20,0)","v":7863272},7498601,{"$f":"N20-O20","v":364671},4.8631871465090626,1272,1292,3,3,11,1292,14140972.610000001,11,3,3,11,1292,14140972.610000001,null,null,null,null,null,null,null,null,null,null,null,null,null,null,null,null,null,null,null,null,null,null,null,null,null,null,null,null,null,null,null,null,null,null,null,null,null,null,null,null,null,null,null,null,null,null,null,null,null,null,null,null,null,null,null,null,null,null,null,null,null,null,null,null,null,3,3,11,1227,12395984.840000002,0.84087931544356453,7125126]
["00030855","0003","0855",12,3,"Acushnet                     ",855,"Old Colony",2117481.5698764469,0.13429968653936583,2259080.3048249166,{"$f":"IF(K24>0, K21/K24, 0)","v":0.13628201942419288},null,{"$f":"ROUND(M24*L21,0)","v":1256191},1181107,{"$f":"N21-O21","v":75084},6.3570870378382311,127.00000000005001,128.55053763239999,3,855,12,128.55053763239999,2259080.3048249166,12,3,855,12,128.55053763239999,2259080.3048249166,null,null,null,null,null,null,null,null,null,null,null,null,null,null,null,null,null,null,null,null,null,null,null,null,null,null,null,null,null,null,null,null,null,null,null,null,null,null,null,null,null,null,null,null,null,null,null,null,null,null,null,null,null,null,null,null,null,null,null,null,null,null,null,null,null,3,855,12,133.00000000022999,2136088.5477936282,0.14490116751349172,1227809]
["00030910","0003","0910",13,3,"Acushnet                     ",910,"Bristol County",205916.20438293615,1.3060081417198794E-2,176457.43019190419,{"$f":"IF(K24>0, K22/K24, 0)","v":1.0645028809996205E-2},null,{"$f":"ROUND(M24*L22,0)","v":98121},114858,{"$f":"N22-O22","v":-16737},-14.571906179804628,12.000000001210001,10.00000000188,3,910,13,10.00000000188,176457.43019190419,13,3,910,13,10.00000000188,176457.43019190419,null,null,null,null,null,null,null,null,null,null,null,null,null,null,null,null,null,null,null,null,null,null,null,null,null,null,null,null,null,null,null,null,null,null,null,null,null,null,null,null,null,null,null,null,null,null,null,null,null,null,null,null,null,null,null,null,null,null,null,null,null,null,null,null,null,3,910,13,13.000000001459998,209619.75691300206,1.4219517042943686E-2,120488]
["00030998","0003","0998",14,3,"",998,"",0,0,0,{"$f":"IF(K24>0, K23/K24, 0)","v":0},null,{"$f":"ROUND(M24*L23,0)","v":0},0,{"$f":"N23-O23","v":0},0,0,0,3,998,14,0,0,14,3,998,14,0,0,null,null,null,null,null,null,null,null,null,null,null,null,null,null,null,null,null,null,null,null,null,null,null,null,null,null,null,null,null,null,null,null,null,null,null,null,null,null,null,null,null,null,null,null,null,null,null,null,null,null,null,null,null,null,null,null,null,null,null,null,null,null,null,null,null,3,998,14,0,0,0,0]
["00030999","0003","0999",15,3,"Acushnet                     ",999,"Total",15766839.256588824,1,{"$f":"SUM(K20:K23)","v":16576510.345016822},{"$f":"SUM(L20:L23)","v":1},{"$f":"VLOOKUP(E24,town351,24)","v":9217585},{"$f":"SUM(N20:N23)","v":9217584},8794566,{"$f":"SUM(P20:P23)","v":423018},4.8099928978871729,1411.0000000012601,1430.5505376342799,3,999,15,1430.5505376342799,16576510.345016822,15,3,999,15,1430.5505376342799,16576510.345016822,null,null,null,null,null,null,null,null,null,null,null,null,null,null,null,null,null,null,null,null,null,null,null,null,null,null,null,null,null,null,null,null,null,null,null,null,null,null,null,null,null,null,null,null,null,null,null,null,null,null,null,null,null,null,null,null,null,null,null,null,null,null,null,null,null,3,999,15,1373.0000000016901,14741693.144706633,0.99999999999999989,8473423]
["00040004","0004","0004",16,4,"Adams                        ",4,"Adams",0,0,{"$f":"X25","v":0},{"$f":"IF(K29>0, K25/K29, 0)","v":0},null,{"$f":"ROUND(M29*L25,0)","v":0},0,{"$f":"N25-O25","v":0},0,0,0,4,4,16,0,0,16,4,4,16,0,0,null,null,null,null,null,null,null,null,null,null,null,null,null,null,null,null,null,null,null,null,null,null,null,null,null,null,null,null,null,null,null,null,null,null,null,null,null,null,null,null,null,null,null,null,null,null,null,null,null,null,null,null,null,null,null,null,null,null,null,null,null,null,null,null,null,4,4,16,0,0,0,0]
["00040603","0004","0603",17,4,"Adams                        ",603,"Hoosac Valley",11341094.587472219,0.82792911903426358,11176690.057308603,{"$f":"IF(K29>0, K26/K29, 0)","v":0.81371334077379098},null,{"$f":"ROUND(M29*L26,0)","v":3863738},3804547,{"$f":"N26-O26","v":59191},1.5557962616837169,937.48865355435998,901.70894941643996,4,603,17,901.70894941643996,11176690.057308603,17,4,603,17,901.70894941643996,11176690.057308603,null,null,null,null,null,null,null,null,null,null,null,null,null,null,null,null,null,null,null,null,null,null,null,null,null,null,null,null,null,null,null,null,null,null,null,null,null,null,null,null,null,null,null,null,null,null,null,null,null,null,null,null,null,null,null,null,null,null,null,null,null,null,null,null,null,4,603,17,975.20436363758995,11011705.787359305,0.83524370462523978,3713168]
["00040851","0004","0851",18,4,"Adams                        ",851,"Northern Berkshire",2357052.1822669795,0.17207088096573633,2558724.4889003388,{"$f":"IF(K29>0, K27/K29, 0)","v":0.18628665922620896},null,{"$f":"ROUND(M29*L27,0)","v":884541},790710,{"$f":"N27-O27","v":93831},11.866676784156011,134.00000000204,140.99999999917,4,851,18,140.99999999917,2558724.4889003388,18,4,851,18,140.99999999917,2558724.4889003388,null,null,null,null,null,null,null,null,null,null,null,null,null,null,null,null,null,null,null,null,null,null,null,null,null,null,null,null,null,null,null,null,null,null,null,null,null,null,null,null,null,null,null,null,null,null,null,null,null,null,null,null,null,null,null,null,null,null,null,null,null,null,null,null,null,4,851,18,128.99999999976001,2172117.9593878514,0.16475629537476014,732442]
["00040998","0004","0998",19,4,"",998,"",0,0,0,{"$f":"IF(K29>0, K28/K29, 0)","v":0},null,{"$f":"ROUND(M29*L28,0)","v":0},0,{"$f":"N28-O28","v":0},0,0,0,4,998,19,0,0,19,4,998,19,0,0,null,null,null,null,null,null,null,null,null,null,null,null,null,null,null,null,null,null,null,null,null,null,null,null,null,null,null,null,null,null,null,null,null,null,null,null,null,null,null,null,null,null,null,null,null,null,null,null,null,null,null,null,null,null,null,null,null,null,null,null,null,null,null,null,null,4,998,19,0,0,0,0]
["00040999","0004","0999",20,4,"Adams                        ",999,"Total",13698146.769739199,0.99999999999999989,{"$f":"SUM(K25:K28)","v":13735414.546208942},{"$f":"SUM(L25:L28)","v":1},{"$f":"VLOOKUP(E29,town351,24)","v":4748279},{"$f":"SUM(N25:N28)","v":4748279},4595257,{"$f":"SUM(P25:P28)","v":153022},3.32999873565287,1071.4886535564001,1042.70894941561,4,999,20,1042.70894941561,13735414.546208942,20,4,999,20,1042.70894941561,13735414.546208942,null,null,null,null,null,null,null,null,null,null,null,null,null,null,null,null,null,null,null,null,null,null,null,null,null,null,null,null,null,null,null,null,null,null,null,null,null,null,null,null,null,null,null,null,null,null,null,null,null,null,null,null,null,null,null,null,null,null,null,null,null,null,null,null,null,4,999,20,1104.2043636373501,13183823.746747157,0.99999999999999989,4445610]
["00050005","0005","0005",21,5,"Agawam                       ",5,"Agawam",42227451.049391314,1,{"$f":"X30","v":42702195.18},{"$f":"IF(K34>0, K30/K34, 0)","v":1},null,{"$f":"ROUND(M34*L30,0)","v":23256462},22951211,{"$f":"N30-O30","v":305251},1.3299995368436115,3677,3623,5,5,21,3623,42702195.18,21,5,5,21,3623,42702195.18,null,null,null,null,null,null,null,null,null,null,null,null,null,null,null,null,null,null,null,null,null,null,null,null,null,null,null,null,null,null,null,null,null,null,null,null,null,null,null,null,null,null,null,null,null,null,null,null,null,null,null,null,null,null,null,null,null,null,null,null,null,null,null,null,null,5,5,21,3773,41326070.32,1,22474431]
["00050998","0005","0998",22,5,"",998,"",0,0,0,{"$f":"IF(K34>0, K31/K34, 0)","v":0},null,{"$f":"ROUND(M34*L31,0)","v":0},0,{"$f":"N31-O31","v":0},0,0,0,5,998,22,0,0,22,5,998,22,0,0,null,null,null,null,null,null,null,null,null,null,null,null,null,null,null,null,null,null,null,null,null,null,null,null,null,null,null,null,null,null,null,null,null,null,null,null,null,null,null,null,null,null,null,null,null,null,null,null,null,null,null,null,null,null,null,null,null,null,null,null,null,null,null,null,null,5,998,22,0,0,0,0]
["00050998","0005","0998",23,5,"",998,"",0,0,0,{"$f":"IF(K34>0, K32/K34, 0)","v":0},null,{"$f":"ROUND(M34*L32,0)","v":0},0,{"$f":"N32-O32","v":0},0,0,0,5,998,23,0,0,23,5,998,23,0,0,null,null,null,null,null,null,null,null,null,null,null,null,null,null,null,null,null,null,null,null,null,null,null,null,null,null,null,null,null,null,null,null,null,null,null,null,null,null,null,null,null,null,null,null,null,null,null,null,null,null,null,null,null,null,null,null,null,null,null,null,null,null,null,null,null,5,998,23,0,0,0,0]
["00050998","0005","0998",24,5,"",998,"",0,0,0,{"$f":"IF(K34>0, K33/K34, 0)","v":0},null,{"$f":"ROUND(M34*L33,0)","v":0},0,{"$f":"N33-O33","v":0},0,0,0,5,998,24,0,0,24,5,998,24,0,0,null,null,null,null,null,null,null,null,null,null,null,null,null,null,null,null,null,null,null,null,null,null,null,null,null,null,null,null,null,null,null,null,null,null,null,null,null,null,null,null,null,null,null,null,null,null,null,null,null,null,null,null,null,null,null,null,null,null,null,null,null,null,null,null,null,5,998,24,0,0,0,0]
["00050999","0005","0999",25,5,"Agawam                       ",999,"Total",42227451.049391314,1,{"$f":"SUM(K30:K33)","v":42702195.18},{"$f":"SUM(L30:L33)","v":1},{"$f":"VLOOKUP(E34,town351,24)","v":23256462},{"$f":"SUM(N30:N33)","v":23256462},22951211,{"$f":"SUM(P30:P33)","v":305251},1.3299995368436115,3677,3623,5,999,25,3623,42702195.18,25,5,999,25,3623,42702195.18,null,null,null,null,null,null,null,null,null,null,null,null,null,null,null,null,null,null,null,null,null,null,null,null,null,null,null,null,null,null,null,null,null,null,null,null,null,null,null,null,null,null,null,null,null,null,null,null,null,null,null,null,null,null,null,null,null,null,null,null,null,null,null,null,null,5,999,25,3773,41326070.32,1,22474431]
["00060006","0006","0006",26,6,"Alford                       ",6,"Alford",0,0,{"$f":"X35","v":0},{"$f":"IF(K39>0, K35/K39, 0)","v":0},null,{"$f":"ROUND(M39*L35,0)","v":0},0,{"$f":"N35-O35","v":0},0,0,0,6,6,26,0,0,26,6,6,26,0,0,null,null,null,null,null,null,null,null,null,null,null,null,null,null,null,null,null,null,null,null,null,null,null,null,null,null,null,null,null,null,null,null,null,null,null,null,null,null,null,null,null,null,null,null,null,null,null,null,null,null,null,null,null,null,null,null,null,null,null,null,null,null,null,null,null,6,6,26,0,0,0,0]
["00060765","0006","0765",27,6,"Alford                       ",765,"Southern Berkshire",263079.94956898852,1,251682.7312615944,{"$f":"IF(K39>0, K36/K39, 0)","v":1},null,{"$f":"ROUND(M39*L36,0)","v":207638},217041,{"$f":"N36-O36","v":-9403},-4.3323611667841559,22.461988301319998,21.270893368780001,6,765,27,21.270893368780001,251682.7312615944,27,6,765,27,21.270893368780001,251682.7312615944,null,null,null,null,null,null,null,null,null,null,null,null,null,null,null,null,null,null,null,null,null,null,null,null,null,null,null,null,null,null,null,null,null,null,null,null,null,null,null,null,null,null,null,null,null,null,null,null,null,null,null,null,null,null,null,null,null,null,null,null,null,null,null,null,null,6,765,27,25.331316190039999,275789.33863479376,1,185505]
["00060998","0006","0998",28,6,"",998,"",0,0,0,{"$f":"IF(K39>0, K37/K39, 0)","v":0},null,{"$f":"ROUND(M39*L37,0)","v":0},0,{"$f":"N37-O37","v":0},0,0,0,6,998,28,0,0,28,6,998,28,0,0,null,null,null,null,null,null,null,null,null,null,null,null,null,null,null,null,null,null,null,null,null,null,null,null,null,null,null,null,null,null,null,null,null,null,null,null,null,null,null,null,null,null,null,null,null,null,null,null,null,null,null,null,null,null,null,null,null,null,null,null,null,null,null,null,null,6,998,28,0,0,0,0]
["00060998","0006","0998",29,6,"",998,"",0,0,0,{"$f":"IF(K39>0, K38/K39, 0)","v":0},null,{"$f":"ROUND(M39*L38,0)","v":0},0,{"$f":"N38-O38","v":0},0,0,0,6,998,29,0,0,29,6,998,29,0,0,null,null,null,null,null,null,null,null,null,null,null,null,null,null,null,null,null,null,null,null,null,null,null,null,null,null,null,null,null,null,null,null,null,null,null,null,null,null,null,null,null,null,null,null,null,null,null,null,null,null,null,null,null,null,null,null,null,null,null,null,null,null,null,null,null,6,998,29,0,0,0,0]
["00060999","0006","0999",30,6,"Alford                       ",999,"Total",263079.94956898852,1,{"$f":"SUM(K35:K38)","v":251682.7312615944},{"$f":"SUM(L35:L38)","v":1},{"$f":"VLOOKUP(E39,town351,24)","v":207638},{"$f":"SUM(N35:N38)","v":207638},217041,{"$f":"SUM(P35:P38)","v":-9403},-4.3323611667841559,22.461988301319998,21.270893368780001,6,999,30,21.270893368780001,251682.7312615944,30,6,999,30,21.270893368780001,251682.7312615944,null,null,null,null,null,null,null,null,null,null,null,null,null,null,null,null,null,null,null,null,null,null,null,null,null,null,null,null,null,null,null,null,null,null,null,null,null,null,null,null,null,null,null,null,null,null,null,null,null,null,null,null,null,null,null,null,null,null,null,null,null,null,null,null,null,6,999,30,25.331316190039999,275789.33863479376,1,185505]
["00070007","0007","0007",31,7,"Amesbury                     ",7,"Amesbury",22996252.745490368,0.93686661260494708,{"$f":"X40","v":22825386.480000004},{"$f":"IF(K44>0, K40/K44, 0)","v":0.92906473287787628},null,{"$f":"ROUND(M44*L40,0)","v":16246216},15621860,{"$f":"N40-O40","v":624356},3.996681573128936,2112,2036,7,7,31,2036,22825386.480000004,31,7,7,31,2036,22825386.480000004,null,null,null,null,null,null,null,null,null,null,null,null,null,null,null,null,null,null,null,null,null,null,null,null,null,null,null,null,null,null,null,null,null,null,null,null,null,null,null,null,null,null,null,null,null,null,null,null,null,null,null,null,null,null,null,null,null,null,null,null,null,null,null,null,null,7,7,31,2198,22830750.459999997,0.9490965242425955,15155898]
["00070885","0007","0885",32,7,"Amesbury                     ",885,"Whittier",1549667.064320707,6.3133387395052948E-2,1742747.1195780963,{"$f":"IF(K44>0, K41/K44, 0)","v":7.0935267122123752E-2},null,{"$f":"ROUND(M44*L41,0)","v":1240419},1052723,{"$f":"N41-O41","v":187696},17.829571501715076,89.99999999872,95.000000006080001,7,885,32,95.000000006080001,1742747.1195780963,32,7,885,32,95.000000006080001,1742747.1195780963,null,null,null,null,null,null,null,null,null,null,null,null,null,null,null,null,null,null,null,null,null,null,null,null,null,null,null,null,null,null,null,null,null,null,null,null,null,null,null,null,null,null,null,null,null,null,null,null,null,null,null,null,null,null,null,null,null,null,null,null,null,null,null,null,null,7,885,32,73.999999996759996,1224495.6365122087,5.0903475757404518E-2,812866]
["00070998","0007","0998",33,7,"",998,null,0,0,0,{"$f":"IF(K44>0, K42/K44, 0)","v":0},null,{"$f":"ROUND(M44*L42,0)","v":0},0,{"$f":"N42-O42","v":0},0,0,0,7,998,33,0,0,33,7,998,33,0,0,null,null,null,null,null,null,null,null,null,null,null,null,null,null,null,null,null,null,null,null,null,null,null,null,null,null,null,null,null,null,null,null,null,null,null,null,null,null,null,null,null,null,null,null,null,null,null,null,null,null,null,null,null,null,null,null,null,null,null,null,null,null,null,null,null,7,998,33,0,0,0,0]
["00070998","0007","0998",34,7,"",998,"",0,0,0,{"$f":"IF(K44>0, K43/K44, 0)","v":0},null,{"$f":"ROUND(M44*L43,0)","v":0},0,{"$f":"N43-O43","v":0},0,0,0,7,998,34,0,0,34,7,998,34,0,0,null,null,null,null,null,null,null,null,null,null,null,null,null,null,null,null,null,null,null,null,null,null,null,null,null,null,null,null,null,null,null,null,null,null,null,null,null,null,null,null,null,null,null,null,null,null,null,null,null,null,null,null,null,null,null,null,null,null,null,null,null,null,null,null,null,7,998,34,0,0,0,0]
["00070999","0007","0999",35,7,"Amesbury                     ",999,"Total",24545919.809811074,1,{"$f":"SUM(K40:K43)","v":24568133.599578101},{"$f":"SUM(L40:L43)","v":1},{"$f":"VLOOKUP(E44,town351,24)","v":17486635},{"$f":"SUM(N40:N43)","v":17486635},16674583,{"$f":"SUM(P40:P43)","v":812052},4.8699988479472021,2201.9999999987199,2131.00000000608,7,999,35,2131.00000000608,24568133.599578101,35,7,999,35,2131.00000000608,24568133.599578101,null,null,null,null,null,null,null,null,null,null,null,null,null,null,null,null,null,null,null,null,null,null,null,null,null,null,null,null,null,null,null,null,null,null,null,null,null,null,null,null,null,null,null,null,null,null,null,null,null,null,null,null,null,null,null,null,null,null,null,null,null,null,null,null,null,7,999,35,2271.9999999967599,24055246.096512206,1,15968764]
["00080008","0008","0008",36,8,"Amherst                      ",8,"Amherst",12803970.649125857,0.49080097396569239,{"$f":"X45","v":13098312.059999999},{"$f":"IF(K49>0, K45/K49, 0)","v":0.48882695921638719},null,{"$f":"ROUND(M49*L45,0)","v":9900603},9508882,{"$f":"N45-O45","v":391721},4.1195274060609863,1134,1097,8,8,36,1097,13098312.059999999,36,8,8,36,1097,13098312.059999999,null,null,null,null,null,null,null,null,null,null,null,null,null,null,null,null,null,null,null,null,null,null,null,null,null,null,null,null,null,null,null,null,null,null,null,null,null,null,null,null,null,null,null,null,null,null,null,null,null,null,null,null,null,null,null,null,null,null,null,null,null,null,null,null,null,8,8,36,1106,11969353.380000003,0.48131992666945855,8946746]
["00080605","0008","0605",37,8,"Amherst                      ",605,"Amherst Pelham",13283937.338646131,0.50919902603430767,13697084.169776717,{"$f":"IF(K49>0, K46/K49, 0)","v":0.5111730407836127},null,{"$f":"ROUND(M49*L46,0)","v":10353197},9865329,{"$f":"N46-O46","v":487868},4.9452785609075987,1123.00000000612,1130.9999999998599,8,605,37,1130.9999999998599,13697084.169776717,37,8,605,37,1130.9999999998599,13697084.169776717,null,null,null,null,null,null,null,null,null,null,null,null,null,null,null,null,null,null,null,null,null,null,null,null,null,null,null,null,null,null,null,null,null,null,null,null,null,null,null,null,null,null,null,null,null,null,null,null,null,null,null,null,null,null,null,null,null,null,null,null,null,null,null,null,null,8,605,37,1151.9999999931501,12898416.925757216,0.51868007333054156,9641195]
["00080998","0008","0998",38,8,"",998,"",0,0,0,{"$f":"IF(K49>0, K47/K49, 0)","v":0},null,{"$f":"ROUND(M49*L47,0)","v":0},0,{"$f":"N47-O47","v":0},0,0,0,8,998,38,0,0,38,8,998,38,0,0,null,null,null,null,null,null,null,null,null,null,null,null,null,null,null,null,null,null,null,null,null,null,null,null,null,null,null,null,null,null,null,null,null,null,null,null,null,null,null,null,null,null,null,null,null,null,null,null,null,null,null,null,null,null,null,null,null,null,null,null,null,null,null,null,null,8,998,38,0,0,0,0]
["00080998","0008","0998",39,8,"",998,"",0,0,0,{"$f":"IF(K49>0, K48/K49, 0)","v":0},null,{"$f":"ROUND(M49*L48,0)","v":0},0,{"$f":"N48-O48","v":0},0,0,0,8,998,39,0,0,39,8,998,39,0,0,null,null,null,null,null,null,null,null,null,null,null,null,null,null,null,null,null,null,null,null,null,null,null,null,null,null,null,null,null,null,null,null,null,null,null,null,null,null,null,null,null,null,null,null,null,null,null,null,null,null,null,null,null,null,null,null,null,null,null,null,null,null,null,null,null,8,998,39,0,0,0,0]
["00080999","0008","0999",40,8,"Amherst                      ",999,"Total",26087907.987771988,1,{"$f":"SUM(K45:K48)","v":26795396.229776718},{"$f":"SUM(L45:L48)","v":0.99999999999999989},{"$f":"VLOOKUP(E49,town351,24)","v":20253800},{"$f":"SUM(N45:N48)","v":20253800},19374211,{"$f":"SUM(P45:P48)","v":879589},4.5399990740268077,2257.00000000612,2227.9999999998599,8,999,40,2227.9999999998599,26795396.229776718,40,8,999,40,2227.9999999998599,26795396.229776718,null,null,null,null,null,null,null,null,null,null,null,null,null,null,null,null,null,null,null,null,null,null,null,null,null,null,null,null,null,null,null,null,null,null,null,null,null,null,null,null,null,null,null,null,null,null,null,null,null,null,null,null,null,null,null,null,null,null,null,null,null,null,null,null,null,8,999,40,2257.9999999931501,24867770.305757217,1,18587941]
["00090009","0009","0009",41,9,"Andover                      ",9,"Andover",63835635.793936521,0.99033911909687955,{"$f":"X50","v":64773743.400639996},{"$f":"IF(K54>0, K50/K54, 0)","v":0.98951430885974023},null,{"$f":"ROUND(M54*L50,0)","v":53438338},52178457,{"$f":"N50-O50","v":1259881},2.4145616264582141,5835,5740,9,9,41,5740,64773743.400639996,41,9,9,41,5740,64773743.400639996,null,null,null,null,null,null,null,null,null,null,null,null,null,null,null,null,null,null,null,null,null,null,null,null,null,null,null,null,null,null,null,null,null,null,null,null,null,null,null,null,null,null,null,null,null,null,null,null,null,null,null,null,null,null,null,null,null,null,null,null,null,null,null,null,null,9,9,41,5805,60546641.049729995,0.99100913933031998,49950979]
["00090823","0009","0823",42,9,"Andover                      ",823,"Greater Lawrence",622724.54241996538,9.6608809031204865E-3,686394.79107706959,{"$f":"IF(K54>0, K51/K54, 0)","v":1.0485691140259797E-2},null,{"$f":"ROUND(M54*L51,0)","v":566276},509007,{"$f":"N51-O51","v":57269},11.251122283190604,31.000000006980002,32.000000002139998,9,823,42,32.000000002139998,686394.79107706959,42,9,823,42,32.000000002139998,686394.79107706959,null,null,null,null,null,null,null,null,null,null,null,null,null,null,null,null,null,null,null,null,null,null,null,null,null,null,null,null,null,null,null,null,null,null,null,null,null,null,null,null,null,null,null,null,null,null,null,null,null,null,null,null,null,null,null,null,null,null,null,null,null,null,null,null,null,9,823,42,29.000000000579998,549305.13967117388,8.9908606696800196E-3,453177]
["00090998","0009","0998",43,9,"",998,null,0,0,0,{"$f":"IF(K54>0, K52/K54, 0)","v":0},null,{"$f":"ROUND(M54*L52,0)","v":0},0,{"$f":"N52-O52","v":0},0,0,0,9,998,43,0,0,43,9,998,43,0,0,null,null,null,null,null,null,null,null,null,null,null,null,null,null,null,null,null,null,null,null,null,null,null,null,null,null,null,null,null,null,null,null,null,null,null,null,null,null,null,null,null,null,null,null,null,null,null,null,null,null,null,null,null,null,null,null,null,null,null,null,null,null,null,null,null,9,998,43,0,0,0,0]
["00090998","0009","0998",44,9,"",998,"",0,0,0,{"$f":"IF(K54>0, K53/K54, 0)","v":0},null,{"$f":"ROUND(M54*L53,0)","v":0},0,{"$f":"N53-O53","v":0},0,0,0,9,998,44,0,0,44,9,998,44,0,0,null,null,null,null,null,null,null,null,null,null,null,null,null,null,null,null,null,null,null,null,null,null,null,null,null,null,null,null,null,null,null,null,null,null,null,null,null,null,null,null,null,null,null,null,null,null,null,null,null,null,null,null,null,null,null,null,null,null,null,null,null,null,null,null,null,9,998,44,0,0,0,0]
["00090999","0009","0999",45,9,"Andover                      ",999,"Total",64458360.336356483,1,{"$f":"SUM(K50:K53)","v":65460138.191717066},{"$f":"SUM(L50:L53)","v":1},{"$f":"VLOOKUP(E54,town351,24)","v":54004614},{"$f":"SUM(N50:N53)","v":54004614},52687464,{"$f":"SUM(P50:P53)","v":1317150},2.4999305337603648,5866.0000000069804,5772.00000000214,9,999,45,5772.00000000214,65460138.191717066,45,9,999,45,5772.00000000214,65460138.191717066,null,null,null,null,null,null,null,null,null,null,null,null,null,null,null,null,null,null,null,null,null,null,null,null,null,null,null,null,null,null,null,null,null,null,null,null,null,null,null,null,null,null,null,null,null,null,null,null,null,null,null,null,null,null,null,null,null,null,null,null,null,null,null,null,null,9,999,45,5834.0000000005803,61095946.189401172,1,50404156]
["00100010","0010","0010",46,10,"Arlington                    ",10,"Arlington",62294073.096873432,0.96577668749046464,{"$f":"X55","v":65991012.938580006},{"$f":"IF(K59>0, K55/K59, 0)","v":0.95371706141239077},null,{"$f":"ROUND(M59*L55,0)","v":50007974},48330137,{"$f":"N55-O55","v":1677837},3.471616478140751,5980,6092,10,10,46,6092,65991012.938580006,46,10,10,46,6092,65991012.938580006,null,null,null,null,null,null,null,null,null,null,null,null,null,null,null,null,null,null,null,null,null,null,null,null,null,null,null,null,null,null,null,null,null,null,null,null,null,null,null,null,null,null,null,null,null,null,null,null,null,null,null,null,null,null,null,null,null,null,null,null,null,null,null,null,null,10,10,46,5785,58002940.646099992,0.96562022201027209,46237018]
["00100830","0010","0830",47,10,"Arlington                    ",830,"Minuteman",2207455.9871866703,3.4223312509535316E-2,3202478.0962262289,{"$f":"IF(K59>0, K56/K59, 0)","v":4.6282938587609256E-2},null,{"$f":"ROUND(M59*L56,0)","v":2426837},1712629,{"$f":"N56-O56","v":714208},41.702435261810933,119.99999999987999,160.59902200313999,10,830,47,160.59902200313999,3202478.0962262289,47,10,830,47,160.59902200313999,3202478.0962262289,null,null,null,null,null,null,null,null,null,null,null,null,null,null,null,null,null,null,null,null,null,null,null,null,null,null,null,null,null,null,null,null,null,null,null,null,null,null,null,null,null,null,null,null,null,null,null,null,null,null,null,null,null,null,null,null,null,null,null,null,null,null,null,null,null,10,830,47,115.33724340192001,2065126.8238902639,3.4379777989727939E-2,1646215]
["00100998","0010","0998",48,10,"",998,"",0,0,0,{"$f":"IF(K59>0, K57/K59, 0)","v":0},null,{"$f":"ROUND(M59*L57,0)","v":0},0,{"$f":"N57-O57","v":0},0,0,0,10,998,48,0,0,48,10,998,48,0,0,null,null,null,null,null,null,null,null,null,null,null,null,null,null,null,null,null,null,null,null,null,null,null,null,null,null,null,null,null,null,null,null,null,null,null,null,null,null,null,null,null,null,null,null,null,null,null,null,null,null,null,null,null,null,null,null,null,null,null,null,null,null,null,null,null,10,998,48,0,0,0,0]
["00100998","0010","0998",49,10,"",998,"",0,0,0,{"$f":"IF(K59>0, K58/K59, 0)","v":0},null,{"$f":"ROUND(M59*L58,0)","v":0},0,{"$f":"N58-O58","v":0},0,0,0,10,998,49,0,0,49,10,998,49,0,0,null,null,null,null,null,null,null,null,null,null,null,null,null,null,null,null,null,null,null,null,null,null,null,null,null,null,null,null,null,null,null,null,null,null,null,null,null,null,null,null,null,null,null,null,null,null,null,null,null,null,null,null,null,null,null,null,null,null,null,null,null,null,null,null,null,10,998,49,0,0,0,0]
["00100999","0010","0999",50,10,"Arlington                    ",999,"Total",64501529.084060103,1,{"$f":"SUM(K55:K58)","v":69193491.034806237},{"$f":"SUM(L55:L58)","v":1},{"$f":"VLOOKUP(E59,town351,24)","v":52434811},{"$f":"SUM(N55:N58)","v":52434811},50042766,{"$f":"SUM(P55:P58)","v":2392045},4.7800015690579531,6099.9999999998799,6252.5990220031399,10,999,50,6252.5990220031399,69193491.034806237,50,10,999,50,6252.5990220031399,69193491.034806237,null,null,null,null,null,null,null,null,null,null,null,null,null,null,null,null,null,null,null,null,null,null,null,null,null,null,null,null,null,null,null,null,null,null,null,null,null,null,null,null,null,null,null,null,null,null,null,null,null,null,null,null,null,null,null,null,null,null,null,null,null,null,null,null,null,10,999,50,5900.3372434019202,60068067.469990253,1,47883233]
["00110011","0011","0011",51,11,"Ashburnham                   ",11,"Ashburnham",0,0,{"$f":"X60","v":0},{"$f":"IF(K64>0, K60/K64, 0)","v":0},null,{"$f":"ROUND(M64*L60,0)","v":0},0,{"$f":"N60-O60","v":0},0,0,0,11,11,51,0,0,51,11,11,51,0,0,null,null,null,null,null,null,null,null,null,null,null,null,null,null,null,null,null,null,null,null,null,null,null,null,null,null,null,null,null,null,null,null,null,null,null,null,null,null,null,null,null,null,null,null,null,null,null,null,null,null,null,null,null,null,null,null,null,null,null,null,null,null,null,null,null,11,11,51,0,0,0,0]
["00110610","0011","0610",52,11,"Ashburnham                   ",610,"Ashburnham Westminster",10689890.537897743,0.91430821262774253,11412468.883593788,{"$f":"IF(K64>0, K61/K64, 0)","v":0.90746500378909245},null,{"$f":"ROUND(M64*L61,0)","v":5087385},4915371,{"$f":"N61-O61","v":172014},3.4995120409018972,1020.04527644756,1040.80224524032,11,610,52,1040.80224524032,11412468.883593788,52,11,610,52,1040.80224524032,11412468.883593788,null,null,null,null,null,null,null,null,null,null,null,null,null,null,null,null,null,null,null,null,null,null,null,null,null,null,null,null,null,null,null,null,null,null,null,null,null,null,null,null,null,null,null,null,null,null,null,null,null,null,null,null,null,null,null,null,null,null,null,null,null,null,null,null,null,11,610,52,1076.2843436621999,10862999.695497543,0.91273460452460298,4717731]
["00110832","0011","0832",53,11,"Ashburnham                   ",832,"Montachusett",1001889.5317297134,8.5691787372257452E-2,1163739.3844290806,{"$f":"IF(K64>0, K62/K64, 0)","v":9.2534996210907577E-2},null,{"$f":"ROUND(M64*L62,0)","v":518765},460684,{"$f":"N62-O62","v":58081},12.607557458040652,58.99999999696,65.999999993399996,11,832,53,65.999999993399996,1163739.3844290806,53,11,832,53,65.999999993399996,1163739.3844290806,null,null,null,null,null,null,null,null,null,null,null,null,null,null,null,null,null,null,null,null,null,null,null,null,null,null,null,null,null,null,null,null,null,null,null,null,null,null,null,null,null,null,null,null,null,null,null,null,null,null,null,null,null,null,null,null,null,null,null,null,null,null,null,null,null,11,832,53,64.043068646549997,1038597.594281479,8.7265395475396954E-2,451056]
["00110998","0011","0998",54,11,"",998,"",0,0,0,{"$f":"IF(K64>0, K63/K64, 0)","v":0},null,{"$f":"ROUND(M64*L63,0)","v":0},0,{"$f":"N63-O63","v":0},0,0,0,11,998,54,0,0,54,11,998,54,0,0,null,null,null,null,null,null,null,null,null,null,null,null,null,null,null,null,null,null,null,null,null,null,null,null,null,null,null,null,null,null,null,null,null,null,null,null,null,null,null,null,null,null,null,null,null,null,null,null,null,null,null,null,null,null,null,null,null,null,null,null,null,null,null,null,null,11,998,54,0,0,0,0]
["00110999","0011","0999",55,11,"Ashburnham                   ",999,"Total",11691780.069627456,1,{"$f":"SUM(K60:K63)","v":12576208.268022869},{"$f":"SUM(L60:L63)","v":1},{"$f":"VLOOKUP(E64,town351,24)","v":5606150},{"$f":"SUM(N60:N63)","v":5606150},5376055,{"$f":"SUM(P60:P63)","v":230095},4.2799971354459725,1079.0452764445199,1106.80224523372,11,999,55,1106.80224523372,12576208.268022869,55,11,999,55,1106.80224523372,12576208.268022869,null,null,null,null,null,null,null,null,null,null,null,null,null,null,null,null,null,null,null,null,null,null,null,null,null,null,null,null,null,null,null,null,null,null,null,null,null,null,null,null,null,null,null,null,null,null,null,null,null,null,null,null,null,null,null,null,null,null,null,null,null,null,null,null,null,11,999,55,1140.3274123087499,11901597.289779022,0.99999999999999989,5168787]
["00120012","0012","0012",56,12,"Ashby                        ",12,"Ashby",0,0,{"$f":"X65","v":0},{"$f":"IF(K69>0, K65/K69, 0)","v":0},null,{"$f":"ROUND(M69*L65,0)","v":0},0,{"$f":"N65-O65","v":0},0,0,0,12,12,56,0,0,56,12,12,56,0,0,null,null,null,null,null,null,null,null,null,null,null,null,null,null,null,null,null,null,null,null,null,null,null,null,null,null,null,null,null,null,null,null,null,null,null,null,null,null,null,null,null,null,null,null,null,null,null,null,null,null,null,null,null,null,null,null,null,null,null,null,null,null,null,null,null,12,12,56,0,0,0,0]
["00120735","0012","0735",57,12,"Ashby                        ",735,"North Middlesex",3851136.7177560711,0.87634692119925628,3896908.1634689933,{"$f":"IF(K69>0, K66/K69, 0)","v":0.86328562550443599},null,{"$f":"ROUND(M69*L66,0)","v":2265183},2202332,{"$f":"N66-O66","v":62851},2.8538385674821054,363.1624413111,357.13714463783998,12,735,57,357.13714463783998,3896908.1634689933,57,12,735,57,357.13714463783998,3896908.1634689933,null,null,null,null,null,null,null,null,null,null,null,null,null,null,null,null,null,null,null,null,null,null,null,null,null,null,null,null,null,null,null,null,null,null,null,null,null,null,null,null,null,null,null,null,null,null,null,null,null,null,null,null,null,null,null,null,null,null,null,null,null,null,null,null,null,12,735,57,370.72404116435996,3774894.7341389456,0.88915003949168281,2175126]
["00120832","0012","0832",58,12,"Ashby                        ",832,"Montachusett",543397.71215428726,0.1236530788007438,617134.52222028549,{"$f":"IF(K69>0, K67/K69, 0)","v":0.13671437449556398},null,{"$f":"ROUND(M69*L67,0)","v":358726},310750,{"$f":"N67-O67","v":47976},15.438777152051488,32.000000000100002,35.000000006400001,12,832,58,35.000000006400001,617134.52222028549,58,12,832,58,35.000000006400001,617134.52222028549,null,null,null,null,null,null,null,null,null,null,null,null,null,null,null,null,null,null,null,null,null,null,null,null,null,null,null,null,null,null,null,null,null,null,null,null,null,null,null,null,null,null,null,null,null,null,null,null,null,null,null,null,null,null,null,null,null,null,null,null,null,null,null,null,null,12,832,58,29.019515473729999,470614.53479952441,0.1108499605083173,271172]
["00120998","0012","0998",59,12,"",998,"",0,0,0,{"$f":"IF(K69>0, K68/K69, 0)","v":0},null,{"$f":"ROUND(M69*L68,0)","v":0},0,{"$f":"N68-O68","v":0},0,0,0,12,998,59,0,0,59,12,998,59,0,0,null,null,null,null,null,null,null,null,null,null,null,null,null,null,null,null,null,null,null,null,null,null,null,null,null,null,null,null,null,null,null,null,null,null,null,null,null,null,null,null,null,null,null,null,null,null,null,null,null,null,null,null,null,null,null,null,null,null,null,null,null,null,null,null,null,12,998,59,0,0,0,0]
["00120999","0012","0999",60,12,"Ashby                        ",999,"Total",4394534.429910358,1,{"$f":"SUM(K65:K68)","v":4514042.6856892789},{"$f":"SUM(L65:L68)","v":1},{"$f":"VLOOKUP(E69,town351,24)","v":2623909},{"$f":"SUM(N65:N68)","v":2623909},2513082,{"$f":"SUM(P65:P68)","v":110827},4.4100033345509617,395.16244131119998,392.13714464423998,12,999,60,392.13714464423998,4514042.6856892789,60,12,999,60,392.13714464423998,4514042.6856892789,null,null,null,null,null,null,null,null,null,null,null,null,null,null,null,null,null,null,null,null,null,null,null,null,null,null,null,null,null,null,null,null,null,null,null,null,null,null,null,null,null,null,null,null,null,null,null,null,null,null,null,null,null,null,null,null,null,null,null,null,null,null,null,null,null,12,999,60,399.74355663808996,4245509.2689384697,1,2446298]
["00130013","0013","0013",61,13,"Ashfield                     ",13,"Ashfield",100602.5807874735,4.8532597413000637E-2,{"$f":"X70","v":119637.19999999998},{"$f":"IF(K74>0, K70/K74, 0)","v":6.3897910439627462E-2},null,{"$f":"ROUND(M74*L70,0)","v":98701},74854,{"$f":"N70-O70","v":23847},31.858016939642503,7,8,13,13,61,8,119637.19999999998,61,13,13,61,8,119637.19999999998,null,null,null,null,null,null,null,null,null,null,null,null,null,null,null,null,null,null,null,null,null,null,null,null,null,null,null,null,null,null,null,null,null,null,null,null,null,null,null,null,null,null,null,null,null,null,null,null,null,null,null,null,null,null,null,null,null,null,null,null,null,null,null,null,null,13,13,61,15,233861.83,0.10663739066697786,163542]
["00130717","0013","0717",62,13,"Ashfield                     ",717,"Mohawk Trail",1972284.224164875,0.95146740258699936,1752680.6767017203,{"$f":"IF(K74>0, K71/K74, 0)","v":0.93610208956037255},null,{"$f":"ROUND(M74*L71,0)","v":1445961},1467494,{"$f":"N71-O71","v":-21533},-1.4673313826155336,172.22222222669998,150.16666666966998,13,717,62,150.16666666966998,1752680.6767017203,62,13,717,62,150.16666666966998,1752680.6767017203,null,null,null,null,null,null,null,null,null,null,null,null,null,null,null,null,null,null,null,null,null,null,null,null,null,null,null,null,null,null,null,null,null,null,null,null,null,null,null,null,null,null,null,null,null,null,null,null,null,null,null,null,null,null,null,null,null,null,null,null,null,null,null,null,null,13,717,62,179.6936170203,1959194.7380319051,0.89336260933302214,1370082]
["00130998","0013","0998",63,13,"",998,"",0,0,0,{"$f":"IF(K74>0, K72/K74, 0)","v":0},null,{"$f":"ROUND(M74*L72,0)","v":0},0,{"$f":"N72-O72","v":0},0,0,0,13,998,63,0,0,63,13,998,63,0,0,null,null,null,null,null,null,null,null,null,null,null,null,null,null,null,null,null,null,null,null,null,null,null,null,null,null,null,null,null,null,null,null,null,null,null,null,null,null,null,null,null,null,null,null,null,null,null,null,null,null,null,null,null,null,null,null,null,null,null,null,null,null,null,null,null,13,998,63,0,0,0,0]
["00130998","0013","0998",64,13,"",998,"",0,0,0,{"$f":"IF(K74>0, K73/K74, 0)","v":0},null,{"$f":"ROUND(M74*L73,0)","v":0},0,{"$f":"N73-O73","v":0},0,0,0,13,998,64,0,0,64,13,998,64,0,0,null,null,null,null,null,null,null,null,null,null,null,null,null,null,null,null,null,null,null,null,null,null,null,null,null,null,null,null,null,null,null,null,null,null,null,null,null,null,null,null,null,null,null,null,null,null,null,null,null,null,null,null,null,null,null,null,null,null,null,null,null,null,null,null,null,13,998,64,0,0,0,0]
[{"$f":"B74&C74","v":"00130999"},"0013","0999",65,13,"Ashfield                     ",999,"Total",2072886.8049523486,1,{"$f":"SUM(K70:K73)","v":1872317.8767017203},{"$f":"SUM(L70:L73)","v":1},{"$f":"VLOOKUP(E74,town351,24)","v":1544662},{"$f":"SUM(N70:N73)","v":1544662},1542348,{"$f":"SUM(P70:P73)","v":2314},0.15003099170874537,179.22222222669998,158.16666666966998,{"$f":"VLOOKUP($D74, foundoptions, VLOOKUP($T$6, foundoptcell, 2, FALSE), FALSE)","v":13},{"$f":"VLOOKUP($D74, foundoptions, VLOOKUP($T$6, foundoptcell, 2, FALSE)+1, FALSE)","v":999},{"$f":"VLOOKUP($D74, foundoptions, VLOOKUP($T$6, foundoptcell, 2, FALSE)+2, FALSE)","v":65},{"$f":"VLOOKUP($D74, foundoptions, VLOOKUP($T$6, foundoptcell, 2, FALSE)+3, FALSE)","v":158.16666666966998},{"$f":"VLOOKUP($D74, foundoptions, VLOOKUP($T$6, foundoptcell, 2, FALSE)+4, FALSE)","v":1872317.8767017203},65,13,999,65,158.16666666966998,1872317.8767017203,null,null,null,null,null,null,null,null,null,null,null,null,null,null,null,null,null,null,null,null,null,null,null,null,null,null,null,null,null,null,null,null,null,null,null,null,null,null,null,null,null,null,null,null,null,null,null,null,null,null,null,null,null,null,null,null,null,null,null,null,null,null,null,null,null,13,999,65,194.6936170203,2193056.5680319052,1,1533624]
["00140014","0014","0014",66,14,"Ashland                      ",14,"Ashland",29177890.758524973,0.96607914002386275,{"$f":"X75","v":30521117.440000001},{"$f":"IF(K79>0, K75/K79, 0)","v":0.96640672414452744},null,{"$f":"ROUND(M79*L75,0)","v":22570837},21472389,{"$f":"N75-O75","v":1098448},5.1156301238767607,2764,2786,14,14,66,2786,30521117.440000001,{"$f":"D75","v":66},14,14,66,2786,30521117.440000001,null,null,null,null,null,null,null,null,null,null,null,null,null,null,null,null,null,null,null,null,null,null,null,null,null,null,null,null,null,null,null,null,null,null,null,null,null,null,null,null,null,null,null,null,null,null,null,null,null,null,null,null,null,null,null,null,null,null,null,null,null,null,null,null,null,14,14,66,2581,26344731.796339996,0.9575405389385544,20247938]
["00140829","0014","0829",67,14,"Ashland                      ",829,"South Middlesex",1024490.7542403897,3.3920859976137231E-2,1060944.9333941708,{"$f":"IF(K79>0, K76/K79, 0)","v":3.359327585547256E-2},null,{"$f":"ROUND(M79*L76,0)","v":784585},753936,{"$f":"N76-O76","v":30649},4.0651991680991486,54.999999996299998,53.066582912290002,14,829,67,53.066582912290002,1060944.9333941708,67,14,829,67,53.066582912290002,1060944.9333941708,null,null,null,null,null,null,null,null,null,null,null,null,null,null,null,null,null,null,null,null,null,null,null,null,null,null,null,null,null,null,null,null,null,null,null,null,null,null,null,null,null,null,null,null,null,null,null,null,null,null,null,null,null,null,null,null,null,null,null,null,null,null,null,null,null,14,829,67,65.999999997179998,1168183.5581821853,4.2459461061445672E-2,897838]
["00140998","0014","0998",68,14,"",998,"",0,0,0,{"$f":"IF(K79>0, K77/K79, 0)","v":0},null,{"$f":"ROUND(M79*L77,0)","v":0},0,{"$f":"N77-O77","v":0},0,0,0,14,998,68,0,0,68,14,998,68,0,0,null,null,null,null,null,null,null,null,null,null,null,null,null,null,null,null,null,null,null,null,null,null,null,null,null,null,null,null,null,null,null,null,null,null,null,null,null,null,null,null,null,null,null,null,null,null,null,null,null,null,null,null,null,null,null,null,null,null,null,null,null,null,null,null,null,14,998,68,0,0,0,0]
["00140998","0014","0998",69,14,"",998,"",0,0,0,{"$f":"IF(K79>0, K78/K79, 0)","v":0},null,{"$f":"ROUND(M79*L78,0)","v":0},0,{"$f":"N78-O78","v":0},0,0,0,14,998,69,0,0,69,14,998,69,0,0,null,null,null,null,null,null,null,null,null,null,null,null,null,null,null,null,null,null,null,null,null,null,null,null,null,null,null,null,null,null,null,null,null,null,null,null,null,null,null,null,null,null,null,null,null,null,null,null,null,null,null,null,null,null,null,null,null,null,null,null,null,null,null,null,null,14,998,69,0,0,0,0]
["00140999","0014","0999",70,14,"Ashland                      ",999,"Total",30202381.512765363,1,{"$f":"SUM(K75:K78)","v":31582062.373394173},{"$f":"SUM(L75:L78)","v":1},{"$f":"VLOOKUP(E79,town351,24)","v":23355422},{"$f":"SUM(N75:N78)","v":23355422},22226325,{"$f":"SUM(P75:P78)","v":1129097},5.0799986052575044,2818.9999999963002,2839.06658291229,14,999,70,2839.06658291229,31582062.373394173,70,14,999,70,2839.06658291229,31582062.373394173,null,null,null,null,null,null,null,null,null,null,null,null,null,null,null,null,null,null,null,null,null,null,null,null,null,null,null,null,null,null,null,null,null,null,null,null,null,null,null,null,null,null,null,null,null,null,null,null,null,null,null,null,null,null,null,null,null,null,null,null,null,null,null,null,null,14,999,70,2646.9999999971801,27512915.35452218,1,21145776]
["00150015","0015","0015",71,15,"Athol                        ",15,"Athol",0,0,{"$f":"X80","v":0},{"$f":"IF(K84>0, K80/K84, 0)","v":0},null,{"$f":"ROUND(M84*L80,0)","v":0},0,{"$f":"N80-O80","v":0},{"$f":"IF(O80>0,P80*100/O80,IF(P80>0,100,0))","v":0},0,0,15,15,71,0,0,71,15,15,71,0,0,null,null,null,null,null,null,null,null,null,null,null,null,null,null,null,null,null,null,null,null,null,null,null,null,null,null,null,null,null,null,null,null,null,null,null,null,null,null,null,null,null,null,null,null,null,null,null,null,null,null,null,null,null,null,null,null,null,null,null,null,null,null,null,null,null,15,15,71,1,13837.16,7.0164485174822975E-4,2099]
["00150615","0015","0615",72,15,"Athol                        ",615,"Athol Royalston",19054143.735957444,0.91892385158070056,20391354.860506494,{"$f":"IF(K84>0, K81/K84, 0)","v":0.91531257623103435},null,{"$f":"ROUND(M84*L81,0)","v":3085425},2910183,{"$f":"N81-O81","v":175242},{"$f":"IF(O81>0,P81*100/O81,IF(P81>0,100,0))","v":6.0216831725015227},1617.0736961386801,1642.46759001941,15,615,72,1642.46759001941,20391354.860506494,72,15,615,72,1642.46759001941,20391354.860506494,null,null,null,null,null,null,null,null,null,null,null,null,null,null,null,null,null,null,null,null,null,null,null,null,null,null,null,null,null,null,null,null,null,null,null,null,null,null,null,null,null,null,null,null,null,null,null,null,null,null,null,null,null,null,null,null,null,null,null,null,null,null,null,null,null,15,615,72,1628.88789237372,18262894.242522851,0.92606183084451899,2770441]
["00150832","0015","0832",73,15,"Athol                        ",832,"Montachusett",1681136.6718599969,8.1076148419299346E-2,1886668.3962825679,{"$f":"IF(K84>0, K82/K84, 0)","v":8.4687423768965667E-2},null,{"$f":"ROUND(M84*L82,0)","v":285473},256764,{"$f":"N82-O82","v":28709},{"$f":"IF(O82>0,P82*100/O82,IF(P82>0,100,0))","v":11.181084575719337},98.999999993399996,107.00000000712001,15,832,73,107.00000000712001,1886668.3962825679,73,15,832,73,107.00000000712001,1886668.3962825679,null,null,null,null,null,null,null,null,null,null,null,null,null,null,null,null,null,null,null,null,null,null,null,null,null,null,null,null,null,null,null,null,null,null,null,null,null,null,null,null,null,null,null,null,null,null,null,null,null,null,null,null,null,null,null,null,null,null,null,null,null,null,null,null,null,15,832,73,89.059892330799997,1444299.7794534829,7.3236524303732842E-2,219097]
["00150998","0015","0998",74,15,"",998,"",0,0,0,{"$f":"IF(K84>0, K83/K84, 0)","v":0},null,{"$f":"ROUND(M84*L83,0)","v":0},0,{"$f":"N83-O83","v":0},{"$f":"IF(O83>0,P83*100/O83,IF(P83>0,100,0))","v":0},0,0,15,998,74,0,0,74,15,998,74,0,0,null,null,null,null,null,null,null,null,null,null,null,null,null,null,null,null,null,null,null,null,null,null,null,null,null,null,null,null,null,null,null,null,null,null,null,null,null,null,null,null,null,null,null,null,null,null,null,null,null,null,null,null,null,null,null,null,null,null,null,null,null,null,null,null,null,15,998,74,0,0,0,0]
["00150999","0015","0999",75,15,"Athol                        ",999,"Total",20735280.407817442,0.99999999999999989,{"$f":"SUM(K80:K83)","v":22278023.256789062},{"$f":"SUM(L80:L83)","v":1},{"$f":"VLOOKUP(E84,town351,24)","v":3370898},{"$f":"SUM(N80:N83)","v":3370898},3166947,{"$f":"SUM(P80:P83)","v":203951},{"$f":"IF(O84>0,P84*100/O84,IF(P84>0,100,0))","v":6.4399877863443882},1716.0736961320802,1749.4675900265299,15,999,75,1749.4675900265299,22278023.256789062,75,15,999,75,1749.4675900265299,22278023.256789062,null,null,null,null,null,null,null,null,null,null,null,null,null,null,null,null,null,null,null,null,null,null,null,null,null,null,null,null,null,null,null,null,null,null,null,null,null,null,null,null,null,null,null,null,null,null,null,null,null,null,null,null,null,null,null,null,null,null,null,null,null,null,null,null,null,15,999,75,1718.94778470452,19721031.181976333,1,2991637]
["00160016","0016","0016",76,16,"Attleboro                    ",16,"Attleboro",77760770.558410808,0.99407712499921308,{"$f":"X85","v":80907585.420000002},{"$f":"IF(K89>0, K85/K89, 0)","v":0.99479291538447745},null,{"$f":"ROUND(M89*L85,0)","v":38043946},36638947,{"$f":"N85-O85","v":1404999},3.8347144638190613,6355,6383,16,16,76,6383,80907585.420000002,76,16,16,76,6383,80907585.420000002,null,null,null,null,null,null,null,null,null,null,null,null,null,null,null,null,null,null,null,null,null,null,null,null,null,null,null,null,null,null,null,null,null,null,null,null,null,null,null,null,null,null,null,null,null,null,null,null,null,null,null,null,null,null,null,null,null,null,null,null,null,null,null,null,null,16,16,76,6311,72980818.829999998,0.99276165857121146,35206834]
["00160910","0016","0910",77,16,"Attleboro                    ",910,"Bristol County",463311.45984543324,5.9228750007868907E-3,423497.83236718876,{"$f":"IF(K89>0, K86/K89, 0)","v":5.207084615522598E-3},null,{"$f":"ROUND(M89*L86,0)","v":199135},218301,{"$f":"N86-O86","v":-19166},-8.7796207988053201,27.000000001779998,23.999999999220002,16,910,77,23.999999999220002,423497.83236718876,77,16,910,77,23.999999999220002,423497.83236718876,null,null,null,null,null,null,null,null,null,null,null,null,null,null,null,null,null,null,null,null,null,null,null,null,null,null,null,null,null,null,null,null,null,null,null,null,null,null,null,null,null,null,null,null,null,null,null,null,null,null,null,null,null,null,null,null,null,null,null,null,null,null,null,null,null,16,910,77,32.99999999832,532111.69053846342,7.2383414287884905E-3,256697]
["00160998","0016","0998",78,16,"",998,"",0,0,0,{"$f":"IF(K89>0, K87/K89, 0)","v":0},null,{"$f":"ROUND(M89*L87,0)","v":0},0,{"$f":"N87-O87","v":0},0,0,0,16,998,78,0,0,78,16,998,78,0,0,null,null,null,null,null,null,null,null,null,null,null,null,null,null,null,null,null,null,null,null,null,null,null,null,null,null,null,null,null,null,null,null,null,null,null,null,null,null,null,null,null,null,null,null,null,null,null,null,null,null,null,null,null,null,null,null,null,null,null,null,null,null,null,null,null,16,998,78,0,0,0,0]
["00160998","0016","0998",79,16,"",998,"",0,0,0,{"$f":"IF(K89>0, K88/K89, 0)","v":0},null,{"$f":"ROUND(M89*L88,0)","v":0},0,{"$f":"N88-O88","v":0},0,0,0,16,998,79,0,0,79,16,998,79,0,0,null,null,null,null,null,null,null,null,null,null,null,null,null,null,null,null,null,null,null,null,null,null,null,null,null,null,null,null,null,null,null,null,null,null,null,null,null,null,null,null,null,null,null,null,null,null,null,null,null,null,null,null,null,null,null,null,null,null,null,null,null,null,null,null,null,16,998,79,0,0,0,0]
["00160999","0016","0999",80,16,"Attleboro                    ",999,"Total",78224082.018256247,1,{"$f":"SUM(K85:K88)","v":81331083.252367184},{"$f":"SUM(L85:L88)","v":1},{"$f":"VLOOKUP(E89,town351,24)","v":38243081},{"$f":"SUM(N85:N88)","v":38243081},36857248,{"$f":"SUM(P85:P88)","v":1385833},3.7600012892986476,6382.0000000017799,6406.9999999992197,16,999,80,6406.9999999992197,81331083.252367184,80,16,999,80,6406.9999999992197,81331083.252367184,null,null,null,null,null,null,null,null,null,null,null,null,null,null,null,null,null,null,null,null,null,null,null,null,null,null,null,null,null,null,null,null,null,null,null,null,null,null,null,null,null,null,null,null,null,null,null,null,null,null,null,null,null,null,null,null,null,null,null,null,null,null,null,null,null,16,999,80,6343.9999999983202,73512930.520538464,1,35463531]
["00170017","0017","0017",81,17,"Auburn                       ",17,"Auburn",26762943.249616574,0.94858204742921148,{"$f":"X90","v":27839076.359999999},{"$f":"IF(K94>0, K90/K94, 0)","v":0.9457219848309466},null,{"$f":"ROUND(M94*L90,0)","v":15632555},15076760,{"$f":"N90-O90","v":555795},3.6864352818510078,2494,2511,17,17,81,2511,27839076.359999999,81,17,17,81,2511,27839076.359999999,null,null,null,null,null,null,null,null,null,null,null,null,null,null,null,null,null,null,null,null,null,null,null,null,null,null,null,null,null,null,null,null,null,null,null,null,null,null,null,null,null,null,null,null,null,null,null,null,null,null,null,null,null,null,null,null,null,null,null,null,null,null,null,null,null,17,17,81,2495,25672129.779999997,0.9495990137933209,14624535]
["00170876","0017","0876",82,17,"Auburn                       ",876,"Southern Worcester",1450687.1075547962,5.1417952570788496E-2,1597773.7994857158,{"$f":"IF(K94>0, K91/K94, 0)","v":5.4278015169053333E-2},null,{"$f":"ROUND(M94*L91,0)","v":897202},817237,{"$f":"N91-O91","v":79965},9.7847992687555756,85.999999995269988,89.999999994959992,17,876,82,89.999999994959992,1597773.7994857158,82,17,876,82,89.999999994959992,1597773.7994857158,null,null,null,null,null,null,null,null,null,null,null,null,null,null,null,null,null,null,null,null,null,null,null,null,null,null,null,null,null,null,null,null,null,null,null,null,null,null,null,null,null,null,null,null,null,null,null,null,null,null,null,null,null,null,null,null,null,null,null,null,null,null,null,null,null,17,876,82,83.999999998999996,1362575.8242620397,5.0400986206679044E-2,776213]
["00170998","0017","0998",83,17,"",998,"",0,0,0,{"$f":"IF(K94>0, K92/K94, 0)","v":0},null,{"$f":"ROUND(M94*L92,0)","v":0},0,{"$f":"N92-O92","v":0},0,0,0,17,998,83,0,0,83,17,998,83,0,0,null,null,null,null,null,null,null,null,null,null,null,null,null,null,null,null,null,null,null,null,null,null,null,null,null,null,null,null,null,null,null,null,null,null,null,null,null,null,null,null,null,null,null,null,null,null,null,null,null,null,null,null,null,null,null,null,null,null,null,null,null,null,null,null,null,17,998,83,0,0,0,0]
["00170998","0017","0998",84,17,"",998,"",0,0,0,{"$f":"IF(K94>0, K93/K94, 0)","v":0},null,{"$f":"ROUND(M94*L93,0)","v":0},0,{"$f":"N93-O93","v":0},0,0,0,17,998,84,0,0,84,17,998,84,0,0,null,null,null,null,null,null,null,null,null,null,null,null,null,null,null,null,null,null,null,null,null,null,null,null,null,null,null,null,null,null,null,null,null,null,null,null,null,null,null,null,null,null,null,null,null,null,null,null,null,null,null,null,null,null,null,null,null,null,null,null,null,null,null,null,null,17,998,84,0,0,0,0]
["00170999","0017","0999",85,17,"Auburn                       ",999,"Total",28213630.357171372,1,{"$f":"SUM(K90:K93)","v":29436850.159485716},{"$f":"SUM(L90:L93)","v":0.99999999999999989},{"$f":"VLOOKUP(E94,town351,24)","v":16529757},{"$f":"SUM(N90:N93)","v":16529757},15893997,{"$f":"SUM(P90:P93)","v":635760},4.0000007550020298,2579.9999999952702,2600.99999999496,17,999,85,2600.99999999496,29436850.159485716,85,17,999,85,2600.99999999496,29436850.159485716,null,null,null,null,null,null,null,null,null,null,null,null,null,null,null,null,null,null,null,null,null,null,null,null,null,null,null,null,null,null,null,null,null,null,null,null,null,null,null,null,null,null,null,null,null,null,null,null,null,null,null,null,null,null,null,null,null,null,null,null,null,null,null,null,null,17,999,85,2578.999999999,27034705.604262039,1,15400748]
["00180018","0018","0018",86,18,"Avon                         ",18,"Avon",6653932.0309206927,0.86404640207795291,{"$f":"X95","v":7146096.0300000003},{"$f":"IF(K99>0, K95/K99, 0)","v":0.84981456092807584},null,{"$f":"ROUND(M99*L95,0)","v":4654416},4537696,{"$f":"N95-O95","v":116720},2.5722304887766834,563,586,18,18,86,586,7146096.0300000003,86,18,18,86,586,7146096.0300000003,null,null,null,null,null,null,null,null,null,null,null,null,null,null,null,null,null,null,null,null,null,null,null,null,null,null,null,null,null,null,null,null,null,null,null,null,null,null,null,null,null,null,null,null,null,null,null,null,null,null,null,null,null,null,null,null,null,null,null,null,null,null,null,null,null,18,18,86,561,6193899.0300000012,0.85466578055348863,4386495]
["00180806","0018","0806",87,18,"Avon                         ",806,"Blue Hills",957542.38353692414,0.12434167458992605,1189906.0666569248,{"$f":"IF(K99>0, K96/K99, 0)","v":0.14150376615939603},null,{"$f":"ROUND(M99*L96,0)","v":775013},653003,{"$f":"N96-O96","v":122010},18.684447085235444,54,62.999999999969994,18,806,87,62.999999999969994,1189906.0666569248,87,18,806,87,62.999999999969994,1189906.0666569248,null,null,null,null,null,null,null,null,null,null,null,null,null,null,null,null,null,null,null,null,null,null,null,null,null,null,null,null,null,null,null,null,null,null,null,null,null,null,null,null,null,null,null,null,null,null,null,null,null,null,null,null,null,null,null,null,null,null,null,null,null,null,null,null,null,18,806,87,57.999999999370004,984907.16147305619,0.1359025137245562,697507]
["00180915","0018","0915",88,18,"Avon                         ",915,"Norfolk County",89422.221323275851,1.1611923332120945E-2,73004.242556426543,{"$f":"IF(K99>0, K97/K99, 0)","v":8.6816729125282089E-3},null,{"$f":"ROUND(M99*L97,0)","v":47549},60982,{"$f":"N97-O97","v":-13433},-22.027811485356334,4.99999999978,4.0000000011000001,18,915,88,4.0000000011000001,73004.242556426543,88,18,915,88,4.0000000011000001,73004.242556426543,null,null,null,null,null,null,null,null,null,null,null,null,null,null,null,null,null,null,null,null,null,null,null,null,null,null,null,null,null,null,null,null,null,null,null,null,null,null,null,null,null,null,null,null,null,null,null,null,null,null,null,null,null,null,null,null,null,null,null,null,null,null,null,null,null,18,915,88,3.9999999986399999,68353.0735074361,9.4317057219550533E-3,48407]
["00180998","0018","0998",89,18,"",998,"",0,0,0,{"$f":"IF(K99>0, K98/K99, 0)","v":0},null,{"$f":"ROUND(M99*L98,0)","v":0},0,{"$f":"N98-O98","v":0},0,0,0,18,998,89,0,0,89,18,998,89,0,0,null,null,null,null,null,null,null,null,null,null,null,null,null,null,null,null,null,null,null,null,null,null,null,null,null,null,null,null,null,null,null,null,null,null,null,null,null,null,null,null,null,null,null,null,null,null,null,null,null,null,null,null,null,null,null,null,null,null,null,null,null,null,null,null,null,18,998,89,0,0,0,0]
["00180999","0018","0999",90,18,"Avon                         ",999,"Total",7700896.6357808933,0.99999999999999989,{"$f":"SUM(K95:K98)","v":8409006.3392133508},{"$f":"SUM(L95:L98)","v":1.0000000000000002},{"$f":"VLOOKUP(E99,town351,24)","v":5476978},{"$f":"SUM(N95:N98)","v":5476978},5251681,{"$f":"SUM(P95:P98)","v":225297},4.2899978121291067,621.99999999978002,653.00000000107002,18,999,90,653.00000000107002,8409006.3392133508,90,18,999,90,653.00000000107002,8409006.3392133508,null,null,null,null,null,null,null,null,null,null,null,null,null,null,null,null,null,null,null,null,null,null,null,null,null,null,null,null,null,null,null,null,null,null,null,null,null,null,null,null,null,null,null,null,null,null,null,null,null,null,null,null,null,null,null,null,null,null,null,null,null,null,null,null,null,18,999,90,622.99999999800991,7247159.264980494,0.99999999999999989,5132409]
["00190019","0019","0019",91,19,"Ayer                         ",19,"Ayer",0,0,{"$f":"X100","v":0},{"$f":"IF(K104>0, K100/K104, 0)","v":0},null,{"$f":"ROUND(M104*L100,0)","v":0},0,{"$f":"N100-O100","v":0},0,0,0,19,19,91,0,0,91,19,19,91,0,0,null,null,null,null,null,null,null,null,null,null,null,null,null,null,null,null,null,null,null,null,null,null,null,null,null,null,null,null,null,null,null,null,null,null,null,null,null,null,null,null,null,null,null,null,null,null,null,null,null,null,null,null,null,null,null,null,null,null,null,null,null,null,null,null,null,19,19,91,0,0,0,0]
["00190616","0019","0616",92,19,"Ayer                         ",616,"Ayer Shirley",10831730.835400015,0.92568549587183324,11092852.603712602,{"$f":"IF(K104>0, K101/K104, 0)","v":0.91897489393612342},null,{"$f":"ROUND(M104*L101,0)","v":8013738},7646864,{"$f":"N101-O101","v":366874},4.797705307692147,979.87176538560004,961.70717249879999,19,616,92,961.70717249879999,11092852.603712602,92,19,616,92,961.70717249879999,11092852.603712602,null,null,null,null,null,null,null,null,null,null,null,null,null,null,null,null,null,null,null,null,null,null,null,null,null,null,null,null,null,null,null,null,null,null,null,null,null,null,null,null,null,null,null,null,null,null,null,null,null,null,null,null,null,null,null,null,null,null,null,null,null,null,null,null,null,19,616,92,953.35439403314001,9988703.7476579864,0.92740316924910204,7215157]
["00190852","0019","0852",93,19,"Ayer                         ",852,"Nashoba Valley",869576.88056287402,7.4314504128166786E-2,978045.82551439793,{"$f":"IF(K104>0, K102/K104, 0)","v":8.1025106063876501E-2},null,{"$f":"ROUND(M104*L102,0)","v":706563},613894,{"$f":"N102-O102","v":92669},15.095277034797538,50.999999998230003,55.000000001819998,19,852,93,55.000000001819998,978045.82551439793,93,19,852,93,55.000000001819998,978045.82551439793,null,null,null,null,null,null,null,null,null,null,null,null,null,null,null,null,null,null,null,null,null,null,null,null,null,null,null,null,null,null,null,null,null,null,null,null,null,null,null,null,null,null,null,null,null,null,null,null,null,null,null,null,null,null,null,null,null,null,null,null,null,null,null,null,null,19,852,93,48.000000001760007,781912.61301891401,7.2596830750898012E-2,564800]
["00190998","0019","0998",94,19,"",998,"",0,0,0,{"$f":"IF(K104>0, K103/K104, 0)","v":0},null,{"$f":"ROUND(M104*L103,0)","v":0},0,{"$f":"N103-O103","v":0},0,0,0,19,998,94,0,0,94,19,998,94,0,0,null,null,null,null,null,null,null,null,null,null,null,null,null,null,null,null,null,null,null,null,null,null,null,null,null,null,null,null,null,null,null,null,null,null,null,null,null,null,null,null,null,null,null,null,null,null,null,null,null,null,null,null,null,null,null,null,null,null,null,null,null,null,null,null,null,19,998,94,0,0,0,0]
["00190999","0019","0999",95,19,"Ayer                         ",999,"Total",11701307.715962889,1,{"$f":"SUM(K100:K103)","v":12070898.429227},{"$f":"SUM(L100:L103)","v":0.99999999999999989},{"$f":"VLOOKUP(E104,town351,24)","v":8720301},{"$f":"SUM(N100:N103)","v":8720301},8260758,{"$f":"SUM(P100:P103)","v":459543},5.5629640766622144,1030.8717653838301,1016.70717250062,19,999,95,1016.70717250062,12070898.429227,95,19,999,95,1016.70717250062,12070898.429227,null,null,null,null,null,null,null,null,null,null,null,null,null,null,null,null,null,null,null,null,null,null,null,null,null,null,null,null,null,null,null,null,null,null,null,null,null,null,null,null,null,null,null,null,null,null,null,null,null,null,null,null,null,null,null,null,null,null,null,null,null,null,null,null,null,19,999,95,1001.3543940349,10770616.3606769,1,7779957]
["00200020","0020","0020",96,20,"Barnstable                   ",20,"Barnstable",63524348.519651115,0.95236023804948766,{"$f":"X105","v":66271891.590000004},{"$f":"IF(K109>0, K105/K109, 0)","v":0.94786794642009131},null,{"$f":"ROUND(M109*L105,0)","v":53244409},51296149,{"$f":"N105-O105","v":1948260},3.7980628916217474,5444,5405,20,20,96,5405,66271891.590000004,96,20,20,96,5405,66271891.590000004,null,null,null,null,null,null,null,null,null,null,null,null,null,null,null,null,null,null,null,null,null,null,null,null,null,null,null,null,null,null,null,null,null,null,null,null,null,null,null,null,null,null,null,null,null,null,null,null,null,null,null,null,null,null,null,null,null,null,null,null,null,null,null,null,null,20,20,96,5480,60393953.440000013,0.95233610100326682,49825012]
["00200815","0020","0815",97,20,"Barnstable                   ",815,"Cape Cod",3177668.1980503979,4.7639761950512394E-2,3644906.2511927038,{"$f":"IF(K109>0, K106/K109, 0)","v":5.2132053579908709E-2},null,{"$f":"ROUND(M109*L106,0)","v":2928404},2565979,{"$f":"N106-O106","v":362425},14.12423874084706,177.00000000200001,194.9999999993,20,815,97,194.9999999993,3644906.2511927038,97,20,815,97,194.9999999993,3644906.2511927038,null,null,null,null,null,null,null,null,null,null,null,null,null,null,null,null,null,null,null,null,null,null,null,null,null,null,null,null,null,null,null,null,null,null,null,null,null,null,null,null,null,null,null,null,null,null,null,null,null,null,null,null,null,null,null,null,null,null,null,null,null,null,null,null,null,20,815,97,178.99999999913999,3022684.2117452067,4.7663898996733116E-2,2493714]
["00200998","0020","0998",98,20,"",998,"",0,0,0,{"$f":"IF(K109>0, K107/K109, 0)","v":0},null,{"$f":"ROUND(M109*L107,0)","v":0},0,{"$f":"N107-O107","v":0},0,0,0,20,998,98,0,0,98,20,998,98,0,0,null,null,null,null,null,null,null,null,null,null,null,null,null,null,null,null,null,null,null,null,null,null,null,null,null,null,null,null,null,null,null,null,null,null,null,null,null,null,null,null,null,null,null,null,null,null,null,null,null,null,null,null,null,null,null,null,null,null,null,null,null,null,null,null,null,20,998,98,0,0,0,0]
["00200998","0020","0998",99,20,"",998,"",0,0,0,{"$f":"IF(K109>0, K108/K109, 0)","v":0},null,{"$f":"ROUND(M109*L108,0)","v":0},0,{"$f":"N108-O108","v":0},0,0,0,20,998,99,0,0,99,20,998,99,0,0,null,null,null,null,null,null,null,null,null,null,null,null,null,null,null,null,null,null,null,null,null,null,null,null,null,null,null,null,null,null,null,null,null,null,null,null,null,null,null,null,null,null,null,null,null,null,null,null,null,null,null,null,null,null,null,null,null,null,null,null,null,null,null,null,null,20,998,99,0,0,0,0]
["00200999","0020","0999",100,20,"Barnstable                   ",999,"Total",66702016.71770151,1,{"$f":"SUM(K105:K108)","v":69916797.841192707},{"$f":"SUM(L105:L108)","v":1},{"$f":"VLOOKUP(E109,town351,24)","v":56172813},{"$f":"SUM(N105:N108)","v":56172813},53862128,{"$f":"SUM(P105:P108)","v":2310685},4.2899994593603878,5621.000000002,5599.9999999992997,20,999,100,5599.9999999992997,69916797.841192707,100,20,999,100,5599.9999999992997,69916797.841192707,null,null,null,null,null,null,null,null,null,null,null,null,null,null,null,null,null,null,null,null,null,null,null,null,null,null,null,null,null,null,null,null,null,null,null,null,null,null,null,null,null,null,null,null,null,null,null,null,null,null,null,null,null,null,null,null,null,null,null,null,null,null,null,null,null,20,999,100,5658.9999999991396,63416637.651745223,0.99999999999999989,52318726]
["00210021","0021","0021",101,21,"Barre                        ",21,"Barre",0,0,{"$f":"X110","v":0},{"$f":"IF(K114>0, K110/K114, 0)","v":0},null,{"$f":"ROUND(M114*L110,0)","v":0},0,{"$f":"N110-O110","v":0},0,0,0,21,21,101,0,0,101,21,21,101,0,0,null,null,null,null,null,null,null,null,null,null,null,null,null,null,null,null,null,null,null,null,null,null,null,null,null,null,null,null,null,null,null,null,null,null,null,null,null,null,null,null,null,null,null,null,null,null,null,null,null,null,null,null,null,null,null,null,null,null,null,null,null,null,null,null,null,21,21,101,0,0,0,0]
["00210753","0021","0753",102,21,"Barre                        ",753,"Quabbin",8382080.5050408645,0.89001281326073134,8467542.974365579,{"$f":"IF(K114>0, K111/K114, 0)","v":0.89891917209724459},null,{"$f":"ROUND(M114*L111,0)","v":3418427},3263850,{"$f":"N111-O111","v":154577},4.7360325995373564,756.74428062179993,734.59384615086003,21,753,102,734.59384615086003,8467542.974365579,102,21,753,102,734.59384615086003,8467542.974365579,null,null,null,null,null,null,null,null,null,null,null,null,null,null,null,null,null,null,null,null,null,null,null,null,null,null,null,null,null,null,null,null,null,null,null,null,null,null,null,null,null,null,null,null,null,null,null,null,null,null,null,null,null,null,null,null,null,null,null,null,null,null,null,null,null,21,753,102,790.17784118112002,8357183.3803429389,0.92128557053975568,3282113]
["00210832","0021","0832",103,21,"Barre                        ",832,"Montachusett",1035851.8889114395,0.10998718673926863,952150.40541870019,{"$f":"IF(K114>0, K112/K114, 0)","v":0.10108082790275552},null,{"$f":"ROUND(M114*L112,0)","v":384392},403344,{"$f":"N112-O112","v":-18952},-4.6987187115712645,61.000000007099999,53.999999993279992,21,832,103,53.999999993279992,952150.40541870019,103,21,832,103,53.999999993279992,952150.40541870019,null,null,null,null,null,null,null,null,null,null,null,null,null,null,null,null,null,null,null,null,null,null,null,null,null,null,null,null,null,null,null,null,null,null,null,null,null,null,null,null,null,null,null,null,null,null,null,null,null,null,null,null,null,null,null,null,null,null,null,null,null,null,null,null,null,21,832,103,44.029609684279997,714035.84590272664,7.8714429460244331E-2,280423]
["00210998","0021","0998",104,21,"",998,"",0,0,0,{"$f":"IF(K114>0, K113/K114, 0)","v":0},null,{"$f":"ROUND(M114*L113,0)","v":0},0,{"$f":"N113-O113","v":0},0,0,0,21,998,104,0,0,104,21,998,104,0,0,null,null,null,null,null,null,null,null,null,null,null,null,null,null,null,null,null,null,null,null,null,null,null,null,null,null,null,null,null,null,null,null,null,null,null,null,null,null,null,null,null,null,null,null,null,null,null,null,null,null,null,null,null,null,null,null,null,null,null,null,null,null,null,null,null,21,998,104,0,0,0,0]
["00210999","0021","0999",105,21,"Barre                        ",999,"Total",9417932.3939523045,1,{"$f":"SUM(K110:K113)","v":9419693.3797842786},{"$f":"SUM(L110:L113)","v":1},{"$f":"VLOOKUP(E114,town351,24)","v":3802819},{"$f":"SUM(N110:N113)","v":3802819},3667194,{"$f":"SUM(P110:P113)","v":135625},3.6983317490157326,817.7442806288999,788.59384614414,21,999,105,788.59384614414,9419693.3797842786,105,21,999,105,788.59384614414,9419693.3797842786,null,null,null,null,null,null,null,null,null,null,null,null,null,null,null,null,null,null,null,null,null,null,null,null,null,null,null,null,null,null,null,null,null,null,null,null,null,null,null,null,null,null,null,null,null,null,null,null,null,null,null,null,null,null,null,null,null,null,null,null,null,null,null,null,null,21,999,105,834.20745086540001,9071219.2262456659,1,3562536]
["00220022","0022","0022",106,22,"Becket                       ",22,"Becket",143717.97255353359,5.5632037240035438E-2,{"$f":"X115","v":191989.22},{"$f":"IF(K119>0, K115/K119, 0)","v":8.0472663690047574E-2},null,{"$f":"ROUND(M119*L115,0)","v":158391},108529,{"$f":"N115-O115","v":49862},45.94348054437063,10,11,22,22,106,11,191989.22,106,22,22,106,11,191989.22,null,null,null,null,null,null,null,null,null,null,null,null,null,null,null,null,null,null,null,null,null,null,null,null,null,null,null,null,null,null,null,null,null,null,null,null,null,null,null,null,null,null,null,null,null,null,null,null,null,null,null,null,null,null,null,null,null,null,null,null,null,null,null,null,null,22,22,106,13,206187.50999999995,8.5171800846464016E-2,157270]
["00220635","0022","0635",107,22,"Becket                       ",635,"Central Berkshire",2439649.0886495993,0.9443679627599646,2193780.1977922954,{"$f":"IF(K119>0, K116/K119, 0)","v":0.91952733630995231},null,{"$f":"ROUND(M119*L116,0)","v":1809869},1842302,{"$f":"N116-O116","v":-32433},-1.7604605542413785,213.50221659423997,187.16978695714002,22,635,107,187.16978695714002,2193780.1977922954,107,22,635,107,187.16978695714002,2193780.1977922954,null,null,null,null,null,null,null,null,null,null,null,null,null,null,null,null,null,null,null,null,null,null,null,null,null,null,null,null,null,null,null,null,null,null,null,null,null,null,null,null,null,null,null,null,null,null,null,null,null,null,null,null,null,null,null,null,null,null,null,null,null,null,null,null,null,22,635,107,205.07042253249998,2214654.9278825382,0.91482819915353608,1689234]
["00220998","0022","0998",108,22,"",998,"",0,0,0,{"$f":"IF(K119>0, K117/K119, 0)","v":0},null,{"$f":"ROUND(M119*L117,0)","v":0},0,{"$f":"N117-O117","v":0},0,0,0,22,998,108,0,0,108,22,998,108,0,0,null,null,null,null,null,null,null,null,null,null,null,null,null,null,null,null,null,null,null,null,null,null,null,null,null,null,null,null,null,null,null,null,null,null,null,null,null,null,null,null,null,null,null,null,null,null,null,null,null,null,null,null,null,null,null,null,null,null,null,null,null,null,null,null,null,22,998,108,0,0,0,0]
["00220998","0022","0998",109,22,"",998,"",0,0,0,{"$f":"IF(K119>0, K118/K119, 0)","v":0},null,{"$f":"ROUND(M119*L118,0)","v":0},0,{"$f":"N118-O118","v":0},0,0,0,22,998,109,0,0,109,22,998,109,0,0,null,null,null,null,null,null,null,null,null,null,null,null,null,null,null,null,null,null,null,null,null,null,null,null,null,null,null,null,null,null,null,null,null,null,null,null,null,null,null,null,null,null,null,null,null,null,null,null,null,null,null,null,null,null,null,null,null,null,null,null,null,null,null,null,null,22,998,109,0,0,0,0]
["00220999","0022","0999",110,22,"Becket                       ",999,"Total",2583367.0612031328,1,{"$f":"SUM(K115:K118)","v":2385769.4177922956},{"$f":"SUM(L115:L118)","v":0.99999999999999989},{"$f":"VLOOKUP(E119,town351,24)","v":1968260},{"$f":"SUM(N115:N118)","v":1968260},1950831,{"$f":"SUM(P115:P118)","v":17429},0.89341413992293539,223.50221659423997,198.16978695714002,22,999,110,198.16978695714002,2385769.4177922956,110,22,999,110,198.16978695714002,2385769.4177922956,null,null,null,null,null,null,null,null,null,null,null,null,null,null,null,null,null,null,null,null,null,null,null,null,null,null,null,null,null,null,null,null,null,null,null,null,null,null,null,null,null,null,null,null,null,null,null,null,null,null,null,null,null,null,null,null,null,null,null,null,null,null,null,null,null,22,999,110,218.07042253249998,2420842.437882538,1,1846504]
["00230023","0023","0023",111,23,"Bedford                      ",23,"Bedford",29672258.159568485,0.98560202903151806,{"$f":"X120","v":31014582.858640004},{"$f":"IF(K124>0, K120/K124, 0)","v":0.98153024626896868},null,{"$f":"ROUND(M124*L120,0)","v":25095756},24098559,{"$f":"N120-O120","v":997197},4.1379943091203089,2693,2707,23,23,111,2707,31014582.858640004,111,23,23,111,2707,31014582.858640004,null,null,null,null,null,null,null,null,null,null,null,null,null,null,null,null,null,null,null,null,null,null,null,null,null,null,null,null,null,null,null,null,null,null,null,null,null,null,null,null,null,null,null,null,null,null,null,null,null,null,null,null,null,null,null,null,null,null,null,null,null,null,null,null,null,23,23,111,2661,27912085.889699996,0.98926233892926507,23027471]
["00230871","0023","0871",112,23,"Bedford                      ",871,"Shawsheen Valley",433461.27439547563,1.4397970968481938E-2,583610.85625961795,{"$f":"IF(K124>0, K121/K124, 0)","v":1.8469753731031328E-2},null,{"$f":"ROUND(M124*L121,0)","v":472234},352039,{"$f":"N121-O121","v":120195},34.142523981717936,26.000000003250001,34.000000004249998,23,871,112,34.000000004249998,583610.85625961795,112,23,871,112,34.000000004249998,583610.85625961795,null,null,null,null,null,null,null,null,null,null,null,null,null,null,null,null,null,null,null,null,null,null,null,null,null,null,null,null,null,null,null,null,null,null,null,null,null,null,null,null,null,null,null,null,null,null,null,null,null,null,null,null,null,null,null,null,null,null,null,null,null,null,null,null,null,23,871,112,18.999999999890001,302963.6389324569,1.0737661070735011E-2,249945]
["00230998","0023","0998",113,23,"",998,null,0,0,0,{"$f":"IF(K124>0, K122/K124, 0)","v":0},null,{"$f":"ROUND(M124*L122,0)","v":0},0,{"$f":"N122-O122","v":0},0,0,0,23,998,113,0,0,113,23,998,113,0,0,null,null,null,null,null,null,null,null,null,null,null,null,null,null,null,null,null,null,null,null,null,null,null,null,null,null,null,null,null,null,null,null,null,null,null,null,null,null,null,null,null,null,null,null,null,null,null,null,null,null,null,null,null,null,null,null,null,null,null,null,null,null,null,null,null,23,998,113,0,0,0,0]
["00230998","0023","0998",114,23,"",998,"",0,0,0,{"$f":"IF(K124>0, K123/K124, 0)","v":0},null,{"$f":"ROUND(M124*L123,0)","v":0},0,{"$f":"N123-O123","v":0},0,0,0,23,998,114,0,0,114,23,998,114,0,0,null,null,null,null,null,null,null,null,null,null,null,null,null,null,null,null,null,null,null,null,null,null,null,null,null,null,null,null,null,null,null,null,null,null,null,null,null,null,null,null,null,null,null,null,null,null,null,null,null,null,null,null,null,null,null,null,null,null,null,null,null,null,null,null,null,23,998,114,0,0,0,0]
["00230999","0023","0999",115,23,"Bedford                      ",999,"Total",30105719.433963962,1,{"$f":"SUM(K120:K123)","v":31598193.714899622},{"$f":"SUM(L120:L123)","v":1},{"$f":"VLOOKUP(E124,town351,24)","v":25567990},{"$f":"SUM(N120:N123)","v":25567990},24450598,{"$f":"SUM(P120:P123)","v":1117392},4.5699986560655903,2719.0000000032501,2741.0000000042501,23,999,115,2741.0000000042501,31598193.714899622,115,23,999,115,2741.0000000042501,31598193.714899622,null,null,null,null,null,null,null,null,null,null,null,null,null,null,null,null,null,null,null,null,null,null,null,null,null,null,null,null,null,null,null,null,null,null,null,null,null,null,null,null,null,null,null,null,null,null,null,null,null,null,null,null,null,null,null,null,null,null,null,null,null,null,null,null,null,23,999,115,2679.99999999989,28215049.528632451,1,23277416]
["00240024","0024","0024",116,24,"Belchertown                  ",24,"Belchertown",24514320.307211746,0.92930795218220696,{"$f":"X125","v":24966439.98},{"$f":"IF(K129>0, K125/K129, 0)","v":0.94076664249320197},null,{"$f":"ROUND(M129*L125,0)","v":12725953},12048062,{"$f":"N125-O125","v":677891},5.626556370642847,2310,2278,24,24,116,2278,24966439.98,116,24,24,116,2278,24966439.98,null,null,null,null,null,null,null,null,null,null,null,null,null,null,null,null,null,null,null,null,null,null,null,null,null,null,null,null,null,null,null,null,null,null,null,null,null,null,null,null,null,null,null,null,null,null,null,null,null,null,null,null,null,null,null,null,null,null,null,null,null,null,null,null,null,24,24,116,2344,23863029.98,0.9302301329373136,11563925]
["00240860","0024","0860",117,24,"Belchertown                  ",860,"Pathfinder",1864793.5803290415,7.0692047817793022E-2,1571958.4413496496,{"$f":"IF(K129>0, K126/K129, 0)","v":5.9233357506798083E-2},null,{"$f":"ROUND(M129*L126,0)","v":801262},916491,{"$f":"N126-O126","v":-115229},-12.572845778081836,105.00000000041,83.999999998159993,24,860,117,83.999999998159993,1571958.4413496496,117,24,860,117,83.999999998159993,1571958.4413496496,null,null,null,null,null,null,null,null,null,null,null,null,null,null,null,null,null,null,null,null,null,null,null,null,null,null,null,null,null,null,null,null,null,null,null,null,null,null,null,null,null,null,null,null,null,null,null,null,null,null,null,null,null,null,null,null,null,null,null,null,null,null,null,null,null,24,860,117,106.00000000200001,1789794.1277824608,6.9769867062686466E-2,867327]
["00240998","0024","0998",118,24,"",998,"",0,0,0,{"$f":"IF(K129>0, K127/K129, 0)","v":0},null,{"$f":"ROUND(M129*L127,0)","v":0},0,{"$f":"N127-O127","v":0},0,0,0,24,998,118,0,0,118,24,998,118,0,0,null,null,null,null,null,null,null,null,null,null,null,null,null,null,null,null,null,null,null,null,null,null,null,null,null,null,null,null,null,null,null,null,null,null,null,null,null,null,null,null,null,null,null,null,null,null,null,null,null,null,null,null,null,null,null,null,null,null,null,null,null,null,null,null,null,24,998,118,0,0,0,0]
["00240998","0024","0998",119,24,"",998,"",0,0,0,{"$f":"IF(K129>0, K128/K129, 0)","v":0},null,{"$f":"ROUND(M129*L128,0)","v":0},0,{"$f":"N128-O128","v":0},0,0,0,24,998,119,0,0,119,24,998,119,0,0,null,null,null,null,null,null,null,null,null,null,null,null,null,null,null,null,null,null,null,null,null,null,null,null,null,null,null,null,null,null,null,null,null,null,null,null,null,null,null,null,null,null,null,null,null,null,null,null,null,null,null,null,null,null,null,null,null,null,null,null,null,null,null,null,null,24,998,119,0,0,0,0]
["00240999","0024","0999",120,24,"Belchertown                  ",999,"Total",26379113.887540787,1,{"$f":"SUM(K125:K128)","v":26538398.421349648},{"$f":"SUM(L125:L128)","v":1},{"$f":"VLOOKUP(E129,town351,24)","v":13527215},{"$f":"SUM(N125:N128)","v":13527215},12964553,{"$f":"SUM(P125:P128)","v":562662},4.3400030837931709,2415.0000000004102,2361.9999999981601,24,999,120,2361.9999999981601,26538398.421349648,120,24,999,120,2361.9999999981601,26538398.421349648,null,null,null,null,null,null,null,null,null,null,null,null,null,null,null,null,null,null,null,null,null,null,null,null,null,null,null,null,null,null,null,null,null,null,null,null,null,null,null,null,null,null,null,null,null,null,null,null,null,null,null,null,null,null,null,null,null,null,null,null,null,null,null,null,null,24,999,120,2450.000000002,25652824.107782461,1,12431252]
["00250025","0025","0025",121,25,"Bellingham                   ",25,"Bellingham",24541929.425553497,0.94445730634953107,{"$f":"X130","v":24980756.82},{"$f":"IF(K134>0, K130/K134, 0)","v":0.93913886873856545},null,{"$f":"ROUND(M134*L130,0)","v":17111076},16455942,{"$f":"N130-O130","v":655134},3.9811394571030938,2286,2247,25,25,121,2247,24980756.82,121,25,25,121,2247,24980756.82,null,null,null,null,null,null,null,null,null,null,null,null,null,null,null,null,null,null,null,null,null,null,null,null,null,null,null,null,null,null,null,null,null,null,null,null,null,null,null,null,null,null,null,null,null,null,null,null,null,null,null,null,null,null,null,null,null,null,null,null,null,null,null,null,null,25,25,121,2330,23842628.519999996,0.94405038572867028,15794941]
["00250805","0025","0805",122,25,"Bellingham                   ",805,"Blackstone Valley",1067715.6984090691,4.1089348558575885E-2,1144356.669960652,{"$f":"IF(K134>0, K131/K134, 0)","v":4.3021507963275495E-2},null,{"$f":"ROUND(M134*L131,0)","v":783850},715929,{"$f":"N131-O131","v":67921},9.4871139456566222,66.000000000420002,68.000000004360004,25,805,122,68.000000004360004,1144356.669960652,122,25,805,122,68.000000004360004,1144356.669960652,null,null,null,null,null,null,null,null,null,null,null,null,null,null,null,null,null,null,null,null,null,null,null,null,null,null,null,null,null,null,null,null,null,null,null,null,null,null,null,null,null,null,null,null,null,null,null,null,null,null,null,null,null,null,null,null,null,null,null,null,null,null,null,null,null,25,805,122,71.0000000048,1105456.3720827997,4.377061503917537E-2,732328]
["00250915","0025","0915",123,25,"Bellingham                   ",915,"Norfolk County",375573.32959753362,1.445334509189313E-2,474527.57649175281,{"$f":"IF(K134>0, K132/K134, 0)","v":1.7839623298159059E-2},null,{"$f":"ROUND(M134*L132,0)","v":325037},251831,{"$f":"N132-O132","v":73206},29.06949501848462,21.000000001300002,26.000000000300002,25,915,123,26.000000000300002,474527.57649175281,123,25,915,123,26.000000000300002,474527.57649175281,null,null,null,null,null,null,null,null,null,null,null,null,null,null,null,null,null,null,null,null,null,null,null,null,null,null,null,null,null,null,null,null,null,null,null,null,null,null,null,null,null,null,null,null,null,null,null,null,null,null,null,null,null,null,null,null,null,null,null,null,null,null,null,null,null,25,915,123,17.999999999500002,307588.83087949856,1.2178999232154349E-2,203767]
["00250998","0025","0998",124,25,"",998,"",0,0,0,{"$f":"IF(K134>0, K133/K134, 0)","v":0},null,{"$f":"ROUND(M134*L133,0)","v":0},0,{"$f":"N133-O133","v":0},0,0,0,25,998,124,0,0,124,25,998,124,0,0,null,null,null,null,null,null,null,null,null,null,null,null,null,null,null,null,null,null,null,null,null,null,null,null,null,null,null,null,null,null,null,null,null,null,null,null,null,null,null,null,null,null,null,null,null,null,null,null,null,null,null,null,null,null,null,null,null,null,null,null,null,null,null,null,null,25,998,124,0,0,0,0]
["00250999","0025","0999",125,25,"Bellingham                   ",999,"Total",25985218.453560099,1.0000000000000002,{"$f":"SUM(K130:K133)","v":26599641.066452406},{"$f":"SUM(L130:L133)","v":1},{"$f":"VLOOKUP(E134,town351,24)","v":18219964},{"$f":"SUM(N130:N133)","v":18219963},17423702,{"$f":"SUM(P130:P133)","v":796261},4.5699874802725624,2373.0000000017203,2341.0000000046603,25,999,125,2341.0000000046603,26599641.066452406,125,25,999,125,2341.0000000046603,26599641.066452406,null,null,null,null,null,null,null,null,null,null,null,null,null,null,null,null,null,null,null,null,null,null,null,null,null,null,null,null,null,null,null,null,null,null,null,null,null,null,null,null,null,null,null,null,null,null,null,null,null,null,null,null,null,null,null,null,null,null,null,null,null,null,null,null,null,25,999,125,2419.0000000042996,25255673.722962294,1,16731036]
["00260026","0026","0026",126,26,"Belmont                      ",26,"Belmont",47857221.466895089,0.98935189929161871,{"$f":"X135","v":50111563.269849993},{"$f":"IF(K139>0, K135/K139, 0)","v":1},null,{"$f":"ROUND(M139*L135,0)","v":40662179},38364680,{"$f":"N135-O135","v":2297499},5.9885785571520476,4517,4594,26,26,126,4594,50111563.269849993,126,26,26,126,4594,50111563.269849993,null,null,null,null,null,null,null,null,null,null,null,null,null,null,null,null,null,null,null,null,null,null,null,null,null,null,null,null,null,null,null,null,null,null,null,null,null,null,null,null,null,null,null,null,null,null,null,null,null,null,null,null,null,null,null,null,null,null,null,null,null,null,null,null,null,26,26,126,4488,45512607.460039996,0.99139429869875051,36735671]
["00260830","0026","0830",127,26,null,998,null,515073.06365680188,1.0648100708381372E-2,0,{"$f":"IF(K139>0, K136/K139, 0)","v":0},null,{"$f":"ROUND(M139*L136,0)","v":0},412908,{"$f":"N136-O136","v":-412908},-100,27.99999999888,0,26,830,127,0,0,127,26,830,127,0,0,null,null,null,null,null,null,null,null,null,null,null,null,null,null,null,null,null,null,null,null,null,null,null,null,null,null,null,null,null,null,null,null,null,null,null,null,null,null,null,null,null,null,null,null,null,null,null,null,null,null,null,null,null,null,null,null,null,null,null,null,null,null,null,null,null,26,830,127,22.064516128259999,395067.74020810821,8.6057013012493626E-3,318880]
["00260998","0026","0998",128,26,"",998,"",0,0,0,{"$f":"IF(K139>0, K137/K139, 0)","v":0},null,{"$f":"ROUND(M139*L137,0)","v":0},0,{"$f":"N137-O137","v":0},0,0,0,26,998,128,0,0,128,26,998,128,0,0,null,null,null,null,null,null,null,null,null,null,null,null,null,null,null,null,null,null,null,null,null,null,null,null,null,null,null,null,null,null,null,null,null,null,null,null,null,null,null,null,null,null,null,null,null,null,null,null,null,null,null,null,null,null,null,null,null,null,null,null,null,null,null,null,null,26,998,128,0,0,0,0]
[{"$f":"B138&C138","v":"00260998"},"0026","0998",129,26,"",998,"",0,0,0,{"$f":"IF(K139>0, K138/K139, 0)","v":0},null,{"$f":"ROUND(M139*L138,0)","v":0},0,{"$f":"N138-O138","v":0},0,0,0,{"$f":"VLOOKUP($D138, foundoptions, VLOOKUP($T$6, foundoptcell, 2, FALSE), FALSE)","v":26},{"$f":"VLOOKUP($D138, foundoptions, VLOOKUP($T$6, foundoptcell, 2, FALSE)+1, FALSE)","v":998},{"$f":"VLOOKUP($D138, foundoptions, VLOOKUP($T$6, foundoptcell, 2, FALSE)+2, FALSE)","v":129},{"$f":"VLOOKUP($D138, foundoptions, VLOOKUP($T$6, foundoptcell, 2, FALSE)+3, FALSE)","v":0},{"$f":"VLOOKUP($D138, foundoptions, VLOOKUP($T$6, foundoptcell, 2, FALSE)+4, FALSE)","v":0},129,26,998,129,0,0,null,null,null,null,null,null,null,null,null,null,null,null,null,null,null,null,null,null,null,null,null,null,null,null,null,null,null,null,null,null,null,null,null,null,null,null,null,null,null,null,null,null,null,null,null,null,null,null,null,null,null,null,null,null,null,null,null,null,null,null,null,null,null,null,null,26,998,129,0,0,0,0]
["00260999","0026","0999",130,26,"Belmont                      ",999,"Total",48372294.530551888,1,{"$f":"SUM(K135:K138)","v":50111563.269849993},{"$f":"SUM(L135:L138)","v":1},{"$f":"VLOOKUP(E139,town351,24)","v":40662179},{"$f":"SUM(N135:N138)","v":40662179},38777588,{"$f":"SUM(P135:P138)","v":1884591},4.8600005755902096,4544.9999999988804,4594,26,999,130,4594,50111563.269849993,{"$f":"D139","v":130},26,999,130,4594,50111563.269849993,null,null,null,null,null,null,null,null,null,null,null,null,null,null,null,null,null,null,null,null,null,null,null,null,null,null,null,null,null,null,null,null,null,null,null,null,null,null,null,null,null,null,null,null,null,null,null,null,null,null,null,null,null,null,null,null,null,null,null,null,null,null,null,null,null,26,999,130,4510.06451612826,45907675.200248107,0.99999999999999989,37054551]
["00270027","0027","0027",131,27,"Berkley                      ",27,"Berkley",7578024.2998736957,0.61056057473588599,{"$f":"X140","v":8088546.29},{"$f":"IF(K144>0, K140/K144, 0)","v":0.61333525516262433},null,{"$f":"ROUND(M144*L140,0)","v":4198889},3944412,{"$f":"N140-O140","v":254477},6.4515826440037198,742,764,27,27,131,764,8088546.29,131,27,27,131,764,8088546.29,null,null,null,null,null,null,null,null,null,null,null,null,null,null,null,null,null,null,null,null,null,null,null,null,null,null,null,null,null,null,null,null,null,null,null,null,null,null,null,null,null,null,null,null,null,null,null,null,null,null,null,null,null,null,null,null,null,null,null,null,null,null,null,null,null,27,27,131,774,7541762.2899999991,0.61734776765051458,3837447]
["00270763","0027","0763",132,27,"Berkley                      ",763,"Somerset Berkley",3153707.4447912099,0.25409385795617684,3466421.7068575029,{"$f":"IF(K144>0, K141/K144, 0)","v":0.26285052540345993},null,{"$f":"ROUND(M144*L141,0)","v":1799473},1641526,{"$f":"N141-O141","v":157947},9.6219615162964214,269.99999999764003,286.00000000182001,27,763,132,286.00000000182001,3466421.7068575029,132,27,763,132,286.00000000182001,3466421.7068575029,null,null,null,null,null,null,null,null,null,null,null,null,null,null,null,null,null,null,null,null,null,null,null,null,null,null,null,null,null,null,null,null,null,null,null,null,null,null,null,null,null,null,null,null,null,null,null,null,null,null,null,null,null,null,null,null,null,null,null,null,null,null,null,null,null,27,763,132,265.00000000054001,2968320.1392593281,0.24297846327954351,1510359]
["00270810","0027","0810",133,27,"Berkley                      ",810,"Bristol Plymouth",1508256.1381100875,0.12152002924413574,1438734.7190285288,{"$f":"IF(K144>0, K142/K144, 0)","v":0.10909583680044556},null,{"$f":"ROUND(M144*L142,0)","v":746869},785057,{"$f":"N142-O142","v":-38188},-4.864360167478285,89.199700819399993,80.299177268419996,27,810,133,80.299177268419996,1438734.7190285288,133,27,810,133,80.299177268419996,1438734.7190285288,null,null,null,null,null,null,null,null,null,null,null,null,null,null,null,null,null,null,null,null,null,null,null,null,null,null,null,null,null,null,null,null,null,null,null,null,null,null,null,null,null,null,null,null,null,null,null,null,null,null,null,null,null,null,null,null,null,null,null,null,null,null,null,null,null,27,810,133,93.211043872999994,1512814.3458258095,0.12383479130648085,769760]
["00270910","0027","0910",134,27,"Berkley                      ",910,"Bristol County",171596.83697499812,1.3825538063801301E-2,194103.17317107407,{"$f":"IF(K144>0, K143/K144, 0)","v":1.4718382633470195E-2},null,{"$f":"ROUND(M144*L143,0)","v":100762},89317,{"$f":"N143-O143","v":11445},12.81391000593392,10.00000000038,10.9999999998,27,910,134,10.9999999998,194103.17317107407,134,27,910,134,10.9999999998,194103.17317107407,null,null,null,null,null,null,null,null,null,null,null,null,null,null,null,null,null,null,null,null,null,null,null,null,null,null,null,null,null,null,null,null,null,null,null,null,null,null,null,null,null,null,null,null,null,null,null,null,null,null,null,null,null,null,null,null,null,null,null,null,null,null,null,null,null,27,910,134,12.000000000450001,193495.16021291161,1.5838977763461125E-2,98455]
["00270999","0027","0999",135,27,"Berkley                      ",999,"Total",12411584.719749993,0.99999999999999989,{"$f":"SUM(K140:K143)","v":13187805.889057105},{"$f":"SUM(L140:L143)","v":1},{"$f":"VLOOKUP(E144,town351,24)","v":6845993},{"$f":"SUM(N140:N143)","v":6845993},6460312,{"$f":"SUM(P140:P143)","v":385681},{"$f":"IF(O144>0,P144*100/O144,IF(P144>0,100,0))","v":5.9700057830024305},1111.1997008174201,1141.2991772700398,27,999,135,1141.2991772700398,13187805.889057105,135,27,999,135,1141.2991772700398,13187805.889057105,null,null,null,null,null,null,null,null,null,null,null,null,null,null,null,null,null,null,null,null,null,null,null,null,null,null,null,null,null,null,null,null,null,null,null,null,null,null,null,null,null,null,null,null,null,null,null,null,null,null,null,null,null,null,null,null,null,null,null,null,null,null,null,null,null,27,999,135,1144.2110438739899,12216391.935298048,1.0000000000000002,6216021]
["00280028","0028","0028",136,28,"Berlin                       ",28,"Berlin",0,0,{"$f":"X145","v":0},{"$f":"IF(K149>0, K145/K149, 0)","v":0},null,{"$f":"ROUND(M149*L145,0)","v":0},0,{"$f":"N145-O145","v":0},0,0,0,28,28,136,0,0,136,28,28,136,0,0,null,null,null,null,null,null,null,null,null,null,null,null,null,null,null,null,null,null,null,null,null,null,null,null,null,null,null,null,null,null,null,null,null,null,null,null,null,null,null,null,null,null,null,null,null,null,null,null,null,null,null,null,null,null,null,null,null,null,null,null,null,null,null,null,null,28,28,136,159,1639651.6628,0.409965726972017,1352713]
["00280620","0028","0620",137,28,"Berlin                       ",620,"Berlin Boylston",3549939.2359517356,0.89832429278438775,3521910.0385446176,{"$f":"IF(K149>0, K146/K149, 0)","v":0.8671219226186323},null,{"$f":"ROUND(M149*L146,0)","v":2905576},2928700,{"$f":"N146-O146","v":-23124},-0.78956533615597368,341.13929314085999,327.96757321772998,28,620,137,327.96757321772998,3521910.0385446176,137,28,620,137,327.96757321772998,3521910.0385446176,null,null,null,null,null,null,null,null,null,null,null,null,null,null,null,null,null,null,null,null,null,null,null,null,null,null,null,null,null,null,null,null,null,null,null,null,null,null,null,null,null,null,null,null,null,null,null,null,null,null,null,null,null,null,null,null,null,null,null,null,null,null,null,null,null,28,620,137,189.68602540601,1939567.2463100273,0.48495428278146069,1600143]
["00280801","0028","0801",138,28,"Berlin                       ",801,"Assabet Valley",401795.41540515231,0.1016757072156122,539698.76948638877,{"$f":"IF(K149>0, K147/K149, 0)","v":0.13287807738136773},null,{"$f":"ROUND(M149*L147,0)","v":445251},331481,{"$f":"N147-O147","v":113770},34.321725830439753,21.9999999996,28.00000000028,28,801,138,28.00000000028,539698.76948638877,138,28,801,138,28.00000000028,539698.76948638877,null,null,null,null,null,null,null,null,null,null,null,null,null,null,null,null,null,null,null,null,null,null,null,null,null,null,null,null,null,null,null,null,null,null,null,null,null,null,null,null,null,null,null,null,null,null,null,null,null,null,null,null,null,null,null,null,null,null,null,null,null,null,null,null,null,28,801,138,24.00000000228,420265.81589460158,0.10507999024652237,346719]
["00280998","0028","0998",139,28,"",998,"",0,0,0,{"$f":"IF(K149>0, K148/K149, 0)","v":0},null,{"$f":"ROUND(M149*L148,0)","v":0},0,{"$f":"N148-O148","v":0},0,0,0,28,998,139,0,0,139,28,998,139,0,0,null,null,null,null,null,null,null,null,null,null,null,null,null,null,null,null,null,null,null,null,null,null,null,null,null,null,null,null,null,null,null,null,null,null,null,null,null,null,null,null,null,null,null,null,null,null,null,null,null,null,null,null,null,null,null,null,null,null,null,null,null,null,null,null,null,28,998,139,0,0,0,0]
["00280999","0028","0999",140,28,"Berlin                       ",999,"Total",3951734.651356888,1,{"$f":"SUM(K145:K148)","v":4061608.8080310063},{"$f":"SUM(L145:L148)","v":1},{"$f":"VLOOKUP(E149,town351,24)","v":3350827},{"$f":"SUM(N145:N148)","v":3350827},3260181,{"$f":"SUM(P145:P148)","v":90646},2.780397775460933,363.13929314045998,355.96757321800999,28,999,140,355.96757321800999,4061608.8080310063,140,28,999,140,355.96757321800999,4061608.8080310063,null,null,null,null,null,null,null,null,null,null,null,null,null,null,null,null,null,null,null,null,null,null,null,null,null,null,null,null,null,null,null,null,null,null,null,null,null,null,null,null,null,null,null,null,null,null,null,null,null,null,null,null,null,null,null,null,null,null,null,null,null,null,null,null,null,28,999,140,372.68602540828999,3999484.7250046288,1,3299575]
["00290029","0029","0029",141,29,"Bernardston                  ",29,"Bernardston",0,0,{"$f":"X150","v":0},{"$f":"IF(K154>0, K150/K154, 0)","v":0},null,{"$f":"ROUND(M154*L150,0)","v":0},0,{"$f":"N150-O150","v":0},0,0,0,29,29,141,0,0,141,29,29,141,0,0,null,null,null,null,null,null,null,null,null,null,null,null,null,null,null,null,null,null,null,null,null,null,null,null,null,null,null,null,null,null,null,null,null,null,null,null,null,null,null,null,null,null,null,null,null,null,null,null,null,null,null,null,null,null,null,null,null,null,null,null,null,null,null,null,null,29,29,141,0,0,0,0]
["00290750","0029","0750",142,29,"Bernardston                  ",750,"Pioneer",2585034.2817923231,0.83441339108895951,2725344.7744387682,{"$f":"IF(K154>0, K151/K154, 0)","v":0.83877412631635018},null,{"$f":"ROUND(M154*L151,0)","v":1436251},1380201,{"$f":"N151-O151","v":56050},4.0610027090257148,236.22317596224002,235.80386329960001,29,750,142,235.80386329960001,2725344.7744387682,142,29,750,142,235.80386329960001,2725344.7744387682,null,null,null,null,null,null,null,null,null,null,null,null,null,null,null,null,null,null,null,null,null,null,null,null,null,null,null,null,null,null,null,null,null,null,null,null,null,null,null,null,null,null,null,null,null,null,null,null,null,null,null,null,null,null,null,null,null,null,null,null,null,null,null,null,null,29,750,142,239.63456090574002,2510445.9837737447,0.84620465233210007,1412356]
["00290818","0029","0818",143,29,"Bernardston                  ",818,"Franklin County",512991.60010142083,0.16558660891104054,523855.08632432268,{"$f":"IF(K154>0, K152/K154, 0)","v":0.16122587368364982},null,{"$f":"ROUND(M154*L152,0)","v":276070},273896,{"$f":"N152-O152","v":2174},0.79373192744691412,28.999999999600004,27.9999999986,29,818,143,27.9999999986,523855.08632432268,143,29,818,143,27.9999999986,523855.08632432268,null,null,null,null,null,null,null,null,null,null,null,null,null,null,null,null,null,null,null,null,null,null,null,null,null,null,null,null,null,null,null,null,null,null,null,null,null,null,null,null,null,null,null,null,null,null,null,null,null,null,null,null,null,null,null,null,null,null,null,null,null,null,null,null,null,29,818,143,26.999999999140002,456266.59202582581,0.15379534766789993,256692]
["00290998","0029","0998",144,29,"",998,"",0,0,0,{"$f":"IF(K154>0, K153/K154, 0)","v":0},null,{"$f":"ROUND(M154*L153,0)","v":0},0,{"$f":"N153-O153","v":0},0,0,0,29,998,144,0,0,144,29,998,144,0,0,null,null,null,null,null,null,null,null,null,null,null,null,null,null,null,null,null,null,null,null,null,null,null,null,null,null,null,null,null,null,null,null,null,null,null,null,null,null,null,null,null,null,null,null,null,null,null,null,null,null,null,null,null,null,null,null,null,null,null,null,null,null,null,null,null,29,998,144,0,0,0,0]
["00290999","0029","0999",145,29,"Bernardston                  ",999,"Total",3098025.8818937438,1,{"$f":"SUM(K150:K153)","v":3249199.8607630907},{"$f":"SUM(L150:L153)","v":1},{"$f":"VLOOKUP(E154,town351,24)","v":1712321},{"$f":"SUM(N150:N153)","v":1712321},1654097,{"$f":"SUM(P150:P153)","v":58224},3.5199870382450364,265.22317596184001,263.80386329819999,29,999,145,263.80386329819999,3249199.8607630907,145,29,999,145,263.80386329819999,3249199.8607630907,null,null,null,null,null,null,null,null,null,null,null,null,null,null,null,null,null,null,null,null,null,null,null,null,null,null,null,null,null,null,null,null,null,null,null,null,null,null,null,null,null,null,null,null,null,null,null,null,null,null,null,null,null,null,null,null,null,null,null,null,null,null,null,null,null,29,999,145,266.63456090488,2966712.5757995704,1,1669048]
["00300030","0030","0030",146,30,"Beverly                      ",30,"Beverly",49446399.057018369,0.96190075986779489,{"$f":"X155","v":52340525.960000008},{"$f":"IF(K159>0, K155/K159, 0)","v":0.9599772261525138},null,{"$f":"ROUND(M159*L155,0)","v":42077791},40188832,{"$f":"N155-O155","v":1888959},4.7002087545117011,4458,4570,30,30,146,4570,52340525.960000008,146,30,30,146,4570,52340525.960000008,null,null,null,null,null,null,null,null,null,null,null,null,null,null,null,null,null,null,null,null,null,null,null,null,null,null,null,null,null,null,null,null,null,null,null,null,null,null,null,null,null,null,null,null,null,null,null,null,null,null,null,null,null,null,null,null,null,null,null,null,null,null,null,null,null,30,30,146,4398,46490353.889999993,0.95728819937552478,38354542]
["00300817","0030","0817",147,30,"Beverly                      ",817,"Essex North Shore",1958487.1017308533,3.8099240132205107E-2,2182148.676538242,{"$f":"IF(K159>0, K156/K159, 0)","v":4.0022773847486197E-2},null,{"$f":"ROUND(M159*L156,0)","v":1754281},1591811,{"$f":"N156-O156","v":162470},10.206613724870603,117.00000000510001,120.9999999951,30,817,147,120.9999999951,2182148.676538242,147,30,817,147,120.9999999951,2182148.676538242,null,null,null,null,null,null,null,null,null,null,null,null,null,null,null,null,null,null,null,null,null,null,null,null,null,null,null,null,null,null,null,null,null,null,null,null,null,null,null,null,null,null,null,null,null,null,null,null,null,null,null,null,null,null,null,null,null,null,null,null,null,null,null,null,null,30,817,147,128.00000000115,2074283.0921830197,4.2711800624475285E-2,1711284]
["00300998","0030","0998",148,30,"",998,null,0,0,0,{"$f":"IF(K159>0, K157/K159, 0)","v":0},null,{"$f":"ROUND(M159*L157,0)","v":0},0,{"$f":"N157-O157","v":0},0,0,0,30,998,148,0,0,148,30,998,148,0,0,null,null,null,null,null,null,null,null,null,null,null,null,null,null,null,null,null,null,null,null,null,null,null,null,null,null,null,null,null,null,null,null,null,null,null,null,null,null,null,null,null,null,null,null,null,null,null,null,null,null,null,null,null,null,null,null,null,null,null,null,null,null,null,null,null,30,998,148,0,0,0,0]
["00300998","0030","0998",149,30,"",998,"",0,0,0,{"$f":"IF(K159>0, K158/K159, 0)","v":0},null,{"$f":"ROUND(M159*L158,0)","v":0},0,{"$f":"N158-O158","v":0},0,0,0,30,998,149,0,0,149,30,998,149,0,0,null,null,null,null,null,null,null,null,null,null,null,null,null,null,null,null,null,null,null,null,null,null,null,null,null,null,null,null,null,null,null,null,null,null,null,null,null,null,null,null,null,null,null,null,null,null,null,null,null,null,null,null,null,null,null,null,null,null,null,null,null,null,null,null,null,30,998,149,0,0,0,0]
["00300999","0030","0999",150,30,"Beverly                      ",999,"Total",51404886.158749223,1,{"$f":"SUM(K155:K158)","v":54522674.636538252},{"$f":"SUM(L155:L158)","v":1},{"$f":"VLOOKUP(E159,town351,24)","v":43832072},{"$f":"SUM(N155:N158)","v":43832072},41780643,{"$f":"SUM(P155:P158)","v":2051429},4.9099986326203737,4575.0000000051004,4690.9999999950996,30,999,150,4690.9999999950996,54522674.636538252,150,30,999,150,4690.9999999950996,54522674.636538252,null,null,null,null,null,null,null,null,null,null,null,null,null,null,null,null,null,null,null,null,null,null,null,null,null,null,null,null,null,null,null,null,null,null,null,null,null,null,null,null,null,null,null,null,null,null,null,null,null,null,null,null,null,null,null,null,null,null,null,null,null,null,null,null,null,30,999,150,4526.0000000011496,48564636.982183009,1,40065826]
["00310031","0031","0031",151,31,"Billerica                    ",31,"Billerica",51908631.204447828,0.84663905354012037,{"$f":"X160","v":53361602.314500012},{"$f":"IF(K164>0, K160/K164, 0)","v":0.85740842311741583},null,{"$f":"ROUND(M164*L160,0)","v":41666761},39371685,{"$f":"N160-O160","v":2295076},5.829255212216597,4866,4866,31,31,151,4866,53361602.314500012,151,31,31,151,4866,53361602.314500012,null,null,null,null,null,null,null,null,null,null,null,null,null,null,null,null,null,null,null,null,null,null,null,null,null,null,null,null,null,null,null,null,null,null,null,null,null,null,null,null,null,null,null,null,null,null,null,null,null,null,null,null,null,null,null,null,null,null,null,null,null,null,null,null,null,31,31,151,4912,50010476.058320001,0.83272915895715727,37025362]
["00310871","0031","0871",152,31,"Billerica                    ",871,"Shawsheen Valley",9402775.335798651,0.15336094645987958,8874318.0191080552,{"$f":"IF(K164>0, K161/K164, 0)","v":0.14259157688258411},null,{"$f":"ROUND(M164*L161,0)","v":6929404},7131822,{"$f":"N161-O161","v":-202418},-2.83823684887256,564.00000000525006,517.00000000199998,31,871,152,517.00000000199998,8874318.0191080552,152,31,871,152,517.00000000199998,8874318.0191080552,null,null,null,null,null,null,null,null,null,null,null,null,null,null,null,null,null,null,null,null,null,null,null,null,null,null,null,null,null,null,null,null,null,null,null,null,null,null,null,null,null,null,null,null,null,null,null,null,null,null,null,null,null,null,null,null,null,null,null,null,null,null,null,null,null,31,871,152,629.99999999776003,10045636.448835487,0.16727084104284276,7437308]
["00310998","0031","0998",153,31,"",998,null,0,0,0,{"$f":"IF(K164>0, K162/K164, 0)","v":0},null,{"$f":"ROUND(M164*L162,0)","v":0},0,{"$f":"N162-O162","v":0},0,0,0,31,998,153,0,0,153,31,998,153,0,0,null,null,null,null,null,null,null,null,null,null,null,null,null,null,null,null,null,null,null,null,null,null,null,null,null,null,null,null,null,null,null,null,null,null,null,null,null,null,null,null,null,null,null,null,null,null,null,null,null,null,null,null,null,null,null,null,null,null,null,null,null,null,null,null,null,31,998,153,0,0,0,0]
["00310998","0031","0998",154,31,"",998,"",0,0,0,{"$f":"IF(K164>0, K163/K164, 0)","v":0},null,{"$f":"ROUND(M164*L163,0)","v":0},0,{"$f":"N163-O163","v":0},0,0,0,31,998,154,0,0,154,31,998,154,0,0,null,null,null,null,null,null,null,null,null,null,null,null,null,null,null,null,null,null,null,null,null,null,null,null,null,null,null,null,null,null,null,null,null,null,null,null,null,null,null,null,null,null,null,null,null,null,null,null,null,null,null,null,null,null,null,null,null,null,null,null,null,null,null,null,null,31,998,154,0,0,0,0]
["00310999","0031","0999",155,31,"Billerica                    ",999,"Total",61311406.540246479,1,{"$f":"SUM(K160:K163)","v":62235920.333608069},{"$f":"SUM(L160:L163)","v":1},{"$f":"VLOOKUP(E164,town351,24)","v":48596165},{"$f":"SUM(N160:N163)","v":48596165},46503507,{"$f":"SUM(P160:P163)","v":2092658},4.5000003978194592,5430.0000000052496,5383.000000002,31,999,155,5383.000000002,62235920.333608069,155,31,999,155,5383.000000002,62235920.333608069,null,null,null,null,null,null,null,null,null,null,null,null,null,null,null,null,null,null,null,null,null,null,null,null,null,null,null,null,null,null,null,null,null,null,null,null,null,null,null,null,null,null,null,null,null,null,null,null,null,null,null,null,null,null,null,null,null,null,null,null,null,null,null,null,null,31,999,155,5541.9999999977599,60056112.507155485,1,44462670]
["00320032","0032","0032",156,32,"Blackstone                   ",32,"Blackstone",357718.72900887078,2.3291894542767613E-2,{"$f":"X165","v":416308.97},{"$f":"IF(K169>0, K165/K169, 0)","v":2.5508233675333111E-2},null,{"$f":"ROUND(M169*L165,0)","v":199499},174004,{"$f":"N165-O165","v":25495},14.65196202386152,23,26,32,32,156,26,416308.97,156,32,32,156,26,416308.97,null,null,null,null,null,null,null,null,null,null,null,null,null,null,null,null,null,null,null,null,null,null,null,null,null,null,null,null,null,null,null,null,null,null,null,null,null,null,null,null,null,null,null,null,null,null,null,null,null,null,null,null,null,null,null,null,null,null,null,null,null,null,null,null,null,32,32,156,20,303047.63,2.0484019443217615E-2,146874]
["00320622","0032","0622",157,32,"Blackstone                   ",622,"Blackstone Millville",13560560.651145628,0.88295949586541089,14440159.867306536,{"$f":"IF(K169>0, K166/K169, 0)","v":0.88478269445989188},null,{"$f":"ROUND(M169*L166,0)","v":6919849},6596227,{"$f":"N166-O166","v":323622},4.906168329258529,1263.4398644835198,1279.89473683662,32,622,157,1279.89473683662,14440159.867306536,157,32,622,157,1279.89473683662,14440159.867306536,null,null,null,null,null,null,null,null,null,null,null,null,null,null,null,null,null,null,null,null,null,null,null,null,null,null,null,null,null,null,null,null,null,null,null,null,null,null,null,null,null,null,null,null,null,null,null,null,null,null,null,null,null,null,null,null,null,null,null,null,null,null,null,null,null,32,622,157,1279.1344537881,13152292.87002852,0.88900818288054784,6374329]
["00320805","0032","0805",158,32,"Blackstone                   ",805,"Blackstone Valley",1439798.4418123872,9.3748609591821602E-2,1464103.3864996829,{"$f":"IF(K169>0, K167/K169, 0)","v":8.9709071864775003E-2},null,{"$f":"ROUND(M169*L167,0)","v":701611},700357,{"$f":"N167-O167","v":1254},0.17905154085702008,89.000000001700002,87.000000001560011,32,805,158,87.000000001560011,1464103.3864996829,158,32,805,158,87.000000001560011,1464103.3864996829,null,null,null,null,null,null,null,null,null,null,null,null,null,null,null,null,null,null,null,null,null,null,null,null,null,null,null,null,null,null,null,null,null,null,null,null,null,null,null,null,null,null,null,null,null,null,null,null,null,null,null,null,null,null,null,null,null,null,null,null,null,null,null,null,null,32,805,158,86.000000000400007,1339003.4928610669,9.0507797676234569E-2,648955]
["00320998","0032","0998",159,32,"",998,"",0,0,0,{"$f":"IF(K169>0, K168/K169, 0)","v":0},null,{"$f":"ROUND(M169*L168,0)","v":0},0,{"$f":"N168-O168","v":0},0,0,0,32,998,159,0,0,159,32,998,159,0,0,null,null,null,null,null,null,null,null,null,null,null,null,null,null,null,null,null,null,null,null,null,null,null,null,null,null,null,null,null,null,null,null,null,null,null,null,null,null,null,null,null,null,null,null,null,null,null,null,null,null,null,null,null,null,null,null,null,null,null,null,null,null,null,null,null,32,998,159,0,0,0,0]
["00320999","0032","0999",160,32,"Blackstone                   ",999,"Total",15358077.821966885,1,{"$f":"SUM(K165:K168)","v":16320572.223806219},{"$f":"SUM(L165:L168)","v":1},{"$f":"VLOOKUP(E169,town351,24)","v":7820959},{"$f":"SUM(N165:N168)","v":7820959},7470588,{"$f":"SUM(P165:P168)","v":350371},4.6900056595277375,1375.4398644852199,1392.8947368381801,32,999,160,1392.8947368381801,16320572.223806219,160,32,999,160,1392.8947368381801,16320572.223806219,null,null,null,null,null,null,null,null,null,null,null,null,null,null,null,null,null,null,null,null,null,null,null,null,null,null,null,null,null,null,null,null,null,null,null,null,null,null,null,null,null,null,null,null,null,null,null,null,null,null,null,null,null,null,null,null,null,null,null,null,null,null,null,null,null,32,999,160,1385.1344537885,14794343.992889587,1,7170158]
["00330033","0033","0033",161,33,"Blandford                    ",33,"Blandford",114974.37804282685,8.3152301721368588E-2,{"$f":"X170","v":104682.55},{"$f":"IF(K174>0, K170/K174, 0)","v":7.3496997054214558E-2},null,{"$f":"ROUND(M174*L170,0)","v":85498},91083,{"$f":"N170-O170","v":-5585},-6.1317699241351296,8,7,33,33,161,7,104682.55,161,33,33,161,7,104682.55,null,null,null,null,null,null,null,null,null,null,null,null,null,null,null,null,null,null,null,null,null,null,null,null,null,null,null,null,null,null,null,null,null,null,null,null,null,null,null,null,null,null,null,null,null,null,null,null,null,null,null,null,null,null,null,null,null,null,null,null,null,null,null,null,null,33,33,161,8,110697.28,8.659184341056983E-2,91325]
["00330672","0033","0672",162,33,"Blandford                    ",672,"Gateway",1267721.8993024409,0.91684769827863133,1319628.0231623515,{"$f":"IF(K174>0, K171/K174, 0)","v":0.92650300294578536},null,{"$f":"ROUND(M174*L171,0)","v":1077788},1004290,{"$f":"N171-O171","v":73498},7.3184040466399152,111.0305775736,110.62798634427999,33,672,162,110.62798634427999,1319628.0231623515,162,33,672,162,110.62798634427999,1319628.0231623515,null,null,null,null,null,null,null,null,null,null,null,null,null,null,null,null,null,null,null,null,null,null,null,null,null,null,null,null,null,null,null,null,null,null,null,null,null,null,null,null,null,null,null,null,null,null,null,null,null,null,null,null,null,null,null,null,null,null,null,null,null,null,null,null,null,33,672,162,108.00679501848001,1167682.7110014127,0.9134081565894302,963338]
["00330998","0033","0998",163,33,"",998,"",0,0,0,{"$f":"IF(K174>0, K172/K174, 0)","v":0},null,{"$f":"ROUND(M174*L172,0)","v":0},0,{"$f":"N172-O172","v":0},0,0,0,33,998,163,0,0,163,33,998,163,0,0,null,null,null,null,null,null,null,null,null,null,null,null,null,null,null,null,null,null,null,null,null,null,null,null,null,null,null,null,null,null,null,null,null,null,null,null,null,null,null,null,null,null,null,null,null,null,null,null,null,null,null,null,null,null,null,null,null,null,null,null,null,null,null,null,null,33,998,163,0,0,0,0]
["00330998","0033","0998",164,33,"",998,"",0,0,0,{"$f":"IF(K174>0, K173/K174, 0)","v":0},null,{"$f":"ROUND(M174*L173,0)","v":0},0,{"$f":"N173-O173","v":0},0,0,0,33,998,164,0,0,164,33,998,164,0,0,null,null,null,null,null,null,null,null,null,null,null,null,null,null,null,null,null,null,null,null,null,null,null,null,null,null,null,null,null,null,null,null,null,null,null,null,null,null,null,null,null,null,null,null,null,null,null,null,null,null,null,null,null,null,null,null,null,null,null,null,null,null,null,null,null,33,998,164,0,0,0,0]
["00330999","0033","0999",165,33,"Blandford                    ",999,"Total",1382696.2773452678,0.99999999999999989,{"$f":"SUM(K170:K173)","v":1424310.5731623515},{"$f":"SUM(L170:L173)","v":0.99999999999999989},{"$f":"VLOOKUP(E174,town351,24)","v":1163286},{"$f":"SUM(N170:N173)","v":1163286},1095373,{"$f":"SUM(P170:P173)","v":67913},6.1999884970690351,119.0305775736,117.62798634427999,33,999,165,117.62798634427999,1424310.5731623515,165,33,999,165,117.62798634427999,1424310.5731623515,null,null,null,null,null,null,null,null,null,null,null,null,null,null,null,null,null,null,null,null,null,null,null,null,null,null,null,null,null,null,null,null,null,null,null,null,null,null,null,null,null,null,null,null,null,null,null,null,null,null,null,null,null,null,null,null,null,null,null,null,null,null,null,null,null,33,999,165,116.00679501848001,1278379.9910014127,1,1054663]
["00340034","0034","0034",166,34,"Bolton                       ",34,"Bolton",14861.542035353355,1.3516793060595438E-3,{"$f":"X175","v":15454.140879999999},{"$f":"IF(K179>0, K175/K179, 0)","v":1.3731944582156318E-3},null,{"$f":"ROUND(M179*L175,0)","v":12750},12091,{"$f":"N175-O175","v":659},5.4503349598875195,1,1,34,34,166,1,15454.140879999999,166,34,34,166,1,15454.140879999999,null,null,null,null,null,null,null,null,null,null,null,null,null,null,null,null,null,null,null,null,null,null,null,null,null,null,null,null,null,null,null,null,null,null,null,null,null,null,null,null,null,null,null,null,null,null,null,null,null,null,null,null,null,null,null,null,null,null,null,null,null,null,null,null,null,34,34,166,1,14264.24656,1.335325678275541E-3,11464]
["00340725","0034","0725",167,34,"Bolton                       ",725,"Nashoba",10777661.124943344,0.98024427583984319,10929494.331199674,{"$f":"IF(K179>0, K176/K179, 0)","v":0.97115207912499346},null,{"$f":"ROUND(M179*L176,0)","v":9016832},8768396,{"$f":"N176-O176","v":248436},2.8333118166652147,1020.40111248316,1004.1716254454701,34,725,167,1004.1716254454701,10929494.331199674,167,34,725,167,1004.1716254454701,10929494.331199674,null,null,null,null,null,null,null,null,null,null,null,null,null,null,null,null,null,null,null,null,null,null,null,null,null,null,null,null,null,null,null,null,null,null,null,null,null,null,null,null,null,null,null,null,null,null,null,null,null,null,null,null,null,null,null,null,null,null,null,null,null,null,null,null,null,34,725,167,1037.2661167173198,10452467.174149854,0.97849176682869132,8400729]
["00340830","0034","0830",168,34,"Bolton                       ",830,"Minuteman",202350.13216045208,1.8404044854097381E-2,309204.78170024056,{"$f":"IF(K179>0, K177/K179, 0)","v":2.7474726416790926E-2},null,{"$f":"ROUND(M179*L177,0)","v":255094},164626,{"$f":"N177-O177","v":90468},54.953652521472911,11.00000000008,15.506112469049999,34,830,168,15.506112469049999,309204.78170024056,168,34,830,168,15.506112469049999,309204.78170024056,null,null,null,null,null,null,null,null,null,null,null,null,null,null,null,null,null,null,null,null,null,null,null,null,null,null,null,null,null,null,null,null,null,null,null,null,null,null,null,null,null,null,null,null,null,null,null,null,null,null,null,null,null,null,null,null,null,null,null,null,null,null,null,null,null,34,830,168,12.035190617280001,215491.49469236931,2.0172907493033281E-2,173192]
["00340998","0034","0998",169,34,"",998,"",0,0,0,{"$f":"IF(K179>0, K178/K179, 0)","v":0},null,{"$f":"ROUND(M179*L178,0)","v":0},0,{"$f":"N178-O178","v":0},0,0,0,34,998,169,0,0,169,34,998,169,0,0,null,null,null,null,null,null,null,null,null,null,null,null,null,null,null,null,null,null,null,null,null,null,null,null,null,null,null,null,null,null,null,null,null,null,null,null,null,null,null,null,null,null,null,null,null,null,null,null,null,null,null,null,null,null,null,null,null,null,null,null,null,null,null,null,null,34,998,169,0,0,0,0]
["00340999","0034","0999",170,34,"Bolton                       ",999,"Total",10994872.799139148,1,{"$f":"SUM(K175:K178)","v":11254153.253779914},{"$f":"SUM(L175:L178)","v":1},{"$f":"VLOOKUP(E179,town351,24)","v":9284676},{"$f":"SUM(N175:N178)","v":9284676},8945113,{"$f":"SUM(P175:P178)","v":339563},3.7960727829821712,1032.40111248324,1020.6777379145201,34,999,170,1020.6777379145201,11254153.253779914,170,34,999,170,1020.6777379145201,11254153.253779914,null,null,null,null,null,null,null,null,null,null,null,null,null,null,null,null,null,null,null,null,null,null,null,null,null,null,null,null,null,null,null,null,null,null,null,null,null,null,null,null,null,null,null,null,null,null,null,null,null,null,null,null,null,null,null,null,null,null,null,null,null,null,null,null,null,34,999,170,1050.3013073345999,10682222.915402222,1.0000000000000002,8585385]
["00350035","0035","0035",171,35,"Boston                       ",35,"Boston",910864776.36300993,1,{"$f":"X180","v":978722271.88964999},{"$f":"IF(K184>0, K180/K184, 0)","v":1},null,{"$f":"ROUND(M184*L180,0)","v":797151500},749907338,{"$f":"N180-O180","v":47244162},6.299999960795156,63777,62900,35,35,171,62900,978722271.88964999,171,35,35,171,62900,978722271.88964999,null,null,null,null,null,null,null,null,null,null,null,null,null,null,null,null,null,null,null,null,null,null,null,null,null,null,null,null,null,null,null,null,null,null,null,null,null,null,null,null,null,null,null,null,null,null,null,null,null,null,null,null,null,null,null,null,null,null,null,null,null,null,null,null,null,35,35,171,64508,861999611.91060007,1,711149680]
["00350998","0035","0998",172,35,"",998,null,0,0,0,{"$f":"IF(K184>0, K181/K184, 0)","v":0},null,{"$f":"ROUND(M184*L181,0)","v":0},0,{"$f":"N181-O181","v":0},0,0,0,35,998,172,0,0,172,35,998,172,0,0,null,null,null,null,null,null,null,null,null,null,null,null,null,null,null,null,null,null,null,null,null,null,null,null,null,null,null,null,null,null,null,null,null,null,null,null,null,null,null,null,null,null,null,null,null,null,null,null,null,null,null,null,null,null,null,null,null,null,null,null,null,null,null,null,null,35,998,172,0,0,0,0]
["00350998","0035","0998",173,35,"",998,"",0,0,0,{"$f":"IF(K184>0, K182/K184, 0)","v":0},null,{"$f":"ROUND(M184*L182,0)","v":0},0,{"$f":"N182-O182","v":0},0,0,0,35,998,173,0,0,173,35,998,173,0,0,null,null,null,null,null,null,null,null,null,null,null,null,null,null,null,null,null,null,null,null,null,null,null,null,null,null,null,null,null,null,null,null,null,null,null,null,null,null,null,null,null,null,null,null,null,null,null,null,null,null,null,null,null,null,null,null,null,null,null,null,null,null,null,null,null,35,998,173,0,0,0,0]
["00350998","0035","0998",174,35,"",998,"",0,0,0,{"$f":"IF(K184>0, K183/K184, 0)","v":0},null,{"$f":"ROUND(M184*L183,0)","v":0},0,{"$f":"N183-O183","v":0},0,0,0,35,998,174,0,0,174,35,998,174,0,0,null,null,null,null,null,null,null,null,null,null,null,null,null,null,null,null,null,null,null,null,null,null,null,null,null,null,null,null,null,null,null,null,null,null,null,null,null,null,null,null,null,null,null,null,null,null,null,null,null,null,null,null,null,null,null,null,null,null,null,null,null,null,null,null,null,35,998,174,0,0,0,0]
["00350999","0035","0999",175,35,"Boston                       ",999,"Total",910864776.36300993,1,{"$f":"SUM(K180:K183)","v":978722271.88964999},{"$f":"SUM(L180:L183)","v":1},{"$f":"VLOOKUP(E184,town351,24)","v":797151500},{"$f":"SUM(N180:N183)","v":797151500},749907338,{"$f":"SUM(P180:P183)","v":47244162},6.299999960795156,63777,62900,35,999,175,62900,978722271.88964999,175,35,999,175,62900,978722271.88964999,null,null,null,null,null,null,null,null,null,null,null,null,null,null,null,null,null,null,null,null,null,null,null,null,null,null,null,null,null,null,null,null,null,null,null,null,null,null,null,null,null,null,null,null,null,null,null,null,null,null,null,null,null,null,null,null,null,null,null,null,null,null,null,null,null,35,999,175,64508,861999611.91060007,1,711149680]
["00360036","0036","0036",176,36,"Bourne                       ",36,"Bourne",22123862.831195891,0.89313732890252862,{"$f":"X185","v":22886335.060000002},{"$f":"IF(K189>0, K185/K189, 0)","v":0.8748456002670415},null,{"$f":"ROUND(M189*L185,0)","v":18716872},18252187,{"$f":"N185-O185","v":464685},2.5459140868981893,2001,2012,36,36,176,2012,22886335.060000002,176,36,36,176,2012,22886335.060000002,null,null,null,null,null,null,null,null,null,null,null,null,null,null,null,null,null,null,null,null,null,null,null,null,null,null,null,null,null,null,null,null,null,null,null,null,null,null,null,null,null,null,null,null,null,null,null,null,null,null,null,null,null,null,null,null,null,null,null,null,null,null,null,null,null,36,36,176,2038,21368782.289999999,0.88295566148134563,17629245]
["00360879","0036","0879",177,36,"Bourne                       ",879,"Upper Cape Cod",2647090.2073265333,0.10686267109747148,3274092.6234838944,{"$f":"IF(K189>0, K186/K189, 0)","v":0.12515439973295839},null,{"$f":"ROUND(M189*L186,0)","v":2677614},2183849,{"$f":"N186-O186","v":493765},22.609850772649573,157.00000000317999,184.99999999809998,36,879,177,184.99999999809998,3274092.6234838944,177,36,879,177,184.99999999809998,3274092.6234838944,null,null,null,null,null,null,null,null,null,null,null,null,null,null,null,null,null,null,null,null,null,null,null,null,null,null,null,null,null,null,null,null,null,null,null,null,null,null,null,null,null,null,null,null,null,null,null,null,null,null,null,null,null,null,null,null,null,null,null,null,null,null,null,null,null,36,879,177,174.99999999767999,2832639.3919781535,0.11704433851865442,2336928]
["00360998","0036","0998",178,36,"",998,"",0,0,0,{"$f":"IF(K189>0, K187/K189, 0)","v":0},null,{"$f":"ROUND(M189*L187,0)","v":0},0,{"$f":"N187-O187","v":0},0,0,0,36,998,178,0,0,178,36,998,178,0,0,null,null,null,null,null,null,null,null,null,null,null,null,null,null,null,null,null,null,null,null,null,null,null,null,null,null,null,null,null,null,null,null,null,null,null,null,null,null,null,null,null,null,null,null,null,null,null,null,null,null,null,null,null,null,null,null,null,null,null,null,null,null,null,null,null,36,998,178,0,0,0,0]
["00360998","0036","0998",179,36,"",998,"",0,0,0,{"$f":"IF(K189>0, K188/K189, 0)","v":0},null,{"$f":"ROUND(M189*L188,0)","v":0},0,{"$f":"N188-O188","v":0},0,0,0,36,998,179,0,0,179,36,998,179,0,0,null,null,null,null,null,null,null,null,null,null,null,null,null,null,null,null,null,null,null,null,null,null,null,null,null,null,null,null,null,null,null,null,null,null,null,null,null,null,null,null,null,null,null,null,null,null,null,null,null,null,null,null,null,null,null,null,null,null,null,null,null,null,null,null,null,36,998,179,0,0,0,0]
["00360999","0036","0999",180,36,"Bourne                       ",999,"Total",24770953.038522422,1,{"$f":"SUM(K185:K188)","v":26160427.683483899},{"$f":"SUM(L185:L188)","v":0.99999999999999989},{"$f":"VLOOKUP(E189,town351,24)","v":21394486},{"$f":"SUM(N185:N188)","v":21394486},20436036,{"$f":"SUM(P185:P188)","v":958450},4.6899995674307871,2158.00000000318,2196.9999999981001,36,999,180,2196.9999999981001,26160427.683483899,180,36,999,180,2196.9999999981001,26160427.683483899,null,null,null,null,null,null,null,null,null,null,null,null,null,null,null,null,null,null,null,null,null,null,null,null,null,null,null,null,null,null,null,null,null,null,null,null,null,null,null,null,null,null,null,null,null,null,null,null,null,null,null,null,null,null,null,null,null,null,null,null,null,null,null,null,null,36,999,180,2212.9999999976799,24201421.681978151,1,19966173]
["00370037","0037","0037",181,37,"Boxborough                   ",37,"Boxborough",127474.53052282683,1.4069192876287573E-2,{"$f":"X190","v":146044.46231999999},{"$f":"IF(K194>0, K190/K194, 0)","v":1.5263773979784068E-2},null,{"$f":"ROUND(M194*L190,0)","v":118854},104905,{"$f":"N190-O190","v":13949},13.296792335922978,8,9,37,37,181,9,146044.46231999999,181,37,37,181,9,146044.46231999999,null,null,null,null,null,null,null,null,null,null,null,null,null,null,null,null,null,null,null,null,null,null,null,null,null,null,null,null,null,null,null,null,null,null,null,null,null,null,null,null,null,null,null,null,null,null,null,null,null,null,null,null,null,null,null,null,null,null,null,null,null,null,null,null,null,37,37,181,7,106694.35,1.2238709009983006E-2,87553]
["00370600","0037","0600",182,37,"Boxborough                   ",600,"Acton Boxborough",8933068.7176740393,0.98593080712371239,9421999.6212354116,{"$f":"IF(K194>0, K191/K194, 0)","v":0.98473622602021593},null,{"$f":"ROUND(M194*L191,0)","v":7667815},7351448,{"$f":"N191-O191","v":316367},4.3034651132674817,843.32089686122993,856.02185588112002,37,600,182,856.02185588112002,9421999.6212354116,182,37,600,182,856.02185588112002,9421999.6212354116,null,null,null,null,null,null,null,null,null,null,null,null,null,null,null,null,null,null,null,null,null,null,null,null,null,null,null,null,null,null,null,null,null,null,null,null,null,null,null,null,null,null,null,null,null,null,null,null,null,null,null,null,null,null,null,null,null,null,null,null,null,null,null,null,null,37,600,182,848.46071046240002,8611083.800699586,0.98776129099001708,7066196]
["00370830","0037","0830",183,37,null,998,null,0,0,0,{"$f":"IF(K194>0, K192/K194, 0)","v":0},null,{"$f":"ROUND(M194*L192,0)","v":0},0,{"$f":"N192-O192","v":0},0,0,0,37,998,183,0,0,183,37,998,183,0,0,null,null,null,null,null,null,null,null,null,null,null,null,null,null,null,null,null,null,null,null,null,null,null,null,null,null,null,null,null,null,null,null,null,null,null,null,null,null,null,null,null,null,null,null,null,null,null,null,null,null,null,null,null,null,null,null,null,null,null,null,null,null,null,null,null,37,830,183,0,0,0,0]
["00370998","0037","0998",184,37,"",998,"",0,0,0,{"$f":"IF(K194>0, K193/K194, 0)","v":0},null,{"$f":"ROUND(M194*L193,0)","v":0},0,{"$f":"N193-O193","v":0},0,0,0,37,998,184,0,0,184,37,998,184,0,0,null,null,null,null,null,null,null,null,null,null,null,null,null,null,null,null,null,null,null,null,null,null,null,null,null,null,null,null,null,null,null,null,null,null,null,null,null,null,null,null,null,null,null,null,null,null,null,null,null,null,null,null,null,null,null,null,null,null,null,null,null,null,null,null,null,37,998,184,0,0,0,0]
["00370999","0037","0999",185,37,"Boxborough",999,"Total",9060543.2481968664,1,{"$f":"SUM(K190:K193)","v":9568044.0835554115},{"$f":"SUM(L190:L193)","v":1},{"$f":"VLOOKUP(E194,town351,24)","v":7786669},{"$f":"SUM(N190:N193)","v":7786669},7456353,{"$f":"SUM(P190:P193)","v":330316},4.4299941271557284,851.32089686122993,865.02185588112002,37,999,185,865.02185588112002,9568044.0835554115,185,37,999,185,865.02185588112002,9568044.0835554115,null,null,null,null,null,null,null,null,null,null,null,null,null,null,null,null,null,null,null,null,null,null,null,null,null,null,null,null,null,null,null,null,null,null,null,null,null,null,null,null,null,null,null,null,null,null,null,null,null,null,null,null,null,null,null,null,null,null,null,null,null,null,null,null,null,37,999,185,855.46071046240002,8717778.1506995857,1,7153749]
["00380038","0038","0038",186,38,"Boxford",38,"Boxford",7004474.1685977643,0.47166866307948146,{"$f":"X195","v":7489733.5427200012},{"$f":"IF(K199>0, K195/K199, 0)","v":0.49006580603607253},null,{"$f":"ROUND(M199*L195,0)","v":6179030},5765598,{"$f":"N195-O195","v":413432},7.1706698940855746,705,729,38,38,186,729,7489733.5427200012,186,38,38,186,729,7489733.5427200012,null,null,null,null,null,null,null,null,null,null,null,null,null,null,null,null,null,null,null,null,null,null,null,null,null,null,null,null,null,null,null,null,null,null,null,null,null,null,null,null,null,null,null,null,null,null,null,null,null,null,null,null,null,null,null,null,null,null,null,null,null,null,null,null,null,38,38,186,704,6655216.9083199995,0.46771861635760403,5490554]
["00380705","0038","0705",187,38,"Boxford",705,"Masconomet",7544632.535494145,0.50804195372668159,7504835.8745924365,{"$f":"IF(K199>0, K196/K199, 0)","v":0.4910539768968748},null,{"$f":"ROUND(M199*L196,0)","v":6191489},6210219,{"$f":"N196-O196","v":-18730},-0.30159966983450986,697.52048060820005,669.88487584610004,38,705,187,669.88487584610004,7504835.8745924365,187,38,705,187,669.88487584610004,7504835.8745924365,null,null,null,null,null,null,null,null,null,null,null,null,null,null,null,null,null,null,null,null,null,null,null,null,null,null,null,null,null,null,null,null,null,null,null,null,null,null,null,null,null,null,null,null,null,null,null,null,null,null,null,null,null,null,null,null,null,null,null,null,null,null,null,null,null,38,705,187,700.75921909162003,7282191.1889215894,0.51178142408490401,6007808]
["00380817","0038","0817",188,38,"Boxford",817,"Essex North Shore",301305.70801576361,2.028938319383685E-2,288548.58535167988,{"$f":"IF(K199>0, K197/K199, 0)","v":1.8880217067052729E-2},null,{"$f":"ROUND(M199*L197,0)","v":238053},248014,{"$f":"N197-O197","v":-9961},-4.0163055311393707,18.0000000042,16.000000000700002,38,817,188,16.000000000700002,288548.58535167988,188,38,817,188,16.000000000700002,288548.58535167988,null,null,null,null,null,null,null,null,null,null,null,null,null,null,null,null,null,null,null,null,null,null,null,null,null,null,null,null,null,null,null,null,null,null,null,null,null,null,null,null,null,null,null,null,null,null,null,null,null,null,null,null,null,null,null,null,null,null,null,null,null,null,null,null,null,38,817,188,17.9999999952,291696.05975783087,2.0499959557492106E-2,240649]
["00380998","0038","0998",189,38,"",998,null,0,0,0,{"$f":"IF(K199>0, K198/K199, 0)","v":0},null,{"$f":"ROUND(M199*L198,0)","v":0},0,{"$f":"N198-O198","v":0},0,0,0,38,998,189,0,0,189,38,998,189,0,0,null,null,null,null,null,null,null,null,null,null,null,null,null,null,null,null,null,null,null,null,null,null,null,null,null,null,null,null,null,null,null,null,null,null,null,null,null,null,null,null,null,null,null,null,null,null,null,null,null,null,null,null,null,null,null,null,null,null,null,null,null,null,null,null,null,38,998,189,0,0,0,0]
["00380999","0038","0999",190,38,"Boxford                      ",999,"Total",14850412.412107674,1,{"$f":"SUM(K195:K198)","v":15283118.002664117},{"$f":"SUM(L195:L198)","v":1},{"$f":"VLOOKUP(E199,town351,24)","v":12608572},{"$f":"SUM(N195:N198)","v":12608572},12223831,{"$f":"SUM(P195:P198)","v":384741},3.1474666166441603,1420.5204806124002,1414.8848758468,38,999,190,1414.8848758468,15283118.002664117,190,38,999,190,1414.8848758468,15283118.002664117,null,null,null,null,null,null,null,null,null,null,null,null,null,null,null,null,null,null,null,null,null,null,null,null,null,null,null,null,null,null,null,null,null,null,null,null,null,null,null,null,null,null,null,null,null,null,null,null,null,null,null,null,null,null,null,null,null,null,null,null,null,null,null,null,null,38,999,190,1422.7592190868199,14229104.156999419,1.0000000000000002,11739011]
["00390039","0039","0039",191,39,"Boylston                     ",39,"Boylston",429577.71528563765,6.3107442605960157E-2,{"$f":"X200","v":446218.26999999996},{"$f":"IF(K204>0, K200/K204, 0)","v":6.2336774989325543E-2},null,{"$f":"ROUND(M204*L200,0)","v":358483},344845,{"$f":"N200-O200","v":13638},3.9548202815757802,28,28,39,39,191,28,446218.26999999996,191,39,39,191,28,446218.26999999996,null,null,null,null,null,null,null,null,null,null,null,null,null,null,null,null,null,null,null,null,null,null,null,null,null,null,null,null,null,null,null,null,null,null,null,null,null,null,null,null,null,null,null,null,null,null,null,null,null,null,null,null,null,null,null,null,null,null,null,null,null,null,null,null,null,39,39,191,286,2856144.64,0.43465356559676427,2256220]
["00390620","0039","0620",192,39,"Boylston                     ",620,"Berlin Boylston",6377507.1157049052,0.93689255739403987,6711968.3714553807,{"$f":"IF(K204>0, K201/K204, 0)","v":0.93766322501067456},null,{"$f":"ROUND(M204*L201,0)","v":5392256},5119559,{"$f":"N201-O201","v":272697},5.3265720738837077,612.86070685914001,625.03242678227002,39,620,192,625.03242678227002,6711968.3714553807,192,39,620,192,625.03242678227002,6711968.3714553807,null,null,null,null,null,null,null,null,null,null,null,null,null,null,null,null,null,null,null,null,null,null,null,null,null,null,null,null,null,null,null,null,null,null,null,null,null,null,null,null,null,null,null,null,null,null,null,null,null,null,null,null,null,null,null,null,null,null,null,null,null,null,null,null,null,39,620,192,363.31397459399,3714938.323689973,0.56534643440323562,2934626]
[{"$f":"B202&C202","v":"00390998"},"0039","0998",193,39,"",998,"",0,0,0,{"$f":"IF(K204>0, K202/K204, 0)","v":0},null,{"$f":"ROUND(M204*L202,0)","v":0},0,{"$f":"N202-O202","v":0},0,0,0,{"$f":"VLOOKUP($D202, foundoptions, VLOOKUP($T$6, foundoptcell, 2, FALSE), FALSE)","v":39},{"$f":"VLOOKUP($D202, foundoptions, VLOOKUP($T$6, foundoptcell, 2, FALSE)+1, FALSE)","v":998},{"$f":"VLOOKUP($D202, foundoptions, VLOOKUP($T$6, foundoptcell, 2, FALSE)+2, FALSE)","v":193},{"$f":"VLOOKUP($D202, foundoptions, VLOOKUP($T$6, foundoptcell, 2, FALSE)+3, FALSE)","v":0},{"$f":"VLOOKUP($D202, foundoptions, VLOOKUP($T$6, foundoptcell, 2, FALSE)+4, FALSE)","v":0},193,39,998,193,0,0,null,null,null,null,null,null,null,null,null,null,null,null,null,null,null,null,null,null,null,null,null,null,null,null,null,null,null,null,null,null,null,null,null,null,null,null,null,null,null,null,null,null,null,null,null,null,null,null,null,null,null,null,null,null,null,null,null,null,null,null,null,null,null,null,null,39,998,193,0,0,0,0]
["00390998","0039","0998",194,39,"",998,"",0,0,0,{"$f":"IF(K204>0, K203/K204, 0)","v":0},null,{"$f":"ROUND(M204*L203,0)","v":0},0,{"$f":"N203-O203","v":0},0,0,0,39,998,194,0,0,{"$f":"D203","v":194},39,998,194,0,0,null,null,null,null,null,null,null,null,null,null,null,null,null,null,null,null,null,null,null,null,null,null,null,null,null,null,null,null,null,null,null,null,null,null,null,null,null,null,null,null,null,null,null,null,null,null,null,null,null,null,null,null,null,null,null,null,null,null,null,null,null,null,null,null,null,39,998,194,0,0,0,0]
["00390999","0039","0999",195,39,"Boylston                     ",999,"Total",6807084.8309905427,1,{"$f":"SUM(K200:K203)","v":7158186.6414553802},{"$f":"SUM(L200:L203)","v":1},{"$f":"VLOOKUP(E204,town351,24)","v":5750739},{"$f":"SUM(N200:N203)","v":5750739},5464404,{"$f":"SUM(P200:P203)","v":286335},5.2400042163793161,640.86070685914001,653.03242678227002,39,999,195,653.03242678227002,7158186.6414553802,195,39,999,195,653.03242678227002,7158186.6414553802,null,null,null,null,null,null,null,null,null,null,null,null,null,null,null,null,null,null,null,null,null,null,null,null,null,null,null,null,null,null,null,null,null,null,null,null,null,null,null,null,null,null,null,null,null,null,null,null,null,null,null,null,null,null,null,null,null,null,null,null,null,null,null,null,null,39,999,195,649.31397459399,6571082.9636899736,0.99999999999999989,5190846]
["00400040","0040","0040",196,40,"Braintree                    ",40,"Braintree",63032117.839880839,0.95844004415675388,{"$f":"X205","v":65287073.726299994},{"$f":"IF(K209>0, K205/K209, 0)","v":0.95803100870663416},null,{"$f":"ROUND(M209*L205,0)","v":46505214},44795946,{"$f":"N205-O205","v":1709268},3.8156756417199005,5682,5666,40,40,196,5666,65287073.726299994,196,40,40,196,5666,65287073.726299994,null,null,null,null,null,null,null,null,null,null,null,null,null,null,null,null,null,null,null,null,null,null,null,null,null,null,null,null,null,null,null,null,null,null,null,null,null,null,null,null,null,null,null,null,null,null,null,null,null,null,null,null,null,null,null,null,null,null,null,null,null,null,null,null,null,40,40,196,5678,60365199.038079999,0.95331404401183428,42548094]
["00400806","0040","0806",197,40,"Braintree                    ",806,"Blue Hills",2447052.7578936489,3.720886166775083E-2,2549798.7143351813,{"$f":"IF(K209>0, K206/K209, 0)","v":3.7416077867637225E-2},null,{"$f":"ROUND(M209*L206,0)","v":1816270},1739082,{"$f":"N206-O206","v":77188},4.4384336103760491,137.99999999808,135.00000000366001,40,806,197,135.00000000366001,2549798.7143351813,197,40,806,197,135.00000000366001,2549798.7143351813,null,null,null,null,null,null,null,null,null,null,null,null,null,null,null,null,null,null,null,null,null,null,null,null,null,null,null,null,null,null,null,null,null,null,null,null,null,null,null,null,null,null,null,null,null,null,null,null,null,null,null,null,null,null,null,null,null,null,null,null,null,null,null,null,null,40,806,197,159.99999999975,2716985.2730543874,4.2907838613141083E-2,1915053]
["00400915","0040","0915",198,40,"Braintree                    ",915,"Norfolk County",286151.10822453897,4.3510941754951781E-3,310268.03077729896,{"$f":"IF(K209>0, K207/K209, 0)","v":4.5529134257284859E-3},null,{"$f":"ROUND(M209*L207,0)","v":221010},203363,{"$f":"N207-O207","v":17647},8.6775863849372801,15.99999999874,16.99999999988,40,915,198,16.99999999988,310268.03077729896,198,40,915,198,16.99999999988,310268.03077729896,null,null,null,null,null,null,null,null,null,null,null,null,null,null,null,null,null,null,null,null,null,null,null,null,null,null,null,null,null,null,null,null,null,null,null,null,null,null,null,null,null,null,null,null,null,null,null,null,null,null,null,null,null,null,null,null,null,null,null,null,null,null,null,null,null,40,915,198,14.00000000086,239235.75737206239,3.7781173750247076E-3,168624]
["00400998","0040","0998",199,40,"",998,"",0,0,0,{"$f":"IF(K209>0, K208/K209, 0)","v":0},null,{"$f":"ROUND(M209*L208,0)","v":0},0,{"$f":"N208-O208","v":0},{"$f":"IF(O208>0,P208*100/O208,IF(P208>0,100,0))","v":0},0,0,40,998,199,0,0,199,40,998,199,0,0,null,null,null,null,null,null,null,null,null,null,null,null,null,null,null,null,null,null,null,null,null,null,null,null,null,null,null,null,null,null,null,null,null,null,null,null,null,null,null,null,null,null,null,null,null,null,null,null,null,null,null,null,null,null,null,null,null,null,null,null,null,null,null,null,null,40,998,199,0,0,0,0]
["00400999","0040","0999",200,40,"Braintree                    ",999,"Total",65765321.705999032,0.99999999999999989,{"$f":"SUM(K205:K208)","v":68147140.47141248},{"$f":"SUM(L205:L208)","v":0.99999999999999989},{"$f":"VLOOKUP(E209,town351,24)","v":48542493},{"$f":"SUM(N205:N208)","v":48542494},46738391,{"$f":"SUM(P205:P208)","v":1804103},{"$f":"IF(O209>0,P209*100/O209,IF(P209>0,100,0))","v":3.8600023693584147},5835.9999999968204,5818.0000000035398,40,999,200,5818.0000000035398,68147140.47141248,200,40,999,200,5818.0000000035398,68147140.47141248,null,null,null,null,null,null,null,null,null,null,null,null,null,null,null,null,null,null,null,null,null,null,null,null,null,null,null,null,null,null,null,null,null,null,null,null,null,null,null,null,null,null,null,null,null,null,null,null,null,null,null,null,null,null,null,null,null,null,null,null,null,null,null,null,null,40,999,200,5852.0000000006103,63321420.068506442,1,44631771]
["00410041","0041","0041",201,41,"Brewster                     ",41,"Brewster",5028082.1512436774,0.41375279597578629,{"$f":"X210","v":5236465.6000000006},{"$f":"IF(K214>0, K210/K214, 0)","v":0.41716035785208067},null,{"$f":"ROUND(M214*L210,0)","v":4208916},4091479,{"$f":"N210-O210","v":117437},2.8702823599974483,477,468,41,41,201,468,5236465.6000000006,201,41,41,201,468,5236465.6000000006,null,null,null,null,null,null,null,null,null,null,null,null,null,null,null,null,null,null,null,null,null,null,null,null,null,null,null,null,null,null,null,null,null,null,null,null,null,null,null,null,null,null,null,null,null,null,null,null,null,null,null,null,null,null,null,null,null,null,null,null,null,null,null,null,null,41,41,201,474,4845032.0600000005,0.42106958969845321,3997151]
["00410660","0041","0660",202,41,"Brewster                     ",660,"Nauset",6477994.7449640678,0.53306377211485578,6774115.7474167515,{"$f":"IF(K214>0, K211/K214, 0)","v":0.53965647159484564},null,{"$f":"ROUND(M214*L211,0)","v":5444834},5271310,{"$f":"N211-O211","v":173524},3.2918572423173744,557.47004219073995,575.99999999931993,41,660,202,575.99999999931993,6774115.7474167515,202,41,660,202,575.99999999931993,6774115.7474167515,null,null,null,null,null,null,null,null,null,null,null,null,null,null,null,null,null,null,null,null,null,null,null,null,null,null,null,null,null,null,null,null,null,null,null,null,null,null,null,null,null,null,null,null,null,null,null,null,null,null,null,null,null,null,null,null,null,null,null,null,null,null,null,null,null,41,660,202,538.00000000399996,5969108.9895400321,0.51876029755125497,4924515]
["00410815","0041","0815",203,41,"Brewster                     ",815,"Cape Cod",646305.39618389623,5.3183431909357787E-2,542062.98092275835,{"$f":"IF(K214>0, K212/K214, 0)","v":4.3183170553073705E-2},null,{"$f":"ROUND(M214*L212,0)","v":435694},525915,{"$f":"N212-O212","v":-90221},-17.155053573296065,35.999999998749999,28.999999998619998,41,815,203,28.999999998619998,542062.98092275835,203,41,815,203,28.999999998619998,542062.98092275835,null,null,null,null,null,null,null,null,null,null,null,null,null,null,null,null,null,null,null,null,null,null,null,null,null,null,null,null,null,null,null,null,null,null,null,null,null,null,null,null,null,null,null,null,null,null,null,null,null,null,null,null,null,null,null,null,null,null,null,null,null,null,null,null,null,41,815,203,40.999999999770004,692346.66302488092,6.0170112750292062E-2,571186]
["00410998","0041","0998",204,41,"",998,"",0,0,0,{"$f":"IF(K214>0, K213/K214, 0)","v":0},null,{"$f":"ROUND(M214*L213,0)","v":0},0,{"$f":"N213-O213","v":0},0,0,0,41,998,204,0,0,204,41,998,204,0,0,null,null,null,null,null,null,null,null,null,null,null,null,null,null,null,null,null,null,null,null,null,null,null,null,null,null,null,null,null,null,null,null,null,null,null,null,null,null,null,null,null,null,null,null,null,null,null,null,null,null,null,null,null,null,null,null,null,null,null,null,null,null,null,null,null,41,998,204,0,0,0,0]
["00410999","0041","0999",205,41,"Brewster                     ",999,"Total",12152382.292391643,0.99999999999999989,{"$f":"SUM(K210:K213)","v":12552644.32833951},{"$f":"SUM(L210:L213)","v":1},{"$f":"VLOOKUP(E214,town351,24)","v":10089445},{"$f":"SUM(N210:N213)","v":10089444},9888704,{"$f":"SUM(P210:P213)","v":200740},2.0299930102063932,1070.47004218949,1072.99999999794,41,999,205,1072.99999999794,12552644.32833951,205,41,999,205,1072.99999999794,12552644.32833951,null,null,null,null,null,null,null,null,null,null,null,null,null,null,null,null,null,null,null,null,null,null,null,null,null,null,null,null,null,null,null,null,null,null,null,null,null,null,null,null,null,null,null,null,null,null,null,null,null,null,null,null,null,null,null,null,null,null,null,null,null,null,null,null,null,41,999,205,1053.0000000037699,11506487.712564912,1.0000000000000002,9492852]
["00420042","0042","0042",206,42,"Bridgewater                  ",42,"Bridgewater",129346.17529818021,3.5381653295885615E-3,{"$f":"X215","v":119637.19999999998},{"$f":"IF(K219>0, K215/K219, 0)","v":3.1239540408819861E-3},null,{"$f":"ROUND(M219*L215,0)","v":75139},81640,{"$f":"N215-O215","v":-6501},-7.9630083292503677,9,8,42,42,206,8,119637.19999999998,206,42,42,206,8,119637.19999999998,null,null,null,null,null,null,null,null,null,null,null,null,null,null,null,null,null,null,null,null,null,null,null,null,null,null,null,null,null,null,null,null,null,null,null,null,null,null,null,null,null,null,null,null,null,null,null,null,null,null,null,null,null,null,null,null,null,null,null,null,null,null,null,null,null,42,42,206,9,124534.43999999997,3.6297525957805221E-3,80047]
["00420625","0042","0625",207,42,"Bridgewater                  ",625,"Bridgewater Raynham",34462250.989443891,0.94268842004286901,35803172.691720061,{"$f":"IF(K219>0, K216/K219, 0)","v":0.93488869688269605},null,{"$f":"ROUND(M219*L216,0)","v":22486290},21751623,{"$f":"N216-O216","v":734667},3.3775272769300937,3279.4102840768001,3293.5388749677604,42,625,207,3293.5388749677604,35803172.691720061,207,42,625,207,3293.5388749677604,35803172.691720061,null,null,null,null,null,null,null,null,null,null,null,null,null,null,null,null,null,null,null,null,null,null,null,null,null,null,null,null,null,null,null,null,null,null,null,null,null,null,null,null,null,null,null,null,null,null,null,null,null,null,null,null,null,null,null,null,null,null,null,null,null,null,null,null,null,42,625,207,3214.1528569008196,32297860.965700362,0.94137207890772467,20760059]
["00420810","0042","0810",208,42,"Bridgewater                  ",810,"Bristol Plymouth",1965816.988999963,5.3773414627542558E-2,2373912.2861205568,{"$f":"IF(K219>0, K217/K219, 0)","v":6.1987349076421949E-2},null,{"$f":"ROUND(M219*L217,0)","v":1490943},1240769,{"$f":"N217-O217","v":250174},20.162818381181349,116.2602842142,132.49364247745999,42,810,208,132.49364247745999,2373912.2861205568,208,42,810,208,132.49364247745999,2373912.2861205568,null,null,null,null,null,null,null,null,null,null,null,null,null,null,null,null,null,null,null,null,null,null,null,null,null,null,null,null,null,null,null,null,null,null,null,null,null,null,null,null,null,null,null,null,null,null,null,null,null,null,null,null,null,null,null,null,null,null,null,null,null,null,null,null,null,42,810,208,116.263237523,1886951.2271162928,5.4998168496494679E-2,1212873]
["00420998","0042","0998",209,42,"",998,"",0,0,0,{"$f":"IF(K219>0, K218/K219, 0)","v":0},null,{"$f":"ROUND(M219*L218,0)","v":0},0,{"$f":"N218-O218","v":0},0,0,0,42,998,209,0,0,209,42,998,209,0,0,null,null,null,null,null,null,null,null,null,null,null,null,null,null,null,null,null,null,null,null,null,null,null,null,null,null,null,null,null,null,null,null,null,null,null,null,null,null,null,null,null,null,null,null,null,null,null,null,null,null,null,null,null,null,null,null,null,null,null,null,null,null,null,null,null,42,998,209,0,0,0,0]
["00420999","0042","0999",210,42,"Bridgewater                  ",999,"Total",36557414.15374203,1.0000000000000002,{"$f":"SUM(K215:K218)","v":38296722.17784062},{"$f":"SUM(L215:L218)","v":1},{"$f":"VLOOKUP(E219,town351,24)","v":24052371},{"$f":"SUM(N215:N218)","v":24052372},23074032,{"$f":"SUM(P215:P218)","v":978340},4.2400045210997366,3404.6705682910001,3434.0325174452205,42,999,210,3434.0325174452205,38296722.17784062,210,42,999,210,3434.0325174452205,38296722.17784062,null,null,null,null,null,null,null,null,null,null,null,null,null,null,null,null,null,null,null,null,null,null,null,null,null,null,null,null,null,null,null,null,null,null,null,null,null,null,null,null,null,null,null,null,null,null,null,null,null,null,null,null,null,null,null,null,null,null,null,null,null,null,null,null,null,42,999,210,3339.4160944238197,34309346.632816657,0.99999999999999978,22052979]
["00430043","0043","0043",211,43,"Brimfield                    ",43,"Brimfield",2714228.2124121352,0.45118657340068891,{"$f":"X220","v":3087351.5799999996},{"$f":"IF(K224>0, K220/K224, 0)","v":0.48560574031988463},null,{"$f":"ROUND(M224*L220,0)","v":1718016},1546449,{"$f":"N220-O220","v":171567},11.094255290669139,262,283,43,43,211,283,3087351.5799999996,211,43,43,211,283,3087351.5799999996,null,null,null,null,null,null,null,null,null,null,null,null,null,null,null,null,null,null,null,null,null,null,null,null,null,null,null,null,null,null,null,null,null,null,null,null,null,null,null,null,null,null,null,null,null,null,null,null,null,null,null,null,null,null,null,null,null,null,null,null,null,null,null,null,null,43,43,211,264,2588960.9799999995,0.46358548464623306,1544601]
["00430770","0043","0770",212,43,"Brimfield                    ",770,"Tantasqua",3301527.5135493479,0.54881342659931109,3270381.2959875423,{"$f":"IF(K224>0, K221/K224, 0)","v":0.51439425968011532},null,{"$f":"ROUND(M224*L221,0)","v":1819866},1881067,{"$f":"N221-O221","v":-61201},-3.2535257914789852,264.00000000149998,251.63949043804001,43,770,212,251.63949043804001,3270381.2959875423,212,43,770,212,251.63949043804001,3270381.2959875423,null,null,null,null,null,null,null,null,null,null,null,null,null,null,null,null,null,null,null,null,null,null,null,null,null,null,null,null,null,null,null,null,null,null,null,null,null,null,null,null,null,null,null,null,null,null,null,null,null,null,null,null,null,null,null,null,null,null,null,null,null,null,null,null,null,43,770,212,253.99999999439999,2995685.3597698119,0.53641451535376694,1787257]
["00430998","0043","0998",213,43,"",998,"",0,0,0,{"$f":"IF(K224>0, K222/K224, 0)","v":0},null,{"$f":"ROUND(M224*L222,0)","v":0},0,{"$f":"N222-O222","v":0},0,0,0,43,998,213,0,0,213,43,998,213,0,0,null,null,null,null,null,null,null,null,null,null,null,null,null,null,null,null,null,null,null,null,null,null,null,null,null,null,null,null,null,null,null,null,null,null,null,null,null,null,null,null,null,null,null,null,null,null,null,null,null,null,null,null,null,null,null,null,null,null,null,null,null,null,null,null,null,43,998,213,0,0,0,0]
["00430998","0043","0998",214,43,"",998,"",0,0,0,{"$f":"IF(K224>0, K223/K224, 0)","v":0},null,{"$f":"ROUND(M224*L223,0)","v":0},0,{"$f":"N223-O223","v":0},0,0,0,43,998,214,0,0,214,43,998,214,0,0,null,null,null,null,null,null,null,null,null,null,null,null,null,null,null,null,null,null,null,null,null,null,null,null,null,null,null,null,null,null,null,null,null,null,null,null,null,null,null,null,null,null,null,null,null,null,null,null,null,null,null,null,null,null,null,null,null,null,null,null,null,null,null,null,null,43,998,214,0,0,0,0]
["00430999","0043","0999",215,43,"Brimfield                    ",999,"Total",6015755.7259614831,1,{"$f":"SUM(K220:K223)","v":6357732.8759875419},{"$f":"SUM(L220:L223)","v":1},{"$f":"VLOOKUP(E224,town351,24)","v":3537882},{"$f":"SUM(N220:N223)","v":3537882},3427516,{"$f":"SUM(P220:P223)","v":110366},3.2199995565301518,526.00000000149998,534.63949043803996,43,999,215,534.63949043803996,6357732.8759875419,215,43,999,215,534.63949043803996,6357732.8759875419,null,null,null,null,null,null,null,null,null,null,null,null,null,null,null,null,null,null,null,null,null,null,null,null,null,null,null,null,null,null,null,null,null,null,null,null,null,null,null,null,null,null,null,null,null,null,null,null,null,null,null,null,null,null,null,null,null,null,null,null,null,null,null,null,null,43,999,215,517.99999999440001,5584646.3397698114,1,3331858]
["00440044","0044","0044",216,44,"Brockton                     ",44,"Brockton",232535452.17106631,0.93195984051277847,{"$f":"X225","v":255706156.15000001},{"$f":"IF(K229>0, K225/K229, 0)","v":0.93457574760523299},null,{"$f":"ROUND(M229*L225,0)","v":48112285},46034943,{"$f":"N225-O225","v":2077342},4.5125330121512262,17723,17498,44,44,216,17498,255706156.15000001,216,44,44,216,17498,255706156.15000001,null,null,null,null,null,null,null,null,null,null,null,null,null,null,null,null,null,null,null,null,null,null,null,null,null,null,null,null,null,null,null,null,null,null,null,null,null,null,null,null,null,null,null,null,null,null,null,null,null,null,null,null,null,null,null,null,null,null,null,null,null,null,null,null,null,44,44,216,17828,219005794.21000001,0.93101125730823808,43627822]
["00440872","0044","0872",217,44,"Brockton                     ",872,"Southeastern",16976857.33265841,6.804015948722153E-2,17900511.693911202,{"$f":"IF(K229>0, K226/K229, 0)","v":6.5424252394766902E-2},null,{"$f":"ROUND(M229*L226,0)","v":3368063},3360901,{"$f":"N226-O226","v":7162},0.21309761876353989,973.27141923303009,945.24620461890993,44,872,217,945.24620461890993,17900511.693911202,217,44,872,217,945.24620461890993,17900511.693911202,null,null,null,null,null,null,null,null,null,null,null,null,null,null,null,null,null,null,null,null,null,null,null,null,null,null,null,null,null,null,null,null,null,null,null,null,null,null,null,null,null,null,null,null,null,null,null,null,null,null,null,null,null,null,null,null,null,null,null,null,null,null,null,null,null,44,872,217,965.27936297760004,16228519.543836612,6.8988742691761862E-2,3232859]
["00440998","0044","0998",218,44,"",998,"",0,0,0,{"$f":"IF(K229>0, K227/K229, 0)","v":0},null,{"$f":"ROUND(M229*L227,0)","v":0},0,{"$f":"N227-O227","v":0},0,0,0,44,998,218,0,0,218,44,998,218,0,0,null,null,null,null,null,null,null,null,null,null,null,null,null,null,null,null,null,null,null,null,null,null,null,null,null,null,null,null,null,null,null,null,null,null,null,null,null,null,null,null,null,null,null,null,null,null,null,null,null,null,null,null,null,null,null,null,null,null,null,null,null,null,null,null,null,44,998,218,0,0,0,0]
["00440998","0044","0998",219,44,"",998,"",0,0,0,{"$f":"IF(K229>0, K228/K229, 0)","v":0},null,{"$f":"ROUND(M229*L228,0)","v":0},0,{"$f":"N228-O228","v":0},0,0,0,44,998,219,0,0,219,44,998,219,0,0,null,null,null,null,null,null,null,null,null,null,null,null,null,null,null,null,null,null,null,null,null,null,null,null,null,null,null,null,null,null,null,null,null,null,null,null,null,null,null,null,null,null,null,null,null,null,null,null,null,null,null,null,null,null,null,null,null,null,null,null,null,null,null,null,null,44,998,219,0,0,0,0]
["00440999","0044","0999",220,44,"Brockton                     ",999,"Total",249512309.50372472,1,{"$f":"SUM(K225:K228)","v":273606667.84391123},{"$f":"SUM(L225:L228)","v":0.99999999999999989},{"$f":"VLOOKUP(E229,town351,24)","v":51480348},{"$f":"SUM(N225:N228)","v":51480348},49395844,{"$f":"SUM(P225:P228)","v":2084504},4.2199987513119526,18696.271419233031,18443.24620461891,44,999,220,18443.24620461891,273606667.84391123,220,44,999,220,18443.24620461891,273606667.84391123,null,null,null,null,null,null,null,null,null,null,null,null,null,null,null,null,null,null,null,null,null,null,null,null,null,null,null,null,null,null,null,null,null,null,null,null,null,null,null,null,null,null,null,null,null,null,null,null,null,null,null,null,null,null,null,null,null,null,null,null,null,null,null,null,null,44,999,220,18793.279362977599,235234313.75383663,1,46860681]
["00450045","0045","0045",221,45,"Brookfield                   ",45,"Brookfield",2740659.0357464454,0.48576007754751416,{"$f":"X230","v":2908398.07},{"$f":"IF(K234>0, K230/K234, 0)","v":0.48714365461197856},null,{"$f":"ROUND(M234*L230,0)","v":1200512},1155170,{"$f":"N230-O230","v":45342},3.925136559986842,246,253,45,45,221,253,2908398.07,221,45,45,221,253,2908398.07,null,null,null,null,null,null,null,null,null,null,null,null,null,null,null,null,null,null,null,null,null,null,null,null,null,null,null,null,null,null,null,null,null,null,null,null,null,null,null,null,null,null,null,null,null,null,null,null,null,null,null,null,null,null,null,null,null,null,null,null,null,null,null,null,null,45,45,221,245,2539081.3000000003,0.48131524942331566,1093626]
["00450770","0045","0770",222,45,"Brookfield                   ",770,"Tantasqua",2901342.3604641571,0.51423992245248584,3061910.7751734178,{"$f":"IF(K234>0, K231/K234, 0)","v":0.5128563453880215},null,{"$f":"ROUND(M234*L231,0)","v":1263878},1222896,{"$f":"N231-O231","v":40982},3.3512252881684135,232.00000000709997,235.59872611084,45,770,222,235.59872611084,3061910.7751734178,222,45,770,222,235.59872611084,3061910.7751734178,null,null,null,null,null,null,null,null,null,null,null,null,null,null,null,null,null,null,null,null,null,null,null,null,null,null,null,null,null,null,null,null,null,null,null,null,null,null,null,null,null,null,null,null,null,null,null,null,null,null,null,null,null,null,null,null,null,null,null,null,null,null,null,null,null,45,770,222,231.99999999263997,2736216.5490546101,0.51868475057668439,1178536]
["00450998","0045","0998",223,45,"",998,"",0,0,0,{"$f":"IF(K234>0, K232/K234, 0)","v":0},null,{"$f":"ROUND(M234*L232,0)","v":0},0,{"$f":"N232-O232","v":0},0,0,0,45,998,223,0,0,223,45,998,223,0,0,null,null,null,null,null,null,null,null,null,null,null,null,null,null,null,null,null,null,null,null,null,null,null,null,null,null,null,null,null,null,null,null,null,null,null,null,null,null,null,null,null,null,null,null,null,null,null,null,null,null,null,null,null,null,null,null,null,null,null,null,null,null,null,null,null,45,998,223,0,0,0,0]
["00450998","0045","0998",224,45,"",998,"",0,0,0,{"$f":"IF(K234>0, K233/K234, 0)","v":0},null,{"$f":"ROUND(M234*L233,0)","v":0},0,{"$f":"N233-O233","v":0},0,0,0,45,998,224,0,0,224,45,998,224,0,0,null,null,null,null,null,null,null,null,null,null,null,null,null,null,null,null,null,null,null,null,null,null,null,null,null,null,null,null,null,null,null,null,null,null,null,null,null,null,null,null,null,null,null,null,null,null,null,null,null,null,null,null,null,null,null,null,null,null,null,null,null,null,null,null,null,45,998,224,0,0,0,0]
["00450999","0045","0999",225,45,"Brookfield                   ",999,"Total",5642001.3962106025,1,{"$f":"SUM(K230:K233)","v":5970308.8451734176},{"$f":"SUM(L230:L233)","v":1},{"$f":"VLOOKUP(E234,town351,24)","v":2464390},{"$f":"SUM(N230:N233)","v":2464390},2378066,{"$f":"SUM(P230:P233)","v":86324},3.6300085868096175,478.00000000709997,488.59872611084,45,999,225,488.59872611084,5970308.8451734176,225,45,999,225,488.59872611084,5970308.8451734176,null,null,null,null,null,null,null,null,null,null,null,null,null,null,null,null,null,null,null,null,null,null,null,null,null,null,null,null,null,null,null,null,null,null,null,null,null,null,null,null,null,null,null,null,null,null,null,null,null,null,null,null,null,null,null,null,null,null,null,null,null,null,null,null,null,45,999,225,476.99999999263997,5275297.8490546104,1,2272162]
["00460046","0046","0046",226,46,"Brookline                    ",46,"Brookline",83235896.760623336,0.99978518159780994,{"$f":"X235","v":84668729.879460007},{"$f":"IF(K239>0, K235/K239, 0)","v":0.99978448799981989},null,{"$f":"ROUND(M239*L235,0)","v":69851702},68669614,{"$f":"N235-O235","v":1182088},1.7214134915626582,7737,7648,46,46,226,7648,84668729.879460007,226,46,46,226,7648,84668729.879460007,null,null,null,null,null,null,null,null,null,null,null,null,null,null,null,null,null,null,null,null,null,null,null,null,null,null,null,null,null,null,null,null,null,null,null,null,null,null,null,null,null,null,null,null,null,null,null,null,null,null,null,null,null,null,null,null,null,null,null,null,null,null,null,null,null,46,46,226,7664,79599261.272049993,1,64824584]
["00460915","0046","0915",227,46,"Brookline                    ",915,"Norfolk County",17884.444254711419,2.1481840219004402E-4,18251.060651608612,{"$f":"IF(K239>0, K236/K239, 0)","v":2.1551200017999551E-4},null,{"$f":"ROUND(M239*L236,0)","v":15057},14755,{"$f":"N236-O236","v":302},2.0467638088783464,0.99999999939999995,1.0000000009599999,46,915,227,1.0000000009599999,18251.060651608612,227,46,915,227,1.0000000009599999,18251.060651608612,null,null,null,null,null,null,null,null,null,null,null,null,null,null,null,null,null,null,null,null,null,null,null,null,null,null,null,null,null,null,null,null,null,null,null,null,null,null,null,null,null,null,null,null,null,null,null,null,null,null,null,null,null,null,null,null,null,null,null,null,null,null,null,null,null,46,915,227,0,0,0,0]
["00460998","0046","0998",228,46,"",998,"",0,0,0,{"$f":"IF(K239>0, K237/K239, 0)","v":0},null,{"$f":"ROUND(M239*L237,0)","v":0},0,{"$f":"N237-O237","v":0},0,0,0,46,998,228,0,0,228,46,998,228,0,0,null,null,null,null,null,null,null,null,null,null,null,null,null,null,null,null,null,null,null,null,null,null,null,null,null,null,null,null,null,null,null,null,null,null,null,null,null,null,null,null,null,null,null,null,null,null,null,null,null,null,null,null,null,null,null,null,null,null,null,null,null,null,null,null,null,46,998,228,0,0,0,0]
["00460998","0046","0998",229,46,"",998,"",0,0,0,{"$f":"IF(K239>0, K238/K239, 0)","v":0},null,{"$f":"ROUND(M239*L238,0)","v":0},0,{"$f":"N238-O238","v":0},0,0,0,46,998,229,0,0,229,46,998,229,0,0,null,null,null,null,null,null,null,null,null,null,null,null,null,null,null,null,null,null,null,null,null,null,null,null,null,null,null,null,null,null,null,null,null,null,null,null,null,null,null,null,null,null,null,null,null,null,null,null,null,null,null,null,null,null,null,null,null,null,null,null,null,null,null,null,null,46,998,229,0,0,0,0]
["00460999","0046","0999",230,46,"Brookline                    ",999,"Total",83253781.204878047,1,{"$f":"SUM(K235:K238)","v":84686980.940111622},{"$f":"SUM(L235:L238)","v":0.99999999999999989},{"$f":"VLOOKUP(E239,town351,24)","v":69866759},{"$f":"SUM(N235:N238)","v":69866759},68684369,{"$f":"SUM(P235:P238)","v":1182390},1.7214833843781836,7737.9999999993997,7649.0000000009604,46,999,230,7649.0000000009604,84686980.940111622,230,46,999,230,7649.0000000009604,84686980.940111622,null,null,null,null,null,null,null,null,null,null,null,null,null,null,null,null,null,null,null,null,null,null,null,null,null,null,null,null,null,null,null,null,null,null,null,null,null,null,null,null,null,null,null,null,null,null,null,null,null,null,null,null,null,null,null,null,null,null,null,null,null,null,null,null,null,46,999,230,7664,79599261.272049993,1,64824584]
["00470047","0047","0047",231,47,"Buckland                     ",47,"Buckland",28743.594510706713,1.1693380418842703E-2,{"$f":"X240","v":29909.299999999996},{"$f":"IF(K244>0, K240/K244, 0)","v":1.2291915050114408E-2},null,{"$f":"ROUND(M244*L240,0)","v":16962},15670,{"$f":"N240-O240","v":1292},8.2450542437779202,2,2,47,47,231,2,29909.299999999996,231,47,47,231,2,29909.299999999996,null,null,null,null,null,null,null,null,null,null,null,null,null,null,null,null,null,null,null,null,null,null,null,null,null,null,null,null,null,null,null,null,null,null,null,null,null,null,null,null,null,null,null,null,null,null,null,null,null,null,null,null,null,null,null,null,null,null,null,null,null,null,null,null,null,47,47,231,2,27674.32,1.257357497360783E-2,17242]
["00470717","0047","0717",232,47,"Buckland                     ",717,"Mohawk Trail",2287849.6999204918,0.93073595483474802,2291085.8518804903,{"$f":"IF(K244>0, K241/K244, 0)","v":0.9415744488782416},null,{"$f":"ROUND(M244*L241,0)","v":1299289},1247289,{"$f":"N241-O241","v":52000},4.1690418178946498,199.77777777330002,196.29629629875001,47,717,232,196.29629629875001,2291085.8518804903,232,47,717,232,196.29629629875001,2291085.8518804903,null,null,null,null,null,null,null,null,null,null,null,null,null,null,null,null,null,null,null,null,null,null,null,null,null,null,null,null,null,null,null,null,null,null,null,null,null,null,null,null,null,null,null,null,null,null,null,null,null,null,null,null,null,null,null,null,null,null,null,null,null,null,null,null,null,47,717,232,188.48297872692001,2055024.9154851404,0.93368183382589021,1280353]
["00470818","0047","0818",233,47,"Buckland                     ",818,"Franklin County",141514.92416308497,5.7570664746409338E-2,112254.661355212,{"$f":"IF(K244>0, K242/K244, 0)","v":4.6133636071644162E-2},null,{"$f":"ROUND(M244*L242,0)","v":63660},77151,{"$f":"N242-O242","v":-13491},-17.486487537426605,7.99999999973,5.9999999997,47,818,233,5.9999999997,112254.661355212,233,47,818,233,5.9999999997,112254.661355212,null,null,null,null,null,null,null,null,null,null,null,null,null,null,null,null,null,null,null,null,null,null,null,null,null,null,null,null,null,null,null,null,null,null,null,null,null,null,null,null,null,null,null,null,null,null,null,null,null,null,null,null,null,null,null,null,null,null,null,null,null,null,null,null,null,47,818,233,6.9999999979600007,118291.33864265657,5.3744591200501964E-2,73700]
["00470998","0047","0998",234,47,"",998,"",0,0,0,{"$f":"IF(K244>0, K243/K244, 0)","v":0},null,{"$f":"ROUND(M244*L243,0)","v":0},0,{"$f":"N243-O243","v":0},0,0,0,47,998,234,0,0,234,47,998,234,0,0,null,null,null,null,null,null,null,null,null,null,null,null,null,null,null,null,null,null,null,null,null,null,null,null,null,null,null,null,null,null,null,null,null,null,null,null,null,null,null,null,null,null,null,null,null,null,null,null,null,null,null,null,null,null,null,null,null,null,null,null,null,null,null,null,null,47,998,234,0,0,0,0]
["00470999","0047","0999",235,47,"Buckland                     ",999,"Total",2458108.2185942833,1,{"$f":"SUM(K240:K243)","v":2433249.813235702},{"$f":"SUM(L240:L243)","v":1.0000000000000002},{"$f":"VLOOKUP(E244,town351,24)","v":1379911},{"$f":"SUM(N240:N243)","v":1379911},1340110,{"$f":"SUM(P240:P243)","v":39801},2.9699800762623965,209.77777777303001,204.29629629845002,47,999,235,204.29629629845002,2433249.813235702,235,47,999,235,204.29629629845002,2433249.813235702,null,null,null,null,null,null,null,null,null,null,null,null,null,null,null,null,null,null,null,null,null,null,null,null,null,null,null,null,null,null,null,null,null,null,null,null,null,null,null,null,null,null,null,null,null,null,null,null,null,null,null,null,null,null,null,null,null,null,null,null,null,null,null,null,null,47,999,235,197.48297872488001,2200990.574127797,1,1371295]
["00480048","0048","0048",236,48,"Burlington                   ",48,"Burlington",39132795.405252784,0.95020796665103724,{"$f":"X245","v":40396821.446159996},{"$f":"IF(K249>0, K245/K249, 0)","v":0.94879936396365172},null,{"$f":"ROUND(M249*L245,0)","v":33327377},32284557,{"$f":"N245-O245","v":1042820},3.2300892343048102,3526,3518,48,48,236,3518,40396821.446159996,236,48,48,236,3518,40396821.446159996,null,null,null,null,null,null,null,null,null,null,null,null,null,null,null,null,null,null,null,null,null,null,null,null,null,null,null,null,null,null,null,null,null,null,null,null,null,null,null,null,null,null,null,null,null,null,null,null,null,null,null,null,null,null,null,null,null,null,null,null,null,null,null,null,null,48,48,236,3519,37486525.891100004,0.95105024246281056,30926384]
["00480871","0048","0871",237,48,"Burlington                   ",871,"Shawsheen Valley",2050605.2593137885,4.9792033348962622E-2,2179958.1981690973,{"$f":"IF(K249>0, K246/K249, 0)","v":5.1200636036348307E-2},null,{"$f":"ROUND(M249*L246,0)","v":1798466},1691749,{"$f":"N246-O246","v":106717},6.3080870743827839,122.99999999580001,127.00000000350001,48,871,237,127.00000000350001,2179958.1981690973,237,48,871,237,127.00000000350001,2179958.1981690973,null,null,null,null,null,null,null,null,null,null,null,null,null,null,null,null,null,null,null,null,null,null,null,null,null,null,null,null,null,null,null,null,null,null,null,null,null,null,null,null,null,null,null,null,null,null,null,null,null,null,null,null,null,null,null,null,null,null,null,null,null,null,null,null,null,48,871,237,120.99999999366999,1929400.0162695665,4.8949757537189505E-2,1591755]
["00480998","0048","0998",238,48,"",998,"",0,0,0,{"$f":"IF(K249>0, K247/K249, 0)","v":0},null,{"$f":"ROUND(M249*L247,0)","v":0},0,{"$f":"N247-O247","v":0},0,0,0,48,998,238,0,0,238,48,998,238,0,0,null,null,null,null,null,null,null,null,null,null,null,null,null,null,null,null,null,null,null,null,null,null,null,null,null,null,null,null,null,null,null,null,null,null,null,null,null,null,null,null,null,null,null,null,null,null,null,null,null,null,null,null,null,null,null,null,null,null,null,null,null,null,null,null,null,48,998,238,0,0,0,0]
["00480998","0048","0998",239,48,"",998,"",0,0,0,{"$f":"IF(K249>0, K248/K249, 0)","v":0},null,{"$f":"ROUND(M249*L248,0)","v":0},0,{"$f":"N248-O248","v":0},0,0,0,48,998,239,0,0,239,48,998,239,0,0,null,null,null,null,null,null,null,null,null,null,null,null,null,null,null,null,null,null,null,null,null,null,null,null,null,null,null,null,null,null,null,null,null,null,null,null,null,null,null,null,null,null,null,null,null,null,null,null,null,null,null,null,null,null,null,null,null,null,null,null,null,null,null,null,null,48,998,239,0,0,0,0]
["00480999","0048","0999",240,48,"Burlington                   ",999,"Total",41183400.664566576,0.99999999999999989,{"$f":"SUM(K245:K248)","v":42576779.644329093},{"$f":"SUM(L245:L248)","v":1},{"$f":"VLOOKUP(E249,town351,24)","v":35125843},{"$f":"SUM(N245:N248)","v":35125843},33976306,{"$f":"SUM(P245:P248)","v":1149537},3.3833489726634789,3648.9999999958,3645.0000000035002,48,999,240,3645.0000000035002,42576779.644329093,240,48,999,240,3645.0000000035002,42576779.644329093,null,null,null,null,null,null,null,null,null,null,null,null,null,null,null,null,null,null,null,null,null,null,null,null,null,null,null,null,null,null,null,null,null,null,null,null,null,null,null,null,null,null,null,null,null,null,null,null,null,null,null,null,null,null,null,null,null,null,null,null,null,null,null,null,null,48,999,240,3639.9999999936699,39415925.907369569,1,32518139]
["00490049","0049","0049",241,49,"Cambridge                    ",49,"Cambridge",95754602.358881176,1,{"$f":"X250","v":103658808.02008},{"$f":"IF(K254>0, K250/K254, 0)","v":1},null,{"$f":"ROUND(M254*L250,0)","v":85518517},78997547,{"$f":"N250-O250","v":6520970},8.2546487171304186,7460,7519,49,49,241,7519,103658808.02008,241,49,49,241,7519,103658808.02008,null,null,null,null,null,null,null,null,null,null,null,null,null,null,null,null,null,null,null,null,null,null,null,null,null,null,null,null,null,null,null,null,null,null,null,null,null,null,null,null,null,null,null,null,null,null,null,null,null,null,null,null,null,null,null,null,null,null,null,null,null,null,null,null,null,49,49,241,7319,88309460.905200005,1,72855305]
["00490998","0049","0998",242,49,"",998,"",0,0,0,{"$f":"IF(K254>0, K251/K254, 0)","v":0},null,{"$f":"ROUND(M254*L251,0)","v":0},0,{"$f":"N251-O251","v":0},0,0,0,49,998,242,0,0,242,49,998,242,0,0,null,null,null,null,null,null,null,null,null,null,null,null,null,null,null,null,null,null,null,null,null,null,null,null,null,null,null,null,null,null,null,null,null,null,null,null,null,null,null,null,null,null,null,null,null,null,null,null,null,null,null,null,null,null,null,null,null,null,null,null,null,null,null,null,null,49,998,242,0,0,0,0]
["00510051","0051","0051",251,51,"Carlisle                     ",51,"Carlisle",5645404.4536545286,0.60016415355803765,{"$f":"X260","v":5867349.0383599997},{"$f":"IF(K264>0, K260/K264, 0)","v":0.60641136896573178},null,{"$f":"ROUND(M264*L260,0)","v":4840563},4644791,{"$f":"N260-O260","v":195772},4.2148721008114247,571,570,51,51,251,570,5867349.0383599997,251,51,51,251,570,5867349.0383599997,null,null,null,null,null,null,null,null,null,null,null,null,null,null,null,null,null,null,null,null,null,null,null,null,null,null,null,null,null,null,null,null,null,null,null,null,null,null,null,null,null,null,null,null,null,null,null,null,null,null,null,null,null,null,null,null,null,null,null,null,null,null,null,null,null,51,51,251,575,5496906.7434400003,0.60689023130422926,4534948]
["00510998","0051","0998",254,51,"",998,"",0,0,0,{"$f":"IF(K264>0, K263/K264, 0)","v":0},null,{"$f":"ROUND(M264*L263,0)","v":0},0,{"$f":"N263-O263","v":0},0,0,0,51,998,254,0,0,254,51,998,254,0,0,null,null,null,null,null,null,null,null,null,null,null,null,null,null,null,null,null,null,null,null,null,null,null,null,null,null,null,null,null,null,null,null,null,null,null,null,null,null,null,null,null,null,null,null,null,null,null,null,null,null,null,null,null,null,null,null,null,null,null,null,null,null,null,null,null,51,998,254,0,0,0,0]
["00530053","0053","0053",261,53,"Charlemont                   ",53,"Charlemont",199628.95919998386,0.10566759550471692,{"$f":"X270","v":104682.55},{"$f":"IF(K274>0, K270/K274, 0)","v":5.9314799078278947E-2},null,{"$f":"ROUND(M274*L270,0)","v":54446},93353,{"$f":"N270-O270","v":-38907},-41.677289428299034,12,7,53,53,261,7,104682.55,261,53,53,261,7,104682.55,null,null,null,null,null,null,null,null,null,null,null,null,null,null,null,null,null,null,null,null,null,null,null,null,null,null,null,null,null,null,null,null,null,null,null,null,null,null,null,null,null,null,null,null,null,null,null,null,null,null,null,null,null,null,null,null,null,null,null,null,null,null,null,null,null,53,53,261,11,178513.19,9.2847103990850902E-2,86258]
["00540999","0054","0999",270,54,"Charlton                     ",999,"Total",24224341.983092424,1,{"$f":"SUM(K275:K278)","v":24627483.118901256},{"$f":"SUM(L275:L278)","v":1},{"$f":"VLOOKUP(E279,town351,24)","v":13319683},{"$f":"SUM(N275:N278)","v":13319683},12642068,{"$f":"SUM(P275:P278)","v":677615},5.3600012276472491,2130.185768583,2079.1538461621199,54,999,270,2079.1538461621199,24627483.118901256,270,54,999,270,2079.1538461621199,24627483.118901256,null,null,null,null,null,null,null,null,null,null,null,null,null,null,null,null,null,null,null,null,null,null,null,null,null,null,null,null,null,null,null,null,null,null,null,null,null,null,null,null,null,null,null,null,null,null,null,null,null,null,null,null,null,null,null,null,null,null,null,null,null,null,null,null,null,54,999,270,2179.72317882065,23618813.435177591,1,12147658]
["00550815","0055","0815",273,55,"Chatham                      ",815,"Cape Cod",143623.421397139,2.7475844028636606E-2,186918.26931578238,{"$f":"IF(K284>0, K282/K284, 0)","v":3.5245842779913016E-2},null,{"$f":"ROUND(M284*L282,0)","v":154208},118489,{"$f":"N282-O282","v":35719},30.14541434225962,8.0000000010000001,10.000000001239998,55,815,273,10.000000001239998,186918.26931578238,273,55,815,273,10.000000001239998,186918.26931578238,null,null,null,null,null,null,null,null,null,null,null,null,null,null,null,null,null,null,null,null,null,null,null,null,null,null,null,null,null,null,null,null,null,null,null,null,null,null,null,null,null,null,null,null,null,null,null,null,null,null,null,null,null,null,null,null,null,null,null,null,null,null,null,null,null,55,815,273,6.9999999992399999,118205.52782134562,2.2112809310034558E-2,97520]
["00560998","0056","0998",279,56,"",998,"",0,0,0,{"$f":"IF(K289>0, K288/K289, 0)","v":0},null,{"$f":"ROUND(M289*L288,0)","v":0},0,{"$f":"N288-O288","v":0},0,0,0,56,998,279,0,0,279,56,998,279,0,0,null,null,null,null,null,null,null,null,null,null,null,null,null,null,null,null,null,null,null,null,null,null,null,null,null,null,null,null,null,null,null,null,null,null,null,null,null,null,null,null,null,null,null,null,null,null,null,null,null,null,null,null,null,null,null,null,null,null,null,null,null,null,null,null,null,56,998,279,0,0,0,0]
["00570853","0057","0853",282,57,"Chelsea                      ",853,"Northeast Metropolitan",4963265.0711312471,4.7212285370519573E-2,5018920.8049684484,{"$f":"IF(K294>0, K291/K294, 0)","v":4.2729914488548459E-2},null,{"$f":"ROUND(M294*L291,0)","v":889108},921207,{"$f":"N291-O291","v":-32099},-3.4844502918453726,272.00000000502001,255.99999999940999,57,853,282,255.99999999940999,5018920.8049684484,282,57,853,282,255.99999999940999,5018920.8049684484,null,null,null,null,null,null,null,null,null,null,null,null,null,null,null,null,null,null,null,null,null,null,null,null,null,null,null,null,null,null,null,null,null,null,null,null,null,null,null,null,null,null,null,null,null,null,null,null,null,null,null,null,null,null,null,null,null,null,null,null,null,null,null,null,null,57,853,282,238.99999999643998,4195184.216754986,4.2405697214739871E-2,766414]
["00580998","0058","0998",289,58,"",998,"",0,0,0,{"$f":"IF(K299>0, K298/K299, 0)","v":0},null,{"$f":"ROUND(M299*L298,0)","v":0},0,{"$f":"N298-O298","v":0},0,0,0,58,998,289,0,0,289,58,998,289,0,0,null,null,null,null,null,null,null,null,null,null,null,null,null,null,null,null,null,null,null,null,null,null,null,null,null,null,null,null,null,null,null,null,null,null,null,null,null,null,null,null,null,null,null,null,null,null,null,null,null,null,null,null,null,null,null,null,null,null,null,null,null,null,null,null,null,58,998,289,0,0,0,0]
["00600683","0060","0683",298,60,"Chesterfield                 ",683,"Hampshire",595769.84027540614,0.40625536558270398,549230.76462010108,{"$f":"IF(K309>0, K307/K309, 0)","v":0.40398080153507426},null,{"$f":"ROUND(M309*L307,0)","v":398744},391890,{"$f":"N307-O307","v":6854},1.7489601673939115,54.163388804460006,48.143283578880002,60,683,298,48.143283578880002,549230.76462010108,298,60,683,298,48.143283578880002,549230.76462010108,null,null,null,null,null,null,null,null,null,null,null,null,null,null,null,null,null,null,null,null,null,null,null,null,null,null,null,null,null,null,null,null,null,null,null,null,null,null,null,null,null,null,null,null,null,null,null,null,null,null,null,null,null,null,null,null,null,null,null,null,null,null,null,null,null,60,683,298,57.167893958850001,602513.542061185,0.40688699615682006,387489]
["00610998","0061","0998",304,61,"",998,"",0,0,0,{"$f":"IF(K314>0, K313/K314, 0)","v":0},null,{"$f":"ROUND(M314*L313,0)","v":0},0,{"$f":"N313-O313","v":0},0,0,0,61,998,304,0,0,304,61,998,304,0,0,null,null,null,null,null,null,null,null,null,null,null,null,null,null,null,null,null,null,null,null,null,null,null,null,null,null,null,null,null,null,null,null,null,null,null,null,null,null,null,null,null,null,null,null,null,null,null,null,null,null,null,null,null,null,null,null,null,null,null,null,null,null,null,null,null,61,998,304,0,0,0,0]
["00620700","0062","0700",307,62,"Chilmark                     ",700,"Marthas Vineyard",451040.15908219834,0.33772455497223136,553189.4432138101,{"$f":"IF(K319>0, K316/K319, 0)","v":0.39346084703397194},null,{"$f":"ROUND(M319*L316,0)","v":456381},372108,{"$f":"N316-O316","v":84273},22.647457189848108,31.999999998460002,36.999999997650001,62,700,307,36.999999997650001,553189.4432138101,307,62,700,307,36.999999997650001,553189.4432138101,null,null,null,null,null,null,null,null,null,null,null,null,null,null,null,null,null,null,null,null,null,null,null,null,null,null,null,null,null,null,null,null,null,null,null,null,null,null,null,null,null,null,null,null,null,null,null,null,null,null,null,null,null,null,null,null,null,null,null,null,null,null,null,null,null,62,700,307,27.999999999,365340.63376472995,0.30968293169561034,301179]
["00640064","0064","0064",316,64,"Clinton                      ",64,"Clinton",24086138.195584625,1,{"$f":"X325","v":26586847.719999999},{"$f":"IF(K329>0, K325/K329, 0)","v":1},null,{"$f":"ROUND(M329*L325,0)","v":11372125},10670037,{"$f":"N325-O325","v":702088},6.5799959269119688,2022,2086,64,64,316,2086,26586847.719999999,316,64,64,316,2086,26586847.719999999,null,null,null,null,null,null,null,null,null,null,null,null,null,null,null,null,null,null,null,null,null,null,null,null,null,null,null,null,null,null,null,null,null,null,null,null,null,null,null,null,null,null,null,null,null,null,null,null,null,null,null,null,null,null,null,null,null,null,null,null,null,null,null,null,null,64,64,316,2016,22676410.390000004,1,10266561]
["00640998","0064","0998",319,64,"",998,"",0,0,0,{"$f":"IF(K329>0, K328/K329, 0)","v":0},null,{"$f":"ROUND(M329*L328,0)","v":0},0,{"$f":"N328-O328","v":0},0,0,0,64,998,319,0,0,319,64,998,319,0,0,null,null,null,null,null,null,null,null,null,null,null,null,null,null,null,null,null,null,null,null,null,null,null,null,null,null,null,null,null,null,null,null,null,null,null,null,null,null,null,null,null,null,null,null,null,null,null,null,null,null,null,null,null,null,null,null,null,null,null,null,null,null,null,null,null,64,998,319,0,0,0,0]
["00660066","0066","0066",326,66,"Colrain                      ",66,"Colrain",0,0,{"$f":"X335","v":0},{"$f":"IF(K339>0, K335/K339, 0)","v":0},null,{"$f":"ROUND(M339*L335,0)","v":0},0,{"$f":"N335-O335","v":0},0,0,0,66,66,326,0,0,326,66,66,326,0,0,null,null,null,null,null,null,null,null,null,null,null,null,null,null,null,null,null,null,null,null,null,null,null,null,null,null,null,null,null,null,null,null,null,null,null,null,null,null,null,null,null,null,null,null,null,null,null,null,null,null,null,null,null,null,null,null,null,null,null,null,null,null,null,null,null,66,66,326,0,0,0,0]
["00660998","0066","0998",329,66,"",998,"",0,0,0,{"$f":"IF(K339>0, K338/K339, 0)","v":0},null,{"$f":"ROUND(M339*L338,0)","v":0},0,{"$f":"N338-O338","v":0},{"$f":"IF(O338>0,P338*100/O338,IF(P338>0,100,0))","v":0},0,0,66,998,329,0,0,329,66,998,329,0,0,null,null,null,null,null,null,null,null,null,null,null,null,null,null,null,null,null,null,null,null,null,null,null,null,null,null,null,null,null,null,null,null,null,null,null,null,null,null,null,null,null,null,null,null,null,null,null,null,null,null,null,null,null,null,null,null,null,null,null,null,null,null,null,null,null,66,998,329,0,0,0,0]
["00680670","0068","0670",337,68,"Conway                       ",670,"Frontier",1237304.4700293683,0.53195897518624846,1285480.3757121447,{"$f":"IF(K349>0, K346/K349, 0)","v":0.56333246432504647},null,{"$f":"ROUND(M349*L346,0)","v":1060521},1020776,{"$f":"N346-O346","v":39745},3.893606432753121,109.99999999791,110.76256498923,68,670,337,110.76256498923,1285480.3757121447,337,68,670,337,110.76256498923,1285480.3757121447,null,null,null,null,null,null,null,null,null,null,null,null,null,null,null,null,null,null,null,null,null,null,null,null,null,null,null,null,null,null,null,null,null,null,null,null,null,null,null,null,null,null,null,null,null,null,null,null,null,null,null,null,null,null,null,null,null,null,null,null,null,null,null,null,null,68,670,337,100.17699114903999,1085206.5681264,0.47531622160599718,891204]
["00690998","0069","0998",344,69,"",998,"",0,0,0,{"$f":"IF(K354>0, K353/K354, 0)","v":0},null,{"$f":"ROUND(M354*L353,0)","v":0},0,{"$f":"N353-O353","v":0},0,0,0,69,998,344,0,0,344,69,998,344,0,0,null,null,null,null,null,null,null,null,null,null,null,null,null,null,null,null,null,null,null,null,null,null,null,null,null,null,null,null,null,null,null,null,null,null,null,null,null,null,null,null,null,null,null,null,null,null,null,null,null,null,null,null,null,null,null,null,null,null,null,null,null,null,null,null,null,69,998,344,0,0,0,0]
["00700635","0070","0635",347,70,"Dalton                       ",635,"Central Berkshire",10167095.736785576,0.97265273507648253,10481394.278500786,{"$f":"IF(K359>0, K356/K359, 0)","v":0.96444543650431436},null,{"$f":"ROUND(M359*L356,0)","v":5253407},5126875,{"$f":"N356-O356","v":126532},2.4680141411678655,889.75807472831991,894.25564880886009,70,635,347,894.25564880886009,10481394.278500786,347,70,635,347,894.25564880886009,10481394.278500786,null,null,null,null,null,null,null,null,null,null,null,null,null,null,null,null,null,null,null,null,null,null,null,null,null,null,null,null,null,null,null,null,null,null,null,null,null,null,null,null,null,null,null,null,null,null,null,null,null,null,null,null,null,null,null,null,null,null,null,null,null,null,null,null,null,70,635,347,911.97183099049994,9848826.0015804339,0.97147273332358464,4994544]
["00710998","0071","0998",354,71,"",998,"",0,0,0,{"$f":"IF(K364>0, K363/K364, 0)","v":0},null,{"$f":"ROUND(M364*L363,0)","v":0},0,{"$f":"N363-O363","v":0},0,0,0,71,998,354,0,0,354,71,998,354,0,0,null,null,null,null,null,null,null,null,null,null,null,null,null,null,null,null,null,null,null,null,null,null,null,null,null,null,null,null,null,null,null,null,null,null,null,null,null,null,null,null,null,null,null,null,null,null,null,null,null,null,null,null,null,null,null,null,null,null,null,null,null,null,null,null,null,71,998,354,0,0,0,0]
["00730915","0073","0915",363,73,"Dedham                       ",915,"Norfolk County",286151.10822453897,8.8888515355903357E-3,255514.84887248103,{"$f":"IF(K374>0, K372/K374, 0)","v":7.6247561452354876E-3},null,{"$f":"ROUND(M374*L372,0)","v":206202},229465,{"$f":"N372-O372","v":-23263},-10.137929531736866,15.99999999874,13.99999999974,73,915,363,13.99999999974,255514.84887248103,363,73,915,363,13.99999999974,255514.84887248103,null,null,null,null,null,null,null,null,null,null,null,null,null,null,null,null,null,null,null,null,null,null,null,null,null,null,null,null,null,null,null,null,null,null,null,null,null,null,null,null,null,null,null,null,null,null,null,null,null,null,null,null,null,null,null,null,null,null,null,null,null,null,null,null,null,73,915,363,19.999999998820002,341765.36763321655,1.1311436536407531E-2,278870]
["00740818","0074","0818",368,74,"Deerfield                    ",818,"Franklin County",265340.48283649748,3.9791149464272514E-2,318054.8738397673,{"$f":"IF(K379>0, K377/K379, 0)","v":4.5530253478515387E-2},null,{"$f":"ROUND(M379*L377,0)","v":255277},212800,{"$f":"N377-O377","v":42477},19.960996240601503,15.000000001229999,16.999999999149999,74,818,368,16.999999999149999,318054.8738397673,368,74,818,368,16.999999999149999,318054.8738397673,null,null,null,null,null,null,null,null,null,null,null,null,null,null,null,null,null,null,null,null,null,null,null,null,null,null,null,null,null,null,null,null,null,null,null,null,null,null,null,null,null,null,null,null,null,null,null,null,null,null,null,null,null,null,null,null,null,null,null,null,null,null,null,null,null,74,818,368,14.000000000380002,236582.67736068161,3.7773984067273204E-2,195181]
["00750645","0075","0645",372,75,"Dennis                       ",645,"Dennis Yarmouth",12637037.250660334,0.91190550584615415,12955148.36372165,{"$f":"IF(K384>0, K381/K384, 0)","v":0.90471113462876496},null,{"$f":"ROUND(M384*L381,0)","v":10687998},10425556,{"$f":"N381-O381","v":262442},2.5172950008613451,1062.41478438788,1046.7284097541799,75,645,372,1046.7284097541799,12955148.36372165,372,75,645,372,1046.7284097541799,12955148.36372165,null,null,null,null,null,null,null,null,null,null,null,null,null,null,null,null,null,null,null,null,null,null,null,null,null,null,null,null,null,null,null,null,null,null,null,null,null,null,null,null,null,null,null,null,null,null,null,null,null,null,null,null,null,null,null,null,null,null,null,null,null,null,null,null,null,75,645,372,1124.7276707395799,12645452.758149615,0.92467737775489156,10432499]
["00750999","0075","0999",375,75,"Dennis                       ",999,"Total",13857836.332432786,1,{"$f":"SUM(K380:K383)","v":14319651.72954084},{"$f":"SUM(L380:L383)","v":1},{"$f":"VLOOKUP(E384,town351,24)","v":11813713},{"$f":"SUM(N380:N383)","v":11813713},11432715,{"$f":"SUM(P380:P383)","v":380998},3.3325242516760016,1130.4147843906301,1119.7284097532799,75,999,375,1119.7284097532799,14319651.72954084,375,75,999,375,1119.7284097532799,14319651.72954084,null,null,null,null,null,null,null,null,null,null,null,null,null,null,null,null,null,null,null,null,null,null,null,null,null,null,null,null,null,null,null,null,null,null,null,null,null,null,null,null,null,null,null,null,null,null,null,null,null,null,null,null,null,null,null,null,null,null,null,null,null,null,null,null,null,75,999,375,1185.7276707413998,13675529.500735339,1,11282312]
["00770805","0077","0805",382,77,"Douglas                      ",805,"Blackstone Valley",1828058.6958160002,0.12353262455087083,2019452.9469033217,{"$f":"IF(K394>0, K391/K394, 0)","v":0.132579102491861},null,{"$f":"ROUND(M394*L391,0)","v":1122286},1002499,{"$f":"N391-O391","v":119787},11.948839849216807,113.00000000412,120.00000000257999,77,805,382,120.00000000257999,2019452.9469033217,382,77,805,382,120.00000000257999,2019452.9469033217,null,null,null,null,null,null,null,null,null,null,null,null,null,null,null,null,null,null,null,null,null,null,null,null,null,null,null,null,null,null,null,null,null,null,null,null,null,null,null,null,null,null,null,null,null,null,null,null,null,null,null,null,null,null,null,null,null,null,null,null,null,null,null,null,null,77,805,382,112.00000000599999,1743818.5024159995,0.11879578227080545,928944]
["00790079","0079","0079",391,79,"Dracut                       ",79,"Dracut",41837070.949357763,0.83583897063934909,{"$f":"X400","v":44231763.989999995},{"$f":"IF(K404>0, K400/K404, 0)","v":0.83195280481131251},null,{"$f":"ROUND(M404*L400,0)","v":24065178},23013126,{"$f":"N400-O400","v":1052052},{"$f":"IF(O400>0,P400*100/O400,IF(P400>0,100,0))","v":4.5715301780383939},3888,3964,79,79,391,3964,44231763.989999995,391,79,79,391,3964,44231763.989999995,null,null,null,null,null,null,null,null,null,null,null,null,null,null,null,null,null,null,null,null,null,null,null,null,null,null,null,null,null,null,null,null,null,null,null,null,null,null,null,null,null,null,null,null,null,null,null,null,null,null,null,null,null,null,null,null,null,null,null,null,null,null,null,null,null,79,79,391,3839,39508798.249999993,0.82874517354412369,21923341]
["00790998","0079","0998",394,79,"",998,"",0,0,0,{"$f":"IF(K404>0, K403/K404, 0)","v":0},null,{"$f":"ROUND(M404*L403,0)","v":0},0,{"$f":"N403-O403","v":0},{"$f":"IF(O403>0,P403*100/O403,IF(P403>0,100,0))","v":0},0,0,79,998,394,0,0,394,79,998,394,0,0,null,null,null,null,null,null,null,null,null,null,null,null,null,null,null,null,null,null,null,null,null,null,null,null,null,null,null,null,null,null,null,null,null,null,null,null,null,null,null,null,null,null,null,null,null,null,null,null,null,null,null,null,null,null,null,null,null,null,null,null,null,null,null,null,null,79,998,394,0,0,0,0]
["00800999","0080","0999",400,80,"Dudley                       ",999,"Total",20993982.649267014,1.0000000000000002,{"$f":"SUM(K405:K408)","v":21234672.206002947},{"$f":"SUM(L405:L408)","v":0.99999999999999989},{"$f":"VLOOKUP(E409,town351,24)","v":7521654},{"$f":"SUM(N405:N408)","v":7521654},7113348,{"$f":"SUM(P405:P408)","v":408306},5.7399975370247596,1874.81423141491,1826.84615383033,80,999,400,1826.84615383033,21234672.206002947,400,80,999,400,1826.84615383033,21234672.206002947,null,null,null,null,null,null,null,null,null,null,null,null,null,null,null,null,null,null,null,null,null,null,null,null,null,null,null,null,null,null,null,null,null,null,null,null,null,null,null,null,null,null,null,null,null,null,null,null,null,null,null,null,null,null,null,null,null,null,null,null,null,null,null,null,null,80,999,400,1887.2768211733498,20108262.851994645,1,6829251]
["00820998","0082","0998",409,82,"",998,"",0,0,0,{"$f":"IF(K419>0, K418/K419, 0)","v":0},null,{"$f":"ROUND(M419*L418,0)","v":0},0,{"$f":"N418-O418","v":0},0,0,0,82,998,409,0,0,409,82,998,409,0,0,null,null,null,null,null,null,null,null,null,null,null,null,null,null,null,null,null,null,null,null,null,null,null,null,null,null,null,null,null,null,null,null,null,null,null,null,null,null,null,null,null,null,null,null,null,null,null,null,null,null,null,null,null,null,null,null,null,null,null,null,null,null,null,null,null,82,998,409,0,0,0,0]
["00820999","0082","0999",410,82,"Duxbury                      ",999,"Total",30413600.834905829,1,{"$f":"SUM(K415:K418)","v":31043749.911899995},{"$f":"SUM(L415:L418)","v":1},{"$f":"VLOOKUP(E419,town351,24)","v":25611094},{"$f":"SUM(N415:N418)","v":25611094},25091221,{"$f":"SUM(P415:P418)","v":519873},2.0719318521804899,2922,2888,82,999,410,2888,31043749.911899995,410,82,999,410,2888,31043749.911899995,null,null,null,null,null,null,null,null,null,null,null,null,null,null,null,null,null,null,null,null,null,null,null,null,null,null,null,null,null,null,null,null,null,null,null,null,null,null,null,null,null,null,null,null,null,null,null,null,null,null,null,null,null,null,null,null,null,null,null,null,null,null,null,null,null,82,999,410,3003,30016424.79888,1,24763550]
["00840998","0084","0998",419,84,"",998,"",0,0,0,{"$f":"IF(K429>0, K428/K429, 0)","v":0},null,{"$f":"ROUND(M429*L428,0)","v":0},0,{"$f":"N428-O428","v":0},0,0,0,84,998,419,0,0,419,84,998,419,0,0,null,null,null,null,null,null,null,null,null,null,null,null,null,null,null,null,null,null,null,null,null,null,null,null,null,null,null,null,null,null,null,null,null,null,null,null,null,null,null,null,null,null,null,null,null,null,null,null,null,null,null,null,null,null,null,null,null,null,null,null,null,null,null,null,null,84,998,419,0,0,0,0]
["00850660","0085","0660",422,85,"Eastham                      ",660,"Nauset",2826126.9713493111,0.55629382344606415,2728463.2871520161,{"$f":"IF(K434>0, K431/K434, 0)","v":0.51039428101621653},null,{"$f":"ROUND(M434*L431,0)","v":2250982},2331555,{"$f":"N431-O431","v":-80573},-3.4557623560241986,243.20506329203999,231.99999999956,85,660,422,231.99999999956,2728463.2871520161,422,85,660,422,231.99999999956,2728463.2871520161,null,null,null,null,null,null,null,null,null,null,null,null,null,null,null,null,null,null,null,null,null,null,null,null,null,null,null,null,null,null,null,null,null,null,null,null,null,null,null,null,null,null,null,null,null,null,null,null,null,null,null,null,null,null,null,null,null,null,null,null,null,null,null,null,null,85,660,422,238.00000000100002,2640609.5529850083,0.55046270703721678,2178503]
["00870087","0087","0087",431,87,"East Longmeadow              ",87,"East Longmeadow",28769862.744360216,1,{"$f":"X440","v":29273598.25},{"$f":"IF(K444>0, K440/K444, 0)","v":1},null,{"$f":"ROUND(M444*L440,0)","v":17662697},16848895,{"$f":"N440-O440","v":813802},4.8300022048923683,2679,2643,87,87,431,2643,29273598.25,431,87,87,431,2643,29273598.25,null,null,null,null,null,null,null,null,null,null,null,null,null,null,null,null,null,null,null,null,null,null,null,null,null,null,null,null,null,null,null,null,null,null,null,null,null,null,null,null,null,null,null,null,null,null,null,null,null,null,null,null,null,null,null,null,null,null,null,null,null,null,null,null,null,87,87,431,2707,27763311.460000001,1,16509582]
["00880872","0088","0872",437,88,"Easton                       ",872,"Southeastern",1484601.7213561668,3.8228003400349604E-2,1554917.3293105061,{"$f":"IF(K449>0, K446/K449, 0)","v":3.9287984097970699E-2},null,{"$f":"ROUND(M449*L446,0)","v":1220637},1139504,{"$f":"N446-O446","v":81133},7.1200276611578373,85.111183773720001,82.108250823180001,88,872,437,82.108250823180001,1554917.3293105061,437,88,872,437,82.108250823180001,1554917.3293105061,null,null,null,null,null,null,null,null,null,null,null,null,null,null,null,null,null,null,null,null,null,null,null,null,null,null,null,null,null,null,null,null,null,null,null,null,null,null,null,null,null,null,null,null,null,null,null,null,null,null,null,null,null,null,null,null,null,null,null,null,null,null,null,null,null,88,872,437,84.111479765040002,1414103.3627999001,3.7638323352476466E-2,1082131]
["00880999","0088","0999",440,88,"Easton                       ",999,"Total",38835450.17531807,1,{"$f":"SUM(K445:K448)","v":39577427.170431495},{"$f":"SUM(L445:L448)","v":1},{"$f":"VLOOKUP(E449,town351,24)","v":31068976},{"$f":"SUM(N445:N448)","v":31068976},29808094,{"$f":"SUM(P445:P448)","v":1260882},4.2299987379266852,3649.1111837739099,3605.1082508237396,88,999,440,3605.1082508237396,39577427.170431495,440,88,999,440,3605.1082508237396,39577427.170431495,null,null,null,null,null,null,null,null,null,null,null,null,null,null,null,null,null,null,null,null,null,null,null,null,null,null,null,null,null,null,null,null,null,null,null,null,null,null,null,null,null,null,null,null,null,null,null,null,null,null,null,null,null,null,null,null,null,null,null,null,null,null,null,null,null,88,999,440,3709.1114797651899,37570838.359537534,1,28750764]
["00900765","0090","0765",447,90,"Egremont                     ",765,"Southern Berkshire",983690.24631992972,1,892329.68372262362,{"$f":"IF(K459>0, K456/K459, 0)","v":1},null,{"$f":"ROUND(M459*L456,0)","v":736172},811544,{"$f":"N456-O456","v":-75372},-9.2874816399357272,83.988304092199996,75.414985593639997,90,765,447,75.414985593639997,892329.68372262362,447,90,765,447,75.414985593639997,892329.68372262362,null,null,null,null,null,null,null,null,null,null,null,null,null,null,null,null,null,null,null,null,null,null,null,null,null,null,null,null,null,null,null,null,null,null,null,null,null,null,null,null,null,null,null,null,null,null,null,null,null,null,null,null,null,null,null,null,null,null,null,null,null,null,null,null,null,90,765,447,75.993948563680007,827368.01583426702,1,682579]
["00920092","0092","0092",456,92,"Essex                        ",92,"Essex",0,0,{"$f":"X465","v":0},{"$f":"IF(K469>0, K465/K469, 0)","v":0},null,{"$f":"ROUND(M469*L465,0)","v":0},0,{"$f":"N465-O465","v":0},0,0,0,92,92,456,0,0,456,92,92,456,0,0,null,null,null,null,null,null,null,null,null,null,null,null,null,null,null,null,null,null,null,null,null,null,null,null,null,null,null,null,null,null,null,null,null,null,null,null,null,null,null,null,null,null,null,null,null,null,null,null,null,null,null,null,null,null,null,null,null,null,null,null,null,null,null,null,null,92,92,456,0,0,0,0]
["00920698","0092","0698",457,92,"Essex                        ",698,"Manchester Essex",5521956.6373056816,0.95099192835252888,5660557.7633655006,{"$f":"IF(K469>0, K466/K469, 0)","v":0.95730113323873878},null,{"$f":"ROUND(M469*L466,0)","v":4622288},4437403,{"$f":"N466-O466","v":184885},4.1665136116778214,524.0788897036,520.68413284322003,92,698,457,520.68413284322003,5660557.7633655006,457,92,698,457,520.68413284322003,5660557.7633655006,null,null,null,null,null,null,null,null,null,null,null,null,null,null,null,null,null,null,null,null,null,null,null,null,null,null,null,null,null,null,null,null,null,null,null,null,null,null,null,null,null,null,null,null,null,null,null,null,null,null,null,null,null,null,null,null,null,null,null,null,null,null,null,null,null,92,698,457,519.07179866861998,5207938.7223275481,0.94141285791759199,4249498]
["00930998","0093","0998",463,93,"",998,"",0,0,0,{"$f":"IF(K474>0, K472/K474, 0)","v":0},null,{"$f":"ROUND(M474*L472,0)","v":0},0,{"$f":"N472-O472","v":0},0,0,0,93,998,463,0,0,463,93,998,463,0,0,null,null,null,null,null,null,null,null,null,null,null,null,null,null,null,null,null,null,null,null,null,null,null,null,null,null,null,null,null,null,null,null,null,null,null,null,null,null,null,null,null,null,null,null,null,null,null,null,null,null,null,null,null,null,null,null,null,null,null,null,null,null,null,null,null,93,998,463,0,0,0,0]
["00940910","0094","0910",468,94,"Fairhaven                    ",910,"Bristol County",291714.62287043518,1.2314144599092535E-2,388206.34634214814,{"$f":"IF(K479>0, K477/K479, 0)","v":1.579696183395872E-2},null,{"$f":"ROUND(M479*L477,0)","v":236108},175589,{"$f":"N477-O477","v":60519},34.466282056393055,17.0000000014,21.9999999996,94,910,468,21.9999999996,388206.34634214814,468,94,910,468,21.9999999996,388206.34634214814,null,null,null,null,null,null,null,null,null,null,null,null,null,null,null,null,null,null,null,null,null,null,null,null,null,null,null,null,null,null,null,null,null,null,null,null,null,null,null,null,null,null,null,null,null,null,null,null,null,null,null,null,null,null,null,null,null,null,null,null,null,null,null,null,null,94,910,468,17.999999998730001,290242.74028800509,1.2688844717012928E-2,174275]
["00950999","0095","0999",475,95,"Fall River                   ",999,"Total",181704453.54830152,1,{"$f":"SUM(K480:K483)","v":196813138.11007988},{"$f":"SUM(L480:L483)","v":1.0000000000000002},{"$f":"VLOOKUP(E484,town351,24)","v":36806161},{"$f":"SUM(N480:N483)","v":36806161},34953619,{"$f":"SUM(P480:P483)","v":1852542},5.3000005521602782,13106.999999999549,13225.99999999488,95,999,475,13225.99999999488,196813138.11007988,475,95,999,475,13225.99999999488,196813138.11007988,null,null,null,null,null,null,null,null,null,null,null,null,null,null,null,null,null,null,null,null,null,null,null,null,null,null,null,null,null,null,null,null,null,null,null,null,null,null,null,null,null,null,null,null,null,null,null,null,null,null,null,null,null,null,null,null,null,null,null,null,null,null,null,null,null,95,999,475,12930.99999999723,167809670.97643116,0.99999999999999989,33343146]
["00970998","0097","0998",484,97,"",998,"",0,0,0,{"$f":"IF(K494>0, K493/K494, 0)","v":0},null,{"$f":"ROUND(M494*L493,0)","v":0},0,{"$f":"N493-O493","v":0},0,0,0,97,998,484,0,0,484,97,998,484,0,0,null,null,null,null,null,null,null,null,null,null,null,null,null,null,null,null,null,null,null,null,null,null,null,null,null,null,null,null,null,null,null,null,null,null,null,null,null,null,null,null,null,null,null,null,null,null,null,null,null,null,null,null,null,null,null,null,null,null,null,null,null,null,null,null,null,97,998,484,0,0,0,0]
["00990099","0099","0099",491,99,"Foxborough                   ",99,"Foxborough",28934003.214451049,0.97396207851342353,{"$f":"X500","v":30048953.225120001},{"$f":"IF(K504>0, K500/K504, 0)","v":0.96731196408141495},null,{"$f":"ROUND(M504*L500,0)","v":24790386},23797381,{"$f":"N500-O500","v":993005},4.1727490936922846,2636,2639,99,99,491,2639,30048953.225120001,491,99,99,491,2639,30048953.225120001,null,null,null,null,null,null,null,null,null,null,null,null,null,null,null,null,null,null,null,null,null,null,null,null,null,null,null,null,null,null,null,null,null,null,null,null,null,null,null,null,null,null,null,null,null,null,null,null,null,null,null,null,null,null,null,null,null,null,null,null,null,null,null,null,null,99,99,491,2656,27859184.160679996,0.97398826401170202,22576625]
["00990998","0099","0998",494,99,"",998,"",0,0,0,{"$f":"IF(K504>0, K503/K504, 0)","v":0},null,{"$f":"ROUND(M504*L503,0)","v":0},0,{"$f":"N503-O503","v":0},0,0,0,99,998,494,0,0,494,99,998,494,0,0,null,null,null,null,null,null,null,null,null,null,null,null,null,null,null,null,null,null,null,null,null,null,null,null,null,null,null,null,null,null,null,null,null,null,null,null,null,null,null,null,null,null,null,null,null,null,null,null,null,null,null,null,null,null,null,null,null,null,null,null,null,null,null,null,null,99,998,494,0,0,0,0]
["01010878","0101","0878",502,101,"Franklin                     ",878,"Tri County",3391605.476037669,5.3505052102986117E-2,3294379.0312336064,{"$f":"IF(K514>0, K511/K514, 0)","v":5.1292043469867127E-2},null,{"$f":"ROUND(M514*L511,0)","v":2291876},2278433,{"$f":"N511-O511","v":13443},0.59001076617131165,194.00000000202002,177.99999999779999,101,878,502,177.99999999779999,3294379.0312336064,502,101,878,502,177.99999999779999,3294379.0312336064,null,null,null,null,null,null,null,null,null,null,null,null,null,null,null,null,null,null,null,null,null,null,null,null,null,null,null,null,null,null,null,null,null,null,null,null,null,null,null,null,null,null,null,null,null,null,null,null,null,null,null,null,null,null,null,null,null,null,null,null,null,null,null,null,null,101,878,502,185.00000000061999,3115770.6697913059,5.0829298090608488E-2,2070489]
["01010915","0101","0915",503,101,"Franklin                     ",915,"Norfolk County",321919.99678368057,5.0785229362899659E-3,255514.84887248103,{"$f":"IF(K514>0, K512/K514, 0)","v":3.9782546608354979E-3},null,{"$f":"ROUND(M514*L512,0)","v":177760},216261,{"$f":"N512-O512","v":-38501},-17.803025048436844,18.00000000032,13.99999999974,101,915,503,13.99999999974,255514.84887248103,503,101,915,503,13.99999999974,255514.84887248103,null,null,null,null,null,null,null,null,null,null,null,null,null,null,null,null,null,null,null,null,null,null,null,null,null,null,null,null,null,null,null,null,null,null,null,null,null,null,null,null,null,null,null,null,null,null,null,null,null,null,null,null,null,null,null,null,null,null,null,null,null,null,null,null,null,101,915,503,16.000000000179998,273412.29412578046,4.460326664762931E-3,181688]
["01030832","0103","0832",512,103,"Gardner                      ",832,"Montachusett",3311329.808322859,9.816123789423091E-2,3261996.7597220284,{"$f":"IF(K524>0, K521/K524, 0)","v":9.3957759515229528E-2},null,{"$f":"ROUND(M524*L521,0)","v":1031928},1025194,{"$f":"N521-O521","v":6734},0.65685128863415121,194.99999999370002,185.00000000064,103,832,512,185.00000000064,3261996.7597220284,512,103,832,512,185.00000000064,3261996.7597220284,null,null,null,null,null,null,null,null,null,null,null,null,null,null,null,null,null,null,null,null,null,null,null,null,null,null,null,null,null,null,null,null,null,null,null,null,null,null,null,null,null,null,null,null,null,null,null,null,null,null,null,null,null,null,null,null,null,null,null,null,null,null,null,null,null,103,832,512,179.12045760896999,2904827.6463138456,9.1581338139721843E-2,916250]
["01030999","0103","0999",515,103,"Gardner                      ",999,"Total",33733578.338639423,1,{"$f":"SUM(K520:K523)","v":34717694.169722028},{"$f":"SUM(L520:L523)","v":0.99999999999999989},{"$f":"VLOOKUP(E524,town351,24)","v":10982893},{"$f":"SUM(N520:N523)","v":10982893},10443983,{"$f":"SUM(P520:P523)","v":538910},5.1600045691380387,2665.9999999936999,2603.0000000006398,103,999,515,2603.0000000006398,34717694.169722028,515,103,999,515,2603.0000000006398,34717694.169722028,null,null,null,null,null,null,null,null,null,null,null,null,null,null,null,null,null,null,null,null,null,null,null,null,null,null,null,null,null,null,null,null,null,null,null,null,null,null,null,null,null,null,null,null,null,null,null,null,null,null,null,null,null,null,null,null,null,null,null,null,null,null,null,null,null,103,999,515,2691.1204576089699,31718554.296313848,0.99999999999999989,10004773]
["01050999","0105","0999",525,105,"Georgetown                   ",999,"Total",13948241.359874364,1,{"$f":"SUM(K530:K533)","v":14267572.345175784},{"$f":"SUM(L530:L533)","v":1},{"$f":"VLOOKUP(E534,town351,24)","v":11103760},{"$f":"SUM(N530:N533)","v":11103760},10742802,{"$f":"SUM(P530:P533)","v":360958},3.3599986297802009,1347.0000000003599,1335.9999999996,105,999,525,1335.9999999996,14267572.345175784,525,105,999,525,1335.9999999996,14267572.345175784,null,null,null,null,null,null,null,null,null,null,null,null,null,null,null,null,null,null,null,null,null,null,null,null,null,null,null,null,null,null,null,null,null,null,null,null,null,null,null,null,null,null,null,null,null,null,null,null,null,null,null,null,null,null,null,null,null,null,null,null,null,null,null,null,null,105,999,525,1379.9999999966201,13791726.841546688,0.99999999999999989,10252722]
["01060999","0106","0999",530,106,"Gill                         ",999,"Total",1765279.3819513316,1,{"$f":"SUM(K535:K538)","v":1755626.2675516198},{"$f":"SUM(L535:L538)","v":1},{"$f":"VLOOKUP(E539,town351,24)","v":1156585},{"$f":"SUM(N535:N538)","v":1156585},1119420,{"$f":"SUM(P535:P538)","v":37165},3.320022868985725,143.27255984945,134.93956044018,106,999,530,134.93956044018,1755626.2675516198,530,106,999,530,134.93956044018,1755626.2675516198,null,null,null,null,null,null,null,null,null,null,null,null,null,null,null,null,null,null,null,null,null,null,null,null,null,null,null,null,null,null,null,null,null,null,null,null,null,null,null,null,null,null,null,null,null,null,null,null,null,null,null,null,null,null,null,null,null,null,null,null,null,null,null,null,null,106,999,530,159.41681574117001,1831403.0396101936,1,1122301]
["01080632","0108","0632",537,108,"Goshen                       ",632,"Chesterfield Goshen",600515.39683072525,0.49727597542601426,701202.50702185882,{"$f":"IF(K549>0, K546/K549, 0)","v":0.54063457662720404},null,{"$f":"ROUND(M549*L546,0)","v":413847},367713,{"$f":"N546-O546","v":46134},12.546197713978021,58.461538461479996,63.859649123200001,108,632,537,63.859649123200001,701202.50702185882,537,108,632,537,63.859649123200001,701202.50702185882,null,null,null,null,null,null,null,null,null,null,null,null,null,null,null,null,null,null,null,null,null,null,null,null,null,null,null,null,null,null,null,null,null,null,null,null,null,null,null,null,null,null,null,null,null,null,null,null,null,null,null,null,null,null,null,null,null,null,null,null,null,null,null,null,null,108,632,537,64.453125,656528.296875,0.5210550021194551,389400]
["01080999","0108","0999",540,108,"Goshen                       ",999,"Total",1207609.911812583,0.99999999999999989,{"$f":"SUM(K545:K548)","v":1296999.0032756911},{"$f":"SUM(L545:L548)","v":1},{"$f":"VLOOKUP(E549,town351,24)","v":765484},{"$f":"SUM(N545:N548)","v":765484},739455,{"$f":"SUM(P545:P548)","v":26029},3.5200248831909988,110.58861864199,112.97606703104,108,999,540,112.97606703104,1296999.0032756911,540,108,999,540,112.97606703104,1296999.0032756911,null,null,null,null,null,null,null,null,null,null,null,null,null,null,null,null,null,null,null,null,null,null,null,null,null,null,null,null,null,null,null,null,null,null,null,null,null,null,null,null,null,null,null,null,null,null,null,null,null,null,null,null,null,null,null,null,null,null,null,null,null,null,null,null,null,108,999,540,118.5827273542,1259998.0696941603,1,747330]
["01100998","0110","0998",549,110,"",998,"",0,0,0,{"$f":"IF(K559>0, K558/K559, 0)","v":0},null,{"$f":"ROUND(M559*L558,0)","v":0},0,{"$f":"N558-O558","v":0},0,0,0,110,998,549,0,0,549,110,998,549,0,0,null,null,null,null,null,null,null,null,null,null,null,null,null,null,null,null,null,null,null,null,null,null,null,null,null,null,null,null,null,null,null,null,null,null,null,null,null,null,null,null,null,null,null,null,null,null,null,null,null,null,null,null,null,null,null,null,null,null,null,null,null,null,null,null,null,110,998,549,0,0,0,0]
["01100999","0110","0999",550,110,"Grafton                      ",999,"Total",33072992.088229384,1,{"$f":"SUM(K555:K558)","v":33942567.47334715},{"$f":"SUM(L555:L558)","v":1},{"$f":"VLOOKUP(E559,town351,24)","v":22951253},{"$f":"SUM(N555:N558)","v":22951253},22079127,{"$f":"SUM(P555:P558)","v":872126},3.9500021898510753,3168.0000000014902,3138.9999999950801,110,999,550,3138.9999999950801,33942567.47334715,550,110,999,550,3138.9999999950801,33942567.47334715,null,null,null,null,null,null,null,null,null,null,null,null,null,null,null,null,null,null,null,null,null,null,null,null,null,null,null,null,null,null,null,null,null,null,null,null,null,null,null,null,null,null,null,null,null,null,null,null,null,null,null,null,null,null,null,null,null,null,null,null,null,null,null,null,null,110,999,550,3173.9999999948,31700429.263306133,1,21092020]
["01120766","0112","0766",557,112,"Granville                    ",766,"Southwick Tolland Granville",1962245.4393987595,1,1966898.9788260695,{"$f":"IF(K569>0, K566/K569, 0)","v":1},null,{"$f":"ROUND(M569*L566,0)","v":1529253},1504244,{"$f":"N566-O566","v":25009},1.6625627225370352,171.31782945419999,166.41126158189999,112,766,557,166.41126158189999,1966898.9788260695,557,112,766,557,166.41126158189999,1966898.9788260695,null,null,null,null,null,null,null,null,null,null,null,null,null,null,null,null,null,null,null,null,null,null,null,null,null,null,null,null,null,null,null,null,null,null,null,null,null,null,null,null,null,null,null,null,null,null,null,null,null,null,null,null,null,null,null,null,null,null,null,null,null,null,null,null,null,112,766,557,171.59087767668001,1866914.4570006477,1,1493226]
["01130999","0113","0999",565,113,"Great Barrington             ",999,"Total",8886377.7980768047,1,{"$f":"SUM(K570:K573)","v":8805940.3689673617},{"$f":"SUM(L570:L573)","v":1},{"$f":"VLOOKUP(E574,town351,24)","v":7264901},{"$f":"SUM(N570:N573)","v":7264901},7331262,{"$f":"SUM(P570:P573)","v":-66361},-0.90517839902597941,743.8446410967,712.6530612235,113,999,565,712.6530612235,8805940.3689673617,565,113,999,565,712.6530612235,8805940.3689673617,null,null,null,null,null,null,null,null,null,null,null,null,null,null,null,null,null,null,null,null,null,null,null,null,null,null,null,null,null,null,null,null,null,null,null,null,null,null,null,null,null,null,null,null,null,null,null,null,null,null,null,null,null,null,null,null,null,null,null,null,null,null,null,null,null,113,999,565,775.31852551959003,8735075.3192409407,1,7192554]
["01140998","0114","0998",568,114,"",998,"",0,0,0,{"$f":"IF(K579>0, K577/K579, 0)","v":0},null,{"$f":"ROUND(M579*L577,0)","v":0},0,{"$f":"N577-O577","v":0},0,0,0,114,998,568,0,0,568,114,998,568,0,0,null,null,null,null,null,null,null,null,null,null,null,null,null,null,null,null,null,null,null,null,null,null,null,null,null,null,null,null,null,null,null,null,null,null,null,null,null,null,null,null,null,null,null,null,null,null,null,null,null,null,null,null,null,null,null,null,null,null,null,null,null,null,null,null,null,114,998,568,0,0,0,0]
[{"$f":"B586&C586","v":"01160745"},"0116","0745",577,116,"Groveland                    ",745,"Pentucket",9204118.7389799561,0.90096323094750419,9474074.9057826456,{"$f":"IF(K589>0, K586/K589, 0)","v":0.90609730807409705},null,{"$f":"ROUND(M589*L586,0)","v":6806301},6555343,{"$f":"N586-O586","v":250958},3.8282970090199706,892.76630213639999,891.98127035723996,{"$f":"VLOOKUP($D586, foundoptions, VLOOKUP($T$6, foundoptcell, 2, FALSE), FALSE)","v":116},{"$f":"VLOOKUP($D586, foundoptions, VLOOKUP($T$6, foundoptcell, 2, FALSE)+1, FALSE)","v":745},{"$f":"VLOOKUP($D586, foundoptions, VLOOKUP($T$6, foundoptcell, 2, FALSE)+2, FALSE)","v":577},{"$f":"VLOOKUP($D586, foundoptions, VLOOKUP($T$6, foundoptcell, 2, FALSE)+3, FALSE)","v":891.98127035723996},{"$f":"VLOOKUP($D586, foundoptions, VLOOKUP($T$6, foundoptcell, 2, FALSE)+4, FALSE)","v":9474074.9057826456},577,116,745,577,891.98127035723996,9474074.9057826456,null,null,null,null,null,null,null,null,null,null,null,null,null,null,null,null,null,null,null,null,null,null,null,null,null,null,null,null,null,null,null,null,null,null,null,null,null,null,null,null,null,null,null,null,null,null,null,null,null,null,null,null,null,null,null,null,null,null,null,null,null,null,null,null,null,116,745,577,907.63198071651004,8932025.9397803918,0.88309115509474412,6124006]
["01170998","0117","0998",584,117,"",998,"",0,0,0,{"$f":"IF(K594>0, K593/K594, 0)","v":0},null,{"$f":"ROUND(M594*L593,0)","v":0},0,{"$f":"N593-O593","v":0},{"$f":"IF(O593>0,P593*100/O593,IF(P593>0,100,0))","v":0},0,0,117,998,584,0,0,584,117,998,584,0,0,null,null,null,null,null,null,null,null,null,null,null,null,null,null,null,null,null,null,null,null,null,null,null,null,null,null,null,null,null,null,null,null,null,null,null,null,null,null,null,null,null,null,null,null,null,null,null,null,null,null,null,null,null,null,null,null,null,null,null,null,null,null,null,null,null,117,998,584,0,0,0,0]
["01180998","0118","0998",588,118,"",998,"",0,0,0,{"$f":"IF(K599>0, K597/K599, 0)","v":0},null,{"$f":"ROUND(M599*L597,0)","v":0},0,{"$f":"N597-O597","v":0},0,0,0,118,998,588,0,0,588,118,998,588,0,0,null,null,null,null,null,null,null,null,null,null,null,null,null,null,null,null,null,null,null,null,null,null,null,null,null,null,null,null,null,null,null,null,null,null,null,null,null,null,null,null,null,null,null,null,null,null,null,null,null,null,null,null,null,null,null,null,null,null,null,null,null,null,null,null,null,118,998,588,0,0,0,0]
["01190999","0119","0999",595,119,"Hamilton                     ",999,"Total",11561562.437201241,1,{"$f":"SUM(K600:K603)","v":12498314.758142278},{"$f":"SUM(L600:L603)","v":0.99999999999999989},{"$f":"VLOOKUP(E604,town351,24)","v":9956066},{"$f":"SUM(N600:N603)","v":9956066},9538289,{"$f":"SUM(P600:P603)","v":417777},4.3799993898276721,1105.19097221622,1154.5237562925402,119,999,595,1154.5237562925402,12498314.758142278,595,119,999,595,1154.5237562925402,12498314.758142278,null,null,null,null,null,null,null,null,null,null,null,null,null,null,null,null,null,null,null,null,null,null,null,null,null,null,null,null,null,null,null,null,null,null,null,null,null,null,null,null,null,null,null,null,null,null,null,null,null,null,null,null,null,null,null,null,null,null,null,null,null,null,null,null,null,119,999,595,1143.1645997702799,11466697.648353731,1,9460026]
["01200120","0120","0120",596,120,"Hampden                      ",120,"Hampden",0,0,{"$f":"X605","v":0},{"$f":"IF(K609>0, K605/K609, 0)","v":0},null,{"$f":"ROUND(M609*L605,0)","v":0},0,{"$f":"N605-O605","v":0},0,0,0,120,120,596,0,0,596,120,120,596,0,0,null,null,null,null,null,null,null,null,null,null,null,null,null,null,null,null,null,null,null,null,null,null,null,null,null,null,null,null,null,null,null,null,null,null,null,null,null,null,null,null,null,null,null,null,null,null,null,null,null,null,null,null,null,null,null,null,null,null,null,null,null,null,null,null,null,120,120,596,0,0,0,0]
["01210999","0121","0999",605,121,"Hancock                      ",999,"Total",800339.26922275487,1,{"$f":"SUM(K610:K613)","v":889298.06999999983},{"$f":"SUM(L610:L613)","v":1},{"$f":"VLOOKUP(E614,town351,24)","v":673593},{"$f":"SUM(N610:N613)","v":673593},609145,{"$f":"SUM(P610:P613)","v":64448},10.580075351517291,73,77,121,999,605,77,889298.06999999983,605,121,999,605,77,889298.06999999983,null,null,null,null,null,null,null,null,null,null,null,null,null,null,null,null,null,null,null,null,null,null,null,null,null,null,null,null,null,null,null,null,null,null,null,null,null,null,null,null,null,null,null,null,null,null,null,null,null,null,null,null,null,null,null,null,null,null,null,null,null,null,null,null,null,121,999,605,70,715919.97,1,571860]
["01230780","0123","0780",612,123,"Hanson                       ",780,"Whitman Hanson",16032361.801163994,0.9203450555782875,16300586.899877964,{"$f":"IF(K624>0, K621/K624, 0)","v":0.91667343375552646},null,{"$f":"ROUND(M624*L621,0)","v":9328114},8892401,{"$f":"N621-O621","v":435713},4.8998352638393161,1491.0425586792001,1466.7488894825599,123,780,612,1466.7488894825599,16300586.899877964,612,123,780,612,1466.7488894825599,16300586.899877964,null,null,null,null,null,null,null,null,null,null,null,null,null,null,null,null,null,null,null,null,null,null,null,null,null,null,null,null,null,null,null,null,null,null,null,null,null,null,null,null,null,null,null,null,null,null,null,null,null,null,null,null,null,null,null,null,null,null,null,null,null,null,null,null,null,123,780,612,1523.6723092518901,15627946.614740953,0.91645443100560031,8341004]
["01230999","0123","0999",615,123,"Hanson                       ",999,"Total",17419946.686289586,1.0000000000000002,{"$f":"SUM(K620:K623)","v":17782327.162134461},{"$f":"SUM(L620:L623)","v":1},{"$f":"VLOOKUP(E624,town351,24)","v":10176049},{"$f":"SUM(N620:N623)","v":10176049},9662029,{"$f":"SUM(P620:P623)","v":514020},5.3200005920081592,1570.5657944818499,1548.1925124035199,123,999,615,1548.1925124035199,17782327.162134461,615,123,999,615,1548.1925124035199,17782327.162134461,null,null,null,null,null,null,null,null,null,null,null,null,null,null,null,null,null,null,null,null,null,null,null,null,null,null,null,null,null,null,null,null,null,null,null,null,null,null,null,null,null,null,null,null,null,null,null,null,null,null,null,null,null,null,null,null,null,null,null,null,null,null,null,null,null,123,999,615,1609.67230925237,17052617.223523963,1,9101384]
["01240999","0124","0999",620,124,"Hardwick                     ",999,"Total",3930433.0080349226,1,{"$f":"SUM(K625:K628)","v":4253866.3518374376},{"$f":"SUM(L625:L628)","v":1},{"$f":"VLOOKUP(E629,town351,24)","v":1702355},{"$f":"SUM(N625:N628)","v":1702355},1638299,{"$f":"SUM(P625:P628)","v":64056},3.9099089970756253,338.25521098547006,353.48153846582005,124,999,620,353.48153846582005,4253866.3518374376,620,124,999,620,353.48153846582005,4253866.3518374376,null,null,null,null,null,null,null,null,null,null,null,null,null,null,null,null,null,null,null,null,null,null,null,null,null,null,null,null,null,null,null,null,null,null,null,null,null,null,null,null,null,null,null,null,null,null,null,null,null,null,null,null,null,null,null,null,null,null,null,null,null,null,null,null,null,124,999,620,378.63433189942003,4127685.1633090861,1,1570304]
["01260999","0126","0999",630,126,"Harwich                      ",999,"Total",16948919.911928363,1,{"$f":"SUM(K635:K638)","v":17147367.310108971},{"$f":"SUM(L635:L638)","v":1},{"$f":"VLOOKUP(E639,town351,24)","v":14146578},{"$f":"SUM(N635:N638)","v":14146578},13818048,{"$f":"SUM(P635:P638)","v":328530},2.3775427614667426,1462.47068145395,1419.3819789859399,126,999,630,1419.3819789859399,17147367.310108971,630,126,999,630,1419.3819789859399,17147367.310108971,null,null,null,null,null,null,null,null,null,null,null,null,null,null,null,null,null,null,null,null,null,null,null,null,null,null,null,null,null,null,null,null,null,null,null,null,null,null,null,null,null,null,null,null,null,null,null,null,null,null,null,null,null,null,null,null,null,null,null,null,null,null,null,null,null,126,999,630,1461.8667728262999,16130639.724255774,1,13269997]
["01270998","0127","0998",633,127,"",998,"",0,0,0,{"$f":"IF(K644>0, K642/K644, 0)","v":0},null,{"$f":"ROUND(M644*L642,0)","v":0},0,{"$f":"N642-O642","v":0},0,0,0,127,998,633,0,0,633,127,998,633,0,0,null,null,null,null,null,null,null,null,null,null,null,null,null,null,null,null,null,null,null,null,null,null,null,null,null,null,null,null,null,null,null,null,null,null,null,null,null,null,null,null,null,null,null,null,null,null,null,null,null,null,null,null,null,null,null,null,null,null,null,null,null,null,null,null,null,127,998,633,0,0,0,0]
["01290685","0129","0685",642,129,"Hawley                       ",685,"Hawlemont",215026.49979556029,0.54388946923782711,274984.01408363256,{"$f":"IF(K654>0, K651/K654, 0)","v":0.61064857565258579},null,{"$f":"ROUND(M654*L651,0)","v":164483},139604,{"$f":"N651-O651","v":24879},17.82112260393685,16.739999999999998,20.877551020560002,129,685,642,20.877551020560002,274984.01408363256,{"$f":"D651","v":642},129,685,642,20.877551020560002,274984.01408363256,null,null,null,null,null,null,null,null,null,null,null,null,null,null,null,null,null,null,null,null,null,null,null,null,null,null,null,null,null,null,null,null,null,null,null,null,null,null,null,null,null,null,null,null,null,null,null,null,null,null,null,null,null,null,null,null,null,null,null,null,null,null,null,null,null,129,685,642,18.92857142842,235648.03571240057,0.60748659127988014,162289]
["01290717","0129","0717",643,129,"Hawley                       ",717,"Mohawk Trail",180323.12904885373,0.45611053076217289,160376.00960534412,{"$f":"IF(K654>0, K652/K654, 0)","v":0.35614209124376128},null,{"$f":"ROUND(M654*L652,0)","v":95930},117074,{"$f":"N652-O652","v":-21144},-18.060372072364487,15.7460317449,13.74074073866,129,717,643,13.74074073866,160376.00960534412,643,129,717,643,13.74074073866,160376.00960534412,null,null,null,null,null,null,null,null,null,null,null,null,null,null,null,null,null,null,null,null,null,null,null,null,null,null,null,null,null,null,null,null,null,null,null,null,null,null,null,null,null,null,null,null,null,null,null,null,null,null,null,null,null,null,null,null,null,null,null,null,null,null,null,null,null,129,717,643,12.69574467714,138421.36732124048,0.35684203494447175,95330]
["01310131","0131","0131",651,131,"Hingham                      ",131,"Hingham",43961797.366181195,1,{"$f":"X660","v":45919654.091400005},{"$f":"IF(K664>0, K660/K664, 0)","v":1},null,{"$f":"ROUND(M664*L660,0)","v":37883715},36268483,{"$f":"N660-O660","v":1615232},4.4535416603997469,4253,4289,131,131,651,4289,45919654.091400005,651,131,131,651,4289,45919654.091400005,null,null,null,null,null,null,null,null,null,null,null,null,null,null,null,null,null,null,null,null,null,null,null,null,null,null,null,null,null,null,null,null,null,null,null,null,null,null,null,null,null,null,null,null,null,null,null,null,null,null,null,null,null,null,null,null,null,null,null,null,null,null,null,null,null,131,131,651,4319,42815000.845129997,1,35322376]
["01320998","0132","0998",658,132,"",998,"",0,0,0,{"$f":"IF(K669>0, K667/K669, 0)","v":0},null,{"$f":"ROUND(M669*L667,0)","v":0},0,{"$f":"N667-O667","v":0},0,0,0,132,998,658,0,0,658,132,998,658,0,0,null,null,null,null,null,null,null,null,null,null,null,null,null,null,null,null,null,null,null,null,null,null,null,null,null,null,null,null,null,null,null,null,null,null,null,null,null,null,null,null,null,null,null,null,null,null,null,null,null,null,null,null,null,null,null,null,null,null,null,null,null,null,null,null,null,132,998,658,0,0,0,0]
["01330133","0133","0133",661,133,"Holbrook                     ",133,"Holbrook",15200054.581420457,0.86478004165264633,{"$f":"X670","v":17149375.393759999},{"$f":"IF(K674>0, K670/K674, 0)","v":0.88767101531410308},null,{"$f":"ROUND(M674*L670,0)","v":8381343},7861744,{"$f":"N670-O670","v":519599},6.6092078297131014,1288,1346,133,133,661,1346,17149375.393759999,661,133,133,661,1346,17149375.393759999,null,null,null,null,null,null,null,null,null,null,null,null,null,null,null,null,null,null,null,null,null,null,null,null,null,null,null,null,null,null,null,null,null,null,null,null,null,null,null,null,null,null,null,null,null,null,null,null,null,null,null,null,null,null,null,null,null,null,null,null,null,null,null,null,null,133,133,661,1231,13757037.007840002,0.85800814873961406,7518971]
["01340999","0134","0999",670,134,"Holden                       ",999,"Total",34247003.91126664,1,{"$f":"SUM(K675:K678)","v":36675548.207645155},{"$f":"SUM(L675:L678)","v":1},{"$f":"VLOOKUP(E679,town351,24)","v":20895757},{"$f":"SUM(N675:N678)","v":20895757},20017010,{"$f":"SUM(P675:P678)","v":878747},4.390001303891041,3273.71284917925,3399.06511894506,134,999,670,3399.06511894506,36675548.207645155,670,134,999,670,3399.06511894506,36675548.207645155,null,null,null,null,null,null,null,null,null,null,null,null,null,null,null,null,null,null,null,null,null,null,null,null,null,null,null,null,null,null,null,null,null,null,null,null,null,null,null,null,null,null,null,null,null,null,null,null,null,null,null,null,null,null,null,null,null,null,null,null,null,null,null,null,null,134,999,670,3202.1673873866798,32088953.967864729,1,19112967]
["01360829","0136","0829",677,136,"Holliston                    ",829,"South Middlesex",1154880.4866614202,3.9616951931541571E-2,1201069.7359359681,{"$f":"IF(K689>0, K686/K689, 0)","v":3.9847838047026116E-2},null,{"$f":"ROUND(M689*L686,0)","v":887356},836064,{"$f":"N686-O686","v":51292},6.1349370383128567,61.999999999219995,60.075376882739995,136,829,677,60.075376882739995,1201069.7359359681,677,136,829,677,60.075376882739995,1201069.7359359681,null,null,null,null,null,null,null,null,null,null,null,null,null,null,null,null,null,null,null,null,null,null,null,null,null,null,null,null,null,null,null,null,null,null,null,null,null,null,null,null,null,null,null,null,null,null,null,null,null,null,null,null,null,null,null,null,null,null,null,null,null,null,null,null,null,136,829,677,59.00000000256,1044285.3021012784,3.7519729962320711E-2,755987]
["01360999","0136","0999",680,136,"Holliston                    ",999,"Total",29151169.647202123,1,{"$f":"SUM(K685:K688)","v":30141402.766155973},{"$f":"SUM(L685:L688)","v":1},{"$f":"VLOOKUP(E689,town351,24)","v":22268606},{"$f":"SUM(N685:N688)","v":22268606},21103683,{"$f":"SUM(P685:P688)","v":1164923},5.5199985708655692,2749.9999999992201,2766.0753768827399,136,999,680,2766.0753768827399,30141402.766155973,680,136,999,680,2766.0753768827399,30141402.766155973,null,null,null,null,null,null,null,null,null,null,null,null,null,null,null,null,null,null,null,null,null,null,null,null,null,null,null,null,null,null,null,null,null,null,null,null,null,null,null,null,null,null,null,null,null,null,null,null,null,null,null,null,null,null,null,null,null,null,null,null,null,null,null,null,null,136,999,680,2712.0000000025602,27832964.233751275,1,20149057]
["01370998","0137","0998",684,137,"",998,"",0,0,0,{"$f":"IF(K694>0, K693/K694, 0)","v":0},null,{"$f":"ROUND(M694*L693,0)","v":0},0,{"$f":"N693-O693","v":0},0,0,0,137,998,684,0,0,684,137,998,684,0,0,null,null,null,null,null,null,null,null,null,null,null,null,null,null,null,null,null,null,null,null,null,null,null,null,null,null,null,null,null,null,null,null,null,null,null,null,null,null,null,null,null,null,null,null,null,null,null,null,null,null,null,null,null,null,null,null,null,null,null,null,null,null,null,null,null,137,998,684,0,0,0,0]
["01380998","0138","0998",689,138,"",998,"",0,0,0,{"$f":"IF(K699>0, K698/K699, 0)","v":0},null,{"$f":"ROUND(M699*L698,0)","v":0},0,{"$f":"N698-O698","v":0},0,0,0,138,998,689,0,0,689,138,998,689,0,0,null,null,null,null,null,null,null,null,null,null,null,null,null,null,null,null,null,null,null,null,null,null,null,null,null,null,null,null,null,null,null,null,null,null,null,null,null,null,null,null,null,null,null,null,null,null,null,null,null,null,null,null,null,null,null,null,null,null,null,null,null,null,null,null,null,138,998,689,0,0,0,0]
["01400832","0140","0832",698,140,"Hubbardston                  ",832,"Montachusett",1069814.2458428629,0.15815496108791183,881620.74591925519,{"$f":"IF(K709>0, K707/K709, 0)","v":0.13228941938074745},null,{"$f":"ROUND(M709*L707,0)","v":523481},604261,{"$f":"N707-O707","v":-80780},-13.368395445014654,63.000000002500002,50.000000002919997,140,832,698,50.000000002919997,881620.74591925519,698,140,832,698,50.000000002919997,881620.74591925519,null,null,null,null,null,null,null,null,null,null,null,null,null,null,null,null,null,null,null,null,null,null,null,null,null,null,null,null,null,null,null,null,null,null,null,null,null,null,null,null,null,null,null,null,null,null,null,null,null,null,null,null,null,null,null,null,null,null,null,null,null,null,null,null,null,140,832,698,69.0464333834,1119738.0313158799,0.16673914163625891,611381]
[{"$f":"B714&C714","v":"01410999"},"0141","0999",705,141,"Hudson                       ",999,"Total",33749566.281392127,1,{"$f":"SUM(K710:K713)","v":34920733.552292123},{"$f":"SUM(L710:L713)","v":0.99999999999999989},{"$f":"VLOOKUP(E714,town351,24)","v":21185151},{"$f":"SUM(N710:N713)","v":21185151},20331239,{"$f":"SUM(P710:P713)","v":853912},4.199999813095503,2893.999999998,2877.9999999997799,{"$f":"VLOOKUP($D714, foundoptions, VLOOKUP($T$6, foundoptcell, 2, FALSE), FALSE)","v":141},{"$f":"VLOOKUP($D714, foundoptions, VLOOKUP($T$6, foundoptcell, 2, FALSE)+1, FALSE)","v":999},{"$f":"VLOOKUP($D714, foundoptions, VLOOKUP($T$6, foundoptcell, 2, FALSE)+2, FALSE)","v":705},{"$f":"VLOOKUP($D714, foundoptions, VLOOKUP($T$6, foundoptcell, 2, FALSE)+3, FALSE)","v":2877.9999999997799},{"$f":"VLOOKUP($D714, foundoptions, VLOOKUP($T$6, foundoptcell, 2, FALSE)+4, FALSE)","v":34920733.552292123},705,141,999,705,2877.9999999997799,34920733.552292123,null,null,null,null,null,null,null,null,null,null,null,null,null,null,null,null,null,null,null,null,null,null,null,null,null,null,null,null,null,null,null,null,null,null,null,null,null,null,null,null,null,null,null,null,null,null,null,null,null,null,null,null,null,null,null,null,null,null,null,null,null,null,null,null,null,141,999,705,2917.9999999998599,32985304.286110852,1,19481831]
["01420998","0142","0998",708,142,"",998,"",0,0,0,{"$f":"IF(K719>0, K717/K719, 0)","v":0},null,{"$f":"ROUND(M719*L717,0)","v":0},0,{"$f":"N717-O717","v":0},0,0,0,142,998,708,0,0,708,142,998,708,0,0,null,null,null,null,null,null,null,null,null,null,null,null,null,null,null,null,null,null,null,null,null,null,null,null,null,null,null,null,null,null,null,null,null,null,null,null,null,null,null,null,null,null,null,null,null,null,null,null,null,null,null,null,null,null,null,null,null,null,null,null,null,null,null,null,null,142,998,708,0,0,0,0]
["01430998","0143","0998",714,143,"",998,"",0,0,0,{"$f":"IF(K724>0, K723/K724, 0)","v":0},null,{"$f":"ROUND(M724*L723,0)","v":0},0,{"$f":"N723-O723","v":0},{"$f":"IF(O723>0,P723*100/O723,IF(P723>0,100,0))","v":0},0,0,143,998,714,0,0,714,143,998,714,0,0,null,null,null,null,null,null,null,null,null,null,null,null,null,null,null,null,null,null,null,null,null,null,null,null,null,null,null,null,null,null,null,null,null,null,null,null,null,null,null,null,null,null,null,null,null,null,null,null,null,null,null,null,null,null,null,null,null,null,null,null,null,null,null,null,null,143,998,714,0,0,0,0]
["01450998","0145","0998",723,145,"",998,"",0,0,0,{"$f":"IF(K734>0, K732/K734, 0)","v":0},null,{"$f":"ROUND(M734*L732,0)","v":0},0,{"$f":"N732-O732","v":0},0,0,0,145,998,723,0,0,723,145,998,723,0,0,null,null,null,null,null,null,null,null,null,null,null,null,null,null,null,null,null,null,null,null,null,null,null,null,null,null,null,null,null,null,null,null,null,null,null,null,null,null,null,null,null,null,null,null,null,null,null,null,null,null,null,null,null,null,null,null,null,null,null,null,null,null,null,null,null,145,998,723,0,0,0,0]
["01460146","0146","0146",726,146,"Lakeville                    ",146,"Lakeville",242744.35096604392,1.2702803093241902E-2,{"$f":"X735","v":206943.87000000002},{"$f":"IF(K739>0, K735/K739, 0)","v":1.0304618346810228E-2},null,{"$f":"ROUND(M739*L735,0)","v":133581},156739,{"$f":"N735-O735","v":-23158},-14.774880533881165,15,12,146,146,726,12,206943.87000000002,726,146,146,726,12,206943.87000000002,null,null,null,null,null,null,null,null,null,null,null,null,null,null,null,null,null,null,null,null,null,null,null,null,null,null,null,null,null,null,null,null,null,null,null,null,null,null,null,null,null,null,null,null,null,null,null,null,null,null,null,null,null,null,null,null,null,null,null,null,null,null,null,null,null,146,146,726,12,192350.35000000003,1.0530152698409278E-2,123826]
["01470830","0147","0830",733,147,"Lancaster                    ",830,"Minuteman",919773.3279777061,8.4281976166709113E-2,1214733.0710103968,{"$f":"IF(K744>0, K742/K744, 0)","v":0.10608443504430402},null,{"$f":"ROUND(M744*L742,0)","v":830398},631809,{"$f":"N742-O742","v":198589},31.431809296796974,49.999999999040007,60.916870416389997,147,830,733,60.916870416389997,1214733.0710103968,733,147,830,733,60.916870416389997,1214733.0710103968,null,null,null,null,null,null,null,null,null,null,null,null,null,null,null,null,null,null,null,null,null,null,null,null,null,null,null,null,null,null,null,null,null,null,null,null,null,null,null,null,null,null,null,null,null,null,null,null,null,null,null,null,null,null,null,null,null,null,null,null,null,null,null,null,null,147,830,733,50.146627565160003,897881.22776240122,8.7152808768889978E-2,627056]
["01480148","0148","0148",736,148,"Lanesborough                 ",148,"Lanesborough",0,0,{"$f":"X745","v":29909.299999999996},{"$f":"IF(K749>0, K745/K749, 0)","v":6.7663695607712328E-3},null,{"$f":"ROUND(M749*L745,0)","v":17939},0,{"$f":"N745-O745","v":17939},100,0,2,148,148,736,2,29909.299999999996,736,148,148,736,2,29909.299999999996,null,null,null,null,null,null,null,null,null,null,null,null,null,null,null,null,null,null,null,null,null,null,null,null,null,null,null,null,null,null,null,null,null,null,null,null,null,null,null,null,null,null,null,null,null,null,null,null,null,null,null,null,null,null,null,null,null,null,null,null,null,null,null,null,null,148,148,736,0,0,0,0]
["01490999","0149","0999",745,149,"Lawrence                     ",999,"Total",236181726.12313011,1,{"$f":"SUM(K750:K753)","v":260452836.50566372},{"$f":"SUM(L750:L753)","v":1},{"$f":"VLOOKUP(E754,town351,24)","v":12903347},{"$f":"SUM(N750:N753)","v":12903347},12181013,{"$f":"SUM(P750:P753)","v":722334},5.9299994179466022,16687.9999999961,16630.99999999686,149,999,745,16630.99999999686,260452836.50566372,745,149,999,745,16630.99999999686,260452836.50566372,null,null,null,null,null,null,null,null,null,null,null,null,null,null,null,null,null,null,null,null,null,null,null,null,null,null,null,null,null,null,null,null,null,null,null,null,null,null,null,null,null,null,null,null,null,null,null,null,null,null,null,null,null,null,null,null,null,null,null,null,null,null,null,null,null,149,999,745,16568.999999993121,219576987.28133741,1,11289169]
["01510151","0151","0151",751,151,"Leicester                    ",151,"Leicester",17701915.196191557,1,{"$f":"X760","v":18481715.280000001},{"$f":"IF(K764>0, K760/K764, 0)","v":1},null,{"$f":"ROUND(M764*L760,0)","v":8697551},8369468,{"$f":"N760-O760","v":328083},3.9199982603434291,1555,1539,151,151,751,1539,18481715.280000001,751,151,151,751,1539,18481715.280000001,null,null,null,null,null,null,null,null,null,null,null,null,null,null,null,null,null,null,null,null,null,null,null,null,null,null,null,null,null,null,null,null,null,null,null,null,null,null,null,null,null,null,null,null,null,null,null,null,null,null,null,null,null,null,null,null,null,null,null,null,null,null,null,null,null,151,151,751,1580,17044107.479999997,1,8057611]
["01510998","0151","0998",754,151,"",998,"",0,0,0,{"$f":"IF(K764>0, K763/K764, 0)","v":0},null,{"$f":"ROUND(M764*L763,0)","v":0},0,{"$f":"N763-O763","v":0},0,0,0,151,998,754,0,0,754,151,998,754,0,0,null,null,null,null,null,null,null,null,null,null,null,null,null,null,null,null,null,null,null,null,null,null,null,null,null,null,null,null,null,null,null,null,null,null,null,null,null,null,null,null,null,null,null,null,null,null,null,null,null,null,null,null,null,null,null,null,null,null,null,null,null,null,null,null,null,151,998,754,0,0,0,0]
["01530998","0153","0998",763,153,"",998,"",0,0,0,{"$f":"IF(K774>0, K772/K774, 0)","v":0},null,{"$f":"ROUND(M774*L772,0)","v":0},0,{"$f":"N772-O772","v":0},0,0,0,153,998,763,0,0,763,153,998,763,0,0,null,null,null,null,null,null,null,null,null,null,null,null,null,null,null,null,null,null,null,null,null,null,null,null,null,null,null,null,null,null,null,null,null,null,null,null,null,null,null,null,null,null,null,null,null,null,null,null,null,null,null,null,null,null,null,null,null,null,null,null,null,null,null,null,null,153,998,763,0,0,0,0]
["01540999","0154","0999",770,154,"Leverett                     ",999,"Total",2419876.4403329622,1,{"$f":"SUM(K775:K778)","v":2340616.3396036001},{"$f":"SUM(L775:L778)","v":1},{"$f":"VLOOKUP(E779,town351,24)","v":1911628},{"$f":"SUM(N775:N778)","v":1911628},1837044,{"$f":"SUM(P775:P778)","v":74584},4.0600007403197749,217.99999999400001,207.99999999796,154,999,770,207.99999999796,2340616.3396036001,{"$f":"D779","v":770},154,999,770,207.99999999796,2340616.3396036001,null,null,null,null,null,null,null,null,null,null,null,null,null,null,null,null,null,null,null,null,null,null,null,null,null,null,null,null,null,null,null,null,null,null,null,null,null,null,null,null,null,null,null,null,null,null,null,null,null,null,null,null,null,null,null,null,null,null,null,null,null,null,null,null,null,154,999,770,197.99999999997002,2104252.1246821485,0.99999999999999989,1736008]
["01550998","0155","0998",773,155,"",998,null,0,0,0,{"$f":"IF(K784>0, K782/K784, 0)","v":0},null,{"$f":"ROUND(M784*L782,0)","v":0},0,{"$f":"N782-O782","v":0},0,0,0,155,998,773,0,0,773,155,998,773,0,0,null,null,null,null,null,null,null,null,null,null,null,null,null,null,null,null,null,null,null,null,null,null,null,null,null,null,null,null,null,null,null,null,null,null,null,null,null,null,null,null,null,null,null,null,null,null,null,null,null,null,null,null,null,null,null,null,null,null,null,null,null,null,null,null,null,155,998,773,0,0,0,0]
["01560818","0156","0818",778,156,"Leyden                       ",818,"Franklin County",88446.827612165827,0.12592223214899145,56127.330677605998,{"$f":"IF(K789>0, K787/K789, 0)","v":7.8225364916381837E-2},null,{"$f":"ROUND(M789*L787,0)","v":46305},72969,{"$f":"N787-O787","v":-26664},-36.541545039674382,5.00000000041,2.99999999985,156,818,778,2.99999999985,56127.330677605998,778,156,818,778,2.99999999985,56127.330677605998,null,null,null,null,null,null,null,null,null,null,null,null,null,null,null,null,null,null,null,null,null,null,null,null,null,null,null,null,null,null,null,null,null,null,null,null,null,null,null,null,null,null,null,null,null,null,null,null,null,null,null,null,null,null,null,null,null,null,null,null,null,null,null,null,null,156,818,778,6.9999999979600007,118291.33864265657,0.17113545087707557,97590]
["01570695","0157","0695",782,157,"Lincoln                      ",695,"Lincoln Sudbury",2081056.238916595,0.2369660282942645,2169804.1582421139,{"$f":"IF(K794>0, K791/K794, 0)","v":0.25519616357237368},null,{"$f":"ROUND(M794*L791,0)","v":1790089},1716871,{"$f":"N791-O791","v":73218},4.2646185997666688,184.39577656045998,187.771507224,157,695,782,187.771507224,2169804.1582421139,782,157,695,782,187.771507224,2169804.1582421139,null,null,null,null,null,null,null,null,null,null,null,null,null,null,null,null,null,null,null,null,null,null,null,null,null,null,null,null,null,null,null,null,null,null,null,null,null,null,null,null,null,null,null,null,null,null,null,null,null,null,null,null,null,null,null,null,null,null,null,null,null,null,null,null,null,157,695,782,203.06630581472001,2229997.5423586373,0.26497953155001719,1839748]
["01590159","0159","0159",791,159,"Longmeadow                   ",159,"Longmeadow",29113308.339486767,1,{"$f":"X800","v":29509451.490000002},{"$f":"IF(K804>0, K800/K804, 0)","v":1},null,{"$f":"ROUND(M804*L800,0)","v":24145968},23465469,{"$f":"N800-O800","v":680499},2.9000017003708725,2855,2808,159,159,791,2808,29509451.490000002,791,159,159,791,2808,29509451.490000002,null,null,null,null,null,null,null,null,null,null,null,null,null,null,null,null,null,null,null,null,null,null,null,null,null,null,null,null,null,null,null,null,null,null,null,null,null,null,null,null,null,null,null,null,null,null,null,null,null,null,null,null,null,null,null,null,null,null,null,null,null,null,null,null,null,159,159,791,2856,27927235.790000003,1,22667571]
["01600998","0160","0998",798,160,"",998,null,0,0,0,{"$f":"IF(K809>0, K807/K809, 0)","v":0},null,{"$f":"ROUND(M809*L807,0)","v":0},0,{"$f":"N807-O807","v":0},0,0,0,160,998,798,0,0,798,160,998,798,0,0,null,null,null,null,null,null,null,null,null,null,null,null,null,null,null,null,null,null,null,null,null,null,null,null,null,null,null,null,null,null,null,null,null,null,null,null,null,null,null,null,null,null,null,null,null,null,null,null,null,null,null,null,null,null,null,null,null,null,null,null,null,null,null,null,null,160,998,798,0,0,0,0]
["01610161","0161","0161",801,161,"Ludlow                       ",161,"Ludlow",29028174.444039177,1,{"$f":"X810","v":29682132.170000002},{"$f":"IF(K814>0, K810/K814, 0)","v":1},null,{"$f":"ROUND(M814*L810,0)","v":16798913},16193284,{"$f":"N810-O810","v":605629},3.740001101691294,2543,2509,161,161,801,2509,29682132.170000002,801,161,161,801,2509,29682132.170000002,null,null,null,null,null,null,null,null,null,null,null,null,null,null,null,null,null,null,null,null,null,null,null,null,null,null,null,null,null,null,null,null,null,null,null,null,null,null,null,null,null,null,null,null,null,null,null,null,null,null,null,null,null,null,null,null,null,null,null,null,null,null,null,null,null,161,161,801,2570,27633670.819999997,1,15760434]
["01620998","0162","0998",809,162,"",998,"",0,0,0,{"$f":"IF(K819>0, K818/K819, 0)","v":0},null,{"$f":"ROUND(M819*L818,0)","v":0},0,{"$f":"N818-O818","v":0},0,0,0,162,998,809,0,0,809,162,998,809,0,0,null,null,null,null,null,null,null,null,null,null,null,null,null,null,null,null,null,null,null,null,null,null,null,null,null,null,null,null,null,null,null,null,null,null,null,null,null,null,null,null,null,null,null,null,null,null,null,null,null,null,null,null,null,null,null,null,null,null,null,null,null,null,null,null,null,162,998,809,0,0,0,0]
["01640164","0164","0164",816,164,"Lynnfield                    ",164,"Lynnfield",23010166.94368434,0.9786420189037115,{"$f":"X825","v":23736014.726909995},{"$f":"IF(K829>0, K825/K829, 0)","v":0.97265660548578003},null,{"$f":"ROUND(M829*L825,0)","v":19294723},18762401,{"$f":"N825-O825","v":532322},2.837174197481442,2199,2205,164,164,816,2205,23736014.726909995,816,164,164,816,2205,23736014.726909995,null,null,null,null,null,null,null,null,null,null,null,null,null,null,null,null,null,null,null,null,null,null,null,null,null,null,null,null,null,null,null,null,null,null,null,null,null,null,null,null,null,null,null,null,null,null,null,null,null,null,null,null,null,null,null,null,null,null,null,null,null,null,null,null,null,164,164,816,2220,22155796.556120005,0.98345551528834785,18211808]
["01640998","0164","0998",819,164,"",998,"",0,0,0,{"$f":"IF(K829>0, K828/K829, 0)","v":0},null,{"$f":"ROUND(M829*L828,0)","v":0},0,{"$f":"N828-O828","v":0},0,0,0,164,998,819,0,0,819,164,998,819,0,0,null,null,null,null,null,null,null,null,null,null,null,null,null,null,null,null,null,null,null,null,null,null,null,null,null,null,null,null,null,null,null,null,null,null,null,null,null,null,null,null,null,null,null,null,null,null,null,null,null,null,null,null,null,null,null,null,null,null,null,null,null,null,null,null,null,164,998,819,0,0,0,0]
["01660166","0166","0166",826,166,"Manchester                   ",166,"Manchester",0,0,{"$f":"X835","v":0},{"$f":"IF(K839>0, K835/K839, 0)","v":0},null,{"$f":"ROUND(M839*L835,0)","v":0},0,{"$f":"N835-O835","v":0},0,0,0,166,166,826,0,0,826,166,166,826,0,0,null,null,null,null,null,null,null,null,null,null,null,null,null,null,null,null,null,null,null,null,null,null,null,null,null,null,null,null,null,null,null,null,null,null,null,null,null,null,null,null,null,null,null,null,null,null,null,null,null,null,null,null,null,null,null,null,null,null,null,null,null,null,null,null,null,166,166,826,0,0,0,0]
["01660998","0166","0998",829,166,"",998,"",0,0,0,{"$f":"IF(K839>0, K838/K839, 0)","v":0},null,{"$f":"ROUND(M839*L838,0)","v":0},0,{"$f":"N838-O838","v":0},0,0,0,166,998,829,0,0,829,166,998,829,0,0,null,null,null,null,null,null,null,null,null,null,null,null,null,null,null,null,null,null,null,null,null,null,null,null,null,null,null,null,null,null,null,null,null,null,null,null,null,null,null,null,null,null,null,null,null,null,null,null,null,null,null,null,null,null,null,null,null,null,null,null,null,null,null,null,null,166,998,829,0,0,0,0]
["01680998","0168","0998",838,168,"",998,null,0,0,0,{"$f":"IF(K849>0, K847/K849, 0)","v":0},null,{"$f":"ROUND(M849*L847,0)","v":0},0,{"$f":"N847-O847","v":0},0,0,0,168,998,838,0,0,838,168,998,838,0,0,null,null,null,null,null,null,null,null,null,null,null,null,null,null,null,null,null,null,null,null,null,null,null,null,null,null,null,null,null,null,null,null,null,null,null,null,null,null,null,null,null,null,null,null,null,null,null,null,null,null,null,null,null,null,null,null,null,null,null,null,null,null,null,null,null,168,998,838,0,0,0,0]
["01690169","0169","0169",841,169,"Marion                       ",169,"Marion",4612923.7963335682,0.55015663261868697,{"$f":"X850","v":4560187.0899999989},{"$f":"IF(K854>0, K850/K854, 0)","v":0.54303936026111432},null,{"$f":"ROUND(M854*L850,0)","v":3762154},3799640,{"$f":"N850-O850","v":-37486},-0.9865671484666968,450,432,169,169,841,432,4560187.0899999989,841,169,169,841,432,4560187.0899999989,null,null,null,null,null,null,null,null,null,null,null,null,null,null,null,null,null,null,null,null,null,null,null,null,null,null,null,null,null,null,null,null,null,null,null,null,null,null,null,null,null,null,null,null,null,null,null,null,null,null,null,null,null,null,null,null,null,null,null,null,null,null,null,null,null,169,169,841,452,4470718.4500000011,0.54199114889415445,3641644]
["01700801","0170","0801",847,170,"Marlborough                  ",801,"Assabet Valley",7634112.8928513061,0.10632118358570473,7941281.8937778585,{"$f":"IF(K859>0, K856/K859, 0)","v":0.10313507734897853},null,{"$f":"ROUND(M859*L856,0)","v":4295808},4239843,{"$f":"N856-O856","v":55965},1.319978121831398,418.00000000079996,411.99999999928002,170,801,847,411.99999999928002,7941281.8937778585,847,170,801,847,411.99999999928002,7941281.8937778585,null,null,null,null,null,null,null,null,null,null,null,null,null,null,null,null,null,null,null,null,null,null,null,null,null,null,null,null,null,null,null,null,null,null,null,null,null,null,null,null,null,null,null,null,null,null,null,null,null,null,null,null,null,null,null,null,null,null,null,null,null,null,null,null,null,170,801,847,426.00000000294006,7459718.2314719874,0.1092591823534427,4118930]
["01710998","0171","0998",854,171,"",998,"",0,0,0,{"$f":"IF(K864>0, K863/K864, 0)","v":0},null,{"$f":"ROUND(M864*L863,0)","v":0},0,{"$f":"N863-O863","v":0},0,0,0,171,998,854,0,0,854,171,998,854,0,0,null,null,null,null,null,null,null,null,null,null,null,null,null,null,null,null,null,null,null,null,null,null,null,null,null,null,null,null,null,null,null,null,null,null,null,null,null,null,null,null,null,null,null,null,null,null,null,null,null,null,null,null,null,null,null,null,null,null,null,null,null,null,null,null,null,171,998,854,0,0,0,0]
["01730855","0173","0855",863,173,"Mattapoisett                 ",855,"Old Colony",566884.8297313127,6.0675219535134786E-2,635366.33575252478,{"$f":"IF(K874>0, K872/K874, 0)","v":6.5654131959060585E-2},null,{"$f":"ROUND(M874*L872,0)","v":524177},467680,{"$f":"N872-O872","v":56497},12.08026855969894,34.000000000050001,36.154838710279996,173,855,863,36.154838710279996,635366.33575252478,863,173,855,863,36.154838710279996,635366.33575252478,null,null,null,null,null,null,null,null,null,null,null,null,null,null,null,null,null,null,null,null,null,null,null,null,null,null,null,null,null,null,null,null,null,null,null,null,null,null,null,null,null,null,null,null,null,null,null,null,null,null,null,null,null,null,null,null,null,null,null,null,null,null,null,null,null,173,855,863,25.999999998429999,417581.21984349348,4.6099308622332677E-2,344505]
["01740174","0174","0174",866,174,"Maynard                      ",174,"Maynard",15291603.711841691,0.91980489876284721,{"$f":"X875","v":15104159.783779997},{"$f":"IF(K879>0, K875/K879, 0)","v":0.91371427456049459},null,{"$f":"ROUND(M879*L875,0)","v":10360316},10005157,{"$f":"N875-O875","v":355159},3.5497593890830497,1364,1305,174,174,866,1305,15104159.783779997,866,174,174,866,1305,15104159.783779997,null,null,null,null,null,null,null,null,null,null,null,null,null,null,null,null,null,null,null,null,null,null,null,null,null,null,null,null,null,null,null,null,null,null,null,null,null,null,null,null,null,null,null,null,null,null,null,null,null,null,null,null,null,null,null,null,null,null,null,null,null,null,null,null,null,174,174,866,1412,15215994.512989998,0.92841386703359019,9813974]
["01750878","0175","0878",872,175,"Medfield                     ",878,"Tri County",192307.52698475428,7.3129647600522277E-3,277616.21053395915,{"$f":"IF(K884>0, K881/K884, 0)","v":1.0223078652190977E-2},null,{"$f":"ROUND(M884*L881,0)","v":227757},156432,{"$f":"N881-O881","v":71325},45.594891070880635,10.999999999709999,15.000000001799998,175,878,872,15.000000001799998,277616.21053395915,872,175,878,872,15.000000001799998,277616.21053395915,null,null,null,null,null,null,null,null,null,null,null,null,null,null,null,null,null,null,null,null,null,null,null,null,null,null,null,null,null,null,null,null,null,null,null,null,null,null,null,null,null,null,null,null,null,null,null,null,null,null,null,null,null,null,null,null,null,null,null,null,null,null,null,null,null,175,878,872,11.99999999786,202104.04340920335,8.0526683249856814E-3,166736]
["01750999","0175","0999",875,175,"Medfield                     ",999,"Total",26296793.885190398,1,{"$f":"SUM(K880:K883)","v":27155832.404210385},{"$f":"SUM(L880:L883)","v":1},{"$f":"VLOOKUP(E884,town351,24)","v":22278747},{"$f":"SUM(N880:N883)","v":22278747},21391020,{"$f":"SUM(P880:P883)","v":887727},4.1499984572965669,2535.00000000009,2532.0000000028999,175,999,875,2532.0000000028999,27155832.404210385,875,175,999,875,2532.0000000028999,27155832.404210385,null,null,null,null,null,null,null,null,null,null,null,null,null,null,null,null,null,null,null,null,null,null,null,null,null,null,null,null,null,null,null,null,null,null,null,null,null,null,null,null,null,null,null,null,null,null,null,null,null,null,null,null,null,null,null,null,null,null,null,null,null,null,null,null,null,175,999,875,2527.9999999964998,25097773.21662664,1,20705663]
["01770878","0177","0878",882,177,"Medway                       ",878,"Tri County",1031467.6447831831,4.1746045685860794E-2,1054941.5998913473,{"$f":"IF(K894>0, K891/K894, 0)","v":4.2040733674683133E-2},null,{"$f":"ROUND(M894*L891,0)","v":746872},710380,{"$f":"N891-O891","v":36492},5.1369689461978094,59.00000000112,56.999999999400004,177,878,882,56.999999999400004,1054941.5998913473,882,177,878,882,56.999999999400004,1054941.5998913473,null,null,null,null,null,null,null,null,null,null,null,null,null,null,null,null,null,null,null,null,null,null,null,null,null,null,null,null,null,null,null,null,null,null,null,null,null,null,null,null,null,null,null,null,null,null,null,null,null,null,null,null,null,null,null,null,null,null,null,null,null,null,null,null,null,177,878,882,59.999999998680003,1010520.2172039947,4.3119355757937579E-2,702960]
["01790179","0179","0179",891,179,"Mendon                       ",179,"Mendon",114974.37804282685,1.0104202884835453E-2,{"$f":"X900","v":104682.55},{"$f":"IF(K904>0, K900/K904, 0)","v":9.0615057265824289E-3},null,{"$f":"ROUND(M904*L900,0)","v":79141},83426,{"$f":"N900-O900","v":-4285},-5.1362884472466614,8,7,179,179,891,7,104682.55,891,179,179,891,7,104682.55,null,null,null,null,null,null,null,null,null,null,null,null,null,null,null,null,null,null,null,null,null,null,null,null,null,null,null,null,null,null,null,null,null,null,null,null,null,null,null,null,null,null,null,null,null,null,null,null,null,null,null,null,null,null,null,null,null,null,null,null,null,null,null,null,null,179,179,891,9,125950.56911999999,1.1598758015111576E-2,90115]
["01790998","0179","0998",894,179,"",998,"",0,0,0,{"$f":"IF(K904>0, K903/K904, 0)","v":0},null,{"$f":"ROUND(M904*L903,0)","v":0},0,{"$f":"N903-O903","v":0},0,0,0,179,998,894,0,0,894,179,998,894,0,0,null,null,null,null,null,null,null,null,null,null,null,null,null,null,null,null,null,null,null,null,null,null,null,null,null,null,null,null,null,null,null,null,null,null,null,null,null,null,null,null,null,null,null,null,null,null,null,null,null,null,null,null,null,null,null,null,null,null,null,null,null,null,null,null,null,179,998,894,0,0,0,0]
["01810181","0181","0181",901,181,"Methuen                      ",181,"Methuen",86487500.831909508,0.94284406676659538,{"$f":"X910","v":91361491.539999992},{"$f":"IF(K914>0, K910/K914, 0)","v":0.93997319959754422},null,{"$f":"ROUND(M914*L910,0)","v":40299104},38919879,{"$f":"N910-O910","v":1379225},3.5437545938927508,7164,7124,181,181,901,7124,91361491.539999992,901,181,181,901,7124,91361491.539999992,null,null,null,null,null,null,null,null,null,null,null,null,null,null,null,null,null,null,null,null,null,null,null,null,null,null,null,null,null,null,null,null,null,null,null,null,null,null,null,null,null,null,null,null,null,null,null,null,null,null,null,null,null,null,null,null,null,null,null,null,null,null,null,null,null,181,181,901,7169,81561883.420000002,0.93751327795627548,37125698]
["01820998","0182","0998",909,182,"",998,"",0,0,0,{"$f":"IF(K919>0, K918/K919, 0)","v":0},null,{"$f":"ROUND(M919*L918,0)","v":0},0,{"$f":"N918-O918","v":0},0,0,0,182,998,909,0,0,909,182,998,909,0,0,null,null,null,null,null,null,null,null,null,null,null,null,null,null,null,null,null,null,null,null,null,null,null,null,null,null,null,null,null,null,null,null,null,null,null,null,null,null,null,null,null,null,null,null,null,null,null,null,null,null,null,null,null,null,null,null,null,null,null,null,null,null,null,null,null,182,998,909,0,0,0,0]
["01830672","0183","0672",912,183,"Middlefield                  ",672,"Gateway",444814.70151824184,0.91163612911053205,405148.95447788428,{"$f":"IF(K924>0, K921/K924, 0)","v":0.90030519224320416},null,{"$f":"ROUND(M924*L921,0)","v":334248},353526,{"$f":"N921-O921","v":-19278},-5.453064272500467,38.958097395000003,33.964732649410003,183,672,912,33.964732649410003,405148.95447788428,912,183,672,912,33.964732649410003,405148.95447788428,null,null,null,null,null,null,null,null,null,null,null,null,null,null,null,null,null,null,null,null,null,null,null,null,null,null,null,null,null,null,null,null,null,null,null,null,null,null,null,null,null,null,null,null,null,null,null,null,null,null,null,null,null,null,null,null,null,null,null,null,null,null,null,null,null,183,672,912,38.293318234140003,413996.59754027304,0.88207265020932335,329159]
["01840998","0184","0998",919,184,"",998,"",0,0,0,{"$f":"IF(K929>0, K928/K929, 0)","v":0},null,{"$f":"ROUND(M929*L928,0)","v":0},0,{"$f":"N928-O928","v":0},0,0,0,184,998,919,0,0,919,184,998,919,0,0,null,null,null,null,null,null,null,null,null,null,null,null,null,null,null,null,null,null,null,null,null,null,null,null,null,null,null,null,null,null,null,null,null,null,null,null,null,null,null,null,null,null,null,null,null,null,null,null,null,null,null,null,null,null,null,null,null,null,null,null,null,null,null,null,null,184,998,919,0,0,0,0]
["01850805","0185","0805",922,185,"Milford                      ",805,"Blackstone Valley",2507514.1402214565,4.587776665652761E-2,2524316.1835768986,{"$f":"IF(K934>0, K931/K934, 0)","v":4.2395186811671877E-2},null,{"$f":"ROUND(M934*L931,0)","v":1147211},1194735,{"$f":"N931-O931","v":-47524},-3.9777858688328376,155.00000000212,150.00000000012,185,805,922,150.00000000012,2524316.1835768986,922,185,805,922,150.00000000012,2524316.1835768986,null,null,null,null,null,null,null,null,null,null,null,null,null,null,null,null,null,null,null,null,null,null,null,null,null,null,null,null,null,null,null,null,null,null,null,null,null,null,null,null,null,null,null,null,null,null,null,null,null,null,null,null,null,null,null,null,null,null,null,null,null,null,null,null,null,185,805,922,162.99999999599999,2537878.7131393338,4.9296245054877459E-2,1245037]
["01860998","0186","0998",929,186,"",998,"",0,0,0,{"$f":"IF(K939>0, K938/K939, 0)","v":0},null,{"$f":"ROUND(M939*L938,0)","v":0},0,{"$f":"N938-O938","v":0},0,0,0,186,998,929,0,0,929,186,998,929,0,0,null,null,null,null,null,null,null,null,null,null,null,null,null,null,null,null,null,null,null,null,null,null,null,null,null,null,null,null,null,null,null,null,null,null,null,null,null,null,null,null,null,null,null,null,null,null,null,null,null,null,null,null,null,null,null,null,null,null,null,null,null,null,null,null,null,186,998,929,0,0,0,0]
["01870999","0187","0999",935,187,"Millis                       ",999,"Total",13389620.355464779,0.99999999999999989,{"$f":"SUM(K940:K943)","v":13425157.952243309},{"$f":"SUM(L940:L943)","v":0.99999999999999989},{"$f":"VLOOKUP(E944,town351,24)","v":10010672},{"$f":"SUM(N940:N943)","v":10010672},9468147,{"$f":"SUM(P940:P943)","v":542525},5.7300018683698086,1214.99999999947,1168.9999999956001,187,999,935,1168.9999999956001,13425157.952243309,935,187,999,935,1168.9999999956001,13425157.952243309,null,null,null,null,null,null,null,null,null,null,null,null,null,null,null,null,null,null,null,null,null,null,null,null,null,null,null,null,null,null,null,null,null,null,null,null,null,null,null,null,null,null,null,null,null,null,null,null,null,null,null,null,null,null,null,null,null,null,null,null,null,null,null,null,null,187,999,935,1229.0000000028901,12823595.801972833,1,9071434]
["01880999","0188","0999",940,188,"Millville                    ",999,"Total",5903772.2694125548,1,{"$f":"SUM(K945:K948)","v":5787322.7630971037},{"$f":"SUM(L945:L948)","v":1},{"$f":"VLOOKUP(E949,town351,24)","v":2568133},{"$f":"SUM(N945:N948)","v":2568133},2493333,{"$f":"SUM(P945:P948)","v":74800},3.0000004010695722,527.56013551106003,495.10526316440001,188,999,940,495.10526316440001,5787322.7630971037,940,188,999,940,495.10526316440001,5787322.7630971037,null,null,null,null,null,null,null,null,null,null,null,null,null,null,null,null,null,null,null,null,null,null,null,null,null,null,null,null,null,null,null,null,null,null,null,null,null,null,null,null,null,null,null,null,null,null,null,null,null,null,null,null,null,null,null,null,null,null,null,null,null,null,null,null,null,188,999,940,528.86554621469998,5702542.0044989502,1,2425421]
["01900851","0190","0851",947,190,"Monroe                       ",851,"Northern Berkshire",35179.883282053939,0.25744581177784553,36293.964348932699,{"$f":"IF(K959>0, K956/K959, 0)","v":0.1945391418780259},null,{"$f":"ROUND(M959*L956,0)","v":19241},25898,{"$f":"N956-O956","v":-6657},-25.704687620665688,1.9999999980199998,1.9999999981900001,190,851,947,1.9999999981900001,36293.964348932699,947,190,851,947,1.9999999981900001,36293.964348932699,null,null,null,null,null,null,null,null,null,null,null,null,null,null,null,null,null,null,null,null,null,null,null,null,null,null,null,null,null,null,null,null,null,null,null,null,null,null,null,null,null,null,null,null,null,null,null,null,null,null,null,null,null,null,null,null,null,null,null,null,null,null,null,null,null,190,851,947,3.0000000014399997,50514.371172895553,0.3718701361388565,37297]
["01920192","0192","0192",956,192,"Montague                     ",192,"Montague",0,0,{"$f":"X965","v":0},{"$f":"IF(K969>0, K965/K969, 0)","v":0},null,{"$f":"ROUND(M969*L965,0)","v":0},0,{"$f":"N965-O965","v":0},0,0,0,192,192,956,0,0,956,192,192,956,0,0,null,null,null,null,null,null,null,null,null,null,null,null,null,null,null,null,null,null,null,null,null,null,null,null,null,null,null,null,null,null,null,null,null,null,null,null,null,null,null,null,null,null,null,null,null,null,null,null,null,null,null,null,null,null,null,null,null,null,null,null,null,null,null,null,null,192,192,956,0,0,0,0]
["01920998","0192","0998",959,192,"",998,"",0,0,0,{"$f":"IF(K969>0, K968/K969, 0)","v":0},null,{"$f":"ROUND(M969*L968,0)","v":0},0,{"$f":"N968-O968","v":0},0,0,0,192,998,959,0,0,959,192,998,959,0,0,null,null,null,null,null,null,null,null,null,null,null,null,null,null,null,null,null,null,null,null,null,null,null,null,null,null,null,null,null,null,null,null,null,null,null,null,null,null,null,null,null,null,null,null,null,null,null,null,null,null,null,null,null,null,null,null,null,null,null,null,null,null,null,null,null,192,998,959,0,0,0,0]
["01940194","0194","0194",966,194,"Montgomery                   ",194,"Montgomery",114974.37804282685,0.13908001892536279,{"$f":"X975","v":89727.900000000009},{"$f":"IF(K979>0, K975/K979, 0)","v":9.7194668753567137E-2},null,{"$f":"ROUND(M979*L975,0)","v":68939},94854,{"$f":"N975-O975","v":-25915},-27.32093533219474,8,6,194,194,966,6,89727.900000000009,966,194,194,966,6,89727.900000000009,null,null,null,null,null,null,null,null,null,null,null,null,null,null,null,null,null,null,null,null,null,null,null,null,null,null,null,null,null,null,null,null,null,null,null,null,null,null,null,null,null,null,null,null,null,null,null,null,null,null,null,null,null,null,null,null,null,null,null,null,null,null,null,null,null,194,194,966,6,83022.959999999992,0.10180889154589118,68494]
["01950998","0195","0998",972,195,"",998,"",0,0,0,{"$f":"IF(K984>0, K981/K984, 0)","v":0},null,{"$f":"ROUND(M984*L981,0)","v":0},0,{"$f":"N981-O981","v":0},0,0,0,195,998,972,0,0,972,195,998,972,0,0,null,null,null,null,null,null,null,null,null,null,null,null,null,null,null,null,null,null,null,null,null,null,null,null,null,null,null,null,null,null,null,null,null,null,null,null,null,null,null,null,null,null,null,null,null,null,null,null,null,null,null,null,null,null,null,null,null,null,null,null,null,null,null,null,null,195,998,972,0,0,0,0]
["01950999","0195","0999",975,195,"Mount Washington             ",999,"Total",7755.8152895000003,1,{"$f":"SUM(K980:K983)","v":17787.5},{"$f":"SUM(L980:L983)","v":1},{"$f":"VLOOKUP(E984,town351,24)","v":14675},{"$f":"SUM(N980:N983)","v":14675},6399,{"$f":"SUM(P980:P983)","v":8276},129.33270823566181,1,2,195,999,975,2,17787.5,975,195,999,975,2,17787.5,null,null,null,null,null,null,null,null,null,null,null,null,null,null,null,null,null,null,null,null,null,null,null,null,null,null,null,null,null,null,null,null,null,null,null,null,null,null,null,null,null,null,null,null,null,null,null,null,null,null,null,null,null,null,null,null,null,null,null,null,null,null,null,null,null,195,999,975,3,25705.73,1,21207]
["01970998","0197","0998",984,197,"",998,"",0,0,0,{"$f":"IF(K994>0, K993/K994, 0)","v":0},null,{"$f":"ROUND(M994*L993,0)","v":0},0,{"$f":"N993-O993","v":0},0,0,0,197,998,984,0,0,984,197,998,984,0,0,null,null,null,null,null,null,null,null,null,null,null,null,null,null,null,null,null,null,null,null,null,null,null,null,null,null,null,null,null,null,null,null,null,null,null,null,null,null,null,null,null,null,null,null,null,null,null,null,null,null,null,null,null,null,null,null,null,null,null,null,null,null,null,null,null,197,998,984,0,0,0,0]
["01980829","0198","0829",987,198,"Natick                       ",829,"South Middlesex",1303897.3236544733,2.2070651388775585E-2,1221087.5649160368,{"$f":"IF(K999>0, K996/K999, 0)","v":2.0335423245917778E-2},null,{"$f":"ROUND(M999*L996,0)","v":1007397},1075715,{"$f":"N996-O996","v":-68318},-6.3509386779955657,69.99999999936,61.07663316651,198,829,987,61.07663316651,1221087.5649160368,987,198,829,987,61.07663316651,1221087.5649160368,null,null,null,null,null,null,null,null,null,null,null,null,null,null,null,null,null,null,null,null,null,null,null,null,null,null,null,null,null,null,null,null,null,null,null,null,null,null,null,null,null,null,null,null,null,null,null,null,null,null,null,null,null,null,null,null,null,null,null,null,null,null,null,null,null,198,829,987,72.000000000900002,1274382.0635418554,2.233296008682132E-2,1051365]
["01990998","0199","0998",994,199,"",998,"",0,0,0,{"$f":"IF(K1004>0, K1003/K1004, 0)","v":0},null,{"$f":"ROUND(M1004*L1003,0)","v":0},0,{"$f":"N1003-O1003","v":0},0,0,0,199,998,994,0,0,994,199,998,994,0,0,null,null,null,null,null,null,null,null,null,null,null,null,null,null,null,null,null,null,null,null,null,null,null,null,null,null,null,null,null,null,null,null,null,null,null,null,null,null,null,null,null,null,null,null,null,null,null,null,null,null,null,null,null,null,null,null,null,null,null,null,null,null,null,null,null,199,998,994,0,0,0,0]
["02000998","0200","0998",998,200,"",998,"",0,0,0,{"$f":"IF(K1009>0, K1007/K1009, 0)","v":0},null,{"$f":"ROUND(M1009*L1007,0)","v":0},0,{"$f":"N1007-O1007","v":0},0,0,0,200,998,998,0,0,998,200,998,998,0,0,null,null,null,null,null,null,null,null,null,null,null,null,null,null,null,null,null,null,null,null,null,null,null,null,null,null,null,null,null,null,null,null,null,null,null,null,null,null,null,null,null,null,null,null,null,null,null,null,null,null,null,null,null,null,null,null,null,null,null,null,null,null,null,null,null,200,998,998,0,0,0,0]
["02010910","0201","0910",1003,201,"New Bedford                  ",910,"Bristol County",772185.76638749149,3.5115539274066989E-3,829349.9217552077,{"$f":"IF(K1014>0, K1012/K1014, 0)","v":3.5466350582202969E-3},null,{"$f":"ROUND(M1014*L1012,0)","v":128292},121728,{"$f":"N1012-O1012","v":6564},5.392350157728707,45.000000001709999,47.000000000519996,201,910,1003,47.000000000519996,829349.9217552077,1003,201,910,1003,47.000000000519996,829349.9217552077,null,null,null,null,null,null,null,null,null,null,null,null,null,null,null,null,null,null,null,null,null,null,null,null,null,null,null,null,null,null,null,null,null,null,null,null,null,null,null,null,null,null,null,null,null,null,null,null,null,null,null,null,null,null,null,null,null,null,null,null,null,null,null,null,null,201,910,1003,31.000000000189999,499862.49720100709,2.4715726577556451E-3,82019]
["02030773","0203","0773",1012,203,"Newbury                      ",773,"Triton",7354043.8788254308,0.93408684940973508,7548686.8629403748,{"$f":"IF(K1024>0, K1021/K1024, 0)","v":0.93945883255301788},null,{"$f":"ROUND(M1024*L1021,0)","v":6227667},6067087,{"$f":"N1021-O1021","v":160580},2.6467396956727338,664.59609673938007,657.18934911079998,203,773,1012,657.18934911079998,7548686.8629403748,1012,203,773,1012,657.18934911079998,7548686.8629403748,null,null,null,null,null,null,null,null,null,null,null,null,null,null,null,null,null,null,null,null,null,null,null,null,null,null,null,null,null,null,null,null,null,null,null,null,null,null,null,null,null,null,null,null,null,null,null,null,null,null,null,null,null,null,null,null,null,null,null,null,null,null,null,null,null,203,773,1012,704.81151195529992,7446932.4057712611,0.93500634874726452,6143719]
["02030999","0203","0999",1015,203,"Newbury                      ",999,"Total",7872976.56901237,0.99999999999999989,{"$f":"SUM(K1020:K1023)","v":8035143.8523671217},{"$f":"SUM(L1020:L1023)","v":1},{"$f":"VLOOKUP(E1024,town351,24)","v":6628994},{"$f":"SUM(N1020:N1023)","v":6628994},6495206,{"$f":"SUM(P1020:P1023)","v":133788},2.0597961019250199,695.59609673626005,684.18934910479993,203,999,1015,684.18934910479993,8035143.8523671217,1015,203,999,1015,684.18934910479993,8035143.8523671217,null,null,null,null,null,null,null,null,null,null,null,null,null,null,null,null,null,null,null,null,null,null,null,null,null,null,null,null,null,null,null,null,null,null,null,null,null,null,null,null,null,null,null,null,null,null,null,null,null,null,null,null,null,null,null,null,null,null,null,null,null,null,null,null,null,203,999,1015,736.81151195543987,7964579.5087367827,1,6570778]
["02050765","0205","0765",1022,205,"New Marlborough              ",765,"Southern Berkshire",1521288.4041824425,1,1716018.622476327,{"$f":"IF(K1034>0, K1031/K1034, 0)","v":1},null,{"$f":"ROUND(M1034*L1031,0)","v":1290475},1222735,{"$f":"N1031-O1031","v":67740},5.5400393380413577,129.88888888592001,145.02881844363,205,765,1022,145.02881844363,1716018.622476327,1022,205,765,1022,145.02881844363,1716018.622476327,null,null,null,null,null,null,null,null,null,null,null,null,null,null,null,null,null,null,null,null,null,null,null,null,null,null,null,null,null,null,null,null,null,null,null,null,null,null,null,null,null,null,null,null,null,null,null,null,null,null,null,null,null,null,null,null,null,null,null,null,null,null,null,null,null,205,765,1022,131.52798789619999,1431983.1043015721,1,1181386]
["02060818","0206","0818",1029,206,"New Salem                    ",818,"Franklin County",123825.55867341252,9.5140708866205057E-2,130963.77158108067,{"$f":"IF(K1039>0, K1038/K1039, 0)","v":0.10438087768590219},null,{"$f":"ROUND(M1039*L1038,0)","v":83191},72256,{"$f":"N1038-O1038","v":10935},15.133691319751993,7.0000000015000001,6.99999999965,206,818,1029,6.99999999965,130963.77158108067,1029,206,818,1029,6.99999999965,130963.77158108067,null,null,null,null,null,null,null,null,null,null,null,null,null,null,null,null,null,null,null,null,null,null,null,null,null,null,null,null,null,null,null,null,null,null,null,null,null,null,null,null,null,null,null,null,null,null,null,null,null,null,null,null,null,null,null,null,null,null,null,null,null,null,null,null,null,206,818,1029,3.0000000004,50696.288011243807,3.7725911627524727E-2,28101]
["02070998","0207","0998",1033,207,"",998,"",0,0,0,{"$f":"IF(K1044>0, K1042/K1044, 0)","v":0},null,{"$f":"ROUND(M1044*L1042,0)","v":0},0,{"$f":"N1042-O1042","v":0},{"$f":"IF(O1042>0,P1042*100/O1042,IF(P1042>0,100,0))","v":0},0,0,207,998,1033,0,0,1033,207,998,1033,0,0,null,null,null,null,null,null,null,null,null,null,null,null,null,null,null,null,null,null,null,null,null,null,null,null,null,null,null,null,null,null,null,null,null,null,null,null,null,null,null,null,null,null,null,null,null,null,null,null,null,null,null,null,null,null,null,null,null,null,null,null,null,null,null,null,null,207,998,1033,0,0,0,0]
["02080999","0208","0999",1040,208,"Norfolk                      ",999,"Total",17583320.394404672,0.99999999999999989,{"$f":"SUM(K1045:K1048)","v":17999680.005969323},{"$f":"SUM(L1045:L1048)","v":0.99999999999999978},{"$f":"VLOOKUP(E1049,town351,24)","v":14849736},{"$f":"SUM(N1045:N1048)","v":14849737},14506238,{"$f":"SUM(P1045:P1048)","v":343499},2.3679399166069106,1678.9999999943302,1668.3378706793198,208,999,1040,1668.3378706793198,17999680.005969323,1040,208,999,1040,1668.3378706793198,17999680.005969323,null,null,null,null,null,null,null,null,null,null,null,null,null,null,null,null,null,null,null,null,null,null,null,null,null,null,null,null,null,null,null,null,null,null,null,null,null,null,null,null,null,null,null,null,null,null,null,null,null,null,null,null,null,null,null,null,null,null,null,null,null,null,null,null,null,208,999,1040,1692.9999999981499,17051558.464975089,0.99999999999999989,14067536]
["02100998","0210","0998",1049,210,"",998,"",0,0,0,{"$f":"IF(K1059>0, K1058/K1059, 0)","v":0},null,{"$f":"ROUND(M1059*L1058,0)","v":0},0,{"$f":"N1058-O1058","v":0},0,0,0,210,998,1049,0,0,1049,210,998,1049,0,0,null,null,null,null,null,null,null,null,null,null,null,null,null,null,null,null,null,null,null,null,null,null,null,null,null,null,null,null,null,null,null,null,null,null,null,null,null,null,null,null,null,null,null,null,null,null,null,null,null,null,null,null,null,null,null,null,null,null,null,null,null,null,null,null,null,210,998,1049,0,0,0,0]
["02100999","0210","0999",1050,210,"Northampton                  ",999,"Total",32566094.38646866,1,{"$f":"SUM(K1055:K1058)","v":34042001.600000001},{"$f":"SUM(L1055:L1058)","v":1},{"$f":"VLOOKUP(E1059,town351,24)","v":28084651},{"$f":"SUM(N1055:N1058)","v":28084651},26619751,{"$f":"SUM(P1055:P1058)","v":1464900},5.503056734076889,2806,2858,210,999,1050,2858,34042001.600000001,1050,210,999,1050,2858,34042001.600000001,null,null,null,null,null,null,null,null,null,null,null,null,null,null,null,null,null,null,null,null,null,null,null,null,null,null,null,null,null,null,null,null,null,null,null,null,null,null,null,null,null,null,null,null,null,null,null,null,null,null,null,null,null,null,null,null,null,null,null,null,null,null,null,null,null,210,999,1050,2818,30968773.75,1,25549238]
["02120998","0212","0998",1059,212,"",998,"",0,0,0,{"$f":"IF(K1069>0, K1068/K1069, 0)","v":0},null,{"$f":"ROUND(M1069*L1068,0)","v":0},0,{"$f":"N1068-O1068","v":0},0,0,0,212,998,1059,0,0,1059,212,998,1059,0,0,null,null,null,null,null,null,null,null,null,null,null,null,null,null,null,null,null,null,null,null,null,null,null,null,null,null,null,null,null,null,null,null,null,null,null,null,null,null,null,null,null,null,null,null,null,null,null,null,null,null,null,null,null,null,null,null,null,null,null,null,null,null,null,null,null,212,998,1059,0,0,0,0]
["02140214","0214","0214",1066,214,"Northbridge                  ",214,"Northbridge",23912162.03207574,0.89848711466369913,{"$f":"X1075","v":23869208.760000002},{"$f":"IF(K1079>0, K1075/K1079, 0)","v":0.89466094452214107},null,{"$f":"ROUND(M1079*L1075,0)","v":12603405},12120372,{"$f":"N1075-O1075","v":483033},3.9852984710370274,2133,2074,214,214,1066,2074,23869208.760000002,1066,214,214,1066,2074,23869208.760000002,null,null,null,null,null,null,null,null,null,null,null,null,null,null,null,null,null,null,null,null,null,null,null,null,null,null,null,null,null,null,null,null,null,null,null,null,null,null,null,null,null,null,null,null,null,null,null,null,null,null,null,null,null,null,null,null,null,null,null,null,null,null,null,null,null,214,214,1066,2230,23583382.150000002,0.9023045849191863,11810469]
["02140998","0214","0998",1068,214,"",998,"",0,0,0,{"$f":"IF(K1079>0, K1077/K1079, 0)","v":0},null,{"$f":"ROUND(M1079*L1077,0)","v":0},0,{"$f":"N1077-O1077","v":0},0,0,0,214,998,1068,0,0,1068,214,998,1068,0,0,null,null,null,null,null,null,null,null,null,null,null,null,null,null,null,null,null,null,null,null,null,null,null,null,null,null,null,null,null,null,null,null,null,null,null,null,null,null,null,null,null,null,null,null,null,null,null,null,null,null,null,null,null,null,null,null,null,null,null,null,null,null,null,null,null,214,998,1068,0,0,0,0]
["02160750","0216","0750",1077,216,"Northfield                   ",750,"Pioneer",3575964.089857887,0.87834197148075999,3591981.6064817272,{"$f":"IF(K1089>0, K1086/K1089, 0)","v":0.87351891409717508},null,{"$f":"ROUND(M1089*L1086,0)","v":2625237},2500457,{"$f":"N1086-O1086","v":124780},4.9902877753946582,326.77539341855999,310.78751857511998,216,750,1077,310.78751857511998,3591981.6064817272,1077,216,750,1077,310.78751857511998,3591981.6064817272,null,null,null,null,null,null,null,null,null,null,null,null,null,null,null,null,null,null,null,null,null,null,null,null,null,null,null,null,null,null,null,null,null,null,null,null,null,null,null,null,null,null,null,null,null,null,null,null,null,null,null,null,null,null,null,null,null,null,null,null,null,null,null,null,null,216,750,1077,333.10198300157998,3489624.0853268183,0.87315104502150853,2564886]
["02170998","0217","0998",1084,217,"",998,"",0,0,0,{"$f":"IF(K1094>0, K1093/K1094, 0)","v":0},null,{"$f":"ROUND(M1094*L1093,0)","v":0},0,{"$f":"N1093-O1093","v":0},0,0,0,217,998,1084,0,0,1084,217,998,1084,0,0,null,null,null,null,null,null,null,null,null,null,null,null,null,null,null,null,null,null,null,null,null,null,null,null,null,null,null,null,null,null,null,null,null,null,null,null,null,null,null,null,null,null,null,null,null,null,null,null,null,null,null,null,null,null,null,null,null,null,null,null,null,null,null,null,null,217,998,1084,0,0,0,0]
["02180872","0218","0872",1087,218,"Norton                       ",872,"Southeastern",1676726.6501687749,6.0368858366739393E-2,2010015.0842867091,{"$f":"IF(K1099>0, K1096/K1099, 0)","v":6.9735295412733045E-2},null,{"$f":"ROUND(M1099*L1096,0)","v":1381352},1123043,{"$f":"N1096-O1096","v":258309},23.000811188885912,96.125572271629991,106.13993399390002,218,872,1087,106.13993399390002,2010015.0842867091,1087,218,872,1087,106.13993399390002,2010015.0842867091,null,null,null,null,null,null,null,null,null,null,null,null,null,null,null,null,null,null,null,null,null,null,null,null,null,null,null,null,null,null,null,null,null,null,null,null,null,null,null,null,null,null,null,null,null,null,null,null,null,null,null,null,null,null,null,null,null,null,null,null,null,null,null,null,null,218,872,1087,92.122096880489991,1548779.873458182,5.6654422192833467E-2,999283]
["02190873","0219","0873",1092,219,"Norwell                      ",873,"South Shore",318426.98530452535,1.4059676915578197E-2,366696.40306412411,{"$f":"IF(K1104>0, K1101/K1104, 0)","v":1.5644716044177529E-2},null,{"$f":"ROUND(M1104*L1101,0)","v":302515},261686,{"$f":"N1101-O1101","v":40829},15.602286710026521,18.123924271050001,20.110905730239999,219,873,1092,20.110905730239999,366696.40306412411,1092,219,873,1092,20.110905730239999,366696.40306412411,null,null,null,null,null,null,null,null,null,null,null,null,null,null,null,null,null,null,null,null,null,null,null,null,null,null,null,null,null,null,null,null,null,null,null,null,null,null,null,null,null,null,null,null,null,null,null,null,null,null,null,null,null,null,null,null,null,null,null,null,null,null,null,null,null,219,873,1092,16.000000001309999,268329.52977696125,1.2353976994315296E-2,221372]
["02200220","0220","0220",1096,220,"Norwood                      ",220,"Norwood",40452845.134236395,0.96812477041240874,{"$f":"X1105","v":43093955.158840001},{"$f":"IF(K1109>0, K1105/K1109, 0)","v":0.96144541538359274},null,{"$f":"ROUND(M1109*L1105,0)","v":33505490},32400134,{"$f":"N1105-O1105","v":1105356},3.411578482977879,3460,3531,220,220,1096,3531,43093955.158840001,1096,220,220,1096,3531,43093955.158840001,null,null,null,null,null,null,null,null,null,null,null,null,null,null,null,null,null,null,null,null,null,null,null,null,null,null,null,null,null,null,null,null,null,null,null,null,null,null,null,null,null,null,null,null,null,null,null,null,null,null,null,null,null,null,null,null,null,null,null,null,null,null,null,null,null,220,220,1096,3431,38062700.293799996,0.97178913273396095,31401727]
["02210999","0221","0999",1105,221,"Oak Bluffs                   ",999,"Total",7448753.434485713,1,{"$f":"SUM(K1110:K1113)","v":8136007.0286781965},{"$f":"SUM(L1110:L1113)","v":1},{"$f":"VLOOKUP(E1114,town351,24)","v":6276424},{"$f":"SUM(N1110:N1113)","v":6276424},5958253,{"$f":"SUM(P1110:P1113)","v":318171},5.3400048638418003,624.99999999905003,644.00000000189993,221,999,1105,644.00000000189993,8136007.0286781965,1105,221,999,1105,644.00000000189993,8136007.0286781965,null,null,null,null,null,null,null,null,null,null,null,null,null,null,null,null,null,null,null,null,null,null,null,null,null,null,null,null,null,null,null,null,null,null,null,null,null,null,null,null,null,null,null,null,null,null,null,null,null,null,null,null,null,null,null,null,null,null,null,null,null,null,null,null,null,221,999,1105,606.00000000124999,6928362.1297940891,0.99999999999999989,5715899]
["02220860","0222","0860",1108,222,"Oakham                       ",860,"Pathfinder",266399.08293454367,9.2848100951065354E-2,224565.49157502179,{"$f":"IF(K1119>0, K1117/K1119, 0)","v":7.3064877048806209E-2},null,{"$f":"ROUND(M1119*L1117,0)","v":124228},157910,{"$f":"N1117-O1117","v":-33682},-21.329871445760244,15.000000001769999,11.99999999726,222,860,1108,11.99999999726,224565.49157502179,1108,222,860,1108,11.99999999726,224565.49157502179,null,null,null,null,null,null,null,null,null,null,null,null,null,null,null,null,null,null,null,null,null,null,null,null,null,null,null,null,null,null,null,null,null,null,null,null,null,null,null,null,null,null,null,null,null,null,null,null,null,null,null,null,null,null,null,null,null,null,null,null,null,null,null,null,null,222,860,1108,16.000000000410001,270157.60419540445,9.2508224529709374E-2,154959]
["02230999","0223","0999",1115,223,"Orange                       ",999,"Total",14636556.227665836,1,{"$f":"SUM(K1120:K1123)","v":14875865.178515222},{"$f":"SUM(L1120:L1123)","v":1},{"$f":"VLOOKUP(E1124,town351,24)","v":4049774},{"$f":"SUM(N1120:N1123)","v":4049774},3923819,{"$f":"SUM(P1120:P1123)","v":125955},3.2100104515524288,1149.0000000012501,1141.3241491101501,223,999,1115,1141.3241491101501,14875865.178515222,1115,223,999,1115,1141.3241491101501,14875865.178515222,null,null,null,null,null,null,null,null,null,null,null,null,null,null,null,null,null,null,null,null,null,null,null,null,null,null,null,null,null,null,null,null,null,null,null,null,null,null,null,null,null,null,null,null,null,null,null,null,null,null,null,null,null,null,null,null,null,null,null,null,null,null,null,null,null,223,999,1115,1164.9999999967999,13880109.468562521,1,3792229]
["02250998","0225","0998",1124,225,"",998,"",0,0,0,{"$f":"IF(K1134>0, K1133/K1134, 0)","v":0},null,{"$f":"ROUND(M1134*L1133,0)","v":0},0,{"$f":"N1133-O1133","v":0},0,0,0,225,998,1124,0,0,1124,225,998,1124,0,0,null,null,null,null,null,null,null,null,null,null,null,null,null,null,null,null,null,null,null,null,null,null,null,null,null,null,null,null,null,null,null,null,null,null,null,null,null,null,null,null,null,null,null,null,null,null,null,null,null,null,null,null,null,null,null,null,null,null,null,null,null,null,null,null,null,225,998,1124,0,0,0,0]
["02260999","0226","0999",1130,226,"Oxford                       ",999,"Total",22262242.396207817,1,{"$f":"SUM(K1135:K1138)","v":21573839.365971319},{"$f":"SUM(L1135:L1138)","v":1},{"$f":"VLOOKUP(E1139,town351,24)","v":11342693},{"$f":"SUM(N1135:N1138)","v":11342693},10875065,{"$f":"SUM(P1135:P1138)","v":467628},4.3000018850462043,1889.9999999956899,1783.9999999951301,226,999,1130,1783.9999999951301,21573839.365971319,1130,226,999,1130,1783.9999999951301,21573839.365971319,null,null,null,null,null,null,null,null,null,null,null,null,null,null,null,null,null,null,null,null,null,null,null,null,null,null,null,null,null,null,null,null,null,null,null,null,null,null,null,null,null,null,null,null,null,null,null,null,null,null,null,null,null,null,null,null,null,null,null,null,null,null,null,null,null,226,999,1130,1933.9999999950001,21794119.527710199,0.99999999999999989,10766387]
["02270998","0227","0998",1133,227,"",998,"",0,0,0,{"$f":"IF(K1144>0, K1142/K1144, 0)","v":0},null,{"$f":"ROUND(M1144*L1142,0)","v":0},0,{"$f":"N1142-O1142","v":0},0,0,0,227,998,1133,0,0,1133,227,998,1133,0,0,null,null,null,null,null,null,null,null,null,null,null,null,null,null,null,null,null,null,null,null,null,null,null,null,null,null,null,null,null,null,null,null,null,null,null,null,null,null,null,null,null,null,null,null,null,null,null,null,null,null,null,null,null,null,null,null,null,null,null,null,null,null,null,null,null,227,998,1133,0,0,0,0]
["02290817","0229","0817",1142,229,"Peabody                      ",817,"Essex North Shore",4887848.1510583097,6.5610755886188032E-2,5392251.6886282051,{"$f":"IF(K1154>0, K1151/K1154, 0)","v":6.8906340669772234E-2},null,{"$f":"ROUND(M1154*L1151,0)","v":3734676},3402274,{"$f":"N1151-O1151","v":332402},9.7699950092203043,291.99999999659997,299.00000000580002,229,817,1142,299.00000000580002,5392251.6886282051,1142,229,817,1142,299.00000000580002,5392251.6886282051,null,null,null,null,null,null,null,null,null,null,null,null,null,null,null,null,null,null,null,null,null,null,null,null,null,null,null,null,null,null,null,null,null,null,null,null,null,null,null,null,null,null,null,null,null,null,null,null,null,null,null,null,null,null,null,null,null,null,null,null,null,null,null,null,null,229,817,1142,285.99999999795,4634726.2840215741,6.6381887636032991E-2,3325535]
["02290998","0229","0998",1143,229,"",998,"",0,0,0,{"$f":"IF(K1154>0, K1152/K1154, 0)","v":0},null,{"$f":"ROUND(M1154*L1152,0)","v":0},0,{"$f":"N1152-O1152","v":0},0,0,0,229,998,1143,0,0,1143,229,998,1143,0,0,null,null,null,null,null,null,null,null,null,null,null,null,null,null,null,null,null,null,null,null,null,null,null,null,null,null,null,null,null,null,null,null,null,null,null,null,null,null,null,null,null,null,null,null,null,null,null,null,null,null,null,null,null,null,null,null,null,null,null,null,null,null,null,null,null,229,998,1143,0,0,0,0]
["02310998","0231","0998",1152,231,"",998,"",0,0,0,{"$f":"IF(K1164>0, K1161/K1164, 0)","v":0},null,{"$f":"ROUND(M1164*L1161,0)","v":0},0,{"$f":"N1161-O1161","v":0},0,0,0,231,998,1152,0,0,1152,231,998,1152,0,0,null,null,null,null,null,null,null,null,null,null,null,null,null,null,null,null,null,null,null,null,null,null,null,null,null,null,null,null,null,null,null,null,null,null,null,null,null,null,null,null,null,null,null,null,null,null,null,null,null,null,null,null,null,null,null,null,null,null,null,null,null,null,null,null,null,231,998,1152,0,0,0,0]
["02310999","0231","0999",1155,231,"Pembroke                     ",999,"Total",31408204.402095743,1,{"$f":"SUM(K1160:K1163)","v":32306393.869140003},{"$f":"SUM(L1160:L1163)","v":1},{"$f":"VLOOKUP(E1164,town351,24)","v":21528573},{"$f":"SUM(N1160:N1163)","v":21528573},20722469,{"$f":"SUM(P1160:P1163)","v":806104},3.8899997871875209,2900,2854,231,999,1155,2854,32306393.869140003,1155,231,999,1155,2854,32306393.869140003,null,null,null,null,null,null,null,null,null,null,null,null,null,null,null,null,null,null,null,null,null,null,null,null,null,null,null,null,null,null,null,null,null,null,null,null,null,null,null,null,null,null,null,null,null,null,null,null,null,null,null,null,null,null,null,null,null,null,null,null,null,null,null,null,null,231,999,1155,2902,30098844.630960006,1,19889115]
["02330233","0233","0233",1161,233,"Peru                         ",233,"Peru",114974.37804282685,9.5469400569193244E-2,{"$f":"X1170","v":119637.19999999998},{"$f":"IF(K1174>0, K1170/K1174, 0)","v":0.10074634864045441},null,{"$f":"ROUND(M1174*L1170,0)","v":58525},52709,{"$f":"N1170-O1170","v":5816},11.034168737786716,8,8,233,233,1161,8,119637.19999999998,1161,233,233,1161,8,119637.19999999998,null,null,null,null,null,null,null,null,null,null,null,null,null,null,null,null,null,null,null,null,null,null,null,null,null,null,null,null,null,null,null,null,null,null,null,null,null,null,null,null,null,null,null,null,null,null,null,null,null,null,null,null,null,null,null,null,null,null,null,null,null,null,null,null,null,233,233,1161,8,110697.28,9.1684077623400431E-2,49777]
["02340999","0234","0999",1170,234,"Petersham                    ",999,"Total",1624779.6148557174,1.0000000000000002,{"$f":"SUM(K1175:K1178)","v":1729964.4894431548},{"$f":"SUM(L1175:L1178)","v":1.0000000000000002},{"$f":"VLOOKUP(E1179,town351,24)","v":1158940},{"$f":"SUM(N1175:N1178)","v":1158940},1124639,{"$f":"SUM(P1175:P1178)","v":34301},3.0499564749221748,131.99999999976001,136.26256077479999,234,999,1170,136.26256077479999,1729964.4894431548,1170,234,999,1170,136.26256077479999,1729964.4894431548,null,null,null,null,null,null,null,null,null,null,null,null,null,null,null,null,null,null,null,null,null,null,null,null,null,null,null,null,null,null,null,null,null,null,null,null,null,null,null,null,null,null,null,null,null,null,null,null,null,null,null,null,null,null,null,null,null,null,null,null,null,null,null,null,null,234,999,1170,127.00201884431,1474030.2003364211,1,1109958]
["02360998","0236","0998",1177,236,"",998,"",0,0,0,{"$f":"IF(K1189>0, K1186/K1189, 0)","v":0},null,{"$f":"ROUND(M1189*L1186,0)","v":0},0,{"$f":"N1186-O1186","v":0},0,0,0,236,998,1177,0,0,1177,236,998,1177,0,0,null,null,null,null,null,null,null,null,null,null,null,null,null,null,null,null,null,null,null,null,null,null,null,null,null,null,null,null,null,null,null,null,null,null,null,null,null,null,null,null,null,null,null,null,null,null,null,null,null,null,null,null,null,null,null,null,null,null,null,null,null,null,null,null,null,236,998,1177,0,0,0,0]
["02360999","0236","0999",1180,236,"Pittsfield                   ",999,"Total",75857280.533894911,1,{"$f":"SUM(K1185:K1188)","v":79181621.190000027},{"$f":"SUM(L1185:L1188)","v":1},{"$f":"VLOOKUP(E1189,town351,24)","v":28582519},{"$f":"SUM(N1185:N1188)","v":28582519},28171219,{"$f":"SUM(P1185:P1188)","v":411300},1.460000719173707,6022,5920,236,999,1180,5920,79181621.190000027,1180,236,999,1180,5920,79181621.190000027,null,null,null,null,null,null,null,null,null,null,null,null,null,null,null,null,null,null,null,null,null,null,null,null,null,null,null,null,null,null,null,null,null,null,null,null,null,null,null,null,null,null,null,null,null,null,null,null,null,null,null,null,null,null,null,null,null,null,null,null,null,null,null,null,null,236,999,1180,6009,70785982.700000003,1,28120602]
["02380915","0238","0915",1189,238,"Plainville                   ",915,"Norfolk County",71537.777068564435,4.7712831758989493E-3,127757.42446124447,{"$f":"IF(K1199>0, K1198/K1199, 0)","v":8.2967311985434125E-3},null,{"$f":"ROUND(M1199*L1198,0)","v":91635},50438,{"$f":"N1198-O1198","v":41197},81.678496371783183,4.00000000038,7.0000000012400001,238,915,1189,7.0000000012400001,127757.42446124447,1189,238,915,1189,7.0000000012400001,127757.42446124447,null,null,null,null,null,null,null,null,null,null,null,null,null,null,null,null,null,null,null,null,null,null,null,null,null,null,null,null,null,null,null,null,null,null,null,null,null,null,null,null,null,null,null,null,null,null,null,null,null,null,null,null,null,null,null,null,null,null,null,null,null,null,null,null,null,238,915,1189,8.9999999997500009,153794.41543974928,1.0782357720713029E-2,109308]
["02390998","0239","0998",1193,239,"",998,"",0,0,0,{"$f":"IF(K1204>0, K1202/K1204, 0)","v":0},null,{"$f":"ROUND(M1204*L1202,0)","v":0},0,{"$f":"N1202-O1202","v":0},0,0,0,239,998,1193,0,0,1193,239,998,1193,0,0,null,null,null,null,null,null,null,null,null,null,null,null,null,null,null,null,null,null,null,null,null,null,null,null,null,null,null,null,null,null,null,null,null,null,null,null,null,null,null,null,null,null,null,null,null,null,null,null,null,null,null,null,null,null,null,null,null,null,null,null,null,null,null,null,null,239,998,1193,0,0,0,0]
["02400998","0240","0998",1198,240,"",998,"",0,0,0,{"$f":"IF(K1209>0, K1207/K1209, 0)","v":0},null,{"$f":"ROUND(M1209*L1207,0)","v":0},0,{"$f":"N1207-O1207","v":0},0,0,0,240,998,1198,0,0,1198,240,998,1198,0,0,null,null,null,null,null,null,null,null,null,null,null,null,null,null,null,null,null,null,null,null,null,null,null,null,null,null,null,null,null,null,null,null,null,null,null,null,null,null,null,null,null,null,null,null,null,null,null,null,null,null,null,null,null,null,null,null,null,null,null,null,null,null,null,null,null,240,998,1198,0,0,0,0]
["02410999","0241","0999",1205,241,"Princeton                    ",999,"Total",4771565.6315470701,1,{"$f":"SUM(K1210:K1213)","v":4992908.7601092318},{"$f":"SUM(L1210:L1213)","v":1},{"$f":"VLOOKUP(E1214,town351,24)","v":4103693},{"$f":"SUM(N1210:N1213)","v":4103693},3935641,{"$f":"SUM(P1210:P1213)","v":168052},4.2700032853606311,446.47974857390005,451.70838049487998,241,999,1205,451.70838049487998,4992908.7601092318,1205,241,999,1205,451.70838049487998,4992908.7601092318,null,null,null,null,null,null,null,null,null,null,null,null,null,null,null,null,null,null,null,null,null,null,null,null,null,null,null,null,null,null,null,null,null,null,null,null,null,null,null,null,null,null,null,null,null,null,null,null,null,null,null,null,null,null,null,null,null,null,null,null,null,null,null,null,null,241,999,1205,462.83334301445996,4720162.3667393876,1,3794852]
["02420998","0242","0998",1208,242,"",998,"",0,0,0,{"$f":"IF(K1219>0, K1217/K1219, 0)","v":0},null,{"$f":"ROUND(M1219*L1217,0)","v":0},0,{"$f":"N1217-O1217","v":0},0,0,0,242,998,1208,0,0,1208,242,998,1208,0,0,null,null,null,null,null,null,null,null,null,null,null,null,null,null,null,null,null,null,null,null,null,null,null,null,null,null,null,null,null,null,null,null,null,null,null,null,null,null,null,null,null,null,null,null,null,null,null,null,null,null,null,null,null,null,null,null,null,null,null,null,null,null,null,null,null,242,998,1208,0,0,0,0]
[{"$f":"B1226&C1226","v":"02440806"},"0244","0806",1217,244,"Randolph                     ",806,"Blue Hills",4965034.581240152,0.10728606372416803,5269584.0095275622,{"$f":"IF(K1229>0, K1226/K1229, 0)","v":0.10712618765410817},null,{"$f":"ROUND(M1229*L1226,0)","v":2855963},2728702,{"$f":"N1226-O1226","v":127261},4.6637925284622508,279.99999999647997,279.00000000235002,{"$f":"VLOOKUP($D1226, foundoptions, VLOOKUP($T$6, foundoptcell, 2, FALSE), FALSE)","v":244},{"$f":"VLOOKUP($D1226, foundoptions, VLOOKUP($T$6, foundoptcell, 2, FALSE)+1, FALSE)","v":806},{"$f":"VLOOKUP($D1226, foundoptions, VLOOKUP($T$6, foundoptcell, 2, FALSE)+2, FALSE)","v":1217},{"$f":"VLOOKUP($D1226, foundoptions, VLOOKUP($T$6, foundoptcell, 2, FALSE)+3, FALSE)","v":279.00000000235002},{"$f":"VLOOKUP($D1226, foundoptions, VLOOKUP($T$6, foundoptcell, 2, FALSE)+4, FALSE)","v":5269584.0095275622},1217,244,806,1217,279.00000000235002,5269584.0095275622,null,null,null,null,null,null,null,null,null,null,null,null,null,null,null,null,null,null,null,null,null,null,null,null,null,null,null,null,null,null,null,null,null,null,null,null,null,null,null,null,null,null,null,null,null,null,null,null,null,null,null,null,null,null,null,null,null,null,null,null,null,null,null,null,null,244,806,1217,269.99999999796,4584912.6482518008,0.10391819644049996,2550216]
["02440998","0244","0998",1219,244,"",998,"",0,0,0,{"$f":"IF(K1229>0, K1228/K1229, 0)","v":0},null,{"$f":"ROUND(M1229*L1228,0)","v":0},0,{"$f":"N1228-O1228","v":0},0,0,0,244,998,1219,0,0,1219,244,998,1219,0,0,null,null,null,null,null,null,null,null,null,null,null,null,null,null,null,null,null,null,null,null,null,null,null,null,null,null,null,null,null,null,null,null,null,null,null,null,null,null,null,null,null,null,null,null,null,null,null,null,null,null,null,null,null,null,null,null,null,null,null,null,null,null,null,null,null,244,998,1219,0,0,0,0]
["02460246","0246","0246",1226,246,"Reading                      ",246,"Reading",42311533.287209027,0.99144854572110475,{"$f":"X1235","v":42863193.318320006},{"$f":"IF(K1239>0, K1235/K1239, 0)","v":0.98824764261522113},null,{"$f":"ROUND(M1239*L1235,0)","v":35362134},34907015,{"$f":"N1235-O1235","v":455119},1.3038038342722802,4040,3975,246,246,1226,3975,42863193.318320006,1226,246,246,1226,3975,42863193.318320006,null,null,null,null,null,null,null,null,null,null,null,null,null,null,null,null,null,null,null,null,null,null,null,null,null,null,null,null,null,null,null,null,null,null,null,null,null,null,null,null,null,null,null,null,null,null,null,null,null,null,null,null,null,null,null,null,null,null,null,null,null,null,null,null,null,246,246,1226,4077,40642299.144709997,0.99143613903203631,33529896]
["02470999","0247","0999",1235,247,"Rehoboth                     ",999,"Total",19174953.12380328,0.99999999999999978,{"$f":"SUM(K1240:K1243)","v":19631645.871945407},{"$f":"SUM(L1240:L1243)","v":1.0000000000000002},{"$f":"VLOOKUP(E1244,town351,24)","v":14902896},{"$f":"SUM(N1240:N1243)","v":14902896},14210829,{"$f":"SUM(P1240:P1243)","v":692067},4.8699973801669136,1724.0690035190901,1711.7804766160998,247,999,1235,1711.7804766160998,19631645.871945407,1235,247,999,1235,1711.7804766160998,19631645.871945407,null,null,null,null,null,null,null,null,null,null,null,null,null,null,null,null,null,null,null,null,null,null,null,null,null,null,null,null,null,null,null,null,null,null,null,null,null,null,null,null,null,null,null,null,null,null,null,null,null,null,null,null,null,null,null,null,null,null,null,null,null,null,null,null,null,247,999,1235,1729.4955029514099,18427784.595025487,1,13731596]
["02480248","0248","0248",1236,248,"Revere                       ",248,"Revere",104529856.46755695,0.95722290772276597,{"$f":"X1245","v":117084100.45236},{"$f":"IF(K1249>0, K1245/K1249, 0)","v":0.95751234988563649},null,{"$f":"ROUND(M1249*L1245,0)","v":36998310},34860627,{"$f":"N1245-O1245","v":2137683},6.1320841991740425,7991,7979,248,248,1236,7979,117084100.45236,1236,248,248,1236,7979,117084100.45236,null,null,null,null,null,null,null,null,null,null,null,null,null,null,null,null,null,null,null,null,null,null,null,null,null,null,null,null,null,null,null,null,null,null,null,null,null,null,null,null,null,null,null,null,null,null,null,null,null,null,null,null,null,null,null,null,null,null,null,null,null,null,null,null,null,248,248,1236,7848,96064542.993500009,0.95631512980617406,32918306]
["02490999","0249","0999",1245,249,"Richmond                     ",999,"Total",1333384.0206293394,1,{"$f":"SUM(K1250:K1253)","v":1462282.96},{"$f":"SUM(L1250:L1253)","v":1},{"$f":"VLOOKUP(E1254,town351,24)","v":1206383},{"$f":"SUM(N1250:N1253)","v":1206383},1100042,{"$f":"SUM(P1250:P1253)","v":106341},9.6669945329360143,120,125,249,999,1245,125,1462282.96,1245,249,999,1245,125,1462282.96,null,null,null,null,null,null,null,null,null,null,null,null,null,null,null,null,null,null,null,null,null,null,null,null,null,null,null,null,null,null,null,null,null,null,null,null,null,null,null,null,null,null,null,null,null,null,null,null,null,null,null,null,null,null,null,null,null,null,null,null,null,null,null,null,null,249,999,1245,119,1277797.2200000002,1,1054183]
["02500999","0250","0999",1250,250,"Rochester                    ",999,"Total",10825143.620353527,0.99999999999999989,{"$f":"SUM(K1255:K1258)","v":11045698.874531303},{"$f":"SUM(L1255:L1258)","v":1},{"$f":"VLOOKUP(E1259,town351,24)","v":6831178},{"$f":"SUM(N1255:N1258)","v":6831179},6545154,{"$f":"SUM(P1255:P1258)","v":286025},4.3700270459640826,986.00000000112004,965.68877347764999,250,999,1250,965.68877347764999,11045698.874531303,1250,250,999,1250,965.68877347764999,11045698.874531303,null,null,null,null,null,null,null,null,null,null,null,null,null,null,null,null,null,null,null,null,null,null,null,null,null,null,null,null,null,null,null,null,null,null,null,null,null,null,null,null,null,null,null,null,null,null,null,null,null,null,null,null,null,null,null,null,null,null,null,null,null,null,null,null,null,250,999,1250,986.00000000598004,10322153.016662948,1,6323209]
["02510998","0251","0998",1254,251,"",998,"",0,0,0,{"$f":"IF(K1264>0, K1263/K1264, 0)","v":0},null,{"$f":"ROUND(M1264*L1263,0)","v":0},0,{"$f":"N1263-O1263","v":0},0,0,0,251,998,1254,0,0,1254,251,998,1254,0,0,null,null,null,null,null,null,null,null,null,null,null,null,null,null,null,null,null,null,null,null,null,null,null,null,null,null,null,null,null,null,null,null,null,null,null,null,null,null,null,null,null,null,null,null,null,null,null,null,null,null,null,null,null,null,null,null,null,null,null,null,null,null,null,null,null,251,998,1254,0,0,0,0]
["02530998","0253","0998",1263,253,"",998,"",0,0,0,{"$f":"IF(K1274>0, K1272/K1274, 0)","v":0},null,{"$f":"ROUND(M1274*L1272,0)","v":0},0,{"$f":"N1272-O1272","v":0},0,0,0,253,998,1263,0,0,1263,253,998,1263,0,0,null,null,null,null,null,null,null,null,null,null,null,null,null,null,null,null,null,null,null,null,null,null,null,null,null,null,null,null,null,null,null,null,null,null,null,null,null,null,null,null,null,null,null,null,null,null,null,null,null,null,null,null,null,null,null,null,null,null,null,null,null,null,null,null,null,253,998,1263,0,0,0,0]
["02540999","0254","0999",1270,254,"Rowley                       ",999,"Total",8763634.4522223752,1,{"$f":"SUM(K1275:K1278)","v":8952842.4661761839},{"$f":"SUM(L1275:L1278)","v":0.99999999999999989},{"$f":"VLOOKUP(E1279,town351,24)","v":7386095},{"$f":"SUM(N1275:N1278)","v":7386095},7229997,{"$f":"SUM(P1275:P1278)","v":156098},2.1590327077590765,776.81417054527992,762.71597632780004,254,999,1270,762.71597632780004,8952842.4661761839,1270,254,999,1270,762.71597632780004,8952842.4661761839,null,null,null,null,null,null,null,null,null,null,null,null,null,null,null,null,null,null,null,null,null,null,null,null,null,null,null,null,null,null,null,null,null,null,null,null,null,null,null,null,null,null,null,null,null,null,null,null,null,null,null,null,null,null,null,null,null,null,null,null,null,null,null,null,null,254,999,1270,809.38913660330002,8688419.6238105074,1.0000000000000002,7167946]
["02550832","0255","0832",1273,255,"Royalston                    ",832,"Montachusett",220755.32055485723,0.13912623680153266,229221.39382123598,{"$f":"IF(K1284>0, K1282/K1284, 0)","v":0.12560347310335782},null,{"$f":"ROUND(M1284*L1282,0)","v":76192},80498,{"$f":"N1282-O1282","v":-4306},-5.3492012223906187,12.99999999958,12.999999994080001,255,832,1273,12.999999994080001,229221.39382123598,1273,255,832,1273,12.999999994080001,229221.39382123598,null,null,null,null,null,null,null,null,null,null,null,null,null,null,null,null,null,null,null,null,null,null,null,null,null,null,null,null,null,null,null,null,null,null,null,null,null,null,null,null,null,null,null,null,null,null,null,null,null,null,null,null,null,null,null,null,null,null,null,null,null,null,null,null,null,255,832,1273,18.012113052660002,292105.57332384272,0.19275077262778667,107412]
["02570775","0257","0775",1282,257,"Rutland                      ",775,"Wachusett",16314850.873472257,0.94991067971999166,16930092.56242026,{"$f":"IF(K1294>0, K1291/K1294, 0)","v":0.94923577870118458},null,{"$f":"ROUND(M1294*L1291,0)","v":7678996},7225628,{"$f":"N1291-O1291","v":453368},6.274444242078336,1584.29036316213,1594.37684029506,257,775,1282,1594.37684029506,16930092.56242026,{"$f":"D1291","v":1282},257,775,1282,1594.37684029506,16930092.56242026,null,null,null,null,null,null,null,null,null,null,null,null,null,null,null,null,null,null,null,null,null,null,null,null,null,null,null,null,null,null,null,null,null,null,null,null,null,null,null,null,null,null,null,null,null,null,null,null,null,null,null,null,null,null,null,null,null,null,null,null,null,null,null,null,null,257,775,1282,1608.6727602666899,15875996.597459069,0.96167914409512656,6967469]
["02580817","0258","0817",1287,258,"Salem                        ",817,"Essex North Shore",2996317.8734341851,4.7575742885386491E-2,3336343.0179449613,{"$f":"IF(K1299>0, K1296/K1299, 0)","v":5.1856254238463656E-2},null,{"$f":"ROUND(M1299*L1296,0)","v":1953274},1707192,{"$f":"N1296-O1296","v":246082},{"$f":"IF(O1296>0,P1296*100/O1296,IF(P1296>0,100,0))","v":14.414430245689999},178.9999999986,184.99999999790001,258,817,1287,184.99999999790001,3336343.0179449613,1287,258,817,1287,184.99999999790001,3336343.0179449613,null,null,null,null,null,null,null,null,null,null,null,null,null,null,null,null,null,null,null,null,null,null,null,null,null,null,null,null,null,null,null,null,null,null,null,null,null,null,null,null,null,null,null,null,null,null,null,null,null,null,null,null,null,null,null,null,null,null,null,null,null,null,null,null,null,258,817,1287,183.99999999959999,2981781.944979819,5.1548736933793374E-2,1824759]
["02590259","0259","0259",1291,259,"Salisbury                    ",259,"Salisbury",14371.797255353356,1.3652179041389293E-3,{"$f":"X1300","v":29909.299999999996},{"$f":"IF(K1304>0, K1300/K1304, 0)","v":2.7409129247675064E-3},null,{"$f":"ROUND(M1304*L1300,0)","v":24675},11857,{"$f":"N1300-O1300","v":12818},108.10491692670996,1,2,259,259,1291,2,29909.299999999996,1291,259,259,1291,2,29909.299999999996,null,null,null,null,null,null,null,null,null,null,null,null,null,null,null,null,null,null,null,null,null,null,null,null,null,null,null,null,null,null,null,null,null,null,null,null,null,null,null,null,null,null,null,null,null,null,null,null,null,null,null,null,null,null,null,null,null,null,null,null,null,null,null,null,null,259,259,1291,5,69185.8,6.8439606095900534E-3,57078]
["02600998","0260","0998",1298,260,"",998,"",0,0,0,{"$f":"IF(K1309>0, K1307/K1309, 0)","v":0},null,{"$f":"ROUND(M1309*L1307,0)","v":0},0,{"$f":"N1307-O1307","v":0},0,0,0,260,998,1298,0,0,1298,260,998,1298,0,0,null,null,null,null,null,null,null,null,null,null,null,null,null,null,null,null,null,null,null,null,null,null,null,null,null,null,null,null,null,null,null,null,null,null,null,null,null,null,null,null,null,null,null,null,null,null,null,null,null,null,null,null,null,null,null,null,null,null,null,null,null,null,null,null,null,260,998,1298,0,0,0,0]
["02610261","0261","0261",1301,261,"Sandwich                     ",261,"Sandwich",28195096.030377951,0.93356641461708623,{"$f":"X1310","v":28812575.09},{"$f":"IF(K1314>0, K1310/K1314, 0)","v":0.9340229992425364},null,{"$f":"ROUND(M1314*L1310,0)","v":23770374},23260955,{"$f":"N1310-O1310","v":509419},2.1900175637672659,2672,2644,261,261,1301,2644,28812575.09,1301,261,261,1301,2644,28812575.09,null,null,null,null,null,null,null,null,null,null,null,null,null,null,null,null,null,null,null,null,null,null,null,null,null,null,null,null,null,null,null,null,null,null,null,null,null,null,null,null,null,null,null,null,null,null,null,null,null,null,null,null,null,null,null,null,null,null,null,null,null,null,null,null,null,261,261,1301,2740,27742486.25,0.92849118543875597,22887551]
["02620999","0262","0999",1310,262,"Saugus                       ",999,"Total",34921468.199392244,1,{"$f":"SUM(K1315:K1318)","v":36764270.101730444},{"$f":"SUM(L1315:L1318)","v":0.99999999999999989},{"$f":"VLOOKUP(E1319,town351,24)","v":29507720},{"$f":"SUM(N1315:N1318)","v":29507720},28169661,{"$f":"SUM(P1315:P1318)","v":1338059},4.7500003638666435,2952.9999999991601,2977.0000000062901,262,999,1310,2977.0000000062901,36764270.101730444,1310,262,999,1310,2977.0000000062901,36764270.101730444,null,null,null,null,null,null,null,null,null,null,null,null,null,null,null,null,null,null,null,null,null,null,null,null,null,null,null,null,null,null,null,null,null,null,null,null,null,null,null,null,null,null,null,null,null,null,null,null,null,null,null,null,null,null,null,null,null,null,null,null,null,null,null,null,null,262,999,1310,2899.9999999941601,32630788.26782953,1,26871755]
["02630998","0263","0998",1313,263,"",998,"",0,0,0,{"$f":"IF(K1324>0, K1322/K1324, 0)","v":0},null,{"$f":"ROUND(M1324*L1322,0)","v":0},0,{"$f":"N1322-O1322","v":0},0,0,0,263,998,1313,0,0,1313,263,998,1313,0,0,null,null,null,null,null,null,null,null,null,null,null,null,null,null,null,null,null,null,null,null,null,null,null,null,null,null,null,null,null,null,null,null,null,null,null,null,null,null,null,null,null,null,null,null,null,null,null,null,null,null,null,null,null,null,null,null,null,null,null,null,null,null,null,null,null,263,998,1313,0,0,0,0]
["02640998","0264","0998",1319,264,"",998,"",0,0,0,{"$f":"IF(K1329>0, K1328/K1329, 0)","v":0},null,{"$f":"ROUND(M1329*L1328,0)","v":0},0,{"$f":"N1328-O1328","v":0},0,0,0,264,998,1319,0,0,1319,264,998,1319,0,0,null,null,null,null,null,null,null,null,null,null,null,null,null,null,null,null,null,null,null,null,null,null,null,null,null,null,null,null,null,null,null,null,null,null,null,null,null,null,null,null,null,null,null,null,null,null,null,null,null,null,null,null,null,null,null,null,null,null,null,null,null,null,null,null,null,264,998,1319,0,0,0,0]
["02660266","0266","0266",1326,266,"Sharon                       ",266,"Sharon",37027112.382259734,0.99151410098053594,{"$f":"X1335","v":38544967.070799999},{"$f":"IF(K1339>0, K1335/K1339, 0)","v":0.99181503372308422},null,{"$f":"ROUND(M1339*L1335,0)","v":31024567},29719389,{"$f":"N1335-O1335","v":1305178},4.3916717130355538,3505,3535,266,266,1326,3535,38544967.070799999,1326,266,266,1326,3535,38544967.070799999,null,null,null,null,null,null,null,null,null,null,null,null,null,null,null,null,null,null,null,null,null,null,null,null,null,null,null,null,null,null,null,null,null,null,null,null,null,null,null,null,null,null,null,null,null,null,null,null,null,null,null,null,null,null,null,null,null,null,null,null,null,null,null,null,null,266,266,1326,3458,34930860.248220004,0.99042472858719222,28416519]
["02660998","0266","0998",1329,266,"",998,"",0,0,0,{"$f":"IF(K1339>0, K1338/K1339, 0)","v":0},null,{"$f":"ROUND(M1339*L1338,0)","v":0},0,{"$f":"N1338-O1338","v":0},0,0,0,266,998,1329,0,0,1329,266,998,1329,0,0,null,null,null,null,null,null,null,null,null,null,null,null,null,null,null,null,null,null,null,null,null,null,null,null,null,null,null,null,null,null,null,null,null,null,null,null,null,null,null,null,null,null,null,null,null,null,null,null,null,null,null,null,null,null,null,null,null,null,null,null,null,null,null,null,null,266,998,1329,0,0,0,0]
["02680818","0268","0818",1338,268,"Shelburne                    ",818,"Franklin County",123825.55867341252,6.0613812998718604E-2,261927.54316216134,{"$f":"IF(K1349>0, K1347/K1349, 0)","v":0.12023389167290389},null,{"$f":"ROUND(M1349*L1347,0)","v":181913},87835,{"$f":"N1347-O1347","v":94078},107.1076450162236,7.0000000015000001,13.9999999993,268,818,1338,13.9999999993,261927.54316216134,1338,268,818,1338,13.9999999993,261927.54316216134,null,null,null,null,null,null,null,null,null,null,null,null,null,null,null,null,null,null,null,null,null,null,null,null,null,null,null,null,null,null,null,null,null,null,null,null,null,null,null,null,null,null,null,null,null,null,null,null,null,null,null,null,null,null,null,null,null,null,null,null,null,null,null,null,null,268,818,1338,6.0000000008000001,101392.57602248761,5.4782494357494022E-2,79060]
[{"$f":"B1354&C1354","v":"02690999"},"0269","0999",1345,269,"Sherborn                     ",999,"Total",9603839.2923871949,0.99999999999999989,{"$f":"SUM(K1350:K1353)","v":10117045.436229443},{"$f":"SUM(L1350:L1353)","v":1.0000000000000002},{"$f":"VLOOKUP(E1354,town351,24)","v":8346562},{"$f":"SUM(N1350:N1353)","v":8346563},7923167,{"$f":"SUM(P1350:P1353)","v":423396},5.3437722567251198,927.27606338087992,945.25721351441996,{"$f":"VLOOKUP($D1354, foundoptions, VLOOKUP($T$6, foundoptcell, 2, FALSE), FALSE)","v":269},{"$f":"VLOOKUP($D1354, foundoptions, VLOOKUP($T$6, foundoptcell, 2, FALSE)+1, FALSE)","v":999},{"$f":"VLOOKUP($D1354, foundoptions, VLOOKUP($T$6, foundoptcell, 2, FALSE)+2, FALSE)","v":1345},{"$f":"VLOOKUP($D1354, foundoptions, VLOOKUP($T$6, foundoptcell, 2, FALSE)+3, FALSE)","v":945.25721351441996},{"$f":"VLOOKUP($D1354, foundoptions, VLOOKUP($T$6, foundoptcell, 2, FALSE)+4, FALSE)","v":10117045.436229443},1345,269,999,1345,945.25721351441996,10117045.436229443,null,null,null,null,null,null,null,null,null,null,null,null,null,null,null,null,null,null,null,null,null,null,null,null,null,null,null,null,null,null,null,null,null,null,null,null,null,null,null,null,null,null,null,null,null,null,null,null,null,null,null,null,null,null,null,null,null,null,null,null,null,null,null,null,null,269,999,1345,942.12,9331694.5425995998,1,7685038]
["02700999","0270","0999",1350,270,"Shirley                      ",999,"Total",9239048.820595257,0.99999999999999989,{"$f":"SUM(K1355:K1358)","v":9343005.3590050712},{"$f":"SUM(L1355:L1358)","v":1},{"$f":"VLOOKUP(E1359,town351,24)","v":5616287},{"$f":"SUM(N1355:N1358)","v":5616287},5435818,{"$f":"SUM(P1355:P1358)","v":180469},3.319997100712349,808.12823461262997,781.29282750009997,270,999,1350,781.29282750009997,9343005.3590050712,1350,270,999,1350,781.29282750009997,9343005.3590050712,null,null,null,null,null,null,null,null,null,null,null,null,null,null,null,null,null,null,null,null,null,null,null,null,null,null,null,null,null,null,null,null,null,null,null,null,null,null,null,null,null,null,null,null,null,null,null,null,null,null,null,null,null,null,null,null,null,null,null,null,null,null,null,null,null,270,999,1350,838.64560596638,9100720.9519482218,0.99999999999999989,5178840]
["02720272","0272","0272",1356,272,"Shutesbury                   ",272,"Shutesbury",1321150.8039989388,0.51071778594602779,{"$f":"X1365","v":1228664.7999999998},{"$f":"IF(K1369>0, K1365/K1369, 0)","v":0.48207135716761762},null,{"$f":"ROUND(M1369*L1365,0)","v":715926},730491,{"$f":"N1365-O1365","v":-14565},-1.993864400793439,117,105,272,272,1356,105,1228664.7999999998,1356,272,272,1356,105,1228664.7999999998,null,null,null,null,null,null,null,null,null,null,null,null,null,null,null,null,null,null,null,null,null,null,null,null,null,null,null,null,null,null,null,null,null,null,null,null,null,null,null,null,null,null,null,null,null,null,null,null,null,null,null,null,null,null,null,null,null,null,null,null,null,null,null,null,null,272,272,1356,118,1166902.03,0.45467202159766301,669164]
["02730821","0273","0821",1363,273,"Somerset                     ",821,"Greater Fall River",2101184.410643653,7.1328352398033396E-2,2475792.0617763982,{"$f":"IF(K1374>0, K1372/K1374, 0)","v":8.1142487971870222E-2},null,{"$f":"ROUND(M1374*L1372,0)","v":1241950},1080286,{"$f":"N1372-O1372","v":161664},14.964925954793452,119.99999999304001,132.00000000502001,273,821,1363,132.00000000502001,2475792.0617763982,1363,273,821,1363,132.00000000502001,2475792.0617763982,null,null,null,null,null,null,null,null,null,null,null,null,null,null,null,null,null,null,null,null,null,null,null,null,null,null,null,null,null,null,null,null,null,null,null,null,null,null,null,null,null,null,null,null,null,null,null,null,null,null,null,null,null,null,null,null,null,null,null,null,null,null,null,null,null,273,821,1363,115.00000000023999,1918874.4844950635,6.8311693536743379E-2,1034184]
["02740274","0274","0274",1366,274,"Somerville                   ",274,"Somerville",68863033.368161425,1,{"$f":"X1375","v":78394858.548899978},{"$f":"IF(K1379>0, K1375/K1379, 0)","v":1},null,{"$f":"ROUND(M1379*L1375,0)","v":60766118},56812003,{"$f":"N1375-O1375","v":3954115},6.9599992804337489,5263,5284,274,274,1366,5284,78394858.548899978,1366,274,274,1366,5284,78394858.548899978,null,null,null,null,null,null,null,null,null,null,null,null,null,null,null,null,null,null,null,null,null,null,null,null,null,null,null,null,null,null,null,null,null,null,null,null,null,null,null,null,null,null,null,null,null,null,null,null,null,null,null,null,null,null,null,null,null,null,null,null,null,null,null,null,null,274,274,1366,5278,65998570.132249989,1,54448820]
["02750998","0275","0998",1373,275,"",998,"",0,0,0,{"$f":"IF(K1384>0, K1382/K1384, 0)","v":0},null,{"$f":"ROUND(M1384*L1382,0)","v":0},0,{"$f":"N1382-O1382","v":0},0,0,0,275,998,1373,0,0,1373,275,998,1373,0,0,null,null,null,null,null,null,null,null,null,null,null,null,null,null,null,null,null,null,null,null,null,null,null,null,null,null,null,null,null,null,null,null,null,null,null,null,null,null,null,null,null,null,null,null,null,null,null,null,null,null,null,null,null,null,null,null,null,null,null,null,null,null,null,null,null,275,998,1373,0,0,0,0]
["02760276","0276","0276",1376,276,"Southborough                 ",276,"Southborough",11760311.474915259,0.63561897191320971,{"$f":"X1385","v":12618254.939900002},{"$f":"IF(K1389>0, K1385/K1389, 0)","v":0.66331485684946345},null,{"$f":"ROUND(M1389*L1385,0)","v":10410060},9702257,{"$f":"N1385-O1385","v":707803},7.2952406847190296,1171,1225,276,276,1376,1225,12618254.939900002,1376,276,276,1376,1225,12618254.939900002,null,null,null,null,null,null,null,null,null,null,null,null,null,null,null,null,null,null,null,null,null,null,null,null,null,null,null,null,null,null,null,null,null,null,null,null,null,null,null,null,null,null,null,null,null,null,null,null,null,null,null,null,null,null,null,null,null,null,null,null,null,null,null,null,null,276,276,1376,1213,11677611.934810001,0.62815199556891754,9634030]
["02770998","0277","0998",1384,277,"",998,"",0,0,0,{"$f":"IF(K1394>0, K1393/K1394, 0)","v":0},null,{"$f":"ROUND(M1394*L1393,0)","v":0},0,{"$f":"N1393-O1393","v":0},0,0,0,277,998,1384,0,0,1384,277,998,1384,0,0,null,null,null,null,null,null,null,null,null,null,null,null,null,null,null,null,null,null,null,null,null,null,null,null,null,null,null,null,null,null,null,null,null,null,null,null,null,null,null,null,null,null,null,null,null,null,null,null,null,null,null,null,null,null,null,null,null,null,null,null,null,null,null,null,null,277,998,1384,0,0,0,0]
["02790279","0279","0279",1391,279,"Southwick                    ",279,"Southwick",0,0,{"$f":"X1400","v":0},{"$f":"IF(K1404>0, K1400/K1404, 0)","v":0},null,{"$f":"ROUND(M1404*L1400,0)","v":0},0,{"$f":"N1400-O1400","v":0},0,0,0,279,279,1391,0,0,1391,279,279,1391,0,0,null,null,null,null,null,null,null,null,null,null,null,null,null,null,null,null,null,null,null,null,null,null,null,null,null,null,null,null,null,null,null,null,null,null,null,null,null,null,null,null,null,null,null,null,null,null,null,null,null,null,null,null,null,null,null,null,null,null,null,null,null,null,null,null,null,279,279,1391,0,0,0,0]
["02790998","0279","0998",1394,279,"",998,"",0,0,0,{"$f":"IF(K1404>0, K1403/K1404, 0)","v":0},null,{"$f":"ROUND(M1404*L1403,0)","v":0},0,{"$f":"N1403-O1403","v":0},0,0,0,279,998,1394,0,0,1394,279,998,1394,0,0,null,null,null,null,null,null,null,null,null,null,null,null,null,null,null,null,null,null,null,null,null,null,null,null,null,null,null,null,null,null,null,null,null,null,null,null,null,null,null,null,null,null,null,null,null,null,null,null,null,null,null,null,null,null,null,null,null,null,null,null,null,null,null,null,null,279,998,1394,0,0,0,0]
["02810281","0281","0281",1401,281,"Springfield                  ",281,"Springfield",411555995.64407492,1,{"$f":"X1410","v":432231053.56999999},{"$f":"IF(K1414>0, K1410/K1414, 0)","v":1},null,{"$f":"ROUND(M1414*L1410,0)","v":41873391},40832170,{"$f":"N1410-O1410","v":1041221},2.5500016286178275,29645,29553,281,281,1401,29553,432231053.56999999,1401,281,281,1401,29553,432231053.56999999,null,null,null,null,null,null,null,null,null,null,null,null,null,null,null,null,null,null,null,null,null,null,null,null,null,null,null,null,null,null,null,null,null,null,null,null,null,null,null,null,null,null,null,null,null,null,null,null,null,null,null,null,null,null,null,null,null,null,null,null,null,null,null,null,null,281,281,1401,29670,383693957.99999988,1,38246693]
["02820999","0282","0999",1410,282,"Sterling                     ",999,"Total",12111893.055531194,1,{"$f":"SUM(K1415:K1418)","v":12129982.480775081},{"$f":"SUM(L1415:L1418)","v":1},{"$f":"VLOOKUP(E1419,town351,24)","v":9450306},{"$f":"SUM(N1415:N1418)","v":9450306},9000291,{"$f":"SUM(P1415:P1418)","v":450015},5.0000049998383389,1135.9149441709701,1101.37853905362,282,999,1410,1101.37853905362,12129982.480775081,{"$f":"D1419","v":1410},282,999,1410,1101.37853905362,12129982.480775081,null,null,null,null,null,null,null,null,null,null,null,null,null,null,null,null,null,null,null,null,null,null,null,null,null,null,null,null,null,null,null,null,null,null,null,null,null,null,null,null,null,null,null,null,null,null,null,null,null,null,null,null,null,null,null,null,null,null,null,null,null,null,null,null,null,282,999,1410,1176.6790782600801,12031910.804615913,1,8696774]
["02830998","0283","0998",1413,283,"",998,"",0,0,0,{"$f":"IF(K1424>0, K1422/K1424, 0)","v":0},null,{"$f":"ROUND(M1424*L1422,0)","v":0},0,{"$f":"N1422-O1422","v":0},0,0,0,283,998,1413,0,0,1413,283,998,1413,0,0,null,null,null,null,null,null,null,null,null,null,null,null,null,null,null,null,null,null,null,null,null,null,null,null,null,null,null,null,null,null,null,null,null,null,null,null,null,null,null,null,null,null,null,null,null,null,null,null,null,null,null,null,null,null,null,null,null,null,null,null,null,null,null,null,null,283,998,1413,0,0,0,0]
["02840998","0284","0998",1419,284,"",998,"",0,0,0,{"$f":"IF(K1429>0, K1428/K1429, 0)","v":0},null,{"$f":"ROUND(M1429*L1428,0)","v":0},0,{"$f":"N1428-O1428","v":0},0,0,0,284,998,1419,0,0,1419,284,998,1419,0,0,null,null,null,null,null,null,null,null,null,null,null,null,null,null,null,null,null,null,null,null,null,null,null,null,null,null,null,null,null,null,null,null,null,null,null,null,null,null,null,null,null,null,null,null,null,null,null,null,null,null,null,null,null,null,null,null,null,null,null,null,null,null,null,null,null,284,998,1419,0,0,0,0]
["02850872","0285","0872",1422,285,"Stoughton                    ",872,"Southeastern",2043510.6048347761,4.5537998050925316E-2,2066902.3036587343,{"$f":"IF(K1434>0, K1431/K1434, 0)","v":4.4205387371720903E-2},null,{"$f":"ROUND(M1434*L1431,0)","v":1269910},1265543,{"$f":"N1431-O1431","v":4367},0.34506927066089416,117.1530412027,109.14389439023999,285,872,1422,109.14389439023999,2066902.3036587343,1422,285,872,1422,109.14389439023999,2066902.3036587343,null,null,null,null,null,null,null,null,null,null,null,null,null,null,null,null,null,null,null,null,null,null,null,null,null,null,null,null,null,null,null,null,null,null,null,null,null,null,null,null,null,null,null,null,null,null,null,null,null,null,null,null,null,null,null,null,null,null,null,null,null,null,null,null,null,285,872,1422,111.14731254666,1868636.5865570107,4.3182792429717301E-2,1149622]
["02870287","0287","0287",1431,287,"Sturbridge                   ",287,"Sturbridge",8568656.4989129324,0.46447044921023334,{"$f":"X1440","v":9022974.3999999985},{"$f":"IF(K1444>0, K1440/K1444, 0)","v":0.46870015022700567},null,{"$f":"ROUND(M1444*L1440,0)","v":5230042},4956813,{"$f":"N1440-O1440","v":273229},5.5121909985307092,844,870,287,287,1431,870,9022974.3999999985,1431,287,287,1431,870,9022974.3999999985,null,null,null,null,null,null,null,null,null,null,null,null,null,null,null,null,null,null,null,null,null,null,null,null,null,null,null,null,null,null,null,null,null,null,null,null,null,null,null,null,null,null,null,null,null,null,null,null,null,null,null,null,null,null,null,null,null,null,null,null,null,null,null,null,null,287,287,1431,870,8423098.5899999999,0.47291150098862028,4848123]
["02880830","0288","0830",1438,288,null,998,null,0,0,0,{"$f":"IF(K1449>0, K1447/K1449, 0)","v":0},null,{"$f":"ROUND(M1449*L1447,0)","v":0},0,{"$f":"N1447-O1447","v":0},0,0,0,288,998,1438,0,0,1438,288,998,1438,0,0,null,null,null,null,null,null,null,null,null,null,null,null,null,null,null,null,null,null,null,null,null,null,null,null,null,null,null,null,null,null,null,null,null,null,null,null,null,null,null,null,null,null,null,null,null,null,null,null,null,null,null,null,null,null,null,null,null,null,null,null,null,null,null,null,null,288,830,1438,0,0,0,0]
["02890998","0289","0998",1444,289,"",998,"",0,0,0,{"$f":"IF(K1454>0, K1453/K1454, 0)","v":0},null,{"$f":"ROUND(M1454*L1453,0)","v":0},0,{"$f":"N1453-O1453","v":0},0,0,0,289,998,1444,0,0,1444,289,998,1444,0,0,null,null,null,null,null,null,null,null,null,null,null,null,null,null,null,null,null,null,null,null,null,null,null,null,null,null,null,null,null,null,null,null,null,null,null,null,null,null,null,null,null,null,null,null,null,null,null,null,null,null,null,null,null,null,null,null,null,null,null,null,null,null,null,null,null,289,998,1444,0,0,0,0]
["02900805","0290","0805",1447,290,"Sutton                       ",805,"Blackstone Valley",1844236.2064162954,0.11967266519797735,1901651.5248665111,{"$f":"IF(K1459>0, K1456/K1459, 0)","v":0.11912113136077869},null,{"$f":"ROUND(M1459*L1456,0)","v":1480141},1414164,{"$f":"N1456-O1456","v":65977},4.665441914799132,114.00000000526001,112.99999999446001,290,805,1447,112.99999999446001,1901651.5248665111,1447,290,805,1447,112.99999999446001,1901651.5248665111,null,null,null,null,null,null,null,null,null,null,null,null,null,null,null,null,null,null,null,null,null,null,null,null,null,null,null,null,null,null,null,null,null,null,null,null,null,null,null,null,null,null,null,null,null,null,null,null,null,null,null,null,null,null,null,null,null,null,null,null,null,null,null,null,null,290,805,1447,107.99999999560001,1681539.2700282673,0.11047178425213061,1237969]
["02920292","0292","0292",1456,292,"Swansea                      ",292,"Swansea",22235382.677427534,0.88891043349625409,{"$f":"X1465","v":24205593.460000005},{"$f":"IF(K1469>0, K1465/K1469, 0)","v":0.88779245262417927},null,{"$f":"ROUND(M1469*L1465,0)","v":14549339},13936344,{"$f":"N1465-O1465","v":612995},4.3985352255943164,2097,2115,292,292,1456,2115,24205593.460000005,1456,292,292,1456,2115,24205593.460000005,null,null,null,null,null,null,null,null,null,null,null,null,null,null,null,null,null,null,null,null,null,null,null,null,null,null,null,null,null,null,null,null,null,null,null,null,null,null,null,null,null,null,null,null,null,null,null,null,null,null,null,null,null,null,null,null,null,null,null,null,null,null,null,null,null,292,292,1456,2080,21190611.529999997,0.88413538223781674,13387790]
["02920998","0292","0998",1459,292,"",998,"",0,0,0,{"$f":"IF(K1469>0, K1468/K1469, 0)","v":0},null,{"$f":"ROUND(M1469*L1468,0)","v":0},0,{"$f":"N1468-O1468","v":0},0,0,0,292,998,1459,0,0,1459,292,998,1459,0,0,null,null,null,null,null,null,null,null,null,null,null,null,null,null,null,null,null,null,null,null,null,null,null,null,null,null,null,null,null,null,null,null,null,null,null,null,null,null,null,null,null,null,null,null,null,null,null,null,null,null,null,null,null,null,null,null,null,null,null,null,null,null,null,null,null,292,998,1459,0,0,0,0]
["02940294","0294","0294",1466,294,"Templeton                    ",294,"Templeton",0,0,{"$f":"X1475","v":0},{"$f":"IF(K1479>0, K1475/K1479, 0)","v":0},null,{"$f":"ROUND(M1479*L1475,0)","v":0},0,{"$f":"N1475-O1475","v":0},0,0,0,294,294,1466,0,0,1466,294,294,1466,0,0,null,null,null,null,null,null,null,null,null,null,null,null,null,null,null,null,null,null,null,null,null,null,null,null,null,null,null,null,null,null,null,null,null,null,null,null,null,null,null,null,null,null,null,null,null,null,null,null,null,null,null,null,null,null,null,null,null,null,null,null,null,null,null,null,null,294,294,1466,1,13837.16,1.0368940368441122E-3,5212]
["02940999","0294","0999",1470,294,"Templeton                    ",999,"Total",13830331.569218658,1,{"$f":"SUM(K1475:K1478)","v":14615273.657811981},{"$f":"SUM(L1475:L1478)","v":1},{"$f":"VLOOKUP(E1479,town351,24)","v":5213519},{"$f":"SUM(N1475:N1478)","v":5213519},5202594,{"$f":"SUM(P1475:P1478)","v":10925},0.20999140044370174,1172.93548386886,1194.7563025289201,294,999,1470,1194.7563025289201,14615273.657811981,1470,294,999,1470,1194.7563025289201,14615273.657811981,null,null,null,null,null,null,null,null,null,null,null,null,null,null,null,null,null,null,null,null,null,null,null,null,null,null,null,null,null,null,null,null,null,null,null,null,null,null,null,null,null,null,null,null,null,null,null,null,null,null,null,null,null,null,null,null,null,null,null,null,null,null,null,null,null,294,999,1470,1191.4966486786898,13344815.871556887,1,5026176]
["02960700","0296","0700",1477,296,"Tisbury                      ",700,"Marthas Vineyard",2607575.9197953464,0.40292868962799144,2646338.6879818598,{"$f":"IF(K1489>0, K1486/K1489, 0)","v":0.37603768909436686},null,{"$f":"ROUND(M1489*L1486,0)","v":2106456},2151250,{"$f":"N1486-O1486","v":-44794},-2.0822312608948286,184.99999999829001,177.00000000048001,296,700,1477,177.00000000048001,2646338.6879818598,1477,296,700,1477,177.00000000048001,2646338.6879818598,null,null,null,null,null,null,null,null,null,null,null,null,null,null,null,null,null,null,null,null,null,null,null,null,null,null,null,null,null,null,null,null,null,null,null,null,null,null,null,null,null,null,null,null,null,null,null,null,null,null,null,null,null,null,null,null,null,null,null,null,null,null,null,null,null,296,700,1477,168.99999999975,2205091.6824411829,0.35592755966534823,1817411]
["02970998","0297","0998",1484,297,"",998,"",0,0,0,{"$f":"IF(K1494>0, K1493/K1494, 0)","v":0},null,{"$f":"ROUND(M1494*L1493,0)","v":0},0,{"$f":"N1493-O1493","v":0},0,0,0,297,998,1484,0,0,1484,297,998,1484,0,0,null,null,null,null,null,null,null,null,null,null,null,null,null,null,null,null,null,null,null,null,null,null,null,null,null,null,null,null,null,null,null,null,null,null,null,null,null,null,null,null,null,null,null,null,null,null,null,null,null,null,null,null,null,null,null,null,null,null,null,null,null,null,null,null,null,297,998,1484,0,0,0,0]
["02980705","0298","0705",1487,298,"Topsfield                    ",705,"Masconomet",5268234.7877157396,0.46380217999737267,5415166.0054150596,{"$f":"IF(K1499>0, K1496/K1499, 0)","v":0.44606125338147723},null,{"$f":"ROUND(M1499*L1496,0)","v":4299205},4285901,{"$f":"N1496-O1496","v":13304},0.31041314300073658,487.06171490745004,483.36004515495,298,705,1487,483.36004515495,5415166.0054150596,1487,298,705,1487,483.36004515495,5415166.0054150596,null,null,null,null,null,null,null,null,null,null,null,null,null,null,null,null,null,null,null,null,null,null,null,null,null,null,null,null,null,null,null,null,null,null,null,null,null,null,null,null,null,null,null,null,null,null,null,null,null,null,null,null,null,null,null,null,null,null,null,null,null,null,null,null,null,298,705,1487,501.54338394861998,5211968.2652010005,0.47680755142492243,4299874]
["02990998","0299","0998",1494,299,"",998,"",0,0,0,{"$f":"IF(K1504>0, K1503/K1504, 0)","v":0},null,{"$f":"ROUND(M1504*L1503,0)","v":0},0,{"$f":"N1503-O1503","v":0},0,0,0,299,998,1494,0,0,1494,299,998,1494,0,0,null,null,null,null,null,null,null,null,null,null,null,null,null,null,null,null,null,null,null,null,null,null,null,null,null,null,null,null,null,null,null,null,null,null,null,null,null,null,null,null,null,null,null,null,null,null,null,null,null,null,null,null,null,null,null,null,null,null,null,null,null,null,null,null,null,299,998,1494,0,0,0,0]
["03010998","0301","0998",1503,301,"",998,"",0,0,0,{"$f":"IF(K1514>0, K1512/K1514, 0)","v":0},null,{"$f":"ROUND(M1514*L1512,0)","v":0},0,{"$f":"N1512-O1512","v":0},0,0,0,301,998,1503,0,0,1503,301,998,1503,0,0,null,null,null,null,null,null,null,null,null,null,null,null,null,null,null,null,null,null,null,null,null,null,null,null,null,null,null,null,null,null,null,null,null,null,null,null,null,null,null,null,null,null,null,null,null,null,null,null,null,null,null,null,null,null,null,null,null,null,null,null,null,null,null,null,null,301,998,1503,0,0,0,0]
["03020998","0302","0998",1507,302,"",998,"",0,0,0,{"$f":"IF(K1519>0, K1516/K1519, 0)","v":0},null,{"$f":"ROUND(M1519*L1516,0)","v":0},0,{"$f":"N1516-O1516","v":0},0,0,0,302,998,1507,0,0,1507,302,998,1507,0,0,null,null,null,null,null,null,null,null,null,null,null,null,null,null,null,null,null,null,null,null,null,null,null,null,null,null,null,null,null,null,null,null,null,null,null,null,null,null,null,null,null,null,null,null,null,null,null,null,null,null,null,null,null,null,null,null,null,null,null,null,null,null,null,null,null,302,998,1507,0,0,0,0]
["03030710","0303","0710",1512,303,"Upton                        ",710,"Mendon Upton",12479755.393363919,0.88626726561597924,12750639.188982338,{"$f":"IF(K1524>0, K1521/K1524, 0)","v":0.88512648172971797},null,{"$f":"ROUND(M1524*L1521,0)","v":9124333},8654881,{"$f":"N1521-O1521","v":469452},5.4241300371432031,1223.54647507867,1208.45714286514,303,710,1512,1208.45714286514,12750639.188982338,1512,303,710,1512,1208.45714286514,12750639.188982338,null,null,null,null,null,null,null,null,null,null,null,null,null,null,null,null,null,null,null,null,null,null,null,null,null,null,null,null,null,null,null,null,null,null,null,null,null,null,null,null,null,null,null,null,null,null,null,null,null,null,null,null,null,null,null,null,null,null,null,null,null,null,null,null,null,303,710,1512,1211.6302864957499,11834438.336648738,0.87447088143442753,8051747]
["03030999","0303","0999",1515,303,"Upton                        ",999,"Total",14081255.031675076,1,{"$f":"SUM(K1520:K1523)","v":14405443.122733131},{"$f":"SUM(L1520:L1523)","v":1},{"$f":"VLOOKUP(E1524,town351,24)","v":10308507},{"$f":"SUM(N1520:N1523)","v":10308507},9765543,{"$f":"SUM(P1520:P1523)","v":542964},5.5599980461915939,1323.54647508265,1307.4571428612401,303,999,1515,1307.4571428612401,14405443.122733131,1515,303,999,1515,1307.4571428612401,14405443.122733131,null,null,null,null,null,null,null,null,null,null,null,null,null,null,null,null,null,null,null,null,null,null,null,null,null,null,null,null,null,null,null,null,null,null,null,null,null,null,null,null,null,null,null,null,null,null,null,null,null,null,null,null,null,null,null,null,null,null,null,null,null,null,null,null,null,303,999,1515,1321.63028650055,13533256.038481537,1,9207565]
["03050853","0305","0853",1522,305,"Wakefield                    ",853,"Northeast Metropolitan",1368547.3541480559,3.4893804083691068E-2,1607623.0702888942,{"$f":"IF(K1534>0, K1531/K1534, 0)","v":3.9698799248149799E-2},null,{"$f":"ROUND(M1534*L1531,0)","v":1326289},1126997,{"$f":"N1531-O1531","v":199292},17.683454348148221,75.000000000059998,81.99999999712999,305,853,1522,81.99999999712999,1607623.0702888942,1522,305,853,1522,81.99999999712999,1607623.0702888942,null,null,null,null,null,null,null,null,null,null,null,null,null,null,null,null,null,null,null,null,null,null,null,null,null,null,null,null,null,null,null,null,null,null,null,null,null,null,null,null,null,null,null,null,null,null,null,null,null,null,null,null,null,null,null,null,null,null,null,null,null,null,null,null,null,305,853,1522,68.000000000279996,1193608.8985136528,3.1784655792149404E-2,984727]
["03070307","0307","0307",1531,307,"Walpole                      ",307,"Walpole",39185793.937174484,0.96572493188679764,{"$f":"X1540","v":40218048.037480004},{"$f":"IF(K1544>0, K1540/K1544, 0)","v":0.96037760361720392},null,{"$f":"ROUND(M1544*L1540,0)","v":33179890},32328280,{"$f":"N1540-O1540","v":851610},2.6342570653310351,3659,3587,307,307,1531,3587,40218048.037480004,1531,307,307,1531,3587,40218048.037480004,null,null,null,null,null,null,null,null,null,null,null,null,null,null,null,null,null,null,null,null,null,null,null,null,null,null,null,null,null,null,null,null,null,null,null,null,null,null,null,null,null,null,null,null,null,null,null,null,null,null,null,null,null,null,null,null,null,null,null,null,null,null,null,null,null,307,307,1531,3732,38230557.63222,0.97119650333541452,31540211]
["03070915","0307","0915",1533,307,"Walpole                      ",915,"Norfolk County",429226.6623616679,1.0578192952726686E-2,456276.51584014419,{"$f":"IF(K1544>0, K1542/K1544, 0)","v":1.0895549840235896E-2},null,{"$f":"ROUND(M1544*L1542,0)","v":376428},354112,{"$f":"N1542-O1542","v":22316},6.3019609615037053,23.999999999500002,24.999999999340002,307,915,1533,24.999999999340002,456276.51584014419,1533,307,915,1533,24.999999999340002,456276.51584014419,null,null,null,null,null,null,null,null,null,null,null,null,null,null,null,null,null,null,null,null,null,null,null,null,null,null,null,null,null,null,null,null,null,null,null,null,null,null,null,null,null,null,null,null,null,null,null,null,null,null,null,null,null,null,null,null,null,null,null,null,null,null,null,null,null,307,915,1533,22.000000000949999,375941.90443495259,9.5503044071941993E-3,310152]
["03080999","0308","0999",1540,308,"Waltham                      ",999,"Total",75037559.479823217,1,{"$f":"SUM(K1545:K1548)","v":80607559.147039995},{"$f":"SUM(L1545:L1548)","v":1},{"$f":"VLOOKUP(E1549,town351,24)","v":63760767},{"$f":"SUM(N1545:N1548)","v":63760767},60191416,{"$f":"SUM(P1545:P1548)","v":3569351},5.9300000518346341,5650,5746,308,999,1540,5746,80607559.147039995,1540,308,999,1540,5746,80607559.147039995,null,null,null,null,null,null,null,null,null,null,null,null,null,null,null,null,null,null,null,null,null,null,null,null,null,null,null,null,null,null,null,null,null,null,null,null,null,null,null,null,null,null,null,null,null,null,null,null,null,null,null,null,null,null,null,null,null,null,null,null,null,null,null,null,null,308,999,1540,5605,70511885.580779999,1,57308784]
["03100998","0310","0998",1549,310,"",998,"",0,0,0,{"$f":"IF(K1559>0, K1558/K1559, 0)","v":0},null,{"$f":"ROUND(M1559*L1558,0)","v":0},0,{"$f":"N1558-O1558","v":0},0,0,0,310,998,1549,0,0,1549,310,998,1549,0,0,null,null,null,null,null,null,null,null,null,null,null,null,null,null,null,null,null,null,null,null,null,null,null,null,null,null,null,null,null,null,null,null,null,null,null,null,null,null,null,null,null,null,null,null,null,null,null,null,null,null,null,null,null,null,null,null,null,null,null,null,null,null,null,null,null,310,998,1549,0,0,0,0]
["03110778","0311","0778",1552,311,"Warren                       ",778,"Quaboag",8695073.628996985,0.89082754196893799,8898446.3765478414,{"$f":"IF(K1564>0, K1561/K1564, 0)","v":0.90313428429860132},null,{"$f":"ROUND(M1564*L1561,0)","v":2606491},2477091,{"$f":"N1561-O1561","v":129400},5.2238694500928711,741.90923825564005,713.49873843399996,311,778,1552,713.49873843399996,8898446.3765478414,1552,311,778,1552,713.49873843399996,8898446.3765478414,null,null,null,null,null,null,null,null,null,null,null,null,null,null,null,null,null,null,null,null,null,null,null,null,null,null,null,null,null,null,null,null,null,null,null,null,null,null,null,null,null,null,null,null,null,null,null,null,null,null,null,null,null,null,null,null,null,null,null,null,null,null,null,null,null,311,778,1552,757.57701516888005,8415479.2188534625,0.89737202835150121,2406026]
["03120998","0312","0998",1559,312,"",998,"",0,0,0,{"$f":"IF(K1569>0, K1568/K1569, 0)","v":0},null,{"$f":"ROUND(M1569*L1568,0)","v":0},0,{"$f":"N1568-O1568","v":0},0,0,0,312,998,1559,0,0,1559,312,998,1559,0,0,null,null,null,null,null,null,null,null,null,null,null,null,null,null,null,null,null,null,null,null,null,null,null,null,null,null,null,null,null,null,null,null,null,null,null,null,null,null,null,null,null,null,null,null,null,null,null,null,null,null,null,null,null,null,null,null,null,null,null,null,null,null,null,null,null,312,998,1559,0,0,0,0]
["03130635","0313","0635",1562,313,"Washington                   ",635,"Central Berkshire",646790.68867206608,0.95745057619388085,684830.85548775515,{"$f":"IF(K1574>0, K1571/K1574, 0)","v":0.97862966597232315},null,{"$f":"ROUND(M1574*L1571,0)","v":503312},470225,{"$f":"N1571-O1571","v":33087},7.036418735711627,56.60291324128,58.428663661159995,313,635,1562,58.428663661159995,684830.85548775515,1562,313,635,1562,58.428663661159995,684830.85548775515,null,null,null,null,null,null,null,null,null,null,null,null,null,null,null,null,null,null,null,null,null,null,null,null,null,null,null,null,null,null,null,null,null,null,null,null,null,null,null,null,null,null,null,null,null,null,null,null,null,null,null,null,null,null,null,null,null,null,null,null,null,null,null,null,null,313,635,1562,53.239436626599996,574958.49097450241,0.95407764148246677,460328]
["03150315","0315","0315",1571,315,"Wayland                      ",315,"Wayland",27841232.66770371,1,{"$f":"X1580","v":28672242.811399993},{"$f":"IF(K1584>0, K1580/K1584, 0)","v":1},null,{"$f":"ROUND(M1584*L1580,0)","v":23428504},22568639,{"$f":"N1580-O1580","v":859865},3.8099993535276981,2663,2653,315,315,1571,2653,28672242.811399993,1571,315,315,1571,2653,28672242.811399993,null,null,null,null,null,null,null,null,null,null,null,null,null,null,null,null,null,null,null,null,null,null,null,null,null,null,null,null,null,null,null,null,null,null,null,null,null,null,null,null,null,null,null,null,null,null,null,null,null,null,null,null,null,null,null,null,null,null,null,null,null,null,null,null,null,315,315,1571,2647,26378777.201239996,1,21731959]
["03160876","0316","0876",1577,316,"Webster                      ",876,"Southern Worcester",2260372.9350591223,8.3603318823293221E-2,2219130.2772724479,{"$f":"IF(K1589>0, K1586/K1589, 0)","v":7.7555296725476355E-2},null,{"$f":"ROUND(M1589*L1586,0)","v":971242},1009237,{"$f":"N1586-O1586","v":-37995},-3.7647252330225704,133.99999999452001,125.00000000477,316,876,1577,125.00000000477,2219130.2772724479,1577,316,876,1577,125.00000000477,2219130.2772724479,null,null,null,null,null,null,null,null,null,null,null,null,null,null,null,null,null,null,null,null,null,null,null,null,null,null,null,null,null,null,null,null,null,null,null,null,null,null,null,null,null,null,null,null,null,null,null,null,null,null,null,null,null,null,null,null,null,null,null,null,null,null,null,null,null,316,876,1577,147.99999999550002,2400728.8331791786,9.3241627249847595E-2,1093785]
["03160999","0316","0999",1580,316,"Webster                      ",999,"Total",27036880.435772199,1,{"$f":"SUM(K1585:K1588)","v":28613523.137272451},{"$f":"SUM(L1585:L1588)","v":1},{"$f":"VLOOKUP(E1589,town351,24)","v":12523213},{"$f":"SUM(N1585:N1588)","v":12523213},12071730,{"$f":"SUM(P1585:P1588)","v":451483},3.740002468577412,2099.9999999945198,2148.0000000047698,316,999,1580,2148.0000000047698,28613523.137272451,1580,316,999,1580,2148.0000000047698,28613523.137272451,null,null,null,null,null,null,null,null,null,null,null,null,null,null,null,null,null,null,null,null,null,null,null,null,null,null,null,null,null,null,null,null,null,null,null,null,null,null,null,null,null,null,null,null,null,null,null,null,null,null,null,null,null,null,null,null,null,null,null,null,null,null,null,null,null,316,999,1580,2153.9999999954998,25747393.13317918,1,11730649]
["03180660","0318","0660",1587,318,"Wellfleet                    ",660,"Nauset",1802673.5824900654,0.57090265676723073,1822895.7306809761,{"$f":"IF(K1599>0, K1596/K1599, 0)","v":0.54717147398691912},null,{"$f":"ROUND(M1599*L1596,0)","v":1503889},1487206,{"$f":"N1596-O1596","v":16683},1.1217679326199599,155.13080168336,155.00000000315998,318,660,1587,155.00000000315998,1822895.7306809761,1587,318,660,1587,155.00000000315998,1822895.7306809761,null,null,null,null,null,null,null,null,null,null,null,null,null,null,null,null,null,null,null,null,null,null,null,null,null,null,null,null,null,null,null,null,null,null,null,null,null,null,null,null,null,null,null,null,null,null,null,null,null,null,null,null,null,null,null,null,null,null,null,null,null,null,null,null,null,318,660,1587,143.999999995,1597679.7294749599,0.54083236060801343,1318086]
["03200320","0320","0320",1596,320,"Wenham                       ",320,"Wenham",0,0,{"$f":"X1605","v":0},{"$f":"IF(K1609>0, K1605/K1609, 0)","v":0},null,{"$f":"ROUND(M1609*L1605,0)","v":0},0,{"$f":"N1605-O1605","v":0},0,0,0,320,320,1596,0,0,1596,320,320,1596,0,0,null,null,null,null,null,null,null,null,null,null,null,null,null,null,null,null,null,null,null,null,null,null,null,null,null,null,null,null,null,null,null,null,null,null,null,null,null,null,null,null,null,null,null,null,null,null,null,null,null,null,null,null,null,null,null,null,null,null,null,null,null,null,null,null,null,320,320,1596,0,0,0,0]
[{"$f":"B1610&C1610","v":"03210321"},"0321","0321",1601,321,"Westborough                  ",321,"Westborough",39131440.051199019,0.98755537860243181,{"$f":"X1610","v":40921138.540000007},{"$f":"IF(K1614>0, K1610/K1614, 0)","v":0.98150734643010418},null,{"$f":"ROUND(M1614*L1610,0)","v":32692696},31441549,{"$f":"N1610-O1610","v":1251147},3.9792791379330579,3751,3783,{"$f":"VLOOKUP($D1610, foundoptions, VLOOKUP($T$6, foundoptcell, 2, FALSE), FALSE)","v":321},{"$f":"VLOOKUP($D1610, foundoptions, VLOOKUP($T$6, foundoptcell, 2, FALSE)+1, FALSE)","v":321},{"$f":"VLOOKUP($D1610, foundoptions, VLOOKUP($T$6, foundoptcell, 2, FALSE)+2, FALSE)","v":1601},{"$f":"VLOOKUP($D1610, foundoptions, VLOOKUP($T$6, foundoptcell, 2, FALSE)+3, FALSE)","v":3783},{"$f":"VLOOKUP($D1610, foundoptions, VLOOKUP($T$6, foundoptcell, 2, FALSE)+4, FALSE)","v":40921138.540000007},1601,321,321,1601,3783,40921138.540000007,null,null,null,null,null,null,null,null,null,null,null,null,null,null,null,null,null,null,null,null,null,null,null,null,null,null,null,null,null,null,null,null,null,null,null,null,null,null,null,null,null,null,null,null,null,null,null,null,null,null,null,null,null,null,null,null,null,null,null,null,null,null,null,null,null,321,321,1601,3749,37382713.520000003,0.98341628226076039,29912840]
["03210999","0321","0999",1605,321,"Westborough                  ",999,"Total",39624552.606434114,0.99999999999999989,{"$f":"SUM(K1610:K1613)","v":41692136.782100096},{"$f":"SUM(L1610:L1613)","v":1},{"$f":"VLOOKUP(E1614,town351,24)","v":33308662},{"$f":"SUM(N1610:N1613)","v":33308662},31837758,{"$f":"SUM(P1610:P1613)","v":1470904},4.6199986820680028,3777.9999999975998,3822.9999999991901,321,999,1605,3822.9999999991901,41692136.782100096,1605,321,999,1605,3822.9999999991901,41692136.782100096,null,null,null,null,null,null,null,null,null,null,null,null,null,null,null,null,null,null,null,null,null,null,null,null,null,null,null,null,null,null,null,null,null,null,null,null,null,null,null,null,null,null,null,null,null,null,null,null,null,null,null,null,null,null,null,null,null,null,null,null,null,null,null,null,null,321,999,1605,3785.0000000034202,38013112.243841909,0.99999999999999989,30417271]
["03220998","0322","0998",1608,322,"",998,"",0,0,0,{"$f":"IF(K1619>0, K1617/K1619, 0)","v":0},null,{"$f":"ROUND(M1619*L1617,0)","v":0},0,{"$f":"N1617-O1617","v":0},{"$f":"IF(O1617>0,P1617*100/O1617,IF(P1617>0,100,0))","v":0},0,0,322,998,1608,0,0,1608,322,998,1608,0,0,null,null,null,null,null,null,null,null,null,null,null,null,null,null,null,null,null,null,null,null,null,null,null,null,null,null,null,null,null,null,null,null,null,null,null,null,null,null,null,null,null,null,null,null,null,null,null,null,null,null,null,null,null,null,null,null,null,null,null,null,null,null,null,null,null,322,998,1608,0,0,0,0]
["03230999","0323","0999",1615,323,"West Bridgewater             ",999,"Total",12436378.762724331,1,{"$f":"SUM(K1620:K1623)","v":13062865.111208353},{"$f":"SUM(L1620:L1623)","v":1},{"$f":"VLOOKUP(E1624,town351,24)","v":8582652},{"$f":"SUM(N1620:N1623)","v":8582652},8093787,{"$f":"SUM(P1620:P1623)","v":488865},6.0400032765873375,1126.0654022270401,1149.05544554876,323,999,1615,1149.05544554876,13062865.111208353,1615,323,999,1615,1149.05544554876,13062865.111208353,null,null,null,null,null,null,null,null,null,null,null,null,null,null,null,null,null,null,null,null,null,null,null,null,null,null,null,null,null,null,null,null,null,null,null,null,null,null,null,null,null,null,null,null,null,null,null,null,null,null,null,null,null,null,null,null,null,null,null,null,null,null,null,null,null,323,999,1615,1102.0623755777899,11570192.760529665,1,7662394]
["03250998","0325","0998",1624,325,"",998,"",0,0,0,{"$f":"IF(K1634>0, K1633/K1634, 0)","v":0},null,{"$f":"ROUND(M1634*L1633,0)","v":0},0,{"$f":"N1633-O1633","v":0},0,0,0,325,998,1624,0,0,1624,325,998,1624,0,0,null,null,null,null,null,null,null,null,null,null,null,null,null,null,null,null,null,null,null,null,null,null,null,null,null,null,null,null,null,null,null,null,null,null,null,null,null,null,null,null,null,null,null,null,null,null,null,null,null,null,null,null,null,null,null,null,null,null,null,null,null,null,null,null,null,325,998,1624,0,0,0,0]
["03260852","0326","0852",1627,326,"Westford                     ",852,"Nashoba Valley",1091233.732479603,2.1237108871494621E-2,1138089.6878670705,{"$f":"IF(K1639>0, K1636/K1639, 0)","v":2.2290935661749136E-2},null,{"$f":"ROUND(M1639*L1636,0)","v":887618},809162,{"$f":"N1636-O1636","v":78456},9.6959570518635321,63.999999998280003,64.000000001879997,326,852,1627,64.000000001879997,1138089.6878670705,1627,326,852,1627,64.000000001879997,1138089.6878670705,null,null,null,null,null,null,null,null,null,null,null,null,null,null,null,null,null,null,null,null,null,null,null,null,null,null,null,null,null,null,null,null,null,null,null,null,null,null,null,null,null,null,null,null,null,null,null,null,null,null,null,null,null,null,null,null,null,null,null,null,null,null,null,null,null,326,852,1627,56.00000000096,912231.38183758943,1.8711249204626346E-2,690215]
["03270998","0327","0998",1634,327,"",998,"",0,0,0,{"$f":"IF(K1644>0, K1643/K1644, 0)","v":0},null,{"$f":"ROUND(M1644*L1643,0)","v":0},0,{"$f":"N1643-O1643","v":0},0,0,0,327,998,1634,0,0,1634,327,998,1634,0,0,null,null,null,null,null,null,null,null,null,null,null,null,null,null,null,null,null,null,null,null,null,null,null,null,null,null,null,null,null,null,null,null,null,null,null,null,null,null,null,null,null,null,null,null,null,null,null,null,null,null,null,null,null,null,null,null,null,null,null,null,null,null,null,null,null,327,998,1634,0,0,0,0]
["03290745","0329","0745",1642,329,"West Newbury                 ",745,"Pentucket",6513835.6385707902,0.95942216897363108,6592419.251327958,{"$f":"IF(K1654>0, K1651/K1654, 0)","v":0.96865069064280951},null,{"$f":"ROUND(M1654*L1651,0)","v":5438746},5367138,{"$f":"N1651-O1651","v":71608},1.3341933820222249,631.8185500088,620.67426709259996,329,745,1642,620.67426709259996,6592419.251327958,1642,329,745,1642,620.67426709259996,6592419.251327958,null,null,null,null,null,null,null,null,null,null,null,null,null,null,null,null,null,null,null,null,null,null,null,null,null,null,null,null,null,null,null,null,null,null,null,null,null,null,null,null,null,null,null,null,null,null,null,null,null,null,null,null,null,null,null,null,null,null,null,null,null,null,null,null,null,329,745,1642,634.00763358996005,6239282.8255939111,0.95483301127098474,5147408]
["03290885","0329","0885",1643,329,"West Newbury                 ",885,"Whittier",275496.36689990858,4.0577831026368943E-2,183447.06521874698,{"$f":"IF(K1654>0, K1652/K1654, 0)","v":2.695461554341241E-2},null,{"$f":"ROUND(M1654*L1652,0)","v":151344},226998,{"$f":"N1652-O1652","v":-75654},-33.328046943144876,15.99999999452,10.00000000064,329,885,1643,10.00000000064,183447.06521874698,1643,329,885,1643,10.00000000064,183447.06521874698,null,null,null,null,null,null,null,null,null,null,null,null,null,null,null,null,null,null,null,null,null,null,null,null,null,null,null,null,null,null,null,null,null,null,null,null,null,null,null,null,null,null,null,null,null,null,null,null,null,null,null,null,null,null,null,null,null,null,null,null,null,null,null,null,null,329,885,1643,17.000000001900002,281303.05167493934,4.3049409270036136E-2,232075]
["03310821","0331","0821",1652,331,"Westport                     ",821,"Greater Fall River",2293792.9818308055,0.12092972029641925,2457036.0610934142,{"$f":"IF(K1664>0, K1661/K1664, 0)","v":0.1241365178818422},null,{"$f":"ROUND(M1664*L1661,0)","v":2004548},1856240,{"$f":"N1661-O1661","v":148308},7.9896996078093352,131.00000000448,130.99999999351999,331,821,1652,130.99999999351999,2457036.0610934142,1652,331,821,1652,130.99999999351999,2457036.0610934142,null,null,null,null,null,null,null,null,null,null,null,null,null,null,null,null,null,null,null,null,null,null,null,null,null,null,null,null,null,null,null,null,null,null,null,null,null,null,null,null,null,null,null,null,null,null,null,null,null,null,null,null,null,null,null,null,null,null,null,null,null,null,null,null,null,331,821,1652,132.00000000507998,2202534.1909788493,0.12228573563952624,1817091]
["03310999","0331","0999",1655,331,"Westport                     ",999,"Total",18967983.852177363,1,{"$f":"SUM(K1660:K1663)","v":19793015.810481437},{"$f":"SUM(L1660:L1663)","v":0.99999999999999978},{"$f":"VLOOKUP(E1664,town351,24)","v":16147931},{"$f":"SUM(N1660:N1663)","v":16147931},15349744,{"$f":"SUM(P1660:P1663)","v":798187},5.2000020326071885,1649.0000000054299,1658.99999999482,331,999,1655,1658.99999999482,19793015.810481437,1655,331,999,1655,1658.99999999482,19793015.810481437,null,null,null,null,null,null,null,null,null,null,null,null,null,null,null,null,null,null,null,null,null,null,null,null,null,null,null,null,null,null,null,null,null,null,null,null,null,null,null,null,null,null,null,null,null,null,null,null,null,null,null,null,null,null,null,null,null,null,null,null,null,null,null,null,null,331,999,1655,1643.0000000032501,18011374.584779676,0.99999999999999989,14859384]
[{"$f":"B1674&C1674","v":"03330999"},"0333","0999",1665,333,"West Stockbridge             ",999,"Total",1684733.8416198127,1,{"$f":"SUM(K1670:K1673)","v":1700035.7100759731},{"$f":"SUM(L1670:L1673)","v":1},{"$f":"VLOOKUP(E1674,town351,24)","v":1402529},{"$f":"SUM(N1670:N1673)","v":1402529},1355897,{"$f":"SUM(P1670:P1673)","v":46632},3.439199290211572,141.02261554020001,137.58163264929999,{"$f":"VLOOKUP($D1674, foundoptions, VLOOKUP($T$6, foundoptcell, 2, FALSE), FALSE)","v":333},{"$f":"VLOOKUP($D1674, foundoptions, VLOOKUP($T$6, foundoptcell, 2, FALSE)+1, FALSE)","v":999},{"$f":"VLOOKUP($D1674, foundoptions, VLOOKUP($T$6, foundoptcell, 2, FALSE)+2, FALSE)","v":1665},{"$f":"VLOOKUP($D1674, foundoptions, VLOOKUP($T$6, foundoptcell, 2, FALSE)+3, FALSE)","v":137.58163264929999},{"$f":"VLOOKUP($D1674, foundoptions, VLOOKUP($T$6, foundoptcell, 2, FALSE)+4, FALSE)","v":1700035.7100759731},1665,333,999,1665,137.58163264929999,1700035.7100759731,null,null,null,null,null,null,null,null,null,null,null,null,null,null,null,null,null,null,null,null,null,null,null,null,null,null,null,null,null,null,null,null,null,null,null,null,null,null,null,null,null,null,null,null,null,null,null,null,null,null,null,null,null,null,null,null,null,null,null,null,null,null,null,null,null,333,999,1665,140.33364839207999,1581059.8459609763,1,1304374]
["03340999","0334","0999",1670,334,"West Tisbury                 ",999,"Total",4332664.5219800277,1,{"$f":"SUM(K1675:K1678)","v":4523528.4322220813},{"$f":"SUM(L1675:L1678)","v":1},{"$f":"VLOOKUP(E1679,town351,24)","v":3731911},{"$f":"SUM(N1675:N1678)","v":3731911},3574448,{"$f":"SUM(P1675:P1678)","v":157463},4.4052396342036593,378.97447795765999,374.26419752926995,334,999,1670,374.26419752926995,4523528.4322220813,1670,334,999,1670,374.26419752926995,4523528.4322220813,null,null,null,null,null,null,null,null,null,null,null,null,null,null,null,null,null,null,null,null,null,null,null,null,null,null,null,null,null,null,null,null,null,null,null,null,null,null,null,null,null,null,null,null,null,null,null,null,null,null,null,null,null,null,null,null,null,null,null,null,null,null,null,null,null,334,999,1670,375.99753694718999,4087563.4809681084,1,3372240]
["03350915","0335","0915",1673,335,"Westwood                     ",915,"Norfolk County",71537.777068564435,2.2635977735170499E-3,91255.303158027251,{"$f":"IF(K1684>0, K1682/K1684, 0)","v":2.7873650061688219E-3},null,{"$f":"ROUND(M1684*L1682,0)","v":75286},59019,{"$f":"N1682-O1682","v":16267},{"$f":"IF(O1682>0,P1682*100/O1682,IF(P1682>0,100,0))","v":27.562310442399905},4.00000000038,4.9999999993199999,335,915,1673,4.9999999993199999,91255.303158027251,1673,335,915,1673,4.9999999993199999,91255.303158027251,null,null,null,null,null,null,null,null,null,null,null,null,null,null,null,null,null,null,null,null,null,null,null,null,null,null,null,null,null,null,null,null,null,null,null,null,null,null,null,null,null,null,null,null,null,null,null,null,null,null,null,null,null,null,null,null,null,null,null,null,null,null,null,null,null,335,915,1673,5.0000000011100001,85441.341932313153,2.7833874376384862E-3,70489]
["03360999","0336","0999",1680,336,"Weymouth                     ",999,"Total",72429994.638602406,1,{"$f":"SUM(K1685:K1688)","v":74317579.263344958},{"$f":"SUM(L1685:L1688)","v":1},{"$f":"VLOOKUP(E1689,town351,24)","v":57623209},{"$f":"SUM(N1685:N1688)","v":57623209},54613979,{"$f":"SUM(P1685:P1688)","v":3009230},5.5099995552420742,6004.9999999992797,5949.9999999994798,336,999,1680,5949.9999999994798,74317579.263344958,1680,336,999,1680,5949.9999999994798,74317579.263344958,null,null,null,null,null,null,null,null,null,null,null,null,null,null,null,null,null,null,null,null,null,null,null,null,null,null,null,null,null,null,null,null,null,null,null,null,null,null,null,null,null,null,null,null,null,null,null,null,null,null,null,null,null,null,null,null,null,null,null,null,null,null,null,null,null,336,999,1680,6109.0000000013797,69835634.949540988,0.99999999999999989,51527483]
["03380998","0338","0998",1689,338,"",998,"",0,0,0,{"$f":"IF(K1699>0, K1698/K1699, 0)","v":0},null,{"$f":"ROUND(M1699*L1698,0)","v":0},0,{"$f":"N1698-O1698","v":0},0,0,0,338,998,1689,0,0,1689,338,998,1689,0,0,null,null,null,null,null,null,null,null,null,null,null,null,null,null,null,null,null,null,null,null,null,null,null,null,null,null,null,null,null,null,null,null,null,null,null,null,null,null,null,null,null,null,null,null,null,null,null,null,null,null,null,null,null,null,null,null,null,null,null,null,null,null,null,null,null,338,998,1689,0,0,0,0]
["03380999","0338","0999",1690,338,"Whitman                      ",999,"Total",26546550.127941929,1,{"$f":"SUM(K1695:K1698)","v":27064435.090483584},{"$f":"SUM(L1695:L1698)","v":1},{"$f":"VLOOKUP(E1699,town351,24)","v":12321539},{"$f":"SUM(N1695:N1698)","v":12321539},11839664,{"$f":"SUM(P1695:P1698)","v":481875},4.0700057028645409,2372.9557201498001,2342.98863362272,338,999,1690,2342.98863362272,27064435.090483584,1690,338,999,1690,2342.98863362272,27064435.090483584,null,null,null,null,null,null,null,null,null,null,null,null,null,null,null,null,null,null,null,null,null,null,null,null,null,null,null,null,null,null,null,null,null,null,null,null,null,null,null,null,null,null,null,null,null,null,null,null,null,null,null,null,null,null,null,null,null,null,null,null,null,null,null,null,null,338,999,1690,2414.3276907465697,25759458.985466905,1,11266214]
["03400340","0340","0340",1696,340,"Williamsburg                 ",340,"Williamsburg",1900770.6075914244,0.58944041115899337,{"$f":"X1705","v":2029086.28},{"$f":"IF(K1709>0, K1705/K1709, 0)","v":0.59842327026713693},null,{"$f":"ROUND(M1709*L1705,0)","v":1303990},1235134,{"$f":"N1705-O1705","v":68856},5.5747797404977923,170,176,340,340,1696,176,2029086.28,1696,340,340,1696,176,2029086.28,null,null,null,null,null,null,null,null,null,null,null,null,null,null,null,null,null,null,null,null,null,null,null,null,null,null,null,null,null,null,null,null,null,null,null,null,null,null,null,null,null,null,null,null,null,null,null,null,null,null,null,null,null,null,null,null,null,null,null,null,null,null,null,null,null,340,340,1696,178,1888347.0699999998,0.61254209756471267,1281224]
["03400683","0340","0683",1697,340,"Williamsburg                 ",683,"Hampshire",1323932.9783978942,0.41055958884100657,1361634.6040562184,{"$f":"IF(K1709>0, K1706/K1709, 0)","v":0.40157672973286301},null,{"$f":"ROUND(M1709*L1706,0)","v":875053},860301,{"$f":"N1706-O1706","v":14752},1.7147486751729917,120.36308623286999,119.3552238816,340,683,1697,119.3552238816,1361634.6040562184,1697,340,683,1697,119.3552238816,1361634.6040562184,null,null,null,null,null,null,null,null,null,null,null,null,null,null,null,null,null,null,null,null,null,null,null,null,null,null,null,null,null,null,null,null,null,null,null,null,null,null,null,null,null,null,null,null,null,null,null,null,null,null,null,null,null,null,null,null,null,null,null,null,null,null,null,null,null,340,683,1697,113.33284241646,1194456.6711755255,0.38745790243528733,810427]
["03400998","0340","0998",1698,340,"",998,"",0,0,0,{"$f":"IF(K1709>0, K1707/K1709, 0)","v":0},null,{"$f":"ROUND(M1709*L1707,0)","v":0},0,{"$f":"N1707-O1707","v":0},0,0,0,340,998,1698,0,0,1698,340,998,1698,0,0,null,null,null,null,null,null,null,null,null,null,null,null,null,null,null,null,null,null,null,null,null,null,null,null,null,null,null,null,null,null,null,null,null,null,null,null,null,null,null,null,null,null,null,null,null,null,null,null,null,null,null,null,null,null,null,null,null,null,null,null,null,null,null,null,null,340,998,1698,0,0,0,0]
["03400998","0340","0998",1699,340,"",998,"",0,0,0,{"$f":"IF(K1709>0, K1708/K1709, 0)","v":0},null,{"$f":"ROUND(M1709*L1708,0)","v":0},0,{"$f":"N1708-O1708","v":0},0,0,0,340,998,1699,0,0,1699,340,998,1699,0,0,null,null,null,null,null,null,null,null,null,null,null,null,null,null,null,null,null,null,null,null,null,null,null,null,null,null,null,null,null,null,null,null,null,null,null,null,null,null,null,null,null,null,null,null,null,null,null,null,null,null,null,null,null,null,null,null,null,null,null,null,null,null,null,null,null,340,998,1699,0,0,0,0]
["03400999","0340","0999",1700,340,"Williamsburg                 ",999,"Total",3224703.5859893188,1,{"$f":"SUM(K1705:K1708)","v":3390720.8840562184},{"$f":"SUM(L1705:L1708)","v":1},{"$f":"VLOOKUP(E1709,town351,24)","v":2179043},{"$f":"SUM(N1705:N1708)","v":2179043},2095435,{"$f":"SUM(P1705:P1708)","v":83608},3.9900068482200592,290.36308623286999,295.35522388160001,340,999,1700,295.35522388160001,3390720.8840562184,1700,340,999,1700,295.35522388160001,3390720.8840562184,null,null,null,null,null,null,null,null,null,null,null,null,null,null,null,null,null,null,null,null,null,null,null,null,null,null,null,null,null,null,null,null,null,null,null,null,null,null,null,null,null,null,null,null,null,null,null,null,null,null,null,null,null,null,null,null,null,null,null,null,null,null,null,null,null,340,999,1700,291.33284241645998,3082803.7411755254,1,2091651]
["03410341","0341","0341",1701,341,"Williamstown                 ",341,"Williamstown",0,0,{"$f":"X1710","v":0},{"$f":"IF(K1714>0, K1710/K1714, 0)","v":0},null,{"$f":"ROUND(M1714*L1710,0)","v":0},0,{"$f":"N1710-O1710","v":0},0,0,0,341,341,1701,0,0,1701,341,341,1701,0,0,null,null,null,null,null,null,null,null,null,null,null,null,null,null,null,null,null,null,null,null,null,null,null,null,null,null,null,null,null,null,null,null,null,null,null,null,null,null,null,null,null,null,null,null,null,null,null,null,null,null,null,null,null,null,null,null,null,null,null,null,null,null,null,null,null,341,341,1701,0,0,0,0]
["03410715","0341","0715",1702,341,"Williamstown                 ",715,"Mount Greylock",7691547.5163896168,0.95626213048040831,7604824.0215425501,{"$f":"IF(K1714>0, K1711/K1714, 0)","v":0.96322416058492644},null,{"$f":"ROUND(M1714*L1711,0)","v":6273980},6146273,{"$f":"N1711-O1711","v":127707},2.0777957633837612,720.01101928854007,685.74524714424001,341,715,1702,685.74524714424001,7604824.0215425501,1702,341,715,1702,685.74524714424001,7604824.0215425501,null,null,null,null,null,null,null,null,null,null,null,null,null,null,null,null,null,null,null,null,null,null,null,null,null,null,null,null,null,null,null,null,null,null,null,null,null,null,null,null,null,null,null,null,null,null,null,null,null,null,null,null,null,null,null,null,null,null,null,null,null,null,null,null,null,341,715,1702,703.15193369861993,7211290.9091861611,0.96616070476232807,5949315]
["03410851","0341","0851",1703,341,"Williamstown                 ",851,"Northern Berkshire",351798.83313645481,4.3737869519591605E-2,290351.7150424344,{"$f":"IF(K1714>0, K1712/K1714, 0)","v":3.677583941507355E-2},null,{"$f":"ROUND(M1714*L1712,0)","v":239540},281121,{"$f":"N1712-O1712","v":-41581},-14.791139758324707,19.99999999816,15.999999999350001,341,851,1703,15.999999999350001,290351.7150424344,1703,341,851,1703,15.999999999350001,290351.7150424344,null,null,null,null,null,null,null,null,null,null,null,null,null,null,null,null,null,null,null,null,null,null,null,null,null,null,null,null,null,null,null,null,null,null,null,null,null,null,null,null,null,null,null,null,null,null,null,null,null,null,null,null,null,null,null,null,null,null,null,null,null,null,null,null,null,341,851,1703,14.99999999832,252571.85571495525,3.3839295237671936E-2,208372]
["03410998","0341","0998",1704,341,"",998,"",0,0,0,{"$f":"IF(K1714>0, K1713/K1714, 0)","v":0},null,{"$f":"ROUND(M1714*L1713,0)","v":0},0,{"$f":"N1713-O1713","v":0},0,0,0,341,998,1704,0,0,1704,341,998,1704,0,0,null,null,null,null,null,null,null,null,null,null,null,null,null,null,null,null,null,null,null,null,null,null,null,null,null,null,null,null,null,null,null,null,null,null,null,null,null,null,null,null,null,null,null,null,null,null,null,null,null,null,null,null,null,null,null,null,null,null,null,null,null,null,null,null,null,341,998,1704,0,0,0,0]
["03410999","0341","0999",1705,341,"Williamstown                 ",999,"Total",8043346.3495260719,0.99999999999999989,{"$f":"SUM(K1710:K1713)","v":7895175.7365849847},{"$f":"SUM(L1710:L1713)","v":1},{"$f":"VLOOKUP(E1714,town351,24)","v":6513520},{"$f":"SUM(N1710:N1713)","v":6513520},6427394,{"$f":"SUM(P1710:P1713)","v":86126},1.339983203145785,740.01101928670005,701.74524714359006,341,999,1705,701.74524714359006,7895175.7365849847,1705,341,999,1705,701.74524714359006,7895175.7365849847,null,null,null,null,null,null,null,null,null,null,null,null,null,null,null,null,null,null,null,null,null,null,null,null,null,null,null,null,null,null,null,null,null,null,null,null,null,null,null,null,null,null,null,null,null,null,null,null,null,null,null,null,null,null,null,null,null,null,null,null,null,null,null,null,null,341,999,1705,718.15193369693998,7463862.7649011165,1,6157687]
["03420342","0342","0342",1706,342,"Wilmington                   ",342,"Wilmington",34910848.030844986,0.89334619421732997,{"$f":"X1715","v":35697377.274099998},{"$f":"IF(K1719>0, K1715/K1719, 0)","v":0.89422347191576979},null,{"$f":"ROUND(M1719*L1715,0)","v":28889999},27323352,{"$f":"N1715-O1715","v":1566647},5.733729155924939,3242,3220,342,342,1706,3220,35697377.274099998,1706,342,342,1706,3220,35697377.274099998,null,null,null,null,null,null,null,null,null,null,null,null,null,null,null,null,null,null,null,null,null,null,null,null,null,null,null,null,null,null,null,null,null,null,null,null,null,null,null,null,null,null,null,null,null,null,null,null,null,null,null,null,null,null,null,null,null,null,null,null,null,null,null,null,null,342,342,1706,3386,34794527.347199991,0.90427238985547731,26550382]
["03420871","0342","0871",1707,342,"Wilmington                   ",871,"Shawsheen Valley",4167896.8687521368,0.10665380578266999,4222596.1947494792,{"$f":"IF(K1719>0, K1716/K1719, 0)","v":0.10577652808423015},null,{"$f":"ROUND(M1719*L1716,0)","v":3417360},3262049,{"$f":"N1716-O1716","v":155311},4.7611485909623061,250.00000000514999,245.99999999925001,342,871,1707,245.99999999925001,4222596.1947494792,1707,342,871,1707,245.99999999925001,4222596.1947494792,null,null,null,null,null,null,null,null,null,null,null,null,null,null,null,null,null,null,null,null,null,null,null,null,null,null,null,null,null,null,null,null,null,null,null,null,null,null,null,null,null,null,null,null,null,null,null,null,null,null,null,null,null,null,null,null,null,null,null,null,null,null,null,null,null,342,871,1707,231.00000000007,3683400.0312538915,9.572761014452276E-2,2810663]
["03420998","0342","0998",1708,342,"",998,null,0,0,0,{"$f":"IF(K1719>0, K1717/K1719, 0)","v":0},null,{"$f":"ROUND(M1719*L1717,0)","v":0},0,{"$f":"N1717-O1717","v":0},0,0,0,342,998,1708,0,0,1708,342,998,1708,0,0,null,null,null,null,null,null,null,null,null,null,null,null,null,null,null,null,null,null,null,null,null,null,null,null,null,null,null,null,null,null,null,null,null,null,null,null,null,null,null,null,null,null,null,null,null,null,null,null,null,null,null,null,null,null,null,null,null,null,null,null,null,null,null,null,null,342,998,1708,0,0,0,0]
["03420998","0342","0998",1709,342,"",998,"",0,0,0,{"$f":"IF(K1719>0, K1718/K1719, 0)","v":0},null,{"$f":"ROUND(M1719*L1718,0)","v":0},0,{"$f":"N1718-O1718","v":0},0,0,0,342,998,1709,0,0,1709,342,998,1709,0,0,null,null,null,null,null,null,null,null,null,null,null,null,null,null,null,null,null,null,null,null,null,null,null,null,null,null,null,null,null,null,null,null,null,null,null,null,null,null,null,null,null,null,null,null,null,null,null,null,null,null,null,null,null,null,null,null,null,null,null,null,null,null,null,null,null,342,998,1709,0,0,0,0]
["03420999","0342","0999",1710,342,"Wilmington                   ",999,"Total",39078744.899597123,1,{"$f":"SUM(K1715:K1718)","v":39919973.46884948},{"$f":"SUM(L1715:L1718)","v":0.99999999999999989},{"$f":"VLOOKUP(E1719,town351,24)","v":32307359},{"$f":"SUM(N1715:N1718)","v":32307359},30585401,{"$f":"SUM(P1715:P1718)","v":1721958},5.6299997505345774,3492.00000000515,3465.9999999992501,342,999,1710,3465.9999999992501,39919973.46884948,1710,342,999,1710,3465.9999999992501,39919973.46884948,null,null,null,null,null,null,null,null,null,null,null,null,null,null,null,null,null,null,null,null,null,null,null,null,null,null,null,null,null,null,null,null,null,null,null,null,null,null,null,null,null,null,null,null,null,null,null,null,null,null,null,null,null,null,null,null,null,null,null,null,null,null,null,null,null,342,999,1710,3617.00000000007,38477927.378453881,1,29361045]
["03430343","0343","0343",1711,343,"Winchendon                   ",343,"Winchendon",15998737.235770881,0.8714326352515529,{"$f":"X1720","v":15937837.76},{"$f":"IF(K1724>0, K1720/K1724, 0)","v":0.87765733731037765},null,{"$f":"ROUND(M1724*L1720,0)","v":5297277},5085773,{"$f":"N1720-O1720","v":211504},4.1587385044515353,1369,1322,343,343,1711,1322,15937837.76,1711,343,343,1711,1322,15937837.76,null,null,null,null,null,null,null,null,null,null,null,null,null,null,null,null,null,null,null,null,null,null,null,null,null,null,null,null,null,null,null,null,null,null,null,null,null,null,null,null,null,null,null,null,null,null,null,null,null,null,null,null,null,null,null,null,null,null,null,null,null,null,null,null,null,343,343,1711,1397,15435431.700000001,0.85600572945688924,4871517]
["03430832","0343","0832",1712,343,"Winchendon                   ",832,"Montachusett",2360383.8122405829,0.12856736474844713,2221684.2794809826,{"$f":"IF(K1724>0, K1721/K1724, 0)","v":0.12234266268962221},null,{"$f":"ROUND(M1724*L1721,0)","v":738424},750333,{"$f":"N1721-O1721","v":-11909},-1.5871619667534282,139.00000000458002,125.99999999399999,343,832,1712,125.99999999399999,2221684.2794809826,1712,343,832,1712,125.99999999399999,2221684.2794809826,null,null,null,null,null,null,null,null,null,null,null,null,null,null,null,null,null,null,null,null,null,null,null,null,null,null,null,null,null,null,null,null,null,null,null,null,null,null,null,null,null,null,null,null,null,null,null,null,null,null,null,null,null,null,null,null,null,null,null,null,null,null,null,null,null,343,832,1712,160.10767160894,2596493.9855831233,0.14399427054311068,819469]
["03430998","0343","0998",1713,343,"",998,"",0,0,0,{"$f":"IF(K1724>0, K1722/K1724, 0)","v":0},null,{"$f":"ROUND(M1724*L1722,0)","v":0},0,{"$f":"N1722-O1722","v":0},0,0,0,343,998,1713,0,0,1713,343,998,1713,0,0,null,null,null,null,null,null,null,null,null,null,null,null,null,null,null,null,null,null,null,null,null,null,null,null,null,null,null,null,null,null,null,null,null,null,null,null,null,null,null,null,null,null,null,null,null,null,null,null,null,null,null,null,null,null,null,null,null,null,null,null,null,null,null,null,null,343,998,1713,0,0,0,0]
["03430998","0343","0998",1714,343,"",998,"",0,0,0,{"$f":"IF(K1724>0, K1723/K1724, 0)","v":0},null,{"$f":"ROUND(M1724*L1723,0)","v":0},0,{"$f":"N1723-O1723","v":0},0,0,0,343,998,1714,0,0,1714,343,998,1714,0,0,null,null,null,null,null,null,null,null,null,null,null,null,null,null,null,null,null,null,null,null,null,null,null,null,null,null,null,null,null,null,null,null,null,null,null,null,null,null,null,null,null,null,null,null,null,null,null,null,null,null,null,null,null,null,null,null,null,null,null,null,null,null,null,null,null,343,998,1714,0,0,0,0]
["03430999","0343","0999",1715,343,"Winchendon                   ",999,"Total",18359121.048011463,1,{"$f":"SUM(K1720:K1723)","v":18159522.039480984},{"$f":"SUM(L1720:L1723)","v":0.99999999999999989},{"$f":"VLOOKUP(E1724,town351,24)","v":6035701},{"$f":"SUM(N1720:N1723)","v":6035701},5836106,{"$f":"SUM(P1720:P1723)","v":199595},3.4200029951477919,1508.00000000458,1447.9999999940001,343,999,1715,1447.9999999940001,18159522.039480984,1715,343,999,1715,1447.9999999940001,18159522.039480984,null,null,null,null,null,null,null,null,null,null,null,null,null,null,null,null,null,null,null,null,null,null,null,null,null,null,null,null,null,null,null,null,null,null,null,null,null,null,null,null,null,null,null,null,null,null,null,null,null,null,null,null,null,null,null,null,null,null,null,null,null,null,null,null,null,343,999,1715,1557.1076716089401,18031925.685583126,0.99999999999999989,5690986]
["03440344","0344","0344",1716,344,"Winchester                   ",344,"Winchester",48242100.959599502,0.99735928199652724,{"$f":"X1725","v":50486504.970700011},{"$f":"IF(K1729>0, K1725/K1729, 0)","v":0.99767546754319347},null,{"$f":"ROUND(M1729*L1725,0)","v":40663736},38833443,{"$f":"N1725-O1725","v":1830293},4.7131875481656369,4638,4685,344,344,1716,4685,50486504.970700011,1716,344,344,1716,4685,50486504.970700011,null,null,null,null,null,null,null,null,null,null,null,null,null,null,null,null,null,null,null,null,null,null,null,null,null,null,null,null,null,null,null,null,null,null,null,null,null,null,null,null,null,null,null,null,null,null,null,null,null,null,null,null,null,null,null,null,null,null,null,null,null,null,null,null,null,344,344,1716,4650,46376139.481770001,0.99698119198715618,37332874]
["03440853","0344","0853",1717,344,"Winchester                   ",853,"Northeast Metropolitan",127731.08630858631,2.640718003472826E-3,117630.95641122281,{"$f":"IF(K1729>0, K1726/K1729, 0)","v":2.3245324568065963E-3},null,{"$f":"ROUND(M1729*L1726,0)","v":94744},102820,{"$f":"N1726-O1726","v":-8076},-7.8545030149776309,6.9999999956999996,6.0000000022699993,344,853,1717,6.0000000022699993,117630.95641122281,1717,344,853,1717,6.0000000022699993,117630.95641122281,null,null,null,null,null,null,null,null,null,null,null,null,null,null,null,null,null,null,null,null,null,null,null,null,null,null,null,null,null,null,null,null,null,null,null,null,null,null,null,null,null,null,null,null,null,null,null,null,null,null,null,null,null,null,null,null,null,null,null,null,null,null,null,null,null,344,853,1717,8.0000000007600001,140424.57630848596,3.0188080128437291E-3,113042]
["03440998","0344","0998",1718,344,"",998,"",0,0,0,{"$f":"IF(K1729>0, K1727/K1729, 0)","v":0},null,{"$f":"ROUND(M1729*L1727,0)","v":0},0,{"$f":"N1727-O1727","v":0},0,0,0,344,998,1718,0,0,1718,344,998,1718,0,0,null,null,null,null,null,null,null,null,null,null,null,null,null,null,null,null,null,null,null,null,null,null,null,null,null,null,null,null,null,null,null,null,null,null,null,null,null,null,null,null,null,null,null,null,null,null,null,null,null,null,null,null,null,null,null,null,null,null,null,null,null,null,null,null,null,344,998,1718,0,0,0,0]
["03440998","0344","0998",1719,344,"",998,"",0,0,0,{"$f":"IF(K1729>0, K1728/K1729, 0)","v":0},null,{"$f":"ROUND(M1729*L1728,0)","v":0},0,{"$f":"N1728-O1728","v":0},0,0,0,344,998,1719,0,0,1719,344,998,1719,0,0,null,null,null,null,null,null,null,null,null,null,null,null,null,null,null,null,null,null,null,null,null,null,null,null,null,null,null,null,null,null,null,null,null,null,null,null,null,null,null,null,null,null,null,null,null,null,null,null,null,null,null,null,null,null,null,null,null,null,null,null,null,null,null,null,null,344,998,1719,0,0,0,0]
["03440999","0344","0999",1720,344,"Winchester                   ",999,"Total",48369832.045908086,1,{"$f":"SUM(K1725:K1728)","v":50604135.927111231},{"$f":"SUM(L1725:L1728)","v":1},{"$f":"VLOOKUP(E1729,town351,24)","v":40758480},{"$f":"SUM(N1725:N1728)","v":40758480},38936263,{"$f":"SUM(P1725:P1728)","v":1822217},4.6799997215962916,4644.9999999956999,4691.0000000022701,344,999,1720,4691.0000000022701,50604135.927111231,1720,344,999,1720,4691.0000000022701,50604135.927111231,null,null,null,null,null,null,null,null,null,null,null,null,null,null,null,null,null,null,null,null,null,null,null,null,null,null,null,null,null,null,null,null,null,null,null,null,null,null,null,null,null,null,null,null,null,null,null,null,null,null,null,null,null,null,null,null,null,null,null,null,null,null,null,null,null,344,999,1720,4658.0000000007603,46516564.05807849,0.99999999999999989,37445916]
["03450345","0345","0345",1721,345,"Windsor                      ",345,"Windsor",71858.986276766795,8.5194585916802026E-2,{"$f":"X1730","v":59818.599999999991},{"$f":"IF(K1734>0, K1730/K1734, 0)","v":7.3460756845932618E-2},null,{"$f":"ROUND(M1734*L1730,0)","v":49350},59284,{"$f":"N1730-O1730","v":-9934},-16.756629107347681,5,4,345,345,1721,4,59818.599999999991,1721,345,345,1721,4,59818.599999999991,null,null,null,null,null,null,null,null,null,null,null,null,null,null,null,null,null,null,null,null,null,null,null,null,null,null,null,null,null,null,null,null,null,null,null,null,null,null,null,null,null,null,null,null,null,null,null,null,null,null,null,null,null,null,null,null,null,null,null,null,null,null,null,null,null,345,345,1721,3,41511.479999999996,4.9414608371146709E-2,34247]
["03450635","0345","0635",1722,345,"Windsor                      ",635,"Central Berkshire",771609.94433041639,0.91480541408319804,754474.67124216841,{"$f":"IF(K1734>0, K1731/K1734, 0)","v":0.92653924315406744},null,{"$f":"ROUND(M1734*L1731,0)","v":622442},636578,{"$f":"N1731-O1731","v":-14136},-2.2206233957189849,67.526282458880004,64.370561655659998,345,635,1722,64.370561655659998,754474.67124216841,1722,345,635,1722,64.370561655659998,754474.67124216841,null,null,null,null,null,null,null,null,null,null,null,null,null,null,null,null,null,null,null,null,null,null,null,null,null,null,null,null,null,null,null,null,null,null,null,null,null,null,null,null,null,null,null,null,null,null,null,null,null,null,null,null,null,null,null,null,null,null,null,null,null,null,null,null,null,345,635,1722,73.943661979599995,798553.45966748975,0.95058539162885336,658807]
["03450998","0345","0998",1723,345,"",998,"",0,0,0,{"$f":"IF(K1734>0, K1732/K1734, 0)","v":0},null,{"$f":"ROUND(M1734*L1732,0)","v":0},0,{"$f":"N1732-O1732","v":0},0,0,0,345,998,1723,0,0,1723,345,998,1723,0,0,null,null,null,null,null,null,null,null,null,null,null,null,null,null,null,null,null,null,null,null,null,null,null,null,null,null,null,null,null,null,null,null,null,null,null,null,null,null,null,null,null,null,null,null,null,null,null,null,null,null,null,null,null,null,null,null,null,null,null,null,null,null,null,null,null,345,998,1723,0,0,0,0]
["03450998","0345","0998",1724,345,"",998,"",0,0,0,{"$f":"IF(K1734>0, K1733/K1734, 0)","v":0},null,{"$f":"ROUND(M1734*L1733,0)","v":0},0,{"$f":"N1733-O1733","v":0},0,0,0,345,998,1724,0,0,1724,345,998,1724,0,0,null,null,null,null,null,null,null,null,null,null,null,null,null,null,null,null,null,null,null,null,null,null,null,null,null,null,null,null,null,null,null,null,null,null,null,null,null,null,null,null,null,null,null,null,null,null,null,null,null,null,null,null,null,null,null,null,null,null,null,null,null,null,null,null,null,345,998,1724,0,0,0,0]
["03450999","0345","0999",1725,345,"Windsor                      ",999,"Total",843468.93060718314,1,{"$f":"SUM(K1730:K1733)","v":814293.27124216838},{"$f":"SUM(L1730:L1733)","v":1},{"$f":"VLOOKUP(E1734,town351,24)","v":671792},{"$f":"SUM(N1730:N1733)","v":671792},695862,{"$f":"SUM(P1730:P1733)","v":-24070},-3.4590191733418409,72.526282458880004,68.370561655659998,345,999,1725,68.370561655659998,814293.27124216838,1725,345,999,1725,68.370561655659998,814293.27124216838,null,null,null,null,null,null,null,null,null,null,null,null,null,null,null,null,null,null,null,null,null,null,null,null,null,null,null,null,null,null,null,null,null,null,null,null,null,null,null,null,null,null,null,null,null,null,null,null,null,null,null,null,null,null,null,null,null,null,null,null,null,null,null,null,null,345,999,1725,76.943661979599995,840064.93966748973,1,693054]
["03460346","0346","0346",1726,346,"Winthrop                     ",346,"Winthrop",23351887.112957381,0.96676096798368572,{"$f":"X1735","v":23704402.770799998},{"$f":"IF(K1739>0, K1735/K1739, 0)","v":0.96181657730196513},null,{"$f":"ROUND(M1739*L1735,0)","v":16770154},16010984,{"$f":"N1735-O1735","v":759170},4.7415574208305999,2012,1986,346,346,1726,1986,23704402.770799998,1726,346,346,1726,1986,23704402.770799998,null,null,null,null,null,null,null,null,null,null,null,null,null,null,null,null,null,null,null,null,null,null,null,null,null,null,null,null,null,null,null,null,null,null,null,null,null,null,null,null,null,null,null,null,null,null,null,null,null,null,null,null,null,null,null,null,null,null,null,null,null,null,null,null,null,346,346,1726,2027,22361612.680800002,0.96441935711352289,15285867]
["03460853","0346","0853",1727,346,"Winthrop                     ",853,"Northeast Metropolitan",802881.11445770017,3.323903201631425E-2,941047.65104060096,{"$f":"IF(K1739>0, K1736/K1739, 0)","v":3.8183422698034847E-2},null,{"$f":"ROUND(M1739*L1736,0)","v":665763},550487,{"$f":"N1736-O1736","v":115276},20.94073066212281,44.00000000136,48.000000005449998,346,853,1727,48.000000005449998,941047.65104060096,1727,346,853,1727,48.000000005449998,941047.65104060096,null,null,null,null,null,null,null,null,null,null,null,null,null,null,null,null,null,null,null,null,null,null,null,null,null,null,null,null,null,null,null,null,null,null,null,null,null,null,null,null,null,null,null,null,null,null,null,null,null,null,null,null,null,null,null,null,null,null,null,null,null,null,null,null,null,346,853,1727,47.000000002919997,824994.38578523544,3.5580642886477089E-2,563947]
["03460998","0346","0998",1728,346,"",998,null,0,0,0,{"$f":"IF(K1739>0, K1737/K1739, 0)","v":0},null,{"$f":"ROUND(M1739*L1737,0)","v":0},0,{"$f":"N1737-O1737","v":0},0,0,0,346,998,1728,0,0,1728,346,998,1728,0,0,null,null,null,null,null,null,null,null,null,null,null,null,null,null,null,null,null,null,null,null,null,null,null,null,null,null,null,null,null,null,null,null,null,null,null,null,null,null,null,null,null,null,null,null,null,null,null,null,null,null,null,null,null,null,null,null,null,null,null,null,null,null,null,null,null,346,998,1728,0,0,0,0]
[{"$f":"B1738&C1738","v":"03460998"},"0346","0998",1729,346,"",998,"",0,0,0,{"$f":"IF(K1739>0, K1738/K1739, 0)","v":0},null,{"$f":"ROUND(M1739*L1738,0)","v":0},0,{"$f":"N1738-O1738","v":0},0,0,0,{"$f":"VLOOKUP($D1738, foundoptions, VLOOKUP($T$6, foundoptcell, 2, FALSE), FALSE)","v":346},{"$f":"VLOOKUP($D1738, foundoptions, VLOOKUP($T$6, foundoptcell, 2, FALSE)+1, FALSE)","v":998},{"$f":"VLOOKUP($D1738, foundoptions, VLOOKUP($T$6, foundoptcell, 2, FALSE)+2, FALSE)","v":1729},{"$f":"VLOOKUP($D1738, foundoptions, VLOOKUP($T$6, foundoptcell, 2, FALSE)+3, FALSE)","v":0},{"$f":"VLOOKUP($D1738, foundoptions, VLOOKUP($T$6, foundoptcell, 2, FALSE)+4, FALSE)","v":0},1729,346,998,1729,0,0,null,null,null,null,null,null,null,null,null,null,null,null,null,null,null,null,null,null,null,null,null,null,null,null,null,null,null,null,null,null,null,null,null,null,null,null,null,null,null,null,null,null,null,null,null,null,null,null,null,null,null,null,null,null,null,null,null,null,null,null,null,null,null,null,null,346,998,1729,0,0,0,0]
["03460999","0346","0999",1730,346,"Winthrop                     ",999,"Total",24154768.227415081,1,{"$f":"SUM(K1735:K1738)","v":24645450.421840601},{"$f":"SUM(L1735:L1738)","v":1},{"$f":"VLOOKUP(E1739,town351,24)","v":17435917},{"$f":"SUM(N1735:N1738)","v":17435917},16561471,{"$f":"SUM(P1735:P1738)","v":874446},5.2800019998223586,2056.0000000013601,2034.0000000054499,346,999,1730,2034.0000000054499,24645450.421840601,{"$f":"D1739","v":1730},346,999,1730,2034.0000000054499,24645450.421840601,null,null,null,null,null,null,null,null,null,null,null,null,null,null,null,null,null,null,null,null,null,null,null,null,null,null,null,null,null,null,null,null,null,null,null,null,null,null,null,null,null,null,null,null,null,null,null,null,null,null,null,null,null,null,null,null,null,null,null,null,null,null,null,null,null,346,999,1730,2074.0000000029199,23186607.066585239,1,15849814]
["03470347","0347","0347",1731,347,"Woburn",347,"Woburn",53841305.779622279,0.96563737384476866,{"$f":"X1740","v":54984520.072560005},{"$f":"IF(K1744>0, K1740/K1744, 0)","v":0.96192886077026829},null,{"$f":"ROUND(M1744*L1740,0)","v":45362230},44419077,{"$f":"N1740-O1740","v":943153},2.1233061641510469,4596,4517,347,347,1731,4517,54984520.072560005,1731,347,347,1731,4517,54984520.072560005,null,null,null,null,null,null,null,null,null,null,null,null,null,null,null,null,null,null,null,null,null,null,null,null,null,null,null,null,null,null,null,null,null,null,null,null,null,null,null,null,null,null,null,null,null,null,null,null,null,null,null,null,null,null,null,null,null,null,null,null,null,null,null,null,null,347,347,1731,4659,51790238.039180018,0.9656356741149108,42726946]
["03470853","0347","0853",1732,347,"Woburn",853,"Northeast Metropolitan",1915966.2957619519,3.4362626155231411E-2,2176172.6927354867,{"$f":"IF(K1744>0, K1741/K1744, 0)","v":3.8071139229731779E-2},null,{"$f":"ROUND(M1744*L1741,0)","v":1795342},1580672,{"$f":"N1741-O1741","v":214670},13.58093266661268,104.9999999976,110.99999999750999,347,853,1732,110.99999999750999,2176172.6927354867,1732,347,853,1732,110.99999999750999,2176172.6927354867,null,null,null,null,null,null,null,null,null,null,null,null,null,null,null,null,null,null,null,null,null,null,null,null,null,null,null,null,null,null,null,null,null,null,null,null,null,null,null,null,null,null,null,null,null,null,null,null,null,null,null,null,null,null,null,null,null,null,null,null,null,null,null,null,null,347,853,1732,104.99999999916001,1843072.563859042,3.4364325885089156E-2,1520535]
["03470998","0347","0998",1733,347,"",998,null,0,0,0,{"$f":"IF(K1744>0, K1742/K1744, 0)","v":0},null,{"$f":"ROUND(M1744*L1742,0)","v":0},0,{"$f":"N1742-O1742","v":0},0,0,0,347,998,1733,0,0,1733,347,998,1733,0,0,null,null,null,null,null,null,null,null,null,null,null,null,null,null,null,null,null,null,null,null,null,null,null,null,null,null,null,null,null,null,null,null,null,null,null,null,null,null,null,null,null,null,null,null,null,null,null,null,null,null,null,null,null,null,null,null,null,null,null,null,null,null,null,null,null,347,998,1733,0,0,0,0]
["03470998","0347","0998",1734,347,"",998,"",0,0,0,{"$f":"IF(K1744>0, K1743/K1744, 0)","v":0},null,{"$f":"ROUND(M1744*L1743,0)","v":0},0,{"$f":"N1743-O1743","v":0},0,0,0,347,998,1734,0,0,1734,347,998,1734,0,0,null,null,null,null,null,null,null,null,null,null,null,null,null,null,null,null,null,null,null,null,null,null,null,null,null,null,null,null,null,null,null,null,null,null,null,null,null,null,null,null,null,null,null,null,null,null,null,null,null,null,null,null,null,null,null,null,null,null,null,null,null,null,null,null,null,347,998,1734,0,0,0,0]
["03470999","0347","0999",1735,347,"Woburn",999,"Total",55757272.075384229,1,{"$f":"SUM(K1740:K1743)","v":57160692.765295491},{"$f":"SUM(L1740:L1743)","v":1},{"$f":"VLOOKUP(E1744,town351,24)","v":47157572},{"$f":"SUM(N1740:N1743)","v":47157572},45999749,{"$f":"SUM(P1740:P1743)","v":1157823},{"$f":"IF(O1744>0,P1744*100/O1744,IF(P1744>0,100,0))","v":2.5170202559148747},4700.9999999975998,4627.9999999975098,347,999,1735,4627.9999999975098,57160692.765295491,1735,347,999,1735,4627.9999999975098,57160692.765295491,null,null,null,null,null,null,null,null,null,null,null,null,null,null,null,null,null,null,null,null,null,null,null,null,null,null,null,null,null,null,null,null,null,null,null,null,null,null,null,null,null,null,null,null,null,null,null,null,null,null,null,null,null,null,null,null,null,null,null,null,null,null,null,null,null,347,999,1735,4763.9999999991596,53633310.603039064,1,44247481]
["03480348","0348","0348",1736,348,"Worcester                    ",348,"Worcester",379530589.18986362,1,{"$f":"X1745","v":398714407.20999992},{"$f":"IF(K1749>0, K1745/K1749, 0)","v":1},null,{"$f":"ROUND(M1749*L1745,0)","v":105210987},104076553,{"$f":"N1745-O1745","v":1134434},1.0899995890524929,27800,27442,348,348,1736,27442,398714407.20999992,1736,348,348,1736,27442,398714407.20999992,null,null,null,null,null,null,null,null,null,null,null,null,null,null,null,null,null,null,null,null,null,null,null,null,null,null,null,null,null,null,null,null,null,null,null,null,null,null,null,null,null,null,null,null,null,null,null,null,null,null,null,null,null,null,null,null,null,null,null,null,null,null,null,null,null,348,348,1736,27611,353662082.21999997,1,100450297]
["03480998","0348","0998",1737,348,"",998,"",0,0,0,{"$f":"IF(K1749>0, K1746/K1749, 0)","v":0},null,{"$f":"ROUND(M1749*L1746,0)","v":0},0,{"$f":"N1746-O1746","v":0},0,0,0,348,998,1737,0,0,1737,348,998,1737,0,0,null,null,null,null,null,null,null,null,null,null,null,null,null,null,null,null,null,null,null,null,null,null,null,null,null,null,null,null,null,null,null,null,null,null,null,null,null,null,null,null,null,null,null,null,null,null,null,null,null,null,null,null,null,null,null,null,null,null,null,null,null,null,null,null,null,348,998,1737,0,0,0,0]
["03480998","0348","0998",1738,348,"",998,"",0,0,0,{"$f":"IF(K1749>0, K1747/K1749, 0)","v":0},null,{"$f":"ROUND(M1749*L1747,0)","v":0},0,{"$f":"N1747-O1747","v":0},0,0,0,348,998,1738,0,0,1738,348,998,1738,0,0,null,null,null,null,null,null,null,null,null,null,null,null,null,null,null,null,null,null,null,null,null,null,null,null,null,null,null,null,null,null,null,null,null,null,null,null,null,null,null,null,null,null,null,null,null,null,null,null,null,null,null,null,null,null,null,null,null,null,null,null,null,null,null,null,null,348,998,1738,0,0,0,0]
["03480998","0348","0998",1739,348,"",998,"",0,0,0,{"$f":"IF(K1749>0, K1748/K1749, 0)","v":0},null,{"$f":"ROUND(M1749*L1748,0)","v":0},0,{"$f":"N1748-O1748","v":0},0,0,0,348,998,1739,0,0,1739,348,998,1739,0,0,null,null,null,null,null,null,null,null,null,null,null,null,null,null,null,null,null,null,null,null,null,null,null,null,null,null,null,null,null,null,null,null,null,null,null,null,null,null,null,null,null,null,null,null,null,null,null,null,null,null,null,null,null,null,null,null,null,null,null,null,null,null,null,null,null,348,998,1739,0,0,0,0]
["03480999","0348","0999",1740,348,"Worcester                    ",999,"Total",379530589.18986362,1,{"$f":"SUM(K1745:K1748)","v":398714407.20999992},{"$f":"SUM(L1745:L1748)","v":1},{"$f":"VLOOKUP(E1749,town351,24)","v":105210987},{"$f":"SUM(N1745:N1748)","v":105210987},104076553,{"$f":"SUM(P1745:P1748)","v":1134434},1.0899995890524929,27800,27442,348,999,1740,27442,398714407.20999992,1740,348,999,1740,27442,398714407.20999992,null,null,null,null,null,null,null,null,null,null,null,null,null,null,null,null,null,null,null,null,null,null,null,null,null,null,null,null,null,null,null,null,null,null,null,null,null,null,null,null,null,null,null,null,null,null,null,null,null,null,null,null,null,null,null,null,null,null,null,null,null,null,null,null,null,348,999,1740,27611,353662082.21999997,1,100450297]
["03490349","0349","0349",1741,349,"Worthington                  ",349,"Worthington",1201024.652987523,1,{"$f":"X1750","v":1388660.63},{"$f":"IF(K1754>0, K1750/K1754, 0)","v":1},null,{"$f":"ROUND(M1754*L1750,0)","v":1018495},968704,{"$f":"N1750-O1750","v":49791},5.1399601942389008,109,123,349,349,1741,123,1388660.63,1741,349,349,1741,123,1388660.63,null,null,null,null,null,null,null,null,null,null,null,null,null,null,null,null,null,null,null,null,null,null,null,null,null,null,null,null,null,null,null,null,null,null,null,null,null,null,null,null,null,null,null,null,null,null,null,null,null,null,null,null,null,null,null,null,null,null,null,null,null,null,null,null,null,349,349,1741,107,1138991.4000000001,1,939668]
["03490998","0349","0998",1742,349,null,998,null,0,0,0,{"$f":"IF(K1754>0, K1751/K1754, 0)","v":0},null,{"$f":"ROUND(M1754*L1751,0)","v":0},0,{"$f":"N1751-O1751","v":0},0,0,0,349,998,1742,0,0,1742,349,998,1742,0,0,null,null,null,null,null,null,null,null,null,null,null,null,null,null,null,null,null,null,null,null,null,null,null,null,null,null,null,null,null,null,null,null,null,null,null,null,null,null,null,null,null,null,null,null,null,null,null,null,null,null,null,null,null,null,null,null,null,null,null,null,null,null,null,null,null,349,998,1742,0,0,0,0]
["03490998","0349","0998",1743,349,"",998,"",0,0,0,{"$f":"IF(K1754>0, K1752/K1754, 0)","v":0},null,{"$f":"ROUND(M1754*L1752,0)","v":0},0,{"$f":"N1752-O1752","v":0},0,0,0,349,998,1743,0,0,1743,349,998,1743,0,0,null,null,null,null,null,null,null,null,null,null,null,null,null,null,null,null,null,null,null,null,null,null,null,null,null,null,null,null,null,null,null,null,null,null,null,null,null,null,null,null,null,null,null,null,null,null,null,null,null,null,null,null,null,null,null,null,null,null,null,null,null,null,null,null,null,349,998,1743,0,0,0,0]
["03490998","0349","0998",1744,349,"",998,"",0,0,0,{"$f":"IF(K1754>0, K1753/K1754, 0)","v":0},null,{"$f":"ROUND(M1754*L1753,0)","v":0},0,{"$f":"N1753-O1753","v":0},0,0,0,349,998,1744,0,0,1744,349,998,1744,0,0,null,null,null,null,null,null,null,null,null,null,null,null,null,null,null,null,null,null,null,null,null,null,null,null,null,null,null,null,null,null,null,null,null,null,null,null,null,null,null,null,null,null,null,null,null,null,null,null,null,null,null,null,null,null,null,null,null,null,null,null,null,null,null,null,null,349,998,1744,0,0,0,0]
["03490999","0349","0999",1745,349,"Worthington                  ",999,"Total",1201024.652987523,1,{"$f":"SUM(K1750:K1753)","v":1388660.63},{"$f":"SUM(L1750:L1753)","v":1},{"$f":"VLOOKUP(E1754,town351,24)","v":1018495},{"$f":"SUM(N1750:N1753)","v":1018495},968704,{"$f":"SUM(P1750:P1753)","v":49791},5.1399601942389008,109,123,349,999,1745,123,1388660.63,1745,349,999,1745,123,1388660.63,null,null,null,null,null,null,null,null,null,null,null,null,null,null,null,null,null,null,null,null,null,null,null,null,null,null,null,null,null,null,null,null,null,null,null,null,null,null,null,null,null,null,null,null,null,null,null,null,null,null,null,null,null,null,null,null,null,null,null,null,null,null,null,null,null,349,999,1745,107,1138991.4000000001,1,939668]
["03500350","0350","0350",1746,350,"Wrentham                     ",350,"Wrentham",9200581.1460926738,0.47905115696133033,{"$f":"X1755","v":9136681.7644999977},{"$f":"IF(K1759>0, K1755/K1759, 0)","v":0.46544722933996602},null,{"$f":"ROUND(M1759*L1755,0)","v":7537762},7590479,{"$f":"N1755-O1755","v":-52717},-0.69451479939540051,908,874,350,350,1746,874,9136681.7644999977,1746,350,350,1746,874,9136681.7644999977,null,null,null,null,null,null,null,null,null,null,null,null,null,null,null,null,null,null,null,null,null,null,null,null,null,null,null,null,null,null,null,null,null,null,null,null,null,null,null,null,null,null,null,null,null,null,null,null,null,null,null,null,null,null,null,null,null,null,null,null,null,null,null,null,null,350,350,1746,944,9153991.6259199996,0.48841451205039638,7552043]
["03500690","0350","0690",1747,350,"Wrentham                     ",690,"King Philip",8864879.4350895379,0.46157201184034552,9274015.3652720563,{"$f":"IF(K1759>0, K1756/K1759, 0)","v":0.47244337363197786},null,{"$f":"ROUND(M1759*L1756,0)","v":7651063},7313525,{"$f":"N1756-O1756","v":337538},4.6152573485425972,818.99999998973999,828.40252795314007,350,690,1747,828.40252795314007,9274015.3652720563,1747,350,690,1747,828.40252795314007,9274015.3652720563,null,null,null,null,null,null,null,null,null,null,null,null,null,null,null,null,null,null,null,null,null,null,null,null,null,null,null,null,null,null,null,null,null,null,null,null,null,null,null,null,null,null,null,null,null,null,null,null,null,null,null,null,null,null,null,null,null,null,null,null,null,null,null,null,null,350,690,1747,825.99999999426007,8525497.992244022,0.45488100842019374,7033536]
["03500878","0350","0878",1748,350,"Wrentham                     ",878,"Tri County",961537.63492377149,5.0064850160874204E-2,1054941.5998913473,{"$f":"IF(K1759>0, K1757/K1759, 0)","v":5.3741572426515338E-2},null,{"$f":"ROUND(M1759*L1757,0)","v":870327},793269,{"$f":"N1757-O1757","v":77058},9.7139810077035662,54.999999998550003,56.999999999400004,350,878,1748,56.999999999400004,1054941.5998913473,1748,350,878,1748,56.999999999400004,1054941.5998913473,null,null,null,null,null,null,null,null,null,null,null,null,null,null,null,null,null,null,null,null,null,null,null,null,null,null,null,null,null,null,null,null,null,null,null,null,null,null,null,null,null,null,null,null,null,null,null,null,null,null,null,null,null,null,null,null,null,null,null,null,null,null,null,null,null,350,878,1748,56.000000002519997,943152.20278691954,5.0322224635761935E-2,778101]
["03500915","0350","0915",1749,350,"Wrentham                     ",915,"Norfolk County",178844.4426465517,9.3119810374499897E-3,164259.54571445379,{"$f":"IF(K1759>0, K1758/K1759, 0)","v":8.3678246015409883E-3},null,{"$f":"ROUND(M1759*L1758,0)","v":135514},147547,{"$f":"N1758-O1758","v":-12033},-8.1553674422387434,9.99999999956,9.00000000042,350,915,1749,9.00000000042,164259.54571445379,1749,350,915,1749,9.00000000042,164259.54571445379,null,null,null,null,null,null,null,null,null,null,null,null,null,null,null,null,null,null,null,null,null,null,null,null,null,null,null,null,null,null,null,null,null,null,null,null,null,null,null,null,null,null,null,null,null,null,null,null,null,null,null,null,null,null,null,null,null,null,null,null,null,null,null,null,null,350,915,1749,7.00000000043,119617.8786860312,6.3822548936480778E-3,98685]
["03500999","0350","0999",1750,350,"Wrentham                     ",999,"Total",19205842.658752535,1,{"$f":"SUM(K1755:K1758)","v":19629898.275377851},{"$f":"SUM(L1755:L1758)","v":1.0000000000000002},{"$f":"VLOOKUP(E1759,town351,24)","v":16194666},{"$f":"SUM(N1755:N1758)","v":16194666},15844820,{"$f":"SUM(P1755:P1758)","v":349846},2.2079518732304941,1791.9999999878501,1768.4025279529601,350,999,1750,1768.4025279529601,19629898.275377851,1750,350,999,1750,1768.4025279529601,19629898.275377851,null,null,null,null,null,null,null,null,null,null,null,null,null,null,null,null,null,null,null,null,null,null,null,null,null,null,null,null,null,null,null,null,null,null,null,null,null,null,null,null,null,null,null,null,null,null,null,null,null,null,null,null,null,null,null,null,null,null,null,null,null,null,null,null,null,350,999,1750,1832.9999999972101,18742259.69963697,1.0000000000000002,15462365]
["03510351","0351","0351",1751,351,"Yarmouth                     ",351,"Yarmouth",0,0,{"$f":"X1760","v":0},{"$f":"IF(K1764>0, K1760/K1764, 0)","v":0},null,{"$f":"ROUND(M1764*L1760,0)","v":0},0,{"$f":"N1760-O1760","v":0},0,0,0,351,351,1751,0,0,1751,351,351,1751,0,0,null,null,null,null,null,null,null,null,null,null,null,null,null,null,null,null,null,null,null,null,null,null,null,null,null,null,null,null,null,null,null,null,null,null,null,null,null,null,null,null,null,null,null,null,null,null,null,null,null,null,null,null,null,null,null,null,null,null,null,null,null,null,null,null,null,351,351,1751,0,0,0,0]
["03510645","0351","0645",1752,351,"Yarmouth                     ",645,"Dennis Yarmouth",27661989.866046302,0.93336590824958143,28358610.616278347,{"$f":"IF(K1764>0, K1761/K1764, 0)","v":0.91717882486225588},null,{"$f":"ROUND(M1764*L1761,0)","v":22436913},22060771,{"$f":"N1761-O1761","v":376142},1.7050265378304321,2325.58521561212,2291.2715902458199,351,645,1752,2291.2715902458199,28358610.616278347,1752,351,645,1752,2291.2715902458199,28358610.616278347,null,null,null,null,null,null,null,null,null,null,null,null,null,null,null,null,null,null,null,null,null,null,null,null,null,null,null,null,null,null,null,null,null,null,null,null,null,null,null,null,null,null,null,null,null,null,null,null,null,null,null,null,null,null,null,null,null,null,null,null,null,null,null,null,null,351,645,1752,2282.2723292604201,25659870.981850386,0.93021329822469334,21075783]
["03510815","0351","0815",1753,351,"Yarmouth                     ",815,"Cape Cod",1974822.0440042026,6.6634091750418553E-2,2560780.2893471872,{"$f":"IF(K1764>0, K1762/K1764, 0)","v":8.2821175137744188E-2},null,{"$f":"ROUND(M1764*L1762,0)","v":2026052},1574944,{"$f":"N1762-O1762","v":451108},28.642796188308917,110.00000000225,137.00000000206001,351,815,1753,137.00000000206001,2560780.2893471872,1753,351,815,1753,137.00000000206001,2560780.2893471872,null,null,null,null,null,null,null,null,null,null,null,null,null,null,null,null,null,null,null,null,null,null,null,null,null,null,null,null,null,null,null,null,null,null,null,null,null,null,null,null,null,null,null,null,null,null,null,null,null,null,null,null,null,null,null,null,null,null,null,null,null,null,null,null,null,351,815,1753,114.00000000282,1925061.4533471123,6.9786701775306687E-2,1581153]
["03510998","0351","0998",1754,351,"",998,"",0,0,0,{"$f":"IF(K1764>0, K1763/K1764, 0)","v":0},null,{"$f":"ROUND(M1764*L1763,0)","v":0},0,{"$f":"N1763-O1763","v":0},0,0,0,351,998,1754,0,0,1754,351,998,1754,0,0,null,null,null,null,null,null,null,null,null,null,null,null,null,null,null,null,null,null,null,null,null,null,null,null,null,null,null,null,null,null,null,null,null,null,null,null,null,null,null,null,null,null,null,null,null,null,null,null,null,null,null,null,null,null,null,null,null,null,null,null,null,null,null,null,null,351,998,1754,0,0,0,0]
["03510999","0351","0999",1755,351,"Yarmouth                     ",999,"Total",29636811.910050504,1,{"$f":"SUM(K1760:K1763)","v":30919390.905625533},{"$f":"SUM(L1760:L1763)","v":1},{"$f":"VLOOKUP(E1764,town351,24)","v":24462965},{"$f":"SUM(N1760:N1763)","v":24462965},23635715,{"$f":"SUM(P1760:P1763)","v":827250},3.4999998942278667,2435.5852156143701,2428.2715902478799,351,999,1755,2428.2715902478799,30919390.905625533,1755,351,999,1755,2428.2715902478799,30919390.905625533,null,null,null,null,null,null,null,null,null,null,null,null,null,null,null,null,null,null,null,null,null,null,null,null,null,null,null,null,null,null,null,null,null,null,null,null,null,null,null,null,null,null,null,null,null,null,null,null,null,null,null,null,null,null,null,null,null,null,null,null,null,null,null,null,null,351,999,1755,2396.27232926324,27584932.435197499,1,22656936]
[null,null,null,1756,999,"State Total",999,"STATE TOTAL",11359048511.850773,null,{"$f":"SUM(K10:K1764)/2","v":11950816670.548965},null,{"$f":"SUM(M10:M1764)","v":6792593126},{"$f":"SUM(N10:N1764)/2","v":6792593123},6513607368,{"$f":"SUM(P10:P1764)/2","v":278985755},4.2831220741151679,941411.00000002387,938120.99999991141,null,null,null,null,null,null,null,null,null,{"$f":"SUM(AC10:AC1764)/2","v":938120.99999991141},11950816670.548965,null,null,null,null,0,0,null,null,null,null,{"$f":"SUM(AO10:AO1764)/2","v":0},0,null,null,null,null,{"$f":"SUM(AU10:AU1764)/2","v":0},0,null,null,null,null,{"$f":"SUM(BA10:BA1764)/2","v":0},0,null,null,null,null,{"$f":"SUM(BG10:BG1764)/2","v":0},0,null,null,null,null,null,null,null,null,null,null,null,null,null,null,null,null,null,null,null,null,null,null,{"$f":"SUM(CE10:CE1764)/2","v":0},{"$f":"SUM(CF10:CF1764)/2","v":0},null,null,null,null,null,{"$f":"SUM(CL10:CL1764)/2","v":0},null,null,null,null,null,null,null,null,941411.00000002387,10777588551.404562,null,6246842886]
[null,null,null,null,null,null,null,null,null,null,null,null,null,null,null,null,null,null,null,null,null,null,null,null,null,null,null,null,null,null,null,null,null,null,null,null,null,null,null,null,null,null,null,null,null,null,null,null,null,null,null,null,null,null,null,null,null,null,null,null,null,null,null,null,null,null,null,null,null,null,null,null,null,null,null,null,null,null,null,null,null,null,null,{"$f":"CF1765-AD1765","v":-11950816670.548965}]

{"sheet":"Foundation Budget","index":5,"n_rows":52,"n_cols":21,"rows_kept":52,"cut":false,"hidden":false,"merged":[[4,1,4,6],[5,10,5,15],[7,3,7,4],[40,1,40,8],[37,1,37,8],[38,1,38,8],[5,2,5,8]]}
["Return to Index",null,null,null,null,null,null,null,null,null,null,null,null,null,null,null,null,null,null,null,"More about the data"]
["Massachusetts Department of Elementary and Secondary Education"]
["Office of School Finance"]
[{"$f":"parameters!B1&\" Chapter 70 Foundation Budget\"","v":"FY21 Chapter 70 Foundation Budget"}]
[{"$f":"lea","v":999},{"$f":"IF(lea=999,\"State total cannot be computed on this page; Please enter an lea code on the index sheet\",VLOOKUP(A5,dist915,2))","v":"State total cannot be computed on this page; Please enter an lea code on the index sheet"},null,null,null,null,null,6,8,null,9,10,11,12,13,14]
[null,null,"Base Foundation Components",null,null,null,null,null,null,null,"Incremental Costs Above the Base"]
[null,null,"1","2","3","4","5","6","7",null,"8",9,"10","11","12","13",14]
[null,null,null," ------ Kindergarten ------",null,null," Junior/","High",null,null,"Special Ed","Special Ed","English learners","English learners","English learners"]
[null,null,"Pre-school","Half-Day","Full-Day","Elementary","Middle","School","Vocational",null,"In-District","Tuitioned-Out","PK-5","6-8","High School/Voc","Low income","TOTAL ENROLLMENT"]
[null,"Foundation Enrollment",{"$f":"IF($A$5<>999,VLOOKUP(lea,dist915,VALUE(C$7)+2),0)","v":0},0,0,0,0,0,{"$f":"IF($A$5<>999,VLOOKUP(lea,dist915,VALUE(I$7)+2),0)","v":0},null,{"$f":"IF($A$5<>999,VLOOKUP(lea,dist915,VALUE(K$7)+2),0)","v":0},0,0,0,0,0,0]
[]
[1,"Administration",{"$f":"(VLOOKUP(VALUE(C$7),newrates,$A12+2)*C$10*waf)","v":0},0,0,0,0,0,0,null,{"$f":"(VLOOKUP(VALUE(K$7),newrates,$A12+2)*K$10*waf)","v":0},0,0,0,0,{"$f":"(VLOOKUP(VALUE(P$7)+$C$30-1, newrates, $A12+2, FALSE))*P$10*waf","v":0},{"$f":"SUM(C12:P12)","v":0}]
[2,"Instructional Leadership",0,0,0,0,0,0,0,null,0,0,0,0,0,{"$f":"(VLOOKUP(VALUE(P$7)+$C$30-1, newrates, $A13+2, FALSE))*P$10*waf","v":0},0]
[3,"Classroom & Specialist Teachers",0,0,0,0,0,0,0,null,0,0,0,0,0,{"$f":"(VLOOKUP(VALUE(P$7)+$C$30-1, newrates, $A14+2, FALSE))*P$10*waf","v":0},0]
[4,"Other Teaching Services",0,0,0,0,0,0,0,null,0,0,0,0,0,{"$f":"(VLOOKUP(VALUE(P$7)+$C$30-1, newrates, $A15+2, FALSE))*P$10*waf","v":0},0]
[5,"Professional Development",0,0,0,0,0,0,0,null,0,0,0,0,0,{"$f":"(VLOOKUP(VALUE(P$7)+$C$30-1, newrates, $A16+2, FALSE))*P$10*waf","v":0},0]
[6,"Instructional Materials, Equipment & Technology",{"$f":"(VLOOKUP(VALUE(C$7),newrates,$A17+2)*C$10)","v":0},0,0,0,0,0,0,null,{"$f":"(VLOOKUP(VALUE(K$7),newrates,$A17+2)*K$10)","v":0},{"$f":"(VLOOKUP(VALUE(L$7),newrates,$A17+2)*L$10)","v":0},{"$f":"(VLOOKUP(VALUE(M$7),newrates,$A17+2)*M$10)","v":0},{"$f":"(VLOOKUP(VALUE(N$7),newrates,$A17+2)*N$10)","v":0},{"$f":"(VLOOKUP(VALUE(O$7),newrates,$A17+2)*O$10)","v":0},{"$f":"(VLOOKUP(VALUE(P$7)+$C$30-1, newrates, $A17+2, FALSE))*P$10","v":0},0]
[7,"Guidance & Psychological Services",{"$f":"(VLOOKUP(VALUE(C$7),newrates,$A18+2)*C$10*waf)","v":0},0,0,0,0,0,0,null,{"$f":"(VLOOKUP(VALUE(K$7),newrates,$A18+2)*K$10*waf)","v":0},0,0,0,0,{"$f":"(VLOOKUP(VALUE(P$7)+$C$30-1, newrates, $A18+2, FALSE))*P$10*waf","v":0},0]
[8,"Pupil Services",0,0,0,0,0,0,0,null,0,0,0,0,0,{"$f":"(VLOOKUP(VALUE(P$7)+$C$30-1, newrates, $A19+2, FALSE))*P$10*waf","v":0},0]
[9,"Operations & Maintenance",0,0,0,0,0,0,0,null,0,0,0,0,0,{"$f":"(VLOOKUP(VALUE(P$7)+$C$30-1, newrates, $A20+2, FALSE))*P$10*waf","v":0},0]
[10,"Employee Benefits/Fixed Charges",{"$f":"(VLOOKUP(VALUE(C$7),newrates,$A21+2)*C$10)","v":0},0,0,0,0,0,0,null,{"$f":"(VLOOKUP(VALUE(K$7),newrates,$A21+2)*K$10)","v":0},{"$f":"(VLOOKUP(VALUE(L$7),newrates,$A21+2)*L$10)","v":0},{"$f":"(VLOOKUP(VALUE(M$7),newrates,$A21+2)*M$10)","v":0},{"$f":"(VLOOKUP(VALUE(N$7),newrates,$A21+2)*N$10)","v":0},{"$f":"(VLOOKUP(VALUE(O$7),newrates,$A21+2)*O$10)","v":0},{"$f":"(VLOOKUP(VALUE(P$7)+$C$30-1, newrates, $A21+2, FALSE))*P$10","v":0},0]
[11,"Special Education Tuition",0,0,0,0,0,0,0,null,{"$f":"(VLOOKUP(VALUE(K$7)-2,newrates,$A22+2)*K$10)","v":0},{"$f":"(VLOOKUP(VALUE(L$7),newrates,$A22+2)*L$10)","v":0},{"$f":"(VLOOKUP(VALUE(M$7),newrates,$A22+2)*M$10)","v":0},{"$f":"(VLOOKUP(VALUE(N$7),newrates,$A22+2)*N$10)","v":0},{"$f":"(VLOOKUP(VALUE(O$7)-2,newrates,$A22+2)*O$10)","v":0},{"$f":"(VLOOKUP(VALUE(P$7)+$C$30-1, newrates, $A22+2, FALSE))*P$10","v":0},0]
[]
[12,"Total",{"$f":"SUM(C12:C22)","v":0},0,0,0,0,0,{"$f":"SUM(I12:I22)","v":0},null,0,0,0,0,0,0,{"$f":"SUM(Q12:Q23)","v":0}]
[]
[13,"Wage Adjustment Factor",{"$f":"VLOOKUP(lea,dist915,17)","v":0},null,null,null,null,null,null,null,null,null,null,"Foundation Budget per Pupil",null,null,{"$f":"IFERROR(IF(A5<>999,Q24/Q10,\" \"),\"\")","v":" "}]
[null,"*The wage adjustment factor is applied to underlying rates in all functions except instructional equipment, benefits and special education tuition."]
[14,"Low income percentage",{"$f":"VLOOKUP(lea,dist915,19)","v":0},null,null,null,null,null,null,null,null,"English learner foundation budget as % total foundation budget",null,null,null,null,{"$f":"IFERROR(IF(A5=999,\"\",SUM(M24:O24)/Q24),\"\")","v":""}]
[15,"Low income group range",{"$f":"VLOOKUP(lea,dist915,45)","v":0},null,null,null,null,null,null,null,null,"Low-income foundation budget as % total foundation budget",null,null,null,null,{"$f":"IFERROR(IF(A5=999,\"\",P24/Q24),\"\")","v":""}]
[16,"Low income group number",{"$f":"VLOOKUP(lea,dist915,18)","v":0}]
[null,null,null,null,null,null,null,null,null,null,null,"Low income enrollment determination"]
[null,"Total foundation enrollment (column 14) does not include incremental costs above the base.  The pupils are already counted in columns 1 to 7.",null,null,null,null,null,null,null,null,null,"Estimated low income enrollment based on FY16 Ch.70",null,null,null,{"$f":"IF($A$5<>999,VLOOKUP(lea,dist915,36,0),\"\")","v":""}]
[null,"Total foundation enrollment assigns pupils in pre-kindergarten and half-time kindergarten an enrollment count of .5.",null,null,null,null,null,null,null,null,null,"FY21 low income enrollment from direct certification",null,null,null,{"$f":"IF($A$5<>999,VLOOKUP(lea,dist915,37,0),\"\")","v":""}]
[null,"Special education in-district enrollment is an assumed percentage, representing 3.82 percent of K-12 non-vocational enrollment and",null,null,null,null,null,null,null,null,null,"greater number used for FY21 Chapter 70",null,null,null,{"$f":"IF($A$5<>999,VLOOKUP(lea,dist915,38,0),\"\")","v":""}]
[null,"4.82 percent of vocational enrollment."]
[null,"Special education tuitioned-out enrollment is also an assumed percentage, representing 1 percent of non-vocational K-12 enrollment."]
[]
[null,"As specified in the Student Opportunity Act of 2019, each district's FY21 low income enrollment is calculated by taking the greater of:"]
[null,"(a) the number of low income students identified through direct certification up to 133% of the federal poverty standard, or"]
[null,"(b) the estimated number of low income students determined by multiplying the distirct's FY16 low income % by its FY21 foundation enrollment"]
[null,"Direct certification includes the Supplemental Nutrition Assistance Program (SNAP);"]
[null,"the Transitional Assistance for Families with Dependent Children (TAFDC);  MassHealth (Medicaid); and students in foster care."]
[null,"Low income and English learner foundation budget increments are based on:"]
[null,"the number of students attending school in the district or district residents who attend charter schools."]
[null,"The low income percentage is the ratio of the low-income enrollment to:"]
[null,"the total students attending school in the district and the total resident students attending charter schools."]
[]
[null,"Each component of the foundation budget represents the enrollment in row 10 multiplied by the appropriate statewide foundation allotment."]
[null,"The foundation budget shown on this page may differ from the final number used in the formula, due to rounding error."]
[]
[]
[null,"Return to Index"]

{"sheet":"Municipal Contribution","index":6,"n_rows":31,"n_cols":13,"rows_kept":31,"cut":false,"hidden":false,"merged":[]}
[null,null,null,null,null,null,null,null,null,null,null,null,{"$f":"IF(VLOOKUP(A6,town351,18)>0,\"lo\",\"hi\")","v":"hi"}]
["Return to Index",null,null,null,null,null,"More about the data"]
["Massachusetts Department of Elementary and Secondary Education"]
["Office of School Finance"]
[{"$f":"parameters!B1&\" Chapter 70 Determination of City and Town Total Required Contribution\"","v":"FY21 Chapter 70 Determination of City and Town Total Required Contribution"}]
[{"$f":"lea","v":999},{"$f":"IF(lea>351, \"This lea code does not refer to a city or a town - this table shows municipal data only.\",VLOOKUP(A6,aidcalc,2))","v":"This lea code does not refer to a city or a town - this table shows municipal data only."}]
[]
["Effort Goal",null,null,null,{"$f":"parameters!B1&\" Increments Toward Goal\"","v":"FY21 Increments Toward Goal"}]
[]
["1)","2018 equalized valuation",{"$f":"IF(A6<352,VLOOKUP($A$6,town351,3),\" \")","v":" "},null,"13)",{"$f":"PYr&\" required local contribution\"","v":"FY20 required local contribution"},{"$f":"IF(A6<352,VLOOKUP($A$6,town351,14),\" \")","v":" "}]
["2)","Uniform property percentage",{"$f":"IF(A6<352,'Townwide Contributions'!D5,\" \")","v":" "},null,"14)","Municipal revenue growth factor (DOR)",{"$f":"IF(A$6<352,VLOOKUP($A$6,town351,15),\" \")","v":" "}]
["3)","Local effort from property wealth",{"$f":"IF(A6<352,VLOOKUP($A$6,town351,4),\" \")","v":" "},null,"15)",{"$f":"parameters!B1&\" preliminary contribution (13 raised by 14)\"","v":"FY21 preliminary contribution (13 raised by 14)"},{"$f":"IF(A$6<352,VLOOKUP($A$6,town351,16),\" \")","v":" "}]
[null,null,null,null,"16)","Preliminary contribution pct of foundation (15 / 8)",{"$f":"IF(A$6<352,VLOOKUP($A$6,town351,17)/100,\" \")","v":" "}]
["4)","2017 income",{"$f":"IF(A6<352,VLOOKUP($A$6,town351,5),\" \")","v":" "}]
["5)","Uniform income percentage",{"$f":"IF(A6<352,'Townwide Contributions'!F5,\" \")","v":" "},null,"If preliminary contribution is above the target share:"]
["6)","Local effort from income",{"$f":"IF(A6<352,VLOOKUP($A$6,town351,6),\" \")","v":" "},null,"17)","Excess local effort (15 - 10)",{"$f":"IF(AND(A$6<352,M$1=\"hi\"),VLOOKUP($A$6,town351,21),\" \")","v":" "}]
[null,null,null,null,"18)",{"$f":"parameters!$C$50&\" reduction toward target (17 x \"&parameters!$C$50&\")\"","v":"100% reduction toward target (17 x 100%)"},{"$f":"IF(AND(A$6<352,M$1=\"hi\"),VLOOKUP($A$6,town351,22),\" \")","v":" "}]
["7)","Combined effort yield (3 + 6)",{"$f":"IF(A6<352,VLOOKUP($A$6,town351,7),\" \")","v":" "},null,"19)",{"$f":"parameters!B1&\" required local contribution (15 - 18), capped at 90% of foundation\"","v":"FY21 required local contribution (15 - 18), capped at 90% of foundation"},{"$f":"IF(AND(A$6<352,M$1=\"hi\"),VLOOKUP($A$6,town351,24),\" \")","v":" "}]
[null,null,null,null,"20)","Contribution as percentage of foundation (19 / 8)",{"$f":"IF(AND(A$6<352,M$1=\"hi\"),VLOOKUP($A$6,town351,25)/100,\" \")","v":" "}]
["8)",{"$f":"parameters!B1&\" Foundation budget\"","v":"FY21 Foundation budget"},{"$f":"IF(A6<352,VLOOKUP($A$6,town351,8),\" \")","v":" "}]
["9)","Maximum local contribution (82.5% * 8)",{"$f":"IF(A6<352,VLOOKUP($A$6,town351,10),\" \")","v":" "},null,"If preliminary contribution is below the target share:"]
[null,null,null,null,"21)","Shortfall from target local share (10 - 15)",{"$f":"IF(AND(A$6<352,M1=\"lo\"),-1*VLOOKUP($A$6,town351,27),\" \")","v":" "}]
["10)","Target local contribution (lesser of 7 or 9)",{"$f":"IF(A6<352,VLOOKUP($A$6,town351,11),\" \")","v":" "},null,"22)","Shortfall percentage (11 - 16)",{"$f":"IF(AND(A$6<352,M1=\"lo\"),VLOOKUP($A$6,town351,18)/100,\" \")","v":" "}]
[null,null,null,null,"23)","Added increment toward target (13 x 1% or 2%)*",{"$f":"IF(AND(A$6<352,M1=\"lo\"),VLOOKUP($A$6,town351,20),\" \")","v":" "}]
["11)","Target local share (10 as % of 8)",{"$f":"IF(A6<352,VLOOKUP(lea,town351,12)/100,\" \")","v":" "},null,null,"*1% if shortfall is between 2.5% and 7.5%; 2% if shortfall > 7.5%"]
["12)","Target aid share (100% minus 11)",{"$f":"IF(A6<352,VLOOKUP(lea,aidcalc,12)/100,\" \")","v":" "},null,"24)","Special increment toward 82.5% target**",{"$f":"IF(AND(A$6<352,M1=\"lo\"),VLOOKUP($A$6,town351,23),\" \")","v":" "}]
[null,null,null,null,null,"**if combined effort yield > 175% foundation"]
[null,null,null,null,null,"    Combined effort yield as % of foundation",{"$f":"IF(AND(A$6<352,M1=\"lo\"),IF(VLOOKUP($A$6,town351,9)>175%,VLOOKUP($A$6,town351,9),\" \"),\"\")","v":""}]
[null,"See a listing of all 351 communities",null,null,"25)","Shortfall from target after adding increments (10 - 15 - 23 - 24)",{"$f":"IF(AND(A$6<352,M1=\"lo\"),-1*VLOOKUP($A$6,town351,28),\" \")","v":" "}]
[null,null,null,null,"26)",{"$f":"parameters!B1&\" required local contribution (15 + 23 + 24)\"","v":"FY21 required local contribution (15 + 23 + 24)"},{"$f":"IF(AND(A$6<352,M1=\"lo\"),VLOOKUP($A$6,town351,24),\" \")","v":" "}]
[null,null,null,null,"27)","Contribution as percentage of foundation (26 / 8)",{"$f":"IF(AND(A$6<352,M1=\"lo\"),VLOOKUP($A$6,town351,25)/100,\" \")","v":" "}]

{"sheet":"Regional Allocation","index":7,"n_rows":26,"n_cols":10,"rows_kept":26,"cut":false,"hidden":false,"merged":[]}
[null,null,null,null,null,null,null,null,null,"More about the data"]
[null,null,null,"Return to Index"]
[null,null,null,"Massachusetts Department of Elementary and Secondary Education"]
[null,null,null,"Office of School Finance"]
[null,null,null,{"$f":"CYr& \" Chapter 70 Apportionment of Local Contribution Across School Districts\"","v":"FY21 Chapter 70 Apportionment of Local Contribution Across School Districts"}]
[]
[null,null,null,null,4,4,3,2,1]
[null,null,null,null,null,null,null," "," "]
[5,null,null,{"$f":"lea","v":999},{"$f":"IF($D$9>351, \"\", IF(AND($D$9>0, VLOOKUP($D$9*5-E$7, order1755, $A9)<>0), VLOOKUP($D$9*5-E$7, order1755, $A9), \"\"))","v":""},{"$f":"IF(OR($D$9=\"\", $D$9>351), \"\", IF(AND($D$9>0, VLOOKUP($D$9*5-F$7, order1755, $A9)<>0), VLOOKUP($D$9*5-F$7, order1755, $A9), \"\"))","v":""},{"$f":"IF(OR($D$9=\"\", $D$9>351), \"\", IF(AND($D$9>0, VLOOKUP($D$9*5-G$7, order1755, $A9)<>0), VLOOKUP($D$9*5-G$7, order1755, $A9), \"\"))","v":""},{"$f":"IF(OR($D$9=\"\", $D$9>351), \"\", IF(AND($D$9>0, VLOOKUP($D$9*5-H$7, order1755, $A9)<>0), VLOOKUP($D$9*5-H$7, order1755, $A9), \"\"))","v":""},{"$f":"IF(OR($D$9=\"\", $D$9>351), \"\", IF(AND($D$9>0, VLOOKUP($D$9*5-I$7, order1755, $A9)<>0), VLOOKUP($D$9*5-I$7, order1755, $A9), \"\"))","v":""},"Combined Total for All Districts"]
[6]
[null,null,null,null,"Prior Year Data (for comparison purposes)"]
[]
[15,null,null,1,{"$f":"parameters!B2&\" foundation enrollment\"","v":"FY20 foundation enrollment"},{"$f":"IF(OR($D$9=\"\", $D$9>351), \"\", IF(AND($D$9>0, VLOOKUP($D$9*5-F$7, order1755, $A13)<>0), VLOOKUP($D$9*5-F$7, order1755, $A13), \"\"))","v":""},"","","",{"$f":"IF(OR($D$9=\"\", $D$9>351), \"\", VLOOKUP($D$9*5, order1755, $A13))","v":""}]
[6,null,null,2,{"$f":"parameters!B2&\" foundation budget\"","v":"FY20 foundation budget"},"","","","",{"$f":"IF(OR($D$9=\"\", $D$9>351), \"\", VLOOKUP($D$9*5, order1755, $A14))","v":""}]
[7,null,null,3,{"$f":"\"Each district's share of municipality's combined \"& parameters!B2&\" foundation\"","v":"Each district's share of municipality's combined FY20 foundation"},"","","","",{"$f":"IF(OR($D$9=\"\", $D$9>351), \"\", VLOOKUP($D$9*5, order1755, $A15))","v":""}]
[12,null,null,4,{"$f":"parameters!B2&\" required contribution\"","v":"FY20 required contribution"},"","","","",{"$f":"IF(OR($D$9=\"\", $D$9>351), \"\", VLOOKUP($D$9*5, order1755, $A16))","v":""}]
[null,null,null,null,{"$f":"parameters!B1& \" apportionment of contribution among community's districts\"","v":"FY21 apportionment of contribution among community's districts"}]
[null,null,null,5,{"$f":"parameters!B1&\" total unapportioned required contribution ('municipal contribution' tab row 19 or 25)\"","v":"FY21 total unapportioned required contribution ('municipal contribution' tab row 19 or 25)"},null,null,null,null,{"$f":"IF(OR($D$9=\"\", $D$9>351), \"\", VLOOKUP($D$9,town351,24))","v":""}]
[20,null,null,6,{"$f":"parameters!B1&\" foundation enrollment\"","v":"FY21 foundation enrollment"},{"$f":"IF(OR($D$9=\"\", $D$9>351), \"\", IF(AND($D$9>0, VLOOKUP($D$9*5-F$7, order1755, $A19)<>0), VLOOKUP($D$9*5-F$7, order1755, $A19), \"\"))","v":""},"","","",{"$f":"IF(OR($D$9=\"\", $D$9>351), \"\", VLOOKUP($D$9*5, order1755, $A19))","v":""}]
[8,null,null,7,{"$f":"parameters!B1&\" foundation budget\"","v":"FY21 foundation budget"},"","","","",{"$f":"IF(OR($D$9=\"\", $D$9>351), \"\", VLOOKUP($D$9*5, order1755, $A20))","v":""}]
[9,null,null,8,{"$f":"\"Each district's share of municipality's total \"& parameters!B1&\" foundation \"","v":"Each district's share of municipality's total FY21 foundation "},"","","","",{"$f":"IF(OR($D$9=\"\", $D$9>351), \"\", VLOOKUP($D$9*5, order1755, $A21))","v":""}]
[11,null,null,9,{"$f":"parameters!B1&\" Required Contribution\"","v":"FY21 Required Contribution"},"","","","",{"$f":"VLOOKUP($D$9*5, order1755, $A22)","v":6792593123}]
[]
[13,null,null,10,{"$f":"\"Change \"&parameters!B1&\" to \"&parameters!B2& \" (9 - 4)\"","v":"Change FY21 to FY20 (9 - 4)"},{"$f":"IF(OR($D$9=\"\", $D$9>351), \"\", IF(AND($D$9>0, VLOOKUP($D$9*5-F$7, order1755, $A24)<>0), VLOOKUP($D$9*5-F$7, order1755, $A24), \"\"))","v":""},{"$f":"IF(OR($D$9=\"\", $D$9>351), \"\", IF(AND($D$9>0, VLOOKUP($D$9*5-G$7, order1755, $A24)<>0), VLOOKUP($D$9*5-G$7, order1755, $A24), \"\"))","v":""},{"$f":"IF(OR($D$9=\"\", $D$9>351), \"\", IF(AND($D$9>0, VLOOKUP($D$9*5-H$7, order1755, $A24)<>0), VLOOKUP($D$9*5-H$7, order1755, $A24), \"\"))","v":""},{"$f":"IF(OR($D$9=\"\", $D$9>351), \"\", IF(AND($D$9>0, VLOOKUP($D$9*5-I$7, order1755, $A24)<>0), VLOOKUP($D$9*5-I$7, order1755, $A24), \"\"))","v":""},{"$f":"IF(OR($D$9=\"\", $D$9>351), \"\", VLOOKUP($D$9*5, order1755, $A24))","v":""}]
[]
[null,null,null,null,"The combined totals on lines 5 and 9 may differ due to rounding.",null,null,{"$f":"H22/H13","v":{"$error":"#VALUE!"}}]

{"sheet":"Summary","index":8,"n_rows":41,"n_cols":36,"rows_kept":41,"cut":false,"hidden":false,"merged":[[40,0,44,2]]}
["Return to Index",null,null,null,null,null,null,null,null,"More about the data"]
[]
["Massachusetts Department of Elementary and Secondary Education"]
["FY21 Chapter 70 Summary"]
[]
[{"$f":"lea","v":999},{"$f":"PROPER(VLOOKUP(A6,dist915,2))","v":"State Total"}]
[]
["Aid Calculation FY21",null,null,null,{"$f":"\"Comparison to \"& PYr","v":"Comparison to FY20"}]
[]
[null,null,null,null,null,{"$f":"PYr","v":"FY20"},{"$f":"CYr","v":"FY21"},"Change","Pct Chg",null,null,null,null,null,null,null,null,null,null,null,"FY06","FY07","FY08","FY09","FY10","FY11","FY12","FY13","FY14","FY15","FY16","FY17","FY18","FY19","FY20","FY21"]
["Prior Year Aid",null,null,null,"Enrollment",{"$f":"VLOOKUP(A6,aidcalc,13)","v":939682.99999991094},{"$f":"VLOOKUP(A6,aidcalc,14)","v":938120.99999991187},{"$f":"G11-F11","v":-1561.9999999990687},{"$f":"IF(F11>0, H11/F11, 0)","v":-1.6622626992285874E-3},null,null,null,null,null,null,null,null,null,null,"Required District Contribution",{"$f":"VLOOKUP($A$6,disthist,5)","v":4743946672},{"$f":"VLOOKUP($A$6,disthist,8)","v":4876428772},{"$f":"VLOOKUP($A$6,disthist,11)","v":4997705374},{"$f":"VLOOKUP($A$6,disthist,14)","v":5110365426},{"$f":"VLOOKUP($A$6,disthist,18)","v":5250106061},{"$f":"VLOOKUP($A$6,disthist,22)","v":5302200670.3241692},{"$f":"VLOOKUP($A$6,disthist,27)","v":5413602268},{"$f":"VLOOKUP($A$6,disthist,30)","v":5582113529},{"$f":"VLOOKUP($A$6,disthist, 33)","v":5748475145},{"$f":"VLOOKUP($A$6,disthist, 36)","v":5817618237},{"$f":"VLOOKUP($A$6,disthist, 39)","v":5943909029},{"$f":"VLOOKUP($A$6,disthist, 42)","v":5926185567},{"$f":"VLOOKUP($A$6,disthist, 45)","v":6046916786},{"$f":"VLOOKUP($A$6,disthist, 48)","v":6246842886},{"$f":"VLOOKUP($A$6,disthist, 51)","v":6513607368},{"$f":"VLOOKUP($A$6,aidcalc,9 )","v":6792593123}]
[1,{"$f":"\"Chapter 70 \"&PYr","v":"Chapter 70 FY20"},{"$f":"VLOOKUP(A6,aidcalc,7)","v":5175694094},null,"Foundation budget",{"$f":"VLOOKUP(A6,disthist,50)","v":11359048511.850758},{"$f":"VLOOKUP(A6,aidcalc,8)","v":11950816670.548943},{"$f":"G12-F12","v":591768158.69818497},{"$f":"IF(F12>0, H12/F12, 0)","v":5.2096630988132539E-2},null,null,null,null,null,null,null,null,null,null,"C70 Aid",{"$f":"VLOOKUP($A$6,disthist,6)","v":3288603061.8000002},{"$f":"VLOOKUP($A$6,disthist,9)","v":3505192038.9270248},{"$f":"VLOOKUP($A$6,disthist,12)","v":3725343326.8219399},{"$f":"VLOOKUP($A$6,disthist,15)+VLOOKUP($A$6,disthist,16)","v":3948496062.2495604},{"$f":"VLOOKUP($A$6,disthist,19)+VLOOKUP($A$6,disthist,20)","v":4043156700},{"$f":"VLOOKUP($A$6,disthist,23)+VLOOKUP($A$6,disthist,24)+VLOOKUP($A$6,disthist,25)","v":4072032852.5488005},{"$f":"VLOOKUP($A$6,disthist,28)","v":3990504093.3881507},{"$f":"VLOOKUP($A$6,disthist,31)","v":4173223954.2949104},{"$f":"VLOOKUP($A$6,disthist,34)","v":4300854366.3566036},{"$f":"VLOOKUP($A$6,disthist,37)","v":4400335961.8829308},{"$f":"VLOOKUP($A$6,disthist,40)","v":4511521973.6381674},{"$f":"VLOOKUP($A$6,disthist,43)","v":4627705061.1446953},{"$f":"VLOOKUP($A$6,disthist,46)","v":4745645155.949439},{"$f":"VLOOKUP($A$6,disthist,49)","v":4906614765.8021221},{"$f":"VLOOKUP($A$6,disthist,52)","v":5175694094},{"$f":"VLOOKUP($A$6,aidcalc,39 )","v":5479225982.3900013}]
[null,null,null,null,"Required district contribution",{"$f":"VLOOKUP(A6,disthist,51)","v":6513607368},{"$f":"VLOOKUP($A$6, aidcalc, 9)","v":6792593123},{"$f":"G13-F13","v":278985755},{"$f":"IF(F13>0, H13/F13, 0)","v":4.2831220741151678E-2},null,null,null,null,null,null,null,null,null,null,"Foundation Budget",{"$f":"VLOOKUP($A$6,disthist,4)","v":7551933454},{"$f":"VLOOKUP($A$6,disthist,7)","v":8014672861.3798904},{"$f":"VLOOKUP($A$6,disthist,10)","v":8406096436.3857374},{"$f":"VLOOKUP($A$6,disthist,13)","v":8811314229.2926865},{"$f":"VLOOKUP($A$6,disthist,17)","v":9088557473.2006893},{"$f":"VLOOKUP($A$6,disthist,21)","v":8921047970},{"$f":"VLOOKUP($A$6,disthist,26)","v":9119340580.3732376},{"$f":"VLOOKUP($A$6,disthist,29)","v":9467117140.6663704},{"$f":"VLOOKUP($A$6,disthist, 32)","v":9711217584.8007889},{"$f":"VLOOKUP($A$6,disthist, 35)","v":9866011313.0677662},{"$f":"VLOOKUP($A$6,disthist, 38)","v":10090177272.100754},{"$f":"VLOOKUP($A$6,disthist, 41)","v":10128238382.975546},{"$f":"VLOOKUP($A$6,disthist, 44)","v":10379173843.167685},{"$f":"VLOOKUP($A$6,disthist, 47)","v":10777588551.40456},{"$f":"VLOOKUP($A$6,disthist, 50)","v":11359048511.850758},{"$f":"VLOOKUP($A$6,aidcalc,8 )","v":11950816670.548943}]
["Foundation Aid",null,null,null,"Chapter 70 aid",{"$f":"IF(A6=999,VLOOKUP(A6,disthist,52,0)+308558,VLOOKUP(A6,disthist,52,0))","v":5176002652},{"$f":"IF(A6=999,VLOOKUP($A$6,aidcalc,39,0)+308558,VLOOKUP($A$6,aidcalc,39,0))","v":5479534540.3900013},{"$f":"G14-F14","v":303531888.3900013},{"$f":"IF(F14>0, H14/F14, 0)","v":5.8642143135826448E-2}]
[2,"Foundation budget FY21",{"$f":"VLOOKUP($A$6, aidcalc, 8)","v":11950816670.548943},null,"Required net school spending (NSS)",{"$f":"F13+F14","v":11689610020},{"$f":"G13+G14","v":12272127663.390001},{"$f":"G15-F15","v":582517643.3900013},{"$f":"IF(F15>0, H15/F15, 0)","v":4.9832085278581545E-2}]
[3,{"$f":"\"Required district contribution \"& CYr","v":"Required district contribution FY21"},{"$f":"VLOOKUP($A$6, aidcalc, 9)","v":6792593123}]
[4,"Foundation aid (2 -3)",{"$f":"VLOOKUP($A$6, aidcalc, 10)","v":5158223548},null,"Target aid share",{"$f":"VLOOKUP(A$6,disthist,3)/100","v":0.41},{"$f":"VLOOKUP(A6,aidcalc,12)/100","v":0.41}]
[5,{"$f":"\"Increase over \" & PYr&\" (4 - 1)\"","v":"Increase over FY20 (4 - 1)"},{"$f":"VLOOKUP($A$6, aidcalc, 11)","v":290761055},null,"C70 % of foundation",{"$f":"IF(F12>0,F14/F12,IF(F14>0,1,0))","v":0.45567220235039396},{"$f":"IF(G12>0,G14/G12,IF(G14>0,1,0))","v":0.45850712059649623}]
[]
["Minimum Aid",null,null,null,"Required NSS % of foundation",{"$f":"IF(F12>0,F15/F12,IF(F15>0,1,0))","v":1.0291011617570232},{"$f":"IF(G12>0,G15/G12,IF(G15>0,1,0))","v":1.0268861117778572}]
[6,"Minimum $30 per pupil increase",{"$f":"IF(A6=999,\"\",VLOOKUP($A$6,aidcalc,23,0))","v":""}]
[7,"Minimum aid amount"]
[null,"(if line 6 - line 5 > 0, then line 6 - line 5, otherwise 0)",{"$f":"VLOOKUP($A$6, aidcalc, 24,0)","v":11928187.000000659}]
[]
["Subtotal"]
[8,"Sum of 1,5,7",{"$f":"C12+C18+C23","v":5478383336.000001}]
[]
["Minimum Aid Adjustment"]
[9,"Minimum aid adjustment",{"$f":"VLOOKUP($A$6, aidcalc, 34)","v":5308329765.5679703}]
[10,"Aid adjustment increment"]
[null,"(if line 9 - line 8 > 0, then line 9 - line 8, otherwise 0)",{"$f":"VLOOKUP($A$6, aidcalc, 35, FALSE)","v":906487.00000000105}]
[]
["Non-Operating District Reduction to Foundation"]
[11,"Reduction to foundation",{"$f":"VLOOKUP($A$6, aidcalc, 37)","v":63840.610000000008}]
[]
[{"$f":"CYr&\" Chapter 70 Aid\"","v":"FY21 Chapter 70 Aid"}]
[null,"Sum of 1,5,7,10 minus 11",{"$f":"VLOOKUP($A$6, aidcalc, 39)","v":5479225982.3900013}]
[null,null,{"$f":"IF(A6=999,C37+308558,\"\")","v":5479534540.3900013},null,{"$f":"IF(A6=999,\"with Devens aid\",\"\")","v":"with Devens aid"}]
[]
["Note on Minimum Aid Adjustment on lines 9 and 10:"]
["The minimum aid adjustment is the sum of (a) the greater of foundation aid or base aid determined based on the FY20 base and incremental rates, inflated to FY21, and (b) foundation enrollment multiplied by $30. The aid adjustment increment (line 9) is the line 8 amount less the line 7 amount if the difference is positive. Otherwise, the increment is zero."]

{"sheet":"Regional District Members","index":9,"n_rows":68,"n_cols":12,"rows_kept":68,"cut":false,"hidden":false,"merged":[[9,4,9,9],[13,12,13,14],[14,6,14,7],[14,9,14,10],[13,9,13,11],[13,6,13,8],[10,4,10,8]]}
[]
[null,null,null,null,"Return to Index"]
[null,null,null,null,null,"Select or type full regional district name below"]
[null,null,null,null,{"$f":"VLOOKUP(reg_order, regdistricts, 3, FALSE)","v":600},"Acton Boxborough",{"$f":"VLOOKUP(F4,leas!$E$451:$H$537,4,FALSE)","v":1}]
[]
[null,null,null,null,"Massachusetts Department of Elementary and Secondary Education"]
[null,null,null,null,"Office of School Finance"]
[null,null,null,null,{"$f":"CYr&\" Chapter 70\"","v":"FY21 Chapter 70"}]
[null,null,null,null,"Regional District Enrollment and Contributions by Member City or Town"]
[null,null,null,null,"The table below presents the minimum required local contribution for each member to the selected regional district. "]
[null,null,null,null,"Note: A city or town might belong to more than one regional district (e.g., a regional district and a vocational district) and therefore be required to contribute to multiple districts. See the regional allocation tab for a full list of minimum required contributions for each city or town."]
[null,{"$f":"VLOOKUP(E4, leas!D6:G446, 4, FALSE)","v":"0600"},null,2,{"$f":"VLOOKUP(reg_order, regdistricts, 2, FALSE)","v":"600 Acton Boxborough"}]
[]
[null,null,null,null,null,null,"Foundation Enrollment in Regional District",null,null,"Required Minimum Contribution to Regional District"]
[]
[null,{"$f":"VLOOKUP($E$4, regcount, 2, FALSE)","v":2},null,null,"LEA","Member",{"$f":"PYr","v":"FY20"},{"$f":"CYr","v":"FY21"},"Change",{"$f":"PYr","v":"FY20"},{"$f":"CYr","v":"FY21"},"Change"]
[]
[null,null,null,null,null,"Total",{"$f":"SUM(G20:G67)","v":5429},{"$f":"SUM(H20:H67)","v":5294.0000000000009},{"$f":"SUM(I20:I67)","v":-134.99999999999943},{"$f":"SUM(J20:J67)","v":45085137},{"$f":"SUM(K20:K67)","v":46442298},{"$f":"SUM(L20:L62)","v":1357161}]
[]
[{"$f":"IF($C20<=$B$16,VLOOKUP(E20,leas!D6:G446,4,FALSE),\"\")","v":"0002"},{"$f":"$E$4*100+C20","v":60001},1,null,{"$f":"IF($C20<=$B$16, VLOOKUP($B20, regdetail, 5), \" \")","v":2},{"$f":"IF($C20<=$B$16, VLOOKUP($B20, regdetail, 6), \" \")","v":"Acton"},{"$f":"IF($C20<=$B$16,VLOOKUP(A20&$B$12, localcont!A10:X1764, 18, FALSE), \"\")","v":4585.6791031387702},{"$f":"IF($C20<=$B$16,VLOOKUP(A20&$B$12, localcont!$A$10:$X$1764, 23, FALSE), \"\")","v":4437.9781441188807},{"$f":"IF($C20<=$B$16, H20-G20, \" \")","v":-147.70095901988952},{"$f":"IF($C20<=$B$16,VLOOKUP(A20&$B$12, localcont!$A$10:$X$1764, 15, FALSE), \"\")","v":37733689},{"$f":"IF($C20<=$B$16,VLOOKUP(A20&$B$12, localcont!$A$10:$X$1764, 14, FALSE),\"\")","v":38774483},{"$f":"IF($C20<=$B$16, K20-J20, \" \")","v":1040794}]
[{"$f":"IF($C21<=$B$16,VLOOKUP(E21,leas!D7:G447,4,FALSE),\"\")","v":"0037"},{"$f":"$E$4*100+C21","v":60002},2,null,37,"Boxborough",{"$f":"IF($C21<=$B$16,VLOOKUP(A21&$B$12, localcont!A11:X1765, 18, FALSE), \"\")","v":843.32089686122993},{"$f":"IF($C21<=$B$16,VLOOKUP(A21&$B$12, localcont!$A$10:$X$1764, 23, FALSE), \"\")","v":856.02185588112002},{"$f":"IF($C21<=$B$16, H21-G21, \" \")","v":12.700959019890092},{"$f":"IF($C21<=$B$16,VLOOKUP(A21&$B$12, localcont!$A$10:$X$1764, 15, FALSE), \"\")","v":7351448},{"$f":"IF($C21<=$B$16,VLOOKUP(A21&$B$12, localcont!$A$10:$X$1764, 14, FALSE),\"\")","v":7667815},{"$f":"IF($C21<=$B$16, K21-J21, \" \")","v":316367}]
[{"$f":"IF($C22<=$B$16,VLOOKUP(E22,leas!D8:G448,4,FALSE),\"\")","v":""},60003,3,null," "," ",{"$f":"IF($C22<=$B$16,VLOOKUP(A22&$B$12, localcont!A12:X1766, 18, FALSE), \"\")","v":""},{"$f":"IF($C22<=$B$16,VLOOKUP(A22&$B$12, localcont!$A$10:$X$1764, 23, FALSE), \"\")","v":""}," ",{"$f":"IF($C22<=$B$16,VLOOKUP(A22&$B$12, localcont!$A$10:$X$1764, 15, FALSE), \"\")","v":""},{"$f":"IF($C22<=$B$16,VLOOKUP(A22&$B$12, localcont!$A$10:$X$1764, 14, FALSE),\"\")","v":""}," "]
[{"$f":"IF($C23<=$B$16,VLOOKUP(E23,leas!D9:G449,4,FALSE),\"\")","v":""},60004,4,null," "," ",{"$f":"IF($C23<=$B$16,VLOOKUP(A23&$B$12, localcont!A13:X1767, 18, FALSE), \"\")","v":""},{"$f":"IF($C23<=$B$16,VLOOKUP(A23&$B$12, localcont!$A$10:$X$1764, 23, FALSE), \"\")","v":""}," ",{"$f":"IF($C23<=$B$16,VLOOKUP(A23&$B$12, localcont!$A$10:$X$1764, 15, FALSE), \"\")","v":""},{"$f":"IF($C23<=$B$16,VLOOKUP(A23&$B$12, localcont!$A$10:$X$1764, 14, FALSE),\"\")","v":""}," "]
[{"$f":"IF($C24<=$B$16,VLOOKUP(E24,leas!D10:G450,4,FALSE),\"\")","v":""},60005,5,null," "," ",{"$f":"IF($C24<=$B$16,VLOOKUP(A24&$B$12, localcont!A14:X1768, 18, FALSE), \"\")","v":""},{"$f":"IF($C24<=$B$16,VLOOKUP(A24&$B$12, localcont!$A$10:$X$1764, 23, FALSE), \"\")","v":""}," ",{"$f":"IF($C24<=$B$16,VLOOKUP(A24&$B$12, localcont!$A$10:$X$1764, 15, FALSE), \"\")","v":""},{"$f":"IF($C24<=$B$16,VLOOKUP(A24&$B$12, localcont!$A$10:$X$1764, 14, FALSE),\"\")","v":""}," "]
[{"$f":"IF($C25<=$B$16,VLOOKUP(E25,leas!D11:G451,4,FALSE),\"\")","v":""},60006,6,null," "," ",{"$f":"IF($C25<=$B$16,VLOOKUP(A25&$B$12, localcont!A15:X1769, 18, FALSE), \"\")","v":""},{"$f":"IF($C25<=$B$16,VLOOKUP(A25&$B$12, localcont!$A$10:$X$1764, 23, FALSE), \"\")","v":""}," ",{"$f":"IF($C25<=$B$16,VLOOKUP(A25&$B$12, localcont!$A$10:$X$1764, 15, FALSE), \"\")","v":""},{"$f":"IF($C25<=$B$16,VLOOKUP(A25&$B$12, localcont!$A$10:$X$1764, 14, FALSE),\"\")","v":""}," "]
[{"$f":"IF($C26<=$B$16,VLOOKUP(E26,leas!D12:G452,4,FALSE),\"\")","v":""},60007,7,null," "," ",{"$f":"IF($C26<=$B$16,VLOOKUP(A26&$B$12, localcont!A16:X1770, 18, FALSE), \"\")","v":""},{"$f":"IF($C26<=$B$16,VLOOKUP(A26&$B$12, localcont!$A$10:$X$1764, 23, FALSE), \"\")","v":""}," ",{"$f":"IF($C26<=$B$16,VLOOKUP(A26&$B$12, localcont!$A$10:$X$1764, 15, FALSE), \"\")","v":""},{"$f":"IF($C26<=$B$16,VLOOKUP(A26&$B$12, localcont!$A$10:$X$1764, 14, FALSE),\"\")","v":""}," "]
[{"$f":"IF($C27<=$B$16,VLOOKUP(E27,leas!D13:G453,4,FALSE),\"\")","v":""},60008,8,null," "," ",{"$f":"IF($C27<=$B$16,VLOOKUP(A27&$B$12, localcont!A17:X1771, 18, FALSE), \"\")","v":""},{"$f":"IF($C27<=$B$16,VLOOKUP(A27&$B$12, localcont!$A$10:$X$1764, 23, FALSE), \"\")","v":""}," ",{"$f":"IF($C27<=$B$16,VLOOKUP(A27&$B$12, localcont!$A$10:$X$1764, 15, FALSE), \"\")","v":""},{"$f":"IF($C27<=$B$16,VLOOKUP(A27&$B$12, localcont!$A$10:$X$1764, 14, FALSE),\"\")","v":""}," "]
[{"$f":"IF($C28<=$B$16,VLOOKUP(E28,leas!D14:G454,4,FALSE),\"\")","v":""},60009,9,null," "," ",{"$f":"IF($C28<=$B$16,VLOOKUP(A28&$B$12, localcont!A18:X1772, 18, FALSE), \"\")","v":""},{"$f":"IF($C28<=$B$16,VLOOKUP(A28&$B$12, localcont!$A$10:$X$1764, 23, FALSE), \"\")","v":""}," ",{"$f":"IF($C28<=$B$16,VLOOKUP(A28&$B$12, localcont!$A$10:$X$1764, 15, FALSE), \"\")","v":""},{"$f":"IF($C28<=$B$16,VLOOKUP(A28&$B$12, localcont!$A$10:$X$1764, 14, FALSE),\"\")","v":""}," "]
[{"$f":"IF($C29<=$B$16,VLOOKUP(E29,leas!D15:G455,4,FALSE),\"\")","v":""},60010,10,null," "," ",{"$f":"IF($C29<=$B$16,VLOOKUP(A29&$B$12, localcont!A19:X1773, 18, FALSE), \"\")","v":""},{"$f":"IF($C29<=$B$16,VLOOKUP(A29&$B$12, localcont!$A$10:$X$1764, 23, FALSE), \"\")","v":""}," ",{"$f":"IF($C29<=$B$16,VLOOKUP(A29&$B$12, localcont!$A$10:$X$1764, 15, FALSE), \"\")","v":""},{"$f":"IF($C29<=$B$16,VLOOKUP(A29&$B$12, localcont!$A$10:$X$1764, 14, FALSE),\"\")","v":""}," "]
[{"$f":"IF($C30<=$B$16,VLOOKUP(E30,leas!D16:G456,4,FALSE),\"\")","v":""},60011,11,null," "," ",{"$f":"IF($C30<=$B$16,VLOOKUP(A30&$B$12, localcont!A20:X1774, 18, FALSE), \"\")","v":""},{"$f":"IF($C30<=$B$16,VLOOKUP(A30&$B$12, localcont!$A$10:$X$1764, 23, FALSE), \"\")","v":""}," ",{"$f":"IF($C30<=$B$16,VLOOKUP(A30&$B$12, localcont!$A$10:$X$1764, 15, FALSE), \"\")","v":""},{"$f":"IF($C30<=$B$16,VLOOKUP(A30&$B$12, localcont!$A$10:$X$1764, 14, FALSE),\"\")","v":""}," "]
[{"$f":"IF($C31<=$B$16,VLOOKUP(E31,leas!D17:G457,4,FALSE),\"\")","v":""},60012,12,null," "," ",{"$f":"IF($C31<=$B$16,VLOOKUP(A31&$B$12, localcont!A21:X1775, 18, FALSE), \"\")","v":""},{"$f":"IF($C31<=$B$16,VLOOKUP(A31&$B$12, localcont!$A$10:$X$1764, 23, FALSE), \"\")","v":""}," ",{"$f":"IF($C31<=$B$16,VLOOKUP(A31&$B$12, localcont!$A$10:$X$1764, 15, FALSE), \"\")","v":""},{"$f":"IF($C31<=$B$16,VLOOKUP(A31&$B$12, localcont!$A$10:$X$1764, 14, FALSE),\"\")","v":""}," "]
[{"$f":"IF($C32<=$B$16,VLOOKUP(E32,leas!D18:G458,4,FALSE),\"\")","v":""},60013,13,null," "," ",{"$f":"IF($C32<=$B$16,VLOOKUP(A32&$B$12, localcont!A22:X1776, 18, FALSE), \"\")","v":""},{"$f":"IF($C32<=$B$16,VLOOKUP(A32&$B$12, localcont!$A$10:$X$1764, 23, FALSE), \"\")","v":""}," ",{"$f":"IF($C32<=$B$16,VLOOKUP(A32&$B$12, localcont!$A$10:$X$1764, 15, FALSE), \"\")","v":""},{"$f":"IF($C32<=$B$16,VLOOKUP(A32&$B$12, localcont!$A$10:$X$1764, 14, FALSE),\"\")","v":""}," "]
[{"$f":"IF($C33<=$B$16,VLOOKUP(E33,leas!D19:G459,4,FALSE),\"\")","v":""},60014,14,null," "," ",{"$f":"IF($C33<=$B$16,VLOOKUP(A33&$B$12, localcont!A23:X1777, 18, FALSE), \"\")","v":""},{"$f":"IF($C33<=$B$16,VLOOKUP(A33&$B$12, localcont!$A$10:$X$1764, 23, FALSE), \"\")","v":""}," ",{"$f":"IF($C33<=$B$16,VLOOKUP(A33&$B$12, localcont!$A$10:$X$1764, 15, FALSE), \"\")","v":""},{"$f":"IF($C33<=$B$16,VLOOKUP(A33&$B$12, localcont!$A$10:$X$1764, 14, FALSE),\"\")","v":""}," "]
[{"$f":"IF($C34<=$B$16,VLOOKUP(E34,leas!D20:G460,4,FALSE),\"\")","v":""},60015,15,null," "," ",{"$f":"IF($C34<=$B$16,VLOOKUP(A34&$B$12, localcont!A24:X1778, 18, FALSE), \"\")","v":""},{"$f":"IF($C34<=$B$16,VLOOKUP(A34&$B$12, localcont!$A$10:$X$1764, 23, FALSE), \"\")","v":""}," ",{"$f":"IF($C34<=$B$16,VLOOKUP(A34&$B$12, localcont!$A$10:$X$1764, 15, FALSE), \"\")","v":""},{"$f":"IF($C34<=$B$16,VLOOKUP(A34&$B$12, localcont!$A$10:$X$1764, 14, FALSE),\"\")","v":""}," "]
[{"$f":"IF($C35<=$B$16,VLOOKUP(E35,leas!D21:G461,4,FALSE),\"\")","v":""},60016,16,null," "," ",{"$f":"IF($C35<=$B$16,VLOOKUP(A35&$B$12, localcont!A25:X1779, 18, FALSE), \"\")","v":""},{"$f":"IF($C35<=$B$16,VLOOKUP(A35&$B$12, localcont!$A$10:$X$1764, 23, FALSE), \"\")","v":""}," ",{"$f":"IF($C35<=$B$16,VLOOKUP(A35&$B$12, localcont!$A$10:$X$1764, 15, FALSE), \"\")","v":""},{"$f":"IF($C35<=$B$16,VLOOKUP(A35&$B$12, localcont!$A$10:$X$1764, 14, FALSE),\"\")","v":""}," "]
[{"$f":"IF($C36<=$B$16,VLOOKUP(E36,leas!D22:G462,4,FALSE),\"\")","v":""},60017,17,null," "," ",{"$f":"IF($C36<=$B$16,VLOOKUP(A36&$B$12, localcont!A26:X1780, 18, FALSE), \"\")","v":""},{"$f":"IF($C36<=$B$16,VLOOKUP(A36&$B$12, localcont!$A$10:$X$1764, 23, FALSE), \"\")","v":""}," ",{"$f":"IF($C36<=$B$16,VLOOKUP(A36&$B$12, localcont!$A$10:$X$1764, 15, FALSE), \"\")","v":""},{"$f":"IF($C36<=$B$16,VLOOKUP(A36&$B$12, localcont!$A$10:$X$1764, 14, FALSE),\"\")","v":""}," "]
[{"$f":"IF($C37<=$B$16,VLOOKUP(E37,leas!D23:G463,4,FALSE),\"\")","v":""},60018,18,null," "," ",{"$f":"IF($C37<=$B$16,VLOOKUP(A37&$B$12, localcont!A27:X1781, 18, FALSE), \"\")","v":""},{"$f":"IF($C37<=$B$16,VLOOKUP(A37&$B$12, localcont!$A$10:$X$1764, 23, FALSE), \"\")","v":""}," ",{"$f":"IF($C37<=$B$16,VLOOKUP(A37&$B$12, localcont!$A$10:$X$1764, 15, FALSE), \"\")","v":""},{"$f":"IF($C37<=$B$16,VLOOKUP(A37&$B$12, localcont!$A$10:$X$1764, 14, FALSE),\"\")","v":""}," "]
[{"$f":"IF($C38<=$B$16,VLOOKUP(E38,leas!D24:G464,4,FALSE),\"\")","v":""},60019,19,null," "," ",{"$f":"IF($C38<=$B$16,VLOOKUP(A38&$B$12, localcont!A28:X1782, 18, FALSE), \"\")","v":""},{"$f":"IF($C38<=$B$16,VLOOKUP(A38&$B$12, localcont!$A$10:$X$1764, 23, FALSE), \"\")","v":""}," ",{"$f":"IF($C38<=$B$16,VLOOKUP(A38&$B$12, localcont!$A$10:$X$1764, 15, FALSE), \"\")","v":""},{"$f":"IF($C38<=$B$16,VLOOKUP(A38&$B$12, localcont!$A$10:$X$1764, 14, FALSE),\"\")","v":""}," "]
[{"$f":"IF($C39<=$B$16,VLOOKUP(E39,leas!D25:G465,4,FALSE),\"\")","v":""},60020,20,null," "," ",{"$f":"IF($C39<=$B$16,VLOOKUP(A39&$B$12, localcont!A29:X1783, 18, FALSE), \"\")","v":""},{"$f":"IF($C39<=$B$16,VLOOKUP(A39&$B$12, localcont!$A$10:$X$1764, 23, FALSE), \"\")","v":""}," ",{"$f":"IF($C39<=$B$16,VLOOKUP(A39&$B$12, localcont!$A$10:$X$1764, 15, FALSE), \"\")","v":""},{"$f":"IF($C39<=$B$16,VLOOKUP(A39&$B$12, localcont!$A$10:$X$1764, 14, FALSE),\"\")","v":""}," "]
[{"$f":"IF($C40<=$B$16,VLOOKUP(E40,leas!D26:G466,4,FALSE),\"\")","v":""},60021,21,null," "," ",{"$f":"IF($C40<=$B$16,VLOOKUP(A40&$B$12, localcont!A30:X1784, 18, FALSE), \"\")","v":""},{"$f":"IF($C40<=$B$16,VLOOKUP(A40&$B$12, localcont!$A$10:$X$1764, 23, FALSE), \"\")","v":""}," ",{"$f":"IF($C40<=$B$16,VLOOKUP(A40&$B$12, localcont!$A$10:$X$1764, 15, FALSE), \"\")","v":""},{"$f":"IF($C40<=$B$16,VLOOKUP(A40&$B$12, localcont!$A$10:$X$1764, 14, FALSE),\"\")","v":""}," "]
[{"$f":"IF($C41<=$B$16,VLOOKUP(E41,leas!D27:G467,4,FALSE),\"\")","v":""},60022,22,null," "," ",{"$f":"IF($C41<=$B$16,VLOOKUP(A41&$B$12, localcont!A31:X1785, 18, FALSE), \"\")","v":""},{"$f":"IF($C41<=$B$16,VLOOKUP(A41&$B$12, localcont!$A$10:$X$1764, 23, FALSE), \"\")","v":""}," ",{"$f":"IF($C41<=$B$16,VLOOKUP(A41&$B$12, localcont!$A$10:$X$1764, 15, FALSE), \"\")","v":""},{"$f":"IF($C41<=$B$16,VLOOKUP(A41&$B$12, localcont!$A$10:$X$1764, 14, FALSE),\"\")","v":""}," "]
[{"$f":"IF($C42<=$B$16,VLOOKUP(E42,leas!D28:G468,4,FALSE),\"\")","v":""},60023,23,null," "," ",{"$f":"IF($C42<=$B$16,VLOOKUP(A42&$B$12, localcont!A32:X1786, 18, FALSE), \"\")","v":""},{"$f":"IF($C42<=$B$16,VLOOKUP(A42&$B$12, localcont!$A$10:$X$1764, 23, FALSE), \"\")","v":""}," ",{"$f":"IF($C42<=$B$16,VLOOKUP(A42&$B$12, localcont!$A$10:$X$1764, 15, FALSE), \"\")","v":""},{"$f":"IF($C42<=$B$16,VLOOKUP(A42&$B$12, localcont!$A$10:$X$1764, 14, FALSE),\"\")","v":""}," "]
[{"$f":"IF($C43<=$B$16,VLOOKUP(E43,leas!D29:G469,4,FALSE),\"\")","v":""},60024,24,null," "," ",{"$f":"IF($C43<=$B$16,VLOOKUP(A43&$B$12, localcont!A33:X1787, 18, FALSE), \"\")","v":""},{"$f":"IF($C43<=$B$16,VLOOKUP(A43&$B$12, localcont!$A$10:$X$1764, 23, FALSE), \"\")","v":""}," ",{"$f":"IF($C43<=$B$16,VLOOKUP(A43&$B$12, localcont!$A$10:$X$1764, 15, FALSE), \"\")","v":""},{"$f":"IF($C43<=$B$16,VLOOKUP(A43&$B$12, localcont!$A$10:$X$1764, 14, FALSE),\"\")","v":""}," "]
[{"$f":"IF($C44<=$B$16,VLOOKUP(E44,leas!D30:G470,4,FALSE),\"\")","v":""},60025,25,null," "," ",{"$f":"IF($C44<=$B$16,VLOOKUP(A44&$B$12, localcont!A34:X1788, 18, FALSE), \"\")","v":""},{"$f":"IF($C44<=$B$16,VLOOKUP(A44&$B$12, localcont!$A$10:$X$1764, 23, FALSE), \"\")","v":""}," ",{"$f":"IF($C44<=$B$16,VLOOKUP(A44&$B$12, localcont!$A$10:$X$1764, 15, FALSE), \"\")","v":""},{"$f":"IF($C44<=$B$16,VLOOKUP(A44&$B$12, localcont!$A$10:$X$1764, 14, FALSE),\"\")","v":""}," "]
[{"$f":"IF($C45<=$B$16,VLOOKUP(E45,leas!D31:G471,4,FALSE),\"\")","v":""},60026,26,null," "," ",{"$f":"IF($C45<=$B$16,VLOOKUP(A45&$B$12, localcont!A35:X1789, 18, FALSE), \"\")","v":""},{"$f":"IF($C45<=$B$16,VLOOKUP(A45&$B$12, localcont!$A$10:$X$1764, 23, FALSE), \"\")","v":""}," ",{"$f":"IF($C45<=$B$16,VLOOKUP(A45&$B$12, localcont!$A$10:$X$1764, 15, FALSE), \"\")","v":""},{"$f":"IF($C45<=$B$16,VLOOKUP(A45&$B$12, localcont!$A$10:$X$1764, 14, FALSE),\"\")","v":""}," "]
[{"$f":"IF($C46<=$B$16,VLOOKUP(E46,leas!D32:G472,4,FALSE),\"\")","v":""},60027,27,null," "," ",{"$f":"IF($C46<=$B$16,VLOOKUP(A46&$B$12, localcont!A36:X1790, 18, FALSE), \"\")","v":""},{"$f":"IF($C46<=$B$16,VLOOKUP(A46&$B$12, localcont!$A$10:$X$1764, 23, FALSE), \"\")","v":""}," ",{"$f":"IF($C46<=$B$16,VLOOKUP(A46&$B$12, localcont!$A$10:$X$1764, 15, FALSE), \"\")","v":""},{"$f":"IF($C46<=$B$16,VLOOKUP(A46&$B$12, localcont!$A$10:$X$1764, 14, FALSE),\"\")","v":""}," "]
[{"$f":"IF($C47<=$B$16,VLOOKUP(E47,leas!D33:G473,4,FALSE),\"\")","v":""},60028,28,null," "," ",{"$f":"IF($C47<=$B$16,VLOOKUP(A47&$B$12, localcont!A37:X1791, 18, FALSE), \"\")","v":""},{"$f":"IF($C47<=$B$16,VLOOKUP(A47&$B$12, localcont!$A$10:$X$1764, 23, FALSE), \"\")","v":""}," ",{"$f":"IF($C47<=$B$16,VLOOKUP(A47&$B$12, localcont!$A$10:$X$1764, 15, FALSE), \"\")","v":""},{"$f":"IF($C47<=$B$16,VLOOKUP(A47&$B$12, localcont!$A$10:$X$1764, 14, FALSE),\"\")","v":""}," "]
[{"$f":"IF($C48<=$B$16,VLOOKUP(E48,leas!D34:G474,4,FALSE),\"\")","v":""},60029,29,null," "," ",{"$f":"IF($C48<=$B$16,VLOOKUP(A48&$B$12, localcont!A38:X1792, 18, FALSE), \"\")","v":""},{"$f":"IF($C48<=$B$16,VLOOKUP(A48&$B$12, localcont!$A$10:$X$1764, 23, FALSE), \"\")","v":""}," ",{"$f":"IF($C48<=$B$16,VLOOKUP(A48&$B$12, localcont!$A$10:$X$1764, 15, FALSE), \"\")","v":""},{"$f":"IF($C48<=$B$16,VLOOKUP(A48&$B$12, localcont!$A$10:$X$1764, 14, FALSE),\"\")","v":""}," "]
[{"$f":"IF($C49<=$B$16,VLOOKUP(E49,leas!D35:G475,4,FALSE),\"\")","v":""},60030,30,null," "," ",{"$f":"IF($C49<=$B$16,VLOOKUP(A49&$B$12, localcont!A39:X1793, 18, FALSE), \"\")","v":""},{"$f":"IF($C49<=$B$16,VLOOKUP(A49&$B$12, localcont!$A$10:$X$1764, 23, FALSE), \"\")","v":""}," ",{"$f":"IF($C49<=$B$16,VLOOKUP(A49&$B$12, localcont!$A$10:$X$1764, 15, FALSE), \"\")","v":""},{"$f":"IF($C49<=$B$16,VLOOKUP(A49&$B$12, localcont!$A$10:$X$1764, 14, FALSE),\"\")","v":""}," "]
[{"$f":"IF($C50<=$B$16,VLOOKUP(E50,leas!D36:G476,4,FALSE),\"\")","v":""},60031,31,null," "," ",{"$f":"IF($C50<=$B$16,VLOOKUP(A50&$B$12, localcont!A40:X1794, 18, FALSE), \"\")","v":""},{"$f":"IF($C50<=$B$16,VLOOKUP(A50&$B$12, localcont!$A$10:$X$1764, 23, FALSE), \"\")","v":""}," ",{"$f":"IF($C50<=$B$16,VLOOKUP(A50&$B$12, localcont!$A$10:$X$1764, 15, FALSE), \"\")","v":""},{"$f":"IF($C50<=$B$16,VLOOKUP(A50&$B$12, localcont!$A$10:$X$1764, 14, FALSE),\"\")","v":""}," "]
[{"$f":"IF($C51<=$B$16,VLOOKUP(E51,leas!D37:G477,4,FALSE),\"\")","v":""},60032,32,null," "," ",{"$f":"IF($C51<=$B$16,VLOOKUP(A51&$B$12, localcont!A41:X1795, 18, FALSE), \"\")","v":""},{"$f":"IF($C51<=$B$16,VLOOKUP(A51&$B$12, localcont!$A$10:$X$1764, 23, FALSE), \"\")","v":""}," ",{"$f":"IF($C51<=$B$16,VLOOKUP(A51&$B$12, localcont!$A$10:$X$1764, 15, FALSE), \"\")","v":""},{"$f":"IF($C51<=$B$16,VLOOKUP(A51&$B$12, localcont!$A$10:$X$1764, 14, FALSE),\"\")","v":""}," "]
[{"$f":"IF($C52<=$B$16,VLOOKUP(E52,leas!D38:G478,4,FALSE),\"\")","v":""},60033,33,null," ",{"$f":"IF($C52<=$B$16, VLOOKUP($B52, regdetail, 6), \" \")","v":" "},{"$f":"IF($C52<=$B$16,VLOOKUP(A52&$B$12, localcont!A42:X1796, 18, FALSE), \"\")","v":""},{"$f":"IF($C52<=$B$16,VLOOKUP(A52&$B$12, localcont!$A$10:$X$1764, 23, FALSE), \"\")","v":""}," ",{"$f":"IF($C52<=$B$16,VLOOKUP(A52&$B$12, localcont!$A$10:$X$1764, 15, FALSE), \"\")","v":""},{"$f":"IF($C52<=$B$16,VLOOKUP(A52&$B$12, localcont!$A$10:$X$1764, 14, FALSE),\"\")","v":""}," "]
[{"$f":"IF($C53<=$B$16,VLOOKUP(E53,leas!D39:G479,4,FALSE),\"\")","v":""},60034,34,null," "," ",{"$f":"IF($C53<=$B$16,VLOOKUP(A53&$B$12, localcont!A43:X1797, 18, FALSE), \"\")","v":""},{"$f":"IF($C53<=$B$16,VLOOKUP(A53&$B$12, localcont!$A$10:$X$1764, 23, FALSE), \"\")","v":""}," ",{"$f":"IF($C53<=$B$16,VLOOKUP(A53&$B$12, localcont!$A$10:$X$1764, 15, FALSE), \"\")","v":""},{"$f":"IF($C53<=$B$16,VLOOKUP(A53&$B$12, localcont!$A$10:$X$1764, 14, FALSE),\"\")","v":""}," "]
[{"$f":"IF($C54<=$B$16,VLOOKUP(E54,leas!D40:G480,4,FALSE),\"\")","v":""},60035,35,null," "," ",{"$f":"IF($C54<=$B$16,VLOOKUP(A54&$B$12, localcont!A44:X1798, 18, FALSE), \"\")","v":""},{"$f":"IF($C54<=$B$16,VLOOKUP(A54&$B$12, localcont!$A$10:$X$1764, 23, FALSE), \"\")","v":""}," ",{"$f":"IF($C54<=$B$16,VLOOKUP(A54&$B$12, localcont!$A$10:$X$1764, 15, FALSE), \"\")","v":""},{"$f":"IF($C54<=$B$16,VLOOKUP(A54&$B$12, localcont!$A$10:$X$1764, 14, FALSE),\"\")","v":""}," "]
[{"$f":"IF($C55<=$B$16,VLOOKUP(E55,leas!D41:G481,4,FALSE),\"\")","v":""},60036,36,null," "," ",{"$f":"IF($C55<=$B$16,VLOOKUP(A55&$B$12, localcont!A45:X1799, 18, FALSE), \"\")","v":""},{"$f":"IF($C55<=$B$16,VLOOKUP(A55&$B$12, localcont!$A$10:$X$1764, 23, FALSE), \"\")","v":""}," ",{"$f":"IF($C55<=$B$16,VLOOKUP(A55&$B$12, localcont!$A$10:$X$1764, 15, FALSE), \"\")","v":""},{"$f":"IF($C55<=$B$16,VLOOKUP(A55&$B$12, localcont!$A$10:$X$1764, 14, FALSE),\"\")","v":""}," "]
[{"$f":"IF($C56<=$B$16,VLOOKUP(E56,leas!D42:G482,4,FALSE),\"\")","v":""},60037,37,null," "," ",{"$f":"IF($C56<=$B$16,VLOOKUP(A56&$B$12, localcont!A46:X1800, 18, FALSE), \"\")","v":""},{"$f":"IF($C56<=$B$16,VLOOKUP(A56&$B$12, localcont!$A$10:$X$1764, 23, FALSE), \"\")","v":""}," ",{"$f":"IF($C56<=$B$16,VLOOKUP(A56&$B$12, localcont!$A$10:$X$1764, 15, FALSE), \"\")","v":""},{"$f":"IF($C56<=$B$16,VLOOKUP(A56&$B$12, localcont!$A$10:$X$1764, 14, FALSE),\"\")","v":""}," "]
[{"$f":"IF($C57<=$B$16,VLOOKUP(E57,leas!D43:G483,4,FALSE),\"\")","v":""},60038,38,null," "," ",{"$f":"IF($C57<=$B$16,VLOOKUP(A57&$B$12, localcont!A47:X1801, 18, FALSE), \"\")","v":""},{"$f":"IF($C57<=$B$16,VLOOKUP(A57&$B$12, localcont!$A$10:$X$1764, 23, FALSE), \"\")","v":""}," ",{"$f":"IF($C57<=$B$16,VLOOKUP(A57&$B$12, localcont!$A$10:$X$1764, 15, FALSE), \"\")","v":""},{"$f":"IF($C57<=$B$16,VLOOKUP(A57&$B$12, localcont!$A$10:$X$1764, 14, FALSE),\"\")","v":""}," "]
[{"$f":"IF($C58<=$B$16,VLOOKUP(E58,leas!D44:G484,4,FALSE),\"\")","v":""},60039,39,null," "," ",{"$f":"IF($C58<=$B$16,VLOOKUP(A58&$B$12, localcont!A48:X1802, 18, FALSE), \"\")","v":""},{"$f":"IF($C58<=$B$16,VLOOKUP(A58&$B$12, localcont!$A$10:$X$1764, 23, FALSE), \"\")","v":""}," ",{"$f":"IF($C58<=$B$16,VLOOKUP(A58&$B$12, localcont!$A$10:$X$1764, 15, FALSE), \"\")","v":""},{"$f":"IF($C58<=$B$16,VLOOKUP(A58&$B$12, localcont!$A$10:$X$1764, 14, FALSE),\"\")","v":""}," "]
[{"$f":"IF($C59<=$B$16,VLOOKUP(E59,leas!D45:G485,4,FALSE),\"\")","v":""},60040,40,null," "," ",{"$f":"IF($C59<=$B$16,VLOOKUP(A59&$B$12, localcont!A49:X1803, 18, FALSE), \"\")","v":""},{"$f":"IF($C59<=$B$16,VLOOKUP(A59&$B$12, localcont!$A$10:$X$1764, 23, FALSE), \"\")","v":""}," ",{"$f":"IF($C59<=$B$16,VLOOKUP(A59&$B$12, localcont!$A$10:$X$1764, 15, FALSE), \"\")","v":""},{"$f":"IF($C59<=$B$16,VLOOKUP(A59&$B$12, localcont!$A$10:$X$1764, 14, FALSE),\"\")","v":""}," "]
[{"$f":"IF($C60<=$B$16,VLOOKUP(E60,leas!D46:G486,4,FALSE),\"\")","v":""},60041,41,null," "," ",{"$f":"IF($C60<=$B$16,VLOOKUP(A60&$B$12, localcont!A50:X1804, 18, FALSE), \"\")","v":""},{"$f":"IF($C60<=$B$16,VLOOKUP(A60&$B$12, localcont!$A$10:$X$1764, 23, FALSE), \"\")","v":""}," ",{"$f":"IF($C60<=$B$16,VLOOKUP(A60&$B$12, localcont!$A$10:$X$1764, 15, FALSE), \"\")","v":""},{"$f":"IF($C60<=$B$16,VLOOKUP(A60&$B$12, localcont!$A$10:$X$1764, 14, FALSE),\"\")","v":""}," "]
[{"$f":"IF($C61<=$B$16,VLOOKUP(E61,leas!D47:G487,4,FALSE),\"\")","v":""},60042,42,null," "," ",{"$f":"IF($C61<=$B$16,VLOOKUP(A61&$B$12, localcont!A51:X1805, 18, FALSE), \"\")","v":""},{"$f":"IF($C61<=$B$16,VLOOKUP(A61&$B$12, localcont!$A$10:$X$1764, 23, FALSE), \"\")","v":""}," ",{"$f":"IF($C61<=$B$16,VLOOKUP(A61&$B$12, localcont!$A$10:$X$1764, 15, FALSE), \"\")","v":""},{"$f":"IF($C61<=$B$16,VLOOKUP(A61&$B$12, localcont!$A$10:$X$1764, 14, FALSE),\"\")","v":""}," "]
[{"$f":"IF($C62<=$B$16,VLOOKUP(E62,leas!D48:G488,4,FALSE),\"\")","v":""},60043,43,null," "," ",{"$f":"IF($C62<=$B$16,VLOOKUP(A62&$B$12, localcont!A52:X1806, 18, FALSE), \"\")","v":""},{"$f":"IF($C62<=$B$16,VLOOKUP(A62&$B$12, localcont!$A$10:$X$1764, 23, FALSE), \"\")","v":""}," ",{"$f":"IF($C62<=$B$16,VLOOKUP(A62&$B$12, localcont!$A$10:$X$1764, 15, FALSE), \"\")","v":""},{"$f":"IF($C62<=$B$16,VLOOKUP(A62&$B$12, localcont!$A$10:$X$1764, 14, FALSE),\"\")","v":""}," "]
[{"$f":"IF($C63<=$B$16,VLOOKUP(E63,leas!D49:G489,4,FALSE),\"\")","v":""},60044,44,null," "," ",{"$f":"IF($C63<=$B$16,VLOOKUP(A63&$B$12, localcont!A53:X1807, 18, FALSE), \"\")","v":""},{"$f":"IF($C63<=$B$16,VLOOKUP(A63&$B$12, localcont!$A$10:$X$1764, 23, FALSE), \"\")","v":""}," ",{"$f":"IF($C63<=$B$16,VLOOKUP(A63&$B$12, localcont!$A$10:$X$1764, 15, FALSE), \"\")","v":""},{"$f":"IF($C63<=$B$16,VLOOKUP(A63&$B$12, localcont!$A$10:$X$1764, 14, FALSE),\"\")","v":""}," "]
[{"$f":"IF($C64<=$B$16,VLOOKUP(E64,leas!D50:G490,4,FALSE),\"\")","v":""},60045,45,null," "," ",{"$f":"IF($C64<=$B$16,VLOOKUP(A64&$B$12, localcont!A54:X1808, 18, FALSE), \"\")","v":""},{"$f":"IF($C64<=$B$16,VLOOKUP(A64&$B$12, localcont!$A$10:$X$1764, 23, FALSE), \"\")","v":""}," ",{"$f":"IF($C64<=$B$16,VLOOKUP(A64&$B$12, localcont!$A$10:$X$1764, 15, FALSE), \"\")","v":""},{"$f":"IF($C64<=$B$16,VLOOKUP(A64&$B$12, localcont!$A$10:$X$1764, 14, FALSE),\"\")","v":""}," "]
[{"$f":"IF($C65<=$B$16,VLOOKUP(E65,leas!D51:G491,4,FALSE),\"\")","v":""},60046,46,null," "," ",{"$f":"IF($C65<=$B$16,VLOOKUP(A65&$B$12, localcont!A55:X1809, 18, FALSE), \"\")","v":""},{"$f":"IF($C65<=$B$16,VLOOKUP(A65&$B$12, localcont!$A$10:$X$1764, 23, FALSE), \"\")","v":""}," ",{"$f":"IF($C65<=$B$16,VLOOKUP(A65&$B$12, localcont!$A$10:$X$1764, 15, FALSE), \"\")","v":""},{"$f":"IF($C65<=$B$16,VLOOKUP(A65&$B$12, localcont!$A$10:$X$1764, 14, FALSE),\"\")","v":""}," "]
[{"$f":"IF($C66<=$B$16,VLOOKUP(E66,leas!D52:G492,4,FALSE),\"\")","v":""},60047,47,null," "," ",{"$f":"IF($C66<=$B$16,VLOOKUP(A66&$B$12, localcont!A56:X1810, 18, FALSE), \"\")","v":""},{"$f":"IF($C66<=$B$16,VLOOKUP(A66&$B$12, localcont!$A$10:$X$1764, 23, FALSE), \"\")","v":""}," ",{"$f":"IF($C66<=$B$16,VLOOKUP(A66&$B$12, localcont!$A$10:$X$1764, 15, FALSE), \"\")","v":""},{"$f":"IF($C66<=$B$16,VLOOKUP(A66&$B$12, localcont!$A$10:$X$1764, 14, FALSE),\"\")","v":""}," "]
[{"$f":"IF($C67<=$B$16,VLOOKUP(E67,leas!D53:G493,4,FALSE),\"\")","v":""},60048,48,null," "," ",{"$f":"IF($C67<=$B$16,VLOOKUP(A67&$B$12, localcont!A57:X1811, 18, FALSE), \"\")","v":""},{"$f":"IF($C67<=$B$16,VLOOKUP(A67&$B$12, localcont!$A$10:$X$1764, 23, FALSE), \"\")","v":""}," ",{"$f":"IF($C67<=$B$16,VLOOKUP(A67&$B$12, localcont!$A$10:$X$1764, 15, FALSE), \"\")","v":""},{"$f":"IF($C67<=$B$16,VLOOKUP(A67&$B$12, localcont!$A$10:$X$1764, 14, FALSE),\"\")","v":""}," "]
[{"$f":"IF($C68<=$B$16,VLOOKUP(E68,leas!D54:G494,4,FALSE),\"\")","v":""},60049,49,null," "," ",{"$f":"IF($C68<=$B$16,VLOOKUP(A68&$B$12, localcont!A58:X1812, 18, FALSE), \"\")","v":""},{"$f":"IF($C68<=$B$16,VLOOKUP(A68&$B$12, localcont!$A$10:$X$1764, 23, FALSE), \"\")","v":""}," ",{"$f":"IF($C68<=$B$16,VLOOKUP(A68&$B$12, localcont!$A$10:$X$1764, 15, FALSE), \"\")","v":""},{"$f":"IF($C68<=$B$16,VLOOKUP(A68&$B$12, localcont!$A$10:$X$1764, 14, FALSE),\"\")","v":""}," "]

{"sheet":"Comparison to FY20","index":10,"n_rows":333,"n_cols":16,"rows_kept":333,"cut":false,"hidden":false,"merged":[[3,0,3,11]]}
[null,"Return to Index",null,null,null,null,null,null,null,null,null,null,null,null,null,"More about the data"]
["Massachusetts Department of Elementary and Secondary Education"]
[{"$f":"CYr&\" Chapter 70 Comparison to \"&PYr","v":"FY21 Chapter 70 Comparison to FY20"}]
[]
[]
[]
[null,null,{"$f":"PYr","v":"FY20"},{"$f":"CYr","v":"FY21"},null,{"$f":"PYr","v":"FY20"},{"$f":"CYr","v":"FY21"},null,{"$f":"PYr","v":"FY20"},{"$f":"CYr","v":"FY21"},null,{"$f":"PYr","v":"FY20"},{"$f":"CYr","v":"FY21"}]
[null,"Operating","Foundation ","Foundation ",null,"Foundation","Foundation",null,"Minimum","Minimum",null,"Chapter 70","Chapter 70"]
["LEA","District name","Enrollment","Enrollment","change","Budget","Budget","change per pupil","Contribution","Contribution","change per pupil","aid","aid","change in aid","change in aid per pupil","% change in aid"]
[1,"Abington                     ",{"$f":"VLOOKUP(A10,aidcalc,13,0)","v":2105},{"$f":"VLOOKUP(A10,aidcalc,14,0)","v":2197},{"$f":"D10-C10","v":92},{"$f":"VLOOKUP(A10,aidcalc,4)","v":23388476.609717574},{"$f":"VLOOKUP(A10,aidcalc,8)","v":25403702.406400003},{"$f":"(G10-F10)/$D10","v":917.26253831699069},{"$f":"SUMIF(dist1755,A10,pynetmin)","v":14463601},{"$f":"VLOOKUP(A10,aidcalc,9)","v":15436064},{"$f":"(J10-I10)/$D10","v":442.63222576240327},{"$f":"VLOOKUP(A10,aidcalc,7)","v":8933994},{"$f":"VLOOKUP(A10,aidcalc,39)","v":9967638},{"$f":"M10-L10","v":1033644},{"$f":"(M10-L10)/$D10","v":470.47974510696406},{"$f":"ROUND(IF(F10>0,(M10-L10)/L10,100),2)","v":0.12}]
[3,"Acushnet                     ",1272,1292,{"$f":"D11-C11","v":20},13443441.482329441,14140972.610000001,{"$f":"(G11-F11)/$D11","v":539.88477373882358},7498601,7863272,{"$f":"(J11-I11)/$D11","v":282.25309597523221},6361492,6400252,{"$f":"M11-L11","v":38760},{"$f":"(M11-L11)/$D11","v":30},{"$f":"ROUND(IF(F11>0,(M11-L11)/L11,100),2)","v":0.01}]
[5,"Agawam                       ",3677,3623,-54,42227451.049391314,42702195.18,131.03619393008151,22951211,23256462,84.253657190173882,19477412,19586102,108690,30,0.01]
[7,"Amesbury                     ",2112,2036,-76,22996252.745490368,22825386.480000004,-83.922527254599359,15621860,16246216,306.65815324165027,9190887,9251967,61080,30,0.01]
[8,"Amherst                      ",1134,1097,-37,12803970.649125857,13098312.059999999,268.31486861817808,9508882,9900603,357.08386508659981,6122223,6155133,32910,30,0.01]
[9,"Andover                      ",5835,5740,-95,63835635.793936521,64773743.400639996,163.43338095879358,52178457,53438338,219.49146341463415,11668291,11840491,172200,30,0.01]
[10,"Arlington                    ",5980,6092,112,62294073.096873432,65991012.938580006,606.8515826832853,48330137,50007974,275.41644780039394,13979327,15983039,2003712,328.90873276428101,0.14000000000000001]
[14,"Ashland                      ",2764,2786,22,29177890.758524973,30521117.440000001,482.13448724875389,21472389,22570837,394.27422828427854,7839520,8037119,197599,70.925699928212495,0.03]
[16,"Attleboro                    ",6355,6383,28,77760770.558410808,80907585.420000002,492.99935165113476,36638947,38043946,220.11577628074573,41121824,42863639,1741815,272.88344038853205,0.04]
[17,"Auburn                       ",2494,2511,17,26762943.249616574,27839076.359999999,428.56754694680404,15076760,15632555,221.34408602150538,11851108,12270204,419096,166.90402230187178,0.04]
[18,"Avon                         ",563,586,23,6653932.0309206927,7146096.0300000003,839.87030559608797,4537696,4654416,199.18088737201364,2116236,2491680,375444,{"$f":"(M20-L20)/$D20","v":640.68941979522185},0.18]
[20,"Barnstable                   ",5444,5405,-39,63524348.519651115,66271891.590000004,508.33359303402193,51296149,53244409,360.45513413506012,12228200,13027483,799283,147.87844588344126,7.0000000000000007E-2]
[23,"Bedford                      ",2693,2707,14,29672258.159568485,31014582.858640004,495.87170264924976,24098559,25095756,368.37717029922425,5595167,5918827,323660,119.56409309198375,0.06]
[24,"Belchertown                  ",2310,2278,-32,24514320.307211746,24966439.98,198.472200521622,12048062,12725953,297.581650570676,13884146,13952486,68340,30,0]
[25,"Bellingham                   ",2286,2247,-39,24541929.425553497,24980756.82,195.29479058589379,16455942,17111076,291.55941255006678,8642425,8709835,67410,30,0.01]
[26,"Belmont                      ",4517,4594,77,47857221.466895089,50111563.269849993,490.71436720829445,38364680,40662179,500.10861993905093,9519647,9657467,137820,30,0.01]
[27,"Berkley                      ",742,764,22,7578024.2998736957,8088546.29,668.22250016531984,3944412,4198889,333.08507853403142,4003448,4026368,22920,30,0.01]
[30,"Beverly                      ",4458,4570,112,49446399.057018369,52340525.960000008,633.28816257803919,40188832,42077791,413.33894967177241,9257567,10262735,1005168,219.94923413566738,0.11]
[31,"Billerica                    ",4866,4866,0,51908631.204447828,53361602.314500012,298.59661119033768,39371685,41666761,471.65556925606245,19348854,19494834,145980,30,0.01]
[35,"Boston                       ",63777,62900,-877,910864776.36300993,978722271.88964999,1078.8155091675685,749907338,797151500,751.09955484896659,221915045,223802045,1887000,30,0.01]
[36,"Bourne                       ",2001,2012,11,22123862.831195891,22886335.060000002,378.96234035989636,18252187,18716872,230.95675944333996,5215213,5275573,60360,30,0.01]
[38,"Boxford                      ",705,729,24,7004474.1685977643,7489733.5427200012,665.6507189605444,5765598,6179030,567.12208504801094,1747903,1769773,21870,30,0.01]
[40,"Braintree                    ",5682,5666,-16,63032117.839880839,65287073.726299994,397.98021292254759,44795946,46505214,301.67102012001413,18297651,18781860,484209,85.458701023649837,0.03]
[41,"Brewster                     ",477,468,-9,5028082.1512436774,5236465.6000000006,445.26377939385299,4091479,4208916,250.93376068376068,1011979,1027550,15571,33.271367521367523,0.02]
[43,"Brimfield                    ",262,283,21,2714228.2124121352,3087351.5799999996,1318.4571292857399,1546449,1718016,606.24381625441697,1247172,1369336,122164,431.67491166077741,0.1]
[44,"Brockton                     ",17723,17498,-225,232535452.17106631,255706156.15000001,1324.1915635463306,46034943,48112285,118.71882500857241,186500509,207593871,21093362,1205.4727397416848,0.11]
[45,"Brookfield                   ",246,253,7,2740659.0357464454,2908398.07,663.00013538954317,1155170,1200512,179.21739130434781,1585489,1709953,124464,491.9525691699605,0.08]
[46,"Brookline                    ",7737,7648,-89,83235896.760623336,84668729.879460007,187.34742662613377,68669614,69851702,154.56171548117155,15006787,15236227,229440,30,0.02]
[48,"Burlington                   ",3526,3518,-8,39132795.405252784,40396821.446159996,359.30245619875257,32284557,33327377,296.42410460488912,6851477,7107670,256193,72.823479249573623,0.04]
[49,"Cambridge                    ",7460,7519,59,95754602.358881176,103658808.02008,1051.2309697032617,78997547,85518517,867.26559382896664,16757055,18140291,1383236,183.96542093363479,0.08]
[50,"Canton                       ",3299,3325,26,36127373.083982036,37652701.134640008,458.74527839337526,29805082,31063479,378.46526315789475,6327312,6615864,288552,86.782556390977447,0.05]
[51,"Carlisle                     ",571,570,-1,5645404.4536545286,5867349.0383599997,389.37646439556329,4644791,4840563,343.45964912280704,1009657,1029242,19585,34.359649122807021,0.02]
[52,"Carver                       ",1582,1591,9,17414154.77758931,18189630.062479999,487.41375543097985,9062138,9397750,210.94406033940916,10008599,10056329,47730,30,0]
[56,"Chelmsford                   ",5076,5112,36,52945358.502223566,54706649.899999999,344.54057077003762,42445789,43834599,271.67644757433487,11199428,11352788,153360,30,0.01]
[57,"Chelsea                      ",7116,7290,174,100163293.24265932,112437920.96600001,1683.7623763155952,18590816,19918513,182.12578875171468,81572477,92519408,10946931,1501.6366255144032,0.13]
[61,"Chicopee                     ",7666,7571,-95,99336604.583217233,104550852.06999999,688.71318013244741,30513907,31719206,159.19944525161802,68822698,72831646,4008948,529.51367058512744,0.06]
[63,"Clarksburg                   ",182,171,-11,2056910.8702206635,2044269.3599999996,-73.926960354759387,685446,691052,32.783625730994153,1799935,1805065,5130,30,0]
[64,"Clinton                      ",2022,2086,64,24086138.195584625,26586847.719999999,1198.8060999114928,10670037,11372125,336.57142857142856,13416101,15214723,1798622,862.23489932885911,0.13]
[65,"Cohasset                     ",1523,1468,-55,15680191.001538649,15673927.657200001,-4.2665833369536932,12936157,12930990,-3.5197547683923704,2748292,2792332,44040,30,0.02]
[67,"Concord                      ",2020,2081,61,20298530.027942974,21592019.292640004,621.57100658194622,16746287,17813416,512.79625180201822,3552455,3801497,249042,119.67419509851034,7.0000000000000007E-2]
[68,"Conway                       ",86,79,-7,982498.98211336427,902895.42,-1007.6400267514459,810562,744889,-831.30379746835445,626464,628834,2370,30,0]
[71,"Danvers                      ",3545,3483,-62,37107615.193679869,37816803.190000005,203.6141246971392,30032857,30492443,131.9511915015791,7108192,7324360,216168,62.06373815676141,0.03]
[72,"Dartmouth                    ",3553,3517,-36,38394448.348769426,39139561.32,211.86038419976512,31675420,32290138,174.78475973841341,9948121,10053631,105510,30,0.01]
[73,"Dedham                       ",2681,2700,19,30327812.140098155,31499172.982930005,433.83734919698151,24319967,25420035,407.43259259259258,6066360,6147360,81000,30,0.01]
[74,"Deerfield                    ",316,315,-1,3354720.4057858582,3395385.48,129.0954736956883,2690443,2725201,110.34285714285714,1114363,1123813,9450,30,0.01]
[77,"Douglas                      ",1227,1213,-14,12970126.823695926,13212607.830000002,199.90190132240392,7112759,7342740,189.59686727122835,8759585,8795975,36390,30,0]
[78,"Dover                        ",492,492,0,4873658.0694900909,5086667.2165000001,432.94542075184785,4020768,4196501,357.1808943089431,853856,890166,36310,73.800813008130078,0.04]
[79,"Dracut                       ",3888,3964,76,41837070.949357763,44231763.989999995,604.11025243245001,23013126,24065178,265.40161453077701,19413857,20166586,752729,189.89127144298689,0.04]
[82,"Duxbury                      ",2922,2888,-34,30413600.834905829,31043749.911899995,218.19566377914327,25091221,25611094,180.01142659279779,5340535,5470406,129871,44.969182825484765,0.02]
[83,"East Bridgewater             ",2159,2153,-6,23021485.869153682,23773530.020000003,349.30058097831915,12183037,12659690,221.3901532745007,10847253,11113840,266587,123.82117974918718,0.02]
[85,"Eastham                      ",170,191,21,1859186.0779373366,2206111.6999999993,1816.3645134170818,1533829,1820042,1498.4973821989529,364971,386070,21099,110.46596858638743,0.06]
[86,"Easthampton                  ",1733,1719,-14,19700559.137801927,20235912.760000002,311.43317172662887,12320207,12851208,308.90110529377546,8029692,8081262,51570,30,0.01]
[87,"East Longmeadow              ",2679,2643,-36,28769862.744360216,29273598.25,190.59232146794704,16848895,17662697,307.90843738176312,12102248,12181538,79290,30,0.01]
[88,"Easton                       ",3559,3516,-43,37265050.035474405,37898989.639999993,180.30136647485452,28602736,29751373,326.68856655290102,10148451,10253931,105480,30,0.01]
[89,"Edgartown                    ",438,441,3,4884680.5483374586,5232376.0799999991,788.42524186517119,4029861,4316710,650.45124716553289,854820,915666,60846,137.97278911564626,7.0000000000000007E-2]
[91,"Erving                       ",217,219,2,2280809.0489276485,2402474.0299999998,555.54785877786003,1881667,1971938,412.19634703196346,471505,478075,6570,30,0.01]
[93,"Everett                      ",7710,7652,-58,105617503.49762131,117442393.16045,1545.3332021469791,30615794,36560261,776.85141139571351,75001709,80882132,5880423,768.48183481442766,0.08]
[94,"Fairhaven                    ",1798,1816,18,20489574.57642154,21116969.420000002,345.48174205862421,12333105,12843404,281.00165198237886,8156470,8284667,128197,70.593061674008808,0.02]
[95,"Fall River                   ",11987,12096,109,162111258.55386746,175667708.91,1120.7382900241846,31184570,32851740,137.82820767195767,130926689,142815969,11889280,982.91005291005285,0.09]
[96,"Falmouth                     ",3326,3222,{"$f":"D69-C69","v":-104},38230735.995907485,38376927.950000003,{"$f":"(G69-F69)/$D69","v":45.373045962916663},31450637,31660965,{"$f":"(J69-I69)/$D69","v":65.278708876474241},6780099,6876759,{"$f":"M69-L69","v":96660},{"$f":"(M69-L69)/$D69","v":30},0.01]
[97,"Fitchburg                    ",5798,5816,18,75293069.019942045,80108669.530000001,827.99183460418772,18599162,19549605,163.41867262723522,56693907,60559065,3865158,664.57324621733153,7.0000000000000007E-2]
[98,"Florida                      ",66,66,0,740254.54001652624,772556.75,489.42742399202666,441172,477778,554.63636363636363,550717,552697,1980,30,0]
[99,"Foxborough                   ",2636,2639,3,28934003.214451049,30048953.225120001,422.48958342893218,23797381,24790386,376.2807881773399,9046950,9126120,79170,30,0.01]
[100,"Framingham                   ",9348,9572,224,114246010.44154748,123005242.38944,915.08900416762606,63283830,64953539,174.43679481821979,50962180,58051703,7089523,740.65221479314664,0.14000000000000001]
[101,"Franklin                     ",{"$f":"VLOOKUP(A74,aidcalc,13,0)","v":5576},{"$f":"VLOOKUP(A74,aidcalc,14,0)","v":5511},-65,{"$f":"VLOOKUP(A74,aidcalc,4)","v":59674983.513386771},{"$f":"VLOOKUP(A74,aidcalc,8)","v":60677982.577360004},181.99946724246655,{"$f":"SUMIF(dist1755,A74,pynetmin)","v":40088811},{"$f":"VLOOKUP(A74,aidcalc,9)","v":42213236},385.48811467973144,{"$f":"VLOOKUP(A74,aidcalc,7)","v":28416161},{"$f":"VLOOKUP(A74,aidcalc,39)","v":28581491},165330,30,0.01]
[103,"Gardner                      ",2471,2418,-53,30422248.530316565,31455697.409999996,427.39821326858197,9418789,9950965,220.0893300248139,21003460,21504732,501272,207.30851943755169,{"$f":"ROUND(IF(F75>0,(M75-L75)/L75,100),2)","v":0.02}]
[105,"Georgetown                   ",1314,1303,-11,13380030.102942491,13662197.030000001,216.55174754989275,10305171,10632626,251.30851880276285,5527768,5566858,39090,30,0.01]
[107,"Gloucester                   ",3136,3094,-42,37845891.761949673,39149213.462099992,421.2416613284804,31169618,32220430,339.62895927601812,6699157,6928783,229626,74.216548157724631,0.03]
[110,"Grafton                      ",3112,3079,-33,32167051.495621532,32932840.999999996,248.71370717066063,21474332,22268497,257.92952257226375,11108735,11201105,92370,30,0.01]
[111,"Granby                       ",701,711,10,7816401.3026422542,8266807.4100000001,633.48257012341207,4990654,5256602,374.04781997187058,4664780,4686110,21330,30,0]
[114,"Greenfield                   ",1989,1965,-24,23758804.479078908,24436320.869999997,344.79205644839175,10147449,10437834,147.77862595419847,13611355,13998487,387132,197.01374045801526,0.03]
[117,"Hadley                       ",559,520,-39,6230653.9028760213,5998298.0700000003,-446.83814014619429,4968021,4948596,-37.355769230769234,1279420,1295020,15600,30,0.01]
[118,"Halifax                      ",647,630,-17,6718564.0537173413,6928966.3674400011,333.97192654390449,3664674,3862445,313.92222222222222,3063392,3082292,18900,30,0.01]
[121,"Hancock                      ",73,77,4,800339.26922275487,889298.06999999983,1155.3091010031812,609145,673593,836.98701298701303,211450,215705,4255,55.259740259740262,0.02]
[122,"Hanover                      ",2548,2558,10,26655202.675033823,27476046.046630003,320.89263940429237,20506773,21432195,361.77560594214231,7023879,7100619,76740,30,0.01]
[125,"Harvard                      ",931,911,-20,9480813.6788152698,9566705.8100000005,94.2833492697373,7821672,7892532,77.782656421514815,1982671,2010001,27330,30,0.01]
[127,"Hatfield                     ",347,353,6,3779440.8478222261,3979328.2800000012,566.25334894553851,3053395,3198126,410.0028328611898,846256,856846,10590,30,0.01]
[128,"Haverhill                    ",8237,8540,303,100463268.08911894,108992118.71000001,998.6944520938016,42109344,43726032,189.30772833723654,58353924,65266087,6912163,809.38676814988287,0.12]
[131,"Hingham                      ",4253,4289,36,43961797.366181195,45919654.091400005,456.48326538093033,36268483,37883715,376.59874096525999,7695110,8086471,391361,91.247610165539754,0.05]
[133,"Holbrook                     ",1288,1346,58,15200054.581420457,17149375.393759999,1448.2324014409676,7861744,8381343,386.03194650817238,7338311,8768032,1429721,1062.1998514115899,0.19]
[135,"Holland                      ",172,156,-16,1957811.3888900897,1909559.09,-309.30960826980521,1087826,1119698,204.30769230769232,933678,938358,4680,30,0.01]
[136,"Holliston                    ",2688,2706,18,27996289.160540704,28940333.030220006,348.87060963758387,20267619,21381250,411.54138950480416,7936216,8017396,81180,30,0.01]
[137,"Holyoke                      ",6330,6359,29,88111145.825201109,92731775.269999996,726.62831338243222,11074770,11318415,38.314986633118416,77036376,81413360,4376984,688.31325680138389,0.06]
[138,"Hopedale                     ",937,924,-13,9935233.2153440155,10008851.028140003,79.672957571414884,5786456,5857196,76.558441558441558,6087390,6115110,27720,30,0]
[139,"Hopkinton                    ",3702,3867,165,39305559.544661731,41968586.829549991,688.65458621366952,32314609,34353998,527.38272562710108,7021215,7614589,593374,153.44556503749678,0.08]
[141,"Hudson                       ",2658,2658,0,29439397.279731382,30680243.220659997,466.83443977750778,17734729,18612598,330.2742663656885,12020446,12100186,79740,30,0.01]
[142,"Hull                         ",928,896,-32,10718331.726392865,10835997.687280001,131.32361706153566,8741934,8939698,220.71875,3874466,3901346,26880,30,0.01]
[144,"Ipswich                      ",1670,1654,-16,18376694.040241551,18643938.808199998,161.57482947910964,15160772,15381249,133.2992744860943,3332340,3381960,49620,30,0.01]
[145,"Kingston                     ",1082,1105,23,11332153.547165975,11896660.208199998,510.86575659187639,7314667,7765867,408.32579185520365,4372585,4405735,33150,30,0.01]
[149,"Lawrence                     ",15428,15367,-61,210870986.66280565,233340242.25999999,1462.1758051144884,10875618,11560136,44.544673651330775,199995369,221780106,21784737,1417.6310926010283,0.11]
[150,"Lee                          ",615,616,1,7374237.8470487166,7555332.2300000004,293.98438790792829,5858890,6106135,401.37175324675326,2085069,2103549,18480,30,0.01]
[151,"Leicester                    ",1555,1539,-16,17701915.196191557,18481715.280000001,506.69271202627971,8369468,8697551,213.17933723196882,9802497,9848667,46170,30,0]
[152,"Lenox                        ",494,507,13,5511981.8499129619,5883431.6600000001,732.64262344583472,4547385,4728371,356.97435897435895,1272525,1287735,15210,30,0.01]
[153,"Leominster                   ",6157,6177,20,77172702.956447005,80292978.790000007,505.14421783276691,30127166,31326227,194.11704711024768,47045537,48966752,1921215,311.02719766877124,0.04]
[154,"Leverett                     ",112,116,4,1166005.2401467538,1226441.5,521.00224011419095,885170,1001659,1004.2155172413793,295511,298991,3480,30,0.01]
[155,"Lexington                    ",7335,7282,-53,80260931.779566333,82151053.714560002,259.56082600846872,66088777,67774619,231.50810216973358,14438034,14656494,218460,30,0.02]
[157,"Lincoln                      ",653,595,-58,6701030.6023767004,6332691.0512000015,-619.05806920453597,5528351,5224470,-510.72436974789917,1174169,1192019,17850,30,0.02]
[158,"Littleton                    ",1612,1611,-1,16632291.76270235,17029929.215600003,246.82647603827002,13448982,14049692,372.88019863438859,4039908,4088238,48330,30,0.01]
[159,"Longmeadow                   ",2855,2808,-47,29113308.339486767,29509451.490000002,141.07662055314654,23465469,24145968,242.34294871794873,5669282,5753522,84240,30,0.01]
[160,"Lowell                       ",16353,16352,-1,212748263.5454053,227619488.50999999,909.44379675848165,49724317,51812185,127.68272994129158,163023947,175807304,12783357,781.76106898238743,0.08]
[161,"Ludlow                       ",2543,2509,-34,29028174.444039177,29682132.170000002,260.64476921515529,16193284,16798913,241.38262255878837,13795983,13871253,75270,30,0.01]
[162,"Lunenburg                    ",1705,1705,0,17948505.284198701,18454431.700000003,296.73103566058745,10176765,10527507,205.71378299120235,7771740,7926925,155185,91.017595307917887,0.02]
[163,"Lynn                         ",17598,18088,490,238010020.23206508,269437661.94999999,1737.4857208057776,52164961,53396054,68.061311366651921,185845059,216041608,30196549,1669.4244250331712,0.16]
[164,"Lynnfield                    ",2199,2205,6,23010166.94368434,23736014.726909995,329.18266812954903,18762401,19294723,241.41587301587302,4404631,4470781,66150,30,0.02]
[165,"Malden                       ",7451,7268,-183,95060966.502866924,99371892.755459994,593.13789936613512,43854744,46001263,295.33833241607044,51206223,53370630,2164407,297.79953219592733,0.04]
[167,"Mansfield                    ",3867,3730,-137,42363212.754154898,42028169.123660006,-89.824029623295601,28659688,29654453,266.6930294906166,18962339,19074239,111900,30,0.01]
[168,"Marblehead                   ",3144,3023,-121,32505638.687593605,32226764.34,-92.25085927674678,26599814,26587081,-4.2120410188554418,5952147,6042837,90690,30,0.02]
[169,"Marion                       ",450,432,-18,4612923.7963335682,4560187.0899999989,-122.07570910548438,3799640,3762154,-86.773148148148152,860344,873304,12960,30,0.02]
[170,"Marlborough                  ",5213,5336,123,64168256.450577833,69057563.677520007,916.28696157087222,35637847,37356439,322.07496251874062,28530409,31701125,3170716,594.21214392803597,0.11]
[171,"Marshfield                   ",4046,3941,-105,43523657.528021462,43929784.021200001,103.05163490955061,35619824,36242072,157.8908906368942,14664853,14783083,118230,30,0.01]
[172,"Mashpee                      ",1647,1585,-62,18627382.034490988,18618025.09,-5.9034350100869446,15124670,15359871,148.39179810725551,4640166,4687716,47550,30,0.01]
[173,"Mattapoisett                 ",436,437,1,4426546.9809879502,4588800.5899999989,371.2897231396995,3651901,3785760,306.31350114416477,839485,852595,13110,30,0.02]
[174,"Maynard                      ",1364,1305,-59,15291603.711841691,15104159.783779997,-143.63519391700683,10005157,10360316,272.15249042145592,5442941,5482091,39150,30,0.01]
[175,"Medfield                     ",2520,2513,-7,26032948.58113708,26805211.95112,307.30734977434167,21176396,21991097,324.19458814166336,6288744,6364134,75390,30,0.01]
[176,"Medford                      ",4618,4622,4,58384769.501052216,60473450.492880009,451.89982514664507,48076837,49890597,392.41886629164861,12143306,12281966,138660,30,0.01]
[177,"Medway                       ",2219,2186,-33,23515724.418579098,23855868.192400001,155.60099442859249,16195477,16889362,317.42223238792315,10501419,10566999,65580,30,0.01]
[178,"Melrose                      ",3943,4013,70,42022188.056045689,44662909.214660004,658.04165427717794,33686027,35095952,351.33939695988039,8514496,9566957,1052461,262.26289558933468,0.12]
[181,"Methuen                      ",7164,7124,-40,86487500.831909508,91361491.539999992,684.16489445402635,38919879,40299104,193.60261089275687,47567622,51062388,3494766,490.56232453677711,7.0000000000000007E-2]
[182,"Middleborough                ",3053,3073,{"$f":"D128-C128","v":20},34113306.289279848,35491872.479999997,{"$f":"(G128-F128)/$D128","v":448.60598461443163},16968154,18178093,{"$f":"(J128-I128)/$D128","v":393.73218353400586},17978609,18070799,{"$f":"M128-L128","v":92190},{"$f":"(M128-L128)/$D128","v":30},0.01]
[184,"Middleton                    ",670,686,16,6689182.2107968954,7076926.2163000004,565.22449781793728,5513538,5838464,473.65306122448982,1666151,1686731,20580,30,0.01]
[185,"Milford                      ",4317,4482,165,52148898.387319937,57018202.045919992,1086.413132217772,24846959,25912713,237.78536367692993,27301939,31117885,3815946,851.39357429718871,0.14000000000000001]
[186,"Millbury                     ",1729,1743,14,19134294.708830908,19846272.080000002,408.47812459500517,11458671,11970455,293.62248995983936,7675624,7939921,264297,151.63339070567986,0.03]
[187,"Millis                       ",1146,1088,-58,12179710.209867777,11928853.969679998,-230.56639723141458,8612588,8894930,259.50551470588238,4831312,4863952,32640,30,0.01]
[189,"Milton                       ",4220,4374,154,44445617.572931923,47591184.857499994,719.15118531505971,35446365,37335944,432.00251486053958,9033561,10255241,1221680,279.304983996342,0.14000000000000001]
[191,"Monson                       ",936,934,-2,10353119.728939803,10662015.310000001,330.7233201929306,5746939,5924562,190.1745182012848,7541075,7569095,28020,30,0]
[196,"Nahant                       ",257,266,9,2602347.1905727275,2762552.9499999997,602.27729107997084,2146936,2279106,496.87969924812029,523513,531493,7980,30,0.02]
[197,"Nantucket                    ",1663,1664,1,19008236.734527193,19595960.209999997,353.19920401009864,15681795,16166667,291.38942307692309,3600249,3650169,49920,30,0.01]
[198,"Natick                       ",5508,5484,-24,57774437.098210081,58826227.415910006,191.79254516774691,47663911,48531638,158.22884755652808,10120767,10369201,248434,45.301604668125456,0.02]
[199,"Needham                      ",{"$f":"VLOOKUP(A138,aidcalc,13,0)","v":5556},{"$f":"VLOOKUP(A138,aidcalc,14,0)","v":5754},198,{"$f":"VLOOKUP(A138,aidcalc,4)","v":59693731.68588265},{"$f":"VLOOKUP(A138,aidcalc,8)","v":63943942.401309997},738.65323521504115,{"$f":"SUMIF(dist1755,A138,pynetmin)","v":49247329},{"$f":"VLOOKUP(A138,aidcalc,9)","v":52435392},554.06030587417445,{"$f":"VLOOKUP(A138,aidcalc,7)","v":10451715},{"$f":"VLOOKUP(A138,aidcalc,39)","v":11508550},1056835,183.66962113312479,0.1]
[201,"New Bedford                  ",14042,14257,215,189742059.78296334,201706180.5,839.1751923291481,29911096,31201934,90.540646699866727,159830964,170504247,10673283,748.63456547660803,{"$f":"ROUND(IF(F139>0,(M139-L139)/L139,100),2)","v":7.0000000000000007E-2}]
[204,"Newburyport                  ",2341,2308,-33,23879060.905683298,24434119.66,240.49339441798202,19700226,20158148,198.40641247833622,4182944,4305110,122166,52.931542461005201,0.03]
[207,"Newton                       ",12889,12831,-58,141578979.06415501,146297048.2579,367.70861146792822,116802658,120695065,303.35959784895954,24814496,25601983,787487,61.373782246122673,0.03]
[208,"Norfolk                      ",916,944,28,9114958.3381727356,9680403.4935399964,598.98851204158984,7519840,7986333,494.16631355932202,3461385,3489705,28320,30,0.01]
[209,"North Adams                  ",1444,1424,-20,17859474.703748006,18394688.73,375.85254652527675,5053318,5055442,1.4915730337078652,13809703,13852423,42720,30,0]
[210,"Northampton                  ",2702,2745,43,30030364.251233194,31123122.110000003,398.09029463271736,24547028,25676575,411.49253187613846,7558369,7640719,82350,30,0.01]
[211,"North Andover                ",4796,4704,-92,50326384.478882119,51056590.189999998,155.23080593492315,41262379,42121687,182.67602040816325,9160097,9301217,141120,30,0.02]
[212,"North Attleborough           ",4179,4170,-9,44126489.423501156,45482443.589999996,325.16886486782732,26972001,28441134,352.31007194244603,20682041,20807141,125100,30,0.01]
[213,"Northborough                 ",1541,1540,-1,15348450.348561112,15826945.729999999,310.71128664862778,12662472,13057230,256.33636363636361,3993500,4039700,46200,30,0.01]
[214,"Northbridge                  ",2133,2074,-59,23912162.03207574,23869208.760000002,-20.710352977694676,12120372,12603405,232.89922854387657,15603931,15666151,62220,30,0]
[215,"North Brookfield             ",609,609,0,6861155.1426662346,7056350.7200000016,320.51818938221174,2904011,2988061,138.01313628899837,4290838,4309108,18270,30,0]
[217,"North Reading                ",2347,2320,-27,25154643.367806662,25577032.536399998,182.06429680747237,20752580,21101052,150.20344827586206,7153937,7223537,69600,30,0.01]
[218,"Norton                       ",2433,2400,-33,25977850.920649342,26672316.059999999,289.36047472944017,17399530,18330136,387.7525,12827390,12899390,72000,30,0.01]
[219,"Norwell                      ",2143,2153,10,22329816.442800608,23072297.441799998,344.8588012073343,18350859,19034058,317.32419879238273,4011711,4076301,64590,30,0.02]
[220,"Norwood                      ",3460,3531,71,40452845.134236395,43093955.158840001,747.97791690841268,32400134,33505490,313.04333050127445,8052711,9588465,1535754,434.93457943925233,0.19]
[221,"Oak Bluffs                   ",447,447,0,4939842.5494836336,5190647.0200000005,561.0838266585389,3951377,4004262,118.31096196868009,988466,1186385,197919,442.7718120805369,0.2]
[223,"Orange                       ",613,595,-18,7421674.387598698,7360903.9700000016,-102.13515562806121,1989628,2003917,24.015126050420168,5432046,5449896,17850,30,0]
[224,"Orleans                      ",224,204,-20,2457051.7958840481,2348811.4299999997,-530.59002884337451,2027068,1937769,-437.74019607843138,429984,436104,6120,30,0.01]
[226,"Oxford                       ",1738,1655,-83,19698237.275810093,19283696.920000002,-250.47755638071959,9622553,10138624,311.82537764350451,10566894,10616544,49650,30,0]
[227,"Palmer                       ",1417,1413,-4,16594239.756346451,17278686.410000004,484.39253620208973,6825833,7036139,148.83651804670913,10915640,10958030,42390,30,0]
[229,"Peabody                      ",5936,5983,47,69609817.438056916,72862545.13000001,543.66165668445501,48453163,50464626,336.19638977101789,21156654,22397919,1241265,207.46531840213939,0.06]
[230,"Pelham                       ",82,84,2,905329.72853302001,936241.84000000008,368.00132698785802,687532,699305,140.1547619047619,235531,238051,2520,30,0.01]
[231,"Pembroke                     ",2900,2854,-46,31408204.402095743,32306393.869140003,314.71249721242481,20722469,21528573,282.44709180098107,13608752,13694372,85620,30,0.01]
[234,"Petersham                    ",70,79,9,825450.36454343062,967593.11,1799.275258943916,571360,648211,972.79746835443041,435523,437893,2370,30,0.01]
[236,"Pittsfield                   ",6022,5920,-102,75857280.533894911,79181621.190000027,561.54402974748587,28171219,28582519,69.476351351351354,47686062,50599102,2913040,492.06756756756755,0.06]
[238,"Plainville                   ",702,716,14,7272815.8487452483,7586987.1399999997,438.78671962954104,5127708,5441822,438.70670391061452,2927801,2949281,21480,30,0.01]
[239,"Plymouth                     ",8045,7951,-94,93345303.481633395,97157775.176350012,479.4958740682452,68683929,71850258,398.23028549867939,26369547,26608077,238530,30,0.01]
[240,"Plympton                     ",210,227,17,2239539.0976047828,2463759.6282999991,987.7556418291465,1665166,1794113,568.04845814977978,740470,747280,6810,30,0.01]
[242,"Provincetown                 ",110,97,-13,1386868.4082193591,1312560.0099999998,-766.06596102432309,1144166,1082862,-632,290781,293691,2910,30,0.01]
[243,"Quincy                       ",9455,9657,202,123682608.20704634,136816110.30208001,1359.9981459080109,95726151,101599943,608.24189706948323,28647763,35216167,6568404,680.17023920472195,0.23]
[244,"Randolph                     ",3279,3286,7,41045165.956319869,43738342.614520006,819.59119239200766,22557750,23704922,349.10894704808277,18487416,20033421,1546005,470.48234936092513,0.08]
[246,"Reading                      ",4040,3975,-65,42311533.287209027,42863193.318320006,138.78239776376844,34907015,35362134,114.49534591194968,10834809,10954059,119250,30,0.01]
[248,"Revere                       ",7991,7979,-12,104529856.46755695,117084100.45236,1573.4107011910078,34860627,36998310,267.91364832685798,69669229,80085790,10416561,1305.4970547687681,0.15]
[249,"Richmond                     ",120,125,5,1333384.0206293394,1462282.96,1031.1915149652846,1100042,1206383,850.72799999999995,364649,368399,3750,30,0.01]
[250,"Rochester                    ",513,514,1,5204047.0350275449,5465684.7299999995,509.02275286469762,3146498,3380236,454.74319066147859,2057549,2085449,27900,54.280155642023345,0.01]
[251,"Rockland                     ",2278,2326,48,27535663.693475917,29978801.331679996,1050.360119606225,13793841,14507718,306.91186586414443,13843235,15471083,1627848,699.84866723989683,0.12]
[252,"Rockport                     ",679,665,-14,7685699.8726646928,7681628.8794999998,-6.1217942326210606,6224394,6337344,169.84962406015038,1502126,1522076,19950,30,0.01]
[253,"Rowe                         ",48,50,2,582531.02683389105,647185.75,1293.0944633221789,480588,533928,1066.8,139775,141275,1500,30,0.01]
[258,"Salem                        ",4635,4536,-99,59983631.397195973,61001952.659999996,224.49763289330335,34176479,35713816,338.91909171075838,25807152,25943232,136080,30,0.01]
[261,"Sandwich                     ",2672,2644,-28,28195096.030377951,28812575.09,233.53973510667524,23260955,23770374,192.66981845688352,7151788,7231108,79320,30,0.01]
[262,"Saugus                       ",2761,2798,37,31417986.972791355,33254946.570000004,656.52594610745132,25343552,26691069,481.6000714796283,6136490,6563878,427388,152.74767691208007,7.0000000000000007E-2]
[263,"Savoy                        ",60,50,-10,751434.40349266853,642599.05999999994,-2176.7068698533717,362123,376725,292.04000000000002,515849,517349,1500,30,0]
[264,"Scituate                     ",2906,2991,85,30755855.729239803,32403487.309109993,550.86311597131078,24906358,26062254,386.45804078903376,5863240,6341233,477993,159.81043129388163,0.08]
[265,"Seekonk                      ",2095,2077,-18,21995792.007408068,22815890.449999999,394.8475891150369,15294251,15991483,335.69186326432356,6705263,6824407,119144,57.363505055368321,0.02]
[266,"Sharon                       ",3505,3535,30,37027112.382259734,38544967.070799999,429.37897837065486,29719389,31024567,369.2158415841584,7449437,7575317,125880,35.609618104667611,0.02]
[269,"Sherborn                     ",394,400,6,3922730.1411090656,4124924.7338100001,505.48648175233626,3236252,3403063,417.02749999999997,693583,727206,33623,84.057500000000005,0.05]
[271,"Shrewsbury                   ",6043,6207,164,63259403.708104163,67328829.060000002,655.6187130491121,49749302,52057670,371.89753504108268,20068648,20254858,186210,30,0.01]
[272,"Shutesbury                   ",117,105,-12,1321150.8039989388,1228664.7999999998,-880.81908570418045,730491,715926,-138.71428571428572,630386,633536,3150,30,0]
[273,"Somerset                     ",1778,1758,-20,18329520.115415696,18701770.270000003,211.74639054852514,9423790,9381508,-24.051194539249146,8920409,9320262,399853,227.44766780432309,0.04]
[274,"Somerville                   ",5263,5284,21,68863033.368161425,78394858.548899978,1803.9033271647527,56812003,60766118,748.31850870552614,20486918,20645438,158520,30,0.01]
[275,"Southampton                  ",478,462,-16,5018160.4177704034,5059594.3599999994,89.683857639818115,3476888,3484861,17.257575757575758,2551486,2565346,13860,30,0.01]
[276,"Southborough                 ",1171,1225,54,11760311.474915259,12618254.939900002,700.36201223244325,9702257,10410060,577.79836734693879,2986051,3022801,36750,30,0.01]
[277,"Southbridge                  ",2324,2231,{"$f":"D191-C191","v":-93},30836388.956011005,30505300.34,{"$f":"(G191-F191)/$D191","v":-148.40368265845132},7846557,8001037,{"$f":"(J191-I191)/$D191","v":69.242492155983868},22989832,23056762,{"$f":"M191-L191","v":66930},{"$f":"(M191-L191)/$D191","v":30},0]
[278,"South Hadley                 ",1944,1941,-3,22011471.953325644,22921007.059999999,468.59098746746753,13763185,14218746,234.70427614631635,8248287,8702261,453974,233.88665636269963,0.06]
[281,"Springfield                  ",29645,29553,-92,411555995.64407492,432231053.56999999,699.5925261707805,40832170,41873391,35.232328359219032,370723826,390357663,19633837,664.36020031807266,0.05]
[284,"Stoneham                     ",2464,2450,-14,26898862.887115043,28037407.750399999,464.71218909590067,21654643,22342143,280.61224489795916,5266351,5695265,428914,175.06693877551021,0.08]
[285,"Stoughton                    ",3643,3644,1,42580952.190584734,44489132.577229999,523.64994145040203,26370325,27334226,264.51728869374313,16210627,17154907,944280,259.13282107574094,0.06]
[287,"Sturbridge                   ",844,870,26,8568656.4989129324,9022974.3999999985,522.20448400812199,4956813,5230042,314.05632183908045,3846634,3872734,26100,30,0.01]
[288,"Sudbury                      ",2665,2690,25,25917962.070728827,26931498.39176001,376.77930149858105,21382319,22218486,310.84275092936804,4990518,5071218,80700,30,0.02]
[289,"Sunderland                   ",185,171,-14,2147362.3185696225,2047154.49,-586.01069338960508,1649338,1688903,231.37426900584796,872838,877968,5130,30,0.01]
[290,"Sutton                       ",1326,1321,-5,13566435.924644973,14062363.449999996,375.41826294854081,10402774,10945369,410.74564723694169,5479815,5519445,39630,30,0.01]
[291,"Swampscott                   ",2134,2155,21,22677171.816726971,23606100.23,431.05726834015269,18340193,18943611,280.00835266821343,4351751,4662489,310738,144.1939675174014,7.0000000000000007E-2]
[292,"Swansea                      ",2097,2115,18,22235382.677427534,24205593.460000005,931.54174116901686,13936344,14549339,289.83215130023643,8449049,9656254,1207205,570.78250591016547,0.14000000000000001]
[293,"Taunton                      ",{"$f":"VLOOKUP(A202,aidcalc,13,0)","v":8057},{"$f":"VLOOKUP(A202,aidcalc,14,0)","v":8113},56,{"$f":"VLOOKUP(A202,aidcalc,4)","v":100148666.35428402},{"$f":"VLOOKUP(A202,aidcalc,8)","v":105402383.99000001},647.56780916011235,{"$f":"SUMIF(dist1755,A202,pynetmin)","v":35674642},{"$f":"VLOOKUP(A202,aidcalc,9)","v":37348967},206.37557007272278,{"$f":"VLOOKUP(A202,aidcalc,7)","v":64474024},{"$f":"VLOOKUP(A202,aidcalc,39)","v":68053417},3579393,441.19228398866017,0.06]
[295,"Tewksbury                    ",3402,3364,-38,35772861.621506803,36441174.380000003,198.66609943317476,29512611,30063969,163.89952437574317,13326215,13427135,100920,30,{"$f":"ROUND(IF(F203>0,(M203-L203)/L203,100),2)","v":0.01}]
[296,"Tisbury                      ",347,371,24,3863980.926163726,4391090.71,1420.7810885074769,3187784,3495258,828.77088948787059,719854,895833,175979,474.33692722371967,0.24]
[298,"Topsfield                    ",591,627,36,5789256.4546096604,6328040.2094700001,859.30423422701699,4709771,5023953,501.08771929824559,1192358,1304087,111729,178.19617224880383,0.09]
[300,"Truro                        ",220,213,-7,2296521.4702778542,2367588.5799999996,333.64840245138669,1894630,1953260,275.25821596244134,402446,414329,11883,55.7887323943662,0.03]
[301,"Tyngsborough                 ",1602,1645,43,16876605.054087967,17827138.829999994,577.83208262129347,12035384,12616796,353.4419452887538,7409074,7458424,49350,30,0.01]
[304,"Uxbridge                     ",1777,1778,1,19102321.172340635,19678223.82,323.90475121449106,11756863,12557728,450.43025871766031,9438614,9491954,53340,30,0.01]
[305,"Wakefield                    ",3484,3480,-4,37851806.805738397,38887885.628600001,297.7237996728748,31170923,32082506,261.9491379310345,6720549,6849798,129249,37.140517241379314,0.02]
[306,"Wales                        ",143,145,2,1548538.4556649411,1624184.98,521.70016782799223,599075,614609,107.13103448275862,994373,1009576,15203,104.84827586206896,0.02]
[307,"Walpole                      ",3659,3587,-72,39185793.937174484,40218048.037480004,287.77644279495956,32328280,33179890,237.41566768887651,8182871,8290481,107610,30,0.01]
[308,"Waltham                      ",5650,5746,96,75037559.479823217,80607559.147039995,969.36993860368568,60191416,63760767,621.18882701009397,14846143,16846792,2000649,348.18116950922382,0.13]
[309,"Ware                         ",1325,1289,-36,15862338.797222899,16016060.289999997,119.25639470682542,5271105,5323313,40.502715283165244,10591234,10692747,101513,78.753297129557794,0.01]
[310,"Wareham                      ",2429,2403,-26,30196685.358659841,30374112.370000001,73.835626858160595,18151699,18778074,260.66375364128174,13381730,13453820,72090,30,0.01]
[314,"Watertown                    ",2648,2678,30,31550834.623976581,33386330.968360007,685.39818684967361,25692240,27380220,630.31366691560868,5858595,6006111,147516,55.08439133681852,0.03]
[315,"Wayland                      ",2663,2653,-10,27841232.66770371,28672242.811399993,313.23412879618621,22568639,23428504,324.11044101017717,5299764,5379354,79590,30,0.02]
[316,"Webster                      ",1966,2023,57,24776507.500713076,26394392.860000003,799.74560518384908,11062493,11551971,241.95650024715769,13714015,14842422,1128407,557.7889273356401,0.08]
[317,"Wellesley                    ",4976,4876,-100,52951270.696678318,53344322.628300011,80.609501973275854,43684798,44009066,66.502871205906487,9273504,9419784,146280,30,0.02]
[318,"Wellfleet                    ",105,115,10,1139476.1400684477,1265599.4900000002,1096.7247820135003,940068,1044119,904.7913043478261,202109,222884,20775,180.65217391304347,0.1]
[321,"Westborough                  ",3751,3783,32,39131440.051199019,40921138.540000007,473.08974062939137,31441549,32692696,330.72878667724029,8064504,8411817,347313,91.808881839809672,0.04]
[322,"West Boylston                ",853,854,1,9510996.4243331663,9780274.5099999979,315.31391764265993,7267000,7615816,408.44964871194378,3034005,3059625,25620,30,0.01]
[323,"West Bridgewater             ",1076,1107,31,11563083.632389149,12266444.039999999,635.37525529435447,7525433,8059382,482.33875338753387,4058306,4207062,148756,134.37759710930442,0.04]
[325,"Westfield                    ",5341,5221,-120,65007737.903743565,65801552.82,152.0426960843584,27712077,27986427,52.547404711741045,37295661,37815126,519465,99.495307412373108,0.01]
[326,"Westford                     ",4854,4715,-139,50292113.17611514,49918075.254549995,-79.329357702045655,37292159,38932072,347.80763520678687,17144235,17285685,141450,30,0.01]
[327,"Westhampton                  ",127,116,-11,1392808.786186093,1322743.5699999998,-604.01048436287215,993885,970005,-205.86206896551724,477140,480620,3480,30,0.01]
[330,"Weston                       ",2119,2057,-62,22508837.582984712,22483634.176800013,-12.252506652746421,18569791,18548998,-10.108410306271269,3949220,4010930,61710,30,0.02]
[331,"Westport                     ",1493,1505,12,16245198.777909063,16930127.66,455.10224723650322,13146344,13812273,442.4777408637874,4559462,4604612,45150,30,0.01]
[332,"West Springfield             ",4167,4138,-29,51872243.869854257,54151516.57,550.81505561762776,20465981,20744319,67.263895601739975,31406263,33407198,2000935,483.55123247945869,0.06]
[335,"Westwood                     ",2978,3001,23,31407909.177556276,32534334.285979997,375.34991950140653,25911525,26840826,309.66377874041984,5496384,5725253,228869,76.264245251582807,0.04]
[336,"Weymouth                     ",5976,5922,-54,71911345.754917458,73806549.565599993,320.02766137834095,54222905,57226975,507.2728807835191,28433225,28610885,177660,30,0.01]
[337,"Whately                      ",87,79,-8,968969.2611512969,916544.04999999993,-663.6102677379364,792219,743257,-619.77215189873414,264770,267140,2370,30,0.01]
[340,"Williamsburg                 ",170,176,6,1900770.6075914244,2029086.28,729.06632050327073,1235134,1303990,391.22727272727275,665637,725096,59459,337.83522727272725,0.09]
[342,"Wilmington                   ",3242,3220,-22,34910848.030844986,35697377.274099998,244.26374014130801,27323352,28889999,486.5363354037267,11469170,11565770,96600,30,0.01]
[343,"Winchendon                   ",1369,1322,-47,15998737.235770881,15937837.76,-46.066169266929954,5085773,5297277,159.98789712556732,11491100,11530760,39660,30,0]
[344,"Winchester                   ",4638,4685,47,48242100.959599502,50486504.970700011,479.06168860202951,38833443,40663736,390.67086446104588,9421254,9822769,401515,85.702241195304168,0.04]
[346,"Winthrop                     ",2012,1986,-26,23351887.112957381,23704402.770799998,177.50033123998867,16010984,16770154,382.26082578046322,7340903,7400483,59580,30,0.01]
[347,"Woburn",4596,4517,-79,53841305.779622279,54984520.072560005,253.09149721888991,44419077,45362230,208.80075271197697,9422229,9663902,241673,53.502988709320348,0.03]
[348,"Worcester                    ",27800,27442,-358,379530589.18986362,398714407.20999992,699.06778005015292,104076553,105210987,41.33933386779389,275454036,293503420,18049384,657.72844544858242,7.0000000000000007E-2]
[349,"Worthington",109,123,{"$f":"D239-C239","v":14},1201024.652987523,1388660.63,{"$f":"(G239-F239)/$D239","v":1525.4957480689177},968704,1018495,{"$f":"(J239-I239)/$D239","v":404.80487804878049},246841,370166,{"$f":"M239-L239","v":123325},{"$f":"(M239-L239)/$D239","v":1002.6422764227642},0.5]
[350,"Wrentham                     ",908,874,-34,9200581.1460926738,9136681.7644999977,-73.111420586585865,7590479,7537762,-60.316933638443935,3793153,3819373,26220,30,0.01]
[406,"Northampton Smith            ",104,113,9,2535730.135235467,2918879.49,3390.7022545533914,2072723,2408076,2967.7256637168143,913025,916415,{"$f":"M241-L241","v":3390},{"$f":"(M241-L241)/$D241","v":30},0]
[600,"Acton Boxborough             ",5429,5294.0000000000009,-134.99999999999909,57507919.285240643,58269617.360970005,143.87950051555771,45085137,46442298,256.35833018511516,15185311,15344131,158820,29.999999999999996,0.01]
[603,"Hoosac Valley",1291,1254,-37,15617632.338179186,15543340.609999999,-59.243802375746874,5891351,5954342,50.232057416267942,10354753,10392373,37620,30,0]
[605,"Amherst Pelham               ",1399,1398.9999999860099,-1.3990074876346625E-8,16548734.048677344,16942723.919830572,281.62249546616721,12082979,12638409,397.01929950361284,9561457,9603426.9999995809,41969.999999580905,30.000000000000433,0]
[610,"Ashburnham Westminster       ",2266,2287,21,23747271.339990951,25077113.790000003,581.47898994711488,12136491,12554122,182.61084390030607,11669561,12522992,853431,373.16615653694799,7.0000000000000007E-2]
[615,"Athol Royalston              ",1733.0000000000002,1771,37.999999999999773,20420115.158179153,21987094.100000009,884.79895077405774,3408285,3615837,117.1948051948052,17423570,18371257,947687,535.11405985319027,0.05]
[616,"Ayer Shirley",1737,1690,{"$f":"D247-C247","v":-47},19201202.775432397,19493377.440000001,{"$f":"(G247-F247)/$D247","v":172.88441690390809},12571064,13063479,{"$f":"(J247-I247)/$D247","v":291.36982248520712},8301431,8352131,50700,30,0.01]
[618,"Berkshire Hills              ",1010,970,-40,12066016.316021007,11985863.279999999,-82.631995897945586,9920455,9888337,-33.111340206185567,2933388,2962488,29100,30,0.01]
[620,"Berlin Boylston              ",954,953,-1,9927446.3516566418,10233878.409999998,321.54465723332265,8048259,8297832,261.88142707240291,2139724,2168314,28590,30,0.01]
[622,"Blackstone Millville         ",1743.9999999999998,1737,-6.9999999999997726,18718435.629910786,19597359.82,506.00126084583457,8774546,9208364,249.75129533678756,10985239,11037349,52110,30,0]
[625,"Bridgewater Raynham          ",5494,5506,12,57734650.603288382,59854240.780000009,384.96007568318674,35678127,36911577,224.01925172539049,22061362,22942664,881302,160.06211405739194,0.04]
[632,"Chesterfield Goshen",114,112,-2,1171005.0238210852,1229801.3199999998,524.96693016888037,742974,797612,487.83928571428572,751930,755290,3360,30,0]
[635,"Central Berkshire            ",1567.9999999999998,1534.0000000153402,-33.999999984659553,17917236.795122694,17979711.780179802,40.726848146338554,10887646,11019245,85.788135592362451,8773249,8819269.0000004601,46020.000000460073,29.999999999999915,0.01]
[640,"Concord Carlisle             ",1321,1323,2,15326809.636647012,15827340.617760003,378.33029562584318,12636179,13057556,318.50113378684807,2700821,2787671,86850,65.646258503401356,0.03]
[645,"Dennis Yarmouth              ",3388,3338,-50,40299027.11670664,41313758.979999997,303.99396743360012,32486327,33124911,191.30736968244457,7812700,8188848,376148,112.68663870581186,0.05]
[650,"Dighton Rehoboth             ",2897,2854,{"$f":"D256-C256","v":-43},31540121.095252328,31827031.48,{"$f":"(G256-F256)/$D256","v":100.52921680016567},19831231,20573340,{"$f":"(J256-I256)/$D256","v":260.02417659425367},12956936,13042556,85620,30,0.01]
[655,"Dover Sherborn               ",1225,1241,16,13018705.445376281,13603658.412500003,471.35613789179911,10740432,11223018,388.86865431103951,2282394,2400245,117851,94.964544721998394,0.05]
[658,"Dudley Charlton              ",3669,3560,-109,39553020.497260436,39722401.110000007,47.578823803250124,17196696,17948085,211.06432584269663,24488263,24595063,106800,30,0]
[660,"Nauset                       ",1185.99999998814,1196,10.000000011860038,13781730.292193582,14065698.67,237.43175401874385,11296893,11460390,136.70317725752508,3526849,3562729,35880,30,0.01]
[662,"Farmington River",214,208,-6,2310316.8825038802,2305827.58,-21.583185114808238,1903782,1885583,-87.495192307692307,494950,501190,6240,30,0.01]
[665,"Freetown Lakeville           ",2800,2830,30,29471189.782152213,30751633.029999994,452.4534444691804,19374781,20431524,373.40742049469964,11102173,11187073,84900,30,0.01]
[670,"Frontier                     ",576.99999999422994,581,4.0000000057700618,6490224.3564851899,6742928.8800000018,434.94754477592409,5195546,5478012,486.17211703958691,2855535,2872965,17430,30,0.01]
[672,"Gateway                      ",859.99999999140005,852.99999999146996,-6.9999999999300826,9819284.5359783657,10175026.599898251,417.04814059020225,5242416,5413186,200.19929660223647,5658699,5684288.9999997439,25589.999999743886,29.999999999999751,0]
[673,"Groton Dunstable             ",2357,2318,-39,23962885.117804695,24273580.519999996,134.03598023956036,19528829,19951258,182.23856773080243,10920053,10989593,69540,30,0.01]
[674,"Gill Montague                ",1072,1074,2,12729673.495022506,13375837.629999999,601.6425837779268,6160944,6247928,80.990689013035379,6568729,7135439,566710,527.66294227188087,0.09]
[675,"Hamilton Wenham              ",{"$f":"VLOOKUP(A266,aidcalc,13,0)","v":1722},{"$f":"VLOOKUP(A266,aidcalc,14,0)","v":1782},60,{"$f":"VLOOKUP(A266,aidcalc,4)","v":17895419.978166122},{"$f":"VLOOKUP(A266,aidcalc,8)","v":19121971.172880005},688.3003337339411,{"$f":"SUMIF(dist1755,A266,pynetmin)","v":14618380},{"$f":"VLOOKUP(A266,aidcalc,9)","v":15156104},301.75308641975306,{"$f":"VLOOKUP(A266,aidcalc,7)","v":3711406},{"$f":"VLOOKUP(A266,aidcalc,39)","v":3965867},254461,142.79517396184062,7.0000000000000007E-2]
[680,"Hampden Wilbraham            ",2966,2920,-46,31472652.18943473,32008032.470000003,183.34941115249075,21135655,22158527,350.29863013698628,11920364,12007964,87600,30,{"$f":"ROUND(IF(F267>0,(M267-L267)/L267,100),2)","v":0.01}]
[683,"Hampshire                    ",663,672,9,7292664.1560150869,7666346.0900000008,556.07430652516939,4957708,5242416,423.67261904761904,3271593,3291753,20160,30,0.01]
[685,"Hawlemont                    ",92.999999999999986,93.000000000000014,0,1194591.6655308905,1224928.79,326.2056394527911,597682,658555,654.54838709677415,636346,639136,2790,29.999999999999996,0]
[690,"King Philip                  ",2121.9999999787801,2058,-63.999999978780124,22968588.71954523,23039431.891749997,34.423310109215947,18207740,18363116,75.498542274052483,7592980,7654720,61740,30,0.01]
[695,"Lincoln Sudbury              ",1583,1568,-15,17865441.864525706,18119111.735439997,161.77925440962474,14738989,14948268,133.46875,3127363,3193039,65676,41.885204081632651,0.02]
[698,"Manchester Essex",1364,1349,-15,14371784.479899097,14665498.602929998,217.72729653884429,11738511,12051364,231.91475166790215,3048668,3089138,40470,30,0.01]
[700,"Marthas Vineyard             ",676.99999999322995,711,34.000000006770051,9542318.3659465611,10630207.949999997,1530.08380316939,7809437,8535388,1021.028129395218,2875680,2897010,{"$f":"M273-L273","v":21330},{"$f":"(M273-L273)/$D273","v":30},0.01]
[705,"Masconomet                   ",1835,1777,-58,19848020.362871911,19908037.67932,33.774516853173175,16294823,16255824,-21.946539110861,5201349,5254659,53310,30,0.01]
[710,"Mendon Upton                 ",2201,2177,-24,22449446.899046388,22969901.479999997,239.06962836637996,15888903,16850183,441.56178226917774,12448756,12514066,65310,30,0.01]
[712,"Monomoy",1846,1795,{"$f":"D276-C276","v":-51},20829711.826521438,21179594.459999997,{"$f":"(G276-F276)/$D276","v":194.92068717468499},17031398,17473165,{"$f":"(J276-I276)/$D276","v":246.10974930362116},3798314,3852164,53850,30,0.01]
[715,"Mount Greylock               ",1083,1044,-39,11569192.327752113,11577821.810000001,8.2657875937616652,8401578,8656843,244.50670498084293,3554057,3585377,31320,30,0.01]
[717,"Mohawk Trail                 ",930.00000000000011,901.00000000900991,-28.999999990990204,10650334.810213417,10516084.06010516,-149.00194240501048,6438287,6530236,102.05216426091067,6056894,6083924.0000002701,27030.000000270084,29.999999999999762,0]
[720,"Narragansett                 ",1290,1304,14,14647552.849426208,15391791.249999998,570.7349697651764,5831335,5911707,61.634969325153371,9951444,9990564,39120,30,0]
[725,"Nashoba                      ",3121,3083.0000000308301,-37.999999969169949,32964566.540986888,33555649.422455564,191.72328299149049,25692699,26212781,168.69348037456996,7273744,7366234.0000009248,92490.000000924803,29.999999999999968,0.01]
[728,"New Salem Wendell            ",108,109,1,1230159.2284731646,1357544.49,1168.6721240994073,644109,652485,76.844036697247702,688101,705059,16958,155.57798165137615,0.02]
[730,"Northboro Southboro          ",1485,1415,-70,16651310.611277679,16257680.750000004,-278.18364754606023,13737332,13412586,-229.50247349823323,3168064,3210514,42450,30,0.01]
[735,"North Middlesex              ",3153,3158,5,33435820.144966502,34458571.910000004,323.86059690737875,18529976,19249659,227.89202026599114,20393183,20487923,94740,30,0]
[740,"Old Rochester                ",1108,1087.9999999891199,-20.000000010880058,11988191.8913587,12193319.349878069,188.53626702336456,8962996,9202202,219.85845588455155,3043394,3076033.9999996736,32639.999999673571,29.999999999999975,0.01]
[745,"Pentucket                    ",2359.9999999764,2338,-21.999999976399977,24330802.105539996,24832793.989999991,214.70995913601143,17437199,18152716,306.03806672369547,13182092,13252232,70140,30,0.01]
[750,"Pioneer                      ",688,664,-24,7528912.3458293099,7674297.2100000009,218.9531086907997,4812665,5049626,356.86897590361446,4170581,4190501,19920,30,0]
[753,"Quabbin                      ",1955.99999998044,1941.0000000000002,-14.999999980439725,21665640.411876366,22373589.159999996,364.73402788440535,10317745,10840933,269.54559505409577,16646098,16704328,58230,29.999999999999996,0]
[755,"Ralph C Mahar                ",606,620,14,7772179.2052953094,8106398.9100000011,539.06403984627684,2691122,2771313,129.34032258064516,5432010,5450610,18600,30,0]
[760,"Silver Lake                  ",1726.9999999827301,1722,-4.9999999827300599,20683221.322407395,21109360.843520004,247.46778229535985,12966860,13375454,237.2787456445993,8215063,8266723,51660,30,0.01]
[763,"Somerset Berkley",1012,1027,{"$f":"D290-C290","v":15},11820562.719098523,12447605.220000003,{"$f":"(G290-F290)/$D290","v":610.55744975801292},6097432,6304771,{"$f":"(J290-I290)/$D290","v":201.88802336903603},5723131,6142834,419703,408.66893865628043,7.0000000000000007E-2]
[765,"Southern Berkshire           ",667.99999999331999,671,3.0000000066800112,7823768.9358960092,7939446.1600000001,172.39526692099992,6244537,6321860,115.2354694485842,1986791,2006921,20130,30,0.01]
[766,"Southwick Tolland Granville",1429.9999999856998,1415,-14.999999985699787,16378978.109002503,16724601.619999999,244.25689823144631,10967956,11319689,248.57455830388693,9846558,9889008,42450,30,0]
[767,"Spencer East Brookfield      ",1554,1555,1,18497944.461317483,18872938.700000003,241.1538512427779,8498469,8853897,228.57106109324758,13695254,13741904,46650,30,0]
[770,"Tantasqua                    ",1590,1574,-16,19884199.797400139,20456169.859999999,363.38631677246514,10661347,10941721,178.12833545108006,9222853,9514449,291596,185.25794155019059,0.03]
[773,"Triton                       ",2307,2290,-17,25527954.966463432,26303671.749279998,338.74095319500719,21060563,21700530,279.46157205240172,8777631,8846331,68700,30,0.01]
[774,"Upisland",428,400.99999999598992,-27.000000004010076,4538258.3027917985,4427836.9699557209,-275.36491979347079,3744064,3652965,-227.17955112446634,879292,891321.99999987974,12029.999999879743,30.000000000000114,0.01]
[775,"Wachusett                    ",6921.0000000692107,7025.9999999297406,104.9999998605299,71271709.733221024,74606471.52925393,474.63162483151905,42635066,44637453,284.99672644748415,28647835,29969019,1321184,188.0421292361531,0.05]
[778,"Quaboag",1211,1175,-36,14192752.457797423,14654089.670000002,392.62741464049259,5363869,5638400,233.64340425531915,9158560,9193810,35250,30,0]
[780,"Whitman Hanson               ",3708,3664,-44,39870087.686414868,40719547.039999999,231.83934322738304,19523939,20445256,251.4511462882096,24776700,24886620,109920,30,0]
[801,"Assabet Valley               ",839.99999999160002,847,7.0000000083999794,15341279.497413153,16325887.776800001,1162.4655010470462,9400672,10068779,788.79220779220782,5955175,6257109,301934,356.47461629279809,0.05]
[805,"Blackstone Valley            ",1247.0000000249397,1241.9999999875804,-5.0000000373593139,20173355.695973717,20901337.999790985,586.13712063168123,11937858,12576061,513.85104670401108,8264744,8325277,60533,48.738325282290909,0.01]
[806,"Blue Hills                   ",863.99999999136003,869.00000000868999,5.0000000173299668,15320678.136437576,16413148.760884134,1257.1583710421555,10064969,10715098,748.134637506903,5255709,5698051,442342,509.02416570261977,0.08]
[810,"Bristol Plymouth             ",1339.9999999866,1342,2.0000000134000402,22657735.468634516,24044853.990000002,1033.6203586926126,10614555,11467788,635.79210134128164,12043180,12577066,533886,397.82861400894188,0.04]
[815,"Cape Cod                     ",575.00000000574994,622.00000000000011,46.999999994250174,10322933.41173223,11626316.350000001,2095.4709618452907,8376084,9414969,1670.2331189710608,2184147,2211347,27200,43.729903536977481,0.01]
[817,"Essex North Shore",1110.0000000333002,1165.0000000116499,54.999999978349706,18580518.657194056,21009943.870210104,2085.3435304650247,13828438,15658587,1570.9433476237757,4752081,5351357,{"$f":"M305-L305","v":599276},{"$f":"(M305-L305)/$D305","v":514.39999999485599},0.13]
[818,"Franklin County              ",463,484.99999999029995,21.999999990299955,8190176.2362149609,9073918.4598185197,1822.148914682956,4215767,4683722,964.85567012238994,3974409,4390196,415787,857.29278352230062,0.1]
[821,"Greater Fall River           ",1464,1498,34,25634449.811339363,28096488.699999996,1643.5506599870707,8117565,8735508,412.51201602136183,17516885,19360981,1844096,1231.0387182910547,0.11]
[823,"Greater Lawrence             ",1577.9999999999998,1594,16.000000000000227,31698687.99088544,34191040.528240003,1563.5837750028622,4601974,4943092,214.00125470514431,27096714,29247949,2151235,1349.5828105395233,0.08]
[825,"Greater New Bedford          ",2140,2128,-12,38180025.886437774,40571729.070000008,1123.9206689672153,11239871,11821602,273.36983082706769,26940155,28750127,1809972,850.55075187969919,7.0000000000000007E-2]
[828,"Greater Lowell               ",2336,2351.99999997648,15.999999976480012,42372428.797708727,45288316.239547119,1239.7480620185161,13540919,14281422,314.83971088750212,28831510,31006894,2175384,924.90816327455525,0.08]
[829,"South Middlesex              ",745.9999999925401,796.99999999999989,51.000000007459789,13895820.049220048,15934191.830530001,2557.5555599873942,8568391,9434475,1086.680050188206,5327429,6499717,1172288,1470.8757841907154,0.22]
[830,"Minuteman                    ",363.99999999636009,453.00000000452997,89.000000008169877,6695949.827739303,9033196.8371303342,5159.485671893287,4831483,7033131,4860.1501103266746,2096043,2109633.000000136,13590.000000135973,30.000000000000163,0.01]
[832,"Montachusett                 ",1473.99999998526,1452.0000000145203,-21.999999970739736,25030257.115778331,25602266.460256021,393.94582952615053,9604460,9946149,235.32300275246766,15425797,15656117,230320,158.62258953009419,0.01]
[851,"Northern Berkshire           ",448.99999999999994,461.00000000000006,12.000000000000114,7897883.8046400165,8365758.7899999991,1014.9132003470337,3067978,3203871,294.77874186550974,4829906,5161888,331982,720.13449023861165,7.0000000000000007E-2]
[852,"Nashoba Valley               ",638.99999999361,653.99999999346005,14.999999999850047,10895286.797909893,11629853.9974337,1123.1914365919758,7517024,8178405,1011.2859327318254,3717284,3736903.999999804,19619.999999803957,30.000000000000238,0.01]
[853,"Northeast Metropolitan       ",1241.9999999875799,1271,29.00000001242006,22663144.184447043,24918157.590349998,1774.2040959110589,12097696,13390249,1016.9575137686861,10565448,11527909,962461,757.24704956726987,0.09]
[855,"Old Colony                   ",465.00000000000006,467,1.9999999999999432,7752983.70072567,8206815.169999999,971.80186140113278,4672558,4959336,614.08565310492509,3282354,3296364,14010,30,0]
[860,"Pathfinder                   ",599.00000000000011,577.99999999422005,-21.000000005780066,10638203.377264135,10816571.179891834,308.59481423786008,4587025,4605407,31.80276816640799,6051178,6211164,159986,276.79238754602051,0.03]
[871,"Shawsheen Valley             ",1305.0000000130501,1275.0000000127498,-30.000000000300361,21756421.654655538,21885407.107218854,101.16506083296142,17141547,17588026,350.17960783963554,6470511,6508761.0000003828,38250.000000382774,30.00000000000022,0.01]
[872,"Southeastern                 ",1531.0000000153102,1516.9999999999998,-14.000000015310434,26705365.084122326,28728045.779999997,1333.3425813300405,9834210,10707438,575.62821357943312,16871155,18020608,1149453,757.7145682267635,7.0000000000000007E-2]
[873,"South Shore                  ",585,544,-41,10278115.468662532,9919137.7028300017,-659.88559895685728,5835267,5624689,-387.09191176470586,4442848,4459168,16320,30,0]
[876,"Southern Worcester           ",1160.9999999767801,1176.99999997646,{"$f":"D322-C322","v":15.999999999679858},19584275.952675201,20895330.689582095,{"$f":"(G322-F322)/$D322","v":1113.8952735200635},8498663,9240066,{"$f":"(J322-I322)/$D322","v":629.90909092168909},11085613,11655265,569652,483.98640612692697,0.05]
[878,"Tri County                   ",980.99999999019008,929.99999999069996,-50.999999999490115,17150334.906830095,17212205.050867882,66.527036600436105,11677869,12112831,467.70107527349421,5716838,5744737.9999997206,27899.999999720603,29.999999999999574,0]
[879,"Upper Cape Cod               ",734,742,8,12375568.23018039,13131766.09,1019.134581967129,9213425,9873379,889.42587601078162,3262258,3284518,22260,30,0.01]
[885,"Whittier                     ",1243.9999999751201,1256.0000000000002,12.000000024880137,21419842.533375792,23040951.390000001,1290.6917648281913,11214984,11688690,377.15445859872602,10204859,11352261,1147402,913.53662420382148,0.11]
[910,"Bristol County               ",377.0000000150801,378,0.99999998491989572,6469200.7539703678,6670090.8600000013,531.4553069567022,3230305,3396091,438.58730158730157,3238896,3274000,35104,92.867724867724874,0.01]
[915,"Norfolk County               ",278.00000000277998,274.00000000274008,-4.0000000000399041,4971875.5058426186,5000790.6137900082,105.52959104781181,3680317,3739503,216.00729926791286,1291559,1299779.0000000822,8220.0000000821892,29.99999999999995,0.01]
[999,"State Total, All Districts",939682.99999991094,938120.99999991187,{"$f":"D328-C328","v":-1561.9999999990687},11359048511.850758,11950816670.548943,630.80152634707099,{"$f":"localcont!O1765","v":6513607368},6792593123,{"$f":"(J328-I328)/$D328","v":297.38781564427853},5175694094,5479225982.3900013,303531888.3900013,323.55302609154876,0.06]
[]
[]
[null,"increasing",null,null,{"$f":"COUNTIF(E10:E327,\">0\")","v":147},null,null,{"$f":"COUNTIF(H10:H327,\">.5\")","v":282},null,null,{"$f":"COUNTIF(K10:K327,\">.5\")","v":298},null,null,{"$f":"COUNTIF(N10:N327,\">.5\")","v":318},{"$f":"COUNTIF(O10:O327,\">.5\")","v":318}]
[null,"decreasing",null,null,{"$f":"COUNTIF(E10:E327,\"<.00\")","v":163},null,null,{"$f":"COUNTIF(H10:H327,\"<-.5\")","v":36},null,null,{"$f":"COUNTIF(K10:K327,\"<-.5\")","v":20},null,null,{"$f":"COUNTIF(N10:N327,\"<-.5\")","v":0},{"$f":"COUNTIF(O10:O327,\"<-.5\")","v":0}]
[null,"same",null,null,{"$f":"322-E331-E332","v":12},null,null,{"$f":"322-H331-H332","v":4},null,null,{"$f":"322-K331-K332","v":4},null,null,{"$f":"322-N331-N332","v":4},{"$f":"322-O331-O332","v":4}]

{"sheet":"Rates","index":11,"n_rows":33,"n_cols":14,"rows_kept":33,"cut":false,"hidden":false,"merged":[]}
[]
[]
["Massachusetts Department of Elementary and Secondary Education"]
["Office of School Finance"]
[]
[{"$f":"\"Foundation Budget Rates Per Pupil, \"& CYr &\" Chapter 70\"","v":"Foundation Budget Rates Per Pupil, FY21 Chapter 70"}]
[]
[null,null,"Administration","Instructional Leadership","Classroom & Specialist Teachers","Other Teaching Services","Professional Development","Instructional Materials, Equipment & Technology","Guidance & Psychological Services","Pupil Services","Operations & Maintenance","Employee Benefits/Fixed Charges","Special Education Tuition","Total, All Categories"]
[]
[1,"Pre-school",199.87,360.97,1655.18,424.5,65.459999999999994,239.56,130.76,47.89,459.63,564.6,0,4148.42]
[2,"Kindergarten half-day",199.87,360.97,1655.18,424.5,65.459999999999994,239.56,130.76,47.89,459.63,564.6,0,4148.42]
[3,"Kindergarten full-day",399.73,721.95,3310.35,849.04,130.97999999999999,479.13,261.54000000000002,95.84,919.24,1129.19,0,8296.99]
[4,"Elementary",399.73,721.95,3310.31,849.04,131,479.13,261.54000000000002,143.72999999999999,919.24,1129.22,0,8344.89]
[5,"Junior/Middle",399.73,721.95,2913.09,611.17999999999995,142.01,479.13,329.9,234.79,996.57,1173.9000000000001,0,8002.25]
[6,"High School",399.73,721.95,4283.93,508.81,137.69999999999999,766.61,401.93,541.41,966.28,1056.9000000000001,0,9785.25]
[7,"Vocational",399.73,721.95,7282.72,508.81,227.65,1341.55,401.93,541.41,1808.44,1720.46,0,14954.649999999998]
[8,"Special Ed-in district",2758.81,0,9103.3700000000008,8499.69,439.14,383.3,0,0,3081.72,3222.04,0,27488.070000000003]
[9,"Special Ed-tuitioned out",2953.05,0,0,45.11,0,0,0,0,0,0,28037.63,31035.79]
[10,"English learners PK-5",93.44,163.52000000000001,1144.58,163.52000000000001,46.71,116.79,70.08,23.36,280.3,256.95,0,2359.2499999999995]
[11,"English learners 6-8",98.13,171.71,1201.97,171.71,49.06,122.65,73.59,24.53,294.36,269.83,0,2477.54]
[12,"English learners high school/voc",83.18,145.57,1018.91,145.57,41.58,103.96,62.38,20.8,249.53,228.73,0,2100.2099999999996]
[13,"Low income 1: 0.00 - 5.99%",51.86,245.72,2398.7399999999998,0,116.38,17.84,97.13,504.73,0,388.01,0,3820.41]
[14,"Low income 2: 6.00 - 11.99%",52.54,248.91,2429.88,0,117.89,18.07,98.39,511.28,0,393.05,0,3870.01]
[15,"Low income 3: 12.00 - 17.99%",53.21,252.11,2461.02,0,119.4,18.309999999999999,99.66,517.84,0,398.09,0,3919.6400000000003]
[16,"Low income 4: 18.00 - 23.99%",53.88,255.29,2492.17,0,120.91,18.53,100.92,524.38,0,403.13,0,3969.2100000000005]
[17,"Low income 5: 24.00 - 29.99%",54.55,258.49,2523.31,0,122.42,18.77,102.18,530.94000000000005,0,408.17,0,4018.83]
[18,"Low income 6: 30.00 - 35.99%",58.42,276.82,2702.31,0,131.1,20.100000000000001,109.42,568.6,0,437.12,0,4303.8900000000003]
[19,"Low income 7: 36.00 - 41.99%",60.05,284.49,2777.15,0,134.72999999999999,20.65,112.45,584.35,0,449.23,0,4423.1000000000004]
[20,"Low income 8: 42.00 - 47.99%",61.66,292.14999999999998,2851.99,0,138.36000000000001,21.21,115.48,600.1,0,461.33,0,4542.28]
[21,"Low income 9: 48.00 - 53.99%",63.28,299.82,2926.85,0,141.99,21.77,118.52,615.85,0,473.44,0,4661.5199999999995]
[22,"Low income 10: 54.00 - 69.99%",64.900000000000006,307.49,3001.69,0,145.62,22.33,121.55,631.6,0,485.55,0,4780.7300000000005]
[23,"Low income 11: 70.00 - 79.99%",65.39,309.8,3024.23,0,146.72,22.49,122.46,636.34,0,489.19,0,4816.619999999999]
[24,"Low income 12: 80.00%+",65.87,312.11,3046.76,0,147.81,22.66,123.37,641.08000000000004,0,492.84,0,4852.5]

{"sheet":"Townwide Contributions","index":12,"n_rows":365,"n_cols":44,"rows_kept":365,"cut":false,"hidden":false,"merged":[[4,38,4,43],[365,21,365,23],[6,27,6,28],[1,2,1,11],[1,13,1,24],[1,26,1,29]]}
[1,null,"From DOR, Dec 2018\n3",4,"From DOR, Dec 2019\n5",6,7,8,{"$f":"H1+1","v":9},{"$f":"I1+1","v":10},11,12,13,"From DOR, Jan 2020\n14",15,16,17,18,19,20,21,22,23,24,25,26,27,28,29,30,29,30,31,32]
[null,"Return to Index","1. Calculation of effort goal (target local share)",null,null,null,null,null,null,null,null,null,null,"2. Calculation of annual increments toward goal (required local contribution)",null,null,null,null,null,null,null,null,null,null,null,null,"Analysis of Gap Closing"]
[null,"More about the data",null,null,null,null,null,null,null,null,null,null,null,null,null,null,null,null,"Increments","Thresholds"]
[null,null,null,"uniform property percentage",null,"uniform income percentage",null,null,null,null,null,null,null,null,"2020-01-08",null,null,null,{"$f":"parameters!C18","v":0.01},{"$f":"parameters!C16","v":2.5},null,"Effort Reduction","OPTION TO ACTIVATE THIS INCREMENT",null,null,null,null,null,null,null,null,null,null,-0.05]
[null,null,null,{"$f":"parameters!C29","v":3.7410493839610281E-3},null,{"$f":"parameters!C30","v":1.4789076764641458E-2},null,null,null,null,null,null,null,null,null,null,null,null,{"$f":"parameters!C19","v":0.02},{"$f":"parameters!C17","v":7.5},null,{"$f":"effortred","v":1},1,null,null,null,null,null,null,null,null,null,null,-0.1,null,null,null,null,"SUMMARY FOR EXPORT (reads from columns to the left)"]
[null,null,null,null,null,null,null,null,null,"maximum ","target local",null,null,"required",null,null,"preliminary",null,"percentage","dollar",null,null,null,null,null,null,null,null,null,null,null,null,null,0.02]
[null,null,null,"local effort","DOR total","local effort","combined",null,null,"local contribution","contribution","target",null,"local",null,"preliminary","contribution","shortfall","increment","increment",null,"excess effort",null,"required",null,null,"Before","After implementation",null,null,null,null,null,0.01,null,null,"MRGF revised from DOR 1/8/2020",null,null,null,"CEY%","target"]
[null,null,"total","from property","income","from income","effort ",{"$f":"CYr","v":"FY21"},"CEY %","foundation pct=","(lesser of max local","local ",null,"contribution","mrgf ","contribution","percentage of","from target","toward","toward","excess","times effort","CEY% > 175%","contribution","percentage ",null,"below effort","below effort","above effort","distance from",null,"% distance","Points","x% of",null,null,null,null,"3 digit town code",null,"found","local share","RLC","distance from"]
["LEA","Town","EQV 2018","wealth",2017,"wealth","yield","foundation","Found",{"$f":"maxloc","v":0.82499999999999996},"or effort yield)","share",null,{"$f":"PYr","v":"FY20"},"FY21",{"$f":"CYr","v":"FY21"},"foundation","local share","target","target","effort","reduction %","increment",{"$f":"CYr","v":"FY21"},"of foundation",null,"shortfall","shortfall","excess","target",null,"from target","from target","the gap",null,null,null,null,{"$f":"CYr","v":"FY21"},"Town",{"$f":"CYr","v":"FY21"},{"$f":"CYr","v":"FY21"},{"$f":"CYr","v":"FY21"},"target"]
[1,"Abington",2103633000,{"$f":"D$5*C10","v":7869794.938730089},597856000,{"$f":"E10*F$5","v":8841738.2782014832},{"$f":"ROUND(D10+F10,0)","v":16711533},{"$f":"(SUMIF(town1755,A10,found1755)/2)","v":26943827.299249485},{"$f":"G10/H10","v":0.62023604940733479},{"$f":"ROUND(H10*maxloc,0)","v":22228658},{"$f":"MIN(G10,J10)","v":16711533},{"$f":"IF(H10>0, ROUND((K10*100/H10), 2), 0)","v":62.02},null,15491948,5.6800000000000003E-2,{"$f":"ROUND(N10*(1+O10),0)","v":16371891},{"$f":"P10*100/H10","v":60.763049058201304},{"$f":"IF(L10>Q10,L10-Q10,0)","v":1.2569509417986993},{"$f":"IF(AND(R10>$T$4,R10<=$T$5),$S$4,IF(R10>$T$5,$S$5,0))","v":0},{"$f":"ROUND(S10*N10,0)","v":0},{"$f":"MAX(P10-K10,0)","v":0},{"$f":"MAX(U10*(V$5),0)","v":0},{"$f":"IF(AND(I10>1.75,$W$5=1),MAX(K10-(P10+T10),0),0)","v":0},{"$f":"MIN(H10*parameters!C$22,ROUND(P10+T10-V10+W10,0))","v":16371891},{"$f":"X10*100/H10","v":60.763049058201304},null,{"$f":"IF(Q10<L10, P10-K10, 0)","v":-339642},{"$f":"-1*MAX(K10-(P10+T10+W10),0)","v":-339642},{"$f":"IF(Q10>L10, X10-K10,0)","v":0},{"$f":"Y10-L10","v":-1.2569509417986993},null,{"$f":"(P10-K10)/K10","v":-2.0323808713419649E-2},{"$f":"Q10-L10","v":-1.2569509417986993},{"$f":"IF(AF10<$AH$5, $AH$6*(N10), IF(AND(AF10<$AH$4, AF10>$AH$5), $AH$7*(N10), 0))","v":0},null,null,5.6800000000000003E-2,null,{"$f":"TEXT(A10,\"000\")","v":"001"},{"$f":"B10","v":"Abington"},{"$f":"I10","v":0.62023604940733479},{"$f":"L10","v":62.02},{"$f":"X10","v":16371891},{"$f":"AD10","v":-1.2569509417986993}]
[2,"Acton",4597929200,17201080.201156422,1569766000,{"$f":"E11*F$5","v":23215389.876524162},40416470,{"$f":"(SUMIF(town1755,A11,found1755)/2)","v":49753146.029044747},{"$f":"G11/H11","v":0.81233998703128829},41046345,{"$f":"MIN(G11,J11)","v":40416470},{"$f":"IF(H11>0, ROUND((K11*100/H11), 2), 0)","v":81.23},null,38190965,3.4099999999999998E-2,{"$f":"ROUND(N11*(1+O11),0)","v":39493277},{"$f":"P11*100/H11","v":79.37845172030876},{"$f":"IF(L11>Q11,L11-Q11,0)","v":1.8515482796912437},{"$f":"IF(AND(R11>$T$4,R11<=$T$5),$S$4,IF(R11>$T$5,$S$5,0))","v":0},{"$f":"ROUND(S11*N11,0)","v":0},{"$f":"MAX(P11-K11,0)","v":0},0,{"$f":"IF(AND(I11>1.75,$W$5=1),MAX(K11-(P11+T11),0),0)","v":0},{"$f":"MIN(H11*parameters!C$22,ROUND(P11+T11-V11+W11,0))","v":39493277},{"$f":"X11*100/H11","v":79.37845172030876},null,{"$f":"IF(Q11<L11, P11-K11, 0)","v":-923193},{"$f":"-1*MAX(K11-(P11+T11+W11),0)","v":-923193},{"$f":"IF(Q11>L11, X11-K11,0)","v":0},{"$f":"Y11-L11","v":-1.8515482796912437},null,-2.2841999808493912E-2,{"$f":"Q11-L11","v":-1.8515482796912437},0,null,null,3.4099999999999998E-2,null,{"$f":"TEXT(A11,\"000\")","v":"002"},{"$f":"B11","v":"Acton"},{"$f":"I11","v":0.81233998703128829},81.23,39493277,{"$f":"AD11","v":-1.8515482796912437}]
[3,"Acushnet",1214098100,4542000.9490732551,337691000,{"$f":"E12*F$5","v":4994138.1217285385},9536139,16576510.345016822,0.57528024907043984,13675621,9536139,57.53,null,8794566,4.8099999999999997E-2,9217585,55.60630559839732,1.9236944016026811,0,0,0,0,0,{"$f":"MIN(H12*parameters!C$22,ROUND(P12+T12-V12+W12,0))","v":9217585},55.60630559839732,null,-318554,-318554,0,-1.9236944016026811,null,-3.3404924152217158E-2,-1.9236944016026811,0,null,null,4.8099999999999997E-2,null,"003","Acushnet",0.57528024907043984,57.53,9217585,-1.9236944016026811]
[4,"Adams",525826800,1967144.0262101986,191880000,2837728.049599403,4804872,13735414.546208942,0.34981630760654209,11331717,4804872,34.979999999999997,null,4595257,3.3300000000000003E-2,4748279,34.569608248995685,0.4103917510043118,0,0,0,0,0,{"$f":"MIN(H13*parameters!C$22,ROUND(P13+T13-V13+W13,0))","v":4748279},34.569608248995685,null,-56593,-56593,0,-0.4103917510043118,null,-1.1778253406126116E-2,-0.4103917510043118,0,null,null,3.3300000000000003E-2,null,"004","Adams",0.34981630760654209,34.979999999999997,4748279,-0.4103917510043118]
[5,"Agawam",3067519900,11475743.432183195,850720000,12581363.385215782,24057107,42702195.18,0.56336932793720607,35229311,24057107,56.34,null,22951211,1.3299999999999999E-2,23256462,54.4619823453301,1.8780176546699039,0,0,0,0,0,{"$f":"MIN(H14*parameters!C$22,ROUND(P14+T14-V14+W14,0))","v":23256462},54.4619823453301,null,-800645,-800645,0,-1.8780176546699039,null,-3.3281017538808799E-2,-1.8780176546699039,0,null,null,1.3299999999999999E-2,null,"005","Agawam",0.56336932793720607,56.34,23256462,-1.8780176546699039]
[6,"Alford",279820300,1046821.5609347901,18140000,268273.85251059604,1315095,251682.7312615944,5.2252095064603958,207638,207638,82.5,null,217041,1.84E-2,221035,87.82287083902483,0,0,0,13397,13397,0,{"$f":"MIN(H15*parameters!C$22,ROUND(P15+T15-V15+W15,0))","v":207638},82.499899361066966,null,0,0,0,-1.006389330342472E-4,null,6.4520945106387076E-2,5.32287083902483,0,null,null,1.84E-2,null,"006","Alford",5.2252095064603958,82.5,207638,-1.006389330342472E-4]
[7,"Amesbury",2273556700,8505487.8919354677,675197000,9985540.2642556187,18491028,24568133.599578101,0.75264276486666204,20268710,18491028,75.260000000000005,null,16674583,3.8699999999999998E-2,17319889,70.497373883938124,4.762626116061881,0.01,166746,0,0,0,{"$f":"MIN(H16*parameters!C$22,ROUND(P16+T16-V16+W16,0))","v":17486635},71.176082339035688,null,-1171139,-1004393,0,-4.0839176609643175,null,-6.3335526829552152E-2,-4.762626116061881,166745.83000000002,null,null,3.8699999999999998E-2,null,"007","Amesbury",0.75264276486666204,75.260000000000005,17486635,-4.0839176609643175]
[8,"Amherst",2516974800,9416127.0249854326,772086000,11418439.122904964,20834566,26795396.229776718,0.77754274731893414,22106202,20834566,77.75,null,19374211,4.5400000000000003E-2,20253800,75.586865095477535,2.1631349045224653,0,0,0,0,0,{"$f":"MIN(H17*parameters!C$22,ROUND(P17+T17-V17+W17,0))","v":20253800},75.586865095477535,null,-580766,-580766,0,-2.1631349045224653,null,-2.7875118684977648E-2,-2.1631349045224653,0,null,null,4.5400000000000003E-2,null,"008","Amherst",0.77754274731893414,77.75,20253800,-2.1631349045224653]
[9,"Andover",8453211200,31623880.552252464,3006243000,44459558.500166029,76083439,65460138.191717066,1.1622865625057166,54004614,54004614,82.5,null,52687464,5.28E-2,55469362,84.737618239581963,0,0,0,1464748,1464748,0,{"$f":"MIN(H18*parameters!C$22,ROUND(P18+T18-V18+W18,0))","v":54004614},82.499999987524347,null,0,0,0,-1.2475652511056978E-8,null,2.7122645483587754E-2,2.2376182395819626,0,null,null,5.28E-2,null,"009","Andover",1.1622865625057166,82.5,54004614,-1.2475652511056978E-8]
[10,"Arlington",10614146500,39708046.225097105,2783875000,41170941.078166239,80878987,69193491.034806237,1.1688814336498159,57084630,57084630,82.5,null,50042766,3.78E-2,51934383,75.056746268049366,7.4432537319506338,0.01,500428,0,0,0,{"$f":"MIN(H19*parameters!C$22,ROUND(P19+T19-V19+W19,0))","v":52434811},75.779976144900459,null,-5150247,-4649819,0,-6.7200238550995408,null,-9.0221255704031014E-2,-7.4432537319506338,500427.66000000003,null,null,3.78E-2,null,"010","Arlington",1.1688814336498159,82.5,52434811,-6.7200238550995408]
[11,"Ashburnham",640811300,2397306.7191002658,227762000,3368389.7020682679,5765696,12576208.268022869,0.45846060093170171,10375372,5765696,45.85,null,5376055,4.2799999999999991E-2,5606150,44.577426522544016,1.2725734774559854,0,0,0,0,0,{"$f":"MIN(H20*parameters!C$22,ROUND(P20+T20-V20+W20,0))","v":5606150},44.577426522544016,null,-159546,-159546,0,-1.2725734774559854,null,-2.7671594201289836E-2,-1.2725734774559854,0,null,null,4.2799999999999991E-2,null,"011","Ashburnham",0.45846060093170171,45.85,5606150,-1.2725734774559854]
[12,"Ashby",319398200,1194884.4393482613,107391000,1588213.7428316108,2783098,4514042.6856892789,0.61654224246110123,3724085,2783098,61.65,null,2513082,3.4099999999999998E-2,2598778,57.57096644741133,4.079033552588669,0.01,25131,0,0,0,{"$f":"MIN(H21*parameters!C$22,ROUND(P21+T21-V21+W21,0))","v":2623909},58.127695786273634,null,-184320,-159189,0,-3.5223042137263647,null,-6.6228354157848557E-2,-4.079033552588669,25130.82,null,null,3.4099999999999998E-2,null,"012","Ashby",0.61654224246110123,61.65,2623909,-3.5223042137263647]
[13,"Ashfield",248466800,929526.56907476799,48226000,713218.01605159894,1642745,1872317.8767017203,0.87738573692083932,1544662,1544662,82.5,null,1542348,4.07E-2,1605122,85.729139264940784,0,0,0,60460,60460,0,{"$f":"MIN(H22*parameters!C$22,ROUND(P22+T22-V22+W22,0))","v":1544662},82.499986739488932,null,0,0,0,-1.3260511067869629E-5,null,3.9141249024058335E-2,3.229139264940784,0,null,null,4.07E-2,null,"013","Ashfield",0.87738573692083932,82.5,1544662,-1.3260511067869629E-5]
[14,"Ashland",2809780000,10511525.738066018,897367000,13271229.449056011,23782755,31582062.373394173,0.75304629313997618,26055201,23782755,75.3,null,22226325,5.0799999999999998E-2,23355422,73.951541618369475,1.3484583816305218,0,0,0,0,0,{"$f":"MIN(H23*parameters!C$22,ROUND(P23+T23-V23+W23,0))","v":23355422},73.951541618369475,null,-427333,-427333,0,-1.3484583816305218,null,-1.7968187453472066E-2,-1.3484583816305218,0,null,null,5.0799999999999998E-2,null,"014","Ashland",0.75304629313997618,75.3,23355422,-1.3484583816305218]
[15,"Athol",730647700,2733389.1279775421,239184000,3537310.5368740023,6270700,22278023.256789062,0.28147470391427348,18379369,6270700,28.15,null,3166947,4.4400000000000002E-2,3307559,14.846734658076299,13.3032653419237,0.02,63339,0,0,0,{"$f":"MIN(H24*parameters!C$22,ROUND(P24+T24-V24+W24,0))","v":3370898},15.131046238461682,null,-2963141,-2899802,0,-13.018953761538317,null,-0.47253751574784314,-13.3032653419237,63338.94,null,null,4.4400000000000002E-2,null,"015","Athol",0.28147470391427348,28.15,3370898,-13.018953761538317]
[16,"Attleboro",4710804300,17623351.524475962,1476322000,21833439.387329005,39456791,81331083.252367184,0.48513790081422026,67098144,39456791,48.51,null,36857248,3.7600000000000001E-2,38243081,47.021482403392085,1.4885175966079132,0,0,0,0,0,{"$f":"MIN(H25*parameters!C$22,ROUND(P25+T25-V25+W25,0))","v":38243081},47.021482403392085,null,-1213710,-1213710,0,-1.4885175966079132,null,-3.0760484297874098E-2,-1.4885175966079132,0,null,null,3.7600000000000001E-2,null,"016","Attleboro",0.48513790081422026,48.51,38243081,-1.4885175966079132]
[17,"Auburn",2175990900,8140489.4159498028,577559000,8541564.3871095553,16682054,29436850.159485716,0.56670648896258968,24285401,16682054,56.67,null,15893997,0.04,16529757,56.153280362686694,0.51671963731330806,0,0,0,0,0,{"$f":"MIN(H26*parameters!C$22,ROUND(P26+T26-V26+W26,0))","v":16529757},56.153280362686694,null,-152297,-152297,0,-0.51671963731330806,null,-9.1293913807016808E-3,-0.51671963731330806,0,null,null,0.04,null,"017","Auburn",0.56670648896258968,56.67,16529757,-0.51671963731330806]
[18,"Avon",855860900,3201817.8927013311,159994000,2366163.5478820456,5567981,8409006.3392133508,0.66214494024520809,6937430,5567981,66.209999999999994,null,5251681,4.2900000000000001E-2,5476978,65.13228530295487,1.0777146970451241,0,0,0,0,0,{"$f":"MIN(H27*parameters!C$22,ROUND(P27+T27-V27+W27,0))","v":5476978},65.13228530295487,null,-91003,-91003,0,-1.0777146970451241,null,-1.6343985369202948E-2,-1.0777146970451241,0,null,null,4.2900000000000001E-2,null,"018","Avon",0.66214494024520809,66.209999999999994,5476978,-1.0777146970451241]
[19,"Ayer",1219304900,4561479.8450056631,281209000,4158821.4879080597,8720301,12070898.429227,0.72242352556672396,9958491,8720301,72.239999999999995,null,8260758,5.800000000000001E-2,8739882,72.404569148211181,0,0,0,19581,19581,0,{"$f":"MIN(H28*parameters!C$22,ROUND(P28+T28-V28+W28,0))","v":8720301},72.242352556672401,null,0,0,0,2.3525566724060809E-3,null,2.2454500137093891E-3,0.16456914821118573,0,null,null,5.800000000000001E-2,null,"019","Ayer",0.72242352556672396,72.239999999999995,8720301,2.3525566724060809E-3]
[20,"Barnstable",14932044600,55861516.252108596,1838787000,27193962.096824773,83055478,69916797.841192707,1.1879187915420579,57681358,57681358,82.5,null,53862128,3.2899999999999999E-2,55634192,79.571996598537211,2.9280034014627887,0.01,538621,0,0,0,{"$f":"MIN(H29*parameters!C$22,ROUND(P29+T29-V29+W29,0))","v":56172813},80.342370838535174,null,-2047166,-1508545,0,-2.1576291614648255,null,-3.5490946659057505E-2,-2.9280034014627887,0,null,null,3.2899999999999999E-2,null,"020","Barnstable",1.1879187915420579,82.5,56172813,-2.1576291614648255]
[21,"Barre",458372300,1714793.4105397996,141187000,2088025.3811694335,3802819,9419693.3797842786,0.40370942520924058,7771247,3802819,40.369999999999997,null,3667194,4.3799999999999999E-2,3827817,40.636322708920929,0,0,0,24998,24998,0,{"$f":"MIN(H30*parameters!C$22,ROUND(P30+T30-V30+W30,0))","v":3802819},40.370942520924061,null,0,0,0,9.4252092406321708E-4,null,6.5735445205254315E-3,0.26632270892093146,0,null,null,4.3799999999999999E-2,null,"021","Barre",0.40370942520924058,40.369999999999997,3802819,9.4252092406321708E-4]
[22,"Becket",523623000,1958899.5015778255,50942000,753385.14854436519,2712285,2385769.4177922956,1.1368596561648654,1968260,1968260,82.5,null,1950831,3.3500000000000002E-2,2016184,84.508753652551363,0,0,0,47924,47924,0,{"$f":"MIN(H31*parameters!C$22,ROUND(P31+T31-V31+W31,0))","v":1968260},82.500009653965492,null,0,0,0,9.6539654919070017E-6,null,2.4348409254874866E-2,2.0087536525513627,0,null,null,3.3500000000000002E-2,null,"022","Becket",1.1368596561648654,82.5,1968260,9.6539654919070017E-6]
[23,"Bedford",3957585000,14805520.926223405,1026747000,15184640.200865323,29990161,31598193.714899622,0.94910997984858292,26068510,26068510,82.5,null,24450598,4.5699999999999991E-2,25567990,80.915985991768338,1.5840140082316623,0,0,0,0,0,{"$f":"MIN(H32*parameters!C$22,ROUND(P32+T32-V32+W32,0))","v":25567990},80.915985991768338,null,-500520,-500520,0,-1.5840140082316623,null,-1.9200176764993474E-2,-1.5840140082316623,0,null,null,4.5699999999999991E-2,null,"023","Bedford",0.94910997984858292,82.5,25567990,-1.5840140082316623]
[24,"Belchertown",1554339300,5814860.0807314152,526637000,7788475.0201004837,13603335,26538398.421349648,0.51259065389026526,21894179,13603335,51.26,null,12964553,4.3400000000000001E-2,13527215,50.972235721344838,0.28776427865516041,0,0,0,0,0,{"$f":"MIN(H33*parameters!C$22,ROUND(P33+T33-V33+W33,0))","v":13527215},50.972235721344838,null,-76120,-76120,0,-0.28776427865516041,null,-5.5956866459585097E-3,-0.28776427865516041,0,null,null,4.3400000000000001E-2,null,"024","Belchertown",0.51259065389026526,51.26,13527215,-0.28776427865516041]
[25,"Bellingham",2504502600,9369467.9088587929,611911000,9049598.7521285191,18419067,26599641.066452406,0.69245547163530019,21944704,18419067,69.25,null,17423701,4.5699999999999991E-2,18219964,68.497029544429097,0.75297045557090314,0,0,0,0,0,{"$f":"MIN(H34*parameters!C$22,ROUND(P34+T34-V34+W34,0))","v":18219964},68.497029544429097,null,-199103,-199103,0,-0.75297045557090314,null,-1.0809613755137544E-2,-0.75297045557090314,0,null,null,4.5699999999999991E-2,null,"025","Bellingham",0.69245547163530019,69.25,18219964,-0.75297045557090314]
[26,"Belmont",7850565400,29369352.853415761,2512075000,37151270.013536692,{"$f":"ROUND(D35+F35,0)","v":66520623},{"$f":"(SUMIF(town1755,A35,found1755)/2)","v":50111563.269849993},1.327450565487001,41342040,41342040,82.5,null,38777588,4.8599999999999997E-2,40662179,81.143305749682554,{"$f":"IF(L35>Q35,L35-Q35,0)","v":1.3566942503174459},{"$f":"IF(AND(R35>$T$4,R35<=$T$5),$S$4,IF(R35>$T$5,$S$5,0))","v":0},{"$f":"ROUND(S35*N35,0)","v":0},0,0,0,{"$f":"MIN(H35*parameters!C$22,ROUND(P35+T35-V35+W35,0))","v":40662179},81.143305749682554,null,-679861,-679861,0,-1.3566942503174459,null,-1.644478598540372E-2,-1.3566942503174459,0,null,null,4.8599999999999997E-2,null,"026","Belmont",1.327450565487001,82.5,40662179,-1.3566942503174459]
[27,"Berkley",880793800,3295093.1028866931,260329000,3850025.5650623459,7145119,13187805.889057105,0.54179740436798751,10879940,7145119,54.18,null,6460312,4.9699999999999994E-2,6781390,51.421669814135036,2.7583301858649634,0.01,64603,0,0,0,{"$f":"MIN(H36*parameters!C$22,ROUND(P36+T36-V36+W36,0))","v":6845993},51.911539020153647,null,-363729,-299126,0,-2.2684609798463526,null,-5.0905940125000014E-2,-2.7583301858649634,64603.12,null,null,4.9699999999999994E-2,null,"027","Berkley",0.54179740436798751,54.18,6845993,-2.2684609798463526]
[28,"Berlin",642333300,2403000.5962626543,161955000,2395164.9274175074,4798166,4061608.8080310063,1.1813461676842441,3350827,3350827,82.5,null,3260181,5.0299999999999991E-2,3424168,84.305706478413271,0,0,0,73341,73341,0,{"$f":"MIN(H37*parameters!C$22,ROUND(P37+T37-V37+W37,0))","v":3350827},82.499993435468738,null,0,0,0,-6.5645312616879892E-6,null,2.188743256515481E-2,1.8057064784132706,0,null,null,5.0299999999999991E-2,null,"028","Berlin",1.1813461676842441,82.5,3350827,-6.5645312616879892E-6]
[29,"Bernardston",216624000,810401.08175117371,63761000,942966.323590304,1753367,3249199.8607630907,0.53963039367735699,2680590,1753367,53.96,null,1654097,3.5200000000000002E-2,1712321,52.699774509957443,1.2602254900425578,0,0,0,0,0,{"$f":"MIN(H38*parameters!C$22,ROUND(P38+T38-V38+W38,0))","v":1712321},52.699774509957443,null,-41046,-41046,0,-1.2602254900425578,null,-2.3409816655611745E-2,-1.2602254900425578,0,null,null,3.5200000000000002E-2,null,"029","Bernardston",0.53963039367735699,53.96,1712321,-1.2602254900425578]
[30,"Beverly",6939374700,25960543.446509745,1843316000,27260941.825491834,53221485,54522674.636538252,0.97613488983780961,44981207,44981207,82.5,null,41780643,3.9100000000000003E-2,43414266,79.626075370312122,2.8739246296878775,0.01,417806,0,0,0,{"$f":"MIN(H39*parameters!C$22,ROUND(P39+T39-V39+W39,0))","v":43832072},80.392373067160634,null,-1566941,-1149135,0,-2.1076269328393664,null,-3.4835459172983065E-2,-2.8739246296878775,0,null,null,3.9100000000000003E-2,null,"030","Beverly",0.97613488983780961,82.5,43832072,-2.1076269328393664]
[31,"Billerica",6791697200,25408074.626109838,1648973000,24386788.27982112,49794863,62235920.333608069,0.80009844368140948,51344634,49794863,80.010000000000005,null,46503507,4.4999999999999998E-2,48596165,78.083789457127295,1.9262105428727097,0,0,0,0,0,{"$f":"MIN(H40*parameters!C$22,ROUND(P40+T40-V40+W40,0))","v":48596165},78.083789457127295,null,-1198698,-1198698,0,-1.9262105428727097,null,-2.4072724128189688E-2,-1.9262105428727097,0,null,null,4.4999999999999998E-2,null,"031","Billerica",0.80009844368140948,80.010000000000005,48596165,-1.9262105428727097]
[32,"Blackstone",972102100,3636681.9623522218,295393000,4368589.7527377345,8005272,16320572.223806219,0.49050191930911613,13464472,8005272,49.05,null,7470588,4.6899999999999997E-2,7820959,47.920862655733693,1.1291373442663044,0,0,0,0,0,{"$f":"MIN(H41*parameters!C$22,ROUND(P41+T41-V41+W41,0))","v":7820959},47.920862655733693,null,-184313,-184313,0,-1.1291373442663044,null,-2.3023952215489991E-2,-1.1291373442663044,0,null,null,4.6899999999999997E-2,null,"032","Blackstone",0.49050191930911613,49.05,7820959,-1.1291373442663044]
[33,"Blandford",174764000,653800.75453856506,38466000,568876.62682869832,1222677,1424310.5731623515,0.85843426499694453,1175056,1175056,82.5,null,1095373,6.2E-2,1163286,81.673619638811857,0.82638036118814284,0,0,0,0,0,{"$f":"MIN(H42*parameters!C$22,ROUND(P42+T42-V42+W42,0))","v":1163286},81.673619638811857,null,-11770,-11770,0,-0.82638036118814284,null,-1.0016543892376193E-2,-0.82638036118814284,0,null,null,6.2E-2,null,"033","Blandford",0.85843426499694453,82.5,1163286,-0.82638036118814284]
[34,"Bolton",1087848200,4069693.8384531131,409226000,6052074.7280871654,10121769,11254153.253779914,0.89938076830439628,9284676,9284676,82.5,null,8945113,4.6500000000000007E-2,9361061,83.17872334692008,0,0,0,76385,76385,0,{"$f":"MIN(H43*parameters!C$22,ROUND(P43+T43-V43+W43,0))","v":9284676},82.49999614037219,null,0,0,0,-3.8596278102431825E-6,null,8.226996827891464E-3,0.67872334692007996,0,null,null,4.6500000000000007E-2,null,"034","Bolton",0.89938076830439628,82.5,9284676,-3.8596278102431825E-6]
[35,"Boston",179793040700,672614644.15121508,35247155000,521272881.03021598,1193887525,978722271.88964999,1.2198430129672269,807445874,807445874,82.5,null,749907338,6.3E-2,797151500,81.448182277584678,1.051817722415322,0,0,0,0,0,{"$f":"MIN(H44*parameters!C$22,ROUND(P44+T44-V44+W44,0))","v":797151500},81.448182277584678,null,-10294374,-10294374,0,-1.051817722415322,null,-1.2749305348484572E-2,-1.051817722415322,0,null,null,6.3E-2,null,"035","Boston",1.2198430129672269,82.5,797151500,-1.051817722415322]
[36,"Bourne",4814391000,18010874.484697517,734962000,10869409.437094415,28880284,26160427.683483899,1.1039683429271019,21582353,21582353,82.5,null,20436036,4.6899999999999997E-2,21394486,81.781866332052275,0.71813366794772548,0,0,0,0,0,{"$f":"MIN(H45*parameters!C$22,ROUND(P45+T45-V45+W45,0))","v":21394486},81.781866332052275,null,-187867,-187867,0,-0.71813366794772548,null,-8.7046579212192478E-3,-0.71813366794772548,0,null,null,4.6899999999999997E-2,null,"036","Bourne",1.1039683429271019,82.5,21394486,-0.71813366794772548]
[37,"Boxborough",1177906300,4406605.6379788136,367508000,5435104.023619853,9841710,9568044.0835554115,1.028602075205207,7893636,7893636,82.5,null,7456353,4.4299999999999999E-2,7786669,81.38203515787454,{"$f":"IF(L46>Q46,L46-Q46,0)","v":1.1179648421254598},0,0,0,0,0,{"$f":"MIN(H46*parameters!C$22,ROUND(P46+T46-V46+W46,0))","v":7786669},81.38203515787454,null,-106967,-106967,0,-1.1179648421254598,null,-1.355104289075402E-2,-1.1179648421254598,0,null,null,4.4299999999999999E-2,null,"037","Boxborough",1.028602075205207,82.5,7786669,-1.1179648421254598]
[38,"Boxford",1868910500,6991686.474703297,881249000,13032859.10976352,20024546,15283118.002664117,1.3102395726126939,12608572,12608572,82.5,null,12223832,3.1899999999999998E-2,12613772,82.534022166165286,0,0,0,5200,5200,0,{"$f":"MIN(H47*parameters!C$22,ROUND(P47+T47-V47+W47,0))","v":12608572},82.499997695510189,null,0,0,0,-2.3044898114221724E-6,null,4.1241783764251811E-4,3.4022166165286194E-2,0,null,null,3.1899999999999998E-2,null,"038","Boxford",1.3102395726126939,82.5,12608572,-2.3044898114221724E-6]
[39,"Boylston",766982300,2869318.6609240123,266618000,3943034.0688351761,6812353,7158186.6414553802,0.951686976216498,5905504,5905504,82.5,null,5464404,4.24E-2,5696095,79.57455268087125,2.9254473191287502,0.01,54644,0,0,0,{"$f":"MIN(H48*parameters!C$22,ROUND(P48+T48-V48+W48,0))","v":5750739},80.33793037325411,null,-209409,-154765,0,-2.1620696267458897,null,-3.545997090172151E-2,-2.9254473191287502,0,null,null,4.24E-2,null,"039","Boylston",0.951686976216498,82.5,5750739,-2.1620696267458897]
[40,"Braintree",7187550000,26888979.499689087,1616164000,23901573.460249998,50790553,68147140.47141248,0.74530717868208252,56221391,50790553,74.53,null,46738391,2.86E-2,48075109,70.546040035483756,3.9839599645162451,0.01,467384,0,0,0,{"$f":"MIN(H49*parameters!C$22,ROUND(P49+T49-V49+W49,0))","v":48542493},71.231885394169154,null,-2715444,-2248060,0,-3.2981146058308468,null,-5.3463564375839732E-2,-3.9839599645162451,467383.91000000003,null,null,2.86E-2,null,"040","Braintree",0.74530717868208252,74.53,48542493,-3.2981146058308468]
[41,"Brewster",4100984500,15341985.537358725,356227000,5268268.4486379325,20610254,12552644.32833951,1.6419053596116961,10355932,10355932,82.5,null,9888704,2.0299999999999999E-2,10089445,80.377048342089466,2.1229516579105336,0,0,0,0,0,{"$f":"MIN(H50*parameters!C$22,ROUND(P50+T50-V50+W50,0))","v":10089445},80.377048342089466,null,-266487,-266487,0,-2.1229516579105336,null,-2.5732787739432821E-2,-2.1229516579105336,0,null,null,2.0299999999999999E-2,null,"041","Brewster",1.6419053596116961,82.5,10089445,-2.1229516579105336]
[42,"Bridgewater",3016111400,11283421.694927834,897950000,13279851.480809797,24563273,38296722.17784062,0.64139361290332264,31594796,24563273,64.14,null,23074032,4.24E-2,24052371,62.805299336864046,1.3347006631359548,0,0,0,0,0,{"$f":"MIN(H51*parameters!C$22,ROUND(P51+T51-V51+W51,0))","v":24052371},62.805299336864046,null,-510902,-510902,0,-1.3347006631359548,null,-2.079942685162519E-2,-1.3347006631359548,0,null,null,4.24E-2,null,"042","Bridgewater",0.64139361290332264,64.14,24052371,-1.3347006631359548]
[43,"Brimfield",439485600,1644137.3331397427,142891000,2113225.9679763825,3757363,6357732.8759875419,0.59099101413825472,5245130,3757363,59.1,null,3427516,2.2200000000000001E-2,3503607,55.10780443816283,3.9921955618371712,0.01,34275,0,0,0,{"$f":"MIN(H52*parameters!C$22,ROUND(P52+T52-V52+W52,0))","v":3537882},55.646911705935167,null,-253756,-219481,0,-3.453088294064834,null,-6.7535662644253425E-2,-3.9921955618371712,34275.160000000003,null,null,2.2200000000000001E-2,null,"043","Brimfield",0.59099101413825472,59.1,3537882,-3.453088294064834]
[44,"Brockton",7675101300,28712932.990203485,2101878000,31084835.091911059,59797768,273606667.84391123,0.21855376724266745,225725501,59797768,21.86,null,49395844,3.2199999999999999E-2,50986390,18.634922314498205,3.2250776855017946,0.01,493958,0,0,0,{"$f":"MIN(H53*parameters!C$22,ROUND(P53+T53-V53+W53,0))","v":51480348},18.815458119379173,null,-8811378,-8317420,0,-3.0445418806208266,null,-0.14735295805689605,-3.2250776855017946,987916.88,null,null,3.2199999999999999E-2,null,"044","Brockton",0.21855376724266745,21.86,51480348,-3.0445418806208266]
[45,"Brookfield",276658600,1034993.4850975205,97125000,1436389.0807658015,2471383,5970308.8451734176,0.41394558708599177,4925505,2471383,41.39,null,2378066,3.6299999999999999E-2,2464390,41.277429089657382,0.1125709103426189,0,0,0,0,0,{"$f":"MIN(H54*parameters!C$22,ROUND(P54+T54-V54+W54,0))","v":2464390},41.277429089657382,null,-6993,-6993,0,-0.1125709103426189,null,-2.8295897479265657E-3,-0.1125709103426189,0,null,null,3.6299999999999999E-2,null,"045","Brookfield",0.41394558708599177,41.39,2464390,-0.1125709103426189]
[46,"Brookline",24547879100,91834827.984604791,5594220000,82733349.018292531,174568177,84686980.940111622,2.0613342813985773,69866759,69866759,82.5,null,68684369,3.7100000000000001E-2,71232559,84.112762326919849,0,0,0,1365800,1365800,0,{"$f":"MIN(H55*parameters!C$22,ROUND(P55+T55-V55+W55,0))","v":69866759},82.499999674575619,null,0,0,0,-3.254243807759849E-7,null,1.9548638287343486E-2,1.6127623269198494,0,null,null,3.7100000000000001E-2,null,"046","Brookline",2.0613342813985773,82.5,69866759,-3.254243807759849E-7]
[47,"Buckland",216985500,811753.47110347566,40307737.5,596114.22409651719,1407868,2433249.813235702,0.57859574974253736,2007431,1407868,57.86,null,1340110,2.9700000000000001E-2,1379911,56.71061772999844,1.1493822700015599,0,0,0,0,0,{"$f":"MIN(H56*parameters!C$22,ROUND(P56+T56-V56+W56,0))","v":1379911},56.71061772999844,null,-27957,-27957,0,-1.1493822700015599,null,-1.9857685521654019E-2,-1.1493822700015599,0,null,null,2.9700000000000001E-2,null,"047","Buckland",0.57859574974253736,57.86,1379911,-1.1493822700015599]
[48,"Burlington",7011898700,26231859.312032133,1266081000,18724169.099254023,44956028,42576779.644329093,1.0558813601109873,35125843,35125843,82.5,null,33976306,5.2900000000000003E-2,35773653,84.021509608852682,0,0,0,647810,647810,0,{"$f":"MIN(H57*parameters!C$22,ROUND(P57+T57-V57+W57,0))","v":35125843},82.499999514825916,null,0,0,0,-4.8517408401949069E-7,null,1.8442546702722551E-2,1.521509608852682,0,null,null,5.2900000000000003E-2,null,"048","Burlington",1.0558813601109873,82.5,35125843,-4.8517408401949069E-7]
[49,"Cambridge",49449365600,184992518.71514365,7188046000,106304564.08177397,291297083,103658808.02008,2.8101527363074843,85518517,85518517,82.5,null,78997547,4.9299999999999997E-2,82892126,79.966312157422038,2.5336878425779616,0.01,789975,0,0,1836416,{"$f":"MIN(H58*parameters!C$22,ROUND(P58+T58-V58+W58,0))","v":85518517},82.500000369900064,null,-2626391,0,0,3.6990006435644318E-7,null,-3.0711372134762348E-2,-2.5336878425779616,0,null,null,4.9299999999999997E-2,null,"049","Cambridge",2.8101527363074843,82.5,85518517,3.6990006435644318E-7]
[50,"Canton",5111198800,19121247.122042347,1468020000,21710660.472028952,40831908,39100667.399068601,1.0442764974638934,32258051,32258051,82.5,null,30888516,4.8399999999999999E-2,32383520,82.820888118066733,0,0,0,125469,125469,0,{"$f":"MIN(H59*parameters!C$22,ROUND(P59+T59-V59+W59,0))","v":32258051},82.500001012178132,null,0,0,0,1.0121781315319822E-6,null,3.8895406297175237E-3,0.32088811806673334,0,null,null,4.8399999999999999E-2,null,"050","Canton",1.0442764974638934,82.5,32258051,1.0121781315319822E-6]
[51,"Carlisle",1544199600,5776926.9622928659,649881000,9611139.9968819544,15388067,9675526.1174721848,1.5904113960492585,7982309,7982309,82.5,null,7739201,3.95E-2,8044899,83.146889402452459,0,0,0,62590,62590,0,{"$f":"MIN(H60*parameters!C$22,ROUND(P60+T60-V60+W60,0))","v":7982309},82.499999515121431,null,0,0,0,-4.8487856929568807E-7,null,7.8410895894909603E-3,0.64688940245245874,0,null,null,3.95E-2,null,"051","Carlisle",1.5904113960492585,82.5,7982309,-4.8487856929568807E-7]
[52,"Carver",1394846000,5218187.7690205043,369318000,5461872.2525638537,10680060,19830993.096479997,0.53855396691634727,16360569,10680060,53.86,null,9851699,0.04,10245767,51.665425680666615,2.194574319333384,0,0,0,0,0,{"$f":"MIN(H61*parameters!C$22,ROUND(P61+T61-V61+W61,0))","v":10245767},51.665425680666615,null,-434293,-434293,0,-2.194574319333384,null,-4.0663910127845725E-2,-2.194574319333384,0,null,null,0.04,null,"052","Carver",0.53855396691634727,53.86,10245767,-2.194574319333384]
[53,"Charlemont",142686500,533797.2429245552,26593000,393285.91840211028,927083,1764863.9399730295,0.52529998432296576,1456013,927083,52.53,null,883461,3.9E-2,917916,52.010581621041418,0.51941837895858356,0,0,0,0,0,{"$f":"MIN(H62*parameters!C$22,ROUND(P62+T62-V62+W62,0))","v":917916},52.010581621041418,null,-9167,-9167,0,-0.51941837895858356,null,-9.888003555237234E-3,-0.51941837895858356,0,null,null,3.9E-2,null,"053","Charlemont",0.52529998432296576,52.53,917916,-0.51941837895858356]
[54,"Charlton",1610444700,6024753.1528383028,505236000,7471973.9882603912,13496727,24627483.118901256,0.54803517415230496,20317674,13496727,54.8,null,12642068,5.3600000000000002E-2,13319683,54.084629499866857,0.7153705001331403,0,0,0,0,0,{"$f":"MIN(H63*parameters!C$22,ROUND(P63+T63-V63+W63,0))","v":13319683},54.084629499866857,null,-177044,-177044,0,-0.7153705001331403,null,-1.3117550647649611E-2,-0.7153705001331403,0,null,null,5.3600000000000002E-2,null,"054","Charlton",0.54803517415230496,54.8,13319683,-0.7153705001331403]
[55,"Chatham",7374670100,27589005.034520812,359411000,5315356.8690565508,32904362,5303271.3810523236,6.2045404875114682,4375199,4375199,82.5,null,4312491,4.2000000000000003E-2,4493616,84.732906863015103,0,0,0,118417,118417,0,{"$f":"MIN(H64*parameters!C$22,ROUND(P64+T64-V64+W64,0))","v":4375199},82.50000208610544,null,0,0,0,2.0861054395027168E-6,null,2.7065511763007807E-2,2.2329068630151028,0,null,null,4.2000000000000003E-2,null,"055","Chatham",6.2045404875114682,82.5,4375199,2.0861054395027168E-6]
[56,"Chelmsford",5849923100,21884851.209474389,1989752000,29426595.070598871,51311446,58263180.174439222,0.88068392158433817,48067124,48067124,82.5,null,44988269,3.7699999999999997E-2,46684327,80.126637200763355,2.3733627992366451,0,0,0,0,0,{"$f":"MIN(H65*parameters!C$22,ROUND(P65+T65-V65+W65,0))","v":46684327},80.126637200763355,null,-1382797,-1382797,0,-2.3733627992366451,null,-2.8768041125156563E-2,-2.3733627992366451,0,null,null,3.7699999999999997E-2,null,"056","Chelmsford",0.88068392158433817,82.5,46684327,-2.3733627992366451]
[57,"Chelsea",3534210300,13221655.265603721,763876000,11297020.802667258,24518676,117456841.77096845,0.20874625632970345,96901894,24518676,20.87,null,19512023,5.6399999999999999E-2,20612501,17.548999861747301,3.3210001382526997,0.01,195120,0,0,0,{"$f":"MIN(H66*parameters!C$22,ROUND(P66+T66-V66+W66,0))","v":20807621},17.715120452985801,null,-3906175,-3711055,0,-3.1548795470142004,null,-0.15931427129262607,-3.3210001382526997,390240.46,null,null,5.6399999999999999E-2,null,"057","Chelsea",0.20874625632970345,20.87,20807621,-3.1548795470142004]
[58,"Cheshire",308072500,1152514.4363403339,96183000,1422457.7704535094,2574972,5307101.2944675861,0.48519367864417667,4378359,2574972,48.52,null,2455886,3.4599999999999999E-2,2540860,47.876606437656129,0.64339356234387424,0,0,0,0,0,{"$f":"MIN(H67*parameters!C$22,ROUND(P67+T67-V67+W67,0))","v":2540860},47.876606437656129,null,-34112,-34112,0,-0.64339356234387424,null,-1.3247522691508879E-2,-0.64339356234387424,0,null,null,3.4599999999999999E-2,null,"058","Cheshire",0.48519367864417667,48.52,2540860,-0.64339356234387424]
[59,"Chester",125043400,467793.53453839244,32139000,475306.1381388118,943100,1789914.7212222703,0.52689661066980331,1476680,943100,52.69,null,892810,3.32E-2,922451,51.536030686986606,1.1539693130133912,0,0,0,0,0,{"$f":"MIN(H68*parameters!C$22,ROUND(P68+T68-V68+W68,0))","v":922451},51.536030686986606,null,-20649,-20649,0,-1.1539693130133912,null,-2.1894814971901176E-2,-1.1539693130133912,0,null,null,3.32E-2,null,"059","Chester",0.52689661066980331,52.69,922451,-1.1539693130133912]
[60,"Chesterfield",157870800,590602.45908543468,26806000,396435.99175297894,987038,1359546.6975982422,0.7260052205221702,1121626,987038,72.599999999999994,null,964639,3.5700000000000003E-2,999077,73.486037792225645,0,0,0,12039,12039,0,{"$f":"MIN(H69*parameters!C$22,ROUND(P69+T69-V69+W69,0))","v":987038},72.600522052217016,null,0,0,0,5.2205221702195104E-4,null,1.2197098794575284E-2,0.88603779222565038,0,null,null,3.5700000000000003E-2,null,"060","Chesterfield",0.7260052205221702,72.599999999999994,987038,5.2205221702195104E-4]
[61,"Chicopee",3998413400,14958261.986891519,1144719000,16929337.164943606,31887599,104550852.06999999,0.30499607003346352,86254453,31887599,30.5,null,30513907,3.95E-2,31719206,30.33854375358225,0.16145624641774958,0,0,0,0,0,{"$f":"MIN(H70*parameters!C$22,ROUND(P70+T70-V70+W70,0))","v":31719206},30.33854375358225,null,-168393,-168393,0,-0.16145624641774958,null,-5.2808303315655721E-3,-0.16145624641774958,0,null,null,3.95E-2,null,"061","Chicopee",0.30499607003346352,30.5,31719206,-0.16145624641774958]
[62,"Chilmark",3358805700,12565457.994829791,64047000,947195.99954499141,13512654,1405958.04483196,9.6109937630571558,1159915,1159915,82.5,null,1101810,4.2700000000000002E-2,1148857,81.713462519239769,0.78653748076023078,0,0,0,0,11058,{"$f":"MIN(H71*parameters!C$22,ROUND(P71+T71-V71+W71,0))","v":1159915},82.499972475254978,null,-11058,0,0,-2.7524745021878516E-5,null,-9.5334571929839695E-3,-0.78653748076023078,0,null,null,4.2700000000000002E-2,null,"062","Chilmark",9.6109937630571558,82.5,1159915,-2.7524745021878516E-5]
[63,"Clarksburg",128418100,480418.45389444573,39862000,589522.17799213773,1069941,2951618.469559893,0.36249298851945988,2435085,1069941,36.25,null,955083,3.4700000000000002E-2,988224,33.480749974685963,2.7692500253140366,0.01,9551,0,0,0,{"$f":"MIN(H72*parameters!C$22,ROUND(P72+T72-V72+W72,0))","v":997775},33.804335156798743,null,-81717,-72166,0,-2.4456648432012571,null,-7.6375239382358462E-2,-2.7692500253140366,9550.83,null,null,3.4700000000000002E-2,null,"063","Clarksburg",0.36249298851945988,36.25,997775,-2.4456648432012571]
[64,"Clinton",1385425600,5182945.5874038376,446983000,6610465.8994897325,11793411,26586847.719999999,0.44358064273743847,21934149,11793411,44.36,null,10670037,6.5799999999999997E-2,11372125,42.773498835837167,1.5865011641628328,0,0,0,0,0,{"$f":"MIN(H73*parameters!C$22,ROUND(P73+T73-V73+W73,0))","v":11372125},42.773498835837167,null,-421286,-421286,0,-1.5865011641628328,null,-3.5722150275268115E-2,-1.5865011641628328,0,null,null,6.5799999999999997E-2,null,"064","Clinton",0.44358064273743847,44.36,11372125,-1.5865011641628328]
[65,"Cohasset",3075090800,11504066.542964226,1087503000,16083165.348777879,27587232,15820606.218385974,1.7437531545371125,{"$f":"ROUND(H74*maxloc,0)","v":13052000},13052000,82.5,null,12979941,5.28E-2,13665282,86.376475157562822,0,0,0,613282,{"$f":"MAX(U74*(V$5),0)","v":613282},0,{"$f":"MIN(H74*parameters!C$22,ROUND(P74+T74-V74+W74,0))","v":13052000},82.49999917722225,null,0,0,0,-8.2277774993144703E-7,null,{"$f":"(P74-K74)/K74","v":4.6987588109102051E-2},3.8764751575628225,{"$f":"IF(AF74<$AH$5, $AH$6*(N74), IF(AND(AF74<$AH$4, AF74>$AH$5), $AH$7*(N74), 0))","v":0},null,null,5.28E-2,null,"065","Cohasset",1.7437531545371125,{"$f":"L74","v":82.5},{"$f":"X74","v":13052000},-8.2277774993144703E-7]
[66,"Colrain",179350200,{"$f":"D$5*C75","v":670957.95522328722},46782000,691862.58920345665,{"$f":"ROUND(D75+F75,0)","v":1362821},{"$f":"(SUMIF(town1755,A75,found1755)/2)","v":2403695.3004988763},{"$f":"G75/H75","v":0.56696911614261281},1983049,{"$f":"MIN(G75,J75)","v":1362821},{"$f":"IF(H75>0, ROUND((K75*100/H75), 2), 0)","v":56.7},null,1245591,3.2199999999999999E-2,{"$f":"ROUND(N75*(1+O75),0)","v":1285699},{"$f":"P75*100/H75","v":53.488435066339683},{"$f":"IF(L75>Q75,L75-Q75,0)","v":3.2115649336603198},{"$f":"IF(AND(R75>$T$4,R75<=$T$5),$S$4,IF(R75>$T$5,$S$5,0))","v":0.01},{"$f":"ROUND(S75*N75,0)","v":12456},{"$f":"MAX(P75-K75,0)","v":0},0,{"$f":"IF(AND(I75>1.75,$W$5=1),MAX(K75-(P75+T75),0),0)","v":0},{"$f":"MIN(H75*parameters!C$22,ROUND(P75+T75-V75+W75,0))","v":1298155},{"$f":"X75*100/H75","v":54.006637186109806},null,{"$f":"IF(Q75<L75, P75-K75, 0)","v":-77122},{"$f":"-1*MAX(K75-(P75+T75+W75),0)","v":-64666},{"$f":"IF(Q75>L75, X75-K75,0)","v":0},{"$f":"Y75-L75","v":-2.6933628138901966},null,-5.6589970362945684E-2,{"$f":"Q75-L75","v":-3.2115649336603198},12455.91,null,null,3.2199999999999999E-2,null,{"$f":"TEXT(A75,\"000\")","v":"066"},{"$f":"B75","v":"Colrain"},{"$f":"I75","v":0.56696911614261281},56.7,1298155,{"$f":"AD75","v":-2.6933628138901966}]
[67,"Concord",6572447900,24587852.167410951,2581841000,{"$f":"E76*F$5","v":38183044.743098669},62770897,34207506.338897742,1.8350035918468135,28221193,28221193,82.5,null,26682639,4.82E-2,27968742,81.762001950421123,0.73799804957887716,0,0,0,0,252451,{"$f":"MIN(H76*parameters!C$22,ROUND(P76+T76-V76+W76,0))","v":28221193},82.500000790497154,null,-252451,0,0,7.904971539574035E-7,null,-8.9454404000567939E-3,-0.73799804957887716,0,null,null,4.82E-2,null,"067","Concord",1.8350035918468135,82.5,28221193,7.904971539574035E-7]
[68,"Conway",270902400,1013459.256633564,66086000,977350.92706809542,1990810,2281921.346841488,0.87242708989754247,1882585,1882585,82.5,null,1918900,3.9800000000000002E-2,1995272,87.438245965915854,0,0,0,112687,112687,0,{"$f":"MIN(H77*parameters!C$22,ROUND(P77+T77-V77+W77,0))","v":1882585},82.499995129357643,null,0,0,0,-4.8706423569910839E-6,null,5.9857589431552893E-2,4.9382459659158542,0,null,null,3.9800000000000002E-2,null,"068","Conway",0.87242708989754247,82.5,1882585,-4.8706423569910839E-6]
[69,"Cummington",130242300,487242.87618066743,27225000,402632.61491736368,889875,786166.05808352458,1.1319173485679244,648587,648587,82.5,null,726441,3.5900000000000001E-2,752520,95.72023521779289,0,0,0,103933,103933,0,{"$f":"MIN(H78*parameters!C$22,ROUND(P78+T78-V78+W78,0))","v":648587},82.500000264714075,null,0,0,0,2.647140746603327E-7,null,0.1602452716443592,13.22023521779289,0,null,null,3.5900000000000001E-2,null,"069","Cummington",1.1319173485679244,82.5,648587,2.647140746603327E-7]
[70,"Dalton",616299000,2305604.9942857977,213940000,3163975.0830273936,5469580,10867793.948500786,0.5032833734167852,8965930,5469580,50.33,null,5271023,3.3399999999999999E-2,5447075,50.121257596638785,0.20874240336121375,0,0,0,0,0,{"$f":"MIN(H79*parameters!C$22,ROUND(P79+T79-V79+W79,0))","v":5447075},50.121257596638785,null,-22505,-22505,0,-0.20874240336121375,null,-4.1145755249946065E-3,-0.20874240336121375,0,null,null,3.3399999999999999E-2,null,"070","Dalton",0.5032833734167852,50.33,5447075,-0.20874240336121375]
[71,"Danvers",5183902300,19393234.505929157,1229185000,18178511.322945811,37571746,41135111.921334222,0.91337410414371267,33936467,33936467,82.5,null,32065025,3.44E-2,33168062,80.63199648861972,1.8680035113802802,0,0,0,0,0,{"$f":"MIN(H80*parameters!C$22,ROUND(P80+T80-V80+W80,0))","v":33168062},80.63199648861972,null,-768405,-768405,0,-1.8680035113802802,null,-2.2642457153833957E-2,-1.8680035113802802,0,null,null,3.44E-2,null,"071","Danvers",0.91337410414371267,82.5,33168062,-1.8680035113802802]
[72,"Dartmouth",5885151300,22016641.645382445,1239186000,18326416.879668988,40343059,45794690.839411721,0.88095493736317687,37780620,37780620,82.5,null,36929057,3.5400000000000001E-2,38236346,83.495150418382394,0,0,0,455726,455726,0,{"$f":"MIN(H81*parameters!C$22,ROUND(P81+T81-V81+W81,0))","v":37780620},82.500000125528373,null,0,0,0,1.2552837347357126E-7,null,1.2062427773816312E-2,0.99515041838239426,0,null,null,3.5400000000000001E-2,null,"072","Dartmouth",0.88095493736317687,82.5,37780620,1.2552837347357126E-7]
[73,"Dedham",5319862700,19901869.076592252,1651934000,24430578.736121222,44332448,33511215.835033052,1.3229137438115359,27646753,27646753,82.5,null,25814973,3.7600000000000001E-2,26785616,79.930301937890221,2.5696980621097794,0.01,258150,0,0,0,{"$f":"MIN(H82*parameters!C$22,ROUND(P82+T82-V82+W82,0))","v":27043766},80.700641042477798,null,-861137,-602987,0,-1.7993589575222018,null,-3.1147853058910751E-2,-2.5696980621097794,0,null,null,3.7600000000000001E-2,null,"073","Dedham",1.3229137438115359,82.5,27043766,-1.7993589575222018]
[74,"Deerfield",711485200,2661701.2691573887,222279000,3287301.1941677388,5949002,6985572.2193562929,0.85161269731288947,5763097,5763097,82.5,null,5347914,4.8399999999999999E-2,5606753,80.261900155641811,2.2380998443581888,0,0,0,0,0,{"$f":"MIN(H83*parameters!C$22,ROUND(P83+T83-V83+W83,0))","v":5606753},80.261900155641811,null,-156344,-156344,0,-2.2380998443581888,null,-2.71284692935066E-2,-2.2380998443581888,0,null,null,4.8399999999999999E-2,null,"074","Deerfield",0.85161269731288947,82.5,5606753,-2.2380998443581888]
[75,"Dennis",7229652400,27046486.657272369,501777000,7420818.5717314966,34467305,14319651.72954084,2.4069932461342898,11813713,11813713,82.5,null,11432715,3.0300000000000004E-2,11779126,82.258467052659938,0.24153294734006181,0,0,0,0,34587,{"$f":"MIN(H84*parameters!C$22,ROUND(P84+T84-V84+W84,0))","v":11813713},82.500002256540967,null,-34587,0,0,2.2565409665276093E-6,null,-2.9276993609037225E-3,-0.24153294734006181,0,null,null,3.0300000000000004E-2,null,"075","Dennis",2.4069932461342898,82.5,11813713,2.2565409665276093E-6]
[76,"Dighton",1019183000,3812813.9342935523,277507000,4104072.325725357,7916886,15366063.857857708,0.515218866277948,12677003,7916886,51.52,null,7184700,6.1200000000000004E-2,7624404,49.618458380290583,1.9015416197094197,0,0,0,0,0,{"$f":"MIN(H85*parameters!C$22,ROUND(P85+T85-V85+W85,0))","v":7624404},49.618458380290583,null,-292482,-292482,0,-1.9015416197094197,null,-3.6944071191627618E-2,-1.9015416197094197,0,null,null,6.1200000000000004E-2,null,"076","Dighton",0.515218866277948,51.52,7624404,-1.9015416197094197]
[77,"Douglas",1022069000,3823610.6028156639,334887000,4952669.550480484,8776280,15232060.776903324,0.57617154556707439,12566450,8776280,57.62,null,8115258,4.3099999999999999E-2,8465026,55.573740966394297,2.0462590336057005,0,0,0,0,0,{"$f":"MIN(H86*parameters!C$22,ROUND(P86+T86-V86+W86,0))","v":8465026},55.573740966394297,null,-311254,-311254,0,-2.0462590336057005,null,-3.5465368014694153E-2,-2.0462590336057005,0,null,null,4.3099999999999999E-2,null,"077","Douglas",0.57617154556707439,57.62,8465026,-2.0462590336057005]
[78,"Dover",2646446400,9900486.6744058803,1623392000,24008468.907104824,33908956,12801478.58879046,2.6488312084271408,10561220,10561220,82.5,null,10103131,4.3999999999999997E-2,10547669,82.394146323347414,0.10585367665258616,0,0,0,0,13551,{"$f":"MIN(H87*parameters!C$22,ROUND(P87+T87-V87+W87,0))","v":10561220},82.500001283038287,null,-13551,0,0,1.2830382871698021E-6,null,-1.2830904005408466E-3,-0.10585367665258616,0,null,null,4.3999999999999997E-2,null,"078","Dover",2.6488312084271408,82.5,10561220,1.2830382871698021E-6]
[79,"Dracut",3647155100,13644187.340065321,1126313000,16657129.418013614,30301317,53166193.724212267,0.56993579711914877,43862110,30301317,56.99,null,27532966,4.0599999999999997E-2,28650804,53.889138930312811,3.1008610696871912,0.01,275330,0,0,0,{"$f":"MIN(H88*parameters!C$22,ROUND(P88+T88-V88+W88,0))","v":28926134},54.407005605945479,null,-1650513,-1375183,0,-2.5829943940545235,null,-5.4470008679820749E-2,-3.1008610696871912,275329.66000000003,null,null,4.0599999999999997E-2,null,"079","Dracut",0.56993579711914877,56.99,28926134,-2.5829943940545235]
[80,"Dudley",1016192300,3801625.5779009401,330837000,4892773.7895836858,8694399,21234672.206002947,0.40944352310473303,17518605,8694399,40.94,null,7113348,4.7400000000000005E-2,7450521,35.086583525851516,5.8534164741484815,0.01,71133,0,0,0,{"$f":"MIN(H89*parameters!C$22,ROUND(P89+T89-V89+W89,0))","v":7521654},35.421568682720995,null,-1243878,-1172745,0,-5.5184313172790027,null,-0.14306658804133557,-5.8534164741484815,142266.96,null,null,4.7400000000000005E-2,null,"080","Dudley",0.40944352310473303,40.94,7521654,-5.5184313172790027]
[81,"Dunstable",551243500,2062229.156087521,201001000,2972619.2187696975,5034848,5931844.9641172355,0.84878280374093951,4893772,4893772,82.5,null,4617537,4.2700000000000002E-2,4814706,81.16709099993335,1.3329090000666497,0,0,0,0,0,{"$f":"MIN(H90*parameters!C$22,ROUND(P90+T90-V90+W90,0))","v":4814706},81.16709099993335,null,-79066,-79066,0,-1.3329090000666497,null,-1.6156453549531935E-2,-1.3329090000666497,0,null,null,4.2700000000000002E-2,null,"081","Dunstable",0.84878280374093951,82.5,4814706,-1.3329090000666497]
[82,"Duxbury",4265308000,15956727.865804045,1535883000,22714291.588507816,38671019,31043749.911899995,1.2456941931868948,25611094,25611094,82.5,null,25091221,4.0500000000000001E-2,26107415,84.098780186321008,0,0,0,496321,496321,0,{"$f":"MIN(H91*parameters!C$22,ROUND(P91+T91-V91+W91,0))","v":25611094},82.500001039444342,null,0,0,0,1.0394443421546384E-6,null,1.9379140930098494E-2,1.598780186321008,0,null,null,4.0500000000000001E-2,null,"082","Duxbury",1.2456941931868948,82.5,25611094,1.0394443421546384E-6]
[83,"East Bridgewater",1751566500,6552696.7757917745,507518000,7505722.6614373038,14058419,25366372.162129432,0.55421480494512454,20927257,14058419,55.42,null,12903991,3.6799999999999999E-2,13378858,52.742496697946756,2.6775033020532462,0.01,129040,0,0,0,{"$f":"MIN(H92*parameters!C$22,ROUND(P92+T92-V92+W92,0))","v":13507898},53.251201684119941,null,-679561,-550521,0,-2.1687983158800606,null,-4.8338365786366161E-2,-2.6775033020532462,0,null,null,3.6799999999999999E-2,null,"083","East Bridgewater",0.55421480494512454,55.42,13507898,-2.1687983158800606]
[84,"East Brookfield",253517600,948421.86130327836,70811000,1047229.3147810262,1995651,3866858.2318832325,0.51609106937134352,3190158,1995651,51.61,null,1754382,3.9800000000000002E-2,1824206,47.175404181072793,4.4345958189272068,0.01,17544,0,0,0,{"$f":"MIN(H93*parameters!C$22,ROUND(P93+T93-V93+W93,0))","v":1841750},47.629105841385687,null,-171445,-153901,0,-3.9808941586143121,null,-8.5909309794147376E-2,-4.4345958189272068,17543.82,null,null,3.9800000000000002E-2,null,"084","East Brookfield",0.51609106937134352,51.61,1841750,-3.9808941586143121]
[85,"Eastham",2976889500,11136690.630095053,175156000,2590395.529787539,13727086,5345795.1796002313,2.5678286464066393,4410281,4410281,82.5,null,4191229,3.15E-2,4323253,80.872028477591257,1.6279715224087425,0,0,0,0,87028,{"$f":"MIN(H94*parameters!C$22,ROUND(P94+T94-V94+W94,0))","v":4410281},82.499999566571674,null,-87028,0,0,-4.3342832611870108E-7,null,-1.9732983000402923E-2,-1.6279715224087425,0,null,null,3.15E-2,null,"085","Eastham",2.5678286464066393,82.5,4410281,-4.3342832611870108E-7]
[86,"Easthampton",1554415700,5815145.8969043503,489491000,7239119.9746011114,13054266,20235912.760000002,0.64510388806400443,16694628,13054266,64.510000000000005,null,12320207,4.3099999999999999E-2,12851208,63.506935182102453,1.0030648178975525,0,0,0,0,0,{"$f":"MIN(H95*parameters!C$22,ROUND(P95+T95-V95+W95,0))","v":12851208},63.506935182102453,null,-203058,-203058,0,-1.0030648178975525,null,-1.5554915151874491E-2,-1.0030648178975525,0,null,null,4.3099999999999999E-2,null,"086","Easthampton",0.64510388806400443,64.510000000000005,12851208,-1.0030648178975525]
[87,"East Longmeadow",1986089000,7430057.029941774,733231000,10843809.545214821,18273867,29273598.25,0.62424396358585676,24150719,18273867,62.42,null,16848895,3.8300000000000001E-2,17494208,59.76104423719076,2.6589557628092422,0.01,168489,0,0,0,{"$f":"MIN(H96*parameters!C$22,ROUND(P96+T96-V96+W96,0))","v":17662697},60.336610652228238,null,-779659,-611170,0,-2.0833893477717638,null,-4.2665244307622467E-2,-2.6589557628092422,0,null,null,3.8300000000000001E-2,null,"087","East Longmeadow",0.62424396358585676,62.42,17662697,-2.0833893477717638]
[88,"Easton",3609247100,13502371.640018128,1223595000,18095840.383831464,31598212,39577427.170431495,0.79838974534471996,32651377,31598212,79.84,null,29808094,4.2299999999999997E-2,31068976,78.501757747435889,1.3382422525641147,0,0,0,0,0,{"$f":"MIN(H97*parameters!C$22,ROUND(P97+T97-V97+W97,0))","v":31068976},78.501757747435889,null,-529236,-529236,0,-1.3382422525641147,null,-1.6748922375734426E-2,-1.3382422525641147,0,null,null,4.2299999999999997E-2,null,"088","Easton",0.79838974534471996,79.84,31068976,-1.3382422525641147]
[89,"Edgartown",8635274400,32304987.974454436,254220000,3759679.0951071512,36064667,8013274.3623058405,4.5006155248654558,6610951,6610951,82.5,null,6134598,4.58E-2,6415563,80.061691512505575,2.4383084874944245,0,0,0,0,195388,{"$f":"MIN(H98*parameters!C$22,ROUND(P98+T98-V98+W98,0))","v":6610951},82.499995645945688,null,-195388,0,0,-4.3540543117615016E-6,null,-2.9555203177273587E-2,-2.4383084874944245,0,null,null,4.58E-2,null,"089","Edgartown",4.5006155248654558,82.5,6610951,-4.3540543117615016E-6]
[90,"Egremont",447001500,1672254.6862046556,36419000,538603.38669147727,2210858,892329.68372262362,2.4776246272305276,736172,736172,82.5,null,811544,2.9600000000000001E-2,835566,93.638709463769402,0,0,0,99394,99394,0,{"$f":"MIN(H99*parameters!C$22,ROUND(P99+T99-V99+W99,0))","v":736172},82.500001224753106,null,0,0,0,1.2247531060438632E-6,null,0.1350146433170509,11.138709463769402,0,null,null,2.9600000000000001E-2,null,"090","Egremont",2.4776246272305276,82.5,736172,1.2247531060438632E-6]
[91,"Erving",895171300,3348880.0404045926,37645000,556734.79480492766,3905615,2888910.895872585,1.3519333550854717,2383351,2383351,82.5,null,2319479,2.23E-2,2371203,82.079478580933753,0.4205214190662474,0,0,0,0,0,{"$f":"MIN(H100*parameters!C$22,ROUND(P100+T100-V100+W100,0))","v":2371203},82.079478580933753,null,-12148,-12148,0,-0.4205214190662474,null,-5.0970251549184321E-3,-0.4205214190662474,0,null,null,2.23E-2,null,"091","Erving",1.3519333550854717,82.5,2371203,-0.4205214190662474]
[92,"Essex",867344300,3244777.859197109,234934000,3474456.9606242762,6719235,5913037.7754956959,1.1363423091672571,4878256,4878256,82.5,null,4666078,3.4799999999999998E-2,4828458,81.657824342162698,0.84217565783730208,0,0,0,0,0,{"$f":"MIN(H101*parameters!C$22,ROUND(P101+T101-V101+W101,0))","v":4828458},81.657824342162698,null,-49798,-49798,0,-0.84217565783730208,null,-1.0208156357517933E-2,-0.84217565783730208,0,null,null,3.4799999999999998E-2,null,"092","Essex",1.1363423091672571,82.5,4828458,-0.84217565783730208]
[93,"Everett",5767100400,21575007.398661397,1013265000,14985253.867924428,36560261,117442393.16045,0.31130378065483821,96889974,36560261,31.13,null,30615794,0.23100000000000001,37688042,32.090662482082202,0,0,0,1127781,1127781,0,{"$f":"MIN(H102*parameters!C$22,ROUND(P102+T102-V102+W102,0))","v":36560261},31.130378065483825,null,0,0,0,3.7806548382590677E-4,null,3.0847181315253741E-2,0.96066248208220273,0,null,null,0.23100000000000001,null,"093","Everett",0.31130378065483821,31.13,36560261,3.7806548382590677E-4]
[94,"Fairhaven",2181956700,8162807.7683646381,473118000,6996978.4207336372,15159786,24574747.373740006,0.61688471378547671,20274167,15159786,61.69,null,14259144,4.82E-2,14946435,60.820299686870463,0.86970031312953466,0,0,0,0,0,{"$f":"MIN(H103*parameters!C$22,ROUND(P103+T103-V103+W103,0))","v":14946435},60.820299686870463,null,-213351,-213351,0,-0.86970031312953466,null,-1.4073483623053782E-2,-0.86970031312953466,0,null,null,4.82E-2,null,"094","Fairhaven",0.61688471378547671,61.69,14946435,-0.86970031312953466]
[95,"Fall River",5571429500,20842992.898757298,1594437000,23580251.189384632,44423244,196813138.11007988,0.22571279756310558,162370839,44423244,22.57,null,34953619,4.2999999999999997E-2,36456625,18.523471222540735,4.0465287774592653,0.01,349536,0,0,0,{"$f":"MIN(H104*parameters!C$22,ROUND(P104+T104-V104+W104,0))","v":36806161},18.701069122435253,null,-7966619,-7617083,0,-3.8689308775647469,null,-0.17933447183641069,-4.0465287774592653,699072.38,null,null,4.2999999999999997E-2,null,"095","Fall River",0.22571279756310558,22.57,36806161,-3.8689308775647469]
[96,"Falmouth",12342275400,46173061.78184735,1375556000,20343203.278063145,66516265,41420949.199984372,1.6058604712039071,34172283,34172283,82.5,null,33905680,3.8699999999999998E-2,35217830,85.024198334917173,0,0,0,1045547,1045547,0,{"$f":"MIN(H105*parameters!C$22,ROUND(P105+T105-V105+W105,0))","v":34172283},82.499999782749768,null,0,0,0,-2.1725023202634475E-7,null,3.0596346167448045E-2,2.5241983349171733,0,null,null,3.8699999999999998E-2,null,"096","Falmouth",1.6058604712039071,82.5,34172283,-2.1725023202634475E-7]
[97,"Fitchburg",2522862600,9438153.5755483173,826755000,12226943.160551148,21665097,86791354.783765852,0.24962275394798206,71602868,21665097,24.96,null,20239310,4.6500000000000007E-2,21180438,24.403856873497912,0.5561431265020893,0,0,0,0,0,{"$f":"MIN(H106*parameters!C$22,ROUND(P106+T106-V106+W106,0))","v":21180438},24.403856873497912,null,-484659,-484659,0,-0.5561431265020893,null,-2.2370497579586188E-2,-0.5561431265020893,0,null,null,4.6500000000000007E-2,null,"097","Fitchburg",0.24962275394798206,24.96,21180438,-0.5561431265020893]
[98,"Florida",123293200,461245.94990658382,14127000,208925.28745408988,670171,1044761.4828261392,0.64145837209383849,861928,670171,64.150000000000006,null,629868,2.58E-2,646119,61.84368495785386,2.3063150421461458,0,0,0,0,0,{"$f":"MIN(H107*parameters!C$22,ROUND(P107+T107-V107+W107,0))","v":646119},61.84368495785386,null,-24052,-24052,0,-2.3063150421461458,null,-3.5889347644108741E-2,-2.3063150421461458,0,null,null,2.58E-2,null,"098","Florida",0.64145837209383849,64.150000000000006,646119,-2.3063150421461458]
[99,"Foxborough",3309738100,12381893.680077344,944494000,13968194.269743269,26350088,31064387.023947626,0.84824104141139633,25628119,25628119,82.5,null,24433581,5.4299999999999994E-2,25760324,82.925582855188139,0,0,0,132205,132205,0,{"$f":"MIN(H108*parameters!C$22,ROUND(P108+T108-V108+W108,0))","v":25628119},82.499999051142424,null,0,0,0,-9.4885757562224171E-7,null,5.1585916235210236E-3,0.42558285518813932,0,null,null,5.4299999999999994E-2,null,"099","Foxborough",0.84824104141139633,82.5,25628119,-9.4885757562224171E-7]
[100,"Framingham",9773587600,36563473.870069146,2567398000,37969446.107386947,74532920,134835779.28877577,0.55276811832246664,111239518,74532920,55.28,null,68773026,3.5299999999999998E-2,71200714,52.80550487086257,2.4744951291374306,0,0,0,0,0,{"$f":"MIN(H109*parameters!C$22,ROUND(P109+T109-V109+W109,0))","v":71200714},52.80550487086257,null,-3332206,-3332206,0,-2.4744951291374306,null,-4.470784185028575E-2,-2.4744951291374306,0,null,null,3.5299999999999998E-2,null,"100","Framingham",0.55276811832246664,55.28,71200714,-2.4744951291374306]
[101,"Franklin",5401593400,20207627.661477957,1667100000,24654869.874333773,44862498,64227876.457466096,0.69848951069882381,52987998,44862498,69.849999999999994,null,42583505,4.9299999999999997E-2,44682872,69.569281228829865,0.28071877117012889,0,0,0,0,0,{"$f":"MIN(H110*parameters!C$22,ROUND(P110+T110-V110+W110,0))","v":44682872},69.569281228829865,null,-179626,-179626,0,-0.28071877117012889,null,-4.0039232768536428E-3,-0.28071877117012889,0,null,null,4.9299999999999997E-2,null,"101","Franklin",0.69848951069882381,69.849999999999994,44682872,-0.28071877117012889]
[102,"Freetown",1416388700,5298780.073584361,362809000,5365610.1519028023,10664390,14782303.594096551,0.72142950739145439,12195400,10664390,72.14,null,9641816,4.7600000000000003E-2,10100766,68.330121457076785,3.8098785429232152,0.01,96418,0,0,0,{"$f":"MIN(H111*parameters!C$22,ROUND(P111+T111-V111+W111,0))","v":10197184},68.98237433083392,null,-563624,-467206,0,-3.1576256691660802,null,-5.2851030391799253E-2,-3.8098785429232152,96418.16,null,null,4.7600000000000003E-2,null,"102","Freetown",0.72142950739145439,72.14,10197184,-3.1576256691660802]
[103,"Gardner",1296897500,4851757.5934355976,441615000,6531078.1354171373,11382836,34717694.169722028,0.32786843343781719,28642098,11382836,32.79,null,10443983,5.16E-2,10982893,31.634857275683917,1.1551427243160823,0,0,0,0,0,{"$f":"MIN(H112*parameters!C$22,ROUND(P112+T112-V112+W112,0))","v":10982893},31.634857275683917,null,-399943,-399943,0,-1.1551427243160823,null,-3.5135619980820244E-2,-1.1551427243160823,0,null,null,5.16E-2,null,"103","Gardner",0.32786843343781719,32.79,10982893,-1.1551427243160823]
[104,"Aquinnah",793211500,2967443.3934258032,7242000,107102.49392953343,3074546,755961.46393578104,4.0670671015330786,623668,623668,82.5,null,614380,3.3799999999999997E-2,635146,84.018303881949691,0,0,0,11478,11478,0,{"$f":"MIN(H113*parameters!C$22,ROUND(P113+T113-V113+W113,0))","v":623668},82.499972518834724,null,0,0,0,-2.7481165275844432E-5,null,1.840402265307824E-2,1.5183038819496915,0,null,null,3.3799999999999997E-2,null,"104","Aquinnah",4.0670671015330786,82.5,623668,-2.7481165275844432E-5]
[105,"Georgetown",1323463100,4951140.8149501523,438031000,6478074.0842926623,11429215,14267572.345175784,0.80106234778367869,11770747,11429215,80.11,null,10742802,3.3599999999999998E-2,11103760,77.825152950806327,2.2848470491936723,0,0,0,0,0,{"$f":"MIN(H114*parameters!C$22,ROUND(P114+T114-V114+W114,0))","v":11103760},77.825152950806327,null,-325455,-325455,0,-2.2848470491936723,null,-2.8475708961639097E-2,-2.2848470491936723,0,null,null,3.3599999999999998E-2,null,"105","Georgetown",0.80106234778367869,80.11,11103760,-2.2848470491936723]
[106,"Gill",160146100,599114.46874876122,39388000,582512.15560569777,1181627,1755626.2675516198,0.67305156105227693,1448392,1181627,67.31,null,1119420,3.32E-2,1156585,65.878770520616712,1.4312294793832905,0,0,0,0,0,{"$f":"MIN(H115*parameters!C$22,ROUND(P115+T115-V115+W115,0))","v":1156585},65.878770520616712,null,-25042,-25042,0,-1.4312294793832905,null,-2.119281296043506E-2,-1.4312294793832905,0,null,null,3.32E-2,null,"106","Gill",0.67305156105227693,67.31,1156585,-1.4312294793832905]
[107,"Gloucester",6746082000,25237425.910250582,1147634000,16972447.323712535,42209873,40898539.260820813,1.0320630947432246,33741295,33741295,82.5,null,32534461,3.4599999999999999E-2,33660153,82.301601984707304,0.19839801529269607,0,0,0,0,0,{"$f":"MIN(H116*parameters!C$22,ROUND(P116+T116-V116+W116,0))","v":33660153},82.301601984707304,null,-81142,-81142,0,-0.19839801529269607,null,-2.4048276748121255E-3,-0.19839801529269607,0,null,null,3.4599999999999999E-2,null,"107","Gloucester",1.0320630947432246,82.5,33660153,-0.19839801529269607]
[108,"Goshen",154513800,578043.75630347745,14172000,209590.79590849875,787635,1296999.0032756911,0.60727494624957679,1070024,787635,60.73,null,739455,3.5200000000000002E-2,765484,59.019629010253617,1.7103709897463801,0,0,0,0,0,{"$f":"MIN(H117*parameters!C$22,ROUND(P117+T117-V117+W117,0))","v":765484},59.019629010253617,null,-22151,-22151,0,-1.7103709897463801,null,-2.8123432808343965E-2,-1.7103709897463801,0,null,null,3.5200000000000002E-2,null,"108","Goshen",0.60727494624957679,60.73,765484,-1.7103709897463801]
[109,"Gosnold",232178900,868592.73081374913,1169000,17288.430737865863,885881,8344.89,106.15849939304174,6885,6885,82.51,null,23292,2.23E-2,23811,285.33629562522697,0,0,0,16926,16926,0,{"$f":"MIN(H118*parameters!C$22,ROUND(P118+T118-V118+W118,0))","v":6885},82.505581259908766,null,0,0,0,-4.418740091239215E-3,null,2.45838779956427,202.82629562522698,0,null,null,2.23E-2,null,"109","Gosnold",106.15849939304174,82.51,6885,-4.418740091239215E-3]
[110,"Grafton",2596289300,9712846.4863496087,939875000,13899883.524167391,23612730,33942567.47334715,0.69566717422132296,28002618,23612730,69.569999999999993,null,22079127,3.95E-2,22951253,67.617904915478476,1.9520950845215168,0,0,0,0,0,{"$f":"MIN(H119*parameters!C$22,ROUND(P119+T119-V119+W119,0))","v":22951253},67.617904915478476,null,-661477,-661477,0,-1.9520950845215168,null,-2.8013575728007733E-2,-1.9520950845215168,0,null,null,3.95E-2,null,"110","Grafton",0.69566717422132296,69.569999999999993,22951253,-1.9520950845215168]
[111,"Granby",650048400,2431863.1663648519,208501000,3083537.2945045084,5515400,8584941.8565151263,0.64245047807916766,7082577,5515400,64.25,null,5251461,3.95E-2,5458894,63.586848824808712,0.66315117519128819,0,0,0,0,0,{"$f":"MIN(H120*parameters!C$22,ROUND(P120+T120-V120+W120,0))","v":5458894},63.586848824808712,null,-56506,-56506,0,-0.66315117519128819,null,-1.0245131812742503E-2,-0.66315117519128819,0,null,null,3.95E-2,null,"111","Granby",0.64245047807916766,64.25,5458894,-0.66315117519128819]
[112,"Granville",203242200,760339.10710488411,51992000,768913.67914723873,1529253,1966898.9788260695,0.77749442979157191,1622692,1529253,77.75,null,1504244,2.8000000000000004E-2,1546363,78.619340222695953,0,0,0,17110,17110,0,{"$f":"MIN(H121*parameters!C$22,ROUND(P121+T121-V121+W121,0))","v":1529253},77.749442979157195,null,0,0,0,-5.5702084280540021E-4,null,1.1188469141469724E-2,0.86934022269595346,0,null,null,2.8000000000000004E-2,null,"112","Granville",0.77749442979157191,77.75,1529253,-5.5702084280540021E-4]
[113,"Great Barrington",1480946600,5540294.3656091793,287079000,4245633.3685165048,9785928,8805940.3689673617,1.1112871073356538,7264901,7264901,82.5,null,7331262,3.9199999999999999E-2,7618647,86.517131399714543,0,0,0,353746,353746,0,{"$f":"MIN(H122*parameters!C$22,ROUND(P122+T122-V122+W122,0))","v":7264901},82.50000222124973,null,0,0,0,2.2212497299278766E-6,null,4.8692473579474795E-2,4.0171313997145432,0,null,null,3.9199999999999999E-2,null,"113","Great Barrington",1.1112871073356538,82.5,7264901,2.2212497299278766E-6]
[114,"Greenfield",1502607800,5621329.9845250361,389233000,5756396.7163316887,11377727,26307231.892677601,0.43249426797985902,21703466,11377727,43.25,null,10872746,3.3500000000000002E-2,11236983,42.714425621981611,0.53557437801838859,0,0,0,0,0,{"$f":"MIN(H123*parameters!C$22,ROUND(P123+T123-V123+W123,0))","v":11236983},42.714425621981611,null,-140744,-140744,0,-0.53557437801838859,null,-1.2370133331552076E-2,-0.53557437801838859,0,null,null,3.3500000000000002E-2,null,"114","Greenfield",0.43249426797985902,43.25,11236983,-0.53557437801838859]
[115,"Groton",1781386100,6664253.3720017383,840501000,12430233.809757911,19094487,19381853.216107681,0.98517343966526072,15990029,15990029,82.5,null,15773558,4.5400000000000003E-2,16489678,85.077922199389675,0,0,0,499649,499649,0,{"$f":"MIN(H124*parameters!C$22,ROUND(P124+T124-V124+W124,0))","v":15990029},82.500000498977897,null,0,0,0,4.9897789722308517E-7,null,3.1247535573575257E-2,2.5779221993896755,0,null,null,4.5400000000000003E-2,null,"115","Groton",0.98517343966526072,82.5,15990029,4.9897789722308517E-7]
[116,"Groveland",976713800,3653934.5597962346,274190000,4055016.9580970411,7708952,10455913.312356837,0.73728155252487915,8626128,7708952,73.73,null,7275927,3.2399999999999998E-2,7511667,71.841328209202771,1.8886717907972326,0,0,0,0,0,{"$f":"MIN(H125*parameters!C$22,ROUND(P125+T125-V125+W125,0))","v":7511667},71.841328209202771,null,-197285,-197285,0,-1.8886717907972326,null,-2.5591675755666919E-2,-1.8886717907972326,0,null,null,3.2399999999999998E-2,null,"116","Groveland",0.73728155252487915,73.73,7511667,-1.8886717907972326]
[117,"Hadley",1040640500,3893087.5014498965,184583000,2729812.1564478143,6622900,5998298.0700000003,1.1041298586217139,4948596,4948596,82.5,null,4968021,8.649999999999998E-2,5397755,89.988108910366293,0,0,0,449159,449159,0,{"$f":"MIN(H126*parameters!C$22,ROUND(P126+T126-V126+W126,0))","v":4948596},82.500001537936242,null,0,0,0,1.5379362423573184E-6,null,9.0764936155628792E-2,7.488108910366293,0,null,null,8.649999999999998E-2,null,"117","Hadley",1.1041298586217139,82.5,4948596,1.5379362423573184E-6]
[118,"Halifax",953128900,3565702.2841804526,267036000,3949215.9029227961,7514918,13200847.772513237,0.56927540787551068,10890699,7514918,56.93,null,7115266,3.4200000000000001E-2,7358608,55.743450169329805,1.1865498306701951,0,0,0,0,0,{"$f":"MIN(H127*parameters!C$22,ROUND(P127+T127-V127+W127,0))","v":7358608},55.743450169329805,null,-156310,-156310,0,-1.1865498306701951,null,-2.0799960824589171E-2,-1.1865498306701951,0,null,null,3.4200000000000001E-2,null,"118","Halifax",0.56927540787551068,56.93,7358608,-1.1865498306701951]
[119,"Hamilton",1613578500,6036476.8533977596,550727000,8144743.8793606963,14181221,12498314.758142278,1.1346506528619276,10311110,10311110,82.5,null,9538289,3.3799999999999997E-2,9860683,78.896100720907683,3.6038992790923174,0.01,95383,0,0,0,{"$f":"MIN(H128*parameters!C$22,ROUND(P128+T128-V128+W128,0))","v":9956066},79.659267610570623,null,-450427,-355044,0,-2.8407323894293768,null,-4.3683657724532081E-2,-3.6038992790923174,0,null,null,3.3799999999999997E-2,null,"119","Hamilton",1.1346506528619276,82.5,9956066,-2.8407323894293768]
[120,"Hampden",638652000,2389228.6711654784,211615000,3129590.4795496021,5518819,6616367.2676201463,0.83411618139890142,5458503,5458503,82.5,null,5370504,3.8199999999999998E-2,5575657,84.270669605762663,0,0,0,117154,117154,0,{"$f":"MIN(H129*parameters!C$22,ROUND(P129+T129-V129+W129,0))","v":5458503},82.500000063681156,null,0,0,0,6.3681156348138757E-8,null,2.1462661099572539E-2,1.770669605762663,0,null,null,3.8199999999999998E-2,null,"120","Hampden",0.83411618139890142,82.5,5458503,6.3681156348138757E-8]
[121,"Hancock",327036000,1223457.8263330788,9289000,137375.73406675449,1360834,889298.06999999983,1.5302338393695156,733671,733671,82.5,null,609145,8.5800000000000001E-2,661410,74.374388330787681,8.1256116692123186,0.02,12183,0,0,0,{"$f":"MIN(H130*parameters!C$22,ROUND(P130+T130-V130+W130,0))","v":673593},75.744345200254415,null,-72261,-60078,0,-6.7556547997455851,null,-9.8492376010500621E-2,-8.1256116692123186,6091.45,null,null,8.5800000000000001E-2,null,"121","Hancock",1.5302338393695156,82.5,673593,-6.7556547997455851]
[122,"Hanover",2802906000,10485809.76460067,803660000,11885389.432671754,22371199,28209438.852758251,0.79303948996534535,23272787,22371199,79.3,null,21064776,4.4600000000000001E-2,22004265,78.003199974495331,1.2968000255046661,0,0,0,0,0,{"$f":"MIN(H131*parameters!C$22,ROUND(P131+T131-V131+W131,0))","v":22004265},78.003199974495331,null,-366934,-366934,0,-1.2968000255046661,null,-1.6402071252417001E-2,-1.2968000255046661,0,null,null,4.4600000000000001E-2,null,"122","Hanover",0.79303948996534535,79.3,22004265,-1.2968000255046661]
[123,"Hanson",1373623000,5138791.4779446991,389976000,5767385.0003678175,10906176,17782327.162134461,0.61331545081588201,14670420,10906176,61.33,null,9662029,4.3200000000000002E-2,10079429,56.682282966107223,4.6477170338927749,0.01,96620,0,0,0,{"$f":"MIN(H132*parameters!C$22,ROUND(P132+T132-V132+W132,0))","v":10176049},57.225631421678003,null,-826747,-730127,0,-4.1043685783219956,null,-7.580539686870999E-2,-4.6477170338927749,96620.290000000008,null,null,4.3200000000000002E-2,null,"123","Hanson",0.61331545081588201,61.33,10176049,-4.1043685783219956]
[124,"Hardwick",247900500,927408.01280863083,61060000,903021.02724900737,1830429,4253866.3518374376,0.43029772179122522,3509440,1830429,43.03,null,1638298,2.9100000000000001E-2,1685972,39.6338732943914,3.3961267056086015,0.01,16383,0,0,0,{"$f":"MIN(H133*parameters!C$22,ROUND(P133+T133-V133+W133,0))","v":1702355},40.019005281270196,null,-144457,-128074,0,-3.0109947187298047,null,-7.8919750506575237E-2,-3.3961267056086015,16382.98,null,null,2.9100000000000001E-2,null,"124","Hardwick",0.43029772179122522,43.03,1702355,-3.0109947187298047]
[125,"Harvard",1289986700,4825903.9493529191,454081000,6715438.7663651574,11541343,9637235.4697554689,1.19757818891322,7950719,7950719,82.5,null,7863700,2.4299999999999999E-2,8054788,83.579860897643698,0,0,0,104069,104069,0,{"$f":"MIN(H134*parameters!C$22,ROUND(P134+T134-V134+W134,0))","v":7950719},82.49999727568904,null,0,0,0,-2.7243109599339732E-6,null,1.3089256455925558E-2,1.0798608976436981,0,null,null,2.4299999999999999E-2,null,"125","Harvard",1.19757818891322,82.5,7950719,-2.7243109599339732E-6]
[126,"Harwich",5697974900,21316405.4894704,485064000,7173648.7317640437,28490054,17147367.310108971,1.6614826920517485,14146578,14146578,82.5,null,13818048,3.5499999999999997E-2,14308589,83.444815412361223,0,0,0,162011,162011,0,{"$f":"MIN(H135*parameters!C$22,ROUND(P135+T135-V135+W135,0))","v":14146578},82.499999820147892,null,0,0,0,-1.7985210831739096E-7,null,1.145231023361268E-2,0.94481541236122268,0,null,null,3.5499999999999997E-2,null,"126","Harwich",1.6614826920517485,82.5,14146578,-1.7985210831739096E-7]
[127,"Hatfield",563178100,2106877.0840653423,118221000,1748379.4441926777,3855257,3979328.2800000012,0.96882104936564795,3282946,3282946,82.5,null,3053395,3.7400000000000003E-2,3167592,79.601173291488251,2.8988267085117485,0.01,30534,0,0,0,{"$f":"MIN(H136*parameters!C$22,ROUND(P136+T136-V136+W136,0))","v":3198126},80.368488723931037,null,-115354,-84820,0,-2.131511276068963,null,-3.5137343105856748E-2,-2.8988267085117485,0,null,null,3.7400000000000003E-2,null,"127","Hatfield",0.96882104936564795,82.5,3198126,-2.131511276068963]
[128,"Haverhill",6609657600,24727055.492673326,1890795000,27963112.401200246,52690168,125135460.44832811,0.42106504272429818,103236755,52690168,42.11,null,48178986,4.2000000000000003E-2,50202503,40.118526611191882,1.9914733888081173,0,0,0,0,0,{"$f":"MIN(H137*parameters!C$22,ROUND(P137+T137-V137+W137,0))","v":50202503},40.118526611191882,null,-2487665,-2487665,0,-1.9914733888081173,null,-4.7213077779520461E-2,-1.9914733888081173,0,null,null,4.2000000000000003E-2,null,"128","Haverhill",0.42106504272429818,42.11,50202503,-1.9914733888081173]
[129,"Hawley",49044100,183476.40009192305,6405000,94724.036677528537,278200,450314.67368897668,0.61779021705197013,{"$f":"ROUND(H138*maxloc,0)","v":371510},278200,61.78,null,256678,3.9399999999999998E-2,266791,59.24546002786203,2.5345399721379707,0.01,2567,0,{"$f":"MAX(U138*(V$5),0)","v":0},0,{"$f":"MIN(H138*parameters!C$22,ROUND(P138+T138-V138+W138,0))","v":269358},59.815505853588988,null,-11409,-8842,0,-1.9644941464110133,null,{"$f":"(P138-K138)/K138","v":-4.1010064701653484E-2},-2.5345399721379707,{"$f":"IF(AF138<$AH$5, $AH$6*(N138), IF(AND(AF138<$AH$4, AF138>$AH$5), $AH$7*(N138), 0))","v":0},null,null,3.9399999999999998E-2,null,"129","Hawley",0.61779021705197013,{"$f":"L138","v":61.78},{"$f":"X138","v":269358},-1.9644941464110133]
[130,"Heath",93228900,{"$f":"D$5*C139","v":348773.91891236429},9709000,143587.14630790392,{"$f":"ROUND(D139+F139,0)","v":492361},{"$f":"(SUMIF(town1755,A139,found1755)/2)","v":1124534.1845018542},{"$f":"G139/H139","v":0.43783551161506568},927741,{"$f":"MIN(G139,J139)","v":492361},{"$f":"IF(H139>0, ROUND((K139*100/H139), 2), 0)","v":43.78},null,457043,2.8500000000000001E-2,{"$f":"ROUND(N139*(1+O139),0)","v":470069},{"$f":"P139*100/H139","v":41.80121924957141},{"$f":"IF(L139>Q139,L139-Q139,0)","v":1.9787807504285908},{"$f":"IF(AND(R139>$T$4,R139<=$T$5),$S$4,IF(R139>$T$5,$S$5,0))","v":0},{"$f":"ROUND(S139*N139,0)","v":0},{"$f":"MAX(P139-K139,0)","v":0},0,{"$f":"IF(AND(I139>1.75,$W$5=1),MAX(K139-(P139+T139),0),0)","v":0},{"$f":"MIN(H139*parameters!C$22,ROUND(P139+T139-V139+W139,0))","v":470069},{"$f":"X139*100/H139","v":41.80121924957141},null,{"$f":"IF(Q139<L139, P139-K139, 0)","v":-22292},{"$f":"-1*MAX(K139-(P139+T139+W139),0)","v":-22292},{"$f":"IF(Q139>L139, X139-K139,0)","v":0},{"$f":"Y139-L139","v":-1.9787807504285908},null,-4.5275722488174325E-2,{"$f":"Q139-L139","v":-1.9787807504285908},0,null,null,2.8500000000000001E-2,null,{"$f":"TEXT(A139,\"000\")","v":"130"},{"$f":"B139","v":"Heath"},{"$f":"I139","v":0.43783551161506568},43.78,470069,{"$f":"AD139","v":-1.9787807504285908}]
[131,"Hingham",7407974100,27713596.94320425,2818011000,{"$f":"E140*F$5","v":41675781.002604038},69389378,45919654.091400005,1.5111041094056388,37883715,37883715,82.5,null,36268483,4.8099999999999997E-2,38012997,82.781540393003979,0,0,0,129282,129282,0,{"$f":"MIN(H140*parameters!C$22,ROUND(P140+T140-V140+W140,0))","v":37883715},82.500000815761794,null,0,0,0,8.1576179411513294E-7,null,3.4126009025250031E-3,0.28154039300397926,0,null,null,4.8099999999999997E-2,null,"131","Hingham",1.5111041094056388,82.5,37883715,8.1576179411513294E-7]
[132,"Hinsdale",316994600,1185892.4530489724,64892000,959692.76941111346,2145585,2220558.976666546,0.96623643980891005,1831961,1831961,82.5,null,1833526,3.8600000000000002E-2,1904300,85.757686240727239,0,0,0,72339,72339,0,{"$f":"MIN(H141*parameters!C$22,ROUND(P141+T141-V141+W141,0))","v":1831961},82.499992986004784,null,0,0,0,-7.0139952157433072E-6,null,3.9487194323459943E-2,3.2576862407272387,0,null,null,3.8600000000000002E-2,null,"132","Hinsdale",0.96623643980891005,82.5,1831961,-7.0139952157433072E-6]
[133,"Holbrook",1276774300,4776475.7084722733,343870000,5085519.8270572582,9861996,19319517.13855575,0.51046803754316006,15938602,9861996,51.05,null,9091033,2.86E-2,9351037,48.402022332836864,2.6479776671631328,0.01,90910,0,0,0,{"$f":"MIN(H142*parameters!C$22,ROUND(P142+T142-V142+W142,0))","v":9441947},48.872582747716862,null,-510959,-420049,0,-2.177417252283135,null,-5.1810911300308779E-2,-2.6479776671631328,90910.33,null,null,2.86E-2,null,"133","Holbrook",0.51046803754316006,51.05,9441947,-2.177417252283135]
[134,"Holden",2377246900,8893398.0507682636,853758000,12626292.600426761,21519691,36675548.207645155,0.58675853672758838,30257327,21519691,58.68,null,20017010,4.3900000000000008E-2,20895757,56.974627568468634,1.7053724315313659,0,0,0,0,0,{"$f":"MIN(H143*parameters!C$22,ROUND(P143+T143-V143+W143,0))","v":20895757},56.974627568468634,null,-623934,-623934,0,-1.7053724315313659,null,-2.899363192529112E-2,-1.7053724315313659,0,null,null,4.3900000000000008E-2,null,"134","Holden",0.58675853672758838,58.68,20895757,-1.7053724315313659]
[135,"Holland",332392700,1243497.5055681427,82078000,1213857.8426882415,2457355,4098499.5591619909,0.59957429896672931,3381262,2457355,59.96,null,2310785,0.04,2403216,58.636483066778204,1.3235169332217964,0,0,0,0,0,{"$f":"MIN(H144*parameters!C$22,ROUND(P144+T144-V144+W144,0))","v":2403216},58.636483066778204,null,-54139,-54139,0,-1.3235169332217964,null,-2.2031411822874596E-2,-1.3235169332217964,0,null,null,0.04,null,"135","Holland",0.59957429896672931,59.96,2403216,-1.3235169332217964]
[136,"Holliston",2669635100,9987236.7462557368,903441000,13361058.301324444,23348295,30141402.766155973,0.77462536104047686,24866657,23348295,77.459999999999994,null,21103683,4.5199999999999997E-2,22057569,73.180300104569653,4.2796998954303405,0.01,211037,0,0,0,{"$f":"MIN(H145*parameters!C$22,ROUND(P145+T145-V145+W145,0))","v":22268606},73.880456635562169,null,-1290726,-1079689,0,-3.5795433644378249,null,-5.528138135996654E-2,-4.2796998954303405,211036.83000000002,null,null,4.5199999999999997E-2,null,"136","Holliston",0.77462536104047686,77.459999999999994,22268606,-3.5795433644378249]
[137,"Holyoke",2142470000,8015086.0736549841,691639000,10228702.264419854,18243788,92731775.269999996,0.19673718039885424,76503715,18243788,19.670000000000002,null,11074770,2E-3,11096920,11.966685602308324,7.7033143976916776,0.02,221495,0,0,0,{"$f":"MIN(H146*parameters!C$22,ROUND(P146+T146-V146+W146,0))","v":11318415},12.205541161101509,null,-7146868,-6925373,0,-7.4644588388984925,null,-0.39174254820325694,-7.7033143976916776,221495.4,null,null,2E-3,null,"137","Holyoke",0.19673718039885424,19.670000000000002,11318415,-7.4644588388984925]
[138,"Hopedale",776426200,2904648.7572012022,252104000,3728385.40867317,6633034,10951262.403389422,0.60568670128359559,9034791,6633034,60.57,null,6229293,2.8799999999999999E-2,6408697,58.520166570170986,2.0498334298290146,0,0,0,0,0,{"$f":"MIN(H147*parameters!C$22,ROUND(P147+T147-V147+W147,0))","v":6408697},58.520166570170986,null,-224337,-224337,0,-2.0498334298290146,null,-3.3821174442947223E-2,-2.0498334298290146,0,null,null,2.8799999999999999E-2,null,"138","Hopedale",0.60568670128359559,60.57,6408697,-2.0498334298290146]
[139,"Hopkinton",3865959600,14462745.779998222,1448205000,21417614.915937584,35880361,42589139.526498042,0.84247677691811584,35136040,35136040,82.5,null,32728089,6.5199999999999994E-2,34861960,81.856455395887124,0.64354460411287562,0,0,0,0,0,{"$f":"MIN(H148*parameters!C$22,ROUND(P148+T148-V148+W148,0))","v":34861960},81.856455395887124,null,-274080,-274080,0,-0.64354460411287562,null,-7.8005375676940261E-3,-0.64354460411287562,0,null,null,6.5199999999999994E-2,null,"139","Hopkinton",0.84247677691811584,82.5,34861960,-0.64354460411287562]
[140,"Hubbardston",467728400,1749795.0426810773,153729000,2273509.9819515669,4023305,6664333.0210848339,0.6037070757525077,5498075,4023305,60.37,null,3820690,3.5700000000000003E-2,3957089,59.377119772983029,0.99288022701696832,0,0,0,0,0,{"$f":"MIN(H149*parameters!C$22,ROUND(P149+T149-V149+W149,0))","v":3957089},59.377119772983029,null,-66216,-66216,0,-0.99288022701696832,null,-1.6458110931187171E-2,-0.99288022701696832,0,null,null,3.5700000000000003E-2,null,"140","Hubbardston",0.6037070757525077,60.37,3957089,-0.99288022701696832]
[141,"Hudson",2755165600,10307210.570590617,781228000,11553640.862687318,21860851,34920733.552292123,0.62601351049125087,28809605,21860851,62.6,null,20331239,4.2000000000000003E-2,21185151,60.66639742339963,1.9336025766003715,0,0,0,0,0,{"$f":"MIN(H150*parameters!C$22,ROUND(P150+T150-V150+W150,0))","v":21185151},60.66639742339963,null,-675700,-675700,0,-1.9336025766003715,null,-3.0909135239062743E-2,-1.9336025766003715,0,null,null,4.2000000000000003E-2,null,"141","Hudson",0.62601351049125087,62.6,21185151,-1.9336025766003715]
[142,"Hull",2266165500,8477837.047728736,450682000,6665170.6944421418,15143008,10835997.687280001,1.3974724281988218,8939698,8939698,82.5,null,8741934,3.27E-2,9027795,83.313002277560585,0,0,0,88097,88097,0,{"$f":"MIN(H151*parameters!C$22,ROUND(P151+T151-V151+W151,0))","v":8939698},82.499999150922662,null,0,0,0,-8.4907733821637521E-7,null,9.8545834546088697E-3,0.81300227756058518,0,null,null,3.27E-2,null,"142","Hull",1.3974724281988218,82.5,8939698,-8.4907733821637521E-7]
[143,"Huntington",192215800,719088.80017757614,73377000,1085178.0857590963,1804267,3765060.7312166123,0.47921325280109978,3106175,1804267,47.92,null,1645790,2.0899999999999998E-2,1680187,44.625760909229143,3.2942390907708585,0.01,16458,0,0,0,{"$f":"MIN(H152*parameters!C$22,ROUND(P152+T152-V152+W152,0))","v":1696645},45.062885332310678,null,-124080,-107622,0,-2.8571146676893235,null,-6.8770309494104814E-2,-3.2942390907708585,16457.900000000001,null,null,2.0899999999999998E-2,null,"143","Huntington",0.47921325280109978,47.92,1696645,-2.8571146676893235]
[144,"Ipswich",2987460300,11176236.514923029,732581000,10834196.645317804,22010433,19065867.058157034,1.1544417535725542,15729340,15729340,82.5,null,15501699,3.0899999999999997E-2,15980701,83.818380518723416,0,0,0,251361,251361,0,{"$f":"MIN(H153*parameters!C$22,ROUND(P153+T153-V153+W153,0))","v":15729340},82.499998305980256,null,0,0,0,-1.6940197440362681E-6,null,1.5980390785627369E-2,1.3183805187234157,0,null,null,3.0899999999999997E-2,null,"144","Ipswich",1.1544417535725542,82.5,15729340,-1.6940197440362681E-6]
[145,"Kingston",2120211600,7931816.300047026,563063000,8327181.9303293135,16258998,24165654.880761638,0.67281429285592609,19936665,16258998,67.28,null,14942488,4.5699999999999991E-2,15625360,64.659369162966087,2.6206308370339144,0.01,149425,0,0,0,{"$f":"MIN(H154*parameters!C$22,ROUND(P154+T154-V154+W154,0))","v":15774785},65.277705395678566,null,-633638,-484213,0,-2.0022946043214347,null,-3.8971528257768409E-2,-2.6206308370339144,0,null,null,4.5699999999999991E-2,null,"145","Kingston",0.67281429285592609,67.28,15774785,-2.0022946043214347]
[146,"Lakeville",1774669700,6639126.9879193027,491088000,7262738.130194244,13901865,20082633.149053894,0.69223317962440234,16568172,13901865,69.22,null,12338915,4.0599999999999997E-2,12839875,63.935216585903206,5.2847834140967933,0.01,123389,0,0,0,{"$f":"MIN(H155*parameters!C$22,ROUND(P155+T155-V155+W155,0))","v":12963264},64.54962306877924,null,-1061990,-938601,0,-4.6703769312207584,null,-7.6391908567663397E-2,-5.2847834140967933,123389.15000000001,null,null,4.0599999999999997E-2,null,"146","Lakeville",0.69223317962440234,69.22,12963264,-4.6703769312207584]
[147,"Lancaster",954886800,3572278.6748925173,305249000,4514350.8933300404,8086630,11450624.87727901,0.706217353783544,9446766,8086630,70.62,null,7496367,4.4199999999999996E-2,7827706,68.360513805077886,2.2594861949221183,0,0,0,0,0,{"$f":"MIN(H156*parameters!C$22,ROUND(P156+T156-V156+W156,0))","v":7827706},68.360513805077886,null,-258924,-258924,0,-2.2594861949221183,null,-3.2018776672111872E-2,-2.2594861949221183,0,null,null,4.4199999999999996E-2,null,"147","Lancaster",0.706217353783544,70.62,7827706,-2.2594861949221183]
[148,"Lanesborough",402579400,1506069.4163654004,83687000,1237653.4672025496,2743723,4420287.6788466349,0.62071141051070844,3646737,2743723,62.07,null,2562223,3.4700000000000002E-2,2651132,59.976458380458794,2.093541619541206,0,0,0,0,0,{"$f":"MIN(H157*parameters!C$22,ROUND(P157+T157-V157+W157,0))","v":2651132},59.976458380458794,null,-92591,-92591,0,-2.093541619541206,null,-3.374648242552182E-2,-2.093541619541206,0,null,null,3.4700000000000002E-2,null,"148","Lanesborough",0.62071141051070844,62.07,2651132,-2.093541619541206]
[149,"Lawrence",4238762700,15857420.587591983,1339957000,19816726.934318673,35674148,260452836.50566372,0.13696970429893646,214873590,35674148,13.7,null,12181013,3.9300000000000002E-2,12659727,4.8606600603194838,8.8393399396805155,0.02,243620,0,0,0,{"$f":"MIN(H158*parameters!C$22,ROUND(P158+T158-V158+W158,0))","v":12903347},4.9541971487491967,null,-23014421,-22770801,0,-8.7458028512508026,null,-0.64512881989501192,-8.8393399396805155,243620.26,null,null,3.9300000000000002E-2,null,"149","Lawrence",0.13696970429893646,13.7,12903347,-8.7458028512508026]
[150,"Lee",973498900,3641907.4601317383,174923000,2586949.6749013779,6228857,7555332.2300000004,0.82443191250638093,6233149,6228857,82.44,null,5858890,4.2199999999999994E-2,6106135,80.818881474918271,1.6211185250817266,0,0,0,0,0,{"$f":"MIN(H159*parameters!C$22,ROUND(P159+T159-V159+W159,0))","v":6106135},80.818881474918271,null,-122722,-122722,0,-1.6211185250817266,null,-1.9702170077110455E-2,-1.6211185250817266,0,null,null,4.2199999999999994E-2,null,"150","Lee",0.82443191250638093,82.44,6106135,-1.6211185250817266]
[151,"Leicester",985402100,3686437.9191589034,350271000,5180184.707427728,8866623,18481715.280000001,0.47975108725947213,15247415,8866623,47.98,null,8369468,3.9199999999999999E-2,8697551,47.060301861765289,0.91969813823470759,0,0,0,0,0,{"$f":"MIN(H160*parameters!C$22,ROUND(P160+T160-V160+W160,0))","v":8697551},47.060301861765289,null,-169072,-169072,0,-0.91969813823470759,null,-1.906836458480303E-2,-0.91969813823470759,0,null,null,3.9199999999999999E-2,null,"151","Leicester",0.47975108725947213,47.98,8697551,-0.91969813823470759]
[152,"Lenox",1265446400,4734097.4751557009,254864000,3769203.2605435806,8503301,5883431.6600000001,1.4452961284163195,4853831,4853831,82.5,null,4547385,3.9800000000000002E-2,4728371,80.367569018384756,2.1324309816152436,0,0,0,0,0,{"$f":"MIN(H161*parameters!C$22,ROUND(P161+T161-V161+W161,0))","v":4728371},80.367569018384756,null,-125460,-125460,0,-2.1324309816152436,null,-2.5847624278636811E-2,-2.1324309816152436,0,null,null,3.9800000000000002E-2,null,"152","Lenox",1.4452961284163195,82.5,4728371,-2.1324309816152436]
[153,"Leominster",3785321000,14161072.795144742,1197430000,17708884.190284621,31869957,80292978.790000007,0.39692084513831993,66241708,31869957,39.69,null,30127166,3.9800000000000002E-2,31326227,39.01490201519524,0.6750979848047578,0,0,0,0,0,{"$f":"MIN(H162*parameters!C$22,ROUND(P162+T162-V162+W162,0))","v":31326227},39.01490201519524,null,-543730,-543730,0,-0.6750979848047578,null,-1.7060895312786272E-2,-0.6750979848047578,0,null,null,3.9800000000000002E-2,null,"153","Leominster",0.39692084513831993,39.69,31326227,-0.6750979848047578]
[154,"Leverett",273488400,1023133.6103404872,88416000,1307591.0112225392,2330725,2340616.3396036001,0.99577404488030052,1931008,1931008,82.5,null,1837044,4.0599999999999997E-2,1911628,81.671992442971145,0.82800755702885454,0,0,0,0,0,{"$f":"MIN(H163*parameters!C$22,ROUND(P163+T163-V163+W163,0))","v":1911628},81.671992442971145,null,-19380,-19380,0,-0.82800755702885454,null,-1.0036209068010076E-2,-0.82800755702885454,0,null,null,4.0599999999999997E-2,null,"154","Leverett",0.99577404488030052,82.5,1911628,-0.82800755702885454]
[155,"Lexington",12008478900,44924312.591154002,4121951000,60959849.759090625,105884162,83586647.343927711,1.2667592894870681,68958984,68958984,82.5,null,66891582,4.8099999999999997E-2,70109067,83.875917060684912,0,0,0,1150083,1150083,0,{"$f":"MIN(H164*parameters!C$22,ROUND(P164+T164-V164+W164,0))","v":68958984},82.499999929725192,null,0,0,0,-7.0274808194881189E-8,null,1.6677783419778922E-2,1.3759170606849125,0,null,null,4.8099999999999997E-2,null,"155","Lexington",1.2667592894870681,82.5,68958984,-7.0274808194881189E-8]
[156,"Leyden",92167800,344804.29141104326,26707000,394971.87315327942,739776,717508.07091283891,1.0310350921332927,591944,591944,82.5,null,579474,3.0099999999999998E-2,596916,83.192931786897191,0,0,0,4972,4972,0,{"$f":"MIN(H165*parameters!C$22,ROUND(P165+T165-V165+W165,0))","v":591944},82.499977909225208,null,0,0,0,-2.2090774791649892E-5,null,8.3994431905720819E-3,0.6929317868971907,0,null,null,3.0099999999999998E-2,null,"156","Leyden",1.0310350921332927,82.5,591944,-2.2090774791649892E-5]
[157,"Lincoln",2292229800,8575344.8811871111,935467000,13834693.273788851,22410038,8502495.2094421163,2.6357013380158572,7014559,7014559,82.5,null,7245222,2.07E-2,7395198,86.976797020568142,0,0,0,380639,380639,0,{"$f":"MIN(H166*parameters!C$22,ROUND(P166+T166-V166+W166,0))","v":7014559},82.500005318559346,null,0,0,0,5.3185593458238145E-6,null,5.4264138344263697E-2,4.4767970205681422,0,null,null,2.07E-2,null,"157","Lincoln",2.6357013380158572,82.5,7014559,5.3185593458238145E-6]
[158,"Littleton",1969238900,7367019.9737170925,559237000,8270598.9226277946,15637619,17652322.01361233,0.88586753561040177,14563166,14563166,82.5,null,13848810,6.6000000000000003E-2,14762831,83.631099572146141,0,0,0,199665,199665,0,{"$f":"MIN(H167*parameters!C$22,ROUND(P167+T167-V167+W167,0))","v":14563166},82.500001919123321,null,0,0,0,1.9191233207038749E-6,null,1.3710274263165029E-2,1.131099572146141,0,null,null,6.6000000000000003E-2,null,"158","Littleton",0.88586753561040177,82.5,14563166,1.9191233207038749E-6]
[159,"Longmeadow",2157229000,8070300.2215128643,1208469000,17872140.808689497,25942441,29509451.490000002,0.87912311785229991,24345297,24345297,82.5,null,23465469,2.9000000000000005E-2,24145968,81.824523265647457,0.67547673435254296,0,0,0,0,0,{"$f":"MIN(H168*parameters!C$22,ROUND(P168+T168-V168+W168,0))","v":24145968},81.824523265647457,null,-199329,-199329,0,-0.67547673435254296,null,-8.1875772556810455E-3,-0.67547673435254296,0,null,null,2.9000000000000005E-2,null,"159","Longmeadow",0.87912311785229991,82.5,24145968,-0.67547673435254296]
[160,"Lowell",8192976800,30650330.810446996,2533331000,37465626.629245907,68115957,261662746.63589087,0.26031965908691146,215871766,68115957,26.03,null,57215491,3.1E-2,58989171,22.543969960723775,3.4860300392762262,0.01,572155,0,0,0,{"$f":"MIN(H169*parameters!C$22,ROUND(P169+T169-V169+W169,0))","v":59561326},22.762631198273255,null,-9126786,-8554631,0,-3.2673688017267466,null,{"$f":"(P169-K169)/K169","v":-0.13398895650838466},-3.4860300392762262,1144309.82,null,null,3.1E-2,null,"160","Lowell",0.26031965908691146,26.03,59561326,-3.2673688017267466]
[161,"Ludlow",2154384900,8059660.3029599413,602330000,8907904.6076464895,16967565,29682132.170000002,0.57164239087747448,24487759,16967565,57.16,null,16193284,3.7400000000000003E-2,16798913,56.596045404645196,0.56395459535480086,0,0,0,0,0,{"$f":"MIN(H170*parameters!C$22,ROUND(P170+T170-V170+W170,0))","v":16798913},56.596045404645196,null,-168652,-168652,0,-0.56395459535480086,null,{"$f":"(P170-K170)/K170","v":-9.9396701883859E-3},{"$f":"Q170-L170","v":-0.56395459535480086},0,null,null,3.7400000000000003E-2,null,"161","Ludlow",0.57164239087747448,57.16,16798913,-0.56395459535480086]
[162,"Lunenburg",1405368400,5257552.5870582955,444086000,6567621.9441025667,11825175,19882657.308384076,0.59474821783573095,16403192,11825175,59.47,null,10889259,4.1599999999999998E-2,11342252,57.04595630291945,2.424043697080549,0,0,0,0,0,{"$f":"MIN(H171*parameters!C$22,ROUND(P171+T171-V171+W171,0))","v":11342252},57.04595630291945,null,-482923,-482923,0,-2.424043697080549,null,-4.0838549958034445E-2,-2.424043697080549,0,null,null,4.1599999999999998E-2,null,"162","Lunenburg",0.59474821783573095,59.47,11342252,-2.424043697080549]
[163,"Lynn",7895464600,29537322.977916107,2061739000,30491216.339655116,60028539,269437661.94999999,0.22279193846010881,222286071,60028539,22.28,null,52164961,2.3599999999999999E-2,53396054,19.817591057447938,2.462408942552063,0,0,0,0,0,{"$f":"MIN(H172*parameters!C$22,ROUND(P172+T172-V172+W172,0))","v":53396054},19.817591057447938,null,-6632485,-6632485,0,-2.462408942552063,null,-0.11048886263915235,-2.462408942552063,1043299.22,null,null,2.3599999999999999E-2,null,"163","Lynn",0.22279193846010881,22.28,53396054,-2.462408942552063]
[164,"Lynnfield",3324301800,12436377.200990537,1033102000,15278624.78370462,27715002,24403283.330456968,1.1357079137547765,20132709,20132709,82.5,null,19171874,3.4700000000000002E-2,19837138,81.288807458305797,1.2111925416942029,0,0,0,0,0,{"$f":"MIN(H173*parameters!C$22,ROUND(P173+T173-V173+W173,0))","v":19837138},81.288807458305797,null,-295571,-295571,0,-1.2111925416942029,null,-1.4681134068942238E-2,-1.2111925416942029,0,null,null,3.4700000000000002E-2,null,"164","Lynnfield",1.1357079137547765,82.5,19837138,-1.2111925416942029]
[165,"Malden",7590689100,28397142.78139469,1740086000,25734265.431077894,54131408,102136220.23000242,0.52999227774535318,84262382,54131408,53,null,45008021,3.0499999999999999E-2,46380766,45.410693577219035,7.5893064227809646,0.02,900160,0,0,0,{"$f":"MIN(H174*parameters!C$22,ROUND(P174+T174-V174+W174,0))","v":47280926},46.292026367851896,null,-7750642,-6850482,0,-6.7079736321481036,null,-0.14318197671858082,-7.5893064227809646,900160.42,null,null,3.0499999999999999E-2,null,"165","Malden",0.52999227774535318,53,47280926,-6.7079736321481036]
[166,"Manchester",2526294800,9450993.6052439492,797227000,11790251.301844815,21241245,9185283.7054618225,2.3125300950006991,7577859,7577859,82.5,null,7425397,4.8899999999999999E-2,7788499,84.79323284667565,0,0,0,210640,210640,0,{"$f":"MIN(H175*parameters!C$22,ROUND(P175+T175-V175+W175,0))","v":7577859},82.499999379376774,null,0,0,0,-6.2062322570000106E-7,null,2.7796769509699244E-2,2.2932328466756502,0,null,null,4.8899999999999999E-2,null,"166","Manchester",2.3125300950006991,82.5,7577859,-6.2062322570000106E-7]
[167,"Mansfield",3826144000,14313793.654146183,1190038000,17599563.334840391,31913357,43847243.48005759,0.72783040545102207,36173976,31913357,72.78,null,29710905,4.130000000000001E-2,30937965,70.558517581774709,2.2214824182252926,0,0,0,0,0,{"$f":"MIN(H176*parameters!C$22,ROUND(P176+T176-V176+W176,0))","v":30937965},70.558517581774709,null,-975392,-975392,0,-2.2214824182252926,null,-3.0563754229929494E-2,-2.2214824182252926,0,null,null,4.130000000000001E-2,null,"167","Mansfield",0.72783040545102207,72.78,30937965,-2.2214824182252926]
[168,"Marblehead",6182649400,23129596.729117021,1870464000,27662435.681498319,50792032,33056341.522833556,1.5365291396483054,27271482,27271482,82.5,null,27188825,2.8799999999999999E-2,27971863,84.618750023134083,0,0,0,700381,700381,0,{"$f":"MIN(H177*parameters!C$22,ROUND(P177+T177-V177+W177,0))","v":27271482},82.500000737112174,null,0,0,0,7.3711217396521533E-7,null,2.5681809298079217E-2,2.1187500231340834,0,null,null,2.8799999999999999E-2,null,"168","Marblehead",1.5365291396483054,82.5,27271482,7.3711217396521533E-7]
[169,"Marion",1693499100,6335463.7647935553,308024000,4555390.58135192,10890854,8397525.8953739274,1.2969122257782628,6927959,6927959,82.5,null,6906470,3.5200000000000002E-2,7149578,85.139100362150671,0,0,0,221619,221619,0,{"$f":"MIN(H178*parameters!C$22,ROUND(P178+T178-V178+W178,0))","v":6927959},82.500001623293713,null,0,0,0,1.6232937127824698E-6,null,3.198907499308238E-2,2.6391003621506712,0,null,null,3.5200000000000002E-2,null,"169","Marion",1.2969122257782628,82.5,6927959,1.6232937127824698E-6]
[170,"Marlborough",5880360000,21998717.155469071,1482417000,21923578.810209494,43922296,76998845.571297869,0.57042798075887646,63524048,43922296,57.04,null,39877690,3.4500000000000003E-2,41253470,53.576738318499757,3.4632616815002422,0.01,398777,0,0,0,{"$f":"MIN(H179*parameters!C$22,ROUND(P179+T179-V179+W179,0))","v":41652247},54.094638290949021,null,-2668826,-2270049,0,-2.945361709050978,null,-6.0762442837687718E-2,-3.4632616815002422,398776.9,null,null,3.4500000000000003E-2,null,"170","Marlborough",0.57042798075887646,57.04,41652247,-2.945361709050978]
[171,"Marshfield",5107817200,19108596.389445543,1242875000,18380973.783853751,37489570,43929784.021200001,0.85339754873158424,36242072,36242072,82.5,null,35619824,3.0300000000000004E-2,36699105,83.540372022519932,0,0,0,457033,457033,0,{"$f":"MIN(H180*parameters!C$22,ROUND(P180+T180-V180+W180,0))","v":36242072},82.500000415458445,null,0,0,0,4.1545844453594327E-7,null,1.2610564870573625E-2,1.0403720225199322,0,null,null,3.0300000000000004E-2,null,"171","Marshfield",0.85339754873158424,82.5,36242072,4.1545844453594327E-7]
[172,"Mashpee",5605682100,20971133.566886362,565792000,8367541.3208200196,29338675,19608691.91730389,1.4962076574883503,16177171,16177171,82.5,null,15838945,4.6199999999999998E-2,16570704,84.506932282295764,0,0,0,393533,393533,0,{"$f":"MIN(H181*parameters!C$22,ROUND(P181+T181-V181+W181,0))","v":16177171},82.500000857906741,null,0,0,0,8.5790674120289623E-7,null,2.4326441254778106E-2,2.0069322822957645,0,null,null,4.6199999999999998E-2,null,"172","Mashpee",1.4962076574883503,82.5,16177171,8.5790674120289623E-7]
[173,"Mattapoisett",1829130600,6842867.9043142656,372252000,5505263.4037913121,12348131,9677476.7527002729,1.2759659687691365,7983918,7983918,82.5,null,7707924,4.4400000000000002E-2,8050156,83.18445195700204,0,0,0,66238,66238,0,{"$f":"MIN(H182*parameters!C$22,ROUND(P182+T182-V182+W182,0))","v":7983918},82.499996683249847,null,0,0,0,-3.316750152748682E-6,null,8.2964278941742645E-3,0.68445195700203953,0,null,null,4.4400000000000002E-2,null,"173","Mattapoisett",1.2759659687691365,82.5,7983918,-3.316750152748682E-6]
[174,"Maynard",1386638200,5187481.9838868286,426431000,6306520.7938228212,11494003,16530506.531754956,0.69532067743478532,13637668,11494003,69.53,null,10877477,4.24E-2,11338682,68.592465561890037,0.93753443810996373,0,0,0,0,0,{"$f":"MIN(H183*parameters!C$22,ROUND(P183+T183-V183+W183,0))","v":11338682},68.592465561890037,null,-155321,-155321,0,-0.93753443810996373,null,-1.3513220763906186E-2,-0.93753443810996373,0,null,null,4.24E-2,null,"174","Maynard",0.69532067743478532,69.53,11338682,-0.93753443810996373]
[175,"Medfield",2801486200,10480498.222685322,1254489000,18552734.121398296,29033232,27155832.404210385,1.06913430484637,22403562,22403562,82.5,null,21391020,4.1500000000000002E-2,22278747,82.040375961908595,0.4596240380914054,0,0,0,0,0,{"$f":"MIN(H184*parameters!C$22,ROUND(P184+T184-V184+W184,0))","v":22278747},82.040375961908595,null,-124815,-124815,0,-0.4596240380914054,null,-5.5712122920453452E-3,-0.4596240380914054,0,null,null,4.1500000000000002E-2,null,"175","Medfield",1.06913430484637,82.5,22278747,-0.4596240380914054]
[176,"Medford",10557928900,39497733.407249331,2313629000,34216436.885900654,73714170,60473450.492880009,1.2189509511893806,49890597,49890597,82.5,null,48076837,4.1500000000000002E-2,50072026,82.800014869162055,0,0,0,181429,181429,0,{"$f":"MIN(H185*parameters!C$22,ROUND(P185+T185-V185+W185,0))","v":49890597},82.500000567809494,null,0,0,0,5.6780949364565458E-7,null,3.6365369610630235E-3,0.30001486916205522,0,null,null,4.1500000000000002E-2,null,"176","Medford",1.2189509511893806,82.5,49890597,5.6780949364565458E-7]
[177,"Medway",2081768600,7787999.1385794124,710736000,10511129.26339421,18299128,25093320.398607403,0.7292429901391424,20701989,18299128,72.92,null,17016712,4.3999999999999997E-2,17765447,70.797513911255535,2.1224860887444663,0,0,0,0,0,{"$f":"MIN(H186*parameters!C$22,ROUND(P186+T186-V186+W186,0))","v":17765447},70.797513911255535,null,-533681,-533681,0,-2.1224860887444663,null,-2.916428586105305E-2,-2.1224860887444663,0,null,null,4.3999999999999997E-2,null,"177","Medway",0.7292429901391424,72.92,17765447,-2.1224860887444663]
[178,"Melrose",5244113700,19618488.326806586,1465768000,21677355.47115498,41295844,45564746.546730742,0.90631128514338166,37590916,37590916,82.5,null,34285754,3.4299999999999997E-2,35461755,77.827174927069507,4.6728250729304932,0.01,342858,0,0,0,{"$f":"MIN(H187*parameters!C$22,ROUND(P187+T187-V187+W187,0))","v":35804613},78.579638236940809,null,-2129161,-1786303,0,-3.9203617630591907,null,-5.6640306397428571E-2,-4.6728250729304932,342857.54,null,null,3.4299999999999997E-2,null,"178","Melrose",0.90631128514338166,82.5,35804613,-3.9203617630591907]
[179,"Mendon",989637700,3702283.5079296087,362440000,5360152.9825766496,9062436,11552445.383652736,0.784460406350311,9530767,9062436,78.45,null,8256521,4.7800000000000002E-2,8651183,74.886162303280301,3.5638376967197019,0.01,82565,0,0,0,{"$f":"MIN(H188*parameters!C$22,ROUND(P188+T188-V188+W188,0))","v":8733748},75.600859471352038,null,-411253,-328688,0,-2.8491405286479647,null,-4.5379961855730622E-2,-3.5638376967197019,0,null,null,4.7800000000000002E-2,null,"179","Mendon",0.784460406350311,78.45,8733748,-2.8491405286479647]
[180,"Merrimac",847714200,3171340.6856850157,259942000,3844302.19235443,7015643,9979839.3111120388,0.70298155925100336,8233367,7015643,70.3,null,6382124,4.3799999999999999E-2,6661661,66.751184987343251,3.5488150126567461,0.01,63821,0,0,0,{"$f":"MIN(H189*parameters!C$22,ROUND(P189+T189-V189+W189,0))","v":6725482},67.390684261935164,null,-353982,-290161,0,-2.9093157380648336,null,-5.0456102170535186E-2,-3.5488150126567461,63821.24,null,null,4.3799999999999999E-2,null,"180","Merrimac",0.70298155925100336,70.3,6725482,-2.9093157380648336]
[181,"Methuen",5783276300,21635522.239391413,1568049000,23189997.031719275,44825519,97195847.263642222,0.46118759455238328,80186574,44825519,46.12,null,41279232,3.8600000000000002E-2,42872610,44.109507974871306,2.0104920251286913,0,0,0,0,0,{"$f":"MIN(H190*parameters!C$22,ROUND(P190+T190-V190+W190,0))","v":42872610},44.109507974871306,null,-1952909,-1952909,0,-2.0104920251286913,null,-4.3566902147859125E-2,-2.0104920251286913,0,null,null,3.8600000000000002E-2,null,"181","Methuen",0.46118759455238328,46.12,42872610,-2.0104920251286913]
[182,"Middleborough",2710745900,10141034.279269883,737285000,10903764.462418677,21044799,39772108.268695094,0.52913461005949514,32811989,21044799,52.91,null,19387387,5.0700000000000002E-2,20370328,51.217621812705431,1.6923781872945654,0,0,0,0,0,{"$f":"MIN(H191*parameters!C$22,ROUND(P191+T191-V191+W191,0))","v":20370328},51.217621812705431,null,-674471,-674471,0,-1.6923781872945654,null,-3.2049296360587717E-2,-1.6923781872945654,0,null,null,5.0700000000000002E-2,null,"182","Middleborough",0.52913461005949514,52.91,20370328,-1.6923781872945654]
[183,"Middlefield",73417000,274656.62262226682,9987000,147698.50964847422,422355,450012.90447788429,0.93853975252115573,371261,371261,82.5,null,387793,2.4299999999999999E-2,397216,88.26769100340789,0,0,0,25955,25955,0,{"$f":"MIN(H192*parameters!C$22,ROUND(P192+T192-V192+W192,0))","v":371261},82.500078621244398,null,0,0,0,7.8621244398391354E-5,null,6.9910386493598847E-2,5.7676910034078901,0,null,null,2.4299999999999999E-2,null,"183","Middlefield",0.93853975252115573,82.5,371261,7.8621244398391354E-5]
[184,"Middleton",2128852700,7964143.0818787711,523881000,7747716.3245371319,15711859,14822402.05221319,1.0600076117658677,12228482,12228482,82.5,null,11960711,4.7899999999999998E-2,12533629,84.558689987285533,0,0,0,305147,305147,0,{"$f":"MIN(H193*parameters!C$22,ROUND(P193+T193-V193+W193,0))","v":12228482},82.500002070677326,null,0,0,0,2.0706773256051747E-6,null,2.4953792302266135E-2,2.0586899872855327,0,null,null,4.7899999999999998E-2,null,"184","Middleton",1.0600076117658677,82.5,12228482,2.0706773256051747E-6]
[185,"Milford",3414149500,12772501.883725852,988471000,14618573.498621907,27391075,59542518.229496889,0.46002547111671671,49122578,27391075,46,null,26041694,3.9100000000000003E-2,27059924,45.446388235885408,0.55361176411459212,0,0,0,0,0,{"$f":"MIN(H194*parameters!C$22,ROUND(P194+T194-V194+W194,0))","v":27059924},45.446388235885408,null,-331151,-331151,0,-0.55361176411459212,null,-1.2089740910132223E-2,-0.55361176411459212,0,null,null,3.9100000000000003E-2,null,"185","Milford",0.46002547111671671,46,27059924,-0.55361176411459212]
[186,"Millbury",1670266000,6248547.5903510507,466722000,6902387.4857469909,13150935,21461834.437480856,0.61275913008783922,17706013,13150935,61.28,null,12301526,5.2299999999999992E-2,12944896,60.315887897229743,0.96411210277025816,0,0,0,0,0,{"$f":"MIN(H195*parameters!C$22,ROUND(P195+T195-V195+W195,0))","v":12944896},60.315887897229743,null,-206039,-206039,0,-0.96411210277025816,null,-1.5667251035762858E-2,-0.96411210277025816,0,null,null,5.2299999999999992E-2,null,"186","Millbury",0.61275913008783922,61.28,12944896,-0.96411210277025816]
[187,"Millis",1247044700,4665255.8067068653,363951000,5382499.2775680237,10047755,13425157.952243309,0.7484273209851543,11075755,10047755,74.84,null,9468147,5.7299999999999997E-2,10010672,74.566511884705548,0.27348811529445527,0,0,0,0,0,{"$f":"MIN(H196*parameters!C$22,ROUND(P196+T196-V196+W196,0))","v":10010672},74.566511884705548,null,-37083,-37083,0,-0.27348811529445527,null,-3.6906751806746879E-3,-0.27348811529445527,0,null,null,5.7299999999999997E-2,null,"187","Millis",0.7484273209851543,74.84,10010672,-0.27348811529445527]
[188,"Millville",315022800,1178515.8518736782,103278000,1527386.2700986406,2705902,5787322.7630971037,0.46755678070250367,4774541,2705902,46.76,null,2493333,0.03,2568133,44.375147285299427,2.3848527147005711,0,0,0,0,0,{"$f":"MIN(H197*parameters!C$22,ROUND(P197+T197-V197+W197,0))","v":2568133},44.375147285299427,null,-137769,-137769,0,-2.3848527147005711,null,-5.0914260752976274E-2,-2.3848527147005711,24933.33,null,null,0.03,null,"188","Millville",0.46755678070250367,46.76,2568133,-2.3848527147005711]
[189,"Milton",6039459500,22593916.241932578,2058190000,30438729.906217404,53032646,48363022.821759447,1.0965535838289164,39899494,39899494,82.5,null,36069457,4.1900000000000007E-2,37580767,77.705579195293183,4.7944208047068173,0.01,360695,0,0,0,{"$f":"MIN(H198*parameters!C$22,ROUND(P198+T198-V198+W198,0))","v":37941462},78.451386588948722,null,-2318727,-1958032,0,-4.0486134110512779,null,-5.8114195633658911E-2,-4.7944208047068173,360694.57,null,null,4.1900000000000007E-2,null,"189","Milton",1.0965535838289164,82.5,37941462,-4.0486134110512779]
[190,"Monroe",24977400,93441.686882948183,1110000,16415.875208752019,109858,186563.81434893268,0.58884945284475787,153915,109858,58.88,null,100597,-2.6800000000000001E-2,97901,52.475878209101424,6.4041217908985786,0.01,1006,0,0,0,{"$f":"MIN(H199*parameters!C$22,ROUND(P199+T199-V199+W199,0))","v":98907},53.015103890946925,null,-11957,-10951,0,-5.8648961090530776,null,-0.10884050319503359,-6.4041217908985786,2011.94,null,null,-2.6800000000000001E-2,null,"190","Monroe",0.58884945284475787,58.88,98907,-5.8648961090530776]
[191,"Monson",814480800,3047012.8950880854,260746000,3856192.6100732014,6903206,12140404.796517711,0.56861415378670721,10015834,6903206,56.86,null,6535612,3.2199999999999999E-2,6746059,55.567002196953133,1.2929978030468661,0,0,0,0,0,{"$f":"MIN(H200*parameters!C$22,ROUND(P200+T200-V200+W200,0))","v":6746059},55.567002196953133,null,-157147,-157147,0,-1.2929978030468661,null,-2.2764350361266925E-2,-1.2929978030468661,0,null,null,3.2199999999999999E-2,null,"191","Monson",0.56861415378670721,56.86,6746059,-1.2929978030468661]
[192,"Montague",878728100,3287365.2171742446,193180000,2856953.8493934367,6144319,13809177.258965751,0.44494461073057318,11392571,6144319,44.49,null,5860852,4.2199999999999994E-2,6108180,44.23275829871907,0.25724170128093249,0,0,0,0,0,{"$f":"MIN(H201*parameters!C$22,ROUND(P201+T201-V201+W201,0))","v":6108180},44.23275829871907,null,-36139,-36139,0,-0.25724170128093249,null,-5.8816933170299261E-3,-0.25724170128093249,0,null,null,4.2199999999999994E-2,null,"192","Montague",0.44494461073057318,44.49,6108180,-0.25724170128093249]
[193,"Monterey",544949000,2038681.1207401783,27444000,405871.42272882018,2444553,869449.43542611506,2.8116103138326043,{"$f":"ROUND(H202*maxloc,0)","v":717296},717296,82.5,null,764362,3.5000000000000003E-2,791115,90.990340296474685,0,0,0,73819,{"$f":"MAX(U202*(V$5),0)","v":73819},0,{"$f":"MIN(H202*parameters!C$22,ROUND(P202+T202-V202+W202,0))","v":717296},82.500024817251727,null,0,0,0,2.4817251727426992E-5,null,0.1029128839419152,8.4903402964746846,{"$f":"IF(AF202<$AH$5, $AH$6*(N202), IF(AND(AF202<$AH$4, AF202>$AH$5), $AH$7*(N202), 0))","v":0},null,null,3.5000000000000003E-2,null,"193","Monterey",2.8116103138326043,{"$f":"L202","v":82.5},{"$f":"X202","v":717296},2.4817251727426992E-5]
[194,"Montgomery",110014200,{"$f":"D$5*C203","v":411568.55513696535},32232000,476681.52227792348,{"$f":"ROUND(D203+F203,0)","v":888250},{"$f":"(SUMIF(town1755,A203,found1755)/2)","v":923177.17782959063},{"$f":"G203/H203","v":0.96216633310660349},761621,{"$f":"MIN(G203,J203)","v":761621},{"$f":"IF(H203>0, ROUND((K203*100/H203), 2), 0)","v":82.5},null,682009,0.03,{"$f":"ROUND(N203*(1+O203),0)","v":702469},{"$f":"P203*100/H203","v":76.092543974226018},{"$f":"IF(L203>Q203,L203-Q203,0)","v":6.4074560257739819},{"$f":"IF(AND(R203>$T$4,R203<=$T$5),$S$4,IF(R203>$T$5,$S$5,0))","v":0.01},{"$f":"ROUND(S203*N203,0)","v":6820},{"$f":"MAX(P203-K203,0)","v":0},0,{"$f":"IF(AND(I203>1.75,$W$5=1),MAX(K203-(P203+T203),0),0)","v":0},{"$f":"MIN(H203*parameters!C$22,ROUND(P203+T203-V203+W203,0))","v":709289},{"$f":"X203*100/H203","v":76.831297072091147},null,{"$f":"IF(Q203<L203, P203-K203, 0)","v":-59152},{"$f":"-1*MAX(K203-(P203+T203+W203),0)","v":-52332},{"$f":"IF(Q203>L203, X203-K203,0)","v":0},{"$f":"Y203-L203","v":-5.6687029279088534},null,-7.7665925703204089E-2,-6.4074560257739819,6820.09,null,null,0.03,null,{"$f":"TEXT(A203,\"000\")","v":"194"},{"$f":"B203","v":"Montgomery"},{"$f":"I203","v":0.96216633310660349},82.5,709289,{"$f":"AD203","v":-5.6687029279088534}]
[195,"Mount Washington",92351700,345492.27039275371,4716000,{"$f":"E204*F$5","v":69745.286022049113},415238,17787.5,23.344371047083627,14675,14675,82.5,null,6399,2.46E-2,6556,36.857343640196767,45.642656359803233,0.02,128,0,0,7991,{"$f":"MIN(H204*parameters!C$22,ROUND(P204+T204-V204+W204,0))","v":14675},82.501756851721709,null,-8119,0,0,1.7568517217085855E-3,null,-0.55325383304940379,-45.642656359803233,127.98,null,null,2.46E-2,null,"195","Mount Washington",23.344371047083627,82.5,14675,1.7568517217085855E-3]
[196,"Nahant",910008700,3404387.4865341759,212393000,3141096.3812724929,6545484,2960930.1025080667,2.2106175334755873,2442767,2442767,82.5,null,2271225,2.87E-2,2336409,78.907941731584145,3.5920582684158546,0.01,22712,0,0,83646,{"$f":"MIN(H205*parameters!C$22,ROUND(P205+T205-V205+W205,0))","v":2442767},82.499988700538566,null,-106358,0,0,-1.1299461434077784E-5,null,-4.3539969223425727E-2,-3.5920582684158546,0,null,null,2.87E-2,null,"196","Nahant",2.2106175334755873,82.5,2442767,-1.1299461434077784E-5]
[197,"Nantucket",23796647900,89024434.9666325,715283000,10578375.195443036,99602810,19595960.209999997,5.0828236500078106,16166667,16166667,82.5,null,15681795,5.1100000000000007E-2,16483135,84.114964632294502,0,0,0,316468,316468,0,{"$f":"MIN(H206*parameters!C$22,ROUND(P206+T206-V206+W206,0))","v":16166667},82.49999911588921,null,0,0,0,-8.841107899115741E-7,null,1.9575339802570313E-2,1.6149646322945017,0,null,null,5.1100000000000007E-2,null,"197","Nantucket",5.0828236500078106,82.5,16166667,-8.841107899115741E-7]
[198,"Natick",8526179100,31896857.069596391,2170725000,32103018.659926329,63999876,60047314.980826043,1.0658241092118119,49539035,49539035,82.5,null,48739626,4.3900000000000008E-2,50879296,84.732008444085267,0,0,0,1340261,1340261,0,{"$f":"MIN(H207*parameters!C$22,ROUND(P207+T207-V207+W207,0))","v":49539035},82.500000234512598,null,0,0,0,2.3451259778539679E-7,null,2.7054644887612365E-2,2.2320084440852668,0,null,null,4.3900000000000008E-2,null,"198","Natick",1.0658241092118119,82.5,49539035,2.3451259778539679E-7]
[199,"Needham",10352941600,38730865.794864498,3905295000,57755707.543570459,96486573,64470172.746228598,1.4966079489161026,53187893,53187893,82.5,null,49626314,6.5299999999999997E-2,52866912,82.002125553622975,0.49787444637702549,0,0,0,0,0,{"$f":"MIN(H208*parameters!C$22,ROUND(P208+T208-V208+W208,0))","v":52866912},82.002125553622975,null,-320981,-320981,0,-0.49787444637702549,null,-6.0348508259201019E-3,-0.49787444637702549,0,null,null,6.5299999999999997E-2,null,"199","Needham",1.4966079489161026,82.5,52866912,-0.49787444637702549]
[200,"New Ashford",39649300,148329.989339486,6528000,96543.09311957944,244873,281200.23000000004,0.87081365473989825,231990,231990,82.5,null,220898,2.3800000000000002E-2,226155,80.42489865673295,2.0751013432670504,0,0,0,0,0,{"$f":"MIN(H209*parameters!C$22,ROUND(P209+T209-V209+W209,0))","v":226155},80.42489865673295,null,-5835,-5835,0,-2.0751013432670504,null,-2.5151946204577783E-2,-2.0751013432670504,0,null,null,2.3800000000000002E-2,null,"200","New Ashford",0.87081365473989825,82.5,226155,-2.0751013432670504]
[201,"New Bedford",6079471600,22743603.483988564,1729883000,25583372.48084826,48326976,233841347.68333787,0.20666565805737311,192919112,48326976,20.67,null,34664997,3.3500000000000002E-2,35826274,15.320761000965085,5.3492389990349167,0.01,346650,0,0,0,{"$f":"MIN(H210*parameters!C$22,ROUND(P210+T210-V210+W210,0))","v":36172924},15.469002534566501,null,-12500702,-12154052,0,-5.2009974654335007,null,-0.25866923682541199,-5.3492389990349167,693299.94000000006,null,null,3.3500000000000002E-2,null,"201","New Bedford",0.20666565805737311,20.67,36172924,-5.2009974654335007]
[202,"New Braintree",114442400,428134.67001902155,38984000,576537.36859278264,1004672,1634238.9953706539,0.6147644272630608,1348247,1004672,61.48,null,946052,3.85E-2,982475,60.118195856486068,1.361804143513929,0,0,0,0,0,{"$f":"MIN(H211*parameters!C$22,ROUND(P211+T211-V211+W211,0))","v":982475},60.118195856486068,null,-22197,-22197,0,-1.361804143513929,null,-2.209377786979233E-2,-1.361804143513929,0,null,null,3.85E-2,null,"202","New Braintree",0.6147644272630608,61.48,982475,-1.361804143513929]
[203,"Newbury",1584277400,5926859.9912933791,457805000,6770513.2882366823,12697373,8035143.8523671217,1.5802297050673715,6628994,6628994,82.5,null,6495206,3.6700000000000003E-2,6733580,83.801611069057756,0,0,0,104586,104586,0,{"$f":"MIN(H212*parameters!C$22,ROUND(P212+T212-V212+W212,0))","v":6628994},82.500004004870732,null,0,0,0,4.0048707319328969E-6,null,1.5777054557599538E-2,1.3016110690577563,0,null,null,3.6700000000000003E-2,null,"203","Newbury",1.5802297050673715,82.5,6628994,4.0048707319328969E-6]
[204,"Newburyport",4469999500,16722488.875781104,1116726000,16515346.539070997,33237835,25039494.975175783,1.3274163489699802,20657583,20657583,82.5,null,20225821,4.0099999999999997E-2,21036876,84.014777537869719,0,0,0,379293,379293,0,{"$f":"MIN(H213*parameters!C$22,ROUND(P213+T213-V213+W213,0))","v":20657583},82.499998584156657,null,0,0,0,-1.4158433430111472E-6,null,1.836095732980959E-2,1.514777537869719,0,null,null,4.0099999999999997E-2,null,"204","Newburyport",1.3274163489699802,82.5,20657583,-1.4158433430111472E-6]
[205,"New Marlborough",490850400,1836295.5865370242,44238000,654239.17791420885,2490535,1716018.622476327,1.4513449722392844,1415715,1415715,82.5,null,1222735,3.5400000000000001E-2,1266020,73.776588634746304,8.7234113652536962,0.02,24455,0,0,0,{"$f":"MIN(H214*parameters!C$22,ROUND(P214+T214-V214+W214,0))","v":1290475},75.20168971929688,null,-149695,-125240,0,-7.2983102807031202,null,-0.10573808994041881,-8.7234113652536962,24454.7,null,null,3.5400000000000001E-2,null,"205","New Marlborough",1.4513449722392844,82.5,1290475,-7.2983102807031202]
[206,"New Salem",113802700,425741.52072810172,25103000,371250.19402279449,796992,1254672.0671881149,0.6352193699395603,1035104,796992,63.52,null,759464,5.6600000000000004E-2,802450,63.956951061993117,0,0,0,5458,5458,0,{"$f":"MIN(H215*parameters!C$22,ROUND(P215+T215-V215+W215,0))","v":796992},63.521936993956032,null,0,0,0,1.9369939560291982E-3,null,6.8482494178109688E-3,0.4369510619931134,0,null,null,5.6600000000000004E-2,null,"206","New Salem",0.6352193699395603,63.52,796992,1.9369939560291982E-3]
[207,"Newton",30026624900,112331086.58457386,13747006000,203305527.01798671,315636614,146297048.2579,2.1575050061405165,120695065,120695065,82.5,null,116802658,4.3400000000000001E-2,121871893,83.304410069270787,0,0,0,1176828,1176828,0,{"$f":"MIN(H216*parameters!C$22,ROUND(P216+T216-V216+W216,0))","v":120695065},82.500000127981053,null,0,0,0,1.2798105331057741E-7,null,9.7504235156590704E-3,0.80441006927078718,0,null,null,4.3400000000000001E-2,null,"207","Newton",2.1575050061405165,82.5,120695065,1.2798105331057741E-7]
[208,"Norfolk",1805854300,6755790.1165383738,649869000,9610962.5279607791,16366753,17999680.005969323,0.90928022023570487,14849736,14849736,82.5,null,14506239,4.3400000000000001E-2,15135810,84.089328226837566,0,0,0,286074,286074,0,{"$f":"MIN(H217*parameters!C$22,ROUND(P217+T217-V217+W217,0))","v":14849736},82.499999972640111,null,0,0,0,-2.7359888576938829E-8,null,1.926458490575186E-2,1.5893282268375657,0,null,null,4.3400000000000001E-2,null,"208","Norfolk",0.90928022023570487,82.5,14849736,-2.7359888576938829E-8]
[209,"North Adams",762773900,2853574.8286965508,218802000,3235879.5742570804,6089454,21098589.076463386,0.28861901513561938,17406336,6089454,28.86,null,5745129,9.2999999999999992E-3,5798559,27.483160030206026,1.3768399697939735,0,0,0,0,0,{"$f":"MIN(H218*parameters!C$22,ROUND(P218+T218-V218+W218,0))","v":5798559},27.483160030206026,null,-290895,-290895,0,-1.3768399697939735,null,-4.7770292706045568E-2,-1.3768399697939735,0,null,null,9.2999999999999992E-3,null,"209","North Adams",0.28861901513561938,28.86,5798559,-1.3768399697939735]
[210,"Northampton",3591160400,13434708.402125239,1039155000,15368143.065360993,28802851,34042001.600000001,0.84609745744210285,28084651,28084651,82.5,null,26619751,5.6500000000000002E-2,28123767,82.61490417179229,0,0,0,39116,39116,0,{"$f":"MIN(H219*parameters!C$22,ROUND(P219+T219-V219+W219,0))","v":28084651},82.499999059984759,null,0,0,0,-9.4001524075792986E-7,null,1.3927892499002391E-3,0.11490417179228984,0,null,null,5.6500000000000002E-2,null,"210","Northampton",0.84609745744210285,82.5,28084651,-9.4001524075792986E-7]
[211,"North Andover",5031244200,18822133.014967497,1801036000,26635659.659882791,45457793,51614285.957856961,0.88072114447376582,42581786,42581786,82.5,null,41690598,4.5400000000000003E-2,43583351,84.440480365427874,0,0,0,1001565,1001565,0,{"$f":"MIN(H220*parameters!C$22,ROUND(P220+T220-V220+W220,0))","v":42581786},82.500000164233612,null,0,0,0,1.6423361159922933E-7,null,2.3520972088864472E-2,1.9404803654278737,0,null,null,4.5400000000000003E-2,null,"211","North Andover",0.88072114447376582,82.5,42581786,1.6423361159922933E-7]
[212,"North Attleborough",4009149200,14998425.144867849,1184182000,17512958.501306649,32511384,50878947.781945221,0.63899481843327177,41975132,32511384,63.9,null,30817205,3.2399999999999998E-2,31815682,62.532114729169052,1.3678852708309464,0,0,0,0,0,{"$f":"MIN(H221*parameters!C$22,ROUND(P221+T221-V221+W221,0))","v":31815682},62.532114729169052,null,-695702,-695702,0,-1.3678852708309464,null,-2.1398719906848628E-2,-1.3678852708309464,0,null,null,3.2399999999999998E-2,null,"212","North Attleborough",0.63899481843327177,63.9,31815682,-1.3678852708309464]
[213,"Northborough",2982076900,11156096.949669413,966499000,14293627.903949205,25449725,27086928.460206002,0.93955743403644854,22346716,22346716,82.5,null,21802103,3.61E-2,22589159,83.395055416439064,0,0,0,242443,242443,0,{"$f":"MIN(H222*parameters!C$22,ROUND(P222+T222-V222+W222,0))","v":22346716},82.500000075054828,null,0,0,0,7.5054828130305395E-8,null,1.0849155643272148E-2,0.89505541643906383,0,null,null,3.61E-2,null,"213","Northborough",0.93955743403644854,82.5,22346716,7.5054828130305395E-8]
[214,"Northbridge",1723087000,6446153.5598612558,562143000,8313575.9797058431,14759730,26679614.110962555,0.55322126994090526,22010682,14759730,55.32,null,13489756,3.4299999999999997E-2,13952455,52.296314864115622,3.0236851358843779,0.01,134898,0,0,0,{"$f":"MIN(H223*parameters!C$22,ROUND(P223+T223-V223+W223,0))","v":14087353},52.801936869887328,null,-807275,-672377,0,-2.5180631301126724,null,-5.4694428692123771E-2,-3.0236851358843779,134897.56,null,null,3.4299999999999997E-2,null,"214","Northbridge",0.55322126994090526,55.32,14087353,-2.5180631301126724]
[215,"North Brookfield",418361600,1565111.40595295,129162000,1910186.7330746199,3475298,8015014.9997332217,0.43359843994249225,6612387,3475298,43.36,null,3282412,3.4000000000000002E-2,3394014,42.345697420565891,1.0143025794341085,0,0,0,0,0,{"$f":"MIN(H224*parameters!C$22,ROUND(P224+T224-V224+W224,0))","v":3394014},42.345697420565891,null,-81284,-81284,0,-1.0143025794341085,null,-2.338907339744678E-2,-1.0143025794341085,0,null,null,3.4000000000000002E-2,null,"215","North Brookfield",0.43359843994249225,43.36,3394014,-1.0143025794341085]
[216,"Northfield",452727800,1693677.0572920316,89432000,1322616.7132154149,3016294,4112082.2325801812,0.73351986400023572,3392468,3016294,73.349999999999994,null,2846792,5.57E-2,3005358,73.086038411110465,0.26396158888952925,0,0,0,0,0,{"$f":"MIN(H225*parameters!C$22,ROUND(P225+T225-V225+W225,0))","v":3005358},73.086038411110465,null,-10936,-10936,0,-0.26396158888952925,null,-3.6256412670648153E-3,-0.26396158888952925,0,null,null,5.57E-2,null,"216","Northfield",0.73351986400023572,73.349999999999994,3005358,-0.26396158888952925]
[217,"North Reading",3160863500,11824946.449459899,972089000,14376298.84306355,26201245,26204397.636927612,0.99987969054006531,21618628,21618628,82.5,null,21219255,4.2599999999999999E-2,22123195,84.425504858099373,0,0,0,504567,504567,0,{"$f":"MIN(H226*parameters!C$22,ROUND(P226+T226-V226+W226,0))","v":21618628},82.499999807416756,null,0,0,0,-1.9258324357451784E-7,null,2.3339455214271693E-2,1.925504858099373,0,null,null,4.2599999999999999E-2,null,"217","North Reading",0.99987969054006531,82.5,21618628,-1.9258324357451784E-7]
[218,"Norton",2512372400,9398909.2193006892,744229000,11006459.811472347,20405369,28823497.088386871,0.70794216737223825,23779385,20405369,70.790000000000006,null,18603026,6.4799999999999996E-2,19808502,68.723451353794758,2.0665486462052485,0,0,0,0,0,{"$f":"MIN(H227*parameters!C$22,ROUND(P227+T227-V227+W227,0))","v":19808502},68.723451353794758,null,-596867,-596867,0,-2.0665486462052485,null,-2.9250487947559294E-2,-2.0665486462052485,0,null,null,6.4799999999999996E-2,null,"218","Norton",0.70794216737223825,70.790000000000006,19808502,-2.0665486462052485]
[219,"Norwell",2807594400,10503349.300532432,1039401000,15371781.178245096,25875130,23438993.844864123,1.1039351847293426,19337170,19337170,82.5,null,18612545,3.8899999999999997E-2,19336573,82.497453295065256,2.5467049347440707E-3,0,0,0,0,0,{"$f":"MIN(H228*parameters!C$22,ROUND(P228+T228-V228+W228,0))","v":19336573},82.497453295065256,null,-597,-597,0,-2.5467049347440707E-3,null,-3.0873183614768864E-5,-2.5467049347440707E-3,0,null,null,3.8899999999999997E-2,null,"219","Norwell",1.1039351847293426,82.5,19336573,-2.5467049347440707E-3]
[220,"Norwood",5454226400,20404530.313703977,1308845000,19356609.178017151,39761139,44822050.705443934,0.88708879612174341,36978192,36978192,82.5,null,33466899,3.1300000000000001E-2,34514413,77.003199221779468,5.4968007782205319,0.01,334669,0,0,0,{"$f":"MIN(H229*parameters!C$22,ROUND(P229+T229-V229+W229,0))","v":34849082},77.749860730418007,null,-2463779,-2129110,0,-4.7501392695819931,null,-6.6627892461589247E-2,-5.4968007782205319,334668.99,null,null,3.1300000000000001E-2,null,"220","Norwood",0.88708879612174341,82.5,34849082,-4.7501392695819931]
[221,"Oak Bluffs",3190484700,11935760.821472086,121687000,1799638.384258925,13735399,8136007.0286781965,1.6882235907103806,6712206,6712206,82.5,null,5958253,4.3400000000000001E-2,6216841,76.411450704093227,6.0885492959067733,0.01,59583,0,0,0,{"$f":"MIN(H230*parameters!C$22,ROUND(P230+T230-V230+W230,0))","v":6276424},77.143787829540372,null,-495365,-435782,0,-5.3562121704596279,null,-7.3800625308579629E-2,-6.0885492959067733,59582.53,null,null,4.3400000000000001E-2,null,"221","Oak Bluffs",1.6882235907103806,82.5,6276424,-5.3562121704596279]
[222,"Oakham",205951500,770474.73220084968,62869000,929774.46711624379,1700249,3073508.1019162671,0.55319489769359342,2535644,1700249,55.32,null,1700734,3.1300000000000001E-2,1753967,57.067264566715764,0,0,0,53718,53718,0,{"$f":"MIN(H231*parameters!C$22,ROUND(P231+T231-V231+W231,0))","v":1700249},55.319489769359343,null,0,0,0,-5.1023064065702783E-4,null,3.1594195908952162E-2,1.7472645667157636,0,null,null,3.1300000000000001E-2,null,"222","Oakham",0.55319489769359342,55.32,1700249,-5.1023064065702783E-4]
[223,"Orange",534082800,1998030.1299241809,154695000,2287796.2301062103,4285826,14875865.178515222,0.28810599911794665,12272589,4285826,28.81,null,3923819,3.2099999999999997E-2,4049774,27.223788004269966,1.5862119957300322,0,0,0,0,0,{"$f":"MIN(H232*parameters!C$22,ROUND(P232+T232-V232+W232,0))","v":4049774},27.223788004269966,null,-236052,-236052,0,-1.5862119957300322,null,-5.507736431670348E-2,-1.5862119957300322,39238.19,null,null,3.2099999999999997E-2,null,"223","Orange",0.28810599911794665,28.81,4049774,-1.5862119957300322]
[224,"Orleans",4253680900,15913230.310511792,321978000,4761757.3585257269,20674988,5313337.2578826891,3.8911491961718183,4383503,4383503,82.5,null,4367190,2.64E-2,4482484,84.362873697692294,0,0,0,98981,98981,0,{"$f":"MIN(H233*parameters!C$22,ROUND(P233+T233-V233+W233,0))","v":4383503},82.499995525350514,null,0,0,0,-4.4746494864966735E-6,null,2.2580342707647284E-2,1.8628736976922937,0,null,null,2.64E-2,null,"224","Orleans",3.8911491961718183,82.5,4383503,-4.4746494864966735E-6]
[225,"Otis",666372900,2492933.9270333238,51302000,758709.21617963607,3251643,1333227.3211312117,2.4389261669503277,1099913,1099913,82.5,null,1141809,3.1800000000000002E-2,1178119,88.365950901785752,0,0,0,78206,78206,0,{"$f":"MIN(H234*parameters!C$22,ROUND(P234+T234-V234+W234,0))","v":1099913},82.500034507749959,null,0,0,0,3.4507749958834211E-5,null,{"$f":"(P234-K234)/K234","v":7.1101987157166063E-2},{"$f":"Q234-L234","v":5.8659509017857516},0,null,null,3.1800000000000002E-2,null,"225","Otis",2.4389261669503277,82.5,1099913,3.4507749958834211E-5]
[226,"Oxford",1388727800,5195299.2806795537,418377000,6187409.5695603993,11382709,21573839.365971319,0.5276162859520539,17798417,11382709,52.76,null,10875065,4.2999999999999997E-2,11342693,52.576144688881705,0.18385531111829323,0,0,0,0,0,{"$f":"MIN(H235*parameters!C$22,ROUND(P235+T235-V235+W235,0))","v":11342693},52.576144688881705,null,-40016,-40016,0,-0.18385531111829323,null,-3.515507600167939E-3,-0.18385531111829323,0,null,null,4.2999999999999997E-2,null,"226","Oxford",0.5276162859520539,52.76,11342693,-0.18385531111829323]
[227,"Palmer",980132000,3666722.2148004905,318436000,4709374.4486253671,8376097,20516172.24763941,0.40826801895094017,16925842,8376097,40.83,null,8023907,4.1200000000000001E-2,8354492,40.721494726976992,0.10850527302300605,0,0,0,0,0,{"$f":"MIN(H236*parameters!C$22,ROUND(P236+T236-V236+W236,0))","v":8354492},40.721494726976992,null,-21605,-21605,0,-0.10850527302300605,null,-2.579363634399172E-3,-0.10850527302300605,0,null,null,4.1200000000000001E-2,null,"227","Palmer",0.40826801895094017,40.83,8354492,-0.10850527302300605]
[228,"Paxton",530101700,1983136.6382216937,201418000,2978786.2637805534,4961923,7227350.6246942179,0.68654798385541649,5962564,4961923,68.650000000000006,null,4573071,3.9300000000000002E-2,4752793,65.761206931912014,2.8887930680879919,0.01,45731,0,0,0,{"$f":"MIN(H237*parameters!C$22,ROUND(P237+T237-V237+W237,0))","v":4798524},66.39395608682014,null,-209130,-163399,0,-2.256043913179866,null,-4.214696600491382E-2,-2.8887930680879919,0,null,null,3.9300000000000002E-2,null,"228","Paxton",0.68654798385541649,68.650000000000006,4798524,-2.256043913179866]
[229,"Peabody",7905666900,29575490.286046091,1773782000,26232598.161739253,55808088,78254796.818628222,0.71315868507520197,64560207,55808088,71.319999999999993,null,51855437,3.5200000000000002E-2,53680748,68.597389786106405,2.7226102138935886,0.01,518554,0,0,0,{"$f":"MIN(H238*parameters!C$22,ROUND(P238+T238-V238+W238,0))","v":54199302},69.260037982870443,null,-2127340,-1608786,0,-2.0599620171295498,null,-3.8118847576358465E-2,-2.7226102138935886,0,null,null,3.5200000000000002E-2,null,"229","Peabody",0.71315868507520197,71.319999999999993,54199302,-2.0599620171295498]
[230,"Pelham",185031400,692211.60498344654,50120000,741228.52744382981,1433440,1747651.777471107,0.82020916207588057,1441813,1433440,82.02,null,1253476,2.1399999999999995E-2,1280300,73.258301024510956,8.7616989754890398,0.02,25070,0,0,0,{"$f":"MIN(H239*parameters!C$22,ROUND(P239+T239-V239+W239,0))","v":1305370},74.692797319664038,null,-153140,-128070,0,-7.327202680335958,null,-0.10683391003460208,-8.7616989754890398,25069.52,null,null,2.1399999999999995E-2,null,"230","Pelham",0.82020916207588057,82.02,1305370,-7.327202680335958]
[231,"Pembroke",2834530900,10604120.077263499,765578000,11322191.811320677,21926312,32306393.869140003,0.67869883865139913,26652775,21926312,67.87,null,20722469,3.8899999999999997E-2,21528573,66.638737480894491,1.2312625191055133,0,0,0,0,0,{"$f":"MIN(H240*parameters!C$22,ROUND(P240+T240-V240+W240,0))","v":21528573},66.638737480894491,null,-397739,-397739,0,-1.2312625191055133,null,-1.8139803903182625E-2,-1.2312625191055133,0,null,null,3.8899999999999997E-2,null,"231","Pembroke",0.67869883865139913,67.87,21528573,-1.2312625191055133]
[232,"Pepperell",1303929800,4878065.7750184266,446646000,6605481.9806200489,11483548,18800361.781828526,0.61081526692211918,15510298,11483548,61.08,null,10862314,3.8800000000000001E-2,11283772,60.018908843053865,1.0610911569461337,0,0,0,0,0,{"$f":"MIN(H241*parameters!C$22,ROUND(P241+T241-V241+W241,0))","v":11283772},60.018908843053865,null,-199776,-199776,0,-1.0610911569461337,null,-1.7396713977248148E-2,-1.0610911569461337,0,null,null,3.8800000000000001E-2,null,"232","Pepperell",0.61081526692211918,61.08,11283772,-1.0610911569461337]
[233,"Peru",91385700,341878.41668784735,22679000,335401.47194530361,677280,1187509.0424067241,0.57033670971242201,979695,677280,57.03,null,552099,3.2199999999999999E-2,569877,47.989276683319439,9.0407233166805625,0.02,11042,0,0,0,{"$f":"MIN(H242*parameters!C$22,ROUND(P242+T242-V242+W242,0))","v":580919},48.919122234442248,null,-107403,-96361,0,-8.1108777655577526,null,-0.15857990786676116,-9.0407233166805625,11041.98,null,null,3.2199999999999999E-2,null,"233","Peru",0.57033670971242201,57.03,580919,-8.1108777655577526]
[234,"Petersham",158092900,591433.34615361237,42215000,624320.87561933917,1215754,1729964.4894431548,0.70276240201400308,1427221,1215754,70.28,null,1124639,2.0500000000000004E-2,1147694,66.342055400768515,3.9379445992314857,0.01,11246,0,0,0,{"$f":"MIN(H243*parameters!C$22,ROUND(P243+T243-V243+W243,0))","v":1158940},66.992126547813854,null,-68060,-56814,0,-3.2878734521861475,null,-5.5981719986115612E-2,-3.9379445992314857,11246.39,null,null,2.0500000000000004E-2,null,"234","Petersham",0.70276240201400308,70.28,1158940,-3.2878734521861475]
[235,"Phillipston",200264700,749200.13256414013,49387000,730388.13417534763,1479588,2680818.403281441,0.55191653346937575,2211675,1479588,55.19,null,1383985,4.1399999999999999E-2,1441282,53.762761335710273,1.4272386642897246,0,0,0,0,0,{"$f":"MIN(H244*parameters!C$22,ROUND(P244+T244-V244+W244,0))","v":1441282},53.762761335710273,null,-38306,-38306,0,-1.4272386642897246,null,-2.5889639548306691E-2,-1.4272386642897246,0,null,null,4.1399999999999999E-2,null,"235","Phillipston",0.55191653346937575,55.19,1441282,-1.4272386642897246]
[236,"Pittsfield",3573278600,13367811.705251126,1166305000,17248574.175985154,30616386,79181621.190000027,0.3866602570126032,65324837,30616386,38.67,null,28171219,4.5999999999999999E-3,28300807,35.74163622147983,2.9283637785201719,0.01,281712,0,0,0,{"$f":"MIN(H245*parameters!C$22,ROUND(P245+T245-V245+W245,0))","v":28582519},36.097415751838298,null,-2315579,-2033867,0,-2.5725842481617036,null,-7.5632016136718425E-2,-2.9283637785201719,281712.19,null,null,4.5999999999999999E-3,null,"236","Pittsfield",0.3866602570126032,38.67,28582519,-2.5725842481617036]
[237,"Plainfield",94118800,352103.07875915122,15187000,224601.70882460981,576705,778011.42260175699,0.74125518372395371,641859,576705,74.13,null,528373,3.9300000000000002E-2,549138,70.582254199253427,3.5477458007465685,0.01,5284,0,0,0,{"$f":"MIN(H246*parameters!C$22,ROUND(P246+T246-V246+W246,0))","v":554422},71.261421605604582,null,-27567,-22283,0,-2.8685783943954135,null,-4.7800868728379325E-2,-3.5477458007465685,0,null,null,3.9300000000000002E-2,null,"237","Plainfield",0.74125518372395371,74.13,554422,-2.8685783943954135]
[238,"Plainville",1485020600,5555535.4007994365,389720000,5763598.9967160691,11319134,15398525.202753799,0.73507909692388851,12703783,11319134,73.510000000000005,null,10571119,4.4799999999999993E-2,11044705,71.725732526805999,1.7842674731940065,0,0,0,0,0,{"$f":"MIN(H247*parameters!C$22,ROUND(P247+T247-V247+W247,0))","v":11044705},71.725732526805999,null,-274429,-274429,0,-1.7842674731940065,null,-2.4244699285298682E-2,-1.7842674731940065,0,null,null,4.4799999999999993E-2,null,"238","Plainville",0.73507909692388851,73.510000000000005,11044705,-1.7842674731940065]
[239,"Plymouth",10781668600,40334754.674101964,2268529000,33549449.523815323,73884204,97157775.176350012,0.76045590654884376,80155165,73884204,76.05,null,68683929,4.6100000000000002E-2,71850258,73.952144200075992,2.0978557999240053,0,0,0,0,0,{"$f":"MIN(H248*parameters!C$22,ROUND(P248+T248-V248+W248,0))","v":71850258},73.952144200075992,null,-2033946,-2033946,0,-2.0978557999240053,null,-2.7528834174081376E-2,-2.0978557999240053,0,null,null,4.6100000000000002E-2,null,"239","Plymouth",0.76045590654884376,76.05,71850258,-2.0978557999240053]
[240,"Plympton",532225000,1991080.0083786582,119260000,1763745.2949511402,3754825,5032244.394185124,0.74615314874984773,4151602,3754825,74.62,null,3553613,2.12E-2,3628950,72.113945900428376,2.5060540995716281,0.01,35536,0,0,0,{"$f":"MIN(H249*parameters!C$22,ROUND(P249+T249-V249+W249,0))","v":3664486},72.820111921320816,null,-125875,-90339,0,-1.7998880786791887,null,-3.3523533054137009E-2,-2.5060540995716281,0,null,null,2.12E-2,null,"240","Plympton",0.74615314874984773,74.62,3664486,-1.7998880786791887]
[241,"Princeton",514460100,1924620.6401775288,186264000,2754672.5944891763,4679293,4992908.7601092318,0.93718776465236853,4119150,4119150,82.5,null,3935641,4.2700000000000002E-2,4103693,82.190426406073996,0.30957359392600381,0,0,0,0,0,{"$f":"MIN(H250*parameters!C$22,ROUND(P250+T250-V250+W250,0))","v":4103693},82.190426406073996,null,-15457,-15457,0,-0.30957359392600381,null,-3.7524732044232427E-3,-0.30957359392600381,0,null,null,4.2700000000000002E-2,null,"241","Princeton",0.93718776465236853,82.5,4103693,-0.30957359392600381]
[242,"Provincetown",3070051300,11485213.524593754,167387000,2475499.1924030399,13960713,1574245.5870653477,8.8681925582050134,1298753,1298753,82.5,null,1307089,3.5400000000000001E-2,1353360,85.968797443027,0,0,0,54607,54607,0,{"$f":"MIN(H251*parameters!C$22,ROUND(P251+T251-V251+W251,0))","v":1298753},82.500024816400398,null,0,0,0,2.4816400397753569E-5,null,4.2045716160039666E-2,3.4687974430270003,0,null,null,3.5400000000000001E-2,null,"242","Provincetown",8.8681925582050134,82.5,1298753,2.4816400397753569E-5]
[243,"Quincy",15986795000,59807389.586261243,3384441000,50052757.754399903,109860147,137144629.39350891,0.80105322013579128,113144319,109860147,80.11,null,95961464,5.1299999999999998E-2,100884287,73.560508673316576,6.5494913266834232,0.01,959615,0,0,0,{"$f":"MIN(H252*parameters!C$22,ROUND(P252+T252-V252+W252,0))","v":101843902},74.260218902031824,null,-8975860,-8016245,0,-5.8497810979681759,null,-8.1702603219709874E-2,-6.5494913266834232,959614.64,null,null,5.1299999999999998E-2,null,"243","Quincy",0.80105322013579128,80.11,101843902,-5.8497810979681759]
[244,"Randolph",3647034600,13643736.543614555,956910000,14151815.446853057,27795552,49190437.230363622,0.56506007193696439,40582111,27795552,56.51,null,25433887,3.8199999999999998E-2,26405461,53.680069718308552,2.8299302816914462,0.01,254339,0,0,0,{"$f":"MIN(H253*parameters!C$22,ROUND(P253+T253-V253+W253,0))","v":26659800},54.197119401784441,null,-1390091,-1135752,0,-2.3128805982155569,null,-5.0011275185324618E-2,-2.8299302816914462,254338.87,null,null,3.8199999999999998E-2,null,"244","Randolph",0.56506007193696439,56.51,26659800,-2.3128805982155569]
[245,"Raynham",2254098800,8432694.9271272924,586444000,8672965.3341633957,17105660,27427356.504186571,0.62367147914488064,22627569,17105660,62.37,null,15631232,4.24E-2,16293996,59.407825167229838,2.9621748327701596,0.01,156312,0,0,0,{"$f":"MIN(H254*parameters!C$22,ROUND(P254+T254-V254+W254,0))","v":16450308},59.977737911012277,null,-811664,-655352,0,-2.3922620889877209,null,-4.7450025313258884E-2,-2.9621748327701596,0,null,null,4.24E-2,null,"245","Raynham",0.62367147914488064,62.37,16450308,-2.3922620889877209]
[246,"Reading",5143035900,19240351.28538445,1565708000,23155375.803013247,42395727,43372927.462685578,0.97746980617053625,35782665,35782665,82.5,null,35208095,3.7600000000000001E-2,36531919,84.227468923855767,0,0,0,749254,749254,0,{"$f":"MIN(H255*parameters!C$22,ROUND(P255+T255-V255+W255,0))","v":35782665},82.499999638678759,null,0,0,0,-3.6132124137111532E-7,null,2.0939021730214898E-2,1.727468923855767,0,null,null,3.7600000000000001E-2,null,"246","Reading",0.97746980617053625,82.5,35782665,-3.6132124137111532E-7]
[247,"Rehoboth",1863173000,6970222.2038628208,568114000,8401881.5570675172,15372104,19631645.871945407,0.78302675691432966,16196108,15372104,78.3,null,14210829,3.8699999999999998E-2,14760788,75.188744215755719,3.1112557842442783,0.01,142108,0,0,0,{"$f":"MIN(H256*parameters!C$22,ROUND(P256+T256-V256+W256,0))","v":14902896},75.912616278887626,null,-611316,-469208,0,-2.3873837211123714,null,-3.976788083140733E-2,-3.1112557842442783,0,null,null,3.8699999999999998E-2,null,"247","Rehoboth",0.78302675691432966,78.3,14902896,-2.3873837211123714]
[248,"Revere",6112000400,22865295.331189558,1354701000,20034777.082136549,42900072,122279467.6918207,0.35083626719835315,100880561,42900072,35.08,null,36418505,5.0999999999999997E-2,38275849,31.301942772981405,3.7780572270185928,0.01,364185,0,0,0,{"$f":"MIN(H257*parameters!C$22,ROUND(P257+T257-V257+W257,0))","v":38640034},31.599772823172536,null,-4624223,-4260038,0,-3.4802271768274622,null,-0.10779056501350394,-3.7780572270185928,728370.1,null,null,5.0999999999999997E-2,null,"248","Revere",0.35083626719835315,35.08,38640034,-3.4802271768274622]
[249,"Richmond",428896400,1604522.6130031026,76417000,1130136.8791236063,2734659,1462282.96,1.870129841354371,1206383,1206383,82.5,null,1100042,3.39E-2,1137333,77.777901480846083,4.7220985191539171,0.01,11000,0,0,58050,{"$f":"MIN(H258*parameters!C$22,ROUND(P258+T258-V258+W258,0))","v":1206383},82.499969773292037,null,-69050,0,0,-3.0226707963265653E-5,null,-5.7237212394405428E-2,-4.7220985191539171,11000.42,null,null,3.39E-2,null,"249","Richmond",1.870129841354371,82.5,1206383,-3.0226707963265653E-5]
[250,"Rochester",962759700,3601731.5825875043,247967000,3667202.9980978481,7268935,11045698.874531303,0.65807832375010678,9112702,7268935,65.81,null,6545154,3.3700000000000001E-2,6765726,61.252131502517422,4.5578684974825805,0.01,65452,0,0,0,{"$f":"MIN(H259*parameters!C$22,ROUND(P259+T259-V259+W259,0))","v":6831178},61.84468794229975,null,-503209,-437757,0,-3.9653120577002525,null,-6.9227335228613268E-2,-4.5578684974825805,65451.54,null,null,3.3700000000000001E-2,null,"250","Rochester",0.65807832375010678,65.81,6831178,-3.9653120577002525]
[251,"Rockland",2114977100,7912233.7770466814,564704000,8351450.8053000895,16263685,32637350.253919695,0.49831511668281825,26925814,16263685,49.83,null,15202884,3.8899999999999997E-2,15794276,48.393254590584085,1.4367454094159129,0,0,0,0,0,{"$f":"MIN(H260*parameters!C$22,ROUND(P260+T260-V260+W260,0))","v":15794276},48.393254590584085,null,-469409,-469409,0,-1.4367454094159129,null,-2.8862401110203498E-2,-1.4367454094159129,0,null,null,3.8899999999999997E-2,null,"251","Rockland",0.49831511668281825,49.83,15794276,-1.4367454094159129]
[252,"Rockport",2219088300,8301718.9176701251,345833000,5114550.7847462492,13416270,8114451.7575275199,1.6533797231038008,6694423,6694423,82.5,null,6617533,4.82E-2,6936498,85.483261312943668,0,0,0,242075,242075,0,{"$f":"MIN(H261*parameters!C$22,ROUND(P261+T261-V261+W261,0))","v":6694423},82.500003697597876,null,0,0,0,3.6975978758846395E-6,null,3.6160696747128171E-2,2.983261312943668,0,null,null,4.82E-2,null,"252","Rockport",1.6533797231038008,82.5,6694423,3.6975978758846395E-6]
[253,"Rowe",284026200,1062556.0405387918,10418000,154072.60173403472,1216629,647185.75,1.8798760634021994,533928,533928,82.5,null,480588,0.03,495006,76.485923863434877,6.014076136565123,0.01,4806,0,0,34116,{"$f":"MIN(H262*parameters!C$22,ROUND(P262+T262-V262+W262,0))","v":533928},82.499962336933407,null,-38922,0,0,-3.7663066592585892E-5,null,-7.2897469321706293E-2,-6.014076136565123,4805.88,null,null,0.03,null,"253","Rowe",1.8798760634021994,82.5,533928,-3.7663066592585892E-5]
[254,"Rowley",1079425500,4038184.1018068246,307829000,4552506.7113828156,8590691,8952842.4661761839,0.95954899602619048,7386095,7386095,82.5,null,7229998,5.050000000000001E-2,7595113,84.834654789183631,0,0,0,209018,209018,0,{"$f":"MIN(H263*parameters!C$22,ROUND(P263+T263-V263+W263,0))","v":7386095},82.499999613582474,null,0,0,0,-3.8641752553303377E-7,null,2.8298850745894819E-2,2.3346547891836309,0,null,null,5.050000000000001E-2,null,"254","Rowley",0.95954899602619048,82.5,7386095,-3.8641752553303377E-7]
[255,"Royalston",120880700,452220.66826777783,31796000,470233.4848085398,922454,1824960.6333147495,0.50546514985614222,1505593,922454,50.55,null,578600,2.8400000000000002E-2,595032,32.605196470414782,17.944803529585215,0.02,11572,0,0,0,{"$f":"MIN(H264*parameters!C$22,ROUND(P264+T264-V264+W264,0))","v":606604},33.239292340142192,null,-327422,-315850,0,-17.310707659857805,null,-0.35494669652904104,-17.944803529585215,11572,null,null,2.8400000000000002E-2,null,"255","Royalston",0.50546514985614222,50.55,606604,-17.310707659857805]
[256,"Russell",144727200,541431.60240240453,44514000,658320.96310124989,1199753,2969216.0819895426,0.40406388988574304,2449603,1199753,40.409999999999997,null,1103960,1.9099999999999999E-2,1125046,37.890337682872698,2.5196623171272989,0.01,11040,0,0,0,{"$f":"MIN(H265*parameters!C$22,ROUND(P265+T265-V265+W265,0))","v":1136086},38.262152993552363,null,-74707,-63667,0,-2.147847006447634,null,-6.2268650297186173E-2,-2.5196623171272989,11039.6,null,null,1.9099999999999999E-2,null,"256","Russell",0.40406388988574304,40.409999999999997,1136086,-2.147847006447634]
[257,"Rutland",908839600,3400013.8256993871,327455000,4842757.1319656689,8242771,17835497.715420377,0.4621553674318486,{"$f":"ROUND(H266*maxloc,0)","v":14714286},8242771,46.22,null,7606639,6.3500000000000001E-2,8089661,45.357080184007245,0.86291981599275402,0,0,0,{"$f":"MAX(U266*(V$5),0)","v":0},0,{"$f":"MIN(H266*parameters!C$22,ROUND(P266+T266-V266+W266,0))","v":8089661},45.357080184007245,null,-153110,-153110,0,-0.86291981599275402,null,-1.8575064138018633E-2,-0.86291981599275402,{"$f":"IF(AF266<$AH$5, $AH$6*(N266), IF(AND(AF266<$AH$4, AF266>$AH$5), $AH$7*(N266), 0))","v":0},null,null,6.3500000000000001E-2,null,"257","Rutland",0.4621553674318486,{"$f":"L266","v":46.22},{"$f":"X266","v":8089661},-0.86291981599275402]
[258,"Salem",5405036100,{"$f":"D$5*C267","v":20220506.972192116},1356997000,20068732.802388165,{"$f":"ROUND(D267+F267,0)","v":40289240},{"$f":"(SUMIF(town1755,A267,found1755)/2)","v":64338295.677944958},{"$f":"G267/H267","v":0.62620931399354851},53079094,{"$f":"MIN(G267,J267)","v":40289240},{"$f":"IF(H267>0, ROUND((K267*100/H267), 2), 0)","v":62.62},null,35883671,3.9699999999999999E-2,{"$f":"ROUND(N267*(1+O267),0)","v":37308253},{"$f":"P267*100/H267","v":57.987630239308928},{"$f":"IF(L267>Q267,L267-Q267,0)","v":4.6323697606910699},{"$f":"IF(AND(R267>$T$4,R267<=$T$5),$S$4,IF(R267>$T$5,$S$5,0))","v":0.01},{"$f":"ROUND(S267*N267,0)","v":358837},{"$f":"MAX(P267-K267,0)","v":0},0,{"$f":"IF(AND(I267>1.75,$W$5=1),MAX(K267-(P267+T267),0),0)","v":0},{"$f":"MIN(H267*parameters!C$22,ROUND(P267+T267-V267+W267,0))","v":37667090},{"$f":"X267*100/H267","v":58.545364938711309},null,{"$f":"IF(Q267<L267, P267-K267, 0)","v":-2980987},{"$f":"-1*MAX(K267-(P267+T267+W267),0)","v":-2622150},{"$f":"IF(Q267>L267, X267-K267,0)","v":0},{"$f":"Y267-L267","v":-4.0746350612886886},null,-7.398965579891803E-2,-4.6323697606910699,358836.71,null,null,3.9699999999999999E-2,null,{"$f":"TEXT(A267,\"000\")","v":"258"},{"$f":"B267","v":"Salem"},{"$f":"I267","v":0.62620931399354851},62.62,37667090,{"$f":"AD267","v":-4.0746350612886886}]
[259,"Salisbury",1754512300,6563717.1590670468,287398000,{"$f":"E268*F$5","v":4250351.0840044254},10814068,10912167.157786308,0.99101011225654567,9002538,9002538,82.5,null,8684865,4.4900000000000002E-2,9074815,83.16235325926732,0,0,0,72277,72277,0,{"$f":"MIN(H268*parameters!C$22,ROUND(P268+T268-V268+W268,0))","v":9002538},82.500000868995997,null,0,0,0,8.6899599693879281E-7,null,8.0285137369039711E-3,0.66235325926732003,0,null,null,4.4900000000000002E-2,null,"259","Salisbury",0.99101011225654567,82.5,9002538,8.6899599693879281E-7]
[260,"Sandisfield",230321300,861643.35747810313,22979000,339838.19497469603,1201482,972600.25886878825,1.2353297143858666,802395,802395,82.5,null,761973,3.1099999999999999E-2,785670,80.780360979319184,1.7196390206808161,0,0,0,0,0,{"$f":"MIN(H269*parameters!C$22,ROUND(P269+T269-V269+W269,0))","v":785670},80.780360979319184,null,-16725,-16725,0,-1.7196390206808161,null,-2.0843848727870935E-2,-1.7196390206808161,0,null,null,3.1099999999999999E-2,null,"260","Sandisfield",1.2353297143858666,82.5,785670,-1.7196390206808161]
[261,"Sandwich",4294060900,16064293.884636138,869351000,12856898.674417816,28921193,30847821.855956547,0.93754408771702225,25449453,25449453,82.5,null,24916229,4.8399999999999999E-2,26122174,84.680772995828065,0,0,0,672721,672721,0,{"$f":"MIN(H270*parameters!C$22,ROUND(P270+T270-V270+W270,0))","v":25449453},82.499999898974551,null,0,0,0,-1.0102544933943136E-7,null,2.6433613327563464E-2,2.1807729958280646,0,null,null,4.8399999999999999E-2,null,"261","Sandwich",0.93754408771702225,82.5,25449453,-1.0102544933943136E-7]
[262,"Saugus",4742468400,17741808.486274641,1007493000,14899891.316838916,32641700,36764270.101730444,0.88786476406786052,30330523,30330523,82.5,null,28169661,4.7500000000000001E-2,29507720,80.261949763586117,2.2380502364138835,0,0,0,0,0,{"$f":"MIN(H271*parameters!C$22,ROUND(P271+T271-V271+W271,0))","v":29507720},80.261949763586117,null,-822803,-822803,0,-2.2380502364138835,null,-2.7127886980386061E-2,-2.2380502364138835,0,null,null,4.7500000000000001E-2,null,"262","Saugus",0.88786476406786052,82.5,29507720,-2.2380502364138835]
[263,"Savoy",69383000,259565.22940736802,18719000,276836.72795732343,536402,896656.81069350161,0.59822441942433957,739742,536402,59.82,null,506228,3.8399999999999997E-2,525667,58.625216886874831,1.1947831131251689,0,0,0,0,0,{"$f":"MIN(H272*parameters!C$22,ROUND(P272+T272-V272+W272,0))","v":525667},58.625216886874831,null,-10735,-10735,0,-1.1947831131251689,null,-2.0012975343119525E-2,-1.1947831131251689,0,null,null,3.8399999999999997E-2,null,"263","Savoy",0.59822441942433957,59.82,525667,-1.1947831131251689]
[264,"Scituate",4819519000,18030058.585938469,1263315000,18683262.512923025,36713321,32971866.733854428,1.1134741413443834,27201790,27201790,82.5,null,25551020,3.7900000000000003E-2,26519404,80.430399085565725,2.0696009144342753,0,0,0,0,0,{"$f":"MIN(H273*parameters!C$22,ROUND(P273+T273-V273+W273,0))","v":26519404},80.430399085565725,null,-682386,-682386,0,-2.0696009144342753,null,-2.5086069703501131E-2,-2.0696009144342753,0,null,null,3.7900000000000003E-2,null,"264","Scituate",1.1134741413443834,82.5,26519404,-2.0696009144342753]
[265,"Seekonk",2435953700,9113023.0887425877,590703000,8735952.0121040028,17848975,24763057.596862998,0.72079043269120047,20429523,17848975,72.08,null,16459211,5.45E-2,17356238,70.089236485072433,1.9907635149275649,0,0,0,0,0,{"$f":"MIN(H274*parameters!C$22,ROUND(P274+T274-V274+W274,0))","v":17356238},70.089236485072433,null,-492737,-492737,0,-1.9907635149275649,null,-2.760589893817432E-2,-1.9907635149275649,0,null,null,5.45E-2,null,"265","Seekonk",0.72079043269120047,72.08,17356238,-1.9907635149275649]
[266,"Sharon",3666373500,13716084.323546039,1268785000,18764158.762825612,32480243,38863059.905544639,0.83576133940410613,32062024,32062024,82.5,null,29973743,3.3599999999999998E-2,30980861,79.718017766223099,2.7819822337769011,0.01,299737,0,0,0,{"$f":"MIN(H275*parameters!C$22,ROUND(P275+T275-V275+W275,0))","v":31280598},80.489282305681655,null,-1081163,-781426,0,-2.0107176943183447,null,-3.3720984052659934E-2,-2.7819822337769011,0,null,null,3.3599999999999998E-2,null,"266","Sharon",0.83576133940410613,82.5,31280598,-2.0107176943183447]
[267,"Sheffield",611528200,2287757.1958847963,113893000,1684372.3199553096,3972130,4209965.68711334,0.94350650224030275,3473222,3473222,82.5,null,3228855,4.3799999999999999E-2,3370279,80.054785489496695,2.4452145105033054,0,0,0,0,0,{"$f":"MIN(H276*parameters!C$22,ROUND(P276+T276-V276+W276,0))","v":3370279},80.054785489496695,null,-102943,-102943,0,-2.4452145105033054,null,-2.9639049850542235E-2,-2.4452145105033054,0,null,null,4.3799999999999999E-2,null,"267","Sheffield",0.94350650224030275,82.5,3370279,-2.4452145105033054]
[268,"Shelburne",249718300,934208.49237879517,39942280.68,590709.45513137535,1524918,2178483.4501966783,0.69999062873868845,1797249,1524918,70,null,1449084,4.41E-2,1512989,69.45148010481347,0.54851989518652999,0,0,0,0,0,{"$f":"MIN(H277*parameters!C$22,ROUND(P277+T277-V277+W277,0))","v":1512989},69.45148010481347,null,-11929,-11929,0,-0.54851989518652999,null,-7.8227157132383512E-3,-0.54851989518652999,0,null,null,4.41E-2,null,"268","Shelburne",0.69999062873868845,70,1512989,-0.54851989518652999]
[269,"Sherborn",1323636700,4951790.2611232083,944713000,13971433.077554725,18923223,10117045.436229443,1.8704297731267838,8346562,8346562,82.5,null,7923167,3.5999999999999997E-2,8208401,81.134369235957664,1.3656307640423364,0,0,0,0,138161,{"$f":"MIN(H278*parameters!C$22,ROUND(P278+T278-V278+W278,0))","v":8346562},82.499995207204577,null,-138161,0,0,-4.7927954227588998E-6,null,-1.6553043037360771E-2,-1.3656307640423364,0,null,null,3.5999999999999997E-2,null,"269","Sherborn",1.8704297731267838,82.5,8346562,-4.7927954227588998E-6]
[270,"Shirley",706189700,2641890.5421446231,214264000,3168766.7438991372,5810657,9343005.3590050712,0.62192589822283606,7707979,5810657,62.19,null,5435818,3.32E-2,5616287,60.112209981629228,2.07779001837077,0,0,0,0,0,{"$f":"MIN(H279*parameters!C$22,ROUND(P279+T279-V279+W279,0))","v":5616287},60.112209981629228,null,-194370,-194370,0,-2.07779001837077,null,-3.3450606360003694E-2,-2.07779001837077,0,null,null,3.32E-2,null,"270","Shirley",0.62192589822283606,62.19,5616287,-2.07779001837077]
[271,"Shrewsbury",6091353800,22788055.380978666,1981755000,29308326.823712032,52096382,67328829.060000002,0.77376040438152238,55546284,52096382,77.38,null,49749302,4.6399999999999997E-2,52057670,77.318543522580612,6.1456477419383759E-2,0,0,0,0,0,{"$f":"MIN(H280*parameters!C$22,ROUND(P280+T280-V280+W280,0))","v":52057670},77.318543522580612,null,-38712,-38712,0,-6.1456477419383759E-2,null,-7.4308423183782701E-4,-6.1456477419383759E-2,0,null,null,4.6399999999999997E-2,null,"271","Shrewsbury",0.77376040438152238,77.38,52057670,-6.1456477419383759E-2]
[272,"Shutesbury",220424500,824618.93993491761,47599000,703945.26492016879,1528564,2548719.7729791473,0.59973796107576482,2102694,1528564,59.97,null,1430323,3.8300000000000001E-2,1485104,58.268626301905755,1.701373698094244,0,0,0,0,0,{"$f":"MIN(H281*parameters!C$22,ROUND(P281+T281-V281+W281,0))","v":1485104},58.268626301905755,null,-43460,-43460,0,-1.701373698094244,null,-2.8431913874721635E-2,-1.701373698094244,0,null,null,3.8300000000000001E-2,null,"272","Shutesbury",0.59973796107576482,59.97,1485104,-1.701373698094244]
[273,"Somerset",2248577600,8412039.8452685662,575537000,8511660.8738914505,16923701,30511660.70523601,0.55466338471362775,25172120,16923701,55.47,null,15145251,5.9999999999999995E-4,15154338,49.667365360415836,5.8026346395841628,0.01,151453,0,0,0,{"$f":"MIN(H282*parameters!C$22,ROUND(P282+T282-V282+W282,0))","v":15305791},50.16374279939938,null,-1769363,-1617910,0,-5.3062572006006192,null,-0.10454941268461314,-5.8026346395841628,302905.02,null,null,5.9999999999999995E-4,null,"273","Somerset",0.55466338471362775,55.47,15305791,-5.3062572006006192]
[274,"Somerville",15170069800,56751980.2799358,3540723000,52364024.249331594,109116005,78394858.548899978,1.3918770569875734,64675758,64675758,82.5,null,56812003,5.96E-2,60197998,76.78819646373951,5.71180353626049,0.01,568120,0,0,0,{"$f":"MIN(H283*parameters!C$22,ROUND(P283+T283-V283+W283,0))","v":60766118},77.512886845884438,null,-4477760,-3909640,0,-4.987113154115562,null,-6.9233977899416349E-2,-5.71180353626049,568120.03,null,null,5.96E-2,null,"274","Somerville",1.3918770569875734,82.5,60766118,-4.987113154115562]
[275,"Southampton",751039000,2809673.9882807066,242293000,3583289.7765352726,6392964,9281805.8633236811,0.68876295131977383,7657490,6392964,68.88,null,6205860,3.39E-2,6416239,69.127054524521554,0,0,0,23275,23275,0,{"$f":"MIN(H284*parameters!C$22,ROUND(P284+T284-V284+W284,0))","v":6392964},68.876295131977386,null,0,0,0,-3.7048680226092756E-3,null,3.6407212679439461E-3,0.24705452452155896,0,null,null,3.39E-2,null,"275","Southampton",0.68876295131977383,68.88,6392964,-3.7048680226092756E-3]
[276,"Southborough",2581928000,9659120.1538317297,1190666000,17608850.875048585,27267971,19023024.751522582,1.4334193092934657,15693995,15693995,82.5,null,15264266,4.7100000000000003E-2,15983213,84.020355378661435,0,0,0,289218,289218,0,{"$f":"MIN(H285*parameters!C$22,ROUND(P285+T285-V285+W285,0))","v":15693995},82.499997792117,null,0,0,0,-2.2078829999827576E-6,null,1.8428577299788869E-2,1.520355378661435,0,null,null,4.7100000000000003E-2,null,"276","Southborough",1.4334193092934657,82.5,15693995,-2.2078829999827576E-6]
[277,"Southbridge",1062982400,3976669.652681415,358238000,5298009.2820116263,9274679,34251192.247850344,0.27078412140768887,28257234,9274679,27.08,null,8636342,4.0199999999999993E-2,8983523,26.228351220573408,0.8516487794265899,0,0,0,0,0,{"$f":"MIN(H286*parameters!C$22,ROUND(P286+T286-V286+W286,0))","v":8983523},26.228351220573408,null,-291156,-291156,0,-0.8516487794265899,null,-3.1392568950364748E-2,-0.8516487794265899,0,null,null,4.0199999999999993E-2,null,"277","Southbridge",0.27078412140768887,27.08,8983523,-0.8516487794265899]
[278,"South Hadley",1608596500,6017838.945366866,571800000,8456394.0940219853,14474233,22921007.059999999,0.6314832922528667,18909831,14474233,63.15,null,13763185,3.3099999999999997E-2,14218746,62.033687973568476,1.1163120264315225,0,0,0,0,0,{"$f":"MIN(H287*parameters!C$22,ROUND(P287+T287-V287+W287,0))","v":14218746},62.033687973568476,null,-255487,-255487,0,-1.1163120264315225,null,-1.7651159823114635E-2,-1.1163120264315225,0,null,null,3.3099999999999997E-2,null,"278","South Hadley",0.6314832922528667,63.15,14218746,-1.1163120264315225]
[279,"Southwick",1108115700,4145515.5568425437,353101000,5222037.7946716631,9367553,14245116.846710229,0.65759748416267605,11752221,9367553,65.760000000000005,null,9054238,3.7499999999999999E-2,9393772,65.943804470578286,0,0,0,26219,26219,0,{"$f":"MIN(H288*parameters!C$22,ROUND(P288+T288-V288+W288,0))","v":9367553},65.759748416267612,null,0,0,0,-2.515837323926462E-4,null,2.7989166434393272E-3,0.18380447057828064,0,null,null,3.7499999999999999E-2,null,"279","Southwick",0.65759748416267605,65.760000000000005,9367553,-2.515837323926462E-4]
[280,"Spencer",1117662500,4181230.6071013426,336403000,4975089.7908556806,9156320,18147000.074059173,0.50456383769396695,14971275,9156320,50.46,null,8077210,4.0300000000000002E-2,8402722,46.303642286371883,4.1563577136281182,0.01,80772,0,0,0,{"$f":"MIN(H289*parameters!C$22,ROUND(P289+T289-V289+W289,0))","v":8483494},46.748740647921252,null,-753598,-672826,0,-3.7112593520787485,null,-8.2303589214881082E-2,-4.1563577136281182,80772.100000000006,null,null,4.0300000000000002E-2,null,"280","Spencer",0.50456383769396695,50.46,8483494,-3.7112593520787485]
[281,"Springfield",8214498300,30730843.804763913,2391260000,35364527.704216532,66095372,432231053.56999999,0.15291675934453847,356590619,66095372,15.29,null,40832170,1.55E-2,41465069,9.5932646804343307,5.6967353195656685,0.01,408322,0,0,0,{"$f":"MIN(H290*parameters!C$22,ROUND(P290+T290-V290+W290,0))","v":41873391},9.6877331358188936,null,-24630303,-24221981,0,-5.6022668641811055,null,-0.37264792155190535,-5.6967353195656685,816643.4,null,null,1.55E-2,null,"281","Springfield",0.15291675934453847,15.29,41873391,-5.6022668641811055]
[282,"Sterling",1126832600,4215536.4040572038,366838000,5425195.3421875434,9640732,12129982.480775081,0.79478531937533159,10007236,9640732,79.48,null,9000291,0.05,9450306,77.908653330521091,1.5713466694789133,0,0,0,0,0,{"$f":"MIN(H291*parameters!C$22,ROUND(P291+T291-V291+W291,0))","v":9450306},77.908653330521091,null,-190426,-190426,0,-1.5713466694789133,null,-1.9752234581357515E-2,-1.5713466694789133,0,null,null,0.05,null,"282","Sterling",0.79478531937533159,79.48,9450306,-1.5713466694789133]
[283,"Stockbridge",897418300,3357286.1783703533,118220000,1748364.6551159131,5105651,1479887.2009566652,3.4500271349731784,1220907,1220907,82.5,null,1233296,3.04E-2,1270788,85.870598730667169,0,0,0,49881,49881,0,{"$f":"MIN(H292*parameters!C$22,ROUND(P292+T292-V292+W292,0))","v":1220907},82.500004001031371,null,0,0,0,4.001031371103636E-6,null,4.0855691711162274E-2,3.3705987306671688,0,null,null,3.04E-2,null,"283","Stockbridge",3.4500271349731784,82.5,1220907,4.001031371103636E-6]
[284,"Stoneham",4037834200,15105737.14644677,1005387000,14868745.521172581,29974483,29586215.342607874,1.0131232620629571,24408628,24408628,82.5,null,22565410,3.4799999999999998E-2,23350686,78.924207539218685,3.5757924607813152,0.01,225654,0,0,0,{"$f":"MIN(H293*parameters!C$22,ROUND(P293+T293-V293+W293,0))","v":23576340},79.686907321488675,null,-1057942,-832288,0,-2.8130926785113246,null,-4.3342952336362373E-2,-3.5757924607813152,0,null,null,3.4799999999999998E-2,null,"284","Stoneham",1.0131232620629571,82.5,23576340,-2.8130926785113246]
[285,"Stoughton",4014565300,15018687.04243632,965932000,14285242.497423653,29303930,46756796.54785639,0.62673091750430165,38574357,29303930,62.67,null,27790930,3.3700000000000001E-2,28727484,61.440231412340069,1.2297685876599331,0,0,0,0,0,{"$f":"MIN(H294*parameters!C$22,ROUND(P294+T294-V294+W294,0))","v":28727484},61.440231412340069,null,-576446,-576446,0,-1.2297685876599331,null,-1.9671286411071826E-2,-1.2297685876599331,0,null,null,3.3700000000000001E-2,null,"285","Stoughton",0.62673091750430165,62.67,28727484,-1.2297685876599331]
[286,"Stow",1326450500,4962316.8258797973,481909000,7126989.1945716003,12089306,13200898.684433609,0.91579416591202312,10890741,10890741,82.5,null,10363270,4.8500000000000008E-2,10865889,82.311736948734918,0.18826305126508203,0,0,0,0,0,{"$f":"MIN(H295*parameters!C$22,ROUND(P295+T295-V295+W295,0))","v":10865889},82.311736948734918,null,-24852,-24852,0,-0.18826305126508203,null,-2.2819383915199157E-3,-0.18826305126508203,0,null,null,4.8500000000000008E-2,null,"286","Stow",0.91579416591202312,82.5,10865889,-0.18826305126508203]
[287,"Sturbridge",1304272900,4879349.3290620632,451834000,6682207.7108750083,11561557,19251059.329999998,0.60056731433905985,15882124,11561557,60.06,null,10671967,3.56E-2,11051889,57.409251151063806,2.6507488489361961,0.01,106720,0,0,0,{"$f":"MIN(H296*parameters!C$22,ROUND(P296+T296-V296+W296,0))","v":11158609},57.963610254999928,null,-509668,-402948,0,-2.0963897450000744,null,-4.4082989860275743E-2,-2.6507488489361961,0,null,null,3.56E-2,null,"287","Sturbridge",0.60056731433905985,60.06,11158609,-2.0963897450000744]
[288,"Sudbury",4796024700,17942165.249396876,2224415000,32897044.191419929,50839209,42880805.968957894,1.1855935972099807,35376665,35376665,82.5,null,34404437,3.8800000000000001E-2,35739329,83.345749205069225,0,0,0,362664,362664,0,{"$f":"MIN(H297*parameters!C$22,ROUND(P297+T297-V297+W297,0))","v":35376665},82.500000176325372,null,0,0,0,1.7632537208100985E-7,null,1.0251503356803136E-2,0.84574920506922524,0,null,null,3.8800000000000001E-2,null,"288","Sudbury",1.1855935972099807,82.5,35376665,1.7632537208100985E-7]
[289,"Sunderland",374363600,1400512.7151574327,108038000,1597782.2754983339,2998295,3589843.0793867973,0.83521617343568033,2961621,2961621,82.5,null,2853993,4.0800000000000003E-2,2970436,82.745566708932529,0,0,0,8815,8815,0,{"$f":"MIN(H298*parameters!C$22,ROUND(P298+T298-V298+W298,0))","v":2961621},82.50001280016653,null,0,0,0,1.2800166530269053E-5,null,{"$f":"(P298-K298)/K298","v":2.9764105535448324E-3},{"$f":"Q298-L298","v":0.24556670893252885},0,null,null,4.0800000000000003E-2,null,"289","Sunderland",0.83521617343568033,82.5,2961621,1.2800166530269053E-5]
[290,"Sutton",1481010900,5540534.9150845679,502884000,7437190.0797099546,12977725,15964014.974866506,0.81293615800485819,13170312,12977725,81.290000000000006,null,11816938,4.1500000000000002E-2,12307341,77.094271205436002,4.1957287945640047,0.01,118169,0,0,0,{"$f":"MIN(H299*parameters!C$22,ROUND(P299+T299-V299+W299,0))","v":12425510},77.834492260014343,null,-670384,-552215,0,-3.4555077399856629,null,-5.1656511445573088E-2,-4.1957287945640047,118169.38,null,null,4.1500000000000002E-2,null,"290","Sutton",0.81293615800485819,81.290000000000006,12425510,-3.4555077399856629]
[291,"Swampscott",3001502900,11228770.57500224,1193288000,17647627.834325477,28876398,24201231.687314104,1.1931788585428296,19966016,19966016,82.5,null,18746329,3.5999999999999997E-2,19421197,80.248795808935128,2.2512041910648719,0,0,0,0,0,{"$f":"MIN(H300*parameters!C$22,ROUND(P300+T300-V300+W300,0))","v":19421197},80.248795808935128,null,-544819,-544819,0,-2.2512041910648719,null,-2.7287316608380963E-2,-2.2512041910648719,0,null,null,3.5999999999999997E-2,null,"291","Swampscott",1.1931788585428296,82.5,19421197,-2.2512041910648719]
[292,"Swansea",2243617600,8393484.240324121,580259000,8581494.8943740875,16974979,27264923.674955737,0.62259404069384605,22493562,16974979,62.26,null,15678007,4.53E-2,16388221,60.107342295821063,2.1526577041789352,0,0,0,0,0,{"$f":"MIN(H301*parameters!C$22,ROUND(P301+T301-V301+W301,0))","v":16388221},60.107342295821063,null,-586758,-586758,0,-2.1526577041789352,null,-3.4566051598649991E-2,-2.1526577041789352,0,null,null,4.53E-2,null,"292","Swansea",0.62259404069384605,62.26,16388221,-2.1526577041789352]
[293,"Taunton",5319886500,19901958.113567591,1489889000,22034082.791794896,41936041,116271985.19078542,0.36067192738808967,95924388,41936041,36.07,null,39317275,4.7899999999999998E-2,41200572,35.434650859702664,0.63534914029733613,0,0,0,0,0,{"$f":"MIN(H302*parameters!C$22,ROUND(P302+T302-V302+W302,0))","v":41200572},35.434650859702664,null,-735469,-735469,0,-0.63534914029733613,null,-1.7537873925676486E-2,-0.63534914029733613,0,null,null,4.7899999999999998E-2,null,"293","Taunton",0.36067192738808967,36.07,41200572,-0.63534914029733613]
[294,"Templeton",640991600,2397981.2303041937,214897000,3178128.2294911551,5576109,14615273.657811981,0.38152614385154021,12057601,5576109,38.15,null,5202594,2.0999999999999999E-3,5213519,35.671716603221675,2.4782833967783233,0,0,0,0,0,{"$f":"MIN(H303*parameters!C$22,ROUND(P303+T303-V303+W303,0))","v":5213519},35.671716603221675,null,-362590,-362590,0,-2.4782833967783233,null,-6.5025629879186364E-2,-2.4782833967783233,52025.94,null,null,2.0999999999999999E-3,null,"294","Templeton",0.38152614385154021,38.15,5213519,-2.4782833967783233]
[295,"Tewksbury",4874518000,18235812.561006945,1253136000,18532724.500535738,36768537,42466098.218932606,0.86583271226004777,35034531,35034531,82.5,null,34216499,4.7800000000000002E-2,35852048,84.425104974716348,0,0,0,817517,817517,0,{"$f":"MIN(H304*parameters!C$22,ROUND(P304+T304-V304+W304,0))","v":35034531},82.499999927896837,null,0,0,0,-7.2103162551684363E-8,null,2.3334606648509153E-2,1.9251049747163478,0,null,null,4.7800000000000002E-2,null,"295","Tewksbury",0.86583271226004777,82.5,35034531,-7.2103162551684363E-8]
[296,"Tisbury",2884208400,10789966.058035223,98940997.739999995,1463246.0107470769,12253212,7037429.3979818597,1.7411488353281217,5805879,5805879,82.5,null,5339034,3.9199999999999999E-2,5548324,78.84020835208814,3.6597916479118595,0.01,53390,0,0,0,{"$f":"MIN(H305*parameters!C$22,ROUND(P305+T305-V305+W305,0))","v":5601714},79.598866051948121,null,-257555,-204165,0,-2.9011339480518785,null,-4.4361069185217261E-2,-3.6597916479118595,0,null,null,3.9199999999999999E-2,null,"296","Tisbury",1.7411488353281217,82.5,5601714,-2.9011339480518785]
[297,"Tolland",192519300,720224.20866560831,15005000,221910.09685344508,942134,512585.79446370038,1.8380025552321833,422883,422883,82.5,null,409474,5.1699999999999996E-2,430644,84.014033289893831,0,0,0,7761,7761,0,{"$f":"MIN(H306*parameters!C$22,ROUND(P306+T306-V306+W306,0))","v":422883},82.499945290611677,null,0,0,0,-5.4709388322748964E-5,null,1.8352593979895148E-2,1.5140332898938311,0,null,null,5.1699999999999996E-2,null,"297","Tolland",1.8380025552321833,82.5,422883,-5.4709388322748964E-5]
[298,"Topsfield",1429914200,5349379.6370271267,496822000,7347538.6963626985,12696918,12139960.519691095,1.0458780306085442,10015467,10015467,82.5,null,9240795,3.3000000000000002E-2,9545741,78.630741710541372,3.869258289458628,0.01,92408,0,0,0,{"$f":"MIN(H307*parameters!C$22,ROUND(P307+T307-V307+W307,0))","v":9638149},79.391930347441075,null,-469726,-377318,0,-3.1080696525589246,null,-4.6900059677696504E-2,-3.869258289458628,0,null,null,3.3000000000000002E-2,null,"298","Topsfield",1.0458780306085442,82.5,9638149,-3.1080696525589246]
[299,"Townsend",903825200,3381254.707668453,320331000,4737399.7490943624,8118654,15460093.450096017,0.5251361530385561,12754577,8118654,52.51,null,7505326,3.6999999999999998E-2,7783023,50.342664648975088,2.16733535102491,0,0,0,0,0,{"$f":"MIN(H308*parameters!C$22,ROUND(P308+T308-V308+W308,0))","v":7783023},50.342664648975088,null,-335631,-335631,0,-2.16733535102491,null,-4.1340719779411714E-2,-2.16733535102491,0,null,null,3.6999999999999998E-2,null,"299","Townsend",0.5251361530385561,52.51,7783023,-2.16733535102491]
[300,"Truro",2299599100,8602913.7964123338,85689000,1267261.1988853619,9870175,2479739.5415662164,3.9803273023448043,2045785,2045785,82.5,null,1983497,2.6599999999999999E-2,2036258,82.115801513327028,0.38419848667297174,0,0,0,0,9527,{"$f":"MIN(H309*parameters!C$22,ROUND(P309+T309-V309+W309,0))","v":2045785},82.499995088511255,null,-9527,0,0,-4.9114887445966815E-6,null,-4.6568920976544454E-3,-0.38419848667297174,0,null,null,2.6599999999999999E-2,null,"300","Truro",3.9803273023448043,82.5,2045785,-4.9114887445966815E-6]
[301,"Tyngsborough",1683280600,6297235.8516635494,551249000,8152463.7774318391,14449700,19791172.952708513,0.73010831821478739,16327718,14449700,73.010000000000005,null,13303069,5.2900000000000003E-2,14006801,70.772970523119525,2.2370294768804797,0,0,0,0,0,{"$f":"MIN(H310*parameters!C$22,ROUND(P310+T310-V310+W310,0))","v":14006801},70.772970523119525,null,-442899,-442899,0,-2.2370294768804797,null,-3.0651086181720036E-2,-2.2370294768804797,0,null,null,5.2900000000000003E-2,null,"301","Tyngsborough",0.73010831821478739,73.010000000000005,14006801,-2.2370294768804797]
[302,"Tyringham",201948700,755500.05972673045,10385000,153584.56220080153,909085,323808.92999999993,2.8074735307639607,267142,267142,82.5,null,244025,3.15E-2,251712,77.734730787072507,4.7652692129274925,0.01,2440,0,0,12990,{"$f":"MIN(H311*parameters!C$22,ROUND(P311+T311-V311+W311,0))","v":267142},82.499886584350861,null,-15430,0,0,-1.1341564913891489E-4,null,-5.7759543613508921E-2,-4.7652692129274925,2440.25,null,null,3.15E-2,null,"302","Tyringham",2.8074735307639607,82.5,267142,-1.1341564913891489E-4]
[303,"Upton",1214624300,4543969.4892590949,432525000,6396645.4276265465,10940615,14405443.122733131,0.75947785200267048,11884491,10940615,75.95,null,9765543,4.5600000000000002E-2,10210852,70.881901466025184,5.068098533974819,0.01,97655,0,0,0,{"$f":"MIN(H312*parameters!C$22,ROUND(P312+T312-V312+W312,0))","v":10308507},71.559804944370057,null,-729763,-632108,0,-4.3901950556299454,null,-6.6702191787207571E-2,-5.068098533974819,97655.430000000008,null,null,4.5600000000000002E-2,null,"303","Upton",0.75947785200267048,75.95,10308507,-4.3901950556299454]
[304,"Uxbridge",1755491600,6567380.7687287591,516790000,7642846.9811990587,14210228,21798649.414154433,0.65188570768851983,17983886,14210228,65.19,null,13180676,5.5399999999999998E-2,13910885,63.815352665689915,1.3746473343100831,0,0,0,0,0,{"$f":"MIN(H313*parameters!C$22,ROUND(P313+T313-V313+W313,0))","v":13910885},63.815352665689915,null,-299343,-299343,0,-1.3746473343100831,null,-2.1065319993458231E-2,-1.3746473343100831,0,null,null,5.5399999999999998E-2,null,"304","Uxbridge",0.65188570768851983,65.19,13910885,-1.3746473343100831]
[305,"Wakefield",5099399000,19077103.487521484,1302249000,19259060.427677575,38336164,40495508.698888898,0.94667693360898209,33408795,33408795,82.5,null,32297920,4.4400000000000002E-2,33731948,83.297997935572354,0,0,0,323153,323153,0,{"$f":"MIN(H314*parameters!C$22,ROUND(P314+T314-V314+W314,0))","v":33408795},82.500000798648216,null,0,0,0,7.9864821600494906E-7,null,9.6726924751401547E-3,0.79799793557235432,0,null,null,4.4400000000000002E-2,null,"305","Wakefield",0.94667693360898209,82.5,33408795,7.9864821600494906E-7]
[306,"Wales",170538800,637994.07268145296,44030000,651163.04994716344,1289157,3331037.3696770472,0.38701367079679061,2748106,1289157,38.700000000000003,null,1218346,3.4599999999999999E-2,1260501,37.841094533328786,0.85890546667121725,0,0,0,0,0,{"$f":"MIN(H315*parameters!C$22,ROUND(P315+T315-V315+W315,0))","v":1260501},37.841094533328786,null,-28656,-28656,0,-0.85890546667121725,null,-2.222847954128163E-2,-0.85890546667121725,0,null,null,3.4599999999999999E-2,null,"306","Wales",0.38701367079679061,38.700000000000003,1260501,-0.85890546667121725]
[307,"Walpole",4736050400,17717798.431328382,1393858000,20613872.961009614,38331671,41877328.132185891,0.91533229815918493,34548796,34548796,82.5,null,33475661,5.0599999999999999E-2,35169529,83.98226574767925,0,0,0,620733,620733,0,{"$f":"MIN(H316*parameters!C$22,ROUND(P316+T316-V316+W316,0))","v":34548796},82.500000694759322,null,0,0,0,6.9475932207296864E-7,null,1.7966848974997566E-2,1.48226574767925,0,null,null,5.0599999999999999E-2,null,"307","Walpole",0.91533229815918493,82.5,34548796,6.9475932207296864E-7]
[308,"Waltham",12407269700,46416208.66782333,2443219000,36132953.343830541,82549162,80607559.147039995,1.0240871063893429,66501236,66501236,82.5,null,60191416,4.9299999999999997E-2,63158853,78.353511343506881,4.1464886564931192,0.01,601914,0,0,0,{"$f":"MIN(H317*parameters!C$22,ROUND(P317+T317-V317+W317,0))","v":63760767},79.100232874799033,null,-3342383,-2740469,0,-3.3997671252009667,null,-5.0260464331820839E-2,-4.1464886564931192,601914.16,null,null,4.9299999999999997E-2,null,"308","Waltham",1.0240871063893429,82.5,63760767,-3.3997671252009667]
[309,"Ware",757553700,2834045.8027023976,235779000,3486953.7304903981,6321000,18523708.279777206,0.34123836893397813,15282059,6321000,34.119999999999997,null,5973405,3.0700000000000002E-2,6156789,33.237345929926569,0.88265407007342844,0,0,0,0,0,{"$f":"MIN(H318*parameters!C$22,ROUND(P318+T318-V318+W318,0))","v":6156789},33.237345929926569,null,-164211,-164211,0,-0.88265407007342844,null,-2.5978642619838632E-2,-0.88265407007342844,0,null,null,3.0700000000000002E-2,null,"309","Ware",0.34123836893397813,34.119999999999997,6156789,-0.88265407007342844]
[310,"Wareham",3709170100,13876188.517611666,564213000,8344189.3686086508,22220378,34904748.649043456,0.63660043002799094,28796418,22220378,63.66,null,20807089,3.7100000000000001E-2,21579032,61.822625388225966,1.8373746117740311,0,0,0,0,0,{"$f":"MIN(H319*parameters!C$22,ROUND(P319+T319-V319+W319,0))","v":21579032},61.822625388225966,null,-641346,-641346,0,-1.8373746117740311,null,-2.8862965337493357E-2,-1.8373746117740311,0,null,null,3.7100000000000001E-2,null,"310","Wareham",0.63660043002799094,63.66,21579032,-1.8373746117740311]
[311,"Warren",395108500,1478120.4105227659,100434000,1485326.1357800001,2963447,9852849.715985056,0.30077054714355034,8128601,2963447,30.08,null,2780663,3.7900000000000003E-2,2886050,29.291525631591977,0.78847436840802132,0,0,0,0,0,{"$f":"MIN(H320*parameters!C$22,ROUND(P320+T320-V320+W320,0))","v":2886050},29.291525631591977,null,-77397,-77397,0,-0.78847436840802132,null,-2.6117220925496558E-2,-0.78847436840802132,0,null,null,3.7900000000000003E-2,null,"311","Warren",0.30077054714355034,30.08,2886050,-0.78847436840802132]
[312,"Warwick",78434800,293428.46022110642,16675000,246607.85505039632,540036,807844.75019948499,0.66848983033763143,666472,540036,66.849999999999994,null,495383,2.7400000000000001E-2,508956,63.001709161855793,3.8482908381442016,0.01,4954,0,0,0,{"$f":"MIN(H321*parameters!C$22,ROUND(P321+T321-V321+W321,0))","v":513910},63.614945801541417,null,-31080,-26126,0,-3.2350541984585774,null,-5.7551718774303935E-2,-3.8482908381442016,4953.83,null,null,2.7400000000000001E-2,null,"312","Warwick",0.66848983033763143,66.849999999999994,513910,-3.2350541984585774]
[313,"Washington",85102900,318374.15161829698,15617000,230961.01183340565,549335,699785.50548775517,0.78500482746796796,577323,549335,78.5,null,491122,3.7199999999999997E-2,509392,72.792590873249139,5.7074091267508607,0.01,4911,0,0,0,{"$f":"MIN(H322*parameters!C$22,ROUND(P322+T322-V322+W322,0))","v":514303},73.494377343744404,null,-39943,-35032,0,-5.0056226562555963,null,-7.2711551239225611E-2,-5.7074091267508607,4911.22,null,null,3.7199999999999997E-2,null,"313","Washington",0.78500482746796796,78.5,514303,-5.0056226562555963]
[314,"Watertown",7951185300,29745776.868324984,1646462000,24349652.908065103,54095430,33386330.968360007,1.6202867590112211,27543723,27543723,82.5,null,25692240,6.5699999999999995E-2,27380220,82.010269490073782,0.48973050992621836,0,0,0,0,0,{"$f":"MIN(H323*parameters!C$22,ROUND(P323+T323-V323+W323,0))","v":27380220},82.010269490073782,null,-163503,-163503,0,-0.48973050992621836,null,-5.936125628332815E-3,-0.48973050992621836,0,null,null,6.5699999999999995E-2,null,"314","Watertown",1.6202867590112211,82.5,27380220,-0.48973050992621836]
[315,"Wayland",3847489100,14393646.72735177,2043303000,30218564.920422185,44612212,28672242.811399993,1.5559372977359947,23654600,23654600,82.5,null,22568639,3.8100000000000002E-2,23428504,81.711445296092776,0.7885547039072236,0,0,0,0,0,{"$f":"MIN(H324*parameters!C$22,ROUND(P324+T324-V324+W324,0))","v":23428504},81.711445296092776,null,-226096,-226096,0,-0.7885547039072236,null,-9.5582254614324479E-3,-0.7885547039072236,0,null,null,3.8100000000000002E-2,null,"315","Wayland",1.5559372977359947,82.5,23428504,-0.7885547039072236]
[316,"Webster",1607119100,6012311.9190070024,459590000,6796911.7902615676,12809224,28613523.137272451,0.4476632932808785,23606157,12809224,44.77,null,12071730,3.7400000000000003E-2,12523213,43.766763498225266,1.0032365017747367,0,0,0,0,0,{"$f":"MIN(H325*parameters!C$22,ROUND(P325+T325-V325+W325,0))","v":12523213},43.766763498225266,null,-286011,-286011,0,-1.0032365017747367,null,-2.232851888607772E-2,-1.0032365017747367,0,null,null,3.7400000000000003E-2,null,"316","Webster",0.4476632932808785,44.77,12523213,-1.0032365017747367]
[317,"Wellesley",12421188300,46468278.837778933,6394802000,94573217.672682717,141041497,53380824.749553218,2.6421753066147686,44039180,44039180,82.5,null,43743817,4.4900000000000002E-2,45707914,85.62609179316317,0,0,0,1668734,1668734,0,{"$f":"MIN(H326*parameters!C$22,ROUND(P326+T326-V326+W326,0))","v":44039180},82.49999921623278,null,0,0,0,-7.8376722001394228E-7,null,3.7892031595502008E-2,3.1260917931631695,0,null,null,4.4900000000000002E-2,null,"317","Wellesley",2.6421753066147686,82.5,44039180,-7.8376722001394228E-7]
[318,"Wellfleet",2523728900,9441394.4466296434,125745000,1859652.45776984,11301047,3331488.9707217356,3.3921910290916362,2748478,2748478,82.5,null,2605008,3.5499999999999997E-2,2697486,80.969381069738773,1.5306189302612268,0,0,0,0,50992,{"$f":"MIN(H327*parameters!C$22,ROUND(P327+T327-V327+W327,0))","v":2748478},82.499987967979621,null,-50992,0,0,-1.2032020379137975E-5,null,-1.8552813593559783E-2,-1.5306189302612268,0,null,null,3.5499999999999997E-2,null,"318","Wellfleet",3.3921910290916362,82.5,2748478,-1.2032020379137975E-5]
[319,"Wendell",95742900,358178.91706364229,17675000,261396.93181503777,619576,1556401.2486058066,0.39808243571829816,1284031,619576,39.81,null,604705,5.0000000000000001E-4,605007,38.872173903866582,0.93782609613342061,0,0,0,0,0,{"$f":"MIN(H328*parameters!C$22,ROUND(P328+T328-V328+W328,0))","v":605007},38.872173903866582,null,-14569,-14569,0,-0.93782609613342061,null,-2.3514467958733069E-2,-0.93782609613342061,0,null,null,5.0000000000000001E-4,null,"319","Wendell",0.39808243571829816,39.81,605007,-0.93782609613342061]
[320,"Wenham",823685800,3081449.2546674465,362076000,5354769.7586343205,8436219,7056479.2927652476,1.1955280600978095,5821595,5821595,82.5,null,5393622,1.77E-2,5489089,77.787927552310165,4.7120724476898346,0.01,53936,0,0,0,{"$f":"MIN(H329*parameters!C$22,ROUND(P329+T329-V329+W329,0))","v":5543025},78.552274725486157,null,-332506,-278570,0,-3.9477252745138429,null,-5.7115962206233856E-2,-4.7120724476898346,53936.22,null,null,1.77E-2,null,"320","Wenham",1.1955280600978095,82.5,5543025,-3.9477252745138429]
[321,"Westborough",4223552400,15800518.104147121,1224496000,18109165.341996405,33909683,41692136.782100096,0.81333521419699994,{"$f":"ROUND(H330*maxloc,0)","v":34396013},33909683,81.33,null,31837758,4.6199999999999998E-2,33308662,79.891952226110377,1.4380477738896218,0,0,0,{"$f":"MAX(U330*(V$5),0)","v":0},0,{"$f":"MIN(H330*parameters!C$22,ROUND(P330+T330-V330+W330,0))","v":33308662},79.891952226110377,null,-601021,-601021,0,-1.4380477738896218,null,-1.7724170408788546E-2,-1.4380477738896218,{"$f":"IF(AF330<$AH$5, $AH$6*(N330), IF(AND(AF330<$AH$4, AF330>$AH$5), $AH$7*(N330), 0))","v":0},null,null,4.6199999999999998E-2,null,"321","Westborough",0.81333521419699994,81.33,33308662,-1.4380477738896218]
[322,"West Boylston",974854400,{"$f":"D$5*C331","v":3646978.4525716975},281516000,4163361.7344748047,{"$f":"ROUND(D331+F331,0)","v":7810340},{"$f":"(SUMIF(town1755,A331,found1755)/2)","v":9780274.5099999979},{"$f":"G331/H331","v":0.79858085701113946},8068726,{"$f":"MIN(G331,J331)","v":7810340},{"$f":"IF(H331>0, ROUND((K331*100/H331), 2), 0)","v":79.86},null,7267000,3.7999999999999999E-2,{"$f":"ROUND(N331*(1+O331),0)","v":7543146},{"$f":"P331*100/H331","v":77.126117393610883},{"$f":"IF(L331>Q331,L331-Q331,0)","v":2.7338826063891162},{"$f":"IF(AND(R331>$T$4,R331<=$T$5),$S$4,IF(R331>$T$5,$S$5,0))","v":0.01},{"$f":"ROUND(S331*N331,0)","v":72670},{"$f":"MAX(P331-K331,0)","v":0},0,{"$f":"IF(AND(I331>1.75,$W$5=1),MAX(K331-(P331+T331),0),0)","v":0},{"$f":"MIN(H331*parameters!C$22,ROUND(P331+T331-V331+W331,0))","v":7615816},{"$f":"X331*100/H331","v":77.869143572740086},null,{"$f":"IF(Q331<L331, P331-K331, 0)","v":-267194},{"$f":"-1*MAX(K331-(P331+T331+W331),0)","v":-194524},{"$f":"IF(Q331>L331, X331-K331,0)","v":0},{"$f":"Y331-L331","v":-1.9908564272599136},null,-3.4210290461106685E-2,-2.7338826063891162,0,null,null,3.7999999999999999E-2,null,{"$f":"TEXT(A331,\"000\")","v":"322"},{"$f":"B331","v":"West Boylston"},{"$f":"I331","v":0.79858085701113946},{"$f":"L331","v":79.86},{"$f":"X331","v":7615816},{"$f":"AD331","v":-1.9908564272599136}]
[323,"West Bridgewater",1268319800,4744847.0064555742,277075000,{"$f":"E332*F$5","v":4097683.4445630321},8842530,13062865.111208353,0.6769211750041596,10776864,8842530,67.69,null,8093787,5.04E-2,8501714,65.083072722731089,2.6069272772689089,0.01,80938,0,0,0,{"$f":"MIN(H332*parameters!C$22,ROUND(P332+T332-V332+W332,0))","v":8582652},65.702676456758411,null,-340816,-259878,0,-1.9873235432415868,null,-3.8542815235006272E-2,-2.6069272772689089,0,null,null,5.04E-2,null,"323","West Bridgewater",0.6769211750041596,67.69,8582652,-1.9873235432415868]
[324,"West Brookfield",391008700,1462782.8562584023,132520000,1959848.4528502859,3422631,6423760.0834521614,0.53280803696526924,5299602,3422631,53.28,null,3232261,4.6899999999999997E-2,3383854,52.677154128419744,0.60284587158025715,0,0,0,0,0,{"$f":"MIN(H333*parameters!C$22,ROUND(P333+T333-V333+W333,0))","v":3383854},52.677154128419744,null,-38777,-38777,0,-0.60284587158025715,null,-1.1329588261194385E-2,-0.60284587158025715,0,null,null,4.6899999999999997E-2,null,"324","West Brookfield",0.53280803696526924,53.28,3383854,-0.60284587158025715]
[325,"Westfield",3343027700,12506431.717649654,1132924000,16754900.004504658,29261332,65801552.82,0.44469059993225857,54286281,29261332,44.47,null,27712077,9.9000000000000008E-3,27986427,42.531560123750893,1.938439876249106,0,0,0,0,0,{"$f":"MIN(H334*parameters!C$22,ROUND(P334+T334-V334+W334,0))","v":27986427},{"$f":"X334*100/H334","v":42.531560123750893},null,-1274905,-1274905,0,{"$f":"Y334-L334","v":-1.938439876249106},null,-4.3569616037984871E-2,-1.938439876249106,0,null,null,9.9000000000000008E-3,null,"325","Westfield",0.44469059993225857,44.47,27986427,-1.938439876249106]
[326,"Westford",4774432100,17861386.266468756,1547244000,22882310.289630909,40743697,51056164.942417063,0.79801718452516313,42121336,40743697,79.8,null,38101321,3.5099999999999999E-2,39438677,77.245670614861737,2.55432938513826,0.01,381013,0,0,0,{"$f":"MIN(H335*parameters!C$22,ROUND(P335+T335-V335+W335,0))","v":39819690},77.991933089588784,null,-1305020,-924007,0,-1.8080669104112133,null,-3.2029984907849675E-2,-2.55432938513826,0,null,null,3.5099999999999999E-2,null,"326","Westford",0.79801718452516313,79.8,39819690,-1.8080669104112133]
[327,"Westhampton",235299300,880266.30131146114,64588000,955196.89007466251,1835463,2409762.7917461675,0.76167787397446818,1988054,1835463,76.17,null,1686691,3.7699999999999997E-2,1750279,72.632833654623283,3.5371663453767184,0.01,16867,0,0,0,{"$f":"MIN(H336*parameters!C$22,ROUND(P336+T336-V336+W336,0))","v":1767146},73.332778066487066,null,-85184,-68317,0,-2.8372219335129358,null,-4.6410088353728729E-2,-3.5371663453767184,0,null,null,3.7699999999999997E-2,null,"327","Westhampton",0.76167787397446818,76.17,1767146,-2.8372219335129358]
[328,"Westminster",1012450300,3787626.5711061582,293073000,4334279.0946437661,8121906,14863649.120713029,0.54642745762087674,12262511,8121906,54.64,null,7831541,4.1099999999999998E-2,8153417,54.854746191753954,0,0,0,31511,31511,0,{"$f":"MIN(H337*parameters!C$22,ROUND(P337+T337-V337+W337,0))","v":8121906},54.642745762087671,null,0,0,0,2.7457620876703004E-3,null,3.8797543335271304E-3,0.21474619175395304,0,null,null,4.1099999999999998E-2,null,"328","Westminster",0.54642745762087674,54.64,8121906,2.7457620876703004E-3]
[329,"West Newbury",955510900,3574613.4638130474,316683000,4683449.197056951,8258063,6805775.6165467044,1.2133904297288889,5614765,5614765,82.5,null,5594136,4.6600000000000003E-2,5854823,86.027270510730943,0,0,0,240058,240058,0,{"$f":"MIN(H338*parameters!C$22,ROUND(P338+T338-V338+W338,0))","v":5614765},82.500001709562227,null,0,0,0,1.7095622268925581E-6,null,4.275477246153668E-2,3.5272705107309434,0,null,null,4.6600000000000003E-2,null,"329","West Newbury",1.2133904297288889,82.5,5614765,1.7095622268925581E-6]
[330,"Weston",6495550900,24300176.692932501,4689774000,69357427.694819629,93657604,22483634.176800013,4.1655901027175419,18548998,18548998,82.5,null,18569791,4.2299999999999997E-2,19355293,86.086140913874033,0,0,0,806295,806295,0,{"$f":"MIN(H339*parameters!C$22,ROUND(P339+T339-V339+W339,0))","v":18548998},82.499999128877434,null,0,0,0,-8.711225660817945E-7,null,4.3468385731671326E-2,3.5861409138740328,0,null,null,4.2299999999999997E-2,null,"330","Weston",4.1655901027175419,82.5,18548998,-8.711225660817945E-7]
[331,"Westport",3393226100,12694226.411045482,684599000,10124587.163996777,22818814,19793015.810481437,1.1528720139715265,16329238,16329238,82.5,null,15349744,5.2000000000000005E-2,16147931,81.583984748038375,0.9160152519616247,0,0,0,0,0,{"$f":"MIN(H340*parameters!C$22,ROUND(P340+T340-V340+W340,0))","v":16147931},81.583984748038375,null,-181307,-181307,0,-0.9160152519616247,null,-1.1103212532023846E-2,-0.9160152519616247,0,null,null,5.2000000000000005E-2,null,"331","Westport",1.1528720139715265,82.5,16147931,-0.9160152519616247]
[332,"West Springfield",2823620200,10563302.609749915,798438000,11808160.873806797,22371463,54151516.57,0.41312717384528092,44675001,22371463,41.31,null,20465981,3.5999999999999999E-3,20539659,37.929979252656786,3.3800207473432167,0.01,204660,0,0,0,{"$f":"MIN(H341*parameters!C$22,ROUND(P341+T341-V341+W341,0))","v":20744319},38.307918806271026,null,-1831804,-1627144,0,-3.0020811937289764,null,-8.1881278841710078E-2,-3.3800207473432167,204659.81,null,null,3.5999999999999999E-3,null,"332","West Springfield",0.41312717384528092,41.31,20744319,-3.0020811937289764]
[333,"West Stockbridge",396939400,1484969.8978398601,56491000,835449.73551136057,2320420,1700035.7100759731,1.3649242696768427,1402529,1402529,82.5,null,1355897,3.5200000000000002E-2,1403625,82.564442127940552,0,0,0,1096,1096,0,{"$f":"MIN(H342*parameters!C$22,ROUND(P342+T342-V342+W342,0))","v":1402529},82.499972893941276,null,0,0,0,-2.7106058723802562E-5,null,7.8144551734759139E-4,6.4442127940552041E-2,0,null,null,3.5200000000000002E-2,null,"333","West Stockbridge",1.3649242696768427,82.5,1402529,-2.7106058723802562E-5]
[334,"West Tisbury",2646075100,9899097.6227696165,118940000,1759012.7903864549,11658110,4523528.4322220813,2.5772160327227605,3731911,3731911,82.5,null,3574448,3.44E-2,3697409,81.737277777730938,0.76272222226906194,0,0,0,0,34502,{"$f":"MIN(H343*parameters!C$22,ROUND(P343+T343-V343+W343,0))","v":3731911},82.500000959799053,null,-34502,0,0,9.5979905267995491E-7,null,-9.2451293720563002E-3,-0.76272222226906194,0,null,null,3.44E-2,null,"334","West Tisbury",2.5772160327227605,82.5,3731911,9.5979905267995491E-7]
[335,"Westwood",4713941600,17635088.318708263,1865565000,27589983.99442834,45225072,32738913.976485576,1.381385834376867,27009604,27009604,82.5,null,26072948,4.3499999999999997E-2,27207121,83.103309473067014,0,0,0,197517,197517,0,{"$f":"MIN(H344*parameters!C$22,ROUND(P344+T344-V344+W344,0))","v":27009604},82.499999906531414,null,0,0,0,-9.3468585760092537E-8,null,7.3128432390197201E-3,0.60330947306701432,0,null,null,4.3499999999999997E-2,null,"335","Westwood",1.381385834376867,82.5,27009604,-9.3468585760092537E-8]
[336,"Weymouth",8154408700,30506045.643701449,2022936000,29917355.793956731,60423401,74317579.263344958,0.81304318034753498,61312003,60423401,81.3,null,54613979,4.5100000000000001E-2,57077069,76.801571802745258,4.4984281972547393,0.01,546140,0,0,0,{"$f":"MIN(H345*parameters!C$22,ROUND(P345+T345-V345+W345,0))","v":57623209},77.536445039217014,null,-3346332,-2800192,0,-3.763554960782983,null,-5.5381391060724969E-2,-4.4984281972547393,546139.79,null,null,4.5100000000000001E-2,null,"336","Weymouth",0.81304318034753498,81.3,57623209,-3.763554960782983]
[337,"Whately",280732300,1050233.3979729626,39876000,589729.22506684274,1639963,1970772.524353645,0.83214220806019168,1625887,1625887,82.5,null,1529347,4.4999999999999998E-2,1598168,81.093478838921385,1.406521161078615,0,0,0,0,0,{"$f":"MIN(H346*parameters!C$22,ROUND(P346+T346-V346+W346,0))","v":1598168},81.093478838921385,null,-27719,-27719,0,-1.406521161078615,null,-1.704854027370906E-2,-1.406521161078615,0,null,null,4.4999999999999998E-2,null,"337","Whately",0.83214220806019168,82.5,1598168,-1.406521161078615]
[338,"Whitman",1638287500,6128914.4426260525,477125000,7056238.2513295552,13185153,27064435.090483584,0.48717636100360256,22328159,13185153,48.72,null,11839664,3.0700000000000002E-2,12203142,45.089217488566305,3.6307825114336936,0.01,118397,0,0,0,{"$f":"MIN(H347*parameters!C$22,ROUND(P347+T347-V347+W347,0))","v":12321539},45.526680896186555,null,-982011,-863614,0,-3.1933191038134439,null,-7.4478544162513705E-2,-3.6307825114336936,118396.64,null,null,3.0700000000000002E-2,null,"338","Whitman",0.48717636100360256,48.72,12321539,-3.1933191038134439]
[339,"Wilbraham",1748349400,6540661.4458186328,1195002000,17672976.311900072,24213638,25391665.202379856,0.95360575239982903,20948124,20948124,82.5,null,15765151,3.9300000000000002E-2,16384721,64.527949897765382,17.972050102234618,0.02,315303,0,0,0,{"$f":"MIN(H348*parameters!C$22,ROUND(P348+T348-V348+W348,0))","v":16700024},65.769707763927101,null,-4563403,-4248100,0,-16.730292236072899,null,-0.21784303930986851,-17.972050102234618,315303.02,null,null,3.9300000000000002E-2,null,"339","Wilbraham",0.95360575239982903,82.5,16700024,-16.730292236072899]
[340,"Williamsburg",322631400,1206980.0002164841,68926991.310000002,1019366.5656393648,2226347,3390720.8840562184,0.65659990194671736,2797345,2226347,65.66,null,2095435,3.9899999999999998E-2,2179043,64.264888633159202,1.3951113668407942,0,0,0,0,0,{"$f":"MIN(H349*parameters!C$22,ROUND(P349+T349-V349+W349,0))","v":2179043},64.264888633159202,null,-47304,-47304,0,-1.3951113668407942,null,-2.1247361709562797E-2,-1.3951113668407942,0,null,null,3.9899999999999998E-2,null,"340","Williamsburg",0.65659990194671736,65.66,2179043,-1.3951113668407942]
[341,"Williamstown",1008880400,3774271.3989103558,270473000,4000045.9597628689,7774317,7895175.7365849847,0.98469207771716283,6513520,6513520,82.5,null,6427394,4.1099999999999998E-2,6691560,84.755048187114809,0,0,0,178040,178040,0,{"$f":"MIN(H350*parameters!C$22,ROUND(P350+T350-V350+W350,0))","v":6513520},82.500000219341388,null,0,0,0,2.1934138771939615E-7,null,2.7333914688217737E-2,2.2550481871148094,0,null,null,4.1099999999999998E-2,null,"341","Williamstown",0.98469207771716283,82.5,6513520,2.1934138771939615E-7]
[342,"Wilmington",4633611500,17334569.447589736,1076943000,15926992.698143266,33261562,39919973.46884948,0.83320601467720912,32933978,32933978,82.5,null,30585401,5.6299999999999996E-2,32307359,80.930311802963033,1.5696881970369674,0,0,0,0,0,{"$f":"MIN(H351*parameters!C$22,ROUND(P351+T351-V351+W351,0))","v":32307359},80.930311802963033,null,-626619,-626619,0,-1.5696881970369674,null,-1.9026520270342077E-2,-1.5696881970369674,0,null,null,5.6299999999999996E-2,null,"342","Wilmington",0.83320601467720912,82.5,32307359,-1.5696881970369674]
[343,"Winchendon",724421600,2710096.9804080622,239500000,3541983.8851316292,6252081,18159522.039480984,0.34428664952784682,14981606,6252081,34.43,null,5836106,3.4200000000000001E-2,6035701,33.237113768069776,1.192886231930224,0,0,0,0,0,{"$f":"MIN(H352*parameters!C$22,ROUND(P352+T352-V352+W352,0))","v":6035701},33.237113768069776,null,-216380,-216380,0,-1.192886231930224,null,-3.4609276495298123E-2,-1.192886231930224,0,null,null,3.4200000000000001E-2,null,"343","Winchendon",0.34428664952784682,34.43,6035701,-1.192886231930224]
[344,"Winchester",7681074900,28735280.522803515,2486560000,36773926.719886862,65509207,50604135.927111231,1.2945425467664859,41748412,41748412,82.5,null,38936263,3.6799999999999999E-2,40369117,79.774343065844533,2.7256569341554666,0.01,389363,0,0,0,{"$f":"MIN(H353*parameters!C$22,ROUND(P353+T353-V353+W353,0))","v":40758480},80.543772269340522,null,-1379295,-989932,0,-1.956227730659478,null,-3.3038262629007303E-2,-2.7256569341554666,0,null,null,3.6799999999999999E-2,null,"344","Winchester",1.2945425467664859,82.5,40758480,-1.956227730659478]
[345,"Windsor",121136700,453178.37691007188,24195000,357821.71232050005,811000,814293.27124216838,0.9959556693411642,671792,671792,82.5,null,695862,3.1800000000000002E-2,717990,88.173392235544085,0,0,0,46198,46198,0,{"$f":"MIN(H354*parameters!C$22,ROUND(P354+T354-V354+W354,0))","v":671792},82.500006290757014,null,0,0,0,6.2907570139714153E-6,null,6.8768309238573841E-2,5.6733922355440853,0,null,null,3.1800000000000002E-2,null,"345","Windsor",0.9959556693411642,82.5,671792,6.2907570139714153E-6]
[346,"Winthrop",2386490000,8927976.9443291537,649863000,9610873.7935001925,18538851,24645450.421840601,0.75222204028257555,20332497,18538851,75.22,null,16561471,4.2799999999999991E-2,17270302,70.075010618167468,5.1449893818325307,0.01,165615,0,0,0,{"$f":"MIN(H355*parameters!C$22,ROUND(P355+T355-V355+W355,0))","v":17435917},70.747000771178563,null,-1268549,-1102934,0,-4.4729992288214362,null,-6.8426516832138087E-2,-5.1449893818325307,165614.71,null,null,4.2799999999999991E-2,null,"346","Winthrop",0.75222204028257555,75.22,17435917,-4.4729992288214362]
[347,"Woburn",7909145900,29588505.396852892,1612404000,23845966.531614944,53434472,57160692.765295491,0.93481148346827203,47157572,47157572,82.5,null,45999749,4.8799999999999996E-2,48244537,84.401596037497924,0,0,0,1086965,1086965,0,{"$f":"MIN(H356*parameters!C$22,ROUND(P356+T356-V356+W356,0))","v":47157572},82.500000819848736,null,0,0,0,8.1984873645524203E-7,null,2.3049638772751065E-2,1.9015960374979244,0,null,null,4.8799999999999996E-2,null,"347","Woburn",0.93481148346827203,82.5,47157572,8.1984873645524203E-7]
[348,"Worcester",13336462800,49892365.942159168,4174376000,61735167.108476952,111627533,398714407.20999992,0.27996864668400762,328939386,111627533,28,null,104076553,1.09E-2,105210987,26.387555878959287,1.6124441210407134,0,0,0,0,0,{"$f":"MIN(H357*parameters!C$22,ROUND(P357+T357-V357+W357,0))","v":105210987},26.387555878959287,null,-6416546,-6416546,0,-1.6124441210407134,null,-5.748175049250618E-2,-1.6124441210407134,1040765.53,null,null,1.09E-2,null,"348","Worcester",0.27996864668400762,28,105210987,-1.6124441210407134]
[349,"Worthington",177583800,664349.76559145842,34426000,509128.75669954682,1173479,1388660.63,0.84504375989978209,1145645,1145645,82.5,null,968704,3.1399999999999997E-2,999121,71.948536482956243,10.551463517043757,0.02,19374,0,0,0,{"$f":"MIN(H358*parameters!C$22,ROUND(P358+T358-V358+W358,0))","v":1018495},73.343693772034143,null,-146524,-127150,0,-9.1563062279658567,null,-0.12789651244495459,-10.551463517043757,19374.080000000002,null,null,3.1399999999999997E-2,null,"349","Worthington",0.84504375989978209,82.5,1018495,-9.1563062279658567]
[350,"Wrentham",2225687600,8326407.2248696992,709995000,10500170.557511611,18826578,19629898.275377851,0.95907669697985798,16194666,16194666,82.5,null,15844820,4.4199999999999996E-2,16545161,84.285515736741772,0,0,0,350495,350495,0,{"$f":"MIN(H359*parameters!C$22,ROUND(P359+T359-V359+W359,0))","v":16194666},82.499999606789984,null,0,0,0,-3.9321001565895131E-7,null,2.1642619860144076E-2,1.7855157367417718,0,null,null,4.4199999999999996E-2,null,"350","Wrentham",0.95907669697985798,82.5,16194666,-3.9321001565895131E-7]
[351,"Yarmouth",6274212500,23472138.80796558,772153000,11419429.991048196,34891569,30919390.905625533,1.1284688338945177,25508497,25508497,82.5,null,23635715,2.5000000000000001E-2,24226608,78.35409201282863,4.1459079871713698,0.01,236357,0,0,0,{"$f":"MIN(H360*parameters!C$22,ROUND(P360+T360-V360+W360,0))","v":24462965},79.118521689730827,null,-1281889,-1045532,0,-3.3814783102691734,null,-5.0253411637698607E-2,-4.1459079871713698,236357.15,null,null,2.5000000000000001E-2,null,"351","Yarmouth",1.1284688338945177,82.5,24462965,-3.3814783102691734]
[999,"STATE TOTAL",{"$f":"SUM(C10:C360)","v":1249672575100},4675086817.2308445,316117557007.22998,4675086817.2308464,9350173635,11950816670.548939,0.7823878394890077,9859423751,7050981832,{"$f":"K361*100/H361","v":58.999999969676765},null,6513607362,4.4999999999999998E-2,{"$f":"SUM(P10:P360)","v":6800592576},null,null,null,{"$f":"SUM(T10:T360)","v":18852326},{"$f":"SUM(U10:U360)","v":29712230},{"$f":"SUM(V10:V360)","v":29712230},{"$f":"SUM(W10:W360)","v":2860454},{"$f":"SUM(X10:X360)","v":6792593126},56.837899143239007,null,{"$f":"SUM(AA10:AA360)","v":-280101486},{"$f":"SUM(AB10:AB360)","v":-258388706},{"$f":"SUM(AC10:AC360)","v":0},null,null,null,null,null,null,null,4.4999999999999998E-2,null,{"$f":"TEXT(A361,\"000\")","v":"999"},{"$f":"B361","v":"STATE TOTAL"},{"$f":"I361","v":0.7823878394890077},{"$f":"L361","v":58.999999969676765},{"$f":"X361","v":6792593126},{"$f":"AD361","v":0}]
[]
[null,null,null,null,null,null,null,null,null,null,null,null,null,null,null,null,null,null,null,null,null,null,null,null,null,null,null,null,null,null,"min",{"$f":"MIN(AF10:AF360)","v":-0.64512881989501192},{"$f":"MIN(AG10:AG360)","v":-45.642656359803233}]
[null,null,null,null,null,null,null,null,null,null,{"$f":"H361-K361","v":4899834838.5489388},{"$f":"COUNTIF(L10:L360,\">82.499\")","v":157},null,null,1,"negative",null,{"$f":"COUNTIF(R10:R360,\">0\")","v":260},{"$f":"COUNTIF(S10:S360,\".01\")","v":87},{"$f":"COUNTIF(T10:T360,\">0\")","v":99},{"$f":"COUNTIF(U10:U360,\">0\")","v":91},null,{"$f":"COUNTIF(W10:W360,\">0\")","v":16},null,null,null,{"$f":"COUNTIF(AA10:AA360,\"<0\")","v":260},{"$f":"COUNTIF(AB10:AB360,\">0\")","v":0},{"$f":"COUNTIF(AC10:AC360,\">0\")","v":0},null,"median",{"$f":"MEDIAN(AF10:AF360)","v":-2.1247361709562797E-2},{"$f":"MEDIAN(AG10:AG360)","v":-1.3347006631359548}]
[null,null,null,null,null,null,null,null,null,null,null,{"$f":"L364/351","v":0.44729344729344728},null,null,null,null,null,null,{"$f":"COUNTIF(S10:S360,\".02\")","v":12},null,{"$f":"U364/351","v":0.25925925925925924},null,null,null,null,null,null,null,null,null,"max",{"$f":"MAX(AF10:AF360)","v":2.45838779956427},{"$f":"MAX(AG10:AG360)","v":202.82629562522698}]

{"sheet":"Aid436","index":13,"n_rows":451,"n_cols":60,"rows_kept":451,"cut":false,"hidden":false,"merged":[[4,60,4,65],[4,53,4,59],[4,7,4,10],[4,43,4,47],[4,28,4,31],[4,22,4,23],[4,32,4,34]]}
[null,null,null,"c70fy20","c70fy20",null,null,null,null,null,null,null,null,null,null,null,null,null,null,null,null,null,null,null,null,null,null,null,null,null,null,null,"c70fy21minaidadj revised MRGFs"]
[null,null,null,47,null,null,49,null,null,null,null,null,null,null,null,null,null,null,null,null,null,null,null,null,null,null,null,null,null,null,null,null,"2020-01-08"]
[1,2,3,4,5,6,7,8,9,10,11,12,13,14,15,16,17,18,19,20,21,22,23,24,25,26,27,28,29,30,31,32,33,34,35,36,37,38,39,40,41,42,{"$f":"AP3+1","v":43},{"$f":"AQ3+1","v":44},45,46,47,48,49,50,51,52,53,54,55,56,57,58,59,60]
["Return to Index",null,"nonop",null,null,null,"priorc70","found","prelcont436","foundaid","foundinc",null,null,"enro",null,null,null,null,null,null,null,null,null,"minaid",null,null,null,null,null,null,null,null,null,null,"minaidadjincrement",null,"rednonop",null,"chapter70"]
["More about the data",null,null,null,null,null,"Base Aid","Foundation Aid Calculation",null,null,null,null,null,null,null,null,null,null,null,null,null,null,"Minimum Aid Calculation",null,null,null,null,null,null,null,null,null,"Minimum aid adjustment",null,null,null,null,null,null,null,null,null,null,"Analysis",null,null,null,null,null,null,null,null,null,"SUMMARY FOR EXPORT (reads from columns to the left)"]
[null,null,null,null,null,null,{"$f":"basecut","v":0},null,null,null,null,null,null,null,null,null,null,null,null,null,null,null,{"$f":"mininc","v":30}]
[null,null,null,"foundation",null,null,null,"foundation","required",null,null,"district","foundation","foundation","operating dist",null,null,null,null,null,null,null,null,null,null,null,null,null,null,null,null,null,null,null,null,"c70 prior ",null,null,null,null,null,"nss ",null,null,null,null,null,null,null,null,null,null,null,null,null,null,"low-income",{"$f":"H7","v":"foundation"},{"$f":"I7","v":"required"}]
[null,null,null,"budget","chapter 70","base aid",null,"budget","contribution","foundation","foundation","target aid","enrollment","enrollment","foundation ",null,null,null,null,null,null,"low-income","Min Aid ","Addl Aid ",null,null,null,null,null,null,null,null,"Aid determination",null,"Increment","to non-op","non-op ",null,"Chapter 70","c70 pct of",{"$f":"CYr","v":"FY21"},"percent of",null,null,null,"Aid Comp'd","Distance from","Foundation ",null,"Base Aid",null,"per pupil",null,{"$f":"A9","v":"LEA"},{"$f":"B9","v":"District"},{"$f":"C9","v":"Non-Op"},"group",{"$f":"H8","v":"budget"},{"$f":"I8","v":"contribution"},{"$f":"AM8","v":"Chapter 70"}]
["LEA","District","Non-Op",{"$f":"PYr","v":"FY20"},{"$f":"PYr","v":"FY20"},"adjustment","base aid",{"$f":"CYr","v":"FY21"},{"$f":"CYr","v":"FY21"},"aid","aid increase","percentage",{"$f":"PYr","v":"FY20"},{"$f":"CYr","v":"FY21"},"aid?","blank","blank","blank","blank","blank","blank","group","Per Pupil","to Reach Min","blank","blank","blank","blank","blank","blank","blank","blank","from minimum aid adjustment formula","plus additional $30/pupil","above min aid","reduction","reduction",null,{"$f":"CYr","v":"FY21"},"foundation","Required NSS","foundation","blank","∆ in Foundation Budget","∆ in Aid","to Target","Aid Target","Budget PP","blank","Reduction","blank","∆ in Aid",null,{"$f":"CYr","v":"FY21"},{"$f":"CYr","v":"FY21"},{"$f":"CYr","v":"FY21"},{"$f":"CYr","v":"FY21"},"FY21","FY21","FY21"]
[1,"Abington                     ",1,23388476.609717574,8933994,null,{"$f":"E10","v":8933994},{"$f":"SUMIF(dist1755,A10,found1755)","v":25403702.406400003},{"$f":"SUMIF(dist1755,A10,prelcont1755)","v":15436064},{"$f":"ROUND(MAX(found-prelcont436,0),0)","v":9967638},{"$f":"IF(foundaid>priorc70,foundaid-priorc70,0)","v":1033644},{"$f":"ROUND(100-'Townwide Contributions'!L10,2)","v":37.979999999999997},2105,{"$f":"SUMIF(dist1755,A10,enro1755)","v":2197},{"$f":"IF(AND(C10=1,K10>0),1,0)","v":1},null,null,null,null,null,null,5,{"$f":"IF(nonop=1,enro*$W$6,0)","v":65910},{"$f":"IF((foundinc)<W10,W10-(foundinc),0)","v":0},null,null,null,null,null,null,null,null,9887385,{"$f":"AG10+30*enro","v":9953295},{"$f":"IF(AH10-priorc70-foundinc-minaid>0,AH10-priorc70-foundinc-minaid,0)","v":0},{"$f":"priorc70+foundinc+minaidadjincrement+minaid","v":9967638},{"$f":"IF(AND(C10=0,AJ10>found),AJ10-found,0)","v":0},null,{"$f":"priorc70+foundinc+minaidadjincrement+minaid-rednonop","v":9967638},{"$f":"IF(C10=1, AM10/H10*100, 0)","v":39.236949955329479},{"$f":"prelcont436+chapter70","v":25403702},{"$f":"IF(found>0,AO10*100/found,0)","v":99.999998400233181},null,{"$f":"H10-D10","v":2015225.7966824286},{"$f":"AM10-G10","v":1033644},{"$f":"AM10-((L10/100)*H10)","v":319311.82604927942},{"$f":"IF(C10=1, (AM10/H10*100)-L10, \"\")","v":1.2569499553294818},{"$f":"IFERROR(ROUND(H10/N10, 2), 0)","v":11562.91},null,{"$f":"VLOOKUP(A10, disthist, 37, FALSE)*$G$6","v":0},null,{"$f":"IFERROR(AS10/N10, 0)","v":470.47974510696406},null,{"$f":"A10","v":1},{"$f":"B10","v":"Abington                     "},{"$f":"C10","v":1},{"$f":"V10","v":5},25403702.406400003,15436064,9967638]
[2,"Acton                        ",0,0,0,null,{"$f":"E11","v":0},0,{"$f":"SUMIF(dist1755,A11,prelcont1755)","v":0},{"$f":"ROUND(MAX(found-prelcont436,0),0)","v":0},0,{"$f":"ROUND(100-'Townwide Contributions'!L11,2)","v":18.77},0,0,0,null,null,null,null,null,null,0,0,0,null,null,null,null,null,null,null,null,0,0,0,0,0,null,{"$f":"priorc70+foundinc+minaidadjincrement+minaid-rednonop","v":0},0,0,0,null,0,0,{"$f":"AM11-((L11/100)*H11)","v":0},"",0,null,0,null,0,null,2,"Acton                        ",0,{"$f":"V11","v":0},0,0,0]
[3,"Acushnet                     ",1,13443441.482329441,6361492,null,6361492,14140972.610000001,7863272,6277701,0,{"$f":"ROUND(100-'Townwide Contributions'!L12,2)","v":42.47},1272,1292,0,null,null,null,null,null,null,6,38760,38760,null,null,null,null,null,null,null,null,6361492,6400252,0,6400252,0,null,6400252,45.260338001602278,14263524,100.86664045946412,null,697531.12767056003,38760,394580.93253299966,2.7903380016022794,10945.03,null,0,null,30,null,3,"Acushnet                     ",1,6,14140972.610000001,7863272,6400252]
[4,"Adams                        ",0,0,0,null,0,0,0,0,0,{"$f":"ROUND(100-'Townwide Contributions'!L13,2)","v":65.02},0,0,0,null,null,null,null,null,null,0,0,0,null,null,null,null,null,null,null,null,0,0,0,0,0,null,0,0,0,0,null,0,0,0,"",0,null,0,null,0,null,4,"Adams                        ",0,0,0,0,0]
[5,"Agawam                       ",1,42227451.049391314,19477412,null,19477412,42702195.18,23256462,19445733,0,{"$f":"ROUND(100-'Townwide Contributions'!L14,2)","v":43.66},3677,3623,0,null,null,null,null,null,null,6,108690,108690,null,null,null,null,null,null,null,null,19477412,19586102,0,19586102,0,null,19586102,45.86673335513521,42842564,100.32871570046531,null,474744.13060868531,108690,942323.58441200107,2.2067333551352135,11786.42,null,0,null,30,null,5,"Agawam                       ",1,6,42702195.18,23256462,19586102]
[6,"Alford                       ",0,0,0,null,0,0,0,0,0,{"$f":"ROUND(100-'Townwide Contributions'!L15,2)","v":17.5},0,0,0,null,null,null,null,null,null,0,0,0,null,null,null,null,null,null,null,null,0,0,0,0,0,null,0,0,0,0,null,0,0,0,"",0,null,0,null,0,null,6,"Alford                       ",0,0,0,0,0]
[7,"Amesbury                     ",1,22996252.745490368,9190887,null,9190887,22825386.480000004,16246216,6579170,0,{"$f":"ROUND(100-'Townwide Contributions'!L16,2)","v":24.74},2112,2036,0,null,null,null,null,null,null,5,61080,61080,null,null,null,null,null,null,null,null,9190887,9251967,0,9251967,0,null,9251967,40.533670735900721,25498183,111.70975362166133,null,-170866.26549036428,61080,3604966.3848479996,15.793670735900722,11210.9,null,0,null,30,null,7,"Amesbury                     ",1,5,22825386.480000004,16246216,9251967]
[8,"Amherst                      ",1,12803970.649125857,6122223,null,6122223,13098312.059999999,9900603,3197709,0,{"$f":"ROUND(100-'Townwide Contributions'!L17,2)","v":22.25},1134,1097,0,null,null,null,null,null,null,7,32910,32910,null,null,null,null,null,null,null,null,6122223,6155133,0,6155133,0,null,6155133,46.991803003355841,16055736,122.57866453671895,null,294341.41087414138,32910,3240758.5666500004,24.741803003355841,11940.12,null,0,null,30,null,8,"Amherst                      ",1,7,13098312.059999999,9900603,6155133]
[9,"Andover                      ",1,63835635.793936521,11668291,null,11668291,64773743.400639996,53438338,11335405,0,{"$f":"ROUND(100-'Townwide Contributions'!L18,2)","v":17.5},5835,5740,0,null,null,null,null,null,null,2,172200,172200,null,null,null,null,null,null,null,null,11668291,11840491,0,11840491,0,null,11840491,18.279769515193731,65278829,100.77976904350878,null,938107.60670347512,172200,505085.9048880022,0.77976951519373117,11284.62,null,0,null,30,null,9,"Andover                      ",1,2,64773743.400639996,53438338,11840491]
[10,"Arlington                    ",1,62294073.096873432,13979327,null,13979327,65991012.938580006,50007974,15983039,2003712,{"$f":"ROUND(100-'Townwide Contributions'!L19,2)","v":17.5},5980,6092,1,null,null,null,null,null,null,2,182760,0,null,null,null,null,null,null,null,null,14755908,14938668,0,15983039,0,null,15983039,24.220023740014319,65991013,100.00000009307327,null,3696939.841706574,2003712,4434611.7357484996,6.7200237400143195,10832.41,null,0,null,328.90873276428101,null,10,"Arlington                    ",1,2,65991012.938580006,50007974,15983039]
[11,"Ashburnham                   ",0,0,0,null,0,0,0,0,0,{"$f":"ROUND(100-'Townwide Contributions'!L20,2)","v":54.15},0,0,0,null,null,null,null,null,null,0,0,0,null,null,null,null,null,null,null,null,0,0,0,0,0,null,0,0,0,0,null,0,0,0,"",0,null,0,null,0,null,11,"Ashburnham                   ",0,0,0,0,0]
[12,"Ashby                        ",0,0,0,null,0,0,0,0,0,{"$f":"ROUND(100-'Townwide Contributions'!L21,2)","v":38.35},0,0,0,null,null,null,null,null,null,0,0,0,null,null,null,null,null,null,null,null,0,0,0,0,0,null,0,0,0,0,null,0,0,0,"",0,null,0,null,0,null,12,"Ashby                        ",0,0,0,0,0]
[13,"Ashfield                     ",0,100602.5807874735,93413,null,93413,119637.19999999998,98701,20936,0,{"$f":"ROUND(100-'Townwide Contributions'!L22,2)","v":17.5},7,8,0,null,null,null,null,null,null,0,0,0,null,null,null,null,null,null,null,null,93413,93653,240,93653,0,null,93653,0,192354,160.78109484340993,null,19034.619212526479,240,72716.490000000005,"",14954.65,null,0,null,30,null,13,"Ashfield                     ",0,0,119637.19999999998,98701,93653]
[14,"Ashland                      ",1,29177890.758524973,7839520,null,7839520,30521117.440000001,22570837,7950280,110760,{"$f":"ROUND(100-'Townwide Contributions'!L23,2)","v":24.7},2764,2786,1,null,null,null,null,null,null,4,83580,0,null,null,null,null,null,null,null,null,7953539,8037119,86839,8037119,0,null,8037119,26.332977538583858,30607956,100.28451959588541,null,1343226.6814750284,197599,498402.99232000019,1.6329775385838587,10955.17,null,0,null,70.925699928212495,null,14,"Ashland                      ",1,4,30521117.440000001,22570837,8037119]
[15,"Athol                        ",0,0,0,null,0,0,0,0,0,{"$f":"ROUND(100-'Townwide Contributions'!L24,2)","v":71.849999999999994},0,0,0,null,null,null,null,null,null,0,0,0,null,null,null,null,null,null,null,null,0,0,0,0,0,null,0,0,0,0,null,0,0,0,"",0,null,0,null,0,null,15,"Athol                        ",0,0,0,0,0]
[16,"Attleboro                    ",1,77760770.558410808,41121824,null,41121824,80907585.420000002,38043946,42863639,1741815,{"$f":"ROUND(100-'Townwide Contributions'!L25,2)","v":51.49},6355,6383,1,null,null,null,null,null,null,7,191490,0,null,null,null,null,null,null,null,null,41121824,41313314,0,42863639,0,null,42863639,52.978517128511783,80907585,99.999999480889215,null,3146814.8615891933,1741815,1204323.2672419995,1.4885171285117806,12675.48,null,0,null,272.88344038853205,null,16,"Attleboro                    ",1,7,80907585.420000002,38043946,42863639]
[17,"Auburn                       ",1,26762943.249616574,11851108,null,11851108,27839076.359999999,15632555,12206521,355413,{"$f":"ROUND(100-'Townwide Contributions'!L26,2)","v":43.33},2494,2511,1,null,null,null,null,null,null,5,75330,0,null,null,null,null,null,null,null,null,12194874,12270204,63683,12270204,0,null,12270204,44.075470900428968,27902759,100.22875270420789,null,1076133.1103834249,419096,207532.21321200207,0.74547090042896968,11086.85,null,0,null,166.90402230187178,null,17,"Auburn                       ",1,5,27839076.359999999,15632555,12270204]
[18,"Avon                         ",1,6653932.0309206927,2116236,null,2116236,7146096.0300000003,4654416,2491680,375444,{"$f":"ROUND(100-'Townwide Contributions'!L27,2)","v":33.79},563,586,1,null,null,null,null,null,null,7,17580,0,null,null,null,null,null,null,null,null,2425313,2442893,0,2491680,0,null,2491680,34.867709439387426,7146096,99.999999580190362,null,492163.99907930754,375444,77014.151463000104,1.0777094393874265,12194.7,null,0,null,640.68941979522185,null,18,"Avon                         ",1,7,7146096.0300000003,4654416,2491680]
[19,"Ayer                         ",0,0,0,null,0,0,0,0,0,{"$f":"ROUND(100-'Townwide Contributions'!L28,2)","v":27.76},0,0,0,null,null,null,null,null,null,0,0,0,null,null,null,null,null,null,null,null,0,0,0,0,0,null,0,0,0,0,null,0,0,0,"",0,null,0,null,0,null,19,"Ayer                         ",0,0,0,0,0]
[20,"Barnstable                   ",1,63524348.519651115,12228200,null,12228200,66271891.590000004,53244409,13027483,799283,{"$f":"ROUND(100-'Townwide Contributions'!L29,2)","v":17.5},5444,5405,1,null,null,null,null,null,null,8,162150,0,null,null,null,null,null,null,null,null,12791680,12953830,0,13027483,0,null,13027483,19.657629633685847,66271892,100.00000061866349,null,2747543.0703488886,799283,1429901.9717500005,2.1576296336858469,12261.22,null,0,null,147.87844588344126,null,20,"Barnstable                   ",1,8,66271891.590000004,53244409,13027483]
[21,"Barre                        ",0,0,0,null,0,0,0,0,0,{"$f":"ROUND(100-'Townwide Contributions'!L30,2)","v":59.63},0,0,0,null,null,null,null,null,null,0,0,0,null,null,null,null,null,null,null,null,0,0,0,0,0,null,0,0,0,0,null,0,0,0,"",0,null,0,null,0,null,21,"Barre                        ",0,0,0,0,0]
[22,"Becket                       ",0,143717.97255353359,76563,null,76563,191989.22,158391,33598,0,{"$f":"ROUND(100-'Townwide Contributions'!L31,2)","v":17.5},10,11,0,null,null,null,null,null,null,0,0,0,null,null,null,null,null,null,null,null,76563,76893,330,76893,0,null,76893,0,235284,122.55063070728659,null,48271.247446466412,330,43294.886500000001,"",17453.57,null,0,null,30,null,22,"Becket                       ",0,0,191989.22,158391,76893]
[23,"Bedford                      ",1,29672258.159568485,5595167,null,5595167,31014582.858640004,25095756,5918827,323660,{"$f":"ROUND(100-'Townwide Contributions'!L32,2)","v":17.5},2693,2707,1,null,null,null,null,null,null,3,81210,0,null,null,null,null,null,null,null,null,5595167,5676377,0,5918827,0,null,5918827,19.084012920557917,31014583,100.00000045578558,null,1342324.6990715191,323660,491274.9997379994,1.5840129205579174,11457.18,null,0,null,119.56409309198375,null,23,"Bedford                      ",1,3,31014582.858640004,25095756,5918827]
[24,"Belchertown                  ",1,24514320.307211746,13884146,null,13884146,24966439.98,12725953,12240487,0,{"$f":"ROUND(100-'Townwide Contributions'!L33,2)","v":48.74},2310,2278,0,null,null,null,null,null,null,4,68340,68340,null,null,null,null,null,null,null,null,13884146,13952486,0,13952486,0,null,13952486,55.884964020408965,26678439,106.85720119236639,null,452119.67278825492,68340,1783843.153748,7.1449640204089633,10959.81,null,0,null,30,null,24,"Belchertown                  ",1,4,24966439.98,12725953,13952486]
[25,"Bellingham                   ",1,24541929.425553497,8642425,null,8642425,24980756.82,17111076,7869681,0,{"$f":"ROUND(100-'Townwide Contributions'!L34,2)","v":30.75},2286,2247,0,null,null,null,null,null,null,5,67410,67410,null,null,null,null,null,null,null,null,8642425,8709835,0,8709835,0,null,8709835,34.866177445139549,25820911,103.36320547073001,null,438827.39444650337,67410,1028252.2778500002,4.1161774451395488,11117.38,null,0,null,30,null,25,"Bellingham                   ",1,5,24980756.82,17111076,8709835]
[26,"Belmont                      ",1,47857221.466895089,9519647,null,9519647,50111563.269849993,40662179,9449384,0,{"$f":"ROUND(100-'Townwide Contributions'!L35,2)","v":17.5},4517,4594,0,null,null,null,null,null,null,2,137820,137820,null,null,null,null,null,null,null,null,9519647,9657467,0,9657467,0,null,9657467,19.27193320231239,50319646,100.41523895199494,null,2254341.8029549047,137820,887943.42777625099,1.7719332023123897,10908.05,null,0,null,30,null,26,"Belmont                      ",1,2,50111563.269849993,40662179,9657467]
[27,"Berkley                      ",1,7578024.2998736957,4003448,null,4003448,8088546.29,4198889,3889657,0,{"$f":"ROUND(100-'Townwide Contributions'!L36,2)","v":45.82},742,764,0,null,null,null,null,null,null,4,22920,22920,null,null,null,null,null,null,null,null,4003448,4026368,0,4026368,0,null,4026368,49.778635809723482,8225257,101.69017651749138,null,510521.99012630433,22920,320196.08992200019,3.9586358097234822,10587.1,null,0,null,30,null,27,"Berkley                      ",1,4,8088546.29,4198889,4026368]
[28,"Berlin                       ",0,0,0,null,0,0,0,0,0,{"$f":"ROUND(100-'Townwide Contributions'!L37,2)","v":17.5},0,0,0,null,null,null,null,null,null,0,0,0,null,null,null,null,null,null,null,null,0,0,0,0,0,null,0,0,0,0,null,0,0,0,"",0,null,0,null,0,null,28,"Berlin                       ",0,0,0,0,0]
[29,"Bernardston                  ",0,0,0,null,0,0,0,0,0,{"$f":"ROUND(100-'Townwide Contributions'!L38,2)","v":46.04},0,0,0,null,null,null,null,null,null,0,0,0,null,null,null,null,null,null,null,null,0,0,0,0,0,null,0,0,0,0,null,0,0,0,"",0,null,0,null,0,null,29,"Bernardston                  ",0,0,0,0,0]
[30,"Beverly                      ",1,49446399.057018369,9257567,null,9257567,52340525.960000008,42077791,10262735,1005168,{"$f":"ROUND(100-'Townwide Contributions'!L39,2)","v":17.5},4458,4570,1,null,null,null,null,null,null,6,137100,0,null,null,null,null,null,null,null,null,10117172,10254272,0,10262735,0,null,10262735,19.607626808800219,52340526,100.00000007642261,null,2894126.9029816389,1005168,1103142.9569999985,2.1076268088002195,11453.07,null,0,null,219.94923413566738,null,30,"Beverly                      ",1,6,52340525.960000008,42077791,10262735]
[31,"Billerica                    ",1,51908631.204447828,19348854,null,19348854,53361602.314500012,41666761,11694841,0,{"$f":"ROUND(100-'Townwide Contributions'!L40,2)","v":19.989999999999998},4866,4866,0,null,null,null,null,null,null,4,145980,145980,null,null,null,null,null,null,null,null,19348854,19494834,0,19494834,0,null,19494834,36.533449436361181,61161595,114.61723851455729,null,1452971.1100521833,145980,8827849.6973314472,16.543449436361183,10966.22,null,0,null,30,null,31,"Billerica                    ",1,4,53361602.314500012,{"$f":"I40","v":41666761},{"$f":"AM40","v":19494834}]
[32,"Blackstone                   ",0,357718.72900887078,183898,null,183898,416308.97,199499,216810,32912,{"$f":"ROUND(100-'Townwide Contributions'!L41,2)","v":50.95},23,26,0,null,null,null,null,null,null,0,0,0,null,null,null,null,null,null,null,null,210344,211124,0,216810,0,null,216810,0,416309,100.00000720618631,null,58590.240991129191,32912,4700.5797849999799,"",16011.88,null,0,null,1265.8461538461538,null,32,"Blackstone                   ",0,0,416308.97,199499,216810]
[33,"Blandford                    ",0,114974.37804282685,43655,null,43655,104682.55,85498,19185,0,{"$f":"ROUND(100-'Townwide Contributions'!L42,2)","v":17.5},8,7,0,null,null,null,null,null,null,0,0,0,null,null,null,null,null,null,null,null,43655,43865,210,43865,0,null,43865,0,129363,123.5764700038354,null,-10291.828042826848,210,25545.553749999999,"",14954.65,null,0,null,30,null,33,"Blandford                    ",0,0,104682.55,85498,43865]
[34,"Bolton                       ",0,14861.542035353355,4568,null,4568,15454.140879999999,12750,2704,0,{"$f":"ROUND(100-'Townwide Contributions'!L43,2)","v":17.5},1,1,0,null,null,null,null,null,null,0,0,0,null,null,null,null,null,null,null,null,4568,4598,30,4598,0,null,4598,0,17348,112.25470334912595,null,592.59884464664356,30,1893.5253460000004,"",15454.14,null,0,null,30,null,34,"Bolton                       ",0,0,15454.140879999999,12750,4598]
[35,"Boston                       ",1,910864776.36300993,221915045,null,221915045,978722271.88964999,797151500,181570772,0,{"$f":"ROUND(100-'Townwide Contributions'!L44,2)","v":17.5},63777,62900,0,null,null,null,null,null,null,11,1887000,1887000,null,null,null,null,null,null,null,null,221915045,223802045,0,223802045,0,null,223802045,22.866757141216205,1020953545,104.31493941880088,null,67857495.526640058,1887000,52525647.419311255,5.3667571412162047,15559.97,null,0,null,30,null,35,"Boston                       ",1,11,978722271.88964999,797151500,223802045]
[36,"Bourne                       ",1,22123862.831195891,5215213,null,5215213,22886335.060000002,18716872,4169463,0,{"$f":"ROUND(100-'Townwide Contributions'!L45,2)","v":17.5},2001,2012,0,null,null,null,null,null,null,6,60360,60360,null,null,null,null,null,null,null,null,5215213,5275573,0,5275573,0,null,5275573,23.051191840761241,23992445,104.83305840406584,null,762472.22880411148,60360,1270464.3644999997,5.5511918407612413,11374.92,null,0,null,30,null,36,"Bourne                       ",1,6,22886335.060000002,18716872,5275573]
[37,"Boxborough                   ",0,127474.53052282683,22674,null,22674,146044.46231999999,118854,27190,4516,{"$f":"ROUND(100-'Townwide Contributions'!L46,2)","v":17.5},8,9,0,null,null,null,null,null,null,0,0,0,null,null,null,null,null,null,null,null,25618,25888,0,27190,0,null,27190,0,146044,99.999683438870164,null,18569.931797173165,4516,1632.2190940000037,"",16227.16,null,0,null,501.77777777777777,null,37,"Boxborough                   ",0,0,146044.46231999999,118854,27190]
[38,"Boxford                      ",1,7004474.1685977643,1747903,null,1747903,7489733.5427200012,6179030,1310704,0,{"$f":"ROUND(100-'Townwide Contributions'!L47,2)","v":17.5},705,729,0,null,null,null,null,null,null,2,21870,21870,null,null,null,null,null,null,null,null,1747903,1769773,0,1769773,0,null,1769773,23.629318585308205,7948803,106.1293162788977,null,485259.37412223686,21870,459069.63002399984,6.1293185853082051,10273.98,null,0,null,30,null,38,"Boxford                      ",1,2,7489733.5427200012,6179030,1769773]
[39,"Boylston                     ",0,429577.71528563765,84733,null,84733,446218.26999999996,358483,87735,3002,{"$f":"ROUND(100-'Townwide Contributions'!L48,2)","v":17.5},28,28,0,null,null,null,null,null,null,0,0,0,null,null,null,null,null,null,null,null,86340,87180,0,87735,0,null,87735,0,446218,99.999939491495951,null,16640.554714362312,3002,9646.8027500000171,"",15936.37,null,0,null,107.21428571428571,null,39,"Boylston                     ",0,0,446218.26999999996,358483,87735]
[40,"Braintree                    ",1,63032117.839880839,18297651,null,18297651,65287073.726299994,46505214,18781860,484209,{"$f":"ROUND(100-'Townwide Contributions'!L49,2)","v":25.47},5682,5666,1,null,null,null,null,null,null,5,169980,0,null,null,null,null,null,null,null,null,18297651,18467631,0,18781860,0,null,18781860,28.76811431117028,65287074,100.00000041922542,null,2254955.8864191547,484209,2153242.3219113927,3.2981143111702806,11522.6,null,0,null,85.458701023649837,null,40,"Braintree                    ",1,5,65287073.726299994,46505214,18781860]
[41,"Brewster                     ",1,5028082.1512436774,1011979,null,1011979,5236465.6000000006,4208916,1027550,15571,{"$f":"ROUND(100-'Townwide Contributions'!L50,2)","v":17.5},477,468,1,null,null,null,null,null,null,6,14040,0,null,null,null,null,null,null,null,null,1011979,1026019,0,1027550,0,null,1027550,19.622968591639367,5236466,100.00000763874013,null,208383.4487563232,15571,111168.5199999999,2.122968591639367,11189.03,null,0,null,33.271367521367523,null,41,"Brewster                     ",1,6,5236465.6000000006,4208916,1027550]
[42,"Bridgewater                  ",0,129346.17529818021,76038,null,76038,119637.19999999998,75139,44498,0,{"$f":"ROUND(100-'Townwide Contributions'!L51,2)","v":35.86},9,8,0,null,null,null,null,null,null,0,0,0,null,null,null,null,null,null,null,null,76038,76278,240,76278,0,null,76278,0,151417,126.56347691186355,null,-9708.9752981802303,240,33376.100080000011,"",14954.65,null,0,null,30,null,42,"Bridgewater                  ",0,0,119637.19999999998,75139,76278]
[43,"Brimfield                    ",1,2714228.2124121352,1247172,null,1247172,3087351.5799999996,1718016,1369336,122164,{"$f":"ROUND(100-'Townwide Contributions'!L52,2)","v":40.9},262,283,1,null,null,null,null,null,null,5,8490,0,null,null,null,null,null,null,null,null,1350128,1358618,0,1369336,0,null,1369336,44.353095671727807,3087352,100.00001360389284,null,373123.3675878644,122164,106609.20378000033,3.4530956717278087,10909.37,null,0,null,431.67491166077741,null,43,"Brimfield                    ",1,5,3087351.5799999996,1718016,1369336]
[44,"Brockton                     ",1,232535452.17106631,186500509,null,186500509,255706156.15000001,48112285,207593871,21093362,{"$f":"ROUND(100-'Townwide Contributions'!L53,2)","v":78.14},17723,17498,1,null,null,null,null,null,null,12,524940,0,null,null,null,null,null,null,null,null,189354856,189879796,0,207593871,0,null,207593871,81.184541712098309,255706156,99.999999941338913,null,23170703.978933692,21093362,7785080.5843900144,3.044541712098308,14613.45,null,0,null,1205.4727397416848,null,44,"Brockton                     ",1,12,255706156.15000001,48112285,207593871]
[45,"Brookfield                   ",1,2740659.0357464454,1585489,null,1585489,2908398.07,1200512,1707886,122397,{"$f":"ROUND(100-'Townwide Contributions'!L54,2)","v":58.61},246,253,1,null,null,null,null,null,null,7,7590,0,null,null,null,null,null,null,null,null,1702363,1709953,2067,1709953,0,null,1709953,58.793636869660006,2910465,100.07106764446451,null,167739.03425355442,124464,5340.8911730002146,0.18363686966000614,11495.64,null,0,null,491.9525691699605,null,45,"Brookfield                   ",1,7,2908398.07,1200512,1709953]
[46,"Brookline                    ",1,83235896.760623336,15006787,null,15006787,84668729.879460007,69851702,14817028,0,{"$f":"ROUND(100-'Townwide Contributions'!L55,2)","v":17.5},7737,7648,0,null,null,null,null,null,null,2,229440,229440,null,null,null,null,null,null,null,null,15006787,15236227,0,15236227,0,null,15236227,17.995105184276767,85087929,100.49510500646082,null,1432833.1188366711,229440,419199.27109449916,0.49510518427676686,11070.7,null,0,null,30,null,46,"Brookline                    ",1,2,84668729.879460007,69851702,15236227]
[47,"Buckland                     ",0,28743.594510706713,13074,null,13074,29909.299999999996,16962,12947,0,{"$f":"ROUND(100-'Townwide Contributions'!L56,2)","v":42.14},2,2,0,null,null,null,null,null,null,0,0,0,null,null,null,null,null,null,null,null,13074,13134,60,13134,0,null,13134,0,30096,100.62422056016024,null,1165.7054892932829,60,530.22098000000187,"",14954.65,null,0,null,30,null,47,"Buckland                     ",0,0,29909.299999999996,16962,13134]
[48,"Burlington                   ",1,39132795.405252784,6851477,null,6851477,40396821.446159996,33327377,7069444,217967,{"$f":"ROUND(100-'Townwide Contributions'!L57,2)","v":17.5},3526,3518,1,null,null,null,null,null,null,3,105540,0,null,null,null,null,null,null,null,null,7002130,7107670,38226,7107670,0,null,7107670,17.594626868039477,40435047,100.09462515235499,null,1264026.0409072116,256193,38226.246922001243,9.4626868039476619E-2,11482.89,null,0,null,72.823479249573623,null,48,"Burlington                   ",1,3,40396821.446159996,33327377,7107670]
[49,"Cambridge                    ",1,95754602.358881176,16757055,null,16757055,103658808.02008,85518517,18140291,1383236,{"$f":"ROUND(100-'Townwide Contributions'!L58,2)","v":17.5},7460,7519,1,null,null,null,null,null,null,8,225570,0,null,null,null,null,null,null,null,null,17071160,17296730,0,18140291,0,null,18140291,17.49999961072869,103658808,99.999999980628758,null,7904205.6611988246,1383236,-0.40351399779319763,-3.8927131029709017E-7,13786.25,null,0,null,183.96542093363479,null,49,"Cambridge                    ",1,8,103658808.02008,85518517,18140291]
[50,"Canton                       ",1,36127373.083982036,6327312,null,6327312,37652701.134640008,31063479,6589222,261910,{"$f":"ROUND(100-'Townwide Contributions'!L59,2)","v":17.5},3299,3325,1,null,null,null,null,null,null,3,99750,0,null,null,null,null,null,null,null,null,6516114,6615864,26642,6615864,0,null,6615864,17.570755352564834,37679343,100.07075685025816,null,1525328.0506579727,288552,26641.301437999122,7.075535256483434E-2,11324.12,null,0,null,86.782556390977447,null,50,"Canton                       ",1,3,37652701.134640008,31063479,6615864]
[51,"Carlisle                     ",1,5645404.4536545286,1009657,null,1009657,5867349.0383599997,4840563,1026786,17129,{"$f":"ROUND(100-'Townwide Contributions'!L60,2)","v":17.5},571,570,1,null,null,null,null,null,null,1,17100,0,null,null,null,null,null,null,null,null,1012142,1029242,2456,1029242,0,null,1029242,17.541857374956621,5869805,100.04185811384228,null,221944.58470547106,19585,2455.9182870001532,4.1857374956620674E-2,10293.59,null,0,null,34.359649122807021,null,51,"Carlisle                     ",1,1,5867349.0383599997,4840563,1029242]
[52,"Carver                       ",1,17414154.77758931,10008599,null,10008599,18189630.062479999,9397750,8791880,0,{"$f":"ROUND(100-'Townwide Contributions'!L61,2)","v":46.14},1582,1591,0,null,null,null,null,null,null,5,47730,47730,null,null,null,null,null,null,null,null,10008599,10056329,0,10056329,0,null,10056329,55.286055656202315,19454079,106.95148242804672,null,775475.28489068896,47730,1663633.6891717277,9.1460556562023143,11432.83,null,0,null,30,null,52,"Carver                       ",1,5,18189630.062479999,9397750,10056329]
[53,"Charlemont                   ",0,199628.95919998386,106276,null,106276,104682.55,54446,50237,0,{"$f":"ROUND(100-'Townwide Contributions'!L62,2)","v":47.47},12,7,0,null,null,null,null,null,null,0,0,0,null,null,null,null,null,null,null,null,102604.66724899999,102814.66724899999,0,106276,1593.4499999999971,null,104682.55,0,159128.54999999999,152.01057864945014,null,-94946.409199983857,-1593.4499999999971,54989.743515000002,"",14954.65,null,0,null,-227.63571428571387,null,53,"Charlemont                   ",0,0,104682.55,54446,104682.55]
[54,"Charlton                     ",0,0,0,null,0,14954.649999999998,8088,6867,6867,{"$f":"ROUND(100-'Townwide Contributions'!L63,2)","v":45.2},0,1,0,null,null,null,null,null,null,0,0,0,null,null,null,null,null,null,null,null,6770,6800,0,6867,0,null,6867,0,14955,100.0023404091704,null,14954.649999999998,6867,107.49820000000091,"",14954.65,null,0,null,6867,null,54,"Charlton                     ",0,0,14954.649999999998,8088,6867]
[55,"Chatham                      ",0,0,0,null,0,0,0,0,0,{"$f":"ROUND(100-'Townwide Contributions'!L64,2)","v":17.5},0,0,0,null,null,null,null,null,null,0,0,0,null,null,null,null,null,null,null,null,0,0,0,0,0,null,0,0,0,0,null,0,0,0,"",0,null,0,null,0,null,55,"Chatham                      ",0,0,0,0,0]
[56,"Chelmsford                   ",1,52945358.502223566,11199428,null,11199428,54706649.899999999,43834599,10872051,0,{"$f":"ROUND(100-'Townwide Contributions'!L65,2)","v":17.5},5076,5112,0,null,null,null,null,null,null,3,153360,153360,null,null,null,null,null,null,null,null,11199428,11352788,0,11352788,0,null,11352788,20.752117010915708,55187387,100.87875441263311,null,1761291.3977764323,153360,1779124.2675000001,3.2521170109157076,10701.61,null,0,null,30,null,56,"Chelmsford                   ",1,3,54706649.899999999,43834599,11352788]
[57,"Chelsea                      ",1,100163293.24265932,81572477,null,81572477,112437920.96600001,19918513,92519408,10946931,{"$f":"ROUND(100-'Townwide Contributions'!L66,2)","v":79.13},7116,7290,1,null,null,null,null,null,null,12,218700,0,null,null,null,null,null,null,null,null,85780372,85999072,0,92519408,0,null,92519408,82.284879696394299,112437921,100.00000003023891,null,12274627.72334069,10946931,3547281.139604196,3.1548796963943033,15423.58,null,0,null,1501.6366255144032,null,57,"Chelsea                      ",1,12,112437920.96600001,19918513,92519408]
[58,"Cheshire                     ",0,0,0,null,0,14954.649999999998,7160,7795,7795,{"$f":"ROUND(100-'Townwide Contributions'!L67,2)","v":51.48},0,1,0,null,null,null,null,null,null,0,0,0,null,null,null,null,null,null,null,null,7675,7705,0,7795,0,null,7795,0,14955,100.0023404091704,null,14954.649999999998,7795,96.346180000002278,"",14954.65,null,0,null,7795,null,58,"Cheshire                     ",0,0,14954.649999999998,7160,7795]
[59,"Chester                      ",0,100602.5807874735,55349,null,55349,134591.84999999998,69363,65229,9880,{"$f":"ROUND(100-'Townwide Contributions'!L68,2)","v":47.31},7,9,0,null,null,null,null,null,null,0,0,0,null,null,null,null,null,null,null,null,63710,63980,0,65229,0,null,65229,0,134592,100.00011144805575,null,33989.269212526473,9880,1553.5957650000055,"",14954.65,null,0,null,1097.7777777777778,null,59,"Chester                      ",0,0,134591.84999999998,69363,65229]
[60,"Chesterfield                 ",0,300231.53998745733,133114,null,133114,281717.12,204528,77189,0,{"$f":"ROUND(100-'Townwide Contributions'!L69,2)","v":27.4},19,17,0,null,null,null,null,null,null,0,0,0,null,null,null,null,null,null,null,null,133114,133624,510,133624,0,null,133624,0,338152,120.0324637707499,null,-18514.419987457339,510,56433.509120000017,"",16571.599999999999,null,0,null,30,null,60,"Chesterfield                 ",0,0,281717.12,204528,133624]
[61,"Chicopee                     ",1,99336604.583217233,68822698,null,68822698,104550852.06999999,31719206,72831646,4008948,{"$f":"ROUND(100-'Townwide Contributions'!L70,2)","v":69.5},7666,7571,1,null,null,null,null,null,null,10,227130,0,null,null,null,null,null,null,null,null,69101678,69328808,0,72831646,0,null,72831646,69.661456179464693,104550852,99.999999933046936,null,5214247.4867827594,4008948,168803.81135000288,0.16145617946469315,13809.38,null,0,null,529.51367058512744,null,61,"Chicopee                     ",1,10,104550852.06999999,31719206,72831646]
[62,"Chilmark                     ",0,0,0,null,0,0,0,0,0,{"$f":"ROUND(100-'Townwide Contributions'!L71,2)","v":17.5},0,0,0,null,null,null,null,null,null,0,0,0,null,null,null,null,null,null,null,null,0,0,0,0,0,null,0,0,0,0,null,0,0,0,"",0,null,0,null,0,null,62,"Chilmark                     ",0,0,0,0,0]
[63,"Clarksburg                   ",1,2056910.8702206635,1799935,null,1799935,2044269.3599999996,691052,1353217,0,{"$f":"ROUND(100-'Townwide Contributions'!L72,2)","v":63.75},182,171,0,null,null,null,null,null,null,7,5130,5130,null,null,null,null,null,null,null,null,1799935,1805065,0,1805065,0,null,1805065,88.298784657223464,2496117,122.10313615422972,null,-12641.510220663855,5130,501843.28300000029,24.548784657223464,11954.79,null,0,null,30,null,63,"Clarksburg                   ",1,7,{"$f":"H72","v":2044269.3599999996},{"$f":"I72","v":691052},{"$f":"AM72","v":1805065}]
[64,"Clinton                      ",1,24086138.195584625,13416101,null,13416101,26586847.719999999,11372125,15214723,1798622,{"$f":"ROUND(100-'Townwide Contributions'!L73,2)","v":55.64},2022,2086,1,null,null,null,null,null,null,9,62580,0,null,null,null,null,null,null,null,null,14279294,14341874,0,15214723,0,null,15214723,57.226502217315144,26586848,100.00000105315232,null,2500709.5244153738,1798622,421800.92859200016,1.5865022173151431,12745.37,null,0,null,862.23489932885911,null,64,"Clinton                      ",1,9,26586847.719999999,11372125,15214723]
[65,"Cohasset                     ",1,15680191.001538649,2748292,null,2748292,{"$f":"SUMIF(dist1755,A74,found1755)","v":15673927.657200001},{"$f":"SUMIF(dist1755,A74,prelcont1755)","v":12930990},{"$f":"ROUND(MAX(found-prelcont436,0),0)","v":2742938},{"$f":"IF(foundaid>priorc70,foundaid-priorc70,0)","v":0},{"$f":"ROUND(100-'Townwide Contributions'!L74,2)","v":17.5},1523,{"$f":"SUMIF(dist1755,A74,enro1755)","v":1468},{"$f":"IF(AND(C74=1,K74>0),1,0)","v":0},null,null,null,null,null,null,2,{"$f":"IF(nonop=1,enro*$W$6,0)","v":44040},{"$f":"IF((foundinc)<W74,W74-(foundinc),0)","v":44040},null,null,null,null,null,null,null,null,2748292,{"$f":"AG74+30*enro","v":2792332},{"$f":"IF(AH74-priorc70-foundinc-minaid>0,AH74-priorc70-foundinc-minaid,0)","v":0},{"$f":"priorc70+foundinc+minaidadjincrement+minaid","v":2792332},{"$f":"IF(AND(C74=0,AJ74>found),AJ74-found,0)","v":0},null,{"$f":"priorc70+foundinc+minaidadjincrement+minaid-rednonop","v":2792332},{"$f":"IF(C74=1, AM74/H74*100, 0)","v":17.815139007084223},{"$f":"prelcont436+chapter70","v":15723322},{"$f":"IF(found>0,AO74*100/found,0)","v":100.31513698340511},null,{"$f":"H74-D74","v":-6263.3443386480212},{"$f":"AM74-G74","v":44040},{"$f":"AM74-((L74/100)*H74)","v":49394.659990000073},{"$f":"IF(C74=1, (AM74/H74*100)-L74, \"\")","v":0.31513900708422327},{"$f":"IFERROR(ROUND(H74/N74, 2), 0)","v":10677.06},null,{"$f":"VLOOKUP(A74, disthist, 37, FALSE)*$G$6","v":0},null,{"$f":"IFERROR(AS74/N74, 0)","v":30},null,{"$f":"A74","v":65},{"$f":"B74","v":"Cohasset                     "},{"$f":"C74","v":1},2,15673927.657200001,12930990,2792332]
[66,"Colrain                      ",0,0,0,null,{"$f":"E75","v":0},0,0,0,0,{"$f":"ROUND(100-'Townwide Contributions'!L75,2)","v":43.3},0,0,0,null,null,null,null,null,null,0,0,0,null,null,null,null,null,null,null,null,0,0,0,0,0,null,0,0,0,0,null,0,0,0,"",0,null,0,null,0,null,66,"Colrain                      ",0,{"$f":"V75","v":0},0,0,0]
[67,"Concord                      ",1,20298530.027942974,3552455,null,3552455,21592019.292640004,17813416,3778603,226148,{"$f":"ROUND(100-'Townwide Contributions'!L76,2)","v":17.5},2020,2081,1,null,null,null,null,null,null,2,62430,0,null,null,null,null,null,null,null,null,3739067,3801497,22894,3801497,0,null,3801497,17.606028174010586,21614913,100.10602856106098,null,1293489.2646970302,249042,22893.623787999619,0.10602817401058573,10375.790000000001,null,0,null,119.67419509851034,null,67,"Concord                      ",1,2,21592019.292640004,17813416,3801497]
[68,"Conway                       ",1,982498.98211336427,626464,null,626464,902895.42,744889,158006,0,{"$f":"ROUND(100-'Townwide Contributions'!L77,2)","v":17.5},86,79,0,null,null,null,null,null,null,5,2370,2370,null,null,null,null,null,null,null,null,626464,628834,0,628834,0,null,628834,69.6463827449695,1373723,152.1464135901808,null,-79603.562113364227,2370,470827.3015,52.1463827449695,11429.06,null,0,null,30,null,68,"Conway                       ",1,5,902895.42,744889,628834]
[69,"Cummington                   ",0,86230.783532120156,73684,null,73684,89727.900000000009,74026,15702,0,{"$f":"ROUND(100-'Townwide Contributions'!L78,2)","v":17.5},6,6,0,null,null,null,null,null,null,0,0,0,null,null,null,null,null,null,null,null,73684,73864,180,73864,0,null,73864,0,147890,164.82052962345043,null,3497.1164678798523,180,58161.6175,"",14954.65,null,0,null,30,null,69,"Cummington                   ",0,0,89727.900000000009,74026,73864]
[70,"Dalton                       ",0,285859.74273210397,236011,null,236011,386399.67,193668,192732,0,{"$f":"ROUND(100-'Townwide Contributions'!L79,2)","v":49.67},18,24,0,null,null,null,null,null,null,0,0,0,null,null,null,null,null,null,null,null,236011,236731,720,236731,0,null,236731,0,430399,111.38699989055374,null,100539.92726789601,720,44806.283911000006,"",16099.99,null,0,null,30,null,70,"Dalton                       ",0,0,386399.67,193668,236731]
[71,"Danvers                      ",1,37107615.193679869,7108192,null,7108192,37816803.190000005,30492443,7324360,216168,{"$f":"ROUND(100-'Townwide Contributions'!L80,2)","v":17.5},3545,3483,1,null,null,null,null,null,null,4,104490,0,null,null,null,null,null,null,null,null,7108192,7212682,0,7324360,0,null,7324360,19.36800412028693,37816803,99.999999497577832,null,709187.99632013589,216168,706419.4417499993,1.8680041202869297,10857.54,null,0,null,62.06373815676141,null,71,"Danvers                      ",1,4,37816803.190000005,30492443,7324360]
[72,"Dartmouth                    ",1,38394448.348769426,9948121,null,9948121,39139561.32,32290138,6849423,0,{"$f":"ROUND(100-'Townwide Contributions'!L81,2)","v":17.5},3553,3517,0,null,null,null,null,null,null,5,105510,105510,null,null,null,null,null,null,null,null,9948121,10053631,0,10053631,0,null,10053631,25.686621568910319,42343769,108.18662134151892,null,745112.97123057395,105510,3204207.7690000003,8.1866215689103186,11128.68,null,0,null,30,null,72,"Dartmouth                    ",1,5,39139561.32,32290138,10053631]
[73,"Dedham                       ",1,30327812.140098155,6066360,null,6066360,31499172.982930005,25420035,6079138,12778,{"$f":"ROUND(100-'Townwide Contributions'!L82,2)","v":17.5},2681,2700,1,null,null,null,null,null,null,5,81000,68222,null,null,null,null,null,null,null,null,6066360,6147360,0,6147360,0,null,6147360,19.515940952898575,31567395,100.21658351826242,null,1171360.8428318501,81000,635004.72798724938,2.0159409528985748,11666.36,null,0,null,30,null,73,"Dedham                       ",1,5,31499172.982930005,25420035,6147360]
[74,"Deerfield                    ",1,3354720.4057858582,1114363,null,1114363,3395385.48,2725201,670184,0,{"$f":"ROUND(100-'Townwide Contributions'!L83,2)","v":17.5},316,315,0,null,null,null,null,null,null,4,9450,9450,null,null,null,null,null,null,null,null,1114363,1123813,0,1123813,0,null,1123813,33.098244856722424,3849014,113.36014784394966,null,40665.074214141816,9450,529620.54100000008,15.598244856722424,10779,null,0,null,30,null,74,"Deerfield                    ",1,4,3395385.48,2725201,1123813]
[75,"Dennis                       ",0,0,0,null,0,0,0,0,0,{"$f":"ROUND(100-'Townwide Contributions'!L84,2)","v":17.5},0,0,0,null,null,null,null,null,null,0,0,0,null,null,null,null,null,null,null,null,0,0,0,0,0,null,0,0,0,0,null,0,0,0,"",0,null,0,null,0,null,75,"Dennis                       ",0,0,0,0,0]
[76,"Dighton                      ",0,0,0,null,0,0,0,0,0,{"$f":"ROUND(100-'Townwide Contributions'!L85,2)","v":48.48},0,0,0,null,null,null,null,null,null,0,0,0,null,null,null,null,null,null,null,null,0,0,0,0,0,null,0,0,0,0,null,0,0,0,"",0,null,0,null,0,null,76,"Dighton                      ",0,0,0,0,0]
[77,"Douglas                      ",1,12970126.823695926,8759585,null,8759585,13212607.830000002,7342740,5869868,0,{"$f":"ROUND(100-'Townwide Contributions'!L86,2)","v":42.38},1227,1213,0,null,null,null,null,null,null,4,36390,36390,null,null,null,null,null,null,null,null,8759585,8795975,0,8795975,0,null,8795975,66.57258819131998,16138715,122.14632574922946,null,242481.00630407594,36390,3196471.8016459988,24.192588191319977,10892.5,null,0,null,30,null,77,"Douglas                      ",1,4,13212607.830000002,7342740,8795975]
[78,"Dover                        ",1,4873658.0694900909,853856,null,853856,5086667.2165000001,4196501,890166,36310,{"$f":"ROUND(100-'Townwide Contributions'!L87,2)","v":17.5},492,492,1,null,null,null,null,null,null,1,14760,0,null,null,null,null,null,null,null,null,872062,886822,0,890166,0,null,890166,17.499985002213286,5086667,99.999995743775031,null,213009.14700990915,36310,-0.76288749999366701,-1.4997786713877304E-5,10338.75,null,0,null,73.800813008130078,null,78,"Dover                        ",1,1,5086667.2165000001,4196501,890166]
[79,"Dracut                       ",1,41837070.949357763,19413857,null,19413857,44231763.989999995,24065178,20166586,752729,{"$f":"ROUND(100-'Townwide Contributions'!L88,2)","v":43.01},3888,3964,1,null,null,null,null,null,null,5,118920,0,null,null,null,null,null,null,null,null,19837502,19956422,0,20166586,0,null,20166586,45.5929951257637,44231764,100.00000002260821,null,2394693.0406422317,752729,1142504.3079010025,2.582995125763702,11158.37,null,0,null,189.89127144298689,null,79,"Dracut                       ",1,5,44231763.989999995,24065178,20166586]
[80,"Dudley                       ",0,14371.797255353356,14383,null,14383,0,0,0,0,{"$f":"ROUND(100-'Townwide Contributions'!L89,2)","v":59.06},1,0,0,null,null,null,null,null,null,0,0,0,null,null,null,null,null,null,null,null,0,0,0,14383,14383,null,0,0,0,0,null,-14371.797255353356,-14383,0,"",0,null,0,null,0,null,80,"Dudley                       ",0,0,0,0,0]
[81,"Dunstable                    ",0,0,0,null,0,0,0,0,0,{"$f":"ROUND(100-'Townwide Contributions'!L90,2)","v":17.5},0,0,0,null,null,null,null,null,null,0,0,0,null,null,null,null,null,null,null,null,0,0,0,0,0,null,0,0,0,0,null,0,0,0,"",0,null,0,null,0,null,81,"Dunstable                    ",0,0,0,0,0]
[82,"Duxbury                      ",1,30413600.834905829,5340535,null,5340535,31043749.911899995,25611094,5432656,92121,{"$f":"ROUND(100-'Townwide Contributions'!L91,2)","v":17.5},2922,2888,1,null,null,null,null,null,null,2,86640,0,null,null,null,null,null,null,null,null,5383766,5470406,37750,5470406,0,null,5470406,17.621601821702058,31081500,100.1216028611464,null,630149.07699416578,129871,37749.76541750133,0.12160182170205758,10749.22,null,0,null,44.969182825484765,null,82,"Duxbury                      ",1,2,31043749.911899995,25611094,5470406]
[83,"East Bridgewater             ",1,23021485.869153682,10847253,null,10847253,23773530.020000003,12659690,11113840,266587,{"$f":"ROUND(100-'Townwide Contributions'!L92,2)","v":44.58},2159,2153,1,null,null,null,null,null,null,4,64590,0,null,null,null,null,null,null,null,null,10970695,11035285,0,11113840,0,null,11113840,46.748799991630349,23773530,99.999999915872806,null,752044.15084632114,266587,515600.31708399951,2.1687999916303511,11042.05,null,0,null,123.82117974918718,null,83,"East Bridgewater             ",1,4,23773530.020000003,12659690,11113840]
[84,"East Brookfield              ",0,328975.13449816412,186016,null,186016,341535.72000000003,162670,178866,0,{"$f":"ROUND(100-'Townwide Contributions'!L93,2)","v":48.39},21,21,0,null,null,null,null,null,null,0,0,0,null,null,null,null,null,null,null,null,186016,186646,630,186646,0,null,186646,0,349316,102.2780281957038,null,12560.585501835914,630,21376.865091999993,"",16263.61,null,0,null,30,null,84,"East Brookfield              ",0,0,341535.72000000003,162670,186646]
[85,"Eastham                      ",1,1859186.0779373366,364971,null,364971,2206111.6999999993,1820042,386070,21099,{"$f":"ROUND(100-'Townwide Contributions'!L94,2)","v":17.5},170,191,1,null,null,null,null,null,null,8,5730,0,null,null,null,null,null,null,null,null,375331,381061,0,386070,0,null,386070,17.500020511200777,2206112,100.00001359858618,null,346925.62206266262,21099,0.45250000013038516,2.0511200776951455E-5,11550.32,null,0,null,110.46596858638743,null,85,"Eastham                      ",1,8,2206111.6999999993,1820042,386070]
[86,"Easthampton                  ",1,19700559.137801927,8029692,null,8029692,20235912.760000002,12851208,7384705,0,{"$f":"ROUND(100-'Townwide Contributions'!L95,2)","v":35.49},1733,1719,0,null,null,null,null,null,null,6,51570,51570,null,null,null,null,null,null,null,null,8029692,8081262,0,8081262,0,null,8081262,39.935248267990652,20932470,103.4421834500931,null,535353.62219807506,51570,899536.56147599965,4.4452482679906495,11771.91,null,0,null,30,null,86,"Easthampton                  ",1,6,20235912.760000002,12851208,8081262]
[87,"East Longmeadow              ",1,28769862.744360216,12102248,null,12102248,29273598.25,17662697,11610901,0,{"$f":"ROUND(100-'Townwide Contributions'!L96,2)","v":37.58},2679,2643,0,null,null,null,null,null,null,4,79290,79290,null,null,null,null,null,null,null,null,12102248,12181538,0,12181538,0,null,12181538,41.61271154973236,29844235,101.9493222019606,null,503735.50563978404,79290,1180519.7776500005,4.0327115497323618,11075.9,null,0,null,30,null,87,"East Longmeadow              ",1,4,29273598.25,17662697,12181538]
[88,"Easton                       ",1,37265050.035474405,10148451,null,10148451,37898989.639999993,29751373,8147617,0,{"$f":"ROUND(100-'Townwide Contributions'!L97,2)","v":20.16},3559,3516,0,null,null,null,null,null,null,3,105480,105480,null,null,null,null,null,null,null,null,10148451,10253931,0,10253931,0,null,10253931,27.05594818595803,40005304,105.55770583861931,null,633939.60452558845,105480,2613494.6885760017,6.8959481859580301,10779.01,null,0,null,30,null,88,"Easton                       ",1,3,37898989.639999993,29751373,10253931]
[89,"Edgartown                    ",1,4884680.5483374586,854820,null,854820,5232376.0799999991,4316710,915666,60846,{"$f":"ROUND(100-'Townwide Contributions'!L98,2)","v":17.5},438,441,1,null,null,null,null,null,null,8,13230,0,null,null,null,null,null,null,null,null,901132,914362,0,915666,0,null,915666,17.500003554790354,5232376,99.999998471057935,null,347695.53166254051,60846,0.18600000021979213,3.5547903536325975E-6,11864.8,null,0,null,137.97278911564626,null,89,"Edgartown                    ",1,8,5232376.0799999991,4316710,915666]
[90,"Egremont                     ",0,0,0,null,0,0,0,0,0,{"$f":"ROUND(100-'Townwide Contributions'!L99,2)","v":17.5},0,0,0,null,null,null,null,null,null,0,0,0,null,null,null,null,null,null,null,null,0,0,0,0,0,null,0,0,0,0,null,0,0,0,"",0,null,0,null,0,null,90,"Egremont                     ",0,0,0,0,0]
[91,"Erving                       ",1,2280809.0489276485,471505,null,471505,2402474.0299999998,1971938,430536,0,{"$f":"ROUND(100-'Townwide Contributions'!L100,2)","v":17.5},217,219,0,null,null,null,null,null,null,8,6570,6570,null,null,null,null,null,null,null,null,471505,478075,0,478075,0,null,478075,19.899278578257931,2450013,101.97875062982472,null,121664.98107235134,6570,57642.044750000059,2.3992785782579311,10970.2,null,0,null,30,null,91,"Erving                       ",1,8,2402474.0299999998,1971938,478075]
[92,"Essex                        ",0,0,0,null,0,0,0,0,0,{"$f":"ROUND(100-'Townwide Contributions'!L101,2)","v":17.5},0,0,0,null,null,null,null,null,null,0,0,0,null,null,null,null,null,null,null,null,0,0,0,0,0,null,0,0,0,0,null,0,0,0,"",0,null,0,null,0,null,92,"Essex                        ",0,0,0,0,0]
[93,"Everett                      ",1,105617503.49762131,75001709,null,75001709,117442393.16045,36560261,80882132,5880423,{"$f":"ROUND(100-'Townwide Contributions'!L102,2)","v":68.87},7710,7652,1,null,null,null,null,null,null,11,229560,0,null,null,null,null,null,null,null,null,75001709,75231269,0,80882132,0,null,80882132,68.869621797896002,117442393,99.999999863379827,null,11824889.662828684,5880423,-444.16960191726685,-3.7820210400241194E-4,15347.93,null,0,null,768.48183481442766,null,93,"Everett                      ",1,11,117442393.16045,36560261,80882132]
[94,"Fairhaven                    ",1,20489574.57642154,8156470,null,8156470,21116969.420000002,12843404,8273565,117095,{"$f":"ROUND(100-'Townwide Contributions'!L103,2)","v":38.31},1798,1816,1,null,null,null,null,null,null,6,54480,0,null,null,null,null,null,null,null,null,8230187,8284667,11102,8284667,0,null,8284667,39.232272563474687,21128071,100.0525718429534,null,627394.84357846156,128197,194756.01519799978,0.92227256347468511,11628.29,null,0,null,70.593061674008808,null,94,"Fairhaven                    ",1,6,21116969.420000002,12843404,8284667]
[95,"Fall River                   ",1,162111258.55386746,130926689,null,130926689,175667708.91,32851740,142815969,11889280,{"$f":"ROUND(100-'Townwide Contributions'!L104,2)","v":77.430000000000007},11987,12096,1,null,null,null,null,null,null,11,362880,0,null,null,null,null,null,null,null,null,137014182,137377062,0,142815969,0,null,142815969,81.298930740406618,175667709,100.0000000512331,null,13556450.356132537,11889280,6796461.990986973,3.8689307404066113,14522.79,null,0,null,982.91005291005285,null,95,"Fall River                   ",1,11,175667708.91,32851740,142815969]
[96,"Falmouth                     ",1,38230735.995907485,6780099,null,6780099,38376927.950000003,31660965,6715963,0,{"$f":"ROUND(100-'Townwide Contributions'!L105,2)","v":17.5},3326,3222,0,null,null,null,null,null,null,6,96660,96660,null,null,null,null,null,null,null,null,6780099,6876759,0,6876759,0,null,6876759,17.918992914074561,38537724,100.41899145812164,null,146191.9540925175,96660,160796.60874999966,0.41899291407456118,11910.9,null,0,null,30,null,96,"Falmouth                     ",1,6,38376927.950000003,31660965,6876759]
[97,"Fitchburg                    ",1,75293069.019942045,56693907,null,56693907,80108669.530000001,19549605,60559065,3865158,{"$f":"ROUND(100-'Townwide Contributions'!L106,2)","v":75.040000000000006},5798,5816,1,null,null,null,null,null,null,11,174480,0,null,null,null,null,null,null,null,null,57718723,57893203,0,60559065,0,null,60559065,75.596143782317043,80108670,100.00000058670304,null,4815600.510057956,3865158,445519.3846879974,0.55614378231703654,13773.84,null,0,null,664.57324621733153,null,97,"Fitchburg                    ",1,11,80108669.530000001,19549605,60559065]
[98,"Florida                      ",1,740254.54001652624,550717,null,550717,772556.75,477778,294779,0,{"$f":"ROUND(100-'Townwide Contributions'!L107,2)","v":35.85},66,66,0,null,null,null,null,null,null,7,1980,1980,null,null,null,null,null,null,null,null,550717,552697,0,552697,0,null,552697,71.54128159517083,1030475,133.38502317143693,null,32302.20998347376,1980,275735.40512499999,35.691281595170828,11705.41,null,0,null,30,null,98,"Florida                      ",1,7,772556.75,477778,552697]
[99,"Foxborough                   ",1,28934003.214451049,9046950,null,9046950,30048953.225120001,24790386,5258567,0,{"$f":"ROUND(100-'Townwide Contributions'!L108,2)","v":17.5},2636,2639,0,null,null,null,null,null,null,4,79170,79170,null,null,null,null,null,null,null,null,9046950,9126120,0,9126120,0,null,9126120,30.370841645062178,33916506,112.87084027821257,null,1114950.010668952,79170,3867553.1856040005,12.870841645062178,11386.49,null,0,null,30,null,99,"Foxborough                   ",1,4,30048953.225120001,24790386,9126120]
[100,"Framingham                   ",1,114246010.44154748,50962180,null,50962180,123005242.38944,64953539,58051703,7089523,{"$f":"ROUND(100-'Townwide Contributions'!L109,2)","v":44.72},9348,9572,1,null,null,null,null,null,null,8,287160,0,null,null,null,null,null,null,null,null,56315584,56602744,0,58051703,0,null,58051703,47.194495025021581,123005242,99.999999683395615,null,8759231.9478925169,7089523,3043758.6034424305,2.4744950250215823,12850.53,null,0,null,740.65221479314664,null,100,"Framingham                   ",1,8,123005242.38944,64953539,58051703]
[101,"Franklin                     ",1,59674983.513386771,28416161,null,28416161,60677982.577360004,42213236,18464747,0,{"$f":"ROUND(100-'Townwide Contributions'!L110,2)","v":30.15},5576,5511,0,null,null,null,null,null,null,2,165330,165330,null,null,null,null,null,null,null,null,28416161,28581491,0,28581491,0,null,28581491,47.103561763215652,70794727,116.67284242639722,null,1002999.0639732331,165330,10287079.252925958,16.953561763215653,11010.34,null,0,null,30,null,101,"Franklin                     ",1,2,60677982.577360004,42213236,28581491]
[102,"Freetown                     ",0,1402131.3215247765,459454,null,459454,1470825.43,1014610,456215,0,{"$f":"ROUND(100-'Townwide Contributions'!L111,2)","v":27.86},90,91,0,null,null,null,null,null,null,0,0,0,null,null,null,null,null,null,null,null,459454,462184,2730,462184,0,null,462184,0,1476794,100.40579730797829,null,68694.108475223416,2730,52412.035201999999,"",16162.92,null,0,null,30,null,102,"Freetown                     ",0,0,1470825.43,1014610,462184]
[103,"Gardner                      ",1,30422248.530316565,21003460,null,21003460,31455697.409999996,9950965,21504732,501272,{"$f":"ROUND(100-'Townwide Contributions'!L112,2)","v":67.209999999999994},2471,2418,1,null,null,null,null,null,null,10,72540,0,null,null,null,null,null,null,null,null,21003460,21076000,0,21504732,0,null,21504732,68.365141359617382,31455697,99.999998696579539,null,1033448.8796834312,501272,363357.77073900402,1.1551413596173887,13008.97,null,0,null,207.30851943755169,null,103,"Gardner                      ",1,10,31455697.409999996,9950965,21504732]
[104,"Aquinnah",0,0,0,null,0,0,0,0,0,{"$f":"ROUND(100-'Townwide Contributions'!L113,2)","v":17.5},0,0,0,null,null,null,null,null,null,0,0,0,null,null,null,null,null,null,null,null,0,0,0,0,0,null,0,0,0,0,null,0,0,0,"",0,null,0,null,0,null,104,"Aquinnah",0,0,0,0,0]
[105,"Georgetown                   ",1,13380030.102942491,5527768,null,5527768,13662197.030000001,10632626,3029571,0,{"$f":"ROUND(100-'Townwide Contributions'!L114,2)","v":19.89},1314,1303,0,null,null,null,null,null,null,2,39090,39090,null,null,null,null,null,null,null,null,5527768,5566858,0,5566858,0,null,5566858,40.746433298949427,16199484,118.57158818913621,null,282166.92705751024,39090,2849447.010733,20.856433298949426,10485.19,null,0,null,30,null,105,"Georgetown                   ",1,2,13662197.030000001,10632626,5566858]
[106,"Gill                         ",0,0,0,null,0,0,0,0,0,{"$f":"ROUND(100-'Townwide Contributions'!L115,2)","v":32.69},0,0,0,null,null,null,null,null,null,0,0,0,null,null,null,null,null,null,null,null,0,0,0,0,0,null,0,0,0,0,null,0,0,0,"",0,null,0,null,0,null,106,"Gill                         ",0,0,0,0,0]
[107,"Gloucester                   ",1,37845891.761949673,6699157,null,6699157,39149213.462099992,32220430,6928783,229626,{"$f":"ROUND(100-'Townwide Contributions'!L116,2)","v":17.5},3136,3094,1,null,null,null,null,null,null,8,92820,0,null,null,null,null,null,null,null,null,6708257,6801077,0,6928783,0,null,6928783,17.698396435748815,39149213,99.999998819644247,null,1303321.7001503184,229626,77670.644132501446,0.19839643574881549,12653.27,null,0,null,74.216548157724631,null,107,"Gloucester                   ",1,8,39149213.462099992,32220430,6928783]
[108,"Goshen                       ",0,143717.97255353359,96111,null,96111,149546.50000000003,88262,61285,0,{"$f":"ROUND(100-'Townwide Contributions'!L117,2)","v":39.270000000000003},10,10,0,null,null,null,null,null,null,0,0,0,null,null,null,null,null,null,null,null,96111,96411,300,96411,0,null,96411,0,184673,123.48868077821946,null,5828.5274464664399,300,37684.089449999978,"",14954.65,null,0,null,30,null,108,"Goshen                       ",0,0,149546.50000000003,88262,96411]
[109,"Gosnold                      ",0,28232.853971617853,16414,null,16414,8344.89,6885,1460,0,{"$f":"ROUND(100-'Townwide Contributions'!L118,2)","v":17.489999999999998},3,1,0,null,null,null,null,null,null,0,0,0,null,null,null,null,null,null,null,null,8254.4719029999997,8284.4719029999997,0,16414,8069.1100000000006,null,8344.89,0,15229.89,182.50558125990878,null,-19887.963971617854,-8069.1100000000006,6885.3687389999996,"",8344.89,null,0,null,-8069.1100000000006,null,109,"Gosnold                      ",0,0,8344.89,6885,8344.89]
[110,"Grafton                      ",1,32167051.495621532,11108735,null,11108735,32932840.999999996,22268497,10664344,0,{"$f":"ROUND(100-'Townwide Contributions'!L119,2)","v":30.43},3112,3079,0,null,null,null,null,null,null,3,92370,92370,null,null,null,null,null,null,null,null,11108735,11201105,0,11201105,0,null,11201105,34.011960887310025,33469602,101.62986545861622,null,765789.50437846407,92370,1179641.4836999997,3.581960887310025,10695.95,null,0,null,30,null,110,"Grafton                      ",1,3,32932840.999999996,22268497,11201105]
[111,"Granby                       ",1,7816401.3026422542,4664780,null,4664780,8266807.4100000001,5256602,3010205,0,{"$f":"ROUND(100-'Townwide Contributions'!L120,2)","v":35.75},701,711,0,null,null,null,null,null,null,6,21330,21330,null,null,null,null,null,null,null,null,4664780,4686110,0,4686110,0,null,4686110,56.685849416685521,9942712,120.2726942443673,null,450406.10735774599,21330,1730726.3509249999,20.935849416685521,11627.01,null,0,null,30,null,111,"Granby                       ",1,6,8266807.4100000001,5256602,4686110]
[112,"Granville                    ",0,0,0,null,0,0,0,0,0,{"$f":"ROUND(100-'Townwide Contributions'!L121,2)","v":22.25},0,0,0,null,null,null,null,null,null,0,0,0,null,null,null,null,null,null,null,null,0,0,0,0,0,null,0,0,0,0,null,0,0,0,"",0,null,0,null,0,null,112,"Granville                    ",0,0,0,0,0]
[113,"Great Barrington             ",0,0,0,null,0,0,0,0,0,{"$f":"ROUND(100-'Townwide Contributions'!L122,2)","v":17.5},0,0,0,null,null,null,null,null,null,0,0,0,null,null,null,null,null,null,null,null,0,0,0,0,0,null,0,0,0,0,null,0,0,0,"",0,null,0,null,0,null,113,"Great Barrington             ",0,0,0,0,0]
[114,"Greenfield                   ",1,23758804.479078908,13611355,null,13611355,24436320.869999997,10437834,13998487,387132,{"$f":"ROUND(100-'Townwide Contributions'!L123,2)","v":56.75},1989,1965,1,null,null,null,null,null,null,10,58950,0,null,null,null,null,null,null,null,null,13908280,13967230,0,13998487,0,null,13998487,57.285575330555069,24436321,100.00000053199498,null,677516.3909210898,387132,130874.90627500229,0.53557533055506923,12435.79,null,0,null,197.01374045801526,null,114,"Greenfield                   ",1,10,24436320.869999997,10437834,13998487]
[115,"Groton                       ",0,0,0,null,0,0,0,0,0,{"$f":"ROUND(100-'Townwide Contributions'!L124,2)","v":17.5},0,0,0,null,null,null,null,null,null,0,0,0,null,null,null,null,null,null,null,null,0,0,0,0,0,null,0,0,0,0,null,0,0,0,"",0,null,0,null,0,null,115,"Groton                       ",0,0,0,0,0]
[116,"Groveland                    ",0,185257.16194463047,65200,null,65200,119637.19999999998,85949,33688,0,{"$f":"ROUND(100-'Townwide Contributions'!L125,2)","v":26.27},11,8,0,null,null,null,null,null,null,0,0,0,null,null,null,null,null,null,null,null,65200,65440,240,65440,0,null,65440,0,151389,126.54007282015964,null,-65619.961944630486,240,34011.307560000001,"",14954.65,null,0,null,30,null,116,"Groveland                    ",0,0,119637.19999999998,85949,65440]
[117,"Hadley                       ",1,6230653.9028760213,1279420,null,1279420,5998298.0700000003,4948596,1049702,0,{"$f":"ROUND(100-'Townwide Contributions'!L126,2)","v":17.5},559,520,0,null,null,null,null,null,null,4,15600,15600,null,null,null,null,null,null,null,null,1279420,1295020,0,1295020,0,null,1295020,21.589790718752994,6243616,104.08979225668924,null,-232355.83287602104,15600,245317.83774999995,4.0897907187529938,11535.19,null,0,null,30,null,117,"Hadley                       ",1,4,5998298.0700000003,4948596,1295020]
[118,"Halifax                      ",1,6718564.0537173413,3063392,null,3063392,6928966.3674400011,3862445,3066521,3129,{"$f":"ROUND(100-'Townwide Contributions'!L127,2)","v":43.07},647,630,1,null,null,null,null,null,null,5,18900,15771,null,null,null,null,null,null,null,null,3063392,3082292,0,3082292,0,null,3082292,44.484152996961271,6944737,100.22760440336536,null,210402.31372265983,18900,97986.185543591157,1.4141529969612705,10998.36,null,0,null,30,null,118,"Halifax                      ",1,5,6928966.3674400011,3862445,3082292]
[119,"Hamilton                     ",0,0,0,null,0,0,0,0,0,{"$f":"ROUND(100-'Townwide Contributions'!L128,2)","v":17.5},0,0,0,null,null,null,null,null,null,0,0,0,null,null,null,null,null,null,null,null,0,0,0,0,0,null,0,0,0,0,null,0,0,0,"",0,null,0,null,0,null,119,"Hamilton                     ",0,0,0,0,0]
[120,"Hampden                      ",0,0,0,null,0,0,0,0,0,{"$f":"ROUND(100-'Townwide Contributions'!L129,2)","v":17.5},0,0,0,null,null,null,null,null,null,0,0,0,null,null,null,null,null,null,null,null,0,0,0,0,0,null,0,0,0,0,null,0,0,0,"",0,null,0,null,0,null,120,"Hampden                      ",0,0,0,0,0]
[121,"Hancock                      ",1,800339.26922275487,211450,null,211450,889298.06999999983,673593,215705,4255,{"$f":"ROUND(100-'Townwide Contributions'!L130,2)","v":17.5},73,77,1,null,null,null,null,null,null,5,2310,0,null,null,null,null,null,null,null,null,212837,215147,0,215705,0,null,215705,24.255646928369025,889298,99.999992128623447,null,88958.800777244964,4255,60077.837750000035,6.7556469283690248,11549.33,null,0,null,55.259740259740262,null,121,"Hancock                      ",1,5,889298.06999999983,673593,215705]
[122,"Hanover                      ",1,26655202.675033823,7023879,null,7023879,27476046.046630003,21432195,6043851,0,{"$f":"ROUND(100-'Townwide Contributions'!L131,2)","v":20.7},2548,2558,0,null,null,null,null,null,null,2,76740,76740,null,null,null,null,null,null,null,null,7023879,7100619,0,7100619,0,null,7100619,25.842943296678989,28532814,103.84614275131342,null,820843.3715961799,76740,1413077.4683475895,5.1429432966789896,10741.22,null,0,null,30,null,122,"Hanover                      ",1,2,27476046.046630003,21432195,7100619]
[123,"Hanson                       ",0,43115.391766060078,43148,null,43148,14954.649999999998,8558,6397,0,{"$f":"ROUND(100-'Townwide Contributions'!L132,2)","v":38.67},3,1,0,null,null,null,null,null,null,0,0,0,null,null,null,null,null,null,null,null,14657.809606999999,14687.809606999999,0,43148,28193.350000000002,null,14954.649999999998,0,23512.649999999998,157.22634765775197,null,-28160.74176606008,-28193.350000000002,9171.6868449999984,"",14954.65,null,0,null,-28193.350000000002,null,123,"Hanson                       ",0,0,14954.649999999998,8558,14954.649999999998]
[124,"Hardwick                     ",0,14371.797255353356,8588,null,8588,29909.299999999996,11969,17940,9352,{"$f":"ROUND(100-'Townwide Contributions'!L133,2)","v":56.97},1,2,0,null,null,null,null,null,null,0,0,0,null,null,null,null,null,null,null,null,17389,17449,0,17940,0,null,17940,0,29909,99.998996967498414,null,15537.502744646639,9352,900.67179000000397,"",14954.65,null,0,null,4676,null,124,"Hardwick                     ",0,0,29909.299999999996,11969,17940]
[125,"Harvard                      ",1,9480813.6788152698,1982671,null,1982671,9566705.8100000005,7892532,1674174,0,{"$f":"ROUND(100-'Townwide Contributions'!L134,2)","v":17.5},931,911,0,null,null,null,null,null,null,2,27330,27330,null,null,null,null,null,null,null,null,1982671,2010001,0,2010001,0,null,2010001,21.010377447783146,9902533,103.51037438246468,null,85892.131184730679,27330,335827.48325000005,3.5103774477831458,10501.32,null,0,null,30,null,125,"Harvard                      ",1,2,9566705.8100000005,7892532,2010001]
[126,"Harwich                      ",0,0,0,null,0,0,0,0,0,{"$f":"ROUND(100-'Townwide Contributions'!L135,2)","v":17.5},0,0,0,null,null,null,null,null,null,0,0,0,null,null,null,null,null,null,null,null,0,0,0,0,0,null,0,0,0,0,null,0,0,0,"",0,null,0,null,0,null,126,"Harwich                      ",0,0,0,0,0]
[127,"Hatfield                     ",1,3779440.8478222261,846256,null,846256,3979328.2800000012,3198126,781202,0,{"$f":"ROUND(100-'Townwide Contributions'!L136,2)","v":17.5},347,353,0,null,null,null,null,null,null,4,10590,10590,null,null,null,null,null,null,null,null,846256,856846,0,856846,0,null,856846,21.53242808105291,4054972,101.90091680498395,null,199887.43217777507,10590,160463.55099999986,4.0324280810529096,11272.88,null,0,null,30,null,127,"Hatfield                     ",1,4,{"$f":"H136","v":3979328.2800000012},{"$f":"I136","v":3198126},{"$f":"AM136","v":856846}]
[128,"Haverhill                    ",1,100463268.08911894,58353924,null,58353924,108992118.71000001,43726032,65266087,6912163,{"$f":"ROUND(100-'Townwide Contributions'!L137,2)","v":57.89},8237,8540,1,null,null,null,null,null,null,10,256200,0,null,null,null,null,null,null,null,null,63759925,64016125,0,65266087,0,null,65266087,59.881473791381431,108992119,100.00000026607428,null,8528850.6208810657,6912163,2170549.4787809998,1.9914737913814307,12762.54,null,0,null,809.38676814988287,null,128,"Haverhill                    ",1,10,108992118.71000001,43726032,65266087]
[129,"Hawley                       ",0,0,0,null,0,{"$f":"SUMIF(dist1755,A138,found1755)","v":14954.649999999998},{"$f":"SUMIF(dist1755,A138,prelcont1755)","v":8945},{"$f":"ROUND(MAX(found-prelcont436,0),0)","v":6010},{"$f":"IF(foundaid>priorc70,foundaid-priorc70,0)","v":6010},{"$f":"ROUND(100-'Townwide Contributions'!L138,2)","v":38.22},0,{"$f":"SUMIF(dist1755,A138,enro1755)","v":1},{"$f":"IF(AND(C138=1,K138>0),1,0)","v":0},null,null,null,null,null,null,0,{"$f":"IF(nonop=1,enro*$W$6,0)","v":0},{"$f":"IF((foundinc)<W138,W138-(foundinc),0)","v":0},null,null,null,null,null,null,null,null,5867,{"$f":"AG138+30*enro","v":5897},{"$f":"IF(AH138-priorc70-foundinc-minaid>0,AH138-priorc70-foundinc-minaid,0)","v":0},{"$f":"priorc70+foundinc+minaidadjincrement+minaid","v":6010},{"$f":"IF(AND(C138=0,AJ138>found),AJ138-found,0)","v":0},null,{"$f":"priorc70+foundinc+minaidadjincrement+minaid-rednonop","v":6010},{"$f":"IF(C138=1, AM138/H138*100, 0)","v":0},{"$f":"prelcont436+chapter70","v":14955},{"$f":"IF(found>0,AO138*100/found,0)","v":100.0023404091704},null,{"$f":"H138-D138","v":14954.649999999998},{"$f":"AM138-G138","v":6010},{"$f":"AM138-((L138/100)*H138)","v":294.33277000000089},{"$f":"IF(C138=1, (AM138/H138*100)-L138, \"\")","v":""},{"$f":"IFERROR(ROUND(H138/N138, 2), 0)","v":14954.65},null,{"$f":"VLOOKUP(A138, disthist, 37, FALSE)*$G$6","v":0},null,{"$f":"IFERROR(AS138/N138, 0)","v":6010},null,{"$f":"A138","v":129},{"$f":"B138","v":"Hawley                       "},{"$f":"C138","v":0},0,14954.649999999998,8945,6010]
[130,"Heath                        ",0,0,0,null,{"$f":"E139","v":0},0,0,0,0,{"$f":"ROUND(100-'Townwide Contributions'!L139,2)","v":56.22},0,0,0,null,null,null,null,null,null,0,0,0,null,null,null,null,null,null,null,null,0,0,0,0,0,null,0,0,0,0,null,0,0,0,"",0,null,0,null,0,null,130,"Heath                        ",0,{"$f":"V139","v":0},0,0,0]
[131,"Hingham                      ",1,43961797.366181195,7695110,null,7695110,45919654.091400005,37883715,8035939,340829,{"$f":"ROUND(100-'Townwide Contributions'!L140,2)","v":17.5},4253,4289,1,null,null,null,null,null,null,2,128670,0,null,null,null,null,null,null,null,null,7957801,8086471,50532,8086471,0,null,8086471,17.610043368149984,45970186,100.11004418391178,null,1957856.7252188101,391361,50531.534004999325,0.11004336814998439,10706.38,null,0,null,91.247610165539754,null,131,"Hingham                      ",1,2,45919654.091400005,37883715,8086471]
[132,"Hinsdale                     ",0,214000.75645533722,104683,null,104683,119637.19999999998,98701,20936,0,{"$f":"ROUND(100-'Townwide Contributions'!L141,2)","v":17.5},13,8,0,null,null,null,null,null,null,0,0,0,null,null,null,null,null,null,null,null,104683,104923,240,104923,0,null,104923,0,203624,170.201241754237,null,-94363.556455337239,240,83986.49,"",14954.65,null,0,null,30,null,132,"Hinsdale                     ",0,0,119637.19999999998,98701,104923]
[133,"Holbrook                     ",1,15200054.581420457,7338311,null,7338311,17149375.393759999,8381343,8768032,1429721,{"$f":"ROUND(100-'Townwide Contributions'!L142,2)","v":48.95},1288,1346,1,null,null,null,null,null,null,9,40380,0,null,null,null,null,null,null,null,null,7823021,7863401,0,8768032,0,null,8768032,51.127413090451981,17149375,99.999997703939698,null,1949320.8123395424,1429721,373412.7447544802,2.177413090451978,12740.99,null,0,null,1062.1998514115899,null,133,"Holbrook                     ",1,9,17149375.393759999,8381343,8768032]
[134,"Holden                       ",0,0,0,null,0,0,0,0,0,{"$f":"ROUND(100-'Townwide Contributions'!L143,2)","v":41.32},0,0,0,null,null,null,null,null,null,0,0,0,null,null,null,null,null,null,null,null,0,0,0,0,0,null,0,0,0,0,null,0,0,0,"",0,null,0,null,0,null,134,"Holden                       ",0,0,0,0,0]
[135,"Holland                      ",1,1957811.3888900897,933678,null,933678,1909559.09,1119698,789861,0,{"$f":"ROUND(100-'Townwide Contributions'!L144,2)","v":40.04},172,156,0,null,null,null,null,null,null,7,4680,4680,null,null,null,null,null,null,null,null,933678,938358,0,938358,0,null,938358,49.140034729168811,2058056,107.77650248047574,null,-48252.298890089616,4680,173770.54036400001,9.1000347291688115,12240.76,null,0,null,30,null,135,"Holland                      ",1,7,1909559.09,1119698,938358]
[136,"Holliston                    ",1,27996289.160540704,7936216,null,7936216,28940333.030220006,21381250,7559083,0,{"$f":"ROUND(100-'Townwide Contributions'!L145,2)","v":22.54},2688,2706,0,null,null,null,null,null,null,2,81180,81180,null,null,null,null,null,null,null,null,7936216,8017396,0,8017396,0,null,8017396,27.703191914302071,29398646,101.58364787751894,null,944043.86967930198,81180,1494244.9349884111,5.1631919143020717,10694.88,null,0,null,30,null,136,"Holliston                    ",1,2,28940333.030220006,21381250,8017396]
[137,"Holyoke                      ",1,88111145.825201109,77036376,null,77036376,92731775.269999996,11318415,81413360,4376984,{"$f":"ROUND(100-'Townwide Contributions'!L146,2)","v":80.33},6330,6359,1,null,null,null,null,null,null,12,190770,0,null,null,null,null,null,null,null,null,78984042,79174812,0,81413360,0,null,81413360,87.79445854773617,92731775,99.999999708837677,null,4620629.4447988868,4376984,6921924.9256090075,7.4644585477361716,14582.76,null,0,null,688.31325680138389,null,137,"Holyoke                      ",1,12,92731775.269999996,11318415,81413360]
[138,"Hopedale                     ",1,9935233.2153440155,6087390,null,6087390,10008851.028140003,5857196,4151655,0,{"$f":"ROUND(100-'Townwide Contributions'!L147,2)","v":39.43},937,924,0,null,null,null,null,null,null,3,27720,27720,null,null,null,null,null,null,null,null,6087390,6115110,0,6115110,0,null,6115110,61.097022853145646,11972306,119.61718649163346,null,73617.812795987353,27720,2168620.039604397,21.667022853145646,10832.09,null,0,null,30,null,138,"Hopedale                     ",1,3,10008851.028140003,5857196,6115110]
[139,"Hopkinton                    ",1,39305559.544661731,7021215,null,7021215,41968586.829549991,34353998,7614589,593374,{"$f":"ROUND(100-'Townwide Contributions'!L148,2)","v":17.5},3702,3867,1,null,null,null,null,null,null,2,116010,0,null,null,null,null,null,null,null,null,7341605,7457615,0,7614589,0,null,7614589,18.143543958069575,41968587,100.00000040613712,null,2663027.2848882601,593374,270086.30482875183,0.64354395806957498,10853.01,null,0,null,153.44556503749678,null,139,"Hopkinton                    ",1,2,41968586.829549991,34353998,7614589]
[140,"Hubbardston                  ",0,0,0,null,0,0,0,0,0,{"$f":"ROUND(100-'Townwide Contributions'!L149,2)","v":39.630000000000003},0,0,0,null,null,null,null,null,null,0,0,0,null,null,null,null,null,null,null,null,0,0,0,0,0,null,0,0,0,0,null,0,0,0,"",0,null,0,null,0,null,140,"Hubbardston                  ",0,0,0,0,0]
[141,"Hudson                       ",1,29439397.279731382,12020446,null,12020446,30680243.220659997,18612598,12067645,47199,{"$f":"ROUND(100-'Townwide Contributions'!L150,2)","v":37.4},2658,2658,1,null,null,null,null,null,null,5,79740,32541,null,null,null,null,null,null,null,null,12020446,12100186,0,12100186,0,null,12100186,39.439667778943047,30712784,100.10606428086622,null,1240845.9409286156,79740,625775.03547316045,2.0396677789430484,11542.6,null,0,null,30,null,141,"Hudson                       ",1,5,30680243.220659997,18612598,12100186]
[142,"Hull                         ",1,10718331.726392865,3874466,null,3874466,10835997.687280001,8939698,1896300,0,{"$f":"ROUND(100-'Townwide Contributions'!L151,2)","v":17.5},928,896,0,null,null,null,null,null,null,7,26880,26880,null,null,null,null,null,null,null,null,3874466,3901346,0,3901346,0,null,3901346,36.00356988429089,12841044,118.50356903521354,null,117665.96088713594,26880,2005046.404726,18.50356988429089,12093.75,null,0,null,30,null,142,"Hull                         ",1,7,10835997.687280001,8939698,3901346]
[143,"Huntington                   ",0,372090.52626422414,257686,null,257686,431263.62000000005,194340,236924,0,{"$f":"ROUND(100-'Townwide Contributions'!L152,2)","v":52.08},24,27,0,null,null,null,null,null,null,0,0,0,null,null,null,null,null,null,null,null,257686,258496,810,258496,0,null,258496,0,452836,105.00213303408248,null,59173.09373577591,810,33893.906703999994,"",15972.73,null,0,null,30,null,143,"Huntington                   ",0,0,431263.62000000005,194340,258496]
[144,"Ipswich                      ",1,18376694.040241551,3332340,null,3332340,18643938.808199998,15381249,3262690,0,{"$f":"ROUND(100-'Townwide Contributions'!L153,2)","v":17.5},1670,1654,0,null,null,null,null,null,null,3,49620,49620,null,null,null,null,null,null,null,null,3332340,3381960,0,3381960,0,null,3381960,18.139729135522277,18763209,100.63972636376357,null,267244.76795844734,49620,119270.70856500044,0.63972913552227695,11272.03,null,0,null,30,null,144,"Ipswich                      ",1,3,18643938.808199998,15381249,3381960]
[145,"Kingston                     ",1,11332153.547165975,4372585,null,4372585,11896660.208199998,7765867,4130793,0,{"$f":"ROUND(100-'Townwide Contributions'!L154,2)","v":32.72},1082,1105,0,null,null,null,null,null,null,4,33150,33150,null,null,null,null,null,null,null,null,4372585,4405735,0,4405735,0,null,4405735,37.033376787237003,12171602,102.31108384192139,null,564506.66103402339,33150,513147.77987696044,4.3133767872370044,10766.21,null,0,null,30,null,145,"Kingston                     ",1,4,11896660.208199998,7765867,4405735]
[146,"Lakeville                    ",0,242744.35096604392,86148,null,86148,206943.87000000002,133581,73363,0,{"$f":"ROUND(100-'Townwide Contributions'!L155,2)","v":30.78},15,12,0,null,null,null,null,null,null,0,0,0,null,null,null,null,null,null,null,null,86148,86508,360,86508,0,null,86508,0,220089,106.35202675971991,null,-35800.480966043891,360,22810.676813999991,"",17245.32,null,0,null,30,null,146,"Lakeville                    ",0,0,206943.87000000002,133581,86508]
[147,"Lancaster                    ",0,0,0,null,0,0,0,0,0,{"$f":"ROUND(100-'Townwide Contributions'!L156,2)","v":29.38},0,0,0,null,null,null,null,null,null,0,0,0,null,null,null,null,null,null,null,null,0,0,0,0,0,null,0,0,0,0,null,0,0,0,"",0,null,0,null,0,null,147,"Lancaster                    ",0,0,0,0,0]
[148,"Lanesborough                 ",0,0,0,null,0,29909.299999999996,17939,11970,11970,{"$f":"ROUND(100-'Townwide Contributions'!L157,2)","v":37.93},0,2,0,null,null,null,null,null,null,0,0,0,null,null,null,null,null,null,null,null,11292,11352,0,11970,0,null,11970,0,29909,99.998996967498414,null,29909.299999999996,11970,625.40251000000171,"",14954.65,null,0,null,5985,null,148,"Lanesborough                 ",0,0,29909.299999999996,17939,11970]
[149,"Lawrence                     ",1,210870986.66280565,199995369,null,199995369,233340242.25999999,11560136,221780106,21784737,{"$f":"ROUND(100-'Townwide Contributions'!L158,2)","v":86.3},15428,15367,1,null,null,null,null,null,null,12,461010,0,null,null,null,null,null,null,null,null,207256280,207717290,0,221780106,0,null,221780106,95.045802580799972,233340242,99.999999888574735,null,22469255.597194344,21784737,20407476.929619998,8.7458025807999746,15184.5,null,0,null,1417.6310926010283,null,149,"Lawrence                     ",1,12,233340242.25999999,11560136,221780106]
[150,"Lee                          ",1,7374237.8470487166,2085069,null,2085069,7555332.2300000004,6106135,1449197,0,{"$f":"ROUND(100-'Townwide Contributions'!L159,2)","v":17.559999999999999},615,616,0,null,null,null,null,null,null,7,18480,18480,null,null,null,null,null,null,null,null,2085069,2103549,0,2103549,0,null,2103549,27.841912651404343,8209684,108.66079412632261,null,181094.38295128383,18480,776832.66041200003,10.281912651404344,12265.15,null,0,null,30,null,150,"Lee                          ",1,7,7555332.2300000004,6106135,2103549]
[151,"Leicester                    ",1,17701915.196191557,9802497,null,9802497,18481715.280000001,8697551,9784164,0,{"$f":"ROUND(100-'Townwide Contributions'!L160,2)","v":52.02},1555,1539,0,null,null,null,null,null,null,7,46170,46170,null,null,null,null,null,null,null,null,9802497,9848667,0,9848667,0,null,9848667,53.288706436559707,18546218,100.34900829832499,null,779800.08380844444,46170,234478.71134399995,1.2687064365597038,12008.91,null,0,null,30,null,151,"Leicester                    ",1,7,18481715.280000001,8697551,9848667]
[152,"Lenox                        ",1,5511981.8499129619,1272525,null,1272525,5883431.6600000001,4728371,1155061,0,{"$f":"ROUND(100-'Townwide Contributions'!L161,2)","v":17.5},494,507,0,null,null,null,null,null,null,4,15210,15210,null,null,null,null,null,null,null,null,1272525,1287735,0,1287735,0,null,1287735,21.887481225540402,6016106,102.25505024392515,null,371449.8100870382,15210,258134.4595,4.3874812255404017,11604.4,null,0,null,30,null,152,"Lenox                        ",1,4,5883431.6600000001,4728371,1287735]
[153,"Leominster                   ",1,77172702.956447005,47045537,null,47045537,80292978.790000007,31326227,48966752,1921215,{"$f":"ROUND(100-'Townwide Contributions'!L162,2)","v":60.31},6157,6177,1,null,null,null,null,null,null,8,185310,0,null,null,null,null,null,null,null,null,48500336,48685646,0,48966752,0,null,48966752,60.985098246346922,80292979,100.00000026154217,null,3120275.8335530013,1921215,542056.49175100029,0.67509824634691995,12998.7,null,0,null,311.02719766877124,null,153,"Leominster                   ",1,8,80292978.790000007,31326227,48966752]
[154,"Leverett                     ",1,1166005.2401467538,295511,null,295511,1226441.5,1001659,224783,0,{"$f":"ROUND(100-'Townwide Contributions'!L163,2)","v":17.5},112,116,0,null,null,null,null,null,null,4,3480,3480,null,null,null,null,null,null,null,null,295511,298991,0,298991,0,null,298991,24.37874126079393,1300650,106.05071664649313,null,60436.259853246156,3480,84363.737500000017,6.8787412607939302,10572.77,null,0,null,30,null,154,"Leverett                     ",1,4,1226441.5,1001659,298991]
[155,"Lexington                    ",1,80260931.779566333,14438034,null,14438034,82151053.714560002,67774619,14376435,0,{"$f":"ROUND(100-'Townwide Contributions'!L164,2)","v":17.5},7335,7282,0,null,null,null,null,null,null,2,218460,218460,null,null,null,null,null,null,null,null,14438034,14656494,0,14656494,0,null,14656494,17.840908104386692,82431113,100.34090772154072,null,1890121.9349936694,218460,280059.59995200112,0.34090810438669195,11281.39,null,0,null,30,null,155,"Lexington                    ",1,2,82151053.714560002,67774619,14656494]
[156,"Leyden                       ",0,0,0,null,0,0,0,0,0,{"$f":"ROUND(100-'Townwide Contributions'!L165,2)","v":17.5},0,0,0,null,null,null,null,null,null,0,0,0,null,null,null,null,null,null,null,null,0,0,0,0,0,null,0,0,0,0,null,0,0,0,"",0,null,0,null,0,null,156,"Leyden                       ",0,0,0,0,0]
[157,"Lincoln                      ",1,6701030.6023767004,1174169,null,1174169,6332691.0512000015,5224470,1108221,0,{"$f":"ROUND(100-'Townwide Contributions'!L166,2)","v":17.5},653,595,0,null,null,null,null,null,null,2,17850,17850,null,null,null,null,null,null,null,null,1174169,1192019,0,1192019,0,null,1192019,18.823261554408539,6416489,101.32325970306287,null,-368339.55117669888,17850,83798.066039999714,1.3232615544085391,10643.18,null,0,null,30,null,157,"Lincoln                      ",1,2,6332691.0512000015,5224470,1192019]
[158,"Littleton                    ",1,16632291.76270235,4039908,null,4039908,17029929.215600003,14049692,2980237,0,{"$f":"ROUND(100-'Townwide Contributions'!L167,2)","v":17.5},1612,1611,0,null,null,null,null,null,null,2,48330,48330,null,null,null,null,null,null,null,null,4039908,4088238,0,4088238,0,null,4088238,24.00619490687626,18137930,106.50619723882957,null,397637.45289765298,48330,1108000.3872699998,6.5061949068762601,10571.03,null,0,null,30,null,158,"Littleton                    ",1,2,17029929.215600003,14049692,4088238]
[159,"Longmeadow                   ",1,29113308.339486767,5669282,null,5669282,29509451.490000002,24145968,5363483,0,{"$f":"ROUND(100-'Townwide Contributions'!L168,2)","v":17.5},2855,2808,0,null,null,null,null,null,null,2,84240,84240,null,null,null,null,null,null,null,null,5669282,5753522,0,5753522,0,null,5753522,19.497217703113598,29899490,101.32174096876105,null,396143.15051323548,84240,589367.98924999963,1.9972177031135985,10509.06,null,0,null,30,null,159,"Longmeadow                   ",1,2,29509451.490000002,24145968,5753522]
[160,"Lowell                       ",1,212748263.5454053,163023947,null,163023947,227619488.50999999,51812185,175807304,12783357,{"$f":"ROUND(100-'Townwide Contributions'!L169,2)","v":73.97},16353,16352,1,null,null,null,null,null,null,11,490560,0,null,null,null,null,null,null,null,null,166935370,167425930,0,175807304,0,null,175807304,77.237368887364084,227619489,100.00000021527156,null,14871224.964594692,12783357,7437168.349153012,3.2673688873640856,13919.98,null,0,null,781.76106898238743,null,160,"Lowell                       ",1,11,227619488.50999999,51812185,175807304]
[161,"Ludlow                       ",1,29028174.444039177,13795983,null,13795983,29682132.170000002,16798913,12883219,0,{"$f":"ROUND(100-'Townwide Contributions'!L170,2)","v":42.84},2543,2509,0,null,null,null,null,null,null,6,75270,75270,null,null,null,null,null,null,null,null,13795983,13871253,0,13871253,0,null,13871253,46.732670417861023,30670166,103.32871582250621,null,653957.72596082464,75270,1155427.5783719979,3.8926704178610194,11830.26,null,0,null,30,null,161,"Ludlow                       ",1,6,29682132.170000002,16798913,13871253]
[162,"Lunenburg                    ",1,17948505.284198701,7771740,null,7771740,18454431.700000003,10527507,7926925,155185,{"$f":"ROUND(100-'Townwide Contributions'!L171,2)","v":40.53},1705,1705,1,null,null,null,null,null,null,4,51150,0,null,null,null,null,null,null,null,null,7771740,7822890,0,7926925,0,null,7926925,42.954045558606929,18454432,100.00000162562577,null,505926.4158013016,155185,447343.83198999893,2.4240455586069274,10823.71,null,0,null,91.017595307917887,null,162,"Lunenburg                    ",1,4,18454431.700000003,10527507,7926925]
[163,"Lynn                         ",1,238010020.23206508,185845059,null,185845059,269437661.94999999,53396054,216041608,30196549,{"$f":"ROUND(100-'Townwide Contributions'!L172,2)","v":77.72},17598,18088,1,null,null,null,null,null,null,12,542640,0,null,null,null,null,null,null,null,null,199169378,199712018,0,216041608,0,null,216041608,80.182408961109232,269437662,100.00000001855717,null,31427641.717934906,30196549,6634657.1324599981,2.462408961109233,14895.93,null,0,null,1669.4244250331712,null,163,"Lynn                         ",1,12,269437661.94999999,53396054,216041608]
[164,"Lynnfield                    ",1,23010166.94368434,4404631,null,4404631,23736014.726909995,19294723,4441292,36661,{"$f":"ROUND(100-'Townwide Contributions'!L173,2)","v":17.5},2199,2205,1,null,null,null,null,null,null,2,66150,29489,null,null,null,null,null,null,null,null,4404631,4470781,0,4470781,0,null,4470781,18.835432364858562,23765504,100.12423851867842,null,725847.78322565556,66150,316978.42279075133,1.335432364858562,10764.63,null,0,null,30,null,164,"Lynnfield                    ",1,2,23736014.726909995,19294723,4470781]
[165,"Malden                       ",1,95060966.502866924,51206223,null,51206223,99371892.755459994,46001263,53370630,2164407,{"$f":"ROUND(100-'Townwide Contributions'!L174,2)","v":47},7451,7268,1,null,null,null,null,null,null,10,218040,0,null,null,null,null,null,null,null,null,51206223,51424263,0,53370630,0,null,53370630,53.707973673539136,99371893,100.00000024608569,null,4310926.2525930703,2164407,6665840.4049338028,6.7079736735391364,13672.52,null,0,null,297.79953219592733,null,165,"Malden                       ",1,10,99371892.755459994,46001263,53370630]
[166,"Manchester                   ",0,0,0,null,0,0,0,0,0,{"$f":"ROUND(100-'Townwide Contributions'!L175,2)","v":17.5},0,0,0,null,null,null,null,null,null,0,0,0,null,null,null,null,null,null,null,null,0,0,0,0,0,null,0,0,0,0,null,0,0,0,"",0,null,0,null,0,null,166,"Manchester                   ",0,0,0,0,0]
[167,"Mansfield                    ",1,42363212.754154898,18962339,null,18962339,42028169.123660006,29654453,12373716,0,{"$f":"ROUND(100-'Townwide Contributions'!L176,2)","v":27.22},3867,3730,0,null,null,null,null,null,null,3,111900,111900,null,null,null,null,null,null,null,null,18962339,19074239,0,19074239,0,null,19074239,45.384415732880555,48728692,115.94293307573062,null,-335043.6304948926,111900,7634171.3645397462,18.164415732880556,11267.61,null,0,null,30,null,167,"Mansfield                    ",1,3,42028169.123660006,29654453,19074239]
[168,"Marblehead                   ",1,32505638.687593605,5952147,null,5952147,32226764.34,26587081,5639683,0,{"$f":"ROUND(100-'Townwide Contributions'!L177,2)","v":17.5},3144,3023,0,null,null,null,null,null,null,3,90690,90690,null,null,null,null,null,null,null,null,5952147,6042837,0,6042837,0,null,6042837,18.750988886897353,32629918,101.25099018861042,null,-278874.34759360552,90690,403153.24050000031,1.2509888868973533,10660.52,null,0,null,30,null,168,"Marblehead                   ",1,3,32226764.34,26587081,6042837]
[169,"Marion                       ",1,4612923.7963335682,860344,null,860344,4560187.0899999989,3762154,798033,0,{"$f":"ROUND(100-'Townwide Contributions'!L178,2)","v":17.5},450,432,0,null,null,null,null,null,null,4,12960,12960,null,null,null,null,null,null,null,null,860344,873304,0,873304,0,null,873304,19.150617787482052,4635458,101.65061012880507,null,-52736.706333569251,12960,75271.259250000236,1.6506177874820516,10555.99,null,0,null,30,null,169,"Marion                       ",1,4,4560187.0899999989,3762154,873304]
[170,"Marlborough                  ",1,64168256.450577833,28530409,null,28530409,69057563.677520007,37356439,31701125,3170716,{"$f":"ROUND(100-'Townwide Contributions'!L179,2)","v":42.96},5213,5336,1,null,null,null,null,null,null,8,160080,0,null,null,null,null,null,null,null,null,30660270,30820350,0,31701125,0,null,31701125,45.905362587124579,69057564,100.00000046697274,null,4889307.2269421741,3170716,2033995.6441374049,2.9453625871245777,12941.82,null,0,null,594.21214392803597,null,170,"Marlborough                  ",1,8,69057563.677520007,37356439,31701125]
[171,"Marshfield                   ",1,43523657.528021462,14664853,null,14664853,43929784.021200001,36242072,7687712,0,{"$f":"ROUND(100-'Townwide Contributions'!L180,2)","v":17.5},4046,3941,0,null,null,null,null,null,null,3,118230,118230,null,null,null,null,null,null,null,null,14664853,14783083,0,14783083,0,null,14783083,33.651617756340109,51025155,116.15161817179856,null,406126.49317853898,118230,7095370.79629,16.151617756340109,11146.86,null,0,null,30,null,171,"Marshfield                   ",1,3,43929784.021200001,36242072,14783083]
[172,"Mashpee                      ",1,18627382.034490988,4640166,null,4640166,18618025.09,15359871,3258154,0,{"$f":"ROUND(100-'Townwide Contributions'!L181,2)","v":17.5},1647,1585,0,null,null,null,null,null,null,7,47550,47550,null,null,null,null,null,null,null,null,4640166,4687716,0,4687716,0,null,4687716,25.178374061370441,20047587,107.67837567674049,null,-9356.9444909878075,47550,1429561.6092500002,7.678374061370441,11746.39,null,0,null,30,null,172,"Mashpee                      ",1,7,18618025.09,15359871,4687716]
[173,"Mattapoisett                 ",1,4426546.9809879502,839485,null,839485,4588800.5899999989,3785760,803041,0,{"$f":"ROUND(100-'Townwide Contributions'!L182,2)","v":17.5},436,437,0,null,null,null,null,null,null,4,13110,13110,null,null,null,null,null,null,null,null,839485,852595,0,852595,0,null,852595,18.579909570661908,4638355,101.07989896331496,null,162253.60901204869,13110,49554.896750000189,1.0799095706619077,10500.69,null,0,null,30,null,173,"Mattapoisett                 ",1,4,4588800.5899999989,3785760,852595]
[174,"Maynard                      ",1,15291603.711841691,5442941,null,5442941,15104159.783779997,10360316,4743844,0,{"$f":"ROUND(100-'Townwide Contributions'!L183,2)","v":30.47},1364,1305,0,null,null,null,null,null,null,4,39150,39150,null,null,null,null,null,null,null,null,5442941,5482091,0,5482091,0,null,5482091,36.295239711957286,15842407,104.88770793468954,null,-187443.92806169391,39150,879853.51388223562,5.8252397119572876,11574.07,null,0,null,30,null,174,"Maynard                      ",1,4,15104159.783779997,10360316,5482091]
[175,"Medfield                     ",1,26032948.58113708,6288744,null,6288744,26805211.95112,21991097,4814115,0,{"$f":"ROUND(100-'Townwide Contributions'!L184,2)","v":17.5},2520,2513,0,null,null,null,null,null,null,2,75390,75390,null,null,null,null,null,null,null,null,6288744,6364134,0,6364134,0,null,6364134,23.742151383115953,28355231,105.78252860565512,null,772263.36998292059,75390,1673221.9085539998,6.242151383115953,10666.62,null,0,null,30,null,175,"Medfield                     ",1,2,26805211.95112,21991097,6364134]
[176,"Medford                      ",1,58384769.501052216,12143306,null,12143306,60473450.492880009,49890597,10582853,0,{"$f":"ROUND(100-'Townwide Contributions'!L185,2)","v":17.5},4618,4622,0,null,null,null,null,null,null,7,138660,138660,null,null,null,null,null,null,null,null,12143306,12281966,0,12281966,0,null,12281966,20.309682844120243,62172563,102.80968341192974,null,2088680.9918277934,138660,1699112.1637459993,2.8096828441202426,13083.83,null,0,null,30,null,176,"Medford                      ",1,7,60473450.492880009,49890597,12281966]
[177,"Medway                       ",1,23515724.418579098,10501419,null,10501419,23855868.192400001,16889362,6966506,0,{"$f":"ROUND(100-'Townwide Contributions'!L186,2)","v":27.08},2219,2186,0,null,null,null,null,null,null,3,65580,65580,null,null,null,null,null,null,null,null,10501419,10566999,0,10566999,0,null,10566999,44.295176829348989,27456361,115.09269240826474,null,340143.77382090315,65580,4106829.8934980799,17.215176829348991,10913.02,null,0,null,30,null,177,"Medway                       ",1,3,23855868.192400001,16889362,10566999]
[178,"Melrose                      ",1,42022188.056045689,8514496,null,8514496,44662909.214660004,35095952,9566957,1052461,{"$f":"ROUND(100-'Townwide Contributions'!L187,2)","v":17.5},3943,4013,1,null,null,null,null,null,null,3,120390,0,null,null,null,null,null,null,null,null,8514496,8634886,0,9566957,0,null,9566957,21.420362372766739,44662909,99.999999519377468,null,2640721.1586143151,1052461,1750947.8874345003,3.9203623727667392,11129.56,null,0,null,262.26289558933468,null,178,"Melrose                      ",1,3,44662909.214660004,35095952,9566957]
[179,"Mendon                       ",0,114974.37804282685,35836,null,35836,104682.55,79141,25542,0,{"$f":"ROUND(100-'Townwide Contributions'!L188,2)","v":21.55},8,7,0,null,null,null,null,null,null,0,0,0,null,null,null,null,null,null,null,null,35836,36046,210,36046,0,null,36046,0,115187,110.03457596323361,null,-10291.828042826848,210,13486.910475000001,"",14954.65,null,0,null,30,null,179,"Mendon                       ",0,0,104682.55,79141,36046]
[180,"Merrimac                     ",0,114974.37804282685,41368,null,41368,149546.50000000003,100780,48767,7399,{"$f":"ROUND(100-'Townwide Contributions'!L189,2)","v":29.7},8,10,0,null,null,null,null,null,null,0,0,0,null,null,null,null,null,null,null,null,47501,47801,0,48767,0,null,48767,0,149547,100.00033434416719,null,34572.121957173178,7399,4351.6894999999931,"",14954.65,null,0,null,739.9,null,180,"Merrimac                     ",0,0,149546.50000000003,100780,48767]
[181,"Methuen                      ",1,86487500.831909508,47567622,null,47567622,91361491.539999992,40299104,51062388,3494766,{"$f":"ROUND(100-'Townwide Contributions'!L190,2)","v":53.88},7164,7124,1,null,null,null,null,null,null,9,213720,0,null,null,null,null,null,null,null,null,48146028,48359748,0,51062388,0,null,51062388,55.890492962939206,91361492,100.00000050349442,null,4873990.7080904841,3494766,1836816.3582480028,2.0104929629392032,12824.47,null,0,null,490.56232453677711,null,181,"Methuen                      ",1,9,91361491.539999992,40299104,51062388]
[182,"Middleborough                ",1,34113306.289279848,17978609,null,17978609,35491872.479999997,18178093,17313779,0,{"$f":"ROUND(100-'Townwide Contributions'!L191,2)","v":47.09},3053,3073,0,null,null,null,null,null,null,6,92190,92190,null,null,null,null,null,null,null,null,17978609,18070799,0,18070799,0,null,18070799,50.915315922492013,36248892,102.13293767587662,null,1378566.1907201484,92190,1357676.2491679993,3.8253159224920097,11549.58,null,0,null,30,null,182,"Middleborough                ",1,6,35491872.479999997,18178093,18070799]
[183,"Middlefield                  ",0,43115.391766060078,13200,null,13200,44863.950000000004,37013,7851,0,{"$f":"ROUND(100-'Townwide Contributions'!L192,2)","v":17.5},3,3,0,null,null,null,null,null,null,0,0,0,null,null,null,null,null,null,null,null,13200,13290,90,13290,0,null,13290,0,50303,112.12343095068533,null,1748.5582339399261,90,5438.8087500000001,"",14954.65,null,0,null,30,null,183,"Middlefield                  ",0,0,44863.950000000004,37013,13290]
[184,"Middleton                    ",1,6689182.2107968954,1666151,null,1666151,7076926.2163000004,5838464,1238462,0,{"$f":"ROUND(100-'Townwide Contributions'!L193,2)","v":17.5},670,686,0,null,null,null,null,null,null,2,20580,20580,null,null,null,null,null,null,null,null,1666151,1686731,0,1686731,0,null,1686731,23.834231818257763,7525195,106.33423000323954,null,387744.005503105,20580,448268.91214750009,6.3342318182577628,10316.219999999999,null,0,null,30,null,184,"Middleton                    ",1,2,7076926.2163000004,5838464,1686731]
[185,"Milford                      ",1,52148898.387319937,27301939,null,27301939,57018202.045919992,25912713,31105489,3803550,{"$f":"ROUND(100-'Townwide Contributions'!L194,2)","v":54},4317,4482,1,null,null,null,null,null,null,8,134460,0,null,null,null,null,null,null,null,null,30983425,31117885,12396,31117885,0,null,31117885,54.57535292841925,57030598,100.02174034542517,null,4869303.6586000547,3815946,328055.89520320296,0.57535292841924957,12721.6,null,0,null,851.39357429718871,null,185,"Milford                      ",1,8,57018202.045919992,25912713,31117885]
[186,"Millbury                     ",1,19134294.708830908,7675624,null,7675624,19846272.080000002,11970455,7875817,200193,{"$f":"ROUND(100-'Townwide Contributions'!L195,2)","v":38.72},1729,1743,1,null,null,null,null,null,null,6,52290,0,null,null,null,null,null,null,null,null,7887631,7939921,64104,7939921,0,null,7939921,40.007115532802871,19910376,100.3230023237694,null,711977.371169094,264297,255444.45062399935,1.2871155328028721,11386.27,null,0,null,151.63339070567986,null,186,"Millbury                     ",1,6,19846272.080000002,11970455,7939921]
[187,"Millis                       ",1,12179710.209867777,4831312,null,4831312,11928853.969679998,8894930,3033924,0,{"$f":"ROUND(100-'Townwide Contributions'!L196,2)","v":25.16},1146,1088,0,null,null,null,null,null,null,3,32640,32640,null,null,null,null,null,null,null,null,4831312,4863952,0,4863952,0,null,4863952,40.774679716617236,13758882,115.34118897734393,null,-250856.24018777907,32640,1862652.3412285126,15.614679716617236,10964.02,null,0,null,30,null,187,"Millis                       ",1,3,11928853.969679998,8894930,4863952]
[188,"Millville                    ",0,114974.37804282685,71567,null,71567,74773.250000000015,33181,41592,0,{"$f":"ROUND(100-'Townwide Contributions'!L197,2)","v":53.24},8,5,0,null,null,null,null,null,null,0,0,0,null,null,null,null,null,null,null,null,71567,71717,150,71717,0,null,71717,0,104898,140.28813780329193,null,-40201.128042826836,150,31907.721699999995,"",14954.65,null,0,null,30,null,188,"Millville                    ",0,0,74773.250000000015,33181,71717]
[189,"Milton                       ",1,44445617.572931923,9033561,null,9033561,47591184.857499994,37335944,10255241,1221680,{"$f":"ROUND(100-'Townwide Contributions'!L198,2)","v":17.5},4220,4374,1,null,null,null,null,null,null,3,131220,0,null,null,null,null,null,null,null,null,9565345,9696565,0,10255241,0,null,10255241,21.54861458210544,47591185,100.00000029942521,null,3145567.2845680714,1221680,1926783.6499375012,4.04861458210544,10880.47,null,0,null,279.304983996342,null,189,"Milton                       ",1,3,47591184.857499994,37335944,10255241]
[190,"Monroe                       ",0,101469.77918132796,49377,null,49377,150269.84999999998,79666,70604,21227,{"$f":"ROUND(100-'Townwide Contributions'!L199,2)","v":41.12},13,15,0,null,null,null,null,null,null,0,0,0,null,null,null,null,null,null,null,null,69395,69845,0,70604,0,null,70604,0,150270,100.00009982042307,null,48800.070818672015,21227,8813.0376800000158,"",10017.99,null,0,null,1415.1333333333334,null,190,"Monroe                       ",0,0,150269.84999999998,79666,70604]
[191,"Monson                       ",1,10353119.728939803,7541075,null,7541075,10662015.310000001,5924562,4737453,0,{"$f":"ROUND(100-'Townwide Contributions'!L200,2)","v":43.14},936,934,0,null,null,null,null,null,null,6,28020,28020,null,null,null,null,null,null,null,null,7541075,7569095,0,7569095,0,null,7569095,70.991222390206815,13493657,126.55822194650365,null,308895.5810601972,28020,2969501.5952659994,27.851222390206814,11415.43,null,0,null,30,null,191,"Monson                       ",1,6,{"$f":"H200","v":10662015.310000001},{"$f":"I200","v":5924562},{"$f":"AM200","v":7569095}]
[192,"Montague                     ",0,0,0,null,0,0,0,0,0,{"$f":"ROUND(100-'Townwide Contributions'!L201,2)","v":55.51},0,0,0,null,null,null,null,null,null,0,0,0,null,null,null,null,null,null,null,null,0,0,0,0,0,null,0,0,0,0,null,0,0,0,"",0,null,0,null,0,null,192,"Montague                     ",0,0,0,0,0]
[193,"Monterey                     ",0,0,0,null,0,{"$f":"SUMIF(dist1755,A202,found1755)","v":0},{"$f":"SUMIF(dist1755,A202,prelcont1755)","v":0},{"$f":"ROUND(MAX(found-prelcont436,0),0)","v":0},{"$f":"IF(foundaid>priorc70,foundaid-priorc70,0)","v":0},{"$f":"ROUND(100-'Townwide Contributions'!L202,2)","v":17.5},0,{"$f":"SUMIF(dist1755,A202,enro1755)","v":0},{"$f":"IF(AND(C202=1,K202>0),1,0)","v":0},null,null,null,null,null,null,0,{"$f":"IF(nonop=1,enro*$W$6,0)","v":0},{"$f":"IF((foundinc)<W202,W202-(foundinc),0)","v":0},null,null,null,null,null,null,null,null,0,{"$f":"AG202+30*enro","v":0},{"$f":"IF(AH202-priorc70-foundinc-minaid>0,AH202-priorc70-foundinc-minaid,0)","v":0},{"$f":"priorc70+foundinc+minaidadjincrement+minaid","v":0},{"$f":"IF(AND(C202=0,AJ202>found),AJ202-found,0)","v":0},null,{"$f":"priorc70+foundinc+minaidadjincrement+minaid-rednonop","v":0},{"$f":"IF(C202=1, AM202/H202*100, 0)","v":0},{"$f":"prelcont436+chapter70","v":0},{"$f":"IF(found>0,AO202*100/found,0)","v":0},null,{"$f":"H202-D202","v":0},{"$f":"AM202-G202","v":0},{"$f":"AM202-((L202/100)*H202)","v":0},{"$f":"IF(C202=1, (AM202/H202*100)-L202, \"\")","v":""},{"$f":"IFERROR(ROUND(H202/N202, 2), 0)","v":0},null,{"$f":"VLOOKUP(A202, disthist, 37, FALSE)*$G$6","v":0},null,{"$f":"IFERROR(AS202/N202, 0)","v":0},null,{"$f":"A202","v":193},{"$f":"B202","v":"Monterey                     "},{"$f":"C202","v":0},0,0,0,0]
[194,"Montgomery                   ",0,114974.37804282685,21042,null,{"$f":"E203","v":21042},89727.900000000009,68939,20789,0,{"$f":"ROUND(100-'Townwide Contributions'!L203,2)","v":17.5},8,6,0,null,null,null,null,null,null,0,0,0,null,null,null,null,null,null,null,null,21042,21222,180,21222,0,null,21222,0,90161,100.48268152937936,null,-25246.478042826842,180,5519.6175000000003,"",14954.65,null,0,null,30,null,194,"Montgomery                   ",0,{"$f":"V203","v":0},89727.900000000009,68939,21222]
[195,"Mount Washington             ",0,7755.8152895000003,7771,null,7771,17787.5,14675,3113,0,{"$f":"ROUND(100-'Townwide Contributions'!L204,2)","v":17.5},1,2,0,null,null,null,null,null,null,0,0,0,null,null,null,null,null,null,null,null,7771,7831,60,7831,0,null,7831,0,22506,126.52705551651441,null,10031.6847105,60,4718.1875,"",8893.75,null,0,null,30,null,195,"Mount Washington             ",0,0,17787.5,14675,7831]
[196,"Nahant                       ",1,2602347.1905727275,523513,null,523513,2762552.9499999997,2279106,483447,0,{"$f":"ROUND(100-'Townwide Contributions'!L205,2)","v":17.5},257,266,0,null,null,null,null,null,null,5,7980,7980,null,null,null,null,null,null,null,null,523513,531493,0,531493,0,null,531493,19.239196845077668,2810599,101.73919019362145,null,160205.75942727225,7980,48046.233750000072,1.739196845077668,10385.540000000001,null,0,null,30,null,196,"Nahant                       ",1,5,2762552.9499999997,2279106,531493]
[197,"Nantucket                    ",1,19008236.734527193,3600249,null,3600249,19595960.209999997,16166667,3429293,0,{"$f":"ROUND(100-'Townwide Contributions'!L206,2)","v":17.5},1663,1664,0,null,null,null,null,null,null,6,49920,49920,null,null,null,null,null,null,null,null,3600249,3650169,0,3650169,0,null,3650169,18.627150498791508,19816836,101.12714961468072,null,587723.47547280416,49920,220875.9632500005,1.127150498791508,11776.42,null,0,null,30,null,197,"Nantucket                    ",1,6,19595960.209999997,16166667,3650169]
[198,"Natick                       ",1,57774437.098210081,10120767,null,10120767,58826227.415910006,48531638,10294589,173822,{"$f":"ROUND(100-'Townwide Contributions'!L207,2)","v":17.5},5508,5484,1,null,null,null,null,null,null,2,164520,0,null,null,null,null,null,null,null,null,10204681,10369201,74612,10369201,0,null,10369201,17.626833226425074,58900839,100.12683387558151,null,1051790.3176999241,248434,74611.20221574977,0.12683322642507378,10726.88,null,0,null,45.301604668125456,null,198,"Natick                       ",1,2,58826227.415910006,48531638,10369201]
[199,"Needham                      ",1,59693731.68588265,10451715,null,10451715,63943942.401309997,52435392,11508550,1056835,{"$f":"ROUND(100-'Townwide Contributions'!L208,2)","v":17.5},5556,5754,1,null,null,null,null,null,null,2,172620,0,null,null,null,null,null,null,null,null,11028861,11201481,0,11508550,0,null,11508550,17.997873712216137,63943942,99.999999372403423,null,4250210.7154273465,1056835,318360.0797707513,0.49787371221613697,11112.95,null,0,null,183.66962113312479,null,199,"Needham                      ",1,2,63943942.401309997,52435392,11508550]
[200,"New Ashford                  ",0,289597.24013319105,179597,null,179597,281200.23000000004,226155,55045,0,{"$f":"ROUND(100-'Townwide Contributions'!L209,2)","v":17.5},29,28,0,null,null,null,null,null,null,0,0,0,null,null,null,null,null,null,null,null,179597,180437,840,180437,0,null,180437,0,406592,144.59163137953334,null,-8397.0101331910118,840,131226.95974999998,"",10042.870000000001,null,0,null,30,null,200,"New Ashford                  ",0,0,281200.23000000004,226155,180437]
[201,"New Bedford                  ",1,189742059.78296334,159830964,null,159830964,201706180.5,31201934,170504247,10673283,{"$f":"ROUND(100-'Townwide Contributions'!L210,2)","v":79.33},14042,14257,1,null,null,null,null,null,null,11,427710,0,null,null,null,null,null,null,null,null,166069736,166497446,0,170504247,0,null,170504247,84.530997799544366,201706181,100.00000024788531,null,11964120.717036664,10673283,10490734.009350002,5.2009977995443677,14147.87,null,0,null,748.63456547660803,null,201,"New Bedford                  ",1,11,201706180.5,31201934,170504247]
[202,"New Braintree                ",0,28743.594510706713,12778,null,12778,44863.950000000004,26971,17893,5115,{"$f":"ROUND(100-'Townwide Contributions'!L211,2)","v":38.520000000000003},2,3,0,null,null,null,null,null,null,0,0,0,null,null,null,null,null,null,null,null,17117,17207,0,17893,0,null,17893,0,44864,100.00011144805572,null,16120.355489293292,5115,611.40645999999469,"",14954.65,null,0,null,1705,null,202,"New Braintree                ",0,0,44863.950000000004,26971,17893]
[203,"Newbury                      ",0,88469.616812120148,16844,null,16844,46184.033039999995,38102,8082,0,{"$f":"ROUND(100-'Townwide Contributions'!L212,2)","v":17.5},6,3,0,null,null,null,null,null,null,0,0,0,null,null,null,null,null,null,null,null,16844,16934,90,16934,0,null,16934,0,55036,119.16672576501345,null,-42285.583772120153,90,8851.7942180000027,"",15394.68,null,0,null,30,null,203,"Newbury                      ",0,0,46184.033039999995,38102,16934]
[204,"Newburyport                  ",1,23879060.905683298,4182944,null,4182944,24434119.66,20158148,4275972,93028,{"$f":"ROUND(100-'Townwide Contributions'!L213,2)","v":17.5},2341,2308,1,null,null,null,null,null,null,2,69240,0,null,null,null,null,null,null,null,null,4235870,4305110,29138,4305110,0,null,4305110,17.619255614302741,24463258,100.1192526696499,null,555058.75431670249,122166,29139.05950000044,0.11925561430274101,10586.71,null,0,null,52.931542461005201,null,204,"Newburyport                  ",1,2,24434119.66,20158148,4305110]
[205,"New Marlborough              ",0,0,0,null,0,0,0,0,0,{"$f":"ROUND(100-'Townwide Contributions'!L214,2)","v":17.5},0,0,0,null,null,null,null,null,null,0,0,0,null,null,null,null,null,null,null,null,0,0,0,0,0,null,0,0,0,0,null,0,0,0,"",0,null,0,null,0,null,205,"New Marlborough              ",0,0,0,0,0]
[206,"New Salem                    ",0,0,0,null,0,0,0,0,0,{"$f":"ROUND(100-'Townwide Contributions'!L215,2)","v":36.479999999999997},0,0,0,null,null,null,null,null,null,0,0,0,null,null,null,null,null,null,null,null,0,0,0,0,0,null,0,0,0,0,null,0,0,0,"",0,null,0,null,0,null,206,"New Salem                    ",0,0,0,0,0]
[207,"Newton                       ",1,141578979.06415501,24814496,null,24814496,146297048.2579,120695065,25601983,787487,{"$f":"ROUND(100-'Townwide Contributions'!L216,2)","v":17.5},12889,12831,1,null,null,null,null,null,null,3,384930,0,null,null,null,null,null,null,null,null,25128715,25513645,0,25601983,0,null,25601983,17.499999695733777,146297048,99.99999982371483,null,4718069.1937449872,787487,-0.44513249769806862,-3.0426622288359795E-7,11401.84,null,0,null,61.373782246122673,null,207,"Newton                       ",1,3,146297048.2579,120695065,25601983]
[208,"Norfolk                      ",1,9114958.3381727356,3461385,null,3461385,9680403.4935399964,7986333,1694070,0,{"$f":"ROUND(100-'Townwide Contributions'!L217,2)","v":17.5},916,944,0,null,null,null,null,null,null,1,28320,28320,null,null,null,null,null,null,null,null,3461385,3489705,0,3489705,0,null,3489705,36.049168842277886,11476038,118.54917005947408,null,565445.1553672608,28320,1795634.3886305008,18.549168842277886,10254.66,null,0,null,30,null,208,"Norfolk                      ",1,1,9680403.4935399964,7986333,3489705]
[209,"North Adams                  ",1,17859474.703748006,13809703,null,13809703,18394688.73,5055442,13339247,0,{"$f":"ROUND(100-'Townwide Contributions'!L218,2)","v":71.14},1444,1424,0,null,null,null,null,null,null,10,42720,42720,null,null,null,null,null,null,null,null,13809703,13852423,0,13852423,0,null,13852423,75.306645322070636,18907865,102.78980676179128,null,535214.02625199407,42720,766441.43747799844,4.1666453220706359,12917.62,null,0,null,30,null,209,"North Adams                  ",1,10,18394688.73,5055442,13852423]
[210,"Northampton                  ",1,30030364.251233194,7558369,null,7558369,31123122.110000003,25676575,5446547,0,{"$f":"ROUND(100-'Townwide Contributions'!L219,2)","v":17.5},2702,2745,0,null,null,null,null,null,null,5,82350,82350,null,null,null,null,null,null,null,null,7558369,7640719,0,7640719,0,null,7640719,24.549975972831472,33317294,107.04997359276818,null,1092757.8587668091,82350,2194172.6307499995,7.0499759728314721,11338.11,null,0,null,30,null,210,"Northampton                  ",1,5,31123122.110000003,25676575,7640719]
[211,"North Andover                ",1,50326384.478882119,9160097,null,9160097,51056590.189999998,42121687,8934903,0,{"$f":"ROUND(100-'Townwide Contributions'!L220,2)","v":17.5},4796,4704,0,null,null,null,null,null,null,4,141120,141120,null,null,null,null,null,null,null,null,9160097,9301217,0,9301217,0,null,9301217,18.217466081042261,51422904,100.71746626368274,null,730205.71111787856,141120,366313.71675000153,0.71746608104226084,10853.87,null,0,null,30,null,211,"North Andover                ",1,4,51056590.189999998,42121687,9301217]
[212,"North Attleborough           ",1,44126489.423501156,20682041,null,20682041,45482443.589999996,28441134,17041310,0,{"$f":"ROUND(100-'Townwide Contributions'!L221,2)","v":36.1},4179,4170,0,null,null,null,null,null,null,4,125100,125100,null,null,null,null,null,null,null,null,20682041,20807141,0,20807141,0,null,20807141,45.747632179935835,49248275,108.27974733272242,null,1355954.1664988399,125100,4387978.8640100025,9.6476321799358331,10907.06,null,0,null,30,null,212,"North Attleborough           ",1,4,45482443.589999996,28441134,20807141]
[213,"Northborough                 ",1,15348450.348561112,3993500,null,3993500,15826945.729999999,13057230,2769716,0,{"$f":"ROUND(100-'Townwide Contributions'!L222,2)","v":17.5},1541,1540,0,null,null,null,null,null,null,3,46200,46200,null,null,null,null,null,null,null,null,3993500,4039700,0,4039700,0,null,4039700,25.524191899784824,17096930,108.02419046394242,null,478495.38143888675,46200,1269984.4972500005,8.0241918997848245,10277.24,null,0,null,30,null,213,"Northborough                 ",1,3,15826945.729999999,13057230,4039700]
[214,"Northbridge                  ",1,23912162.03207574,15603931,null,15603931,23869208.760000002,12603405,11265804,0,{"$f":"ROUND(100-'Townwide Contributions'!L223,2)","v":44.68},2133,2074,0,null,null,null,null,null,null,6,62220,62220,null,null,null,null,null,null,null,null,15603931,15666151,0,15666151,0,null,15666151,65.633306732200197,28269556,118.43524552591829,null,-42953.272075738758,62220,5001388.5260320008,20.953306732200197,11508.78,null,0,null,30,null,214,"Northbridge                  ",1,6,23869208.760000002,12603405,15666151]
[215,"North Brookfield             ",1,6861155.1426662346,4290838,null,4290838,7056350.7200000016,2988061,4068290,0,{"$f":"ROUND(100-'Townwide Contributions'!L224,2)","v":56.64},609,609,0,null,null,null,null,null,null,7,18270,18270,null,null,null,null,null,null,null,null,4290838,4309108,0,4309108,0,null,4309108,61.067089363721408,7297169,103.41278784963792,null,195195.57733376697,18270,312390.95219199918,4.4270893637214073,11586.78,null,0,null,30,null,215,"North Brookfield             ",1,7,7056350.7200000016,2988061,4309108]
[216,"Northfield                   ",0,0,0,null,0,14954.649999999998,10930,4025,4025,{"$f":"ROUND(100-'Townwide Contributions'!L225,2)","v":26.65},0,1,0,null,null,null,null,null,null,0,0,0,null,null,null,null,null,null,null,null,3966,3996,0,4025,0,null,4025,0,14955,100.0023404091704,null,14954.649999999998,4025,39.585775000001377,"",14954.65,null,0,null,4025,null,216,"Northfield                   ",0,0,14954.649999999998,10930,4025]
[217,"North Reading                ",1,25154643.367806662,7153937,null,7153937,25577032.536399998,21101052,4475981,0,{"$f":"ROUND(100-'Townwide Contributions'!L226,2)","v":17.5},2347,2320,0,null,null,null,null,null,null,2,69600,69600,null,null,null,null,null,null,null,null,7153937,7223537,0,7223537,0,null,7223537,28.242279434566193,28324589,110.74228005023575,null,422389.1685933359,69600,2747556.3061300004,10.742279434566193,11024.58,null,0,null,30,null,217,"North Reading                ",1,2,25577032.536399998,21101052,7223537]
[218,"Norton                       ",1,25977850.920649342,12827390,null,12827390,26672316.059999999,18330136,8342180,0,{"$f":"ROUND(100-'Townwide Contributions'!L227,2)","v":29.21},2433,2400,0,null,null,null,null,null,null,4,72000,72000,null,null,null,null,null,null,null,null,12827390,12899390,0,12899390,0,null,12899390,48.362466802592323,31229526,117.08591758491633,null,694465.13935065642,72000,5108406.4788739998,19.152466802592322,11113.47,null,0,null,30,null,218,"Norton                       ",1,4,26672316.059999999,18330136,12899390]
[219,"Norwell                      ",1,22329816.442800608,4011711,null,4011711,23072297.441799998,19034058,4038239,26528,{"$f":"ROUND(100-'Townwide Contributions'!L228,2)","v":17.5},2143,2153,1,null,null,null,null,null,null,1,64590,38062,null,null,null,null,null,null,null,null,4011711,4076301,0,4076301,0,null,4076301,17.667512350178789,23110359,100.16496648544,null,742480.99899939075,64590,38648.947685000487,0.1675123501787894,10716.35,null,0,null,30,null,219,"Norwell                      ",1,1,23072297.441799998,19034058,4076301]
[220,"Norwood                      ",1,40452845.134236395,8052711,null,8052711,43093955.158840001,33505490,9588465,1535754,{"$f":"ROUND(100-'Townwide Contributions'!L229,2)","v":17.5},3460,3531,1,null,null,null,null,null,null,6,105930,0,null,null,null,null,null,null,null,null,9163128,9269058,0,9588465,0,null,9588465,22.250139177659321,43093955,99.99999963141002,null,2641110.0246036053,1535754,2047022.8472030004,4.7501391776593209,12204.46,null,0,null,434.93457943925233,null,220,"Norwood                      ",1,6,43093955.158840001,33505490,9588465]
[221,"Oak Bluffs                   ",1,4939842.5494836336,988466,null,988466,5190647.0200000005,4004262,1186385,197919,{"$f":"ROUND(100-'Townwide Contributions'!L230,2)","v":17.5},447,447,1,null,null,null,null,null,null,7,13410,0,null,null,null,null,null,null,null,null,1069370,1082780,0,1186385,0,null,1186385,22.856206469612719,5190647,99.999999614691575,null,250804.47051636688,197919,278021.77149999992,5.3562064696127187,11612.19,null,0,null,442.7718120805369,null,221,"Oak Bluffs                   ",1,7,5190647.0200000005,4004262,1186385]
[222,"Oakham                       ",0,14371.797255353356,5900,null,5900,14954.649999999998,8273,6682,782,{"$f":"ROUND(100-'Townwide Contributions'!L231,2)","v":44.68},1,1,0,null,null,null,null,null,null,0,0,0,null,null,null,null,null,null,null,null,6600,6630,0,6682,0,null,6682,0,14955,100.0023404091704,null,582.85274464664144,782,0.26238000000103057,"",14954.65,null,0,null,782,null,222,"Oakham                       ",0,0,14954.649999999998,8273,6682]
[223,"Orange                       ",1,7421674.387598698,5432046,null,5432046,7360903.9700000016,2003917,5356987,0,{"$f":"ROUND(100-'Townwide Contributions'!L232,2)","v":71.19},613,595,0,null,null,null,null,null,null,10,17850,17850,null,null,null,null,null,null,null,null,5432046,5449896,0,5449896,0,null,5449896,74.038406454037727,7453813,101.26219592564523,null,-60770.417598696426,17850,209668.463756999,2.848406454037729,12371.27,null,0,null,30,null,223,"Orange                       ",1,10,7360903.9700000016,2003917,5449896]
[224,"Orleans                      ",1,2457051.7958840481,429984,null,429984,2348811.4299999997,1937769,411042,0,{"$f":"ROUND(100-'Townwide Contributions'!L233,2)","v":17.5},224,204,0,null,null,null,null,null,null,7,6120,6120,null,null,null,null,null,null,null,null,429984,436104,0,436104,0,null,436104,18.567007739740095,2373873,101.06698944325217,null,-108240.3658840484,6120,25061.999750000075,1.0670077397400952,11513.78,null,0,null,30,null,224,"Orleans                      ",1,7,2348811.4299999997,1937769,436104]
[225,"Otis                         ",0,0,0,null,0,0,0,0,0,{"$f":"ROUND(100-'Townwide Contributions'!L234,2)","v":17.5},0,0,0,null,null,null,null,null,null,0,0,0,null,null,null,null,null,null,null,null,0,0,0,0,0,null,0,0,0,0,null,0,0,0,"",0,null,0,null,0,null,225,"Otis                         ",0,0,0,0,0]
[226,"Oxford                       ",1,19698237.275810093,10566894,null,10566894,19283696.920000002,10138624,9145073,0,{"$f":"ROUND(100-'Townwide Contributions'!L235,2)","v":47.24},1738,1655,0,null,null,null,null,null,null,7,49650,49650,null,null,null,null,null,null,null,null,10566894,10616544,0,10616544,0,null,10616544,55.054505596326287,20755168,107.6306482419036,null,-414540.3558100909,49650,1506925.5749919992,7.8145055963262848,11651.78,null,0,null,30,null,226,"Oxford                       ",1,7,19283696.920000002,10138624,10616544]
[227,"Palmer                       ",1,16594239.756346451,10915640,null,10915640,17278686.410000004,7036139,10242547,0,{"$f":"ROUND(100-'Townwide Contributions'!L236,2)","v":59.17},1417,1413,0,null,null,null,null,null,null,9,42390,42390,null,null,null,null,null,null,null,null,10915640,10958030,0,10958030,0,null,10958030,63.419346471026081,17994169,104.14083902573701,null,684446.65365355276,42390,734231.25120299682,4.2493464710260795,12228.37,null,0,null,30,null,227,"Palmer                       ",1,9,17278686.410000004,7036139,10958030]
[228,"Paxton                       ",0,14371.797255353356,5026,null,5026,14954.649999999998,9929,5026,0,{"$f":"ROUND(100-'Townwide Contributions'!L237,2)","v":31.35},1,1,0,null,null,null,null,null,null,0,0,0,null,null,null,null,null,null,null,null,5026,5056,30,5056,0,null,5056,0,14985,100.20294690948971,null,582.85274464664144,30,367.71722500000033,"",14954.65,null,0,null,30,null,228,"Paxton                       ",0,0,14954.649999999998,9929,5056]
[229,"Peabody                      ",1,69609817.438056916,21156654,null,21156654,72862545.13000001,50464626,22397919,1241265,{"$f":"ROUND(100-'Townwide Contributions'!L238,2)","v":28.68},5936,5983,1,null,null,null,null,null,null,7,179490,0,null,null,null,null,null,null,null,null,21935209,22114699,0,22397919,0,null,22397919,30.73996243205346,72862545,99.999999821581838,null,3252727.6919430941,1241265,1500941.0567159988,2.0599624320534602,12178.26,null,0,null,207.46531840213939,null,229,"Peabody                      ",1,7,72862545.13000001,50464626,22397919]
[230,"Pelham                       ",1,905329.72853302001,235531,null,235531,936241.84000000008,699305,236937,1406,{"$f":"ROUND(100-'Townwide Contributions'!L239,2)","v":17.98},82,84,1,null,null,null,null,null,null,4,2520,1114,null,null,null,null,null,null,null,null,235531,238051,0,238051,0,null,238051,25.426229616057316,937356,100.11900344039313,null,30912.111466980074,2520,69714.717167999974,7.446229616057316,11145.74,null,0,null,30,null,230,"Pelham                       ",1,4,936241.84000000008,699305,238051]
[231,"Pembroke                     ",1,31408204.402095743,13608752,null,13608752,32306393.869140003,21528573,10777821,0,{"$f":"ROUND(100-'Townwide Contributions'!L240,2)","v":32.130000000000003},2900,2854,0,null,null,null,null,null,null,4,85620,85620,null,null,null,null,null,null,null,null,13608752,13694372,0,13694372,0,null,13694372,42.389045510527431,35222945,109.02778299142193,null,898189.46704426035,85620,3314327.649845317,10.259045510527429,11319.69,null,0,null,30,null,231,"Pembroke                     ",1,4,32306393.869140003,21528573,13694372]
[232,"Pepperell                    ",0,0,0,null,0,0,0,0,0,{"$f":"ROUND(100-'Townwide Contributions'!L241,2)","v":38.92},0,0,0,null,null,null,null,null,null,0,0,0,null,null,null,null,null,null,null,null,0,0,0,0,0,null,0,0,0,0,null,0,0,0,"",0,null,0,null,0,null,232,"Pepperell                    ",0,0,0,0,0]
[233,"Peru                         ",0,114974.37804282685,89842,null,89842,119637.19999999998,58525,61112,0,{"$f":"ROUND(100-'Townwide Contributions'!L242,2)","v":42.97},8,8,0,null,null,null,null,null,null,0,0,0,null,null,null,null,null,null,null,null,89842,90082,240,90082,0,null,90082,0,148607,124.21470913729176,null,4662.8219571731315,240,38673.895160000015,"",14954.65,null,0,null,30,null,233,"Peru                         ",0,0,119637.19999999998,58525,90082]
[234,"Petersham                    ",1,825450.36454343062,435523,null,435523,967593.11,648211,319382,0,{"$f":"ROUND(100-'Townwide Contributions'!L243,2)","v":29.72},70,79,0,null,null,null,null,null,null,6,2370,2370,null,null,null,null,null,null,null,null,435523,437893,0,437893,0,null,437893,45.255903072728579,1086104,112.24800887637574,null,142142.74545656936,2370,150324.32770800003,15.53590307272858,12248.01,null,0,null,30,null,234,"Petersham                    ",1,6,967593.11,648211,437893]
[235,"Phillipston                  ",0,0,0,null,0,0,0,0,0,{"$f":"ROUND(100-'Townwide Contributions'!L244,2)","v":44.81},0,0,0,null,null,null,null,null,null,0,0,0,null,null,null,null,null,null,null,null,0,0,0,0,0,null,0,0,0,0,null,0,0,0,"",0,null,0,null,0,null,235,"Phillipston                  ",0,0,0,0,0]
[236,"Pittsfield                   ",1,75857280.533894911,47686062,null,47686062,79181621.190000027,28582519,50599102,2913040,{"$f":"ROUND(100-'Townwide Contributions'!L245,2)","v":61.33},6022,5920,1,null,null,null,null,null,null,10,177600,0,null,null,null,null,null,null,null,null,48163066,48340666,0,50599102,0,null,50599102,63.902584008207,79181621,99.999999760045299,null,3324340.656105116,2913040,2037013.724172987,2.5725840082070022,13375.27,null,0,null,492.06756756756755,null,236,"Pittsfield                   ",1,10,79181621.190000027,28582519,50599102]
[237,"Plainfield                   ",0,28743.594510706713,27674,null,27674,44863.950000000004,31971,12893,0,{"$f":"ROUND(100-'Townwide Contributions'!L246,2)","v":25.87},2,3,0,null,null,null,null,null,null,0,0,0,null,null,null,null,null,null,null,null,27674,27764,90,27764,0,null,27764,0,59735,133.14699218414785,null,16120.355489293292,90,16157.696135,"",14954.65,null,0,null,30,null,237,"Plainfield                   ",0,0,44863.950000000004,31971,27764]
[238,"Plainville                   ",1,7272815.8487452483,2927801,null,2927801,7586987.1399999997,5441822,2145165,0,{"$f":"ROUND(100-'Townwide Contributions'!L247,2)","v":26.49},702,716,0,null,null,null,null,null,null,4,21480,21480,null,null,null,null,null,null,null,null,2927801,2949281,0,2949281,0,null,2949281,38.872887821976725,8391103,110.59861899278243,null,314171.29125475138,21480,939488.1066140004,12.382887821976727,10596.35,null,0,null,30,null,238,"Plainville                   ",1,4,7586987.1399999997,5441822,2949281]
[239,"Plymouth                     ",1,93345303.481633395,26369547,null,26369547,97157775.176350012,71850258,25307517,0,{"$f":"ROUND(100-'Townwide Contributions'!L248,2)","v":23.95},8045,7951,0,null,null,null,null,null,null,6,238530,238530,null,null,null,null,null,null,null,null,26369547,26608077,0,26608077,0,null,26608077,27.386461816055352,98458335,101.33860601613135,null,3812471.6947166175,238530,3338789.845264174,3.4364618160553526,12219.57,null,0,null,30,null,239,"Plymouth                     ",1,6,97157775.176350012,71850258,26608077]
[240,"Plympton                     ",1,2239539.0976047828,740470,null,740470,2463759.6282999991,1794113,669647,0,{"$f":"ROUND(100-'Townwide Contributions'!L249,2)","v":25.38},210,227,0,null,null,null,null,null,null,3,6810,6810,null,null,null,null,null,null,null,null,740470,747280,0,747280,0,null,747280,30.330880959991429,2541393,103.15101241242304,null,224220.53069521626,6810,121977.80633746029,4.9508809599914301,10853.57,null,0,null,30,null,240,"Plympton                     ",1,3,2463759.6282999991,1794113,747280]
[241,"Princeton                    ",0,0,0,null,0,0,0,0,0,{"$f":"ROUND(100-'Townwide Contributions'!L250,2)","v":17.5},0,0,0,null,null,null,null,null,null,0,0,0,null,null,null,null,null,null,null,null,0,0,0,0,0,null,0,0,0,0,null,0,0,0,"",0,null,0,null,0,null,241,"Princeton                    ",0,0,0,0,0]
[242,"Provincetown                 ",1,1386868.4082193591,290781,null,290781,1312560.0099999998,1082862,229698,0,{"$f":"ROUND(100-'Townwide Contributions'!L251,2)","v":17.5},110,97,0,null,null,null,null,null,null,9,2910,2910,null,null,null,null,null,null,null,null,290781,293691,0,293691,0,null,293691,22.375434095390432,1376553,104.87543346684775,null,-74308.39821935934,2910,63992.998250000062,4.8754340953904318,13531.55,null,0,null,30,null,242,"Provincetown                 ",1,9,1312560.0099999998,1082862,293691]
[243,"Quincy                       ",1,123682608.20704634,28647763,null,28647763,136816110.30208001,101599943,35216167,6568404,{"$f":"ROUND(100-'Townwide Contributions'!L252,2)","v":19.89},9455,9657,1,null,null,null,null,null,null,9,289710,0,null,null,null,null,null,null,null,null,28647763,28937473,0,35216167,0,null,35216167,25.739780879784746,136816110,99.999999779207286,null,13133502.095033661,6568404,8003442.6609162875,5.8497808797847455,14167.56,null,0,null,680.17023920472195,null,243,"Quincy                       ",1,9,136816110.30208001,101599943,35216167]
[244,"Randolph                     ",1,41045165.956319869,18487416,null,18487416,43738342.614520006,23704922,20033421,1546005,{"$f":"ROUND(100-'Townwide Contributions'!L253,2)","v":43.49},3279,3286,1,null,null,null,null,null,null,10,98580,0,null,null,null,null,null,null,null,null,18977616,19076196,0,20033421,0,null,20033421,45.802880956329197,43738343,100.00000088133197,null,2693176.6582001373,1546005,1011615.7969452478,2.3128809563291952,13310.51,null,0,null,470.48234936092513,null,244,"Randolph                     ",1,10,43738342.614520006,23704922,20033421]
[245,"Raynham                      ",0,0,0,null,0,0,0,0,0,{"$f":"ROUND(100-'Townwide Contributions'!L254,2)","v":37.630000000000003},0,0,0,null,null,null,null,null,null,0,0,0,null,null,null,null,null,null,null,null,0,0,0,0,0,null,0,0,0,0,null,0,0,0,"",0,null,0,null,0,null,245,"Raynham                      ",0,0,0,0,0]
[246,"Reading                      ",1,42311533.287209027,10834809,null,10834809,42863193.318320006,35362134,7501059,0,{"$f":"ROUND(100-'Townwide Contributions'!L255,2)","v":17.5},4040,3975,0,null,null,null,null,null,null,2,119250,119250,null,null,null,null,null,null,null,null,10834809,10954059,0,10954059,0,null,10954059,25.555863088992403,46316193,108.055861951387,null,551660.03111097962,119250,3453000.1692939997,8.0558630889924032,10783.19,null,0,null,30,null,246,"Reading                      ",1,2,42863193.318320006,35362134,10954059]
[247,"Rehoboth                     ",0,0,0,null,0,0,0,0,0,{"$f":"ROUND(100-'Townwide Contributions'!L256,2)","v":21.7},0,0,0,null,null,null,null,null,null,0,0,0,null,null,null,null,null,null,null,null,0,0,0,0,0,null,0,0,0,0,null,0,0,0,"",0,null,0,null,0,null,247,"Rehoboth                     ",0,0,0,0,0]
[248,"Revere                       ",1,104529856.46755695,69669229,null,69669229,117084100.45236,36998310,80085790,10416561,{"$f":"ROUND(100-'Townwide Contributions'!L257,2)","v":64.92},7991,7979,1,null,null,null,null,null,null,11,239370,0,null,null,null,null,null,null,null,null,70290502,70529872,0,80085790,0,null,80085790,68.400226581222157,117084100,99.99999961364523,null,12554243.984803051,10416561,4074791.9863278866,3.4802265812221549,14674.03,null,0,null,1305.4970547687681,null,248,"Revere                       ",1,11,117084100.45236,36998310,80085790]
[249,"Richmond                     ",1,1333384.0206293394,364649,null,364649,1462282.96,1206383,255900,0,{"$f":"ROUND(100-'Townwide Contributions'!L258,2)","v":17.5},120,125,0,null,null,null,null,null,null,6,3750,3750,null,null,null,null,null,null,null,null,364649,368399,0,368399,0,null,368399,25.193414002444509,1574782,107.69338377573654,null,128898.93937066058,3750,112499.48200000002,7.6934140024445092,11698.26,null,0,null,30,null,249,"Richmond                     ",1,6,1462282.96,1206383,368399]
[250,"Rochester                    ",1,5204047.0350275449,2057549,null,2057549,5465684.7299999995,3380236,2085449,27900,{"$f":"ROUND(100-'Townwide Contributions'!L259,2)","v":34.19},513,514,1,null,null,null,null,null,null,4,15420,0,null,null,null,null,null,null,null,null,2057549,2072969,0,2085449,0,null,2085449,38.155310871726769,5465685,100.00000493991172,null,261637.69497245457,27900,216731.39081300027,3.9653108717267713,10633.63,null,0,null,54.280155642023345,null,250,"Rochester                    ",1,4,5465684.7299999995,3380236,2085449]
[251,"Rockland                     ",1,27535663.693475917,13843235,null,13843235,29978801.331679996,14507718,15471083,1627848,{"$f":"ROUND(100-'Townwide Contributions'!L260,2)","v":50.17},2278,2326,1,null,null,null,null,null,null,8,69780,0,null,null,null,null,null,null,null,null,14635976,14705756,0,15471083,0,null,15471083,51.606743141030741,29978801,99.999998893618212,null,2443137.6382040791,1627848,430718.371896144,1.436743141030739,12888.56,null,0,null,699.84866723989683,null,251,"Rockland                     ",1,8,29978801.331679996,14507718,15471083]
[252,"Rockport                     ",1,7685699.8726646928,1502126,null,1502126,7681628.8794999998,6337344,1344285,0,{"$f":"ROUND(100-'Townwide Contributions'!L261,2)","v":17.5},679,665,0,null,null,null,null,null,null,5,19950,19950,null,null,null,null,null,null,null,null,1502126,1522076,0,1522076,0,null,1522076,19.814495387325618,7859420,102.31449765784015,null,-4070.9931646930054,19950,177790.94608750008,2.3144953873256178,11551.32,null,0,null,30,null,252,"Rockport                     ",1,5,7681628.8794999998,6337344,1522076]
[253,"Rowe                         ",1,582531.02683389105,139775,null,139775,647185.75,533928,113258,0,{"$f":"ROUND(100-'Townwide Contributions'!L262,2)","v":17.5},48,50,0,null,null,null,null,null,null,8,1500,1500,null,null,null,null,null,null,null,null,139775,141275,0,141275,0,null,141275,21.829127109180018,675203,104.32908944611343,null,64654.723166108946,1500,28017.493750000009,4.3291271091800176,12943.72,null,0,null,30,null,253,"Rowe                         ",1,8,647185.75,533928,141275]
[254,"Rowley                       ",0,103785.9218574735,25266,null,25266,107845.99224000001,88973,18873,0,{"$f":"ROUND(100-'Townwide Contributions'!L263,2)","v":17.5},7,7,0,null,null,null,null,null,null,0,0,0,null,null,null,null,null,null,null,null,25266,25476,210,25476,0,null,25476,0,114449,106.12262692646537,null,4060.0703825265082,210,6602.9513579999984,"",15406.57,null,0,null,30,null,254,"Rowley                       ",0,0,107845.99224000001,88973,25476]
[255,"Royalston                    ",0,0,0,null,0,0,0,0,0,{"$f":"ROUND(100-'Townwide Contributions'!L264,2)","v":49.45},0,0,0,null,null,null,null,null,null,0,0,0,null,null,null,null,null,null,null,null,0,0,0,0,0,null,0,0,0,0,null,0,0,0,"",0,null,0,null,0,null,255,"Royalston                    ",0,0,{"$f":"H264","v":0},{"$f":"I264","v":0},{"$f":"AM264","v":0}]
[256,"Russell                      ",0,314603.33724281075,198625,null,198625,341535.72000000003,130679,210857,12232,{"$f":"ROUND(100-'Townwide Contributions'!L265,2)","v":59.59},20,21,0,null,null,null,null,null,null,0,0,0,null,null,null,null,null,null,null,null,206689,207319,0,210857,0,null,210857,0,341536,100.00008198264005,null,26932.382757189276,12232,7335.8644519999798,"",16263.61,null,0,null,582.47619047619048,null,256,"Russell                      ",0,0,341535.72000000003,130679,210857]
[257,"Rutland                      ",0,0,0,null,0,{"$f":"SUMIF(dist1755,A266,found1755)","v":0},{"$f":"SUMIF(dist1755,A266,prelcont1755)","v":0},{"$f":"ROUND(MAX(found-prelcont436,0),0)","v":0},{"$f":"IF(foundaid>priorc70,foundaid-priorc70,0)","v":0},{"$f":"ROUND(100-'Townwide Contributions'!L266,2)","v":53.78},0,{"$f":"SUMIF(dist1755,A266,enro1755)","v":0},{"$f":"IF(AND(C266=1,K266>0),1,0)","v":0},null,null,null,null,null,null,0,{"$f":"IF(nonop=1,enro*$W$6,0)","v":0},{"$f":"IF((foundinc)<W266,W266-(foundinc),0)","v":0},null,null,null,null,null,null,null,null,0,{"$f":"AG266+30*enro","v":0},{"$f":"IF(AH266-priorc70-foundinc-minaid>0,AH266-priorc70-foundinc-minaid,0)","v":0},{"$f":"priorc70+foundinc+minaidadjincrement+minaid","v":0},{"$f":"IF(AND(C266=0,AJ266>found),AJ266-found,0)","v":0},null,{"$f":"priorc70+foundinc+minaidadjincrement+minaid-rednonop","v":0},{"$f":"IF(C266=1, AM266/H266*100, 0)","v":0},{"$f":"prelcont436+chapter70","v":0},{"$f":"IF(found>0,AO266*100/found,0)","v":0},null,{"$f":"H266-D266","v":0},{"$f":"AM266-G266","v":0},{"$f":"AM266-((L266/100)*H266)","v":0},{"$f":"IF(C266=1, (AM266/H266*100)-L266, \"\")","v":""},{"$f":"IFERROR(ROUND(H266/N266, 2), 0)","v":0},null,{"$f":"VLOOKUP(A266, disthist, 37, FALSE)*$G$6","v":0},null,{"$f":"IFERROR(AS266/N266, 0)","v":0},null,{"$f":"A266","v":257},{"$f":"B266","v":"Rutland                      "},{"$f":"C266","v":0},0,0,0,0]
[258,"Salem                        ",1,59983631.397195973,25807152,null,{"$f":"E267","v":25807152},61001952.659999996,35713816,25288137,0,{"$f":"ROUND(100-'Townwide Contributions'!L267,2)","v":37.380000000000003},4635,4536,0,null,null,null,null,null,null,10,136080,136080,null,null,null,null,null,null,null,null,25807152,25943232,0,25943232,0,null,25943232,42.528527151576597,61657048,101.07389241070895,null,1018321.2628040239,136080,3140702.0956920013,5.1485271515765945,13448.4,null,0,null,30,null,258,"Salem                        ",1,{"$f":"V267","v":10},61001952.659999996,35713816,25943232]
[259,"Salisbury                    ",0,14371.797255353356,14383,null,14383,29909.299999999996,24675,5234,0,{"$f":"ROUND(100-'Townwide Contributions'!L268,2)","v":17.5},1,2,0,null,null,null,null,null,null,0,0,0,null,null,null,null,null,null,null,null,14383,14443,60,14443,0,null,14443,0,39118,130.78875132483878,null,15537.502744646639,60,9208.8725000000013,"",14954.65,null,0,null,30,null,259,"Salisbury                    ",0,0,29909.299999999996,24675,14443]
[260,"Sandisfield                  ",0,0,0,null,0,0,0,0,0,{"$f":"ROUND(100-'Townwide Contributions'!L269,2)","v":17.5},0,0,0,null,null,null,null,null,null,0,0,0,null,null,null,null,null,null,null,null,0,0,0,0,0,null,0,0,0,0,null,0,0,0,"",0,null,0,null,0,null,260,"Sandisfield                  ",0,0,0,0,0]
[261,"Sandwich                     ",1,28195096.030377951,7151788,null,7151788,28812575.09,23770374,5042201,0,{"$f":"ROUND(100-'Townwide Contributions'!L270,2)","v":17.5},2672,2644,0,null,null,null,null,null,null,4,79320,79320,null,null,null,null,null,null,null,null,7151788,7231108,0,7231108,0,null,7231108,25.097055634259174,31001482,107.59705407504414,null,617479.05962204933,79320,2188907.3592500007,7.5970556342591742,10897.34,null,0,null,30,null,261,"Sandwich                     ",1,4,28812575.09,23770374,7231108]
[262,"Saugus                       ",1,31417986.972791355,6136490,null,6136490,33254946.570000004,26691069,6563878,427388,{"$f":"ROUND(100-'Townwide Contributions'!L271,2)","v":17.5},2761,2798,1,null,null,null,null,null,null,7,83940,0,null,null,null,null,null,null,null,null,6160569,6244509,0,6563878,0,null,6563878,19.738050055751447,33254947,100.00000129304071,null,1836959.5972086489,427388,744262.3502499992,2.2380500557514473,11885.26,null,0,null,152.74767691208007,null,262,"Saugus                       ",1,7,33254946.570000004,26691069,6563878]
[263,"Savoy                        ",1,751434.40349266853,515849,null,515849,642599.05999999994,376725,265874,0,{"$f":"ROUND(100-'Townwide Contributions'!L272,2)","v":40.18},60,50,0,null,null,null,null,null,null,10,1500,1500,null,null,null,null,null,null,null,null,515849,517349,0,517349,0,null,517349,80.508832365861238,894074,139.13403483659002,null,-108835.34349266859,1500,259152.69769200002,40.328832365861238,12851.98,null,0,null,30,null,263,"Savoy                        ",1,10,642599.05999999994,376725,517349]
[264,"Scituate                     ",1,30755855.729239803,5863240,null,5863240,32403487.309109993,26062254,6341233,477993,{"$f":"ROUND(100-'Townwide Contributions'!L273,2)","v":17.5},2906,2991,1,null,null,null,null,null,null,3,89730,0,null,null,null,null,null,null,null,null,6043961,6133691,0,6341233,0,null,6341233,19.569600455372008,32403487,99.999999046059486,null,1647631.5798701905,477993,670622.72090575192,2.069600455372008,10833.66,null,0,null,159.81043129388163,null,264,"Scituate                     ",1,3,32403487.309109993,26062254,6341233]
[265,"Seekonk                      ",1,21995792.007408068,6705263,null,6705263,22815890.449999999,15991483,6824407,119144,{"$f":"ROUND(100-'Townwide Contributions'!L274,2)","v":27.92},2095,2077,1,null,null,null,null,null,null,4,62310,0,null,null,null,null,null,null,null,null,6705263,6767573,0,6824407,0,null,6824407,29.910763355720793,22815890,99.999998027690395,null,820098.44259193167,119144,454210.38635999989,1.9907633557207909,10985.02,null,0,null,57.363505055368321,null,265,"Seekonk                      ",1,4,22815890.449999999,15991483,6824407]
[266,"Sharon                       ",1,37027112.382259734,7449437,null,7449437,38544967.070799999,31024567,7520400,70963,{"$f":"ROUND(100-'Townwide Contributions'!L275,2)","v":17.5},3505,3535,1,null,null,null,null,null,null,2,106050,35087,null,null,null,null,null,null,null,null,7469267,7575317,19830,7575317,0,null,7575317,19.653193596158843,38599884,100.14247496722238,null,1517854.688540265,125880,829947.76261000056,2.1531935961588431,10903.81,null,0,null,35.609618104667611,null,266,"Sharon                       ",1,2,38544967.070799999,31024567,7575317]
[267,"Sheffield                    ",0,0,0,null,0,0,0,0,0,{"$f":"ROUND(100-'Townwide Contributions'!L276,2)","v":17.5},0,0,0,null,null,null,null,null,null,0,0,0,null,null,null,null,null,null,null,null,0,0,0,0,0,null,0,0,0,0,null,0,0,0,"",0,null,0,null,0,null,267,"Sheffield                    ",0,0,0,0,0]
[268,"Shelburne                    ",0,14371.797255353356,4177,null,4177,14954.649999999998,10386,4569,392,{"$f":"ROUND(100-'Townwide Contributions'!L277,2)","v":30},1,1,0,null,null,null,null,null,null,0,0,0,null,null,null,null,null,null,null,null,4576,4606,37,4606,0,null,4606,0,14992,100.24975509289754,null,582.85274464664144,429,119.60500000000047,"",14954.65,null,0,null,429,null,268,"Shelburne                    ",0,0,14954.649999999998,10386,4606]
[269,"Sherborn                     ",1,3922730.1411090656,693583,null,693583,4124924.7338100001,3403063,721862,28279,{"$f":"ROUND(100-'Townwide Contributions'!L278,2)","v":17.5},394,400,1,null,null,null,null,null,null,1,12000,0,null,null,null,null,null,null,null,null,715206,727206,5344,727206,0,null,727206,17.629558038706655,4130269,100.12956033224548,null,202194.5927009345,33623,5344.1715832500486,0.12955803870665505,10312.31,null,0,null,84.057500000000005,null,269,"Sherborn                     ",1,1,4124924.7338100001,3403063,727206]
[270,"Shirley                      ",0,0,0,null,0,0,0,0,0,{"$f":"ROUND(100-'Townwide Contributions'!L279,2)","v":37.81},0,0,0,null,null,null,null,null,null,0,0,0,null,null,null,null,null,null,null,null,0,0,0,0,0,null,0,0,0,0,null,0,0,0,"",0,null,0,null,0,null,270,"Shirley                      ",0,0,0,0,0]
[271,"Shrewsbury                   ",1,63259403.708104163,20068648,null,20068648,67328829.060000002,52057670,15271159,0,{"$f":"ROUND(100-'Townwide Contributions'!L280,2)","v":22.62},6043,6207,0,null,null,null,null,null,null,3,186210,186210,null,null,null,null,null,null,null,null,20068648,20254858,0,20254858,0,null,20254858,30.083484716405668,72312528,107.40202823898628,null,4069425.351895839,186210,5025076.8666279987,7.4634847164056666,10847.24,null,0,null,30,null,271,"Shrewsbury                   ",1,3,67328829.060000002,52057670,20254858]
[272,"Shutesbury                   ",1,1321150.8039989388,630386,null,630386,1228664.7999999998,715926,512739,0,{"$f":"ROUND(100-'Townwide Contributions'!L281,2)","v":40.03},117,105,0,null,null,null,null,null,null,7,3150,3150,null,null,null,null,null,null,null,null,630386,633536,0,633536,0,null,633536,51.562964935595133,1349462,109.83158303224771,null,-92486.003998938948,3150,141701.48056000011,11.532964935595132,11701.57,null,0,null,30,null,272,"Shutesbury                   ",1,7,1228664.7999999998,715926,633536]
[273,"Somerset                     ",1,18329520.115415696,8920409,null,8920409,18701770.270000003,9381508,9320262,399853,{"$f":"ROUND(100-'Townwide Contributions'!L282,2)","v":44.53},1778,1758,1,null,null,null,null,null,null,5,52740,0,null,null,null,null,null,null,null,null,9092898,9145638,0,9320262,0,null,9320262,49.836255420968754,18701770,99.999998556286386,null,372250.15458430722,399853,992363.69876899756,5.3062554209687534,10638.09,null,0,null,227.44766780432309,null,273,"Somerset                     ",1,5,18701770.270000003,9381508,9320262]
[274,"Somerville                   ",1,68863033.368161425,20486918,null,20486918,78394858.548899978,60766118,17628741,0,{"$f":"ROUND(100-'Townwide Contributions'!L283,2)","v":17.5},5263,5284,0,null,null,null,null,null,null,10,158520,158520,null,null,null,null,null,null,null,null,20486918,20645438,0,20645438,0,null,20645438,26.335193891729642,81411556,103.84808073761407,null,9531825.1807385534,158520,6926337.7539425045,8.8351938917296415,14836.27,null,0,null,30,null,274,"Somerville                   ",1,10,78394858.548899978,60766118,20645438]
[275,"Southampton                  ",1,5018160.4177704034,2551486,null,2551486,5059594.3599999994,3484861,1574733,0,{"$f":"ROUND(100-'Townwide Contributions'!L284,2)","v":31.12},478,462,0,null,null,null,null,null,null,3,13860,13860,null,null,null,null,null,null,null,null,2551486,2565346,0,2565346,0,null,2565346,50.702602174613865,6050207,119.57889446299409,null,41433.942229595967,13860,990800.23516799998,19.582602174613864,10951.5,null,0,null,30,null,275,"Southampton                  ",1,3,5059594.3599999994,3484861,2565346]
[276,"Southborough                 ",1,11760311.474915259,2986051,null,2986051,12618254.939900002,10410060,2208195,0,{"$f":"ROUND(100-'Townwide Contributions'!L285,2)","v":17.5},1171,1225,0,null,null,null,null,null,null,2,36750,36750,null,null,null,null,null,null,null,null,2986051,3022801,0,3022801,0,null,3022801,23.955776883550232,13432861,106.45577430460804,null,857943.46498474292,36750,814606.38551749988,6.4557768835502323,10300.620000000001,null,0,null,30,null,276,"Southborough                 ",1,2,12618254.939900002,10410060,3022801]
[277,"Southbridge                  ",1,30836388.956011005,22989832,null,22989832,30505300.34,8001037,22504263,0,{"$f":"ROUND(100-'Townwide Contributions'!L286,2)","v":72.92},2324,2231,0,null,null,null,null,null,null,11,66930,66930,null,null,null,null,null,null,null,null,22989832,23056762,0,23056762,0,null,23056762,75.58280607965979,31057799,101.81115627068762,null,-331088.61601100489,66930,812296.99207199737,2.6628060796597879,13673.38,null,0,null,30,null,277,"Southbridge                  ",1,11,30505300.34,8001037,23056762]
[278,"South Hadley                 ",1,22011471.953325644,8248287,null,8248287,22921007.059999999,14218746,8702261,453974,{"$f":"ROUND(100-'Townwide Contributions'!L287,2)","v":36.85},1944,1941,1,null,null,null,null,null,null,6,58230,0,null,null,null,null,null,null,null,null,8541572,8599802,0,8702261,0,null,8702261,37.966311764662933,22921007,99.999999738231409,null,909535.10667435452,453974,255869.89839000069,1.1163117646629317,11808.87,null,0,null,233.88665636269963,null,278,"South Hadley                 ",1,6,22921007.059999999,14218746,8702261]
[279,"Southwick                    ",0,0,0,null,0,0,0,0,0,{"$f":"ROUND(100-'Townwide Contributions'!L288,2)","v":34.24},0,0,0,null,null,null,null,null,null,0,0,0,null,null,null,null,null,null,null,null,0,0,0,0,0,null,0,0,0,0,null,0,0,0,"",0,null,0,null,0,null,279,"Southwick                    ",0,0,0,0,0]
[280,"Spencer                      ",0,43115.391766060078,41511,null,41511,29909.299999999996,13982,15927,0,{"$f":"ROUND(100-'Townwide Contributions'!L289,2)","v":49.54},3,2,0,null,null,null,null,null,null,0,0,0,null,null,null,null,null,null,null,null,29315.619213999998,29375.619213999998,0,41511,11601.700000000004,null,29909.299999999996,0,43891.299999999996,146.7480014577406,null,-13206.091766060083,-11601.700000000004,15092.232779999998,"",14954.65,null,0,null,-5800.8500000000022,null,280,"Spencer                      ",0,0,29909.299999999996,13982,29909.299999999996]
[281,"Springfield                  ",1,411555995.64407492,370723826,null,370723826,432231053.56999999,41873391,390357663,19633837,{"$f":"ROUND(100-'Townwide Contributions'!L290,2)","v":84.71},29645,29553,1,null,null,null,null,null,null,12,886590,0,null,null,null,null,null,null,null,null,377200435,378087025,0,390357663,0,null,390357663,90.312266963664939,432231054,100.00000009948383,null,20675057.925925076,19633837,24214737.520853043,5.6022669636649454,14625.62,null,0,null,664.36020031807266,null,281,"Springfield                  ",1,12,432231053.56999999,41873391,390357663]
[282,"Sterling                     ",0,0,0,null,0,0,0,0,0,{"$f":"ROUND(100-'Townwide Contributions'!L291,2)","v":20.52},0,0,0,null,null,null,null,null,null,0,0,0,null,null,null,null,null,null,null,null,0,0,0,0,0,null,0,0,0,0,null,0,0,0,"",0,null,0,null,0,null,282,"Sterling                     ",0,0,0,0,0]
[283,"Stockbridge                  ",0,0,0,null,0,0,0,0,0,{"$f":"ROUND(100-'Townwide Contributions'!L292,2)","v":17.5},0,0,0,null,null,null,null,null,null,0,0,0,null,null,null,null,null,null,null,null,0,0,0,0,0,null,0,0,0,0,null,0,0,0,"",0,null,0,null,0,null,283,"Stockbridge                  ",0,0,0,0,0]
[284,"Stoneham                     ",1,26898862.887115043,5266351,null,5266351,28037407.750399999,22342143,5695265,428914,{"$f":"ROUND(100-'Townwide Contributions'!L293,2)","v":17.5},2464,2450,1,null,null,null,null,null,null,5,73500,0,null,null,null,null,null,null,null,null,5266351,5339851,0,5695265,0,null,5695265,20.313094030309372,28037408,100.00000089023922,null,1138544.8632849567,428914,788718.64368000068,2.8130940303093723,11443.84,null,0,null,175.06693877551021,null,284,"Stoneham                     ",1,5,28037407.750399999,22342143,5695265]
[285,"Stoughton                    ",1,42580952.190584734,16210627,null,16210627,44489132.577229999,27334226,17154907,944280,{"$f":"ROUND(100-'Townwide Contributions'!L294,2)","v":37.33},3643,3644,1,null,null,null,null,null,null,7,109320,0,null,null,null,null,null,null,null,null,16991963,17101283,0,17154907,0,null,17154907,38.55976955770106,44489133,100.00000095027701,null,1908180.3866452649,944280,547113.80892004259,1.2297695577010614,12208.87,null,0,null,259.13282107574094,null,285,"Stoughton                    ",1,7,44489132.577229999,27334226,17154907]
[286,"Stow                         ",0,0,0,null,0,15537.389360000001,12789,2748,2748,{"$f":"ROUND(100-'Townwide Contributions'!L295,2)","v":17.5},0,1,0,null,null,null,null,null,null,0,0,0,null,null,null,null,null,null,null,null,2668,2698,0,2748,0,null,2748,0,15537,99.997494044906901,null,15537.389360000001,2748,28.956862000000001,"",15537.39,null,0,null,2748,null,286,"Stow                         ",0,0,15537.389360000001,12789,2748]
[287,"Sturbridge                   ",1,8568656.4989129324,3846634,null,3846634,9022974.3999999985,5230042,3792932,0,{"$f":"ROUND(100-'Townwide Contributions'!L296,2)","v":39.94},844,870,0,null,null,null,null,null,null,4,26100,26100,null,null,null,null,null,null,null,null,3846634,3872734,0,3872734,0,null,3872734,42.920813340665141,9102776,100.88442675843125,null,454317.90108706616,26100,268958.02464000089,2.9808133406651436,10371.23,null,0,null,30,null,287,"Sturbridge                   ",1,4,9022974.3999999985,5230042,3872734]
[288,"Sudbury                      ",1,25917962.070728827,4990518,null,4990518,26931498.39176001,22218486,4713012,0,{"$f":"ROUND(100-'Townwide Contributions'!L297,2)","v":17.5},2665,2690,0,null,null,null,null,null,null,2,80700,80700,null,null,null,null,null,null,null,null,4990518,5071218,0,5071218,0,null,5071218,18.830062576657806,27289704,101.33006193353722,null,1013536.321031183,80700,358205.78144199867,1.3300625766578058,10011.709999999999,null,0,null,30,null,288,"Sudbury                      ",1,2,26931498.39176001,22218486,5071218]
[289,"Sunderland                   ",1,2147362.3185696225,872838,null,872838,2047154.49,1688903,358251,0,{"$f":"ROUND(100-'Townwide Contributions'!L298,2)","v":17.5},185,171,0,null,null,null,null,null,null,7,5130,5130,null,null,null,null,null,null,null,null,872838,877968,0,877968,0,null,877968,42.887237103439126,2566871,125.38726376239441,null,-100207.82856962248,5130,519715.96425000002,25.387237103439126,11971.66,null,0,null,30,null,289,"Sunderland                   ",1,7,2047154.49,1688903,877968]
[290,"Sutton                       ",1,13566435.924644973,5479815,null,5479815,14062363.449999996,10945369,3116994,0,{"$f":"ROUND(100-'Townwide Contributions'!L299,2)","v":18.71},1326,1321,0,null,null,null,null,null,null,3,39630,39630,null,null,null,null,null,null,null,null,5479815,5519445,0,5519445,0,null,5519445,39.249767790634102,16464814,117.08425869194843,null,495927.5253550224,39630,2888376.7985050008,20.539767790634102,10645.24,null,0,null,30,null,290,"Sutton                       ",1,3,14062363.449999996,10945369,5519445]
[291,"Swampscott                   ",1,22677171.816726971,4351751,null,4351751,23606100.23,18943611,4662489,310738,{"$f":"ROUND(100-'Townwide Contributions'!L300,2)","v":17.5},2134,2155,1,null,null,null,null,null,null,4,64650,0,null,null,null,null,null,null,null,null,4445083,4509733,0,4662489,0,null,4662489,19.7512039454727,23606100,99.999999025675578,null,928928.41327302903,310738,531421.45975000039,2.2512039454726995,10954.11,null,0,null,144.1939675174014,null,291,"Swampscott                   ",1,4,23606100.23,18943611,4662489]
[292,"Swansea                      ",1,22235382.677427534,8449049,null,8449049,24205593.460000005,14549339,9656254,1207205,{"$f":"ROUND(100-'Townwide Contributions'!L301,2)","v":37.74},2097,2115,1,null,null,null,null,null,null,6,63450,0,null,null,null,null,null,null,null,null,8449049,8512499,0,9656254,0,null,9656254,39.892655455678295,24205593,99.999998099612782,null,1970210.7825724706,1207205,521063.0281959977,2.1526554556782926,11444.73,null,0,null,570.78250591016547,null,292,"Swansea                      ",1,6,24205593.460000005,14549339,9656254]
[293,"Taunton                      ",1,100148666.35428402,64474024,null,64474024,{"$f":"SUMIF(dist1755,A302,found1755)","v":105402383.99000001},37348967,68053417,3579393,{"$f":"ROUND(100-'Townwide Contributions'!L302,2)","v":63.93},8057,8113,1,null,null,null,null,null,null,9,243390,0,null,null,null,null,null,null,null,null,66657305,66900695,0,68053417,0,null,68053417,64.565348926506758,105402384,100.00000000948744,null,5253717.6357159913,3579393,669672.9151929915,0.635348926506758,12991.79,null,0,null,441.19228398866017,null,293,"Taunton                      ",1,9,105402383.99000001,37348967,68053417]
[294,"Templeton                    ",0,0,0,null,0,0,0,0,0,{"$f":"ROUND(100-'Townwide Contributions'!L303,2)","v":61.85},0,0,0,null,null,null,null,null,null,0,0,0,null,null,null,null,null,null,null,null,0,0,0,0,0,null,0,0,0,0,null,0,0,0,"",0,null,0,null,0,null,294,"Templeton                    ",0,0,0,0,0]
[295,"Tewksbury                    ",1,35772861.621506803,13326215,null,13326215,36441174.380000003,30063969,6377205,0,{"$f":"ROUND(100-'Townwide Contributions'!L304,2)","v":17.5},3402,3364,0,null,null,null,null,null,null,4,100920,100920,null,null,null,null,null,null,null,null,13326215,13427135,0,13427135,0,null,13427135,36.846054575478256,43491104,119.34605495005454,null,668312.75849319994,100920,7049929.4835000001,19.346054575478256,10832.69,null,0,null,30,null,295,"Tewksbury                    ",1,4,36441174.380000003,30063969,13427135]
[296,"Tisbury                      ",1,3863980.926163726,719854,null,719854,4391090.71,3495258,895833,175979,{"$f":"ROUND(100-'Townwide Contributions'!L305,2)","v":17.5},347,371,1,null,null,null,null,null,null,8,11130,0,null,null,null,null,null,null,null,null,846043,857173,0,895833,0,null,895833,20.401149945727266,4391091,100.00000660428169,null,527109.78383627394,175979,127392.12575000001,2.9011499457272656,11835.82,null,0,null,474.33692722371967,null,296,"Tisbury                      ",1,8,4391090.71,3495258,895833]
[297,"Tolland                      ",0,0,0,null,0,0,0,0,0,{"$f":"ROUND(100-'Townwide Contributions'!L306,2)","v":17.5},0,0,0,null,null,null,null,null,null,0,0,0,null,null,null,null,null,null,null,null,0,0,0,0,0,null,0,0,0,0,null,0,0,0,"",0,null,0,null,0,null,297,"Tolland                      ",0,0,0,0,0]
[298,"Topsfield                    ",1,5789256.4546096604,1192358,null,1192358,6328040.2094700001,5023953,1304087,111729,{"$f":"ROUND(100-'Townwide Contributions'!L307,2)","v":17.5},591,627,1,null,null,null,null,null,null,1,18810,0,null,null,null,null,null,null,null,null,1240456,1259266,0,1304087,0,null,1304087,20.608070695385528,6328040,99.999996689812434,null,538783.75486033969,111729,196679.96334274998,3.1080706953855284,10092.57,null,0,null,178.19617224880383,null,298,"Topsfield                    ",1,1,6328040.2094700001,5023953,1304087]
[299,"Townsend                     ",0,0,0,null,0,0,0,0,0,{"$f":"ROUND(100-'Townwide Contributions'!L308,2)","v":47.49},0,0,0,null,null,null,null,null,null,0,0,0,null,null,null,null,null,null,null,null,0,0,0,0,0,null,0,0,0,0,null,0,0,0,"",0,null,0,null,0,null,299,"Townsend                     ",0,0,0,0,0]
[300,"Truro                        ",1,2296521.4702778542,402446,null,402446,2367588.5799999996,1953260,414329,11883,{"$f":"ROUND(100-'Townwide Contributions'!L309,2)","v":17.5},220,213,1,null,null,null,null,null,null,8,6390,0,null,null,null,null,null,null,null,null,402446,408836,0,414329,0,null,414329,17.500042173712465,2367589,100.00001773956861,null,71067.109722145367,11883,0.99850000010337681,4.2173712465398694E-5,11115.44,null,0,null,55.7887323943662,null,300,"Truro                        ",1,8,2367588.5799999996,1953260,414329]
[301,"Tyngsborough                 ",1,16876605.054087967,7409074,null,7409074,17827138.829999994,12616796,5210343,0,{"$f":"ROUND(100-'Townwide Contributions'!L310,2)","v":26.99},1602,1645,0,null,null,null,null,null,null,3,49350,49350,null,null,null,null,null,null,null,null,7409074,7458424,0,7458424,0,null,7458424,41.837470786107083,20075220,112.61044294004641,null,950533.77591202781,49350,2646879.2297830023,14.847470786107085,10837.17,null,0,null,30,null,301,"Tyngsborough                 ",1,3,17827138.829999994,12616796,7458424]
[302,"Tyringham                    ",0,295787.37665969401,51836,null,51836,323808.92999999993,267142,56667,4831,{"$f":"ROUND(100-'Townwide Contributions'!L311,2)","v":17.5},32,34,0,null,null,null,null,null,null,0,0,0,null,null,null,null,null,null,null,null,56202,57222,555,57222,0,null,57222,0,324364,100.17141899082279,null,28021.553340305923,5386,555.43725000001723,"",9523.7900000000009,null,0,null,158.41176470588235,null,302,"Tyringham                    ",0,0,323808.92999999993,267142,57222]
[303,"Upton                        ",0,129346.17529818021,39799,null,39799,89727.900000000009,64209,25519,0,{"$f":"ROUND(100-'Townwide Contributions'!L312,2)","v":24.05},9,6,0,null,null,null,null,null,null,0,0,0,null,null,null,null,null,null,null,null,39799,39979,180,39979,0,null,39979,0,104188,116.11550030703938,null,-39618.275298180204,180,18399.440049999997,"",14954.65,null,0,null,30,null,303,"Upton                        ",0,0,89727.900000000009,64209,39979]
[304,"Uxbridge                     ",1,19102321.172340635,9438614,null,9438614,19678223.82,12557728,7120496,0,{"$f":"ROUND(100-'Townwide Contributions'!L313,2)","v":34.81},1777,1778,0,null,null,null,null,null,null,5,53340,53340,null,null,null,null,null,null,null,null,9438614,9491954,0,9491954,0,null,9491954,48.23582700768366,22049682,112.05118003378823,null,575902.64765936509,53340,2641964.2882579993,13.425827007683658,11067.62,null,0,null,30,null,304,"Uxbridge                     ",1,5,19678223.82,12557728,9491954]
[305,"Wakefield                    ",1,37851806.805738397,6720549,null,6720549,38887885.628600001,32082506,6805380,84831,{"$f":"ROUND(100-'Townwide Contributions'!L314,2)","v":17.5},3484,3480,1,null,null,null,null,null,null,3,104400,19569,null,null,null,null,null,null,null,null,6745398,6849798,24849,6849798,0,null,6849798,17.614220699523795,38932304,100.11422161601743,null,1036078.8228616044,129249,44418.014995000325,0.11422069952379488,11174.68,null,0,null,37.140517241379314,null,305,"Wakefield                    ",1,3,38887885.628600001,32082506,6849798]
[306,"Wales                        ",1,1548538.4556649411,994373,null,994373,1624184.98,614609,1009576,15203,{"$f":"ROUND(100-'Townwide Contributions'!L315,2)","v":61.3},143,145,1,null,null,null,null,null,null,7,4350,0,null,null,null,null,null,null,null,null,997028,1001378,0,1009576,0,null,1009576,62.158929705162038,1624185,100.00000123138683,null,75646.524335058872,15203,13950.607260000077,0.85892970516204059,11201.28,null,0,null,104.84827586206896,null,306,"Wales                        ",1,7,1624184.98,614609,1009576]
[307,"Walpole                      ",1,39185793.937174484,8182871,null,8182871,40218048.037480004,33179890,7038158,0,{"$f":"ROUND(100-'Townwide Contributions'!L316,2)","v":17.5},3659,3587,0,null,null,null,null,null,null,3,107610,107610,null,null,null,null,null,null,null,null,8182871,8290481,0,8290481,0,null,8290481,20.613832357736346,41470371,103.11383327543129,null,1032254.10030552,107610,1252322.5934409993,3.1138323577363458,11212.17,null,0,null,30,null,307,"Walpole                      ",1,3,40218048.037480004,33179890,8290481]
[308,"Waltham                      ",1,75037559.479823217,14846143,null,14846143,80607559.147039995,63760767,16846792,2000649,{"$f":"ROUND(100-'Townwide Contributions'!L317,2)","v":17.5},5650,5746,1,null,null,null,null,null,null,8,172380,0,null,null,null,null,null,null,null,null,15541244,15713624,0,16846792,0,null,16846792,20.899766942786329,80607559,99.999999817585348,null,5569999.6672167778,2000649,2740469.1492680013,3.3997669427863286,14028.46,null,0,null,348.18116950922382,null,308,"Waltham                      ",1,8,80607559.147039995,63760767,16846792]
[309,"Ware                         ",1,15862338.797222899,10591234,null,10591234,16016060.289999997,5323313,10692747,101513,{"$f":"ROUND(100-'Townwide Contributions'!L318,2)","v":65.88},1325,1289,1,null,null,null,null,null,null,10,38670,0,null,null,null,null,null,null,null,null,10591234,10629904,0,10692747,0,null,10692747,66.76265452544699,16016060,99.999998189317523,null,153721.49277709797,101513,141366.48094800301,0.88265452544699485,12425.18,null,0,null,78.753297129557794,null,309,"Ware                         ",1,10,16016060.289999997,5323313,10692747]
[310,"Wareham                      ",1,30196685.358659841,13381730,null,13381730,30374112.370000001,18778074,11596038,0,{"$f":"ROUND(100-'Townwide Contributions'!L319,2)","v":36.340000000000003},2429,2403,0,null,null,null,null,null,null,10,72090,72090,null,null,null,null,null,null,null,null,13381730,13453820,0,13453820,0,null,13453820,44.293705890441466,32231894,106.11633224823024,null,177427.01134015992,72090,2415867.564741997,7.9537058904414621,12640.08,null,0,null,30,null,310,"Wareham                      ",1,10,30374112.370000001,18778074,13453820]
[311,"Warren                       ",0,0,0,null,0,0,0,0,0,{"$f":"ROUND(100-'Townwide Contributions'!L320,2)","v":69.92},0,0,0,null,null,null,null,null,null,0,0,0,null,null,null,null,null,null,null,null,0,0,0,0,0,null,0,0,0,0,null,0,0,0,"",0,null,0,null,0,null,311,"Warren                       ",0,0,0,0,0]
[312,"Warwick                      ",0,0,0,null,0,0,0,0,0,{"$f":"ROUND(100-'Townwide Contributions'!L321,2)","v":33.15},0,0,0,null,null,null,null,null,null,0,0,0,null,null,null,null,null,null,null,null,0,0,0,0,0,null,0,0,0,0,null,0,0,0,"",0,null,0,null,0,null,312,"Warwick                      ",0,0,0,0,0]
[313,"Washington                   ",0,28743.594510706713,7847,null,7847,14954.649999999998,10991,3964,0,{"$f":"ROUND(100-'Townwide Contributions'!L322,2)","v":21.5},2,1,0,null,null,null,null,null,null,0,0,0,null,null,null,null,null,null,null,null,7847,7877,30,7877,0,null,7877,0,18868,126.16811493415094,null,-13788.944510706715,30,4661.750250000001,"",14954.65,null,0,null,30,null,313,"Washington                   ",0,0,14954.649999999998,10991,7877]
[314,"Watertown                    ",1,31550834.623976581,5858595,null,5858595,33386330.968360007,27380220,6006111,147516,{"$f":"ROUND(100-'Townwide Contributions'!L323,2)","v":17.5},2648,2678,1,null,null,null,null,null,null,6,80340,0,null,null,null,null,null,null,null,null,5858595,5938935,0,6006111,0,null,6006111,17.989730604695524,33386331,100.00000009476931,null,1835496.344383426,147516,163503.08053699881,0.48973060469552365,12466.89,null,0,null,55.08439133681852,null,314,"Watertown                    ",1,6,33386330.968360007,27380220,6006111]
[315,"Wayland                      ",1,27841232.66770371,5299764,null,5299764,28672242.811399993,23428504,5243739,0,{"$f":"ROUND(100-'Townwide Contributions'!L324,2)","v":17.5},2663,2653,0,null,null,null,null,null,null,2,79590,79590,null,null,null,null,null,null,null,null,5299764,5379354,0,5379354,0,null,5379354,18.761538939887835,28807858,100.47298423598062,null,831010.14369628206,79590,361711.50800500158,1.2615389398878349,10807.48,null,0,null,30,null,315,"Wayland                      ",1,2,28672242.811399993,23428504,5379354]
[316,"Webster                      ",1,24776507.500713076,13714015,null,13714015,26394392.860000003,11551971,14842422,1128407,{"$f":"ROUND(100-'Townwide Contributions'!L325,2)","v":55.23},1966,2023,1,null,null,null,null,null,null,10,60690,0,null,null,null,null,null,null,null,null,14615562,14676252,0,14842422,0,null,14842422,56.233238925882979,26394393,100.00000053041568,null,1617885.3592869267,1128407,264798.82342199795,1.0032389258829824,13047.15,null,0,null,557.7889273356401,null,316,"Webster                      ",1,10,26394392.860000003,11551971,14842422]
[317,"Wellesley                    ",1,52951270.696678318,9273504,null,9273504,53344322.628300011,44009066,9335257,61753,{"$f":"ROUND(100-'Townwide Contributions'!L326,2)","v":17.5},4976,4876,1,null,null,null,null,null,null,2,146280,84527,null,null,null,null,null,null,null,null,9273504,9419784,0,9419784,0,null,9419784,17.658456487743749,53428850,100.1584561721572,null,393051.93162169307,146280,84527.54004749842,0.15845648774374865,10940.18,null,0,null,30,null,317,"Wellesley                    ",1,2,53344322.628300011,44009066,9419784]
[318,"Wellfleet                    ",1,1139476.1400684477,202109,null,202109,1265599.4900000002,1044119,221480,19371,{"$f":"ROUND(100-'Townwide Contributions'!L327,2)","v":17.5},105,115,1,null,null,null,null,null,null,6,3450,0,null,null,null,null,null,null,null,null,219434,222884,1404,222884,0,null,222884,17.610942621350137,1267003,100.11089685252637,null,126123.34993155254,20775,1404.0892499999609,0.11094262135013722,11005.21,null,0,null,180.65217391304347,null,318,"Wellfleet                    ",1,6,1265599.4900000002,1044119,222884]
[319,"Wendell                      ",0,0,0,null,0,0,0,0,0,{"$f":"ROUND(100-'Townwide Contributions'!L328,2)","v":60.19},0,0,0,null,null,null,null,null,null,0,0,0,null,null,null,null,null,null,null,null,0,0,0,0,0,null,0,0,0,0,null,0,0,0,"",0,null,0,null,0,null,319,"Wendell                      ",0,0,{"$f":"H328","v":0},{"$f":"I328","v":0},{"$f":"AM328","v":0}]
[320,"Wenham                       ",0,0,0,null,0,0,0,0,0,{"$f":"ROUND(100-'Townwide Contributions'!L329,2)","v":17.5},0,0,0,null,null,null,null,null,null,0,0,0,null,null,null,null,null,null,null,null,0,0,0,0,0,null,0,0,0,0,null,0,0,0,"",0,null,0,null,0,null,320,"Wenham                       ",0,0,0,0,0]
[321,"Westborough                  ",1,39131440.051199019,8064504,null,8064504,{"$f":"SUMIF(dist1755,A330,found1755)","v":40921138.540000007},{"$f":"SUMIF(dist1755,A330,prelcont1755)","v":32692696},{"$f":"ROUND(MAX(found-prelcont436,0),0)","v":8228443},{"$f":"IF(foundaid>priorc70,foundaid-priorc70,0)","v":163939},{"$f":"ROUND(100-'Townwide Contributions'!L330,2)","v":18.670000000000002},3751,{"$f":"SUMIF(dist1755,A330,enro1755)","v":3783},{"$f":"IF(AND(C330=1,K330>0),1,0)","v":1},null,null,null,null,null,null,3,{"$f":"IF(nonop=1,enro*$W$6,0)","v":113490},{"$f":"IF((foundinc)<W330,W330-(foundinc),0)","v":0},null,null,null,null,null,null,null,null,8298327,{"$f":"AG330+30*enro","v":8411817},{"$f":"IF(AH330-priorc70-foundinc-minaid>0,AH330-priorc70-foundinc-minaid,0)","v":183374},{"$f":"priorc70+foundinc+minaidadjincrement+minaid","v":8411817},{"$f":"IF(AND(C330=0,AJ330>found),AJ330-found,0)","v":0},null,{"$f":"priorc70+foundinc+minaidadjincrement+minaid-rednonop","v":8411817},{"$f":"IF(C330=1, AM330/H330*100, 0)","v":20.556165590987973},{"$f":"prelcont436+chapter70","v":41104513},{"$f":"IF(found>0,AO330*100/found,0)","v":100.44811671068425},null,{"$f":"H330-D330","v":1789698.4888009876},{"$f":"AM330-G330","v":347313},{"$f":"AM330-((L330/100)*H330)","v":771840.43458199874},{"$f":"IF(C330=1, (AM330/H330*100)-L330, \"\")","v":1.8861655909879715},{"$f":"IFERROR(ROUND(H330/N330, 2), 0)","v":10817.11},null,{"$f":"VLOOKUP(A330, disthist, 37, FALSE)*$G$6","v":0},null,{"$f":"IFERROR(AS330/N330, 0)","v":91.808881839809672},null,{"$f":"A330","v":321},{"$f":"B330","v":"Westborough                  "},{"$f":"C330","v":1},3,40921138.540000007,32692696,8411817]
[322,"West Boylston                ",1,9510996.4243331663,3034005,null,{"$f":"E331","v":3034005},9780274.5099999979,7615816,2164459,0,{"$f":"ROUND(100-'Townwide Contributions'!L331,2)","v":20.14},853,854,0,null,null,null,null,null,null,5,25620,25620,null,null,null,null,null,null,null,null,3034005,3059625,0,3059625,0,null,3059625,31.283631117630055,10675441,109.15277469037014,null,269278.08566683158,25620,1089877.7136860006,11.143631117630054,11452.31,null,0,null,30,null,322,"West Boylston                ",1,{"$f":"V331","v":5},9780274.5099999979,7615816,3059625]
[323,"West Bridgewater             ",1,11563083.632389149,4058306,null,4058306,12266444.039999999,8059382,4207062,148756,{"$f":"ROUND(100-'Townwide Contributions'!L332,2)","v":32.31},1076,1107,1,null,null,null,null,null,null,4,33210,0,null,null,null,null,null,null,null,null,4154975,4188185,0,4207062,0,null,4207062,34.297323546099186,12266444,99.999999673907126,null,703360.40761085041,148756,243773.93067600019,1.9873235460991836,11080.8,null,0,null,134.37759710930442,null,323,"West Bridgewater             ",1,4,12266444.039999999,8059382,4207062]
[324,"West Brookfield              ",0,657950.26899632823,327609,null,327609,668116.79,351945,316172,0,{"$f":"ROUND(100-'Townwide Contributions'!L333,2)","v":46.72},42,41,0,null,null,null,null,null,null,0,0,0,null,null,null,null,null,null,null,null,327609,328839,1230,328839,0,null,328839,0,680784,101.89595744181193,null,10166.521003671805,1230,16694.835711999971,"",16295.53,null,0,null,30,null,324,"West Brookfield              ",0,0,668116.79,351945,328839]
[325,"Westfield                    ",1,65007737.903743565,37295661,null,37295661,65801552.82,27986427,37815126,519465,{"$f":"ROUND(100-'Townwide Contributions'!L334,2)","v":55.53},5341,5221,1,null,null,null,null,null,null,8,156630,0,null,null,null,null,null,null,null,null,37295661,37452291,0,37815126,0,null,37815126,57.46844014979888,65801553,100.00000027354977,null,793814.91625643522,519465,1275523.7190539986,1.938440149798879,12603.25,null,0,null,99.495307412373108,null,325,"Westfield                    ",1,8,65801552.82,27986427,37815126]
[326,"Westford                     ",1,50292113.17611514,17144235,null,17144235,49918075.254549995,38932072,10986003,0,{"$f":"ROUND(100-'Townwide Contributions'!L335,2)","v":20.2},4854,4715,0,null,null,null,null,null,null,2,141450,141450,null,null,null,null,null,null,null,null,17144235,17285685,0,17285685,0,null,17285685,34.628107978631292,56217757,112.620041364427,null,-374037.92156514525,141450,7202233.7985809017,14.428107978631292,10587.08,null,0,null,30,null,326,"Westford                     ",1,2,49918075.254549995,38932072,17285685]
[327,"Westhampton                  ",1,1392808.786186093,477140,null,477140,1322743.5699999998,970005,352739,0,{"$f":"ROUND(100-'Townwide Contributions'!L336,2)","v":23.83},127,116,0,null,null,null,null,null,null,4,3480,3480,null,null,null,null,null,null,null,null,477140,480620,0,480620,0,null,480620,36.33508496283978,1450625,109.66789277229299,null,-70065.216186093166,3480,165410.20726900006,12.505084962839781,11402.96,null,0,null,30,null,327,"Westhampton                  ",1,4,1322743.5699999998,970005,480620]
[328,"Westminster                  ",0,0,0,null,0,0,0,0,0,{"$f":"ROUND(100-'Townwide Contributions'!L337,2)","v":45.36},0,0,0,null,null,null,null,null,null,0,0,0,null,null,null,null,null,null,null,null,0,0,0,0,0,null,0,0,0,0,null,0,0,0,"",0,null,0,null,0,null,328,"Westminster                  ",0,0,0,0,0]
[329,"West Newbury                 ",0,0,0,null,0,29909.299999999996,24675,5234,5234,{"$f":"ROUND(100-'Townwide Contributions'!L338,2)","v":17.5},0,2,0,null,null,null,null,null,null,0,0,0,null,null,null,null,null,null,null,null,5131,5191,0,5234,0,null,5234,0,29909,99.998996967498414,null,29909.299999999996,5234,-0.12749999999869033,"",14954.65,null,0,null,2617,null,329,"West Newbury                 ",0,0,29909.299999999996,24675,5234]
[330,"Weston                       ",1,22508837.582984712,3949220,null,3949220,22483634.176800013,18548998,3934636,0,{"$f":"ROUND(100-'Townwide Contributions'!L339,2)","v":17.5},2119,2057,0,null,null,null,null,null,null,2,61710,61710,null,null,null,null,null,null,null,null,3949220,4010930,0,4010930,0,null,4010930,17.83933134857141,22559928,100.33933047744884,null,-25203.406184699386,61710,76294.019059997983,0.33933134857140956,10930.3,null,0,null,30,null,330,"Weston                       ",1,2,22483634.176800013,18548998,4010930]
[331,"Westport                     ",1,16245198.777909063,4559462,null,4559462,16930127.66,13812273,3117855,0,{"$f":"ROUND(100-'Townwide Contributions'!L340,2)","v":17.5},1493,1505,0,null,null,null,null,null,null,6,45150,45150,null,null,null,null,null,null,null,null,4559462,4604612,0,4604612,0,null,4604612,27.197739393773713,18416885,108.78172551239935,null,684928.88209093735,45150,1641839.6595000001,9.6977393937737126,11249.25,null,0,null,30,null,331,"Westport                     ",1,6,16930127.66,13812273,4604612]
[332,"West Springfield             ",1,51872243.869854257,31406263,null,31406263,54151516.57,20744319,33407198,2000935,{"$f":"ROUND(100-'Townwide Contributions'!L341,2)","v":58.69},4167,4138,1,null,null,null,null,null,null,10,124140,0,null,null,null,null,null,null,null,null,32053581,32177721,0,33407198,0,null,33407198,61.692081987797224,54151517,100.00000079406826,null,2279272.7001457438,2000935,1625672.9250670001,3.0020819877972258,13086.4,null,0,null,483.55123247945869,null,332,"West Springfield             ",1,10,54151516.57,20744319,33407198]
[333,"West Stockbridge             ",0,0,0,null,0,0,0,0,0,{"$f":"ROUND(100-'Townwide Contributions'!L342,2)","v":17.5},0,0,0,null,null,null,null,null,null,0,0,0,null,null,null,null,null,null,null,null,0,0,0,0,0,null,0,0,0,0,null,0,0,0,"",0,null,0,null,0,null,333,"West Stockbridge             ",0,0,0,0,0]
[334,"West Tisbury                 ",0,0,0,null,0,0,0,0,0,{"$f":"ROUND(100-'Townwide Contributions'!L343,2)","v":17.5},0,0,0,null,null,null,null,null,null,0,0,0,null,null,null,null,null,null,null,null,0,0,0,0,0,null,0,0,0,0,null,0,0,0,"",0,null,0,null,0,null,334,"West Tisbury                 ",0,0,0,0,0]
[335,"Westwood                     ",1,31407909.177556276,5496384,null,5496384,32534334.285979997,26840826,5693508,197124,{"$f":"ROUND(100-'Townwide Contributions'!L344,2)","v":17.5},2978,3001,1,null,null,null,null,null,null,2,90030,0,null,null,null,null,null,null,null,null,5635223,5725253,31745,5725253,0,null,5725253,17.597572305228265,32566079,100.09757296319931,null,1126425.108423721,228869,31744.499953500926,9.7572305228265321E-2,10841.16,null,0,null,76.264245251582807,null,335,"Westwood                     ",1,2,32534334.285979997,26840826,5725253]
[336,"Weymouth                     ",1,71911345.754917458,28433225,null,28433225,73806549.565599993,57226975,16579575,0,{"$f":"ROUND(100-'Townwide Contributions'!L345,2)","v":18.7},5976,5922,0,null,null,null,null,null,null,6,177660,177660,null,null,null,null,null,null,null,null,28433225,28610885,0,28610885,0,null,28610885,38.764696586405741,85837860,116.3011419788788,null,1895203.8106825352,177660,14809060.231232801,20.064696586405741,12463.11,null,0,null,30,null,336,"Weymouth                     ",1,6,73806549.565599993,57226975,28610885]
[337,"Whately                      ",1,968969.2611512969,264770,null,264770,916544.04999999993,743257,173287,0,{"$f":"ROUND(100-'Townwide Contributions'!L346,2)","v":17.5},87,79,0,null,null,null,null,null,null,5,2370,2370,null,null,null,null,null,null,null,null,264770,267140,0,267140,0,null,267140,29.146444188907232,1010397,110.23987335906006,null,-52425.211151296971,2370,106744.79125000001,11.646444188907232,11601.82,null,0,null,30,null,337,"Whately                      ",1,5,916544.04999999993,743257,267140]
[338,"Whitman                      ",0,143717.97255353359,80336,null,80336,206943.87000000002,94215,112729,32393,{"$f":"ROUND(100-'Townwide Contributions'!L347,2)","v":51.28},10,12,0,null,null,null,null,null,null,0,0,0,null,null,null,null,null,null,null,null,110585,110945,0,112729,0,null,112729,0,206944,100.00006281896631,null,63225.897446466435,32393,6608.183463999987,"",17245.32,null,0,null,2699.4166666666665,null,338,"Whitman                      ",0,0,206943.87000000002,94215,112729]
[339,"Wilbraham                    ",0,0,0,null,0,0,0,0,0,{"$f":"ROUND(100-'Townwide Contributions'!L348,2)","v":17.5},0,0,0,null,null,null,null,null,null,0,0,0,null,null,null,null,null,null,null,null,0,0,0,0,0,null,0,0,0,0,null,0,0,0,"",0,null,0,null,0,null,339,"Wilbraham                    ",0,0,0,0,0]
[340,"Williamsburg                 ",1,1900770.6075914244,665637,null,665637,2029086.28,1303990,725096,59459,{"$f":"ROUND(100-'Townwide Contributions'!L349,2)","v":34.340000000000003},170,176,1,null,null,null,null,null,null,5,5280,0,null,null,null,null,null,null,null,null,716692,721972,0,725096,0,null,725096,35.735099445845151,2029086,99.99998620068537,null,128315.67240857566,59459,28307.771447999869,1.3950994458451476,11528.9,null,0,null,337.83522727272725,null,340,"Williamsburg                 ",1,5,2029086.28,1303990,725096]
[341,"Williamstown                 ",0,0,0,null,0,0,0,0,0,{"$f":"ROUND(100-'Townwide Contributions'!L350,2)","v":17.5},0,0,0,null,null,null,null,null,null,0,0,0,null,null,null,null,null,null,null,null,0,0,0,0,0,null,0,0,0,0,null,0,0,0,"",0,null,0,null,0,null,341,"Williamstown                 ",0,0,0,0,0]
[342,"Wilmington                   ",1,34910848.030844986,11469170,null,11469170,35697377.274099998,28889999,6807378,0,{"$f":"ROUND(100-'Townwide Contributions'!L351,2)","v":17.5},3242,3220,0,null,null,null,null,null,null,3,96600,96600,null,null,null,null,null,null,null,null,11469170,11565770,0,11565770,0,null,11565770,32.399495097897486,40455769,113.32980764766835,null,786529.24325501174,96600,5318728.9770325003,14.899495097897486,11086.14,null,0,null,30,null,342,"Wilmington                   ",1,3,35697377.274099998,28889999,11565770]
[343,"Winchendon                   ",1,15998737.235770881,11491100,null,11491100,15937837.76,5297277,10640561,0,{"$f":"ROUND(100-'Townwide Contributions'!L352,2)","v":65.569999999999993},1369,1322,0,null,null,null,null,null,null,9,39660,39660,null,null,null,null,null,null,null,null,11491100,11530760,0,11530760,0,null,11530760,72.348333404041369,16828037,105.58544548768201,null,-60899.4757708814,39660,1080319.7807680015,6.7783334040413763,12055.85,null,0,null,30,null,343,"Winchendon                   ",1,9,15937837.76,5297277,11530760]
[344,"Winchester                   ",1,48242100.959599502,9421254,null,9421254,50486504.970700011,40663736,9822769,401515,{"$f":"ROUND(100-'Townwide Contributions'!L353,2)","v":17.5},4638,4685,1,null,null,null,null,null,null,2,140550,0,null,null,null,null,null,null,null,null,9630092,9770642,0,9822769,0,null,9822769,19.456226977289621,50486505,100.00000005803528,null,2244404.0111005083,401515,987630.63012749888,1.9562269772896208,10776.2,null,0,null,85.702241195304168,null,344,"Winchester                   ",1,2,50486504.970700011,40663736,9822769]
[345,"Windsor                      ",0,71858.986276766795,26342,null,26342,59818.599999999991,49350,10469,0,{"$f":"ROUND(100-'Townwide Contributions'!L354,2)","v":17.5},5,4,0,null,null,null,null,null,null,0,0,0,null,null,null,null,null,null,null,null,26342,26462,120,26462,0,null,26462,0,75812,126.73650001838895,null,-12040.386276766803,120,15993.745000000003,"",14954.65,null,0,null,30,null,345,"Windsor                      ",0,0,59818.599999999991,49350,26462]
[346,"Winthrop                     ",1,23351887.112957381,7340903,null,7340903,23704402.770799998,16770154,6934249,0,{"$f":"ROUND(100-'Townwide Contributions'!L355,2)","v":24.78},2012,1986,0,null,null,null,null,null,null,6,59580,59580,null,null,null,null,null,null,null,null,7340903,7400483,0,7400483,0,null,7400483,31.219866923271322,24170637,101.96686764778705,null,352515.65784261748,59580,1526531.9933957597,6.439866923271321,11935.75,null,0,null,30,null,346,"Winthrop                     ",1,6,23704402.770799998,16770154,7400483]
[347,"Woburn",1,53841305.779622279,9422229,null,9422229,54984520.072560005,45362230,9622290,200061,{"$f":"ROUND(100-'Townwide Contributions'!L356,2)","v":17.5},4596,4517,1,null,null,null,null,null,null,6,135510,0,null,null,null,null,null,null,null,null,9528392,9663902,41612,9663902,0,null,9663902,17.575677640265091,55026132,100.07567935008814,null,1143214.2929377258,241673,41610.987301999703,7.5677640265091384E-2,12172.8,null,0,null,53.502988709320348,null,347,"Woburn",1,6,54984520.072560005,45362230,9663902]
[348,"Worcester                    ",1,379530589.18986362,275454036,null,275454036,398714407.20999992,105210987,293503420,18049384,{"$f":"ROUND(100-'Townwide Contributions'!L357,2)","v":72},27800,27442,1,null,null,null,null,null,null,11,823260,0,null,null,null,null,null,null,null,null,277395977,278219237,0,293503420,0,null,293503420,73.612444068371445,398714407,99.999999947330735,null,19183818.020136297,18049384,6429046.8088000417,1.6124440683714454,14529.35,null,0,null,657.72844544858242,null,348,"Worcester                    ",1,11,398714407.20999992,105210987,293503420]
[349,"Worthington                  ",1,1201024.652987523,246841,null,246841,1388660.63,1018495,370166,123325,{"$f":"ROUND(100-'Townwide Contributions'!L358,2)","v":17.5},109,123,1,null,null,null,null,null,null,7,3690,0,null,null,null,null,null,null,null,null,356255,359945,0,370166,0,null,370166,26.656332872344773,1388661,100.00002664437892,null,187635.97701247688,123325,127150.38975000003,9.1563328723447732,11289.92,null,0,null,1002.6422764227642,null,349,"Worthington                  ",1,7,1388660.63,1018495,370166]
[350,"Wrentham                     ",1,9200581.1460926738,3793153,null,3793153,9136681.7644999977,7537762,1598920,0,{"$f":"ROUND(100-'Townwide Contributions'!L359,2)","v":17.5},908,874,0,null,null,null,null,null,null,3,26220,26220,null,null,null,null,null,null,null,null,3793153,3819373,0,3819373,0,null,3819373,41.802627019799829,11357135,124.30262203207552,null,-63899.381592676044,26220,2220453.6912125004,24.302627019799829,10453.870000000001,null,0,null,30,null,350,"Wrentham                     ",1,3,9136681.7644999977,7537762,3819373]
[351,"Yarmouth                     ",0,0,0,null,0,0,0,0,0,{"$f":"ROUND(100-'Townwide Contributions'!L360,2)","v":17.5},0,0,0,null,null,null,null,null,null,0,0,0,null,null,null,null,null,null,null,null,0,0,0,0,0,null,0,0,0,0,null,0,0,0,"",0,null,0,null,0,null,351,"Yarmouth                     ",0,0,0,0,0]
[406,"Northampton Smith            ",1,2535730.135235467,913025,null,913025,2918879.49,2408076,510803,0,{"$f":"ROUND(100-SUMIF(fraclea,A361,memeffpct),2)","v":17.5},104,113,0,null,null,null,null,null,null,8,3390,3390,null,null,null,null,null,null,null,null,913025,916415,0,916415,0,null,916415,31.396123174650143,3324491,113.89613758942819,null,383149.35476453323,3390,405611.08925000002,13.896123174650143,25830.79,null,0,null,30,null,406,"Northampton Smith            ",1,8,2918879.49,2408076,916415]
[600,"Acton Boxborough             ",1,57507919.285240643,15185311,null,15185311,58269617.360970005,46442298,11827319,0,{"$f":"ROUND(100-SUMIF(fraclea,A362,memeffpct),2)","v":18.559999999999999},5429,5294.0000000000009,0,null,null,null,null,null,null,2,158820.00000000003,158820.00000000003,null,null,null,null,null,null,null,null,15185311,15344131,0,15344131,0,null,15344131,26.332987403960136,61786429,106.03541227539554,null,761698.07572936267,158820,4529290.017803967,7.772987403960137,11006.73,null,0,null,29.999999999999996,null,600,"Acton Boxborough             ",1,2,58269617.360970005,46442298,15344131]
[603,"Hoosac Valley",1,15617632.338179186,10354753,null,10354753,15543340.609999999,5954342,9588999,0,61.22,1291,1254,0,null,null,null,null,null,null,10,37620,37620,null,null,null,null,null,null,null,null,10354753,10392373,0,10392373,0,null,10392373,66.860614206150373,16346715,105.16860828156297,null,-74291.728179186583,37620,876739.87855800055,5.6406142061503743,12395.01,null,0,null,30,null,603,"Hoosac Valley",1,10,15543340.609999999,5954342,10392373]
[605,"Amherst Pelham               ",1,16548734.048677344,9561457,null,9561457,16942723.919830572,12638409,4304315,0,23.11,1399,1398.9999999860099,0,null,null,null,null,null,null,5,41969.999999580301,41969.999999580301,null,null,null,null,null,null,null,null,9561457,9603426.9999995809,6.0390448197722435E-10,9603426.9999995809,0,null,9603426.9999995809,56.68171803684573,22241835.999999583,131.2766241440473,null,393989.87115322798,41969.999999580905,5687963.5021267356,33.571718036845731,12110.6,null,0,null,30.000000000000433,null,605,"Amherst Pelham               ",1,5,16942723.919830572,12638409,9603426.9999995809]
[610,"Ashburnham Westminster       ",1,23747271.339990951,11669561,null,11669561,25077113.790000003,12554122,12522992,853431,49.36,2266,2287,1,null,null,null,null,null,null,4,68610,0,null,null,null,null,null,null,null,null,12360232,12428842,0,12522992,0,null,12522992,49.937931872342467,25077114,100.00000083741693,null,1329842.4500090517,853431,144928.63325599954,0.57793187234246801,10965.07,null,0,null,373.16615653694799,null,610,"Ashburnham Westminster       ",1,4,25077113.790000003,12554122,12522992]
[615,"Athol Royalston              ",1,20420115.158179153,17423570,null,17423570,21987094.100000009,3615837,18371257,947687,70.22,1733.0000000000002,1771,1,null,null,null,null,null,null,10,53130,0,null,null,null,null,null,null,null,null,18123346,18176476,0,18371257,0,null,18371257,83.554729499247443,21987094,99.999999545187691,null,1566978.9418208562,947687,2931919.5229799952,13.334729499247445,12415.07,null,0,null,535.11405985319027,null,615,"Athol Royalston              ",1,10,21987094.100000009,3615837,18371257]
[616,"Ayer Shirley",1,19201202.775432397,8301431,null,8301431,19493377.440000001,13063479,6429898,0,32.090000000000003,1737,1690,0,null,null,null,null,null,null,6,50700,50700,null,null,null,null,null,null,null,null,8301431,8352131,0,8352131,0,null,8352131,42.845992315634348,21415610,109.86095183308572,null,292174.66456760466,50700,2096706.1795039997,10.755992315634344,11534.54,null,0,null,30,null,616,"Ayer Shirley",1,6,19493377.440000001,13063479,8352131]
[618,"Berkshire Hills              ",1,12066016.316021007,2933388,null,2933388,11985863.279999999,9888337,2097526,0,17.5,1010,970,0,null,null,null,null,null,null,7,29100,29100,null,null,null,null,null,null,null,null,2933388,2962488,0,2962488,0,null,2962488,24.716517540653943,12850825,107.21651582196256,null,-80153.036021007225,29100,864961.92600000044,7.2165175406539426,12356.56,null,0,null,30,null,618,"Berkshire Hills              ",1,7,11985863.279999999,9888337,2962488]
[620,"Berlin Boylston              ",1,9927446.3516566418,2139724,null,2139724,10233878.409999998,8297832,1936046,0,17.5,954,953,0,null,null,null,null,null,null,3,28590,28590,null,null,null,null,null,null,null,null,2139724,2168314,0,2168314,0,null,2168314,21.187607602228688,10466146,102.26959497362253,null,306432.05834335648,28590,377385.27825000044,3.6876076022286881,10738.59,null,0,null,30,null,620,"Berlin Boylston              ",1,3,10233878.409999998,8297832,2168314]
[622,"Blackstone Millville         ",1,18718435.629910786,10985239,null,10985239,19597359.82,9208364,10388996,0,51.55,1743.9999999999998,1737,0,null,null,null,null,null,null,6,52110,52110,null,null,null,null,null,null,null,null,10985239,11037349,0,11037349,0,null,11037349,56.320591658147144,20245713,103.30837003532652,null,878924.19008921459,52110,934910.01279000007,4.770591658147147,11282.3,null,0,null,30,null,622,"Blackstone Millville         ",1,6,19597359.82,9208364,11037349]
[625,"Bridgewater Raynham          ",1,57734650.603288382,22061362,null,22061362,59854240.780000009,36911577,22942664,881302,36.57,5494,5506,1,null,null,null,null,null,null,4,165180,0,null,null,null,null,null,null,null,null,22724355,22889535,0,22942664,0,null,22942664,38.330891347077575,59854241,100.00000036755958,null,2119590.1767116264,881302,1053968.1467539966,1.7608913470775747,10870.73,null,0,null,160.06211405739194,null,625,"Bridgewater Raynham          ",1,4,59854240.780000009,36911577,22942664]
[632,"Chesterfield Goshen",1,1171005.0238210852,751930,null,751930,1229801.3199999998,797612,432189,0,34.159999999999997,114,112,0,null,null,null,null,null,null,6,3360,3360,null,null,null,null,null,null,null,null,751930,755290,0,755290,0,null,755290,61.415611425754534,1552902,126.27259173863956,null,58796.296178914607,3360,335189.86908800009,27.255611425754537,10980.37,null,0,null,30,null,632,"Chesterfield Goshen",1,6,1229801.3199999998,797612,755290]
[635,"Central Berkshire            ",1,17917236.795122694,8773249,null,8773249,17979711.780179802,11019245,6960467,0,37.909999999999997,1567.9999999999998,1534.0000000153402,0,null,null,null,null,null,null,7,46020.000000460204,46020.000000460204,null,null,null,null,null,null,null,null,8773249,8819269.0000004601,0,8819269.0000004601,0,null,8819269.0000004601,49.051225669382035,19838514.000000462,110.33833157364479,null,62474.985057108104,46020.000000460073,2003160.2641342971,11.141225669382038,11720.8,null,0,null,29.999999999999915,null,635,"Central Berkshire            ",1,7,17979711.780179802,11019245,8819269.0000004601]
[640,"Concord Carlisle             ",1,15326809.636647012,2700821,null,2700821,15827340.617760003,13057556,2769785,68964,17.5,1321,1323,1,null,null,null,null,null,null,2,39690,0,null,null,null,null,null,null,null,null,2747981,2787671,17886,2787671,0,null,2787671,17.613009458278349,15845227,100.11300939729526,null,500530.98111299053,86850,17886.391891999636,0.11300945827834852,11963.22,null,0,null,65.646258503401356,null,640,"Concord Carlisle             ",1,2,15827340.617760003,13057556,2787671]
[645,"Dennis Yarmouth              ",1,40299027.11670664,7812700,null,7812700,41313758.979999997,33124911,8188848,376148,17.5,3388,3338,1,null,null,null,null,null,null,9,100140,0,null,null,null,null,null,null,null,null,7834162,7934302,0,8188848,0,null,8188848,19.821115778799562,41313759,100.00000004841003,null,1014731.8632933572,376148,958940.17850000132,2.3211157787995624,12376.8,null,0,null,112.68663870581186,null,645,"Dennis Yarmouth              ",1,9,41313758.979999997,33124911,8188848]
[650,"Dighton Rehoboth             ",1,31540121.095252328,12956936,null,12956936,31827031.48,20573340,11253691,0,33.17,2897,2854,0,null,null,null,null,null,null,4,85620,85620,null,null,null,null,null,null,null,null,12956936,13042556,0,13042556,0,null,13042556,40.979492568120591,33615896,105.6205823691855,null,286910.38474767283,85620,2485529.6580839995,7.8094925681205893,11151.73,null,0,null,30,null,650,"Dighton Rehoboth             ",1,4,31827031.48,20573340,13042556]
[655,"Dover Sherborn               ",1,13018705.445376281,2282394,null,2282394,13603658.412500003,11223018,2380640,98246,17.5,1225,1241,1,null,null,null,null,null,null,1,37230,0,null,null,null,null,null,null,null,null,2363015,2400245,19605,2400245,0,null,2400245,17.644114011231604,13623263,100.14411261225129,null,584952.96712372266,117851,19604.777812499553,0.14411401123160417,10961.85,null,0,null,94.964544721998394,null,655,"Dover Sherborn               ",1,1,13603658.412500003,11223018,2400245]
[658,"Dudley Charlton              ",1,39553020.497260436,24488263,null,24488263,39722401.110000007,17948085,21774316,0,51.81,3669,3560,0,null,null,null,null,null,null,5,106800,106800,null,null,null,null,null,null,null,null,24488263,24595063,0,24595063,0,null,24595063,61.917362275988552,42543148,107.1011490020171,null,169380.61273957044,106800,4014886.984908998,10.10736227598855,11157.98,null,0,null,30,null,658,"Dudley Charlton              ",1,5,39722401.110000007,17948085,24595063]
[660,"Nauset                       ",1,13781730.292193582,3526849,null,3526849,14065698.67,11460390,2605309,0,17.510000000000002,1185.99999998814,1196,0,null,null,null,null,null,null,5,35880,35880,null,null,null,null,null,null,null,null,3526849,3562729,0,3562729,0,null,3562729,25.329200373094586,15023119,106.80677407118093,null,283968.37780641764,35880,1099825.162883,7.8192003730945849,11760.62,null,0,null,30,null,660,"Nauset                       ",1,5,14065698.67,11460390,3562729]
[662,"Farmington River",1,2310316.8825038802,494950,null,494950,2305827.58,1885583,420245,0,17.5,214,208,0,null,null,null,null,null,null,7,6240,6240,null,null,null,null,null,null,null,null,494950,501190,0,501190,0,null,501190,21.735796915049477,2386773,103.51047149848038,null,-4489.3025038801134,6240,97670.173500000034,4.2357969150494768,11085.71,null,0,null,30,null,662,"Farmington River",1,7,2305827.58,1885583,501190]
[665,"Freetown Lakeville           ",1,29471189.782152213,11102173,null,11102173,30751633.029999994,20431524,10320109,0,29.54,2800,2830,0,null,null,null,null,null,null,4,84900,84900,null,null,null,null,null,null,null,null,11102173,11187073,0,11187073,0,null,11187073,36.378793246805344,31618597,102.81924530366967,null,1280443.2478477806,84900,2103040.602938002,6.8387932468053449,10866.3,null,0,null,30,null,665,"Freetown Lakeville           ",1,4,30751633.029999994,20431524,11187073]
[670,"Frontier                     ",1,6490224.3564851899,2855535,null,2855535,6742928.8800000018,5478012,1264917,0,17.5,576.99999999422994,581,0,null,null,null,null,null,null,4,17430,17430,null,null,null,null,null,null,null,null,2855535,2872965,0,2872965,0,null,2872965,42.607078483675167,8350977,123.84791755359576,null,252704.52351481188,17430,1692952.4459999998,25.107078483675167,11605.73,null,0,null,30,null,670,"Frontier                     ",1,4,6742928.8800000018,5478012,2872965]
[672,"Gateway                      ",1,9819284.5359783657,5658699,null,5658699,10175026.599898251,5413186,4761841,0,44.55,859.99999999140005,852.99999999146996,0,null,null,null,null,null,null,7,25589.999999744097,25589.999999744097,null,null,null,null,null,null,null,null,5658699,5684288.9999997439,0,5684288.9999997439,0,null,5684288.9999997439,55.865102112426776,11097474.999999743,109.06580824182529,null,355742.06391988508,25589.999999743886,1151314.6497450741,11.315102112426779,11928.52,null,0,null,29.999999999999751,null,672,"Gateway                      ",1,7,10175026.599898251,5413186,5684288.9999997439]
[673,"Groton Dunstable             ",1,23962885.117804695,10920053,null,10920053,24273580.519999996,19951258,4322323,0,17.5,2357,2318,0,null,null,null,null,null,null,2,69540,69540,null,null,null,null,null,null,null,null,10920053,10989593,0,10989593,0,null,10989593,45.27388528834971,30940851,127.46718999492707,null,310695.40219530091,69540,6741716.4090000009,27.77388528834971,10471.780000000001,null,0,null,30,null,673,"Groton Dunstable             ",1,2,24273580.519999996,19951258,10989593]
[674,"Gill Montague                ",1,12729673.495022506,6568729,null,6568729,13375837.629999999,6247928,7127910,559181,52.9,1072,1074,1,null,null,null,null,null,null,10,32220,0,null,null,null,null,null,null,null,null,7103219,7135439,7529,7135439,0,null,7135439,53.345735776548899,13383367,100.05629082984018,null,646164.13497749344,566710,59620.893730000593,0.44573577654890073,12454.22,null,0,null,527.66294227188087,null,674,"Gill Montague                ",1,10,13375837.629999999,6247928,7135439]
[675,"Hamilton Wenham              ",1,17895419.978166122,3711406,null,3711406,19121971.172880005,15156104,3965867,254461,17.5,1722,1782,1,null,null,null,null,null,null,2,53460,0,null,null,null,null,null,null,null,null,3768050,3821510,0,3965867,0,null,3965867,20.739844047169388,19121971,99.999999095909075,null,1226551.1947138831,254461,619522.04474599939,3.2398440471693881,10730.62,null,0,null,142.79517396184062,null,675,"Hamilton Wenham              ",1,2,19121971.172880005,15156104,3965867]
[680,"Hampden Wilbraham            ",1,31472652.18943473,11920364,null,11920364,32008032.470000003,22158527,9849505,0,17.5,2966,2920,0,null,null,null,null,null,null,4,87600,87600,null,null,null,null,null,null,null,null,11920364,12007964,0,12007964,0,null,12007964,37.51547056587949,34166491,106.743490191167,null,535380.28056527302,87600,6406558.3177499995,20.01547056587949,10961.65,null,0,null,30,null,680,"Hampden Wilbraham            ",1,4,32008032.470000003,22158527,12007964]
[683,"Hampshire                    ",1,7292664.1560150869,3271593,null,3271593,7666346.0900000008,5242416,2423930,0,30.86,663,672,0,null,null,null,null,null,null,4,20160,20160,null,null,null,null,null,null,null,null,3271593,3291753,0,3291753,0,null,3291753,42.937704107746583,8534169,111.31990259521403,null,373681.93398491386,20160,925918.59662600001,12.077704107746584,11408.25,null,0,null,30,null,683,"Hampshire                    ",1,4,7666346.0900000008,5242416,3291753]
[685,"Hawlemont                    ",1,1194591.6655308905,636346,null,636346,1224928.79,658555,566374,0,45.39,92.999999999999986,93.000000000000014,0,null,null,null,null,null,null,9,2790.0000000000005,2790.0000000000005,null,null,null,null,null,null,null,null,636346,639136,0,639136,0,null,639136,52.177400451172353,1297691,105.94011754756781,null,30337.124469109578,2790,83140.822218999965,6.7874004511723527,13171.28,null,0,null,29.999999999999996,null,685,"Hawlemont                    ",1,9,1224928.79,658555,639136]
[690,"King Philip                  ",1,22968588.71954523,7592980,null,7592980,23039431.891749997,18363116,4676316,0,19.84,2121.9999999787801,2058,0,null,null,null,null,null,null,3,61740,61740,null,null,null,null,null,null,null,null,7592980,7654720,0,7654720,0,null,7654720,33.224430341709152,26017836,112.92741992182765,null,70843.172204766423,61740,3083696.7126768008,13.384430341709152,11195.06,null,0,null,30,null,690,"King Philip                  ",1,3,23039431.891749997,18363116,7654720]
[695,"Lincoln Sudbury              ",1,17865441.864525706,3127363,null,3127363,18119111.735439997,14948268,3170844,43481,17.5,1583,1568,1,null,null,null,null,null,null,2,47040,3559,null,null,null,null,null,null,null,null,3145999,3193039,18636,3193039,0,null,3193039,17.622491911425158,18141307,100.12249642744125,null,253669.87091429159,65676,22194.446298000868,0.1224919114251577,11555.56,null,0,null,41.885204081632651,null,695,"Lincoln Sudbury              ",1,2,18119111.735439997,14948268,3193039]
[698,"Manchester Essex",1,14371784.479899097,3048668,null,3048668,14665498.602929998,12051364,2614135,0,17.5,1364,1349,0,null,null,null,null,null,null,2,40470,40470,null,null,null,null,null,null,null,null,3048668,3089138,0,3089138,0,null,3089138,21.063982095929735,15140502,103.23891747516242,null,293714.12303090096,40470,522675.74448725069,3.5639820959297346,10871.39,null,0,null,30,null,698,"Manchester Essex",1,2,{"$f":"H392","v":14665498.602929998},{"$f":"I392","v":12051364},{"$f":"AM392","v":3089138}]
[700,"Marthas Vineyard             ",1,9542318.3659465611,2875680,null,2875680,10630207.949999997,8535388,2094820,0,{"$f":"ROUND(100-SUMIF(fraclea,A393,memeffpct),2)","v":17.510000000000002},676.99999999322995,711,0,null,null,null,null,null,null,6,21330,21330,null,null,null,null,null,null,null,null,2875680,2897010,0,2897010,0,null,2897010,27.252618327188987,11432398,107.5463250932923,null,1087889.5840534363,21330,1035660.5879550003,9.7426183271889855,14951.07,null,0,null,30,null,700,"Marthas Vineyard             ",1,6,10630207.949999997,8535388,2897010]
[705,"Masconomet                   ",1,19848020.362871911,5201349,null,5201349,{"$f":"SUMIF(dist1755,A394,found1755)","v":19908037.67932},{"$f":"SUMIF(dist1755,A394,prelcont1755)","v":16255824},{"$f":"ROUND(MAX(found-prelcont436,0),0)","v":3652214},{"$f":"IF(foundaid>priorc70,foundaid-priorc70,0)","v":0},17.5,1835,{"$f":"SUMIF(dist1755,A394,enro1755)","v":1777},{"$f":"IF(AND(C394=1,K394>0),1,0)","v":0},null,null,null,null,null,null,2,{"$f":"IF(nonop=1,enro*$W$6,0)","v":53310},{"$f":"IF((foundinc)<W394,W394-(foundinc),0)","v":53310},null,null,null,null,null,null,null,null,5201349,{"$f":"AG394+30*enro","v":5254659},{"$f":"IF(AH394-priorc70-foundinc-minaid>0,AH394-priorc70-foundinc-minaid,0)","v":0},{"$f":"priorc70+foundinc+minaidadjincrement+minaid","v":5254659},{"$f":"IF(AND(C394=0,AJ394>found),AJ394-found,0)","v":0},null,{"$f":"priorc70+foundinc+minaidadjincrement+minaid-rednonop","v":5254659},{"$f":"IF(C394=1, AM394/H394*100, 0)","v":26.394660712634753},{"$f":"prelcont436+chapter70","v":21510483},{"$f":"IF(found>0,AO394*100/found,0)","v":108.04923793340306},null,{"$f":"H394-D394","v":60017.316448088735},{"$f":"AM394-G394","v":53310},{"$f":"AM394-((L394/100)*H394)","v":1770752.4061190002},{"$f":"IF(C394=1, (AM394/H394*100)-L394, \"\")","v":8.894660712634753},{"$f":"IFERROR(ROUND(H394/N394, 2), 0)","v":11203.17},null,{"$f":"VLOOKUP(A394, disthist, 37, FALSE)*$G$6","v":0},null,{"$f":"IFERROR(AS394/N394, 0)","v":30},null,{"$f":"A394","v":705},{"$f":"B394","v":"Masconomet                   "},{"$f":"C394","v":1},2,19908037.67932,16255824,5254659]
[710,"Mendon Upton                 ",1,22449446.899046388,12448756,null,{"$f":"E395","v":12448756},22969901.479999997,16850183,6119718,0,22.94,2201,2177,0,null,null,null,null,null,null,3,65310,65310,null,null,null,null,null,null,null,null,12448756,12514066,0,12514066,0,null,12514066,54.480277204915559,29364249,127.8379405569832,null,520454.5809536092,65310,7244770.6004880005,31.540277204915558,10551.17,null,0,null,30,null,710,"Mendon Upton                 ",1,{"$f":"V395","v":3},22969901.479999997,16850183,12514066]
[712,"Monomoy",1,20829711.826521438,3798314,null,3798314,21179594.459999997,17473165,3706429,0,17.5,1846,1795,0,null,null,null,null,null,null,6,53850,53850,null,null,null,null,null,null,null,null,3798314,3852164,0,3852164,0,null,3852164,18.188091406921114,21325329,100.68808937902583,null,349882.63347855955,53850,145734.96950000059,0.6880914069211137,11799.22,null,0,null,30,null,712,"Monomoy",1,6,21179594.459999997,17473165,3852164]
[715,"Mount Greylock               ",1,11569192.327752113,3554057,null,3554057,11577821.810000001,8656843,2920979,0,24.51,1083,1044,0,null,null,null,null,null,null,5,31320,31320,null,null,null,null,null,null,null,null,3554057,3585377,0,3585377,0,null,3585377,30.967629825700349,12242220,105.738542196479,null,8629.4822478871793,31320,747652.87436899962,6.4576298257003479,11089.87,null,0,null,30,null,715,"Mount Greylock               ",1,5,11577821.810000001,8656843,3585377]
[717,"Mohawk Trail                 ",1,10650334.810213417,6056894,null,6056894,10516084.06010516,6530236,3985848,0,36.590000000000003,930.00000000000011,901.00000000900991,0,null,null,null,null,null,null,7,27030.000000270298,27030.000000270298,null,null,null,null,null,null,null,null,6056894,6083924.0000002701,0,6083924.0000002701,0,null,6083924.0000002701,57.853512440822307,12614160.00000027,119.95111419710474,null,-134250.75010825694,27030.000000270084,2236088.8424077914,21.263512440822304,11671.57,null,0,null,29.999999999999762,null,717,"Mohawk Trail                 ",1,7,10516084.06010516,6530236,6083924.0000002701]
[720,"Narragansett                 ",1,14647552.849426208,9951444,null,9951444,15391791.249999998,5911707,9480084,0,59.27,1290,1304,0,null,null,null,null,null,null,7,39120,39120,null,null,null,null,null,null,null,null,9951444,9990564,0,9990564,0,null,9990564,64.90839069819117,15902271,103.31657142244573,null,744238.40057379007,39120,867849.32612500153,5.6383906981911665,11803.52,null,0,null,30,null,720,"Narragansett                 ",1,7,15391791.249999998,5911707,9990564]
[725,"Nashoba                      ",1,32964566.540986888,7273744,null,7273744,33555649.422455564,26212781,7342868,69124,21.13,3121,3083.0000000308301,1,null,null,null,null,null,null,2,92490.000000924905,23366.000000924905,null,null,null,null,null,null,null,null,7273744,7366234.0000009248,0,7366234.0000009248,0,null,7366234.0000009248,21.952291571717915,33579015.000000924,100.06963232107714,null,591082.88146867603,92490.000000924803,275925.2770360643,0.82229157171791556,10884.09,null,0,null,29.999999999999968,null,725,"Nashoba                      ",1,2,33555649.422455564,26212781,7366234.0000009248]
[728,"New Salem Wendell            ",1,1230159.2284731646,688101,null,688101,1357544.49,652485,705059,16958,51.34,108,109,1,null,null,null,null,null,null,9,3270,0,null,null,null,null,null,null,null,null,688101,691371,0,705059,0,null,705059,51.936345747313226,1357544,99.999963905418667,null,127385.26152683538,16958,8095.6588339998852,0.59634574731322232,12454.54,null,0,null,155.57798165137615,null,728,"New Salem Wendell            ",1,9,1357544.49,652485,705059]
[730,"Northboro Southboro          ",1,16651310.611277679,3168064,null,3168064,16257680.750000004,13412586,2845095,0,17.5,1485,1415,0,null,null,null,null,null,null,2,42450,42450,null,null,null,null,null,null,null,null,3168064,3210514,0,3210514,0,null,3210514,19.747675264197813,16623100,102.24767145830438,null,-393629.86127767526,42450,365419.86874999944,2.247675264197813,11489.53,null,0,null,30,null,730,"Northboro Southboro          ",1,2,16257680.750000004,13412586,3210514]
[735,"North Middlesex              ",1,33435820.144966502,20393183,null,20393183,34458571.910000004,19249659,15208913,0,42.35,3153,3158,0,null,null,null,null,null,null,4,94740,94740,null,null,null,null,null,null,null,null,20393183,20487923,0,20487923,0,null,20487923,59.456680484353818,39737582,115.31987484503966,null,1022751.7650335021,94740,5894717.7961149979,17.106680484353816,10911.52,null,0,null,30,null,735,"North Middlesex              ",1,4,34458571.910000004,19249659,20487923]
[740,"Old Rochester                ",1,11988191.8913587,3043394,null,3043394,12193319.349878069,9202202,2991117,0,23.18,1108,1087.9999999891199,0,null,null,null,null,null,null,3,32639.999999673597,32639.999999673597,null,null,null,null,null,null,null,null,3043394,3076033.9999996736,0,3076033.9999996736,0,null,3076033.9999996736,25.227207717071998,12278235.999999674,100.69641947106432,null,205127.45851936936,32639.999999673571,249622.57469793689,2.0472077170719984,11207.09,null,0,null,29.999999999999975,null,740,"Old Rochester                ",1,3,12193319.349878069,9202202,3076033.9999996736]
[745,"Pentucket                    ",1,24330802.105539996,13182092,null,13182092,24832793.989999991,18152716,6680078,0,25.15,2359.9999999764,2338,0,null,null,null,null,null,null,3,70140,70140,null,null,null,null,null,null,null,null,13182092,13252232,0,13252232,0,null,13252232,53.365851644952201,31404948,126.46562449898539,null,501991.88445999473,70140,7006784.3115150025,28.215851644952203,10621.38,null,0,null,30,null,745,"Pentucket                    ",1,3,24832793.989999991,18152716,13252232]
[750,"Pioneer                      ",1,7528912.3458293099,4170581,null,4170581,7674297.2100000009,5049626,2624671,0,33.340000000000003,688,664,0,null,null,null,null,null,null,6,19920,19920,null,null,null,null,null,null,null,null,4170581,4190501,0,4190501,0,null,4190501,54.604361615543937,9240127,120.40355940293325,null,145384.864170691,19920,1631890.3101859996,21.264361615543933,11557.68,null,0,null,30,null,750,"Pioneer                      ",1,6,7674297.2100000009,5049626,4190501]
[753,"Quabbin                      ",1,21665640.411876366,16646098,null,16646098,22373589.159999996,10840933,11532656,0,50.69,1955.99999998044,1941.0000000000002,0,null,null,null,null,null,null,6,58230.000000000007,58230.000000000007,null,null,null,null,null,null,null,null,16646098,16704328,0,16704328,0,null,16704328,74.66092221745258,27545261,123.1150746669025,null,707948.74812363088,58230,5363155.6547960006,23.970922217452582,11526.84,null,0,null,29.999999999999996,null,753,"Quabbin                      ",1,6,22373589.159999996,10840933,16704328]
[755,"Ralph C Mahar                ",1,7772179.2052953094,5432010,null,5432010,8106398.9100000011,2771313,5335086,0,64.239999999999995,606,620,0,null,null,null,null,null,null,9,18600,18600,null,null,null,null,null,null,null,null,5432010,5450610,0,5450610,0,null,5450610,67.238363921076754,8221923,101.42509752212526,null,334219.70470469166,18600,243059.34021599963,2.9983639210767592,13074.84,null,0,null,30,null,755,"Ralph C Mahar                ",1,9,8106398.9100000011,2771313,5450610]
[760,"Silver Lake                  ",1,20683221.322407395,8215063,null,8215063,21109360.843520004,13375454,7733907,0,34.909999999999997,1726.9999999827301,1722,0,null,null,null,null,null,null,4,51660,51660,null,null,null,null,null,null,null,null,8215063,8266723,0,8266723,0,null,8266723,39.161408349972177,21642177,102.5240752689277,null,426139.52111260965,51660,897445.12952716742,4.2514083499721806,12258.63,null,0,null,30,null,760,"Silver Lake                  ",1,4,21109360.843520004,13375454,8266723]
[763,"Somerset Berkley",1,11820562.719098523,5723131,null,5723131,12447605.220000003,6304771,6142834,419703,44.89,1012,1027,1,null,null,null,null,null,null,4,30810,0,null,null,null,null,null,null,null,null,6021342,6052152,0,6142834,0,null,6142834,49.349524598756503,12447605,99.999998232591736,null,627042.50090147927,419703,555104.01674199849,4.4595245987565022,12120.36,null,0,null,408.66893865628043,null,763,"Somerset Berkley",1,4,12447605.220000003,6304771,6142834]
[765,"Southern Berkshire           ",1,7823768.9358960092,1986791,null,1986791,7939446.1600000001,6321860,1617586,0,17.5,667.99999999331999,671,0,null,null,null,null,null,null,7,20130,20130,null,null,null,null,null,null,null,null,1986791,2006921,0,2006921,0,null,2006921,25.277846332797598,8328781,104.90380351669265,null,115677.22410399094,20130,617517.92200000002,7.7778463327975977,11832.26,null,0,null,30,null,765,"Southern Berkshire           ",1,7,7939446.1600000001,6321860,2006921]
[766,"Southwick Tolland Granville",1,16378978.109002503,9846558,null,9846558,16724601.619999999,11319689,5404913,0,32.32,1429.9999999856998,1415,0,null,null,null,null,null,null,5,42450,42450,null,null,null,null,null,null,null,null,9846558,9889008,0,9889008,0,null,9889008,59.128511546572796,21208697,126.81137334020397,null,345623.51099749655,42450,4483616.7564160004,26.808511546572795,11819.51,null,0,null,30,null,766,"Southwick Tolland Granville",1,5,16724601.619999999,11319689,9889008]
[767,"Spencer East Brookfield      ",1,18497944.461317483,13695254,null,13695254,18872938.700000003,8853897,10019042,0,49.33,1554,1555,0,null,null,null,null,null,null,8,46650,46650,null,null,null,null,null,null,null,null,13695254,13741904,0,13741904,0,null,13741904,72.812741133949615,22595801,119.72592800293468,null,374994.23868251964,46650,4431883.3392899986,23.482741133949617,12136.94,null,0,null,30,null,767,"Spencer East Brookfield      ",1,8,18872938.700000003,8853897,13741904]
[770,"Tantasqua                    ",1,19884199.797400139,9222853,null,9222853,20456169.859999999,10941721,9514449,291596,44.67,1590,1574,1,null,null,null,null,null,null,5,47220,0,null,null,null,null,null,null,null,null,9302792,9350012,0,9514449,0,null,9514449,46.511390280369916,20456170,100.0000006843901,null,571970.06259986013,291596,376677.92353799939,1.8413902803699145,12996.3,null,0,null,185.25794155019059,null,770,"Tantasqua                    ",1,5,20456169.859999999,10941721,9514449]
[773,"Triton                       ",1,25527954.966463432,8777631,null,8777631,26303671.749279998,21700530,4603142,0,17.5,2307,2290,0,null,null,null,null,null,null,5,68700,68700,null,null,null,null,null,null,null,null,8777631,8846331,0,8846331,0,null,8846331,33.631544235804824,30546861,116.13154730322449,null,775716.78281656653,68700,4243188.4438760011,16.131544235804824,11486.32,null,0,null,30,null,773,"Triton                       ",1,5,26303671.749279998,21700530,8846331]
[774,"Upisland",1,4538258.3027917985,879292,null,879292,4427836.9699557209,3652965,774872,0,17.489999999999998,428,400.99999999598992,0,null,null,null,null,null,null,5,12029.999999879697,12029.999999879697,null,null,null,null,null,null,null,null,879292,891321.99999987974,4.5474735088646412E-11,891321.99999987974,0,null,891321.99999987974,20.129964270314883,4544286.9999998799,102.62995297329846,null,-110421.33283607755,12029.999999879743,116893.31395462423,2.6399642703148842,11041.99,null,0,null,30.000000000000114,null,774,"Upisland",1,5,4427836.9699557209,3652965,891321.99999987974]
[775,"Wachusett                    ",1,71271709.733221024,28647835,null,28647835,74606471.52925393,44637453,29969019,1321184,38.69,6921.0000000692107,7025.9999999297406,1,null,null,null,null,null,null,3,210779.99999789221,0,null,null,null,null,null,null,null,null,29588350,29799129.999997891,0,29969019,0,null,29969019,40.16946303143267,74606472,100.00000063097217,null,3334761.7960329056,1321184,1103775.165331658,1.4794630314326724,10618.63,null,0,null,188.0421292361531,null,775,"Wachusett                    ",1,3,74606471.52925393,44637453,29969019]
[778,"Quaboag",1,14192752.457797423,9158560,null,9158560,14654089.670000002,5638400,9015690,0,60.8,1211,1175,0,null,null,null,null,null,null,9,35250,35250,null,null,null,null,null,null,null,null,9158560,9193810,0,9193810,0,null,9193810,62.738868172900972,14832210,101.21549911329291,null,461337.21220257878,35250,284123.48063999973,1.9388681729009747,12471.57,null,0,null,30,null,778,"Quaboag",1,9,14654089.670000002,5638400,9193810]
[780,"Whitman Hanson               ",1,39870087.686414868,24776700,null,24776700,40719547.039999999,20445256,20274291,0,46.23,3708,3664,0,null,null,null,null,null,null,5,109920,109920,null,null,null,null,null,null,null,null,24776700,24886620,0,24886620,0,null,24886620,61.117133684107891,45331876,111.32706352423119,null,849459.35358513147,109920,6061973.4034080021,14.887133684107894,11113.41,null,0,null,30,null,780,"Whitman Hanson               ",1,5,40719547.039999999,20445256,24886620]
[801,"Assabet Valley               ",1,15341279.497413153,5955175,null,5955175,16325887.776800001,10068779,6257109,301934,36.24,839.99999999160002,847,1,null,null,null,null,null,null,7,25410,0,null,null,null,null,null,null,null,null,5975146,6000556,0,6257109,0,null,6257109,38.326301672192685,16325888,100.00000136715383,null,984608.27938684821,301934,340607.2696876796,2.0863016721926826,19274.96,null,0,null,356.47461629279809,null,801,"Assabet Valley               ",1,7,16325887.776800001,10068779,6257109]
[805,"Blackstone Valley            ",1,20173355.695973717,8264744,null,8264744,20901337.999790985,12576061,8325277,60533,37.82,1247.0000000249397,1241.9999999875804,1,null,null,null,null,null,null,3,37259.999999627413,0,null,null,null,null,null,null,null,null,8264744,8302003.9999996275,0,8325277,0,null,8325277,39.831311278173928,20901338,100.000000001,null,727982.30381726846,60533,420390.96847904939,2.0113112781739275,16828.77,null,0,null,48.738325282290909,null,805,"Blackstone Valley            ",1,3,20901337.999790985,12576061,8325277]
[806,"Blue Hills                   ",1,15320678.136437576,5255709,null,5255709,16413148.760884134,10715098,5698051,442342,32.32,863.99999999136003,869.00000000868999,1,null,null,null,null,null,null,7,26070.000000260701,0,null,null,null,null,null,null,null,null,5353407,5379477.0000002608,0,5698051,0,null,5698051,34.716379428544585,16413149,100.00000145685553,null,1092470.6244465578,442342,393321.32048224844,2.3963794285445843,18887.400000000001,null,0,null,509.02416570261977,null,806,"Blue Hills                   ",1,7,16413148.760884134,10715098,5698051]
[810,"Bristol Plymouth             ",1,22657735.468634516,12043180,null,12043180,24044853.990000002,11467788,12577066,533886,50.93,1339.9999999866,1342,1,null,null,null,null,null,null,7,40260,0,null,null,null,null,null,null,null,null,12083659,12123919,0,12577066,0,null,12577066,52.306684853360586,24044854,100.00000004158893,null,1387118.5213654861,533886,331021.86289300025,1.3766848533605867,17917.18,null,0,null,397.82861400894188,null,810,"Bristol Plymouth             ",1,7,24044853.990000002,11467788,12577066]
[815,"Cape Cod                     ",1,10322933.41173223,2184147,null,2184147,11626316.350000001,9414969,2211347,27200,17.5,575.00000000574994,622.00000000000011,1,null,null,null,null,null,null,9,18660.000000000004,0,null,null,null,null,null,null,null,null,2184147,2202807,0,2211347,0,null,2211347,19.020186045427877,11626316,99.999996989588183,null,1303382.9382677712,27200,176741.63874999993,1.5201860454278773,18691.830000000002,null,0,null,43.729903536977481,null,815,"Cape Cod                     ",1,9,11626316.350000001,9414969,2211347]
[817,"Essex North Shore",1,18580518.657194056,4752081,null,4752081,21009943.870210104,15658587,5351357,599276,{"$f":"ROUND(100-SUMIF(fraclea,A425,memeffpct),2)","v":23.53},1110.0000000333002,1165.0000000116499,1,null,null,null,null,null,null,6,34950.000000349501,0,null,null,null,null,null,null,null,null,4941299,4976249.0000003492,0,5351357,0,null,5351357,25.47059160680416,21009944,100.00000061775461,null,2429425.2130160481,599276,407717.20733956248,1.9405916068041584,18034.29,null,0,null,514.39999999485599,null,817,"Essex North Shore",1,6,21009943.870210104,15658587,5351357]
[818,"Franklin County              ",1,8190176.2362149609,3974409,null,3974409,9073918.4598185197,4683722,4390196,415787,47.49,463,484.99999999029995,1,null,null,null,null,null,null,9,14549.999999708998,0,null,null,null,null,null,null,null,null,4231671,4246220.9999997094,0,4390196,0,null,4390196,48.3825815654046,9073918,99.999994932525325,null,883742.22360355873,415787,80992.12343218457,0.89258156540459765,18709.11,null,0,null,857.29278352230062,null,818,"Franklin County              ",1,9,9073918.4598185197,4683722,4390196]
[821,"Greater Fall River           ",1,25634449.811339363,17516885,null,17516885,28096488.699999996,8735508,19360981,1844096,65.349999999999994,1464,1498,1,null,null,null,null,null,null,9,44940,0,null,null,null,null,null,null,null,null,18108305,18153245,0,19360981,0,null,19360981,68.908898925864719,28096489,100.0000010677491,null,2462038.8886606321,1844096,999925.6345500052,3.5588989258647246,18756,null,0,null,1231.0387182910547,null,821,"Greater Fall River           ",1,9,28096488.699999996,8735508,19360981]
[823,"Greater Lawrence             ",1,31698687.99088544,27096714,null,27096714,34191040.528240003,4943092,29247949,2151235,78.260000000000005,1577.9999999999998,1594,1,null,null,null,null,null,null,11,47820,0,null,null,null,null,null,null,null,null,27946113,27993933,0,29247949,0,null,29247949,85.542728586580253,34191041,100.00000137977666,null,2492352.5373545624,2151235,2490040.6825993732,7.282728586580248,21449.84,null,0,null,1349.5828105395233,null,823,"Greater Lawrence             ",1,11,34191040.528240003,4943092,29247949]
[825,"Greater New Bedford          ",1,38180025.886437774,26940155,null,26940155,40571729.070000008,11821602,28750127,1809972,66.78,2140,2128,1,null,null,null,null,null,null,10,63840,0,null,null,null,null,null,null,null,null,27232518,27296358,0,28750127,0,null,28750127,70.86246423068701,40571729,99.999999827466041,null,2391703.183562234,1809972,1656326.3270539939,4.0824642306870089,19065.66,null,0,null,850.55075187969919,null,825,"Greater New Bedford          ",1,10,40571729.070000008,11821602,28750127]
[828,"Greater Lowell               ",1,42372428.797708727,28831510,null,28831510,45288316.239547119,14281422,31006894,2175384,65.39,2336,2351.99999997648,1,null,null,null,null,null,null,10,70559.999999294407,0,null,null,null,null,null,null,null,null,29467493,29538052.999999296,0,31006894,0,null,31006894,68.465548235427335,45288316,99.999999471061997,null,2915887.4418383911,2175384,1392864.0109601393,3.075548235427334,19255.240000000002,null,0,null,924.90816327455525,null,828,"Greater Lowell               ",1,10,45288316.239547119,14281422,31006894]
[829,"South Middlesex              ",1,13895820.049220048,5327429,null,5327429,15934191.830530001,9434475,6499717,1172288,38.58,745.9999999925401,796.99999999999989,1,null,null,null,null,null,null,10,23909.999999999996,0,null,null,null,null,null,null,null,null,6157409,6181319,0,6499717,0,null,6499717,40.791005085971825,15934192,100.00000106356194,null,2038371.781309953,1172288,352305.79178152606,2.2110050859718271,19992.71,null,0,null,1470.8757841907154,null,829,"South Middlesex              ",1,10,15934191.830530001,9434475,6499717]
[830,"Minuteman                    ",1,6695949.827739303,2096043,null,2096043,9033196.8371303342,7033131,2000066,0,19.22,363.99999999636009,453.00000000452997,0,null,null,null,null,null,null,7,13590.000000135899,13590.000000135899,null,null,null,null,null,null,null,null,2096043,2109633.000000136,7.4578565545380116E-11,2109633.000000136,0,null,2109633.000000136,23.354223737587944,9142764.000000136,101.21293895002303,null,2337247.0093910312,13590.000000135973,373452.56790368585,4.1342237375879449,19940.830000000002,null,0,null,30.000000000000163,null,830,"Minuteman                    ",1,7,9033196.8371303342,7033131,2109633.000000136]
[832,"Montachusett                 ",1,25030257.115778331,15425797,null,15425797,25602266.460256021,9946149,15656117,230320,58.98,1473.99999998526,1452.0000000145203,1,null,null,null,null,null,null,6,43560.000000435612,0,null,null,null,null,null,null,null,null,15425797,15469357.000000436,0,15656117,0,null,15656117,61.151293086898995,25602266,99.999998202284075,null,572009.34447769076,230320,555900.24174099788,2.1712930868989986,17632.41,null,0,null,158.62258953009419,null,832,"Montachusett                 ",1,6,25602266.460256021,9946149,15656117]
[851,"Northern Berkshire           ",1,7897883.8046400165,4829906,null,4829906,8365758.7899999991,3203871,5161888,331982,60.54,448.99999999999994,461.00000000000006,1,null,null,null,null,null,null,7,13830.000000000002,0,null,null,null,null,null,null,null,null,5057737,5071567,0,5161888,0,null,5161888,61.702567926895732,8365759,100.00000251023256,null,467874.98535998259,331982,97257.628534001298,1.1625679268957327,18146.98,null,0,null,720.13449023861165,null,851,"Northern Berkshire           ",1,7,8365758.7899999991,3203871,5161888]
[852,"Nashoba Valley               ",1,10895286.797909893,3717284,null,3717284,11629853.9974337,8178405,3451449,0,28.13,638.99999999361,653.99999999346005,0,null,null,null,null,null,null,5,19619.9999998038,19619.9999998038,null,null,null,null,null,null,null,null,3717284,3736903.999999804,1.5643308870494366E-10,3736903.999999804,0,null,3736903.999999804,32.131994097470248,11915308.999999804,102.45450203097214,null,734567.19952380657,19619.999999803957,465426.07052170439,4.0019940974702486,17782.650000000001,null,0,null,30.000000000000238,null,852,"Nashoba Valley               ",1,5,11629853.9974337,8178405,3736903.999999804]
[853,"Northeast Metropolitan       ",1,22663144.184447043,10565448,null,10565448,24918157.590349998,13390249,11527909,962461,{"$f":"ROUND(100-SUMIF(fraclea,A436,memeffpct),2)","v":43.35},1241.9999999875799,1271,1,null,null,null,null,null,null,9,38130,0,null,null,null,null,null,null,null,null,10682506,10720636,0,11527909,0,null,11527909,46.2630873017048,24918158,100.0000016439819,null,2255013.4059029557,962461,725887.68458327651,2.9130873017047989,19605.16,null,0,null,757.24704956726987,null,853,"Northeast Metropolitan       ",1,9,24918157.590349998,13390249,11527909]
[855,"Old Colony                   ",1,7752983.70072567,3282354,null,3282354,8206815.169999999,4959336,3247479,0,36.630000000000003,465.00000000000006,467,0,null,null,null,null,null,null,5,14010,14010,null,null,null,null,null,null,null,null,3282354,3296364,0,3296364,0,null,3296364,40.166178130218576,8255700,100.59566139833025,null,453831.46927432902,14010,290207.60322900023,3.5361781302185733,17573.48,null,0,null,30,null,855,"Old Colony                   ",1,5,8206815.169999999,4959336,3296364]
[860,"Pathfinder                   ",1,10638203.377264135,6051178,null,6051178,10816571.179891834,4605407,6211164,159986,56.74,599.00000000000011,577.99999999422005,1,null,null,null,null,null,null,9,17339.999999826603,0,null,null,null,null,null,null,null,null,6051178,6068517.9999998268,0,6211164,0,null,6211164,57.422670240885999,10816571,99.999998336886705,null,178367.80262769945,159986,73841.512529373169,0.68267024088599726,18713.79,null,0,null,276.79238754602051,null,860,"Pathfinder                   ",1,9,10816571.179891834,4605407,6211164]
[871,"Shawsheen Valley             ",1,21756421.654655538,6470511,null,6470511,21885407.107218854,17588026,4297381,0,18.510000000000002,1305.0000000130501,1275.0000000127498,0,null,null,null,null,null,null,4,38250.00000038249,38250.00000038249,null,null,null,null,null,null,null,null,6470511,6508761.0000003828,2.8376234695315361E-10,6508761.0000003828,0,null,6508761.0000003828,29.740187002751629,24096787.000000384,110.10435804071521,null,128985.45256331563,38250.000000382774,2457772.1444541723,11.230187002751627,17165.03,null,0,null,30.00000000000022,null,871,"Shawsheen Valley             ",1,4,21885407.107218854,17588026,6508761.0000003828]
[872,"Southeastern                 ",1,26705365.084122326,16871155,null,16871155,28728045.779999997,10707438,18020608,1149453,60.2,1531.0000000153102,1516.9999999999998,1,null,null,null,null,null,null,10,45509.999999999993,0,null,null,null,null,null,null,null,null,16871155,16916665,0,18020608,0,null,18020608,62.728276535070329,28728046,100.00000076580218,null,2022680.6958776712,1149453,726324.44044000283,2.5282765350703258,18937.41,null,0,null,757.7145682267635,null,872,"Southeastern                 ",1,10,28728045.779999997,10707438,18020608]
[873,"South Shore                  ",1,10278115.468662532,4442848,null,4442848,9919137.7028300017,5624689,4294449,0,41.1,585,544,0,null,null,null,null,null,null,6,16320,16320,null,null,null,null,null,null,null,null,4442848,4459168,0,4459168,0,null,4459168,44.955198058474046,10083857,101.66062113567597,null,-358977.76583253033,16320,382402.40413686913,3.8551980584740448,18233.71,null,0,null,30,null,873,"South Shore                  ",1,6,9919137.7028300017,5624689,4459168]
[876,"Southern Worcester           ",1,19584275.952675201,11085613,null,11085613,20895330.689582095,9240066,11655265,569652,54.13,1160.9999999767801,1176.99999997646,1,null,null,null,null,null,null,6,35309.999999293803,0,null,null,null,null,null,null,null,null,11174171,11209480.999999294,0,11655265,0,null,11655265,55.779279941288664,20895331,100.00000148558503,null,1311054.7369068936,569652,344622.49772921205,1.6492799412886612,17753.04,null,0,null,483.98640612692697,null,876,"Southern Worcester           ",1,6,20895330.689582095,9240066,11655265]
[878,"Tri County                   ",1,17150334.906830095,5716838,null,5716838,17212205.050867882,12112831,5099374,0,28.63,980.99999999019008,929.99999999069996,0,null,null,null,null,null,null,6,27899.999999721,27899.999999721,null,null,null,null,null,null,null,null,5716838,5744737.9999997206,0,5744737.9999997206,0,null,5744737.9999997206,33.375956090588502,17857568.999999721,103.74945538485377,null,61870.144037786871,27899.999999720603,816883.69393624645,4.7459560905885034,18507.75,null,0,null,29.999999999999574,null,878,"Tri County                   ",1,6,17212205.050867882,12112831,5744737.9999997206]
[879,"Upper Cape Cod               ",1,12375568.23018039,3262258,null,3262258,13131766.09,9873379,3258387,0,24,734,742,0,null,null,null,null,null,null,6,22260,22260,null,null,null,null,null,null,null,null,3262258,3284518,0,3284518,0,null,3284518,25.012005068390614,13157897,100.19899006592799,null,756197.85981960967,22260,132894.13840000005,1.0120050683906143,17697.8,null,0,null,30,null,879,"Upper Cape Cod               ",1,6,13131766.09,9873379,3284518]
[885,"Whittier                     ",1,21419842.533375792,10204859,null,10204859,23040951.390000001,11688690,{"$f":"ROUND(MAX(found-prelcont436,0),0)","v":11352261},1147402,47.3,1243.9999999751201,1256.0000000000002,1,null,null,null,null,null,null,8,37680.000000000007,0,null,null,null,null,null,null,null,null,10809873,10847553,0,11352261,0,null,11352261,49.269931644085638,23040951,99.999998307361551,null,1621108.8566242084,1147402,453890.99252999946,1.9699316440856407,18344.71,null,0,null,913.53662420382148,null,885,"Whittier                     ",1,8,23040951.390000001,11688690,11352261]
[910,"Bristol County               ",1,6469200.7539703678,3238896,null,3238896,6670090.8600000013,3396091,3274000,35104,46.66,377.0000000150801,378,1,null,null,null,null,null,null,5,11340,0,null,null,null,null,null,null,null,null,3238896,3250236,0,3274000,0,null,3274000,49.084788629101212,6670091,100.00000209892191,null,200890.10602963343,35104,161735.60472399974,2.4247886291012151,17645.740000000002,null,0,null,92.867724867724874,null,910,"Bristol County               ",1,5,6670090.8600000013,3396091,3274000]
[915,"Norfolk County               ",1,4971875.5058426186,1291559,null,1291559,5000790.6137900082,3739503,1261288,0,23.39,278.00000000277998,274.00000000274008,0,null,null,null,null,null,null,3,8220.000000082202,8220.000000082202,null,null,null,null,null,null,null,null,1291559,1299779.0000000822,0,1299779.0000000822,0,null,1299779.0000000822,25.99147015705589,5039282.000000082,100.76970601616335,null,28915.107947389595,8220.0000000821892,{"$f":"AM447-((L447/100)*H447)","v":130094.0754345993},2.6014701570558891,18251.060000000001,null,0,null,29.99999999999995,null,915,"Norfolk County               ",1,3,5000790.6137900082,3739503,1299779.0000000822]
[999,"State total (excluding Devens)",null,{"$f":"SUM(D10:D447)","v":11359048511.850758},5175694094,{"$f":"SUM(F10:F447)","v":0},5175694094,11950816670.548943,6792593123,5158223548,290761055,41,939682.99999991094,{"$f":"SUM(N10:N447)","v":938120.99999991187},{"$f":"SUM(O10:O447)","v":143},{"$f":"SUM(P10:P447)","v":0},0,0,0,0,0,null,null,11928187.000000659,{"$f":"SUM(Y10:Y447)","v":0},null,{"$f":"SUM(AA10:AA447)","v":0},{"$f":"SUM(AB10:AB447)","v":0},{"$f":"SUM(AC10:AC447)","v":0},{"$f":"SUM(AD10:AD447)","v":0},{"$f":"SUM(AE10:AE447)","v":0},null,5280186135.5679731,5308329765.5679703,{"$f":"SUM(AI10:AI447)","v":906487.00000000105},5479289823.000001,{"$f":"SUM(AK10:AK447)","v":63840.610000000008},0,5479225982.3900013,0,{"$f":"SUM(AO10:AO447)","v":12271819105.389999},102.6860292789205,null,null,null,null,null,null,null,{"$f":"SUM(AX10:AX447)","v":0},null,null,null,999,"State total (excluding Devens)",null,null,11950816670.548943,6792593123,5479225982.3900013]
[352,"Devens",0,null,null,null,null,null,null,null,null,null,null,null,null,null,null,null,null,null,null,null,null,null,null,null,null,null,null,null,null,null,null,null,null,null,null,null,308558,null,null,null,null,null,null,{"$f":"SUMIF(AT10:AT447, \">0\")","v":579438199.45652521}]
[null,null,null,null,null,null,null,null,null,null,null,null,null,null,null,null,null,null,null,null,null,null,null,null,null,null,null,null,null,null,null,null,null,null,{"$f":"COUNTIF(AI10:AI447, \">0\")","v":64},null,null,null,{"$f":"AM448+AM449","v":5479534540.3900013},null,null,null,null,null,null,{"$f":"SUMIF(AT10:AT447, \"<0\")","v":-445.90863591275047}]
[null,null,null,null,null,null,null,null,null,null,{"$f":"COUNTIF(K10:K447, \">0\")","v":163}]

{"sheet":"ceyregionalcalc","index":14,"n_rows":814,"n_cols":8,"rows_kept":814,"cut":false,"hidden":true,"merged":[]}
[null,null,null,null,null,"Total CEY for town","FB for school district/town combo","CEY*% of town's fb"]
["Calculation of CEY as a % of Foundation"]
[]
[]
[]
[]
[null,null,null,null,null,{"$f":"CYr&\" Total\"","v":"FY21 Total"},{"$f":"CYr&\" Proportional\"","v":"FY21 Proportional"},{"$f":"CYr&\" Prop\"","v":"FY21 Prop"}]
[null,null,null,null,null,"CEY","Foundation","CEY"]
["Order","LEA","City or Town","LEA","School District","Members","Members","Members"]
[1,1,"Abington                     ",1,"Abington",{"$f":"VLOOKUP(B10, town351, 7)","v":16711533},{"$f":"VLOOKUP(A10, localcont!$D$10:$L$1764, 8)","v":25403702.406400003},{"$f":"VLOOKUP(A10, localcont!$D$10:$L$1764, 9)*F10","v":15756292.020865142}]
[2,1,"Abington                     ",873,"South Shore",16711533,{"$f":"VLOOKUP(A11, localcont!$D$10:$L$1764, 8)","v":1540124.8928494828},{"$f":"VLOOKUP(A11, localcont!$D$10:$L$1764, 9)*F11","v":955240.97913485812}]
[6,2,"Acton                        ",2,"Acton",40416470,{"$f":"VLOOKUP(A12, localcont!$D$10:$L$1764, 8)","v":0},{"$f":"VLOOKUP(A12, localcont!$D$10:$L$1764, 9)*F12","v":0}]
[7,2,"Acton                        ",600,"Acton Boxborough",40416470,{"$f":"VLOOKUP(A13, localcont!$D$10:$L$1764, 8)","v":48847617.73973459},{"$f":"VLOOKUP(A13, localcont!$D$10:$L$1764, 9)*F13","v":39680873.161205322}]
[8,2,"Acton                        ",830,"Minuteman",40416470,{"$f":"VLOOKUP(A14, localcont!$D$10:$L$1764, 8)","v":905528.28931015625},{"$f":"VLOOKUP(A14, localcont!$D$10:$L$1764, 9)*F14","v":735596.83879467694}]
[11,3,"Acushnet                     ",3,"Acushnet",9536139,{"$f":"VLOOKUP(A15, localcont!$D$10:$L$1764, 8)","v":14140972.610000001},{"$f":"VLOOKUP(A15, localcont!$D$10:$L$1764, 9)*F15","v":8135022.2451790683}]
[12,3,"Acushnet                     ",855,"Old Colony",9536139,{"$f":"VLOOKUP(A16, localcont!$D$10:$L$1764, 8)","v":2259080.3048249166},{"$f":"VLOOKUP(A16, localcont!$D$10:$L$1764, 9)*F16","v":1299604.2804298033}]
[13,3,"Acushnet                     ",910,"Bristol County",9536139,{"$f":"VLOOKUP(A17, localcont!$D$10:$L$1764, 8)","v":176457.43019190419},{"$f":"VLOOKUP(A17, localcont!$D$10:$L$1764, 9)*F17","v":101512.4743911284}]
[16,4,"Adams                        ",4,"Adams",4804872,{"$f":"VLOOKUP(A18, localcont!$D$10:$L$1764, 8)","v":0},{"$f":"VLOOKUP(A18, localcont!$D$10:$L$1764, 9)*F18","v":0}]
[17,4,"Adams                        ",603,"Hoosac Valley",4804872,{"$f":"VLOOKUP(A19, localcont!$D$10:$L$1764, 8)","v":11176690.057308603},{"$f":"VLOOKUP(A19, localcont!$D$10:$L$1764, 9)*F19","v":3909788.4471104466}]
[18,4,"Adams                        ",851,"Northern Berkshire",4804872,{"$f":"VLOOKUP(A20, localcont!$D$10:$L$1764, 8)","v":2558724.4889003388},{"$f":"VLOOKUP(A20, localcont!$D$10:$L$1764, 9)*F20","v":895083.55288955313}]
[21,5,"Agawam                       ",5,"Agawam",24057107,{"$f":"VLOOKUP(A21, localcont!$D$10:$L$1764, 8)","v":42702195.18},{"$f":"VLOOKUP(A21, localcont!$D$10:$L$1764, 9)*F21","v":24057107}]
[26,6,"Alford                       ",6,"Alford",1315095,{"$f":"VLOOKUP(A22, localcont!$D$10:$L$1764, 8)","v":0},{"$f":"VLOOKUP(A22, localcont!$D$10:$L$1764, 9)*F22","v":0}]
[27,6,"Alford                       ",765,"Southern Berkshire",1315095,{"$f":"VLOOKUP(A23, localcont!$D$10:$L$1764, 8)","v":251682.7312615944},{"$f":"VLOOKUP(A23, localcont!$D$10:$L$1764, 9)*F23","v":1315095}]
[31,7,"Amesbury                     ",7,"Amesbury",18491028,{"$f":"VLOOKUP(A24, localcont!$D$10:$L$1764, 8)","v":22825386.480000004},{"$f":"VLOOKUP(A24, localcont!$D$10:$L$1764, 9)*F24","v":17179361.989457332}]
[32,7,"Amesbury                     ",885,"Whittier",18491028,{"$f":"VLOOKUP(A25, localcont!$D$10:$L$1764, 8)","v":1742747.1195780963},{"$f":"VLOOKUP(A25, localcont!$D$10:$L$1764, 9)*F25","v":1311666.0105426698}]
[36,8,"Amherst                      ",8,"Amherst",20834566,{"$f":"VLOOKUP(A26, localcont!$D$10:$L$1764, 8)","v":13098312.059999999},{"$f":"VLOOKUP(A26, localcont!$D$10:$L$1764, 9)*F26","v":10184497.544373127}]
[37,8,"Amherst                      ",605,"Amherst Pelham",20834566,{"$f":"VLOOKUP(A27, localcont!$D$10:$L$1764, 8)","v":13697084.169776717},{"$f":"VLOOKUP(A27, localcont!$D$10:$L$1764, 9)*F27","v":10650068.45562687}]
[41,9,"Andover                      ",9,"Andover",76083439,{"$f":"VLOOKUP(A28, localcont!$D$10:$L$1764, 8)","v":64773743.400639996},{"$f":"VLOOKUP(A28, localcont!$D$10:$L$1764, 9)*F28","v":75285651.557757199}]
[42,9,"Andover                      ",823,"Greater Lawrence",76083439,{"$f":"VLOOKUP(A29, localcont!$D$10:$L$1764, 8)","v":686394.79107706959},{"$f":"VLOOKUP(A29, localcont!$D$10:$L$1764, 9)*F29","v":797787.44224279665}]
[46,10,"Arlington                    ",10,"Arlington",80878987,{"$f":"VLOOKUP(A30, localcont!$D$10:$L$1764, 8)","v":65991012.938580006},{"$f":"VLOOKUP(A30, localcont!$D$10:$L$1764, 9)*F30","v":77135669.811650962}]
[47,10,"Arlington                    ",830,"Minuteman",80878987,{"$f":"VLOOKUP(A31, localcont!$D$10:$L$1764, 8)","v":3202478.0962262289},{"$f":"VLOOKUP(A31, localcont!$D$10:$L$1764, 9)*F31","v":3743317.1883490472}]
[51,11,"Ashburnham                   ",11,"Ashburnham",5765696,{"$f":"VLOOKUP(A32, localcont!$D$10:$L$1764, 8)","v":0},{"$f":"VLOOKUP(A32, localcont!$D$10:$L$1764, 9)*F32","v":0}]
[52,11,"Ashburnham                   ",610,"Ashburnham Westminster",5765696,{"$f":"VLOOKUP(A33, localcont!$D$10:$L$1764, 8)","v":11412468.883593788},{"$f":"VLOOKUP(A33, localcont!$D$10:$L$1764, 9)*F33","v":5232167.342486755}]
[53,11,"Ashburnham                   ",832,"Montachusett",5765696,{"$f":"VLOOKUP(A34, localcont!$D$10:$L$1764, 8)","v":1163739.3844290806},{"$f":"VLOOKUP(A34, localcont!$D$10:$L$1764, 9)*F34","v":533528.65751324501}]
[56,12,"Ashby                        ",12,"Ashby",2783098,{"$f":"VLOOKUP(A35, localcont!$D$10:$L$1764, 8)","v":0},{"$f":"VLOOKUP(A35, localcont!$D$10:$L$1764, 9)*F35","v":0}]
[57,12,"Ashby                        ",735,"North Middlesex",2783098,{"$f":"VLOOKUP(A36, localcont!$D$10:$L$1764, 8)","v":3896908.1634689933},{"$f":"VLOOKUP(A36, localcont!$D$10:$L$1764, 9)*F36","v":2402608.4977701446}]
[58,12,"Ashby                        ",832,"Montachusett",2783098,{"$f":"VLOOKUP(A37, localcont!$D$10:$L$1764, 8)","v":617134.52222028549},{"$f":"VLOOKUP(A37, localcont!$D$10:$L$1764, 9)*F37","v":380489.5022298551}]
[61,13,"Ashfield                     ",13,"Ashfield",1642745,{"$f":"VLOOKUP(A38, localcont!$D$10:$L$1764, 8)","v":119637.19999999998},{"$f":"VLOOKUP(A38, localcont!$D$10:$L$1764, 9)*F38","v":104967.97288514582}]
[62,13,"Ashfield                     ",717,"Mohawk Trail",1642745,{"$f":"VLOOKUP(A39, localcont!$D$10:$L$1764, 8)","v":1752680.6767017203},{"$f":"VLOOKUP(A39, localcont!$D$10:$L$1764, 9)*F39","v":1537777.0271148542}]
[66,14,"Ashland                      ",14,"Ashland",23782755,{"$f":"VLOOKUP(A40, localcont!$D$10:$L$1764, 8)","v":30521117.440000001},{"$f":"VLOOKUP(A40, localcont!$D$10:$L$1764, 9)*F40","v":22983814.350681882}]
[67,14,"Ashland                      ",829,"South Middlesex",23782755,{"$f":"VLOOKUP(A41, localcont!$D$10:$L$1764, 8)","v":1060944.9333941708},{"$f":"VLOOKUP(A41, localcont!$D$10:$L$1764, 9)*F41","v":798940.64931811928}]
[71,15,"Athol                        ",15,"Athol",6270700,{"$f":"VLOOKUP(A42, localcont!$D$10:$L$1764, 8)","v":0},{"$f":"VLOOKUP(A42, localcont!$D$10:$L$1764, 9)*F42","v":0}]
[72,15,"Athol                        ",615,"Athol Royalston",6270700,{"$f":"VLOOKUP(A43, localcont!$D$10:$L$1764, 8)","v":20391354.860506494},{"$f":"VLOOKUP(A43, localcont!$D$10:$L$1764, 9)*F43","v":5739650.5717719467}]
[73,15,"Athol                        ",832,"Montachusett",6270700,{"$f":"VLOOKUP(A44, localcont!$D$10:$L$1764, 8)","v":1886668.3962825679},{"$f":"VLOOKUP(A44, localcont!$D$10:$L$1764, 9)*F44","v":531049.42822805303}]
[76,16,"Attleboro                    ",16,"Attleboro",39456791,{"$f":"VLOOKUP(A45, localcont!$D$10:$L$1764, 8)","v":80907585.420000002},{"$f":"VLOOKUP(A45, localcont!$D$10:$L$1764, 9)*F45","v":39251336.150606014}]
[77,16,"Attleboro                    ",910,"Bristol County",39456791,{"$f":"VLOOKUP(A46, localcont!$D$10:$L$1764, 8)","v":423497.83236718876},{"$f":"VLOOKUP(A46, localcont!$D$10:$L$1764, 9)*F46","v":205454.8493939905}]
[81,17,"Auburn                       ",17,"Auburn",16682054,{"$f":"VLOOKUP(A47, localcont!$D$10:$L$1764, 8)","v":27839076.359999999},{"$f":"VLOOKUP(A47, localcont!$D$10:$L$1764, 9)*F47","v":15776585.219937032}]
[82,17,"Auburn                       ",876,"Southern Worcester",16682054,{"$f":"VLOOKUP(A48, localcont!$D$10:$L$1764, 8)","v":1597773.7994857158},{"$f":"VLOOKUP(A48, localcont!$D$10:$L$1764, 9)*F48","v":905468.78006296686}]
[86,18,"Avon                         ",18,"Avon",5567981,{"$f":"VLOOKUP(A49, localcont!$D$10:$L$1764, 8)","v":7146096.0300000003},{"$f":"VLOOKUP(A49, localcont!$D$10:$L$1764, 9)*F49","v":4731751.3287708685}]
[87,18,"Avon                         ",806,"Blue Hills",5567981,{"$f":"VLOOKUP(A50, localcont!$D$10:$L$1764, 8)","v":1189906.0666569248},{"$f":"VLOOKUP(A50, localcont!$D$10:$L$1764, 9)*F50","v":787890.28140396008}]
[88,18,"Avon                         ",915,"Norfolk County",5567981,{"$f":"VLOOKUP(A51, localcont!$D$10:$L$1764, 8)","v":73004.242556426543},{"$f":"VLOOKUP(A51, localcont!$D$10:$L$1764, 9)*F51","v":48339.389825171726}]
[91,19,"Ayer                         ",19,"Ayer",8720301,{"$f":"VLOOKUP(A52, localcont!$D$10:$L$1764, 8)","v":0},{"$f":"VLOOKUP(A52, localcont!$D$10:$L$1764, 9)*F52","v":0}]
[92,19,"Ayer                         ",616,"Ayer Shirley",8720301,{"$f":"VLOOKUP(A53, localcont!$D$10:$L$1764, 8)","v":11092852.603712602},{"$f":"VLOOKUP(A53, localcont!$D$10:$L$1764, 9)*F53","v":8013737.6865660707}]
[93,19,"Ayer                         ",852,"Nashoba Valley",8720301,{"$f":"VLOOKUP(A54, localcont!$D$10:$L$1764, 8)","v":978045.82551439793},{"$f":"VLOOKUP(A54, localcont!$D$10:$L$1764, 9)*F54","v":706563.3134339283}]
[96,20,"Barnstable                   ",20,"Barnstable",83055478,{"$f":"VLOOKUP(A55, localcont!$D$10:$L$1764, 8)","v":66271891.590000004},{"$f":"VLOOKUP(A55, localcont!$D$10:$L$1764, 9)*F55","v":78725625.37079908}]
[97,20,"Barnstable                   ",815,"Cape Cod",83055478,{"$f":"VLOOKUP(A56, localcont!$D$10:$L$1764, 8)","v":3644906.2511927038},{"$f":"VLOOKUP(A56, localcont!$D$10:$L$1764, 9)*F56","v":4329852.6292009288}]
[101,21,"Barre                        ",21,"Barre",3802819,{"$f":"VLOOKUP(A57, localcont!$D$10:$L$1764, 8)","v":0},{"$f":"VLOOKUP(A57, localcont!$D$10:$L$1764, 9)*F57","v":0}]
[102,21,"Barre                        ",753,"Quabbin",3802819,{"$f":"VLOOKUP(A58, localcont!$D$10:$L$1764, 8)","v":8467542.974365579},{"$f":"VLOOKUP(A58, localcont!$D$10:$L$1764, 9)*F58","v":3418426.9071156718}]
[103,21,"Barre                        ",832,"Montachusett",3802819,{"$f":"VLOOKUP(A59, localcont!$D$10:$L$1764, 8)","v":952150.40541870019},{"$f":"VLOOKUP(A59, localcont!$D$10:$L$1764, 9)*F59","v":384392.09288432886}]
[106,22,"Becket                       ",22,"Becket",2712285,{"$f":"VLOOKUP(A60, localcont!$D$10:$L$1764, 8)","v":191989.22},{"$f":"VLOOKUP(A60, localcont!$D$10:$L$1764, 9)*F60","v":218264.79863656068}]
[107,22,"Becket                       ",635,"Central Berkshire",2712285,{"$f":"VLOOKUP(A61, localcont!$D$10:$L$1764, 8)","v":2193780.1977922954},{"$f":"VLOOKUP(A61, localcont!$D$10:$L$1764, 9)*F61","v":2494020.2013634392}]
[111,23,"Bedford                      ",23,"Bedford",29990161,{"$f":"VLOOKUP(A62, localcont!$D$10:$L$1764, 8)","v":31014582.858640004},{"$f":"VLOOKUP(A62, localcont!$D$10:$L$1764, 9)*F62","v":29436250.11197602}]
[112,23,"Bedford                      ",871,"Shawsheen Valley",29990161,{"$f":"VLOOKUP(A63, localcont!$D$10:$L$1764, 8)","v":583610.85625961795},{"$f":"VLOOKUP(A63, localcont!$D$10:$L$1764, 9)*F63","v":553910.88802398019}]
[116,24,"Belchertown                  ",24,"Belchertown",13603335,{"$f":"VLOOKUP(A64, localcont!$D$10:$L$1764, 8)","v":24966439.98},{"$f":"VLOOKUP(A64, localcont!$D$10:$L$1764, 9)*F64","v":12797563.794660261}]
[117,24,"Belchertown                  ",860,"Pathfinder",13603335,{"$f":"VLOOKUP(A65, localcont!$D$10:$L$1764, 8)","v":1571958.4413496496},{"$f":"VLOOKUP(A65, localcont!$D$10:$L$1764, 9)*F65","v":805771.2053397391}]
[121,25,"Bellingham                   ",25,"Bellingham",18419067,{"$f":"VLOOKUP(A66, localcont!$D$10:$L$1764, 8)","v":24980756.82},{"$f":"VLOOKUP(A66, localcont!$D$10:$L$1764, 9)*F66","v":17298061.745599844}]
[122,25,"Bellingham                   ",805,"Blackstone Valley",18419067,{"$f":"VLOOKUP(A67, localcont!$D$10:$L$1764, 8)","v":1144356.669960652},{"$f":"VLOOKUP(A67, localcont!$D$10:$L$1764, 9)*F67","v":792416.03761660482}]
[123,25,"Bellingham                   ",915,"Norfolk County",18419067,{"$f":"VLOOKUP(A68, localcont!$D$10:$L$1764, 8)","v":474527.57649175281},{"$f":"VLOOKUP(A68, localcont!$D$10:$L$1764, 9)*F68","v":328589.21678355266}]
[126,26,"Belmont                      ",26,"Belmont",66520623,{"$f":"VLOOKUP(A69, localcont!$D$10:$L$1764, 8)","v":50111563.269849993},{"$f":"VLOOKUP(A69, localcont!$D$10:$L$1764, 9)*F69","v":66520623}]
[127,26,"Belmont                      ",830,"Minuteman",66520623,{"$f":"VLOOKUP(A70, localcont!$D$10:$L$1764, 8)","v":0},{"$f":"VLOOKUP(A70, localcont!$D$10:$L$1764, 9)*F70","v":0}]
[131,27,"Berkley                      ",27,"Berkley",7145119,{"$f":"VLOOKUP(A71, localcont!$D$10:$L$1764, 8)","v":8088546.29},{"$f":"VLOOKUP(A71, localcont!$D$10:$L$1764, 9)*F71","v":4382353.3850323148}]
[132,27,"Berkley                      ",763,"Somerset Berkley",7145119,{"$f":"VLOOKUP(A72, localcont!$D$10:$L$1764, 8)","v":3466421.7068575029},{"$f":"VLOOKUP(A72, localcont!$D$10:$L$1764, 9)*F72","v":1878098.2832202443}]
[133,27,"Berkley                      ",810,"Bristol Plymouth",7145119,{"$f":"VLOOKUP(A73, localcont!$D$10:$L$1764, 8)","v":1438734.7190285288},{"$f":"VLOOKUP(A73, localcont!$D$10:$L$1764, 9)*F73","v":779502.73634376272}]
[134,27,"Berkley                      ",910,"Bristol County",{"$f":"VLOOKUP(B74, town351, 7)","v":7145119},{"$f":"VLOOKUP(A74, localcont!$D$10:$L$1764, 8)","v":194103.17317107407},{"$f":"VLOOKUP(A74, localcont!$D$10:$L$1764, 9)*F74","v":105164.59540367793}]
[136,28,"Berlin                       ",28,"Berlin",4798166,{"$f":"VLOOKUP(A75, localcont!$D$10:$L$1764, 8)","v":0},{"$f":"VLOOKUP(A75, localcont!$D$10:$L$1764, 9)*F75","v":0}]
[137,28,"Berlin                       ",620,"Berlin Boylston",4798166,{"$f":"VLOOKUP(A76, localcont!$D$10:$L$1764, 8)","v":3521910.0385446176},{"$f":"VLOOKUP(A76, localcont!$D$10:$L$1764, 9)*F76","v":4160594.9269633526}]
[138,28,"Berlin                       ",801,"Assabet Valley",4798166,{"$f":"VLOOKUP(A77, localcont!$D$10:$L$1764, 8)","v":539698.76948638877},{"$f":"VLOOKUP(A77, localcont!$D$10:$L$1764, 9)*F77","v":637571.07303664763}]
[141,29,"Bernardston                  ",29,"Bernardston",1753367,{"$f":"VLOOKUP(A78, localcont!$D$10:$L$1764, 8)","v":0},{"$f":"VLOOKUP(A78, localcont!$D$10:$L$1764, 9)*F78","v":0}]
[142,29,"Bernardston                  ",750,"Pioneer",1753367,{"$f":"VLOOKUP(A79, localcont!$D$10:$L$1764, 8)","v":2725344.7744387682},{"$f":"VLOOKUP(A79, localcont!$D$10:$L$1764, 9)*F79","v":1470678.8735369199}]
[143,29,"Bernardston                  ",818,"Franklin County",1753367,{"$f":"VLOOKUP(A80, localcont!$D$10:$L$1764, 8)","v":523855.08632432268},{"$f":"VLOOKUP(A80, localcont!$D$10:$L$1764, 9)*F80","v":282688.12646308006}]
[146,30,"Beverly                      ",30,"Beverly",53221485,{"$f":"VLOOKUP(A81, localcont!$D$10:$L$1764, 8)","v":52340525.960000008},{"$f":"VLOOKUP(A81, localcont!$D$10:$L$1764, 9)*F81","v":51091413.542017624}]
[147,30,"Beverly                      ",817,"Essex North Shore",53221485,{"$f":"VLOOKUP(A82, localcont!$D$10:$L$1764, 8)","v":2182148.676538242},{"$f":"VLOOKUP(A82, localcont!$D$10:$L$1764, 9)*F82","v":2130071.457982379}]
[151,31,"Billerica                    ",31,"Billerica",49794863,{"$f":"VLOOKUP(A83, localcont!$D$10:$L$1764, 8)","v":53361602.314500012},{"$f":"VLOOKUP(A83, localcont!$D$10:$L$1764, 9)*F83","v":42694534.964177758}]
[152,31,"Billerica                    ",871,"Shawsheen Valley",49794863,{"$f":"VLOOKUP(A84, localcont!$D$10:$L$1764, 8)","v":8874318.0191080552},{"$f":"VLOOKUP(A84, localcont!$D$10:$L$1764, 9)*F84","v":7100328.0358222434}]
[156,32,"Blackstone                   ",32,"Blackstone",8005272,{"$f":"VLOOKUP(A85, localcont!$D$10:$L$1764, 8)","v":416308.97},{"$f":"VLOOKUP(A85, localcont!$D$10:$L$1764, 9)*F85","v":204200.34881060125}]
[157,32,"Blackstone                   ",622,"Blackstone Millville",8005272,{"$f":"VLOOKUP(A86, localcont!$D$10:$L$1764, 8)","v":14440159.867306536},{"$f":"VLOOKUP(A86, localcont!$D$10:$L$1764, 9)*F86","v":7082926.130044328}]
[158,32,"Blackstone                   ",805,"Blackstone Valley",8005272,{"$f":"VLOOKUP(A87, localcont!$D$10:$L$1764, 8)","v":1464103.3864996829},{"$f":"VLOOKUP(A87, localcont!$D$10:$L$1764, 9)*F87","v":718145.52114507114}]
[161,33,"Blandford                    ",33,"Blandford",1222677,{"$f":"VLOOKUP(A88, localcont!$D$10:$L$1764, 8)","v":104682.55},{"$f":"VLOOKUP(A88, localcont!$D$10:$L$1764, 9)*F88","v":89863.08786725589}]
[162,33,"Blandford                    ",672,"Gateway",1222677,{"$f":"VLOOKUP(A89, localcont!$D$10:$L$1764, 8)","v":1319628.0231623515},{"$f":"VLOOKUP(A89, localcont!$D$10:$L$1764, 9)*F89","v":1132813.912132744}]
[166,34,"Bolton                       ",34,"Bolton",10121769,{"$f":"VLOOKUP(A90, localcont!$D$10:$L$1764, 8)","v":15454.140879999999},{"$f":"VLOOKUP(A90, localcont!$D$10:$L$1764, 9)*F90","v":13899.157098138778}]
[167,34,"Bolton                       ",725,"Nashoba",10121769,{"$f":"VLOOKUP(A91, localcont!$D$10:$L$1764, 8)","v":10929494.331199674},{"$f":"VLOOKUP(A91, localcont!$D$10:$L$1764, 9)*F91","v":9829777.0087729059}]
[168,34,"Bolton                       ",830,"Minuteman",10121769,{"$f":"VLOOKUP(A92, localcont!$D$10:$L$1764, 8)","v":309204.78170024056},{"$f":"VLOOKUP(A92, localcont!$D$10:$L$1764, 9)*F92","v":278092.8341289555}]
[171,35,"Boston                       ",35,"Boston",1193887525,{"$f":"VLOOKUP(A93, localcont!$D$10:$L$1764, 8)","v":978722271.88964999},{"$f":"VLOOKUP(A93, localcont!$D$10:$L$1764, 9)*F93","v":1193887525}]
[176,36,"Bourne                       ",36,"Bourne",28880284,{"$f":"VLOOKUP(A94, localcont!$D$10:$L$1764, 8)","v":22886335.060000002},{"$f":"VLOOKUP(A94, localcont!$D$10:$L$1764, 9)*F94","v":25265789.391862635}]
[177,36,"Bourne                       ",879,"Upper Cape Cod",28880284,{"$f":"VLOOKUP(A95, localcont!$D$10:$L$1764, 8)","v":3274092.6234838944},{"$f":"VLOOKUP(A95, localcont!$D$10:$L$1764, 9)*F95","v":3614494.6081373626}]
[181,37,"Boxborough                   ",37,"Boxborough",9841710,{"$f":"VLOOKUP(A96, localcont!$D$10:$L$1764, 8)","v":146044.46231999999},{"$f":"VLOOKUP(A96, localcont!$D$10:$L$1764, 9)*F96","v":150221.63701458066}]
[182,37,"Boxborough                   ",600,"Acton Boxborough",9841710,{"$f":"VLOOKUP(A97, localcont!$D$10:$L$1764, 8)","v":9421999.6212354116},{"$f":"VLOOKUP(A97, localcont!$D$10:$L$1764, 9)*F97","v":9691488.3629854191}]
[186,38,"Boxford",38,"Boxford",20024546,{"$f":"VLOOKUP(A98, localcont!$D$10:$L$1764, 8)","v":7489733.5427200012},{"$f":"VLOOKUP(A98, localcont!$D$10:$L$1764, 9)*F98","v":9813345.2759964112}]
[187,38,"Boxford",705,"Masconomet",20024546,{"$f":"VLOOKUP(A99, localcont!$D$10:$L$1764, 8)","v":7504835.8745924365},{"$f":"VLOOKUP(A99, localcont!$D$10:$L$1764, 9)*F99","v":9833132.9488544073}]
[188,38,"Boxford",817,"Essex North Shore",20024546,{"$f":"VLOOKUP(A100, localcont!$D$10:$L$1764, 8)","v":288548.58535167988},{"$f":"VLOOKUP(A100, localcont!$D$10:$L$1764, 9)*F100","v":378067.77514918247}]
[191,39,"Boylston                     ",39,"Boylston",6812353,{"$f":"VLOOKUP(A101, localcont!$D$10:$L$1764, 8)","v":446218.26999999996},{"$f":"VLOOKUP(A101, localcont!$D$10:$L$1764, 9)*F101","v":424660.1161088568}]
[192,39,"Boylston                     ",620,"Berlin Boylston",6812353,{"$f":"VLOOKUP(A102, localcont!$D$10:$L$1764, 8)","v":6711968.3714553807},{"$f":"VLOOKUP(A102, localcont!$D$10:$L$1764, 9)*F102","v":6387692.8838911438}]
[196,40,"Braintree                    ",40,"Braintree",50790553,{"$f":"VLOOKUP(A103, localcont!$D$10:$L$1764, 8)","v":65287073.726299994},{"$f":"VLOOKUP(A103, localcont!$D$10:$L$1764, 9)*F103","v":48658924.723357767}]
[197,40,"Braintree                    ",806,"Blue Hills",50790553,{"$f":"VLOOKUP(A104, localcont!$D$10:$L$1764, 8)","v":2549798.7143351813},{"$f":"VLOOKUP(A104, localcont!$D$10:$L$1764, 9)*F104","v":1900383.2859883555}]
[198,40,"Braintree                    ",915,"Norfolk County",50790553,{"$f":"VLOOKUP(A105, localcont!$D$10:$L$1764, 8)","v":310268.03077729896},{"$f":"VLOOKUP(A105, localcont!$D$10:$L$1764, 9)*F105","v":231244.99065387424}]
[201,41,"Brewster                     ",41,"Brewster",20610254,{"$f":"VLOOKUP(A106, localcont!$D$10:$L$1764, 8)","v":5236465.6000000006},{"$f":"VLOOKUP(A106, localcont!$D$10:$L$1764, 9)*F106","v":8597780.934062276}]
[202,41,"Brewster                     ",660,"Nauset",20610254,{"$f":"VLOOKUP(A107, localcont!$D$10:$L$1764, 8)","v":6774115.7474167515},{"$f":"VLOOKUP(A107, localcont!$D$10:$L$1764, 9)*F107","v":11122456.952313554}]
[203,41,"Brewster                     ",815,"Cape Cod",20610254,{"$f":"VLOOKUP(A108, localcont!$D$10:$L$1764, 8)","v":542062.98092275835},{"$f":"VLOOKUP(A108, localcont!$D$10:$L$1764, 9)*F108","v":890016.11362416949}]
[206,42,"Bridgewater                  ",42,"Bridgewater",24563273,{"$f":"VLOOKUP(A109, localcont!$D$10:$L$1764, 8)","v":119637.19999999998},{"$f":"VLOOKUP(A109, localcont!$D$10:$L$1764, 9)*F109","v":76734.535945637384}]
[207,42,"Bridgewater                  ",625,"Bridgewater Raynham",24563273,{"$f":"VLOOKUP(A110, localcont!$D$10:$L$1764, 8)","v":35803172.691720061},{"$f":"VLOOKUP(A110, localcont!$D$10:$L$1764, 9)*F110","v":22963926.28614391}]
[208,42,"Bridgewater                  ",810,"Bristol Plymouth",24563273,{"$f":"VLOOKUP(A111, localcont!$D$10:$L$1764, 8)","v":2373912.2861205568},{"$f":"VLOOKUP(A111, localcont!$D$10:$L$1764, 9)*F111","v":1522612.1779104501}]
[211,43,"Brimfield                    ",43,"Brimfield",3757363,{"$f":"VLOOKUP(A112, localcont!$D$10:$L$1764, 8)","v":3087351.5799999996},{"$f":"VLOOKUP(A112, localcont!$D$10:$L$1764, 9)*F112","v":1824597.0412655426}]
[212,43,"Brimfield                    ",770,"Tantasqua",3757363,{"$f":"VLOOKUP(A113, localcont!$D$10:$L$1764, 8)","v":3270381.2959875423},{"$f":"VLOOKUP(A113, localcont!$D$10:$L$1764, 9)*F113","v":1932765.9587344571}]
[216,44,"Brockton                     ",44,"Brockton",59797768,{"$f":"VLOOKUP(A114, localcont!$D$10:$L$1764, 8)","v":255706156.15000001},{"$f":"VLOOKUP(A114, localcont!$D$10:$L$1764, 9)*F114","v":55885543.733724281}]
[217,44,"Brockton                     ",872,"Southeastern",59797768,{"$f":"VLOOKUP(A115, localcont!$D$10:$L$1764, 8)","v":17900511.693911202},{"$f":"VLOOKUP(A115, localcont!$D$10:$L$1764, 9)*F115","v":3912224.2662757155}]
[221,45,"Brookfield                   ",45,"Brookfield",2471383,{"$f":"VLOOKUP(A116, localcont!$D$10:$L$1764, 8)","v":2908398.07},{"$f":"VLOOKUP(A116, localcont!$D$10:$L$1764, 9)*F116","v":1203918.5465659155}]
[222,45,"Brookfield                   ",770,"Tantasqua",2471383,{"$f":"VLOOKUP(A117, localcont!$D$10:$L$1764, 8)","v":3061910.7751734178},{"$f":"VLOOKUP(A117, localcont!$D$10:$L$1764, 9)*F117","v":1267464.4534340848}]
[226,46,"Brookline                    ",46,"Brookline",174568177,{"$f":"VLOOKUP(A118, localcont!$D$10:$L$1764, 8)","v":84668729.879460007},{"$f":"VLOOKUP(A118, localcont!$D$10:$L$1764, 9)*F118","v":174530555.46300694}]
[227,46,"Brookline                    ",915,"Norfolk County",174568177,{"$f":"VLOOKUP(A119, localcont!$D$10:$L$1764, 8)","v":18251.060651608612},{"$f":"VLOOKUP(A119, localcont!$D$10:$L$1764, 9)*F119","v":37621.536993045491}]
[231,47,"Buckland                     ",47,"Buckland",1407868,{"$f":"VLOOKUP(A120, localcont!$D$10:$L$1764, 8)","v":29909.299999999996},{"$f":"VLOOKUP(A120, localcont!$D$10:$L$1764, 9)*F120","v":17305.39385777447}]
[232,47,"Buckland                     ",717,"Mohawk Trail",1407868,{"$f":"VLOOKUP(A121, localcont!$D$10:$L$1764, 8)","v":2291085.8518804903},{"$f":"VLOOKUP(A121, localcont!$D$10:$L$1764, 9)*F121","v":1325612.5361933121}]
[233,47,"Buckland                     ",818,"Franklin County",1407868,{"$f":"VLOOKUP(A122, localcont!$D$10:$L$1764, 8)","v":112254.661355212},{"$f":"VLOOKUP(A122, localcont!$D$10:$L$1764, 9)*F122","v":64950.069948913522}]
[236,48,"Burlington                   ",48,"Burlington",44956028,{"$f":"VLOOKUP(A123, localcont!$D$10:$L$1764, 8)","v":40396821.446159996},{"$f":"VLOOKUP(A123, localcont!$D$10:$L$1764, 9)*F123","v":42654250.772732116}]
[237,48,"Burlington                   ",871,"Shawsheen Valley",44956028,{"$f":"VLOOKUP(A124, localcont!$D$10:$L$1764, 8)","v":2179958.1981690973},{"$f":"VLOOKUP(A124, localcont!$D$10:$L$1764, 9)*F124","v":2301777.2272678837}]
[241,49,"Cambridge                    ",49,"Cambridge",291297083,{"$f":"VLOOKUP(A125, localcont!$D$10:$L$1764, 8)","v":103658808.02008},{"$f":"VLOOKUP(A125, localcont!$D$10:$L$1764, 9)*F125","v":291297083}]
[246,50,"Canton                       ",50,"Canton",40831908,{"$f":"VLOOKUP(A126, localcont!$D$10:$L$1764, 8)","v":37652701.134640008},{"$f":"VLOOKUP(A126, localcont!$D$10:$L$1764, 9)*F126","v":39319830.860936634}]
[247,50,"Canton                       ",806,"Blue Hills",40831908,{"$f":"VLOOKUP(A127, localcont!$D$10:$L$1764, 8)","v":1265455.6581125401},{"$f":"VLOOKUP(A127, localcont!$D$10:$L$1764, 9)*F127","v":1321485.6023496294}]
[248,50,"Canton                       ",915,"Norfolk County",40831908,{"$f":"VLOOKUP(A128, localcont!$D$10:$L$1764, 8)","v":182510.6063160545},{"$f":"VLOOKUP(A128, localcont!$D$10:$L$1764, 9)*F128","v":190591.5367137409}]
[251,51,"Carlisle                     ",51,"Carlisle",15388067,{"$f":"VLOOKUP(A129, localcont!$D$10:$L$1764, 8)","v":5867349.0383599997},{"$f":"VLOOKUP(A129, localcont!$D$10:$L$1764, 9)*F129","v":9331498.7752064019}]
[252,51,"Carlisle                     ",640,"Concord Carlisle",15388067,{"$f":"VLOOKUP(A130, localcont!$D$10:$L$1764, 8)","v":3808177.0791121852},{"$f":"VLOOKUP(A130, localcont!$D$10:$L$1764, 9)*F130","v":6056568.2247935981}]
[256,52,"Carver                       ",52,"Carver",10680060,{"$f":"VLOOKUP(A131, localcont!$D$10:$L$1764, 8)","v":18189630.062479999},{"$f":"VLOOKUP(A131, localcont!$D$10:$L$1764, 9)*F131","v":9796097.4268894494}]
[257,52,"Carver                       ",855,"Old Colony",10680060,{"$f":"VLOOKUP(A132, localcont!$D$10:$L$1764, 8)","v":1641363.034},{"$f":"VLOOKUP(A132, localcont!$D$10:$L$1764, 9)*F132","v":883962.57311055134}]
[261,53,"Charlemont                   ",53,"Charlemont",927083,{"$f":"VLOOKUP(A133, localcont!$D$10:$L$1764, 8)","v":104682.55},{"$f":"VLOOKUP(A133, localcont!$D$10:$L$1764, 9)*F133","v":54989.741873888081}]
[262,53,"Charlemont                   ",685,"Hawlemont",927083,{"$f":"VLOOKUP(A134, localcont!$D$10:$L$1764, 8)","v":949944.77591636754},{"$f":"VLOOKUP(A134, localcont!$D$10:$L$1764, 9)*F134","v":499005.97589655116}]
[263,53,"Charlemont                   ",717,"Mohawk Trail",927083,{"$f":"VLOOKUP(A135, localcont!$D$10:$L$1764, 8)","v":710236.61405666196},{"$f":"VLOOKUP(A135, localcont!$D$10:$L$1764, 9)*F135","v":373087.28222956083}]
[266,54,"Charlton                     ",54,"Charlton",13496727,{"$f":"VLOOKUP(A136, localcont!$D$10:$L$1764, 8)","v":14954.649999999998},{"$f":"VLOOKUP(A136, localcont!$D$10:$L$1764, 9)*F136","v":8195.6742171367659}]
[267,54,"Charlton                     ",658,"Dudley Charlton",13496727,{"$f":"VLOOKUP(A137, localcont!$D$10:$L$1764, 8)","v":20777871.349968378},{"$f":"VLOOKUP(A137, localcont!$D$10:$L$1764, 9)*F137","v":11387004.343794107}]
[268,54,"Charlton                     ",876,"Southern Worcester",{"$f":"VLOOKUP(B138, town351, 7)","v":13496727},{"$f":"VLOOKUP(A138, localcont!$D$10:$L$1764, 8)","v":3834657.1189328809},{"$f":"VLOOKUP(A138, localcont!$D$10:$L$1764, 9)*F138","v":2101526.9819887574}]
[271,55,"Chatham                      ",55,"Chatham",32904362,{"$f":"VLOOKUP(A139, localcont!$D$10:$L$1764, 8)","v":0},{"$f":"VLOOKUP(A139, localcont!$D$10:$L$1764, 9)*F139","v":0}]
[272,55,"Chatham                      ",712,"Monomoy",32904362,{"$f":"VLOOKUP(A140, localcont!$D$10:$L$1764, 8)","v":5116353.1117365416},{"$f":"VLOOKUP(A140, localcont!$D$10:$L$1764, 9)*F140","v":31744620.030174658}]
[273,55,"Chatham                      ",815,"Cape Cod",32904362,{"$f":"VLOOKUP(A141, localcont!$D$10:$L$1764, 8)","v":186918.26931578238},{"$f":"VLOOKUP(A141, localcont!$D$10:$L$1764, 9)*F141","v":1159741.9698253442}]
[276,56,"Chelmsford                   ",56,"Chelmsford",51311446,{"$f":"VLOOKUP(A142, localcont!$D$10:$L$1764, 8)","v":54706649.899999999},{"$f":"VLOOKUP(A142, localcont!$D$10:$L$1764, 9)*F142","v":48179266.970673442}]
[277,56,"Chelmsford                   ",852,"Nashoba Valley",51311446,{"$f":"VLOOKUP(A143, localcont!$D$10:$L$1764, 8)","v":3556530.2744392222},{"$f":"VLOOKUP(A143, localcont!$D$10:$L$1764, 9)*F143","v":3132179.0293265567}]
[281,57,"Chelsea                      ",57,"Chelsea",24518676,{"$f":"VLOOKUP(A144, localcont!$D$10:$L$1764, 8)","v":112437920.96600001},{"$f":"VLOOKUP(A144, localcont!$D$10:$L$1764, 9)*F144","v":23470995.071147576}]
[282,57,"Chelsea                      ",853,"Northeast Metropolitan",24518676,{"$f":"VLOOKUP(A145, localcont!$D$10:$L$1764, 8)","v":5018920.8049684484},{"$f":"VLOOKUP(A145, localcont!$D$10:$L$1764, 9)*F145","v":1047680.9288524254}]
[286,58,"Cheshire                     ",58,"Cheshire",2574972,{"$f":"VLOOKUP(A146, localcont!$D$10:$L$1764, 8)","v":14954.649999999998},{"$f":"VLOOKUP(A146, localcont!$D$10:$L$1764, 9)*F146","v":7255.9016463361349}]
[287,58,"Cheshire                     ",603,"Hoosac Valley",2574972,{"$f":"VLOOKUP(A147, localcont!$D$10:$L$1764, 8)","v":4366650.5526913973},{"$f":"VLOOKUP(A147, localcont!$D$10:$L$1764, 9)*F147","v":2118671.2450139662}]
[288,58,"Cheshire                     ",851,"Northern Berkshire",2574972,{"$f":"VLOOKUP(A148, localcont!$D$10:$L$1764, 8)","v":925496.09177618858},{"$f":"VLOOKUP(A148, localcont!$D$10:$L$1764, 9)*F148","v":449044.85333969753}]
[291,59,"Chester                      ",59,"Chester",943100,{"$f":"VLOOKUP(A149, localcont!$D$10:$L$1764, 8)","v":134591.84999999998},{"$f":"VLOOKUP(A149, localcont!$D$10:$L$1764, 9)*F149","v":70915.989588778553}]
[292,59,"Chester                      ",672,"Gateway",943100,{"$f":"VLOOKUP(A150, localcont!$D$10:$L$1764, 8)","v":1655322.8712222702},{"$f":"VLOOKUP(A150, localcont!$D$10:$L$1764, 9)*F150","v":872184.01041122142}]
[296,60,"Chesterfield                 ",60,"Chesterfield",987038,{"$f":"VLOOKUP(A151, localcont!$D$10:$L$1764, 8)","v":281717.12},{"$f":"VLOOKUP(A151, localcont!$D$10:$L$1764, 9)*F151","v":204528.09983047066}]
[297,60,"Chesterfield                 ",632,"Chesterfield Goshen",987038,{"$f":"VLOOKUP(A152, localcont!$D$10:$L$1764, 8)","v":528598.81297814101},{"$f":"VLOOKUP(A152, localcont!$D$10:$L$1764, 9)*F152","v":383765.49778395268}]
[298,60,"Chesterfield                 ",683,"Hampshire",987038,{"$f":"VLOOKUP(A153, localcont!$D$10:$L$1764, 8)","v":549230.76462010108},{"$f":"VLOOKUP(A153, localcont!$D$10:$L$1764, 9)*F153","v":398744.40238557663}]
[301,61,"Chicopee                     ",61,"Chicopee",31887599,{"$f":"VLOOKUP(A154, localcont!$D$10:$L$1764, 8)","v":104550852.06999999},{"$f":"VLOOKUP(A154, localcont!$D$10:$L$1764, 9)*F154","v":31887599}]
[306,62,"Chilmark                     ",62,"Chilmark",13512654,{"$f":"VLOOKUP(A155, localcont!$D$10:$L$1764, 8)","v":0},{"$f":"VLOOKUP(A155, localcont!$D$10:$L$1764, 9)*F155","v":0}]
[307,62,"Chilmark                     ",700,"Marthas Vineyard",13512654,{"$f":"VLOOKUP(A156, localcont!$D$10:$L$1764, 8)","v":553189.4432138101},{"$f":"VLOOKUP(A156, localcont!$D$10:$L$1764, 9)*F156","v":5316700.288516989}]
[308,62,"Chilmark                     ",774,"Upisland",13512654,{"$f":"VLOOKUP(A157, localcont!$D$10:$L$1764, 8)","v":852768.60161815002},{"$f":"VLOOKUP(A157, localcont!$D$10:$L$1764, 9)*F157","v":8195953.711483012}]
[311,63,"Clarksburg                   ",63,"Clarksburg",1069941,{"$f":"VLOOKUP(A158, localcont!$D$10:$L$1764, 8)","v":2044269.3599999996},{"$f":"VLOOKUP(A158, localcont!$D$10:$L$1764, 9)*F158","v":741033.30964516348}]
[312,63,"Clarksburg                   ",851,"Northern Berkshire",1069941,{"$f":"VLOOKUP(A159, localcont!$D$10:$L$1764, 8)","v":907349.10955989338},{"$f":"VLOOKUP(A159, localcont!$D$10:$L$1764, 9)*F159","v":328907.69035483652}]
[316,64,"Clinton                      ",64,"Clinton",11793411,{"$f":"VLOOKUP(A160, localcont!$D$10:$L$1764, 8)","v":26586847.719999999},{"$f":"VLOOKUP(A160, localcont!$D$10:$L$1764, 9)*F160","v":11793411}]
[321,65,"Cohasset                     ",65,"Cohasset",27587232,{"$f":"VLOOKUP(A161, localcont!$D$10:$L$1764, 8)","v":15673927.657200001},{"$f":"VLOOKUP(A161, localcont!$D$10:$L$1764, 9)*F161","v":27331460.796228994}]
[322,65,"Cohasset                     ",873,"South Shore",27587232,{"$f":"VLOOKUP(A162, localcont!$D$10:$L$1764, 8)","v":146678.56118597309},{"$f":"VLOOKUP(A162, localcont!$D$10:$L$1764, 9)*F162","v":255771.20377100547}]
[323,65,"Cohasset                     ",915,"Norfolk County",27587232,{"$f":"VLOOKUP(A163, localcont!$D$10:$L$1764, 8)","v":0},{"$f":"VLOOKUP(A163, localcont!$D$10:$L$1764, 9)*F163","v":0}]
[326,66,"Colrain                      ",66,"Colrain",1362821,{"$f":"VLOOKUP(A164, localcont!$D$10:$L$1764, 8)","v":0},{"$f":"VLOOKUP(A164, localcont!$D$10:$L$1764, 9)*F164","v":0}]
[327,66,"Colrain                      ",717,"Mohawk Trail",1362821,{"$f":"VLOOKUP(A165, localcont!$D$10:$L$1764, 8)","v":1935967.5448521595},{"$f":"VLOOKUP(A165, localcont!$D$10:$L$1764, 9)*F165","v":1097633.807785613}]
[328,66,"Colrain                      ",818,"Franklin County",1362821,{"$f":"VLOOKUP(A166, localcont!$D$10:$L$1764, 8)","v":467727.75564671663},{"$f":"VLOOKUP(A166, localcont!$D$10:$L$1764, 9)*F166","v":265187.19221438695}]
[331,67,"Concord                      ",67,"Concord",62770897,{"$f":"VLOOKUP(A167, localcont!$D$10:$L$1764, 8)","v":21592019.292640004},{"$f":"VLOOKUP(A167, localcont!$D$10:$L$1764, 9)*F167","v":39621432.9572201}]
[332,67,"Concord                      ",640,"Concord Carlisle",62770897,{"$f":"VLOOKUP(A168, localcont!$D$10:$L$1764, 8)","v":12019163.538647817},{"$f":"VLOOKUP(A168, localcont!$D$10:$L$1764, 9)*F168","v":22055208.264413003}]
[333,67,"Concord                      ",830,"Minuteman",62770897,{"$f":"VLOOKUP(A169, localcont!$D$10:$L$1764, 8)","v":596323.5076099158},{"$f":"VLOOKUP(A169, localcont!$D$10:$L$1764, 9)*F169","v":1094255.7783668861}]
[336,68,"Conway                       ",68,"Conway",1990810,{"$f":"VLOOKUP(A170, localcont!$D$10:$L$1764, 8)","v":902895.42},{"$f":"VLOOKUP(A170, localcont!$D$10:$L$1764, 9)*F170","v":787710.42375241942}]
[337,68,"Conway                       ",670,"Frontier",1990810,{"$f":"VLOOKUP(A171, localcont!$D$10:$L$1764, 8)","v":1285480.3757121447},{"$f":"VLOOKUP(A171, localcont!$D$10:$L$1764, 9)*F171","v":1121487.9033029457}]
[338,68,"Conway                       ",818,"Franklin County",1990810,{"$f":"VLOOKUP(A172, localcont!$D$10:$L$1764, 8)","v":93545.551129343323},{"$f":"VLOOKUP(A172, localcont!$D$10:$L$1764, 9)*F172","v":81611.67294463476}]
[341,69,"Cummington                   ",69,"Cummington",889875,{"$f":"VLOOKUP(A173, localcont!$D$10:$L$1764, 8)","v":89727.900000000009},{"$f":"VLOOKUP(A173, localcont!$D$10:$L$1764, 9)*F173","v":101564.56666056787}]
[342,69,"Cummington                   ",635,"Central Berkshire",889875,{"$f":"VLOOKUP(A174, localcont!$D$10:$L$1764, 8)","v":696438.15808352455},{"$f":"VLOOKUP(A174, localcont!$D$10:$L$1764, 9)*F174","v":788310.43333943211}]
[346,70,"Dalton                       ",70,"Dalton",5469580,{"$f":"VLOOKUP(A175, localcont!$D$10:$L$1764, 8)","v":386399.67},{"$f":"VLOOKUP(A175, localcont!$D$10:$L$1764, 9)*F175","v":194468.52940473257}]
[347,70,"Dalton                       ",635,"Central Berkshire",5469580,{"$f":"VLOOKUP(A176, localcont!$D$10:$L$1764, 8)","v":10481394.278500786},{"$f":"VLOOKUP(A176, localcont!$D$10:$L$1764, 9)*F176","v":5275111.4705952676}]
[351,71,"Danvers                      ",71,"Danvers",37571746,{"$f":"VLOOKUP(A177, localcont!$D$10:$L$1764, 8)","v":37816803.190000005},{"$f":"VLOOKUP(A177, localcont!$D$10:$L$1764, 9)*F177","v":34540888.735245347}]
[352,71,"Danvers                      ",817,"Essex North Shore",37571746,{"$f":"VLOOKUP(A178, localcont!$D$10:$L$1764, 8)","v":3318308.7313342188},{"$f":"VLOOKUP(A178, localcont!$D$10:$L$1764, 9)*F178","v":3030857.2647546516}]
[356,72,"Dartmouth                    ",72,"Dartmouth",40343059,{"$f":"VLOOKUP(A179, localcont!$D$10:$L$1764, 8)","v":39139561.32},{"$f":"VLOOKUP(A179, localcont!$D$10:$L$1764, 9)*F179","v":34480189.791082822}]
[357,72,"Dartmouth                    ",825,"Greater New Bedford",40343059,{"$f":"VLOOKUP(A180, localcont!$D$10:$L$1764, 8)","v":6196340.2010194911},{"$f":"VLOOKUP(A180, localcont!$D$10:$L$1764, 9)*F180","v":5458696.4936700612}]
[358,72,"Dartmouth                    ",910,"Bristol County",40343059,{"$f":"VLOOKUP(A181, localcont!$D$10:$L$1764, 8)","v":458789.31839222944},{"$f":"VLOOKUP(A181, localcont!$D$10:$L$1764, 9)*F181","v":404172.71524712106}]
[361,73,"Dedham                       ",73,"Dedham",44332448,{"$f":"VLOOKUP(A182, localcont!$D$10:$L$1764, 8)","v":31499172.982930005},{"$f":"VLOOKUP(A182, localcont!$D$10:$L$1764, 9)*F182","v":41670688.857815117}]
[362,73,"Dedham                       ",806,"Blue Hills",44332448,{"$f":"VLOOKUP(A183, localcont!$D$10:$L$1764, 8)","v":1756528.0032305645},{"$f":"VLOOKUP(A183, localcont!$D$10:$L$1764, 9)*F183","v":2323735.0368635477}]
[363,73,"Dedham                       ",915,"Norfolk County",44332448,{"$f":"VLOOKUP(A184, localcont!$D$10:$L$1764, 8)","v":255514.84887248103},{"$f":"VLOOKUP(A184, localcont!$D$10:$L$1764, 9)*F184","v":338024.1053213327}]
[366,74,"Deerfield                    ",74,"Deerfield",5949002,{"$f":"VLOOKUP(A185, localcont!$D$10:$L$1764, 8)","v":3395385.48},{"$f":"VLOOKUP(A185, localcont!$D$10:$L$1764, 9)*F185","v":2891553.3870398197}]
[367,74,"Deerfield                    ",670,"Frontier",5949002,{"$f":"VLOOKUP(A186, localcont!$D$10:$L$1764, 8)","v":3272131.8655165248},{"$f":"VLOOKUP(A186, localcont!$D$10:$L$1764, 9)*F186","v":2786589.0439559845}]
[368,74,"Deerfield                    ",818,"Franklin County",5949002,{"$f":"VLOOKUP(A187, localcont!$D$10:$L$1764, 8)","v":318054.8738397673},{"$f":"VLOOKUP(A187, localcont!$D$10:$L$1764, 9)*F187","v":270859.56900419499}]
[371,75,"Dennis                       ",75,"Dennis",34467305,{"$f":"VLOOKUP(A188, localcont!$D$10:$L$1764, 8)","v":0},{"$f":"VLOOKUP(A188, localcont!$D$10:$L$1764, 9)*F188","v":0}]
[372,75,"Dennis                       ",645,"Dennis Yarmouth",34467305,{"$f":"VLOOKUP(A189, localcont!$D$10:$L$1764, 8)","v":12955148.36372165},{"$f":"VLOOKUP(A189, localcont!$D$10:$L$1764, 9)*F189","v":31182954.614145704}]
[373,75,"Dennis                       ",815,"Cape Cod",34467305,{"$f":"VLOOKUP(A190, localcont!$D$10:$L$1764, 8)","v":1364503.3658191904},{"$f":"VLOOKUP(A190, localcont!$D$10:$L$1764, 9)*F190","v":3284350.3858542969}]
[376,76,"Dighton                      ",76,"Dighton",7916886,{"$f":"VLOOKUP(A191, localcont!$D$10:$L$1764, 8)","v":0},{"$f":"VLOOKUP(A191, localcont!$D$10:$L$1764, 9)*F191","v":0}]
[377,76,"Dighton                      ",650,"Dighton Rehoboth",7916886,{"$f":"VLOOKUP(A192, localcont!$D$10:$L$1764, 8)","v":13643305.045763906},{"$f":"VLOOKUP(A192, localcont!$D$10:$L$1764, 9)*F192","v":7029288.1579626873}]
[378,76,"Dighton                      ",810,"Bristol Plymouth",7916886,{"$f":"VLOOKUP(A193, localcont!$D$10:$L$1764, 8)","v":1528655.6389227279},{"$f":"VLOOKUP(A193, localcont!$D$10:$L$1764, 9)*F193","v":787592.22521516006}]
[379,76,"Dighton                      ",910,"Bristol County",7916886,{"$f":"VLOOKUP(A194, localcont!$D$10:$L$1764, 8)","v":194103.17317107407},{"$f":"VLOOKUP(A194, localcont!$D$10:$L$1764, 9)*F194","v":100005.616822153}]
[381,77,"Douglas                      ",77,"Douglas",8776280,{"$f":"VLOOKUP(A195, localcont!$D$10:$L$1764, 8)","v":13212607.830000002},{"$f":"VLOOKUP(A195, localcont!$D$10:$L$1764, 9)*F195","v":7612728.6743827304}]
[382,77,"Douglas                      ",805,"Blackstone Valley",8776280,{"$f":"VLOOKUP(A196, localcont!$D$10:$L$1764, 8)","v":2019452.9469033217},{"$f":"VLOOKUP(A196, localcont!$D$10:$L$1764, 9)*F196","v":1163551.3256172698}]
[386,78,"Dover                        ",78,"Dover",33908956,{"$f":"VLOOKUP(A197, localcont!$D$10:$L$1764, 8)","v":5086667.2165000001},{"$f":"VLOOKUP(A197, localcont!$D$10:$L$1764, 9)*F197","v":13473722.869948415}]
[387,78,"Dover                        ",655,"Dover Sherborn",33908956,{"$f":"VLOOKUP(A198, localcont!$D$10:$L$1764, 8)","v":7648553.2047380973},{"$f":"VLOOKUP(A198, localcont!$D$10:$L$1764, 9)*F198","v":20259726.428025693}]
[388,78,"Dover                        ",830,"Minuteman",33908956,{"$f":"VLOOKUP(A199, localcont!$D$10:$L$1764, 8)","v":66258.167552360406},{"$f":"VLOOKUP(A199, localcont!$D$10:$L$1764, 9)*F199","v":175506.70202588677}]
[389,78,"Dover                        ",915,"Norfolk County",33908956,{"$f":"VLOOKUP(A200, localcont!$D$10:$L$1764, 8)","v":0},{"$f":"VLOOKUP(A200, localcont!$D$10:$L$1764, 9)*F200","v":0}]
[391,79,"Dracut                       ",79,"Dracut",30301317,{"$f":"VLOOKUP(A201, localcont!$D$10:$L$1764, 8)","v":44231763.989999995},{"$f":"VLOOKUP(A201, localcont!$D$10:$L$1764, 9)*F201","v":25209265.667626705}]
[392,79,"Dracut                       ",828,"Greater Lowell",{"$f":"VLOOKUP(B202, town351, 7)","v":30301317},{"$f":"VLOOKUP(A202, localcont!$D$10:$L$1764, 8)","v":8934429.7342122719},{"$f":"VLOOKUP(A202, localcont!$D$10:$L$1764, 9)*F202","v":5092051.332373295}]
[396,80,"Dudley                       ",80,"Dudley",8694399,{"$f":"VLOOKUP(A203, localcont!$D$10:$L$1764, 8)","v":0},{"$f":"VLOOKUP(A203, localcont!$D$10:$L$1764, 9)*F203","v":0}]
[397,80,"Dudley                       ",658,"Dudley Charlton",8694399,{"$f":"VLOOKUP(A204, localcont!$D$10:$L$1764, 8)","v":18944529.760031629},{"$f":"VLOOKUP(A204, localcont!$D$10:$L$1764, 9)*F204","v":7756715.0085098129}]
[398,80,"Dudley                       ",876,"Southern Worcester",8694399,{"$f":"VLOOKUP(A205, localcont!$D$10:$L$1764, 8)","v":2290142.4459713167},{"$f":"VLOOKUP(A205, localcont!$D$10:$L$1764, 9)*F205","v":937683.99149018654}]
[401,81,"Dunstable                    ",81,"Dunstable",5034848,{"$f":"VLOOKUP(A206, localcont!$D$10:$L$1764, 8)","v":0},{"$f":"VLOOKUP(A206, localcont!$D$10:$L$1764, 9)*F206","v":0}]
[402,81,"Dunstable                    ",673,"Groton Dunstable",5034848,{"$f":"VLOOKUP(A207, localcont!$D$10:$L$1764, 8)","v":5585250.7073817952},{"$f":"VLOOKUP(A207, localcont!$D$10:$L$1764, 9)*F207","v":4740664.7550075864}]
[403,81,"Dunstable                    ",828,"Greater Lowell",5034848,{"$f":"VLOOKUP(A208, localcont!$D$10:$L$1764, 8)","v":346594.25673544023},{"$f":"VLOOKUP(A208, localcont!$D$10:$L$1764, 9)*F208","v":294183.24499241397}]
[406,82,"Duxbury                      ",82,"Duxbury",38671019,{"$f":"VLOOKUP(A209, localcont!$D$10:$L$1764, 8)","v":31043749.911899995},{"$f":"VLOOKUP(A209, localcont!$D$10:$L$1764, 9)*F209","v":38671019}]
[411,83,"East Bridgewater             ",83,"East Bridgewater",14058419,{"$f":"VLOOKUP(A210, localcont!$D$10:$L$1764, 8)","v":23773530.020000003},{"$f":"VLOOKUP(A210, localcont!$D$10:$L$1764, 9)*F210","v":13175642.302891364}]
[412,83,"East Bridgewater             ",872,"Southeastern",14058419,{"$f":"VLOOKUP(A211, localcont!$D$10:$L$1764, 8)","v":1592842.1421294296},{"$f":"VLOOKUP(A211, localcont!$D$10:$L$1764, 9)*F211","v":882776.69710863614}]
[416,84,"East Brookfield              ",84,"East Brookfield",1995651,{"$f":"VLOOKUP(A212, localcont!$D$10:$L$1764, 8)","v":341535.72000000003},{"$f":"VLOOKUP(A212, localcont!$D$10:$L$1764, 9)*F212","v":176263.53496331177}]
[417,84,"East Brookfield              ",767,"Spencer East Brookfield",1995651,{"$f":"VLOOKUP(A213, localcont!$D$10:$L$1764, 8)","v":3525322.5118832323},{"$f":"VLOOKUP(A213, localcont!$D$10:$L$1764, 9)*F213","v":1819387.4650366881}]
[421,85,"Eastham                      ",85,"Eastham",13727086,{"$f":"VLOOKUP(A214, localcont!$D$10:$L$1764, 8)","v":2206111.6999999993},{"$f":"VLOOKUP(A214, localcont!$D$10:$L$1764, 9)*F214","v":5664916.8204328483}]
[422,85,"Eastham                      ",660,"Nauset",13727086,{"$f":"VLOOKUP(A215, localcont!$D$10:$L$1764, 8)","v":2728463.2871520161},{"$f":"VLOOKUP(A215, localcont!$D$10:$L$1764, 9)*F215","v":7006226.189417772}]
[423,85,"Eastham                      ",815,"Cape Cod",13727086,{"$f":"VLOOKUP(A216, localcont!$D$10:$L$1764, 8)","v":411220.19244821597},{"$f":"VLOOKUP(A216, localcont!$D$10:$L$1764, 9)*F216","v":1055942.9901493802}]
[426,86,"Easthampton                  ",86,"Easthampton",13054266,{"$f":"VLOOKUP(A217, localcont!$D$10:$L$1764, 8)","v":20235912.760000002},{"$f":"VLOOKUP(A217, localcont!$D$10:$L$1764, 9)*F217","v":13054266}]
[431,87,"East Longmeadow              ",87,"East Longmeadow",18273867,{"$f":"VLOOKUP(A218, localcont!$D$10:$L$1764, 8)","v":29273598.25},{"$f":"VLOOKUP(A218, localcont!$D$10:$L$1764, 9)*F218","v":18273867}]
[436,88,"Easton                       ",88,"Easton",31598212,{"$f":"VLOOKUP(A219, localcont!$D$10:$L$1764, 8)","v":37898989.639999993},{"$f":"VLOOKUP(A219, localcont!$D$10:$L$1764, 9)*F219","v":30258164.687501773}]
[437,88,"Easton                       ",872,"Southeastern",31598212,{"$f":"VLOOKUP(A220, localcont!$D$10:$L$1764, 8)","v":1554917.3293105061},{"$f":"VLOOKUP(A220, localcont!$D$10:$L$1764, 9)*F220","v":1241430.0505803069}]
[438,88,"Easton                       ",910,"Bristol County",31598212,{"$f":"VLOOKUP(A221, localcont!$D$10:$L$1764, 8)","v":123520.20112099274},{"$f":"VLOOKUP(A221, localcont!$D$10:$L$1764, 9)*F221","v":98617.261917917989}]
[441,89,"Edgartown                    ",89,"Edgartown",36064667,{"$f":"VLOOKUP(A222, localcont!$D$10:$L$1764, 8)","v":5232376.0799999991},{"$f":"VLOOKUP(A222, localcont!$D$10:$L$1764, 9)*F222","v":23548913.017582651}]
[442,89,"Edgartown                    ",700,"Marthas Vineyard",36064667,{"$f":"VLOOKUP(A223, localcont!$D$10:$L$1764, 8)","v":2780898.2823058413},{"$f":"VLOOKUP(A223, localcont!$D$10:$L$1764, 9)*F223","v":12515753.982417349}]
[446,90,"Egremont                     ",90,"Egremont",2210858,{"$f":"VLOOKUP(A224, localcont!$D$10:$L$1764, 8)","v":0},{"$f":"VLOOKUP(A224, localcont!$D$10:$L$1764, 9)*F224","v":0}]
[447,90,"Egremont                     ",765,"Southern Berkshire",2210858,{"$f":"VLOOKUP(A225, localcont!$D$10:$L$1764, 8)","v":892329.68372262362},{"$f":"VLOOKUP(A225, localcont!$D$10:$L$1764, 9)*F225","v":2210858}]
[451,91,"Erving                       ",91,"Erving",3905615,{"$f":"VLOOKUP(A226, localcont!$D$10:$L$1764, 8)","v":2402474.0299999998},{"$f":"VLOOKUP(A226, localcont!$D$10:$L$1764, 9)*F226","v":3247984.7758836141}]
[452,91,"Erving                       ",818,"Franklin County",3905615,{"$f":"VLOOKUP(A227, localcont!$D$10:$L$1764, 8)","v":486436.86587258527},{"$f":"VLOOKUP(A227, localcont!$D$10:$L$1764, 9)*F227","v":657630.22411638591}]
[456,92,"Essex                        ",92,"Essex",6719235,{"$f":"VLOOKUP(A228, localcont!$D$10:$L$1764, 8)","v":0},{"$f":"VLOOKUP(A228, localcont!$D$10:$L$1764, 9)*F228","v":0}]
[457,92,"Essex                        ",698,"Manchester Essex",6719235,{"$f":"VLOOKUP(A229, localcont!$D$10:$L$1764, 8)","v":5660557.7633655006},{"$f":"VLOOKUP(A229, localcont!$D$10:$L$1764, 9)*F229","v":6432331.2799973972}]
[458,92,"Essex                        ",817,"Essex North Shore",6719235,{"$f":"VLOOKUP(A230, localcont!$D$10:$L$1764, 8)","v":252480.01213019504},{"$f":"VLOOKUP(A230, localcont!$D$10:$L$1764, 9)*F230","v":286903.7200026029}]
[461,93,"Everett                      ",93,"Everett",36560261,{"$f":"VLOOKUP(A231, localcont!$D$10:$L$1764, 8)","v":117442393.16045},{"$f":"VLOOKUP(A231, localcont!$D$10:$L$1764, 9)*F231","v":36560261}]
[466,94,"Fairhaven                    ",94,"Fairhaven",15159786,{"$f":"VLOOKUP(A232, localcont!$D$10:$L$1764, 8)","v":21116969.420000002},{"$f":"VLOOKUP(A232, localcont!$D$10:$L$1764, 9)*F232","v":13026735.636673365}]
[467,94,"Fairhaven                    ",825,"Greater New Bedford",15159786,{"$f":"VLOOKUP(A233, localcont!$D$10:$L$1764, 8)","v":3069571.6073978585},{"$f":"VLOOKUP(A233, localcont!$D$10:$L$1764, 9)*F233","v":1893571.8024736538}]
[468,94,"Fairhaven                    ",910,"Bristol County",15159786,{"$f":"VLOOKUP(A234, localcont!$D$10:$L$1764, 8)","v":388206.34634214814},{"$f":"VLOOKUP(A234, localcont!$D$10:$L$1764, 9)*F234","v":239478.56085298173}]
[471,95,"Fall River                   ",95,"Fall River",44423244,{"$f":"VLOOKUP(A235, localcont!$D$10:$L$1764, 8)","v":175667708.91},{"$f":"VLOOKUP(A235, localcont!$D$10:$L$1764, 9)*F235","v":39650450.019577391}]
[472,95,"Fall River                   ",821,"Greater Fall River",44423244,{"$f":"VLOOKUP(A236, localcont!$D$10:$L$1764, 8)","v":20369016.507395606},{"$f":"VLOOKUP(A236, localcont!$D$10:$L$1764, 9)*F236","v":4597547.6994933402}]
[473,95,"Fall River                   ",910,"Bristol County",44423244,{"$f":"VLOOKUP(A237, localcont!$D$10:$L$1764, 8)","v":776412.69268429629},{"$f":"VLOOKUP(A237, localcont!$D$10:$L$1764, 9)*F237","v":175246.28092927628}]
[476,96,"Falmouth                     ",96,"Falmouth",66516265,{"$f":"VLOOKUP(A238, localcont!$D$10:$L$1764, 8)","v":38376927.950000003},{"$f":"VLOOKUP(A238, localcont!$D$10:$L$1764, 9)*F238","v":61627991.601145394}]
[477,96,"Falmouth                     ",879,"Upper Cape Cod",66516265,{"$f":"VLOOKUP(A239, localcont!$D$10:$L$1764, 8)","v":3044021.2499843724},{"$f":"VLOOKUP(A239, localcont!$D$10:$L$1764, 9)*F239","v":4888273.3988546105}]
[481,97,"Fitchburg                    ",97,"Fitchburg",21665097,{"$f":"VLOOKUP(A240, localcont!$D$10:$L$1764, 8)","v":80108669.530000001},{"$f":"VLOOKUP(A240, localcont!$D$10:$L$1764, 9)*F240","v":19996946.703187399}]
[482,97,"Fitchburg                    ",832,"Montachusett",21665097,{"$f":"VLOOKUP(A241, localcont!$D$10:$L$1764, 8)","v":6682685.2537658485},{"$f":"VLOOKUP(A241, localcont!$D$10:$L$1764, 9)*F241","v":1668150.2968126007}]
[486,98,"Florida                      ",98,"Florida",670171,{"$f":"VLOOKUP(A242, localcont!$D$10:$L$1764, 8)","v":772556.75},{"$f":"VLOOKUP(A242, localcont!$D$10:$L$1764, 9)*F242","v":495562.9952051065}]
[487,98,"Florida                      ",851,"Northern Berkshire",670171,{"$f":"VLOOKUP(A243, localcont!$D$10:$L$1764, 8)","v":272204.7328261392},{"$f":"VLOOKUP(A243, localcont!$D$10:$L$1764, 9)*F243","v":174608.00479489347}]
[491,99,"Foxborough                   ",99,"Foxborough",26350088,{"$f":"VLOOKUP(A244, localcont!$D$10:$L$1764, 8)","v":30048953.225120001},{"$f":"VLOOKUP(A244, localcont!$D$10:$L$1764, 9)*F244","v":25488755.376998123}]
[492,99,"Foxborough                   ",872,"Southeastern",26350088,{"$f":"VLOOKUP(A245, localcont!$D$10:$L$1764, 8)","v":796421.07120835502},{"$f":"VLOOKUP(A245, localcont!$D$10:$L$1764, 9)*F245","v":675557.03884375491}]
[493,99,"Foxborough                   ",915,"Norfolk County",26350088,{"$f":"VLOOKUP(A246, localcont!$D$10:$L$1764, 8)","v":219012.72761927173},{"$f":"VLOOKUP(A246, localcont!$D$10:$L$1764, 9)*F246","v":185775.58415812152}]
[496,100,"Framingham                   ",100,"Framingham",74532920,{"$f":"VLOOKUP(A247, localcont!$D$10:$L$1764, 8)","v":123005242.38944},{"$f":"VLOOKUP(A247, localcont!$D$10:$L$1764, 9)*F247","v":67993376.379409656}]
[497,100,"Framingham                   ",829,"South Middlesex",74532920,{"$f":"VLOOKUP(A248, localcont!$D$10:$L$1764, 8)","v":11830536.899335772},{"$f":"VLOOKUP(A248, localcont!$D$10:$L$1764, 9)*F248","v":6539543.6205903431}]
[501,101,"Franklin                     ",101,"Franklin",44862498,{"$f":"VLOOKUP(A249, localcont!$D$10:$L$1764, 8)","v":60677982.577360004},{"$f":"VLOOKUP(A249, localcont!$D$10:$L$1764, 9)*F249","v":42382934.360651948}]
[502,101,"Franklin                     ",878,"Tri County",44862498,{"$f":"VLOOKUP(A250, localcont!$D$10:$L$1764, 8)","v":3294379.0312336064},{"$f":"VLOOKUP(A250, localcont!$D$10:$L$1764, 9)*F250","v":2301089.1975828269}]
[503,101,"Franklin                     ",915,"Norfolk County",44862498,{"$f":"VLOOKUP(A251, localcont!$D$10:$L$1764, 8)","v":255514.84887248103},{"$f":"VLOOKUP(A251, localcont!$D$10:$L$1764, 9)*F251","v":178474.44176522319}]
[506,102,"Freetown                     ",102,"Freetown",10664390,{"$f":"VLOOKUP(A252, localcont!$D$10:$L$1764, 8)","v":1470825.43},{"$f":"VLOOKUP(A252, localcont!$D$10:$L$1764, 9)*F252","v":1061096.8654237241}]
[507,102,"Freetown                     ",665,"Freetown Lakeville",10664390,{"$f":"VLOOKUP(A253, localcont!$D$10:$L$1764, 8)","v":13117374.990925478},{"$f":"VLOOKUP(A253, localcont!$D$10:$L$1764, 9)*F253","v":9463261.3779723495}]
[508,102,"Freetown                     ",910,"Bristol County",10664390,{"$f":"VLOOKUP(A254, localcont!$D$10:$L$1764, 8)","v":194103.17317107407},{"$f":"VLOOKUP(A254, localcont!$D$10:$L$1764, 9)*F254","v":140031.75660392613}]
[511,103,"Gardner                      ",103,"Gardner",11382836,{"$f":"VLOOKUP(A255, localcont!$D$10:$L$1764, 8)","v":31455697.409999996},{"$f":"VLOOKUP(A255, localcont!$D$10:$L$1764, 9)*F255","v":10313330.232510701}]
[512,103,"Gardner                      ",832,"Montachusett",11382836,{"$f":"VLOOKUP(A256, localcont!$D$10:$L$1764, 8)","v":3261996.7597220284},{"$f":"VLOOKUP(A256, localcont!$D$10:$L$1764, 9)*F256","v":1069505.7674892973}]
[516,104,"Aquinnah",104,"Aquinnah",3074546,{"$f":"VLOOKUP(A257, localcont!$D$10:$L$1764, 8)","v":0},{"$f":"VLOOKUP(A257, localcont!$D$10:$L$1764, 9)*F257","v":0}]
[517,104,"Aquinnah",700,"Marthas Vineyard",3074546,{"$f":"VLOOKUP(A258, localcont!$D$10:$L$1764, 8)","v":209314.92444491436},{"$f":"VLOOKUP(A258, localcont!$D$10:$L$1764, 9)*F258","v":851297.84306979319}]
[518,104,"Aquinnah",774,"Upisland",3074546,{"$f":"VLOOKUP(A259, localcont!$D$10:$L$1764, 8)","v":546646.53949086671},{"$f":"VLOOKUP(A259, localcont!$D$10:$L$1764, 9)*F259","v":2223248.1569302068}]
[521,105,"Georgetown                   ",105,"Georgetown",11429215,{"$f":"VLOOKUP(A260, localcont!$D$10:$L$1764, 8)","v":13662197.030000001},{"$f":"VLOOKUP(A260, localcont!$D$10:$L$1764, 9)*F260","v":10944271.628735002}]
[522,105,"Georgetown                   ",885,"Whittier",11429215,{"$f":"VLOOKUP(A261, localcont!$D$10:$L$1764, 8)","v":605375.31517578324},{"$f":"VLOOKUP(A261, localcont!$D$10:$L$1764, 9)*F261","v":484943.37126499735}]
[526,106,"Gill                         ",106,"Gill",1181627,{"$f":"VLOOKUP(A262, localcont!$D$10:$L$1764, 8)","v":0},{"$f":"VLOOKUP(A262, localcont!$D$10:$L$1764, 9)*F262","v":0}]
[527,106,"Gill                         ",674,"Gill Montague",1181627,{"$f":"VLOOKUP(A263, localcont!$D$10:$L$1764, 8)","v":1531116.9448411958},{"$f":"VLOOKUP(A263, localcont!$D$10:$L$1764, 9)*F263","v":1030520.6498789598}]
[528,106,"Gill                         ",818,"Franklin County",1181627,{"$f":"VLOOKUP(A264, localcont!$D$10:$L$1764, 8)","v":224509.32271042399},{"$f":"VLOOKUP(A264, localcont!$D$10:$L$1764, 9)*F264","v":151106.35012104025}]
[531,107,"Gloucester                   ",107,"Gloucester",42209873,{"$f":"VLOOKUP(A265, localcont!$D$10:$L$1764, 8)","v":39149213.462099992},{"$f":"VLOOKUP(A265, localcont!$D$10:$L$1764, 9)*F265","v":40404458.402458027}]
[532,107,"Gloucester                   ",817,"Essex North Shore",{"$f":"VLOOKUP(B266, town351, 7)","v":42209873},{"$f":"VLOOKUP(A266, localcont!$D$10:$L$1764, 8)","v":1749325.7987208217},{"$f":"VLOOKUP(A266, localcont!$D$10:$L$1764, 9)*F266","v":1805414.5975419742}]
[536,108,"Goshen                       ",108,"Goshen",787635,{"$f":"VLOOKUP(A267, localcont!$D$10:$L$1764, 8)","v":149546.50000000003},{"$f":"VLOOKUP(A267, localcont!$D$10:$L$1764, 9)*F267","v":90815.84274931236}]
[537,108,"Goshen                       ",632,"Chesterfield Goshen",787635,{"$f":"VLOOKUP(A268, localcont!$D$10:$L$1764, 8)","v":701202.50702185882},{"$f":"VLOOKUP(A268, localcont!$D$10:$L$1764, 9)*F268","v":425822.71476176789}]
[538,108,"Goshen                       ",683,"Hampshire",787635,{"$f":"VLOOKUP(A269, localcont!$D$10:$L$1764, 8)","v":446249.99625383213},{"$f":"VLOOKUP(A269, localcont!$D$10:$L$1764, 9)*F269","v":270996.44248891977}]
[541,109,"Gosnold                      ",109,"Gosnold",885881,{"$f":"VLOOKUP(A270, localcont!$D$10:$L$1764, 8)","v":8344.89},{"$f":"VLOOKUP(A270, localcont!$D$10:$L$1764, 9)*F270","v":885881}]
[546,110,"Grafton                      ",110,"Grafton",23612730,{"$f":"VLOOKUP(A271, localcont!$D$10:$L$1764, 8)","v":32932840.999999996},{"$f":"VLOOKUP(A271, localcont!$D$10:$L$1764, 9)*F271","v":22910296.437550124}]
[547,110,"Grafton                      ",805,"Blackstone Valley",23612730,{"$f":"VLOOKUP(A272, localcont!$D$10:$L$1764, 8)","v":1009726.4733471541},{"$f":"VLOOKUP(A272, localcont!$D$10:$L$1764, 9)*F272","v":702433.56244987668}]
[551,111,"Granby                       ",111,"Granby",5515400,{"$f":"VLOOKUP(A273, localcont!$D$10:$L$1764, 8)","v":8266807.4100000001},{"$f":"VLOOKUP(A273, localcont!$D$10:$L$1764, 9)*F273","v":5311014.3727429062}]
[552,111,"Granby                       ",860,"Pathfinder",5515400,{"$f":"VLOOKUP(A274, localcont!$D$10:$L$1764, 8)","v":318134.44651512703},{"$f":"VLOOKUP(A274, localcont!$D$10:$L$1764, 9)*F274","v":204385.62725709478}]
[556,112,"Granville                    ",112,"Granville",1529253,{"$f":"VLOOKUP(A275, localcont!$D$10:$L$1764, 8)","v":0},{"$f":"VLOOKUP(A275, localcont!$D$10:$L$1764, 9)*F275","v":0}]
[557,112,"Granville                    ",766,"Southwick Tolland Granville",1529253,{"$f":"VLOOKUP(A276, localcont!$D$10:$L$1764, 8)","v":1966898.9788260695},{"$f":"VLOOKUP(A276, localcont!$D$10:$L$1764, 9)*F276","v":1529253}]
[561,113,"Great Barrington             ",113,"Great Barrington",9785928,{"$f":"VLOOKUP(A277, localcont!$D$10:$L$1764, 8)","v":0},{"$f":"VLOOKUP(A277, localcont!$D$10:$L$1764, 9)*F277","v":0}]
[562,113,"Great Barrington             ",618,"Berkshire Hills",9785928,{"$f":"VLOOKUP(A278, localcont!$D$10:$L$1764, 8)","v":8805940.3689673617},{"$f":"VLOOKUP(A278, localcont!$D$10:$L$1764, 9)*F278","v":9785928}]
[566,114,"Greenfield                   ",114,"Greenfield",11377727,{"$f":"VLOOKUP(A279, localcont!$D$10:$L$1764, 8)","v":24436320.869999997},{"$f":"VLOOKUP(A279, localcont!$D$10:$L$1764, 9)*F279","v":10568568.7067916}]
[567,114,"Greenfield                   ",818,"Franklin County",11377727,{"$f":"VLOOKUP(A280, localcont!$D$10:$L$1764, 8)","v":1870911.0226776057},{"$f":"VLOOKUP(A280, localcont!$D$10:$L$1764, 9)*F280","v":809158.29320840049}]
[571,115,"Groton                       ",115,"Groton",19094487,{"$f":"VLOOKUP(A281, localcont!$D$10:$L$1764, 8)","v":0},{"$f":"VLOOKUP(A281, localcont!$D$10:$L$1764, 9)*F281","v":0}]
[572,115,"Groton                       ",673,"Groton Dunstable",19094487,{"$f":"VLOOKUP(A282, localcont!$D$10:$L$1764, 8)","v":18688329.8126182},{"$f":"VLOOKUP(A282, localcont!$D$10:$L$1764, 9)*F282","v":18411246.163095906}]
[573,115,"Groton                       ",852,"Nashoba Valley",19094487,{"$f":"VLOOKUP(A283, localcont!$D$10:$L$1764, 8)","v":693523.40348948108},{"$f":"VLOOKUP(A283, localcont!$D$10:$L$1764, 9)*F283","v":683240.8369040906}]
[576,116,"Groveland                    ",116,"Groveland",7708952,{"$f":"VLOOKUP(A284, localcont!$D$10:$L$1764, 8)","v":119637.19999999998},{"$f":"VLOOKUP(A284, localcont!$D$10:$L$1764, 9)*F284","v":88206.300555729453}]
[577,116,"Groveland                    ",745,"Pentucket",7708952,{"$f":"VLOOKUP(A285, localcont!$D$10:$L$1764, 8)","v":9474074.9057826456},{"$f":"VLOOKUP(A285, localcont!$D$10:$L$1764, 9)*F285","v":6985060.655272427}]
[578,116,"Groveland                    ",885,"Whittier",7708952,{"$f":"VLOOKUP(A286, localcont!$D$10:$L$1764, 8)","v":862201.20657419274},{"$f":"VLOOKUP(A286, localcont!$D$10:$L$1764, 9)*F286","v":635685.04417184484}]
[581,117,"Hadley                       ",117,"Hadley",6622900,{"$f":"VLOOKUP(A287, localcont!$D$10:$L$1764, 8)","v":5998298.0700000003},{"$f":"VLOOKUP(A287, localcont!$D$10:$L$1764, 9)*F287","v":6622900}]
[586,118,"Halifax                      ",118,"Halifax",7514918,{"$f":"VLOOKUP(A288, localcont!$D$10:$L$1764, 8)","v":6928966.3674400011},{"$f":"VLOOKUP(A288, localcont!$D$10:$L$1764, 9)*F288","v":3944490.1549801021}]
[587,118,"Halifax                      ",760,"Silver Lake",7514918,{"$f":"VLOOKUP(A289, localcont!$D$10:$L$1764, 8)","v":6271881.4050732357},{"$f":"VLOOKUP(A289, localcont!$D$10:$L$1764, 9)*F289","v":3570427.8450198974}]
[591,119,"Hamilton                     ",119,"Hamilton",14181221,{"$f":"VLOOKUP(A290, localcont!$D$10:$L$1764, 8)","v":0},{"$f":"VLOOKUP(A290, localcont!$D$10:$L$1764, 9)*F290","v":0}]
[592,119,"Hamilton                     ",675,"Hamilton Wenham",14181221,{"$f":"VLOOKUP(A291, localcont!$D$10:$L$1764, 8)","v":12227800.459401339},{"$f":"VLOOKUP(A291, localcont!$D$10:$L$1764, 9)*F291","v":13874281.774325108}]
[593,119,"Hamilton                     ",817,"Essex North Shore",14181221,{"$f":"VLOOKUP(A292, localcont!$D$10:$L$1764, 8)","v":270514.29874093743},{"$f":"VLOOKUP(A292, localcont!$D$10:$L$1764, 9)*F292","v":306939.2256748912}]
[596,120,"Hampden                      ",120,"Hampden",5518819,{"$f":"VLOOKUP(A293, localcont!$D$10:$L$1764, 8)","v":0},{"$f":"VLOOKUP(A293, localcont!$D$10:$L$1764, 9)*F293","v":0}]
[597,120,"Hampden                      ",680,"Hampden Wilbraham",5518819,{"$f":"VLOOKUP(A294, localcont!$D$10:$L$1764, 8)","v":6616367.2676201463},{"$f":"VLOOKUP(A294, localcont!$D$10:$L$1764, 9)*F294","v":5518819}]
[601,121,"Hancock                      ",121,"Hancock",1360834,{"$f":"VLOOKUP(A295, localcont!$D$10:$L$1764, 8)","v":889298.06999999983},{"$f":"VLOOKUP(A295, localcont!$D$10:$L$1764, 9)*F295","v":1360834}]
[606,122,"Hanover                      ",122,"Hanover",22371199,{"$f":"VLOOKUP(A296, localcont!$D$10:$L$1764, 8)","v":27476046.046630003},{"$f":"VLOOKUP(A296, localcont!$D$10:$L$1764, 9)*F296","v":21789589.543083798}]
[607,122,"Hanover                      ",873,"South Shore",22371199,{"$f":"VLOOKUP(A297, localcont!$D$10:$L$1764, 8)","v":733392.80612824822},{"$f":"VLOOKUP(A297, localcont!$D$10:$L$1764, 9)*F297","v":581609.45691619941}]
[611,123,"Hanson                       ",123,"Hanson",10906176,{"$f":"VLOOKUP(A298, localcont!$D$10:$L$1764, 8)","v":14954.649999999998},{"$f":"VLOOKUP(A298, localcont!$D$10:$L$1764, 9)*F298","v":9171.9179065437274}]
[612,123,"Hanson                       ",780,"Whitman Hanson",10906176,{"$f":"VLOOKUP(A299, localcont!$D$10:$L$1764, 8)","v":16300586.899877964},{"$f":"VLOOKUP(A299, localcont!$D$10:$L$1764, 9)*F299","v":9997401.803062113}]
[613,123,"Hanson                       ",873,"South Shore",10906176,{"$f":"VLOOKUP(A300, localcont!$D$10:$L$1764, 8)","v":1466785.6122564964},{"$f":"VLOOKUP(A300, localcont!$D$10:$L$1764, 9)*F300","v":899602.27903134259}]
[616,124,"Hardwick                     ",124,"Hardwick",1830429,{"$f":"VLOOKUP(A301, localcont!$D$10:$L$1764, 8)","v":29909.299999999996},{"$f":"VLOOKUP(A301, localcont!$D$10:$L$1764, 9)*F301","v":12869.903650370292}]
[617,124,"Hardwick                     ",753,"Quabbin",1830429,{"$f":"VLOOKUP(A302, localcont!$D$10:$L$1764, 8)","v":3774826.0685792281},{"$f":"VLOOKUP(A302, localcont!$D$10:$L$1764, 9)*F302","v":1624299.0574677694}]
[618,124,"Hardwick                     ",860,"Pathfinder",1830429,{"$f":"VLOOKUP(A303, localcont!$D$10:$L$1764, 8)","v":449130.98325820931},{"$f":"VLOOKUP(A303, localcont!$D$10:$L$1764, 9)*F303","v":193260.03888186041}]
[621,125,"Harvard                      ",125,"Harvard",11541343,{"$f":"VLOOKUP(A304, localcont!$D$10:$L$1764, 8)","v":9566705.8100000005},{"$f":"VLOOKUP(A304, localcont!$D$10:$L$1764, 9)*F304","v":11456878.21780538}]
[622,125,"Harvard                      ",832,"Montachusett",11541343,{"$f":"VLOOKUP(A305, localcont!$D$10:$L$1764, 8)","v":70529.65975546767},{"$f":"VLOOKUP(A305, localcont!$D$10:$L$1764, 9)*F305","v":84464.782194618587}]
[626,126,"Harwich                      ",126,"Harwich",28490054,{"$f":"VLOOKUP(A306, localcont!$D$10:$L$1764, 8)","v":0},{"$f":"VLOOKUP(A306, localcont!$D$10:$L$1764, 9)*F306","v":0}]
[627,126,"Harwich                      ",712,"Monomoy",28490054,{"$f":"VLOOKUP(A307, localcont!$D$10:$L$1764, 8)","v":16063241.348263456},{"$f":"VLOOKUP(A307, localcont!$D$10:$L$1764, 9)*F307","v":26688797.478389721}]
[628,126,"Harwich                      ",815,"Cape Cod",28490054,{"$f":"VLOOKUP(A308, localcont!$D$10:$L$1764, 8)","v":1084125.9618455167},{"$f":"VLOOKUP(A308, localcont!$D$10:$L$1764, 9)*F308","v":1801256.52161028}]
[631,127,"Hatfield                     ",127,"Hatfield",3855257,{"$f":"VLOOKUP(A309, localcont!$D$10:$L$1764, 8)","v":3979328.2800000012},{"$f":"VLOOKUP(A309, localcont!$D$10:$L$1764, 9)*F309","v":3855257}]
[636,128,"Haverhill                    ",128,"Haverhill",52690168,{"$f":"VLOOKUP(A310, localcont!$D$10:$L$1764, 8)","v":108992118.71000001},{"$f":"VLOOKUP(A310, localcont!$D$10:$L$1764, 9)*F310","v":45892771.121237934}]
[637,128,"Haverhill                    ",885,"Whittier",52690168,{"$f":"VLOOKUP(A311, localcont!$D$10:$L$1764, 8)","v":16143341.738328096},{"$f":"VLOOKUP(A311, localcont!$D$10:$L$1764, 9)*F311","v":6797396.8787620654}]
[641,129,"Hawley                       ",129,"Hawley",278200,{"$f":"VLOOKUP(A312, localcont!$D$10:$L$1764, 8)","v":14954.649999999998},{"$f":"VLOOKUP(A312, localcont!$D$10:$L$1764, 9)*F312","v":9238.8364694362444}]
[642,129,"Hawley                       ",685,"Hawlemont",278200,{"$f":"VLOOKUP(A313, localcont!$D$10:$L$1764, 8)","v":274984.01408363256},{"$f":"VLOOKUP(A313, localcont!$D$10:$L$1764, 9)*F313","v":169882.43374654936}]
[643,129,"Hawley                       ",717,"Mohawk Trail",278200,{"$f":"VLOOKUP(A314, localcont!$D$10:$L$1764, 8)","v":160376.00960534412},{"$f":"VLOOKUP(A314, localcont!$D$10:$L$1764, 9)*F314","v":99078.729784014387}]
[646,130,"Heath                        ",130,"Heath",492361,{"$f":"VLOOKUP(A315, localcont!$D$10:$L$1764, 8)","v":0},{"$f":"VLOOKUP(A315, localcont!$D$10:$L$1764, 9)*F315","v":0}]
[647,130,"Heath                        ",717,"Mohawk Trail",492361,{"$f":"VLOOKUP(A316, localcont!$D$10:$L$1764, 8)","v":1030988.633372511},{"$f":"VLOOKUP(A316, localcont!$D$10:$L$1764, 9)*F316","v":451403.4357619707}]
[648,130,"Heath                        ",818,"Franklin County",492361,{"$f":"VLOOKUP(A317, localcont!$D$10:$L$1764, 8)","v":93545.551129343323},{"$f":"VLOOKUP(A317, localcont!$D$10:$L$1764, 9)*F317","v":40957.564238029321}]
[651,131,"Hingham                      ",131,"Hingham",69389378,{"$f":"VLOOKUP(A318, localcont!$D$10:$L$1764, 8)","v":45919654.091400005},{"$f":"VLOOKUP(A318, localcont!$D$10:$L$1764, 9)*F318","v":69389378}]
[656,132,"Hinsdale                     ",132,"Hinsdale",2145585,{"$f":"VLOOKUP(A319, localcont!$D$10:$L$1764, 8)","v":119637.19999999998},{"$f":"VLOOKUP(A319, localcont!$D$10:$L$1764, 9)*F319","v":115597.82219670652}]
[657,132,"Hinsdale                     ",635,"Central Berkshire",2145585,{"$f":"VLOOKUP(A320, localcont!$D$10:$L$1764, 8)","v":2100921.7766665458},{"$f":"VLOOKUP(A320, localcont!$D$10:$L$1764, 9)*F320","v":2029987.1778032933}]
[661,133,"Holbrook                     ",133,"Holbrook",9861996,{"$f":"VLOOKUP(A321, localcont!$D$10:$L$1764, 8)","v":17149375.393759999},{"$f":"VLOOKUP(A321, localcont!$D$10:$L$1764, 9)*F321","v":8754208.002343623}]
[662,133,"Holbrook                     ",806,"Blue Hills",9861996,{"$f":"VLOOKUP(A322, localcont!$D$10:$L$1764, 8)","v":2115388.5628909334},{"$f":"VLOOKUP(A322, localcont!$D$10:$L$1764, 9)*F322","v":1079838.2483401804}]
[663,133,"Holbrook                     ",915,"Norfolk County",9861996,{"$f":"VLOOKUP(A323, localcont!$D$10:$L$1764, 8)","v":54753.181904817931},{"$f":"VLOOKUP(A323, localcont!$D$10:$L$1764, 9)*F323","v":27949.74931619607}]
[666,134,"Holden                       ",134,"Holden",21519691,{"$f":"VLOOKUP(A324, localcont!$D$10:$L$1764, 8)","v":0},{"$f":"VLOOKUP(A324, localcont!$D$10:$L$1764, 9)*F324","v":0}]
[667,134,"Holden                       ",775,"Wachusett",21519691,{"$f":"VLOOKUP(A325, localcont!$D$10:$L$1764, 8)","v":35212057.769383349},{"$f":"VLOOKUP(A325, localcont!$D$10:$L$1764, 9)*F325","v":20660975.491930682}]
[668,134,"Holden                       ",832,"Montachusett",21519691,{"$f":"VLOOKUP(A326, localcont!$D$10:$L$1764, 8)","v":1463490.438261807},{"$f":"VLOOKUP(A326, localcont!$D$10:$L$1764, 9)*F326","v":858715.50806931488}]
[671,135,"Holland                      ",135,"Holland",2457355,{"$f":"VLOOKUP(A327, localcont!$D$10:$L$1764, 8)","v":1909559.09},{"$f":"VLOOKUP(A327, localcont!$D$10:$L$1764, 9)*F327","v":1144922.5527222957}]
[672,135,"Holland                      ",770,"Tantasqua",2457355,{"$f":"VLOOKUP(A328, localcont!$D$10:$L$1764, 8)","v":2188940.469161991},{"$f":"VLOOKUP(A328, localcont!$D$10:$L$1764, 9)*F328","v":1312432.4472777045}]
[676,136,"Holliston                    ",136,"Holliston",23348295,{"$f":"VLOOKUP(A329, localcont!$D$10:$L$1764, 8)","v":28940333.030220006},{"$f":"VLOOKUP(A329, localcont!$D$10:$L$1764, 9)*F329","v":22417915.922165811}]
[677,136,"Holliston                    ",829,"South Middlesex",{"$f":"VLOOKUP(B330, town351, 7)","v":23348295},{"$f":"VLOOKUP(A330, localcont!$D$10:$L$1764, 8)","v":1201069.7359359681},{"$f":"VLOOKUP(A330, localcont!$D$10:$L$1764, 9)*F330","v":930379.07783418964}]
[681,137,"Holyoke                      ",137,"Holyoke",18243788,{"$f":"VLOOKUP(A331, localcont!$D$10:$L$1764, 8)","v":92731775.269999996},{"$f":"VLOOKUP(A331, localcont!$D$10:$L$1764, 9)*F331","v":18243788}]
[686,138,"Hopedale                     ",138,"Hopedale",6633034,{"$f":"VLOOKUP(A332, localcont!$D$10:$L$1764, 8)","v":10008851.028140003},{"$f":"VLOOKUP(A332, localcont!$D$10:$L$1764, 9)*F332","v":6062227.9628730426}]
[687,138,"Hopedale                     ",805,"Blackstone Valley",6633034,{"$f":"VLOOKUP(A333, localcont!$D$10:$L$1764, 8)","v":942411.37524941855},{"$f":"VLOOKUP(A333, localcont!$D$10:$L$1764, 9)*F333","v":570806.03712695709}]
[691,139,"Hopkinton                    ",139,"Hopkinton",35880361,{"$f":"VLOOKUP(A334, localcont!$D$10:$L$1764, 8)","v":41968586.829549991},{"$f":"VLOOKUP(A334, localcont!$D$10:$L$1764, 9)*F334","v":35357559.763967358}]
[692,139,"Hopkinton                    ",829,"South Middlesex",35880361,{"$f":"VLOOKUP(A335, localcont!$D$10:$L$1764, 8)","v":620552.69694805285},{"$f":"VLOOKUP(A335, localcont!$D$10:$L$1764, 9)*F335","v":522801.23603263986}]
[696,140,"Hubbardston                  ",140,"Hubbardston",4023305,{"$f":"VLOOKUP(A336, localcont!$D$10:$L$1764, 8)","v":0},{"$f":"VLOOKUP(A336, localcont!$D$10:$L$1764, 9)*F336","v":0}]
[697,140,"Hubbardston                  ",753,"Quabbin",4023305,{"$f":"VLOOKUP(A337, localcont!$D$10:$L$1764, 8)","v":5782712.2751655784},{"$f":"VLOOKUP(A337, localcont!$D$10:$L$1764, 9)*F337","v":3491064.3175583417}]
[698,140,"Hubbardston                  ",832,"Montachusett",4023305,{"$f":"VLOOKUP(A338, localcont!$D$10:$L$1764, 8)","v":881620.74591925519},{"$f":"VLOOKUP(A338, localcont!$D$10:$L$1764, 9)*F338","v":532240.68244165811}]
[701,141,"Hudson                       ",141,"Hudson",21860851,{"$f":"VLOOKUP(A339, localcont!$D$10:$L$1764, 8)","v":30680243.220659997},{"$f":"VLOOKUP(A339, localcont!$D$10:$L$1764, 9)*F339","v":19206246.761290763}]
[702,141,"Hudson                       ",801,"Assabet Valley",21860851,{"$f":"VLOOKUP(A340, localcont!$D$10:$L$1764, 8)","v":4240490.3316321233},{"$f":"VLOOKUP(A340, localcont!$D$10:$L$1764, 9)*F340","v":2654604.2387092342}]
[706,142,"Hull                         ",142,"Hull",15143008,{"$f":"VLOOKUP(A341, localcont!$D$10:$L$1764, 8)","v":10835997.687280001},{"$f":"VLOOKUP(A341, localcont!$D$10:$L$1764, 9)*F341","v":15143008}]
[711,143,"Huntington                   ",143,"Huntington",1804267,{"$f":"VLOOKUP(A342, localcont!$D$10:$L$1764, 8)","v":431263.62000000005},{"$f":"VLOOKUP(A342, localcont!$D$10:$L$1764, 9)*F342","v":206667.24215497746}]
[712,143,"Huntington                   ",672,"Gateway",1804267,{"$f":"VLOOKUP(A343, localcont!$D$10:$L$1764, 8)","v":3333797.1112166122},{"$f":"VLOOKUP(A343, localcont!$D$10:$L$1764, 9)*F343","v":1597599.7578450225}]
[716,144,"Ipswich                      ",144,"Ipswich",22010433,{"$f":"VLOOKUP(A344, localcont!$D$10:$L$1764, 8)","v":18643938.808199998},{"$f":"VLOOKUP(A344, localcont!$D$10:$L$1764, 9)*F344","v":21523341.411237799}]
[717,144,"Ipswich                      ",885,"Whittier",22010433,{"$f":"VLOOKUP(A345, localcont!$D$10:$L$1764, 8)","v":421928.24995703617},{"$f":"VLOOKUP(A345, localcont!$D$10:$L$1764, 9)*F345","v":487091.58876219974}]
[721,145,"Kingston                     ",145,"Kingston",16258998,{"$f":"VLOOKUP(A346, localcont!$D$10:$L$1764, 8)","v":11896660.208199998},{"$f":"VLOOKUP(A346, localcont!$D$10:$L$1764, 9)*F346","v":8004243.0253273156}]
[722,145,"Kingston                     ",760,"Silver Lake",16258998,{"$f":"VLOOKUP(A347, localcont!$D$10:$L$1764, 8)","v":12268994.672561642},{"$f":"VLOOKUP(A347, localcont!$D$10:$L$1764, 9)*F347","v":8254754.9746726854}]
[726,146,"Lakeville                    ",146,"Lakeville",13901865,{"$f":"VLOOKUP(A348, localcont!$D$10:$L$1764, 8)","v":206943.87000000002},{"$f":"VLOOKUP(A348, localcont!$D$10:$L$1764, 9)*F348","v":143253.41313387896}]
[727,146,"Lakeville                    ",665,"Freetown Lakeville",13901865,{"$f":"VLOOKUP(A349, localcont!$D$10:$L$1764, 8)","v":17634258.039074518},{"$f":"VLOOKUP(A349, localcont!$D$10:$L$1764, 9)*F349","v":12207018.51270573}]
[728,146,"Lakeville                    ",855,"Old Colony",13901865,{"$f":"VLOOKUP(A350, localcont!$D$10:$L$1764, 8)","v":2241431.239979377},{"$f":"VLOOKUP(A350, localcont!$D$10:$L$1764, 9)*F350","v":1551593.0741603908}]
[731,147,"Lancaster                    ",147,"Lancaster",8086630,{"$f":"VLOOKUP(A351, localcont!$D$10:$L$1764, 8)","v":0},{"$f":"VLOOKUP(A351, localcont!$D$10:$L$1764, 9)*F351","v":0}]
[732,147,"Lancaster                    ",725,"Nashoba",8086630,{"$f":"VLOOKUP(A352, localcont!$D$10:$L$1764, 8)","v":10235891.806268612},{"$f":"VLOOKUP(A352, localcont!$D$10:$L$1764, 9)*F352","v":7228764.4250376793}]
[733,147,"Lancaster                    ",830,"Minuteman",8086630,{"$f":"VLOOKUP(A353, localcont!$D$10:$L$1764, 8)","v":1214733.0710103968},{"$f":"VLOOKUP(A353, localcont!$D$10:$L$1764, 9)*F353","v":857865.57496232027}]
[736,148,"Lanesborough                 ",148,"Lanesborough",2743723,{"$f":"VLOOKUP(A354, localcont!$D$10:$L$1764, 8)","v":29909.299999999996},{"$f":"VLOOKUP(A354, localcont!$D$10:$L$1764, 9)*F354","v":18565.043790387928}]
[737,148,"Lanesborough                 ",715,"Mount Greylock",2743723,{"$f":"VLOOKUP(A355, localcont!$D$10:$L$1764, 8)","v":3972997.78845745},{"$f":"VLOOKUP(A355, localcont!$D$10:$L$1764, 9)*F355","v":2466085.0612293491}]
[738,148,"Lanesborough                 ",851,"Northern Berkshire",2743723,{"$f":"VLOOKUP(A356, localcont!$D$10:$L$1764, 8)","v":417380.59038918524},{"$f":"VLOOKUP(A356, localcont!$D$10:$L$1764, 9)*F356","v":259072.89498026337}]
[741,149,"Lawrence                     ",149,"Lawrence",35674148,{"$f":"VLOOKUP(A357, localcont!$D$10:$L$1764, 8)","v":233340242.25999999},{"$f":"VLOOKUP(A357, localcont!$D$10:$L$1764, 9)*F357","v":31960543.983394392}]
[742,149,"Lawrence                     ",823,"Greater Lawrence",35674148,{"$f":"VLOOKUP(A358, localcont!$D$10:$L$1764, 8)","v":27112594.24566374},{"$f":"VLOOKUP(A358, localcont!$D$10:$L$1764, 9)*F358","v":3713604.0166056082}]
[746,150,"Lee                          ",150,"Lee",6228857,{"$f":"VLOOKUP(A359, localcont!$D$10:$L$1764, 8)","v":7555332.2300000004},{"$f":"VLOOKUP(A359, localcont!$D$10:$L$1764, 9)*F359","v":6228857}]
[751,151,"Leicester                    ",151,"Leicester",8866623,{"$f":"VLOOKUP(A360, localcont!$D$10:$L$1764, 8)","v":18481715.280000001},{"$f":"VLOOKUP(A360, localcont!$D$10:$L$1764, 9)*F360","v":8866623}]
[756,152,"Lenox                        ",152,"Lenox",8503301,{"$f":"VLOOKUP(A361, localcont!$D$10:$L$1764, 8)","v":5883431.6600000001},{"$f":"VLOOKUP(A361, localcont!$D$10:$L$1764, 9)*F361","v":8503301}]
[761,153,"Leominster                   ",153,"Leominster",31869957,{"$f":"VLOOKUP(A362, localcont!$D$10:$L$1764, 8)","v":80292978.790000007},{"$f":"VLOOKUP(A362, localcont!$D$10:$L$1764, 9)*F362","v":31869957}]
[766,154,"Leverett                     ",154,"Leverett",2330725,{"$f":"VLOOKUP(A363, localcont!$D$10:$L$1764, 8)","v":1226441.5},{"$f":"VLOOKUP(A363, localcont!$D$10:$L$1764, 9)*F363","v":1221258.6132640631}]
[767,154,"Leverett                     ",605,"Amherst Pelham",2330725,{"$f":"VLOOKUP(A364, localcont!$D$10:$L$1764, 8)","v":1114174.8396036003},{"$f":"VLOOKUP(A364, localcont!$D$10:$L$1764, 9)*F364","v":1109466.3867359371}]
[771,155,"Lexington                    ",155,"Lexington",105884162,{"$f":"VLOOKUP(A365, localcont!$D$10:$L$1764, 8)","v":82151053.714560002},{"$f":"VLOOKUP(A365, localcont!$D$10:$L$1764, 9)*F365","v":104065610.43407001}]
[772,155,"Lexington                    ",830,"Minuteman",105884162,{"$f":"VLOOKUP(A366, localcont!$D$10:$L$1764, 8)","v":1435593.6293677115},{"$f":"VLOOKUP(A366, localcont!$D$10:$L$1764, 9)*F366","v":1818551.5659300035}]
[776,156,"Leyden                       ",156,"Leyden",739776,{"$f":"VLOOKUP(A367, localcont!$D$10:$L$1764, 8)","v":0},{"$f":"VLOOKUP(A367, localcont!$D$10:$L$1764, 9)*F367","v":0}]
[777,156,"Leyden                       ",750,"Pioneer",739776,{"$f":"VLOOKUP(A368, localcont!$D$10:$L$1764, 8)","v":661380.74023523286},{"$f":"VLOOKUP(A368, localcont!$D$10:$L$1764, 9)*F368","v":681906.75244361872}]
[778,156,"Leyden                       ",818,"Franklin County",739776,{"$f":"VLOOKUP(A369, localcont!$D$10:$L$1764, 8)","v":56127.330677605998},{"$f":"VLOOKUP(A369, localcont!$D$10:$L$1764, 9)*F369","v":57869.247556381291}]
[781,157,"Lincoln                      ",157,"Lincoln",22410038,{"$f":"VLOOKUP(A370, localcont!$D$10:$L$1764, 8)","v":6332691.0512000015},{"$f":"VLOOKUP(A370, localcont!$D$10:$L$1764, 9)*F370","v":16691082.276888888}]
[782,157,"Lincoln                      ",695,"Lincoln Sudbury",22410038,{"$f":"VLOOKUP(A371, localcont!$D$10:$L$1764, 8)","v":2169804.1582421139},{"$f":"VLOOKUP(A371, localcont!$D$10:$L$1764, 9)*F371","v":5718955.7231111098}]
[786,158,"Littleton                    ",158,"Littleton",15637619,{"$f":"VLOOKUP(A372, localcont!$D$10:$L$1764, 8)","v":17029929.215600003},{"$f":"VLOOKUP(A372, localcont!$D$10:$L$1764, 9)*F372","v":15086261.425843157}]
[787,158,"Littleton                    ",852,"Nashoba Valley",15637619,{"$f":"VLOOKUP(A373, localcont!$D$10:$L$1764, 8)","v":622392.79801232659},{"$f":"VLOOKUP(A373, localcont!$D$10:$L$1764, 9)*F373","v":551357.57415684231}]
[791,159,"Longmeadow                   ",159,"Longmeadow",25942441,{"$f":"VLOOKUP(A374, localcont!$D$10:$L$1764, 8)","v":29509451.490000002},{"$f":"VLOOKUP(A374, localcont!$D$10:$L$1764, 9)*F374","v":25942441}]
[796,160,"Lowell                       ",160,"Lowell",68115957,{"$f":"VLOOKUP(A375, localcont!$D$10:$L$1764, 8)","v":227619488.50999999},{"$f":"VLOOKUP(A375, localcont!$D$10:$L$1764, 9)*F375","v":59253827.650460355}]
[797,160,"Lowell                       ",828,"Greater Lowell",68115957,{"$f":"VLOOKUP(A376, localcont!$D$10:$L$1764, 8)","v":34043258.125890888},{"$f":"VLOOKUP(A376, localcont!$D$10:$L$1764, 9)*F376","v":8862129.349539645}]
[801,161,"Ludlow                       ",161,"Ludlow",16967565,{"$f":"VLOOKUP(A377, localcont!$D$10:$L$1764, 8)","v":29682132.170000002},{"$f":"VLOOKUP(A377, localcont!$D$10:$L$1764, 9)*F377","v":16967565}]
[806,162,"Lunenburg                    ",162,"Lunenburg",11825175,{"$f":"VLOOKUP(A378, localcont!$D$10:$L$1764, 8)","v":18454431.700000003},{"$f":"VLOOKUP(A378, localcont!$D$10:$L$1764, 9)*F378","v":10975740.36474622}]
[807,162,"Lunenburg                    ",832,"Montachusett",11825175,{"$f":"VLOOKUP(A379, localcont!$D$10:$L$1764, 8)","v":1428225.6083840732},{"$f":"VLOOKUP(A379, localcont!$D$10:$L$1764, 9)*F379","v":849434.63525378017}]
[811,163,"Lynn                         ",163,"Lynn",60028539,{"$f":"VLOOKUP(A380, localcont!$D$10:$L$1764, 8)","v":269437661.94999999},{"$f":"VLOOKUP(A380, localcont!$D$10:$L$1764, 9)*F380","v":60028539}]
[816,164,"Lynnfield                    ",164,"Lynnfield",27715002,{"$f":"VLOOKUP(A381, localcont!$D$10:$L$1764, 8)","v":23736014.726909995},{"$f":"VLOOKUP(A381, localcont!$D$10:$L$1764, 9)*F381","v":26957179.766351603}]
[817,164,"Lynnfield                    ",817,"Essex North Shore",27715002,{"$f":"VLOOKUP(A382, localcont!$D$10:$L$1764, 8)","v":667268.60354697239},{"$f":"VLOOKUP(A382, localcont!$D$10:$L$1764, 9)*F382","v":757822.23364839517}]
[821,165,"Malden                       ",165,"Malden",54131408,{"$f":"VLOOKUP(A383, localcont!$D$10:$L$1764, 8)","v":99371892.755459994},{"$f":"VLOOKUP(A383, localcont!$D$10:$L$1764, 9)*F383","v":52666335.785333201}]
[822,165,"Malden                       ",853,"Northeast Metropolitan",54131408,{"$f":"VLOOKUP(A384, localcont!$D$10:$L$1764, 8)","v":2764327.4745424194},{"$f":"VLOOKUP(A384, localcont!$D$10:$L$1764, 9)*F384","v":1465072.2146667966}]
[826,166,"Manchester                   ",166,"Manchester",21241245,{"$f":"VLOOKUP(A385, localcont!$D$10:$L$1764, 8)","v":0},{"$f":"VLOOKUP(A385, localcont!$D$10:$L$1764, 9)*F385","v":0}]
[827,166,"Manchester                   ",698,"Manchester Essex",21241245,{"$f":"VLOOKUP(A386, localcont!$D$10:$L$1764, 8)","v":9004940.8395644985},{"$f":"VLOOKUP(A386, localcont!$D$10:$L$1764, 9)*F386","v":20824196.695193764}]
[828,166,"Manchester                   ",817,"Essex North Shore",21241245,{"$f":"VLOOKUP(A387, localcont!$D$10:$L$1764, 8)","v":180342.86589732478},{"$f":"VLOOKUP(A387, localcont!$D$10:$L$1764, 9)*F387","v":417048.3048062388}]
[831,167,"Mansfield                    ",167,"Mansfield",31913357,{"$f":"VLOOKUP(A388, localcont!$D$10:$L$1764, 8)","v":42028169.123660006},{"$f":"VLOOKUP(A388, localcont!$D$10:$L$1764, 9)*F388","v":30589379.373637587}]
[832,167,"Mansfield                    ",872,"Southeastern",31913357,{"$f":"VLOOKUP(A389, localcont!$D$10:$L$1764, 8)","v":1801428.6133517097},{"$f":"VLOOKUP(A389, localcont!$D$10:$L$1764, 9)*F389","v":1311134.5180468473}]
[833,167,"Mansfield                    ",910,"Bristol County",31913357,{"$f":"VLOOKUP(A390, localcont!$D$10:$L$1764, 8)","v":17645.743045870782},{"$f":"VLOOKUP(A390, localcont!$D$10:$L$1764, 9)*F390","v":12843.108315560685}]
[836,168,"Marblehead                   ",168,"Marblehead",50792032,{"$f":"VLOOKUP(A391, localcont!$D$10:$L$1764, 8)","v":32226764.34},{"$f":"VLOOKUP(A391, localcont!$D$10:$L$1764, 9)*F391","v":49517362.484988891}]
[837,168,"Marblehead                   ",817,"Essex North Shore",50792032,{"$f":"VLOOKUP(A392, localcont!$D$10:$L$1764, 8)","v":829577.18283355469},{"$f":"VLOOKUP(A392, localcont!$D$10:$L$1764, 9)*F392","v":1274669.5150111069}]
[841,169,"Marion                       ",169,"Marion",10890854,{"$f":"VLOOKUP(A393, localcont!$D$10:$L$1764, 8)","v":4560187.0899999989},{"$f":"VLOOKUP(A393, localcont!$D$10:$L$1764, 9)*F393","v":5914162.3888571979}]
[842,169,"Marion                       ",740,"Old Rochester",{"$f":"VLOOKUP(B394, town351, 7)","v":10890854},{"$f":"VLOOKUP(A394, localcont!$D$10:$L$1764, 8)","v":3589569.6338421949},{"$f":"VLOOKUP(A394, localcont!$D$10:$L$1764, 9)*F394","v":4655356.7434123456}]
[843,169,"Marion                       ",879,"Upper Cape Cod",10890854,{"$f":"VLOOKUP(A395, localcont!$D$10:$L$1764, 8)","v":247769.17153173318},{"$f":"VLOOKUP(A395, localcont!$D$10:$L$1764, 9)*F395","v":321334.86773045629}]
[846,170,"Marlborough                  ",170,"Marlborough",43922296,{"$f":"VLOOKUP(A396, localcont!$D$10:$L$1764, 8)","v":69057563.677520007},{"$f":"VLOOKUP(A396, localcont!$D$10:$L$1764, 9)*F396","v":39392366.604695268}]
[847,170,"Marlborough                  ",801,"Assabet Valley",43922296,{"$f":"VLOOKUP(A397, localcont!$D$10:$L$1764, 8)","v":7941281.8937778585},{"$f":"VLOOKUP(A397, localcont!$D$10:$L$1764, 9)*F397","v":4529929.3953047302}]
[851,171,"Marshfield                   ",171,"Marshfield",37489570,{"$f":"VLOOKUP(A398, localcont!$D$10:$L$1764, 8)","v":43929784.021200001},{"$f":"VLOOKUP(A398, localcont!$D$10:$L$1764, 9)*F398","v":37489570}]
[856,172,"Mashpee                      ",172,"Mashpee",29338675,{"$f":"VLOOKUP(A399, localcont!$D$10:$L$1764, 8)","v":18618025.09},{"$f":"VLOOKUP(A399, localcont!$D$10:$L$1764, 9)*F399","v":27856431.706968229}]
[857,172,"Mashpee                      ",815,"Cape Cod",29338675,{"$f":"VLOOKUP(A400, localcont!$D$10:$L$1764, 8)","v":990666.82730388874},{"$f":"VLOOKUP(A400, localcont!$D$10:$L$1764, 9)*F400","v":1482243.2930317675}]
[861,173,"Mattapoisett                 ",173,"Mattapoisett",12348131,{"$f":"VLOOKUP(A401, localcont!$D$10:$L$1764, 8)","v":4588800.5899999989},{"$f":"VLOOKUP(A401, localcont!$D$10:$L$1764, 9)*F401","v":5855153.3903077338}]
[862,173,"Mattapoisett                 ",740,"Old Rochester",12348131,{"$f":"VLOOKUP(A402, localcont!$D$10:$L$1764, 8)","v":4453309.8269477505},{"$f":"VLOOKUP(A402, localcont!$D$10:$L$1764, 9)*F402","v":5682271.7875705017}]
[863,173,"Mattapoisett                 ",855,"Old Colony",12348131,{"$f":"VLOOKUP(A403, localcont!$D$10:$L$1764, 8)","v":635366.33575252478},{"$f":"VLOOKUP(A403, localcont!$D$10:$L$1764, 9)*F403","v":810705.82212176675}]
[866,174,"Maynard                      ",174,"Maynard",11494003,{"$f":"VLOOKUP(A404, localcont!$D$10:$L$1764, 8)","v":15104159.783779997},{"$f":"VLOOKUP(A404, localcont!$D$10:$L$1764, 9)*F404","v":10502234.612941148}]
[867,174,"Maynard                      ",801,"Assabet Valley",11494003,{"$f":"VLOOKUP(A405, localcont!$D$10:$L$1764, 8)","v":1426346.7479749585},{"$f":"VLOOKUP(A405, localcont!$D$10:$L$1764, 9)*F405","v":991768.38705885119}]
[871,175,"Medfield                     ",175,"Medfield",29033232,{"$f":"VLOOKUP(A406, localcont!$D$10:$L$1764, 8)","v":26805211.95112},{"$f":"VLOOKUP(A406, localcont!$D$10:$L$1764, 9)*F406","v":28658371.645620294}]
[872,175,"Medfield                     ",878,"Tri County",29033232,{"$f":"VLOOKUP(A407, localcont!$D$10:$L$1764, 8)","v":277616.21053395915},{"$f":"VLOOKUP(A407, localcont!$D$10:$L$1764, 9)*F407","v":296809.01426330791}]
[873,175,"Medfield                     ",915,"Norfolk County",29033232,{"$f":"VLOOKUP(A408, localcont!$D$10:$L$1764, 8)","v":73004.242556426543},{"$f":"VLOOKUP(A408, localcont!$D$10:$L$1764, 9)*F408","v":78051.340116400868}]
[876,176,"Medford                      ",176,"Medford",73714170,{"$f":"VLOOKUP(A409, localcont!$D$10:$L$1764, 8)","v":60473450.492880009},{"$f":"VLOOKUP(A409, localcont!$D$10:$L$1764, 9)*F409","v":73714170}]
[881,177,"Medway                       ",177,"Medway",18299128,{"$f":"VLOOKUP(A410, localcont!$D$10:$L$1764, 8)","v":23855868.192400001},{"$f":"VLOOKUP(A410, localcont!$D$10:$L$1764, 9)*F410","v":17396724.652991034}]
[882,177,"Medway                       ",878,"Tri County",18299128,{"$f":"VLOOKUP(A411, localcont!$D$10:$L$1764, 8)","v":1054941.5998913473},{"$f":"VLOOKUP(A411, localcont!$D$10:$L$1764, 9)*F411","v":769308.76672693703}]
[883,177,"Medway                       ",915,"Norfolk County",18299128,{"$f":"VLOOKUP(A412, localcont!$D$10:$L$1764, 8)","v":182510.6063160545},{"$f":"VLOOKUP(A412, localcont!$D$10:$L$1764, 9)*F412","v":133094.58028202745}]
[886,178,"Melrose                      ",178,"Melrose",41295844,{"$f":"VLOOKUP(A413, localcont!$D$10:$L$1764, 8)","v":44662909.214660004},{"$f":"VLOOKUP(A413, localcont!$D$10:$L$1764, 9)*F413","v":40478498.648580693}]
[887,178,"Melrose                      ",853,"Northeast Metropolitan",41295844,{"$f":"VLOOKUP(A414, localcont!$D$10:$L$1764, 8)","v":901837.33207073901},{"$f":"VLOOKUP(A414, localcont!$D$10:$L$1764, 9)*F414","v":817345.35141931009}]
[891,179,"Mendon                       ",179,"Mendon",9062436,{"$f":"VLOOKUP(A415, localcont!$D$10:$L$1764, 8)","v":104682.55},{"$f":"VLOOKUP(A415, localcont!$D$10:$L$1764, 9)*F415","v":82119.315710786759}]
[892,179,"Mendon                       ",710,"Mendon Upton",9062436,{"$f":"VLOOKUP(A416, localcont!$D$10:$L$1764, 8)","v":10219262.291017661},{"$f":"VLOOKUP(A416, localcont!$D$10:$L$1764, 9)*F416","v":8016606.6494121253}]
[893,179,"Mendon                       ",805,"Blackstone Valley",9062436,{"$f":"VLOOKUP(A417, localcont!$D$10:$L$1764, 8)","v":1228500.5426350748},{"$f":"VLOOKUP(A417, localcont!$D$10:$L$1764, 9)*F417","v":963710.03487708839}]
[896,180,"Merrimac                     ",180,"Merrimac",7015643,{"$f":"VLOOKUP(A418, localcont!$D$10:$L$1764, 8)","v":149546.50000000003},{"$f":"VLOOKUP(A418, localcont!$D$10:$L$1764, 9)*F418","v":105128.43175053019}]
[897,180,"Merrimac                     ",745,"Pentucket",7015643,{"$f":"VLOOKUP(A419, localcont!$D$10:$L$1764, 8)","v":8766299.8328893874},{"$f":"VLOOKUP(A419, localcont!$D$10:$L$1764, 9)*F419","v":6162547.1253863918}]
[898,180,"Merrimac                     ",885,"Whittier",7015643,{"$f":"VLOOKUP(A420, localcont!$D$10:$L$1764, 8)","v":1063992.9782226507},{"$f":"VLOOKUP(A420, localcont!$D$10:$L$1764, 9)*F420","v":747967.44286307774}]
[901,181,"Methuen                      ",181,"Methuen",44825519,{"$f":"VLOOKUP(A421, localcont!$D$10:$L$1764, 8)","v":91361491.539999992},{"$f":"VLOOKUP(A421, localcont!$D$10:$L$1764, 9)*F421","v":42134786.518050514}]
[902,181,"Methuen                      ",823,"Greater Lawrence",44825519,{"$f":"VLOOKUP(A422, localcont!$D$10:$L$1764, 8)","v":5834355.7236422263},{"$f":"VLOOKUP(A422, localcont!$D$10:$L$1764, 9)*F422","v":2690732.4819494877}]
[906,182,"Middleborough                ",182,"Middleborough",21044799,{"$f":"VLOOKUP(A423, localcont!$D$10:$L$1764, 8)","v":35491872.479999997},{"$f":"VLOOKUP(A423, localcont!$D$10:$L$1764, 9)*F423","v":18779978.104986124}]
[907,182,"Middleborough                ",810,"Bristol Plymouth",21044799,{"$f":"VLOOKUP(A424, localcont!$D$10:$L$1764, 8)","v":4280235.7886950998},{"$f":"VLOOKUP(A424, localcont!$D$10:$L$1764, 9)*F424","v":2264820.8950138772}]
[911,183,"Middlefield                  ",183,"Middlefield",422355,{"$f":"VLOOKUP(A425, localcont!$D$10:$L$1764, 8)","v":44863.950000000004},{"$f":"VLOOKUP(A425, localcont!$D$10:$L$1764, 9)*F425","v":42106.600530121512}]
[912,183,"Middlefield                  ",672,"Gateway",422355,{"$f":"VLOOKUP(A426, localcont!$D$10:$L$1764, 8)","v":405148.95447788428},{"$f":"VLOOKUP(A426, localcont!$D$10:$L$1764, 9)*F426","v":380248.39946987847}]
[916,184,"Middleton                    ",184,"Middleton",15711859,{"$f":"VLOOKUP(A427, localcont!$D$10:$L$1764, 8)","v":7076926.2163000004},{"$f":"VLOOKUP(A427, localcont!$D$10:$L$1764, 9)*F427","v":7501595.6571834218}]
[917,184,"Middleton                    ",705,"Masconomet",15711859,{"$f":"VLOOKUP(A428, localcont!$D$10:$L$1764, 8)","v":6988035.799312504},{"$f":"VLOOKUP(A428, localcont!$D$10:$L$1764, 9)*F428","v":7407371.138563633}]
[918,184,"Middleton                    ",817,"Essex North Shore",15711859,{"$f":"VLOOKUP(A429, localcont!$D$10:$L$1764, 8)","v":757440.0366006844},{"$f":"VLOOKUP(A429, localcont!$D$10:$L$1764, 9)*F429","v":802892.20425294281}]
[921,185,"Milford                      ",185,"Milford",27391075,{"$f":"VLOOKUP(A430, localcont!$D$10:$L$1764, 8)","v":57018202.045919992},{"$f":"VLOOKUP(A430, localcont!$D$10:$L$1764, 9)*F430","v":26229825.258402485}]
[922,185,"Milford                      ",805,"Blackstone Valley",27391075,{"$f":"VLOOKUP(A431, localcont!$D$10:$L$1764, 8)","v":2524316.1835768986},{"$f":"VLOOKUP(A431, localcont!$D$10:$L$1764, 9)*F431","v":1161249.7415975153}]
[926,186,"Millbury                     ",186,"Millbury",13150935,{"$f":"VLOOKUP(A432, localcont!$D$10:$L$1764, 8)","v":19846272.080000002},{"$f":"VLOOKUP(A432, localcont!$D$10:$L$1764, 9)*F432","v":12160984.415227372}]
[927,186,"Millbury                     ",805,"Blackstone Valley",13150935,{"$f":"VLOOKUP(A433, localcont!$D$10:$L$1764, 8)","v":1615562.3574808547},{"$f":"VLOOKUP(A433, localcont!$D$10:$L$1764, 9)*F433","v":989950.58477262734}]
[931,187,"Millis                       ",187,"Millis",10047755,{"$f":"VLOOKUP(A434, localcont!$D$10:$L$1764, 8)","v":11928853.969679998},{"$f":"VLOOKUP(A434, localcont!$D$10:$L$1764, 9)*F434","v":8927880.2189507242}]
[932,187,"Millis                       ",878,"Tri County",10047755,{"$f":"VLOOKUP(A435, localcont!$D$10:$L$1764, 8)","v":1295542.3155956469},{"$f":"VLOOKUP(A435, localcont!$D$10:$L$1764, 9)*F435","v":969619.26448415325}]
[933,187,"Millis                       ",915,"Norfolk County",10047755,{"$f":"VLOOKUP(A436, localcont!$D$10:$L$1764, 8)","v":200761.66696766313},{"$f":"VLOOKUP(A436, localcont!$D$10:$L$1764, 9)*F436","v":150255.51656512186}]
[936,188,"Millville                    ",188,"Millville",2705902,{"$f":"VLOOKUP(A437, localcont!$D$10:$L$1764, 8)","v":74773.250000000015},{"$f":"VLOOKUP(A437, localcont!$D$10:$L$1764, 9)*F437","v":34960.740052663488}]
[937,188,"Millville                    ",622,"Blackstone Millville",2705902,{"$f":"VLOOKUP(A438, localcont!$D$10:$L$1764, 8)","v":5157199.9526934652},{"$f":"VLOOKUP(A438, localcont!$D$10:$L$1764, 9)*F438","v":2411283.8073204607}]
[938,188,"Millville                    ",805,"Blackstone Valley",2705902,{"$f":"VLOOKUP(A439, localcont!$D$10:$L$1764, 8)","v":555349.56040363875},{"$f":"VLOOKUP(A439, localcont!$D$10:$L$1764, 9)*F439","v":259657.45262687592}]
[941,189,"Milton                       ",189,"Milton",53032646,{"$f":"VLOOKUP(A440, localcont!$D$10:$L$1764, 8)","v":47591184.857499994},{"$f":"VLOOKUP(A440, localcont!$D$10:$L$1764, 9)*F440","v":52186284.314156078}]
[942,189,"Milton                       ",806,"Blue Hills",53032646,{"$f":"VLOOKUP(A441, localcont!$D$10:$L$1764, 8)","v":698833.72170303192},{"$f":"VLOOKUP(A441, localcont!$D$10:$L$1764, 9)*F441","v":766308.62203395925}]
[943,189,"Milton                       ",915,"Norfolk County",53032646,{"$f":"VLOOKUP(A442, localcont!$D$10:$L$1764, 8)","v":73004.242556426543},{"$f":"VLOOKUP(A442, localcont!$D$10:$L$1764, 9)*F442","v":80053.063809965024}]
[946,190,"Monroe                       ",190,"Monroe",109858,{"$f":"VLOOKUP(A443, localcont!$D$10:$L$1764, 8)","v":150269.84999999998},{"$f":"VLOOKUP(A443, localcont!$D$10:$L$1764, 9)*F443","v":88486.318951563837}]
[947,190,"Monroe                       ",851,"Northern Berkshire",109858,{"$f":"VLOOKUP(A444, localcont!$D$10:$L$1764, 8)","v":36293.964348932699},{"$f":"VLOOKUP(A444, localcont!$D$10:$L$1764, 9)*F444","v":21371.68104843617}]
[951,191,"Monson                       ",191,"Monson",6903206,{"$f":"VLOOKUP(A445, localcont!$D$10:$L$1764, 8)","v":10662015.310000001},{"$f":"VLOOKUP(A445, localcont!$D$10:$L$1764, 9)*F445","v":6062572.8131565675}]
[952,191,"Monson                       ",860,"Pathfinder",6903206,{"$f":"VLOOKUP(A446, localcont!$D$10:$L$1764, 8)","v":1478389.4865177101},{"$f":"VLOOKUP(A446, localcont!$D$10:$L$1764, 9)*F446","v":840633.18684343237}]
[956,192,"Montague                     ",192,"Montague",6144319,{"$f":"VLOOKUP(A447, localcont!$D$10:$L$1764, 8)","v":0},{"$f":"VLOOKUP(A447, localcont!$D$10:$L$1764, 9)*F447","v":0}]
[957,192,"Montague                     ",674,"Gill Montague",6144319,{"$f":"VLOOKUP(A448, localcont!$D$10:$L$1764, 8)","v":11844720.685158802},{"$f":"VLOOKUP(A448, localcont!$D$10:$L$1764, 9)*F448","v":5270244.634470352}]
[958,192,"Montague                     ",818,"Franklin County",6144319,{"$f":"VLOOKUP(A449, localcont!$D$10:$L$1764, 8)","v":1964456.573806949},{"$f":"VLOOKUP(A449, localcont!$D$10:$L$1764, 9)*F449","v":874074.36552964838}]
[961,193,"Monterey                     ",193,"Monterey",2444553,{"$f":"VLOOKUP(A450, localcont!$D$10:$L$1764, 8)","v":0},{"$f":"VLOOKUP(A450, localcont!$D$10:$L$1764, 9)*F450","v":0}]
[962,193,"Monterey                     ",765,"Southern Berkshire",2444553,{"$f":"VLOOKUP(A451, localcont!$D$10:$L$1764, 8)","v":869449.43542611506},{"$f":"VLOOKUP(A451, localcont!$D$10:$L$1764, 9)*F451","v":2444553}]
[966,194,"Montgomery                   ",194,"Montgomery",888250,{"$f":"VLOOKUP(A452, localcont!$D$10:$L$1764, 8)","v":89727.900000000009},{"$f":"VLOOKUP(A452, localcont!$D$10:$L$1764, 9)*F452","v":86333.164520356004}]
[967,194,"Montgomery                   ",672,"Gateway",888250,{"$f":"VLOOKUP(A453, localcont!$D$10:$L$1764, 8)","v":833449.2778295906},{"$f":"VLOOKUP(A453, localcont!$D$10:$L$1764, 9)*F453","v":801916.83547964389}]
[971,195,"Mount Washington             ",195,"Mount Washington",415238,{"$f":"VLOOKUP(A454, localcont!$D$10:$L$1764, 8)","v":17787.5},{"$f":"VLOOKUP(A454, localcont!$D$10:$L$1764, 9)*F454","v":415238}]
[976,196,"Nahant                       ",196,"Nahant",6545484,{"$f":"VLOOKUP(A455, localcont!$D$10:$L$1764, 8)","v":2762552.9499999997},{"$f":"VLOOKUP(A455, localcont!$D$10:$L$1764, 9)*F455","v":6106947.9884247063}]
[977,196,"Nahant                       ",817,"Essex North Shore",6545484,{"$f":"VLOOKUP(A456, localcont!$D$10:$L$1764, 8)","v":198377.15250806717},{"$f":"VLOOKUP(A456, localcont!$D$10:$L$1764, 9)*F456","v":438536.01157529384}]
[981,197,"Nantucket                    ",197,"Nantucket",99602810,{"$f":"VLOOKUP(A457, localcont!$D$10:$L$1764, 8)","v":19595960.209999997},{"$f":"VLOOKUP(A457, localcont!$D$10:$L$1764, 9)*F457","v":99602810}]
[986,198,"Natick                       ",198,"Natick",{"$f":"VLOOKUP(B458, town351, 7)","v":63999876},{"$f":"VLOOKUP(A458, localcont!$D$10:$L$1764, 8)","v":58826227.415910006},{"$f":"VLOOKUP(A458, localcont!$D$10:$L$1764, 9)*F458","v":62698411.433853745}]
[987,198,"Natick                       ",829,"South Middlesex",63999876,{"$f":"VLOOKUP(A459, localcont!$D$10:$L$1764, 8)","v":1221087.5649160368},{"$f":"VLOOKUP(A459, localcont!$D$10:$L$1764, 9)*F459","v":1301464.5661462552}]
[991,199,"Needham                      ",199,"Needham",96486573,{"$f":"VLOOKUP(A460, localcont!$D$10:$L$1764, 8)","v":63943942.401309997},{"$f":"VLOOKUP(A460, localcont!$D$10:$L$1764, 9)*F460","v":95699012.482833967}]
[992,199,"Needham                      ",830,"Minuteman",96486573,{"$f":"VLOOKUP(A461, localcont!$D$10:$L$1764, 8)","v":507979.28426698985},{"$f":"VLOOKUP(A461, localcont!$D$10:$L$1764, 9)*F461","v":760245.83471868956}]
[993,199,"Needham                      ",915,"Norfolk County",96486573,{"$f":"VLOOKUP(A462, localcont!$D$10:$L$1764, 8)","v":18251.060651608612},{"$f":"VLOOKUP(A462, localcont!$D$10:$L$1764, 9)*F462","v":27314.682447347353}]
[996,200,"New Ashford                  ",200,"New Ashford",244873,{"$f":"VLOOKUP(A463, localcont!$D$10:$L$1764, 8)","v":281200.23000000004},{"$f":"VLOOKUP(A463, localcont!$D$10:$L$1764, 9)*F463","v":244873}]
[1001,201,"New Bedford                  ",201,"New Bedford",48326976,{"$f":"VLOOKUP(A464, localcont!$D$10:$L$1764, 8)","v":201706180.5},{"$f":"VLOOKUP(A464, localcont!$D$10:$L$1764, 9)*F464","v":41685740.527271777}]
[1002,201,"New Bedford                  ",825,"Greater New Bedford",48326976,{"$f":"VLOOKUP(A465, localcont!$D$10:$L$1764, 8)","v":31305817.261582658},{"$f":"VLOOKUP(A465, localcont!$D$10:$L$1764, 9)*F465","v":6469837.3253888497}]
[1003,201,"New Bedford                  ",910,"Bristol County",48326976,{"$f":"VLOOKUP(A466, localcont!$D$10:$L$1764, 8)","v":829349.9217552077},{"$f":"VLOOKUP(A466, localcont!$D$10:$L$1764, 9)*F466","v":171398.14733937089}]
[1006,202,"New Braintree                ",202,"New Braintree",1004672,{"$f":"VLOOKUP(A467, localcont!$D$10:$L$1764, 8)","v":44863.950000000004},{"$f":"VLOOKUP(A467, localcont!$D$10:$L$1764, 9)*F467","v":27580.760526508602}]
[1007,202,"New Braintree                ",753,"Quabbin",1004672,{"$f":"VLOOKUP(A468, localcont!$D$10:$L$1764, 8)","v":1514519.8815483686},{"$f":"VLOOKUP(A468, localcont!$D$10:$L$1764, 9)*F468","v":931072.94755860162}]
[1008,202,"New Braintree                ",860,"Pathfinder",1004672,{"$f":"VLOOKUP(A469, localcont!$D$10:$L$1764, 8)","v":74855.163822285365},{"$f":"VLOOKUP(A469, localcont!$D$10:$L$1764, 9)*F469","v":46018.291914889851}]
[1011,203,"Newbury                      ",203,"Newbury",12697373,{"$f":"VLOOKUP(A470, localcont!$D$10:$L$1764, 8)","v":46184.033039999995},{"$f":"VLOOKUP(A470, localcont!$D$10:$L$1764, 9)*F470","v":72981.38090962093}]
[1012,203,"Newbury                      ",773,"Triton",12697373,{"$f":"VLOOKUP(A471, localcont!$D$10:$L$1764, 8)","v":7548686.8629403748},{"$f":"VLOOKUP(A471, localcont!$D$10:$L$1764, 9)*F471","v":11928659.21507021}]
[1013,203,"Newbury                      ",885,"Whittier",12697373,{"$f":"VLOOKUP(A472, localcont!$D$10:$L$1764, 8)","v":440272.95638674707},{"$f":"VLOOKUP(A472, localcont!$D$10:$L$1764, 9)*F472","v":695732.40402016905}]
[1016,204,"Newburyport                  ",204,"Newburyport",33237835,{"$f":"VLOOKUP(A473, localcont!$D$10:$L$1764, 8)","v":24434119.66},{"$f":"VLOOKUP(A473, localcont!$D$10:$L$1764, 9)*F473","v":32434249.90937281}]
[1017,204,"Newburyport                  ",885,"Whittier",33237835,{"$f":"VLOOKUP(A474, localcont!$D$10:$L$1764, 8)","v":605375.31517578324},{"$f":"VLOOKUP(A474, localcont!$D$10:$L$1764, 9)*F474","v":803585.09062718914}]
[1021,205,"New Marlborough              ",205,"New Marlborough",2490535,{"$f":"VLOOKUP(A475, localcont!$D$10:$L$1764, 8)","v":0},{"$f":"VLOOKUP(A475, localcont!$D$10:$L$1764, 9)*F475","v":0}]
[1022,205,"New Marlborough              ",765,"Southern Berkshire",2490535,{"$f":"VLOOKUP(A476, localcont!$D$10:$L$1764, 8)","v":1716018.622476327},{"$f":"VLOOKUP(A476, localcont!$D$10:$L$1764, 9)*F476","v":2490535}]
[1026,206,"New Salem                    ",206,"New Salem",796992,{"$f":"VLOOKUP(A477, localcont!$D$10:$L$1764, 8)","v":0},{"$f":"VLOOKUP(A477, localcont!$D$10:$L$1764, 9)*F477","v":0}]
[1027,206,"New Salem                    ",728,"New Salem Wendell",796992,{"$f":"VLOOKUP(A478, localcont!$D$10:$L$1764, 8)","v":506203.03016650031},{"$f":"VLOOKUP(A478, localcont!$D$10:$L$1764, 9)*F478","v":321549.96988386055}]
[1028,206,"New Salem                    ",755,"Ralph C Mahar",796992,{"$f":"VLOOKUP(A479, localcont!$D$10:$L$1764, 8)","v":617505.26544053387},{"$f":"VLOOKUP(A479, localcont!$D$10:$L$1764, 9)*F479","v":392251.30564749689}]
[1029,206,"New Salem                    ",818,"Franklin County",796992,{"$f":"VLOOKUP(A480, localcont!$D$10:$L$1764, 8)","v":130963.77158108067},{"$f":"VLOOKUP(A480, localcont!$D$10:$L$1764, 9)*F480","v":83190.724468642555}]
[1031,207,"Newton                       ",207,"Newton",315636614,{"$f":"VLOOKUP(A481, localcont!$D$10:$L$1764, 8)","v":146297048.2579},{"$f":"VLOOKUP(A481, localcont!$D$10:$L$1764, 9)*F481","v":315636614}]
[1036,208,"Norfolk                      ",208,"Norfolk",16366753,{"$f":"VLOOKUP(A482, localcont!$D$10:$L$1764, 8)","v":9680403.4935399964},{"$f":"VLOOKUP(A482, localcont!$D$10:$L$1764, 9)*F482","v":8802199.4205765352}]
[1037,208,"Norfolk                      ",690,"King Philip",16366753,{"$f":"VLOOKUP(A483, localcont!$D$10:$L$1764, 8)","v":7784348.6458745552},{"$f":"VLOOKUP(A483, localcont!$D$10:$L$1764, 9)*F483","v":7078154.251112326}]
[1038,208,"Norfolk                      ",878,"Tri County",16366753,{"$f":"VLOOKUP(A484, localcont!$D$10:$L$1764, 8)","v":407170.44209352386},{"$f":"VLOOKUP(A484, localcont!$D$10:$L$1764, 9)*F484","v":370232.02926026867}]
[1039,208,"Norfolk                      ",915,"Norfolk County",16366753,{"$f":"VLOOKUP(A485, localcont!$D$10:$L$1764, 8)","v":127757.42446124447},{"$f":"VLOOKUP(A485, localcont!$D$10:$L$1764, 9)*F485","v":116167.29905086682}]
[1041,209,"North Adams                  ",209,"North Adams",6089454,{"$f":"VLOOKUP(A486, localcont!$D$10:$L$1764, 8)","v":18394688.73},{"$f":"VLOOKUP(A486, localcont!$D$10:$L$1764, 9)*F486","v":5309056.9449788779}]
[1042,209,"North Adams                  ",851,"Northern Berkshire",6089454,{"$f":"VLOOKUP(A487, localcont!$D$10:$L$1764, 8)","v":2703900.346463385},{"$f":"VLOOKUP(A487, localcont!$D$10:$L$1764, 9)*F487","v":780397.05502112233}]
[1046,210,"Northampton                  ",210,"Northampton",28802851,{"$f":"VLOOKUP(A488, localcont!$D$10:$L$1764, 8)","v":31123122.110000003},{"$f":"VLOOKUP(A488, localcont!$D$10:$L$1764, 9)*F488","v":26333194.484931096}]
[1047,210,"Northampton                  ",406,"Northampton Smith",28802851,{"$f":"VLOOKUP(A489, localcont!$D$10:$L$1764, 8)","v":2918879.49},{"$f":"VLOOKUP(A489, localcont!$D$10:$L$1764, 9)*F489","v":2469656.5150689022}]
[1051,211,"North Andover                ",211,"North Andover",45457793,{"$f":"VLOOKUP(A490, localcont!$D$10:$L$1764, 8)","v":51056590.189999998},{"$f":"VLOOKUP(A490, localcont!$D$10:$L$1764, 9)*F490","v":44966618.545064837}]
[1052,211,"North Andover                ",823,"Greater Lawrence",45457793,{"$f":"VLOOKUP(A491, localcont!$D$10:$L$1764, 8)","v":557695.76785696601},{"$f":"VLOOKUP(A491, localcont!$D$10:$L$1764, 9)*F491","v":491174.45493516268}]
[1056,212,"North Attleborough           ",212,"North Attleborough",32511384,{"$f":"VLOOKUP(A492, localcont!$D$10:$L$1764, 8)","v":45482443.589999996},{"$f":"VLOOKUP(A492, localcont!$D$10:$L$1764, 9)*F492","v":29063045.783693571}]
[1057,212,"North Attleborough           ",878,"Tri County",32511384,{"$f":"VLOOKUP(A493, localcont!$D$10:$L$1764, 8)","v":5237692.5047991984},{"$f":"VLOOKUP(A493, localcont!$D$10:$L$1764, 9)*F493","v":3346858.3711134722}]
[1058,212,"North Attleborough           ",910,"Bristol County",32511384,{"$f":"VLOOKUP(A494, localcont!$D$10:$L$1764, 8)","v":158811.68714603342},{"$f":"VLOOKUP(A494, localcont!$D$10:$L$1764, 9)*F494","v":101479.84519296119}]
[1061,213,"Northborough                 ",213,"Northborough",25449725,{"$f":"VLOOKUP(A495, localcont!$D$10:$L$1764, 8)","v":15826945.729999999},{"$f":"VLOOKUP(A495, localcont!$D$10:$L$1764, 9)*F495","v":14870324.518712923}]
[1062,213,"Northborough                 ",730,"Northboro Southboro",25449725,{"$f":"VLOOKUP(A496, localcont!$D$10:$L$1764, 8)","v":10257685.015492212},{"$f":"VLOOKUP(A496, localcont!$D$10:$L$1764, 9)*F496","v":9637684.2123099901}]
[1063,213,"Northborough                 ",801,"Assabet Valley",25449725,{"$f":"VLOOKUP(A497, localcont!$D$10:$L$1764, 8)","v":1002297.7147137909},{"$f":"VLOOKUP(A497, localcont!$D$10:$L$1764, 9)*F497","v":941716.26897708559}]
[1066,214,"Northbridge                  ",214,"Northbridge",14759730,{"$f":"VLOOKUP(A498, localcont!$D$10:$L$1764, 8)","v":23869208.760000002},{"$f":"VLOOKUP(A498, localcont!$D$10:$L$1764, 9)*F498","v":13204953.982691782}]
[1067,214,"Northbridge                  ",805,"Blackstone Valley",14759730,{"$f":"VLOOKUP(A499, localcont!$D$10:$L$1764, 8)","v":2810405.350962555},{"$f":"VLOOKUP(A499, localcont!$D$10:$L$1764, 9)*F499","v":1554776.0173082203}]
[1071,215,"North Brookfield             ",215,"North Brookfield",3475298,{"$f":"VLOOKUP(A500, localcont!$D$10:$L$1764, 8)","v":7056350.7200000016},{"$f":"VLOOKUP(A500, localcont!$D$10:$L$1764, 9)*F500","v":3059622.6638790825}]
[1072,215,"North Brookfield             ",876,"Southern Worcester",3475298,{"$f":"VLOOKUP(A501, localcont!$D$10:$L$1764, 8)","v":958664.27973322023},{"$f":"VLOOKUP(A501, localcont!$D$10:$L$1764, 9)*F501","v":415675.33612091729}]
[1076,216,"Northfield                   ",216,"Northfield",3016294,{"$f":"VLOOKUP(A502, localcont!$D$10:$L$1764, 8)","v":14954.649999999998},{"$f":"VLOOKUP(A502, localcont!$D$10:$L$1764, 9)*F502","v":10969.532834171123}]
[1077,216,"Northfield                   ",750,"Pioneer",3016294,{"$f":"VLOOKUP(A503, localcont!$D$10:$L$1764, 8)","v":3591981.6064817272},{"$f":"VLOOKUP(A503, localcont!$D$10:$L$1764, 9)*F503","v":2634789.8594778245}]
[1078,216,"Northfield                   ",818,"Franklin County",3016294,{"$f":"VLOOKUP(A504, localcont!$D$10:$L$1764, 8)","v":505145.97609845398},{"$f":"VLOOKUP(A504, localcont!$D$10:$L$1764, 9)*F504","v":370534.60768800427}]
[1081,217,"North Reading                ",217,"North Reading",26201245,{"$f":"VLOOKUP(A505, localcont!$D$10:$L$1764, 8)","v":25577032.536399998},{"$f":"VLOOKUP(A505, localcont!$D$10:$L$1764, 9)*F505","v":25573955.377428811}]
[1082,217,"North Reading                ",853,"Northeast Metropolitan",26201245,{"$f":"VLOOKUP(A506, localcont!$D$10:$L$1764, 8)","v":627365.10052761296},{"$f":"VLOOKUP(A506, localcont!$D$10:$L$1764, 9)*F506","v":627289.62257118663}]
[1086,218,"Norton                       ",218,"Norton",20405369,{"$f":"VLOOKUP(A507, localcont!$D$10:$L$1764, 8)","v":26672316.059999999},{"$f":"VLOOKUP(A507, localcont!$D$10:$L$1764, 9)*F507","v":18882457.240353759}]
[1087,218,"Norton                       ",872,"Southeastern",20405369,{"$f":"VLOOKUP(A508, localcont!$D$10:$L$1764, 8)","v":2010015.0842867091},{"$f":"VLOOKUP(A508, localcont!$D$10:$L$1764, 9)*F508","v":1422974.435220825}]
[1088,218,"Norton                       ",910,"Bristol County",20405369,{"$f":"VLOOKUP(A509, localcont!$D$10:$L$1764, 8)","v":141165.94410016263},{"$f":"VLOOKUP(A509, localcont!$D$10:$L$1764, 9)*F509","v":99937.324425417362}]
[1091,219,"Norwell                      ",219,"Norwell",25875130,{"$f":"VLOOKUP(A510, localcont!$D$10:$L$1764, 8)","v":23072297.441799998},{"$f":"VLOOKUP(A510, localcont!$D$10:$L$1764, 9)*F510","v":25470320.938543823}]
[1092,219,"Norwell                      ",873,"South Shore",25875130,{"$f":"VLOOKUP(A511, localcont!$D$10:$L$1764, 8)","v":366696.40306412411},{"$f":"VLOOKUP(A511, localcont!$D$10:$L$1764, 9)*F511","v":404809.0614561793}]
[1096,220,"Norwood                      ",220,"Norwood",39761139,{"$f":"VLOOKUP(A512, localcont!$D$10:$L$1764, 8)","v":43093955.158840001},{"$f":"VLOOKUP(A512, localcont!$D$10:$L$1764, 9)*F512","v":38228164.801979773}]
[1097,220,"Norwood                      ",806,"Blue Hills",39761139,{"$f":"VLOOKUP(A513, localcont!$D$10:$L$1764, 8)","v":1454329.637079841},{"$f":"VLOOKUP(A513, localcont!$D$10:$L$1764, 9)*F513","v":1290119.5269213282}]
[1098,220,"Norwood                      ",915,"Norfolk County",39761139,{"$f":"VLOOKUP(A514, localcont!$D$10:$L$1764, 8)","v":273765.90952408966},{"$f":"VLOOKUP(A514, localcont!$D$10:$L$1764, 9)*F514","v":242854.67109889883}]
[1101,221,"Oak Bluffs                   ",221,"Oak Bluffs",13735399,{"$f":"VLOOKUP(A515, localcont!$D$10:$L$1764, 8)","v":5190647.0200000005},{"$f":"VLOOKUP(A515, localcont!$D$10:$L$1764, 9)*F515","v":8762972.7502145376}]
[1102,221,"Oak Bluffs                   ",700,"Marthas Vineyard",13735399,{"$f":"VLOOKUP(A516, localcont!$D$10:$L$1764, 8)","v":2945360.008678196},{"$f":"VLOOKUP(A516, localcont!$D$10:$L$1764, 9)*F516","v":4972426.2497854615}]
[1106,222,"Oakham                       ",222,"Oakham",1700249,{"$f":"VLOOKUP(A517, localcont!$D$10:$L$1764, 8)","v":14954.649999999998},{"$f":"VLOOKUP(A517, localcont!$D$10:$L$1764, 9)*F517","v":8272.8360767934955}]
[1107,222,"Oakham                       ",753,"Quabbin",1700249,{"$f":"VLOOKUP(A518, localcont!$D$10:$L$1764, 8)","v":2833987.9603412454},{"$f":"VLOOKUP(A518, localcont!$D$10:$L$1764, 9)*F518","v":1567747.6797858507}]
[1108,222,"Oakham                       ",860,"Pathfinder",1700249,{"$f":"VLOOKUP(A519, localcont!$D$10:$L$1764, 8)","v":224565.49157502179},{"$f":"VLOOKUP(A519, localcont!$D$10:$L$1764, 9)*F519","v":124228.48413735571}]
[1111,223,"Orange                       ",223,"Orange",4285826,{"$f":"VLOOKUP(A520, localcont!$D$10:$L$1764, 8)","v":7360903.9700000016},{"$f":"VLOOKUP(A520, localcont!$D$10:$L$1764, 9)*F520","v":2120720.5926881107}]
[1112,223,"Orange                       ",755,"Ralph C Mahar",4285826,{"$f":"VLOOKUP(A521, localcont!$D$10:$L$1764, 8)","v":6280159.9335171496},{"$f":"VLOOKUP(A521, localcont!$D$10:$L$1764, 9)*F521","v":1809351.7522664557}]
[1113,223,"Orange                       ",818,"Franklin County",{"$f":"VLOOKUP(B522, town351, 7)","v":4285826},{"$f":"VLOOKUP(A522, localcont!$D$10:$L$1764, 8)","v":1234801.2749980711},{"$f":"VLOOKUP(A522, localcont!$D$10:$L$1764, 9)*F522","v":355753.65504543373}]
[1116,224,"Orleans                      ",224,"Orleans",20674988,{"$f":"VLOOKUP(A523, localcont!$D$10:$L$1764, 8)","v":2348811.4299999997},{"$f":"VLOOKUP(A523, localcont!$D$10:$L$1764, 9)*F523","v":9139575.7078036778}]
[1117,224,"Orleans                      ",660,"Nauset",20674988,{"$f":"VLOOKUP(A524, localcont!$D$10:$L$1764, 8)","v":2740223.9047502559},{"$f":"VLOOKUP(A524, localcont!$D$10:$L$1764, 9)*F524","v":10662620.044299761}]
[1118,224,"Orleans                      ",815,"Cape Cod",20674988,{"$f":"VLOOKUP(A525, localcont!$D$10:$L$1764, 8)","v":224301.92313243361},{"$f":"VLOOKUP(A525, localcont!$D$10:$L$1764, 9)*F525","v":872792.24789656198}]
[1121,225,"Otis                         ",225,"Otis",3251643,{"$f":"VLOOKUP(A526, localcont!$D$10:$L$1764, 8)","v":0},{"$f":"VLOOKUP(A526, localcont!$D$10:$L$1764, 9)*F526","v":0}]
[1122,225,"Otis                         ",662,"Farmington River",3251643,{"$f":"VLOOKUP(A527, localcont!$D$10:$L$1764, 8)","v":1333227.3211312117},{"$f":"VLOOKUP(A527, localcont!$D$10:$L$1764, 9)*F527","v":3251643}]
[1126,226,"Oxford                       ",226,"Oxford",11382709,{"$f":"VLOOKUP(A528, localcont!$D$10:$L$1764, 8)","v":19283696.920000002},{"$f":"VLOOKUP(A528, localcont!$D$10:$L$1764, 9)*F528","v":10174392.548355462}]
[1127,226,"Oxford                       ",876,"Southern Worcester",11382709,{"$f":"VLOOKUP(A529, localcont!$D$10:$L$1764, 8)","v":2290142.4459713167},{"$f":"VLOOKUP(A529, localcont!$D$10:$L$1764, 9)*F529","v":1208316.4516445382}]
[1131,227,"Palmer                       ",227,"Palmer",8376097,{"$f":"VLOOKUP(A530, localcont!$D$10:$L$1764, 8)","v":17278686.410000004},{"$f":"VLOOKUP(A530, localcont!$D$10:$L$1764, 9)*F530","v":7054335.0706852339}]
[1132,227,"Palmer                       ",860,"Pathfinder",8376097,{"$f":"VLOOKUP(A531, localcont!$D$10:$L$1764, 8)","v":3237485.8376394049},{"$f":"VLOOKUP(A531, localcont!$D$10:$L$1764, 9)*F531","v":1321761.9293147651}]
[1136,228,"Paxton                       ",228,"Paxton",4961923,{"$f":"VLOOKUP(A532, localcont!$D$10:$L$1764, 8)","v":14954.649999999998},{"$f":"VLOOKUP(A532, localcont!$D$10:$L$1764, 9)*F532","v":10267.084806763402}]
[1137,228,"Paxton                       ",775,"Wachusett",4961923,{"$f":"VLOOKUP(A533, localcont!$D$10:$L$1764, 8)","v":6928347.2992718806},{"$f":"VLOOKUP(A533, localcont!$D$10:$L$1764, 9)*F533","v":4756642.8697652295}]
[1138,228,"Paxton                       ",876,"Southern Worcester",4961923,{"$f":"VLOOKUP(A534, localcont!$D$10:$L$1764, 8)","v":284048.67542233662},{"$f":"VLOOKUP(A534, localcont!$D$10:$L$1764, 9)*F534","v":195013.04542800676}]
[1141,229,"Peabody                      ",229,"Peabody",55808088,{"$f":"VLOOKUP(A535, localcont!$D$10:$L$1764, 8)","v":72862545.13000001},{"$f":"VLOOKUP(A535, localcont!$D$10:$L$1764, 9)*F535","v":51962556.876143366}]
[1142,229,"Peabody                      ",817,"Essex North Shore",55808088,{"$f":"VLOOKUP(A536, localcont!$D$10:$L$1764, 8)","v":5392251.6886282051},{"$f":"VLOOKUP(A536, localcont!$D$10:$L$1764, 9)*F536","v":3845531.1238566278}]
[1146,230,"Pelham                       ",230,"Pelham",1433440,{"$f":"VLOOKUP(A537, localcont!$D$10:$L$1764, 8)","v":936241.84000000008},{"$f":"VLOOKUP(A537, localcont!$D$10:$L$1764, 9)*F537","v":767914.13508678076}]
[1147,230,"Pelham                       ",605,"Amherst Pelham",1433440,{"$f":"VLOOKUP(A538, localcont!$D$10:$L$1764, 8)","v":811409.93747110688},{"$f":"VLOOKUP(A538, localcont!$D$10:$L$1764, 9)*F538","v":665525.86491321924}]
[1151,231,"Pembroke                     ",231,"Pembroke",21926312,{"$f":"VLOOKUP(A539, localcont!$D$10:$L$1764, 8)","v":32306393.869140003},{"$f":"VLOOKUP(A539, localcont!$D$10:$L$1764, 9)*F539","v":21926312}]
[1156,232,"Pepperell                    ",232,"Pepperell",11483548,{"$f":"VLOOKUP(A540, localcont!$D$10:$L$1764, 8)","v":0},{"$f":"VLOOKUP(A540, localcont!$D$10:$L$1764, 9)*F540","v":0}]
[1157,232,"Pepperell                    ",735,"North Middlesex",11483548,{"$f":"VLOOKUP(A541, localcont!$D$10:$L$1764, 8)","v":16524182.406210683},{"$f":"VLOOKUP(A541, localcont!$D$10:$L$1764, 9)*F541","v":10093222.887119364}]
[1158,232,"Pepperell                    ",852,"Nashoba Valley",11483548,{"$f":"VLOOKUP(A542, localcont!$D$10:$L$1764, 8)","v":2276179.3756178422},{"$f":"VLOOKUP(A542, localcont!$D$10:$L$1764, 9)*F542","v":1390325.1128806348}]
[1161,233,"Peru                         ",233,"Peru",677280,{"$f":"VLOOKUP(A543, localcont!$D$10:$L$1764, 8)","v":119637.19999999998},{"$f":"VLOOKUP(A543, localcont!$D$10:$L$1764, 9)*F543","v":68233.487007206961}]
[1162,233,"Peru                         ",635,"Central Berkshire",677280,{"$f":"VLOOKUP(A544, localcont!$D$10:$L$1764, 8)","v":1067871.8424067241},{"$f":"VLOOKUP(A544, localcont!$D$10:$L$1764, 9)*F544","v":609046.512992793}]
[1166,234,"Petersham                    ",234,"Petersham",1215754,{"$f":"VLOOKUP(A545, localcont!$D$10:$L$1764, 8)","v":967593.11},{"$f":"VLOOKUP(A545, localcont!$D$10:$L$1764, 9)*F545","v":679988.05815579952}]
[1167,234,"Petersham                    ",755,"Ralph C Mahar",1215754,{"$f":"VLOOKUP(A546, localcont!$D$10:$L$1764, 8)","v":709474.13475456543},{"$f":"VLOOKUP(A546, localcont!$D$10:$L$1764, 9)*F546","v":498591.74710692494}]
[1168,234,"Petersham                    ",832,"Montachusett",1215754,{"$f":"VLOOKUP(A547, localcont!$D$10:$L$1764, 8)","v":52897.244688589424},{"$f":"VLOOKUP(A547, localcont!$D$10:$L$1764, 9)*F547","v":37174.194737275575}]
[1171,235,"Phillipston                  ",235,"Phillipston",1479588,{"$f":"VLOOKUP(A548, localcont!$D$10:$L$1764, 8)","v":0},{"$f":"VLOOKUP(A548, localcont!$D$10:$L$1764, 9)*F548","v":0}]
[1172,235,"Phillipston                  ",720,"Narragansett",1479588,{"$f":"VLOOKUP(A549, localcont!$D$10:$L$1764, 8)","v":2328170.1050161482},{"$f":"VLOOKUP(A549, localcont!$D$10:$L$1764, 9)*F549","v":1284955.573687545}]
[1173,235,"Phillipston                  ",832,"Montachusett",1479588,{"$f":"VLOOKUP(A550, localcont!$D$10:$L$1764, 8)","v":352648.29826529301},{"$f":"VLOOKUP(A550, localcont!$D$10:$L$1764, 9)*F550","v":194632.42631245501}]
[1176,236,"Pittsfield                   ",236,"Pittsfield",30616386,{"$f":"VLOOKUP(A551, localcont!$D$10:$L$1764, 8)","v":79181621.190000027},{"$f":"VLOOKUP(A551, localcont!$D$10:$L$1764, 9)*F551","v":30616386}]
[1181,237,"Plainfield                   ",237,"Plainfield",576705,{"$f":"VLOOKUP(A552, localcont!$D$10:$L$1764, 8)","v":44863.950000000004},{"$f":"VLOOKUP(A552, localcont!$D$10:$L$1764, 9)*F552","v":33255.635499832279}]
[1182,237,"Plainfield                   ",717,"Mohawk Trail",576705,{"$f":"VLOOKUP(A553, localcont!$D$10:$L$1764, 8)","v":733147.47260175704},{"$f":"VLOOKUP(A553, localcont!$D$10:$L$1764, 9)*F553","v":543449.36450016778}]
[1186,238,"Plainville                   ",238,"Plainville",11319134,{"$f":"VLOOKUP(A554, localcont!$D$10:$L$1764, 8)","v":7586987.1399999997},{"$f":"VLOOKUP(A554, localcont!$D$10:$L$1764, 9)*F554","v":5577035.6552443551}]
[1187,238,"Plainville                   ",690,"King Philip",11319134,{"$f":"VLOOKUP(A555, localcont!$D$10:$L$1764, 8)","v":5981067.8806033842},{"$f":"VLOOKUP(A555, localcont!$D$10:$L$1764, 9)*F555","v":4396557.9763144115}]
[1188,238,"Plainville                   ",878,"Tri County",11319134,{"$f":"VLOOKUP(A556, localcont!$D$10:$L$1764, 8)","v":1702712.7576891708},{"$f":"VLOOKUP(A556, localcont!$D$10:$L$1764, 9)*F556","v":1251628.5562429396}]
[1189,238,"Plainville                   ",915,"Norfolk County",11319134,{"$f":"VLOOKUP(A557, localcont!$D$10:$L$1764, 8)","v":127757.42446124447},{"$f":"VLOOKUP(A557, localcont!$D$10:$L$1764, 9)*F557","v":93911.812198293497}]
[1191,239,"Plymouth                     ",239,"Plymouth",73884204,{"$f":"VLOOKUP(A558, localcont!$D$10:$L$1764, 8)","v":97157775.176350012},{"$f":"VLOOKUP(A558, localcont!$D$10:$L$1764, 9)*F558","v":73884204}]
[1196,240,"Plympton                     ",240,"Plympton",3754825,{"$f":"VLOOKUP(A559, localcont!$D$10:$L$1764, 8)","v":2463759.6282999991},{"$f":"VLOOKUP(A559, localcont!$D$10:$L$1764, 9)*F559","v":1838342.0044187987}]
[1197,240,"Plympton                     ",760,"Silver Lake",3754825,{"$f":"VLOOKUP(A560, localcont!$D$10:$L$1764, 8)","v":2568484.7658851244},{"$f":"VLOOKUP(A560, localcont!$D$10:$L$1764, 9)*F560","v":1916482.9955812008}]
[1201,241,"Princeton                    ",241,"Princeton",4679293,{"$f":"VLOOKUP(A561, localcont!$D$10:$L$1764, 8)","v":0},{"$f":"VLOOKUP(A561, localcont!$D$10:$L$1764, 9)*F561","v":0}]
[1202,241,"Princeton                    ",775,"Wachusett",4679293,{"$f":"VLOOKUP(A562, localcont!$D$10:$L$1764, 8)","v":4499201.1423330037},{"$f":"VLOOKUP(A562, localcont!$D$10:$L$1764, 9)*F562","v":4216596.2613044512}]
[1203,241,"Princeton                    ",832,"Montachusett",4679293,{"$f":"VLOOKUP(A563, localcont!$D$10:$L$1764, 8)","v":493707.61777622835},{"$f":"VLOOKUP(A563, localcont!$D$10:$L$1764, 9)*F563","v":462696.73869554943}]
[1206,242,"Provincetown                 ",242,"Provincetown",13960713,{"$f":"VLOOKUP(A564, localcont!$D$10:$L$1764, 8)","v":1312560.0099999998},{"$f":"VLOOKUP(A564, localcont!$D$10:$L$1764, 9)*F564","v":11640034.912879497}]
[1207,242,"Provincetown                 ",815,"Cape Cod",13960713,{"$f":"VLOOKUP(A565, localcont!$D$10:$L$1764, 8)","v":261685.57706534798},{"$f":"VLOOKUP(A565, localcont!$D$10:$L$1764, 9)*F565","v":2320678.0871205037}]
[1211,243,"Quincy                       ",243,"Quincy",109860147,{"$f":"VLOOKUP(A566, localcont!$D$10:$L$1764, 8)","v":136816110.30208001},{"$f":"VLOOKUP(A566, localcont!$D$10:$L$1764, 9)*F566","v":109596985.7239348}]
[1212,243,"Quincy                       ",915,"Norfolk County",109860147,{"$f":"VLOOKUP(A567, localcont!$D$10:$L$1764, 8)","v":328519.09142890759},{"$f":"VLOOKUP(A567, localcont!$D$10:$L$1764, 9)*F567","v":263161.27606521087}]
[1216,244,"Randolph                     ",244,"Randolph",27795552,{"$f":"VLOOKUP(A568, localcont!$D$10:$L$1764, 8)","v":43738342.614520006},{"$f":"VLOOKUP(A568, localcont!$D$10:$L$1764, 9)*F568","v":24714791.024164271}]
[1217,244,"Randolph                     ",806,"Blue Hills",27795552,{"$f":"VLOOKUP(A569, localcont!$D$10:$L$1764, 8)","v":5269584.0095275622},{"$f":"VLOOKUP(A569, localcont!$D$10:$L$1764, 9)*F569","v":2977631.5195015217}]
[1218,244,"Randolph                     ",915,"Norfolk County",27795552,{"$f":"VLOOKUP(A570, localcont!$D$10:$L$1764, 8)","v":182510.6063160545},{"$f":"VLOOKUP(A570, localcont!$D$10:$L$1764, 9)*F570","v":103129.45633420873}]
[1221,245,"Raynham                      ",245,"Raynham",17105660,{"$f":"VLOOKUP(A571, localcont!$D$10:$L$1764, 8)","v":0},{"$f":"VLOOKUP(A571, localcont!$D$10:$L$1764, 9)*F571","v":0}]
[1222,245,"Raynham                      ",625,"Bridgewater Raynham",17105660,{"$f":"VLOOKUP(A572, localcont!$D$10:$L$1764, 8)","v":24051068.088279948},{"$f":"VLOOKUP(A572, localcont!$D$10:$L$1764, 9)*F572","v":14999965.209631789}]
[1223,245,"Raynham                      ",810,"Bristol Plymouth",17105660,{"$f":"VLOOKUP(A573, localcont!$D$10:$L$1764, 8)","v":3129248.0136646354},{"$f":"VLOOKUP(A573, localcont!$D$10:$L$1764, 9)*F573","v":1951622.7372934027}]
[1224,245,"Raynham                      ",910,"Bristol County",17105660,{"$f":"VLOOKUP(A574, localcont!$D$10:$L$1764, 8)","v":247040.40224198549},{"$f":"VLOOKUP(A574, localcont!$D$10:$L$1764, 9)*F574","v":154072.05307480536}]
[1226,246,"Reading                      ",246,"Reading",42395727,{"$f":"VLOOKUP(A575, localcont!$D$10:$L$1764, 8)","v":42863193.318320006},{"$f":"VLOOKUP(A575, localcont!$D$10:$L$1764, 9)*F575","v":41897477.264708482}]
[1227,246,"Reading                      ",853,"Northeast Metropolitan",42395727,{"$f":"VLOOKUP(A576, localcont!$D$10:$L$1764, 8)","v":509734.14436557173},{"$f":"VLOOKUP(A576, localcont!$D$10:$L$1764, 9)*F576","v":498249.73529151949}]
[1231,247,"Rehoboth                     ",247,"Rehoboth",15372104,{"$f":"VLOOKUP(A577, localcont!$D$10:$L$1764, 8)","v":0},{"$f":"VLOOKUP(A577, localcont!$D$10:$L$1764, 9)*F577","v":0}]
[1232,247,"Rehoboth                     ",650,"Dighton Rehoboth",15372104,{"$f":"VLOOKUP(A578, localcont!$D$10:$L$1764, 8)","v":18183726.434236094},{"$f":"VLOOKUP(A578, localcont!$D$10:$L$1764, 9)*F578","v":14238344.338417258}]
[1233,247,"Rehoboth                     ",810,"Bristol Plymouth",15372104,{"$f":"VLOOKUP(A579, localcont!$D$10:$L$1764, 8)","v":989130.1193170856},{"$f":"VLOOKUP(A579, localcont!$D$10:$L$1764, 9)*F579","v":774515.34949514153}]
[1234,247,"Rehoboth                     ",910,"Bristol County",15372104,{"$f":"VLOOKUP(A580, localcont!$D$10:$L$1764, 8)","v":458789.31839222944},{"$f":"VLOOKUP(A580, localcont!$D$10:$L$1764, 9)*F580","v":359244.31208760326}]
[1236,248,"Revere                       ",248,"Revere",42900072,{"$f":"VLOOKUP(A581, localcont!$D$10:$L$1764, 8)","v":117084100.45236},{"$f":"VLOOKUP(A581, localcont!$D$10:$L$1764, 9)*F581","v":41077348.750983}]
[1237,248,"Revere                       ",853,"Northeast Metropolitan",42900072,{"$f":"VLOOKUP(A582, localcont!$D$10:$L$1764, 8)","v":5195367.2394606918},{"$f":"VLOOKUP(A582, localcont!$D$10:$L$1764, 9)*F582","v":1822723.2490170018}]
[1241,249,"Richmond                     ",249,"Richmond",2734659,{"$f":"VLOOKUP(A583, localcont!$D$10:$L$1764, 8)","v":1462282.96},{"$f":"VLOOKUP(A583, localcont!$D$10:$L$1764, 9)*F583","v":2734659}]
[1246,250,"Rochester                    ",250,"Rochester",7268935,{"$f":"VLOOKUP(A584, localcont!$D$10:$L$1764, 8)","v":5465684.7299999995},{"$f":"VLOOKUP(A584, localcont!$D$10:$L$1764, 9)*F584","v":3596848.6452649543}]
[1247,250,"Rochester                    ",740,"Old Rochester",7268935,{"$f":"VLOOKUP(A585, localcont!$D$10:$L$1764, 8)","v":4150439.8890881231},{"$f":"VLOOKUP(A585, localcont!$D$10:$L$1764, 9)*F585","v":2731314.5250366912}]
[1248,250,"Rochester                    ",855,"Old Colony",{"$f":"VLOOKUP(B586, town351, 7)","v":7268935},{"$f":"VLOOKUP(A586, localcont!$D$10:$L$1764, 8)","v":1429574.2554431809},{"$f":"VLOOKUP(A586, localcont!$D$10:$L$1764, 9)*F586","v":940771.8296983554}]
[1251,251,"Rockland                     ",251,"Rockland",16263685,{"$f":"VLOOKUP(A587, localcont!$D$10:$L$1764, 8)","v":29978801.331679996},{"$f":"VLOOKUP(A587, localcont!$D$10:$L$1764, 9)*F587","v":14938889.883607145}]
[1252,251,"Rockland                     ",873,"South Shore",16263685,{"$f":"VLOOKUP(A588, localcont!$D$10:$L$1764, 8)","v":2658548.9222396975},{"$f":"VLOOKUP(A588, localcont!$D$10:$L$1764, 9)*F588","v":1324795.1163928555}]
[1256,252,"Rockport                     ",252,"Rockport",13416270,{"$f":"VLOOKUP(A589, localcont!$D$10:$L$1764, 8)","v":7681628.8794999998},{"$f":"VLOOKUP(A589, localcont!$D$10:$L$1764, 9)*F589","v":12700649.429773869}]
[1257,252,"Rockport                     ",817,"Essex North Shore",13416270,{"$f":"VLOOKUP(A590, localcont!$D$10:$L$1764, 8)","v":432822.87802751979},{"$f":"VLOOKUP(A590, localcont!$D$10:$L$1764, 9)*F590","v":715620.57022613077}]
[1261,253,"Rowe                         ",253,"Rowe",1216629,{"$f":"VLOOKUP(A591, localcont!$D$10:$L$1764, 8)","v":647185.75},{"$f":"VLOOKUP(A591, localcont!$D$10:$L$1764, 9)*F591","v":1216629}]
[1266,254,"Rowley                       ",254,"Rowley",8590691,{"$f":"VLOOKUP(A592, localcont!$D$10:$L$1764, 8)","v":107845.99224000001},{"$f":"VLOOKUP(A592, localcont!$D$10:$L$1764, 9)*F592","v":103483.51357934033}]
[1267,254,"Rowley                       ",773,"Triton",8590691,{"$f":"VLOOKUP(A593, localcont!$D$10:$L$1764, 8)","v":8404723.5175494365},{"$f":"VLOOKUP(A593, localcont!$D$10:$L$1764, 9)*F593","v":8064744.0131422728}]
[1268,254,"Rowley                       ",885,"Whittier",8590691,{"$f":"VLOOKUP(A594, localcont!$D$10:$L$1764, 8)","v":440272.95638674707},{"$f":"VLOOKUP(A594, localcont!$D$10:$L$1764, 9)*F594","v":422463.47327838588}]
[1271,255,"Royalston                    ",255,"Royalston",922454,{"$f":"VLOOKUP(A595, localcont!$D$10:$L$1764, 8)","v":0},{"$f":"VLOOKUP(A595, localcont!$D$10:$L$1764, 9)*F595","v":0}]
[1272,255,"Royalston                    ",615,"Athol Royalston",922454,{"$f":"VLOOKUP(A596, localcont!$D$10:$L$1764, 8)","v":1595739.2394935135},{"$f":"VLOOKUP(A596, localcont!$D$10:$L$1764, 9)*F596","v":806590.5738219152}]
[1273,255,"Royalston                    ",832,"Montachusett",922454,{"$f":"VLOOKUP(A597, localcont!$D$10:$L$1764, 8)","v":229221.39382123598},{"$f":"VLOOKUP(A597, localcont!$D$10:$L$1764, 9)*F597","v":115863.42617808483}]
[1276,256,"Russell                      ",256,"Russell",1199753,{"$f":"VLOOKUP(A598, localcont!$D$10:$L$1764, 8)","v":341535.72000000003},{"$f":"VLOOKUP(A598, localcont!$D$10:$L$1764, 9)*F598","v":138002.25155812799}]
[1277,256,"Russell                      ",672,"Gateway",1199753,{"$f":"VLOOKUP(A599, localcont!$D$10:$L$1764, 8)","v":2627680.3619895424},{"$f":"VLOOKUP(A599, localcont!$D$10:$L$1764, 9)*F599","v":1061750.748441872}]
[1281,257,"Rutland                      ",257,"Rutland",8242771,{"$f":"VLOOKUP(A600, localcont!$D$10:$L$1764, 8)","v":0},{"$f":"VLOOKUP(A600, localcont!$D$10:$L$1764, 9)*F600","v":0}]
[1282,257,"Rutland                      ",775,"Wachusett",8242771,{"$f":"VLOOKUP(A601, localcont!$D$10:$L$1764, 8)","v":16930092.56242026},{"$f":"VLOOKUP(A601, localcont!$D$10:$L$1764, 9)*F601","v":7824333.148840542}]
[1283,257,"Rutland                      ",876,"Southern Worcester",8242771,{"$f":"VLOOKUP(A602, localcont!$D$10:$L$1764, 8)","v":905405.15300011507},{"$f":"VLOOKUP(A602, localcont!$D$10:$L$1764, 9)*F602","v":418437.85115945723}]
[1286,258,"Salem                        ",258,"Salem",40289240,{"$f":"VLOOKUP(A603, localcont!$D$10:$L$1764, 8)","v":61001952.659999996},{"$f":"VLOOKUP(A603, localcont!$D$10:$L$1764, 9)*F603","v":38199990.927485518}]
[1287,258,"Salem                        ",817,"Essex North Shore",40289240,{"$f":"VLOOKUP(A604, localcont!$D$10:$L$1764, 8)","v":3336343.0179449613},{"$f":"VLOOKUP(A604, localcont!$D$10:$L$1764, 9)*F604","v":2089249.0725144795}]
[1291,259,"Salisbury                    ",259,"Salisbury",10814068,{"$f":"VLOOKUP(A605, localcont!$D$10:$L$1764, 8)","v":29909.299999999996},{"$f":"VLOOKUP(A605, localcont!$D$10:$L$1764, 9)*F605","v":29640.418750514698}]
[1292,259,"Salisbury                    ",773,"Triton",10814068,{"$f":"VLOOKUP(A606, localcont!$D$10:$L$1764, 8)","v":10350261.368790187},{"$f":"VLOOKUP(A606, localcont!$D$10:$L$1764, 9)*F606","v":10257213.680969352}]
[1293,259,"Salisbury                    ",885,"Whittier",10814068,{"$f":"VLOOKUP(A607, localcont!$D$10:$L$1764, 8)","v":531996.48899612052},{"$f":"VLOOKUP(A607, localcont!$D$10:$L$1764, 9)*F607","v":527213.90028013359}]
[1296,260,"Sandisfield                  ",260,"Sandisfield",1201482,{"$f":"VLOOKUP(A608, localcont!$D$10:$L$1764, 8)","v":0},{"$f":"VLOOKUP(A608, localcont!$D$10:$L$1764, 9)*F608","v":0}]
[1297,260,"Sandisfield                  ",662,"Farmington River",1201482,{"$f":"VLOOKUP(A609, localcont!$D$10:$L$1764, 8)","v":972600.25886878825},{"$f":"VLOOKUP(A609, localcont!$D$10:$L$1764, 9)*F609","v":1201482}]
[1301,261,"Sandwich                     ",261,"Sandwich",28921193,{"$f":"VLOOKUP(A610, localcont!$D$10:$L$1764, 8)","v":28812575.09},{"$f":"VLOOKUP(A610, localcont!$D$10:$L$1764, 9)*F610","v":27013059.427532248}]
[1302,261,"Sandwich                     ",879,"Upper Cape Cod",28921193,{"$f":"VLOOKUP(A611, localcont!$D$10:$L$1764, 8)","v":2035246.7659565462},{"$f":"VLOOKUP(A611, localcont!$D$10:$L$1764, 9)*F611","v":1908133.5724677497}]
[1306,262,"Saugus                       ",262,"Saugus",32641700,{"$f":"VLOOKUP(A612, localcont!$D$10:$L$1764, 8)","v":33254946.570000004},{"$f":"VLOOKUP(A612, localcont!$D$10:$L$1764, 9)*F612","v":29525895.290462364}]
[1307,262,"Saugus                       ",853,"Northeast Metropolitan",32641700,{"$f":"VLOOKUP(A613, localcont!$D$10:$L$1764, 8)","v":3509323.5317304363},{"$f":"VLOOKUP(A613, localcont!$D$10:$L$1764, 9)*F613","v":3115804.7095376351}]
[1311,263,"Savoy                        ",263,"Savoy",536402,{"$f":"VLOOKUP(A614, localcont!$D$10:$L$1764, 8)","v":642599.05999999994},{"$f":"VLOOKUP(A614, localcont!$D$10:$L$1764, 9)*F614","v":384418.44959112629}]
[1312,263,"Savoy                        ",851,"Northern Berkshire",536402,{"$f":"VLOOKUP(A615, localcont!$D$10:$L$1764, 8)","v":254057.75069350167},{"$f":"VLOOKUP(A615, localcont!$D$10:$L$1764, 9)*F615","v":151983.55040887365}]
[1316,264,"Scituate                     ",264,"Scituate",36713321,{"$f":"VLOOKUP(A616, localcont!$D$10:$L$1764, 8)","v":32403487.309109993},{"$f":"VLOOKUP(A616, localcont!$D$10:$L$1764, 9)*F616","v":36080445.208074875}]
[1317,264,"Scituate                     ",873,"South Shore",36713321,{"$f":"VLOOKUP(A617, localcont!$D$10:$L$1764, 8)","v":568379.42474443279},{"$f":"VLOOKUP(A617, localcont!$D$10:$L$1764, 9)*F617","v":632875.79192512191}]
[1321,265,"Seekonk                      ",265,"Seekonk",17848975,{"$f":"VLOOKUP(A618, localcont!$D$10:$L$1764, 8)","v":22815890.449999999},{"$f":"VLOOKUP(A618, localcont!$D$10:$L$1764, 9)*F618","v":16445475.54969053}]
[1322,265,"Seekonk                      ",878,"Tri County",17848975,{"$f":"VLOOKUP(A619, localcont!$D$10:$L$1764, 8)","v":1647189.5156168032},{"$f":"VLOOKUP(A619, localcont!$D$10:$L$1764, 9)*F619","v":1187278.4436858445}]
[1323,265,"Seekonk                      ",910,"Bristol County",17848975,{"$f":"VLOOKUP(A620, localcont!$D$10:$L$1764, 8)","v":299977.63124619605},{"$f":"VLOOKUP(A620, localcont!$D$10:$L$1764, 9)*F620","v":216221.00662362704}]
[1326,266,"Sharon                       ",266,"Sharon",32480243,{"$f":"VLOOKUP(A621, localcont!$D$10:$L$1764, 8)","v":38544967.070799999},{"$f":"VLOOKUP(A621, localcont!$D$10:$L$1764, 9)*F621","v":32214393.306378972}]
[1327,266,"Sharon                       ",872,"Southeastern",32480243,{"$f":"VLOOKUP(A622, localcont!$D$10:$L$1764, 8)","v":208586.4709349995},{"$f":"VLOOKUP(A622, localcont!$D$10:$L$1764, 9)*F622","v":174328.50833021081}]
[1328,266,"Sharon                       ",915,"Norfolk County",32480243,{"$f":"VLOOKUP(A623, localcont!$D$10:$L$1764, 8)","v":109506.36380963586},{"$f":"VLOOKUP(A623, localcont!$D$10:$L$1764, 9)*F623","v":91521.18529081461}]
[1331,267,"Sheffield                    ",267,"Sheffield",3972130,{"$f":"VLOOKUP(A624, localcont!$D$10:$L$1764, 8)","v":0},{"$f":"VLOOKUP(A624, localcont!$D$10:$L$1764, 9)*F624","v":0}]
[1332,267,"Sheffield                    ",765,"Southern Berkshire",3972130,{"$f":"VLOOKUP(A625, localcont!$D$10:$L$1764, 8)","v":4209965.68711334},{"$f":"VLOOKUP(A625, localcont!$D$10:$L$1764, 9)*F625","v":3972130}]
[1336,268,"Shelburne                    ",268,"Shelburne",1524918,{"$f":"VLOOKUP(A626, localcont!$D$10:$L$1764, 8)","v":14954.649999999998},{"$f":"VLOOKUP(A626, localcont!$D$10:$L$1764, 9)*F626","v":10468.114856067024}]
[1337,268,"Shelburne                    ",717,"Mohawk Trail",1524918,{"$f":"VLOOKUP(A627, localcont!$D$10:$L$1764, 8)","v":1901601.2570345169},{"$f":"VLOOKUP(A627, localcont!$D$10:$L$1764, 9)*F627","v":1331103.0595218716}]
[1338,268,"Shelburne                    ",818,"Franklin County",1524918,{"$f":"VLOOKUP(A628, localcont!$D$10:$L$1764, 8)","v":261927.54316216134},{"$f":"VLOOKUP(A628, localcont!$D$10:$L$1764, 9)*F628","v":183346.82562206127}]
[1341,269,"Sherborn                     ",269,"Sherborn",18923223,{"$f":"VLOOKUP(A629, localcont!$D$10:$L$1764, 8)","v":4124924.7338100001},{"$f":"VLOOKUP(A629, localcont!$D$10:$L$1764, 9)*F629","v":7715382.0340252975}]
[1342,269,"Sherborn                     ",655,"Dover Sherborn",18923223,{"$f":"VLOOKUP(A630, localcont!$D$10:$L$1764, 8)","v":5955105.2077619061},{"$f":"VLOOKUP(A630, localcont!$D$10:$L$1764, 9)*F630","v":11138606.08270023}]
[1343,269,"Sherborn                     ",878,"Tri County",18923223,{"$f":"VLOOKUP(A631, localcont!$D$10:$L$1764, 8)","v":37015.494657537602},{"$f":"VLOOKUP(A631, localcont!$D$10:$L$1764, 9)*F631","v":69234.88327447373}]
[1346,270,"Shirley                      ",270,"Shirley",5810657,{"$f":"VLOOKUP(A632, localcont!$D$10:$L$1764, 8)","v":0},{"$f":"VLOOKUP(A632, localcont!$D$10:$L$1764, 9)*F632","v":0}]
[1347,270,"Shirley                      ",616,"Ayer Shirley",5810657,{"$f":"VLOOKUP(A633, localcont!$D$10:$L$1764, 8)","v":8400524.8362873998},{"$f":"VLOOKUP(A633, localcont!$D$10:$L$1764, 9)*F633","v":5224503.9543512836}]
[1348,270,"Shirley                      ",852,"Nashoba Valley",5810657,{"$f":"VLOOKUP(A634, localcont!$D$10:$L$1764, 8)","v":942480.52271767159},{"$f":"VLOOKUP(A634, localcont!$D$10:$L$1764, 9)*F634","v":586153.04564871592}]
[1351,271,"Shrewsbury                   ",271,"Shrewsbury",52096382,{"$f":"VLOOKUP(A635, localcont!$D$10:$L$1764, 8)","v":67328829.060000002},{"$f":"VLOOKUP(A635, localcont!$D$10:$L$1764, 9)*F635","v":52096382}]
[1356,272,"Shutesbury                   ",272,"Shutesbury",1528564,{"$f":"VLOOKUP(A636, localcont!$D$10:$L$1764, 8)","v":1228664.7999999998},{"$f":"VLOOKUP(A636, localcont!$D$10:$L$1764, 9)*F636","v":736876.92199756228}]
[1357,272,"Shutesbury                   ",605,"Amherst Pelham",1528564,{"$f":"VLOOKUP(A637, localcont!$D$10:$L$1764, 8)","v":1320054.9729791475},{"$f":"VLOOKUP(A637, localcont!$D$10:$L$1764, 9)*F637","v":791687.07800243772}]
[1361,273,"Somerset                     ",273,"Somerset",16923701,{"$f":"VLOOKUP(A638, localcont!$D$10:$L$1764, 8)","v":18701770.270000003},{"$f":"VLOOKUP(A638, localcont!$D$10:$L$1764, 9)*F638","v":10373187.198094899}]
[1362,273,"Somerset                     ",763,"Somerset Berkley",16923701,{"$f":"VLOOKUP(A639, localcont!$D$10:$L$1764, 8)","v":8981183.5131425001},{"$f":"VLOOKUP(A639, localcont!$D$10:$L$1764, 9)*F639","v":4981533.6461338494}]
[1363,273,"Somerset                     ",821,"Greater Fall River",16923701,{"$f":"VLOOKUP(A640, localcont!$D$10:$L$1764, 8)","v":2475792.0617763982},{"$f":"VLOOKUP(A640, localcont!$D$10:$L$1764, 9)*F640","v":1373231.2048320281}]
[1364,273,"Somerset                     ",910,"Bristol County",16923701,{"$f":"VLOOKUP(A641, localcont!$D$10:$L$1764, 8)","v":352914.86031710746},{"$f":"VLOOKUP(A641, localcont!$D$10:$L$1764, 9)*F641","v":195748.95093922399}]
[1366,274,"Somerville                   ",274,"Somerville",109116005,{"$f":"VLOOKUP(A642, localcont!$D$10:$L$1764, 8)","v":78394858.548899978},{"$f":"VLOOKUP(A642, localcont!$D$10:$L$1764, 9)*F642","v":109116005}]
[1371,275,"Southampton                  ",275,"Southampton",6392964,{"$f":"VLOOKUP(A643, localcont!$D$10:$L$1764, 8)","v":5059594.3599999994},{"$f":"VLOOKUP(A643, localcont!$D$10:$L$1764, 9)*F643","v":3484861.1438744818}]
[1372,275,"Southampton                  ",683,"Hampshire",6392964,{"$f":"VLOOKUP(A644, localcont!$D$10:$L$1764, 8)","v":4222211.5033236807},{"$f":"VLOOKUP(A644, localcont!$D$10:$L$1764, 9)*F644","v":2908102.8561255173}]
[1376,276,"Southborough                 ",276,"Southborough",27267971,{"$f":"VLOOKUP(A645, localcont!$D$10:$L$1764, 8)","v":12618254.939900002},{"$f":"VLOOKUP(A645, localcont!$D$10:$L$1764, 9)*F645","v":18087250.280440319}]
[1377,276,"Southborough                 ",730,"Northboro Southboro",27267971,{"$f":"VLOOKUP(A646, localcont!$D$10:$L$1764, 8)","v":5999995.7345077908},{"$f":"VLOOKUP(A646, localcont!$D$10:$L$1764, 9)*F646","v":8600509.7415218987}]
[1378,276,"Southborough                 ",801,"Assabet Valley",27267971,{"$f":"VLOOKUP(A647, localcont!$D$10:$L$1764, 8)","v":404774.07711479155},{"$f":"VLOOKUP(A647, localcont!$D$10:$L$1764, 9)*F647","v":580210.97803778457}]
[1381,277,"Southbridge                  ",277,"Southbridge",9274679,{"$f":"VLOOKUP(A648, localcont!$D$10:$L$1764, 8)","v":30505300.34},{"$f":"VLOOKUP(A648, localcont!$D$10:$L$1764, 9)*F648","v":8260350.9508445729}]
[1382,277,"Southbridge                  ",876,"Southern Worcester",9274679,{"$f":"VLOOKUP(A649, localcont!$D$10:$L$1764, 8)","v":3745891.9078503409},{"$f":"VLOOKUP(A649, localcont!$D$10:$L$1764, 9)*F649","v":1014328.0491554261}]
[1386,278,"South Hadley                 ",278,"South Hadley",{"$f":"VLOOKUP(B650, town351, 7)","v":14474233},{"$f":"VLOOKUP(A650, localcont!$D$10:$L$1764, 8)","v":22921007.059999999},{"$f":"VLOOKUP(A650, localcont!$D$10:$L$1764, 9)*F650","v":14474233}]
[1391,279,"Southwick                    ",279,"Southwick",9367553,{"$f":"VLOOKUP(A651, localcont!$D$10:$L$1764, 8)","v":0},{"$f":"VLOOKUP(A651, localcont!$D$10:$L$1764, 9)*F651","v":0}]
[1392,279,"Southwick                    ",766,"Southwick Tolland",9367553,{"$f":"VLOOKUP(A652, localcont!$D$10:$L$1764, 8)","v":14245116.846710229},{"$f":"VLOOKUP(A652, localcont!$D$10:$L$1764, 9)*F652","v":9367553}]
[1396,280,"Spencer                      ",280,"Spencer",9156320,{"$f":"VLOOKUP(A653, localcont!$D$10:$L$1764, 8)","v":29909.299999999996},{"$f":"VLOOKUP(A653, localcont!$D$10:$L$1764, 9)*F653","v":15091.151190740165}]
[1397,280,"Spencer                      ",767,"Spencer East Brookfield",9156320,{"$f":"VLOOKUP(A654, localcont!$D$10:$L$1764, 8)","v":15347616.18811677},{"$f":"VLOOKUP(A654, localcont!$D$10:$L$1764, 9)*F654","v":7743852.1233302504}]
[1398,280,"Spencer                      ",876,"Southern Worcester",9156320,{"$f":"VLOOKUP(A655, localcont!$D$10:$L$1764, 8)","v":2769474.5859424039},{"$f":"VLOOKUP(A655, localcont!$D$10:$L$1764, 9)*F655","v":1397376.7254790096}]
[1401,281,"Springfield                  ",281,"Springfield",66095372,{"$f":"VLOOKUP(A656, localcont!$D$10:$L$1764, 8)","v":432231053.56999999},{"$f":"VLOOKUP(A656, localcont!$D$10:$L$1764, 9)*F656","v":66095372}]
[1406,282,"Sterling                     ",282,"Sterling",9640732,{"$f":"VLOOKUP(A657, localcont!$D$10:$L$1764, 8)","v":0},{"$f":"VLOOKUP(A657, localcont!$D$10:$L$1764, 9)*F657","v":0}]
[1407,282,"Sterling                     ",775,"Wachusett",9640732,{"$f":"VLOOKUP(A658, localcont!$D$10:$L$1764, 8)","v":11036772.755845444},{"$f":"VLOOKUP(A658, localcont!$D$10:$L$1764, 9)*F658","v":8771864.9596275818}]
[1408,282,"Sterling                     ",832,"Montachusett",9640732,{"$f":"VLOOKUP(A659, localcont!$D$10:$L$1764, 8)","v":1093209.7249296356},{"$f":"VLOOKUP(A659, localcont!$D$10:$L$1764, 9)*F659","v":868867.04037241882}]
[1411,283,"Stockbridge                  ",283,"Stockbridge",5105651,{"$f":"VLOOKUP(A660, localcont!$D$10:$L$1764, 8)","v":0},{"$f":"VLOOKUP(A660, localcont!$D$10:$L$1764, 9)*F660","v":0}]
[1412,283,"Stockbridge                  ",618,"Berkshire Hills",5105651,{"$f":"VLOOKUP(A661, localcont!$D$10:$L$1764, 8)","v":1479887.2009566652},{"$f":"VLOOKUP(A661, localcont!$D$10:$L$1764, 9)*F661","v":5105651}]
[1416,284,"Stoneham                     ",284,"Stoneham",29974483,{"$f":"VLOOKUP(A662, localcont!$D$10:$L$1764, 8)","v":28037407.750399999},{"$f":"VLOOKUP(A662, localcont!$D$10:$L$1764, 9)*F662","v":28405349.999874484}]
[1417,284,"Stoneham                     ",853,"Northeast Metropolitan",29974483,{"$f":"VLOOKUP(A663, localcont!$D$10:$L$1764, 8)","v":1548807.5922078737},{"$f":"VLOOKUP(A663, localcont!$D$10:$L$1764, 9)*F663","v":1569133.0001255153}]
[1421,285,"Stoughton                    ",285,"Stoughton",29303930,{"$f":"VLOOKUP(A664, localcont!$D$10:$L$1764, 8)","v":44489132.577229999},{"$f":"VLOOKUP(A664, localcont!$D$10:$L$1764, 9)*F664","v":27882714.879097875}]
[1422,285,"Stoughton                    ",872,"Southeastern",29303930,{"$f":"VLOOKUP(A665, localcont!$D$10:$L$1764, 8)","v":2066902.3036587343},{"$f":"VLOOKUP(A665, localcont!$D$10:$L$1764, 9)*F665","v":1295391.5771637934}]
[1423,285,"Stoughton                    ",915,"Norfolk County",29303930,{"$f":"VLOOKUP(A666, localcont!$D$10:$L$1764, 8)","v":200761.66696766313},{"$f":"VLOOKUP(A666, localcont!$D$10:$L$1764, 9)*F666","v":125823.54373833655}]
[1426,286,"Stow                         ",286,"Stow",12089306,{"$f":"VLOOKUP(A667, localcont!$D$10:$L$1764, 8)","v":15537.389360000001},{"$f":"VLOOKUP(A667, localcont!$D$10:$L$1764, 9)*F667","v":14229.050529391543}]
[1427,286,"Stow                         ",725,"Nashoba",12089306,{"$f":"VLOOKUP(A668, localcont!$D$10:$L$1764, 8)","v":12390263.284987276},{"$f":"VLOOKUP(A668, localcont!$D$10:$L$1764, 9)*F668","v":11346930.830505285}]
[1428,286,"Stow                         ",830,"Minuteman",12089306,{"$f":"VLOOKUP(A669, localcont!$D$10:$L$1764, 8)","v":795098.01008633303},{"$f":"VLOOKUP(A669, localcont!$D$10:$L$1764, 9)*F669","v":728146.11896532273}]
[1431,287,"Sturbridge                   ",287,"Sturbridge",11561557,{"$f":"VLOOKUP(A670, localcont!$D$10:$L$1764, 8)","v":9022974.3999999985},{"$f":"VLOOKUP(A670, localcont!$D$10:$L$1764, 9)*F670","v":5418903.5027580895}]
[1432,287,"Sturbridge                   ",770,"Tantasqua",11561557,{"$f":"VLOOKUP(A671, localcont!$D$10:$L$1764, 8)","v":10228084.929999998},{"$f":"VLOOKUP(A671, localcont!$D$10:$L$1764, 9)*F671","v":6142653.4972419105}]
[1436,288,"Sudbury                      ",288,"Sudbury",50839209,{"$f":"VLOOKUP(A672, localcont!$D$10:$L$1764, 8)","v":26931498.39176001},{"$f":"VLOOKUP(A672, localcont!$D$10:$L$1764, 9)*F672","v":31929812.056541562}]
[1437,288,"Sudbury                      ",695,"Lincoln Sudbury",50839209,{"$f":"VLOOKUP(A673, localcont!$D$10:$L$1764, 8)","v":15949307.577197883},{"$f":"VLOOKUP(A673, localcont!$D$10:$L$1764, 9)*F673","v":18909396.943458438}]
[1441,289,"Sunderland                   ",289,"Sunderland",2998295,{"$f":"VLOOKUP(A674, localcont!$D$10:$L$1764, 8)","v":2047154.49},{"$f":"VLOOKUP(A674, localcont!$D$10:$L$1764, 9)*F674","v":1709816.5395694717}]
[1442,289,"Sunderland                   ",670,"Frontier",2998295,{"$f":"VLOOKUP(A675, localcont!$D$10:$L$1764, 8)","v":1355597.4871281111},{"$f":"VLOOKUP(A675, localcont!$D$10:$L$1764, 9)*F675","v":1132216.9459181649}]
[1443,289,"Sunderland                   ",818,"Franklin County",2998295,{"$f":"VLOOKUP(A676, localcont!$D$10:$L$1764, 8)","v":187091.10225868665},{"$f":"VLOOKUP(A676, localcont!$D$10:$L$1764, 9)*F676","v":156261.51451236382}]
[1446,290,"Sutton                       ",290,"Sutton",12977725,{"$f":"VLOOKUP(A677, localcont!$D$10:$L$1764, 8)","v":14062363.449999996},{"$f":"VLOOKUP(A677, localcont!$D$10:$L$1764, 9)*F677","v":11431803.71551094}]
[1447,290,"Sutton                       ",805,"Blackstone Valley",12977725,{"$f":"VLOOKUP(A678, localcont!$D$10:$L$1764, 8)","v":1901651.5248665111},{"$f":"VLOOKUP(A678, localcont!$D$10:$L$1764, 9)*F678","v":1545921.2844890617}]
[1451,291,"Swampscott                   ",291,"Swampscott",28876398,{"$f":"VLOOKUP(A679, localcont!$D$10:$L$1764, 8)","v":23606100.23},{"$f":"VLOOKUP(A679, localcont!$D$10:$L$1764, 9)*F679","v":28166299.727079026}]
[1452,291,"Swampscott                   ",817,"Essex North Shore",28876398,{"$f":"VLOOKUP(A680, localcont!$D$10:$L$1764, 8)","v":595131.4573141021},{"$f":"VLOOKUP(A680, localcont!$D$10:$L$1764, 9)*F680","v":710098.27292097104}]
[1456,292,"Swansea                      ",292,"Swansea",16974979,{"$f":"VLOOKUP(A681, localcont!$D$10:$L$1764, 8)","v":24205593.460000005},{"$f":"VLOOKUP(A681, localcont!$D$10:$L$1764, 9)*F681","v":15070258.239653938}]
[1457,292,"Swansea                      ",821,"Greater Fall River",16974979,{"$f":"VLOOKUP(A682, localcont!$D$10:$L$1764, 8)","v":2794644.069734578},{"$f":"VLOOKUP(A682, localcont!$D$10:$L$1764, 9)*F682","v":1739928.7436771456}]
[1458,292,"Swansea                      ",910,"Bristol County",16974979,{"$f":"VLOOKUP(A683, localcont!$D$10:$L$1764, 8)","v":264686.14522115537},{"$f":"VLOOKUP(A683, localcont!$D$10:$L$1764, 9)*F683","v":164792.01666891726}]
[1461,293,"Taunton                      ",293,"Taunton",41936041,{"$f":"VLOOKUP(A684, localcont!$D$10:$L$1764, 8)","v":105402383.99000001},{"$f":"VLOOKUP(A684, localcont!$D$10:$L$1764, 9)*F684","v":38015680.984972835}]
[1462,293,"Taunton                      ",810,"Bristol Plymouth",41936041,{"$f":"VLOOKUP(A685, localcont!$D$10:$L$1764, 8)","v":10304937.424251365},{"$f":"VLOOKUP(A685, localcont!$D$10:$L$1764, 9)*F685","v":3716701.6424183967}]
[1463,293,"Taunton                      ",910,"Bristol County",41936041,{"$f":"VLOOKUP(A686, localcont!$D$10:$L$1764, 8)","v":564663.77653405233},{"$f":"VLOOKUP(A686, localcont!$D$10:$L$1764, 9)*F686","v":203658.37260877423}]
[1466,294,"Templeton                    ",294,"Templeton",5576109,{"$f":"VLOOKUP(A687, localcont!$D$10:$L$1764, 8)","v":0},{"$f":"VLOOKUP(A687, localcont!$D$10:$L$1764, 9)*F687","v":0}]
[1467,294,"Templeton                    ",720,"Narragansett",5576109,{"$f":"VLOOKUP(A688, localcont!$D$10:$L$1764, 8)","v":13063621.14498385},{"$f":"VLOOKUP(A688, localcont!$D$10:$L$1764, 9)*F688","v":4984113.0001831306}]
[1468,294,"Templeton                    ",832,"Montachusett",5576109,{"$f":"VLOOKUP(A689, localcont!$D$10:$L$1764, 8)","v":1551652.51282813},{"$f":"VLOOKUP(A689, localcont!$D$10:$L$1764, 9)*F689","v":591995.99981686904}]
[1471,295,"Tewksbury                    ",295,"Tewksbury",36768537,{"$f":"VLOOKUP(A690, localcont!$D$10:$L$1764, 8)","v":36441174.380000003},{"$f":"VLOOKUP(A690, localcont!$D$10:$L$1764, 9)*F690","v":31551960.851376768}]
[1472,295,"Tewksbury                    ",871,"Shawsheen Valley",36768537,{"$f":"VLOOKUP(A691, localcont!$D$10:$L$1764, 8)","v":6024923.8389326045},{"$f":"VLOOKUP(A691, localcont!$D$10:$L$1764, 9)*F691","v":5216576.1486232365}]
[1476,296,"Tisbury                      ",296,"Tisbury",12253212,{"$f":"VLOOKUP(A692, localcont!$D$10:$L$1764, 8)","v":4391090.71},{"$f":"VLOOKUP(A692, localcont!$D$10:$L$1764, 9)*F692","v":7645542.4755366351}]
[1477,296,"Tisbury                      ",700,"Marthas Vineyard",12253212,{"$f":"VLOOKUP(A693, localcont!$D$10:$L$1764, 8)","v":2646338.6879818598},{"$f":"VLOOKUP(A693, localcont!$D$10:$L$1764, 9)*F693","v":4607669.5244633649}]
[1481,297,"Tolland                      ",297,"Tolland",942134,{"$f":"VLOOKUP(A694, localcont!$D$10:$L$1764, 8)","v":0},{"$f":"VLOOKUP(A694, localcont!$D$10:$L$1764, 9)*F694","v":0}]
[1482,297,"Tolland                      ",766,"Southwick Tolland",942134,{"$f":"VLOOKUP(A695, localcont!$D$10:$L$1764, 8)","v":512585.79446370038},{"$f":"VLOOKUP(A695, localcont!$D$10:$L$1764, 9)*F695","v":942134}]
[1486,298,"Topsfield                    ",298,"Topsfield",12696918,{"$f":"VLOOKUP(A696, localcont!$D$10:$L$1764, 8)","v":6328040.2094700001},{"$f":"VLOOKUP(A696, localcont!$D$10:$L$1764, 9)*F696","v":6618358.2318921629}]
[1487,298,"Topsfield                    ",705,"Masconomet",12696918,{"$f":"VLOOKUP(A697, localcont!$D$10:$L$1764, 8)","v":5415166.0054150596},{"$f":"VLOOKUP(A697, localcont!$D$10:$L$1764, 9)*F697","v":5663603.1571618393}]
[1488,298,"Topsfield                    ",817,"Essex North Shore",12696918,{"$f":"VLOOKUP(A698, localcont!$D$10:$L$1764, 8)","v":396754.30480603495},{"$f":"VLOOKUP(A698, localcont!$D$10:$L$1764, 9)*F698","v":414956.61094599788}]
[1491,299,"Townsend                     ",299,"Townsend",8118654,{"$f":"VLOOKUP(A699, localcont!$D$10:$L$1764, 8)","v":0},{"$f":"VLOOKUP(A699, localcont!$D$10:$L$1764, 9)*F699","v":0}]
[1492,299,"Townsend                     ",735,"North Middlesex",8118654,{"$f":"VLOOKUP(A700, localcont!$D$10:$L$1764, 8)","v":14037481.340320328},{"$f":"VLOOKUP(A700, localcont!$D$10:$L$1764, 9)*F700","v":7371588.9494063305}]
[1493,299,"Townsend                     ",852,"Nashoba Valley",8118654,{"$f":"VLOOKUP(A701, localcont!$D$10:$L$1764, 8)","v":1422612.109775689},{"$f":"VLOOKUP(A701, localcont!$D$10:$L$1764, 9)*F701","v":747065.05059366929}]
[1496,300,"Truro                        ",300,"Truro",9870175,{"$f":"VLOOKUP(A702, localcont!$D$10:$L$1764, 8)","v":2367588.5799999996},{"$f":"VLOOKUP(A702, localcont!$D$10:$L$1764, 9)*F702","v":9423777.4656937644}]
[1497,300,"Truro                        ",815,"Cape Cod",9870175,{"$f":"VLOOKUP(A703, localcont!$D$10:$L$1764, 8)","v":112150.96156621681},{"$f":"VLOOKUP(A703, localcont!$D$10:$L$1764, 9)*F703","v":446397.53430623555}]
[1501,301,"Tyngsborough                 ",301,"Tyngsborough",14449700,{"$f":"VLOOKUP(A704, localcont!$D$10:$L$1764, 8)","v":17827138.829999994},{"$f":"VLOOKUP(A704, localcont!$D$10:$L$1764, 9)*F704","v":13015742.349752828}]
[1502,301,"Tyngsborough                 ",828,"Greater Lowell",14449700,{"$f":"VLOOKUP(A705, localcont!$D$10:$L$1764, 8)","v":1964034.1227085164},{"$f":"VLOOKUP(A705, localcont!$D$10:$L$1764, 9)*F705","v":1433957.6502471704}]
[1506,302,"Tyringham                    ",302,"Tyringham",909085,{"$f":"VLOOKUP(A706, localcont!$D$10:$L$1764, 8)","v":323808.92999999993},{"$f":"VLOOKUP(A706, localcont!$D$10:$L$1764, 9)*F706","v":909085}]
[1511,303,"Upton                        ",303,"Upton",10940615,{"$f":"VLOOKUP(A707, localcont!$D$10:$L$1764, 8)","v":89727.900000000009},{"$f":"VLOOKUP(A707, localcont!$D$10:$L$1764, 9)*F707","v":68146.352756710417}]
[1512,303,"Upton                        ",710,"Mendon Upton",10940615,{"$f":"VLOOKUP(A708, localcont!$D$10:$L$1764, 8)","v":12750639.188982338},{"$f":"VLOOKUP(A708, localcont!$D$10:$L$1764, 9)*F708","v":9683828.0629093777}]
[1513,303,"Upton                        ",805,"Blackstone Valley",10940615,{"$f":"VLOOKUP(A709, localcont!$D$10:$L$1764, 8)","v":1565076.0337507927},{"$f":"VLOOKUP(A709, localcont!$D$10:$L$1764, 9)*F709","v":1188640.5843339111}]
[1516,304,"Uxbridge                     ",304,"Uxbridge",14210228,{"$f":"VLOOKUP(A710, localcont!$D$10:$L$1764, 8)","v":19678223.82},{"$f":"VLOOKUP(A710, localcont!$D$10:$L$1764, 9)*F710","v":12827952.860953787}]
[1517,304,"Uxbridge                     ",805,"Blackstone Valley",14210228,{"$f":"VLOOKUP(A711, localcont!$D$10:$L$1764, 8)","v":2120425.5941544315},{"$f":"VLOOKUP(A711, localcont!$D$10:$L$1764, 9)*F711","v":1382275.1390462117}]
[1521,305,"Wakefield                    ",305,"Wakefield",38336164,{"$f":"VLOOKUP(A712, localcont!$D$10:$L$1764, 8)","v":38887885.628600001},{"$f":"VLOOKUP(A712, localcont!$D$10:$L$1764, 9)*F712","v":36814264.32141985}]
[1522,305,"Wakefield                    ",853,"Northeast Metropolitan",38336164,{"$f":"VLOOKUP(A713, localcont!$D$10:$L$1764, 8)","v":1607623.0702888942},{"$f":"VLOOKUP(A713, localcont!$D$10:$L$1764, 9)*F713","v":1521899.6785801474}]
[1526,306,"Wales                        ",306,"Wales",{"$f":"VLOOKUP(B714, town351, 7)","v":1289157},{"$f":"VLOOKUP(A714, localcont!$D$10:$L$1764, 8)","v":1624184.98},{"$f":"VLOOKUP(A714, localcont!$D$10:$L$1764, 9)*F714","v":628581.79116281192}]
[1527,306,"Wales                        ",770,"Tantasqua",1289157,{"$f":"VLOOKUP(A715, localcont!$D$10:$L$1764, 8)","v":1706852.3896770475},{"$f":"VLOOKUP(A715, localcont!$D$10:$L$1764, 9)*F715","v":660575.20883718808}]
[1531,307,"Walpole                      ",307,"Walpole",38331671,{"$f":"VLOOKUP(A716, localcont!$D$10:$L$1764, 8)","v":40218048.037480004},{"$f":"VLOOKUP(A716, localcont!$D$10:$L$1764, 9)*F716","v":36812878.337623067}]
[1532,307,"Walpole                      ",878,"Tri County",38331671,{"$f":"VLOOKUP(A717, localcont!$D$10:$L$1764, 8)","v":1203003.5788657418},{"$f":"VLOOKUP(A717, localcont!$D$10:$L$1764, 9)*F717","v":1101148.0305369038}]
[1533,307,"Walpole                      ",915,"Norfolk County",38331671,{"$f":"VLOOKUP(A718, localcont!$D$10:$L$1764, 8)","v":456276.51584014419},{"$f":"VLOOKUP(A718, localcont!$D$10:$L$1764, 9)*F718","v":417644.6318400249}]
[1536,308,"Waltham                      ",308,"Waltham",82549162,{"$f":"VLOOKUP(A719, localcont!$D$10:$L$1764, 8)","v":80607559.147039995},{"$f":"VLOOKUP(A719, localcont!$D$10:$L$1764, 9)*F719","v":82549162}]
[1541,309,"Ware                         ",309,"Ware",6321000,{"$f":"VLOOKUP(A720, localcont!$D$10:$L$1764, 8)","v":16016060.289999997},{"$f":"VLOOKUP(A720, localcont!$D$10:$L$1764, 9)*F720","v":5465294.2901078556}]
[1542,309,"Ware                         ",860,"Pathfinder",6321000,{"$f":"VLOOKUP(A721, localcont!$D$10:$L$1764, 8)","v":2507647.9897772111},{"$f":"VLOOKUP(A721, localcont!$D$10:$L$1764, 9)*F721","v":855705.70989214466}]
[1546,310,"Wareham                      ",310,"Wareham",22220378,{"$f":"VLOOKUP(A722, localcont!$D$10:$L$1764, 8)","v":30374112.370000001},{"$f":"VLOOKUP(A722, localcont!$D$10:$L$1764, 9)*F722","v":19336172.99646052}]
[1547,310,"Wareham                      ",879,"Upper Cape Cod",22220378,{"$f":"VLOOKUP(A723, localcont!$D$10:$L$1764, 8)","v":4530636.2790434537},{"$f":"VLOOKUP(A723, localcont!$D$10:$L$1764, 9)*F723","v":2884205.0035394793}]
[1551,311,"Warren                       ",311,"Warren",2963447,{"$f":"VLOOKUP(A724, localcont!$D$10:$L$1764, 8)","v":0},{"$f":"VLOOKUP(A724, localcont!$D$10:$L$1764, 9)*F724","v":0}]
[1552,311,"Warren                       ",778,"Quaboag",2963447,{"$f":"VLOOKUP(A725, localcont!$D$10:$L$1764, 8)","v":8898446.3765478414},{"$f":"VLOOKUP(A725, localcont!$D$10:$L$1764, 9)*F725","v":2676390.5854018372}]
[1553,311,"Warren                       ",860,"Pathfinder",2963447,{"$f":"VLOOKUP(A726, localcont!$D$10:$L$1764, 8)","v":954403.33943721547},{"$f":"VLOOKUP(A726, localcont!$D$10:$L$1764, 9)*F726","v":287056.41459816287}]
[1556,312,"Warwick                      ",312,"Warwick",540036,{"$f":"VLOOKUP(A727, localcont!$D$10:$L$1764, 8)","v":0},{"$f":"VLOOKUP(A727, localcont!$D$10:$L$1764, 9)*F727","v":0}]
[1557,312,"Warwick                      ",750,"Pioneer",540036,{"$f":"VLOOKUP(A728, localcont!$D$10:$L$1764, 8)","v":695590.08884427301},{"$f":"VLOOKUP(A728, localcont!$D$10:$L$1764, 9)*F728","v":464994.90047604608}]
[1558,312,"Warwick                      ",818,"Franklin County",540036,{"$f":"VLOOKUP(A729, localcont!$D$10:$L$1764, 8)","v":112254.661355212},{"$f":"VLOOKUP(A729, localcont!$D$10:$L$1764, 9)*F729","v":75041.099523953933}]
[1561,313,"Washington                   ",313,"Washington",549335,{"$f":"VLOOKUP(A730, localcont!$D$10:$L$1764, 8)","v":14954.649999999998},{"$f":"VLOOKUP(A730, localcont!$D$10:$L$1764, 9)*F730","v":11739.472443093846}]
[1562,313,"Washington                   ",635,"Central Berkshire",549335,{"$f":"VLOOKUP(A731, localcont!$D$10:$L$1764, 8)","v":684830.85548775515},{"$f":"VLOOKUP(A731, localcont!$D$10:$L$1764, 9)*F731","v":537595.52755690611}]
[1566,314,"Watertown                    ",314,"Watertown",54095430,{"$f":"VLOOKUP(A732, localcont!$D$10:$L$1764, 8)","v":33386330.968360007},{"$f":"VLOOKUP(A732, localcont!$D$10:$L$1764, 9)*F732","v":54095430}]
[1571,315,"Wayland                      ",315,"Wayland",44612212,{"$f":"VLOOKUP(A733, localcont!$D$10:$L$1764, 8)","v":28672242.811399993},{"$f":"VLOOKUP(A733, localcont!$D$10:$L$1764, 9)*F733","v":44612212}]
[1576,316,"Webster                      ",316,"Webster",12809224,{"$f":"VLOOKUP(A734, localcont!$D$10:$L$1764, 8)","v":26394392.860000003},{"$f":"VLOOKUP(A734, localcont!$D$10:$L$1764, 9)*F734","v":11815800.831856906}]
[1577,316,"Webster                      ",876,"Southern Worcester",12809224,{"$f":"VLOOKUP(A735, localcont!$D$10:$L$1764, 8)","v":2219130.2772724479},{"$f":"VLOOKUP(A735, localcont!$D$10:$L$1764, 9)*F735","v":993423.16814309312}]
[1581,317,"Wellesley                    ",317,"Wellesley",141041497,{"$f":"VLOOKUP(A736, localcont!$D$10:$L$1764, 8)","v":53344322.628300011},{"$f":"VLOOKUP(A736, localcont!$D$10:$L$1764, 9)*F736","v":140945051.99658573}]
[1582,317,"Wellesley                    ",915,"Norfolk County",141041497,{"$f":"VLOOKUP(A737, localcont!$D$10:$L$1764, 8)","v":36502.12125320932},{"$f":"VLOOKUP(A737, localcont!$D$10:$L$1764, 9)*F737","v":96445.003414287785}]
[1586,318,"Wellfleet                    ",318,"Wellfleet",11301047,{"$f":"VLOOKUP(A738, localcont!$D$10:$L$1764, 8)","v":1265599.4900000002},{"$f":"VLOOKUP(A738, localcont!$D$10:$L$1764, 9)*F738","v":4293155.2364009507}]
[1587,318,"Wellfleet                    ",660,"Nauset",11301047,{"$f":"VLOOKUP(A739, localcont!$D$10:$L$1764, 8)","v":1822895.7306809761},{"$f":"VLOOKUP(A739, localcont!$D$10:$L$1764, 9)*F739","v":6183610.5445854506}]
[1588,318,"Wellfleet                    ",815,"Cape Cod",11301047,{"$f":"VLOOKUP(A740, localcont!$D$10:$L$1764, 8)","v":242993.75004075919},{"$f":"VLOOKUP(A740, localcont!$D$10:$L$1764, 9)*F740","v":824281.21901359875}]
[1591,319,"Wendell                      ",319,"Wendell",619576,{"$f":"VLOOKUP(A741, localcont!$D$10:$L$1764, 8)","v":0},{"$f":"VLOOKUP(A741, localcont!$D$10:$L$1764, 9)*F741","v":0}]
[1592,319,"Wendell                      ",728,"New Salem Wendell",619576,{"$f":"VLOOKUP(A742, localcont!$D$10:$L$1764, 8)","v":851341.45983349963},{"$f":"VLOOKUP(A742, localcont!$D$10:$L$1764, 9)*F742","v":338904.08195849118}]
[1593,319,"Wendell                      ",755,"Ralph C Mahar",619576,{"$f":"VLOOKUP(A743, localcont!$D$10:$L$1764, 8)","v":499259.57628775167},{"$f":"VLOOKUP(A743, localcont!$D$10:$L$1764, 9)*F743","v":198746.46818431368}]
[1594,319,"Wendell                      ",818,"Franklin County",619576,{"$f":"VLOOKUP(A744, localcont!$D$10:$L$1764, 8)","v":205800.21248455532},{"$f":"VLOOKUP(A744, localcont!$D$10:$L$1764, 9)*F744","v":81925.449857195097}]
[1596,320,"Wenham                       ",320,"Wenham",8436219,{"$f":"VLOOKUP(A745, localcont!$D$10:$L$1764, 8)","v":0},{"$f":"VLOOKUP(A745, localcont!$D$10:$L$1764, 9)*F745","v":0}]
[1597,320,"Wenham                       ",675,"Hamilton Wenham",8436219,{"$f":"VLOOKUP(A746, localcont!$D$10:$L$1764, 8)","v":6894170.7134786649},{"$f":"VLOOKUP(A746, localcont!$D$10:$L$1764, 9)*F746","v":8242174.5390682807}]
[1598,320,"Wenham                       ",817,"Essex North Shore",8436219,{"$f":"VLOOKUP(A747, localcont!$D$10:$L$1764, 8)","v":162308.57928658236},{"$f":"VLOOKUP(A747, localcont!$D$10:$L$1764, 9)*F747","v":194044.46093171934}]
[1601,321,"Westborough                  ",321,"Westborough",33909683,{"$f":"VLOOKUP(A748, localcont!$D$10:$L$1764, 8)","v":40921138.540000007},{"$f":"VLOOKUP(A748, localcont!$D$10:$L$1764, 9)*F748","v":33282602.979616016}]
[1602,321,"Westborough                  ",801,"Assabet Valley",33909683,{"$f":"VLOOKUP(A749, localcont!$D$10:$L$1764, 8)","v":770998.24210008979},{"$f":"VLOOKUP(A749, localcont!$D$10:$L$1764, 9)*F749","v":627080.02038398688}]
[1606,322,"West Boylston                ",322,"West Boylston",7810340,{"$f":"VLOOKUP(A750, localcont!$D$10:$L$1764, 8)","v":9780274.5099999979},{"$f":"VLOOKUP(A750, localcont!$D$10:$L$1764, 9)*F750","v":7810340}]
[1611,323,"West Bridgewater             ",323,"West Bridgewater",8842530,{"$f":"VLOOKUP(A751, localcont!$D$10:$L$1764, 8)","v":12266444.039999999},{"$f":"VLOOKUP(A751, localcont!$D$10:$L$1764, 9)*F751","v":8303415.7126795696}]
[1612,323,"West Bridgewater             ",872,"Southeastern",8842530,{"$f":"VLOOKUP(A752, localcont!$D$10:$L$1764, 8)","v":796421.07120835502},{"$f":"VLOOKUP(A752, localcont!$D$10:$L$1764, 9)*F752","v":539114.28732043109}]
[1616,324,"West Brookfield              ",324,"West Brookfield",3422631,{"$f":"VLOOKUP(A753, localcont!$D$10:$L$1764, 8)","v":668116.79},{"$f":"VLOOKUP(A753, localcont!$D$10:$L$1764, 9)*F753","v":355977.99534343701}]
[1617,324,"West Brookfield              ",778,"Quaboag",3422631,{"$f":"VLOOKUP(A754, localcont!$D$10:$L$1764, 8)","v":5755643.2934521614},{"$f":"VLOOKUP(A754, localcont!$D$10:$L$1764, 9)*F754","v":3066653.004656563}]
[1621,325,"Westfield                    ",325,"Westfield",29261332,{"$f":"VLOOKUP(A755, localcont!$D$10:$L$1764, 8)","v":65801552.82},{"$f":"VLOOKUP(A755, localcont!$D$10:$L$1764, 9)*F755","v":29261332}]
[1626,326,"Westford                     ",326,"Westford",40743697,{"$f":"VLOOKUP(A756, localcont!$D$10:$L$1764, 8)","v":49918075.254549995},{"$f":"VLOOKUP(A756, localcont!$D$10:$L$1764, 9)*F756","v":39835481.871551201}]
[1627,326,"Westford                     ",852,"Nashoba Valley",40743697,{"$f":"VLOOKUP(A757, localcont!$D$10:$L$1764, 8)","v":1138089.6878670705},{"$f":"VLOOKUP(A757, localcont!$D$10:$L$1764, 9)*F757","v":908215.12844880123}]
[1631,327,"Westhampton                  ",327,"Westhampton",1835463,{"$f":"VLOOKUP(A758, localcont!$D$10:$L$1764, 8)","v":1322743.5699999998},{"$f":"VLOOKUP(A758, localcont!$D$10:$L$1764, 9)*F758","v":1007504.510210998}]
[1632,327,"Westhampton                  ",683,"Hampshire",1835463,{"$f":"VLOOKUP(A759, localcont!$D$10:$L$1764, 8)","v":1087019.2217461679},{"$f":"VLOOKUP(A759, localcont!$D$10:$L$1764, 9)*F759","v":827958.48978900211}]
[1636,328,"Westminster                  ",328,"Westminster",8121906,{"$f":"VLOOKUP(A760, localcont!$D$10:$L$1764, 8)","v":0},{"$f":"VLOOKUP(A760, localcont!$D$10:$L$1764, 9)*F760","v":0}]
[1637,328,"Westminster                  ",610,"Ashburnham Westminster",8121906,{"$f":"VLOOKUP(A761, localcont!$D$10:$L$1764, 8)","v":13664644.906406214},{"$f":"VLOOKUP(A761, localcont!$D$10:$L$1764, 9)*F761","v":7466737.1754996106}]
[1638,328,"Westminster                  ",832,"Montachusett",8121906,{"$f":"VLOOKUP(A762, localcont!$D$10:$L$1764, 8)","v":1199004.2143068146},{"$f":"VLOOKUP(A762, localcont!$D$10:$L$1764, 9)*F762","v":655168.82450038951}]
[1641,329,"West Newbury                 ",329,"West Newbury",8258063,{"$f":"VLOOKUP(A763, localcont!$D$10:$L$1764, 8)","v":29909.299999999996},{"$f":"VLOOKUP(A763, localcont!$D$10:$L$1764, 9)*F763","v":36291.65837989025}]
[1642,329,"West Newbury                 ",745,"Pentucket",8258063,{"$f":"VLOOKUP(A764, localcont!$D$10:$L$1764, 8)","v":6592419.251327958},{"$f":"VLOOKUP(A764, localcont!$D$10:$L$1764, 9)*F764","v":7999178.4283218319}]
[1643,329,"West Newbury                 ",885,"Whittier",8258063,{"$f":"VLOOKUP(A765, localcont!$D$10:$L$1764, 8)","v":183447.06521874698},{"$f":"VLOOKUP(A765, localcont!$D$10:$L$1764, 9)*F765","v":222592.91329827893}]
[1646,330,"Weston                       ",330,"Weston",93657604,{"$f":"VLOOKUP(A766, localcont!$D$10:$L$1764, 8)","v":22483634.176800013},{"$f":"VLOOKUP(A766, localcont!$D$10:$L$1764, 9)*F766","v":93657604}]
[1651,331,"Westport                     ",331,"Westport",22818814,{"$f":"VLOOKUP(A767, localcont!$D$10:$L$1764, 8)","v":16930127.66},{"$f":"VLOOKUP(A767, localcont!$D$10:$L$1764, 9)*F767","v":19518270.372179247}]
[1652,331,"Westport                     ",821,"Greater Fall River",22818814,{"$f":"VLOOKUP(A768, localcont!$D$10:$L$1764, 8)","v":2457036.0610934142},{"$f":"VLOOKUP(A768, localcont!$D$10:$L$1764, 9)*F768","v":2832648.1121534309}]
[1653,331,"Westport                     ",910,"Bristol County",22818814,{"$f":"VLOOKUP(A769, localcont!$D$10:$L$1764, 8)","v":405852.08938801894},{"$f":"VLOOKUP(A769, localcont!$D$10:$L$1764, 9)*F769","v":467895.51566731744}]
[1656,332,"West Springfield             ",332,"West Springfield",22371463,{"$f":"VLOOKUP(A770, localcont!$D$10:$L$1764, 8)","v":54151516.57},{"$f":"VLOOKUP(A770, localcont!$D$10:$L$1764, 9)*F770","v":22371463}]
[1661,333,"West Stockbridge             ",333,"West Stockbridge",2320420,{"$f":"VLOOKUP(A771, localcont!$D$10:$L$1764, 8)","v":0},{"$f":"VLOOKUP(A771, localcont!$D$10:$L$1764, 9)*F771","v":0}]
[1662,333,"West Stockbridge             ",618,"Berkshire Hills",2320420,{"$f":"VLOOKUP(A772, localcont!$D$10:$L$1764, 8)","v":1700035.7100759731},{"$f":"VLOOKUP(A772, localcont!$D$10:$L$1764, 9)*F772","v":2320420}]
[1666,334,"West Tisbury                 ",334,"West Tisbury",11658110,{"$f":"VLOOKUP(A773, localcont!$D$10:$L$1764, 8)","v":0},{"$f":"VLOOKUP(A773, localcont!$D$10:$L$1764, 9)*F773","v":0}]
[1667,334,"West Tisbury                 ",700,"Marthas Vineyard",11658110,{"$f":"VLOOKUP(A774, localcont!$D$10:$L$1764, 8)","v":1495106.6033753776},{"$f":"VLOOKUP(A774, localcont!$D$10:$L$1764, 9)*F774","v":3853212.708848692}]
[1668,334,"West Tisbury                 ",774,"Upisland",11658110,{"$f":"VLOOKUP(A775, localcont!$D$10:$L$1764, 8)","v":3028421.8288467042},{"$f":"VLOOKUP(A775, localcont!$D$10:$L$1764, 9)*F775","v":7804897.2911513085}]
[1671,335,"Westwood                     ",335,"Westwood",45225072,{"$f":"VLOOKUP(A776, localcont!$D$10:$L$1764, 8)","v":32534334.285979997},{"$f":"VLOOKUP(A776, localcont!$D$10:$L$1764, 9)*F776","v":44942468.513534389}]
[1672,335,"Westwood                     ",806,"Blue Hills",45225072,{"$f":"VLOOKUP(A777, localcont!$D$10:$L$1764, 8)","v":113324.38734755422},{"$f":"VLOOKUP(A777, localcont!$D$10:$L$1764, 9)*F777","v":156544.70337134847}]
[1673,335,"Westwood                     ",915,"Norfolk County",{"$f":"VLOOKUP(B778, town351, 7)","v":45225072},{"$f":"VLOOKUP(A778, localcont!$D$10:$L$1764, 8)","v":91255.303158027251},{"$f":"VLOOKUP(A778, localcont!$D$10:$L$1764, 9)*F778","v":126058.78309426541}]
[1676,336,"Weymouth                     ",336,"Weymouth",60423401,{"$f":"VLOOKUP(A779, localcont!$D$10:$L$1764, 8)","v":73806549.565599993},{"$f":"VLOOKUP(A779, localcont!$D$10:$L$1764, 9)*F779","v":60007911.789293393}]
[1677,336,"Weymouth                     ",915,"Norfolk County",60423401,{"$f":"VLOOKUP(A780, localcont!$D$10:$L$1764, 8)","v":511029.69774496206},{"$f":"VLOOKUP(A780, localcont!$D$10:$L$1764, 9)*F780","v":415489.21070660348}]
[1681,337,"Whately                      ",337,"Whately",1639963,{"$f":"VLOOKUP(A781, localcont!$D$10:$L$1764, 8)","v":916544.04999999993},{"$f":"VLOOKUP(A781, localcont!$D$10:$L$1764, 9)*F781","v":762694.98955143057}]
[1682,337,"Whately                      ",670,"Frontier",1639963,{"$f":"VLOOKUP(A782, localcont!$D$10:$L$1764, 8)","v":829719.15164322115},{"$f":"VLOOKUP(A782, localcont!$D$10:$L$1764, 9)*F782","v":690444.32691821898}]
[1683,337,"Whately                      ",818,"Franklin County",1639963,{"$f":"VLOOKUP(A783, localcont!$D$10:$L$1764, 8)","v":224509.32271042399},{"$f":"VLOOKUP(A783, localcont!$D$10:$L$1764, 9)*F783","v":186823.68353035036}]
[1686,338,"Whitman                      ",338,"Whitman",13185153,{"$f":"VLOOKUP(A784, localcont!$D$10:$L$1764, 8)","v":206943.87000000002},{"$f":"VLOOKUP(A784, localcont!$D$10:$L$1764, 9)*F784","v":100818.16151860262}]
[1687,338,"Whitman                      ",780,"Whitman Hanson",13185153,{"$f":"VLOOKUP(A785, localcont!$D$10:$L$1764, 8)","v":24418960.140122037},{"$f":"VLOOKUP(A785, localcont!$D$10:$L$1764, 9)*F785","v":11896340.140556676}]
[1688,338,"Whitman                      ",873,"South Shore",13185153,{"$f":"VLOOKUP(A786, localcont!$D$10:$L$1764, 8)","v":2438531.0803615465},{"$f":"VLOOKUP(A786, localcont!$D$10:$L$1764, 9)*F786","v":1187994.6979247218}]
[1691,339,"Wilbraham                    ",339,"Wilbraham",24213638,{"$f":"VLOOKUP(A787, localcont!$D$10:$L$1764, 8)","v":0},{"$f":"VLOOKUP(A787, localcont!$D$10:$L$1764, 9)*F787","v":0}]
[1692,339,"Wilbraham                    ",680,"Hampden Wilbraham",24213638,{"$f":"VLOOKUP(A788, localcont!$D$10:$L$1764, 8)","v":25391665.202379856},{"$f":"VLOOKUP(A788, localcont!$D$10:$L$1764, 9)*F788","v":24213638}]
[1696,340,"Williamsburg                 ",340,"Williamsburg",2226347,{"$f":"VLOOKUP(A789, localcont!$D$10:$L$1764, 8)","v":2029086.28},{"$f":"VLOOKUP(A789, localcont!$D$10:$L$1764, 9)*F789","v":1332297.8524894295}]
[1697,340,"Williamsburg                 ",683,"Hampshire",2226347,{"$f":"VLOOKUP(A790, localcont!$D$10:$L$1764, 8)","v":1361634.6040562184},{"$f":"VLOOKUP(A790, localcont!$D$10:$L$1764, 9)*F790","v":894049.14751057036}]
[1701,341,"Williamstown                 ",341,"Williamstown",7774317,{"$f":"VLOOKUP(A791, localcont!$D$10:$L$1764, 8)","v":0},{"$f":"VLOOKUP(A791, localcont!$D$10:$L$1764, 9)*F791","v":0}]
[1702,341,"Williamstown                 ",715,"Mount Greylock",7774317,{"$f":"VLOOKUP(A792, localcont!$D$10:$L$1764, 8)","v":7604824.0215425501},{"$f":"VLOOKUP(A792, localcont!$D$10:$L$1764, 9)*F792","v":7488409.9664461231}]
[1703,341,"Williamstown                 ",851,"Northern Berkshire",7774317,{"$f":"VLOOKUP(A793, localcont!$D$10:$L$1764, 8)","v":290351.7150424344},{"$f":"VLOOKUP(A793, localcont!$D$10:$L$1764, 9)*F793","v":285907.03355387633}]
[1706,342,"Wilmington                   ",342,"Wilmington",33261562,{"$f":"VLOOKUP(A794, localcont!$D$10:$L$1764, 8)","v":35697377.274099998},{"$f":"VLOOKUP(A794, localcont!$D$10:$L$1764, 9)*F794","v":29743269.452981636}]
[1707,342,"Wilmington                   ",871,"Shawsheen Valley",33261562,{"$f":"VLOOKUP(A795, localcont!$D$10:$L$1764, 8)","v":4222596.1947494792},{"$f":"VLOOKUP(A795, localcont!$D$10:$L$1764, 9)*F795","v":3518292.5470183622}]
[1711,343,"Winchendon                   ",343,"Winchendon",6252081,{"$f":"VLOOKUP(A796, localcont!$D$10:$L$1764, 8)","v":15937837.76},{"$f":"VLOOKUP(A796, localcont!$D$10:$L$1764, 9)*F796","v":5487184.763108803}]
[1712,343,"Winchendon                   ",832,"Montachusett",6252081,{"$f":"VLOOKUP(A797, localcont!$D$10:$L$1764, 8)","v":2221684.2794809826},{"$f":"VLOOKUP(A797, localcont!$D$10:$L$1764, 9)*F797","v":764896.23689119588}]
[1716,344,"Winchester                   ",344,"Winchester",65509207,{"$f":"VLOOKUP(A798, localcont!$D$10:$L$1764, 8)","v":50486504.970700011},{"$f":"VLOOKUP(A798, localcont!$D$10:$L$1764, 9)*F798","v":65356928.722108841}]
[1717,344,"Winchester                   ",853,"Northeast Metropolitan",65509207,{"$f":"VLOOKUP(A799, localcont!$D$10:$L$1764, 8)","v":117630.95641122281},{"$f":"VLOOKUP(A799, localcont!$D$10:$L$1764, 9)*F799","v":152278.27789116188}]
[1721,345,"Windsor                      ",345,"Windsor",811000,{"$f":"VLOOKUP(A800, localcont!$D$10:$L$1764, 8)","v":59818.599999999991},{"$f":"VLOOKUP(A800, localcont!$D$10:$L$1764, 9)*F800","v":59576.673802051351}]
[1722,345,"Windsor                      ",635,"Central Berkshire",811000,{"$f":"VLOOKUP(A801, localcont!$D$10:$L$1764, 8)","v":754474.67124216841},{"$f":"VLOOKUP(A801, localcont!$D$10:$L$1764, 9)*F801","v":751423.32619794866}]
[1726,346,"Winthrop                     ",346,"Winthrop",18538851,{"$f":"VLOOKUP(A802, localcont!$D$10:$L$1764, 8)","v":23704402.770799998},{"$f":"VLOOKUP(A802, localcont!$D$10:$L$1764, 9)*F802","v":17830974.215931114}]
[1727,346,"Winthrop                     ",853,"Northeast Metropolitan",18538851,{"$f":"VLOOKUP(A803, localcont!$D$10:$L$1764, 8)","v":941047.65104060096},{"$f":"VLOOKUP(A803, localcont!$D$10:$L$1764, 9)*F803","v":707876.78406888607}]
[1731,347,"Woburn",347,"Woburn",53434472,{"$f":"VLOOKUP(A804, localcont!$D$10:$L$1764, 8)","v":54984520.072560005},{"$f":"VLOOKUP(A804, localcont!$D$10:$L$1764, 9)*F804","v":51400160.776820801}]
[1732,347,"Woburn",853,"Northeast Metropolitan",53434472,{"$f":"VLOOKUP(A805, localcont!$D$10:$L$1764, 8)","v":2176172.6927354867},{"$f":"VLOOKUP(A805, localcont!$D$10:$L$1764, 9)*F805","v":2034311.2231792044}]
[1736,348,"Worcester                    ",348,"Worcester",111627533,{"$f":"VLOOKUP(A806, localcont!$D$10:$L$1764, 8)","v":398714407.20999992},{"$f":"VLOOKUP(A806, localcont!$D$10:$L$1764, 9)*F806","v":111627533}]
[1741,349,"Worthington                  ",349,"Worthington",1173479,{"$f":"VLOOKUP(A807, localcont!$D$10:$L$1764, 8)","v":1388660.63},{"$f":"VLOOKUP(A807, localcont!$D$10:$L$1764, 9)*F807","v":1173479}]
[1746,350,"Wrentham                     ",350,"Wrentham",18826578,{"$f":"VLOOKUP(A808, localcont!$D$10:$L$1764, 8)","v":9136681.7644999977},{"$f":"VLOOKUP(A808, localcont!$D$10:$L$1764, 9)*F808","v":8762778.5680527594}]
[1747,350,"Wrentham                     ",690,"King Philip",18826578,{"$f":"VLOOKUP(A809, localcont!$D$10:$L$1764, 8)","v":9274015.3652720563},{"$f":"VLOOKUP(A809, localcont!$D$10:$L$1764, 9)*F809","v":8894492.0242655743}]
[1748,350,"Wrentham                     ",878,"Tri County",18826578,{"$f":"VLOOKUP(A810, localcont!$D$10:$L$1764, 8)","v":1054941.5998913473},{"$f":"VLOOKUP(A810, localcont!$D$10:$L$1764, 9)*F810","v":1011769.9051304403}]
[1749,350,"Wrentham                     ",915,"Norfolk County",18826578,{"$f":"VLOOKUP(A811, localcont!$D$10:$L$1764, 8)","v":164259.54571445379},{"$f":"VLOOKUP(A811, localcont!$D$10:$L$1764, 9)*F811","v":157537.50255123034}]
[1751,351,"Yarmouth                     ",351,"Yarmouth",34891569,{"$f":"VLOOKUP(A812, localcont!$D$10:$L$1764, 8)","v":0},{"$f":"VLOOKUP(A812, localcont!$D$10:$L$1764, 9)*F812","v":0}]
[1752,351,"Yarmouth                     ",645,"Dennis Yarmouth",34891569,{"$f":"VLOOKUP(A813, localcont!$D$10:$L$1764, 8)","v":28358610.616278347},{"$f":"VLOOKUP(A813, localcont!$D$10:$L$1764, 9)*F813","v":32001808.253020316}]
[1753,351,"Yarmouth                     ",815,"Cape Cod",34891569,{"$f":"VLOOKUP(A814, localcont!$D$10:$L$1764, 8)","v":2560780.2893471872},{"$f":"VLOOKUP(A814, localcont!$D$10:$L$1764, 9)*F814","v":2889760.746979686}]

{"sheet":"disthist","index":15,"n_rows":448,"n_cols":52,"rows_kept":448,"cut":false,"hidden":true,"merged":[]}
[null,null,"c70fy20","c70fy07","c70fy06","c70fy07","c70fy07","c70fy07","c70fy07",null,null,null,"c70fy09 oct 15","c70fy09 oct 15","net of $412m cut",null,"c70fy10finalmay, reflecting weymouth and chelsea waiver, june 29, 2010",null,"c70fy10final, june30, 2010; reflects what weymouth chelsea and associated districts were ELIGIBLE for after June 30 waivers",null,"fy11 fb in localcont pivoted, total difffers because of regionalizers","pymincont pivoted dec 21, reflects raynham waiver and reallocated contributions for a/s, s/b oakhamfor comparison purposes","ayer, shirley, berkley, somerset, freetown, lakeville, ayer/shirley,  berk/som, f/l  adjusted based upon disaagregation file; oakham aid assigned to pathfindeer","ayer, shirley, berkley, somerset,freetown, lakeville,  ayer/shirley, berk/som, freetown/lakevilleadjusted based upon disaagregation file","ayer, shirley, berkley, somerset, freetown, lakeville, ayer/shirley, berk/som, freetown/lakeville  adjusted based upon disaagregation file","c70fy12, oct 14; monomoy, chatham harwich, granville, st","c70fy12, oct 14; monomoy, chatham harwich, granville, st","c70fy12, oct 14; monomoy, chatham harwich, granville, st","c70fy13; adjusts Lanesborough, Chesire, Berlin, Boylston, Ayer, N Berkshire, Nashoba Valley, Berlin Boylston","c70fy13; adjusts Lanesborough, Chesire, Berlin, Boylston, Ayer, N Berkshire, Nashoba Valley, Berlin Boylston","c70fy13; adjusts Lanesborough, Chesire, Berlin, Boylston, Ayer, N Berkshire, Nashoba Valley, Berlin Boylston; New Bedford","c70fy14; adjusts Acton Boxborough; removes Essex","c70fy14; adjusts Acton Boxborough; removes Essex","c70fy14; adjusts Acton Boxborough; removes Essex and allocates aid to sending districts","c70fy15","c70fy15","c70fy15; adjusts Gateway and Worthington; Peabody and ENS","c70fy16","c70fy16","c70fy16, $1M for Framingham (found reserve)","c70fy17","c70fy17","c70fy17\nMinuteman, Boxborough, Carlisle, Lincoln, Sudbury, Wayland, Weston","c70fy18","c70fy18","c70fy18\n","c70fy19\n","c70fy19\n","c70fy19\n","c70fy20","c70fy20","c70fy20"]
[]
[1,2,3,4,5,6,7,8,9,10,11,12,13,14,15,16,17,18,19,20,21,22,23,24,25,26,27,28,29,30,31,32,33,34,35,36,37,38,39,40,41,42,43,44,45,46,47,{"$f":"AU3+1","v":48},{"$f":"AV3+1","v":49},50,51,52]
[]
[]
[]
[null,null,"Prior Year",null,"required",null,"Foundation","Required","FY07","Foundation","Required","FY08","Foundation","Required","chapter 70",null,"Foundation","Required","chapter 70",null,"Foundation","Required",null,null,"edujobs","Foundation","Required",null,"Foundation","Required",null,"Foundation","Required",null,"Foundation","Required",null,"Foundation","Required",null,"Foundation","Required",null,"Foundation","Required",null,"Foundation","Required",null,"Foundation","Required"]
[null,null,"Target Aid Share","foundation","contribution","Chapter 70","Budget","Contribution","chapter 70","Budget","Contribution","chapter 70","Budget","Contribution","aid","FY09 9c cut","Budget","Contribution","aid","FY10","Budget","Contribution","c70","sfsf","total","Budget","Contribution","c70","Budget","Contribution","c70","Budget","Contribution","c70","Budget","Contribution","c70","Budget","Contribution","c70","Budget","Contribution","c70","Budget","Contribution","c70","Budget","Contribution","c70","Budget","Contribution","c70"]
["LEA","District","FY20","FY06","FY06","FY06","FY07","FY07","aid","FY08","FY08","aid","FY09","FY09","FY09","stabilization aid","FY10","FY10","FY10","sfsf","FY11","FY11","FY11","FY11","FY11","FY12","FY12","FY12","FY13","FY13","FY13","FY14","FY14","FY14","FY15","FY15","FY15","FY16","FY16","FY16","FY17","FY17","FY17","FY18","FY18","FY18","FY19","FY19","FY19","FY20","FY20","FY20"]
[1,"Abington                     ",36.630000000000003,16523760,10191983,6869653,17243088.48,10835090,7152781,18063555.577898104,11492886,7448806,19020902.029999997,11903143,6987394,821183,19474318.639892824,12084604,7652405,0,18226050.298500001,11741657,7205352,38682,462271,17359608.879999999,12056554,7244034,18273059.900000002,12498017,7324394,18967492.810000002,13020494,7374594,18287521.510000002,12943494,7423394,18870910.490000002,13029356,7472269,19481152.105999999,12843377,7579849,19699144.432921756,12922903,7637749,21515960.214600004,13701008,7816931,23388476.609717574,14463601,8933994]
[2,"Acton                        ",17.61,16798342,14323943,2723714,17472326.599199999,14258025,3214302,18387597.604836155,14103803,4283795,19355313.269600004,14127172,4678327,549814,19717633.622768261,14236925,5123578,357131,19649104.540190399,14516319,5160527,27704,353078,19614092.674799997,14543128,5188231,20151482.417030003,14761130,5537500.2082832009,13308,9807,1699,0,0,0,0,0,0,0,0,0,0,0,0,0,0,0,0,0,0]
[3,"Acushnet                     ",43,10752617,4702995,6049622,10925643.810000001,5021780,6138021,10761756.058842914,5158813,6206921,11395406.830000002,5414309,5825831,684672,11223341.565244021,5326164,6380293,0,10323398.130179999,5401579,6007556,32251,371236,10560494.92,5591539,6039807,10945583.299999999,5840331,6088327,11227244.859999999,6098928,6118877,11538501.129999999,6393318,6150152,11701370.220000003,6720092,6181252,11862468.339999998,6851396,6250222,11736546.345857544,6867294,6286522,12395984.840000002,7125126,6323332,13443441.482329441,7498601,6361492]
[4,"Adams                        ",66.45,0,0,0,0,0,0,0,0,0,11943.49,2802,9141,0,12306.57500478469,3310,8958,39,0,0,0,0,0,0,0,0,12697.210000000001,3609,9088,0,0,0,0,0,0,0,0,0,0,0,0,0,0,0,0,0,0,0,0,0]
[5,"Agawam                       ",45.65,32319935,21493837,10826098,34566078.779999994,22041666,12524413,35551345.780867614,21602566,14029399,37698376.909999989,21211830,14752751,1733796,38739894.035965554,21200429,16156816,1382649,37851740.416679993,20906343,16620258,89225,936907,38691315.740000002,21196318,17494998,40065479.369999997,21799451,18531417.812022001,39705689.879999995,22317126,18633592.812022001,40513463.040000007,22228633,18827346.812022001,40806967.850000001,22728531,18927671.812022001,39809443.760000005,22702754,19138981.812022001,40549530.336503848,22135293,19253911.812022001,41326070.32,22474431,19367102,42227451.049391314,22951211,19477412]
[6,"Alford                       ",17.5,0,0,0,0,0,0,0,0,0,0,0,0,0,0,0,0,0,0,0,0,0,0,0,0,0,0,0,0,0,0,0,0,0,0,0,0,0,0,0,0,0,0,0,0,0,0,0,0,0]
[7,"Amesbury                     ",30.55,19460597,12406221,8455877,19548536.809999999,12809091,8583727,19781530.293151677,13167547,8706827,20756560.399999999,13536773,8124385,954806,21190912.030989472,13555005,8897607,0,21216914.582820002,13646574,8377810,44976,535896,21437478.949999999,13871392,8422786,21788085.690000001,14228051,8517266,22520782.300000004,14645774,{"$f":"8577441+84220","v":8661661},23277123.93,14710835,8807407,23284050.52,14749359,8867257,22775372.140000001,14489823,8995077,22137199.0502779,14640237,9061587,22830750.459999997,15155898,9127527,22996252.745490368,15621860,9190887]
[8,"Amherst                      ",25.49,11114274,5541487,5572787,11497553.710000001,5563556,5933998,11950170.523914317,5791375,6158796,12240957.26,6176229,5607673,659034,12789869.018824883,8287309,6141373,0,12104976.778860003,8244892,5782594,31044,361635,11778216.34,8330699,5813638,12123554.34,8560597,5864398,11999013.530000001,8782052,5895073,11927369.58,8808278,5925198,12222179.260000002,9033626,5954998,12153334.120000001,9054116,6020943,11871248.344619127,8817279,6055023,11969353.380000003,8946746,6088203,12803970.649125857,9508882,6122223]
[9,"Andover                      ",17.5,40445552,43398252,5235106,45421092.757479988,43984801,6105826,47430802.160358295,44443293,6764195,50839207.830960013,44963510,6682611,785364,52920927.943806164,46055668,7318616,0,52465302.435107633,46239193,6891063,36994,541909,53641152.655579992,47162432,6928057,55867173.864680015,48525635,7950343.1065797508,57208567.533579998,49906105,{"$f":"8465632.15952894+84220","v":8549852.1595289409},56905481.147259988,49453903,9042864.1595289409,57593754.781260006,49454967,9191614.1595289409,58523208.186840013,48754974,9768234,59213763.705395557,49146929,10066835,60546641.049729995,49950979,10595662,63835635.793936521,52178457,11668291]
[10,"Arlington                    ",17.5,31514908,29608395,5019276.8,34791436.82971999,30151702,5592669.7999999998,35888202.793767765,30613441,5814119.7999999998,38070505.063400008,31841211,5574195,655099,40248798.10830944,33205258,6104708,938832,39642105.945616916,33491571,6632057,35604,490929,41361535.892299995,34480956,6880580,43488849.24750001,35379353,8109496,46406615.112400003,36357635,10048980,47819420.315520003,37584838,10234582,50290292.382299997,39574733,10715559,51156059.770829991,41761139,11012669,54501493.562073596,43805119,11180879,58002940.646099992,46237018,11765923,62294073.096873432,48330137,13979327]
[11,"Ashburnham                   ",52.99,0,0,0,0,0,0,0,0,0,0,0,0,0,0,0,0,0,12035.81568,5767,6269,0,0,0,0,0,0,0,0,0,0,0,0,0,0,0,0,0,0,0,0,0,0,0,0,0,0,0,0,0]
[12,"Ashby                        ",40.840000000000003,0,0,0,10849.66,3784,7066,0,0,0,0,0,0,0,0,0,0,0,36107.447039999999,17602,18505,0,0,0,0,0,0,0,0,0,0,0,0,0,0,0,0,0,0,0,0,0,0,0,0,0,0,0,0,0]
[13,"Ashfield                     ",25.59,88168,48246,66553,97646.94,58472,71328,158055.47,93913,98741,154299.47,98640,99291,0,171296.79213014356,113319,97305,0,227707.1532,147698,93413,0,0,244010.68,163790,93413,265614.51000000007,185836,93413,205261.50999999998,160515,93413,207026.65000000002,168768,93413,276131.65999999997,227950,93413,236011.40000000002,187511,93413,226884.18269824251,176931,93413,233861.83,163542,93413,100602.5807874735,74854,93413]
[14,"Ashland                      ",26.04,17600708,15268810,2710446,19209670.376520004,15739323,3470347,20160314.837740563,16316673,3843642,21548050.5513,16954069,4110859,483123,21943205.255612019,17161770,4502102,279333,21499028.046113763,17147082,4502104,24169,317887,22018866.611560002,17141832,4877035,22827562.789220002,17549961,5393484.5103722075,23024892.666360006,17849470,5455184.5103722075,23394153.285179999,18210677,5517159.5103722075,23999962.492609996,18808879,5579509.5103722075,24958578.790420003,19022776,5935803,24948345.559453651,19465664,6012213,26344731.796339996,20247938,6115970,29177890.758524973,21472389,7839520]
[15,"Athol                        ",71.31,0,0,0,0,0,0,0,0,0,0,0,0,0,0,0,0,0,0,0,0,0,0,0,0,0,0,0,0,0,0,0,0,0,0,0,0,0,26341.840000000004,3873,22469,26833.666687179095,4106,22728,13837.16,2099,13837.16,0,0,0]
[16,"Attleboro                    ",52.15,49581258,24133853,26883243.999999996,51622674.860000007,26137000,27866185.999999996,53454656.395922035,27572010,28728682.999999996,56616897.470000006,28727620,27069945.999999996,3181356,58918761.277305275,28533080,29646276,739405,57958272.469619997,29329457,28610552,153594,1774285,59072872.719999991,30079922,28992951,63511315.789999999,31014381,32496935,65997192.829999998,31917394,34079799,66876305.419999994,32678917,34235474,68325590.250000015,33083184,35242406,68466287.280000016,32806836,35659451,69495854.734565571,33973326,35846981,72980818.829999998,35206834,37773985,77760770.558410808,36638947,41121824]
[17,"Auburn                       ",43.67,16499311,14372371,3851160.4,17023458.98,14092633,4305255.4000000004,18480214.973095328,14055240,5071081.4000000004,19659678.48,13968259,5197030.4000000004,610773,20439500.344528228,14187753,5691647,560100,20652528.680219997,14065172,6460963,34685,91709,20662647.859999999,14287674,6495648,22131023.739999998,14570334,7942820.3625045,22143759.650000002,14877912,8141597.1613508752,22469656.549999997,14563293,8389817.1613508761,22643826.370000001,14394734,8448392.1613508761,23122124.420000002,14141768,8983238,24064548.393377755,13986014,10078534,25672129.779999997,14624535,11066959,26762943.249616574,15076760,11851108]
[18,"Avon                         ",31.8,4314744,5219399,598615.19999999995,4744879.2,5087039,689890.2,4908325.580745657,4879669,821450.2,4880185.91,4634153,787773.2,92582,5079184.7577110045,4655392,862748,0,5003299.8623400005,4683156,812346,4361,59766,5311469.62,4662241,816707,5330691.71,4889789,874133.94566824997,5277960.9499999993,4882181,902872.92975868739,5301350.57,4680844,946828.92975868739,5497208.8500000006,4485828,1011381,5736311.7000000011,4321841,1414471,5634205.6633891659,4254900,1430611,6193899.0300000012,4386495,1807404,6653932.0309206927,4537696,2116236]
[19,"Ayer                         ",29.34,8246427,6215760,3640814,8871545.0322399996,6363490,3883672,9386273.5519316979,6352709,4095225,9764441.5805200022,6347229,3805903,447283,10086779.713210486,6445455,4168122,0,643993,415421.3758135406,253793,1362,16107,769483.96129999985,504740,264744,104146,557301,38995,0,0,0,0,0,0,0,0,0,0,0,0,0,0,0,0,0,0,0,0,0]
[20,"Barnstable                   ",17.5,47026157,46712289,6420888,47204345.670000002,46877880,6788862,48539833.542866066,45893085,7300545,49407513.479999997,45447325,6930189,814460,50897964.509274639,45599938,7589756,0,49664767.726020001,44936193,7146363,38365,542328,49571418,44732590,7184728,52647431.899999999,46300239,7401888,53905631.089999996,47284048,7909787.3601874998,53870372.68999999,46207751,8440922.3601875007,55521659.879999995,46784953,8736707,57300644.839999989,47453547,9847098,58000134.653313488,48045485,10011348,60393953.440000013,49825012,10568941,63524348.519651115,51296149,12228200]
[21,"Barre                        ",61.06,19593,9834,15043,21699.32,7253,16444,22710.54,6521,17100,23886.98,7013,17858,0,61532.87502392345,22041,17501,21991,0,0,0,0,0,12250.07,4767,7483,25394.420000000002,10406,14988,12894.02,5544,12894.02,0,0,0,0,0,0,0,0,0,0,0,0,0,0,0,0,0,0]
[22,"Becket                       ",17.5,48982,54219,48982,140168.19,87604,79274,146700.20000000001,105888,80981,95547.92,70485,81381,0,86146.025033492828,68508,79753,0,155492.25912,142385,76563,0,0,170510.26,161768,76563,227522.88,221631,76563,218155.53,210026,76563,246041.35,221437,76563,118799.64000000001,103997,76563,170156.80000000002,141158,76563,173216.84932388432,131694,76563,206187.50999999995,157270,76563,143717.97255353359,108529,76563]
[23,"Bedford                      ",17.5,17469341,19992834,2053688,18847501.762400001,20198035,2302613,19936512.315641664,20143875,2658496,21540315.715160001,20229106,2707008,318137,22837847.15390702,20263035,2964642,0,22281982.144923359,20213672,2791448,14986,220883,22574959.842000004,20395123,2806434,24305160.20324,20957504,3729645.7841924857,25381920.618640006,21670472,{"$f":"3907693.36520986+16844","v":3924537.3652098598},25862895.333689999,21890571,4145009.3652098598,26053076.229189999,22187734,4209634.3652098598,25950850.370000001,21694256,4352414.3652098598,26915524.993783444,22291183,4624342,27912085.889699996,23027471,4884615,29672258.159568485,24098559,5595167]
[24,"Belchertown                  ",50.17,18090392,8585608,9504784,19713838.600000001,9148930,10564909,20636641.406207636,9371626,11265015,22678130.579999998,9514031,11779707,1384393,23575322.127127279,9788345,12900818,886159,22816367.782979999,9964385,12981543,69691,802818,23483392.580000002,10232132,13251261,23567308.230000004,10469424,13355141,23833924.679999996,10829462,13419341,23327151.939999998,11128856,13481666,22973661.619999997,11383708,13541691,23089848.73,11282677,13673306,23338797.006631523,11231898,13744526,23863029.98,11563925,13814846,24514320.307211746,12048062,13884146]
[25,"Bellingham                   ",32.6,19213556,11849997,7674956.0000000019,19765781.870000005,12301746,7877733.0000000019,20737641.341686606,12839032,8236349,21635191.629999999,13286678,7660683,900310,22336539.266939711,13855656,8389773,91110,21918230.382779997,14070986,7985431,42869,516233,22005905.830000002,14331642,8028300,21897110.52,14719762,8123660,22859867.109999999,15024829,8184635,22925709.119999997,15265577,8245235,23462633.450000003,15314220,8305835,22360509.420000002,15180149,8433985,22943454.173670746,15348243,8503945,23842628.519999996,15794941,8573845,24541929.425553497,16455942,8642425]
[26,"Belmont                      ",17.5,25508704,25370522,3002919.2,26906930.229400001,25515369,3344078.2,28888243.350710981,25916568,3857487.2,31086767.443360008,26482952,4119658,484157,33630843.731472418,27745446,4511739,1373659,32919934.323621243,28127012,5541573,29750,410300,33178102.924880005,28699894,5571323,34247348.968879998,29351497,5724243,35925169.712800004,30375090,5864908.424935,37689370.076880001,31269266,6420104,39180121.943280004,32414023,6766099,40728661.169720002,33616892,7111769,42643514.599933475,34843282,7800233,45512607.460039996,36735671,9036713,47857221.466895089,38364680,9519647]
[27,"Berkley                      ",45.61,7643922,2828497,4920431,8272940.120000001,3113070,5258969,8560781.2362940945,3328896,5405595,8827170.8099999987,3585871,4954853,582312,9064946.7510200962,3849845,5426422,0,6358267,2943167.6275719707,3785929,19984,230000,6692981.5599999996,3181543,3805913,6718784.6800000006,3109727,3837513,6637699.4999999991,3087420,3856463,6578224.6799999988,3202757,3875013,6569709.3200000003,3390355,3893088,6930346.8399999989,3591123,3934448,7359719.0961112287,3696563,3957968,7541762.2899999991,3837447,3981188,7578024.2998736957,3944412,4003448]
[28,"Berlin                       ",17.5,1495721,1260426,505156.8,1574409.8655099997,1380034,518927.8,1531631.5569803971,1426621,529127.80000000005,1559344.8398399998,1379744,482385.8,56692,1739191.978516578,1464517,528296,0,1521295.9949798398,1367714,497433,2670,32943,1493144.841,1321677,500103,1366340,1379734,428980,1449658.5541600001,1228268,433030,1474055.7653800002,1240618,437180,1394075.23704,1182830,440980,1517885.7034299998,1268093,449505,1603891.1351568666,1339179,454305,1639651.6628,1352713,0,0,0,0]
[29,"Bernardston                  ",46.61,0,0,0,0,0,0,0,0,0,0,0,0,0,24613.150009569381,12834,0,11779,24071.631359999999,12891,11308,0,0,12250.07,6787,11308,12697.210000000001,6666,11308,0,0,0,0,0,0,0,0,0,0,0,0,0,0,0,0,0,0,0,0,0]
[30,"Beverly                      ",17.5,34118143,32135174,6332869.2000000002,35715876.831259988,32889802,6612472.2000000002,37367798.212748706,33478649,6901558.2000000002,39386154.621250004,34043028,6491827.2000000002,762943,39194005.831609689,34064888,7109675,0,38562013.260270961,34027524,6694328,35938,485209,39163824.46955999,34390816,6730266,41449624.288350001,35366026,6901866,42458330.514560007,36512325,{"$f":"7033951.460012+193707","v":7227658.4600120001},43026226.781149998,36875947,7336283.4600120001,44949344.692879997,37443198,7506147,44666515.990000002,37114279,7750842,45588032.85854122,37741029,7884162,46490353.889999993,38354542,8135812,49446399.057018369,40188832,9257567]
[31,"Billerica                    ",23.17,44723745,33169789,13000488.000000002,47634963.546500005,33645086,14140521.000000002,48947057.0166407,33836479,15747049.000000002,51035401.591280006,33569444,15629163,1836795,52105541.174899884,33750443,17116639,1238459,48993356.292637311,33261644,17282794,92782,1127922,50875415.991750009,33909226,17375576,52527991.367600001,34773532,18204887.04653937,51957284.506579995,35443588,{"$f":"18343562.0465394+8422","v":18351984.0465394},50581059.937599994,35165450,18486609.0465394,51437518.584149994,35483899,18620584.0465394,49371895.506909996,34830635,18904494.0465394,49374269.014992416,35556235,19055514.0465394,50010476.058320001,37025362,19202874.0465394,51908631.204447828,39371685,19348854]
[32,"Blackstone                   ",50.25,78960,54427,38854,194416.49,79381,115035,192121.28,87676,115785,214016.92,93849,127344,0,208216.51714449763,92534,124797,0,84250.709759999998,38469,84250.709759999998,0,0,85750.49,40589,84251,88880.470000000016,43338,84251,116046.18,57626,84251,181016.85000000003,89793,91224,223331.82000000004,112108,111224,249182.32000000004,125734,125414,293968.34941619023,142085,151883,303047.63,146874,156507,357718.72900887078,174004,183898]
[33,"Blandford                    ",17.5,48982,35517,34879,65097.96,37532,43027,34065.81,19175,34065.81,59717.45,34567,45413.81,0,73839.450028708146,45404,44506,0,84250.709759999998,55481,42726,0,0,122500.7,81440,42726,88880.470000000016,61527,42726,128940.2,98474,42726,181016.85000000003,141333,43655,92399.719999999987,77583,43655,105367.36000000002,88144,43655,80501.000061537285,67637,43655,110697.28,91325,43655,114974.37804282685,91083,43655]
[34,"Bolton                       ",17.5,9973,4632,5341,11170.821760000001,8623,5551,11756.7567,9885,5654,12414.87736,10106,5769,0,0,0,5654,0,0,0,0,0,0,0,0,0,0,0,0,0,0,0,0,0,0,13623.25469,11667,1956,27251.545720000002,22684,4568,13854.834543589546,11515,4568,14264.24656,11464,4568,14861.542035353355,12091,4568]
[35,"Boston                       ",17.5,586105185,399376878,203634716.00000003,619256557.27349997,422061485,210540147.00000003,645423775.69285941,450972697,215807608.00000003,674654547.49265981,485336817,198137070.00000003,23285769,698913738.66387761,510847386,216994382,0,680748415.44375777,527398841,204317586,1096867,13086129,706116381.62752008,551817407,205414453,724294011.71002996,579960095,207858813,750290537.27947998,604305866,{"$f":"209406563+8422","v":209414985},780383012.88296986,627463814,210991435,805600562.75407994,657393838,212596335,802914847.56588995,666445514,216128435,829896970.52937865,686260642,218066495,861999611.91060007,711149680,220001735,910864776.36300993,749907338,221915045]
[36,"Bourne                       ",17.5,17925620,14175597,4520605,19096415.879999999,14957841,4725494,19833297.543827865,15646627,4854448,20945577.219999999,16223237,4518112,530985,20772043.229703348,16779418,4948115,0,19969976.504640002,16817476,4659046,25012,321732,19955194.440000001,17178276,4684058,20413172.529999997,17508247,4771738,20231816.77,17624172,4825238,19753593.370000005,16968423,4877338,19473369.859999999,16682400,4927363,19315319.800000001,16178695,5034613,20067959.034898311,16608266,5094043,21368782.289999999,17629245,5155183,22123862.831195891,18252187,5215213]
[37,"Boxborough                   ",17.5,4097907,3155257,1318163,4120404.6616799999,3160718,1344663,4148265.2990540327,3153303,1370363,4158143.8214699994,3122645,1248173,146690,4221713.9749441538,3141987,1366966,0,3719555.6312304004,3019563,1287108,6910,83923,3688231.1508000009,3037911,1294018,3802586.1715900004,3281068,1310578,0,0,0,0,0,0,0,0,0,0,0,{"$f":"14864","v":14864},88385.021661537277,73448,14937,106694.35,87553,19141,127474.53052282683,104905,22674]
[38,"Boxford                      ",17.5,6071885,5163711,1491956.8,6289686.6546200002,5060226,1536106.8,6441226.7548756497,5155389,1579156.8,6868240.9885999989,5466446,1479954.8,173929,6715149.8644612292,5538616,1620806,0,6426161.3153402992,5556487,1526119,8193,106694,6278578.7740599988,5546995,1534312,6142159.6714999992,5438279,1563632,6321744.6236000005,5657134,{"$f":"1582232+25266","v":1607498},6315613.1311499998,5486948,1625748,6380974.8437599996,5508993,1643973,6361983.2980000013,5310704,1683463,6728318.9448366938,5579890,1705633,6655216.9083199995,5490554,1726753,7004474.1685977643,5765598,1747903]
[39,"Boylston                     ",17.5,2456202,2401450,399441.2,2596679.29,2468253,424025.2,2637266.6833377071,2412440,441425.2,2748598.3,2379694,412437.2,48471,2995460.8425033498,2540646,451690,3125,2900472.82014,2577094,428244,2299,33097,2809495.56,2592747,430543,2762062,2804850,404281,2837168.6900000004,2524555,427336.88018750004,2701535.6,2336823,443237.88018750004,2619960.2999999998,2263384,450312.88018750004,2586705.9099999997,2165226,465437.88018750004,2629403.7758567845,2172204,473687.88018750004,2856144.64,2256220,72374,429577.71528563765,344845,84733]
[40,"Braintree                    ",26.88,36257909,32433077,4903921.2,39382974.82124,33034864,6348111,41131026.449868038,33655897,7475129,44050195.07244999,34532907,8516409,1000879,46447721.11701142,34269687,9326942,2851092,45861987.164652348,35115999,11466594,61558,781482,47773435.682659999,35619436,12154000,49979205.223809995,36669696,13546898.562588248,51154368.228680007,37491319,13863900.583767677,53388255.002250001,38760993,14627262,55247735.783950001,39956696,15291040,56110509.381990001,39512030,16598479,58118969.896002591,40917885,17201085,60365199.038079999,42548094,17817105,63032117.839880839,44795946,18297651]
[41,"Brewster                     ",17.5,3745908,3609192,847877.2,3716661.11,3503455,872877.2,3870065.49,3592082,899723.2,4197809.6900000004,3789305,856428.2,100650,4216302.6441186611,3870397,937937,0,4075130.8498800001,3786992,883143,4741,62353,4135853.54,3959695,887884,4270180.41,4095847,906844,4270777.8100000005,4059699,918344,4371530.74,3934378,930169,4481450.93,3903212,942019,4710846.5600000005,3929503,968749,4863009.8651172351,4034625,983449,4845032.0600000005,3997151,997669,5028082.1512436774,4091479,1011979]
[42,"Bridgewater                  ",36.21,88168,50372,88168,97646.94,52590,91714,79486.89,42308,79486.89,95547.92,49903,85767.89,0,110759.17504306222,61737,84053,0,36107.447039999999,20964,36107.447039999999,0,0,49000.28,28706,36107,38091.630000000005,22925,36107,51576.08,31717,36107,78029.39999999998,48603,36107,131999.6,81574,50426,196498.64000000004,121288,76038,200050.51601106342,124537,76038,124534.43999999997,80047,76038,129346.17529818021,81640,76038]
[43,"Brimfield                    ",43.02,2082262,1222310,892997.6,2227974.4500000002,1181088,1046886,2430566.1536758002,1254545,1176021,2380996.33,1252428,1065723,125248,2416094.560888038,1320275,1167152,0,2491980.6652200003,1418885,1098967,5900,69910,2587336.7200000002,1412114,1175223,2627653.7399999998,1439707,1187947,2589280.4,1451989,1195297,2557047.06,1495359,1202422,2535170.4500000002,1464818,1209272,2386674.08,1412227,1223352,2534076.5705832485,1459687,1231392,2588960.9799999995,1544601,1239312,2714228.2124121352,1546449,1247172]
[44,"Brockton                     ",77.53,138977359,28667300,110310059,148050710.59000003,30752545,117298166,154658101.48941717,32078890,122579211,162730674.18000001,33821654,115352398,13556622,165249140.34832537,32323782,126330840,6594518,165226027.56366,32681998,130000851,697902,2623405,173663222.44,34080582,139582640,183049366.26000002,34969008,148088586,194125642.31999999,36202770,157922872,202656340.72,37791281,164865060,209479318.44,39438390,170040928,202933234.47,40436538,171012998,210658023.1896143,42271112,171549638,219005794.21000001,43627822,178296402.16310808,232535452.17106631,46034943,186500509]
[45,"Brookfield                   ",57.85,2025359,709065,1322058.3999999999,2063441.72,801638,1345037.4,2050160.4735631028,812205,1357887.4,2003095.25,823505,1225913.3999999999,144074,2262218.9634143542,963341,1342588,0,2318727.5348999999,997242,1296130,6958,46050,2344861.94,1042415,1303088,2462784.7700000005,1111388,1354889.719122,2368076.6400000006,1081418,1361089.719122,2293424.8199999998,1033581,1366889.719122,2475237.4299999997,1069272,1405965,2406993.0500000003,1047029,1419330,2393041.9473765823,1030082,1426350,2539081.3000000003,1093626,1445497,2740659.0357464454,1155170,1585489]
[46,"Brookline                    ",17.5,43182454,61282406,5214247.2,46243374.585639991,59029263,5789916.2000000002,49807109.097208999,56651328,6667814.2000000002,52046875.491919994,53580843,6687235.2000000002,785907,55448797.678294986,53202974,7323679,0,55383764.102746435,52241986,6895830,37020,549129,57861961.59826,52548862,6932850,63110212.205569983,54160831,8949381,66334276.020650007,55964810,10369466,68558216.958700001,57398755,11159462,71400245.83788,59216726,12183520,73409265.273400009,60679638,12729627,75819883.374121532,62590117,13229766,79599261.272049993,64824584,14774677,83235896.760623336,68669614,15006787]
[47,"Buckland                     ",45.48,0,0,0,0,0,0,0,0,0,0,0,0,0,12306.57500478469,6213,0,6094,12035.81568,5834,6202,0,0,0,0,0,0,0,0,0,0,0,0,0,0,0,0,0,0,0,0,13416.833343589547,8460,4957,27674.32,17242,10478,28743.594510706713,15670,13074]
[48,"Burlington                   ",17.5,26346430,31715482,3726893.6,28476092.515739989,31274657,4099584.6,29703889.542099517,30286140,4663527.5999999996,32206347.779779997,29440791,4943419.5999999996,580968,33076725.604208447,30090020,5413900,0,32935307.252465941,30061628,5097620,27366,382764,33128199.854009997,30481205,5124986,33884514.180340007,31423998,5326186.995389875,34352845.412480004,32068110,5497577.2333384063,34467698.66996,30725441,5684571.2333384063,34239007.273680001,30149693,5771296.2333384063,34371376.749679998,28843485,5961486.2333384063,35700016.024699226,29571420,6128596,37486525.891100004,30926384,6560142,39132795.405252784,32284557,6851477]
[49,"Cambridge                    ",17.5,58192422,121371348,7122204.7999999998,59270960.026400015,88906440,7772247.7999999998,58586280.466038458,83184123,8516352.8000000007,62523713.757140018,76283365,8336916.8000000007,979784,65306358.733187631,75386475,9130367,0,63289437.868766032,70899052,8596971,46152,639119,65583156.403349996,70070141,8643123,68855555.119200006,68855555,8892163,72833197.092889979,69898977,9053613,75565946.828440011,67728118,10513263,79533780.825280011,68456380,11077401,80655732.60428001,67464934,13287462,84055799.773383468,69688258,{"$f":"14474654-107112","v":14367542},88309460.905200005,72855305,15454156,95754602.358881176,78997547,16757055]
[50,"Canton                       ",17.5,21297642,22689136,2658679.6,23120445.500109997,22714049,2977670.6,24474543.710445229,22506106,3369282.6,26022801.77039,22769714,3364793.6,395442,26782117.437980484,23032985,3685031,64101,26442324.635255523,23230516,3530108,18951,275998,27781523.257420003,23943285,3838238,29173938.351570003,24768223,4580646.0528811878,30084633.497920007,25615490,4751687.2551948912,30171279.553439993,25776936,4936587.2551948912,31710377.389359999,26583708,5126669,31711055.289259996,26390963,5320092,33816147.853070647,27788653,6027495,34875442.289380006,28772240,6127065,36127373.083982036,29805082,6327312]
[51,"Carlisle                     ",17.5,5380976,5527723,625736.4,5564262.385809999,5588855,695338.4,5581542.8067216659,5455408,779767.4,5703345.7581000021,5287388,762232.4,89580,5621329.9800242223,5264374,834776,0,5332769.3760069599,4994997,786008,4220,61148,5279778.722959999,5047262,790228,5237293.4315999998,5073775,815308,5211682.2159700003,5137653,839492.09694868745,5130124.3316099988,4617112,859890.09694868745,5330419.6237000003,4642180,875115.09694868745,5096190.4877600009,4276513,{"$f":"906850.096948687+7432","v":914282.09694868699},5148187.6529762335,4284734,931172.09694868699,5496906.7434400003,4534948,961959,5645404.4536545286,4644791,1009657]
[52,"Carver                       ",46.97,14692519,5600310,9266231,15522693.041550003,5937552,9740177,16020593.808795983,6229859,10016064,16571482.380320001,6622023,9233907,1085201,17214969.206102479,7603064,10112726,0,16524123.59413152,7761924,9521941,51118,586792,16233062.765200002,8021055,9573059,16560679.89696,8171863,9644539,16614966.67595,8403720,9688439,16482096.760799997,8461514,9731289,16197468.462199999,8567837,9772714,16376740.850159999,8366875,9863519,16782096.605596974,8454008,9913049,16982947.176720001,8706167,9961139,17414154.77758931,9062138,10008599]
[53,"Charlemont                   ",53.24,78372,24481,66503,140168.19,52863,104458,180766.01,75004,130303,202073.43,86198,143418,0,183603.36713492827,78176,140550,0,96286.525439999998,48181,96286.525439999998,0,0,61250.35,31272,61250.35,63486.049999999996,33682,61250.35,77364.119999999981,42623,61250.35,65024.500000000007,36024,61250.35,65999.8,37958,61250.35,118538.28,62581,61250.35,186633.68266747385,94583,92051,178513.19,86258,92255,199628.95919998386,93353,106276]
[54,"Charlton                     ",46.81,9796,3731,6065,0,1019,0,0,0,0,0,0,0,0,12306.57500478469,4735,0,7572,12035.81568,4895,7269,0,0,36750.21,15574,21176,38091.630000000005,16459,21633,25788.04,11686,21633,26009.8,11935,21633,26399.920000000002,12481,21633,26341.840000000004,13326,21633,40250.500030768642,20853,21633,41511.479999999996,21350,21633,0,0,0]
[55,"Chatham                      ",17.5,4193476,7336875,477224.8,4300106.45,6443767,532283.80000000005,4585029.6806893088,6009057,613312.80000000005,4990261.8899999997,5494357,625585.80000000005,73521,4899882.2308746418,5453455,685125,0,4739534.5728599997,5103025,645100,3463,50262,0,0,0,0,0,0,0,0,0,0,0,0,0,0,0,0,0,0,0,0,0,0,0,0,0,0,0]
[56,"Chelmsford                   ",17.5,40243143,36260612,6876856,42592748.364599995,37179861,7440307,44064611.171122938,37500357,8365004,46153358.467759997,37130897,8440095,991910,47744450.184116684,37306579,9243365,1194506,45545882.214795649,37406417,9828091,52762,692768,45821656.65101999,38188765,9880853,47211208.199219994,38901400,10089893,46881673.41488,39656173,10218568,47335965.470179997,39489751,10346618,47241970.625249989,39434421,10473018,46800513.146480002,38219600,10746368,47405594.168949671,37968938,10894328,50869628.260760002,40222347,11047148,52945358.502223566,42445789,11199428]
[57,"Chelsea                      ",78.31,50386551,8453650,42000702,53256173.620359994,9142672,44127092,58311558.942627169,9794441,48517118,61064521.992660001,10267187,45455271,5342064,62117725.984426871,10206209,49781388,2130129,63694269.530000001,10946147,51355990,277725,1118615,64097834.562419996,11332640,52765195,67545521.032000005,11524290,56040644,73447858.946570009,11993753,61454106,77392158.150499985,12901270,64490888,84321341.850099981,13967161,70354181,83654803.231740028,14735937,71681078,87574481.054575801,16070465,{"$f":"73109660-1214292","v":71895368},94734546.746300012,17306968,77723604.353151083,100163293.24265932,18590816,81572477]
[58,"Cheshire                     ",51.2,411606,147670,263936,421381.96,162084,269956,475084.72,183097,302591,499694.78,201075,316850,0,453352.7593033493,179424,310513,0,479485.93776,198341,298092,0,0,488021.36,199213,298092,38092,238032,21802,38682.05999999999,17166,21802,13004.9,5919,13004.9,13199.960000000001,6175,13004.9,0,0,0,0,0,0,0,0,0,0,0,0]
[59,"Chester                      ",48.55,147024,57724,89300,108496.6,52566,89800,158055.47,67713,121002,178186.45,77758,133451,0,183603.36713492827,77294,130782,0,167528.0748,73335,125551,0,0,170510.26,80804,125551,214825.67,97804,125551,243943.57,117682,126262,220031.55,109806,126262,210131.86,99091,126262,131709.20000000001,66688,126262,93917.833405126818,48725,93917.833405126818,55348.639999999999,28255,55349,100602.5807874735,51760,55349]
[60,"Chesterfield                 ",34.22,147024,74106,85640,151017.85,79291,87945,226187.09,122154,128461,202073.43,103249,129211,0,183603.36713492827,91172,126627,0,179563.89048,95302,121562,0,0,170510.26,94294,121562,303706.14,170592,133114,256837.59,151126,133114,259046.25,153673,133114,289331.62,163969,133114,262353.24,155148,133114,267134.68272901117,162099,133114,261536.15000000002,168199,133114,300231.53998745733,197488,133114]
[61,"Chicopee                     ",69.28,63096901,25483093,37613808,66358804.090000004,26441283,39917521,70099506.047638729,26325951,43773555,74549552.000000015,26468494,43024649,5056409,76114569.038086131,26127050,47119437,2868082,78296359.978620008,26109119,51185902,274789,726550,80257160.099999994,26628690,53628470,83403437.559999987,27382282,56021156,85269685.210000008,28420070,56849615,86339875.140000001,29088958,57250917,89726607.379999995,30214682,59511925,89575524.349999979,30016446,59936745,91782958.022283211,29420367,62362591,93898617.529999986,30063802,63834816,99336604.583217233,30513907,68822698]
[62,"Chilmark                     ",17.5,0,0,0,0,0,0,0,0,0,0,0,0,0,0,0,0,0,0,0,0,0,0,0,0,0,0,0,0,0,0,0,0,0,0,0,0,0,0,0,0,0,0,0,0,0,0,0,0,0]
[63,"Clarksburg                   ",64.239999999999995,1993186,524551,1478268,1972655.02,539994,1491068,2196793.9275769964,547599,1656057,2288928.2000000002,572047,1542133,181237,2376571.2172095692,528092,1688903,159576,2231781.7016399996,543566,1740491,9344,104994,2136484.0499999998,549697,1749835,2103294.87,569562,1758875,1986375.6900000002,576786,1764100,1905986.03,594708,1769100,1772262.85,585884,1773600,1783981.5799999998,612660,1783225,1862062.3235625066,641854,1788625,2064205.6799999997,709296,1794475,2056910.8702206635,685446,1799935]
[64,"Clinton                      ",54.08,15756067,6894665,8894104,17332015.639999997,7423486,9908530,18272407.502293319,7817673,10454735,19345443.02,8132725,10033541,1179177,19828374.571238272,8774199,10988464,65712,19382689.431299996,8846816,10408392,55877,640182,19545739.000000004,9048453,10497286,20163527.150000002,9343931,10857440.780578749,20693064.010000002,9644943,11124661.80557175,20886485.84,9674943,11251678.80557175,21129205.020000003,9800189,11329016,21580495.630000003,9661218,12016981,21918110.246938307,9770470,{"$f":"12209651-62011","v":12147640},22676410.390000004,10266561,12409849,24086138.195584625,10670037,13416101]
[65,"Cohasset                     ",17.5,10255772,9352895,1220622.8,11254255.086480001,9701624,1552631,11621501.817125602,10016645,1696971,11287341.726259999,10125783,1600696,188119,11947087.452460095,10452621,1753039,0,11786894.642872915,10479155,1650626,8861,129327,12238484.622929998,10714412,1659487,12695055.016299998,10974758,1720297,13558190.14047,11461151,2165950.0686455625,14009300.662070001,11815460,2265937.0686455625,14047813.289400002,11968705,2304762.0686455625,14622821.151839999,12122957,2499864,14375663.798876762,11992671,2545614,15141702.031119999,12491904,2649798,15680191.001538649,12936157,2748292]
[66,"Colrain                      ",44.77,0,0,0,0,0,0,0,0,0,0,0,0,0,0,0,0,0,0,0,0,0,0,0,0,0,0,0,0,0,0,0,13004.9,7860,5145,13199.960000000001,8241,5145,13170.920000000002,7776,5395,13416.833343589547,7440,5977,0,0,0,0,0,0]
[67,"Concord                      ",17.5,13711708,16586109,1639229.6,13626561.195820002,15556720,1788313.6000000001,13775795.201134795,14723944,1975048.6,14398286.772480002,14186610,1928177.6,226606,15022515.681104843,14230911,2111688,0,14880065.931155697,14212716,1988323,10674,157941,15431249.350580001,14620020,1998997,16485820.2147,15013137,2075197,17831572.198360004,15783717,2125997,18417417.455640003,15844185,2573232,18462886.786499996,15757030,2705857,18255708.435599998,15225394,3030314,18805576.707899675,15575689,3229888,19595700.444320001,16166453,3429247,20298530.027942974,16746287,3552455]
[68,"Conway                       ",17.5,900481,519131,563283.19999999995,887748.23,570221,569433.19999999995,1081794.7444083365,683924,619012.19999999995,1153948.4099999999,705236,571560.19999999995,67172,1145043.3689110049,908027,625958,0,1249385.60142,1005920,589390,3164,37129,1252208.6499999999,987728,592554,1423805.89,1108375,598954,1317133.4800000004,1067389,602704,1306815.92,1065116,606379,1311758.95,1106711,610004,1259226.5200000005,1022166,617374,1137791.5559876624,909237,620884,1045830.0300000001,858867,623884,982498.98211336427,810562,626464]
[69,"Cummington                   ",17.5,48982,82658,32727.599999999999,75947.62,69777,41165.599999999999,90842.16,76148,45639.6,166242.96,127944,70567.600000000006,0,208216.51714449763,147140,69156,0,203635.52184,157619,66390,0,0,268510.82,194827,73684,164036.83000000002,133703,73684,166579.44999999998,138227,73684,168011.94999999998,147058,73684,118799.64000000001,105143,73684,118538.28,100240,73684,120751.50009230593,96880,73684,110697.28,91325,73684,86230.783532120156,71140,73684]
[70,"Dalton                       ",49.57,166617,55122,142474,226965.47,100136,177549,271608.17,128312,203607,297621.34999999998,135954,218598,0,294362.54217799043,133527,214226,0,275850.41592,131098,205657,0,0,403261.59,190360,212902,531229.02000000014,258303,272926,513675.18,262243,272926,350080.55,180975,272926,289331.62,153272,272926,236011.40000000002,127014,236011.40000000002,240301.01604183207,128163,236011.40000000002,289210.46999999997,146665,236011.40000000002,285859.74273210397,144148,236011]
[71,"Danvers                      ",17.5,26325457,27029911,3753262,27291804.810000006,27200094,3957823,28772437.490009252,27211346,4306061,29725451.43,27058817,4117771,483935,31202047.404463161,27175421,4509672,0,31223555.451959997,27353004,4246217,22796,332859,31951682.219999999,27692459,4269013,33482299.539999999,28151599,5786817.6029244997,34213600.439999998,29050571,{"$f":"6079019.44455637+101064","v":6180083.4445563704},34741461.949999996,29063843,6334657.4445563704,34881940.840000004,29397926,6426157.4445563704,35588532.009999998,29520671,6629052.4445563704,33833411.73052796,28261906,6732852.4445563704,35346165.090000004,29017711,6838332.4445563704,37107615.193679869,30032857,7108192]
[72,"Dartmouth                    ",17.5,30013625,21693435,8320190,31787364.080000002,22637645,9149719,33384729.905952133,24241171,9429258,34838597.450000003,25612050,8665307,1018378,34865610.348156936,25982767,9490011,0,33815804.735880002,26783708,8935606,47970,604210,34643308.829999998,27284947,8983576,35441243.159999996,28041617,9138016,35496365.130000003,28917668,9233066,35239525.229999997,29520834,9326041,36075718.260000005,30256260,9419066,36117171.75,29976096,9622951,36194408.009417139,30013628,9732331,37575677.390000001,30999934,9841531,38394448.348769426,31675420,9948121]
[73,"Dedham                       ",17.5,20084837,24834561,3188973.6,21999587.074999996,24648038,3524054.6,22956468.83366517,24204569,3691508.6,24352509.547620002,23678833,3521908.6,413907,25074340.33835483,23853832,3857099,0,25207774.047433194,23636066,3631768,19497,275484,25446765.917099997,23938734,3651265,26335982.540799998,24613424,3890647.9861599999,26535745.209500007,25162541,4078924.8425356252,27117828.372749999,24153827,4312267.8425356252,26929202.733199999,23751768,4379292.8425356252,26660498.619539998,22460566,4525097.8425356252,27026023.747824714,22421830,4604194,28479923.262210004,23238711,5241212,30327812.140098155,24319967,6066360]
[74,"Deerfield                    ",17.739999999999998,2642380,1930020,712360,2837157.02,1916205,920952,2894786.9036194519,1943673,951114,3308363.25,2201765,990223,116375,3364244.2070966512,2590037,1084466,0,3310478.6745599997,2602950,1021111,5482,67823,3402540.04,2702788,1026593,3431229.1799999997,2733958,1041993,3138146.3000000003,2712329,1050593,3182088.0800000005,2730251,1059343,3228031.8499999992,2757185,1067968,2985824.2499999995,2500490,1085623,3148595.0953759653,2614687,1095493,3139879.44,2590401,1104883,3354720.4057858582,2690443,1114363]
[75,"Dennis                       ",17.5,0,0,0,0,0,0,0,0,0,0,0,0,0,0,0,0,0,0,0,0,0,0,0,0,0,0,0,0,0,0,0,0,0,0,0,0,0,0,0,0,0,0,0,0,0,0,0,0,0]
[76,"Dighton                      ",50.62,0,0,0,0,0,0,0,0,0,0,0,0,0,0,0,0,0,0,0,0,0,0,0,0,0,0,0,0,0,0,0,0,0,0,0,0,0,0,0,0,0,0,0,0,0,0,0,0,0]
[77,"Douglas                      ",43.33,10549229,3948825,6600404,11244182.879999999,4402719,6966367,11934136.084547279,4703853,7317967,13091381.120000001,5025155,7217947,848279,13862037.638614353,5156920,7904901,800217,13727725.332659999,5395470,8196565,44003,505400,13936065.529999997,5567549,8368517,14220617.059999999,5766202,8454415,14221466.569999998,5973388,8493140,13898746.319999997,6212332,8530840,13645814.699999997,6463272,8567140,13394369.66,6691646,8644415,12935870.449951056,6783425,8684255,12935309.570000002,6890730,8722775,12970126.823695926,7112759,8759585]
[78,"Dover                        ",17.5,4317253,5147915,363450,4498246.3891599998,4992151,448199,4612399.3686480699,4726827,555890,4778687.8410799997,4574431,580225,68190,4840708.6085977424,4416450,635447,0,4717531.5725570414,4342062,598324,3212,48386,4590181.74,4311579,601536,4512264.4704399994,4166423,622456,4653466.1436000001,4299403,635731,4528034.3919200003,4059051,690567,4322776.7936200006,3814498,702567,4235362.0299200006,3546655,728362,4468986.3633566014,3701130,767856,4640414.5082099997,3828342,812073,4873658.0694900909,4020768,853856]
[79,"Dracut                       ",43.06,29756497,15882927,14241936.999999998,31544589.330080003,16574636,15009207,33257290.873810038,17250683,16006608,35284541.199999996,17874077,15579505,1830959,36242185.987368427,17529513,17062255,1650418,34827941.444459997,17559786,17619480,94589,1101079,35260306.700000003,17528088,17732219,36135215.210000008,18026125,18109090,37152939.319999993,18540729,{"$f":"18612210+50532","v":18662742},37334953.579999998,19220889,18761667,37644250.119999997,20168359,18858492,37207996.850000001,20566818,19068977,37300000.771409988,20889283,19182047,39508798.249999993,21923341,19297217,41837070.949357763,23013126,19413857]
[80,"Dudley                       ",60.71,0,0,0,0,0,0,0,0,0,0,0,0,0,0,0,0,0,0,0,0,0,0,0,0,0,0,0,0,12894.02,3632,9262,13004.9,3770,9262,13199.960000000001,3905,9295,26341.840000000004,8192,18150,26833.666687179095,8759,18150,27674.32,9399,18275,14371.797255353356,4870,14383]
[81,"Dunstable                    ",17.989999999999998,0,0,0,0,0,0,0,0,0,0,0,0,0,12306.57500478469,8124,0,4183,12035.81568,7678,4358,0,0,12250.07,7858,4392,12697.210000000001,8271,4426,0,0,0,0,0,0,13199.960000000001,10239,2961,13170.920000000002,10950,2961,13416.833343589547,11048,2961,13837.16,10927,2961,0,0,0]
[82,"Duxbury                      ",17.5,22544989,21198757,2814514.4,24332599.68414,21799788,3127346.4,25877873.382828854,22471945,3547730.4,27351540.51557,23010054,3884918,456569,28050327.867297076,23415077,4254657,380594,26964189.833086807,23687032,4364460,23430,327711,26802911.094560001,23914065,4387890,27796890.404080003,24315649,4513610,28443468.301800001,24930173,4629609.23820375,28945039.577839997,24862384,4782129.23820375,29322453.03464001,24866076,4860479.23820375,29421665.884350002,24493520,5031584.23820375,29298212.848171137,24357911,5122424.23820375,30016424.79888,24763550,5252875,30413600.834905829,25091221,5340535]
[83,"East Bridgewater             ",45.78,17015111,7598854,9416257,18126132.039999999,8088898,10037234,18786648.513602465,8685044,10382618,19759944.039999999,9220450,9750332,1145894,19857784.98755981,9205039,10678301,0,19438423.617059994,9401494,10054475,53977,626999,19386079.859999999,9557760,10108452,19766953.350000001,9774113,10196332,20120825.100000001,10170405,10251257,20492729.260000002,10728557,10306507,20764631.130000003,11106385,10361132,20397715.370000001,11201362,10479107,21105299.528073356,11373002,10543697,22148437.780000001,11682386,10609367,23021485.869153682,12183037,10847253]
[84,"East Brookfield              ",46.33,176413,103434,72979,172717.17,67453,105264,102197.43,29983,102197.43,95547.92,28245,95547.92,0,86146.025033492828,25739,93637,0,60179.078399999999,19896,60179.078399999999,0,0,110250.63,34586,75665,202128.46000000002,61700,140428,218155.53,71512,146644,285056.05,99040,186016,276131.65999999997,108182,186016,275524.15999999997,112798,186016,253717.84938542161,113257,186016,247698.99,118843,186016,328975.13449816412,163597,186016]
[85,"Eastham                      ",17.5,1507950,2243267,252703.6,1616181.59,1929935,271644.59999999998,1859265.36,2013378,314184.59999999998,2009843.22,2095073,304723.59999999998,35812,2013733.9113952154,2116114,333725,0,2017979.0678399999,2078576,314229,1687,23709,1921167.55,1979180,315916,1990036.0999999999,1895355,324556,1954308.02,1817599,329806,1871143.94,1673613,334856,1830657.57,1584800,339456,1797116.2700000003,1503602,349191,1861930.3816340552,1558793,354681,1784959.9300000002,1472592,359871,1859186.0779373366,1533829,364971]
[86,"Easthampton                  ",37.46,14379873,7394800,7061164,14811911.220000003,7910957,7246465,16177354.557884984,8342895,7856409,16862713.349999998,8754200,7300531,857984,17116009.975915793,9909425,7995345,0,16500250.305240002,9949274,7528257,40415,471948,16577826.099999998,10194026,7568672,17510302.93,10521254,7641192,17991276.290000003,10956834,7687117,17813516.280000001,11344349,7731667,18095294,11793004,7776017,18091522.210000005,11897561,7873092,18534768.099589158,11761853,7926222,18672296.820000004,12132351,7977702,19700559.137801927,12320207,8029692]
[87,"East Longmeadow              ",41.44,19356365,16081730,3415856.4,20729712.940000001,16113527,4616186,22100300.970615972,15537297,6563004,23422159.73,15098039,7448721,875400,24224414.35406699,15193256,8157639,873519,23669359.72518,14824125,8675518,46574,379066,24105912.68,14975127,9130786,24771812.159999996,15279722,9767174.2199039999,24746375.960000001,15736133,9834624.2199039999,25028520.540000003,15784772,9901624.2199039999,25486357.480000004,16206963,9967774.2199039999,26003641.129999999,15891476,10115944.219904,26517601.927612852,15918988,10598614,27763311.460000001,16509582,11253729,28769862.744360216,16848895,12102248]
[88,"Easton                       ",23.25,25936350,18495624,7668206.9999999991,27484649.059999999,19567354,8115511,29177633.708206084,20413260,8764374,30904576.539999995,21110331,8764241,1030005,32240256.071471777,22529505,9598361,112390,31588230.077280004,22880367,9143450,49086,613290,32076583.279999997,23438516,9192536,33281209.900000002,24208253,9343416,33673060.710000001,25085982,9437566,34368780.379999988,25617334,9531741,34281775.100000001,26279966,9624016,34160203.240000002,25837978,9823611,34946347.827118024,26650276,9933051,36092236.609999999,27619276,10041681,37265050.035474405,28602736,10148451]
[89,"Edgartown                    ",17.5,2906462,3581665,343128.4,3005078.93,3288955,379680.4,2849766.471590891,3031703,415389.4,3070457.61,3082373,407713.4,47916,3245618.0710277515,3016515,446517,0,3164477.4653399996,3012929,420431,2257,33529,3286331.37,3029696,422688,3631686.44,3207706,438768,3600508.11,3160574,448818,3756339.3899999997,3220458,535881,3949969.68,3348602,601368,4012060.0799999996,3327566,684494,4120509.4730720278,3417460,703049,4383670.7300000004,3563552,820119,4884680.5483374586,4029861,854820]
[90,"Egremont                     ",17.5,0,0,0,0,0,0,0,0,0,0,0,0,0,0,0,0,0,0,0,0,0,0,0,0,0,0,0,0,0,0,0,0,0,0,0,0,0,0,0,0,0,0,0,0,0,0,0,0,0]
[91,"Erving                       ",17.5,1736037,1696174,257383.6,1886102.04,1693156,283644.59999999998,2063705.1585349285,1733353,330352,2321411.09,1908319,369649,43443,2466755.7200229666,2035074,404830,26852,2428316.4251399999,2032401,406463,2182,30012,2407929.63,2045398,408645,2354101.85,2051456,418845,2478101.1,2103316,425470,2387006.7599999998,2050836,431895,2412269.36,2019029,438270,2249261.63,1884292,451195,2174084.4728259463,1812979,457975,2317098.66,1911606,464995,2280809.0489276485,1881667,471505]
[92,"Essex                        ",17.5,0,0,0,0,0,0,0,0,0,0,0,0,0,0,0,0,0,0,0,0,0,0,0,0,0,0,0,0,0,0,0,0,0,0,0,0,0,0,0,0,0,0,0,0,0,0,0,0,0]
[93,"Everett                      ",67.739999999999995,45371743,24514676,20857067,48207134.680500001,25038448,23168687,53450079.377155341,25416336,28033743,59682692.571389988,25762913,30352631,3567149,62892763.612918936,25931368,33241384,3720012,64793932.005067073,25957484,38091277,204491,540680,68020957.110019997,25027814,42993143,74288708.336989999,25279517,49378544.796454601,79707323.959860012,25001383,55042003.302143387,85328324.66643998,24693137,60635188,89667949.965919986,25666047,64001903,87583038.240480021,26203286,64492532,90558887.124926507,27455803,{"$f":"65650979-929397","v":64721582},96231897.969240025,28814865,68940060.192849353,105617503.49762131,30615794,75001709]
[94,"Fairhaven                    ",39.14,15772369,8958998,6900863.9999999991,16146316.320000002,8999243,7147073,16755601.389419528,9196548,7559053,16953034.73,9303393,6852118,805285,17423766.603881337,9798899,7504255,120613,16843034.112059999,10187330,7179423,38542,454353,17104751.050000001,10317258,7217965,17453568.07,10832169,7292285,17879851.399999999,11242923,7338560,17736701.940000001,11371020,7383635,17707799.16,11597160,7428260,18309668.060000002,11486709,7526930,18758475.280269191,11557489,7580960,19508511.550000001,11713786,7794726,20489574.57642154,12333105,8156470]
[95,"Fall River                   ",76.81,102479194,13825097,88654097,104481870.5,14847016,90065583,106032214.10539405,15513206,91119662,109717451.8,16580407,83793405,9847697,113237307.34539331,19000896,91768280,2468131,110588545.43874,19582705,89259672,479186,4762753,113992339.77,20197065,93795275,117801266.98000002,21470723,96330544,122984522.46999998,22747952,100236570,126851512.44000001,23922480,102929032,130963260.19999999,25218449,105744811,133322500.97999999,26181193,107141308,140367627.0677751,27932437,112435190,149318107.95999998,29668942,119649166,162111258.55386746,31184570,130926689]
[96,"Falmouth                     ",17.5,30137881,32265939,4439705.5999999996,31282681.59,32702864,4646658.5999999996,32408337.333121564,31997640,4954098.5999999996,32989864.899999995,31420687,4674989.5999999996,549421,32976356.55624881,31044599,5119922,0,32249708.827199996,30294456,4820816,25880,366051,32627799.279999997,30223796,4846696,32919523.759999994,30639342,4988896,33718540.630000003,31562698,5077571,34334682.75,30535810,5403420,35910247.149999999,30727509,5492795,35716152.020000003,29797870,5918282,35776347.341015682,29665659,6110688,37204346.420000009,30580964,6623382,38230735.995907485,31450637,6780099]
[97,"Fitchburg                    ",75,48848791,12405593,36443198,52232259.629999988,13502431,38857303,53959279.694781937,14179903,40080379,55478399.75,14473238,36822755,4327540,55319139.938725367,14039877,40327289,951974,54357220.723620005,14307424,39281344,210880,1921789,55048365.490000002,14570762,40477603,58628763.059999995,14936099,43692664,59765864.699999996,15456359,44309506,61364752.100000001,15954871,45409881,62363310.040000007,16662973,45700337,64368039,16963311,47404728,66887262.052477211,17058113,49829149,70117764.530000001,17761102,52356663,75293069.019942045,18599162,56693907]
[98,"Florida                      ",40.4,741408,396558,420539.6,831136.1,382280,473569,875058.42915476626,374728,500454,898069.22,381234,462482,54353,938109.73427751218,382731,506498,48881,920526.84221999999,383625,526600,2827,28377,784588.89,384062,529427,794115.07999999984,388914,532667,872998.09999999986,415121,534842,924504.84,460528,537067,872994.29,469626,539192,894111.96999999986,487635,544087,837564.72544684017,470893,546637,718962.58,450463,548737,740254.54001652624,441172,550717]
[99,"Foxborough                   ",17.5,21688050,15487944,6200106,23679618.058180004,16211628,7467990,24391941.818536025,16728189,7700920,25837985.804400004,17375190,7572812,889984,26373440.684976753,17554085,8293540,525816,25261529.643114474,17725290,8304130,44580,543071,25263537.016260002,18503444,8348710,25735907.438639998,19355356,8460190,26223593.931839999,20174842,8529165,26242664.986009996,20657534,8597390,26484573.869379997,21281099,8664640,26222277.008499999,21252070,8810280,26331117.517189495,21807366,8888190,27859184.160679996,22576625,8967870,28934003.214451049,23797381,9046950]
[100,"Framingham                   ",42.75,63860283,61259855,8530320.4000000004,69363562.731240004,61627654,10628154.4,71074303.101445913,60232844,13996312.4,75064337.095980003,59230314,15333796.399999999,1802082,78471847.638417289,59169653,16793161,2509034,77781484.489536598,57763279,19634107,105405,278693,79535372.041889995,57510511,22024861,84912568.179920003,58401638,28083628.771975774,89880263.175519973,59388693,31805022.666226074,91598610.68881999,58137448,33596454.666226074,95619668.628199995,57889811,{"$f":"37729858+1000000","v":38729858},97409677.469920009,56417775,42091391,100719920.94220732,59331897,42363221,108226362.06195001,60883909,47636211.300379075,114246010.44154748,63283830,50962180]
[101,"Franklin                     ",32.29,44517161,21157822,23359339,48378503.32774999,22883906,25494597,50651137.614666902,24244322,26478420,54191343.764519997,25464638,25705683,3021023,56699650.475846313,28327955,28152172,219523,54564219.318353519,28507883,26714222,143414,1674609,55195445.872189999,29273443,26857636,57091389.563199997,30265045,27111396,57706781.893489994,31221709,27268946,57559562.145959996,32626068,27423796,57388919.031509995,34322367,27575946,56727033.490920007,35443923,27903911,57148940.326983534,36769474,28078451,57909532.281709999,38481997,28248881,59674983.513386771,40088811,28416161]
[102,"Freetown                     ",31.39,4190819,3370570,920190,4507080.37,3270816,1236264,4667891.46,3208836,1459055,4729864.9000000004,3182970,1384217,162678,4714528.3669741629,3198884,1515957,0,1175619,817563.31469409086,351185,1885,11299,1172043.8400000001,834757,353070,1240218.98,861891,378328,1272336.7400000002,903996,378328,1283278.0999999999,908860,388787,1342125.9200000004,945781,396345,1326002.28,873318,452684,1336875.3977878354,897676,452684,1281376.3199999998,845733,452684,1402131.3215247765,943415,459454]
[103,"Gardner                      ",68.17,23488604,5365218,18123386,24280379.689999998,5820028,18638594,24266064.215644144,6154419,18778744,24824626.379999999,6443188,17123527,2012418,25171808.228991386,6290979,18753226,127603,24334327.323839996,6408008,17777812,95439,1071628,24492666.370000005,6454822,18037844,25131322.549999997,6708647,18422676,26124799.240000002,7163394,18961405,26236297.479999997,7521101,19023155,27133681.380000003,8111579,19085780,27651776.550000001,8469172,19225095,28300931.482949637,8779067,19521864,28813726.650000002,9088523,19725204,30422248.530316565,9418789,21003460]
[104,"Aquinnah",17.5,0,0,0,0,0,0,0,0,0,0,0,0,0,0,0,0,0,0,0,0,0,0,0,0,0,0,0,0,0,0,0,0,0,0,0,0,0,0,0,0,0,0,0,0,0,0,0,0,0]
[105,"Georgetown                   ",21.26,9890177,6461877,3428300,11110810.230000002,7042873,4067937,11765704.999744495,7509511,4294072,12224355.249999996,7808142,3977475,467447,13336299.693443066,7954056,4356024,1026220,12957759.106319999,8151601,5067813,27206,326500,13112600.769999998,8111641,5095019,13510524.82,8329567,5180958,13168838.209999999,8562303,{"$f":"5218183+42110","v":5260293},13311710.359999999,8894215,5297543,12726852.809999999,9153957,5332268,12709129.820000002,9404745,5407948,12771696.514767833,9356963,5448358,13014006.640000001,9674567,5488348,13380030.102942491,10305171,5527768]
[106,"Gill                         ",36.590000000000003,0,0,0,0,0,0,0,0,0,0,0,0,0,0,0,0,0,0,0,0,0,0,0,0,0,0,0,0,0,0,0,0,0,0,0,0,0,0,0,0,0,0,0,0,0,0,0,0,0]
[107,"Gloucester                   ",17.5,31232007,26625347,5446301.5999999996,32559971.797839999,27559732,5678695.5999999996,34505025.028608091,28613858,6019080,34138942.174929991,29038790,5551677,652453,34553577.53120216,28958748,6080047,0,33723505.701047271,29373670,5724851,30734,413662,33676197.520679988,29773120,5755585,35226845.308150001,30509144,5893705,35681068.365740001,31184657,{"$f":"5981325.49100113+92942","v":6074267.4910011301},35333205.213599995,30916076,6157967.4910011301,34881817.403679989,30325627,6238892.4910011301,34761401.33839,29058004,6413737.4910011301,35423863.383190274,29347381,6509407.4910011301,36267476.233949997,29920668,6605077.4910011301,37845891.761949673,31169618,6699157]
[108,"Goshen                       ",38.770000000000003,127431,75115,71846.8,97646.94,63992,72296.800000000003,113552.7,67109,80208.800000000003,154299.47,77762,102158.8,0,158990.21712535885,82506,100116,0,167528.0748,89091,96111,0,0,110250.63,62127,96111,189431.25,104098,96111,192367.49000000002,104174,96111,168011.94999999998,107732,96111,105599.68000000001,71097,96111,105367.36000000002,68309,96111,107334.66674871638,72157,96111,138371.6,82071,96111,143717.97255353359,88003,96111]
[109,"Gosnold                      ",17.5,41274,33796,8396.4,51911.4,35263,16648,54330.509943651086,37234,17097,50519.31,38690,17447,0,38313.742821052641,38151,17098,0,28361.246939999997,34636,16414,0,0,39039.35,35217,16414,35111.69,34852,16414,31217.899999999998,31218,16414,22957.61,20662,16414,31484.75,22007,16414,21496.61,18430,16414,21755.78608038156,18105,16414,22611,18574,16414,28232.853971617853,23292,16414]
[110,"Grafton                      ",30.84,17156243,11239997,5916246,18952992.459999997,12369492,6583500,21091974.376996525,13330299,7761675,22437094.370000001,14299322,7320485,860329,23677504.63712154,14635325,8017198,1024982,23187153.685799997,15109681,8513937,45707,552411,23744711.860000003,15535022,8559644,25114629.089999996,16118863,8995766,27387656.219999999,16893716,10493940,28066998.630000003,17847710,10571515,29002097.030000001,18689770,10650490,29937376.269999996,19574310,10827425,30005660.380291101,19822623,10921955,30766240.780000001,20470454,11015375,32167051.495621532,21474332,11108735]
[111,"Granby                       ",35.979999999999997,7544687,4071482,3480552,8086549.8600000003,4268438,3818112,8451939.3722802009,4295869,4156070,9035827.3699999992,4303354,4234786,497687,9050222.3941818178,4343476,4637824,68922,8636188.0120199993,4357208,4431778,23792,276151,8744249.379999999,4488653,4455570,8663530.7500000019,4623232,4493290,8574245.4499999993,4727723,4516215,8273052.5900000017,4695999,4537515,7978374.4699999979,4781695,4557815,7719354.0099999998,4716269,4600550,7516650.875846277,4649745,4622810,7333030.3400000008,4806929,4643750,7816401.3026422542,4990654,4664780]
[112,"Granville                    ",23.34,2157167,1168273,1194161,2358065.48,1185776,1307669,2400533.1579714394,1206660,1331035,2341550.79,1228016,1203272,141413,2240177.4551578951,1250541,1317791,0,2244631.2231000001,1266515,1240805,6661,76800,0,0,0,0,0,0,0,0,0,0,0,0,0,0,0,0,0,0,0,0,0,0,0,0,0,0,0]
[113,"Great Barrington             ",17.5,0,0,0,0,0,0,0,0,0,0,0,0,0,0,0,0,0,0,0,0,0,0,0,0,0,0,0,0,0,0,0,0,0,0,0,0,0,0,0,0,0,0,0,0,0,0,0,0,0]
[114,"Greenfield                   ",57.29,17313166,9111371,8732668,17803363.970000003,9283824,9054173,18475981.23195523,9232071,9486783,18457057.809999999,9067762,8710983,1023745,18757500.666304301,8914962,9540033,302506,18168641.884320002,8874442,9267538,49752,572724,19123336.359999999,9165933,9957403,19845137.929999996,9446211,10481761.769687749,21688417.030000001,9832399,11932187.357180249,21246903.91,9761739,11983812.357180249,21378359.310000002,9879409,12035012.357180249,20360058.930000003,9575385,12140007.357180249,20807903.147397026,9604767,12197397.357180249,22188290.889999997,9949462,12256917.357180249,23758804.479078908,10147449,13611355]
[115,"Groton                       ",17.5,0,0,0,0,0,0,0,0,0,0,0,0,0,0,0,0,0,12362.3995134,9161,3201,0,0,12532.104200000002,9543,3201,13020.859919999999,10245,3201,0,0,0,0,0,0,0,0,0,0,0,0,0,0,0,0,0,0,0,0,0]
[116,"Groveland                    ",28.46,0,0,0,0,0,0,0,0,0,0,0,0,0,0,0,0,0,0,0,0,0,0,0,0,0,0,0,0,0,0,{"$f":"0+42110","v":42110},65024.500000000007,41295,42110,79199.760000000009,51428,42110,118538.28,77239,42110,134168.3334358955,90748,43420,206187.50999999995,141367,65200,185257.16194463047,131944,65200]
[117,"Hadley                       ",17.5,4520668,5166154,625061.19999999995,4764269,5245116,667691.19999999995,5019642.6810837509,5189433,730915.2,5205800.76,5053095,707232.2,83116,5406525.5920688985,4995543,774541,0,5658505.69092,4937924,729292,3915,57584,5783756.2999999998,5102966,733207,6074126.3499999996,5356386,815648.27781250002,6128452.2700000014,5607720,879855.99517187499,5981187.5199999996,5351851,938253.99517187499,5986156.3800000008,5261618,953528.99517187499,5790379.5499999998,4888340,985813.99517187499,5654945.3746561082,4724445,1002763.995171875,5888757.8200000003,4858225,1030533,6230653.9028760213,4968021,1279420]
[118,"Halifax                      ",42.72,4947085,2594870,2352215,5102050.8600000003,2752876,2423716,5360750.4569571586,2911501,2541088,5579019.2300000014,2979985,2365166,277963,5830872.9364822973,3036721,2590266,203886,5481069.2047199989,3009340,2630918,14124,166110,5309028.63,2928688,2645042,5256094.54,2947000,2669842,5316163.6799999988,2900902,2684967,5366429.71,2903829,2699817,5540979.4299999988,2982219,2714617,5481688.6299299989,2891843,2746462,6142874.2903718846,3223996,{"$f":"2923648-4770","v":2918878},6353417.4649799988,3373628,2989257,6718564.0537173413,3664674,3063392]
[119,"Hamilton                     ",17.5,0,0,0,0,0,0,0,0,0,0,0,0,0,0,0,0,0,0,0,0,0,0,0,0,0,0,0,0,0,0,{"$f":"0+16844","v":16844},39912.938879999994,35608,16844,0,0,0,0,0,0,0,0,0,0,0,0,0,0,0]
[120,"Hampden                      ",18.8,0,0,0,0,0,0,0,0,0,0,0,0,0,0,0,0,0,0,0,0,0,0,0,0,0,0,0,0,0,0,0,0,0,0,0,0,0,0,0,0,0,0,0,0,0,0,0,0,0]
[121,"Hancock                      ",17.5,853878,675229,178649,880073.22,741790,184299,762441.64943651087,762443,188899,856176.18,765743,183712,21591,853326.37133779912,779131,201197,0,790173.65255999996,768393,189443,1017,13112,776252.26,758287,190460,853060.55999999982,775699,194340,908416.76,820354,196865,806235.6399999999,725612,199115,700017.85,630016,200990,719680.2,604602,205060,672606.53356161958,562854,207160,715919.97,571860,209260,800339.26922275487,609145,211450]
[122,"Hanover                      ",21.82,18966432,14270699,4695733,20142433.842250001,14796651,5345783,21096225.834211223,15271206,5825020,21748945.017949998,15848159,5373174,631474,22213294.657841306,15909369,5884555,419371,21774380.339327995,16297523,5935651,31865,401910,22331596.871920001,16434712,5967516,23401737.684919998,16986703,6460513.713344737,23673254.269769996,17673274,6526113.713344737,23675035.831840001,17821949,6590763.713344737,24041587.167499997,18466336,6654913.713344737,23962139.080309998,18266304,6795548.713344737,24249684.484178498,19005451,6871448.713344737,25234803.157349996,19689734,6947439,26655202.675033823,20506773,7023879]
[123,"Hanson                       ",40.81,29389,7918,28480,32548.98,8976,30063,22710.54,6659,22710.54,11943.49,3468,11943.49,0,36919.725014354073,12160,11705,13055,48143.262719999999,16555,31588,0,0,36750.21,13241,31588,63486.049999999996,23471,40015,64470.1,24990,40015,91034.3,38572,52462,105599.68000000001,47255,58345,105367.36000000002,49870,58345,120751.50009230593,61304,59448,83022.959999999992,44311,59448,43115.391766060078,23914,43148]
[124,"Hardwick                     ",56.1,0,0,0,10849.66,2254,8596,0,0,0,0,0,0,0,0,0,0,0,0,0,0,0,0,0,0,0,0,0,0,0,0,0,13004.9,5113,7892,13199.960000000001,4892,8308,13170.920000000002,4778,8393,0,0,0,13837.16,5264,8588,14371.797255353356,5991,8588]
[125,"Harvard                      ",17.5,8751097,7733519,1207690,9436456.4439200014,8041734,1394722,9734129.4134850893,8255080,1487347,10286417.543199999,8498460,1599929,188029,10374344.582891179,8558834,1752199,63312,9724196.0291673597,8552465,1709449,9177,125810,9832645.2214000002,8627525,1718626,10074274.181770001,8807063,1763706,9949641.3842999991,8901871,1790806,9617698.6389000006,8555966,1816706,9693663.2637600005,8402066,1842181,9175786.1101999991,7758081,1896961,9274857.1529690847,7706220,1926361,9216263.0621200018,7603417,1954741,9480813.6788152698,7821672,1982671]
[126,"Harwich                      ",17.5,11161455,11250796,1441301.6,11707485.16,11494628,1562803.6,12038269.950589731,11546692,1725971.6,12378598.029999999,11167921,1674475.6,196790,12611946.734974166,11483505,1833840,0,12195817.037459999,11202192,1726707,9270,133013,0,0,0,0,0,0,0,0,0,0,0,0,0,0,0,0,0,0,0,0,0,0,0,0,0,0,0]
[127,"Hatfield                     ",17.5,3541366,2921690,619676,3642953.19,2938353,707251,3688012.9120416823,2957523,790818,3648857.07,2998072,726623,85395,3508714.1457454548,3029964,795778,0,3258631.5302400002,3006599,749289,4022,51717,3188704,2995877,753311,3317758.7599999988,3073443,767671,3450986.7199999997,3186043,776846,3505759.1100000003,3095381,786221,3617908.4000000004,3106474,795746,3350319.81,2835513,814996,3456804.2799801859,2864170,825616,3557025.64,2934546,835846,3779440.8478222261,3053395,846256]
[128,"Haverhill                    ",56.84,59731907,29319627,31984671,61978683.149999999,32052321,33057731,65881401.521652639,33678683,34988016,68099107.280000016,34744794,33819377,2258641,71235841.205159843,34829065,35356458,1050318,70567491.926159993,35268131,34622057,185867,1787452,71678180.060000002,35711436,35966744,77249638.609999985,36816955,40527259.019415751,81685330.230000004,37879800,{"$f":"44126723.07174+387413","v":44514136.071740001},83661746.030000001,38734196,45091781.071740001,85387258.689999998,38924761,46462498,87808524.019999996,38182889,49625635,91533733.132029355,39059148,52474585,95275049.070000008,40630210,54644839,100463268.08911894,42109344,58353924]
[129,"Hawley                       ",35.08,48982,21657,27325,32548.98,22929,27475,11355.27,7744,11355.27,11943.49,6852,11668.27,0,49226.300019138762,29178,11435,8613,60179.078399999999,31929,28250,0,0,49000.28,31936,28250,76183.260000000009,40981,35202,38682.05999999999,25218,35202,39014.69999999999,24838,35202,65999.8,34098,35202,39512.76,25830,35202,26833.666687179095,20424,26833.666687179095,13837.16,9530,13837.16,0,0,0]
[130,"Heath                        ",59.9,0,0,0,0,0,0,0,0,0,0,0,0,0,0,0,0,0,0,0,0,0,0,0,0,0,0,0,0,0,0,0,0,0,0,0,0,0,0,0,0,0,0,0,0,0,0,0,0,0]
[131,"Hingham                      ",17.5,25403781,22762272,3340480.4,27560964.819960002,23564072,3996893,29139913.603763632,24642808,4497106,31044967.342000008,26194370,4340488,510109,32711413.88404119,26992341,4753585,965488,32995448.474696219,27678867,5384965,28909,403099,34007006.427199997,28453971,5553035,35828380.478589997,29594328,6234052,37036862.488399997,30669232,6396085.2338675,37371415.691150002,31288570,6499060.2338675,39001020.533249997,32512856,6603785.2338675,40329887.992679983,33379675,6950213,41440808.001251943,34293632,7147176,42815000.845129997,35322376,7492625,43961797.366181195,36268483,7695110]
[132,"Hinsdale                     ",17.5,88168,40638,75997,97646.94,51939,80464,158055.47,85670,107527,166242.96,90274,111270,0,123065.7500478469,72206,109045,0,179563.89048,109118,104683,0,0,231760.61,138940,104683,176734.04000000004,114460,104683,218155.53,163644,104683,259046.25,194505,104683,210131.86,161349,104683,222840.48,184676,104683,226884.18269824251,188237,104683,124534.43999999997,102741,104683,214000.75645533722,176551,104683]
[133,"Holbrook                     ",46.86,10315927,6313474,4191804,11106581.581619998,6669358,4533288,11701251.39486149,6808999,4892252,11345667.9342,6751013,4434897,521205,11124134.858732402,6628581,4856980,0,10564226.240915999,6698225,4573236,24551,288168,11116936.478390001,6800968,4597787,11381036.588100001,6914226,4644027,11961763.44396,7174489,4881727.8637754824,12460674.085960001,7150740,5309934,12443297.537840001,7047648,5395650,12499752.025560001,6931227,5617684,12628237.26938205,7152474,5652634,13757037.007840002,7518971,6238066,15200054.581420457,7861744,7338311]
[134,"Holden                       ",40.74,0,41626,0,0,10840,0,11355.27,8053,4441,0,0,0,0,0,0,0,0,0,0,0,0,0,0,0,0,0,0,0,0,0,0,0,0,0,13199.960000000001,7925,5275,13170.920000000002,7908,5318,13416.833343589547,7918,5499,13837.16,8242,5619,0,0,0]
[135,"Holland                      ",44.44,1359210,887960,664264.4,1587801.09,867451,792435,1588437.3443519876,838841,802385,1766981.09,954681,795938,93541,1972860.5563712921,1032537,871689,68635,1871122.0890599999,1073712,885390,4753,55456,1879808.57,1112638,890143,1763923.64,1024852,897623,1787430.03,1049519,902423,1736861.59,1013330,907048,1599126.75,961437,911123,1464807.0700000003,854286,919098,1612152.0989724461,930261,923658,1748738.7699999998,1013627,928518,1957811.3888900897,1087826,933678]
[136,"Holliston                    ",27.61,20308343,15968390,5943728.7999999998,21289179.32736,16431845,6258871.7999999998,21897651.375525266,16494287,6476815.7999999998,23131552.826769996,16702590,6156408.7999999998,723523,23686855.094075777,16771102,6742333,173420,22575963.196708795,16700563,6511735,34958,435435,23040981.368379999,16787957,6546693,23796222.088170003,17016065,7025699.6612902638,24224596.215680003,17524292,7091024.6612902638,24025115.2018,17695327,7155224.6612902638,24361946.347450003,17968840,7219349.6612902638,24902897.913260002,17988443,7363119.6612902638,25340457.438654266,18649605,7441479.6612902638,26788678.931649998,19393070,7521070,27996289.160540704,20267619,7936216]
[137,"Holyoke                      ",80.23,67827362,6811798,61015564,72388532.229999989,7289305,65099227,73576060.433260515,7637734,66054475,75721641.38000001,7973794,60651347,7127961,76657779.796516746,8297090,66423722,1936968,73138531.001340002,8592467,64367063,345551,3815151,76399996.650000006,8863130,67536867,78653933.859999999,9198156,69455778,78916203.399999991,9463063,69621603,78698902.669999987,9692069,69785403,80596955.480000004,10055521,70541434,80344375.670000002,10380314,70897779,81981180.868534818,10580654,71400527,82326983.739999995,10886435,71590427,88111145.825201109,11074770,77036376]
[138,"Hopedale                     ",41.1,7472867,2486366,5057500,8292536.7375000007,2670563,5621974,8815309.2047224138,2839812,5975497,9235166.8740800004,2966673,5609272,659222,9728111.1448041964,4701926,6143124,0,9332695.0668703802,4752702,5784243,31052,355029,9580765.2985399999,4942015,5815295,10187944.10832,5093347,5859695,10400760.003870001,5244027,5887320,10475107.010799998,5458850,5914920,10396781.262500001,5558390,5941845,10041924.281359999,5468971,5999100,9875547.1322113276,5451538,6029670,10063593.190549999,5625392,6059280,9935233.2153440155,5786456,6087390]
[139,"Hopkinton                    ",17.5,24098111,19256994,4841117,25867183.04544,20502679,5364504,26814198.336775228,21690292,5538660,28242723.701650001,22606527,5179893,608759,29889258.479898021,24108745,5672879,107634,29092218.3157188,24749829,5442815,29220,392928,29701471.955480002,25246689,5472035,31278850.639399998,26008119,5705503.4027372804,32117617.453449998,26860574,5789203.4027372804,32526014.474999998,27549192,5873878.4027372804,33687637.267440006,28536777,5961103.4027372804,33817637.171700001,28266492,6152833.4027372804,34051687.916279338,28376314,6256963.4027372804,37266306.274479993,30427150,6839156,39305559.544661731,32314609,7021215]
[140,"Hubbardston                  ",41.13,9796,1348,8448,0,362,0,11355.27,3159,8196,11943.49,3356,8587,0,12306.57500478469,4308,8415,0,0,0,0,0,0,24500.14,9683,14817,0,0,0,0,0,0,0,0,0,0,0,0,0,0,0,0,0,0,0,0,0,0,0,0]
[141,"Hudson                       ",39.119999999999997,19050737,14410446,5370695,20737185.89144,14946735,5923344,22500615.0596264,15356761,7143854,23936352.536320001,15521036,7530326,884991,25532071.962211221,16165733,8247011,1119328,25192997.510822278,16204219,8819158,47345,569311,25384240.533760004,16175387,9208854,26736601.318939991,16738223,10247974.530620005,26971069.026599996,17041341,10495017.737085393,27792860.269480001,16943537,10859646.737085393,28189612.605080001,16846912,11342701,27512651.906879999,16516841,11490541,28097682.163007021,16800420,11571901,29167889.792099994,17227184,11940706,29439397.279731382,17734729,12020446]
[142,"Hull                         ",17.5,11353848,8981808,3687093.2,11214367.350959999,9384311,3756143.2,11280495.442531671,9618212,3823493.2,11671069.35836,9831732,3482560.2,409283,11794688.48922978,9783137,3814006,0,11155892.276219161,9798290,3591192,19279,234235,10984440.041849999,9799215,3610471,10867343.796599999,9900725,3654871,10592145.907740001,9917428,3681846,10591221.700679999,9492718,3708196,10627740.812809998,9322055,3734246,10359200.878399998,8708283,3789356,10207764.981851343,8510548,3818486,10202468.317680001,8417036,3846626,10718331.726392865,8741934,3874466]
[143,"Huntington                   ",52.33,127431,66133,89877,216115.81,74385,144631,248897.63,92185,163818,345395.31,131667,218880,0,380508.56721148331,174361,214502,0,360101.12568,174095,205922,0,0,403261.59,188394,214868,493137.38999999996,235451,257686,474993.12,238640,257686,466072.9,251663,257686,328931.5,187234,257686,328207.83999999997,191008,257686,361052.51613413799,191170,257686,372233.43000000005,195413,257686,372090.52626422414,177377,257686]
[144,"Ipswich                      ",17.5,14041498,12710447,2066540,14992137.828520002,13156596,2232902,15825233.977843994,13644898,2393856,16400242.809939997,14112689,2282723,268274,16957084.776921969,14253296,2499977,203812,16906352.002642978,14393705,2545833,13667,193189,17102812.789599996,14677975,2559500,17797548.09409,15205869,2722401.9791164375,18113898.173040003,15501270,{"$f":"2834284.52940783+109486","v":2943770.52940783},18277939.337160002,15616820,3032974.52940783,18118176.856480002,15505476,3079599.52940783,17848954.323200006,14939873,3178709.52940783,17585142.68474175,14661641,3231029.52940783,17790224.73598,14676936,3282240,18376694.040241551,15160772,3332340]
[145,"Kingston                     ",32.520000000000003,7998550,4971749,3291409,8273057.0684000002,5048628,3382518,8552328.663848212,5164589,3471243,9261013.0245499983,5370868,3481041,409104,10163781.091275636,6164282,3812342,187157,9993589.1704833005,6118107,3801121,20406,208222,10250129.685999997,6235286,4014844,10455362.598579997,6361939,4130764.5356259407,10405973.177240001,6503570,4159864.5356259407,10520096.445809999,6787210,4188864.5356259407,10093730.667000001,6547555,4216164.5356259402,10429935.11328,6471707,4276884.5356259402,10083448.835693419,6275524,4308264.5356259402,10631780.77052,6659009,4340125,11332153.547165975,7314667,4372585]
[146,"Lakeville                    ",33.01,4799043,2658720,2146114,5190670.9800000004,2889584,2301087,5317162.33,3023826,2348711,5543481.6000000006,3105681,2181431,256370,5602857.9883483276,3253249,2389045,0,120358,71289.72480853874,48927,263,3142,122500.7,75884,49190,189431.25,117945,71486,192367.49000000002,118421,73946,130049.00000000001,82782,73946,196931.90000000002,131323,73946,105367.36000000002,69257,73946,107334.66674871638,71015,73946,192350.35000000003,123826,73946,242744.35096604392,156739,86148]
[147,"Lancaster                    ",30.19,0,0,0,0,0,0,0,0,0,0,0,0,0,0,0,0,0,0,0,0,0,0,0,0,0,0,0,0,12894.02,9530,3364,13004.9,9489,3597,26399.920000000002,18957,7443,26341.840000000004,17904,8468,13416.833343589547,9288,8468,13837.16,9663,8468,0,0,0]
[148,"Lanesborough                 ",41.84,1916314,1602997,511327.6,2000612.16,1636328,598919.6,2254707.4840702428,1643144,740945.6,2340403.35,1550747,771260.6,90641,2211537.9160803831,1508600,844664,0,2101664.4740400002,1386013,795318,4270,51076,2085248.98,1418502,799588,2003814,1493112,737198,1859232.2499999993,1282510,742373,1841661.51,1232284,747323,1924866.88,1307443,752323,1846691.1099999999,1231226,762663,1897447.2242952588,1143811,{"$f":"768543-768543","v":0},0,0,0,0,0,0]
[149,"Lawrence                     ",85.92,120547909,3240618,117307291,127369323.28,4587152,123087075,133779067.90829407,5310337,128507796,141941371.93000001,5886137,121747087,14308148,146793573.0315024,5813067,133334130,7646376,144327894.38892001,6144533,135531978,727596,5051357,152346056.93000001,6462722,145883335,158948561.05000004,6790964,152157597,166158253.06999999,7071945,{"$f":"159086308+320037","v":159406345},177176380.49999997,8004505,169171876,186136094.67000002,8507699,177628396,185788081.69999999,8809108,178458236,189722671.68810713,9390191,{"$f":"180602480-269999","v":180332481},196866060.98999995,10121526,188612758.94704434,210870986.66280565,10875618,199995369]
[150,"Lee                          ",20.55,5823545,5026681,1520616,6350292.3199999994,5174125,1676639,6681418.6652666908,5156036,1878003,7031845.7699999986,5144595,1850212,217444,6993248.0376650728,5210177,2026303,0,6834255.432719999,5256806,1907927,10242,126584,6866001.4999999991,5431263,1918169,7058725.3000000007,5598309,1947049,6795658.4500000011,5748371,1964149,6714728.879999999,5764466,1980674,6274000.4799999986,5563066,1995699,6504171.9400000004,5425885,2029359,6757761.9564577993,5587191,2047989,7003346.3699999992,5777761,2066619,7374237.8470487166,5858890,2085069]
[151,"Leicester                    ",52.72,13764844,5533064,8584389,14951710.08,6005588,9273246,15396418.602011576,6321482,9525396,16077270.590000004,6607213,8869110,1042329,16403919.290181819,7103381,9713210,0,16141548.42372,7199987,9145765,49099,563921,16759773.840000002,7378547,9381227,16738311.800000001,7574816,9450987,16586640.989999998,7776403,9493437,16135346.720000001,7906856,9534162,16315414.450000001,8170911,9574112,15935660.719999999,7913187,9661287,16281458.222080152,7799077,9708447,17044107.479999997,8057611,9755847,17701915.196191557,8369468,9802497]
[152,"Lenox                        ",17.5,5379558,5779799,1111972.8,5557057.9500000002,5755763,1149222.8,5681111.1449849457,5626258,1185272.8,5690851.3399999999,5524370,1091138.8,128234,5746214.0793875596,5564115,1194985,0,5692629.6463799989,5437790,1125174,6041,80270,5550215.3299999982,5659278,1131215,5797767.8000000007,5640423,1156055,5519096.620000001,5519097,1170680,5600729.1799999997,5040656,1185105,5259228.0599999996,4733305,1198130,5241794.76,4408169,1226895,5339115.7336442946,4429745,1242525,5362646.540000001,4424183,1257705,5511981.8499129619,4547385,1272525]
[153,"Leominster                   ",60.32,50087399,17364613,32722786,52403637.229999997,18470739,33951319,55214981.567387104,19608537,35606445,61199688.75,20722302,36220613,4256774,63052401.664000005,21186482,39667839,2198081,61830792.262439989,21870806,39420116,211625,2394129,64079292.579999998,22623162,41456131,66413236.799999997,23577860,42835377,67647235.61999999,24414874,43232362,68009798.659999996,25511102,43390737,68789894.089999989,26480524,43547587,69488787.129999995,27478840,43889797,69633698.04886961,27880085,44073487,72123478.449999988,28957291,44256877,77172702.956447005,30127166,47045537]
[154,"Leverett                     ",17.5,803815,973857,223181.2,852583.6,827268,239065.2,947175.22926746425,853066,261625.2,1053847.72,849640,257545.2,30268,1038637.2936880384,875032,282057,0,1122116.9748600002,937904,265580,1426,18126,1105463.82,928988,267006,1073636.7000000002,916296,271766,1092855.1200000001,934972,274716,934315.57,840884,277216,982131.53,843668,279816,997887.19000000006,837493,285371,1195068.007035923,990119,289061,1040580.59,858479,292151,1166005.2401467538,885170,295511]
[155,"Lexington                    ",17.5,44428216,48013339,5197253.5999999996,48149485.159400001,48176671,5848475.5999999996,50405171.392957248,48167038,6740204.5999999996,53421979.384980008,48294113,6801697.5999999996,799359,55137317.164318644,49717650,7449035,0,53464106.958999999,49818987,7013863,37654,548918,56211262.726240009,51205216,7051517,59157960.380999997,52989430,7876798.51666875,62856513.067499988,55493228,{"$f":"8657571.33420469+8422","v":8665993.3342046905},64514813.130400017,56156903,9584428.3342046905,67063773.197500005,57095237,9968536,69116723.419239998,57485649,11631074,74054892.120399058,60055998,13998894,76234730.040079996,62875494,14217984,80260931.779566333,66088777,14438034]
[156,"Leyden                       ",17.5,0,0,0,0,0,0,0,0,0,0,0,0,0,0,0,0,0,0,0,0,0,0,0,0,0,0,0,0,0,0,0,0,0,0,0,0,0,0,0,0,0,0,0,0,0,0,0,0,0]
[157,"Lincoln                      ",17.5,5018892,5683798,493536.8,5151111.5048699994,5403675,575118.80000000005,5228858.1013507508,5190002,677097.8,5555855.546620002,5184708,693055.8,81450,5820338.6126000388,5207737,759016,0,5740716.07941732,5163138,714674,3837,57830,5352912.2345500002,5178637,718511,5424170.2317799991,5128408,743071,5868235.8212800017,5381474,759321,5682114.4160699993,5004725,841588,5601678.0140399989,4808245,857038,6043300.8275599992,5030628,{"$f":"1012673+19818","v":1032491},6203608.5789318336,5157876,1052081,6185737.5497599998,5103233,1082505,6701030.6023767004,5528351,1174169]
[158,"Littleton                    ",17.5,11139291,10499232,1464107.2,12115413.634199999,10452829,1818491.2,12477893.258578453,10490580,2325579.2000000002,13440913.22665,10423513,2700077,317323,14231659.398570258,10530521,2957052,744086,13640184.029312642,10374233,3484917,18709,237937,13593606.621599995,10469428,3503626,14276865.484880002,10931785,3693487.508446292,14181867.184600001,11325231,3731912.508446292,14701467.741599999,11519536,3770462.508446292,15178691.897499997,11837909,3809412.508446292,14722352.576169997,11622810,3895817.508446292,15312226.682937402,12240112,3943487.508446292,15912198.077959999,12532062,3991548,16632291.76270235,13448982,4039908]
[159,"Longmeadow                   ",17.5,22710932,20812705,3547400,23361827.510000005,21048279,3906490,23686877.90819297,21094587,4239607,24733177.429999996,21260686,3963684,465826,25548586.481975123,21378942,4340920,0,24685139.268599994,21321759,4087324,21942,306429,24642877.109999999,21481517,4109266,25335232.990000002,21911262,4224986,24962248.150000006,22263076,4294961,24849640.570000004,21747129,4363911,25612986.450000003,21804274,4434186,25829656.509999998,21477556,4587691,26663231.188728545,22022317,4672411,27927235.790000003,22667571,5259665,29113308.339486767,23465469,5669282]
[160,"Lowell                       ",73.900000000000006,134573109,29664794,108399118,139116837.98003998,31162657,111660607,147723629.79585069,32819557,117869547,150534733.39768001,34088424,107274461,12607274,154968734.65788475,33789587,117484100,3695048,151465731.89643282,34730786,114495103,614660,6425960,157898864.58336002,36240147,121658718,163641193.22828004,37162840,126478353,168760616.72439998,38859325,{"$f":"129901292+25266","v":129926558},176078571.80969998,40949807,135128765,177537953.73000002,43089941,135511265,183238361.64999998,44649981,138588381,189897176.96033403,45829544,144067633,198336328.19000003,47400845,150935483,212748263.5454053,49724317,163023947]
[161,"Ludlow                       ",44.22,22679461,13063961,9615500,24089447.75,13513577,10575871,25130130.610954065,13594068,11536063,26252078.679999992,13563370,11354310,1334399,27121644.13746221,13598080,12434935,1088629,26588449.146960001,13600623,12738623,68387,790929,26899330.039999999,13801952,13097378,27321398.960000005,14243896,13211578,27755975.950000003,14764702,13282703,27236633.910000004,14951306,13351728,27187438.540000007,15433886,13418728,27123791.77,15449969,13564533,27107617.460779078,15438923,13642593,27633670.819999997,15760434,13719693,29028174.444039177,16193284,13795983]
[162,"Lunenburg                    ",42.3,11716392,8601526,3708907,12276374.15,8871625,3921700,13121501.42336395,8885020,4314259,13675383.389999999,9084809,4134848,485942,13799998.378687082,9022501,4528374,249123,13414483.32636,8836567,4498396,24149,295077,13457816.690000003,8981951,4522545,14298145.129999995,9188886,5219936.6884947494,14546535.939999999,9433283,5354695.9110325621,14945462.859999999,9374156,5605871.9110325621,15341249.750000002,9506767,5834483,15538424.619999999,9187168,6351257,16554528.397230644,9282023,7272505,17203377.800000001,9678671,7538072,17948505.284198701,10176765,7771740]
[163,"Lynn                         ",76.3,129974090,29799249,100174841,135144695.81999999,31653289,103751349,144686831.68873173,33225614,111461218,152073058.32999998,34465340,105239589,12368129,155276011.32322299,36436147,115255564,3584300,152859294.83544001,37505365,113140585,607389,5439440,156427178.34000003,38215898,118211280,165697522.48000002,39600037,126107787,173772185.64999998,40871553,{"$f":"132900633+471634","v":133372267},181764114.65000001,43133574,138630541,191949856.55000001,44587175,147362682,192172422.52999997,46018423,151448721,201554686.66682765,48112261,{"$f":"157028802-3586376","v":153442426},217113702.87999997,50739190,167691187.76438755,238010020.23206508,52164961,185845059]
[164,"Lynnfield                    ",17.5,14215391,13251512,1760537.6000000001,15771023.292079998,13495114,2275909,17356642.058858942,13944761,3411881,18585463.714159999,14489660,3665072,430732,19408007.987414353,16010874,4013888,0,19103918.4621954,16284477,3779396,20290,270977,19086223.734719999,16630403,3799686,19513606.067749999,17151894,3887366,19765823.121270001,17368045,{"$f":"3941766+42110","v":3983876},19490234.623029999,17091539,4036801,19743094.595660001,17067615,4089401,20021615.672320001,16786039,4206331,21073446.154188275,17422551,4272061,22155796.556120005,18211808,4338661,23010166.94368434,18762401,4404631]
[165,"Malden                       ",48.34,54185598,21722732,32462866,58405248.022889994,23530624,34874624,62297084.542392798,24505538,37791547,66974103.664699994,25736533,36900852,4336719,70256109.620756119,28341018,40412820,1502272,69445049.599893317,29256886,39466415,211873,2408479,74002031.259239987,29910919,44091112,78173570.110089988,31406125,46767445,79552182.518289998,32589651,{"$f":"46962532+101064","v":47063596},80737953.747600004,34410984,47246321,84059175.637440011,35620417,48438759,84148786.035580009,37450081,48846419,87320752.243724763,38872647,49072289,90460805.376449972,41267281,49297769,95060966.502866924,43854744,51206223]
[166,"Manchester                   ",17.5,0,0,0,0,0,0,0,0,0,0,0,0,0,0,0,0,0,0,0,0,0,0,0,0,0,0,0,0,0,0,0,0,0,0,0,0,0,0,0,0,0,0,0,0,0,0,0,0,0]
[167,"Mansfield                    ",32.35,34070637,22637801,11432836,37066064.086240001,23186796,13879268,38933172.153506003,23627132,15306040,41292178.534949996,24028768,15447917,1815494,43173220.767601192,24399237,16918143,1855841,42531299.518475883,24405336,17778173,95441,1022220,42752257.461410008,25008185,17873614,43053921.076990001,25772728,18060214,43496373.837260008,26613090,18175039,41985292.046640001,26566576,18283964,40931631.918399997,26810067,18388239,40048769.469539993,26489859,18610109,40453621.247440323,27314680,18728069,41538657.52544,27745189,18846329,42363212.754154898,28659688,18962339]
[168,"Marblehead                   ",17.5,22442162,18815418,3626744,23820222.600000001,19829287,3990936,24883005.764629867,20408599,4474407,26084987.150000002,21181516,4387801,515670,27241689.681577034,22473658,4805402,0,26691563.970600002,22521401,4524671,24290,337066,27367247.329999998,23246510,4548961,28162380.189999998,24103028,4677641,29501925.989999995,24213134,{"$f":"5288792+8422","v":5297214},30687140.549999997,25404870,5381364,30592758.849999998,25878831,5464064,30713624.370000001,25564980,5644629,30825074.044045713,25552661,5741619,31517682.5,26002088,5837259,32505638.687593605,26599814,5952147]
[169,"Marion                       ",17.5,2842071,3116566,338668.4,2997167.17,2911376,375835.4,3025165.423394056,2851568,421906.4,3162483.16,2895625,416376.4,48934,3266374.1133779911,3033215,456004,0,3153015.2271000003,2931584,429364,2305,34185,3339019.88,3088812,431669,3695947.6200000006,3317639,449149,3724025.8699999996,3296965,459899,3955020.5,3359179,595842,4014302.5699999994,3344045,670258,4098862.3900000006,3406086,694733,4343663.5149533721,3510380,833284,4470718.4500000011,3641644,846844,4612923.7963335682,3799640,860344]
[170,"Marlborough                  ",41.98,37010306,32604757,6151638.0000000028,39489888.753479995,33387418,7207775.0000000028,41647924.173341915,33111874,9149845.0000000037,44383211.209059998,32757172,10403395,1222644,46013474.233912654,32958768,11393518,1661188,46421470.443365268,33104620,13061334,70119,185397,47531356.683839999,33125854,14405503,50561006.405809999,33652670,17545220.816238921,51938566.105600007,33591541,18678850.960200321,52135804.352599993,32592161,19543643,55409404.919719994,32493304,22916101,54854523.918049991,31931943,24140701,56761909.559497736,32073087,{"$f":"24972052-283229","v":24688823},60815717.02979999,33579775,27459350.453954868,64168256.450577833,35637847,28530409]
[171,"Marshfield                   ",18.16,32271473,20214215,12057258,34872556.111840002,21245140,13627416,36714948.679464169,22881016,14129652,38563639.171119995,24240148,13086402,1537960,40253567.818422206,26140832,14331875,0,39637274.173409283,27040077,13494608,72445,878947,39583756.739600003,27951328,13567053,41137358.67464,28739555,13747293,40558278.62376,29710952,13855893,40490934.449160002,31137078,13963368,40254049.280549996,32113539,14068193,40243211.142080009,32421451,14297323,41036767.216783047,33760457,14421163,41808529.701789998,34492037,14543473,43523657.528021462,35619824,14664853]
[172,"Mashpee                      ",17.5,15407543,12020189,4044754,15474024.460000001,12882004,4145104,17073801.756701652,13860224,4425065,17636286.130000006,14142204,4051695,476170,16283467.18671005,14193190,4437308,0,16336474.718640003,14184603,4178081,22430,283872,16170543.359999999,14364504,4200511,16786403.150000002,14863230,4271711,17312286.150000002,15116709,4316511,16847491.769999996,14820989,4359861,16578175.300000003,14402235,4402061,16891753.790000003,14087772,4493526,16431104.565356754,13722805,4541226,17705538.060000002,14379434,4590756,18627382.034490988,15124670,4640166]
[173,"Mattapoisett                 ",17.5,3297524,3310959,473897.6,3387984.92,3308386,497697.6,3488042.5977460435,3193722,531510.6,3669467.71,3252117,508287.6,59736,3955927.7226870819,3490891,556663,0,3799146.5653200001,3492437,524142,2814,41557,3951256.51,3548014,526956,4131578.0200000009,3667812,546236,4068140.6800000006,3673844,587658.15474999999,4564402.3699999992,3935161,661547.15474999999,4686148.55,3913634,772515,4517988.9499999983,3760023,799465,4222689.9150018794,3517981,812995,4347489.0200000014,3586679,826405,4426546.9809879502,3651901,839485]
[174,"Maynard                      ",34.57,10044441,8591307,2211508,10644015.071359999,8569489,2382686,11391224.980435096,8539540,2851685,11937003.731199998,8673841,2919995,343168,12185553.479722442,8524586,3197900,463067,12064502.865547679,8480324,3515408,18872,160487,12168260.781569999,8664177,3534280,12727909.260160001,8836949,3990864.5528999842,12848218.426860001,9277415,4024014.5528999842,13617361.215549998,9450152,4180312.5528999842,13850824.283779997,9411919,4438905,14059518.789270002,9349998,4733058,14745073.193424072,9744969,5000104,15215994.512989998,9813974,5402021,15291603.711841691,10005157,5442941]
[175,"Medfield                     ",17.5,21083357,16366654,4716703,22222544.690400001,17108794,5113751,23437455.400163922,17719122,5718333,24405492.276769999,18347283,5421102,637107,24887881.817815583,19908771,5937045,0,24403976.669405282,20304518,5590203,30011,389731,24263807.570240002,20679989,5620214,24324022.98694,21208313,5730534,24155267.42306,21603285,5797959,23366471.620039996,20811592,5862409,23395043.4848,20516702,5925859,23253777.20984,19507465,6063084,23865982.219953917,19763909,6137784,24827316.099710003,20482536,6213144,26032948.58113708,21176396,6288744]
[176,"Medford                      ",17.5,40248747,32874703,10251400.4,43002389.842659995,34340915,10733287.4,46366010.244539626,35851875,11321921.4,48419758.008079998,37389566,10452869.4,1228458,50459876.273372002,41624962,11447701,0,49632982.275670551,42205952,10778927,57866,741233,51296237.986520007,42820019,10836793,53745484.954950012,44080589,11047553,52242342.704740003,45112884,{"$f":"11173603+33688","v":11207291},52268719.305079997,45014043,11332041,52826959.864799984,45090390,11454441,53575422.423319995,44545699,11719376,54710623.722724512,45337673,11864786,55510529.107759997,45796187,12004766,58384769.501052216,48076837,12143306]
[177,"Medway                       ",30.28,19580722,13433801,6292863,20747660.14057,13372805,7374855,21605016.00124561,13383579,8221437,22347779.065000005,13117342,8860400,370037,23324796.46238941,12868279,9045828,1410689,22310016.342912722,12851891,9845648,52856,624313,22260938.035379998,13120301,9898504,22211260.904100001,13680191,9997944,22149987.50784,14085853,10058469,21554025.020479999,14114067,10117244,21958660.335269995,14480057,10175519,21801549.408149999,14412519,10301469,22011641.938089047,14975709,10368909,22271105.480700001,15492710,10434849,23515724.418579098,16195477,10501419]
[178,"Melrose                      ",17.5,24907341,20737665,5187289.5999999996,26011915.689749997,21369417,5380590.5999999996,27602185.703187775,21907581,5694605,30260569.438900001,22718830,6748618,793121,32562555.060026802,24854305,7390904,317346,32186376.980879758,25348596,7257935,38964,504526,33172689.346400008,25849124,7323565,34237368.45262,26657847,7672924,34787745.958120003,27402853,{"$f":"7765699+8422","v":7774121},35264711.847039998,28117748,7867296,36086251.428580001,29102972,7960596,36017412.116479993,29811821,8166076,37544107.266331017,31014280,8280046,39714034.698880002,32332045,8396206,42022188.056045689,33686027,8514496]
[179,"Mendon                       ",24.55,0,4125,0,11108.373639999998,4683,6425,23065.342200000003,9814,13251,48402.476480000005,20739,27663,0,49954.876631578947,22735,27110,110,36523.099191600006,17440,26131,0,0,24882.900699999998,12459,24882.900699999998,0,0,0,26487.781899999998,14438,12050,26544.465999999997,15491,12050,26877.483239999998,16445,12050,53506.747079999994,35758,17749,94454.384875126823,67071,27383,125950.56911999999,90115,35836,114974.37804282685,83426,35836]
[180,"Merrimac                     ",33.119999999999997,0,0,0,0,0,0,0,0,0,0,0,0,0,0,0,0,0,0,0,0,0,0,0,0,0,0,0,0,0,0,{"$f":"0+50532","v":50532},39014.69999999999,23081,39014.69999999999,39599.880000000005,24335,39014.69999999999,52683.680000000008,33389,39014.69999999999,80501.000061537285,51057,39014.69999999999,96860.12,61806,39015,114974.37804282685,73617,41368]
[181,"Methuen                      ",54.1,56448568,25976682,30471886,60543616.070000008,27289639,33253977,64593404.869511366,28479615,36113790,66932258.720000006,29640305,33440001,3929987,70754596.227797136,29742140,36622588,4389868,67174266.656939983,30293532,38616511,207311,2370809,66167336.409999996,30557302,38823822,68082307.960000008,31301841,39110902,72821269.290000007,32658088,{"$f":"40240901.1178455+421101","v":40662002.117845498},73674473.939999998,33532493,40839452.117845498,75476679.289999992,34357316,41119363,76096298.539999992,34166160,42147523,76802334.286958128,35661626,42360163,81561883.420000002,37125698,44704725.328574821,86487500.831909508,38919879,47567622]
[182,"Middleborough                ",48.89,26467283,12717234,15072339.000000002,28711248.540000003,13593641,16271963.000000002,29349175.555037435,13995503,16591501.000000002,30535052.200000003,14305024,15378099,1807289,32049946.575188514,14608790,16841680,599477,31398532.903860003,14805660,16422246,88162,1020099,32141290.059999999,15132961,17008329,32752133.430000003,15459649,17292484,32588658.5,15715800,17376809,32073963.209999997,15945136,17459284,32000342.629999999,16053881,17539709,31055481.599999998,15735683,17709989,29289460.260108851,15577573,17796089,32018438.089999996,16144274,17887019,34113306.289279848,16968154,17978609]
[183,"Middlefield                  ",17.5,0,2821,0,0,746,0,0,0,0,35830.47,21223,17650,0,36919.725014354073,21121,17297,0,36107.447039999999,18057,18050,0,0,36750.21,21942,18050,38091.630000000005,24466,18050,51576.08,33824,18050,52019.6,39422,18050,13199.960000000001,11856,13199.960000000001,26341.840000000004,21863,13199.960000000001,53667.33337435819,44587,13199.960000000001,55348.639999999999,44006,13200,43115.391766060078,34267,13200]
[184,"Middleton                    ",17.5,5089625,4017323,1072302,5471810.5766400006,4145862,1325949,5832959.1376389088,4345126,1487833,6321846.7792799994,4793498,1430804,168153,6442872.8063946106,5100614,1566978,0,6158787.1565006413,5254874,1475435,7921,102722,6001241.5991799999,5162532,1483356,6436171.7904999992,5445815,1513276,6537210.6908500008,5536081,1531951,6500381.7589600012,5534548,1550526,6509297.9842300005,5617606,1568751,6306838.4600999998,5269521,1606481,6172360.6719304342,5171627,1626461,6287830.7335999999,5187460,1646051,6689182.2107968954,5513538,1666151]
[185,"Milford                      ",51.73,30216135,22301521,9514224.4000000004,33490000.671320003,22721351,10882700,34771548.012968563,22716028,12145146,36857352.51055,22611874,12747364,1498115,38573246.502751864,22694316,13960569,1918362,37839983.058274925,22556065,14990659,80476,910271,39488612.219000004,22785673,16702939,41626385.357300006,23315453,18734609.200679597,42774603.567850001,23819112,19457577.302150823,43366941.909150004,23509175,20022624.302150823,44418717.093200006,23574280,20844437,45013216.029600002,22766643,22246573,46388900.526972406,23243232,23145669,48944312.482440002,24011188,24933124,52148898.387319937,24846959,27301939]
[186,"Millbury                     ",40.049999999999997,14287540,8778478,5889114,15323374.32,9000628,6392219,15891803.931504436,9533703,6643067,16607443.680000002,9835784,6225068,731592,17069156.465240195,10132004,6817527,119625,16354315.981439997,10084315,6531884,35066,416852,16266575.289999999,10291233,6566950,16716297.900000002,10391532,6638870,16935435.850000001,10537672,6745941.8450512495,17048501.060000002,10443623,6879057.8450512495,17130949.16,10531645,6922982.8450512495,17429845.489999998,10473626,7019397.8450512495,17780962.153000448,10630390,7150572,18494289.77,11140779,7371495,19134294.708830908,11458671,7675624]
[187,"Millis                       ",29.29,9097512,7264775,1884585.6,9483891.5441799983,7426472,2102687.6,10117122.766417645,7330284,2786839,11000973.682880001,7435813,3190233,374928,11653273.708027104,7440876,3493858,718540,11328953.966638198,7432660,3966310,21293,257445,11812388.784249999,7564328,4248061,12313171.274950001,7862256,4534410.8393613929,12451955.106319999,8164569,4592771.5320735266,12356473.845559999,8219727,4625471.5320735266,12205625.68949,8273796,4657396.5320735266,11856222.087119998,8128057,4725651.5320735266,11737004.51467457,8397650,4761621.5320735266,11946580.289849997,8451032,4796932,12179710.209867777,8612588,4831312]
[188,"Millville                    ",56.53,0,3591,0,10849.66,3214,7636,22710.54,6563,16148,59717.45,16523,43194,0,49226.300019138762,15127,42330,0,60179.078399999999,19123,41056,0,0,85750.49,27251,58499,50788.840000000004,16406,50788.840000000004,77364.119999999981,26377,50987,26009.8,9583,26009.8,79199.760000000009,30473,48727,118538.28,48101,70899,93917.833405126818,39748,70899,124534.43999999997,52967,71567,114974.37804282685,48557,71567]
[189,"Milton                       ",17.5,25151267,24801774,3395206.4,27293508.643200006,25682096,3770098.4,29370007.727681536,26209746,4180994.4,31229186.953800008,26442315,4283464,503408,33226179.825447932,27411598,4691135,1123447,33177677.717974804,27962065,5474895,29392,405395,33445350.979459997,28316699,5504287,34576600.406800002,28905665,5765927.5177974999,35318011.521599993,29777694,5869608.6424181247,35082060.980719998,29715046,5964021.6424181247,36501504.885839999,30504862,6060521.6424181247,37238061.294160001,30828228,6409833,39699383.469837926,32142381,7557002,41890853.241980009,33540779,8350074,44445617.572931923,35446365,9033561]
[190,"Monroe                       ",25.62,156484,91583,84030,67149.83,77281,67149.83,56859.984915476627,50042,56859.984915476627,117805.94,70637,89563.984915476627,0,128295.88296267943,75685,87773,0,87282.108779999995,71027,84262,0,0,79783.97,68985,79783.97,75976.200000000012,45544,75976.200000000012,84306.74,69217,75976.200000000012,49377.140000000007,41572,49377.140000000007,57396.78,39279,49377.140000000007,64197.68,43424,49377.140000000007,70057.67309236154,39434,49377.140000000007,85324.37,62999,49377.140000000007,101469.77918132796,74699,49377]
[191,"Monson                       ",44.49,11167185,4551198,6615987,11949570.529999999,4838959,7111941,12159308.518842915,4984969,7241370,12797798,5089158,6897967,810673,12822835.034947371,5153721,7554467,114647,12214501.473179998,5102395,7221084,38766,444464,12125247.350000001,5200769,7259850,12141055.580000002,5290215,7312050,11640741.35,5397705,7342725,11227559.509999998,5516259,7372025,10642912.68,5415578,7399425,10115062.609999999,5426446,7455965,9765311.1307165027,5261486,7484975,9770916.2999999989,5525534,7512995,10353119.728939803,5746939,7541075]
[192,"Montague                     ",53.72,0,4422,0,0,1165,0,0,0,0,11943.49,5779,6507,0,12306.57500478469,5964,6377,0,0,0,0,0,0,0,0,0,0,0,0,0,0,0,0,0,0,0,0,0,0,0,0,0,0,0,0,0,0,0,0,0]
[193,"Monterey                     ",17.5,0,0,0,0,0,0,0,0,0,0,0,0,0,0,0,0,0,0,0,0,0,0,0,0,0,0,0,0,0,0,0,0,0,0,0,0,0,0,0,0,0,0,0,0,0,0,0,0,0]
[194,"Montgomery                   ",17.5,39186,23670,15516,32548.98,24028,15666,45421.08,32646,19296,35830.47,26083,19446,0,61532.87502392345,39614,19057,2862,36107.447039999999,25001,21042,0,0,36750.21,25778,21042,25394.420000000002,18584,21042,25788.04,20780,21042,26009.8,21585,21042,39599.880000000005,35467,21042,65854.600000000006,55442,21042,80501.000061537285,67534,21042,83022.959999999992,68494,21042,114974.37804282685,94854,21042]
[195,"Mount Washington             ",17.489999999999998,107132,88820,19858,144190.37,111238,32952,126517.21994365109,115279,33752,132726.99,118261,34839,0,129580.38256076556,116497,34142,0,126342.90066,112337,32776,0,0,120558.2,108747,32776,128118.72,110906,32776,91796.300000000017,91796,32776,92960.28,83664,32776,89843.44,79980,32776,57421.64,51679,32776,32643.359126604621,29379,32643.359126604621,25705.73,21207,25706,7755.8152895000003,6399,7771]
[196,"Nahant                       ",17.5,2818535,2890705,384990,2885508.92,2876891,408985,2958071.3727178685,2848361,441588,3103459.42,2795562,425127,49962,3140215.3490373208,2769683,465587,0,3009436.1228999998,2673399,438388,2353,34021,2959458.31,2711123,440741,2836358.0599999996,2696296,454021,2809900.4000000004,2700890,{"$f":"462021+8422","v":470443},2670798.36,2403719,477893,2552657.5399999991,2291916,484943,2541982.4700000002,2138805,499903,2576635.3961993451,2132494,508003,2540955.2600000002,2096288,515803,2602347.1905727275,2146936,523513]
[197,"Nantucket                    ",17.5,8624608,13225325,835167.6,9230081.2999999989,12823739,991186.6,10186787.557364723,12276662,1228636.6000000001,10648679.940000001,11576039,1286905.6000000001,151242,10683423.649684211,11534629,1409385,0,10295374.04874,10871032,1327049,7124,105962,11144212.01,10901757,1334173,11866373.959999999,11286314,1387053,12800411.420000002,11568827,1421503,13869821.479999997,11742876,2126945,15206451.73,12225508,2980944,15743715.589999998,12702303,3067074,16351990.158213655,13342499,3114564,17684068.190000005,14133709,3550359,19008236.734527193,15681795,3600249]
[198,"Natick                       ",17.5,33697813,33961720,4176645.6,36447202.92904,34581099,4657788.5999999996,37564403.525144182,34454333,5232583.5999999996,40487600.791560009,35263961,5229410.5999999996,614579,42629277.234462015,35169154,5727110,1733013,41207446.519019037,35490451,7024303,37710,518585,43072103.861760005,36948274,7062013,45906950.422800004,38397808,7640285.5809975006,47764102.86208,39466673,8312752.0002159998,49956678.079499997,41275438,8681240,51546022.215100005,42809644,8816665,52558195.004939988,43516697,9117845,53048542.559902228,43988233,9281825,55788455.043029986,46025476,9762979,57774437.098210081,47663911,10120767]
[199,"Needham                      ",17.5,34180438,33290098,3838947.6,37003280.957180008,33919990,4366272.5999999996,39386972.010866001,34874779,5124206.5999999996,42028556.259200007,35909710,5475362,643484,43829318.414363444,36829428,5996469,1003421,44582496.208305366,37987380,6590957,35383,500900,46025845.81216,39034126,6991720,48336042.998220004,40702053,7633990,49744211.758409992,42426414,7901801.7644304372,50670510.318260007,43099948,8239739.7644304372,51969545.140780009,44250723,8373789.7644304372,52228570.584080003,43661684,8671394.7644304372,54000176.557778552,44833817,9166360,56435153.947120003,46559002,9876152,59693731.68588265,49247329,10451715]
[200,"New Ashford                  ",19.079999999999998,314618,165062,149556,313210.37,163541,154825,331313.9947464299,168568,163915,321985.11,171991,166015,0,311594.91233684216,178509,162695,0,360381.76277999999,180785,179597,0,0,334159.74,188252,179597,346722.85000000003,196667,179597,273043.12,204082,179597,266775.95,209694,179597,217953.86999999997,196158,179597,232405.55000000002,193546,179597,288557.29529165302,204578,179597,269904.96999999997,214173,179597,289597.24013319105,220898,179597]
[201,"New Bedford                  ",79.23,119985462,15908482,104076980,120904310.03999999,17009241,104762165,124529300.86950365,17999927,107414208,129350707.3,18772687,99286975,11668556,131101527.27395219,18393495,108736420,3971612,126977747.19852,18868260,106123637,569719,6333076,131413254.92999999,19608717,111804538,134200121.78,20555694,{"$f":"113644428+2452653","v":116097081},141486159.03000003,21429480,120056679,146174509.68000001,22672562,123501948,149495329.88,24366967,125128363,157744521.90000004,25358897,132385625,165003222.23219585,27078190,137925032,173832434.18000001,28522973,145309461,189742059.78296334,29911096,159830964]
[202,"New Braintree                ",43.8,0,0,0,0,0,0,0,0,0,0,0,0,0,0,0,0,0,0,0,0,0,0,0,0,0,0,0,0,0,0,0,13004.9,7410,5595,13199.960000000001,7496,5704,0,0,0,0,0,0,27674.32,14896,12778,28743.594510706713,16002,12778]
[203,"Newbury                      ",17.5,0,0,0,0,0,0,0,0,0,0,0,0,0,0,0,0,0,0,0,0,0,0,0,0,0,0,0,0,0,0,{"$f":"0+16844","v":16844},39848.778960000003,35337,16844,26986.020340000003,23796,16844,53983.259600000005,45708,16844,82603.405821537279,69230,16844,70871.668000000005,58469,16844,88469.616812120148,72987,16844]
[204,"Newburyport                  ",17.5,16302852,18514828,2908020,17369387.83083,18382676,3094664,18138185.240466557,18210192,3229204,19046240.388799995,17810116,3031805,356309,19278084.056310378,17751548,3320352,0,18957046.974179041,17434050,3126377,16784,232641,19604538.718400002,17669920,3143161,20981094.095319998,18161476,3236321,22075535.224889997,18717331,{"$f":"3484457.66608894+42110","v":3526567.6660889401},22313844.746979997,18921662,3658991.6660889401,22958152.764539998,19326232,3720116.6660889401,22075387.820000004,18475881,3851291.6660889401,22572192.428649735,18688498,3923141.6660889401,23394062.990000002,19300102,4093961,23879060.905683298,19700226,4182944]
[205,"New Marlborough              ",17.5,0,0,0,0,0,0,0,0,0,0,0,0,0,0,0,0,0,0,0,0,0,0,0,0,0,0,0,0,0,0,0,0,0,0,0,0,0,13170.920000000002,10884,2287,0,0,0,0,0,0,0,0,0]
[206,"New Salem                    ",41.65,0,0,0,0,0,0,0,0,0,0,0,0,0,0,0,0,0,0,0,0,0,0,0,0,0,0,0,0,0,0,0,0,0,0,0,0,0,0,0,0,13416.833343589547,7366,6051,13837.16,7670,6167,0,0,0]
[207,"Newton                       ",17.5,84474234,95571853,9687799.5999999996,91783004.913320005,95493364,10966834.6,96710790.081070766,94016028,12754100.6,102430485.62952003,93680526,12939868.6,1520739,106034164.82356572,94358670,14171395,0,105360168.87611745,93963930,13343503,71634,1051383,109411944.70578998,95907724,13504221,114655007.73854002,98481856,16173152,119052135.41824004,101648356,17403779,123275321.48661001,103657391,19617930,126316298.67331998,106090242,20226057,126430397.79993999,105306467,21180365,131452274.44548996,108662422,22789852,137300637.26189998,113273026,24027611,141578979.06415501,116802658,24814496]
[208,"Norfolk                      ",17.5,7375598,4537885,3290521,7514189.6858999999,4696531,3342421,7568629.1283759158,4835814,3392371,7931793.3029600009,5010638,3120270,366705,8090406.3416947154,5856554,3417236,0,7969864.5064924797,6096820,3217602,17273,206986,7607426.2368400004,5982259,3234875,7567557.911940001,6205265,3270355,7354058.3719600011,6196881,3291530,7315213.0608799998,6240752,3312405,7167206.0455,6157870,3332480,7797859.3176300004,6475611,3380055,8254868.1418577991,6844844,3406815,8641112.9091999996,7128918,3433905,9114958.3381727356,7519840,3461385]
[209,"North Adams                  ",71.709999999999994,15707349,2559119,13830276,15487886.440000003,2982732,13921926,16104425.472575067,3199929,14379275,16069533.560000001,3273841,12943553,1521172,15683925.830859331,4425733,14175431,0,15476062.162319999,4393858,13347304,71654,795823,15392110.870000001,4489714,13418958,15076472.880000003,4662123,13480318,15891428.520000001,4776899,13517943,16417451.109999998,4941966,13556793,16664714.390000004,5074150,13595418,16484834.819999997,5063315,13676653,17145309.629568465,5100302,13721833,17356231.859999999,5097649,13766383,17859474.703748006,5053318,13809703]
[210,"Northampton                  ",17.5,22339621,16647759,6574009.5999999996,23515503.420000002,17537821,6925715.5999999996,23897225.215249706,17925565,7068615.5999999996,25081306.799999997,18789705,6600629.5999999996,775729,25514471.712826792,19225734,7228831,0,24684605.485979997,19535341,6806523,36541,454267,25014294.639999997,20035749,6843064,26386688.750000007,20803896,6954104,26834026.780000009,21624168,7023429,27395100.530000001,22476877,7093554,27323757.340000004,22846792,7162729,27410585.139999997,22747409,7313539,27919380.14575414,23143930,7395919,28576804.530000001,23575863,7477309,30030364.251233194,24547028,7558369]
[211,"North Andover                ",17.5,30541004,28946886,4129740,33510013.210000001,29846221,4649317,34908316.443979926,30883606,5087208,37117714.300000004,31904083,4968107,583870,38689087.713684224,32219076,5440937,1029075,37806576.337559998,32564460,6092035,32705,458122,38936234,33092191,6124740,40712824.369999997,34010095,6808232.8161875,42340329.710000001,35385415,{"$f":"7068575.6748125+25266","v":7093841.6748125004},43286349.479999997,36224040,7262285.6748125004,45462873.919999987,37541377,7921497,44605186.620000005,37087784,8181977,46314260.801910989,38259940,8326307,48675062.219999999,39658845,9016217,50326384.478882119,41262379,9160097]
[212,"North Attleborough           ",38.880000000000003,33128817,14691852,18436965,34913727.249999993,15594284,19319443,37024105.29144422,16763755,20260350,38863802.869999997,17813103,18836919,2213781,39803852.803245947,20703716,20629686,0,39026226.24995999,21382362,19424502,104279,1217430,39843826.230000004,21810997,19528781,41161023.43,22566227,19712661,41797469,23207648,19827086,42114635.469999991,24223806,19941736,42858323.110000007,25023400,20055686,41721975.079999998,25316072,20297411,42205783.552439779,25945113,20427791,43299173.010000005,26709708,20556671,44126489.423501156,26972001,20682041]
[213,"Northborough                 ",17.5,12830969,10921083,2584464.4,13031020.219999999,10898179,2763949.4,13379613.142081046,10658966,3082735.4,13939628.030000001,10678879,2995439.4,352035,14512145.583586603,11014309,3280525,217312,14386023.880859999,11224364,3293494,17681,232062,14878106.429999998,11738874,3311175,15714470.859999999,12259650,3621985.0384160001,15886379.650000002,12722162,3668085.0384160001,15486011.710000001,13010542,3712560.0384160001,15526446.370000001,13153691,3756435.0384160001,15196910.26,12701763,3849770.0384160001,15015400.577264598,12501814,3899030.0384160001,15211638.35,12549602,3947270.0384160001,15348450.348561112,12662472,3993500]
[214,"Northbridge                  ",46.78,19224254,6253429,12970825,19859815.41,6987828,13322608,21326300.527729061,7490514,14114803,21595688.16,7937843,12757564,1499314,22343513.91142584,8072415,13971740,299359,22038684.843239997,8329249,13446387,72186,815376,22423099.34,8388993,14034106,23980196.999999996,8893916,15086281,24363998.650000002,9349395,15150056,24874347.920000002,9900452,15214206,24091597.779999997,10435707,15275081,23427188.930000003,10848805,15403891,23615219.37740108,11369969,15473041,23583382.150000002,11810469,15539941,23912162.03207574,12120372,15603931]
[215,"North Brookfield             ",57.67,6615681,2219735,4285292.8970251717,6571910.5099999998,2316586,4326992.8970251717,6609236.9636889221,2348384,4367042.8970251717,6747317.700000002,2443115,3983453.8970251717,468150,6520066.3495043078,2624892,4362572,0,6139849.1636400009,2611475,4107711,22052,250034,6001484.8899999997,2543410,4129763,6089693.8600000003,2658631,4155363,6187292.3999999994,2707976,4171238,6138607.5700000012,2853212,4187213,6330664.1299999999,2902390,4203088,6192391.8499999996,2909397,4236418,6199650.4699848695,2812304,4254298,6455723.8399999999,2876546,4272568,6861155.1426662346,2904011,4290838]
[216,"Northfield                   ",30.08,0,0,0,0,0,0,0,0,0,0,0,0,0,0,0,0,0,0,0,0,0,0,0,0,0,0,0,0,0,0,0,0,0,0,26399.920000000002,17135,9265,13170.920000000002,9108,9265,0,0,0,0,0,0,0,0,0]
[217,"North Reading                ",17.5,18601689,14816885,3784804,20183617.97724,15266492,4917126,21182764.789605197,15869112,5313653,22674352.994799998,16503487,5521911,648955,23612463.797106899,16789073,6047449,775942,22639942.1421276,17274696,6424769,34491,430556,22670246.940660004,17894010,6459260,23098274.900569998,18576477,6562100,23398817.806239996,19321117,{"$f":"6625625+50532","v":6676157},23706840.709970001,19832830,6739782,23928340.855640002,20127141,6802307,23635143.14844,19692373,6937937,23960205.841541711,19895201,7010717,24928075.440800004,20565663,7083527,25154643.367806662,20752580,7153937]
[218,"Norton                       ",30.84,22990850,11013370,11977480,23419989.289999999,11653397,12175056,24274093.506333459,12205403,12560940,25467467.109999999,12826588,11717531,1377086,25652702.988677517,13933589,12832725,0,24934930.297499999,14175872,12083038,64867,758645,25121296.479999997,14682739,12147905,25245341.509999998,15231907,12260025,25252431.439999998,15724845,12328675,24839826.120000001,15755447,12395800,24716889.330000006,15884891,12461075,24673640,15870288,12603140,24605799.037226401,16138030,12678650,25627290.710000001,16534896,12754400,25977850.920649342,17399530,12827390]
[219,"Norwell                      ",17.5,14440386,14597702,1917411.6,16098434.99767,14916801,2207570.6,17382511.444969099,15372590,2457881.6000000001,18475933.129799999,15697102,2486597,292234,19354658.580467265,16176665,2723254,454740,19154668.326163501,16412838,2992336,16064,226269,19420562.385559998,16745375,3008400,20138619.813699998,17114763,3148957.366849375,20549300.995200001,17494372,3260749.9436770314,20295768.49016,17370172,3362602.9436770314,20603272.396599997,17503826,3417652.9436770314,20258808.089429993,16921990,3535957.9436770314,20701123.007093545,17167966,3600307.9436770314,21451763.513980005,17697705,3754059,22329816.442800608,18350859,4011711]
[220,"Norwood                      ",17.5,28041822,27289969,3544044,29886710.074549999,27700512,3933871,30207570.065640491,28071619,4534446,31869888.767040003,28472241,4638435,545125,32601763.614237398,28057436,5079889,0,31939204.05633672,28648256,4783122,25678,357914,32665738.414279997,29934115,4808800,34403459.751600005,30967635,5111751.3641325003,35162876.923280001,32031042,5372189.3884928748,35458013.178439997,31475235,5663726.3884928748,36030240.360470004,31220839,5751026.3884928748,36087087.065760002,30230754,5941876.3884928748,36598980.152771384,30391526,6207454,38062700.293799996,31401727,6660973,40452845.134236395,32400134,8052711]
[221,"Oak Bluffs                   ",17.5,3344833,2798198,546635,3068927.37,2724857,567385,3482507.5606329595,2861389,639762,3500874.88,2916146,591900,69562,3641145.0682794261,3042048,648233,0,3315880.6575599997,2896108,610364,3277,44592,3397147.27,2962918,613641,3454522.33,3045879,629001,3719346.8900000006,3186194,639201,3839529.9800000004,3213640,650652,4306524.25,3420717,885807,4345993.05,3494124,910282,4614741.4748551529,3814150,924052,4566695.8900000006,3767524,936832,4939842.5494836336,3951377,988466]
[222,"Oakham                       ",40.72,88168,23979,64189,97646.94,23754,73893,102197.43,24731,77466,107491.41,27810,80415,0,183603.36713492827,66144,78807,38652,0,0,0,0,0,0,0,0,0,0,0,0,0,0,0,0,0,13199.960000000001,7320,5880,13170.920000000002,7638,5880,13416.833343589547,8143,5880,13837.16,7937,5900,14371.797255353356,8519,5900]
[223,"Orange                       ",72.36,5726579,1106334,4911542,5794416.4100000001,1365123,4961898,5977476.5872389013,1437195,5097546,6544119.3700000001,1531082,4936583,580165,6699540.3565933015,1785567,5406413,0,6697536.4997399999,1819535,5090570,27329,306189,6427741.0799999991,1820190,5117899,6143522.4500000002,1791132,5142779,6178576.1000000006,1796299,5158204,6225638.2200000016,1814005,5173729,6497667.1399999978,1883340,5189379,6410831.3199999994,1858029,5222159,6801556.0005172687,1896835,5240609,6913169.459999999,1888769,5259029,7421674.387598698,1989628,5432046]
[224,"Orleans                      ",17.5,1619773,2314304,225962.4,1599992.33,1928689,236862.4,1527004.24,1747368,246812.4,1489750.36,1601503,229223.4,26939,1586853.2817454548,1643573,251039,0,1471893.3349799998,1497065,236373,1269,17747,1548813.24,1556406,237642,1684181.3199999998,1657933,245322,1746797.08,1713633,250272,1909216.98,1715171,279616,2072439.67,1813057,285191,2091738.9399999997,1737899,353840,2186402.5084648258,1814388,372015,2345513.3400000003,1934693,410820,2457051.7958840481,2027068,429984]
[225,"Otis                         ",17.5,0,4865,0,0,1222,0,0,0,0,0,0,0,0,0,0,0,0,0,0,0,0,0,0,0,0,0,0,0,0,0,0,0,0,0,0,0,0,0,0,0,0,0,0,0,0,0,0,0,0]
[226,"Oxford                       ",51.15,15678123,7200883,8477240,16425478.989999998,7646890,8877524,17109033.364616748,8150080,9240150,17439260.300000004,8260539,8426242,990282,17832934.835016266,8214327,9228194,390414,17925538.693260003,8351513,9390325,50411,228497,18299262.16,8535109,9764153,19039445.560000002,8878897,10160549,18857808.949999999,9147593,10209599,18717632.59,9144757,10258149,19226330.559999999,9307209,10306499,18814492.639999997,9045951,10408194,18658337.210024625,8970216,10461744,19085189.02,9428164,10514754,19698237.275810093,9622553,10566894]
[227,"Palmer                       ",58.87,15382941,5150016,10232925,16293473.060000004,5491599,10828140,16630337.504335003,5686758,11045384,16912374.970000003,5850602,10045276,1180556,17367767.6769378,6255521,11001315,110932,16420213.2009,6331779,10463070,56170,638157,15673257.680000003,6390223,10519240,16134047.02,6470869,10585480,16198575.519999998,6747578,10626130,15478309.109999996,6819446,10664455,15466730.400000002,6815260,10701980,15564758.360000001,6592394,10784150,15937384.115527295,6595198,10829000,16355731.319999998,6739159,10873130,16594239.756346451,6825833,10915640]
[228,"Paxton                       ",33.33,196006,125093,0,0,0,0,0,0,0,0,0,0,0,0,0,0,0,0,0,0,0,0,0,0,0,0,0,0,0,0,0,0,0,0,0,0,0,0,0,0,0,0,0,13837.16,8832,5026,14371.797255353356,9461,5026]
[229,"Peabody                      ",29.43,52895313,34167033,18728280,54951902.25,36075831,19286644,56602396.857231177,38043319,19741190,58044809.350000001,39953502,18002388,2115704,59750176.473661244,40112796,19715730,0,57582047.419799998,41285234,18563939,99659,1206582,59014857.119999997,42743764,18663598,60749406.699999996,44345547,18906718,{"$f":"62298319.99-2406437","v":59891882.990000002},{"$f":"45533417-1758848","v":43774569},{"$f":"19059168-736211","v":18322957},61102630.279999994,44118255,{"$f":"18472707+125260","v":18597967},62367587.499999993,45733796,18747217,62459203.560000002,44792470,19070452,63749465.754188508,45449042,19247212,65184413.379999995,46771496,19423672,69609817.438056916,48453163,21156654]
[230,"Pelham                       ",17.600000000000001,709807,760482,118052.8,749939.66,643809,164606.79999999999,733964.10943651071,561236,210786.8,674439.18,490547,208647.8,24521,670880.08917129191,496664,228505,0,663890.04804000002,481763,215156,1155,14219,580669.32999999996,480192,216311,560019.19999999995,482745,218831,655277.24,566477,220506,689081.27,620173,222256,696611.65,626950,224081,724220.01,609074,228151,830020.58176676114,620333,230581,859407.46,668413,233071,905329.72853302001,687532,235531]
[231,"Pembroke                     ",33.54,22515538,14046314,8469224,24815140.279400006,14742688,10072452,26921544.8071214,15414393,11507152,28631944.000619993,16182768,11139968,1309208,29986707.348423712,16470418,12200192,1316097,29225596.232482802,16691260,12726668,68322,805499,29344771.673250001,17053741,12794990,30140603.210499994,17494279,12925750,30742484.871859998,17997108,13013732.304039083,30579313.617779996,18171451,13095032.304039083,30953452.00279,18734967,13174507.304039083,30278155.873739995,18592537,13344512.304039083,30076801.769575488,18988785,13434662.304039083,30098844.630960006,19889115,13521752,31408204.402095743,20722469,13608752]
[232,"Pepperell                    ",40.119999999999997,9796,2034,7762,10849.66,4054,8308,11355.27,4893,8571,11943.49,5146,8877,0,0,0,8699,0,0,0,0,0,0,0,0,0,0,0,0,0,0,0,0,0,0,0,0,0,0,0,0,0,0,0,0,0,0,0,0,0]
[233,"Peru                         ",52.22,48982,11961,37021,97646.94,29593,71992,79486.89,29514,72342,107491.41,39254,91528,0,98452.600038277524,35805,89697,0,84250.709759999998,35751,84250.709759999998,0,0,73500.42,33517,73500.42,76183.260000000009,35598,73500.42,103152.16,50799,73500.42,117044.1,56662,73500.42,105599.68000000001,54600,73500.42,170156.80000000002,80315,89842,107334.66674871638,47752,89842,110697.28,49777,89842,114974.37804282685,52709,89842]
[234,"Petersham                    ",30.78,794648,460434,334214,887913.94,484109,403805,910107.84943651082,464081,446027,884202.43,440655,403908,47469,727844.57486698567,387334,442349,0,686761.92768000008,379916,416507,2236,25481,656167.6,383839,418743,637666.18999999983,396428,421383,594228.81999999995,438845,422883,566086.55000000005,454106,424308,611232.30999999994,479273,425758,627194.55000000005,512362,429223,716629.18602344103,573272,431323,772220.59,581489,433423,825450.36454343062,571360,435523]
[235,"Phillipston                  ",48.33,0,0,0,0,0,0,0,0,0,0,0,0,0,0,0,0,0,0,0,0,0,0,0,0,0,0,0,0,0,0,0,0,0,0,0,0,0,0,0,0,0,0,0,0,0,0,0,0,0]
[236,"Pittsfield                   ",61.21,52725657,24611444,28114213,57082753.469999999,25485280,31597473,59041738.979034342,25796426,33245313,61752172.609999992,25995833,31996051,3760289,63207565.231892832,25852192,35041213,2314160,62148014.552700013,25940936,35512358,190646,1809494,63704268.780000001,26794850,36909419,65754169.920000002,27822547,38017592.827607997,67796003.910000011,28757787,39290437.62740925,67481752.38000001,29005679,39447162.62740925,68905111.570000008,29086218,39818894,68494174.319999993,28442404,40155219,68570957.773763955,28025316,40545642,70785982.700000003,28120602,42665381,75857280.533894911,28171219,47686062]
[237,"Plainfield                   ",32.770000000000003,19593,16836,18987,43398.64,22879,30740,68131.62,37773,41615,95547.92,47108,54235,0,98452.600038277524,55480,53150,0,96286.525439999998,58428,51024,0,0,61250.35,41319,51024,63486.049999999996,42461,51024,51576.08,40855,51024,78029.39999999998,64254,51024,39599.880000000005,32922,39599.880000000005,39512.76,29669,39512.76,40250.500030768642,28875,39512.76,27674.32,19519,27674.32,28743.594510706713,19101,27674]
[238,"Plainville                   ",29.49,5675056,3322319,2374850,6041437.8299999991,3487590,2553848,6193164.1266190642,3616015,2618681,6360137.9900000002,3728363,2405042,282649,6513212.2174468907,3852023,2633937,27252,6313858.9432200007,3881974,2505722,13452,161615,6272346.2599999998,3923605,2519174,6913476.3999999994,4145967,2768880.59601,6826165.1400000006,4169061,2788255.59601,6579213.379999999,4253996,2806755.59601,6450343.1600000001,4374579,2824580.59601,6794336.419999999,4700337,2864950.59601,6634193.2430846673,4712959,2885980.59601,6762343.2399999993,4806288,2906741,7272815.8487452483,5127708,2927801]
[239,"Plymouth                     ",24.1,65808603,50709654,16749442.999999998,70785947.548399985,52596289,18464636,72586825.799855381,54446578,19542986,77105661.264829993,55729593,19128070,2247998,79497521.622687668,56638333,20948547,1910642,78742171.183430165,56893637,21523756,115549,1428409,79081949.172639996,57303942,21778007,80478825.04377,59037999,22208459.478195209,83431824.025150001,60777692,23291787.509499453,83619257.170059979,61240645,23670916.509499453,84831859.535599992,62123870,23872516.509499453,84727196.122590005,61058495,24315046.509499453,88349686.529343486,62464730,25884957,89987228.589259982,64955484,26128197,93345303.481633395,68683929,26369547]
[240,"Plympton                     ",25.63,1607157,1349172,489958,1606594.6,1279333,506035,1709080.5840138937,1275953,543319,1853769.61,1327166,531833,62503,1908834.034465072,1361877,582449,0,2009833.57968,1434960,563844,3027,21828,1974807.62,1416646,566871,2018759.52,1484742,591347.62748400006,2207684.7599999998,1597361,652019.25887999998,2194273.0299999998,1544590,702595.25887999998,2074615.8599999996,1557980,708270.25887999998,2281485.7581900004,1667056,721030.25887999998,2208586.3887203764,1594867,727660.25887999998,2244246.1515200003,1618008,734170.25887999998,2239539.0976047828,1665166,740470]
[241,"Princeton                    ",17.5,0,0,0,0,0,0,0,0,0,0,0,0,0,12306.57500478469,10005,0,2302,0,0,0,0,0,0,0,0,0,0,0,0,0,0,0,0,0,0,0,0,0,0,0,0,0,0,0,0,0,0,0,0]
[242,"Provincetown                 ",17.5,1291811,4055956,255800.8,1285826.94,1956162,263550.8,1321743.9439575451,1727275,271200.8,1263192.58,1561249,248898.8,29252,1338933.845374163,1591643,272588,0,1375097.9072400001,1521466,256663,1378,18272,1289521.3,1431340,258041,1203806.04,1203806,262841,1231636.8800000001,1215446,265966,1414247.5399999998,1209208,269641,1284862.27,1156376,272866,1411461.41,1172251,280401,1300534.3107840288,1090154,283851,1343546.56,1102452,287481,1386868.4082193591,1144166,290781]
[243,"Quincy                       ",17.5,73098901,63941052,12561073.199999999,77782533.934249982,67709257,13380709.199999999,83528509.845593929,70748789,14388553.199999999,89488958.460700005,73362291,14430718,1695949,92909519.333574429,72784382,15804134,4321003,92692070.835875496,74238283,18949428,101729,1298455,96661211.859239995,75702194,20959018,102157664.34112,79182392,23565229.189149439,105786949.41116999,81483004,24789394.287227817,108294787.80678003,82452996,26024786.287227817,109837246.19363996,84853939,26257161.287227817,109074296.63971998,85429167,26763766.287227817,112465494.00668323,87353305,27043396.287227817,117829054.19366997,90433969,28364113.480534859,123682608.20704634,95726151,28647763]
[244,"Randolph                     ",43.1,28415668,20365108,10420471,30652225.832729999,20844001,11313976,31690386.102510918,20566218,11852877,32016655.867279999,20344448,10904100,1281488,31481792.989716146,20147871,11941876,0,30820251.731979597,19924468,11244232,60364,716005,31980943.732399996,20085920,11895024,34252525.530859999,20607886,13913057.555152636,35279771.078940004,21206980,14424784.13735972,35955443.988719992,20964754,14990690,36417465.611719996,21159883,15257583,35981002.85723,20358913,15693730,37100685.939180903,20804157,16296529,39313342.30715999,21866831,17446511,41045165.956319869,22557750,18487416]
[245,"Raynham                      ",39.24,0,0,0,0,0,0,0,0,0,0,0,0,0,0,0,0,0,0,0,0,0,0,0,0,0,12697.210000000001,7860,4837,0,0,0,26009.8,16567,9443,0,0,0,0,0,0,0,0,0,0,0,0,0,0,0]
[246,"Reading                      ",17.5,29463124,23184689,6290156.9999999981,31463026.360140003,24343136,7119890,33194639.301516734,25152672,8041967,35385849.034999996,26121634,8289951,974264,36474849.126737088,26451786,9078931,944132,35612661.075852714,26779324,9437516,50665,641507,36437713.051029995,27264731,9488181,38136802.087369993,28233100,9903702,38817531.163199998,29008253,{"$f":"10011427+8422","v":10019849},38963364.685199998,30125539,10126574,39638139.190400004,31807445,10232699,39861932.613879994,32924851,10465569,40268620.860512272,33365588,10591299,40642299.144709997,33529896,10713609,42311533.287209027,34907015,10834809]
[247,"Rehoboth                     ",25.88,0,0,0,0,0,0,0,0,0,0,0,0,0,0,0,0,0,0,0,0,0,0,0,0,0,0,0,0,116046.18,81889,34157,91034.3,64373,34157,26399.920000000002,18518,26399.920000000002,0,0,0,0,0,0,0,0,0,0,0,0]
[248,"Revere                       ",63.31,46478555,22374964,24103591,51922904.798499994,24134938,27787967,56922955.069418222,25539984,31382971,60166072.687420011,26575341,30058188,3532544,64653955.409767158,26216203,32918917,5518835,65723577.218013175,27005010,37975657,203870,539040,68075146.155200005,27339812,40735334,74073065.5757,28043890,46214315.401124246,76694917.361529991,28826715,{"$f":"48007444.2055175+33688","v":48041132.205517501},79960501.103390008,29010426,50950075,84281832.122129992,30065688,54216144,82249270.676439986,30306709,56509506,88195564.570087463,31495119,{"$f":"60824236-4085080","v":56739156},96064542.993500009,32918306,65040589.077949196,104529856.46755695,34860627,69669229]
[249,"Richmond                     ",17.5,1762868,2078922,321695.2,1791554.66,2029927,333845.2,1666525.1984222305,1918538,344495.2,1733844.42,1800907,356276.2,0,1714724.0778717706,1779707,349151,0,1627120.605,1690989,328754,1765,23307,1432341.44,1629712,330519,1455405.7799999998,1455406,336919,1341137.6900000002,1341138,340519,1381559.82,1243404,344169,1238912.1900000002,1115021,347244,1203251.3800000001,1015683,353789,1268580.5002314509,1047475,357479,1277797.2200000002,1054183,361049,1333384.0206293394,1100042,364649]
[250,"Rochester                    ",37.200000000000003,3680270,2350290,1329980,3824253.2,2478288,1395317,4020213.9527178695,2498485,1521729,4281470.25,2647282,1462330,171858,4601636.8752688998,2799668,1601504,200465,4449279.2438400006,2835130,1696698,9109,109987,4206398.72,2715486,1705807,4265135.9700000007,2781320,1725847,4306372.08,2817361,1738272,4252932.9000000004,2742703,1750422,4382165.5599999996,2807707,1762322,4400657.959999999,2745493,1788722,4319981.4040858541,2706641,1802732,4788761.0199999996,2933529,1855232,5204047.0350275449,3146498,2057549]
[251,"Rockland                     ",49.91,19513418,11054067,8952545,20522022.761699997,11421237,9430825,21120295.814178336,11629129,9714945,21933698.112469997,11574215,9270036,1089447,22004828.13255582,11463450,10152293,389085,21074812.564186316,11539567,9925552,53285,619191,21774162.33845,11752002,10022160,22355995.259560004,12117742,10325639.588731904,22663493.787000004,12382935,10386793.067113128,23580543.138319999,12524805,11055738,25189073.019840002,12589951,12599122,25814155.980160002,12429362,13635665,25966055.368246898,12806197,13706495,25871093.227260001,13345423,13774895,27535663.693475917,13793841,13843235]
[252,"Rockport                     ",17.5,7402784,7362604,1194220.8,7628241.0882799998,7471074,1244120.8,8076762.8806776693,7497665,1322611.8,8284122.9709999999,7446648,1226740.8,144171,8104260.50920715,7413825,1343494,0,7620062.4644836802,7138013,1265007,6791,93921,7319480.6514099985,7150187,1271798,7190513.3909999989,7094748,1304118,7275247.9357000012,7139271,{"$f":"1324168+33688","v":1357856},7619731.0979199996,6857758,1377981,7726823.8438600004,6690331,1397406,7673923.8114000009,6409651,1439096,7549140.3215470212,6289613,1461146,7350864.6990399994,6064463,1481756,7685699.8726646928,6224394,1502126]
[253,"Rowe                         ",17.5,475150,699660,45294.8,409882.39,614824,50581.8,523549.62469008093,580213,70473.8,419120.95,513500,65254.8,7669,441524.18143540673,501807,71465,0,552009.03876000002,498355,67290,361,5289,560185.52,501042,67651,613859.06999999995,514712,99147,620119.16,527677,100747,618393.5,525865,103362,676330.15,545165,131165,642285.43000000005,535088,134795,637861.27157375612,530325,136715,598648,493885,138335,582531.02683389105,480588,139775]
[254,"Rowley                       ",17.5,0,0,0,0,0,0,0,0,0,0,0,0,0,0,0,0,0,0,0,0,0,0,0,0,0,0,0,0,0,0,{"$f":"0+25266","v":25266},66468.098199999993,52584,25266,27029.435180000004,21899,25266,27164.907080000004,22563,25266,69109.922267947739,57514,25266,42624.152879999994,35165,25266,103785.9218574735,85623,25266]
[255,"Royalston                    ",43.12,0,0,0,0,0,0,0,0,0,0,0,0,0,0,0,0,0,0,0,0,0,0,0,0,0,0,0,0,0,0,0,0,0,0,0,0,0,0,0,0,0,0,0,0,0,0,0,0,0]
[256,"Russell                      ",62.12,244989,94511,150478,183566.83,77676,151228,226187.09,88946,178215,225960.41,85118,179065,0,232829.66715406702,86171,175484,0,191599.70616,75063,168465,0,0,207260.47,79133,168465,189431.25,72090,168465,205261.50999999998,81982,168465,220031.55,83474,168465,210131.86,84199,168465,236011.40000000002,100692,168465,240301.01604183207,93424,168465,289210.46999999997,105564,183646,314603.33724281075,115978,198625]
[257,"Rutland                      ",54.61,9796,4598,8945.2000000000007,10849.66,4565,9555.2000000000007,11355.27,4214,9848.2000000000007,11943.49,4379,10197.200000000001,0,0,0,9993,0,0,0,0,0,0,0,0,0,0,0,0,0,0,0,0,0,0,13199.960000000001,5917,7283,0,0,0,0,0,0,0,0,0,0,0,0]
[258,"Salem                        ",39.979999999999997,39985833,29992288,10536329.999999998,42136154.640000001,30487993,11648162,42852484.075050555,30556126,12876914,44915008.079999983,30543822,12859851,1511335,47512497.335793309,30403931,14083762,3024804,47422424.260079995,30121364,16969097,91098,240865,49075889.510000005,30553623,18522267,51691291.730000004,31398532,20759584.19116275,51136476.850000001,31823721,{"$f":"20879459.1911628+134752","v":21014211.191162799},52070759.630000003,31881386,21231627.191162799,52542429.829999998,31669846,21348402.191162799,52561026.710000008,31386760,21600632.191162799,52768572.013673805,32317455,21736742.191162799,54862156.089999996,33573950,21872762,59983631.397195973,34176479,25807152]
[259,"Salisbury                    ",17.5,0,0,0,0,0,0,0,0,0,0,0,0,0,0,0,0,0,0,0,0,0,0,0,0,0,0,0,0,0,0,{"$f":"0+33688","v":33688},52019.6,44990,33688,79199.760000000009,67740,33688,79025.52,66069,33688,40250.500030768642,33612,33688,69185.8,57078,33688,14371.797255353356,11857,14383]
[260,"Sandisfield                  ",17.5,0,0,0,0,0,0,0,0,0,0,0,0,0,0,0,0,0,0,0,0,0,0,0,0,0,0,0,0,0,0,0,0,0,0,0,0,0,0,0,0,0,0,0,0,0,0,0,0,0]
[261,"Sandwich                     ",17.5,27631550,23236639,5651356.0000000019,28541824.359999999,23538127,6229598.0000000019,29371842.072332684,23681935,6694018.0000000019,29341477.619999997,23800113,6150491.0000000019,722827,30244193.036922485,24197825,6735852,0,29670856.676279996,24024554,6342344,34049,449184,28621462.630000006,24051894,6376393,29161934.479999997,24620229,6508793,28830810.450000003,24951122,6588268,28304004.249999989,24542435,6665593,27987804.329999994,24211459,6740018,27982398.590000007,23359532,6902818,28141702.856564838,23400169,6989398,27742486.25,22887551,7071628,28195096.030377951,23260955,7151788]
[262,"Saugus                       ",17.5,22412040,22359654,3538314.4,24160470.339740004,22578923,3844289.4,24646309.885408901,22714754,3997139.4,25756505.726459999,22756006,3750635.4,440788,26465118.450756904,22613204,4107595,0,25120399.373848077,22610471,3867629,20763,290803,25149470.265000004,22560247,3888392,26683232.319300003,22948688,4144389.7674957826,28162538.90636,23659244,{"$f":"4883463.0180176+202129","v":5085592.0180176003},28469688.994549997,23886601,5266627.0180176003,28704386.50144,24111062,5338002.0180176003,27795391.629999999,23261068,5488812.0180176003,27708148.930856943,23048854,5569152.0180176003,28856877.780000001,23763905,5649702.0180176003,31417986.972791355,25343552,6136490]
[263,"Savoy                        ",51.81,759317,298094,461223,819788.07,322710,499459,805305.56435198744,325832,504459,842480.55,336900,471826,55451,868256.36446315795,341085,516731,10440,771221.57736,360142,496374,2665,30432,690277.05,333540,499039,695640.89999999991,312586,502079,593525.96,291675,503704,600300.83000000007,298627,505329,592852.67000000004,321122,506879,644284.77,314279,510509,634366.34950279677,316323,512309,668959.30000000005,357593,514049,751434.40349266853,362123,515849]
[264,"Scituate                     ",17.5,21888018,18307200,3580818,23195983.650910005,19230638,3965346,24538930.345499434,20008979,4529951,26018135.560409993,20809421,4660944,547771,26573232.383127034,21922917,5104541,0,26489575.520701922,22264352,4806334,25802,351455,26874930.164800003,22799362,4832136,27918935.093200006,23462809,4957576,28025063.522399995,24028869,5034826,27783603.550999999,23886438,5110701,28197733.99712,24057987,5185901,27740691.55742,23172735,5346391,28537003.198598668,23614603,5434351,29192076.879900001,24083464,5521321,30755855.729239803,24906358,5863240]
[265,"Seekonk                      ",29.3,16068884,14714809,3044575.2,16695154.580000002,14553529,3620014.2,17298382.43925048,14521219,4210223.2,17542753.499999996,14157726,4120766.2,484287,18026023.068662196,14305874,4512952,0,17708321.343119998,14225007,4249306,22812,293384,18141473.569999997,14541315,4272118,18781878.59,14551240,4595356.15655425,18801442.079999998,14822067,4787529.9737716876,18854298.620000001,14466350,4931239.9737716876,18460114.679999996,14348947,4979514.9737716876,18466575.149999999,14127909,5086214.9737716876,18642353.387814865,14172922,5143574.9737716876,20162615.929999996,14723649,5454099,21995792.007408068,15294251,6705263]
[266,"Sharon                       ",17.5,24896987,18670749,6270630.0000000009,26202037.429339994,19586419,6615618,27015017.202182684,20567259,6785118,28024961.712149993,21309075,6231888,732394,28860669.078239046,22028864,6824996,6809,28790563.702690437,22591942,6432692,34533,448580,29804844.627760001,23242013,6562832,30203331.846320003,24076220,6695952,31456583.212149996,24940038,6780652,31433647.07305,25641123,6865177,32275546.17168,26573303,6950527,32581200.061299995,26421487,7138517,33110463.782192025,27317316,7240547,34930860.248220004,28416519,7344287,37027112.382259734,29719389,7449437]
[267,"Sheffield                    ",17.5,19593,10223,9370,43398.64,32920,14036,45421.08,40042,14610,35830.47,28711,14760,0,36919.725014354073,30951,14465,0,24071.631359999999,20857,13886,0,0,24500.14,21717,13886,50788.840000000004,46205,13886,64470.1,62545,13886,78029.39999999998,70226,13886,92399.719999999987,80706,13886,105367.36000000002,88541,16826,93917.833405126818,79039,16826,96860.12,79910,16950,0,0,0]
[268,"Shelburne                    ",29.07,0,0,0,0,0,0,0,0,0,0,0,0,0,0,0,0,0,12035.81568,7620,4416,0,0,12250.07,7587,4663,12697.210000000001,8809,4663,12894.02,9180,4663,13004.9,10008,4663,0,0,0,0,0,0,0,0,0,13837.16,10789,3071,14371.797255353356,10195,4177]
[269,"Sherborn                     ",17.5,3380552,3318579,340731.2,3421487.44172,3345012,392337.2,3609943.9431416788,3395988,464158.2,3944872.97248,3531728,482139.2,56663,4018165.4634094238,3568870,528026,0,3616285.1801423398,3274399,497179,2669,39428,3544554.8176799999,3168291,499848,3322207.8539100001,3024786,515408,3446195.4454399999,3128611,525258,3327431.3505500001,2944257,545223,3380505.0839999993,2917753,554673,3478451.7794499998,2909277,575738,3806638.9460125784,3143918,662721,3863587.5212599998,3181825,681763,3922730.1411090656,3236252,693583]
[270,"Shirley                      ",41.16,6819383,2858481,3995219,7141364.7989100004,3138806,4154632,7495917.7602271345,3284354,4330455,7800802.5329999998,3435489,4012957,471617,7655204.9791285908,3754395,4394883,0,12461,6250.1276655997626,6812,37,420,0,0,0,0,0,0,0,0,0,0,0,0,0,0,0,0,0,0,0,0,0,0,0,0,0,0,0]
[271,"Shrewsbury                   ",18.690000000000001,39662058,25861451,13800607,43006922.329999998,27107973,15898949,46216469.143160932,28796799,17419670,49163922.700000003,30297112,16882697,1984114,50640024.753362693,31084837,18489475,1065713,49767093.421020001,32455678,18412775,98848,1189765,51780005.259999998,33692240,18511623,53574891.730000004,35083729,18748463,55072809.080000006,36553737,18897238,55423621.549999997,38578814,19045813,57096131.690000013,40658212,19195638,56301993.68999999,42573214,19524868,58194036.86341849,44655044,19706038,60487338.449999981,47137864,19887358,63259403.708104163,49749302,20068648]
[272,"Shutesbury                   ",44.71,980949,744787,465653.2,1097675.33,693858,532129.19999999995,1087472.3443519874,671283,540635.19999999995,1238144.68,732474,551624.19999999995,64829,1224192.060937799,728091,604124,0,1121281.2738600001,660237,568831,3054,35764,1133132.5,652599,571885,1250486.46,696787,584974.46020800003,1178320.1300000001,657620,588274.46020800003,1268845.75,689268,593590.46020800003,1336733.0899999999,723367,613366,1115064.6000000001,624029,619856,1157848.556575418,680124,623336,1166902.03,669164,626876,1321150.8039989388,730491,630386]
[273,"Somerset                     ",46.29,18801260,18110659,2685723.2,19720957.539999995,17515386,3559416.2,20657264.747334611,16992794,4521167.2,21503415.919999998,16475983,4807347.2,564976,21570952.204983734,16298338,5264877,7737,14275069,10715794.64921918,3499899,19110,75402,14571529.510000002,10467269,4104261,15524516.379999997,10738045,5022377.9989644997,15769354.82,11107578,5109544.062146375,16069095.370000001,11192906,5217678.062146375,16337259.259999998,11103046,5262728.062146375,16558627.16,10170448,6388179,17125371.876508925,9582995,7542377,17732666.670000002,9557082,8175585,18329520.115415696,9423790,8920409]
[274,"Somerville                   ",17.5,51199725,35731948,19725438.800000001,52325941.29772,38065244,19994838.800000001,53650930.251636975,40215930,20255638.800000001,55603076.77403,42134230,18431168.800000001,2166096,57459406.133968234,47404010,20185320,0,56711003.467927195,48121353,19006095,102033,1205842,58313543.709569983,48819464,19108128,60645451.388249993,50545090,19316888,61833356.366640002,51800992,19448713,62767269.546019986,52703692,19582488,64208758.285060003,54026428,19717388,62011654.562320009,51954315,20010098,64130648.10950844,53229236,20170688,65998570.132249989,54448820,20329028,68863033.368161425,56812003,20486918]
[275,"Southampton                  ",29.58,3817595,1937134,2294612,4033879.67,2117278,2404074,4219769.7429432645,2252330,2496629,4454454.5199999996,2332152,2339180,274909,4552925.5780440187,2372375,2561807,0,4426092.5655599991,2463679,2412147,12949,149736,4394778.41,2552882,2425096,4300263.7899999991,2555321,2444176,4418126.47,2686385,2456276,4598039.57,2840365,2468676,4683286.6400000006,2974492,2480926,4702769.24,3078158,2507986,4863203.5231375461,3146804,2522746,4914639.3900000006,3298766,2537146,5018160.4177704034,3476888,2551486]
[276,"Southborough                 ",17.5,10775916,8618521,2581627,11112363.866560001,8827786,2657427,11560282.354900939,9325599,2735813,12278597.972959999,9676623,2560589,300929,12791303.833687706,10552826,2804288,0,12125426.22289644,10423982,2640461,14175,186952,12100378.3814,10488914,2654636,12191121.0648,10539005,2710636,12056861.715160001,10683506,2744686,11801364.191059999,10384154,2777761,11574099.806239998,10152043,2809611,11260409.134279998,9485040,2877481,11409894.389389778,9486965,2914531,11677611.934810001,9634030,2950921,11760311.474915259,9702257,2986051]
[277,"Southbridge                  ",74.06,20428362,5691750,14736612,20103131.259999998,5866161,14851612,21509239.16868699,5955255,15829982,22155409.049999997,6064486,14570274,1712350,22728459.686706219,6844242,15956972,0,22931317.140119996,6910142,15713770,84358,223047,24396090.530000005,7165928,17230163,25154189.23,7503317,17682899.236941002,26268571.68,7736324,18620961.75948,26907889.430000003,7788520,19119369,27590853.959999993,7902804,19688050,27951569.609999992,7518500,20433070,28503932.0841102,7316033,21187899,28731938.279999997,7510318,21257319,30836388.956011005,7846557,22989832]
[278,"South Hadley                 ",37.1,16765667,11233847,5531820,17331909.950000003,11613713,5867471,18060956.990095712,11637991,6422966,19336375.739999998,11671079,6859182,806115,19536753.464956939,11564704,7511991,460058,18934829.861939996,11597234,7506322,40297,478280,18784553.009999998,11810114,7546619,19235881.489999998,12212647,7627179,19156845.539999999,12497985,7676404,19070528.080000002,12680992,7724754,19296183.16,12948752,7772779,19049378.099999998,12973564,7876784,19637074.331034068,12896757,7933784,20537051.940000001,13237650,7991294,22011471.953325644,13763185,8248287]
[279,"Southwick                    ",33.43,0,0,0,0,0,0,0,0,0,0,0,0,0,0,0,0,0,0,0,0,0,0,0,0,0,0,0,0,0,0,0,0,0,0,0,0,0,0,0,0,0,0,0,0,0,0,0,0,0]
[280,"Spencer                      ",51.72,637001,478936,10778.186440677964,54248.3,12811,41437,45421.08,12291,41637,0,0,0,0,0,0,0,0,12035.81568,3941,8095,0,0,12250.07,4119,8131,12697.210000000001,4307,8390,25788.04,8782,17006,52019.6,18303,33717,79199.760000000009,29599,49601,65854.600000000006,27190,49601,53667.33337435819,23403,49601,41511.479999999996,18504,41511.479999999996,43115.391766060078,19467,41511]
[281,"Springfield                  ",84.76,253464385,28100362,225364023,262628553.05000001,30283760,232799829,286041159.20882511,31670757,254370402,296198428.4600001,33567836,235104590,27630323,305615195.21157515,33218730,257480215,14916250,302574194.31083989,34730182,262704775,1410316,8988999,309609750.70000011,34205756,275403995,320618386.81000006,34766731,285851656,330986295.45999998,35173501,295812794,337653427.27999997,36066908,301586519,345592031.43000001,36405937,309186094,356553651.79000002,36682622,319871030,370375982.61382222,37357582,333018401,383693957.99999988,38246693,345447265,411555995.64407492,40832170,370723826]
[282,"Sterling                     ",23.29,0,0,0,0,0,0,0,0,0,0,0,0,0,0,0,0,0,0,0,0,0,0,0,0,0,0,0,0,0,0,0,0,0,0,0,0,0,0,0,0,0,0,0,0,0,0,0,0,0]
[283,"Stockbridge                  ",17.5,0,0,0,0,0,0,0,0,0,0,0,0,0,0,0,0,0,0,0,0,0,0,0,0,0,0,0,0,0,0,0,0,0,0,0,0,0,0,0,0,0,0,0,0,0,0,0,0,0]
[284,"Stoneham                     ",17.5,20419437,19045680,2769263.2,21921969.618560001,19522076,3032206.2,22673086.945864055,19670018,3312881.2,22727888.293199997,19736135,3160708.2,371458,23370068.911074977,19854576,3461523,53970,22707298.597098894,19664269,3310118,17770,252255,22408566.778700002,19761522,3327888,22578725.166379999,20034480,3483735.226029125,22242673.456560001,20042778,{"$f":"3585918.38324634+84220","v":3670138.3832463399},22756236.458160002,19732979,3779409.3832463399,23623782.041999996,19986407,3838859.3832463399,23858093.313949995,19851817,4059406,24538424.857372392,20290210,{"$f":"4269807-21592","v":4248215},25266909.403280001,20845200,4421709,26898862.887115043,21654643,5266351]
[285,"Stoughton                    ",37.86,30205157,21534491,8780857,31850504.109099995,21895939,9954565,33770063.061032131,22305523,11464540,35164976.446949996,22405193,11417910,1341873,35727786.25349389,22804647,12504587,418552,34710176.447902016,22865525,12168170,65324,784845,35682635.053249992,22821888,12860747,37103273.115960002,23411556,14019928.662023555,37422637.886239998,23911700,14304924.148446621,37491590.603239998,23503750,14600824.148446621,38474628.719349995,23660828,14813801,38325837.797450006,22995806,15330032,38830414.515473194,23973760,15439562,41181928.998719998,25335924,15846005,42580952.190584734,26370325,16210627]
[286,"Stow                         ",17.5,0,0,0,0,0,0,0,0,0,0,0,0,0,0,0,0,0,0,0,0,0,0,0,0,0,0,0,0,0,0,0,0,0,0,13655.815820000002,11465,2191,13669.092180000001,11412,2257,27906.769627179092,23174,4733,28685.840799999998,23666,5020,0,0,0]
[287,"Sturbridge                   ",42.06,5388381,4493704,1078308.3999999999,5516983.2500000009,4220516,1296467,5996978.0763373207,4176875,1820103,6345206.4400000004,4283593,1844805,216808,6820126.4317856468,4456964,2020381,342781,6646558.3768799985,4437863,2225107,11945,146635,6992372.2599999998,4640856,2351516,7793154.3099999987,5063140,2770520.3911102498,7764309.5599999996,4966483,2865678.1422669999,8029576.1899999995,4960281,3069295,8483866.0799999982,4983525,3500341,8568351.209999999,4799267,3769084,8170415.9676968697,4697967,3795214,8423098.5899999999,4848123,3821314,8568656.4989129324,4956813,3846634]
[288,"Sudbury                      ",17.5,21263672,18207063,3502825,22258494.250949997,18693151,3676919,23679206.276443515,19595273,4083933,24596035.436999999,20228054,3908626,459355,25394888.37452016,20950783,4280621,163484,24480270.235956777,21160359,4184481,22464,312735,24225298.832720004,21111921,4206945,25075914.117840003,21703788,4325145,24959360.853349999,21986344,4397070,24443508.479559995,21216573,4466220,24450575.494369991,21153252,4534395,25153175.96328,20930012,{"$f":"4688560+56978","v":4745538},25474395.707632355,21173624,4829178,25690225.098839991,21194436,4910568,25917962.070728827,21382319,4990518]
[289,"Sunderland                   ",23.19,1491367,811746,843699,1434832.39,731500,853199,1506338.8093238133,728448,877325,1550511.91,767335,797608,93738,1651251.6745186604,1124871,873519,0,1426674.3802799999,1068529,822488,4415,50791,1427166.29,1106475,826903,1450167.1600000001,1171657,833063,1488182.91,1281235,836963,1659835.8300000003,1346071,841288,1744222.4,1440699,845663,1863761.3099999998,1490797,855618,2030461.9982605327,1547169,861528,2072735.7500000005,1562671,867288,2147362.3185696225,1649338,872838]
[290,"Sutton                       ",21,11351923,6730648,4751948,12029949.919999998,7218489,5011361,12654100.683758389,7579591,5245542,13334009.530000001,8022384,4918279,578013,13738054.398713876,8347934,5386366,3754,13180445.080379996,8462731,5075229,27246,327595,13280919.139999997,8832665,5102475,13287888.290000001,9081755,5163355,13559813.799999999,9456038,5201455,13581958.960000001,9692460,5239230,13719822.630000001,9853703,5276480,13322264.810000002,9795149,5355735,13414412.031556375,9713548,5398395,13539897.419999996,9968231,5440035,13566435.924644973,10402774,5479815]
[291,"Swampscott                   ",17.5,15093910,15315544,2051980.4,16210766.109999999,15382522,2247430.4,17414723.955687378,15557542,2487474.4,17927585.210000001,15655737,2417779.4,284146,18487892.611490913,15778863,2647887,61143,18190629.378119998,16021305,2550769,13694,198667,18506840.309999999,16211795,2564463,19282648.440000001,16709525,2773458.11925,19665111.27,17029285,{"$f":"2940442.2075+16844","v":2957286.2075},19890269.34,16959906,3140515.2075,20062283.009999998,17079677,3193515.2075,20368467.029999997,16975480,3392987,20655963.815009337,17159833,3496131,21383228.149999999,17641164,3742064,22677171.816726971,18340193,4351751]
[292,"Swansea                      ",37.32,14565457,11774730,4075230.8,15460786.719999999,11848674,4383582.8,16127292.304335002,12243842,4579268.8,16666358.550000001,12395050,4237389.8,497993,17381654.481270812,12399806,4640675,341173,17156168.303639997,12593443,4690809,25182,316157,17312134.07,12740418,4715991,18589115.77,13137149,5657431.8930937499,19231862.370000001,13411309,6098205.5495370002,19734625.710000001,13253165,6481461,20558168.07,13514200,7043968,19920849.289999999,12860612,7327857,20221515.14252951,12930499,{"$f":"7716864-327537","v":7389327},21190611.529999997,13387790,8081352.9380667778,22235382.677427534,13936344,8449049]
[293,"Taunton                      ",63.97,64458276,23828389,40629887,66658595.349999994,25423363,41894411,69472944.332918555,26621725,43477482,72404300.269999996,27417594,40398788,4747808,74169525.406621993,27604965,44243664,2320896,72854522.334359989,28606446,43844262,235375,2681198,75257775.25999999,29692749,45565026,78583025.370000005,30952805,47630220,79522976.520000011,32366269,47822170,83736224.63000001,33362611,50373614,86795145.73999998,33623458,53171688,89152710,33343214,55809496,91224275.812842891,33052858,58171418,94602367.189999998,34133205,60469162,100148666.35428402,35674642,64474024]
[294,"Templeton                    ",61.14,0,0,0,0,0,0,0,0,0,0,0,0,0,0,0,0,0,0,0,0,0,0,0,0,0,0,0,0,0,0,0,0,0,0,0,0,0,13170.920000000002,4915,8256,13416.833343589547,5085,8332,13837.16,5212,8632,0,0,0]
[295,"Tewksbury                    ",17.5,33347082,21518968,11930760,35015994.193659998,22768638,12514712,36101824.202872381,23213156,12918858,36695412.811939992,23595558,11758059,1381849,36766196.446410596,23754317,12877110,134769,34573601.27935721,23683428,12251726,65773,796855,34519814.968239993,23924435,12317499,35261727.251350001,24776381,12472939,34626787.82553,25513488,{"$f":"12566614+67376","v":12633990},35271376.15231999,26187077,12727415,34761232.521389998,26940200,12818290,33549032.422599997,26824591,13012055,34900617.062578723,27764062,13119905,34817273.780000009,28182890,13224155,35772861.621506803,29512611,13326215]
[296,"Tisbury                      ",17.5,2394089,3644342,300736.40000000002,2565498.85,3203874,330733.40000000002,2664557.161478193,3032752,371402.4,2795073.49,2902213,367111.4,43144,2952272.706204785,2990763,402050,0,2875847.00508,2872767,378562,2032,29731,3137805.37,3040803,380594,3467659.8899999997,3144657,395514,3400472.2900000005,3151771,404664,3448541.2399999993,3079391,474255,3757350.99,3164190,593161,3769019.7499999991,3133723,635297,3760490.3019716195,3062266,698224,3990246.73,3288715,709444,3863980.926163726,3187784,719854]
[297,"Tolland                      ",17.5,0,0,0,0,0,0,0,0,0,0,0,0,0,0,0,0,0,0,0,0,0,0,0,0,0,0,0,0,0,0,0,0,0,0,0,0,0,0,0,0,0,0,0,0,0,0,0,0,0]
[298,"Topsfield                    ",17.5,4607578,3944399,663179,4657195.6704799999,3710245,946951,4725499.3510903148,3656031,1069468,4933644.223199999,3831911,989593,116300,5003494.1629533703,4127543,1083775,0,4814774.8945071595,4174269,1020461,5478,72911,4836646.4862000002,4219482,1025939,4821533.5831799991,4339766,1048739,4793485.8869399996,4387064,{"$f":"1062714+16844","v":1079558},4950981.2964300001,4373961,1093858,4876256.0624799998,4295264,1107808,5219302.4780799998,4362303,1140038,5307497.2466114936,4411689,1157318,5459714.7223999994,4504265,1174628,5789256.4546096604,4709771,1192358]
[299,"Townsend                     ",48.6,9892,2331,7561,10849.66,4644,8090,11355.27,5441,8370,11943.49,5490,8704,0,0,0,8530,0,0,0,0,0,0,0,0,0,0,0,0,0,0,0,0,0,0,0,0,0,0,0,0,0,0,0,0,0,0,0,0,0]
[300,"Truro                        ",17.5,1704648,2280388,221476.8,1722060.76,2234440,237453.8,1600608.8736194517,2062541,250249.8,1678407.63,1925541,236768.8,27826,1755899.2957244022,1970181,259303,0,1611078.6274799998,1832624,244155,1311,18512,1679937.99,1758607,245466,1835519.57,1798100,253586,1792085.3099999998,1792085,258486,1788414.01,1609573,277556,1879850.1199999996,1621100,282481,1912666.2499999995,1596786,315880,2003679.8419243183,1618203,{"$f":"394659-9182","v":385477},1934442.0499999998,1595915,391237,2296521.4702778542,1894630,402446]
[301,"Tyngsborough                 ",27.16,14979885,8412477,6567408,15541436.869999997,8616640,6924797,16038143.446318682,8917341,7143646,16743697.889999999,9241021,6713664,789013,16627737.4536268,9341709,7352623,0,16055926.01182,9486124,6923083,37166,441174,15581685.049999999,9652634,6960249,16365479.893119998,10162808,7034649,16473614.73,10531483,7080574,16424708.550000001,10954033,7125624,16310112.57,11087277,7169374,15994837.789999999,11008609,7262434,16426722.369211081,11396682,7312774,16125261.67,11397568,7361014,16876605.054087967,12035384,7409074]
[302,"Tyringham                    ",17.5,221575,466915,30873.599999999999,217685.02,326528,32323.599999999999,242227.8797746044,303598,36618.6,211474.7,266822,37968.6,0,221493.48244210528,260037,37209,0,250239.19739999998,250313,35721,0,0,241848.72,244240,35721,258128.17,247395,35721,251901.56999999998,248608,35721,249461.65000000002,224515,38498,249733.64,219336,38498,225957.46000000002,192376,38498,234931.13370609152,194462,40469,251821.94999999995,202533,49289,295787.37665969401,244025,51836]
[303,"Upton                        ",25.33,9988,4028,6880,11197.585239999999,4809,7349,46690.898399999998,20600,26091,24535.137620000001,10563,24535.137620000001,0,25382.203100478469,11203,24044,0,49251.668457600004,23544,25708,0,0,12582.467449999998,6272,12582.467449999998,26250.526239999996,13295,12956,39954.317999999999,20706,19248,40041.258719999991,21792,19248,27007.727760000002,15988,19248,52683.680000000008,34232,19248,53667.33337435819,35821,19248,110697.28,75315,35382,129346.17529818021,89703,39799]
[304,"Uxbridge                     ",36.409999999999997,15694459,7254008,8978422,16305919.27,7699224,9271984,16540051.93015206,8083909,9377789,17120711.660000004,8646597,8631945,1014457,17477190.309787564,9596633,9453474,0,17147339.203259997,9663507,8901203,47786,554635,16877042.539999999,9962236,8948989,17330083.23,10285734,9025989,17729556.77,10515859,9074414,18066543.430000003,10926419,9122764,18526071.940000001,11067180,9171114,18410939.780000005,10786060,9275834,18455125.454438496,11060991,9331904,18397204.830000002,11363380,9385304,19102321.172340635,11756863,9438614]
[305,"Wakefield                    ",17.5,24912170,24531402,4066920,26617789.348280001,24791745,4365403,28230853.006573763,24914208,4647689,29490621.523280002,25175571,4356193,511955,30299105.328824647,25233915,4770785,294405,29492136.843027599,25278570,4769282,25604,354054,30243376.094500005,25690110,4794886,31226177.075480007,26692542,4962309.7470522504,31777096.588499997,27531423,{"$f":"5111980.28603606+58954","v":5170934.2860360602},31933215.629270006,27532408,5317017.2860360602,32600249.418120001,27898292,5401367.2860360602,34230683.749200001,28386107,5844577,35673992.74237927,29443005,6230988,36359382.278080001,29996491,6362891,37851806.805738397,31170923,6720549]
[306,"Wales                        ",61.31,1057649,551254,600096.4,1097738.68,542623,623689.4,1214081.5491547664,568369,692029.4,1083615.01,511611,625113.4,73466,1237788.8446468899,562473,684608,0,1290629.74896,586443,690675,3708,9804,1324350.96,599347,725004,1325356.92,604836,730684,1277849.4100000001,602399,734009,1356194.98,645271,737534,1467392.6599999997,661118,806275,1585577.72,646690,938888,1580013.0996064784,594640,985373,1631406.07,654753,990083,1548538.4556649411,599075,994373]
[307,"Walpole                      ",17.5,26410304,22394550,4500224.4000000004,28924699.423300002,23409707,5514992,31050181.709740832,24570828,6479354,32983538.436549999,25479114,6715227,789197,33992625.661692321,26485132,7354336,153158,32863427.944973391,26734779,7068906,37949,496139,33583986.553500004,27739862,7106855,35385662.980499998,28681277,7325008.0005256878,36597932.707249992,29680601,7446255.7103260532,36833859.746200003,30016055,7542980.7103260532,37317617.441239998,30729479,7638830.7103260532,36843723.371769994,30659945,7848820.7103260532,36969856.911350518,30718767,7961140.7103260532,38230557.63222,31540211,8073101,39185793.937174484,32328280,8182871]
[308,"Waltham                      ",17.5,38879439,61572349,5965643.2000000002,42761499.772249997,59697543,6645004.2000000002,46074539.537751034,56268437,7224786.2000000002,48110738.181689993,52317305,6817755.2000000002,801247,49403220.555879377,50761236,7466622,0,47912898.078373261,48460847,7030422,37743,519232,50081563.292000003,48664297,7068165,54877131.504830003,50008834,7701998.2533363122,57878574.668200001,51531811,8308686.3317359835,58974377.85684,51151815,9012826.3317359835,62218743.565559998,52507147,9711597,62274785.537900016,51887299,10863166,65721454.701030053,54285104,{"$f":"12031585-595234","v":11436351},70511885.580779999,57308784,13203102,75037559.479823217,60191416,14846143]
[309,"Ware                         ",66.77,10543852,4213722,7097968,11341610.789999999,4490738,7590105,11984338.616012348,4670870,7988468,12279413.380000001,4853748,7307532,858807,12947330.615364594,4961196,8003012,0,13334594.007599998,5116642,8060271,43271,114410,13217323.799999999,5226096,8103542,13610889.48,5398699,8212190,14182968.479999997,5508648,8674320,14311776.950000001,5575059,8736718,14379106.989999996,5507809,8871298,14839037.079999998,5469680,9369357,14617553.305294422,5149596,9467957,14793547.390000001,5213248,9588570,15862338.797222899,5271105,10591234]
[310,"Wareham                      ",39.85,26787120,16030344,11226580.000000002,27620251.569999997,16502182,11620568.000000002,28330642.11136163,17161382,11916801.000000002,29713674.899999999,17701346,11178168.000000002,1313698,30323433.981795222,17409106,12242029,672299,29157976.018979996,17518457,12159874,65280,765499,28986212.199999999,17900064,12225154,30086115.449999996,18383155,12345207.138633749,29686081.27,18523807,12416757.138633749,29801464.629999995,18563068,12488232.138633749,30579432.949999999,18285648,12558607.138633749,29850414.400000002,17354464,12708042.138633749,30448305.403478537,17216125,13232180,30391882.289999999,17563012,13308860,30196685.358659841,18151699,13381730]
[311,"Warren                       ",71.03,538960,185240,353720,702595.73,196083,506513,158055.47,44646,137959,71660.94,20366,71660.94,0,24613.150009569381,7172,70228,0,0,0,0,0,0,0,0,0,0,0,0,0,0,0,0,0,0,0,0,0,0,0,0,0,0,0,0,0,0,0,0,0]
[312,"Warwick                      ",43.56,0,0,0,0,0,0,0,0,0,0,0,0,0,0,0,0,0,0,0,0,0,0,0,0,0,0,0,0,0,0,0,0,0,0,0,0,0,0,0,0,0,0,0,0,0,0,0,0,0]
[313,"Washington                   ",22.85,29389,10836,18553,32548.98,18105,20004,34065.81,20948,20700,11943.49,6978,11943.49,0,24613.150009569381,16085,11705,0,24071.631359999999,16378,11237,0,0,12250.07,9358,11237,25394.420000000002,19302,11237,0,0,0,13004.9,10244,2761,13199.960000000001,10149,3051,13170.920000000002,10882,3051,26833.666687179095,22444,4390,27674.32,22157,5517,28743.594510706713,20897,7847]
[314,"Watertown                    ",17.5,19464616,27494743,2500103.6,21408022.994499996,26660901,2840199.6,22755172.082941681,25584736,3182786.6,23442917.806000002,24228635,3119661.6,366634,24506187.214984823,24010035,3416570,0,24666914.422698718,23332261,3216974,17270,246976,25827066.428560004,23433118,3234244,26990163.684909999,23875646,3341524,28042729.455369998,24440387,3928625.9136724374,28744449.526519999,24409669,4334781,26987815.659180008,23909715,4399531,27574866.376769997,23092613,4540881,28658582.599711496,23755394,4903189,29636571.161200002,24450171,5186400,31550834.623976581,25692240,5858595]
[315,"Wayland                      ",17.5,20528254,22426179,2433825.2000000002,21706401.2687,22177863,2706784.2,22348945.189632639,21508290,3068068.2,23105602.879149996,21557416,3033452.2,356502,23487595.690153036,21787470,3322155,0,22901223.710748963,21497031,3128075,16793,244512,22873243.606079999,21683970,3144868,23638559.356320001,22212916,3250268,24223145.583800003,22634976,3316668,24309849.451349992,21783923,3644813,24601190.323630001,21539908,3710313,24640382.589680005,20643819,{"$f":"4042462+17341","v":4059803},25043290.042167287,20778238,4265052,26378777.201239996,21731959,4646818,27841232.66770371,22568639,5299764]
[316,"Webster                      ",55.35,15041385,7642041,7399344,16432266.58,8269809,8162458,17755144.59782863,8781928,8973217,18280915.910000004,9216413,8231908,967443,19369599.058311965,9323234,9015364,1031001,19122110.4267,9432847,9503351,51018,541696,19221499.239999998,9741513,9554369,19780303.73,9875242,9905062,20497532.719999999,10176657,10320876,20776506.130000003,10261282,10515224,21401884.859999996,10346397,11055488,22136766.249999996,10147763,11989003,22425991.213709842,10170354,12255637,23346664.300000001,10636864,12709800,24776507.500713076,11062493,13714015]
[317,"Wellesley                    ",17.5,31887905,31509960,3170547.2,35128683.6228,32249496,3765942.2,37728351.069279179,33113521,4616898.2,41021667.78360001,34503446,5832738,685484,43474466.332122765,35866435,6387858,1220173,42176324.226688981,36405114,7163571,38457,528228,42989228.138499998,37498680,7202028,45335499.620400004,38747883,7402108,46194904.987919994,39997992,7526408,47297420.926149994,40402136,7789132,48641677.772080004,41171516,7916157,49005990.891000003,40807164,8198827,49446876.963866338,41046916,8399961,51173115.289380006,42217820,8955295,52951270.696678318,43684798,9273504]
[318,"Wellfleet                    ",17.5,1043179,1587533,123912.4,1024829.69,1362731,134999.4,1014001.08,1199684,147734.39999999999,1017218.98,1111542,141139.4,16587,1114134.5932248805,1172923,154572,0,1206261.3075600001,1220593,145542,781,11899,1181905.93,1149462,146323,1149133.73,1123089,151483,1232950.69,1194924,154808,1240792.6900000002,1116713,176624,1150249.74,993135,179724,1067714.3400000001,892056,185664,1107735.4422992696,917147,190588,1136908.3900000001,937949,198959,1139476.1400684477,940068,202109]
[319,"Wendell                      ",52.58,0,0,0,0,0,0,0,0,0,0,0,0,0,0,0,0,0,0,0,0,0,0,0,0,0,0,0,0,0,0,0,0,0,0,0,0,0,0,0,0,0,0,0,0,0,0,0,0,0]
[320,"Wenham                       ",17.5,0,0,0,0,0,0,0,0,0,0,0,0,0,0,0,0,0,0,0,0,0,0,0,0,0,0,0,0,0,0,{"$f":"0+8422","v":8422},13282.92632,11679,8422,0,0,0,0,0,0,0,0,0,0,0,0,0,0,0]
[321,"Westborough                  ",19.41,24595216,23154460,2766040.8,26156767.179999996,24071950,3129365.8,27284907.908756465,24682401,3731061.8,28924388.270000003,24976329,3966523.8,466160,29970816.824099522,25527660,4344030,99127,29700461.313299999,25642790,4183588,22459,325510,29045979.329999998,26179724,4206047,30072174.120000001,26844072,4475455.4982209997,31092026.789999999,27788304,4736300.3124719998,31788292.559999999,27852628,5025628.3124719998,32643542.910000004,27945222,5113078.3124719998,33283538.019999992,27451731,5881737,36606246.041138574,28766772,{"$f":"7878155-38681","v":7839474},37382713.520000003,29912840,7951974,39131440.051199019,31441549,8064504]
[322,"West Boylston                ",22.94,7463040,5272275,2604355,7862835.5099999998,5529064,2737047,8303886.0469139311,5698232,2880036,8764535.4300000016,6056904,2705190,317924,8721965.5391540695,6143068,2962652,0,8556984.7309199981,6224632,2789574,14976,182302,8200894.7400000002,6360524,2804550,8653273.7799999993,6565606,2841510,8616496.2100000009,6706677,2864560,8413020.9400000013,6777592,2886885,8930152.6600000001,6857750,2909285,8692760.0099999998,6831386,2957025,8877321.1119815204,6760095,2982885,9051419.8800000027,6981458,3008415,9510996.4243331663,7267000,3034005]
[323,"West Bridgewater             ",33.520000000000003,7087351,6483027,1620335.6,7481921.1700000018,6519525,1739646.6,8080095.9730690857,6637938,1930659.6,8849560.0699999984,6740361,1992175.6,234128,9332740.0692976061,6973221,2181778,177741,9121055.2676399983,6925166,2221676,11927,152991,9407934.3300000001,6966042,2441892,9384522.75,7101110,2550273.4426500001,9746407.75,7107926,2817296.2266937499,9789063.1500000022,6918340,3006077.2266937499,9864782.7299999986,6849766,3031677.2266937499,10285489.059999999,6653790,3631699,10346624.462660685,6795040,3663259,10778968.260000002,7138403,3694909,11563083.632389149,7525433,4058306]
[324,"West Brookfield              ",47.29,254785,111031,143754,388832.98,151067,237766,328384.52,139713,239116,214016.92,95359,214016.92,0,245136.2421588517,105919,209737,0,251778.78455999997,114004,201348,0,0,231760.61,101090,201348,303706.14,139106,201348,321307.69,147913,201348,233036.45,115505,201348,355331.41999999993,184172,201348,354549.68000000005,186072,201348,507435.69877084321,254467,252969,675281.05999999994,347672,327609,657950.26899632823,345483,327609]
[325,"Westfield                    ",57.37,49973231,20368440,29644636,53649787.230000004,21748478,31901309,55203857.608358152,22572618,32840745,57201000.020000011,23301263,30462915,3580110,58064880.787414365,23683434,33362165,1019282,56542890.625020012,24024402,32372885,173792,1986845,56348311.590000004,24659576,32546677,58680126.160000004,25776861,32927874.488096002,59626032.379999988,26817278,33072499.488096002,59091820.839999996,27452394,33214624.488096002,59194723.68,27572737,33353974.488096002,59795241.399999999,26781337,33656694.488095999,60917916.743617475,26596469,34321448,61979381.029999994,27249072,34730309,65007737.903743565,27712077,37295661]
[326,"Westford                     ",24.78,35723685,24675698,11305202,38818431.875120007,25842739,12975693,40555313.116589576,26531707,14023606,42911329.967289984,27280805,13986752,1643773,44563082.297898509,27807520,15317915,1437647,42723467.157275043,28681127,15776704,84696,1021312,43881686.305879995,29241053,15861400,45585175.226279989,30308996,16064000,45685221.157399982,31603683,16189875,45600413.679659985,32229875,16313850,45124999.36552,33597365,16436625,45233495.410999998,33677123,16706565,46319271.278671294,35059135,16853055,47840867.455200009,36197500,16998615,50292113.17611514,37292159,17144235]
[327,"Westhampton                  ",27.84,1143015,871506,286065.2,1161647.67,830817,341741.2,1170704.509380162,836402,392663.2,1157514.8700000001,778624,376209.2,44213,1296948.5063349283,829588,412014,55347,1232065.9646999999,806088,440058,2362,28516,1193876.6000000001,823754,442420,1195530.31,868868,447620,1215188.8099999998,921372,450895,1314694.2799999998,956723,454345,1294416.6200000001,964619,457770,1360673,968330,465470,1297572.8942240474,918872,469400,1357190.3900000001,952974,473330,1392808.786186093,993885,477140]
[328,"Westminster                  ",44.58,0,0,0,0,0,0,0,0,0,0,0,0,0,0,0,0,0,0,0,0,0,0,0,0,0,0,0,0,0,0,0,0,0,0,0,0,0,0,0,0,0,0,0,0,0,0,0,0,0]
[329,"West Newbury                 ",17.5,0,0,0,0,0,0,0,0,0,0,0,0,0,0,0,0,0,0,0,0,0,0,0,0,0,0,0,0,0,0,{"$f":"0+33688","v":33688},13004.9,10405,13004.900000000001,13199.960000000001,11094,13004.900000000001,0,0,0,13416.833343589547,11105,2312,13837.16,11416,2421,0,0,0]
[330,"Weston                       ",17.5,16162814,20181705,1480949.6,17307605.129800003,19912849,1790525.6,18370485.452483337,19288255,2217818.6,19437327.17588,18964744,2334128.6,274315,20595641.906424958,19452416,2556275,0,20090660.412545517,19197587,2406938,12921,195391,20217500.017579999,19394331,2419859,21125018.31106,19897050,2512979,21575268.311200004,20375359,2571779,21506483.175400004,19355835,2988929,21219806.953260001,18857119,3045154,20900052.866529997,17600265,{"$f":"3299788+17341","v":3317129},21251738.294267315,17672626,3579112,21305867.837200001,17577341,3728527,22508837.582984712,18569791,3949220]
[331,"Westport                     ",17.5,12968630,9738097,4035010,13865149.07,10429878,4191901,14462425.445800073,11075177,4296424,15502132.710000001,11580866,4007408,470965,15990008.832857417,11793167,4388806,0,15747912.792959997,12196747,4132413,22184,279609,15633780.250000004,12313381,4154597,15649507.84,12625582,4221997,15457275.029999999,12949560,4262947,15286780.110000001,12928118,4303047,14995933.330000002,12876991,4341772,14911266.000000002,12467729,4425482,14885291.294271678,12354601,4470212,15341227.09,12656512,4514672,16245198.777909063,13146344,4559462]
[332,"West Springfield             ",58.6,31130339,18106441,13445170,33870575.43,18598514,15272061,35265587.219952904,18707901,16557686,36643826.119999997,18919840,15860056,1863930,38205385.345714822,19265177,17369506,1570702,37738816.076999992,19240559,18143323,97401,797859,38457480.989999995,19599705,18857776,39534882.329999998,20240555,19563826.466162249,40948666.769999996,20335136,20717957.063267998,41551686.519999996,20188627,21363060,42891023.810000002,20277457,22613567,44295065.429999992,20212569,24082496,46379224.347272687,20257037,26122187,48360495.230000004,20291474,28069021,51872243.869854257,20465981,31406263]
[333,"West Stockbridge             ",17.5,0,0,0,0,0,0,0,0,0,0,0,0,0,0,0,0,0,0,0,0,0,0,0,0,0,0,0,0,0,0,0,0,0,0,0,0,0,0,0,0,0,0,0,0,0,0,0,0,0]
[334,"West Tisbury                 ",17.5,0,0,0,0,0,0,0,0,0,0,0,0,0,0,0,0,0,0,0,0,0,0,0,0,0,0,0,0,0,0,0,0,0,0,0,0,0,0,0,0,0,0,0,0,0,0,0,0,0]
[335,"Westwood                     ",17.5,20567480,21740599,2250702.4,22498088.821120001,21936416,2588559.4,24472148.293146249,22175336,3096779.4,25508214.087440003,22412158,3174824.4,373117,26986270.471055556,22996257,3476983,513030,25931255.131285079,23233856,3756916,20169,287878,26758357.153839998,23390650,3777085,28328703.767000001,24138538,4382005.2898062505,28396775.81552,24768521,4528862.9092836883,29096356.715499997,24830260,4725912.9092836883,29539997.822689999,25123982,4803412.9092836883,29301469.672719996,24485112,4971877.9092836883,30014821.710917722,24903789,5111033,30492581.964960001,25156380,5336202,31407909.177556276,25911525,5496384]
[336,"Weymouth                     ",21.76,51107904,31463668,19644236,54069183.504560001,33009395,21059789,57436766.066748992,35313488,22123278,61362559.405040011,37036094,21768190,2558275,62237990.731232964,37337725,23839936,1060330,62823242.56985008,38124103,22447209,130052,2523813,64565174.840659991,39054922,25510253,67376255.928720012,40341671,27034585,68036042.431139991,41955039,27200610,68999976.990219995,43802418,27366185,69769188.724899977,45695271,27530085,69159899.607649997,47454854,27883625,69172635.260738254,49020130,28071515,69340075.166419998,51161839,28253945,71911345.754917458,54222905,28433225]
[337,"Whately                      ",18.239999999999998,905765,834822,131052.8,847599.61,747909,172887.8,801658.09440833644,665132,207744.8,828878.44,601232,220473.8,25911,831398.74939712929,581336,241457,8606,770958.84743999992,548156,235454,1264,15670,778131.94,571400,236718,871685.15,643358,240518,1002641.6199999999,761189,247640.0875275,973888.2100000002,773751,250115.0875275,877253.83999999985,745655,252340.0875275,852415.71000000008,714075,256850.0875275,869184.11954740097,720991,259340.0875275,981559.89999999991,785698,262160.0875275,968969.2611512969,792219,264770]
[338,"Whitman                      ",53.09,97965,35557,87102,172717.17,52188,126825,180766.01,61318,131107,119434.9,40958,119434.9,0,110759.17504306222,40065,117046,0,167528.0748,60734,112364,0,0,158260.19,58829,112364,189431.25,70715,118716,192367.49000000002,71155,121212,78029.39999999998,29915,78029.39999999998,118799.64000000001,47836,78029.39999999998,118538.28,48874,78029.39999999998,120751.50009230593,51831,78029.39999999998,124534.43999999997,54467,78029.39999999998,143717.97255353359,64098,80336]
[339,"Wilbraham                    ",36.58,0,0,0,0,0,0,0,0,0,0,0,0,0,0,0,0,0,0,0,0,0,0,0,0,0,0,0,0,0,0,0,0,0,0,0,0,0,0,0,0,0,0,0,0,0,0,0,0,0]
[340,"Williamsburg                 ",35.020000000000003,1353554,1305103,359184.4,1431625.05,1223519,401047.4,1303227.8492111149,1103460,410847.4,1358267.99,1050677,386941.4,45475,1529284.0745033494,1098680,423768,6836,1588795.8168000001,1185579,405448,2177,27379,1626834.23,1211055,415779,1690611.6400000001,1270564,434689.03882100002,1847447.82,1352484,509920.14508649998,1740594.9700000002,1393645,514620.14508649998,1731396.01,1404042,519245.14508649998,1665309.4700000002,1295778,528925.14508649998,1640814.868103652,1224301,534055.14508649998,1888347.0699999998,1281224,608437,1900770.6075914244,1235134,665637]
[341,"Williamstown                 ",17.5,2838804,2951735,900860.4,2993564.97,3003582,927943.4,2947485.2032250096,2967122,946993.4,2926746.36,2854443,863644.4,101499,3169486.7944727275,2914408,945841,0,2954221.7637,2820665,890585,4781,59525,2930427.46,2765115,895366,3160940.25,2913200,909926,3339446.0000000005,3057274,919376,3344865.7700000005,2917285,928776,3691422.7599999993,3123894,938701,3780882.2300000004,3127725,960921,3766818.1625702963,3122141,{"$f":"972741-972741","v":0},0,0,0,0,0,0]
[342,"Wilmington                   ",19.96,26946504,24426636,3493482.8,28589474.265000004,24012970,4787472.8,30225618.082184222,23520068,6758866.7999999998,32940341.795039997,22982850,8910320,1047172,33354631.307536971,23083400,9758342,512889,33071492.365163159,22741572,10131715,54392,180399,33089929.46198,23047600,10186107,33475095.871219996,23350005,10653175.75580658,33711449.013840005,24229668,{"$f":"10743100.7558066+58954","v":10802054.755806601},33711949.045720004,24256928,10891329.755806601,33895541.813259996,24840882,10978729.755806601,33396838.325240005,24739359,11167159.755806601,34239954.195590727,25512508,11270329.755806601,34794527.347199991,26550382,11371910,34910848.030844986,27323352,11469170]
[343,"Winchendon                   ",67.760000000000005,13575447,4042511,9746972,14428042.68,4236403,10353509,14745121.603420299,4352216,10575115,15156933.289999999,4512742,9718917,1142201,16219065.234373206,4477183,10643896,1097986,15672163.269959999,4664700,11055922,59353,669132,15461197.040000001,4686612,11115275,15336037.73,4744751,11177635,14932867.66,4859333,11215085,14667673.109999999,4914309,11251885,14868534.459999999,4931923,11288335,14883842.210000001,4860783,11366930,14578929.593496464,4751326,11408120,15435431.700000001,4871517,11450030,15998737.235770881,5085773,11491100]
[344,"Winchester                   ",17.5,25105213,24915091,3131320.8,27686227.761740003,25368782,3582998.8,30248338.701930307,26104922,4143417,32130973.606599998,26921385,4661726,547863,33869183.152500734,27942076,5105397,821710,34209062.642022774,28412977,5684874,30519,312514,35352719.397000007,29111601,6241118,37274561.601149991,30107863,7166699,38667213.748349994,31202716,7464498,39564443.627320006,32332932,7572048,40749515.511779994,33648454,7680548,41694755.431160003,34474073,7924363,43175541.000589445,35662566,8058883,46376139.481770001,37332874,9043265,48242100.959599502,38833443,9421254]
[345,"Windsor                      ",17.5,19593,9317,18987,43398.64,22696,30997,79486.89,46037,50091,59717.45,33889,50341,0,49226.300019138762,30072,49334,0,48143.262719999999,30554,47361,0,0,98000.56,57428,47361,88880.470000000016,53746,47361,90258.14,59063,47361,91034.3,66927,47361,39599.880000000005,33367,39599.880000000005,26341.840000000004,22244,26341.840000000004,26833.666687179095,22290,26341.840000000004,41511.479999999996,34247,26342,71858.986276766795,59284,26342]
[346,"Winthrop                     ",28.36,14203032,10524171,4649575,15189263.146560002,10737357,4843961,16040450.497654758,11241167,5042458,16653713.865099998,11482366,4639322,545229,17547573.530765843,12509487,5080860,0,16947233.724507775,12482874,4784037,25683,318165,17937168.698699996,12779319,5157850,18416072.0348,13141365,5274707,19449615.869399998,13466250,{"$f":"6026961.59606301+25266","v":6052227.5960630104},19874501.94588,13576177,6298325,19501001.633919992,13757564,6346975,19355380.740320001,13740113,6450815,20873787.706656512,14619405,6509855,22361612.680800002,15285867,7075746,23351887.112957381,16010984,7340903]
[347,"Woburn",17.5,34930602,37657788,4733852.8,37332334.363359995,38094517,5154155.8,40314036.275784098,38276911,5788495.7999999998,42494196.208999999,37749504,6002692.7999999998,705458,43397769.300633483,37761424,6573988,0,43013306.744314127,37654434,6189936,33230,468697,44725938.827559993,38469627,6256312,46091897.869999997,39862499,6819375.0867005,47182460.705740005,40697687,{"$f":"7323850.03757165+16844","v":7340694.03757165},48695159.223999999,40727571,8202269.03757165,49230530.561499998,41631275,8321994.03757165,49930543.991250016,41567504,8583684.03757165,50380963.059562519,41884963,8724234.03757165,51790238.039180018,42726946,9063292,53841305.779622279,44419077,9422229]
[348,"Worcester                    ",72.180000000000007,233243474,72184115,161059359,242782324.40000004,77309187,167480913,252522466.45670471,80540711,174025314,262175701.59,83762339,161512435,18981512,274595072.36176842,81810677,176884068,15900327,275818706.70521998,84305903,187838166,1008399,4578055,286908104.64000005,85772826,201135279,298950312.13000005,88586175,210364137,311832464.69999999,91934732,219897733,314854112.86000001,96374700,220569583,329468506.71999997,97927769,231540738,332590291.94999999,97188059,235402233,342886580.84977067,97679398,245207183,353662082.21999997,100450297,253211785,379530589.18986362,104076553,275454036]
[349,"Worthington                  ",17.5,156820,105031,69958,108496.6,89804,70458,113552.7,89058,72331,95547.92,69044,72731,0,73839.450028708146,58793,71276,0,60179.078399999999,50743,60179.078399999999,0,0,49000.28,61740,49000.28,101577.68000000001,101578,49000.28,103152.16,103152,49000.28,181016.85000000003,161882,{"$f":"49000.28+144899","v":193899.28},1164871.5999999999,939802,225070,1206120.8500000003,969030,237091,1160346.2789760442,967158,240361,1138991.4000000001,939668,243571,1201024.652987523,968704,246841]
[350,"Wrentham                     ",17.5,8108218,4773537,3446005,8536881.8352199998,4905786,3631096,8611109.7637538575,5032071,3688296,9026427.3732400015,5280507,3413547,401172,9476432.1319100633,5747185,3738425,0,9107308.40131188,5781211,3520026,18897,227952,8997163.6104499996,5880789,3538923,8996680.8980999999,5899004,3581123,8892422.6601499971,6253155,3606873,9069999.5540800001,6555043,3632823,8534196.4301100001,6762850,3656773,8711771.7903999984,6915585,3709903,8596118.8600556906,7106012,3737593,9153991.6259199996,7552043,3765913,9200581.1460926738,7590479,3793153]
[351,"Yarmouth                     ",17.5,0,0,0,0,0,0,0,0,0,11943.49,9336,2607,0,24613.150009569381,19848,2555,2210,12035.81568,10055,4574,0,0,12250.07,10608,4574,12697.210000000001,10850,4574,0,0,0,0,0,0,0,0,0,0,0,0,0,0,0,0,0,0,0,0,0]
[406,"Northampton Smith            ",17.5,1567616,1276116,738533.6,2025133,1468568,875376.6,2278216,1708914,947960.6,2111565,1581883,854264.6,100396,2146693.9467942584,1617583,935567,0,2230337.8020000001,1765084,880911,4729,53277,2070902,1658734,885640,2229442,1757745,890560,2020055,1627859,893210,1764814,1447978,895485,1980086,1655651,897910,2177668,1807196,903575,2248554.7171424888,1863952,906755,2391969.2199999997,1973375,909905,2535730.135235467,2072723,913025]
[600,"Acton Boxborough             ",17.59,20024105,16885593,3138512,22506705,17791669,4715036,23994743,18369316,5625427,25793437,18940607,6132157,720673,26931634.808038283,19569628,6715773,646234,26278547.039999999,19800807,6931919,37214,467099,26873147,20359612,6969133,27636880,20909979,7124121.5619999999,{"$f":"28337812+3710701+20514396","v":52562909},{"$f":"21701014+3337251+15117599","v":40155864},{"$f":"7198421.562+1320503+5594326","v":14113250.561999999},52422543,40290368,14254475.561999999,52599957,41315952,14393075.561999999,52547574,40653492,14696070.561999999,53421566.907991789,42045809,14859360.561999999,55170323.107940018,43056913,15022441,57507919.285240643,45085137,15185311]
[603,"Adams Cheshire               ",62.28,13106574,3602054,9630920,13377962,3796726,9810525,14106031,3891220,10299351,14355783,4039739,9363751,1100461,14762561.506602872,4503688,10254928,3946,14205800.124,4515273,9659551,51857,585716,14489416,4653780,9835636,14848664,4798921,10049743,14525980,4882095,10085868,14419594,4988650,10121468,14523439,5160616,10156418,15296780,5502583,10234243,15055572.515187521,5538278,10275553,15232490.400000002,5717786,10316023,15617632.338179186,5891351,10354753]
[605,"Amherst Pelham               ",26,15073351,7265229,9343785,15860056,8312731,9689857,16118464,8736670,9793582,16270720,8932603,8844227,1039405,16430082.97033493,10908954,9685959,0,15978763.512,10987020,9120106,48961,560042,15588078,11132046,9169067,15882762,11359856,9233467,15889254,11667688,9272992,15504219,11484398,9311217,15834018,11664726,9349517,15535447,11457106,9431797,15847416.836753655,11645169,9476496.999999553,16044645.359999998,11852511,9519487,16548734.048677344,12082979,9561457]
[610,"Ashburnham Westminster       ",48.37,16693060,7990286,8905601,17725876,8610748,9391438,18827304,8914333,9934552,19657064,9471071,9246935,1086732,20747434.319617227,10251619,10126994,368821,20412503.039999999,10455439,9882650,53054,619686,20584849,10676599,9935704,20759601,10923476,10026904,20785812,11067299,10083104,20944478,11060794,10138704,21651624,11097471,10554153,21190453,11043254,10675483,21596182.828853481,11367955,10741723,22810309.799999997,11550868,11259442,23747271.339990951,12136491,11669561]
[615,"Athol Royalston              ",69.430000000000007,17339154,518662,16820492,17708359,623845,17084514,18516080,678872,17837208,19014821,720901,16370053,1923867,18226670.661818184,2067242,17928042,0,17923395.240000002,2103961,16880687,90623,1004932,17935653,2172893,16971310,17818204,2286653,17043590,17517520,2367862,17086740,17539155,2500939,17129715,17879139,2687482,17172640,18244828,2897520,17267570,18603786.772762485,3090653,17319440,19486246.010000002,3220286,17371580,20420115.158179153,3408285,17423570]
[616,"Ayer Shirley",34.49,null,null,null,null,null,null,null,null,null,null,null,null,null,0,null,null,null,16872486,9799433.7010924481,7802151,41885,487764,16879384,9899773,7844036,17419519,10045000,7915436,17689265,10457924,7959611,18020997,10736761,8003886,17776166,10841421,8047361,17539418,10906245,8144051,17859764.734966867,11291639,8197181,18209773.010000002,11893424,8249321,19201202.775432397,12571064,8301431]
[618,"Berkshire Hills              ",17.5,8878410,10098842,2672816.7999999998,9250332,10102954,2737902.8,9395655,9910102,2793902.8,9799535,9631380,2563329.7999999998,301252,9958320.0275598094,9695771,2807290,0,9969549.1140000001,9487659,2643288,14190,177387,9915801,9513236,2657478,10178607,9534109,2700038,10635683,9671358,2726838,10662018,9324675,2753513,10878643,9349872,2780663,11414759,9456019,2839128,11592012.389038036,9603359,2871498,11863555.439999999,9773550,2903088,12066016.316021007,9920455,2933388]
[620,"Berlin Boylston              ",17.5,2881502,2980030,790482,3230183,3023460,851501,3463889,3187414,892400,3734852,3255818,840984,98835,3848242.2752153119,3256016,921023,0,3748889.16,3345125,867217,4656,59925,3766444,3420481,871873,{"$f":"3871973+250741+384591","v":4507305},3391112,{"$f":"888833+78723+56292","v":1023848},4631328,4040189,1036398,4817370,4122172,1049323,5052434,4334259,1062648,5023757,4202073,1091688,5247616.0529560801,4352079,1107888,5654505.5700000003,4534769,2111104,9927446.3516566418,8048259,2139724]
[622,"Blackstone Millville         ",51.98,15426759,5876193,10378194,15675653,6231925,10509983,16290966,6659559,10845267,17163606,6723921,10139052,1191577,17821603.166315794,7213787,11104016,0,17631668.597999997,7334869,10455320,56129,643892,17725268,7567852,10511449,18008630,7894508,10589769,17925439,8081231,10637619,17804636,8183978,10684594,17580139,8234791,10729594,17055908,8133559,10826779,17728142.592629228,8280761,10880269,18045228.880000003,8455406,10932919,18718435.629910786,8774546,10985239]
[625,"Bridgewater Raynham          ",37.43,40912576,21884965,19283254,41935929,23349196,19665067,44782550,24739437,20734543,47098996,25851193,19340030,2272909,48428019.06526316,27952831,21180680,0,47983788.083999999,28495798,19943306,107065,1272209,48390610,29073200,20050371,49427213,30075604,20269571,49488995,30660371,20403671,49690981,31221396,20536596,51489038,31846579,20671771,51178987,31816877,20968661,52866849.261870295,32583398,21132011,54041579.230000004,34169692,21293351,57734650.603288382,35678127,22061362]
[632,"Chesterfield Goshen",36.549999999999997,1195209,674787,646741,1312143,731037,711347,1277283,717531,719547,1377086,699752,691531,81271,1450752.9125358853,732969,757346,0,1401680.358,744562,713102,3828,44616,1350534,753143,716930,1413142,785219,723330,1413824,797176,727230,1269753,783121,730880,1290268,795911,734280,1239669,767824,741100,1195139.8127151553,763068,744760,1273267,786037,748510,1171005.0238210852,742974,751930]
[635,"Central Berkshire            ",38,16411075,9277515,7747832.0000000009,17068928,9492361,8092876.0000000009,17956787,9547848,8550035,18638347,9708028,7991169,939150,18841797.769186605,10035980,8751713,54105,17732901.377999999,10045858,8291382,44512,520024,17880776,10085382,8335894,17613394,10334614,8410334,17159555,10602338,8454734,16974405,10521566,8498034,16927679,10815311,8540559,16389265,10548832,8629219,16770478.528573444,10582972,8677909,17387170.660173871,10650195,8726209.0000004824,17917236.795122694,10887646,8773249]
[640,"Concord Carlisle             ",17.5,9779664,11276561,1482929.2,11043068,11833214,1704025.2,11535486,12039761,1798430.2,12261008,11881005,1722913.2,202483,12736972.591770336,12027622,1886888,0,12226662.599999998,11610510,1776656,9538,132844,12055418,11452179,1786194,12584072,11667076,1836274,12876490,11748056,1867899,13172186,11470046,2020931,13659882,11719574,2053456,14101517,11779839,2321678,14235386.188628448,11805585,2429801,14677154.57313,12108652,2568503,15326809.636647012,12636179,2700821]
[645,"Dennis Yarmouth              ",17.5,31552699,26916269,6323844,31921636,27640649,6521044,32866009,28181902,6712794,33929083,28230096,6176777,725917,34720683.78947369,29362682,6764640,0,33550155.035999998,29272877,6369450,34194,452946,33188220,29829472,6403644,34159114,30421379,6543564,34997479,31287824,6631289,34668834,30189585,6718014,35460503,30284637,6803239,36706251,30483143,6993814,36833288.857110716,30597193,7095664,38305323.740000002,31508282,7197874,40299027.11670664,32486327,7812700]
[650,"Dighton Rehoboth             ",36.46,23502323,12171196,11331127,25227557,13220377,12078498,26488176,14032590,12595982,27834400,14867498,11760784,1382169,28579093.545645937,15934995,12880094,0,27227094.57,16519761,12127640,65106,766523,27435686,16943069,12192746,28588235,17614915,12315946,28145868,17936311,12390171,28150365,18051150,12463021,28723483,18028977,12536246,29000399,17773340,12696956,28781591.615531329,18150262,12783266,30099135.230000004,18922107,12870026,31540121.095252328,19831231,12956936]
[655,"Dover Sherborn               ",17.5,7739997,8275872,1191754.3999999999,8206331,8468634,1273362.3999999999,8844812,8708826,1385096.4,9304310,8639071,1311389.3999999999,154119,9990853.0587559827,9006852,1436198,0,10131211.535999998,9255639,1352295,7260,106168,10389452,9537204,1359555,11120543,10202046,1408555,11227795,10290387,1438730,11333898,10098983,1629376,11580014,10114738,1659576,11702650,9794356,1908294,11848628.162153138,9800905,2047723,12427515.957589999,10244725,2182791,13018705.445376281,10740432,2282394]
[658,"Dudley Charlton              ",53.42,30449329,9274397,21174932,32233347,10252229,22188433,33797564,11029311,23069087,36110116,11697527,21845257,2567332,36777726.03406699,11966621,23924337,886768,35729459.82,12287043,23361642,125416,1429447,35694097,12669036,23487058,36205278,13079319,23647098,36078034,13510547,23744648,36713400,14006333,23842023,37460711,14629068,23938773,37500027,15535167,24151183,37720695.5316194,16113609,24265243,38840211.679999992,16771540,24378193,39553020.497260436,17196696,24488263]
[660,"Nauset                       ",17.5,13094670,13143058,3212073.2,13492342,13864524,3298923.2,13240289,13643131,3379473.2,12973291,12791886,3090604.2,363219,12824763.657799043,12606630,3384747,0,12466861.355999999,12161887,3187010,17109,216203,11987364,11783104,3204119,12271544,11841626,3256279,12583436,12006085,3289004,12650853,11365672,3321529,12867301,11188533,3353354,12935106,10790864,3421279,12490516.601979394,10380459,3456769.0000003548,12759247.84,10525994,3491269.0000003548,13781730.292193582,11296893,3526849]
[662,"Farmington River",17.5,2207961,2145103,375505.6,2244629,2179857,389405.6,2032717,2125018,401955.6,2101262,2056801,370690.6,43565,2272476.6989473687,2094866,405970,0,2284470.102,2094019,382253,2052,28215,2507654,2157223,384305,2477293,2210649,394745,2381535,2239793,400995,2333265,2082363,407070,2496034,2114411,413420,2464478,2057324,427060,2368941.0110670594,1978521,434200,2470961.3200000003,1982431,488530,2310316.8825038802,1903782,494950]
[665,"Freetown Lakeville           ",32.31,13524454,7948805,6460005.0000000009,14519330,8906388,6832785.0000000009,15553549,9668371,7200036.0000000009,16583275,10105484,6769499.0000000009,795575,17047222.562296651,10617731,7413773,0,25704555.482000001,16324122.86063578,10304430,55318,621851,25567244,16827381,10359748,26403268,17241340,10478788,26716909,17493884,10552138,26295108,17518350,10623488,25836232,17647952,10692488,27153763,17863322,10849513,26949047.128918782,17944798,10933153,28557208.850000001,18586174,11018173,29471189.782152213,19374781,11102173]
[670,"Frontier                     ",18.97,5418605,3086349,2650507,5733999,3534975,2746608,5983480,3789925,2814392,6338406,3919060,2608966,306615,6166668.8979904307,4548404,2857269,0,5993205.5159999998,4594579,2690347,14443,168829,5922687,4614585,2704790,5890106,4643352,2729670,5648702,4748410,2744045,5716411,4750289,2758445,5662972,4785017,2772595,5886720,4852262,2804715,5732224.0889145313,4635171,2821244.9999998347,6131417.1100000003,4934660,2838225,6490224.3564851899,5195546,2855535]
[672,"Gateway                      ",45.77,10512746,5273227,5377752,11307523,5576855,5817025,11430685,5636748,5921631,11453179,5658310,5356783,629548,11448115.732822968,5871665,5866604,0,11136859.595999999,5975739,5523878,29655,343896,10684938,5977311,5553533,10913250,6024049,5598773,10501988,6111205,5625873,10475106,6121175,{"$f":"5652523-144899","v":5507624},9565466,5566378,5531374,9151021,5435268,5580489,9186465.9257388338,5185242,5606889,9373307.580093734,5155696,5632899.0000002598,9819284.5359783657,5242416,5658699]
[673,"Groton Dunstable             ",17.61,19963557,10573496,9690045,22069166,11478206,10590960,22567813,12305992,10757109,23533501,13095797,9914811,1165224,23587738.32880383,16063245,10858434,0,22939192.446000002,16429914,10224085,54888,648086,23308786,17069512,10278973,23452027,17673118,10384573,23574679,18322278,10449473,23421974,18828192,10513273,23366261,19288600,10575673,21908747,18375113,10706573,22374529.724943254,18540836,10778123,23046297.120000005,18825814,10849343,23962885.117804695,19528829,10920053]
[674,"Gill Montague                ",51.61,9776132,4890426,5898325.9999999991,10362291,5144962,6225636.9999999991,10629600,5170843,6375222.9999999991,10694903,5178227,5756498.9999999991,676524,10705697.249377992,5206242,6304363,0,10709037.408,5230945,5936062,31867,364384,10890170,5322669,5967929,10709407,5432442,6010369,11221184,5642595,6037994,11383341,5825645,6065444,11391876,6028359,6092669,11388880,6051487,6152674,11605184.313327502,6037197,6185014,12227502.840000002,6132607,6217984,12729673.495022506,6160944,6568729]
[675,"Hamilton Wenham              ",17.5,14468765,11376222,3164291,15069063,11961487,3269343,15863562,12603727,3408380,16231350,12979612,3137455,368725,16539445.386411486,13759009,3436056,0,16099995.413999999,13883368,3235322,17369,231115,15671050,13956082,3252691,16304849,14293365,3325691,16257548,14512213,3370416,15726746,13965278,3413341,16707535,14120458,3457966,16651753,13827676,3554656,16696408.934955347,13868580,3606706,17608636.820320003,14365369,3659746,17895419.978166122,14618380,3711406]
[680,"Hampden Wilbraham            ",32.85,27186575,17817946,9591950,28628962,18371310,10257652,29666356,18507813,11187984,30302280,18629304,10514180,1235664,30835123.285741627,19103251,11514847,217025,29974196.813999999,18956605,11046497,59302,714898,30318463,19431538,11105799,30471568,19904990,11241439,30267610,20416003,11323964,30372595,20400941,11405264,29954423,20917022,11483814,29402188,20490243,11651894,29683317.843047649,20807570,11742374,30100033.420000002,20633481,11831384,31472652.18943473,21135655,11920364]
[683,"Hampshire                    ",31.3,6298064,3937642,2426572,6805484,4138583,2676375,6739463,4154095,2812809,7281652,4261680,2743722,322452,7552394.2032535886,4295649,3004851,251894,7104748.4820000008,4238418,3066486,16462,194072,7166323,4430064,3082948,7159285,4518959,3114108,7221048,4622819,3133233,7159547,4689344,3151983,7223607,4822063,3170333,7226816,4870971,3210153,7135055.1371439751,4768992,3231273.0000002114,7177310.4399999985,4802721,3251703.0000002114,7292664.1560150869,4957708,3271593]
[685,"Hawlemont                    ",49.97,1068768,490624,613734.80000000005,1007233,489631,620084.80000000005,935837,424000,625634.80000000005,977501,437137,582347.80000000005,68440,1015177.688803828,455789,637772,0,943708.38599999994,475782,600513,3224,36635,852740,451986,603737,880128,468192,607377,950613,539883,609827,933646,531341,612202,950854,532283,614527,966196,536672,619422,948610.29681259417,528435,621882,1319629.0000000005,686073,633556,1194591.6655308905,597682,636346]
[690,"King Philip                  ",20.73,14979166,8734642,6244524,16295851,9507703,6788148,17396805,10500808,7139022,18770909,11301852,6776559,796405,19266152.972248808,12421086,7421505,0,18766472.316,12655997,6987941,37514,450050,19491490,13489687,7025455,20106153,14008919,7113575,20756038,15085093,7169225,20668060,15441355,7224100,20796265,16339640,7278450,21464344,16747910,7399780,21686949.863603115,17288364,7465059.9999993471,22108494.793599997,17573207,7529320,22968588.71954523,18207740,7592980]
[695,"Lincoln Sudbury              ",17.5,11315184,11075410,1787678.4,13657169,11726968,2197526,14669142,12512472,2374621,15512737,13029848,2256999,265251,16180111.874449763,13524542,2471805,183765,15640388.226,13606478,2500432,13423,182915,15881721,14058638,2513855,16550937,14522938,2609494.7437499999,16660368,14759478,2686012.1578124999,17538177,15255513,2820121.1578124999,17586404,15195939,2862021.1578124999,17527242,14585219,2953706.1578124999,17315388.091420949,14392659,3002696.1578124999,17438816.760160003,14387024,3051793,17865441.864525706,14738989,3127363]
[698,"Manchester Essex",17.5,8366673,9103515,1375984,9141258,9202986,1511536,9630975,9237772,1597236,10323403,9323664,1537696,180715,10893473.5984689,9499354,1684043,0,11219611.109999999,9669672,1585661,8513,123169,12153403,10046472,2106931,13132240,10490205,2642035,13658346,10881653,2776693,13572189,11221647,2813718,13636380,11449215,2850168,13222782,11043112,2926838,13044522.634690613,10860009,2967368,13504654.921019997,11094289,3007748,14371784.479899097,11738511,3048668]
[700,"Marthas Vineyard             ",17.5,7093516,6601054,2673935,7932850,7970360,2820735,8068434,8233407,2861785,7978454,7784419,2596397,305138,8027782.3081339709,7579454,2843504,0,7689159.2280000001,7354264,2677387,14373,170469,7459791,6982300,2691760,7821993,7071878,2720400,8027352,7261038,2738625,8168795,7068505,2756975,8315537,6895864,2775225,8366347,6863098,2814000,8775465.4854839947,7160292,2835120,8807318.8500000015,7199058,2855370,9542318.3659465611,7809437,2875680]
[705,"Masconomet                   ",17.5,15318665,11142823,4419317,17202789,12854203,4773155,18048378,13991386,4933394,18669125,14530501,4520949,531318,19727906.272153113,16061599,4951222,0,18612164.453999996,16036618,4661972,25027,317398,18928100,16514464,4686999,19357735,16963367,4770799,19715478,17420377,4823099,19907859,17251458,4875399,19398726,16836310,4925724,19430987,16230896,5034459,18987857.036568414,15814213,5090919,19183372.217599999,15826282,5146299,19848020.362871911,16294823,5201349]
[710,"Mendon Upton                 ",24.98,17625772,7917147,9708625,19301063,8448890,10852173,20644958,8956960,11687998,21996366,9449432,11227445,1319489,22672457.180478469,10147020,12295995,229442,22132247.579999998,10574513,11793702,63314,734621,22155000,11066163,11857016,22015006,11315699,11954456,22375411,11860177,12014831,21900366,12299101,12074206,21475634,12907063,12131581,20452434,13459709,12253186,20207384.356621977,13867755,12317476,21244024.41,14784122,12382726,22449446.899046388,15888903,12448756]
[712,"Monomoy",17.5,0,0,0,0,0,0,0,0,0,0,0,0,0,0,0,0,0,0,0,0,0,0,17110771.399999999,16296303,2384540,17569657,16140983,2460460,17319106,16031006,2506360,17618966,15518373,2708296,18464076,15720020,2755146,19086298,15841935,3244363,19283171.949603103,15996456,3300373,20057741.48,16512901,3544840,20829711.826521438,17031398,3798314]
[715,"Mount Greylock               ",25.66,4676875,4597031,1666950,4791177,4533455,1699377,4697972,4234702,1727227,4870291,4171647,1590024,186865,5038820.6667942591,4176618,1741351,0,4954695.6780000003,4130699,1639621,8802,106828,4795752,4018167,1648423,4847655,3957893,1668783,4713594,3902934,1680908,5049227,3998439,1693808,4887694,3824463,1705983,4960436,3813364,1733153,5175933.9315482499,3845508,{"$f":"1748153+972741+768543","v":3489437},10983817.570000002,8251697,3521567,11569192.327752113,8401578,3554057]
[717,"Mohawk Trail                 ",39.5,10399815,5552327,5972084,10269301,5648614,6034784,10605776,5769493,6204233,10359333,5721445,5603580,658553,10590789.40784689,5820331,6136890,0,10304179.638,5807577,5778373,31021,355446,10123559,5977059,5809394,9875049,6107017,5850194,9444879,6294792,5874244,9300413,6365060,5897844,9310511,6523226,5921294,9915353,6433157,5973434,9838051.3509327304,6364738,6001454,10008929.639999999,6399727,6028994,10650334.810213417,6438287,6056894]
[720,"Narragansett                 ",59.08,11727704,2977580,8750124,12694975,3200990,9493985,13440494,3363034,10077460,13890162,3558412,9267025,1089094,14047951.990813399,4510425,10148997,0,13273695.708000001,4548674,9556093,51301,579303,13213993,4564055,9607394,13537728,4721311,9664194,13335812,4863858,9698544,12841231,4967494,9731269,13170587,5169393,9764044,13256830,5303181,9834774,13504485.349651586,5366791,9873894,13898169.749999998,5553556,9912744,14647552.849426208,5831335,9951444]
[725,"Nashoba                      ",21.35,21474489,17977668,5332822.8,23697784,19133543,5871971.7999999998,25411849,20274365,6289003.7999999998,26805348,21157439,5911057.7999999998,694688,28088852.89033493,22132725,6473631,0,27791843.604000002,22306466,6095442,32723,426391,28345672,22733730,6128165,29407907,23699381,6330455.0653249994,29650929,24483221,6411680.0653249994,29833754,24514579,6492305.0653249994,30925691,25002991,6574230.0653249994,31260414,24600261,6756060.0653249994,31083245.77955449,24524720,6852150.0653249994,31883434.353059992,24892165,6991269,32964566.540986888,25692699,7273744]
[728,"New Salem Wendell            ",47.59,1009815,579782,602215.19999999995,1068078,538560,635233.19999999995,1119947,538342,663419.19999999995,1108280,538661,599333.19999999995,70436,1124015.5376076559,570244,656374,0,1039961.19,627734,618029,3318,37952,1102692,649363,621347,1136073,642537,626107,1171083,681574,629007,1217420,707520,631982,1255062,711713,635007,1416772,739591,677181,1424931.186973576,745274,{"$f":"694961-13670","v":681291},1262167.6700000002,672920,684861,1230159.2284731646,644109,688101]
[730,"Northboro Southboro          ",17.5,9277131,7604912,1700728,11057753,8704773,2352980,12033372,9631771,2591421,12946742,10026161,2613440,307141,13338720.275598086,10464106,2862169,12445,13069614.491999999,10623654,2706679,14531,189279,13569441,11147301,2721210,14179585,11573173,2838863.6458749999,14882231,12443854,2876913.6458749999,14903362,12767292,2914613.6458749999,15041278,12932868,2951913.6458749999,15182003,12730046,3034083.6458749999,15250791.830538824,12690623,3078273.6458749999,16210848.68,13373950,3123514,16651310.611277679,13737332,3168064]
[735,"North Middlesex              ",43.61,32397974,13915496,19063721,33499786,15279377,19658038,34412577,15653174,20148846,36029257,16080023,18814143,2211105,36456713.541818187,16064311,20604743,0,34774968.005999997,16111990,19401015,104153,1203025,34052825,16450543,19505168,34577589,16881292,19659168,33991777,17328829,19751668,32881223,17183613,19840443,32371795,17231131,19925993,31685058,17154907,20107493,31435627.826777488,17200693,20203733.000000961,32197040.990000002,17771448,20298593.000000961,33435820.144966502,18529976,20393183]
[740,"Old Rochester                ",24.39,8705281,7603741,1530510,9257160,7909870,1701522,9923961,8215414,1954417,10120297,8156604,1890481,222176,10028263.973971292,8036971,2070404,0,9726308.7780000009,7998372,1949451,10466,138637,10036210,8109683,1959917,10099046,8089994,2124850.6151999999,10378205,8357878,2238124.4918999998,10659228,8277118,2382613.4918999998,11419777,8704098,2715679,11377043,8557549,2819494,11640017.384192124,8739091,2900926,11899255.350000001,8889101,3010154,11988191.8913587,8962996,3043394]
[745,"Pentucket                    ",27.18,22757511,10704624,12362390,24589511,11578381,13099037,24625431,12223789,13258787,25233854,12938684,12077530,1419394,26043317.600765556,14358256,13226986,0,25398255.107999999,14404858,12454267,66860,782234,24895122,14749468,12521127,25088106,15200680,12635127,24540719,15640639,12703677,24290785,16086295,12770527,23602673,16203424,12834852,22548383,15627476,12968282,22740652.535892259,15945385,13040102.000000719,23352744.289999999,16491919,13111292.000000719,24330802.105539996,17437199,13182092]
[750,"Pioneer                      ",36.08,7285294,3967896,3857345,7629462,4135816,4031666,7722039,4259679,4078816,8137059,4327512,3981402,300027,8250102.2009569379,4422230,4195800,0,8263519.067999999,4563544,3950682,21209,247084,8098758,4668314,3971891,8564268,4778263,4007811,7994487,4761551,4028736,7816227,4803095,4048786,7481050,4776255,4067561,7219392,4777146,4107161,7406666.4166055983,4744769,4128880.999999783,7354252.5499999998,4872782,4149941,7528912.3458293099,4812665,4170581]
[753,"Quabbin                      ",51.36,21479251,5822139,15657112,22828423,6355417,16510059,23457369,6739031,16898056,24154885,7104683,15503658,1822045,24370491.302583735,9043482,16979189,0,23447229.215999998,9241790.7475171536,15987266,85827,973446,22899542,9371400,16073093,22525878,9626834,16170613,22333577,9850748,16229913,21722178,9941651,16286563,22051647,10090036,16342038,22002910,10064723,16463038,21204474.702048939,9931036,16525257.999999378,21914160.40978086,10117115,16587418,21665640.411876366,10317745,16646098]
[755,"Ralph C Mahar                ",64.73,6412185,2094096,4365173,6917262,2152974,4764288,7718288,2334381,5383907,8079301,2414941,5068672,595688,8102223.5314832535,2701871,5551073,0,7695444.8340000007,2655320,5226780,28060,316133,7780312,2783833,5254840,8048219,2944041,5286040,7625909,2829128,5304190,7705540,2887638,5322215,7640717,2842068,5339690,7427448,2738987,5375880,7313027.7024783818,2601573,5394990,7595605.8999999985,2666288,5413830,7772179.2052953094,2691122,5432010]
[760,"Silver Lake                  ",34.799999999999997,13321046,7724834,5693535.0000000009,14290967,8518476,6060844,15151746,9152272,6377611,16633749,9695605,6223582,731417,17042793.321339712,10087324,6815899,139570,17072736.708000001,10313024,6630012,35593,335739,17435883,10508810,6927073,18150262,11017327,7202389.2436499996,19039526,11580385,7571134.5369499996,18899966,11622559,7617506.5369499996,19669150,12263148,7663956.5369499996,20069649,12089575,7980074,20138841.102995191,12153382,8035064,20786645.581067868,12641731,8163253,20683221.322407395,12966860,8215063]
[763,"Somerset Berkley",46.11,null,null,null,null,null,null,null,null,null,null,null,null,null,0,null,null,null,8934024,6024631.0156340012,3020271,16235,120381,9240084,6119915,3120169,9949356,6253551,3771017.8262999998,10006703,6377384,3795642.8262999998,10050573,6394899,3820117.8262999998,9594365,6056531,3843167.8262999998,10019595,5882456,4137139,10632804.845514916,5777303,4855502,11100397.199999999,5893170,5210007,11820562.719098523,6097432,5723131]
[765,"Southern Berkshire           ",17.510000000000002,6853294,6969793,1733974,7077639,7054068,1779274,7434729,7019446,1862619,7749803,6862924,1735164,203923,7701585.2769377995,6957008,1900305,0,7684458.96,6952302,1789290,9606,123334,7591122,6997774,1798896,7425917,6948964,1830896,7307651,7007679,1850096,7132076,6413209,1869396,7553559,6368170,1888246,7411694,6160497,1927571,7039960.838086525,5901594,1947431.0000001986,7011413.5700000003,5742395,1966751.0000001986,7823768.9358960092,6244537,1986791]
[766,"Southwick Tolland Granville",31.74,12815911,5574268,7241643,13803858,5990969,7812889,14257212,6442013,8037753,14939371,6703364,7499327,881347,15526560.214354068,6881234,8213061,432265,14765244.486,7056511,8140267,43700,503859,16668383,8578921,9431433,16707052,8956864,9503073,16783207,9329641,9546823,16539210,9831214,9588623,16275297,10235762,9628898,16154792,10380318,9715578,15643746.01680854,10452364,9760098.0000004452,15797808.300000001,10650508,9803658.0000004452,16378978.109002503,10967956,9846558]
[767,"Spencer East Brookfield      ",50.79,16645826,4067456,12578370,17597929,4757111,13106216,18350163,5038864,13522201,19528044,5259510,12767994,1500540,19758448.511387561,5909466,13983163,0,18373741.745999999,6026675,13166267,70682,795214,18885409,6269918,13236949,19620951,6527063,13315389,19752991,6679987,13363889,19886690,6981057,13412164,19202300,7237563,13457639,18292027,7540396,13553834,17851020.249539986,7818739,13601594,17809206.539999999,8048938,13648634,18497944.461317483,8498469,13695254]
[770,"Tantasqua                    ",46.34,13580390,7605305,6707029,15046973,8686343,7420522,15970260,9193635,7855113,16430281,9386267,7217816,848263,16633736.353684211,9400405,7904757,0,15980906.310000001,9314281,7442962,39957,462563,16224252,9446479,7482919,16427458,9458186,7547159,17338059,10016205,7602665.309475,17582598,10044332,7701145.309475,18183142,10066601,8116541,18521079,9975508,8545571,18792623.115065213,10112568,8680055,18681754.369813181,10189936,8727575,19884199.797400139,10661347,9222853]
[773,"Triton                       ",17.489999999999998,24298847,17072630,7792907.9999999981,25952449,18085444,8297753,26566548,19085868,8463498,27588090,19936190,7824273,919536,27881099.599617224,20765902,8568933,0,27238757.220000003,21107766,8068337,43314,535182,26824765,21271799,8111651,26774026,21942837,8226571,26448890,22380186,8295596,25789437,21866153,8362546,25722812,21834988,8428221,24821868,20787254,8564841,24376762.312073089,20355041,8636541,25305209.704000004,20876797,8708421,25527954.966463432,21060563,8777631]
[774,"Upisland",17.5,2818004,3631100,787574.4,2663328,3211483,806324.4,2717737,2976843,824474.4,2781909,2936509,753921.4,88603,2963440.2602870818,3058634,825674,0,2883583.122,2954241,777438,4174,53162,2947159,2938229,781612,2938330,2789900,795572,2924404,2799531,804072,3060576,2703741,812797,3393222,2857444,821922,3590852,2932767,842602,3842627.4814848243,3031561,854362,4032194.76,3211065,866452,4538258.3027917985,3744064,879292]
[775,"Wachusett                    ",39.1,48282346,33777538,14580116,51403850,35230245,16173605,54801725,35455524,19346201,58236852,36308065,19622662,2306125,59911476.039043061,37367519,21490211,1053746,59254110.450000003,37595289,21243244,114043,1365920,60601665,38212334,22389331,63034725,39189250,24301041.254999999,63737669,39961275,24731803.504425,63713837,39643665,24988919.504425,65656785,40218460,25438325,65958496,39859181,26385616,67325906.778581902,40480754,26845153,68658655.170000017,40985980,27699197,71271709.733221024,42635066,28647835]
[778,"Quaboag",61.83,11141894,3567006,7574888,11791190,3881276,7991217,12254851,4136812,8281608,12617536,4373441,8157632,347753,12703713.843444977,4409832,8335277,0,12453350.286,4490234,7848331,42133,479238,13025123,4631357,8393766,12911828,4742222,8447086,13046235,4894859,8479786,13203478,5067470,8512186,13357209,5095756,8544111,13599319,5113624,8615171,14168290.710392267,5082901,9085390,13641132.549999999,5096479,9122230,14192752.457797423,5363869,9158560]
[780,"Whitman Hanson               ",48.15,30538240,9106058,21432182,32259424,9879380,22380044,33351647,10636667,22947017,35222900,11243141,21457945,2521814,36937606.644976079,12830981,23500164,606462,36853531.943999998,13057622,23339328,125296,749752,36625906,13430108,23464624,37691613,14011112,23680501,38579785,14560975,24018810,38173063,15278470,24120485,38322360,16147370,24219585,38333512,16774824,24436230,38233603.852514476,17627386,24552030,38780823.010000005,18467197,24665460,39870087.686414868,19523939,24776700]
[801,"Assabet Valley               ",37.299999999999997,8391985,7333682,2477600.4,9303432,7595626,2733990.4,9764859,7625516,2878463.4,9921868,7323853,2679432.4,314896,10283013.364976078,7403603,2934442,0,9970968.1919999998,7231682,2763012,14833,173097,10706516,7640401,3066115,11638299,8079707,3688749.9498749999,11645533,8015009,3773901.0669062501,11767240,7930239,3884226.0669062501,12473207,8071058,4402149,12802558,8119414,4744172,13483457.122205222,8363523,5119934,14604237.100950003,8891580,5712657,15341279.497413153,9400672,5955175]
[805,"Blackstone Valley            ",38.94,9538740,4657490,4881250,11634064,5661661,5972403,13058784,6650789,6607116,14423992,7306124,6462753,759526,15755118.710813399,8124101,7077833,553185,16047786.84,8574515,7329879,39350,290739,16495490,8881138,7614352,17182760,9269607,7913153,17574009,9547590,8026419,17695720,9764199,8056069,18218330,10300542,8086169,18149119,10436837,8153324,18527694.600344807,10824531,8190134.0000003679,19306561.990193069,11314851,8227334.0000007395,20173355.695973717,11937858,8264744]
[806,"Blue Hills                   ",32.6,8736268,7619162,3073959.2,10491975,8307024,3600320.2,11368895,8741919,3875673.2,12148540,8967009,3684433.2,433008,12332269.926889954,8910498,4035092,0,12217671.845999999,9020653,3799362,20397,236383,12473226,9088881,3819759,12759498,9108222,3898019.6005500001,13021004,9407988,3973984.1981125004,13656513,9688001,4130304.1981125004,14060446,9823319,4237127,14501647,9816982,4689160,14512296.336987162,9777318,4734978,14654739.316559998,9802331,4852408,15320678.136437576,10064969,5255709]
[810,"Bristol Plymouth             ",52.28,11388476,4427094,6961382,13514890,5510850,8086042,14637445,6248486,8665617,15904781,6720290,8345601,980805,17087281.950622011,7152445,9139878,794959,17171584.145999998,7555546.2191998027,9422839,50586,492612,17835184,7974320,9860864,18840987,8467645,10373342,19809952,9275499,10562802.050000001,19738678,9454533,10595527.050000001,20776046,10001847,10774199,20622505,9983312,10847624,21211911.426807255,10210686,11001225,21504737.259999998,10229317,11289055,22657735.468634516,10614555,12043180]
[815,"Cape Cod                     ",17.489999999999998,8147786,7106299,1812921.2,8939780,8238693,1951441.2,8959018,8344063,1986191.2,10056493,8988695,1949175.2,229074,10128081.632153112,9004924,2134684,0,9662450.2679999992,8722672,2009976,10791,131042,9969203,9140927,2020767,10009944,9018171,2047487,9858315,8884266,2063837,10012278,8734661,2080187,10180996,8693872,2096487,9867056,8195699,2130477,10216575.999388266,8480852,2149167,9979923.8499999996,8211309,2166897,10322933.41173223,8376084,2184147]
[817,"Essex North Shore",24.25,5267177,4108620,1440224,5871980,4830228,1577696,6088638,5073417,1627614,6185029,5030466,1476268,173496,6597337.6428708136,5303791,1616769,0,6438150.5279999999,5257509,1522317,8173,97479,6657128,5422037,1530490,7032311,5606831,1578772.356525,{"$f":"7223671+2406437","v":9630108},{"$f":"5744390+1758848","v":7503238},{"$f":"1633572.19536875+736211+279092","v":2648875.19536875},10537063,8095297,{"$f":"2685804.19536875+374740","v":3060544.19536875},12253746,9478745,3080269.19536875,14380155,10925830,3454325,16129989.412692271,12242834,3887155,17744843.639999997,13488298,4256546,18580518.657194056,13828438,4752081]
[818,"Franklin County              ",48.32,5609534,2938885,2670649,6238167,3104015,3134152,6391771,3127422,3264349,6770398,3246800,3153041,370557,6937473.1758851679,3512111,3453126,0,6832233.6720000003,3565201,3251395,17455,196151,6816703,3635743,3268850,7147655,3823257,3344405.5191250001,7343776,3944755,3416932.8843999999,7425790,4056096,3437610.8843999999,7597275,4196134,3449560.8843999999,7510077,4120671,3475025.8843999999,7241932.8547982732,3955977,3488135.8844003933,7536848.149849263,4066594,3501516,8190176.2362149609,4215767,3974409]
[821,"Greater Fall River           ",65.12,14786630,3199554,11587076,17060238,4544760,12983299,18611314,5287988,13901536,19717271,5629515,13024771,1530717,20071537.276937805,5932617,14264378,0,19949613.684,6306552.870136939,13431054,72104,796545,20383237,6467055,13916182,20957230,6715829,14241401,21919605,7123557,14796048,22550978,7369160,15181818,23275199,7579429,15695770,23332972,7431313,15901659,23441355.209892597,7581869,15945069,24261247.829999998,7936940,16324308,25634449.811339363,8117565,17516885]
[823,"Greater Lawrence             ",78.19,20801927,3447460,17354467,23397863,2950685,20447178,24270329,2925720,21344609,22243985,2764043,19164616,2252293,21086064.186794262,2952089,20988571,0,21516841.079999998,3448145,19762420,106093,1154758,22406284,3637418,19868513,23647271,3930189,19925633,24165774,3918941,20246833,25639135,4446591,21192544,25953903,4514175,21439728,27130809,4613664,22517145,28198339.274539281,4675584,23522755,29226821.741229992,4527429,24699393,31698687.99088544,4601974,27096714]
[825,"Greater New Bedford          ",66.650000000000006,22363849,4239109,18124740,25632190,5757999,20279884,27124010,6752296,21235693,28611071,7172648,19857283,2333698,30517951.37531101,7763883,21747161,1006907,30298830.222000003,8132720,21740799,116714,949205,31299153,8624602,22674551,32530714,8972206,23558508,33301712,9217036,24084676,33725633,9588800,24138401,34323634,9854302,24469332,34911179,10102835,24808344,35334771.991298027,10506130,24873053.999999352,36428065.790000007,10914841,25513225,38180025.886437774,11239871,26940155]
[828,"Greater Lowell               ",65.53,24208574,6905055,17303519,27036778,7606125,19430653,27800682,7909037,19937045,29465237,8510997,18820473,2211849,29630457.502009567,8466385,20611676,552397,30423897.84,9232155,20785128,111584,319986,31597336,9860549,21736787,33772319,10353219,23419100,34324570,10693693,23630877,34545660,10980189,23685627,34992565,11434404,23740502,35531900,11891870,23860787,37509502.791465104,12482002,25027501,40339926.969999999,13264027,27075900,42372428.797708727,13540919,28831510]
[829,"South Middlesex              ",36.97,8446819,8588762,2167094,9208715,8268805,2366025,9654723,8165281,2493762,9715858,7715501,2327422,273527,9614405.0465071779,7341351,2548930,0,9792459.7200000007,7492557,2400022,12884,152274,10544997,7892246,2652751,10989581,7883290,3269602.165025,11813873,8259858,3686820.5708499998,11573926,7868569,3818290.5708499998,11914131,7823272,4090859,11942604,7592237,4386161,12170547.123704944,7850604,4407641.0000002151,12903118.393199999,8092298,4810820,13895820.049220048,8568391,5327429]
[830,"Minuteman                    ",19.260000000000002,6066584,5495202,2078300.4,6914249,6039013,2248003.4,6679422,5830500,2272053.4,6716739,5664903,2053740.4,241363,6448437.4476555018,5389510,2249201,0,6278768.8019999992,5380998,2117803,11369,130554,6529848,5563357,2129172,6720937,5635287,2146052,6466600,5367418,2155902,7154168,5853666,2166677,7012158,5684556,2177027,6744963,5436063,{"$f":"2198257-133774","v":2064483},6331977.4709823718,5038148,2074863,6123549.9733787654,4836180,2085122.9999998973,6695949.827739303,5244391,2096043]
[832,"Montachusett                 ",59.83,13742072,4888977,8853095,15840334,5296832,10543502,17251828,5727859,11523969,18210278,5909892,11006825,1293561,19239467.091291867,6487260,12054378,697829,19087950.695999995,6671879,12177840,65376,543116,19926696,7025474,12901222,21362521,7634846,13727675,21644238,8117570,13764000,22098279,8502935,13800675,22705864,8952868,13837825,22983366,9077316,13920325,23339671.662662312,9194861,14144811,24114937.890482295,9381190,14733748,25030257.115778331,9604460,15425797]
[851,"Northern Berkshire           ",60.8,4866072,1480368,3385704,5410246,1532260,3877986,5840580,1651415,4189165,6022166,1628309,3931780,462077,6405552.1010526326,1973265,4305980,126307,6194470.0919999992,1959117,4173354,22404,247404,6032835,2076564,4195758,{"$f":"5901249+265615+518532","v":6685396},2057940,{"$f":"4211358+97719+296789","v":4605866},7074072,2680139,4617441,7193835,2748884,4629241,7377904,2797399,4641116,7221555,2766472,4666196,7333874.6106536184,2825783,4679876,7476126.9300747626,2937807,4693196.0000001332,7897883.8046400165,3067978,4829906]
[852,"Nashoba Valley               ",29.82,5158946,3321776,1931065.2,5389599,3394928,2023465,6238440,3743767,2494673,7033183,4130123,2597762,305298,7866987.6486124406,4598216,2844999,423773,8233340.9220000003,5083135.795428413,3080894,16540,185963,8193934,5151981,3097434,{"$f":"8811361+786722","v":9598083},5561630,{"$f":"3273055.84085+294572","v":3567627.8408499998},9643398,6347664,3583552.8408499998,10305011,6808953,3602853.8408499998,10872297,7267551,3620453.8408499998,10716963,7187884,3658183.8408499998,10765279.843473723,7259409,3678433.8408499998,10686139.044199999,7286534,3698114,10895286.797909893,7517024,3717284]
[853,"Northeast Metropolitan       ",44.06,13805435,8368989,5436446,15298678,8834989,6463689,16448129,9382830,7065299,17520203,9753752,6949698,816753,18195495.392153114,9906992,7611122,677381,18075511.403999995,10403784,7787386,41897,489726,18846605,10860660,7985945,19273753,10987834,8285919,19964083,11419748,8564871.3160750009,20104161,11494298,8609863,20386925,11746592,8640688,20458840,11667126,8818904,21001845.715027004,11813188,9188658,21695597.037383042,11983464,9712133,22663144.184447043,12097696,10565448]
[855,"Old Colony                   ",38.11,4989253,2641742,2546991,5820992,2972628,2935912,6621083,3475932,3292273,6827603,3546608,3028077,355870,7042233.7959808633,3704307,3316268,21659,6779947.8360000001,3833931.4919956997,3142926,16873,190453,6636605,3861415,3159799,6993936,4108774,3179079,7318581,4348047,3191479,7268292,4341070,3203704,7329579,4522220,3215679,7070588,4320680,3240924,7132027.5606843857,4376933,3254694,7339792.9800000004,4416012,3268404,7752983.70072567,4672558,3282354]
[860,"Pathfinder                   ",56.62,6096738,2786084,3310654,6802165,2722408,4079757,7765674,2973205,4792469,8192718,3079140,4575812,537766,7922637.1368421055,3002367,5011306,0,8264011.2758400002,3272693.2524828459,{"$f":"4773477+124459","v":4897936},25626,226728,8310204,3406888,4923562,9047750,3742148,5305602,9290876,3937256,5362159.7480999995,8740342,3869273,5376309.7480999995,9330426,4172839,5391009.7480999995,9305841,4136686,5422744.7480999995,9526647.0681404825,4148472,5440054.748100346,9675019.1999999993,4221512,5459444,10638203.377264135,4587025,6051178]
[871,"Shawsheen Valley             ",20.43,13777348,11493572,3136056.8,15354177,11614893,3739284,16399600,11925006,4474594,17333155,11848099,4908224,576832,18045396.186028711,12240655,5375355,429386,17891209.259999998,12538270,5465628,29342,342521,18725824,13125229,5600595,19899113,13950931,6159525.7945499998,20418808,14772092,6206185.7275124993,20894661,15270792,6241110.7275124993,20905729,15410372,6275835.7275124993,20610764,15409506,6350690.7275124993,20779974.22357462,15673209,6391250.7275124993,21319072.907946814,16426446,6431361,21756421.654655538,17141547,6470511]
[872,"Southeastern                 ",61.19,14936857,5393902,9542955,16539295,5950716,10588579,17132435,6118865,11013570,18651251,6606221,10778323,1266707,19547466.962679427,6794855,11804129,948483,18976858.698000003,6830054,12007606,64462,713969,19791640,7163181,12628459,20139028,7253938,12885090,20816397,7493594,13322803,21227292,7726584,13500708,22565360,8283596,14281764,23532615,8586706,14945909,24658561.658426791,9068356,15590206,25369687.710253701,9264693,16104995,26705365.084122326,9834210,16871155]
[873,"South Shore                  ",41.69,5603587,3304900,2298687,6624462,3491969,3132493,7292760,3896693,3409503,8002552,4267730,3342052,392770,8068943.0905263163,4326150,3660126,82667,8159816.8379999995,4585112,3524139,18919,214385,8361233,4747142,3614091,8898769,5090951,3814659,8843168,4991245,3851923,8975128,5135646,3866773,9246000,5264595,3981405,9836290,5547660,4288630,10085090.357912248,5811066,4307229.9999998137,10179751.535079999,5849405,4342636,10278115.468662532,5835267,4442848]
[876,"Southern Worcester           ",55.3,9571032,4238701,5725706.91653415,12372691,5102480,7282028,13883285,5546098,8337187,15012157,5773697,8266904,971556,15581392.28478469,6076724,9053691,450977,15894028.614,6360940,9350174,50196,132719,15689978,6367969,9400370,16052759,6598237,9454522,16721381,6992891,9728490,17132815,7280728,9852087,17642332,7557770,10084562,17712277,7652484,10147042,18134754.555626247,7810739,10324016,18654311.879813455,8130478,10527326,19584275.952675201,8498663,11085613]
[878,"Tri County                   ",31.63,9016173,5636406,3446914,10212901,5924588,4288313,11290959,6500818,4790141,12442959,7015291,4856871,570797,12923675.155598087,7663565,5319115,0,13370766.120000003,8194447,5076999,27256,238385,13542704,8344586,5198118,14397568,8892150,5505418,14698799,9224159,5529518,15102844,9768353,5553893,15108183,10085613,5577743,15221337,10205482,5630378,15811834.242360983,10767622,5659267.9999997113,15797799.39597,10833554,5687408,17150334.906830095,11677869,5716838]
[879,"Upper Cape Cod               ",25.47,7297579,5382948,2593253,7871760,6175413,2762062,8334135,6672582,2884730,9055851,7109422,2747270,322869,9359958.3663157895,7254471,3008736,0,9469840.0140000004,7444031,2832966,15209,177786,9659521,7711247,2848175,9618705,7624553,2874735,10084443,8024477,2891885,10314759,8119608,2909460,11054587,8517332,2927510,11535664,8638647,2968265,11636066.279966651,8609575,3026491,12366494.259999998,9126256,3240238,12375568.23018039,9213425,3262258]
[885,"Whittier                     ",46.47,11536179,7149342,4829933,11990774,6974949,5032319,12092901,6752086,5340815,12653763,7029551,5032746,591466,14137619.469473682,7657177,5511728,968714,14275034.699999999,7892558,6260014,33606,212122,15261656,8442171,6819485,16269465,8729868,7563919.4677499998,16875591,9062382,7879914.9927000003,17494788,9523686,8010858.9927000003,18310028,10028034,8281994,19322789,10384757,8938032,19762413.323503122,10544137,9218276,20237272.480202377,10694772,9542746,21419842.533375792,11214984,10204859]
[910,"Bristol County               ",48.31,4169889,2377115,1792774,4678752,2165472,2513280,4979099,2115459,2863640,5282006,2203905,2754395,323706,5380792.1852631588,2265291,3016539,98962,5285460.1679999996,2485563.5502734138,2933494,15748,175709,5518473,2608341,2949242,5541328,2713112,2964202,5650536,2907343,2973677,5797631,3091923,2983352,5839373,3169711,2992952,6281807,3336386,3015502,6434258.3084468814,3461793,3027862,6272468.1098745503,3267780,3039532,6469200.7539703678,3230305,3238896]
[915,"Norfolk County               ",24.63,2581809,2385271,605727.6,3153664,2376238,777426,3314326,2403121,911205,3538156,2513756,916670,107730,3601674.9504306214,2554390,1003912,43373,3636172.7040000004,2694070,968927,5294,79925,3894722,2866575,1028147,4009287,2928531,1097231.0205000001,4057136,3005158,1109762.7805750002,3937649,2863375,1119500.7805750002,4240624,3129643,1126275.7805750002,4615273,3398333,1216940,4595770.9606507998,3415991,1225309.999999749,4801803.415529999,3550450,1251353,4971875.5058426186,3680317,1291559]
[999,"State Total",41,7551933454,4743946672,3288603061.8000002,8014672861.3798904,4876428772,3505192038.9270248,8406096436.3857374,4997705374,3725343326.8219399,8811314229.2926865,5110365426,3536496064.2495604,411999998,9088557473.2006893,5250106061,3869526145,173630555,8921047970,5302200670.3241692,3850884455.5488005,20667814,200480583,9119340580.3732376,5413602268,3990504093.3881507,9467117140.6663704,5582113529,4173223954.2949104,9711217584.8007889,5748475145,4300854366.3566036,9866011313.0677662,5817618237,4400335961.8829308,10090177272.100754,5943909029,4511521973.6381674,10128238382.975546,5926185567,4627705061.1446953,10379173843.167685,6046916786,4745645155.949439,10777588551.40456,6246842886,{"$f":"SUM(AW10:AW447)","v":4906614765.8021221},11359048511.850758,6513607368,5175694094]

{"sheet":"dist435","index":16,"n_rows":448,"n_cols":46,"rows_kept":448,"cut":false,"hidden":true,"merged":[[5,33,5,37],[6,40,8,42],[6,39,8,39],[6,43,8,43],[6,45,8,45],[5,39,5,45],[6,44,8,44]]}
[]
[]
[]
[null,null,"Foundation Enrollment",null,null,null,null,null,null,null,null,null,null,null,null,null,null,null,null,null,"Foundation Categories"]
[1,2,3,4,5,6,7,8,9,10,11,12,13,14,15,16,17,18,19,20,21,22,23,24,25,26,27,28,29,30,31,32,33,34,{"$f":"AH5+1","v":35},{"$f":"AI5+1","v":36},37,38,39,40,41,42,43,44,45,46]
[null,null,null,null,null,null,null,null,null,null,null,null,null,null,null,null,null,null,null,null,null,null,null,null,null,null,null,null,null,null,null,null,null,"Low-income enrollment determination",null,null,null,null,null,"Low-income group assignment"]
[null,null,null,null,null,null,null,null,null,null,null,null,null,null,null,null,null,null,null,null,null,null,null,null,null,null,null,null,null,null,null,null,null,null,null,"Estimated","FY21",null,null,"Total \nLow-Income Enrollment","Total Enrollment of Students Attending School in the District Plus the Total Resident Students Attending Charter Schools",null,null,"Low-Income % \nfor Group Assignment","Low-Income\nBracket","Low-Income\nGroup"]
[null,null,null,null,null,null,null,null,null,null,null,null,null,null,null,null,null,"Low-Income","Low-Income",null,null,null,null,null,null,null,null,null,null,null,null,null,null,null,"FY16 total","Low-Income Enrollment","Low-Income Enrollment","Greater #"]
["LEA","District Name","PK","K Half","K Full","Elem","Jr/Middle","High School","Vocational","Assumed Sped In-District","Assumed Sped Tuition","EL PK-5","EL 6-8","EL high school/voc","Low-Income","Total Foundation Enrollment","WAF","Group","Percentage",null,"Administration","Instructional Leadership","Classroom & Specialist Teachers","Other Teaching Services","Professional Development","Instructional Materials, Equipment & Technology","Guidance & Psychological Services","Pupil Services","Operations & Maintenance","Employee Benefits & Fixed Charges","Sped Tuition","Total Foundation Budget",null,"FY16 Low-Income %","Foundation Enrollment"," Based on FY16 %","Identified through Direct Certification","for Ch.70"]
[1,"Abington                     ",89,0,173,792,542,640,5,82,21,90,28,27,606,2197,1.032,5,0.28489999999999999,null,1251510.7963200002,1822370.3476799999,10463005.065599998,2309536.6082400004,428661.21047999995,1300265.3400000001,798816.96840000001,966202.56960000005,2464914.9100799998,3009628.36,588790.23,25403702.406400003,null,0.25217391304347825,1955,{"$f":"ROUND(AH10*P10,0)","v":554},606,{"$f":"MAX(AJ10,AK10)","v":606},null,606,null,2127,null,0.28489999999999999,"24.00 - 29.99%",5]
[2,"Acton                        ",0,0,0,0,0,0,0,0,0,0,0,0,0,0,1.0509999999999999,0,0,null,0,0,0,0,0,0,0,0,0,0,0,0,null,"",0,{"$f":"ROUND(AH11*P11,0)","v":0},0,{"$f":"MAX(AJ11,AK11)","v":0},null,0,null,0,null,0,"n/a",0]
[3,"Acushnet                     ",44,0,90,547,342,291,0,49,13,9,0,0,300,1292,1,6,0.30270000000000002,null,708389.67999999993,1017276.86,5691458.75,1335146.6699999997,236231.81,728555.22999999986,435598.56999999995,497991.8,1381321,1744513.05,364489.19,14140972.610000001,null,0.19774919614147909,1244,255,300,300,null,300,null,991,null,0.30270000000000002,"30.00 - 35.99%",6]
[4,"Adams                        ",0,0,0,0,0,0,0,0,0,0,0,0,0,0,1,0,0,null,0,0,0,0,0,0,0,0,0,0,0,0,null,"",0,0,0,0,null,0,null,0,null,0,"n/a",0]
[5,"Agawam                       ",66,0,268,1301,899,1043,79,138,35,133,22,19,1273,3623,1,6,0.34939999999999999,null,2022830.11,2996307.99,17859808.23,3683324.0800000005,734699.82999999984,2202549.7899999996,1317948.4799999997,1762246.3599999999,3993010.6199999996,5148152.6399999997,981317.05,42702195.18,null,0.33316720657861948,4013,1207,1273,1273,null,1273,null,3643,null,0.34939999999999999,"30.00 - 35.99%",6]
[6,"Alford                       ",0,0,0,0,0,0,0,0,0,0,0,0,0,0,1,0,0,null,0,0,0,0,0,0,0,0,0,0,0,0,null,"",0,0,0,0,null,0,null,0,null,0,"n/a",0]
[7,"Amesbury                     ",30,5,137,781,514,571,15,78,20,24,10,6,558,2036,1,5,0.2767,null,1122060.6100000001,1620281.47,9313167.370000001,2076978.42,382005.34999999992,1197380.5999999999,709578.44,862202.94000000018,2202600.9700000007,2778377.7099999995,560752.6,22825386.480000004,null,0.27401837928153716,2394,558,545,558,null,558,null,2016.5,null,0.2767,"24.00 - 29.99%",5]
[8,"Amherst                      ",53,0,133,757,180,0,0,41,11,160,16,0,482,1097,1,7,0.41710000000000003,null,629363.55000000005,957652.64999999991,5472450.75,1266050.5600000001,236821.67999999996,571683.18000000017,365674.02,452137.48,1197774.8699999999,1640289.3900000001,308413.93,13098312.059999999,null,0.43959731543624159,1192,482,378,482,null,482,null,1155.5,null,0.41710000000000003,"36.00 - 41.99%",7]
[9,"Andover                      ",87,311,30,2187,1471,1845,7,217,57,138,23,7,601,5740,1.0880000000000001,2,0.1061,null,3381883.2659200006,4700593.0784,25966452.01664,6274683.8540800009,1039080.1798400001,3399864.48,2102523.6390400003,2171161.76192,6743662.9248000011,7395693.2899999991,1598144.9100000001,64773743.400639996,null,7.5798319327731095E-2,5950,435,601,601,null,601,null,5665.5,null,0.1061,"6.00 - 11.99%",2]
[10,"Arlington                    ",55,0,526,2656,1404,1476,2,232,61,234,36,24,692,6092,1.0369999999999999,2,0.11509999999999999,null,3441686.0056599998,4788806.6732299989,26112802.89844,6592965.3774299994,1058433.6493000002,3480334.78,2058730.3616600004,1996532.0453299996,6819795.9575300002,7930629.7599999998,1710295.4300000002,65991012.938580006,null,0.1135765325310267,5318,692,570,692,null,692,null,6013.5,null,0.11509999999999999,"6.00 - 11.99%",2]
[11,"Ashburnham                   ",0,0,0,0,0,0,0,0,0,0,0,0,0,0,1,0,0,null,0,0,0,0,0,0,0,0,0,0,0,0,null,"",0,0,0,0,null,0,null,0,null,0,"n/a",0]
[12,"Ashby                        ",0,0,0,0,0,0,0,0,0,0,0,0,0,0,1,0,0,null,0,0,0,0,0,0,0,0,0,0,0,0,null,"",0,0,0,0,null,0,null,0,null,0,"n/a",0]
[13,"Ashfield                     ",0,0,0,0,0,0,8,0,0,0,0,0,0,8,1,0,0,null,3197.84,5775.6,58261.760000000002,4070.48,1821.2,10732.4,3215.44,4331.28,14467.52,13763.68,0,119637.19999999998,null,0,19,0,0,0,null,0,null,0,null,0,"n/a",0]
[14,"Ashland                      ",27,0,190,1092,666,822,2,106,28,113,43,35,526,2786,1,4,0.18659999999999999,null,1534597.8,2176230.3699999996,12257111.460000001,2859422.56,496919.58999999991,1645136.2800000005,956079.15000000026,1059194.1200000001,3032217.5999999996,3719154.87,785053.64,30521117.440000001,null,0.15437048917401763,2494,430,526,526,null,526,null,2818.5,null,0.18659999999999999,"18.00 - 23.99%",4]
[15,"Athol                        ",0,0,0,0,0,0,0,0,0,0,0,0,0,0,1,0,0,null,0,0,0,0,0,0,0,0,0,0,0,0,null,"",0,0,0,0,null,0,null,0,null,0,"n/a",0]
[16,"Attleboro                    ",184,0,470,2330,1520,872,1099,251,52,235,34,63,2348,6383,1,7,0.3765,null,3569029.98,5329624.6999999993,34920361.640000001,6576482.2700000005,1406786.8,4439627.74,2336957.27,3192435.1900000004,7868412.8900000006,9809910.1799999997,1457956.76,80907585.420000002,null,0.36792752701843612,6292,2348,2176,2348,null,2348,null,6237,null,0.3765,"36.00 - 41.99%",7]
[17,"Auburn                       ",31,0,184,989,609,711,2,95,25,43,14,9,629,2511,1,5,0.2424,null,1379887.83,1985790.96,11296019.899999999,2563417.2999999998,462322.74,1464873.37,867201.51,1025776.9199999999,2701253.25,3391591.83,700940.75,27839076.359999999,null,0.25053350405463082,2343,629,615,629,null,629,null,2594.5,null,0.2424,"24.00 - 29.99%",5]
[18,"Avon                         ",23,0,44,250,151,129,0,22,6,23,4,2,287,586,1,7,0.39419999999999999,null,332396.5,509089.18000000005,3034292.83,609308.71,128907.83,335359.25999999995,215868.21999999997,314931.56,631881.48,865834.67999999993,168225.78,7146096.0300000003,null,0.4896421845574388,531,287,273,287,null,287,null,728,null,0.39419999999999999,"36.00 - 41.99%",7]
[19,"Ayer                         ",0,0,0,0,0,0,0,0,0,0,0,0,0,0,1,0,0,null,0,0,0,0,0,0,0,0,0,0,0,0,null,"",0,0,0,0,null,0,null,0,null,0,"n/a",0]
[20,"Barnstable                   ",160,0,352,2035,1296,1579,63,204,53,391,114,128,2249,5405,1,8,0.43070000000000003,null,3076892.58,4661328.5200000005,28151243.149999999,5560605.5900000008,1168913.6600000001,3296808.5900000003,2036226.74,2891389.17,6002774.2999999989,7939714.9000000013,1485994.3900000001,66271891.590000004,null,0.34213401310997815,5492,1849,2249,2249,null,2249,null,5221.5,null,0.43070000000000003,"42.00 - 47.99%",8]
[21,"Barre                        ",0,0,0,0,0,0,0,0,0,0,0,0,0,0,1,0,0,null,0,0,0,0,0,0,0,0,0,0,0,0,null,"",0,0,0,0,null,0,null,0,null,0,"n/a",0]
[22,"Becket                       ",0,0,0,0,0,0,11,1,0,0,0,0,0,11,1,0,0,null,7155.84,7941.4500000000007,89213.29,14096.6,2943.29,15140.349999999999,4421.2300000000005,5955.5099999999993,22974.560000000001,22147.100000000002,0,191989.22,null,0,9,0,0,0,null,0,null,0,null,0,"n/a",0]
[23,"Bedford                      ",20,0,184,1036,598,877,2,103,27,125,13,12,356,2707,1.0840000000000001,3,0.13350000000000001,null,1603079.4704,2242241.8375200005,12541862.970359998,2989838.4373600003,500785.24684000009,1614288.59,995344.90824000002,1053257.73832,3183636.8896000003,3533230.76,757016.01,31014582.858640004,null,0.13152804642166344,2585,356,303,356,null,356,null,2667.5,null,0.13350000000000001,"12.00 - 17.99%",3]
[24,"Belchertown                  ",43,0,153,815,570,713,5,86,23,18,3,2,497,2278,1,4,0.2195,null,1244484.1299999999,1774869.67,10074620.41,2289582.9,408813.19999999995,1345355,787186.35,917577.94999999984,2447088.6100000003,3031996.27,644865.49,24966439.98,null,0.2182423990004165,2401,497,495,497,null,497,null,2264.5,null,0.2195,"18.00 - 23.99%",4]
[25,"Bellingham                   ",30,0,153,879,561,621,18,86,22,34,9,8,560,2247,1,5,0.25409999999999999,null,1235691.79,1775245.5299999998,10145382.57,2297181.2400000002,415113.31,1320034.99,776504.12000000011,918624.88,2433335.7500000005,3046814.78,616827.86,24980756.82,null,0.24917491749174916,2424,560,544,560,null,560,null,2204,null,0.25409999999999999,"24.00 - 29.99%",5]
[26,"Belmont                      ",26,312,43,1892,1129,1361,0,175,46,274,49,22,427,4594,1.0389999999999999,2,9.4600000000000004E-2,null,2607545.9143699999,3615036.32761,19855067.373470005,4898705.9283499997,796553.90081999998,2707472.6300000004,1595855.5098699997,1579860.5828099998,5205738.5325499997,5959995.5899999999,1289730.98,50111563.269849993,null,7.3869104908565936E-2,4156,339,427,427,null,427,null,4513,null,9.4600000000000004E-2,"6.00 - 11.99%",2]
[27,"Berkley                      ",15,0,85,395,276,0,0,29,8,6,1,0,190,764,1,4,0.21479999999999999,null,419719.7900000001,600866.67999999993,3163372.22,830597.09999999986,139092.24,381275.47000000009,238221.87,230237.03000000003,814529.01,1046333.84,224301.04,8088546.29,null,0.2033195020746888,723,155,190,190,null,190,null,884.5,null,0.21479999999999999,"18.00 - 23.99%",4]
[28,"Berlin                       ",0,0,0,0,0,0,0,0,0,0,0,0,0,0,1.026,0,0,null,0,0,0,0,0,0,0,0,0,0,0,0,null,0.14473684210526316,152,0,0,0,null,0,null,0,null,0,"n/a",0]
[29,"Bernardston                  ",0,0,0,0,0,0,0,0,0,0,0,0,0,0,1,0,0,null,0,0,0,0,0,0,0,0,0,0,0,0,null,"",0,0,0,0,null,0,null,0,null,0,"n/a",0]
[30,"Beverly                      ",112,230,162,1797,1078,1362,0,172,45,129,21,21,1418,4570,1,6,0.31230000000000002,null,2532871.2099999995,3719597.5100000007,21617943.530000001,4652033.2100000009,889008.16999999993,2695424.2700000005,1627190.8900000001,2090931.4799999997,4925996.669999999,6327835.6699999999,1261693.3500000001,52340525.960000008,null,0.27745142340713963,4426,1268,1418,1418,null,1418,null,4540,null,0.31230000000000002,"30.00 - 35.99%",6]
[31,"Billerica                    ",99,0,376,1906,1239,1287,8,184,48,44,14,12,1049,4866,1.01,4,0.21759999999999999,null,2683830.2870999998,3829710.0210000002,21480403.14890001,5022881.1465000007,879996.73899999994,2806161.1900000004,1666249.9139,1877037.0957000004,5274739.3823999995,6494787.1499999994,1345806.24,53361602.314500012,null,0.21552528456801642,5359,1049,995,1049,null,1049,null,4821,null,0.21759999999999999,"18.00 - 23.99%",4]
[32,"Blackstone                   ",0,0,0,0,0,0,26,1,0,0,0,0,0,26,1,0,0,null,13151.789999999999,18770.7,198454.09,21728.75,6358.0400000000009,35263.599999999999,10450.18,14076.66,50101.16,47954,0,416308.97,null,0,15,0,0,0,null,0,null,0,null,0,"n/a",0]
[33,"Blandford                    ",0,0,0,0,0,0,7,0,0,0,0,0,0,7,1,0,0,null,2798.11,5053.6500000000005,50979.040000000001,3561.67,1593.55,9390.85,2813.51,3789.87,12659.08,12043.220000000001,0,104682.55,null,0,7,0,0,0,null,0,null,0,null,0,"n/a",0]
[34,"Bolton                       ",0,0,0,0,0,0,1,0,0,0,0,0,0,1,1.042,0,0,null,416.51866000000001,752.27190000000007,7588.5942400000004,530.18002000000001,237.21130000000002,1341.55,418.81106,564.14922000000001,1884.3944800000002,1720.46,0,15454.140879999999,null,0,1,0,0,0,null,0,null,0,null,0,"n/a",0]
[35,"Boston                       ",3474,0,4378,22861,14378,17785,1761,2354,594,10275,3123,4298,48555,62900,1.085,11,0.78010000000000002,null,41436648.980650008,68675134.479699999,450256755.87689996,71839589.96024999,19157770.178399999,40792976.480000004,29665877.29315,53309844.982800007,79704953.54779999,107228367.89000002,16654352.220000001,978722271.88964999,null,0.77193283070596297,64196,48555,40807,48555,null,48555,null,62245,null,0.78010000000000002,"70.00 - 79.99%",11]
[36,"Bourne                       ",60,1,147,763,501,570,0,76,20,6,3,6,631,2012,1,6,0.31490000000000001,null,1111004.8899999999,1629245.2099999997,9428252.7300000004,2043992.09,389611.79,1171139.6400000001,710417.31,912034.40000000014,2152879.7799999998,2777004.6200000006,560752.6,22886335.060000002,null,0.28335832083958024,2001,570,631,631,null,631,null,2003.5,null,0.31490000000000001,"30.00 - 35.99%",6]
[37,"Boxborough                   ",0,0,0,0,0,0,9,0,0,0,0,0,0,9,1.107,0,0,null,3982.50999,7192.7878499999997,72557.739359999992,5069.2740299999996,2268.0769499999997,12073.949999999999,4004.42859,5394.067829999999,18017.487720000001,15484.14,0,146044.46231999999,null,"",0,0,0,0,null,0,null,0,null,0,"n/a",0]
[38,"Boxford                      ",48,0,109,488,108,0,0,27,7,10,1,0,49,729,1.048,2,6.7699999999999996E-2,null,408897.76176000008,566239.44088000001,2879720.2541600005,864468.61223999993,120345.53944000001,361810.61,213415.30687999999,139964.26712,801491.41024,937116.92999999993,196263.41,7489733.5427200012,null,2.0576131687242798E-2,729,15,49,49,null,49,null,723.5,null,6.7699999999999996E-2,"6.00 - 11.99%",2]
[39,"Boylston                     ",0,0,0,0,0,0,28,1,0,0,0,0,0,28,1,0,0,null,13951.25,20214.600000000002,213019.53,22746.370000000003,6813.34,37946.700000000004,11254.04,15159.48,53718.04,51394.920000000006,0,446218.26999999996,null,7.7738515901060068E-2,283,0,0,0,null,0,null,0,null,0,"n/a",0]
[40,"Braintree                    ",114,370,17,2164,1472,1771,0,214,56,212,51,31,1341,5666,1.0449999999999999,5,0.2407,null,3261625.5550999991,4686968.6770500001,26713564.847750001,5985101.2842499996,1089029.4656999998,3365309.3999999994,2078196.3278999999,2465287.1298000002,6423840.4587499993,7648043.2999999998,1570107.28,65287073.726299994,null,0.23673322540025185,5559,1341,1240,1341,null,1341,null,5571,null,0.2407,"24.00 - 29.99%",5]
[41,"Brewster                     ",14,0,63,398,0,0,0,18,5,11,0,0,153,468,1,6,0.3377,null,261463.64000000004,382024.71,2139132.42,552369.13,89782.81,235492.15999999997,139912.72000000003,151165.68,488758.72000000003,656175.45999999985,140188.15,5236465.6000000006,null,0.25105485232067509,474,117,153,153,null,153,null,453,null,0.3377,"30.00 - 35.99%",6]
[42,"Bridgewater                  ",0,0,0,0,0,0,8,0,0,0,0,0,0,8,1,0,0,null,3197.84,5775.6,58261.760000000002,4070.48,1821.2,10732.4,3215.44,4331.28,14467.52,13763.68,0,119637.19999999998,null,0,10,0,0,0,null,0,null,0,null,0,"n/a",0]
[43,"Brimfield                    ",3,0,47,189,43,0,2,11,3,2,0,0,83,283,1,5,0.28970000000000001,null,156844.32999999999,225732.57000000004,1237889.8500000001,322904.26,52757.99,143086.83999999997,85726.380000000019,87106.65,299248.44,391941.38,84112.89,3087351.5799999996,null,0.21532846715328466,274,61,83,83,null,83,null,286.5,null,0.28970000000000001,"24.00 - 29.99%",5]
[44,"Brockton                     ",330,0,1110,6660,4452,4837,274,665,171,2209,917,1223,14190,17498,1,12,0.82899999999999996,null,10666876.000000004,17758226.210000001,116117249.96000001,18415340.589999996,4988583.8699999992,11084701.07,7647495.4200000009,14088319.340000002,20143941.07,30000987.890000001,4794434.7300000004,255706156.15000001,null,0.8109528653780943,17694,14190,11254,14190,null,14190,null,17117,null,0.82899999999999996,"80.00%+",12]
[45,"Brookfield                   ",7,0,43,175,30,0,1,9,2,1,0,0,112,253,1,7,0.374,null,138486.29,214318.74000000002,1222026.69,283657.38,52592.040000000008,127722,80894.45,102664.77,263333.05,366627.4,56075.26,2908398.07,null,0.44176706827309237,249,112,110,112,null,112,null,299.5,null,0.374,"36.00 - 41.99%",7]
[46,"Brookline                    ",74,0,601,3094,1785,2131,0,291,76,680,109,55,861,7648,1.042,2,0.1125,null,4385182.1114600003,6120396.5253599994,33749963.012440003,8292861.9293999998,1359282.58128,4502608.169999999,2673012.66334,2645225.19086,8754694.8353199996,10054642.980000004,2130859.88,84668729.879460007,null,0.10772163965681601,7343,824,861,861,null,861,null,7653,null,0.1125,"6.00 - 11.99%",2]
[47,"Buckland                     ",0,0,0,0,0,0,2,0,0,0,0,0,0,2,1,0,0,null,799.46,1443.9,14565.44,1017.62,455.3,2683.1,803.86,1082.82,3616.88,3440.92,0,29909.299999999996,null,"",0,0,0,0,null,0,null,0,null,0,"n/a",0]
[48,"Burlington                   ",34,0,265,1457,793,980,6,134,35,115,21,30,528,3518,1.0880000000000001,3,0.15240000000000001,null,2091880.4204800001,2937286.4601600012,16336727.064320002,3949600.3712000004,659616.79872000008,2052639.27,1280388.7225599999,1342270.2240000002,4140379.8547200002,4624715.21,981317.05,40396821.446159996,null,0.12972038051311618,3469,456,528,528,null,528,null,3464.5,null,0.15240000000000001,"12.00 - 17.99%",3]
[49,"Cambridge                    ",598,0,673,2906,1445,1617,579,282,66,399,84,97,3480,7519,1.1080000000000001,8,0.47399999999999998,null,4705265.2865600009,7245000.8927600011,45803846.342000008,8627713.7591600008,1883353.1265200004,4815659.1499999994,3119745.3632800006,4587976.02972,9577817.1000800002,11441947.390000002,1850483.58,103658808.02008,null,0.46283391405342622,6888,3480,2584,3480,null,3480,null,7341,null,0.47399999999999998,"42.00 - 47.99%",8]
[50,"Canton                       ",87,0,251,1237,786,1007,0,125,33,57,14,11,577,3325,1.0640000000000001,3,0.17660000000000001,null,1925331.1632800002,2722686.2622400005,15241336.808880003,3586039.5256000003,615518.41399999999,1950354.6700000002,1199987.0416800003,1315591.85464,3800845.1443200004,4369768.46,925241.79,37652701.134640008,null,0.17338709677419356,3224,577,555,577,null,577,null,3266.5,null,0.17660000000000001,"12.00 - 17.99%",3]
[51,"Carlisle                     ",6,52,0,323,214,0,4,22,6,15,1,0,26,570,1.052,1,4.6399999999999997E-2,null,325180.14319999999,442391.71088000003,2207911.04752,653899.03556000011,95571.138680000018,287324.43,176649.72548000002,121096.79303999999,648420.71400000004,740678.5199999999,168225.78,5867349.0383599997,null,1.1494252873563218E-2,609,7,26,26,null,26,null,560,null,4.6399999999999997E-2,"0.00 - 5.99%",1]
[52,"Carver                       ",64,0,121,616,379,438,5,59,16,12,5,4,439,1591,1.032,5,0.27439999999999998,null,899781.64608000009,1305998.3839200004,7462519.1939999992,1667254.8962400001,306122.61408000003,925809.15,568142.99712000019,686897.29080000019,1759068.8402400003,2159432.9699999997,448602.08,18189630.062479999,null,0.24683162341581172,1657,393,439,439,null,439,null,1600,null,0.27439999999999998,"24.00 - 29.99%",5]
[53,"Charlemont                   ",0,0,0,0,0,0,7,0,0,0,0,0,0,7,1,0,0,null,2798.11,5053.6500000000005,50979.040000000001,3561.67,1593.55,9390.85,2813.51,3789.87,12659.08,12043.220000000001,0,104682.55,null,0,5,0,0,0,null,0,null,0,null,0,"n/a",0]
[54,"Charlton                     ",0,0,0,0,0,0,1,0,0,0,0,0,0,1,1,0,0,null,399.73,721.95,7282.72,508.81,227.65,1341.55,401.93,541.41,1808.44,1720.46,0,14954.649999999998,null,0,2,0,0,0,null,0,null,0,null,0,"n/a",0]
[55,"Chatham                      ",0,0,0,0,0,0,0,0,0,0,0,0,0,0,1,0,0,null,0,0,0,0,0,0,0,0,0,0,0,0,null,"",0,0,0,0,null,0,null,0,null,0,"n/a",0]
[56,"Chelmsford                   ",163,0,367,1965,1206,1491,1,192,50,164,26,14,771,5112,1,3,0.15290000000000001,null,2780629.7,3917943.14,21775781.369999997,5212898.08,878847.45000000007,2990075.7899999996,1719881.7600000002,1820363.92,5511788.9300000006,6696558.2599999998,1401881.5,54706649.899999999,null,0.12124208860759493,5056,620,771,771,null,771,null,5041,null,0.15290000000000001,"12.00 - 17.99%",3]
[57,"Chelsea                      ",292,0,530,2862,1733,2017,2,273,71,1723,406,632,6141,7290,1.038,12,0.8619,null,4707091.4364600005,7912820.3683800008,51604147.112100005,8156020.2807,2223416.6873400002,4634951.99,3379939.4198400001,6203460.1645200001,8857682.7666600011,12767719.01,1990671.73,112437920.96600001,null,0.84243212016175617,6924,6141,5160,6141,null,6141,null,7125,null,0.8619,"80.00%+",12]
[58,"Cheshire                     ",0,0,0,0,0,0,1,0,0,0,0,0,0,1,1,0,0,null,399.73,721.95,7282.72,508.81,227.65,1341.55,401.93,541.41,1808.44,1720.46,0,14954.649999999998,null,0,1,0,0,0,null,0,null,0,null,0,"n/a",0]
[59,"Chester                      ",0,0,0,0,0,0,9,0,0,0,0,0,0,9,1,0,0,null,3597.57,6497.55,65544.479999999996,4579.29,2048.85,12073.949999999999,3617.37,4872.6899999999996,16275.960000000001,15484.14,0,134591.84999999998,null,0,14,0,0,0,null,0,null,0,null,0,"n/a",0]
[60,"Chesterfield                 ",0,0,0,0,0,0,17,1,0,0,0,0,0,17,1,0,0,null,9554.2199999999993,12273.150000000001,132909.61000000002,17149.46,4309.1900000000005,23189.649999999998,6832.81,9203.9699999999993,33825.199999999997,32469.86,0,281717.12,null,0,20,0,0,0,null,0,null,0,null,0,"n/a",0]
[61,"Chicopee                     ",239,0,496,2773,1795,1796,591,290,69,249,76,104,5108,7571,1,10,0.68730000000000002,null,4400856.87,7105085.9200000009,46898960.200000003,7725493.2400000002,1971493.5500000003,4927689.3600000003,3088210.9899999993,5407396.2800000003,8719733.1799999978,12371336.010000002,1934596.47,104550852.06999999,null,0.67473255221599593,7852,5108,4426,5108,null,5108,null,7432,null,0.68730000000000002,"54.00 - 69.99%",10]
[62,"Chilmark                     ",0,0,0,0,0,0,0,0,0,0,0,0,0,0,1,0,0,null,0,0,0,0,0,0,0,0,0,0,0,0,null,"",0,0,0,0,null,0,null,0,null,0,"n/a",0]
[63,"Clarksburg                   ",0,0,6,80,61,24,0,7,2,0,0,0,79,171,1,7,0.40510000000000002,null,98315.55,145928.16,848318.14999999991,182098.91,36950.939999999995,93145.200000000012,61146.21,85553.12,184608.17,252129.69,56075.26,2044269.3599999996,null,0.35,180,60,79,79,null,79,null,195,null,0.40510000000000002,"36.00 - 41.99%",7]
[64,"Clinton                      ",98,0,137,760,509,519,112,79,19,150,38,53,977,2086,1,9,0.50860000000000005,null,1191869.25,1837679.54,11503411.079999998,2146440.4,477656.33999999997,1324496.92,801361.39000000013,1195419.9100000001,2390812.4,3184985.5200000005,532714.97,26586847.719999999,null,0.46841839312784234,1979,977,864,977,null,977,null,1921,null,0.50860000000000005,"48.00 - 53.99%",9]
[65,"Cohasset                     ",24,103,0,562,354,488,0,56,15,2,1,0,116,1468,1.032,2,8.0399999999999999E-2,null,817109.91144000005,1123675.9656,6179140.9807200003,1520019.4046400001,245424.17184,867330.02999999991,503766.08375999995,509355.73631999997,1623075.5128800003,1864465.4100000001,420564.45,15673927.657200001,null,4.0566645202833228E-2,1553,60,116,116,null,116,null,1443.5,null,8.0399999999999999E-2,"6.00 - 11.99%",2]
[66,"Colrain                      ",0,0,0,0,0,0,0,0,0,0,0,0,0,0,1,0,0,null,0,0,0,0,0,0,0,0,0,0,0,0,null,0,1,{"$f":"ROUND(AH75*P75,0)","v":0},0,{"$f":"MAX(AJ75,AK75)","v":0},null,0,null,0,null,0,"n/a",0]
[67,"Concord                      ",27,0,208,1128,731,0,0,79,21,48,10,0,159,2081,1.056,2,7.7399999999999997E-2,null,1188442.1683200004,1638024.5270400003,8204294.0179200005,2401914.6624000007,355616.25792,1036816.0800000001,648224.13216000004,462154.99968000007,2353677.4271999998,2714064.79,588790.23,21592019.292640004,null,5.5882352941176473E-2,2040,116,159,159,null,159,null,2054,null,7.7399999999999997E-2,"6.00 - 11.99%",2]
[68,"Conway                       ",3,0,8,55,13,0,1,3,1,0,0,0,33,79,1,5,0.26400000000000001,null,44408.450000000004,65203.229999999996,369247.62,88761.349999999991,15880.279999999999,40243.420000000013,24931.870000000003,29930.239999999998,83300.02,112951.31,28037.63,902895.42,null,0.20689655172413793,145,16,33,33,null,33,null,125,null,0.26400000000000001,"24.00 - 29.99%",5]
[69,"Cummington                   ",0,0,0,0,0,0,6,0,0,0,0,0,0,6,1,0,0,null,2398.38,4331.7000000000007,43696.32,3052.86,1365.9,8049.2999999999993,2411.58,3248.46,10850.64,10322.76,0,89727.900000000009,null,0,9,0,0,0,null,0,null,0,null,0,"n/a",0]
[70,"Dalton                       ",0,0,0,0,0,0,24,1,0,0,0,0,0,24,1,0,0,null,12352.33,17326.800000000003,183888.65,20711.13,5902.7400000000007,32580.499999999996,9646.32,12993.84,46484.28,44513.08,0,386399.67,null,0,20,0,0,0,null,0,null,0,null,0,"n/a",0]
[71,"Danvers                      ",110,1,260,1367,839,961,0,131,34,35,7,6,732,3483,1,4,0.217,null,1897764.64,2708861.1900000004,15201946.450000001,3553045.7300000009,620135.15999999992,2014184.17,1180296.42,1328957.19,3728413.24,4629919.58,953279.42,37816803.190000005,null,0.21010928961748634,3660,732,694,732,null,732,null,3373,null,0.217,"18.00 - 23.99%",4]
[72,"Dartmouth                    ",93,0,274,1300,920,976,0,133,35,58,9,4,948,3517,1,5,0.26740000000000003,null,1934278.2999999998,2795397.0600000005,15909654.220000003,3578401.0700000003,655097.52,2042507.0299999998,1221459.43,1466975.8599999999,3779336.5500000003,4775137.2299999995,981317.05,39139561.32,null,0.25557645794141359,3721,899,948,948,null,948,null,3545,null,0.26740000000000003,"24.00 - 29.99%",5]
[73,"Dedham                       ",17,0,232,1001,695,763,0,103,27,128,36,33,756,2700,1.0389999999999999,5,0.2802,null,1561033.8508599999,2261111.60409,12958061.358429998,2883928.3198800003,533309.71264999988,1589223.81,988692.58626999997,1193964.5849799998,3058038.2357700001,3714792.91,757016.01,31499172.982930005,null,0.28011935844834018,2681,756,723,756,null,756,null,2698.5,null,0.2802,"24.00 - 29.99%",5]
[74,"Deerfield                    ",9,0,45,218,46,0,1,12,3,6,0,0,87,315,1,4,0.23449999999999999,null,172928.2,250244.58000000005,1359721.52,358853.84,57870.46,158461.20999999996,94739.709999999992,93179.92,332209.89,433063.26,84112.89,3395385.48,null,0.25217391304347825,345,79,87,87,null,87,null,371,null,0.23449999999999999,"18.00 - 23.99%",4]
[75,"Dennis                       ",0,0,0,0,0,0,0,0,0,0,0,0,0,0,1,0,0,null,0,0,0,0,0,0,0,0,0,0,0,0,null,"",0,0,0,0,null,0,null,0,null,0,"n/a",0]
[76,"Dighton                      ",0,0,0,0,0,0,0,0,0,0,0,0,0,0,1,0,0,null,0,0,0,0,0,0,0,0,0,0,0,0,null,"",0,0,0,0,null,0,null,0,null,0,"n/a",0]
[77,"Douglas                      ",57,0,96,434,290,357,7,45,12,9,5,0,251,1213,1,4,0.19939999999999999,null,659111.44999999995,941772.11000000022,5325448.9399999995,1221994.3400000001,215870.04999999996,713176.03,414372.63,471423.8,1302694.3500000001,1610292.5700000003,336451.56,13212607.830000002,null,0.18663911845730027,1452,226,251,251,null,251,null,1258.5,null,0.19939999999999999,"18.00 - 23.99%",4]
[78,"Dover                        ",9,0,78,409,0,0,0,19,5,24,0,0,16,492,1.05,1,3.3000000000000002E-2,null,280058.41500000004,380829.0990000001,1959126.2250000001,612094.47600000002,79496.928,245863.44999999998,138371.96100000001,79094.840999999986,542940.75150000013,628602.92000000016,140188.15,5086667.2165000001,null,3.3333333333333333E-2,480,16,9,16,null,16,null,485.5,null,3.3000000000000002E-2,"0.00 - 5.99%",1]
[79,"Dracut                       ",54,0,313,1602,1031,990,1,150,39,59,16,19,1129,3964,1,5,0.2903,null,2183770.85,3168805.6100000003,18000848.619999997,4075065.55,745770.59000000008,2274253.25,1368208.2699999998,1643042.42,4259300.46,5419230.7999999998,1093467.57,44231763.989999995,null,0.28479215078750325,3873,1129,1119,1129,null,1129,null,3889.5,null,0.2903,"24.00 - 29.99%",5]
[80,"Dudley                       ",0,0,0,0,0,0,0,0,0,0,0,0,0,0,1,0,0,null,0,0,0,0,0,0,0,0,0,0,0,0,null,0,1,0,0,0,null,0,null,0,null,0,"n/a",0]
[81,"Dunstable                    ",0,0,0,0,0,0,0,0,0,0,0,0,0,0,1,0,0,null,0,0,0,0,0,0,0,0,0,0,0,0,null,0,1,0,0,0,null,0,null,0,null,0,"n/a",0]
[82,"Duxbury                      ",29,183,0,1013,744,1008,16,110,29,5,1,3,225,2888,1.0349999999999999,2,7.8700000000000006E-2,null,1610217.2821499996,2216658.8376000002,12279634.75935,2963733.8746499997,486365.0885999999,1734073.0399999998,1006467.0578999999,1035083.3174999999,3223464.7441499997,3674960.64,813091.27,31043749.911899995,null,6.0944479897894067E-2,3134,176,225,225,null,225,null,2859,null,7.8700000000000006E-2,"6.00 - 11.99%",2]
[83,"East Bridgewater             ",21,0,150,772,534,679,7,82,21,7,1,6,514,2153,1,4,0.23680000000000001,null,1177601.0100000002,1687406.0999999999,9645007.3800000008,2167254.8200000003,391861.5799999999,1275082.04,748587.73,892970.54,2314577.7700000005,2884390.82,588790.23,23773530.020000003,null,0.19496567505720824,2185,420,514,514,null,514,null,2171,null,0.23680000000000001,"18.00 - 23.99%",4]
[84,"East Brookfield              ",0,0,0,0,0,0,21,1,0,0,0,0,0,21,1,0,0,null,11153.14,15160.95,162040.49,19184.7,5219.7900000000009,28555.85,8440.5300000000007,11369.609999999999,41058.959999999999,39351.700000000004,0,341535.72000000003,null,0,19,0,0,0,null,0,null,0,null,0,"n/a",0]
[85,"Eastham                      ",15,0,34,149,0,0,0,7,2,6,0,0,77,191,1,8,0.42899999999999999,null,106674.87,161008.06999999998,920810.09,222310.99000000002,38962.18,96291.200000000012,59135.660000000011,71740.540000000008,198369.21,274733.63,56075.26,2206111.6999999993,null,0.40217391304347827,184,77,70,77,null,77,null,179.5,null,0.42899999999999999,"42.00 - 47.99%",8]
[86,"Easthampton                  ",55,0,128,659,371,456,77,66,16,28,6,5,572,1719,1,6,0.35020000000000001,null,953303.78,1405348.51,8482150.2500000019,1757523.4600000004,345483.27999999997,1062202.67,614949.29000000015,811442.62,1912578.2899999998,2442328.5300000003,448602.08,20235912.760000002,null,0.32243517474633598,1774,554,572,572,null,572,null,1633.5,null,0.35020000000000001,"30.00 - 35.99%",6]
[87,"East Longmeadow              ",48,0,184,926,620,866,23,100,26,31,4,8,601,2643,1,4,0.2334,null,1445483.41,2068463.4200000006,11893974.150000002,2652136.4699999997,479636.55000000005,1589542.99,922058.45000000007,1096051.6099999999,2858719.62,3538553.1999999997,728978.38,29273598.25,null,0.20559334845049132,2646,543,601,601,null,601,null,2575,null,0.2334,"18.00 - 23.99%",4]
[88,"Easton                       ",23,187,40,1311,904,1155,0,134,35,41,8,10,590,3516,1,3,0.16980000000000001,null,1914931.07,2695931.8000000003,15139776.74,3526451.3200000003,610161.49,2085154.5899999999,1206144.0900000001,1346786.84,3784661.1799999992,4607673.47,981317.05,37898989.639999993,null,0.12164725006773232,3691,428,590,590,null,590,null,3474,null,0.16980000000000001,"12.00 - 17.99%",3]
[89,"Edgartown                    ",13,0,46,248,140,0,0,17,4,69,16,0,179,441,1,8,0.42720000000000002,null,253847.67999999999,384344,2166053.96,499406.86999999994,95485.23000000001,231390.30000000002,151462.52000000002,182969.07,492191.25000000006,663074.68000000005,112150.52,5232376.0799999991,null,0.33004926108374383,406,146,179,179,null,179,null,419,null,0.42720000000000002,"42.00 - 47.99%",8]
[90,"Egremont                     ",0,0,0,0,0,0,0,0,0,0,0,0,0,0,1,0,0,null,0,0,0,0,0,0,0,0,0,0,0,0,null,"",0,0,0,0,null,0,null,0,null,0,"n/a",0]
[91,"Erving                       ",27,0,18,74,64,49,0,8,2,2,0,0,54,219,1,8,0.44080000000000003,null,118834.24000000001,173849.08000000002,974713.00999999989,222035.16999999998,40732.979999999996,123221.60999999999,74776.45,87661.94,233322.65000000002,297251.64,56075.26,2402474.0299999998,null,0.24705882352941178,255,54,43,54,null,54,null,122.5,null,0.44080000000000003,"42.00 - 47.99%",8]
[92,"Essex                        ",0,0,0,0,0,0,0,0,0,0,0,0,0,0,1.0369999999999999,0,0,null,0,0,0,0,0,0,0,0,0,0,0,0,null,"",0,0,0,0,null,0,null,0,null,0,"n/a",0]
[93,"Everett                      ",349,0,541,2839,1785,1641,671,292,68,1154,327,437,5953,7652,1.0449999999999999,11,0.78939999999999999,null,4838820.6261999998,8022155.0739000002,54030267.820650004,8442213.3058999982,2286032.4696,5182619.2499999991,3457878.6555499993,6248737.3431999991,9691410.4754499998,13335699.300000001,1906558.84,117442393.16045,null,0.77797062750333779,7490,5953,4616,5953,null,5953,null,7541,null,0.78939999999999999,"70.00 - 79.99%",11]
[94,"Fairhaven                    ",20,0,117,733,469,487,0,69,18,22,3,8,673,1816,1,6,0.33229999999999998,null,1011754.7400000001,1502638.0899999999,8783110.0100000016,1857175.6099999999,366357.85,1053846.75,651288.44000000006,874730.06,1950200.8900000001,2561189.6400000006,504677.34,21116969.420000002,null,0.34733893557422968,1785,631,673,673,null,673,null,2025.5,null,0.33229999999999998,"30.00 - 35.99%",6]
[95,"Fall River                   ",270,0,973,5003,3059,1904,1022,467,109,1291,451,499,9322,12096,1,11,0.78710000000000002,null,7261342.2199999997,11981846.41,79711358.140000001,12882312.900000002,3405737.74,7870930.2499999991,5079841.63,9111213.5500000007,14412311.140000001,20894713.259999998,3056101.67,175667708.91,null,0.77069894848458076,11317,9322,8694,9322,null,9322,null,11843.5,null,0.78710000000000002,"70.00 - 79.99%",11]
[96,"Falmouth                     ",48,0,208,1210,803,839,138,124,31,93,22,21,1154,3222,1,6,0.34949999999999998,null,1801579.53,2667614.8900000006,16113490.449999999,3289601.5500000003,661915.24,1990433.8299999998,1170452.5899999999,1572954.02,3605981.1399999997,4633738.18,869166.53,38376927.950000003,null,0.30965034965034965,3575,998,1154,1154,null,1154,null,3301.5,null,0.34949999999999998,"30.00 - 35.99%",6]
[97,"Fitchburg                    ",171,0,434,2286,1425,1585,0,219,57,589,126,150,4153,5816,1,11,0.75990000000000002,null,3448576.12,5624883.0100000007,35759986.200000003,6063161.2699999996,1533554.3,3519216.3400000003,2409398.1500000004,4233750.97,6445107.8200000003,9472890.4399999995,1598144.9100000001,80108669.530000001,null,0.71407758149699507,5491,4153,3753,4153,null,4153,null,5465,null,0.75990000000000002,"70.00 - 79.99%",11]
[98,"Florida                      ",11,0,2,18,33,7,0,2,1,0,0,0,32,66,1,7,0.36780000000000002,null,36574.639999999999,56391.350000000006,317608.28000000003,62425.399999999994,14179.89,34822.720000000001,23967.770000000004,33542.75,69254.94,95751.38,28037.63,772556.75,null,0.4823529411764706,85,32,28,32,null,32,null,87,null,0.36780000000000002,"36.00 - 41.99%",7]
[99,"Foxborough                   ",37,0,197,914,669,840,0,100,26,55,12,7,515,2639,1.056,4,0.1961,null,1522747.0473600002,2163123.4416000005,12212296.609920001,2807359.87488,494485.99199999997,1562163.44,961890.65280000027,1093658.0160000001,3004879.69056,3497370.0800000005,728978.38,30048953.225120001,null,0.18587360594795538,2690,491,515,515,null,515,null,2626.5,null,0.1961,"18.00 - 23.99%",4]
[100,"Framingham                   ",217,0,698,3841,2420,2494,10,361,95,1543,389,363,4287,9572,1.0269999999999999,8,0.46079999999999999,null,5730011.1311299996,8764971.3989500012,52692947.091329984,10417525.366299996,2214309.1850099997,5806544.8999999994,3773980.9334499994,5318836.6663899999,11155217.966880001,14467322.899999999,2663574.85,123005242.38944,null,0.44786483045943759,8641,4287,4238,4287,null,4287,null,9304,null,0.46079999999999999,"42.00 - 47.99%",8]
[101,"Franklin                     ",115,0,319,1937,1371,1826,0,208,55,57,12,12,630,5511,1.054,2,0.11700000000000001,null,3140461.4783800007,4372251.4948000005,24232447.987980001,5812610.9520999985,968157.39159999986,3265670.6199999996,1959281.2534800004,2054223.8133,6240617.1957200011,7090190.7400000012,1542069.6500000001,60677982.577360004,null,9.5957936247124551E-2,6086,529,630,630,null,630,null,5384.5,null,0.11700000000000001,"6.00 - 11.99%",2]
[102,"Freetown                     ",0,0,0,0,0,0,91,4,0,0,0,0,0,91,1,0,0,null,47410.67,65697.45,699141,80300.47,22472.710000000003,123614.25,36575.629999999997,49268.31,176894.92,169450.02000000002,0,1470825.43,null,0,94,0,0,0,null,0,null,0,null,0,"n/a",0]
[103,"Gardner                      ",37,0,187,942,624,646,0,92,24,73,23,28,1467,2418,1,10,0.62890000000000001,null,1397646.6300000004,2216364.02,13764494.470000001,2487356.6100000003,587613.59,1426287.88,952490.05999999994,1580756.56,2618642.09,3751142.3800000004,672903.12,31455697.409999996,null,0.60678642714570863,2505,1467,1388,1467,null,1467,null,2332.5,null,0.62890000000000001,"54.00 - 69.99%",10]
[104,"Aquinnah",0,0,0,0,0,0,0,0,0,0,0,0,0,0,1,0,0,null,0,0,0,0,0,0,0,0,0,0,0,0,null,"",0,0,0,0,null,0,null,0,null,0,"n/a",0]
[105,"Georgetown                   ",3,0,106,503,303,384,5,50,13,0,0,0,139,1303,1,2,0.1046,null,704281.55000000016,974938.35000000009,5377979.3799999999,1327024.42,215361.05,760447.96,429656.82000000007,435416.67999999993,1397336.48,1675265.1500000001,364489.19,13662197.030000001,null,0.10367170626349892,1389,135,139,139,null,139,null,1328.5,null,0.1046,"6.00 - 11.99%",2]
[106,"Gill                         ",0,0,0,0,0,0,0,0,0,0,0,0,0,0,1,0,0,null,0,0,0,0,0,0,0,0,0,0,0,0,null,"",0,0,0,0,null,0,null,0,null,0,"n/a",0]
[107,"Gloucester                   ",116,1,234,1171,745,772,113,117,29,123,25,51,1289,3094,1.0429999999999999,8,0.46129999999999999,null,1817586.92255,2755358.6734099998,16801844.221819997,3312354.5500499993,697092.46060999995,1896495.2599999998,1196050.71698,1698504.7964499998,3601686.1502300003,4559148.4400000004,813091.27,39149213.462099992,null,0.41674389867160949,3237,1289,1205,1289,null,1289,null,2794,null,0.46129999999999999,"42.00 - 47.99%",8]
[108,"Goshen                       ",0,0,0,0,0,0,10,0,0,0,0,0,0,10,1,0,0,null,3997.3,7219.5,72827.199999999997,5088.1000000000004,2276.5,13415.5,4019.3,5414.0999999999995,18084.400000000001,17204.599999999999,0,149546.50000000003,null,0,8,0,0,0,null,0,null,0,null,0,"n/a",0]
[109,"Gosnold                      ",0,0,0,1,0,0,0,0,0,0,0,0,0,1,1,0,0,null,399.73,721.95,3310.31,849.04,131,479.13,261.54000000000002,143.72999999999999,919.24,1129.22,0,8344.89,null,0,4,0,0,0,null,0,null,0,null,0,"n/a",0]
[110,"Grafton                      ",56,0,235,1171,759,884,2,116,30,42,3,13,503,3079,1,3,0.15859999999999999,null,1671447.2499999998,2358970.48,13118398.289999999,3128806.2399999998,531462.73,1791395.49,1035655.9299999999,1113205.5699999998,3305774.8400000003,4036595.2800000007,841128.9,32932840.999999996,null,0.11902500791389681,3159,366,503,503,null,503,null,3171.5,null,0.15859999999999999,"12.00 - 17.99%",3]
[111,"Granby                       ",36,0,54,242,152,243,2,26,7,22,3,9,236,711,1,6,0.31280000000000002,null,393494.43,584058.49,3450180.1500000004,710886.05999999994,140539.65999999997,430826.1,258887.91999999998,344979.9,767963.45,988727.84000000008,196263.41,8266807.4100000001,null,0.27216748768472904,812,194,236,236,null,236,null,754.5,null,0.31280000000000002,"30.00 - 35.99%",6]
[112,"Granville                    ",0,0,0,0,0,0,0,0,0,0,0,0,0,0,1,0,0,null,0,0,0,0,0,0,0,0,0,0,0,0,null,"",0,0,0,0,null,0,null,0,null,0,"n/a",0]
[113,"Great Barrington             ",0,0,0,0,0,0,0,0,0,0,0,0,0,0,1,0,0,null,0,0,0,0,0,0,0,0,0,0,0,0,null,"",0,0,0,0,null,0,null,0,null,0,"n/a",0]
[114,"Greenfield                   ",81,0,175,786,473,488,2,73,19,57,16,23,979,1965,1,10,0.56120000000000003,null,1115117.47,1734719.1900000002,10509407.369999999,2025467.5500000003,445036.36,1144118.04,740524.08999999985,1130508.24,2118550.4099999997,2940157.18,532714.97,24436320.869999997,null,0.49658203125,2048,976,979,979,null,979,null,1744.5,null,0.56120000000000003,"54.00 - 69.99%",10]
[115,"Groton                       ",0,0,0,0,0,0,0,0,0,0,0,0,0,0,1,0,0,null,0,0,0,0,0,0,0,0,0,0,0,0,null,"",0,0,0,0,null,0,null,0,null,0,"n/a",0]
[116,"Groveland                    ",0,0,0,0,0,0,8,0,0,0,0,0,0,8,1,0,0,null,3197.84,5775.6,58261.760000000002,4070.48,1821.2,10732.4,3215.44,4331.28,14467.52,13763.68,0,119637.19999999998,null,0,6,0,0,0,null,0,null,0,null,0,"n/a",0]
[117,"Hadley                       ",7,0,28,153,147,158,30,20,5,16,4,6,132,520,1,4,0.23849999999999999,null,287100.01999999996,412927.85,2474588.7199999997,516543.41000000003,99566.23,333297.40000000002,187423.55999999997,231123.48999999996,591814.9,723724.34,140188.15,5998298.0700000003,null,0.20949263502454993,611,109,132,132,null,132,null,553.5,null,0.23849999999999999,"18.00 - 23.99%",4]
[118,"Halifax                      ",0,0,64,456,90,14,6,24,6,5,1,0,159,630,1.0269999999999999,5,0.26989999999999997,null,354313.37734000001,510334.49843999994,2787098.5214800001,731157.99470999988,117571.03188999998,323941.37,195541.83726999996,193275.98770999999,685760.55859999999,861745.40999999992,168225.78,6928966.3674400011,null,0.2516891891891892,592,159,134,159,null,159,null,589,null,0.26989999999999997,"24.00 - 29.99%",5]
[119,"Hamilton                     ",0,0,0,0,0,0,0,0,0,0,0,0,0,0,1.036,0,0,null,0,0,0,0,0,0,0,0,0,0,0,0,null,"",0,0,0,0,null,0,null,0,null,0,"n/a",0]
[120,"Hampden                      ",0,0,0,0,0,0,0,0,0,0,0,0,0,0,1,0,0,null,0,0,0,0,0,0,0,0,0,0,0,0,null,"",0,0,0,0,null,0,null,0,null,0,"n/a",0]
[121,"Hancock                      ",0,0,7,22,17,22,9,3,1,0,0,0,12,77,1,5,0.28239999999999998,null,42663.29,58692.030000000006,362902.56999999995,76329.509999999995,14077.740000000002,52354.49,26878.949999999997,30979.360000000001,90378.930000000008,106003.56999999999,28037.63,889298.06999999983,null,0,75,0,12,12,null,12,null,42.5,null,0.28239999999999998,"24.00 - 29.99%",5]
[122,"Hanover                      ",35,198,4,998,635,802,2,97,25,15,4,2,257,2558,1.0329999999999999,2,0.1011,null,1424718.4757600003,1976941.56813,10881826.14146,2660860.88014,435363.54182999994,1501932.0700000003,880038.45268999983,900010.1751199998,2834939.8914999999,3278474.0999999996,700940.75,27476046.046630003,null,9.6648480124707711E-2,2566,247,257,257,null,257,null,2541,null,0.1011,"6.00 - 11.99%",2]
[123,"Hanson                       ",0,0,0,0,0,0,1,0,0,0,0,0,0,1,1,0,0,null,399.73,721.95,7282.72,508.81,227.65,1341.55,401.93,541.41,1808.44,1720.46,0,14954.649999999998,null,0,8,0,0,0,null,0,null,0,null,0,"n/a",0]
[124,"Hardwick                     ",0,0,0,0,0,0,2,0,0,0,0,0,0,2,1,0,0,null,799.46,1443.9,14565.44,1017.62,455.3,2683.1,803.86,1082.82,3616.88,3440.92,0,29909.299999999996,null,0,1,0,0,0,null,0,null,0,null,0,"n/a",0]
[125,"Harvard                      ",7,54,0,317,228,335,0,35,9,7,0,1,79,911,1,2,7.6399999999999996E-2,null,491978.19,678289.27,3769244.7600000007,904025.91999999993,149079.59999999998,548317.88,309074.03999999998,323963.61,980430.1,1159963.7699999998,252338.67,9566705.8100000005,null,3.8272816486751716E-2,1019,35,79,79,null,79,null,1034.5,null,7.6399999999999996E-2,"6.00 - 11.99%",2]
[126,"Harwich                      ",0,0,0,0,0,0,0,0,0,0,0,0,0,0,1,0,0,null,0,0,0,0,0,0,0,0,0,0,0,0,null,"",0,0,0,0,null,0,null,0,null,0,"n/a",0]
[127,"Hatfield                     ",5,0,19,122,97,89,23,13,3,0,0,0,86,353,1,4,0.19789999999999999,null,190262.21,276442.28999999998,1639042.8600000003,348739.62,66171.22,220891.16,123226.52,148104.69999999998,396233.68,486101.13,84112.89,3979328.2800000012,null,0.13385826771653545,381,47,86,86,null,86,null,434.5,null,0.19789999999999999,"18.00 - 23.99%",4]
[128,"Haverhill                    ",211,1,625,3541,2224,1902,141,324,83,543,139,121,4497,8540,1,10,0.54169999999999996,null,4918551.1900000013,7677785.5400000019,47155245.850000001,8913774.5,2003793.8599999999,5077329.879999999,3274578.13,5066190.3499999996,9458011.0300000012,13119735.09,2327123.29,108992118.71000001,null,0.49673041332510798,8105,4242,4497,4497,null,4497,null,8302,null,0.54169999999999996,"54.00 - 69.99%",10]
[129,"Hawley                       ",0,0,0,0,0,0,1,0,0,0,0,0,0,1,1,0,0,null,399.73,721.95,7282.72,508.81,227.65,1341.55,401.93,541.41,1808.44,1720.46,0,14954.649999999998,null,0,5,0,0,0,null,0,null,0,null,0,"n/a",0]
[130,"Heath                        ",0,0,0,0,0,0,0,0,0,0,0,0,0,0,1,0,0,null,0,0,0,0,0,0,0,0,0,0,0,0,null,"",0,{"$f":"ROUND(AH139*P139,0)","v":0},0,{"$f":"MAX(AJ139,AK139)","v":0},null,0,null,0,null,0,"n/a",0]
[131,"Hingham                      ",53,1,303,1596,1010,1344,8,163,43,10,2,3,287,4289,1.044,2,6.7699999999999996E-2,null,2408684.3002800001,3309035.0785200009,18094489.4538,4520788.7360399999,719025.86195999989,2517170.7199999993,1471629.6140399997,1437823.2131999999,4798851.4335599998,5436537.5900000008,1205618.0900000001,45919654.091400005,null,6.68417283361184E-2,4189,287,283,287,null,287,null,4239.5,null,6.7699999999999996E-2,"6.00 - 11.99%",2]
[132,"Hinsdale                     ",0,0,0,0,0,0,8,0,0,0,0,0,0,8,1,0,0,null,3197.84,5775.6,58261.760000000002,4070.48,1821.2,10732.4,3215.44,4331.28,14467.52,13763.68,0,119637.19999999998,null,0,14,0,0,0,null,0,null,0,null,0,"n/a",0]
[133,"Holbrook                     ",20,0,110,549,337,340,0,51,13,59,11,12,652,1346,1.038,9,0.4899,null,795081.7905,1225369.97166,7388906.1546,1447308.6960600002,312520.52100000001,785881.70000000007,524989.64405999996,785811.12185999996,1514741.7640200001,2004274.8399999999,364489.19,17149375.393759999,null,0.4845890410958904,1168,652,489,652,null,652,null,1331,null,0.4899,"48.00 - 53.99%",9]
[134,"Holden                       ",0,0,0,0,0,0,0,0,0,0,0,0,0,0,1,0,0,null,0,0,0,0,0,0,0,0,0,0,0,0,null,0,1,0,0,0,null,0,null,0,null,0,"n/a",0]
[135,"Holland                      ",3,0,16,121,17,0,0,6,2,1,0,0,88,156,1,7,0.40179999999999999,null,89994.83,137461.85000000003,808155.17999999993,179233.91999999998,35095.020000000004,78738.489999999991,51797.24,74506.03,163027.08000000002,235474.19,56075.26,1909559.09,null,0.3987730061349693,163,62,88,88,null,88,null,219,null,0.40179999999999999,"36.00 - 41.99%",7]
[136,"Holliston                    ",15,176,15,1063,689,835,8,103,27,45,9,8,268,2706,1.022,2,9.6199999999999994E-2,null,1497428.6563600001,2074671.2420000001,11432548.363879999,2793257.6949200006,457925.72084000002,1594744.16,923608.83048,940250.14845999994,2985624.0332800006,3483258.1700000004,757016.01,28940333.030220006,null,7.0175438596491224E-2,2565,190,268,268,null,268,null,2786.5,null,9.6199999999999994E-2,"6.00 - 11.99%",2]
[137,"Holyoke                      ",361,0,497,2399,1398,1596,288,239,59,579,274,356,5108,6359,1,12,0.85499999999999998,null,3822335.97,6378324.6899999995,42284612.150000006,6652728.96,1802117.4499999997,4099334.59,2736181.7399999998,5060270,7352576.0299999993,10889073.52,1654220.1700000002,92731775.269999996,null,0.80328362705226686,6639,5108,4918,5108,null,5108,null,5974.5,null,0.85499999999999998,"80.00%+",12]
[138,"Hopedale                     ",20,0,60,336,233,285,0,35,9,16,5,4,159,924,1.006,3,0.15290000000000001,null,506284.81131999998,715491.68604000006,4005869.5460800007,939682.38751999999,161996.49185999998,543872.34,317077.59888000006,349007.12342000002,1001590.8730200001,1215639.4999999998,252338.67,10008851.028140003,null,0.14020427112349118,1077,130,159,159,null,159,null,1040,null,0.15290000000000001,"12.00 - 17.99%",3]
[139,"Hopkinton                    ",34,0,269,1433,879,1264,5,147,38,211,9,9,246,3867,1.0449999999999999,2,6.4100000000000004E-2,null,2192190.0483999997,3020437.2561000003,16615272.085500002,4107825.0267999996,657750.3685499999,2307954.8600000008,1347875.2132999997,1314522.0318999998,4392793.5589999985,4946536.4400000004,1065429.94,41968586.829549991,null,3.2387503582688451E-2,3489,125,246,246,null,246,null,3837,null,6.4100000000000004E-2,"6.00 - 11.99%",2]
[140,"Hubbardston                  ",0,0,0,0,0,0,0,0,0,0,0,0,0,0,1,0,0,null,0,0,0,0,0,0,0,0,0,0,0,0,null,"",0,0,0,0,null,0,null,0,null,0,"n/a",0]
[141,"Hudson                       ",28,1,195,1011,688,748,1,101,26,201,47,44,779,2658,1.0109999999999999,5,0.2898,null,1503609.3961499999,2191128.8352600005,12609792.76653,2775020.8956899997,519707.52234000002,1576334.0000000002,957532.05179999978,1165486.8457800001,2956737.2471099989,3695915.2800000003,728978.38,30680243.220659997,null,0.29249728162377675,2759,777,779,779,null,779,null,2688,null,0.2898,"24.00 - 29.99%",5]
[142,"Hull                         ",55,0,54,312,193,295,14,34,9,8,0,1,326,896,1.028,7,0.38059999999999999,null,512707.26944,761443.11576000007,4580352.0198000008,925328.85980000009,187126.58300000001,546743.49999999988,337250.02844000002,468736.14228000003,998908.28876000002,1265063.2100000002,252338.67,10835997.687280001,null,0.3637236084452975,1042,326,294,326,null,326,null,856.5,null,0.38059999999999999,"36.00 - 41.99%",7]
[143,"Huntington                   ",0,0,0,0,0,0,27,1,0,0,0,0,0,27,1,0,0,null,13551.52,19492.650000000001,205736.81,22237.56,6585.6900000000005,36605.15,10852.11,14618.07,51909.600000000006,49674.46,0,431263.62000000005,null,0,23,0,0,0,null,0,null,0,null,0,"n/a",0]
[144,"Ipswich                      ",17,0,105,593,388,550,9,62,16,20,11,6,281,1654,1.052,3,0.16919999999999999,null,944325.67496000009,1336692.0085599998,7562728.9331600014,1741211.7194399999,302906.43124000006,991335.57,597586.22248,669314.80160000012,1878083.1367599999,2171152.2299999995,448602.08,18643938.808199998,null,0.14423592493297588,1865,239,281,281,null,281,null,1660.5,null,0.16919999999999999,"12.00 - 17.99%",3]
[145,"Kingston                     ",0,0,154,770,160,17,4,42,11,22,4,0,219,1105,1.028,4,0.20200000000000001,null,621223.62792,881970.0711200001,4713277.3027999997,1289887.3587200001,198569.5594,560992.1399999999,335976.19251999998,297933.65444000001,1202005.2012800002,1486411.1700000002,308413.93,11896660.208199998,null,0.16483516483516483,1092,182,219,219,null,219,null,1084,null,0.20200000000000001,"18.00 - 23.99%",4]
[146,"Lakeville                    ",0,0,0,0,0,0,12,1,0,0,0,0,0,12,1,0,0,null,7555.57,8663.4000000000015,96496.01,14605.41,3170.94,16481.899999999998,4823.16,6496.92,24783,23867.56,0,206943.87000000002,null,0,13,0,0,0,null,0,null,0,null,0,"n/a",0]
[147,"Lancaster                    ",0,0,0,0,0,0,0,0,0,0,0,0,0,0,1,0,0,null,0,0,0,0,0,0,0,0,0,0,0,0,null,0,2,0,0,0,null,0,null,0,null,0,"n/a",0]
[148,"Lanesborough                 ",0,0,0,0,0,0,2,0,0,0,0,0,0,2,1,0,0,null,799.46,1443.9,14565.44,1017.62,455.3,2683.1,803.86,1082.82,3616.88,3440.92,0,29909.299999999996,null,0.35,200,0,0,0,null,0,null,0,null,0,"n/a",0]
[149,"Lawrence                     ",648,0,1084,6359,3837,3702,61,575,150,3004,975,1268,14039,15367,1,12,0.9254,null,9578519.0800000001,16319128.789999999,107102236.78,16591532.75,4654457.6899999995,9620409.4800000004,6903023.4300000016,13107704.120000001,17868481.289999999,27389104.350000001,4205644.5,233340242.25999999,null,0.91360463584880813,15186,14039,11848,14039,null,14039,null,15171,null,0.9254,"80.00%+",12]
[150,"Lee                          ",19,0,48,208,130,218,2,23,6,18,4,10,282,616,1,7,0.40060000000000001,null,347045.17999999993,529672.21000000008,3234186.8099999996,617660.77,133260.88,377571.5199999999,234640.77999999997,350552.27,667476.13,895039.9,168225.78,7555332.2300000004,null,0.44592346089850249,601,275,282,282,null,282,null,704,null,0.40060000000000001,"36.00 - 41.99%",7]
[151,"Leicester                    ",20,0,102,512,368,467,80,59,14,32,6,14,541,1539,1,7,0.36549999999999999,null,856527.49000000011,1273290.9200000002,7818508.1500000004,1543448,317688.13,980342.7,568852.54,784196.48,1732322.3399999999,2214011.71,392526.82,18481715.280000001,null,0.35168961201501875,1598,541,479,541,null,541,null,1480,null,0.36549999999999999,"36.00 - 41.99%",7]
[152,"Lenox                        ",26,0,22,170,132,163,7,19,5,9,6,3,176,507,1,4,0.23039999999999999,null,281008.04000000004,413898.21,2444558.31,505884.45,100100.80000000002,308457.83,184511.66000000003,243530.4,553744.54999999993,707549.25999999989,140188.15,5883431.6600000001,null,0.34740882917466409,521,176,158,176,null,176,null,764,null,0.23039999999999999,"18.00 - 23.99%",4]
[153,"Leominster                   ",154,0,420,2218,1456,1361,645,239,55,490,124,111,2878,6177,1,8,0.47249999999999998,null,3535550.5,5417867.1899999995,34963474.609999999,6367173.5299999993,1433402.21,4143732.7600000002,2379425.52,3538228.42,7366371.4900000002,9605682.9100000001,1542069.6500000001,80292978.790000007,null,0.46110934013388588,6274,2848,2878,2878,null,2878,null,6091,null,0.47249999999999998,"42.00 - 47.99%",8]
[154,"Leverett                     ",5,0,10,89,14,0,0,4,1,0,0,0,32,116,1,4,0.23100000000000001,null,61881.290000000008,91554.48000000001,492943.17,128777.84999999999,20909.919999999998,57465.649999999994,34394.300000000003,34057.040000000001,119581.77,156838.40000000002,28037.63,1226441.5,null,0.27884615384615385,104,32,29,32,null,32,null,138.5,null,0.23100000000000001,"18.00 - 23.99%",4]
[155,"Lexington                    ",63,0,383,2654,1854,2359,0,277,73,451,118,56,497,7282,1.0880000000000001,2,6.9400000000000003E-2,null,4324678.7641600007,5965229.9327999996,32758313.156480003,8049629.8745599994,1305057.1315200001,4355071.74,2671045.5923200003,2613779.5609599994,8678479.6217599995,9383021.3499999996,2046746.99,82151053.714560002,null,6.2344867863921738E-2,6849,454,497,497,null,497,null,7158,null,6.9400000000000003E-2,"6.00 - 11.99%",2]
[156,"Leyden                       ",0,0,0,0,0,0,0,0,0,0,0,0,0,0,1,0,0,null,0,0,0,0,0,0,0,0,0,0,0,0,null,"",0,0,0,0,null,0,null,0,null,0,"n/a",0]
[157,"Lincoln                      ",12,0,55,335,191,0,8,22,6,27,4,0,74,595,1.048,2,6.93E-2,null,338561.52472000004,474829.31768000004,2453728.5224800003,680561.95664000011,105493.65024,305395.36,187868.08511999997,148538.44767999998,676352.92663999996,793135.48,168225.78,6332691.0512000015,null,6.7961165048543687E-2,618,40,74,74,null,74,null,1068,null,6.93E-2,"6.00 - 11.99%",2]
[158,"Littleton                    ",65,110,5,626,409,482,1,60,16,30,3,3,173,1611,1.01,2,0.1062,null,877669.78990000009,1223734.6546999998,6716120.8258000016,1638543.3918999997,269886.27129999996,941373.40999999992,541872.8881000001,551109.8330000001,1747877.8108999999,2073138.2599999998,448602.08,17029929.215600003,null,0.10718870346598203,1558,173,148,173,null,173,null,1628.5,null,0.1062,"6.00 - 11.99%",2]
[159,"Longmeadow                   ",28,0,177,972,683,947,15,107,28,16,4,4,256,2808,1,2,9.0800000000000006E-2,null,1515990.5699999998,2094841.86,11628967.960000001,2808959.4699999997,461435.55999999994,1678990.8600000003,943002.10000000009,970650.90999999992,3028331.87,3593226.69,785053.64,29509451.490000002,null,5.2650302383493421E-2,2811,148,256,256,null,256,null,2820.5,null,9.0800000000000006E-2,"6.00 - 11.99%",2]
[160,"Lowell                       ",650,0,1270,6926,4289,3314,228,615,158,2620,929,539,11420,16352,1,11,0.70889999999999997,null,9827201.6500000004,16009642.370000001,101358767.12,17559052.829999998,4369504.5500000007,9952602.3800000008,6751243.7299999995,11435213.380000001,18759316.420000002,27166998.540000003,4429945.54,227619488.50999999,null,0.69836601307189539,15300,11420,10257,11420,null,11420,null,16109.5,null,0.70889999999999997,"70.00 - 79.99%",11]
[161,"Ludlow                       ",51,0,162,801,610,838,72,95,24,69,6,13,865,2509,1,6,0.34279999999999999,null,1394333.8900000004,2064666.17,12465275.24,2497870.6599999997,507075.40999999992,1568845.72,926263.38000000012,1262869.6200000001,2773641.4200000009,3548387.54,672903.12,29682132.170000002,null,0.34477611940298508,2680,865,822,865,null,865,null,2523,null,0.34279999999999999,"30.00 - 35.99%",6]
[162,"Lunenburg                    ",38,0,121,640,434,491,0,64,17,14,2,2,339,1705,1,4,0.2056,null,928241.63,1320391.71,7397665.4700000007,1724999.1400000001,301347.76999999996,990970.29000000015,579989.99000000011,651317.35,1826204.5,2256664.14,476639.71,18454431.700000003,null,0.14754098360655737,1647,252,339,339,null,339,null,1649,null,0.2056,"18.00 - 23.99%",4]
[163,"Lynn                         ",311,0,1220,6839,4157,4683,1033,696,169,3057,584,1343,14541,18088,1,12,0.81779999999999997,null,11061795.549999999,18392320.370000001,123095217.5,19142533.700000003,5228641.8800000008,12067959.790000001,7952154.0299999993,14621125.370000001,21595828.59,31541725.699999996,4738359.47,269437661.94999999,null,0.80387877276128705,16036,14541,11980,14541,null,14541,null,17780,null,0.81779999999999997,"80.00%+",12]
[164,"Lynnfield                    ",17,0,170,890,508,628,0,84,22,46,4,4,203,2205,1.0389999999999999,2,9.2899999999999996E-2,null,1240151.5532900002,1715241.9399400002,9378755.9914600011,2349146.2091599992,376031.50324999989,1278923.6300000001,751401.98431000009,737015.84484999988,2461623.0606499994,2830895.15,616827.86,23736014.726909995,null,8.8878326996197715E-2,2104,196,203,203,null,203,null,2186,null,9.2899999999999996E-2,"6.00 - 11.99%",2]
[165,"Malden                       ",313,0,505,2759,1755,2081,11,272,71,830,177,221,4359,7268,1.0369999999999999,10,0.60909999999999997,null,4418976.7070999984,7036464.1657699998,43946812.623809993,7834110.0477699982,1863690.21948,4433022.1899999995,3037601.9281199994,4963183.43934,8401867.4440699983,11445492.260000002,1990671.73,99371892.755459994,null,0.59972954699121028,7395,4359,3766,4359,null,4359,null,7157,null,0.60909999999999997,"54.00 - 69.99%",10]
[166,"Manchester                   ",0,0,0,0,0,0,0,0,0,0,0,0,0,0,1.0369999999999999,0,0,null,0,0,0,0,0,0,0,0,0,0,0,0,null,"",0,0,0,0,null,0,null,0,null,0,"n/a",0]
[167,"Mansfield                    ",113,0,214,1280,890,1289,0,140,37,53,12,5,630,3730,1.054,3,0.1719,null,2135781.2582200002,3017387.18426,17024606.664960004,3920164.4920999999,681900.84649999999,2230855.2599999998,1354295.5932200002,1522621.00584,4225319.0885599991,4877845.42,1037392.31,42028169.123660006,null,0.14409014624790217,4171,537,630,630,null,630,null,3665.5,null,0.1719,"12.00 - 17.99%",3]
[168,"Marblehead                   ",43,153,9,1132,755,1028,0,115,30,75,20,22,364,3023,1,3,0.122,null,1644008.69,2292400.7000000002,12779740.09,3034172.61,510436.04,1807703.0300000003,1030681.0399999999,1097981.25,3271483.6700000004,3917028.3200000003,841128.9,32226764.34,null,0.10761789600967352,3308,325,364,364,null,364,null,2984,null,0.122,"12.00 - 17.99%",3]
[169,"Marion                       ",21,0,55,299,63,0,4,16,4,2,0,0,98,432,1,4,0.23200000000000001,null,233903.88,336866.77999999997,1811442.0099999995,486516.76,76573.62999999999,218376.49,127752.86000000002,117645.53,454948.98,584009.65,112150.52,4560187.0899999989,null,0.1958997722095672,439,85,98,98,null,98,null,422.5,null,0.23200000000000001,"18.00 - 23.99%",4]
[170,"Marlborough                  ",91,0,421,2084,1320,1462,3,202,53,799,193,205,2454,5336,1.032,8,0.4698,null,3207986.7885599998,4914935.3253599992,29686757.378640004,5810780.7686400004,1245740.0793600001,3247055.08,2123572.1174400002,3041961.1053599999,6225595.6041599996,8067185.040000001,1485994.3900000001,69057563.677520007,null,0.45980707395498394,4976,2454,2330,2454,null,2454,null,5223.5,null,0.4698,"42.00 - 47.99%",8]
[171,"Marshfield                   ",39,0,269,1357,921,1268,106,151,38,29,8,12,590,3941,1.032,3,0.15060000000000001,null,2208293.5485599996,3097497.7209600005,17766623.51472,4078594.2693600007,705972.04608,2418249.5599999996,1391778.3168000001,1537141.3888800002,4464644.7158400016,5195558.9999999991,1065429.94,43929784.021200001,null,0.14977343191032674,4193,590,585,590,null,590,null,3916.5,null,0.15060000000000001,"12.00 - 17.99%",3]
[172,"Mashpee                      ",92,0,96,567,365,511,0,59,15,46,7,2,581,1585,1,7,0.37040000000000001,null,880678.6100000001,1318594.0099999998,7813107.2800000003,1596223.5199999996,321834.38,947374.03000000014,580427.69000000006,798255.51,1706534.07,2234431.54,420564.45,18618025.09,null,0.3009478672985782,1688,477,581,581,null,581,null,1568.5,null,0.37040000000000001,"36.00 - 41.99%",7]
[173,"Mattapoisett                 ",23,0,50,290,77,4,4,16,4,1,0,0,95,437,1,4,0.22070000000000001,null,235647.46000000005,339547.13,1817705.7199999997,485907.44,77000.149999999994,221749.67000000004,130206.3,119824.73999999999,460535.68,588525.77999999991,112150.52,4588800.5899999989,null,0.16666666666666666,510,73,95,95,null,95,null,430.5,null,0.22070000000000001,"18.00 - 23.99%",4]
[174,"Maynard                      ",33,0,102,497,314,363,12,50,13,40,7,13,277,1305,1.0620000000000001,4,0.21240000000000001,null,762737.65001999994,1085506.4354400001,6167684.5918199997,1423615.0780799999,250777.07982000004,770908.64,475111.18800000002,537555.13128000009,1509929.1493199999,1755845.6500000001,364489.19,15104159.783779997,null,0.20303468208092484,1384,265,277,277,null,277,null,1304,null,0.21240000000000001,"18.00 - 23.99%",4]
[175,"Medfield                     ",50,186,10,980,578,827,0,95,25,13,2,3,174,2513,1.036,2,7.0099999999999996E-2,null,1399882.9305999998,1927452.5144,10569650.544039998,2617229.9131999994,418709.02443999995,1483431.5999999999,861151.6796400001,855682.53204000008,2788286.1627599997,3182794.3000000007,700940.75,26805211.95112,null,2.9944838455476755E-2,2538,75,174,174,null,174,null,2483.5,null,7.0099999999999996E-2,"6.00 - 11.99%",2]
[176,"Medford                      ",141,0,379,1767,1025,797,583,180,40,305,89,95,1740,4622,1.048,7,0.379,null,2737043.3333600005,4098192.2204800006,26207411.770399999,5052664.948640001,1063105.63096,3107549.0100000002,1783723.15368,2423924.7334400006,5841060.7919200007,7037269.7000000002,1121505.2,60473450.492880009,null,0.3764297385620915,4896,1740,1687,1740,null,1740,null,4591,null,0.379,"36.00 - 41.99%",7]
[177,"Medway                       ",40,0,148,797,524,697,0,83,22,31,0,1,279,2186,1.036,3,0.128,null,1228264.73392,1713270.3716800001,9516198.3263200037,2285315.5805199998,381301.24003999995,1288398.3799999999,761914.29636000004,804213.42008000007,2431998.0134799997,2828165.97,616827.86,23855868.192400001,null,9.3951093951093953E-2,2331,205,279,279,null,279,null,2179,null,0.128,"12.00 - 17.99%",3]
[178,"Melrose                      ",29,0,356,1690,877,1072,3,153,40,160,24,15,724,4013,1.034,3,0.1772,null,2276055.2346400004,3217621.52844,17983087.688060001,4308829.69814,729658.74739999988,2328365.5399999996,1392144.9566200001,1495052.9587399999,4483964.1926199999,5326623.47,1121505.2,44662909.214660004,null,0.18033226152197213,3732,724,551,724,null,724,null,4085.5,null,0.1772,"12.00 - 17.99%",3]
[179,"Mendon                       ",0,0,0,0,0,0,7,0,0,0,0,0,0,7,1,0,0,null,2798.11,5053.6500000000005,50979.040000000001,3561.67,1593.55,9390.85,2813.51,3789.87,12659.08,12043.220000000001,0,104682.55,null,0,2,0,0,0,null,0,null,0,null,0,"n/a",0]
[180,"Merrimac                     ",0,0,0,0,0,0,10,0,0,0,0,0,0,10,1,0,0,null,3997.3,7219.5,72827.199999999997,5088.1000000000004,2276.5,13415.5,4019.3,5414.0999999999995,18084.400000000001,17204.599999999999,0,149546.50000000003,null,0,3,0,0,0,null,0,null,0,null,0,"n/a",0]
[181,"Methuen                      ",128,0,490,2692,1801,1535,542,275,65,461,107,139,3334,7124,1,9,0.48230000000000001,null,4074411.45,6256760.96,39574266.249999993,7367851.6500000004,1642447.4000000004,4581437.78,2721913.5799999996,4056906.8099999996,8284963.6599999992,10978086.050000001,1822445.95,91361491.539999992,null,0.46794150731158607,7112,3334,3011,3334,null,3334,null,6913,null,0.48230000000000001,"48.00 - 53.99%",9]
[182,"Middleborough                ",65,0,218,1122,806,870,24,116,30,17,8,4,1055,3073,1,6,0.35110000000000002,null,1701123.55,2514971.9499999997,14733242.969999999,3104846.46,610116.80999999994,1811983.05,1101655.52,1459081.8699999999,3314556.7500000005,4299164.6500000004,841128.9,35491872.479999997,null,0.34317687286291576,3217,1055,1007,1055,null,1055,null,3004.5,null,0.35110000000000002,"30.00 - 35.99%",6]
[183,"Middlefield                  ",0,0,0,0,0,0,3,0,0,0,0,0,0,3,1,0,0,null,1199.19,2165.8500000000004,21848.16,1526.43,682.95,4024.6499999999996,1205.79,1624.23,5425.32,5161.38,0,44863.950000000004,null,0,1,0,0,0,null,0,null,0,null,0,"n/a",0]
[184,"Middleton                    ",75,0,86,450,111,0,1,25,6,11,0,0,70,686,1.0409999999999999,2,0.1033,null,380391.26867999998,535197.63957,2747584.2116399999,801397.56876000005,115404.37514999999,341437.75,202652.97944999996,144867.79814999999,749248.1949,890518.65,168225.78,7076926.2163000004,null,7.5445816186556922E-2,729,52,70,70,null,70,null,677.5,null,0.1033,"6.00 - 11.99%",2]
[185,"Milford                      ",155,0,322,1693,1073,1280,36,169,44,607,133,174,2034,4482,1.012,8,0.4637,null,2628389.6658800002,4024799.3940000008,24459558.207040001,4744113.2067999998,1020788.9771200001,2759453.7,1748999.0694000002,2517560.6579200001,5129113.5077599986,6751769.9399999985,1233655.72,57018202.045919992,null,0.32812129827055198,4221,1471,2034,2034,null,2034,null,4386,null,0.4637,"42.00 - 47.99%",8]
[186,"Millbury                     ",67,0,128,642,450,488,1,65,17,58,13,5,526,1743,1,6,0.3145,null,963894.39,1416049.1,8168811.8499999996,1771732.3499999999,337640.57,1020411.52,618033.62000000023,779017.16999999993,1882063.1199999996,2411978.6800000002,476639.71,19846272.080000002,null,0.28514513375071143,1757,497,526,526,null,526,null,1672.5,null,0.3145,"30.00 - 35.99%",6]
[187,"Millis                       ",57,68,12,427,261,325,0,40,11,10,1,4,178,1088,1.0329999999999999,3,0.15920000000000001,null,607796.10614000005,859853.46740999981,4784481.6201399984,1129632.2845699997,193180.96845000001,634781.82000000007,378755.23479999992,411407.05288999999,1200872.9952800001,1419678.4900000002,308413.93,11928853.969679998,null,0.16366483946750196,1277,178,155,178,null,178,null,1118,null,0.15920000000000001,"12.00 - 17.99%",3]
[188,"Millville                    ",0,0,0,0,0,0,5,0,0,0,0,0,0,5,1,0,0,null,1998.65,3609.75,36413.599999999999,2544.0500000000002,1138.25,6707.75,2009.65,2707.0499999999997,9042.2000000000007,8602.2999999999993,0,74773.250000000015,null,0,6,0,0,0,null,0,null,0,null,0,"n/a",0]
[189,"Milton                       ",33,0,373,1897,994,1093,0,166,44,83,9,9,564,4374,1.0409999999999999,3,0.12920000000000001,null,2472909.7929300005,3452024.5810800004,18905756.390069999,4720240.2470099991,766299.13988999999,2495378.23,1487057.6527799999,1488146.4554999999,4880523.0482399995,5689193.5999999996,1233655.72,47591184.857499994,null,0.12901554404145077,3860,564,506,564,null,564,null,4367,null,0.12920000000000001,"12.00 - 17.99%",3]
[190,"Monroe                       ",1,0,1,8,3,2,0,1,0,0,0,0,0,15,1,0,0,null,8554.9,10468.27,57858.51,19416.71,2385.0099999999998,7905.6399999999994,4278.18,3080.76,16736.78,19585.09,0,150269.84999999998,null,0,8,0,0,0,null,0,null,0,null,0,"n/a",0]
[191,"Monson                       ",66,0,74,368,205,254,0,34,9,5,1,1,313,934,1,6,0.33800000000000002,null,512659.11000000004,762080.51,4420984.9200000009,948352.64999999991,182597.97999999995,540661.06999999995,328685.39000000007,426929.55999999994,993095.5,1293629.9500000002,252338.67,10662015.310000001,null,0.26551094890510951,1096,248,313,313,null,313,null,926,null,0.33800000000000002,"30.00 - 35.99%",6]
[192,"Montague                     ",0,0,0,0,0,0,0,0,0,0,0,0,0,0,1,0,0,null,0,0,0,0,0,0,0,0,0,0,0,0,null,"",0,0,0,0,null,0,null,0,null,0,"n/a",0]
[193,"Monterey                     ",0,0,0,0,0,0,0,0,0,0,0,0,0,0,1,0,0,null,0,0,0,0,0,0,0,0,0,0,0,0,null,"",0,0,0,0,null,0,null,0,null,0,"n/a",0]
[194,"Montgomery                   ",0,0,0,0,0,0,6,0,0,0,0,0,0,6,1,0,0,null,2398.38,4331.7000000000007,43696.32,3052.86,1365.9,8049.2999999999993,2411.58,3248.46,10850.64,10322.76,0,89727.900000000009,null,0,3,{"$f":"ROUND(AH203*P203,0)","v":0},0,{"$f":"MAX(AJ203,AK203)","v":0},null,0,null,0,null,0,"n/a",0]
[195,"Mount Washington             ",0,0,0,0,1,1,0,0,0,0,0,0,0,2,1,0,0,null,799.46,1443.9,7197.02,1119.99,279.70999999999998,1245.74,731.82999999999993,776.19999999999993,1962.85,2230.8000000000002,0,17787.5,null,0,11,0,0,0,null,0,null,0,null,0,"n/a",0]
[196,"Nahant                       ",36,0,17,94,60,77,0,9,2,0,0,0,36,266,1,5,0.25169999999999998,null,139027.55000000002,201344.15999999997,1104449.07,261962.04,44380.100000000006,153709.78,88159.39,91753.75,280515.56,341176.29,56075.26,2762552.9499999997,null,4.2553191489361701E-2,282,11,36,36,null,36,null,143,null,0.25169999999999998,"24.00 - 29.99%",5]
[197,"Nantucket                    ",60,0,103,592,398,541,0,62,16,169,33,55,529,1664,1,6,0.32090000000000002,null,937954.77000000014,1389069.94,8160066.3300000001,1703078.85,334364.66999999993,1016698.96,613946.30000000005,790873.04,1847717.3099999996,2353587.96,448602.08,19595960.209999997,null,0.21134020618556701,1552,352,529,529,null,529,null,1648.5,null,0.32090000000000002,"30.00 - 35.99%",6]
[198,"Natick                       ",52,0,404,2147,1250,1655,2,208,55,127,20,34,642,5484,1.0169999999999999,2,0.1171,null,3029396.9775300003,4218642.4944599997,23323925.127780002,5689723.8618000001,934411.18940999988,3217200.21,1859096.6756099996,1904645.8376999998,6008814.181619999,7098301.21,1542069.6500000001,58826227.415910006,null,0.10134760937788444,5417,556,642,642,null,642,null,5482,null,0.1171,"6.00 - 11.99%",2]
[199,"Needham                      ",42,0,391,2219,1414,1709,0,219,57,145,17,7,472,5754,1.083,2,8.3199999999999996E-2,null,3371539.3056599996,4656070.4978099987,25433019.60024,6345556.9741500001,1018557.93693,3360436.19,2057459.2057800002,2015417.9580299999,6716045.1227099998,7371694.7000000011,1598144.9100000001,63943942.401309997,null,8.2058933233867953E-2,5362,472,387,472,null,472,null,5673,null,8.3199999999999996E-2,"6.00 - 11.99%",2]
[200,"New Ashford                  ",0,0,0,9,7,11,1,1,0,0,0,0,0,28,1,0,0,null,13951.25,20214.600000000002,113693.73999999999,26525.03,4354.5599999999995,17823.64,9486.32,9434.0199999999986,30768.390000000003,34948.68,0,281200.23000000004,null,0,26,0,0,0,null,0,null,0,null,0,"n/a",0]
[201,"New Bedford                  ",488,0,1145,6160,3690,3018,0,535,140,2398,652,826,10725,14257,1,11,0.76970000000000005,null,8646407.7100000009,14239760.410000002,90342967.670000002,15378202.23,3915326.7600000002,8590740.5399999991,5985658.2199999997,10432772.539999999,16251838.08,23997238.140000001,3925268.2,201706180.5,null,0.75225191128604951,13211,10725,10468,10725,null,10725,null,13933.5,null,0.76970000000000005,"70.00 - 79.99%",11]
[202,"New Braintree                ",0,0,0,0,0,0,3,0,0,0,0,0,0,3,1,0,0,null,1199.19,2165.8500000000004,21848.16,1526.43,682.95,4024.6499999999996,1205.79,1624.23,5425.32,5161.38,0,44863.950000000004,null,0,1,0,0,0,null,0,null,0,null,0,"n/a",0]
[203,"Newbury                      ",0,0,0,0,0,0,3,0,0,0,0,0,0,3,1.0369999999999999,0,0,null,1243.5600299999999,2245.9864500000003,22656.54192,1582.9079099999999,708.21915000000001,4024.6499999999996,1250.4042299999999,1684.3265099999999,5626.0568399999993,5161.38,0,46184.033039999995,null,0,2,0,0,0,null,0,null,0,null,0,"n/a",0]
[204,"Newburyport                  ",75,144,26,781,588,798,5,87,23,29,8,13,254,2308,1,2,0.1108,null,1248235.99,1737129.84,9667029.4099999983,2294607.7800000003,385013.79999999993,1382968.99,784853.25,829050.83,2490439.5600000005,2969924.7200000007,644865.49,24434119.66,null,8.6298568507157461E-2,2445,199,254,254,null,254,null,2292.5,null,0.1108,"6.00 - 11.99%",2]
[205,"New Marlborough              ",0,0,0,0,0,0,0,0,0,0,0,0,0,0,1,0,0,null,0,0,0,0,0,0,0,0,0,0,0,0,null,"",0,0,0,0,null,0,null,0,null,0,"n/a",0]
[206,"New Salem                    ",0,0,0,0,0,0,0,0,0,0,0,0,0,0,1,0,0,null,0,0,0,0,0,0,0,0,0,0,0,0,null,"",0,0,0,0,null,0,null,0,null,0,"n/a",0]
[207,"Newton                       ",179,0,825,4820,2928,3679,489,492,123,545,124,104,1645,12831,1.0549999999999999,3,0.12959999999999999,null,7394041.7930999994,10342427.95875,59333631.705999993,13812078.093249997,2356083.8772999998,7935213.4099999992,4598468.3367999997,4846948.3406500006,15149835.14205,17079691.109999999,3448628.49,146297048.2579,null,0.12823538667296042,12711,1645,1346,1645,null,1645,null,12690.5,null,0.12959999999999999,"12.00 - 17.99%",3]
[208,"Norfolk                      ",24,0,134,662,136,0,0,36,9,22,1,0,56,944,1.0429999999999999,1,5.8299999999999998E-2,null,530154.62625999993,729109.30644999968,3712402.2273099991,1125718.5568999997,154948.83095999999,469788.47,274564.64973,177180.61585,1038496.9100799999,1215700.6299999999,252338.67,9680403.4935399964,null,5.9775840597758409E-2,803,56,54,56,null,56,null,960,null,5.8299999999999998E-2,"0.00 - 5.99%",1]
[209,"North Adams                  ",118,0,126,540,390,309,0,52,14,9,0,1,904,1424,1,10,0.6714,null,813610.67,1307644.4200000002,8058045.3399999999,1455366.7999999998,347838.68999999994,812384.84,553046.99,925402.29,1516714.67,2212107.2000000002,392526.82,18394688.73,null,0.62977346278317148,1545,897,904,904,null,904,null,1346.5,null,0.6714,"54.00 - 69.99%",10]
[210,"Northampton                  ",68,0,201,985,658,867,0,104,27,49,18,19,823,2745,1,5,0.29039999999999999,null,1516727.75,2208358.7700000005,12790082.25,2778176.97,523025.85,1629673.2299999997,974663.52999999991,1226933.7,2959254.4299999997,3759209.6200000006,757016.01,31123122.110000003,null,0.29237441272135889,2767,803,823,823,null,823,null,2834,null,0.29039999999999999,"24.00 - 29.99%",5]
[211,"North Andover                ",126,0,321,1744,1119,1445,12,178,46,74,12,16,878,4704,1,4,0.19059999999999999,null,2563968.67,3636686.9100000006,20505725.110000003,4763511.1899999995,828410.47000000009,2775858.8899999992,1607000.81,1801789.7199999997,5066094.8500000015,6217812.5899999989,1289730.98,51056590.189999998,null,0.1679768307819611,4834,790,878,878,null,878,null,4606,null,0.19059999999999999,"18.00 - 23.99%",4]
[212,"North Attleborough           ",161,205,95,1602,1139,1150,0,156,41,106,22,20,890,4170,1,4,0.2165,null,2279605.91,3261037.9600000004,18274228.800000001,4229276.6900000004,749345.7699999999,2421536.8800000004,1429781.0000000002,1617065.3299999998,4496416.7299999995,5574605.6899999995,1149542.83,45482443.589999996,null,0.17792891619131199,4558,742,890,890,null,890,null,4111,null,0.2165,"18.00 - 23.99%",4]
[213,"Northborough                 ",2,159,14,878,555,12,0,59,15,64,15,0,225,1540,1,3,0.14910000000000001,null,841875.04,1181206.8999999999,6069564.1699999999,1686198.0899999996,264358.32999999996,777118.35,470276.17,390429.35,1662830.2999999998,2062524.58,420564.45,15826945.729999999,null,0.10541310541310542,1755,162,225,225,null,225,null,1509.5,null,0.14910000000000001,"12.00 - 17.99%",3]
[214,"Northbridge                  ",34,0,164,765,529,588,11,79,20,33,4,6,683,2074,1,6,0.3478,null,1149923.1600000004,1693348.61,9885182.4800000004,2110616.7000000002,408736.91,1221217.7400000002,740404.80999999994,965155.57000000007,2240232.7900000005,2893637.39,560752.6,23869208.760000002,null,0.32936344969199177,2435,683,664,683,null,683,null,1963.5,null,0.3478,"30.00 - 35.99%",6]
[215,"North Brookfield             ",28,0,47,232,166,150,0,23,6,0,0,0,226,609,1,7,0.41889999999999999,null,338177.94,503962.15,2933099.2600000002,622309.07000000007,123158.8,348394.83000000007,217097.54,291440.5,650589.78,859895.07000000007,168225.78,7056350.7200000016,null,0.37165354330708661,635,226,205,226,null,226,null,539.5,null,0.41889999999999999,"36.00 - 41.99%",7]
[216,"Northfield                   ",0,0,0,0,0,0,1,0,0,0,0,0,0,1,1,0,0,null,399.73,721.95,7282.72,508.81,227.65,1341.55,401.93,541.41,1808.44,1720.46,0,14954.649999999998,null,0,2,0,0,0,null,0,null,0,null,0,"n/a",0]
[217,"North Reading                ",61,188,8,868,543,768,8,87,23,5,3,3,224,2320,1.0649999999999999,2,9.8500000000000004E-2,null,1329004.6498499997,1844672.7189000002,10214171.5623,2469145.8845999995,405615.49529999989,1377683.3499999996,825906.7864499999,851844.09464999998,2650308.9343500002,2963813.5700000008,644865.49,25577032.536399998,null,9.076369452219113E-2,2501,211,224,224,null,224,null,2275,null,9.8500000000000004E-2,"6.00 - 11.99%",2]
[218,"Norton                       ",113,0,165,833,602,702,41,90,23,26,7,9,579,2400,1,4,0.23480000000000001,null,1310427.24,1886894.99,10859934.67,2414059.86,441082.33999999997,1436898.6500000001,834357.9,989145.75999999989,2610698.34,3243950.8200000003,644865.49,26672316.059999999,null,0.18805055534278053,2611,451,579,579,null,579,null,2465.5,null,0.23480000000000001,"18.00 - 23.99%",4]
[219,"Norwell                      ",48,160,8,824,521,696,0,81,21,3,1,2,117,2153,1.054,1,5.5199999999999999E-2,null,1214956.1502800002,1669599.19784,9088104.3862200007,2274141.4192200005,360355.30632000003,1265467.4500000002,746435.78035999998,724622.81822000002,2427792.2533399994,2712032.4499999997,588790.23,23072297.441799998,null,5.4495912806539509E-2,2202,117,117,117,null,117,null,2119.5,null,5.5199999999999999E-2,"0.00 - 5.99%",1]
[220,"Norwood                      ",56,0,280,1427,757,1039,0,134,35,354,44,45,1094,3531,1.0569999999999999,6,0.31390000000000001,null,2102937.71282,3090708.39854,18053254.019639999,3886514.38637,740621.15938999981,2115269.5299999998,1344154.9468900003,1698825.1240099999,4111315.38118,4969037.4499999993,981317.05,43093955.158840001,null,0.29037800687285226,3492,1025,1094,1094,null,1094,null,3485,null,0.31390000000000001,"30.00 - 35.99%",6]
[221,"Oak Bluffs                   ",10,0,42,239,161,0,0,17,4,67,12,0,167,447,1,7,0.36620000000000003,null,254857.72000000003,383237.7900000001,2125409.92,498916.75,94011.950000000012,233432.43999999997,152271.82999999999,176102.77,498052.17,662203.16,112150.52,5190647.0200000005,null,0.37327188940092165,434,167,151,167,null,167,null,456,null,0.36620000000000003,"36.00 - 41.99%",7]
[222,"Oakham                       ",0,0,0,0,0,0,1,0,0,0,0,0,0,1,1,0,0,null,399.73,721.95,7282.72,508.81,227.65,1341.55,401.93,541.41,1808.44,1720.46,0,14954.649999999998,null,0,1,0,0,0,null,0,null,0,null,0,"n/a",0]
[223,"Orange                       ",39,0,79,392,103,0,1,22,6,4,3,0,340,595,1,10,0.65569999999999995,null,338785.95,534914.89,3160075.15,668346.74,138612.94,302564.92,204494.69999999998,305417.03999999998,625144.87999999977,914320.9800000001,168225.78,7360903.9700000016,null,0.5718849840255591,626,340,333,340,null,340,null,518.5,null,0.65569999999999995,"54.00 - 69.99%",10]
[224,"Orleans                      ",1,0,23,180,0,0,0,8,2,18,0,0,74,204,1,7,0.37559999999999999,null,115447.26000000001,170912.44,972587.52999999991,243810.72,40981.919999999998,104199.67,62806.12000000001,71785.989999999991,216764.51,293440.01,56075.26,2348811.4299999997,null,0.24663677130044842,223,50,74,74,null,74,null,197,null,0.37559999999999999,"36.00 - 41.99%",7]
[225,"Otis                         ",0,0,0,0,0,0,0,0,0,0,0,0,0,0,1,0,0,null,0,0,0,0,0,0,0,0,0,0,0,0,null,"",0,0,0,0,null,0,null,0,null,0,"n/a",0]
[226,"Oxford                       ",0,0,107,645,439,463,1,63,17,12,1,1,602,1655,1,7,0.38030000000000003,null,923012.72000000009,1368369.75,8020258.669999999,1681400.8000000003,334259.43999999994,965133.10000000009,596671.53,809352.13,1776014.6400000001,2332584.4300000002,476639.71,19283696.920000002,null,0.36039296794208892,1934,596,602,602,null,602,null,1583,null,0.38030000000000003,"36.00 - 41.99%",7]
[227,"Palmer                       ",22,0,106,551,384,361,0,54,14,34,11,3,659,1413,1,9,0.50670000000000004,null,801344.49,1225581.82,7351987.4100000001,1453031.81,311284.05,821467.38,527970.85999999987,782987.84000000008,1525492.13,2085011.7999999998,392526.82,17278686.410000004,null,0.45502998001332445,1501,643,659,659,null,659,null,1300.5,null,0.50670000000000004,"48.00 - 53.99%",9]
[228,"Paxton                       ",0,0,0,0,0,0,1,0,0,0,0,0,0,1,1,0,0,null,399.73,721.95,7282.72,508.81,227.65,1341.55,401.93,541.41,1808.44,1720.46,0,14954.649999999998,null,"",0,0,0,0,null,0,null,0,null,0,"n/a",0]
[229,"Peabody                      ",251,2,484,2321,1487,1176,388,228,55,356,87,88,2262,5983,1,7,0.38319999999999999,null,3367767.31,5048543.04,30858748.93,6219931.6199999992,1274878.17,3734588.3699999996,2177083.9500000002,2922078.3999999994,6864661.0999999996,8852194.5900000017,1542069.6500000001,72862545.13000001,null,0.37102177554438859,5970,2220,2262,2262,null,2262,null,5903.5,null,0.38319999999999999,"36.00 - 41.99%",7]
[230,"Pelham                       ",0,0,7,63,14,0,0,3,1,5,0,0,29,84,1,4,0.23200000000000001,null,46836.52,68864.810000000012,377811.18,94351.099999999991,16215.359999999999,42518.14,26203.48,28336.75,88945.44,118121.43000000001,28037.63,936241.84000000008,null,0.26027397260273971,73,22,29,29,null,29,null,125,null,0.23200000000000001,"18.00 - 23.99%",4]
[231,"Pembroke                     ",46,0,179,1018,663,884,87,109,27,36,3,4,508,2854,1.0369999999999999,4,0.18579999999999999,null,1610081.7483600001,2278409.8312399997,13167548.146220002,2975944.2724799998,525534.13691999984,1752780.82,1018683.0542,1155667.1350699998,3257843.8146499996,3806884.9000000004,757016.01,32306393.869140003,null,0.17804340987731992,3179,508,462,508,null,508,null,2734.5,null,0.18579999999999999,"18.00 - 23.99%",4]
[232,"Pepperell                    ",0,0,0,0,0,0,0,0,0,0,0,0,0,0,1,0,0,null,0,0,0,0,0,0,0,0,0,0,0,0,null,"",0,0,0,0,null,0,null,0,null,0,"n/a",0]
[233,"Peru                         ",0,0,0,0,0,0,8,0,0,0,0,0,0,8,1,0,0,null,3197.84,5775.6,58261.760000000002,4070.48,1821.2,10732.4,3215.44,4331.28,14467.52,13763.68,0,119637.19999999998,null,0,8,0,0,0,null,0,null,0,null,0,"n/a",0]
[234,"Petersham                    ",0,0,16,48,15,0,0,3,1,3,0,0,45,79,1,6,0.34350000000000003,null,45717.37000000001,69981.509999999995,407904.63,89540.999999999985,17870.879999999997,40256.04,26821.200000000004,37611.410000000003,83865.97,119985.47,28037.63,967593.11,null,0.56896551724137934,58,45,39,45,null,45,null,131,null,0.34350000000000003,"30.00 - 35.99%",6]
[235,"Phillipston                  ",0,0,0,0,0,0,0,0,0,0,0,0,0,0,1,0,0,null,0,0,0,0,0,0,0,0,0,0,0,0,null,"",0,0,0,0,null,0,null,0,null,0,"n/a",0]
[236,"Pittsfield                   ",121,0,424,2181,1390,1506,358,227,55,189,24,52,3595,5920,1,10,0.66790000000000005,null,3412526.1,5421604.9299999997,35087355.490000002,6035582.3799999999,1470792.4499999997,3775608.95,2360119.4699999997,3972139.68,6710674.2699999986,9393147.8200000003,1542069.6500000001,79181621.190000027,null,0.60723514211886309,6192,3595,3232,3595,null,3595,null,5382.5,null,0.66790000000000005,"54.00 - 69.99%",10]
[237,"Plainfield                   ",0,0,0,0,0,0,3,0,0,0,0,0,0,3,1,0,0,null,1199.19,2165.8500000000004,21848.16,1526.43,682.95,4024.6499999999996,1205.79,1624.23,5425.32,5161.38,0,44863.950000000004,null,0,3,0,0,0,null,0,null,0,null,0,"n/a",0]
[238,"Plainville                   ",31,0,87,490,123,0,0,27,7,26,3,0,160,716,1,4,0.2233,null,392510.82,562168.12,2997576.1800000006,812804.77,127645.76999999999,359535.74999999994,213729.89,193711.28999999998,758605.44,972435.70000000007,196263.41,7586987.1399999997,null,0.17110799438990182,713,123,160,160,null,160,null,716.5,null,0.2233,"18.00 - 23.99%",4]
[239,"Plymouth                     ",194,0,490,2708,1954,2083,619,306,72,102,36,36,2487,7951,1.0349999999999999,6,0.31990000000000002,null,4550292.8783999998,6682763.0978999976,41124771.413100004,8278848.5003999965,1661495.2600499995,5129569.5200000005,2977262.8254,3917749.6682999996,9418042.6128000002,11398270.040000001,2018709.36,97157775.176350012,null,0.31274801587301587,8064,2487,2132,2487,null,2487,null,7775.5,null,0.31990000000000002,"30.00 - 35.99%",6]
[240,"Plympton                     ",0,0,40,150,34,1,2,9,2,1,0,0,39,227,1.0549999999999999,3,0.17730000000000001,null,130443.08015000001,183441.77529999998,976834.64909999992,274695.73049999995,41109.246050000002,115055.40999999999,69705.759549999988,58256.372050000005,254400.5056,303741.84000000003,56075.26,2463759.6282999991,null,0.17180616740088106,227,39,36,39,null,39,null,220,null,0.17730000000000001,"12.00 - 17.99%",3]
[241,"Princeton                    ",0,0,0,0,0,0,0,0,0,0,0,0,0,0,1,0,0,null,0,0,0,0,0,0,0,0,0,0,0,0,null,"",0,0,0,0,null,0,null,0,null,0,"n/a",0]
[242,"Provincetown                 ",14,0,4,35,22,29,0,3,1,21,7,0,62,97,1,9,0.5,null,56575.87000000001,93253.81,581821.49999999988,97437.079999999987,24588.010000000002,60623.24,40279.519999999997,65795.61,109423.82,154723.91999999998,28037.63,1312560.0099999998,null,0.33333333333333331,129,32,62,62,null,62,null,124,null,0.5,"48.00 - 53.99%",9]
[243,"Quincy                       ",310,0,775,3680,2144,1552,1351,376,82,1120,188,223,5115,9657,1.052,9,0.53790000000000004,null,5896443.5888,9208508.3042800035,61145047.419799998,10676729.063999999,2516198.2168000001,6670775.669999999,3989467.7770000002,6184326.4185600001,12519707.002840001,15709821.179999998,2299085.66,136816110.30208001,null,0.5296395911780527,9295,5115,4004,5115,null,5115,null,9509,null,0.53790000000000004,"48.00 - 53.99%",9]
[244,"Randolph                     ",62,0,249,1295,820,891,0,124,33,329,74,101,1760,3286,1.038,10,0.56420000000000003,null,1986404.76012,3108516.2252400001,19098867.819240004,3558691.0850999998,809015.75718000019,1975395.52,1338285.9990599998,2087527.25988,3785880.4287,5064515.97,925241.79,43738342.614520006,null,0.53566009104704093,3295,1760,1644,1760,null,1760,null,3119.5,null,0.56420000000000003,"54.00 - 69.99%",10]
[245,"Raynham                      ",0,0,0,0,0,0,0,0,0,0,0,0,0,0,1,0,0,null,0,0,0,0,0,0,0,0,0,0,0,0,null,"",0,0,0,0,null,0,null,0,null,0,"n/a",0]
[246,"Reading                      ",32,301,17,1582,939,1264,6,151,40,32,5,4,384,3975,1.036,2,9.7199999999999995E-2,null,2224726.7781199999,3078622.6867200001,16982869.834000003,4155386.9246399999,677045.86012000008,2342433.3099999991,1370228.6530800003,1398911.7427600001,4421346.0888799997,5090116.24,1121505.2,42863193.318320006,null,9.1166077738515899E-2,4245,362,384,384,null,384,null,3949,null,9.7199999999999995E-2,"6.00 - 11.99%",2]
[247,"Rehoboth                     ",0,0,0,0,0,0,0,0,0,0,0,0,0,0,1,0,0,null,0,0,0,0,0,0,0,0,0,0,0,0,null,0,2,0,0,0,null,0,null,0,null,0,"n/a",0]
[248,"Revere                       ",98,0,583,3048,1992,2303,4,303,79,1237,250,365,6261,7979,1.028,11,0.79710000000000003,null,4974020.980680001,8222387.2221999997,53107640.375560001,8628070.8405600023,2282033.9158000001,4958520.8200000012,3537817.5390000003,6416916.9285199996,9298988.7800399978,13442730.279999997,2214972.77,117084100.45236,null,0.78472319551506653,7135,6261,4578,6261,null,6261,null,7855,null,0.79710000000000003,"70.00 - 79.99%",11]
[249,"Richmond                     ",0,0,11,51,36,26,1,5,1,0,0,0,51,125,1,6,0.31380000000000002,null,69692.77,104361.57,612110.46,130924.39,25923.79,71169.750000000015,44524.409999999996,60453.58,135209.72,179874.88999999998,28037.63,1462282.96,null,0.28455284552845528,123,36,51,51,null,51,null,162.5,null,0.31380000000000002,"30.00 - 35.99%",6]
[250,"Rochester                    ",24,0,55,361,70,2,14,20,5,1,0,0,101,514,1,4,0.20319999999999999,null,280938.11,397029.99,2166178.87,584695.07000000007,90510.560000000012,268575.86000000004,151725.75999999998,136390.69,552360.28,697091.39,140188.15,5465684.7299999995,null,0.1953781512605042,476,100,101,101,null,101,null,497,null,0.20319999999999999,"18.00 - 23.99%",4]
[251,"Rockland                     ",66,0,179,926,574,606,8,87,23,128,26,35,1044,2326,1.0680000000000001,8,0.44550000000000001,null,1409231.3079600001,2151752.9359200001,12897668.518199999,2563662.8605199996,541706.34623999998,1372835.2500000002,926391.18864000007,1336565.1967200001,2711155.4974799994,3422966.74,644865.49,29978801.331679996,null,0.44883920894239038,2326,1044,942,1044,null,1044,null,2343.5,null,0.44550000000000001,"42.00 - 47.99%",8]
[252,"Rockport                     ",23,1,41,246,159,206,0,25,7,6,3,2,204,665,1.0249999999999999,5,0.24310000000000001,null,376392.33074999996,547241.38075000001,3167564.1830000002,687211.62924999988,129740.18474999997,392051.26999999996,240939.19575000001,305312.19899999996,730279.95625000005,908633.14,196263.41,7681628.8794999998,null,0.28056628056628058,777,187,204,204,null,204,null,839,null,0.24310000000000001,"24.00 - 29.99%",5]
[253,"Rowe                         ",6,0,3,16,12,13,3,2,0,0,0,0,31,50,1,8,0.44929999999999998,null,27415.609999999997,45154.12,291941.84999999998,51153.259999999995,12226.310000000001,31705.079999999998,19723.38,32957.68,56332.58,78575.88,0,647185.75,null,0.2,70,10,31,31,null,31,null,69,null,0.44929999999999998,"42.00 - 47.99%",8]
[254,"Rowley                       ",0,0,0,0,0,0,7,0,0,0,0,0,0,7,1.038,0,0,null,2904.4381800000001,5245.6887000000006,52916.243520000004,3697.0134600000001,1654.1049,9390.85,2920.4233800000002,3933.8850600000001,13140.125040000001,12043.220000000001,0,107845.99224000001,null,0,2,0,0,0,null,0,null,0,null,0,"n/a",0]
[255,"Royalston                    ",0,0,0,0,0,0,0,0,0,0,0,0,0,0,1,0,0,null,0,0,0,0,0,0,0,0,0,0,0,0,null,"",0,0,0,0,null,0,null,0,null,0,"n/a",0]
[256,"Russell                      ",0,0,0,0,0,0,21,1,0,0,0,0,0,21,1,0,0,null,11153.14,15160.95,162040.49,19184.7,5219.7900000000009,28555.85,8440.5300000000007,11369.609999999999,41058.959999999999,39351.700000000004,0,341535.72000000003,null,0,14,0,0,0,null,0,null,0,null,0,"n/a",0]
[257,"Rutland                      ",0,0,0,0,0,0,0,0,0,0,0,0,0,0,1,0,0,null,0,0,0,0,0,0,0,0,0,0,0,0,null,0,1,0,0,0,null,0,null,0,null,0,"n/a",0]
[258,"Salem                        ",74,0,354,1811,1066,911,357,175,41,345,98,130,2604,4536,1,10,0.59079999999999999,null,2638708.9900000002,4167634.8700000006,26951885.810000002,4747734.9000000004,1128922.58,2934163.3999999994,1793246,2892413.81,5309695.6800000006,7288003.790000001,1149542.83,61001952.659999996,null,0.5741811175337187,4671,{"$f":"ROUND(AH267*P267,0)","v":2604},2442,{"$f":"MAX(AJ267,AK267)","v":2604},null,2604,null,4407.5,null,0.59079999999999999,"54.00 - 69.99%",10]
[259,"Salisbury                    ",0,0,0,0,0,0,2,0,0,0,0,0,0,2,1,0,0,null,799.46,1443.9,14565.44,1017.62,455.3,2683.1,803.86,1082.82,3616.88,3440.92,0,29909.299999999996,null,0,6,0,0,0,null,0,null,0,null,0,"n/a",0]
[260,"Sandisfield                  ",0,0,0,0,0,0,0,0,0,0,0,0,0,0,1,0,0,null,0,0,0,0,0,0,0,0,0,0,0,0,null,"",0,0,0,0,null,0,null,0,null,0,"n/a",0]
[261,"Sandwich                     ",61,0,148,905,667,893,0,100,26,24,2,5,523,2644,1,4,0.1973,null,1440380.82,2046986.94,11604019.170000002,2638095.6199999996,468196.86,1574888.74,917266.93000000017,1062229.76,2840332.95,3491198.92,728978.38,28812575.09,null,0.16593886462882096,2977,439,523,523,null,523,null,2651,null,0.1973,"18.00 - 23.99%",4]
[262,"Saugus                       ",83,148,34,1077,736,811,24,105,27,128,47,35,1046,2798,1,7,0.38729999999999998,null,1569949.2600000005,2351326.3900000006,13952602.529999999,2843809.0700000003,579096.5199999999,1680408.05,1031429.4199999999,1410102.2399999998,3070008.8,4009198.28,757016.01,33254946.570000004,null,0.32084063047285466,2855,898,1046,1046,null,1046,null,2701,null,0.38729999999999998,"36.00 - 41.99%",7]
[263,"Savoy                        ",4,0,2,25,10,10,1,2,0,0,0,0,32,50,1,10,0.57140000000000002,null,27580.94,45937.159999999996,289512.90999999997,53330.17,12361.669999999998,29174.86,19194.45,32491.1,54258.380000000005,78757.42,0,642599.05999999994,null,0.27419354838709675,62,14,32,32,null,32,null,56,null,0.57140000000000002,"54.00 - 69.99%",10]
[264,"Scituate                     ",64,11,210,1102,675,965,1,113,30,6,2,1,359,2991,1.0329999999999999,3,0.12139999999999999,null,1668989.6305199997,2325250.6671000007,12909774.801380001,3112556.3895599996,515105.01613999996,1762054.7,1033312.31722,1084348.8805000002,3303764.2866899995,3847201.72,841128.9,32403487.309109993,null,0.10472074468085106,3008,313,359,359,null,359,null,2956.5,null,0.12139999999999999,"12.00 - 17.99%",3]
[265,"Seekonk                      ",15,1,157,793,494,624,0,79,21,57,8,5,449,2077,1,4,0.21820000000000001,null,1140518.7400000002,1624815.5,9201624.370000001,2116645.3500000006,373815.45999999996,1220820.0199999998,714538.34000000008,820695.48999999987,2238931.89,2774695.0600000005,588790.23,22815890.449999999,null,0.21595028482651477,1931,449,345,449,null,449,null,2058,null,0.21820000000000001,"18.00 - 23.99%",4]
[266,"Sharon                       ",20,221,22,1339,893,1160,0,135,35,99,22,10,361,3535,1.04,2,0.1038,null,1996645.1960000005,2769529.7552000005,15320309.503199998,3706882.4832000001,612117.94800000009,2100529.46,1240728.4136000001,1280697.4856000002,3978448.6560000004,4557761.1199999992,981317.05,38544967.070799999,null,7.7621558289396597E-2,3414,274,361,361,null,361,null,3477,null,0.1038,"6.00 - 11.99%",2]
[267,"Sheffield                    ",0,0,0,0,0,0,0,0,0,0,0,0,0,0,1,0,0,null,0,0,0,0,0,0,0,0,0,0,0,0,null,0,7,0,0,0,null,0,null,0,null,0,"n/a",0]
[268,"Shelburne                    ",0,0,0,0,0,0,1,0,0,0,0,0,0,1,1,0,0,null,399.73,721.95,7282.72,508.81,227.65,1341.55,401.93,541.41,1808.44,1720.46,0,14954.649999999998,null,"",0,0,0,0,null,0,null,0,null,0,"n/a",0]
[269,"Sherborn                     ",23,0,65,320,0,0,3,15,4,13,0,0,22,400,1.0389999999999999,1,5.5100000000000003E-2,null,223636.68736000001,307492.57988999999,1598596.6931799997,486222.78331999993,64809.619879999991,201659.83,112164.27872999999,68944.54896,436145.09249000001,513102.1,112150.52,4124924.7338100001,null,3.7037037037037035E-2,378,15,22,22,null,22,null,399.5,null,5.5100000000000003E-2,"0.00 - 5.99%",1]
[270,"Shirley                      ",0,0,0,0,0,0,0,0,0,0,0,0,0,0,1,0,0,null,0,0,0,0,0,0,0,0,0,0,0,0,null,"",0,0,0,0,null,0,null,0,null,0,"n/a",0]
[271,"Shrewsbury                   ",87,168,200,2303,1514,1959,103,236,61,98,38,40,964,6207,1,3,0.15809999999999999,null,3379648.43,4752188.18,26979960.82,6244938.6500000004,1079630.3899999999,3754095.8099999996,2124458.38,2337500.7999999998,6782004.3900000006,8184107.7799999993,1710295.4300000002,67328829.060000002,null,0.15534790589020525,5993,964,873,964,null,964,null,6098,null,0.15809999999999999,"12.00 - 17.99%",3]
[272,"Shutesbury                   ",0,0,17,75,13,0,0,4,1,0,0,0,49,105,1,7,0.41699999999999998,null,58902.39,89744.76,514913.19999999995,120100.89,22256.12,52853.7,33860.43,44094.450000000004,109852.37000000001,154048.85999999999,28037.63,1228664.7999999998,null,0.26027397260273971,146,27,49,49,null,49,null,117.5,null,0.41699999999999998,"36.00 - 41.99%",7]
[273,"Somerset                     ",61,0,152,907,668,0,0,66,17,17,1,0,470,1758,1,5,0.2742,null,962134.2,1393268.6700000002,7359972.4200000009,1897994.06,324945.47000000003,878298.45000000007,554609.97000000009,554655.25,1875674.3300000003,2423577.7400000002,476639.71,18701770.270000003,null,0.19866814650388456,1802,349,470,470,null,470,null,1714,null,0.2742,"24.00 - 29.99%",5]
[274,"Somerville                   ",306,0,465,2087,1138,807,634,203,45,737,143,171,3515,5284,1.0509999999999999,10,0.67769999999999997,null,3289993.3096799986,5323914.9738600012,35663039.054949999,5909555.8528900007,1493413.8150899999,3588182.2200000007,2272427.56403,3837098.2016899996,6793575.936710001,8961964.2700000014,1261693.3500000001,78394858.548899978,null,0.66512231282431433,5396,3515,2566,3515,null,3515,null,5186.5,null,0.67769999999999997,"54.00 - 69.99%",10]
[275,"Southampton                  ",24,0,51,289,67,0,43,18,4,8,1,0,78,462,1,3,0.16339999999999999,null,251142.19000000003,354685.23000000004,2039744.5799999998,516344.22000000003,83054.099999999991,267826.55000000005,139855.84000000003,127189.66,526113.54999999993,641487.91999999993,112150.52,5059594.3599999994,null,0.16938775510204082,490,78,76,78,null,78,null,477.5,null,0.16339999999999999,"12.00 - 17.99%",3]
[276,"Southborough                 ",26,0,140,647,417,8,0,46,12,66,14,0,90,1225,1.0369999999999999,2,7.2599999999999998E-2,null,688859.08589999995,954026.29085999983,4798300.9371000007,1392574.1715800001,207084.92829000001,617917.30000000005,378013.58644000004,267333.56017999997,1372025.8195500001,1605667.7000000002,336451.56,12618254.939900002,null,3.453689167974882E-2,1274,42,90,90,null,90,null,1240,null,7.2599999999999998E-2,"6.00 - 11.99%",2]
[277,"Southbridge                  ",70,0,188,847,549,612,0,84,22,150,105,98,1535,2231,1,11,0.78,null,1321350.0599999998,2143036.5100000002,13567715.699999999,2327190.7299999995,580734.92999999993,1352180.6199999999,919271.64999999991,1588252.1099999999,2478339.0099999998,3610401.1599999997,616827.86,30505300.34,null,0.68814115716044322,2437,1535,1521,1535,null,1535,null,1968,null,0.78,"70.00 - 79.99%",11]
[278,"South Hadley                 ",73,0,133,749,445,487,90,73,18,61,14,20,652,1941,1,6,0.32790000000000002,null,1077051.5599999998,1596720.3099999998,9612047.9299999997,1981979.6599999995,392962.94,1199378.5499999998,696837.45,913683.15999999992,2172309.7800000003,2773358.3800000008,504677.34,22921007.059999999,null,0.33576262363352422,1921,652,617,652,null,652,null,1988.5,null,0.32790000000000002,"30.00 - 35.99%",6]
[279,"Southwick                    ",0,0,0,0,0,0,0,0,0,0,0,0,0,0,1,0,0,null,0,0,0,0,0,0,0,0,0,0,0,0,null,"",0,0,0,0,null,0,null,0,null,0,"n/a",0]
[280,"Spencer                      ",0,0,0,0,0,0,2,0,0,0,0,0,0,2,1,0,0,null,799.46,1443.9,14565.44,1017.62,455.3,2683.1,803.86,1082.82,3616.88,3440.92,0,29909.299999999996,null,0,6,0,0,0,null,0,null,0,null,0,"n/a",0]
[281,"Springfield                  ",1538,0,2086,10992,6932,7394,1380,1114,274,2570,927,1217,24382,29553,1,12,0.85550000000000004,null,17734058.130000003,29702226.940000005,197480123.12,30695219.880000003,8439809.4400000013,18995346.410000004,12767176.949999999,23970253.509999998,34007233.229999997,50757295.339999989,7682310.6200000001,432231053.56999999,null,0.82502588885053507,28970,24382,23210,24382,null,24382,null,28499,null,0.85550000000000004,"80.00%+",12]
[282,"Sterling                     ",0,0,0,0,0,0,0,0,0,0,0,0,0,0,1,0,0,null,0,0,0,0,0,0,0,0,0,0,0,0,null,"",0,0,0,0,null,0,null,0,null,0,"n/a",0]
[283,"Stockbridge                  ",0,0,0,0,0,0,0,0,0,0,0,0,0,0,1,0,0,null,0,0,0,0,0,0,0,0,0,0,0,0,null,"",0,0,0,0,null,0,null,0,null,0,"n/a",0]
[284,"Stoneham                     ",48,0,194,951,575,699,7,92,24,65,10,18,594,2450,1.04,5,0.24479999999999999,null,1398776.392,2014777.9392000004,11472602.096799999,2601243.2575999997,468029.484,1437955.8300000003,880155.86880000017,1032028.4832000001,2750676.7288000002,3308258.5500000003,672903.12,28037407.750399999,null,0.2426408746846089,2378,594,477,594,null,594,null,2426.5,null,0.24479999999999999,"24.00 - 29.99%",5]
[285,"Stoughton                    ",112,0,266,1314,921,1087,0,137,36,154,54,53,1341,3644,1.0409999999999999,7,0.37409999999999999,null,2129373.6406199997,3179688.6543599996,18760654.41897,3865494.8843700001,778312.74833999993,2168762.31,1392318.6578999998,1888488.9368099996,4129175.9058600003,5187507.74,1009354.68,44489132.577229999,null,0.36305048335123524,3724,1323,1341,1341,null,1341,null,3584.5,null,0.37409999999999999,"36.00 - 41.99%",7]
[286,"Stow                         ",0,0,0,0,0,0,1,0,0,0,0,0,0,1,1.0489999999999999,0,0,null,419.31677000000002,757.32555000000002,7639.5732799999996,533.74168999999995,238.80484999999999,1341.55,421.62457000000001,567.93908999999996,1897.0535599999998,1720.46,0,15537.389360000001,null,0,1,0,0,0,null,0,null,0,null,0,"n/a",0]
[287,"Sturbridge                   ",78,0,111,580,138,0,2,32,8,8,1,0,165,870,1,4,0.19259999999999999,null,469407.66000000009,671698.83,3545979.05,978988.92999999993,150102.71,434947.57,254539.50999999998,217955.01,913341.32000000007,1161712.77,224301.04,9022974.3999999985,null,0.18950749464668093,934,165,155,165,null,165,null,856.5,null,0.19259999999999999,"18.00 - 23.99%",4]
[288,"Sudbury                      ",15,0,280,1412,967,0,23,103,27,61,4,0,178,2690,1.008,2,6.7100000000000007E-2,null,1466043.4353600005,2012625.2059200003,10135578.116160002,2956468.5057599996,437924.90447999997,1358766.8699999996,801186.04944000021,567025.79472000001,2926444.4899200001,3512419.0100000002,757016.01,26931498.39176001,null,5.0238357169050236E-2,2727,135,178,178,null,178,null,2654,null,6.7100000000000007E-2,"6.00 - 11.99%",2]
[289,"Sunderland                   ",11,0,26,106,32,0,1,6,2,18,1,0,81,171,1,7,0.3821,null,97257.080000000016,149251.18,857044.31999999983,191012.77999999997,37221.32,88751.349999999991,57363.850000000006,74086.06,183924.37,255166.92,56075.26,2047154.49,null,0.38857142857142857,175,66,81,81,null,81,null,212,null,0.3821,"36.00 - 41.99%",7]
[290,"Sutton                       ",38,0,94,511,341,350,6,50,13,21,3,3,198,1321,1,3,0.14779999999999999,null,717415.42,1007999.3,5575222.9400000004,1349305.6299999997,226577.94,764645.86,440395.83,460239.03000000009,1424089.12,1731983.19,364489.19,14062363.449999996,null,0.11409395973154363,1490,151,198,198,null,198,null,1339.5,null,0.14779999999999999,"12.00 - 17.99%",3]
[291,"Swampscott                   ",60,0,163,796,511,655,0,81,21,100,12,10,428,2155,1,4,0.19120000000000001,null,1181310.1100000001,1684934.29,9511560.2199999988,2194573.31,385309.29,1273992.7900000003,742214.15,834778.64,2334966.5699999994,2873670.6300000004,588790.23,23606100.23,null,0.18207547169811319,2120,392,428,428,null,428,null,2238.5,null,0.19120000000000001,"18.00 - 23.99%",4]
[292,"Swansea                      ",57,0,153,815,570,548,0,80,21,6,2,3,720,2115,1,6,0.34689999999999999,null,1171017.0599999998,1727634.6400000001,9993047.3500000015,2155951.46,416967.77999999997,1217053.06,748461.88000000012,974699.8,2263146.2799999998,2948823.9200000004,588790.23,24205593.460000005,null,0.34055876685934489,2076,720,496,720,null,720,null,2075.5,null,0.34689999999999999,"30.00 - 35.99%",6]
[293,"Taunton                      ",317,0,588,3122,2085,1475,684,311,73,271,83,90,4282,8113,1,9,0.53869999999999996,null,4628291.9600000009,7212314.1799999997,46045501.920000002,8375699.7599999998,1926706.3199999998,5164480.7,3105589.1800000011,4826009.7,9377433.3200000022,12693609.959999999,2046746.99,105402383.99000001,null,0.52779181404749875,7916,4282,4154,4282,null,4282,null,7949,null,0.53869999999999996,"48.00 - 53.99%",9]
[294,"Templeton                    ",0,0,0,0,0,0,0,0,0,0,0,0,0,0,1,0,0,null,0,0,0,0,0,0,0,0,0,0,0,0,null,"",0,0,0,0,null,0,null,0,null,0,"n/a",0]
[295,"Tewksbury                    ",56,0,247,1299,842,942,6,127,33,33,7,4,669,3364,1,4,0.20130000000000001,null,1832660.39,2606608.94,14616069.670000002,3421482.95,595549.28,1953977.8500000003,1141061.6099999999,1275845.46,3610769.6400000006,4461906.8,925241.79,36441174.380000003,null,0.19889958734525448,3635,669,610,669,null,669,null,3323.5,null,0.20130000000000001,"18.00 - 23.99%",4]
[296,"Tisbury                      ",9,0,43,179,144,0,0,14,4,63,14,0,145,371,1,8,0.44409999999999999,null,214736.79000000004,322549.88,1799193.97,412199.1,79959.45,195034.14,128934.22,152919.15999999997,416638.05000000005,556775.43000000005,112150.52,4391090.71,null,0.35449735449735448,378,132,145,145,null,145,null,326.5,null,0.44409999999999999,"42.00 - 47.99%",8]
[297,"Tolland                      ",0,0,0,0,0,0,0,0,0,0,0,0,0,0,1,0,0,null,0,0,0,0,0,0,0,0,0,0,0,0,null,"",0,0,0,0,null,0,null,0,null,0,"n/a",0]
[298,"Topsfield                    ",44,8,71,431,99,0,0,23,6,1,0,0,30,627,1.0409999999999999,1,4.82E-2,null,347122.63673999999,479065.60790999996,2413795.8688200004,733619.71395,100833.15462,309882.14,180859.88387999998,114147.75282000001,682041.89072999998,798445.78,168225.78,6328040.2094700001,null,3.4050179211469536E-2,558,21,30,30,null,30,null,622,null,4.82E-2,"0.00 - 5.99%",1]
[299,"Townsend                     ",0,0,0,0,0,0,0,0,0,0,0,0,0,0,1,0,0,null,0,0,0,0,0,0,0,0,0,0,0,0,null,"",0,0,0,0,null,0,null,0,null,0,"n/a",0]
[300,"Truro                        ",20,0,12,67,58,66,0,8,2,1,0,0,51,213,1,8,0.47889999999999999,null,116357.27,168838.42,965740.19999999984,212845.32,39598.929999999993,125293.17000000001,74898,91717.13,228322.15999999997,287902.72000000009,56075.26,2367588.5799999996,null,0.23857868020304568,197,51,40,51,null,51,null,106.5,null,0.47889999999999999,"42.00 - 47.99%",8]
[301,"Tyngsborough                 ",5,0,117,626,403,496,0,63,16,44,10,4,298,1645,1,3,0.1792,null,899691.8,1271869.79,7139998.5900000008,1677331.0100000002,289146.37,966904.72000000009,561052.62000000011,620260.1,1776609.34,2175672.4099999997,448602.08,17827138.829999994,null,0.14228571428571429,1750,234,298,298,null,298,null,1663,null,0.1792,"12.00 - 17.99%",3]
[302,"Tyringham                    ",0,0,2,17,5,10,0,1,0,0,0,0,0,34,1,0,0,null,16349.63,24546.300000000003,129404.09,32775.450000000004,5015.1500000000005,19548.52,10638.060000000001,9223.14,35192.93,41115.660000000003,0,323808.92999999993,null,0,28,0,0,0,null,0,null,0,null,0,"n/a",0]
[303,"Upton                        ",0,0,0,0,0,0,6,0,0,0,0,0,0,6,1,0,0,null,2398.38,4331.7000000000007,43696.32,3052.86,1365.9,8049.2999999999993,2411.58,3248.46,10850.64,10322.76,0,89727.900000000009,null,0,2,0,0,0,null,0,null,0,null,0,"n/a",0]
[304,"Uxbridge                     ",58,0,130,662,433,502,22,67,17,27,2,7,417,1778,1,5,0.2487,null,971811.1,1397194.59,7992477.8600000013,1804341.6099999999,325291.98,1052815.5899999999,613266.84000000008,717976.35,1927448.44,2398959.7500000005,476639.71,19678223.82,null,0.22854188210961737,1934,406,417,417,null,417,null,1676.5,null,0.2487,"24.00 - 29.99%",5]
[305,"Wakefield                    ",30,0,271,1344,813,1028,9,132,35,61,11,15,523,3480,1.0549999999999999,3,0.15029999999999999,null,1998630.0011,2804492.2152999998,15635803.241900001,3741077.3906,629842.71204999986,2040867.9399999997,1233782.6842999996,1314262.0405499998,3955248.7627999997,4552561.5900000008,981317.05,38887885.628600001,null,0.12803793716656786,3374,446,523,523,null,523,null,3480,null,0.15029999999999999,"12.00 - 17.99%",3]
[306,"Wales                        ",3,0,18,94,30,0,1,5,1,1,0,0,57,145,1,7,0.3972,null,78024.390000000014,120701.20999999999,675355.38,157917.26999999996,29277.99,73307.03,46463.420000000006,56295.83,151728.21,207076.62000000005,28037.63,1624184.98,null,0.35761589403973509,151,52,57,57,null,57,null,143.5,null,0.3972,"36.00 - 41.99%",7]
[307,"Walpole                      ",20,255,20,1415,884,1130,0,137,36,85,19,24,604,3587,1.046,3,0.1699,null,2052086.5437200002,2889263.4070600006,16212666.273700003,3804391.0982800014,654068.11998000008,2121574.6500000004,1282530.0658199999,1415801.15594,4054269.4629800003,4722042.5799999991,1009354.68,40218048.037480004,null,0.16849243609806991,3834,604,503,604,null,604,null,3555.5,null,0.1699,"12.00 - 17.99%",3]
[308,"Waltham                      ",74,0,441,2273,1277,1324,394,222,53,885,184,364,2633,5746,1.0920000000000001,8,0.46310000000000001,null,3668240.9836799996,5620363.0392000014,35493549.065520003,6670961.7483600006,1464389.8651200002,3778204.3300000005,2439113.4331200006,3511105.8746400001,7502617.067400001,8973019.3499999996,1485994.3900000001,80607559.147039995,null,0.4582861457153643,5298,2633,2437,2633,null,2633,null,5686,null,0.46310000000000001,"42.00 - 47.99%",8]
[309,"Ware                         ",58,0,91,475,367,323,4,48,13,8,2,1,659,1289,1,10,0.5948,null,729860.85000000021,1135026.32,6879238.8000000007,1306230.2699999998,293001.90999999997,748301.45,488991.78,759460.95,1383034.98,1928423.79,364489.19,16016060.289999997,null,0.51127272727272732,1375,659,635,659,null,659,null,1108,null,0.5948,"54.00 - 69.99%",10]
[310,"Wareham                      ",80,0,198,916,640,550,59,91,23,20,4,1,1275,2403,1,10,0.58350000000000002,null,1364615.45,2130998.0100000002,13154607.050000001,2459423.1799999992,558018.85,1426627.1800000002,914462.32,1440324.6099999999,2624230.0099999998,3655940.22,644865.49,30374112.370000001,null,0.51047957371225572,2815,1227,1275,1275,null,1275,null,2185,null,0.58350000000000002,"54.00 - 69.99%",10]
[311,"Warren                       ",0,0,0,0,0,0,0,0,0,0,0,0,0,0,1,0,0,null,0,0,0,0,0,0,0,0,0,0,0,0,null,"",0,0,0,0,null,0,null,0,null,0,"n/a",0]
[312,"Warwick                      ",0,0,0,0,0,0,0,0,0,0,0,0,0,0,1,0,0,null,0,0,0,0,0,0,0,0,0,0,0,0,null,"",0,0,0,0,null,0,null,0,null,0,"n/a",0]
[313,"Washington                   ",0,0,0,0,0,0,1,0,0,0,0,0,0,1,1,0,0,null,399.73,721.95,7282.72,508.81,227.65,1341.55,401.93,541.41,1808.44,1720.46,0,14954.649999999998,null,0,1,0,0,0,null,0,null,0,null,0,"n/a",0]
[314,"Watertown                    ",51,0,223,1051,595,722,61,102,26,235,70,60,841,2678,1.0680000000000001,6,0.32400000000000001,null,1614180.2943600004,2376308.1061200001,14084490.534960004,2982602.6708400007,576702.08964000002,1641307.9500000004,1034099.0420400001,1308456.2697600001,3216029.9306400004,3823175.7,728978.38,33386330.968360007,null,0.27335907335907333,2590,732,841,841,null,841,null,2596,null,0.32400000000000001,"30.00 - 35.99%",6]
[315,"Wayland                      ",20,204,0,1014,666,851,10,101,26,60,12,8,223,2653,1.038,2,8.5599999999999996E-2,null,1489602.3901200001,2059262.7067199999,11354201.987279998,2775428.9798400002,452465.72586000001,1576454.2400000002,921531.02315999998,928876.64813999983,2981936.3602800001,3403504.3699999996,728978.38,28672242.811399993,null,8.3969465648854963E-2,2620,223,176,223,null,223,null,2606,null,8.5599999999999996E-2,"6.00 - 11.99%",2]
[316,"Webster                      ",40,0,167,819,473,516,28,76,20,143,28,33,1165,2023,1,10,0.63180000000000003,null,1171847.5499999998,1851725.5500000003,11542274.250000002,2099887.9099999997,488826.4800000001,1220478.3299999998,793547.71000000008,1281746.18,2236140.4400000004,3147165.8600000003,560752.6,26394392.860000003,null,0.56432160804020104,1990,1142,1165,1165,null,1165,null,1844,null,0.63180000000000003,"54.00 - 69.99%",10]
[317,"Wellesley                    ",100,0,330,1775,1183,1536,2,184,48,75,17,6,317,4876,1.071,2,6.59E-2,null,2810605.9041900001,3871867.05486,21133275.767730005,5266556.44515,840750.39026999997,2867254.9499999997,1724447.8162799999,1677562.6385700002,5614491.2512499988,6191704.1700000009,1345806.24,53344322.628300011,null,6.1208423538673493E-2,5081,298,317,317,null,317,null,4812.5,null,6.59E-2,"6.00 - 11.99%",2]
[318,"Wellfleet                    ",0,0,20,95,0,0,0,4,1,1,0,0,38,115,1,6,0.35849999999999999,null,62270.64,93706.930000000008,520932.29000000004,131846.99,21849.67,57513.74,34305.140000000007,37201.31,118319.78000000001,159615.37000000002,28037.63,1265599.4900000002,null,0.28225806451612906,124,32,38,38,null,38,null,106,null,0.35849999999999999,"30.00 - 35.99%",6]
[319,"Wendell                      ",0,0,0,0,0,0,0,0,0,0,0,0,0,0,1,0,0,null,0,0,0,0,0,0,0,0,0,0,0,0,null,"",0,0,0,0,null,0,null,0,null,0,"n/a",0]
[320,"Wenham                       ",0,0,0,0,0,0,0,0,0,0,0,0,0,0,1.032,0,0,null,0,0,0,0,0,0,0,0,0,0,0,0,null,"",0,0,0,0,null,0,null,0,null,0,"n/a",0]
[321,"Westborough                  ",35,220,37,1471,962,1185,0,144,38,312,56,37,484,3783,1,3,0.12809999999999999,null,2084944.4,2918815.93,16257007.4,3871184.4599999995,653912.77999999991,2264182.39,1297926.47,1354689.85,4164099.7600000002,4988945.16,1065429.94,40921138.540000007,null,0.10634648370497427,3498,402,484,484,null,484,null,3777.5,null,0.12809999999999999,"12.00 - 17.99%",3]
[322,"West Boylston                ",32,0,62,313,193,240,30,32,8,19,8,5,243,854,1,5,0.26910000000000001,null,469507.85000000003,684566.62,4044115.1599999997,864869.81,163792.31999999998,524591.38,301515.50000000006,373719.72,945464.83999999985,1183830.27,224301.04,9780274.5099999979,null,0.234375,896,{"$f":"ROUND(AH331*P331,0)","v":200},243,{"$f":"MAX(AJ331,AK331)","v":243},null,243,null,903,null,0.26910000000000001,"24.00 - 29.99%",5]
[323,"West Bridgewater             ",45,0,86,402,269,325,2,41,11,12,1,5,287,1107,1,4,0.2135,null,604995.10000000021,874967.48,4988904.1599999992,1116067.6100000001,203803.85999999993,648390.30000000005,383880.42000000004,459282.24000000005,1186263.81,1491475.13,308413.93,12266444.039999999,null,0.2470703125,1024,274,287,287,null,287,null,1344.5,null,0.2135,"18.00 - 23.99%",4]
[324,"West Brookfield              ",0,0,0,0,0,0,41,2,0,0,0,0,0,41,1,0,0,null,21906.55,29599.95,316798.26,37860.589999999997,10211.93,55770.149999999994,16479.13,22197.809999999998,80309.48000000001,76982.94,0,668116.79,null,0,25,0,0,0,null,0,null,0,null,0,"n/a",0]
[325,"Westfield                    ",107,1,373,1806,1263,1272,452,202,47,174,51,55,2248,5221,1,8,0.42980000000000002,null,2947113.8800000004,4470547.7,28378772.620000005,5309286.53,1162578.1100000003,3413947.55,1972585.7100000002,2885911.9,6057871.1000000015,7885169.1100000003,1317768.6100000001,65801552.82,null,0.41478292070326517,5574,2166,2248,2248,null,2248,null,5230,null,0.42980000000000002,"42.00 - 47.99%",8]
[326,"Westford                     ",54,261,13,1697,1128,1718,1,179,47,62,8,14,323,4715,1.0169999999999999,2,6.8099999999999994E-2,null,2585073.91842,3557038.3820100008,19673103.500909995,4766420.5904699992,775125.18143999984,2837734.8,1616068.5688799997,1650435.5922299996,5163865.3701899992,5975440.7400000012,1317768.6100000001,49918075.254549995,null,5.5385868458562408E-2,4911,261,323,323,null,323,null,4744.5,null,6.8099999999999994E-2,"6.00 - 11.99%",2]
[327,"Westhampton                  ",3,0,10,75,13,0,16,5,1,1,0,0,22,116,1,4,0.18260000000000001,null,64194.73000000001,89165.110000000015,542225.15,132235.27999999997,21722.14,71579.17,35633.08,35156.370000000003,137093.63999999998,165701.27000000002,28037.63,1322743.5699999998,null,0.10948905109489052,137,13,22,22,null,22,null,120.5,null,0.18260000000000001,"18.00 - 23.99%",4]
[328,"Westminster                  ",0,0,0,0,0,0,0,0,0,0,0,0,0,0,1,0,0,null,0,0,0,0,0,0,0,0,0,0,0,0,null,"",0,0,0,0,null,0,null,0,null,0,"n/a",0]
[329,"West Newbury                 ",0,0,0,0,0,0,2,0,0,0,0,0,0,2,1,0,0,null,799.46,1443.9,14565.44,1017.62,455.3,2683.1,803.86,1082.82,3616.88,3440.92,0,29909.299999999996,null,0,1,0,0,0,null,0,null,0,null,0,"n/a",0]
[330,"Weston                       ",43,0,128,725,492,687,3,78,20,42,10,13,142,2057,1.06,2,7.0400000000000004E-2,null,1176325.3964,1622343.2818000005,8926752.2110000029,2192736.6170000001,353714.84500000003,1225363.1499999997,728029.60279999999,722622.35199999996,2355089.1108000004,2619905.0099999998,560752.6,22483634.176800013,null,4.7132058692752332E-2,2249,97,142,142,null,142,null,2018,null,7.0400000000000004E-2,"6.00 - 11.99%",2]
[331,"Westport                     ",49,0,106,605,408,361,0,57,15,9,1,2,451,1505,1,6,0.31690000000000002,null,830394.82,1212953.8799999999,6920952.8300000001,1544603.2999999996,288705.89,856926.00000000012,522235.6,647420.6,1610503.3100000003,2074866.9800000004,420564.45,16930127.66,null,0.29954809554551326,1549,451,428,451,null,451,null,1423,null,0.31690000000000002,"30.00 - 35.99%",6]
[332,"West Springfield             ",124,0,284,1569,947,1182,94,157,40,304,40,96,2314,4138,1,10,0.56410000000000005,null,2395833.37,3769513.54,23715121.510000002,4260747.07,995561.90999999992,2565748.2000000007,1637628.94,2643456.42,4621004.47,6425395.9400000004,1121505.2,54151516.57,null,0.55916708989334685,3938,2314,2171,2314,null,2314,null,4102,null,0.56410000000000005,"54.00 - 69.99%",10]
[333,"West Stockbridge             ",0,0,0,0,0,0,0,0,0,0,0,0,0,0,1,0,0,null,0,0,0,0,0,0,0,0,0,0,0,0,null,"",0,0,0,0,null,0,null,0,null,0,"n/a",0]
[334,"West Tisbury                 ",0,0,0,0,0,0,0,0,0,0,0,0,0,0,1,0,0,null,0,0,0,0,0,0,0,0,0,0,0,0,null,"",0,0,0,0,null,0,null,0,null,0,"n/a",0]
[335,"Westwood                     ",26,0,170,1097,700,1021,0,114,30,19,3,4,184,3001,1.0580000000000001,2,6.1699999999999998E-2,null,1708411.3507400004,2345136.9318999997,12870115.536100002,3183113.5485199997,508505.45026000007,1781409.96,1053743.70832,1044265.58358,3406041.9565600003,3792461.3600000008,841128.9,32534334.285979997,null,6.1290322580645158E-2,3100,184,175,184,null,184,null,2980,null,6.1699999999999998E-2,"6.00 - 11.99%",2]
[336,"Weymouth                     ",180,330,58,2177,1454,1534,444,227,54,181,42,45,2071,5922,1.04,6,0.35799999999999998,null,3430630.5280000009,5087720.7264,31459841.712000005,6223782.7184000025,1277679.9256000002,3820918.8000000007,2257957.3328000004,3056499.1496000001,7068903.9928000001,8608582.6600000001,1514032.02,73806549.565599993,null,0.32321537522879806,6556,1914,2071,2071,null,2071,null,5784.5,null,0.35799999999999998,"30.00 - 35.99%",6]
[337,"Whately                      ",2,0,10,56,12,0,0,3,1,5,0,0,34,79,1,5,0.28220000000000001,null,45130.06,66640.3,375573.85,90581.58,16194.09,40223.289999999994,25306.480000000003,30089.300000000003,84194.6,114572.87,28037.63,916544.04999999993,null,0.42696629213483145,89,34,33,34,null,34,null,120.5,null,0.28220000000000001,"24.00 - 29.99%",5]
[338,"Whitman                      ",0,0,0,0,0,0,12,1,0,0,0,0,0,12,1,0,0,null,7555.57,8663.4000000000015,96496.01,14605.41,3170.94,16481.899999999998,4823.16,6496.92,24783,23867.56,0,206943.87000000002,null,0,9,0,0,0,null,0,null,0,null,0,"n/a",0]
[339,"Wilbraham                    ",0,0,0,0,0,0,0,0,0,0,0,0,0,0,1,0,0,null,0,0,0,0,0,0,0,0,0,0,0,0,null,"",0,0,0,0,null,0,null,0,null,0,"n/a",0]
[340,"Williamsburg                 ",1,0,19,106,21,0,29,7,1,1,1,0,38,176,1,5,0.25590000000000002,null,94681.810000000012,136860.07000000004,849774.37999999989,194022.93999999994,33845.85,112733.28999999998,55433.64,57959.32,210884.06,254853.28999999998,28037.63,2029086.28,null,0.2,185,35,38,38,null,38,null,148.5,null,0.25590000000000002,"24.00 - 29.99%",5]
[341,"Williamstown                 ",0,0,0,0,0,0,0,0,0,0,0,0,0,0,1,0,0,null,0,0,0,0,0,0,0,0,0,0,0,0,null,0.23677581863979849,397,0,0,0,null,0,null,0,null,0,"n/a",0]
[342,"Wilmington                   ",78,0,244,1233,840,853,11,122,32,21,3,4,391,3220,1.07,3,0.1249,null,1863509.7209000003,2597729.8965000003,14235630.071900001,3512898.9705000003,577151.0878000001,1854663.4600000004,1136111.4587000001,1147536.5870000001,3700653.2507999996,4174288.6100000003,897204.16,35697377.274099998,null,0.12128146453089245,3496,391,385,391,null,391,null,3131.5,null,0.1249,"12.00 - 17.99%",3]
[343,"Winchendon                   ",86,0,95,511,322,350,1,49,13,6,2,3,587,1322,1,9,0.48770000000000002,null,740166.63,1132173.06,6769524.5700000003,1345250,284532.64,767708.46000000008,487369.87,714062.23,1411512.9900000002,1921048.1199999999,364489.19,15937837.76,null,0.44170096021947874,1458,584,587,587,null,587,null,1203.5,null,0.48770000000000002,"48.00 - 53.99%",9]
[344,"Winchester                   ",35,0,333,1745,1132,1452,5,178,47,96,17,7,326,4685,1.046,2,7.0199999999999999E-2,null,2647159.9394400003,3642961.9810400004,19916941.354320001,4965420.0739200003,793437.7666600002,2754360.1999999997,1618795.9178399995,1577889.76572,5280910.4517600005,5970858.9100000001,1317768.6100000001,50486504.970700011,null,6.9585253456221199E-2,4340,326,292,326,null,326,null,4644,null,7.0199999999999999E-2,"6.00 - 11.99%",2]
[345,"Windsor                      ",0,0,0,0,0,0,4,0,0,0,0,0,0,4,1,0,0,null,1598.92,2887.8,29130.880000000001,2035.24,910.6,5366.2,1607.72,2165.64,7233.76,6881.84,0,59818.599999999991,null,0,3,0,0,0,null,0,null,0,null,0,"n/a",0]
[346,"Winthrop                     ",51,0,162,713,490,589,6,75,20,105,41,30,644,1986,1.03,6,0.32819999999999999,null,1146995.9798999999,1689488.7708000003,9886307.1537999995,2094747.4723000005,407409.93890000001,1187914.8999999999,740599.95239999995,955731.78820000007,2241486.1544999997,2792968.0599999996,560752.6,23704402.770799998,null,0.27697841726618705,1946,550,644,644,null,644,null,1962,null,0.32819999999999999,"30.00 - 35.99%",6]
[347,"Woburn",156,0,335,1701,1068,1314,21,170,44,228,61,107,1469,4517,1.056,6,0.33360000000000001,null,2668007.8444800004,3939966.4233600008,23075488.096320003,4896813.5356799988,950017.18944000034,2700010.36,1720945.9027199999,2219629.0512000001,5224810.5993600003,6355175.3499999996,1233655.72,54984520.072560005,null,0.29400709960325744,4789,1328,1469,1469,null,1469,null,4404,null,0.33360000000000001,"30.00 - 35.99%",6]
[348,"Worcester                    ",1051,0,2196,10343,6213,6110,2054,1049,249,5094,1203,1629,19644,27442,1,11,0.74129999999999996,null,16612552.32,27173768.41,180373880.52999997,29247526.979999997,7610131.0500000007,18431656.43,11700641.59,20308869.52,33240789.390000001,47033221.119999997,6981369.8700000001,398714407.20999992,null,0.71583126912428963,27452,19644,17551,19644,null,19644,null,26500,null,0.74129999999999996,"70.00 - 79.99%",11]
[349,"Worthington                  ",5,0,11,48,23,29,9,4,1,0,0,0,30,123,1,7,0.37269999999999998,null,64756.740000000005,96973.550000000017,580092.13,119651.65000000001,23162.92,76944.799999999988,42319.200000000004,51696.98,136079.38,168945.65,28037.63,1388660.63,null,0.14782608695652175,115,18,30,30,null,30,null,80.5,null,0.37269999999999998,"36.00 - 41.99%",7]
[350,"Wrentham                     ",13,87,30,638,155,0,0,33,9,23,0,0,125,874,1.0249999999999999,3,0.13780000000000001,null,487267.92349999998,682174.97400000005,3549266.7619999996,1013723.2984999999,150219.79749999999,435903.81,259313.274,206049.26174999998,945693.01324999984,1154730.9800000002,252338.67,9136681.7644999977,null,0.10020876826722339,958,88,125,125,null,125,null,907,null,0.13780000000000001,"12.00 - 17.99%",3]
[351,"Yarmouth                     ",0,0,0,0,0,0,0,0,0,0,0,0,0,0,1,0,0,null,0,0,0,0,0,0,0,0,0,0,0,0,null,"",0,0,0,0,null,0,null,0,null,null,"n/a",0]
[406,"Northampton Smith            ",0,0,0,0,0,0,113,5,0,0,0,5,238,113,1,8,0.4798,null,74054.52,151839.90000000002,1552332.38,100721.83000000002,61057.73,159079.43,73214.23000000001,204107.13,221009.97,321462.37,0,2918879.49,null,2.1030927835051547,97,238,198,238,null,238,null,496,null,0.4798,"42.00 - 47.99%",8]
[600,"Acton Boxborough             ",37,283,20,1917,1310,1886,0,202,53,194,28,22,465,5294,1.0509999999999999,2,8.8700000000000001E-2,null,3023411.51082,4179570.7662,23210560.822889999,5570040.8759500002,919944.93490999995,3192428.5,1893308.0904099999,1959975.9001500001,6039232.6996399993,6795148.8700000001,1485994.3900000001,58269617.360969998,null,6.8001443001443007E-2,5544,360,465,465,null,465,null,5242.5,null,8.8700000000000001E-2,"6.00 - 11.99%",2]
[603,"Hoosac Valley",62,0,104,475,357,287,0,47,12,4,1,5,650,1254,1,10,0.56369999999999998,null,709435.19,1106747.1299999999,6678587.5799999991,1283713.2800000003,285859.28999999998,716974.68,472340.30000000005,731174.96,1341338.9200000002,1880717.72,336451.56,15543340.610000001,null,0.48927038626609443,1398,614,650,650,null,650,null,1153,null,0.56369999999999998,"54.00 - 69.99%",10]
[605,"Amherst Pelham               ",0,0,0,0,422,947,30,53,14,0,39,64,430,1399,1,5,0.2999,null,779388.98999999987,1137171.92,7184276.2700000005,1222153.6100000001,277649.09999999998,1008241.82,582703.14,858631.02,1580654.0199999998,1919327.2100000002,392526.82,16942723.919999998,null,0.27088772845953002,1532,379,430,430,null,430,null,1434,null,0.2999,"24.00 - 29.99%",5]
[610,"Ashburnham Westminster       ",60,0,155,876,593,633,0,86,23,32,3,4,535,2287,1,4,0.22800000000000001,null,1251803.6099999999,1794009.55,10111945.550000001,2323677.6299999994,414622.6399999999,1325143.2700000003,784250.78,907026.69,2453814.2100000004,3065954.37,644865.49,25077113.790000003,null,0.2339103417665335,2253,535,482,535,null,535,null,2346.5,null,0.22800000000000001,"18.00 - 23.99%",4]
[615,"Athol Royalston              ",70,0,137,708,439,452,0,66,17,21,11,2,898,1771,1,10,0.60109999999999997,null,1001693.7199999999,1560312.99,9463898.6099999994,1812804.22,401210.97999999992,1027839.6400000001,668210.79,1034012.14,1896201.5300000003,2644269.77,476639.71,21987094.100000005,null,0.48806057076295867,1717,864,898,898,null,898,null,1494,null,0.60109999999999997,"54.00 - 69.99%",10]
[616,"Ayer Shirley",1,1,147,653,427,461,0,65,17,42,8,7,567,1690,1,6,0.32950000000000002,null,943084.4,1385590.99,8059094.7100000009,1738123.5000000002,334569.11000000004,984704.14,601660.43000000005,781604.45,1823487.72,2364818.2800000003,476639.71,19493377.440000001,null,0.33525014376078205,1739,567,516,567,null,567,null,1721,null,0.32950000000000002,"30.00 - 35.99%",6]
[618,"Berkshire Hills              ",22,0,73,298,215,347,26,37,9,20,10,15,429,970,1,7,0.3654,null,546250.87999999989,829508.65,5145147.66,967588.24,210368.46000000002,615097.12,372070.7,555017.87,1074047.24,1418427.79,252338.67,11985863.279999999,null,0.28176795580110497,1086,273,429,429,null,429,null,1174,null,0.3654,"36.00 - 41.99%",7]
[620,"Berlin Boylston              ",12,0,80,333,258,276,0,36,9,13,2,10,166,953,1,3,0.15920000000000001,null,517913,733793.43,4084688.51,964183.2300000001,166281.28999999998,555596.74000000011,323857.59999999998,352631.13,1026639.8600000001,1255954.9500000002,252338.67,10233878.409999998,null,0.10881801125703565,533,104,166,166,null,166,null,1043,null,0.15920000000000001,"12.00 - 17.99%",3]
[622,"Blackstone Millville         ",61,0,126,690,430,460,0,65,17,23,3,5,514,1737,1,6,0.3115,null,956543.24000000011,1400955.29,8041152.669999999,1773821.7999999998,332651.75,1003069.56,606524.19000000006,757154.40000000014,1860040.6,2388806.6100000003,476639.71,19597359.82,null,0.2961111111111111,1800,514,485,514,null,514,null,1650,null,0.3115,"30.00 - 35.99%",6]
[625,"Bridgewater Raynham          ",152,0,427,2120,1370,1513,0,207,54,86,30,16,1145,5506,1,4,0.21429999999999999,null,3005455.7299999995,4288906.1300000008,24044211.18,5617589.9199999999,981990.25,3188993.01,1870887.0499999996,2097218.9499999997,5913295.7000000002,7331660.8400000008,1514032.02,59854240.780000009,null,0.20750878490845201,5407,1143,1145,1145,null,1145,null,5343,null,0.21429999999999999,"18.00 - 23.99%",4]
[632,"Chesterfield Goshen",5,0,20,77,12,0,0,4,1,0,0,0,38,112,1,6,0.314,null,60778.170000000006,91016.56,503435.11,125857.40999999999,21476.38,55719.97,34139.94,37647.74,115750.15,155942.26,28037.63,1229801.3199999998,null,0.33823529411764708,136,38,32,38,null,38,null,121,null,0.314,"30.00 - 35.99%",6]
[635,"Central Berkshire            ",33,0,111,540,370,496,0,58,15,3,1,3,571,1534,1,7,0.36370000000000002,null,852209.39000000013,1270652.93,7533750.3200000012,1539997.5499999998,310996.74,912143.22000000009,560677.82000000007,779065.33000000007,1642222.4200000002,2157431.6100000003,420564.45,17979711.780000001,null,0.33627278071722516,1701,516,571,571,null,571,null,1570,null,0.36370000000000002,"36.00 - 41.99%",7]
[640,"Concord Carlisle             ",0,0,0,0,0,1323,0,51,13,0,0,8,98,1323,1.056,2,7.6399999999999996E-2,null,753715.89216000016,1035616.6550400002,6735369.4636800019,1170460.69536,228580.80960000001,1036375.8700000001,572240.75040000002,809484.47711999994,1518055.3344000001,1602951.4800000002,364489.19,15827340.617760003,null,4.7655649500384319E-2,1301,63,98,98,null,98,null,1283,null,7.6399999999999996E-2,"6.00 - 11.99%",2]
[645,"Dennis Yarmouth              ",46,0,233,1238,855,989,0,127,33,213,51,50,1521,3338,1,9,0.505,null,1907433.7200000002,2916760.5599999996,17637020.68,3426051.5599999996,739579.21,2001774.12,1272381.6200000001,1882645.9,3659634.4899999998,4945235.33,925241.79,41313758.979999997,null,0.45086535640950426,3409,1505,1521,1521,null,1521,null,3012,null,0.505,"48.00 - 53.99%",9]
[650,"Dighton Rehoboth             ",91,0,193,1067,759,571,218,110,26,9,0,0,547,2854,1,4,0.19500000000000001,null,1551191.73,2201199.1800000002,12941300.91,2911367.05,521916.55000000005,1772705.66,964790.3899999999,1068639.22,3243963.0599999996,3920979.3499999996,728978.38,31827031.48,null,0.18675315807442813,2929,533,547,547,null,547,null,2804.5,null,0.19500000000000001,"18.00 - 23.99%",4]
[655,"Dover Sherborn               ",0,0,0,0,531,710,0,47,12,0,2,4,55,1241,1.05,1,4.5699999999999998E-2,null,697774.22400000005,955899.26250000019,5412445.2479999997,1141081.3365,210503.19149999999,818368.57,489600.35250000004,563815.35,1429748.4075000002,1547970.9100000001,336451.56,13603658.412500003,null,4.3046357615894038E-2,1208,53,55,55,null,55,null,1204,null,4.5699999999999998E-2,"0.00 - 5.99%",1]
[658,"Dudley Charlton              ",72,0,248,1384,920,972,0,135,35,99,8,7,965,3560,1,5,0.26340000000000002,null,1962093.8700000003,2838165.6400000006,16159642.210000001,3640664.35,665720.79000000015,2068262.68,1236998.9599999997,1483407.62,3837245.09,4848882.8499999996,981317.05,39722401.110000007,null,0.26175710594315243,3870,932,965,965,null,965,null,3663,null,0.26340000000000002,"24.00 - 29.99%",5]
[660,"Nauset                       ",0,0,0,0,559,637,0,46,12,0,10,18,413,1196,1,5,0.26779999999999998,null,665426.63,974545.93,5848522.8500000006,1061626.0100000002,239097.43,784645.83000000007,484502.59000000008,696023.7,1321797.25,1653058.8900000001,336451.56,14065698.67,null,0.30141287284144425,1274,360,413,413,null,413,null,1542,null,0.26779999999999998,"24.00 - 29.99%",5]
[662,"Farmington River",7,0,16,59,51,73,5,8,2,0,0,0,39,208,1,7,0.4194,null,113262.54,160899.70000000001,938704.03999999992,205594.6,37483.35,128589.33,73091.81,87342.66,227219.88000000003,277564.41000000003,56075.26,2305827.58,null,0.1889763779527559,254,39,39,39,null,39,null,93,null,0.4194,"36.00 - 41.99%",7]
[665,"Freetown Lakeville           ",27,0,219,1104,732,761,0,108,28,16,2,0,611,2830,1,4,0.21609999999999999,null,1546285.0299999998,2201699.3200000003,12343288.41,2891518.9299999997,505965.67,1629302.65,959834.05,1085658.2,3031292.13,3771735.0000000005,785053.64,30751633.029999997,null,0.16739130434782609,2760,474,611,611,null,611,null,2827.5,null,0.21609999999999999,"18.00 - 23.99%",4]
[670,"Frontier                     ",0,0,0,0,206,375,0,22,6,0,1,4,157,581,1,4,0.22109999999999999,null,319545.25999999995,460287.47000000009,2803392.7300000004,504724.66000000003,109750.89,398059.83000000007,234850.69999999998,333830.88,636738.74,773521.94000000018,168225.78,6742928.8800000018,null,0.24204946996466431,566,141,157,157,null,157,null,710,null,0.22109999999999999,"18.00 - 23.99%",4]
[672,"Gateway                      ",56,0,52,346,199,181,47,32,8,9,1,6,315,853,1,7,0.38990000000000002,null,473230.21000000008,707954.23000000021,4291306.3600000003,874191.19000000006,176897.32,521833.1,305205.96000000008,411990.61,952736.87,1235379.71,224301.04,10175026.600000001,null,0.33333333333333331,951,284,315,315,null,315,null,808,null,0.38990000000000002,"36.00 - 41.99%",7]
[673,"Groton Dunstable             ",29,134,16,877,582,761,0,88,23,24,6,1,216,2318,1,2,9.3799999999999994E-2,null,1251333.68,1731983.1800000002,9543042.2100000009,2324407.9499999993,380657.72,1370431.5799999998,776177.71000000008,795216.6100000001,2491078.08,2964386.3099999996,644865.49,24273580.519999996,null,6.7708333333333329E-2,2496,157,216,216,null,216,null,2302.5,null,9.3799999999999994E-2,"6.00 - 11.99%",2]
[674,"Gill Montague                ",38,0,82,448,266,259,0,40,11,44,8,9,534,1074,1,10,0.54710000000000003,null,612447.78,949452.4600000002,5737968.96,1110840.3699999996,243503.41999999998,623354.56999999995,404579.70999999996,615434.75,1160219.93,1609621.75,308413.93,13375837.629999999,null,0.49127640036730946,1089,528,534,534,null,534,null,976,null,0.54710000000000003,"54.00 - 69.99%",10]
[675,"Hamilton Wenham              ",19,0,145,690,402,535,0,68,18,7,3,2,166,1782,1.036,2,9.11E-2,null,997367.08344000007,1377283.0567999999,7557177.4518800015,1881027.3031199996,301861.31947999995,1037829.2200000001,606776.41472000012,604165.7050800001,1975424.6083600004,2278381.67,504677.34,19121971.172880005,null,8.4033613445378158E-2,1785,150,166,166,null,166,null,1822.5,null,9.11E-2,"6.00 - 11.99%",2]
[680,"Hampden Wilbraham            ",88,0,196,1000,674,975,31,110,28,37,3,4,574,2920,1,4,0.1933,null,1588378.05,2261777.67,12952720.460000001,2919982.6500000004,519211.46000000008,1763991.42,1011994.23,1171651.1099999999,3160972.8000000003,3872298.98,785053.64,32008032.470000003,null,0.17854869509866328,3142,521,574,574,null,574,null,2970,null,0.1933,"18.00 - 23.99%",4]
[683,"Hampshire                    ",0,0,0,0,248,424,0,26,7,0,6,5,145,672,1,4,0.19259999999999999,null,369836.25000000006,523925.56,3149191.28,590373.9,123055.12999999999,457775.23,267620.36000000004,364072.04000000004,739990.61,884242.32000000007,196263.41,7666346.0900000008,null,0.17029972752043596,734,114,145,145,null,145,null,753,null,0.19259999999999999,"18.00 - 23.99%",4]
[685,"Hawlemont                    ",13,0,11,68,7,0,0,3,1,5,0,0,71,93,1,9,0.53990000000000005,null,53164.649999999994,88885.13,544263.26,103232.7,23826.09,47598.98,33436.160000000003,56936.13,96217.8,149330.26,28037.63,1224928.79,null,0.58064516129032262,93,54,71,71,null,71,null,131.5,null,0.53990000000000005,"48.00 - 53.99%",9]
[690,"King Philip                  ",0,0,0,0,752,1306,0,79,21,0,2,0,246,2058,1.0249999999999999,3,0.1232,null,1143787.5574999999,1586838.9694999999,9340248.2837499995,1841801.4464999998,359560.05749999994,1396528.68,817610.64299999981,1036358.2709999999,2311812.5929999999,2616095.1600000006,588790.23,23039431.891749997,null,6.3477460901563934E-2,2174,131,246,246,null,246,null,1996,null,0.1232,"12.00 - 17.99%",3]
[695,"Lincoln Sudbury              ",0,0,0,0,0,1568,0,60,16,0,0,11,127,1568,1.008,2,8.3799999999999999E-2,null,853918.7328,1174552.2835200003,7643872.8676800001,1320599.45808,259752.94127999997,1228480.93,648555.21360000002,921404.97791999998,1716397.2705600001,1902974.9800000002,448602.08,18119111.735439997,null,5.0715990453460619E-2,1676,80,127,127,null,127,null,1516,null,8.3799999999999999E-2,"6.00 - 11.99%",2]
[698,"Manchester Essex",12,0,82,416,362,483,0,51,13,9,1,0,153,1349,1.0369999999999999,2,0.11219999999999999,null,754212.69249999977,1051141.6830699998,5848289.3517299984,1379865.7158399997,233160.49032000001,808685.92,478191.82036999997,511428.55181999994,1504431.3172800001,1731601.8700000003,364489.19,14665498.602929998,null,9.1220850480109736E-2,1458,123,153,153,null,153,null,1364,null,0.11219999999999999,"6.00 - 11.99%",2]
[700,"Marthas Vineyard             ",0,0,0,0,0,421,290,30,4,0,0,73,249,711,1,6,0.35720000000000002,null,399403.25000000006,592861.24,4935880.0500000007,627561.66,172843.63999999998,735885.29,317571.55,528042.31000000006,1041918.7699999999,1166089.67,112150.52,10630207.949999999,null,0.21369863013698631,730,152,249,249,null,249,null,697,null,0.35720000000000002,"30.00 - 35.99%",6]
[705,"Masconomet                   ",0,0,0,0,588,1189,0,68,18,0,0,4,130,1777,1.0409999999999999,2,7.5300000000000006E-2,null,997524.83150999993,1369795.4049300002,8063043.5244899997,1607014.7165099999,304576.52951999998,1222057.07,712997.75378999987,883124.65700999997,2025208.4115599999,2218017.4400000004,504677.34,19908037.67932,null,2.9309488325881768E-2,2013,52,130,130,null,130,null,1726,null,7.5300000000000006E-2,"6.00 - 11.99%",2]
[710,"Mendon Upton                 ",56,0,152,754,599,644,0,82,21,34,7,2,276,2177,1,3,0.1234,null,1177165.1500000001,1648320.02,9070714.0399999991,2191747.3800000004,367070.11,1269724.3400000003,731259.59,758860.57999999984,2342591.29,2823658.75,588790.23,22969901.479999997,null,0.10631808278867103,2295,{"$f":"ROUND(AH395*P395,0)","v":231},276,{"$f":"MAX(AJ395,AK395)","v":276},null,276,null,2236,null,0.1234,"12.00 - 17.99%",3]
[712,"Monomoy",31,0,115,650,436,578,0,68,18,59,15,17,671,1795,1,6,0.35160000000000002,null,1005668.4099999998,1495983.3599999999,8865081.5199999996,1816730.68,365777.19,1076011.2500000002,660003.44999999995,904864.5,1945233.5599999996,2539563.2000000007,504677.34,21179594.459999997,null,0.2902881536819637,1874,521,671,671,null,671,null,1908.5,null,0.35160000000000002,"30.00 - 35.99%",6]
[715,"Mount Greylock               ",16,0,60,414,267,295,0,40,10,1,0,1,279,1044,1,5,0.24249999999999999,null,572597.16999999993,826143.52,4707428.3800000008,1063268.7600000002,193487.4,605807.81999999995,361355.45000000007,436602.16,1118009.26,1412745.59,280376.3,11577821.810000001,null,0.26694045174537989,487,279,239,279,null,279,null,1150.5,null,0.24249999999999999,"24.00 - 29.99%",5]
[717,"Mohawk Trail                 ",35,0,65,383,209,226,0,34,9,1,3,3,344,901,1,7,0.4007,null,501628.60000000003,749095.72,4390618.17,928465.91,183374.59999999998,517359.29,320692.59000000003,435559.86,961259.42999999993,1275691.2199999997,252338.67,10516084.060000001,null,0.33972310969116082,939,306,344,344,null,344,null,858.5,null,0.4007,"36.00 - 41.99%",7]
[720,"Narragansett                 ",16,0,104,529,324,339,0,50,13,2,1,0,532,1304,1,7,0.36930000000000002,null,729809.76,1093270.1500000001,6454110.1299999999,1340812.9099999999,270435.65999999997,752748.19000000006,470826,657322.16999999993,1394631.56,1863335.5300000003,364489.19,15391791.249999998,null,0.35011441647597252,1311,457,532,532,null,532,null,1440.5,null,0.36930000000000002,"36.00 - 41.99%",7]
[725,"Nashoba                      ",28,195,9,1202,813,947,0,117,31,41,18,14,341,3083,1.042,2,0.1108,null,1741361.4324000003,2419650.2382999999,13316370.437880004,3239868.2699399996,535644.90362,1808620.17,1076743.44768,1108627.57442,3461337.62788,3978258.7900000005,869166.53,33555649.422120005,null,8.9411046689044857E-2,3277,276,341,341,null,341,null,3076.5,null,0.1108,"6.00 - 11.99%",2]
[728,"New Salem Wendell            ",18,0,17,71,12,0,0,4,1,0,0,0,67,109,1,9,0.4945,null,61798.710000000006,98780.4,588570.71,123734.55,25679.949999999997,55216.869999999995,37268.839999999997,56775.560000000005,113452.18,168229.09,28037.63,1357544.49,null,0.61157024793388426,121,67,48,67,null,67,null,135.5,null,0.4945,"48.00 - 53.99%",9]
[730,"Northboro Southboro          ",0,0,0,0,0,1415,0,54,14,0,0,19,117,1415,1,2,8.3500000000000005E-2,null,763663.99000000011,1053447.55,6856998.1800000006,1182346.7800000003,233142.20999999996,1109540.7799999998,581427.79999999993,826310.10999999987,1538440.15,1719836.3800000004,392526.82,16257680.750000002,null,7.1045576407506708E-2,1492,101,117,117,null,117,null,1402,null,8.3500000000000005E-2,"6.00 - 11.99%",2]
[735,"North Middlesex              ",89,0,233,1150,825,905,0,119,31,28,7,9,697,3158,1,4,0.22470000000000001,null,1723597.0700000003,2464584.4699999997,13875710.709999999,3196651.5500000007,567328.47999999986,1836614.3499999999,1082641.6400000001,1242066.0799999998,3387749.0100000002,4212462.0199999996,869166.53,34458571.910000004,null,0.19549970777323203,3422,617,697,697,null,697,null,3102,null,0.22470000000000001,"18.00 - 23.99%",4]
[740,"Old Rochester                ",0,0,0,0,416,672,0,42,11,0,2,0,201,1088,1,3,0.1701,null,594151.28,836499.13000000012,4970056.9000000004,953997.80999999994,194151.96,734504.21000000008,427514.19999999995,565635.05999999994,1193934.24,1414460.6300000001,308413.93,12193319.350000001,null,0.15254237288135594,1180,166,201,201,null,201,null,1182,null,0.1701,"12.00 - 17.99%",3]
[745,"Pentucket                    ",82,158,19,882,567,750,0,88,23,4,3,0,330,2338,1,3,0.1431,null,1263492.8199999998,1772283.41,9865920.1899999995,2345191.0599999996,395916.03,1376422.5499999998,788919.63,850322.07999999984,2501507.27,3027953.4600000004,644865.49,24832793.989999991,null,0.11076564321803342,2573,259,330,330,null,330,null,2306,null,0.1431,"12.00 - 17.99%",3]
[750,"Pioneer                      ",18,0,37,267,169,182,0,25,7,0,1,0,238,664,1,6,0.34420000000000001,null,369064.5,545429.57999999996,3180052.4299999997,674621.73,132291.99,384952.54,236881.75,316351.46999999997,709342.95000000007,929044.8600000001,196263.41,7674297.2100000009,null,0.35818908122503329,751,238,208,238,null,238,null,691.5,null,0.34420000000000001,"30.00 - 35.99%",6]
[753,"Quabbin                      ",26,0,159,709,486,574,0,74,19,5,2,0,670,1941,1,6,0.31380000000000002,null,1075940.8099999998,1587935.24,9283451.6000000015,1968089.31,384128.47,1137665.17,695264.68,924393.41,2078865.9400000002,2705139.56,532714.97,22373589.16,null,0.34520054078413698,2219,670,630,670,null,670,null,2135,null,0.31380000000000002,"30.00 - 35.99%",6]
[755,"Ralph C Mahar                ",0,0,0,0,227,393,0,24,6,0,1,3,341,620,1,9,0.53200000000000003,null,353688.49,550456.04,3565651.3500000006,543571.82999999996,145484.12,427097.54000000004,273521.83999999997,476163.24,680973.65999999992,921565.0199999999,168225.78,8106398.9100000011,null,0.54935622317596566,699,341,309,341,null,341,null,641,null,0.53200000000000003,"48.00 - 53.99%",9]
[760,"Silver Lake                  ",91,0,0,0,521,921,234,66,14,1,1,6,333,1722,1.028,4,0.1908,null,956237.89,1366270.2773200001,9002373.1449600011,1549760.94768,338856.95692000003,1323728.69,701230.17456000007,952753.85407999996,2137852.9580000001,2387769.1300000004,392526.82,21109360.843520001,null,0.16639741518578352,1857,287,333,333,null,333,null,1745.5,null,0.1908,"18.00 - 23.99%",4]
[763,"Somerset Berkley",0,0,0,0,0,986,41,40,10,0,0,3,194,1027,1,4,0.1883,null,561107.87,791405.62,5373219.0100000007,863423.27999999991,186252.72999999998,830119.71,432547.73,657820.19000000006,1150915.51,1320417.2700000003,280376.3,12447605.220000003,null,0.10954446854663774,922,113,194,194,null,194,null,1030,null,0.1883,"18.00 - 23.99%",4]
[765,"Southern Berkshire           ",47,0,44,234,146,222,1,25,6,8,1,2,265,671,1,7,0.41370000000000001,null,371633.01,561228.10000000009,3357613.1500000004,673215.45000000007,138212.09999999998,402259.05,247207.87000000002,350220.14,719051.97000000009,950579.5399999998,168225.78,7939446.1600000001,null,0.35059760956175301,753,235,265,265,null,265,null,640.5,null,0.41370000000000001,"36.00 - 41.99%",7]
[766,"Southwick Tolland Granville",20,0,84,512,330,376,103,55,13,41,11,2,440,1415,1,5,0.29959999999999998,null,784821.08000000019,1144179.02,7001378.2799999993,1436880.8800000001,282025.40000000002,910576.35000000009,508651.24,654297,1620242.26,2017060.9199999997,364489.19,16724601.619999999,null,0.25450031036623216,1611,360,440,440,null,440,null,1468.5,null,0.29959999999999998,"24.00 - 29.99%",5]
[767,"Spencer East Brookfield      ",77,0,122,607,423,267,97,59,14,34,6,7,630,1555,1,8,0.44969999999999999,null,868686.9600000002,1313934.32,8010252.3899999997,1605094.8199999998,334704.77999999997,946630.57999999984,562594.72,778163.55,1755346.5699999998,2305003.19,392526.82,18872938.700000003,null,0.40516767454645408,1819,630,615,630,null,630,null,1401,null,0.44969999999999999,"42.00 - 47.99%",8]
[770,"Tantasqua                    ",0,0,0,0,520,683,371,64,12,0,5,5,475,1574,1,5,0.26369999999999999,null,867993.26,1260718.4500000002,8934912.4399999995,1400207.2200000002,339060.11000000004,1305037.28,644397.56999999995,945160.09,2049066.4100000001,2373165.4700000002,336451.56,20456169.859999996,null,0.3016759776536313,1611,475,438,475,null,475,null,1801,null,0.26369999999999999,"24.00 - 29.99%",5]
[773,"Triton                       ",26,126,36,876,564,738,0,87,23,10,3,10,601,2290,1.0369999999999999,5,0.26290000000000002,null,1304716.2961399998,1879275.5206199999,10793985.67341,2388389.7476900001,439633.16343999992,1356570.5000000002,833793.0991300001,1024793.7529899998,2548616.0058599999,3089032.5,644865.49,26303671.749279998,null,0.23334602207841645,2627,534,601,601,null,601,null,2286,null,0.26290000000000002,"24.00 - 29.99%",5]
[774,"Upisland",8,0,27,241,129,0,0,15,4,22,5,0,131,401,1,5,0.28920000000000001,null,223178.5,327820.09000000003,1774488.98,441912.71999999991,77847.47,203522.09,128991.18999999999,138087.35,432455.08999999997,567382.97000000009,112150.52,4427836.97,null,0.21917808219178081,365,88,131,131,null,131,null,453,null,0.28920000000000001,"24.00 - 29.99%",5]
[775,"Wachusett                    ",79,0,428,2651,1783,2124,0,267,70,98,14,8,959,7026,1,3,0.13769999999999999,null,3813844.05,5333426.28,29544193.289999999,7110344.4299999997,1191542.45,4110629.5300000003,2361493.7999999993,2493824.13,7552319.6800000016,9132219.7899999991,1962634.1,74606471.530000001,null,0.13600907672670542,7051,956,959,959,null,959,null,6962.5,null,0.13769999999999999,"12.00 - 17.99%",3]
[778,"Quaboag",47,0,72,448,283,348,0,44,12,11,2,3,608,1175,1,9,0.50439999999999996,null,666255.24,1032799.45,6312493.7800000003,1188588.6499999999,265692.36,694724.22,448545.22000000009,703203.82000000007,1257918.45,1747416.9199999997,336451.56,14654089.670000002,null,0.51761942051683629,1277,608,523,608,null,608,null,1205.5,null,0.50439999999999996,"48.00 - 53.99%",9]
[780,"Whitman Hanson               ",110,229,17,1352,952,1173,0,138,36,21,5,13,944,3664,1,5,0.26190000000000002,null,2006467.56,2895061.5700000003,16572794.220000001,3665684.8099999996,676177.77,2167536.6999999997,1287013.0799999996,1572871.93,3932314.5599999996,4934270.1600000011,1009354.68,40719547.039999999,null,0.25756811301715438,3964,944,917,944,null,944,null,3605,null,0.26190000000000002,"24.00 - 29.99%",5]
[801,"Assabet Valley               ",0,0,0,0,0,0,847,41,0,0,0,44,458,847,1.032,7,0.40139999999999998,null,498296.39088000002,772135.3308,8109939.75,811001.78208000003,283139.67480000004,1166040.0899999999,407311.33895999996,750389.66664000007,1722489.0326400001,1805144.7200000002,0,16325887.776800001,null,0.54104979811574694,743,458,405,458,null,458,null,1141,null,0.40139999999999998,"36.00 - 41.99%",7]
[805,"Blackstone Valley            ",0,0,0,0,0,0,1242,60,0,0,0,2,172,1242,1,3,0.1386,null,671311.74,940315.96000000008,10016673.699999999,1142214.5599999998,329709.65999999997,1692560.3399999999,516463.34,761541.29999999993,2431484.7400000002,2399062.6599999997,0,20901338,null,0.13870431893687707,1204,172,156,172,null,172,null,1241,null,0.1386,"12.00 - 17.99%",3]
[806,"Blue Hills                   ",0,0,0,0,0,0,869,42,0,0,0,8,325,869,1.0640000000000001,7,0.374,null,514355.77312000003,767142.25504000019,8109542.2660000017,851527.10552000022,277056.68368000002,1189448.48,411047.09743999998,702841.62815999996,1811952.4617600001,1778235.01,0,16413148.760720002,null,0.37356321839080459,870,325,268,325,null,325,null,869,null,0.374,"36.00 - 41.99%",7]
[810,"Bristol Plymouth             ",0,0,0,0,0,0,1342,65,0,0,0,4,493,1342,1,7,0.3715,null,745697.68,1109692.75,11738339.880000001,1235885.1500000001,400638.61,1835870.89,595077.43000000005,1014739.97,2628236.4,2740675.23,0,24044853.989999998,null,0.36701337295690933,1346,493,418,493,null,493,null,1327,null,0.3715,"36.00 - 41.99%",7]
[815,"Cape Cod                     ",0,0,0,0,0,0,622,30,0,0,0,15,315,622,1,9,0.51139999999999997,null,352577.26,545679.75,5740194.3399999999,573654.07000000007,200123.05000000005,854360.05,288269.96000000002,531061.77,1221044.23,1319351.8700000001,0,11626316.350000001,null,0.43098159509202455,652,268,315,315,null,315,null,616,null,0.51139999999999997,"48.00 - 53.99%",9]
[817,"Essex North Shore",0,0,0,0,0,0,1165,56,0,0,0,4,474,1165,1,6,0.31769999999999998,null,648202.61,972866.71,10279128.100000001,1069328.57,352111.81000000006,1594313.79,520363.05000000005,900342.24999999988,2280407.04,2392879.94,0,21009943.870000005,null,0.40684410646387831,789,474,324,474,null,474,null,1492,null,0.31769999999999998,"30.00 - 35.99%",6]
[818,"Franklin County              ",0,0,0,0,0,0,485,23,0,0,0,0,255,485,1,9,0.50900000000000001,null,273458.08,426599.85,4487843.46,442265.72000000003,156717.92000000001,665019,225158.65000000002,419625.6,947972.96,1029257.22,0,9073918.459999999,null,0.52510460251046021,478,255,228,255,null,255,null,501,null,0.50900000000000001,"48.00 - 53.99%",9]
[821,"Greater Fall River           ",0,0,0,0,0,0,1498,72,0,0,0,20,788,1498,1,9,0.53320000000000001,null,848958.10000000009,1320650.6599999999,13891693.199999999,1377086.46,485357.5,2056473.46,696732.5,1296737.98,2935917.56,3186881.2800000003,0,28096488.699999999,null,0.52578018995929443,1474,788,609,788,null,788,null,1478,null,0.53320000000000001,"48.00 - 53.99%",9]
[823,"Greater Lawrence             ",0,0,0,0,0,0,1594,77,0,0,0,203,1145,1594,1.0880000000000001,11,0.71970000000000001,null,1024194.3270400001,1670145.2908800002,17385366.608000003,1626636.13824,623557.84576000005,2214799.7299999995,863389.21088000003,1736273.0931200001,3449613.22432,3597065.0600000005,0,34191040.528240003,null,0.71812080536912748,1490,1145,1020,1145,null,1145,null,1591,null,0.71970000000000001,"70.00 - 79.99%",11]
[825,"Greater New Bedford          ",0,0,0,0,0,8,2120,102,0,0,0,73,1220,2128,1,10,0.57440000000000002,null,1217274.2,1922074.0100000002,20138623.809999999,1960342.6700000002,709203.62,2924147.16,1008151.7799999999,1924190.88,4174174.1700000004,4593546.7700000005,0,40571729.070000008,null,0.57349510032664486,2143,1220,999,1220,null,1220,null,2124,null,0.57440000000000002,"54.00 - 69.99%",10]
[828,"Greater Lowell               ",0,0,0,0,0,0,2352,113,0,0,0,205,1376,2352,1,10,0.59460000000000002,null,1358264.7899999998,2150974.4900000002,22496840.240000002,2187027.9400000004,793952.64,3250676.38,1125380.06,2146741.92,4652838.8900000006,5125618.8899999997,0,45288316.240000002,null,0.58496583143507974,2195,1376,1212,1376,null,1376,null,2314,null,0.59460000000000002,"54.00 - 69.99%",10]
[829,"South Middlesex              ",0,0,0,0,0,15,782,39,0,0,0,132,502,797,1.0269999999999999,10,0.62829999999999997,null,482420.88491999998,769191.54298999999,7965126.4118399993,776642.78743999987,283250.76961999998,1100472.3299999996,400109.41268999991,771598.00939000002,1624528.4416399999,1760851.2400000002,0,15934191.830530001,null,0.62978723404255321,705,502,444,502,null,502,null,799,null,0.62829999999999997,"54.00 - 69.99%",10]
[830,"Minuteman                    ",0,0,0,0,0,0,453,22,0,0,0,14,231,453,1.0880000000000001,7,0.3775,null,279406.64704000001,429540.78976000007,4520784.3667200012,456440.03392000002,157206.51264,622380.34,227308.83328000005,414021.84064000007,968879.8630400002,957227.61,0,9033196.8370400015,null,0.50966183574879231,414,231,136,231,null,231,null,612,null,0.3775,"36.00 - 41.99%",7]
[832,"Montachusett                 ",0,0,0,0,0,0,1452,70,0,0,0,15,449,1452,1,6,0.314,null,801002.94,1174747.1299999999,12440366.18,1335953.97,420775.19999999995,1985345.8999999997,633667.6399999999,1041740.72,2845318.23,2923348.55,0,25602266.460000001,null,0.30955585464333785,1486,449,437,449,null,449,null,1430,null,0.314,"30.00 - 35.99%",6]
[851,"Northern Berkshire           ",0,0,0,0,0,0,461,22,0,0,0,0,196,461,1,7,0.3992,null,256739.15,388578.99,4101929.46,421554.59,141014.81,630934.54999999993,207329.93000000002,364122.61,901488.67999999993,952066.02,0,8365758.7899999991,null,0.3936842105263158,475,181,196,196,null,196,null,491,null,0.3992,"36.00 - 41.99%",7]
[852,"Nashoba Valley               ",0,0,0,0,0,0,654,32,0,0,0,6,199,654,1.0169999999999999,5,0.27560000000000001,null,367197.88779000001,533384.18990999996,5657020.6707899999,615920.86908000009,190734.93288000001,893998.28999999992,288391.01544000005,467681.68799999991,1304640.1236599998,1310884.33,0,11629853.99755,null,0.30397727272727271,704,199,180,199,null,199,null,722,null,0.27560000000000001,"24.00 - 29.99%",5]
[853,"Northeast Metropolitan       ",0,0,0,0,0,0,1271,61,0,0,0,52,656,1271,1.0549999999999999,9,0.51449999999999996,null,761901.25040000002,1183551.76055,12432794.788550001,1237249.3931999998,434067.39594999998,1748178.3900000001,624397.43504999997,1153337.9320499999,2636959.5446000001,2705719.7,0,24918157.590349998,null,0.51581508515815089,1233,656,534,656,null,656,null,1275,null,0.51449999999999996,"48.00 - 53.99%",9]
[855,"Old Colony                   ",0,0,0,0,0,0,467,23,0,0,0,0,147,467,1,5,0.26440000000000002,null,258145.39,375148.68000000005,3981334.32,433107.14,134408.51,638078.93999999994,202721.77,330886.64999999997,915421.04,937562.7300000001,0,8206815.169999999,null,0.31524008350730687,479,147,118,147,null,147,null,556,null,0.26440000000000002,"24.00 - 29.99%",5]
[860,"Pathfinder                   ",0,0,0,0,0,0,578,28,0,0,0,0,301,578,1,9,0.48080000000000001,null,327337.90000000002,507532.92000000004,5345288.37,532083.5,186616.61000000004,792701.07000000007,267990.06,498305.82999999996,1131566.48,1227148.44,0,10816571.18,null,0.52040816326530615,588,301,270,301,null,301,null,626,null,0.48080000000000001,"48.00 - 53.99%",9]
[871,"Shawsheen Valley             ",0,0,0,0,0,0,1275,61,0,0,0,1,243,1275,1.01,4,0.19209999999999999,null,698030.37180000008,992493.96289999993,10551863.687900001,1179033.0041000003,349928.64,1738464.3,542417.15690000006,825920.31890000007,2518935.4044999997,2488320.2599999998,0,21885407.107000001,null,0.19078473722102232,1389,243,227,243,null,243,null,1265,null,0.19209999999999999,"18.00 - 23.99%",4]
[872,"Southeastern                 ",0,0,0,0,0,0,1517,73,0,0,0,32,830,1517,1,10,0.54790000000000005,null,864312.3,1355073.09,14236440.07,1397000.3800000001,499597.42999999993,2084972.8699999996,712610.47000000009,1346212.5699999998,2976354,3255472.5999999996,0,28728045.780000001,null,0.54731638418079098,1416,830,594,830,null,830,null,1515,null,0.54790000000000005,"54.00 - 69.99%",10]
[873,"South Shore                  ",0,0,0,0,0,5,539,26,0,0,0,3,193,544,1.0329999999999999,6,0.30249999999999999,null,310630.10373999993,461341.69441000005,4863463.0750299999,514662.59256999998,165524.33548999997,741085.4800000001,247873.63895999998,417672.10491999995,1095448.8477100001,1101435.83,0,9919137.7028300017,null,0.35544217687074831,588,193,179,193,null,193,null,638,null,0.30249999999999999,"30.00 - 35.99%",6]
[876,"Southern Worcester           ",0,0,0,0,0,1,1176,57,0,0,0,5,400,1177,1,6,0.3493,null,651518.28,961191,10173673.290000001,1084079.5500000003,345532.98000000004,1608837.3100000003,517151.51,864783.57,2304597.4099999997,2383965.7899999996,0,20895330.690000001,null,0.33972125435540068,1148,400,317,400,null,400,null,1145,null,0.3493,"30.00 - 35.99%",6]
[878,"Tri County                   ",0,0,0,0,0,0,930,45,0,0,0,0,313,930,1.054,6,0.31459999999999999,null,541946.57374000014,798993.30064000003,8461938.1111200023,901886.03490000009,287225.64539999998,1271181.3,430077.70144000009,718283.18740000005,1918835.0363999999,1881838.1600000001,0,17212205.051040005,null,0.33647798742138363,954,313,220,313,null,313,null,995,null,0.31459999999999999,"30.00 - 35.99%",6]
[879,"Upper Cape Cod               ",0,0,0,0,0,0,742,36,0,0,0,0,243,742,1,6,0.3306,null,410112.88000000006,602954.16,6388160.8900000006,683525.8600000001,216582.64,1014113.2000000001,324821.12,539896.02,1452804.4,1498794.92,0,13131766.09,null,0.32686980609418281,722,243,230,243,null,243,null,735,null,0.3306,"30.00 - 35.99%",6]
[885,"Whittier                     ",0,0,0,0,0,0,1256,61,0,0,0,20,559,1256,1,8,0.44579999999999997,null,706479.83,1072992.4500000002,11317042.5,1160457.8499999999,390890.77999999997,1722303.69,570625,1015882.86,2464376.16,2619900.2700000005,0,23040951.390000001,null,0.44482463644140291,1169,559,471,559,null,559,null,1254,null,0.44579999999999997,"42.00 - 47.99%",8]
[910,"Bristol County               ",0,0,0,0,0,0,378,18,0,0,0,0,130,378,1,5,0.28820000000000001,null,207848.02000000002,306500.80000000005,3244759.12,345324.6,109870.82,516445.39999999997,165212.94,273675.18,739061.28,761392.7,0,6670090.8600000013,null,0.29166666666666669,384,110,130,130,null,130,null,451,null,0.28820000000000001,"24.00 - 29.99%",5]
[915,"Norfolk County               ",0,0,0,0,0,0,274,13,0,0,0,1,93,274,1.046,3,0.16880000000000001,null,157341.68395999999,231590.78060000006,2451513.1915600002,261558.03208000003,82875.3122,374374.39000000007,124954.72068000003,205566.46795999998,560472.37470000004,550543.66,0,5000790.6137400009,null,0.27306273062730629,271,75,93,93,null,93,null,551,null,0.16880000000000001,"12.00 - 17.99%",3]
[999,"State Total",24916,6905,58430,345044,220115,246778,51765,35870,8743,62225,16548,21459,389380,938121,null,null,null,null,545904673.02059984,827664189.84871924,5145621324.8414621,986756244.96678948,211728732.30071998,598680376.7900002,363133844.91803986,520847870.00733072,1100462652.2165208,1404883762.549999,245132999.09,11950816670.55018,null,null,942121,null,{"$f":"SUM(AK10:AK447)","v":352042},389380]

{"sheet":"leas","index":17,"n_rows":538,"n_cols":18,"rows_kept":538,"cut":false,"hidden":true,"merged":[[1,0,1,4],[1,11,1,16]]}
[]
["leas",null,null,null,null,null,null,null,null,null,null,"regdetail"]
[{"$f":"Index!C4","v":999},{"$f":"'Regional District Members'!G4","v":1}]
["lea_order","reg_order","lea_list and reg_list ","LEA","District","org4code","org4code",null,"regcount",null,null,null,"Record"]
[null,null,null,null,"Select a district",999,"0999"]
[1,null,{"$f":"PROPER(D6&\" \"&E6)","v":"1 Abington"},1,"Abington",1,"0001",null,406,1,null,"code","Number","fraclea","District","memlea","Town"]
[2,null,"2 Acton",2,"Acton",2,"0002",null,600,2,null,40601,1,406,"NORTHAMPTON SMITH",210,{"$f":"VLOOKUP(P7,'Townwide Contributions'!$A$9:$B$361,2,0)","v":"Northampton"},"NORTHAMPTON                  "]
[355,null,"600 Acton Boxborough",600,"Acton Boxborough",600,"0600",null,603,2,null,60001,1,600,"ACTON BOXBOROUGH",2,{"$f":"VLOOKUP(P8,'Townwide Contributions'!$A$9:$B$361,2,0)","v":"Acton"},"ACTON                        "]
[3,null,"3 Acushnet",3,"Acushnet",3,"0003",null,605,4,null,60002,2,600,"ACTON BOXBOROUGH",37,{"$f":"VLOOKUP(P9,'Townwide Contributions'!$A$9:$B$361,2,0)","v":"Boxborough"},"BOXBOROUGH                   "]
[4,null,"4 Adams",4,"Adams",4,"0004",null,610,2,null,60301,1,603,"HOOSAC VALLEY",4,{"$f":"VLOOKUP(P10,'Townwide Contributions'!$A$9:$B$361,2,0)","v":"Adams"},"ADAMS                        "]
[5,null,"5 Agawam",5,"Agawam",5,"0005",null,615,2,null,60302,2,603,"HOOSAC VALLEY",58,{"$f":"VLOOKUP(P11,'Townwide Contributions'!$A$9:$B$361,2,0)","v":"Cheshire"},"CHESHIRE                     "]
[6,null,"6 Alford",6,"Alford",6,"0006",null,616,2,null,60501,1,605,"AMHERST PELHAM",8,{"$f":"VLOOKUP(P12,'Townwide Contributions'!$A$9:$B$361,2,0)","v":"Amherst"},"AMHERST                      "]
[7,null,"7 Amesbury",7,"Amesbury",7,"0007",null,618,3,null,60502,2,605,"AMHERST PELHAM",154,{"$f":"VLOOKUP(P13,'Townwide Contributions'!$A$9:$B$361,2,0)","v":"Leverett"},"LEVERETT                     "]
[8,null,"8 Amherst",8,"Amherst",8,"0008",null,620,2,null,60503,3,605,"AMHERST PELHAM",230,{"$f":"VLOOKUP(P14,'Townwide Contributions'!$A$9:$B$361,2,0)","v":"Pelham"},"PELHAM                       "]
[357,null,"605 Amherst Pelham",605,"Amherst Pelham",605,"0605",null,622,2,null,60504,4,605,"AMHERST PELHAM",272,{"$f":"VLOOKUP(P15,'Townwide Contributions'!$A$9:$B$361,2,0)","v":"Shutesbury"},"SHUTESBURY                   "]
[9,null,"9 Andover",9,"Andover",9,"0009",null,625,2,null,61001,1,610,"ASHBURNHAM WESTMINSTER",11,{"$f":"VLOOKUP(P16,'Townwide Contributions'!$A$9:$B$361,2,0)","v":"Ashburnham"},"ASHBURNHAM                   "]
[104,null,"104 Aquinnah",104,"Aquinnah",104,"0104",null,632,2,null,61002,2,610,"ASHBURNHAM WESTMINSTER",328,{"$f":"VLOOKUP(P17,'Townwide Contributions'!$A$9:$B$361,2,0)","v":"Westminster"},"WESTMINSTER                  "]
[10,null,"10 Arlington",10,"Arlington",10,"0010",null,635,7,null,61501,1,615,"ATHOL ROYALSTON",15,{"$f":"VLOOKUP(P18,'Townwide Contributions'!$A$9:$B$361,2,0)","v":"Athol"},"ATHOL                        "]
[11,null,"11 Ashburnham",11,"Ashburnham",11,"0011",null,640,2,null,61502,2,615,"ATHOL ROYALSTON",255,{"$f":"VLOOKUP(P19,'Townwide Contributions'!$A$9:$B$361,2,0)","v":"Royalston"},"ROYALSTON                    "]
[358,null,"610 Ashburnham Westminster",610,"Ashburnham Westminster",610,"0610",null,645,2,null,61601,1,616,"AYER SHIRLEY",19,{"$f":"VLOOKUP(P20,'Townwide Contributions'!$A$9:$B$361,2,0)","v":"Ayer"},"AYER                         "]
[12,null,"12 Ashby",12,"Ashby",12,"0012",null,650,2,null,61602,2,616,"AYER SHIRLEY",270,{"$f":"VLOOKUP(P21,'Townwide Contributions'!$A$9:$B$361,2,0)","v":"Shirley"},"SHIRLEY                      "]
[13,null,"13 Ashfield",13,"Ashfield",13,"0013",null,655,2,null,61801,1,618,"BERKSHIRE HILLS",113,{"$f":"VLOOKUP(P22,'Townwide Contributions'!$A$9:$B$361,2,0)","v":"Great Barrington"},"GREAT BARRINGTON             "]
[14,null,"14 Ashland",14,"Ashland",14,"0014",null,658,2,null,61802,2,618,"BERKSHIRE HILLS",283,{"$f":"VLOOKUP(P23,'Townwide Contributions'!$A$9:$B$361,2,0)","v":"Stockbridge"},"STOCKBRIDGE                  "]
[413,null,"801 Assabet Valley",801,"Assabet Valley",801,"0801",null,660,4,null,61803,3,618,"BERKSHIRE HILLS",333,{"$f":"VLOOKUP(P24,'Townwide Contributions'!$A$9:$B$361,2,0)","v":"West Stockbridge"},"WEST STOCKBRIDGE             "]
[15,null,"15 Athol",15,"Athol",15,"0015",null,662,2,null,62001,1,620,"BERLIN BOYLSTON",28,{"$f":"VLOOKUP(P25,'Townwide Contributions'!$A$9:$B$361,2,0)","v":"Berlin"},"BERLIN                       "]
[359,null,"615 Athol Royalston",615,"Athol Royalston",615,"0615",null,665,2,null,62002,2,620,"BERLIN BOYLSTON",39,{"$f":"VLOOKUP(P26,'Townwide Contributions'!$A$9:$B$361,2,0)","v":"Boylston"},"BOYLSTON                     "]
[16,null,"16 Attleboro",16,"Attleboro",16,"0016",null,670,4,null,62201,1,622,"BLACKSTONE MILLVILLE",32,{"$f":"VLOOKUP(P27,'Townwide Contributions'!$A$9:$B$361,2,0)","v":"Blackstone"},"BLACKSTONE                   "]
[17,null,"17 Auburn",17,"Auburn",17,"0017",null,672,6,null,62202,2,622,"BLACKSTONE MILLVILLE",188,{"$f":"VLOOKUP(P28,'Townwide Contributions'!$A$9:$B$361,2,0)","v":"Millville"},"MILLVILLE                    "]
[18,null,"18 Avon",18,"Avon",18,"0018",null,673,2,null,62501,1,625,"BRIDGEWATER RAYNHAM",42,{"$f":"VLOOKUP(P29,'Townwide Contributions'!$A$9:$B$361,2,0)","v":"Bridgewater"},"BRIDGEWATER                  "]
[19,null,"19 Ayer",19,"Ayer",19,"0019",null,674,2,null,62502,2,625,"BRIDGEWATER RAYNHAM",245,{"$f":"VLOOKUP(P30,'Townwide Contributions'!$A$9:$B$361,2,0)","v":"Raynham"},"RAYNHAM                      "]
[360,null,"616 Ayer Shirley",616,"Ayer Shirley",616,"0616",null,675,2,null,63201,1,632,"CHESTERFIELD GOSHEN",60,{"$f":"VLOOKUP(P31,'Townwide Contributions'!$A$9:$B$361,2,0)","v":"Chesterfield"},"CHESTERFIELD                 "]
[20,null,"20 Barnstable",20,"Barnstable",20,"0020",null,680,2,null,63202,2,632,"CHESTERFIELD GOSHEN",108,{"$f":"VLOOKUP(P32,'Townwide Contributions'!$A$9:$B$361,2,0)","v":"Goshen"},"GOSHEN                       "]
[21,null,"21 Barre",21,"Barre",21,"0021",null,683,5,null,63501,1,635,"CENTRAL BERKSHIRE",22,{"$f":"VLOOKUP(P33,'Townwide Contributions'!$A$9:$B$361,2,0)","v":"Becket"},"BECKET                       "]
[22,null,"22 Becket",22,"Becket",22,"0022",null,685,2,null,63502,2,635,"CENTRAL BERKSHIRE",69,{"$f":"VLOOKUP(P34,'Townwide Contributions'!$A$9:$B$361,2,0)","v":"Cummington"},"CUMMINGTON                   "]
[23,null,"23 Bedford",23,"Bedford",23,"0023",null,690,3,null,63503,3,635,"CENTRAL BERKSHIRE",70,{"$f":"VLOOKUP(P35,'Townwide Contributions'!$A$9:$B$361,2,0)","v":"Dalton"},"DALTON                       "]
[24,null,"24 Belchertown",24,"Belchertown",24,"0024",null,695,2,null,63504,4,635,"CENTRAL BERKSHIRE",132,{"$f":"VLOOKUP(P36,'Townwide Contributions'!$A$9:$B$361,2,0)","v":"Hinsdale"},"HINSDALE                     "]
[25,null,"25 Bellingham",25,"Bellingham",25,"0025",null,698,2,null,63505,5,635,"CENTRAL BERKSHIRE",233,{"$f":"VLOOKUP(P37,'Townwide Contributions'!$A$9:$B$361,2,0)","v":"Peru"},"PERU                         "]
[26,null,"26 Belmont",26,"Belmont",26,"0026",null,700,6,null,63506,6,635,"CENTRAL BERKSHIRE",313,{"$f":"VLOOKUP(P38,'Townwide Contributions'!$A$9:$B$361,2,0)","v":"Washington"},"WASHINGTON                   "]
[27,null,"27 Berkley",27,"Berkley",27,"0027",null,705,3,null,63507,7,635,"CENTRAL BERKSHIRE",345,{"$f":"VLOOKUP(P39,'Townwide Contributions'!$A$9:$B$361,2,0)","v":"Windsor"},"WINDSOR                      "]
[361,null,"618 Berkshire Hills",618,"Berkshire Hills",618,"0618",null,710,2,null,64001,1,640,"CONCORD CARLISLE",51,{"$f":"VLOOKUP(P40,'Townwide Contributions'!$A$9:$B$361,2,0)","v":"Carlisle"},"CARLISLE                     "]
[28,null,"28 Berlin",28,"Berlin",28,"0028",null,712,2,null,64002,2,640,"CONCORD CARLISLE",67,{"$f":"VLOOKUP(P41,'Townwide Contributions'!$A$9:$B$361,2,0)","v":"Concord"},"CONCORD                      "]
[362,null,"620 Berlin Boylston",620,"Berlin Boylston",620,"0620",null,715,2,null,64501,1,645,"DENNIS YARMOUTH",75,{"$f":"VLOOKUP(P42,'Townwide Contributions'!$A$9:$B$361,2,0)","v":"Dennis"},"DENNIS                       "]
[29,null,"29 Bernardston",29,"Bernardston",29,"0029",null,717,8,null,64502,2,645,"DENNIS YARMOUTH",351,{"$f":"VLOOKUP(P43,'Townwide Contributions'!$A$9:$B$361,2,0)","v":"Yarmouth"},"YARMOUTH                     "]
[30,null,"30 Beverly",30,"Beverly",30,"0030",null,720,2,null,65001,1,650,"DIGHTON REHOBOTH",76,{"$f":"VLOOKUP(P44,'Townwide Contributions'!$A$9:$B$361,2,0)","v":"Dighton"},"DIGHTON                      "]
[31,null,"31 Billerica",31,"Billerica",31,"0031",null,725,3,null,65002,2,650,"DIGHTON REHOBOTH",247,{"$f":"VLOOKUP(P45,'Townwide Contributions'!$A$9:$B$361,2,0)","v":"Rehoboth"},"REHOBOTH                     "]
[32,null,"32 Blackstone",32,"Blackstone",32,"0032",null,728,2,null,65501,1,655,"DOVER SHERBORN",78,{"$f":"VLOOKUP(P46,'Townwide Contributions'!$A$9:$B$361,2,0)","v":"Dover"},"DOVER                        "]
[363,null,"622 Blackstone Millville",622,"Blackstone Millville",622,"0622",null,730,2,null,65502,2,655,"DOVER SHERBORN",269,{"$f":"VLOOKUP(P47,'Townwide Contributions'!$A$9:$B$361,2,0)","v":"Sherborn"},"SHERBORN                     "]
[414,null,"805 Blackstone Valley",805,"Blackstone Valley",805,"0805",null,735,3,null,65801,1,658,"DUDLEY CHARLTON",54,{"$f":"VLOOKUP(P48,'Townwide Contributions'!$A$9:$B$361,2,0)","v":"Charlton"},"CHARLTON                     "]
[33,null,"33 Blandford",33,"Blandford",33,"0033",null,740,3,null,65802,2,658,"DUDLEY CHARLTON",80,{"$f":"VLOOKUP(P49,'Townwide Contributions'!$A$9:$B$361,2,0)","v":"Dudley"},"DUDLEY                       "]
[415,null,"806 Blue Hills",806,"Blue Hills",806,"0806",null,745,3,null,66001,1,660,"NAUSET",41,{"$f":"VLOOKUP(P50,'Townwide Contributions'!$A$9:$B$361,2,0)","v":"Brewster"},"BREWSTER                     "]
[34,null,"34 Bolton",34,"Bolton",34,"0034",null,750,4,null,66002,2,660,"NAUSET",85,{"$f":"VLOOKUP(P51,'Townwide Contributions'!$A$9:$B$361,2,0)","v":"Eastham"},"EASTHAM                      "]
[35,null,"35 Boston",35,"Boston",35,"0035",null,753,5,null,66003,3,660,"NAUSET",224,{"$f":"VLOOKUP(P52,'Townwide Contributions'!$A$9:$B$361,2,0)","v":"Orleans"},"ORLEANS                      "]
[36,null,"36 Bourne",36,"Bourne",36,"0036",null,755,4,null,66004,4,660,"NAUSET",318,{"$f":"VLOOKUP(P53,'Townwide Contributions'!$A$9:$B$361,2,0)","v":"Wellfleet"},"WELLFLEET                    "]
[37,null,"37 Boxborough",37,"Boxborough",37,"0037",null,760,3,null,66201,1,662,"FARMINGTON RIVER",225,{"$f":"VLOOKUP(P54,'Townwide Contributions'!$A$9:$B$361,2,0)","v":"Otis"},"OTIS                         "]
[38,null,"38 Boxford",38,"Boxford",38,"0038",null,763,2,null,66202,2,662,"FARMINGTON RIVER",260,{"$f":"VLOOKUP(P55,'Townwide Contributions'!$A$9:$B$361,2,0)","v":"Sandisfield"},"SANDISFIELD                  "]
[39,null,"39 Boylston",39,"Boylston",39,"0039",null,765,5,null,66501,1,665,"FREETOWN LAKEVILLE",102,{"$f":"VLOOKUP(P56,'Townwide Contributions'!$A$9:$B$361,2,0)","v":"Freetown"},"FREETOWN                     "]
[40,null,"40 Braintree",40,"Braintree",40,"0040",null,766,3,null,66502,2,665,"FREETOWN LAKEVILLE",146,{"$f":"VLOOKUP(P57,'Townwide Contributions'!$A$9:$B$361,2,0)","v":"Lakeville"},"LAKEVILLE                    "]
[41,null,"41 Brewster",41,"Brewster",41,"0041",null,767,2,null,67001,1,670,"FRONTIER",68,{"$f":"VLOOKUP(P58,'Townwide Contributions'!$A$9:$B$361,2,0)","v":"Conway"},"CONWAY                       "]
[42,null,"42 Bridgewater",42,"Bridgewater",42,"0042",null,770,5,null,67002,2,670,"FRONTIER",74,{"$f":"VLOOKUP(P59,'Townwide Contributions'!$A$9:$B$361,2,0)","v":"Deerfield"},"DEERFIELD                    "]
[364,null,"625 Bridgewater Raynham",625,"Bridgewater Raynham",625,"0625",null,773,3,null,67003,3,670,"FRONTIER",289,{"$f":"VLOOKUP(P60,'Townwide Contributions'!$A$9:$B$361,2,0)","v":"Sunderland"},"SUNDERLAND                   "]
[43,null,"43 Brimfield",43,"Brimfield",43,"0043",null,774,3,null,67004,4,670,"FRONTIER",337,{"$f":"VLOOKUP(P61,'Townwide Contributions'!$A$9:$B$361,2,0)","v":"Whately"},"WHATELY                      "]
[439,null,"910 Bristol County",910,"Bristol County",910,"0910",null,775,5,null,67201,1,672,"GATEWAY",33,{"$f":"VLOOKUP(P62,'Townwide Contributions'!$A$9:$B$361,2,0)","v":"Blandford"},"BLANDFORD                    "]
[416,null,"810 Bristol Plymouth",810,"Bristol Plymouth",810,"0810",null,778,2,null,67202,2,672,"GATEWAY",59,{"$f":"VLOOKUP(P63,'Townwide Contributions'!$A$9:$B$361,2,0)","v":"Chester"},"CHESTER                      "]
[44,null,"44 Brockton",44,"Brockton",44,"0044",null,780,2,null,67203,3,672,"GATEWAY",143,{"$f":"VLOOKUP(P64,'Townwide Contributions'!$A$9:$B$361,2,0)","v":"Huntington"},"HUNTINGTON                   "]
[45,null,"45 Brookfield",45,"Brookfield",45,"0045",null,801,7,null,67204,4,672,"GATEWAY",183,{"$f":"VLOOKUP(P65,'Townwide Contributions'!$A$9:$B$361,2,0)","v":"Middlefield"},"MIDDLEFIELD                  "]
[46,null,"46 Brookline",46,"Brookline",46,"0046",null,805,13,null,67205,5,672,"GATEWAY",194,{"$f":"VLOOKUP(P66,'Townwide Contributions'!$A$9:$B$361,2,0)","v":"Montgomery"},"MONTGOMERY                   "]
[47,null,"47 Buckland",47,"Buckland",47,"0047",null,806,9,null,67206,6,672,"GATEWAY",256,{"$f":"VLOOKUP(P67,'Townwide Contributions'!$A$9:$B$361,2,0)","v":"Russell"},"RUSSELL                      "]
[48,null,"48 Burlington",48,"Burlington",48,"0048",null,810,7,null,67301,1,673,"GROTON DUNSTABLE",81,{"$f":"VLOOKUP(P68,'Townwide Contributions'!$A$9:$B$361,2,0)","v":"Dunstable"},"DUNSTABLE                    "]
[49,null,"49 Cambridge",49,"Cambridge",49,"0049",null,815,12,null,67302,2,673,"GROTON DUNSTABLE",115,{"$f":"VLOOKUP(P69,'Townwide Contributions'!$A$9:$B$361,2,0)","v":"Groton"},"GROTON                       "]
[50,null,{"$f":"PROPER(D70&\" \"&E70)","v":"50 Canton"},50,"Canton",50,"0050",null,817,17,null,67401,1,674,"GILL MONTAGUE",106,{"$f":"VLOOKUP(P70,'Townwide Contributions'!$A$9:$B$361,2,0)","v":"Gill"},"GILL                         "]
[417,null,"815 Cape Cod",815,"Cape Cod",815,"0815",null,818,19,null,67402,2,674,"GILL MONTAGUE",192,{"$f":"VLOOKUP(P71,'Townwide Contributions'!$A$9:$B$361,2,0)","v":"Montague"},"MONTAGUE                     "]
[51,null,"51 Carlisle",51,"Carlisle",51,"0051",null,821,4,null,67501,1,675,"HAMILTON WENHAM",119,{"$f":"VLOOKUP(P72,'Townwide Contributions'!$A$9:$B$361,2,0)","v":"Hamilton"},"HAMILTON                     "]
[52,null,"52 Carver",52,"Carver",52,"0052",null,823,4,null,67502,2,675,"HAMILTON WENHAM",320,{"$f":"VLOOKUP(P73,'Townwide Contributions'!$A$9:$B$361,2,0)","v":"Wenham"},"WENHAM                       "]
[366,null,"635 Central Berkshire",635,"Central Berkshire",635,"0635",null,825,3,null,68001,1,680,"HAMPDEN WILBRAHAM",120,{"$f":"VLOOKUP(P74,'Townwide Contributions'!$A$9:$B$361,2,0)","v":"Hampden"},"HAMPDEN                      "]
[53,null,"53 Charlemont",53,"Charlemont",53,"0053",null,828,4,null,68002,2,680,"HAMPDEN WILBRAHAM",339,{"$f":"VLOOKUP(P75,'Townwide Contributions'!$A$9:$B$361,2,0)","v":"Wilbraham"},"WILBRAHAM                    "]
[54,null,"54 Charlton",54,"Charlton",54,"0054",null,829,5,null,68301,1,683,"HAMPSHIRE",60,{"$f":"VLOOKUP(P76,'Townwide Contributions'!$A$9:$B$361,2,0)","v":"Chesterfield"},"CHESTERFIELD                 "]
[55,null,"55 Chatham",55,"Chatham",55,"0055",null,830,9,null,68302,2,683,"HAMPSHIRE",108,{"$f":"VLOOKUP(P77,'Townwide Contributions'!$A$9:$B$361,2,0)","v":"Goshen"},"GOSHEN                       "]
[56,null,"56 Chelmsford",56,"Chelmsford",56,"0056",null,832,18,null,68303,3,683,"HAMPSHIRE",275,{"$f":"VLOOKUP(P78,'Townwide Contributions'!$A$9:$B$361,2,0)","v":"Southampton"},"SOUTHAMPTON                  "]
[57,null,"57 Chelsea",57,"Chelsea",57,"0057",null,851,9,null,68304,4,683,"HAMPSHIRE",327,{"$f":"VLOOKUP(P79,'Townwide Contributions'!$A$9:$B$361,2,0)","v":"Westhampton"},"WESTHAMPTON                  "]
[58,null,"58 Cheshire",58,"Cheshire",58,"0058",null,852,8,null,68305,5,683,"HAMPSHIRE",340,{"$f":"VLOOKUP(P80,'Townwide Contributions'!$A$9:$B$361,2,0)","v":"Williamsburg"},"WILLIAMSBURG                 "]
[59,null,"59 Chester",59,"Chester",59,"0059",null,853,12,null,68501,1,685,"HAWLEMONT",53,{"$f":"VLOOKUP(P81,'Townwide Contributions'!$A$9:$B$361,2,0)","v":"Charlemont"},"CHARLEMONT                   "]
[60,null,"60 Chesterfield",60,"Chesterfield",60,"0060",null,855,5,null,68502,2,685,"HAWLEMONT",129,{"$f":"VLOOKUP(P82,'Townwide Contributions'!$A$9:$B$361,2,0)","v":"Hawley"},"HAWLEY                       "]
[365,null,"632 Chesterfield Goshen",632,"Chesterfield Goshen",632,"0632",null,860,9,null,69001,1,690,"KING PHILIP",208,{"$f":"VLOOKUP(P83,'Townwide Contributions'!$A$9:$B$361,2,0)","v":"Norfolk"},"NORFOLK                      "]
[61,null,"61 Chicopee",61,"Chicopee",61,"0061",null,871,5,null,69002,2,690,"KING PHILIP",238,{"$f":"VLOOKUP(P84,'Townwide Contributions'!$A$9:$B$361,2,0)","v":"Plainville"},"PLAINVILLE                   "]
[62,null,"62 Chilmark",62,"Chilmark",62,"0062",null,872,9,null,69003,3,690,"KING PHILIP",350,{"$f":"VLOOKUP(P85,'Townwide Contributions'!$A$9:$B$361,2,0)","v":"Wrentham"},"WRENTHAM                     "]
[63,null,"63 Clarksburg",63,"Clarksburg",63,"0063",null,873,8,null,69501,1,695,"LINCOLN SUDBURY",157,{"$f":"VLOOKUP(P86,'Townwide Contributions'!$A$9:$B$361,2,0)","v":"Lincoln"},"LINCOLN                      "]
[64,null,"64 Clinton",64,"Clinton",64,"0064",null,876,10,null,69502,2,695,"LINCOLN SUDBURY",288,{"$f":"VLOOKUP(P87,'Townwide Contributions'!$A$9:$B$361,2,0)","v":"Sudbury"},"SUDBURY                      "]
[65,null,"65 Cohasset",65,"Cohasset",65,"0065",null,878,11,null,69801,1,698,"MANCHESTER ESSEX",92,{"$f":"VLOOKUP(P88,'Townwide Contributions'!$A$9:$B$361,2,0)","v":"Essex"},"ESSEX                        "]
[66,null,"66 Colrain",66,"Colrain",66,"0066",null,879,5,null,69802,2,698,"MANCHESTER ESSEX",166,{"$f":"VLOOKUP(P89,'Townwide Contributions'!$A$9:$B$361,2,0)","v":"Manchester"},"MANCHESTER                   "]
[67,null,"67 Concord",67,"Concord",67,"0067",null,885,11,null,70001,1,700,"MARTHAS VINEYARD",62,{"$f":"VLOOKUP(P90,'Townwide Contributions'!$A$9:$B$361,2,0)","v":"Chilmark"},"CHILMARK                     "]
[367,null,"640 Concord Carlisle",640,"Concord Carlisle",640,"0640",null,910,20,null,70002,2,700,"MARTHAS VINEYARD",89,{"$f":"VLOOKUP(P91,'Townwide Contributions'!$A$9:$B$361,2,0)","v":"Edgartown"},"EDGARTOWN                    "]
[68,null,"68 Conway",68,"Conway",68,"0068",null,915,28,null,70003,3,700,"MARTHAS VINEYARD",104,{"$f":"VLOOKUP(P92,'Townwide Contributions'!$A$9:$B$361,2,0)","v":"Aquinnah"},"AQUINNAH"]
[69,null,"69 Cummington",69,"Cummington",69,"0069",null,999,0,null,70004,4,700,"MARTHAS VINEYARD",221,{"$f":"VLOOKUP(P93,'Townwide Contributions'!$A$9:$B$361,2,0)","v":"Oak Bluffs"},"OAK BLUFFS                   "]
[70,null,"70 Dalton",70,"Dalton",70,"0070",null,null,null,null,70005,5,700,"MARTHAS VINEYARD",296,{"$f":"VLOOKUP(P94,'Townwide Contributions'!$A$9:$B$361,2,0)","v":"Tisbury"},"TISBURY                      "]
[71,null,"71 Danvers",71,"Danvers",71,"0071",null,null,null,null,70006,6,700,"MARTHAS VINEYARD",334,{"$f":"VLOOKUP(P95,'Townwide Contributions'!$A$9:$B$361,2,0)","v":"West Tisbury"},"WEST TISBURY                 "]
[72,null,"72 Dartmouth",72,"Dartmouth",72,"0072",null,null,null,null,70501,1,705,"MASCONOMET",38,{"$f":"VLOOKUP(P96,'Townwide Contributions'!$A$9:$B$361,2,0)","v":"Boxford"},"BOXFORD                      "]
[73,null,"73 Dedham",73,"Dedham",73,"0073",null,null,null,null,70502,2,705,"MASCONOMET",184,{"$f":"VLOOKUP(P97,'Townwide Contributions'!$A$9:$B$361,2,0)","v":"Middleton"},"MIDDLETON                    "]
[74,null,"74 Deerfield",74,"Deerfield",74,"0074",null,null,null,null,70503,3,705,"MASCONOMET",298,{"$f":"VLOOKUP(P98,'Townwide Contributions'!$A$9:$B$361,2,0)","v":"Topsfield"},"TOPSFIELD                    "]
[75,null,"75 Dennis",75,"Dennis",75,"0075",null,null,null,null,71001,1,710,"MENDON UPTON",179,{"$f":"VLOOKUP(P99,'Townwide Contributions'!$A$9:$B$361,2,0)","v":"Mendon"},"MENDON                       "]
[368,null,"645 Dennis Yarmouth",645,"Dennis Yarmouth",645,"0645",null,null,null,null,71002,2,710,"MENDON UPTON",303,{"$f":"VLOOKUP(P100,'Townwide Contributions'!$A$9:$B$361,2,0)","v":"Upton"},"UPTON                        "]
[352,null,"352 Devens",352,"Devens",352,"0352",null,null,null,null,71201,1,712,"MONOMOY",55,{"$f":"VLOOKUP(P101,'Townwide Contributions'!$A$9:$B$361,2,0)","v":"Chatham"},"CHATHAM                      "]
[76,null,"76 Dighton",76,"Dighton",76,"0076",null,null,null,null,71202,2,712,"MONOMOY",126,{"$f":"VLOOKUP(P102,'Townwide Contributions'!$A$9:$B$361,2,0)","v":"Harwich"},"HARWICH                      "]
[369,null,"650 Dighton Rehoboth",650,"Dighton Rehoboth",650,"0650",null,null,null,null,71501,1,715,"MOUNT GREYLOCK",148,{"$f":"VLOOKUP(P103,'Townwide Contributions'!$A$9:$B$361,2,0)","v":"Lanesborough"},"LANESBOROUGH                 "]
[77,null,"77 Douglas",77,"Douglas",77,"0077",null,null,null,null,71502,2,715,"MOUNT GREYLOCK",341,{"$f":"VLOOKUP(P104,'Townwide Contributions'!$A$9:$B$361,2,0)","v":"Williamstown"},"WILLIAMSTOWN                 "]
[78,null,"78 Dover",78,"Dover",78,"0078",null,null,null,null,71701,1,717,"MOHAWK TRAIL",13,{"$f":"VLOOKUP(P105,'Townwide Contributions'!$A$9:$B$361,2,0)","v":"Ashfield"},"ASHFIELD                     "]
[370,null,"655 Dover Sherborn",655,"Dover Sherborn",655,"0655",null,null,null,null,71702,2,717,"MOHAWK TRAIL",47,{"$f":"VLOOKUP(P106,'Townwide Contributions'!$A$9:$B$361,2,0)","v":"Buckland"},"BUCKLAND                     "]
[79,null,"79 Dracut",79,"Dracut",79,"0079",null,null,null,null,71703,3,717,"MOHAWK TRAIL",53,{"$f":"VLOOKUP(P107,'Townwide Contributions'!$A$9:$B$361,2,0)","v":"Charlemont"},"CHARLEMONT                   "]
[80,null,"80 Dudley",80,"Dudley",80,"0080",null,null,null,null,71704,4,717,"MOHAWK TRAIL",66,{"$f":"VLOOKUP(P108,'Townwide Contributions'!$A$9:$B$361,2,0)","v":"Colrain"},"COLRAIN                      "]
[371,null,"658 Dudley Charlton",658,"Dudley Charlton",658,"0658",null,null,null,null,71705,5,717,"MOHAWK TRAIL",129,{"$f":"VLOOKUP(P109,'Townwide Contributions'!$A$9:$B$361,2,0)","v":"Hawley"},"HAWLEY                       "]
[81,null,"81 Dunstable",81,"Dunstable",81,"0081",null,null,null,null,71706,6,717,"MOHAWK TRAIL",130,{"$f":"VLOOKUP(P110,'Townwide Contributions'!$A$9:$B$361,2,0)","v":"Heath"},"HEATH                        "]
[82,null,"82 Duxbury",82,"Duxbury",82,"0082",null,null,null,null,71707,7,717,"MOHAWK TRAIL",237,{"$f":"VLOOKUP(P111,'Townwide Contributions'!$A$9:$B$361,2,0)","v":"Plainfield"},"PLAINFIELD                   "]
[83,null,"83 East Bridgewater",83,"East Bridgewater",83,"0083",null,null,null,null,71708,8,717,"MOHAWK TRAIL",268,{"$f":"VLOOKUP(P112,'Townwide Contributions'!$A$9:$B$361,2,0)","v":"Shelburne"},"SHELBURNE                    "]
[84,null,"84 East Brookfield",84,"East Brookfield",84,"0084",null,null,null,null,72001,1,720,"NARRAGANSETT",235,{"$f":"VLOOKUP(P113,'Townwide Contributions'!$A$9:$B$361,2,0)","v":"Phillipston"},"PHILLIPSTON                  "]
[87,null,"87 East Longmeadow",87,"East Longmeadow",87,"0087",null,null,null,null,72002,2,720,"NARRAGANSETT",294,{"$f":"VLOOKUP(P114,'Townwide Contributions'!$A$9:$B$361,2,0)","v":"Templeton"},"TEMPLETON                    "]
[85,null,"85 Eastham",85,"Eastham",85,"0085",null,null,null,null,72501,1,725,"NASHOBA",34,{"$f":"VLOOKUP(P115,'Townwide Contributions'!$A$9:$B$361,2,0)","v":"Bolton"},"BOLTON                       "]
[86,null,"86 Easthampton",86,"Easthampton",86,"0086",null,null,null,null,72502,2,725,"NASHOBA",147,{"$f":"VLOOKUP(P116,'Townwide Contributions'!$A$9:$B$361,2,0)","v":"Lancaster"},"LANCASTER                    "]
[88,null,"88 Easton",88,"Easton",88,"0088",null,null,null,null,72503,3,725,"NASHOBA",286,{"$f":"VLOOKUP(P117,'Townwide Contributions'!$A$9:$B$361,2,0)","v":"Stow"},"STOW                         "]
[89,null,"89 Edgartown",89,"Edgartown",89,"0089",null,null,null,null,72801,1,728,"NEW SALEM WENDELL",206,{"$f":"VLOOKUP(P118,'Townwide Contributions'!$A$9:$B$361,2,0)","v":"New Salem"},"NEW SALEM                    "]
[90,null,"90 Egremont",90,"Egremont",90,"0090",null,null,null,null,72802,2,728,"NEW SALEM WENDELL",319,{"$f":"VLOOKUP(P119,'Townwide Contributions'!$A$9:$B$361,2,0)","v":"Wendell"},"WENDELL                      "]
[91,null,"91 Erving",91,"Erving",91,"0091",null,null,null,null,73001,1,730,"NORTHBORO SOUTHBORO",213,{"$f":"VLOOKUP(P120,'Townwide Contributions'!$A$9:$B$361,2,0)","v":"Northborough"},"NORTHBOROUGH                 "]
[92,null,"92 Essex",92,"Essex",92,"0092",null,null,null,null,73002,2,730,"NORTHBORO SOUTHBORO",276,{"$f":"VLOOKUP(P121,'Townwide Contributions'!$A$9:$B$361,2,0)","v":"Southborough"},"SOUTHBOROUGH                 "]
[418,null,"817 Essex North Shore",817,"Essex North Shore",817,"0817",null,null,null,null,73501,1,735,"NORTH MIDDLESEX",12,{"$f":"VLOOKUP(P122,'Townwide Contributions'!$A$9:$B$361,2,0)","v":"Ashby"},"ASHBY                        "]
[93,null,"93 Everett",93,"Everett",93,"0093",null,null,null,null,73502,2,735,"NORTH MIDDLESEX",232,{"$f":"VLOOKUP(P123,'Townwide Contributions'!$A$9:$B$361,2,0)","v":"Pepperell"},"PEPPERELL                    "]
[94,null,"94 Fairhaven",94,"Fairhaven",94,"0094",null,null,null,null,73503,3,735,"NORTH MIDDLESEX",299,{"$f":"VLOOKUP(P124,'Townwide Contributions'!$A$9:$B$361,2,0)","v":"Townsend"},"TOWNSEND                     "]
[95,null,"95 Fall River",95,"Fall River",95,"0095",null,null,null,null,74001,1,740,"OLD ROCHESTER",169,{"$f":"VLOOKUP(P125,'Townwide Contributions'!$A$9:$B$361,2,0)","v":"Marion"},"MARION                       "]
[96,null,"96 Falmouth",96,"Falmouth",96,"0096",null,null,null,null,74002,2,740,"OLD ROCHESTER",173,{"$f":"VLOOKUP(P126,'Townwide Contributions'!$A$9:$B$361,2,0)","v":"Mattapoisett"},"MATTAPOISETT                 "]
[373,null,"662 Farmington River",662,"Farmington River",662,"0662",null,null,null,null,74003,3,740,"OLD ROCHESTER",250,{"$f":"VLOOKUP(P127,'Townwide Contributions'!$A$9:$B$361,2,0)","v":"Rochester"},"ROCHESTER                    "]
[97,null,"97 Fitchburg",97,"Fitchburg",97,"0097",null,null,null,null,74501,1,745,"PENTUCKET",116,{"$f":"VLOOKUP(P128,'Townwide Contributions'!$A$9:$B$361,2,0)","v":"Groveland"},"GROVELAND                    "]
[98,null,"98 Florida",98,"Florida",98,"0098",null,null,null,null,74502,2,745,"PENTUCKET",180,{"$f":"VLOOKUP(P129,'Townwide Contributions'!$A$9:$B$361,2,0)","v":"Merrimac"},"MERRIMAC                     "]
[99,null,"99 Foxborough",99,"Foxborough",99,"0099",null,null,null,null,74503,3,745,"PENTUCKET",329,{"$f":"VLOOKUP(P130,'Townwide Contributions'!$A$9:$B$361,2,0)","v":"West Newbury"},"WEST NEWBURY                 "]
[100,null,"100 Framingham",100,"Framingham",100,"0100",null,null,null,null,75001,1,750,"PIONEER",29,{"$f":"VLOOKUP(P131,'Townwide Contributions'!$A$9:$B$361,2,0)","v":"Bernardston"},"BERNARDSTON                  "]
[101,null,"101 Franklin",101,"Franklin",101,"0101",null,null,null,null,75002,2,750,"PIONEER",156,{"$f":"VLOOKUP(P132,'Townwide Contributions'!$A$9:$B$361,2,0)","v":"Leyden"},"LEYDEN                       "]
[419,null,"818 Franklin County",818,"Franklin County",818,"0818",null,null,null,null,75003,3,750,"PIONEER",216,{"$f":"VLOOKUP(P133,'Townwide Contributions'!$A$9:$B$361,2,0)","v":"Northfield"},"NORTHFIELD                   "]
[102,null,{"$f":"PROPER(D134&\" \"&E134)","v":"102 Freetown"},102,"Freetown",102,"0102",null,null,null,null,75004,4,750,"PIONEER",312,{"$f":"VLOOKUP(P134,'Townwide Contributions'!$A$9:$B$361,2,0)","v":"Warwick"},"WARWICK                      "]
[374,null,"665 Freetown Lakeville",665,"Freetown Lakeville",665,"0665",null,null,null,null,75301,1,753,"QUABBIN",21,{"$f":"VLOOKUP(P135,'Townwide Contributions'!$A$9:$B$361,2,0)","v":"Barre"},"BARRE                        "]
[375,null,"670 Frontier",670,"Frontier",670,"0670",null,null,null,null,75302,2,753,"QUABBIN",124,{"$f":"VLOOKUP(P136,'Townwide Contributions'!$A$9:$B$361,2,0)","v":"Hardwick"},"HARDWICK                     "]
[103,null,"103 Gardner",103,"Gardner",103,"0103",null,null,null,null,75303,3,753,"QUABBIN",140,{"$f":"VLOOKUP(P137,'Townwide Contributions'!$A$9:$B$361,2,0)","v":"Hubbardston"},"HUBBARDSTON                  "]
[376,null,"672 Gateway",672,"Gateway",672,"0672",null,null,null,null,75304,4,753,"QUABBIN",202,{"$f":"VLOOKUP(P138,'Townwide Contributions'!$A$9:$B$361,2,0)","v":"New Braintree"},"NEW BRAINTREE                "]
[105,null,"105 Georgetown",105,"Georgetown",105,"0105",null,null,null,null,75305,5,753,"QUABBIN",222,{"$f":"VLOOKUP(P139,'Townwide Contributions'!$A$9:$B$361,2,0)","v":"Oakham"},"OAKHAM                       "]
[106,null,"106 Gill",106,"Gill",106,"0106",null,null,null,null,75501,1,755,"RALPH C MAHAR",206,{"$f":"VLOOKUP(P140,'Townwide Contributions'!$A$9:$B$361,2,0)","v":"New Salem"},"NEW SALEM                    "]
[378,null,"674 Gill Montague",674,"Gill Montague",674,"0674",null,null,null,null,75502,2,755,"RALPH C MAHAR",223,{"$f":"VLOOKUP(P141,'Townwide Contributions'!$A$9:$B$361,2,0)","v":"Orange"},"ORANGE                       "]
[107,null,"107 Gloucester",107,"Gloucester",107,"0107",null,null,null,null,75503,3,755,"RALPH C MAHAR",234,{"$f":"VLOOKUP(P142,'Townwide Contributions'!$A$9:$B$361,2,0)","v":"Petersham"},"PETERSHAM                    "]
[108,null,"108 Goshen",108,"Goshen",108,"0108",null,null,null,null,75504,4,755,"RALPH C MAHAR",319,{"$f":"VLOOKUP(P143,'Townwide Contributions'!$A$9:$B$361,2,0)","v":"Wendell"},"WENDELL                      "]
[109,null,"109 Gosnold",109,"Gosnold",109,"0109",null,null,null,null,76001,1,760,"SILVER LAKE",118,{"$f":"VLOOKUP(P144,'Townwide Contributions'!$A$9:$B$361,2,0)","v":"Halifax"},"HALIFAX                      "]
[110,null,"110 Grafton",110,"Grafton",110,"0110",null,null,null,null,76002,2,760,"SILVER LAKE",145,{"$f":"VLOOKUP(P145,'Townwide Contributions'!$A$9:$B$361,2,0)","v":"Kingston"},"KINGSTON                     "]
[111,null,"111 Granby",111,"Granby",111,"0111",null,null,null,null,76003,3,760,"SILVER LAKE",240,{"$f":"VLOOKUP(P146,'Townwide Contributions'!$A$9:$B$361,2,0)","v":"Plympton"},"PLYMPTON                     "]
[112,null,"112 Granville",112,"Granville",112,"0112",null,null,null,null,76301,1,763,"SOMERSET BERKLEY",27,{"$f":"VLOOKUP(P147,'Townwide Contributions'!$A$9:$B$361,2,0)","v":"Berkley"},"BERKLEY                      "]
[113,null,"113 Great Barrington",113,"Great Barrington",113,"0113",null,null,null,null,76302,2,763,"SOMERSET BERKLEY",273,{"$f":"VLOOKUP(P148,'Townwide Contributions'!$A$9:$B$361,2,0)","v":"Somerset"},"SOMERSET                     "]
[420,null,"821 Greater Fall River",821,"Greater Fall River",821,"0821",null,null,null,null,76501,1,765,"SOUTHERN BERKSHIRE",6,{"$f":"VLOOKUP(P149,'Townwide Contributions'!$A$9:$B$361,2,0)","v":"Alford"},"ALFORD                       "]
[421,null,"823 Greater Lawrence",823,"Greater Lawrence",823,"0823",null,null,null,null,76502,2,765,"SOUTHERN BERKSHIRE",90,{"$f":"VLOOKUP(P150,'Townwide Contributions'!$A$9:$B$361,2,0)","v":"Egremont"},"EGREMONT                     "]
[423,null,"828 Greater Lowell",828,"Greater Lowell",828,"0828",null,null,null,null,76503,3,765,"SOUTHERN BERKSHIRE",193,{"$f":"VLOOKUP(P151,'Townwide Contributions'!$A$9:$B$361,2,0)","v":"Monterey"},"MONTEREY                     "]
[422,null,"825 Greater New Bedford",825,"Greater New Bedford",825,"0825",null,null,null,null,76504,4,765,"SOUTHERN BERKSHIRE",205,{"$f":"VLOOKUP(P152,'Townwide Contributions'!$A$9:$B$361,2,0)","v":"New Marlborough"},"NEW MARLBOROUGH              "]
[114,null,"114 Greenfield",114,"Greenfield",114,"0114",null,null,null,null,76505,5,765,"SOUTHERN BERKSHIRE",267,{"$f":"VLOOKUP(P153,'Townwide Contributions'!$A$9:$B$361,2,0)","v":"Sheffield"},"SHEFFIELD                    "]
[115,null,"115 Groton",115,"Groton",115,"0115",null,null,null,null,76601,1,766,"SOUTHWICK TOLLAND GRANVILLE",112,{"$f":"VLOOKUP(P154,'Townwide Contributions'!$A$9:$B$361,2,0)","v":"Granville"},"GRANVILLE                    "]
[377,null,"673 Groton Dunstable",673,"Groton Dunstable",673,"0673",null,null,null,null,76602,2,766,"SOUTHWICK TOLLAND GRANVILLE",279,{"$f":"VLOOKUP(P155,'Townwide Contributions'!$A$9:$B$361,2,0)","v":"Southwick"},"SOUTHWICK                    "]
[116,null,"116 Groveland",116,"Groveland",116,"0116",null,null,null,null,76603,3,766,"SOUTHWICK TOLLAND GRANVILLE",297,{"$f":"VLOOKUP(P156,'Townwide Contributions'!$A$9:$B$361,2,0)","v":"Tolland"},"TOLLAND                      "]
[117,null,"117 Hadley",117,"Hadley",117,"0117",null,null,null,null,76701,1,767,"SPENCER EAST BROOKFIELD",84,{"$f":"VLOOKUP(P157,'Townwide Contributions'!$A$9:$B$361,2,0)","v":"East Brookfield"},"EAST BROOKFIELD              "]
[118,null,"118 Halifax",118,"Halifax",118,"0118",null,null,null,null,76702,2,767,"SPENCER EAST BROOKFIELD",280,{"$f":"VLOOKUP(P158,'Townwide Contributions'!$A$9:$B$361,2,0)","v":"Spencer"},"SPENCER                      "]
[119,null,"119 Hamilton",119,"Hamilton",119,"0119",null,null,null,null,77001,1,770,"TANTASQUA",43,{"$f":"VLOOKUP(P159,'Townwide Contributions'!$A$9:$B$361,2,0)","v":"Brimfield"},"BRIMFIELD                    "]
[379,null,"675 Hamilton Wenham",675,"Hamilton Wenham",675,"0675",null,null,null,null,77002,2,770,"TANTASQUA",45,{"$f":"VLOOKUP(P160,'Townwide Contributions'!$A$9:$B$361,2,0)","v":"Brookfield"},"BROOKFIELD                   "]
[120,null,"120 Hampden",120,"Hampden",120,"0120",null,null,null,null,77003,3,770,"TANTASQUA",135,{"$f":"VLOOKUP(P161,'Townwide Contributions'!$A$9:$B$361,2,0)","v":"Holland"},"HOLLAND                      "]
[380,null,"680 Hampden Wilbraham",680,"Hampden Wilbraham",680,"0680",null,null,null,null,77004,4,770,"TANTASQUA",287,{"$f":"VLOOKUP(P162,'Townwide Contributions'!$A$9:$B$361,2,0)","v":"Sturbridge"},"STURBRIDGE                   "]
[381,null,"683 Hampshire",683,"Hampshire",683,"0683",null,null,null,null,77005,5,770,"TANTASQUA",306,{"$f":"VLOOKUP(P163,'Townwide Contributions'!$A$9:$B$361,2,0)","v":"Wales"},"WALES                        "]
[121,null,"121 Hancock",121,"Hancock",121,"0121",null,null,null,null,77301,1,773,"TRITON",203,{"$f":"VLOOKUP(P164,'Townwide Contributions'!$A$9:$B$361,2,0)","v":"Newbury"},"NEWBURY                      "]
[122,null,"122 Hanover",122,"Hanover",122,"0122",null,null,null,null,77302,2,773,"TRITON",254,{"$f":"VLOOKUP(P165,'Townwide Contributions'!$A$9:$B$361,2,0)","v":"Rowley"},"ROWLEY                       "]
[123,null,"123 Hanson",123,"Hanson",123,"0123",null,null,null,null,77303,3,773,"TRITON",259,{"$f":"VLOOKUP(P166,'Townwide Contributions'!$A$9:$B$361,2,0)","v":"Salisbury"},"SALISBURY                    "]
[124,null,"124 Hardwick",124,"Hardwick",124,"0124",null,null,null,null,77401,1,774,"UPISLAND",62,{"$f":"VLOOKUP(P167,'Townwide Contributions'!$A$9:$B$361,2,0)","v":"Chilmark"},"CHILMARK                     "]
[125,null,"125 Harvard",125,"Harvard",125,"0125",null,null,null,null,77402,2,774,"UPISLAND",104,{"$f":"VLOOKUP(P168,'Townwide Contributions'!$A$9:$B$361,2,0)","v":"Aquinnah"},"AQUINNAH"]
[126,null,"126 Harwich",126,"Harwich",126,"0126",null,null,null,null,77403,3,774,"UPISLAND",334,{"$f":"VLOOKUP(P169,'Townwide Contributions'!$A$9:$B$361,2,0)","v":"West Tisbury"},"WEST TISBURY                 "]
[127,null,"127 Hatfield",127,"Hatfield",127,"0127",null,null,null,null,77501,1,775,"WACHUSETT",134,{"$f":"VLOOKUP(P170,'Townwide Contributions'!$A$9:$B$361,2,0)","v":"Holden"},"HOLDEN                       "]
[128,null,"128 Haverhill",128,"Haverhill",128,"0128",null,null,null,null,77502,2,775,"WACHUSETT",228,{"$f":"VLOOKUP(P171,'Townwide Contributions'!$A$9:$B$361,2,0)","v":"Paxton"},"PAXTON                       "]
[382,null,"685 Hawlemont",685,"Hawlemont",685,"0685",null,null,null,null,77503,3,775,"WACHUSETT",241,{"$f":"VLOOKUP(P172,'Townwide Contributions'!$A$9:$B$361,2,0)","v":"Princeton"},"PRINCETON                    "]
[129,null,"129 Hawley",129,"Hawley",129,"0129",null,null,null,null,77504,4,775,"WACHUSETT",257,{"$f":"VLOOKUP(P173,'Townwide Contributions'!$A$9:$B$361,2,0)","v":"Rutland"},"RUTLAND                      "]
[130,null,"130 Heath",130,"Heath",130,"0130",null,null,null,null,77505,5,775,"WACHUSETT",282,{"$f":"VLOOKUP(P174,'Townwide Contributions'!$A$9:$B$361,2,0)","v":"Sterling"},"STERLING                     "]
[131,null,"131 Hingham",131,"Hingham",131,"0131",null,null,null,null,77801,1,778,"QUABOAG",311,{"$f":"VLOOKUP(P175,'Townwide Contributions'!$A$9:$B$361,2,0)","v":"Warren"},"WARREN                       "]
[132,null,"132 Hinsdale",132,"Hinsdale",132,"0132",null,null,null,null,77802,2,778,"QUABOAG",324,{"$f":"VLOOKUP(P176,'Townwide Contributions'!$A$9:$B$361,2,0)","v":"West Brookfield"},"WEST BROOKFIELD              "]
[133,null,"133 Holbrook",133,"Holbrook",133,"0133",null,null,null,null,78001,1,780,"WHITMAN HANSON",123,{"$f":"VLOOKUP(P177,'Townwide Contributions'!$A$9:$B$361,2,0)","v":"Hanson"},"HANSON                       "]
[134,null,"134 Holden",134,"Holden",134,"0134",null,null,null,null,78002,2,780,"WHITMAN HANSON",338,{"$f":"VLOOKUP(P178,'Townwide Contributions'!$A$9:$B$361,2,0)","v":"Whitman"},"WHITMAN                      "]
[135,null,"135 Holland",135,"Holland",135,"0135",null,null,null,null,80101,1,801,"ASSABET VALLEY",28,{"$f":"VLOOKUP(P179,'Townwide Contributions'!$A$9:$B$361,2,0)","v":"Berlin"},"BERLIN                       "]
[136,null,"136 Holliston",136,"Holliston",136,"0136",null,null,null,null,80102,2,801,"ASSABET VALLEY",141,{"$f":"VLOOKUP(P180,'Townwide Contributions'!$A$9:$B$361,2,0)","v":"Hudson"},"HUDSON                       "]
[137,null,"137 Holyoke",137,"Holyoke",137,"0137",null,null,null,null,80103,3,801,"ASSABET VALLEY",170,{"$f":"VLOOKUP(P181,'Townwide Contributions'!$A$9:$B$361,2,0)","v":"Marlborough"},"MARLBOROUGH                  "]
[356,null,"603 Hoosac Valley",603,"Hoosac Valley",603,"0603",null,null,null,null,80104,4,801,"ASSABET VALLEY",174,{"$f":"VLOOKUP(P182,'Townwide Contributions'!$A$9:$B$361,2,0)","v":"Maynard"},"MAYNARD                      "]
[138,null,"138 Hopedale",138,"Hopedale",138,"0138",null,null,null,null,80105,5,801,"ASSABET VALLEY",213,{"$f":"VLOOKUP(P183,'Townwide Contributions'!$A$9:$B$361,2,0)","v":"Northborough"},"NORTHBOROUGH                 "]
[139,null,"139 Hopkinton",139,"Hopkinton",139,"0139",null,null,null,null,80106,6,801,"ASSABET VALLEY",276,{"$f":"VLOOKUP(P184,'Townwide Contributions'!$A$9:$B$361,2,0)","v":"Southborough"},"SOUTHBOROUGH                 "]
[140,null,"140 Hubbardston",140,"Hubbardston",140,"0140",null,null,null,null,80107,7,801,"ASSABET VALLEY",321,{"$f":"VLOOKUP(P185,'Townwide Contributions'!$A$9:$B$361,2,0)","v":"Westborough"},"WESTBOROUGH                  "]
[141,null,"141 Hudson",141,"Hudson",141,"0141",null,null,null,null,80501,1,805,"BLACKSTONE VALLEY",25,{"$f":"VLOOKUP(P186,'Townwide Contributions'!$A$9:$B$361,2,0)","v":"Bellingham"},"BELLINGHAM                   "]
[142,null,"142 Hull",142,"Hull",142,"0142",null,null,null,null,80502,2,805,"BLACKSTONE VALLEY",32,{"$f":"VLOOKUP(P187,'Townwide Contributions'!$A$9:$B$361,2,0)","v":"Blackstone"},"BLACKSTONE                   "]
[143,null,"143 Huntington",143,"Huntington",143,"0143",null,null,null,null,80503,3,805,"BLACKSTONE VALLEY",77,{"$f":"VLOOKUP(P188,'Townwide Contributions'!$A$9:$B$361,2,0)","v":"Douglas"},"DOUGLAS                      "]
[144,null,"144 Ipswich",144,"Ipswich",144,"0144",null,null,null,null,80504,4,805,"BLACKSTONE VALLEY",110,{"$f":"VLOOKUP(P189,'Townwide Contributions'!$A$9:$B$361,2,0)","v":"Grafton"},"GRAFTON                      "]
[383,null,"690 King Philip",690,"King Philip",690,"0690",null,null,null,null,80505,5,805,"BLACKSTONE VALLEY",138,{"$f":"VLOOKUP(P190,'Townwide Contributions'!$A$9:$B$361,2,0)","v":"Hopedale"},"HOPEDALE                     "]
[145,null,"145 Kingston",145,"Kingston",145,"0145",null,null,null,null,80506,6,805,"BLACKSTONE VALLEY",179,{"$f":"VLOOKUP(P191,'Townwide Contributions'!$A$9:$B$361,2,0)","v":"Mendon"},"MENDON                       "]
[146,null,"146 Lakeville",146,"Lakeville",146,"0146",null,null,null,null,80507,7,805,"BLACKSTONE VALLEY",185,{"$f":"VLOOKUP(P192,'Townwide Contributions'!$A$9:$B$361,2,0)","v":"Milford"},"MILFORD                      "]
[147,null,"147 Lancaster",147,"Lancaster",147,"0147",null,null,null,null,80508,8,805,"BLACKSTONE VALLEY",186,{"$f":"VLOOKUP(P193,'Townwide Contributions'!$A$9:$B$361,2,0)","v":"Millbury"},"MILLBURY                     "]
[148,null,"148 Lanesborough",148,"Lanesborough",148,"0148",null,null,null,null,80509,9,805,"BLACKSTONE VALLEY",188,{"$f":"VLOOKUP(P194,'Townwide Contributions'!$A$9:$B$361,2,0)","v":"Millville"},"MILLVILLE                    "]
[149,null,"149 Lawrence",149,"Lawrence",149,"0149",null,null,null,null,80510,10,805,"BLACKSTONE VALLEY",214,{"$f":"VLOOKUP(P195,'Townwide Contributions'!$A$9:$B$361,2,0)","v":"Northbridge"},"NORTHBRIDGE                  "]
[150,null,"150 Lee",150,"Lee",150,"0150",null,null,null,null,80511,11,805,"BLACKSTONE VALLEY",290,{"$f":"VLOOKUP(P196,'Townwide Contributions'!$A$9:$B$361,2,0)","v":"Sutton"},"SUTTON                       "]
[151,null,"151 Leicester",151,"Leicester",151,"0151",null,null,null,null,80512,12,805,"BLACKSTONE VALLEY",303,{"$f":"VLOOKUP(P197,'Townwide Contributions'!$A$9:$B$361,2,0)","v":"Upton"},"UPTON                        "]
[152,null,{"$f":"PROPER(D198&\" \"&E198)","v":"152 Lenox"},152,"Lenox",152,"0152",null,null,null,null,80513,13,805,"BLACKSTONE VALLEY",304,{"$f":"VLOOKUP(P198,'Townwide Contributions'!$A$9:$B$361,2,0)","v":"Uxbridge"},"UXBRIDGE                     "]
[153,null,"153 Leominster",153,"Leominster",153,"0153",null,null,null,null,80601,1,806,"BLUE HILLS",18,{"$f":"VLOOKUP(P199,'Townwide Contributions'!$A$9:$B$361,2,0)","v":"Avon"},"AVON                         "]
[154,null,"154 Leverett",154,"Leverett",154,"0154",null,null,null,null,80602,2,806,"BLUE HILLS",40,{"$f":"VLOOKUP(P200,'Townwide Contributions'!$A$9:$B$361,2,0)","v":"Braintree"},"BRAINTREE                    "]
[155,null,"155 Lexington",155,"Lexington",155,"0155",null,null,null,null,80603,3,806,"BLUE HILLS",50,{"$f":"VLOOKUP(P201,'Townwide Contributions'!$A$9:$B$361,2,0)","v":"Canton"},"CANTON                       "]
[156,null,"156 Leyden",156,"Leyden",156,"0156",null,null,null,null,80604,4,806,"BLUE HILLS",73,{"$f":"VLOOKUP(P202,'Townwide Contributions'!$A$9:$B$361,2,0)","v":"Dedham"},"DEDHAM                       "]
[157,null,"157 Lincoln",157,"Lincoln",157,"0157",null,null,null,null,80605,5,806,"BLUE HILLS",133,{"$f":"VLOOKUP(P203,'Townwide Contributions'!$A$9:$B$361,2,0)","v":"Holbrook"},"HOLBROOK                     "]
[384,null,"695 Lincoln Sudbury",695,"Lincoln Sudbury",695,"0695",null,null,null,null,80606,6,806,"BLUE HILLS",189,{"$f":"VLOOKUP(P204,'Townwide Contributions'!$A$9:$B$361,2,0)","v":"Milton"},"MILTON                       "]
[158,null,"158 Littleton",158,"Littleton",158,"0158",null,null,null,null,80607,7,806,"BLUE HILLS",220,{"$f":"VLOOKUP(P205,'Townwide Contributions'!$A$9:$B$361,2,0)","v":"Norwood"},"NORWOOD                      "]
[159,null,"159 Longmeadow",159,"Longmeadow",159,"0159",null,null,null,null,80608,8,806,"BLUE HILLS",244,{"$f":"VLOOKUP(P206,'Townwide Contributions'!$A$9:$B$361,2,0)","v":"Randolph"},"RANDOLPH                     "]
[160,null,"160 Lowell",160,"Lowell",160,"0160",null,null,null,null,80609,9,806,"BLUE HILLS",335,{"$f":"VLOOKUP(P207,'Townwide Contributions'!$A$9:$B$361,2,0)","v":"Westwood"},"WESTWOOD                     "]
[161,null,"161 Ludlow",161,"Ludlow",161,"0161",null,null,null,null,81001,1,810,"BRISTOL PLYMOUTH",27,{"$f":"VLOOKUP(P208,'Townwide Contributions'!$A$9:$B$361,2,0)","v":"Berkley"},"BERKLEY                      "]
[162,null,"162 Lunenburg",162,"Lunenburg",162,"0162",null,null,null,null,81002,2,810,"BRISTOL PLYMOUTH",42,{"$f":"VLOOKUP(P209,'Townwide Contributions'!$A$9:$B$361,2,0)","v":"Bridgewater"},"BRIDGEWATER                  "]
[163,null,"163 Lynn",163,"Lynn",163,"0163",null,null,null,null,81003,3,810,"BRISTOL PLYMOUTH",76,{"$f":"VLOOKUP(P210,'Townwide Contributions'!$A$9:$B$361,2,0)","v":"Dighton"},"DIGHTON                      "]
[164,null,"164 Lynnfield",164,"Lynnfield",164,"0164",null,null,null,null,81004,4,810,"BRISTOL PLYMOUTH",182,{"$f":"VLOOKUP(P211,'Townwide Contributions'!$A$9:$B$361,2,0)","v":"Middleborough"},"MIDDLEBOROUGH                "]
[165,null,"165 Malden",165,"Malden",165,"0165",null,null,null,null,81005,5,810,"BRISTOL PLYMOUTH",245,{"$f":"VLOOKUP(P212,'Townwide Contributions'!$A$9:$B$361,2,0)","v":"Raynham"},"RAYNHAM                      "]
[166,null,"166 Manchester",166,"Manchester",166,"0166",null,null,null,null,81006,6,810,"BRISTOL PLYMOUTH",247,{"$f":"VLOOKUP(P213,'Townwide Contributions'!$A$9:$B$361,2,0)","v":"Rehoboth"},"REHOBOTH                     "]
[385,null,"698 Manchester Essex",698,"Manchester Essex",698,"0698",null,null,null,null,81007,7,810,"BRISTOL PLYMOUTH",293,{"$f":"VLOOKUP(P214,'Townwide Contributions'!$A$9:$B$361,2,0)","v":"Taunton"},"TAUNTON                      "]
[167,null,"167 Mansfield",167,"Mansfield",167,"0167",null,null,null,null,81501,1,815,"CAPE COD",20,{"$f":"VLOOKUP(P215,'Townwide Contributions'!$A$9:$B$361,2,0)","v":"Barnstable"},"BARNSTABLE                   "]
[168,null,"168 Marblehead",168,"Marblehead",168,"0168",null,null,null,null,81502,2,815,"CAPE COD",41,{"$f":"VLOOKUP(P216,'Townwide Contributions'!$A$9:$B$361,2,0)","v":"Brewster"},"BREWSTER                     "]
[169,null,"169 Marion",169,"Marion",169,"0169",null,null,null,null,81503,3,815,"CAPE COD",55,{"$f":"VLOOKUP(P217,'Townwide Contributions'!$A$9:$B$361,2,0)","v":"Chatham"},"CHATHAM                      "]
[170,null,"170 Marlborough",170,"Marlborough",170,"0170",null,null,null,null,81504,4,815,"CAPE COD",75,{"$f":"VLOOKUP(P218,'Townwide Contributions'!$A$9:$B$361,2,0)","v":"Dennis"},"DENNIS                       "]
[171,null,"171 Marshfield",171,"Marshfield",171,"0171",null,null,null,null,81505,5,815,"CAPE COD",85,{"$f":"VLOOKUP(P219,'Townwide Contributions'!$A$9:$B$361,2,0)","v":"Eastham"},"EASTHAM                      "]
[386,null,"700 Marthas Vineyard",700,"Marthas Vineyard",700,"0700",null,null,null,null,81506,6,815,"CAPE COD",126,{"$f":"VLOOKUP(P220,'Townwide Contributions'!$A$9:$B$361,2,0)","v":"Harwich"},"HARWICH                      "]
[387,null,"705 Masconomet",705,"Masconomet",705,"0705",null,null,null,null,81507,7,815,"CAPE COD",172,{"$f":"VLOOKUP(P221,'Townwide Contributions'!$A$9:$B$361,2,0)","v":"Mashpee"},"MASHPEE                      "]
[172,null,"172 Mashpee",172,"Mashpee",172,"0172",null,null,null,null,81508,8,815,"CAPE COD",224,{"$f":"VLOOKUP(P222,'Townwide Contributions'!$A$9:$B$361,2,0)","v":"Orleans"},"ORLEANS                      "]
[173,null,"173 Mattapoisett",173,"Mattapoisett",173,"0173",null,null,null,null,81509,9,815,"CAPE COD",242,{"$f":"VLOOKUP(P223,'Townwide Contributions'!$A$9:$B$361,2,0)","v":"Provincetown"},"PROVINCETOWN                 "]
[174,null,"174 Maynard",174,"Maynard",174,"0174",null,null,null,null,81510,10,815,"CAPE COD",300,{"$f":"VLOOKUP(P224,'Townwide Contributions'!$A$9:$B$361,2,0)","v":"Truro"},"TRURO                        "]
[175,null,"175 Medfield",175,"Medfield",175,"0175",null,null,null,null,81511,11,815,"CAPE COD",318,{"$f":"VLOOKUP(P225,'Townwide Contributions'!$A$9:$B$361,2,0)","v":"Wellfleet"},"WELLFLEET                    "]
[176,null,"176 Medford",176,"Medford",176,"0176",null,null,null,null,81512,12,815,"CAPE COD",351,{"$f":"VLOOKUP(P226,'Townwide Contributions'!$A$9:$B$361,2,0)","v":"Yarmouth"},"YARMOUTH                     "]
[177,null,"177 Medway",177,"Medway",177,"0177",null,null,null,null,81701,1,817,"ESSEX NORTH SHORE",30,{"$f":"VLOOKUP(P227,'Townwide Contributions'!$A$9:$B$361,2,0)","v":"Beverly"},"BEVERLY                      "]
[178,null,"178 Melrose",178,"Melrose",178,"0178",null,null,null,null,81702,2,817,"ESSEX NORTH SHORE",38,{"$f":"VLOOKUP(P228,'Townwide Contributions'!$A$9:$B$361,2,0)","v":"Boxford"},"BOXFORD                      "]
[179,null,"179 Mendon",179,"Mendon",179,"0179",null,null,null,null,81703,3,817,"ESSEX NORTH SHORE",71,{"$f":"VLOOKUP(P229,'Townwide Contributions'!$A$9:$B$361,2,0)","v":"Danvers"},"DANVERS                      "]
[388,null,"710 Mendon Upton",710,"Mendon Upton",710,"0710",null,null,null,null,81704,4,817,"ESSEX NORTH SHORE",92,{"$f":"VLOOKUP(P230,'Townwide Contributions'!$A$9:$B$361,2,0)","v":"Essex"},"ESSEX                        "]
[180,null,"180 Merrimac",180,"Merrimac",180,"0180",null,null,null,null,81705,5,817,"ESSEX NORTH SHORE",107,{"$f":"VLOOKUP(P231,'Townwide Contributions'!$A$9:$B$361,2,0)","v":"Gloucester"},"GLOUCESTER                   "]
[181,null,"181 Methuen",181,"Methuen",181,"0181",null,null,null,null,81706,6,817,"ESSEX NORTH SHORE",119,{"$f":"VLOOKUP(P232,'Townwide Contributions'!$A$9:$B$361,2,0)","v":"Hamilton"},"HAMILTON                     "]
[182,null,"182 Middleborough",182,"Middleborough",182,"0182",null,null,null,null,81707,7,817,"ESSEX NORTH SHORE",164,{"$f":"VLOOKUP(P233,'Townwide Contributions'!$A$9:$B$361,2,0)","v":"Lynnfield"},"LYNNFIELD                    "]
[183,null,"183 Middlefield",183,"Middlefield",183,"0183",null,null,null,null,81708,8,817,"ESSEX NORTH SHORE",166,{"$f":"VLOOKUP(P234,'Townwide Contributions'!$A$9:$B$361,2,0)","v":"Manchester"},"MANCHESTER                   "]
[184,null,"184 Middleton",184,"Middleton",184,"0184",null,null,null,null,81709,9,817,"ESSEX NORTH SHORE",168,{"$f":"VLOOKUP(P235,'Townwide Contributions'!$A$9:$B$361,2,0)","v":"Marblehead"},"MARBLEHEAD                   "]
[185,null,"185 Milford",185,"Milford",185,"0185",null,null,null,null,81710,10,817,"ESSEX NORTH SHORE",184,{"$f":"VLOOKUP(P236,'Townwide Contributions'!$A$9:$B$361,2,0)","v":"Middleton"},"MIDDLETON                    "]
[186,null,"186 Millbury",186,"Millbury",186,"0186",null,null,null,null,81711,11,817,"ESSEX NORTH SHORE",196,{"$f":"VLOOKUP(P237,'Townwide Contributions'!$A$9:$B$361,2,0)","v":"Nahant"},"NAHANT                       "]
[187,null,"187 Millis",187,"Millis",187,"0187",null,null,null,null,81712,12,817,"ESSEX NORTH SHORE",229,{"$f":"VLOOKUP(P238,'Townwide Contributions'!$A$9:$B$361,2,0)","v":"Peabody"},"PEABODY"]
[188,null,"188 Millville",188,"Millville",188,"0188",null,null,null,null,81713,13,817,"ESSEX NORTH SHORE",252,{"$f":"VLOOKUP(P239,'Townwide Contributions'!$A$9:$B$361,2,0)","v":"Rockport"},"ROCKPORT                     "]
[189,null,"189 Milton",189,"Milton",189,"0189",null,null,null,null,81714,14,817,"ESSEX NORTH SHORE",258,{"$f":"VLOOKUP(P240,'Townwide Contributions'!$A$9:$B$361,2,0)","v":"Salem"},"SALEM                        "]
[425,null,"830 Minuteman",830,"Minuteman",830,"0830",null,null,null,null,81715,15,817,"ESSEX NORTH SHORE",291,{"$f":"VLOOKUP(P241,'Townwide Contributions'!$A$9:$B$361,2,0)","v":"Swampscott"},"SWAMPSCOTT                   "]
[391,null,"717 Mohawk Trail",717,"Mohawk Trail",717,"0717",null,null,null,null,81716,16,817,"ESSEX NORTH SHORE",298,{"$f":"VLOOKUP(P242,'Townwide Contributions'!$A$9:$B$361,2,0)","v":"Topsfield"},"TOPSFIELD                    "]
[389,null,"712 Monomoy",712,"Monomoy",712,"0712",null,null,null,null,81717,17,817,"ESSEX NORTH SHORE",320,{"$f":"VLOOKUP(P243,'Townwide Contributions'!$A$9:$B$361,2,0)","v":"Wenham"},"WENHAM                       "]
[190,null,"190 Monroe",190,"Monroe",190,"0190",null,null,null,null,81801,1,818,"FRANKLIN COUNTY",29,{"$f":"VLOOKUP(P244,'Townwide Contributions'!$A$9:$B$361,2,0)","v":"Bernardston"},"BERNARDSTON                  "]
[191,null,"191 Monson",191,"Monson",191,"0191",null,null,null,null,81802,2,818,"FRANKLIN COUNTY",47,{"$f":"VLOOKUP(P245,'Townwide Contributions'!$A$9:$B$361,2,0)","v":"Buckland"},"BUCKLAND                     "]
[426,null,"832 Montachusett",832,"Montachusett",832,"0832",null,null,null,null,81803,3,818,"FRANKLIN COUNTY",66,{"$f":"VLOOKUP(P246,'Townwide Contributions'!$A$9:$B$361,2,0)","v":"Colrain"},"COLRAIN                      "]
[192,null,"192 Montague",192,"Montague",192,"0192",null,null,null,null,81804,4,818,"FRANKLIN COUNTY",68,{"$f":"VLOOKUP(P247,'Townwide Contributions'!$A$9:$B$361,2,0)","v":"Conway"},"CONWAY                       "]
[193,null,"193 Monterey",193,"Monterey",193,"0193",null,null,null,null,81805,5,818,"FRANKLIN COUNTY",74,{"$f":"VLOOKUP(P248,'Townwide Contributions'!$A$9:$B$361,2,0)","v":"Deerfield"},"DEERFIELD                    "]
[194,null,"194 Montgomery",194,"Montgomery",194,"0194",null,null,null,null,81806,6,818,"FRANKLIN COUNTY",91,{"$f":"VLOOKUP(P249,'Townwide Contributions'!$A$9:$B$361,2,0)","v":"Erving"},"ERVING                       "]
[390,null,"715 Mount Greylock",715,"Mount Greylock",715,"0715",null,null,null,null,81807,7,818,"FRANKLIN COUNTY",106,{"$f":"VLOOKUP(P250,'Townwide Contributions'!$A$9:$B$361,2,0)","v":"Gill"},"GILL                         "]
[195,null,"195 Mount Washington",195,"Mount Washington",195,"0195",null,null,null,null,81808,8,818,"FRANKLIN COUNTY",114,{"$f":"VLOOKUP(P251,'Townwide Contributions'!$A$9:$B$361,2,0)","v":"Greenfield"},"GREENFIELD                   "]
[196,null,"196 Nahant",196,"Nahant",196,"0196",null,null,null,null,81809,9,818,"FRANKLIN COUNTY",130,{"$f":"VLOOKUP(P252,'Townwide Contributions'!$A$9:$B$361,2,0)","v":"Heath"},"HEATH                        "]
[197,null,"197 Nantucket",197,"Nantucket",197,"0197",null,null,null,null,81810,10,818,"FRANKLIN COUNTY",156,{"$f":"VLOOKUP(P253,'Townwide Contributions'!$A$9:$B$361,2,0)","v":"Leyden"},"LEYDEN                       "]
[392,null,"720 Narragansett",720,"Narragansett",720,"0720",null,null,null,null,81811,11,818,"FRANKLIN COUNTY",192,{"$f":"VLOOKUP(P254,'Townwide Contributions'!$A$9:$B$361,2,0)","v":"Montague"},"MONTAGUE                     "]
[393,null,"725 Nashoba",725,"Nashoba",725,"0725",null,null,null,null,81812,12,818,"FRANKLIN COUNTY",206,{"$f":"VLOOKUP(P255,'Townwide Contributions'!$A$9:$B$361,2,0)","v":"New Salem"},"NEW SALEM                    "]
[428,null,"852 Nashoba Valley",852,"Nashoba Valley",852,"0852",null,null,null,null,81813,13,818,"FRANKLIN COUNTY",216,{"$f":"VLOOKUP(P256,'Townwide Contributions'!$A$9:$B$361,2,0)","v":"Northfield"},"NORTHFIELD                   "]
[198,null,"198 Natick",198,"Natick",198,"0198",null,null,null,null,81814,14,818,"FRANKLIN COUNTY",223,{"$f":"VLOOKUP(P257,'Townwide Contributions'!$A$9:$B$361,2,0)","v":"Orange"},"ORANGE                       "]
[372,null,"660 Nauset",660,"Nauset",660,"0660",null,null,null,null,81815,15,818,"FRANKLIN COUNTY",268,{"$f":"VLOOKUP(P258,'Townwide Contributions'!$A$9:$B$361,2,0)","v":"Shelburne"},"SHELBURNE                    "]
[199,null,"199 Needham",199,"Needham",199,"0199",null,null,null,null,81816,16,818,"FRANKLIN COUNTY",289,{"$f":"VLOOKUP(P259,'Townwide Contributions'!$A$9:$B$361,2,0)","v":"Sunderland"},"SUNDERLAND                   "]
[200,null,"200 New Ashford",200,"New Ashford",200,"0200",null,null,null,null,81817,17,818,"FRANKLIN COUNTY",312,{"$f":"VLOOKUP(P260,'Townwide Contributions'!$A$9:$B$361,2,0)","v":"Warwick"},"WARWICK                      "]
[201,null,"201 New Bedford",201,"New Bedford",201,"0201",null,null,null,null,81818,18,818,"FRANKLIN COUNTY",319,{"$f":"VLOOKUP(P261,'Townwide Contributions'!$A$9:$B$361,2,0)","v":"Wendell"},"WENDELL                      "]
[202,null,{"$f":"PROPER(D262&\" \"&E262)","v":"202 New Braintree"},202,"New Braintree",202,"0202",null,null,null,null,81819,19,818,"FRANKLIN COUNTY",337,{"$f":"VLOOKUP(P262,'Townwide Contributions'!$A$9:$B$361,2,0)","v":"Whately"},"WHATELY                      "]
[205,null,"205 New Marlborough",205,"New Marlborough",205,"0205",null,null,null,null,82101,1,821,"GREATER FALL RIVER",95,{"$f":"VLOOKUP(P263,'Townwide Contributions'!$A$9:$B$361,2,0)","v":"Fall River"},"FALL RIVER                   "]
[206,null,"206 New Salem",206,"New Salem",206,"0206",null,null,null,null,82102,2,821,"GREATER FALL RIVER",273,{"$f":"VLOOKUP(P264,'Townwide Contributions'!$A$9:$B$361,2,0)","v":"Somerset"},"SOMERSET                     "]
[394,null,"728 New Salem Wendell",728,"New Salem Wendell",728,"0728",null,null,null,null,82103,3,821,"GREATER FALL RIVER",292,{"$f":"VLOOKUP(P265,'Townwide Contributions'!$A$9:$B$361,2,0)","v":"Swansea"},"SWANSEA                      "]
[203,null,"203 Newbury",203,"Newbury",203,"0203",null,null,null,null,82104,4,821,"GREATER FALL RIVER",331,{"$f":"VLOOKUP(P266,'Townwide Contributions'!$A$9:$B$361,2,0)","v":"Westport"},"WESTPORT                     "]
[204,null,"204 Newburyport",204,"Newburyport",204,"0204",null,null,null,null,82301,1,823,"GREATER LAWRENCE",9,{"$f":"VLOOKUP(P267,'Townwide Contributions'!$A$9:$B$361,2,0)","v":"Andover"},"ANDOVER                      "]
[207,null,"207 Newton",207,"Newton",207,"0207",null,null,null,null,82302,2,823,"GREATER LAWRENCE",149,{"$f":"VLOOKUP(P268,'Townwide Contributions'!$A$9:$B$361,2,0)","v":"Lawrence"},"LAWRENCE                     "]
[208,null,"208 Norfolk",208,"Norfolk",208,"0208",null,null,null,null,82303,3,823,"GREATER LAWRENCE",181,{"$f":"VLOOKUP(P269,'Townwide Contributions'!$A$9:$B$361,2,0)","v":"Methuen"},"METHUEN                      "]
[440,null,"915 Norfolk County",915,"Norfolk County",915,"0915",null,null,null,null,82304,4,823,"GREATER LAWRENCE",211,{"$f":"VLOOKUP(P270,'Townwide Contributions'!$A$9:$B$361,2,0)","v":"North Andover"},"NORTH ANDOVER                "]
[209,null,"209 North Adams",209,"North Adams",209,"0209",null,null,null,null,82501,1,825,"GREATER NEW BEDFORD",72,{"$f":"VLOOKUP(P271,'Townwide Contributions'!$A$9:$B$361,2,0)","v":"Dartmouth"},"DARTMOUTH                    "]
[211,null,"211 North Andover",211,"North Andover",211,"0211",null,null,null,null,82502,2,825,"GREATER NEW BEDFORD",94,{"$f":"VLOOKUP(P272,'Townwide Contributions'!$A$9:$B$361,2,0)","v":"Fairhaven"},"FAIRHAVEN                    "]
[212,null,"212 North Attleborough",212,"North Attleborough",212,"0212",null,null,null,null,82503,3,825,"GREATER NEW BEDFORD",201,{"$f":"VLOOKUP(P273,'Townwide Contributions'!$A$9:$B$361,2,0)","v":"New Bedford"},"NEW BEDFORD                  "]
[215,null,"215 North Brookfield",215,"North Brookfield",215,"0215",null,null,null,null,82801,1,828,"GREATER LOWELL",79,{"$f":"VLOOKUP(P274,'Townwide Contributions'!$A$9:$B$361,2,0)","v":"Dracut"},"DRACUT                       "]
[396,null,"735 North Middlesex",735,"North Middlesex",735,"0735",null,null,null,null,82802,2,828,"GREATER LOWELL",81,{"$f":"VLOOKUP(P275,'Townwide Contributions'!$A$9:$B$361,2,0)","v":"Dunstable"},"DUNSTABLE                    "]
[217,null,"217 North Reading",217,"North Reading",217,"0217",null,null,null,null,82803,3,828,"GREATER LOWELL",160,{"$f":"VLOOKUP(P276,'Townwide Contributions'!$A$9:$B$361,2,0)","v":"Lowell"},"LOWELL                       "]
[210,null,"210 Northampton",210,"Northampton",210,"0210",null,null,null,null,82804,4,828,"GREATER LOWELL",301,{"$f":"VLOOKUP(P277,'Townwide Contributions'!$A$9:$B$361,2,0)","v":"Tyngsborough"},"TYNGSBOROUGH                 "]
[354,null,"406 Northampton Smith",406,"Northampton Smith",406,"0406",null,null,null,null,82901,1,829,"SOUTH MIDDLESEX",14,{"$f":"VLOOKUP(P278,'Townwide Contributions'!$A$9:$B$361,2,0)","v":"Ashland"},"ASHLAND                      "]
[395,null,"730 Northboro Southboro",730,"Northboro Southboro",730,"0730",null,null,null,null,82902,2,829,"SOUTH MIDDLESEX",100,{"$f":"VLOOKUP(P279,'Townwide Contributions'!$A$9:$B$361,2,0)","v":"Framingham"},"FRAMINGHAM                   "]
[213,null,"213 Northborough",213,"Northborough",213,"0213",null,null,null,null,82903,3,829,"SOUTH MIDDLESEX",136,{"$f":"VLOOKUP(P280,'Townwide Contributions'!$A$9:$B$361,2,0)","v":"Holliston"},"HOLLISTON                    "]
[214,null,"214 Northbridge",214,"Northbridge",214,"0214",null,null,null,null,82904,4,829,"SOUTH MIDDLESEX",139,{"$f":"VLOOKUP(P281,'Townwide Contributions'!$A$9:$B$361,2,0)","v":"Hopkinton"},"HOPKINTON                    "]
[429,null,"853 Northeast Metropolitan",853,"Northeast Metropolitan",853,"0853",null,null,null,null,82905,5,829,"SOUTH MIDDLESEX",198,{"$f":"VLOOKUP(P282,'Townwide Contributions'!$A$9:$B$361,2,0)","v":"Natick"},"NATICK                       "]
[427,null,"851 Northern Berkshire",851,"Northern Berkshire",851,"0851",null,null,null,null,83001,1,830,"MINUTEMAN",2,{"$f":"VLOOKUP(P283,'Townwide Contributions'!$A$9:$B$361,2,0)","v":"Acton"},"ACTON                        "]
[216,null,"216 Northfield",216,"Northfield",216,"0216",null,null,null,null,83002,2,830,"MINUTEMAN",10,{"$f":"VLOOKUP(P284,'Townwide Contributions'!$A$9:$B$361,2,0)","v":"Arlington"},"ARLINGTON                    "]
[218,null,"218 Norton",218,"Norton",218,"0218",null,null,null,null,83003,3,830,"MINUTEMAN",34,{"$f":"VLOOKUP(P285,'Townwide Contributions'!$A$9:$B$361,2,0)","v":"Bolton"},"BOLTON                       "]
[219,null,"219 Norwell",219,"Norwell",219,"0219",null,null,null,null,83004,4,830,"MINUTEMAN",67,{"$f":"VLOOKUP(P286,'Townwide Contributions'!$A$9:$B$361,2,0)","v":"Concord"},"CONCORD                      "]
[220,null,"220 Norwood",220,"Norwood",220,"0220",null,null,null,null,83005,5,830,"MINUTEMAN",78,{"$f":"VLOOKUP(P287,'Townwide Contributions'!$A$9:$B$361,2,0)","v":"Dover"},"DOVER                        "]
[221,null,"221 Oak Bluffs",221,"Oak Bluffs",221,"0221",null,null,null,null,83006,6,830,"MINUTEMAN",147,{"$f":"VLOOKUP(P288,'Townwide Contributions'!$A$9:$B$361,2,0)","v":"Lancaster"},"LANCASTER                    "]
[222,null,"222 Oakham",222,"Oakham",222,"0222",null,null,null,null,83007,7,830,"MINUTEMAN",155,{"$f":"VLOOKUP(P289,'Townwide Contributions'!$A$9:$B$361,2,0)","v":"Lexington"},"LEXINGTON                    "]
[430,null,"855 Old Colony",855,"Old Colony",855,"0855",null,null,null,null,83008,8,830,"MINUTEMAN",199,{"$f":"VLOOKUP(P290,'Townwide Contributions'!$A$9:$B$361,2,0)","v":"Needham"},"NEEDHAM                      "]
[397,null,"740 Old Rochester",740,"Old Rochester",740,"0740",null,null,null,null,83009,9,830,"MINUTEMAN",286,{"$f":"VLOOKUP(P291,'Townwide Contributions'!$A$9:$B$361,2,0)","v":"Stow"},"STOW                         "]
[223,null,"223 Orange",223,"Orange",223,"0223",null,null,null,null,83201,1,832,"MONTACHUSETT",11,{"$f":"VLOOKUP(P292,'Townwide Contributions'!$A$9:$B$361,2,0)","v":"Ashburnham"},"ASHBURNHAM                   "]
[224,null,"224 Orleans",224,"Orleans",224,"0224",null,null,null,null,83202,2,832,"MONTACHUSETT",12,{"$f":"VLOOKUP(P293,'Townwide Contributions'!$A$9:$B$361,2,0)","v":"Ashby"},"ASHBY                        "]
[225,null,"225 Otis",225,"Otis",225,"0225",null,null,null,null,83203,3,832,"MONTACHUSETT",15,{"$f":"VLOOKUP(P294,'Townwide Contributions'!$A$9:$B$361,2,0)","v":"Athol"},"ATHOL                        "]
[226,null,"226 Oxford",226,"Oxford",226,"0226",null,null,null,null,83204,4,832,"MONTACHUSETT",21,{"$f":"VLOOKUP(P295,'Townwide Contributions'!$A$9:$B$361,2,0)","v":"Barre"},"BARRE                        "]
[227,null,"227 Palmer",227,"Palmer",227,"0227",null,null,null,null,83205,5,832,"MONTACHUSETT",97,{"$f":"VLOOKUP(P296,'Townwide Contributions'!$A$9:$B$361,2,0)","v":"Fitchburg"},"FITCHBURG                    "]
[431,null,"860 Pathfinder",860,"Pathfinder",860,"0860",null,null,null,null,83206,6,832,"MONTACHUSETT",103,{"$f":"VLOOKUP(P297,'Townwide Contributions'!$A$9:$B$361,2,0)","v":"Gardner"},"GARDNER                      "]
[228,null,"228 Paxton",228,"Paxton",228,"0228",null,null,null,null,83207,7,832,"MONTACHUSETT",125,{"$f":"VLOOKUP(P298,'Townwide Contributions'!$A$9:$B$361,2,0)","v":"Harvard"},"HARVARD                      "]
[229,null,"229 Peabody",229,"Peabody",229,"0229",null,null,null,null,83208,8,832,"MONTACHUSETT",134,{"$f":"VLOOKUP(P299,'Townwide Contributions'!$A$9:$B$361,2,0)","v":"Holden"},"HOLDEN                       "]
[230,null,"230 Pelham",230,"Pelham",230,"0230",null,null,null,null,83209,9,832,"MONTACHUSETT",140,{"$f":"VLOOKUP(P300,'Townwide Contributions'!$A$9:$B$361,2,0)","v":"Hubbardston"},"HUBBARDSTON                  "]
[231,null,"231 Pembroke",231,"Pembroke",231,"0231",null,null,null,null,83210,10,832,"MONTACHUSETT",162,{"$f":"VLOOKUP(P301,'Townwide Contributions'!$A$9:$B$361,2,0)","v":"Lunenburg"},"LUNENBURG                    "]
[398,null,"745 Pentucket",745,"Pentucket",745,"0745",null,null,null,null,83211,11,832,"MONTACHUSETT",234,{"$f":"VLOOKUP(P302,'Townwide Contributions'!$A$9:$B$361,2,0)","v":"Petersham"},"PETERSHAM                    "]
[232,null,"232 Pepperell",232,"Pepperell",232,"0232",null,null,null,null,83212,12,832,"MONTACHUSETT",235,{"$f":"VLOOKUP(P303,'Townwide Contributions'!$A$9:$B$361,2,0)","v":"Phillipston"},"PHILLIPSTON                  "]
[233,null,"233 Peru",233,"Peru",233,"0233",null,null,null,null,83213,13,832,"MONTACHUSETT",241,{"$f":"VLOOKUP(P304,'Townwide Contributions'!$A$9:$B$361,2,0)","v":"Princeton"},"PRINCETON                    "]
[234,null,"234 Petersham",234,"Petersham",234,"0234",null,null,null,null,83214,14,832,"MONTACHUSETT",255,{"$f":"VLOOKUP(P305,'Townwide Contributions'!$A$9:$B$361,2,0)","v":"Royalston"},"ROYALSTON                    "]
[235,null,"235 Phillipston",235,"Phillipston",235,"0235",null,null,null,null,83215,15,832,"MONTACHUSETT",282,{"$f":"VLOOKUP(P306,'Townwide Contributions'!$A$9:$B$361,2,0)","v":"Sterling"},"STERLING                     "]
[399,null,"750 Pioneer",750,"Pioneer",750,"0750",null,null,null,null,83216,16,832,"MONTACHUSETT",294,{"$f":"VLOOKUP(P307,'Townwide Contributions'!$A$9:$B$361,2,0)","v":"Templeton"},"TEMPLETON                    "]
[236,null,"236 Pittsfield",236,"Pittsfield",236,"0236",null,null,null,null,83217,17,832,"MONTACHUSETT",328,{"$f":"VLOOKUP(P308,'Townwide Contributions'!$A$9:$B$361,2,0)","v":"Westminster"},"WESTMINSTER                  "]
[237,null,"237 Plainfield",237,"Plainfield",237,"0237",null,null,null,null,83218,18,832,"MONTACHUSETT",343,{"$f":"VLOOKUP(P309,'Townwide Contributions'!$A$9:$B$361,2,0)","v":"Winchendon"},"WINCHENDON                   "]
[238,null,"238 Plainville",238,"Plainville",238,"0238",null,null,null,null,85101,1,851,"NORTHERN BERKSHIRE",4,{"$f":"VLOOKUP(P310,'Townwide Contributions'!$A$9:$B$361,2,0)","v":"Adams"},"ADAMS                        "]
[239,null,"239 Plymouth",239,"Plymouth",239,"0239",null,null,null,null,85102,2,851,"NORTHERN BERKSHIRE",58,{"$f":"VLOOKUP(P311,'Townwide Contributions'!$A$9:$B$361,2,0)","v":"Cheshire"},"CHESHIRE"]
[240,null,"240 Plympton",240,"Plympton",240,"0240",null,null,null,null,85103,3,851,"NORTHERN BERKSHIRE",63,{"$f":"VLOOKUP(P312,'Townwide Contributions'!$A$9:$B$361,2,0)","v":"Clarksburg"},"CLARKSBURG                   "]
[241,null,"241 Princeton",241,"Princeton",241,"0241",null,null,null,null,85104,4,851,"NORTHERN BERKSHIRE",98,{"$f":"VLOOKUP(P313,'Townwide Contributions'!$A$9:$B$361,2,0)","v":"Florida"},"FLORIDA                      "]
[242,null,"242 Provincetown",242,"Provincetown",242,"0242",null,null,null,null,85105,5,851,"NORTHERN BERKSHIRE",148,{"$f":"VLOOKUP(P314,'Townwide Contributions'!$A$9:$B$361,2,0)","v":"Lanesborough"},"LANESBOROUGH                 "]
[400,null,"753 Quabbin",753,"Quabbin",753,"0753",null,null,null,null,85106,6,851,"NORTHERN BERKSHIRE",190,{"$f":"VLOOKUP(P315,'Townwide Contributions'!$A$9:$B$361,2,0)","v":"Monroe"},"MONROE                       "]
[411,null,"778 Quaboag",778,"Quaboag",778,"0778",null,null,null,null,85107,7,851,"NORTHERN BERKSHIRE",209,{"$f":"VLOOKUP(P316,'Townwide Contributions'!$A$9:$B$361,2,0)","v":"North Adams"},"NORTH ADAMS                  "]
[243,null,"243 Quincy",243,"Quincy",243,"0243",null,null,null,null,85108,8,851,"NORTHERN BERKSHIRE",263,{"$f":"VLOOKUP(P317,'Townwide Contributions'!$A$9:$B$361,2,0)","v":"Savoy"},"SAVOY                        "]
[401,null,"755 Ralph C Mahar",755,"Ralph C Mahar",755,"0755",null,null,null,null,85109,9,851,"NORTHERN BERKSHIRE",341,{"$f":"VLOOKUP(P318,'Townwide Contributions'!$A$9:$B$361,2,0)","v":"Williamstown"},"WILLIAMSTOWN                 "]
[244,null,"244 Randolph",244,"Randolph",244,"0244",null,null,null,null,85201,1,852,"NASHOBA VALLEY",19,{"$f":"VLOOKUP(P319,'Townwide Contributions'!$A$9:$B$361,2,0)","v":"Ayer"},"AYER"]
[245,null,"245 Raynham",245,"Raynham",245,"0245",null,null,null,null,85202,2,852,"NASHOBA VALLEY",56,{"$f":"VLOOKUP(P320,'Townwide Contributions'!$A$9:$B$361,2,0)","v":"Chelmsford"},"CHELMSFORD                   "]
[246,null,"246 Reading",246,"Reading",246,"0246",null,null,null,null,85203,3,852,"NASHOBA VALLEY",115,{"$f":"VLOOKUP(P321,'Townwide Contributions'!$A$9:$B$361,2,0)","v":"Groton"},"GROTON                       "]
[247,null,"247 Rehoboth",247,"Rehoboth",247,"0247",null,null,null,null,85204,4,852,"NASHOBA VALLEY",158,{"$f":"VLOOKUP(P322,'Townwide Contributions'!$A$9:$B$361,2,0)","v":"Littleton"},"LITTLETON                    "]
[248,null,"248 Revere",248,"Revere",248,"0248",null,null,null,null,85205,5,852,"NASHOBA VALLEY",232,{"$f":"VLOOKUP(P323,'Townwide Contributions'!$A$9:$B$361,2,0)","v":"Pepperell"},"PEPPERELL                    "]
[249,null,"249 Richmond",249,"Richmond",249,"0249",null,null,null,null,85206,6,852,"NASHOBA VALLEY",270,{"$f":"VLOOKUP(P324,'Townwide Contributions'!$A$9:$B$361,2,0)","v":"Shirley"},"SHIRLEY                      "]
[250,null,"250 Rochester",250,"Rochester",250,"0250",null,null,null,null,85207,7,852,"NASHOBA VALLEY",299,{"$f":"VLOOKUP(P325,'Townwide Contributions'!$A$9:$B$361,2,0)","v":"Townsend"},"TOWNSEND                     "]
[251,null,{"$f":"PROPER(D326&\" \"&E326)","v":"251 Rockland"},251,"Rockland",251,"0251",null,null,null,null,85208,8,852,"NASHOBA VALLEY",326,{"$f":"VLOOKUP(P326,'Townwide Contributions'!$A$9:$B$361,2,0)","v":"Westford"},"WESTFORD                     "]
[252,null,"252 Rockport",252,"Rockport",252,"0252",null,null,null,null,85301,1,853,"NORTHEAST METROPOLITAN",57,{"$f":"VLOOKUP(P327,'Townwide Contributions'!$A$9:$B$361,2,0)","v":"Chelsea"},"CHELSEA                      "]
[253,null,"253 Rowe",253,"Rowe",253,"0253",null,null,null,null,85302,2,853,"NORTHEAST METROPOLITAN",165,{"$f":"VLOOKUP(P328,'Townwide Contributions'!$A$9:$B$361,2,0)","v":"Malden"},"MALDEN                       "]
[254,null,"254 Rowley",254,"Rowley",254,"0254",null,null,null,null,85303,3,853,"NORTHEAST METROPOLITAN",178,{"$f":"VLOOKUP(P329,'Townwide Contributions'!$A$9:$B$361,2,0)","v":"Melrose"},"MELROSE                      "]
[255,null,"255 Royalston",255,"Royalston",255,"0255",null,null,null,null,85304,4,853,"NORTHEAST METROPOLITAN",217,{"$f":"VLOOKUP(P330,'Townwide Contributions'!$A$9:$B$361,2,0)","v":"North Reading"},"NORTH READING                "]
[256,null,"256 Russell",256,"Russell",256,"0256",null,null,null,null,85305,5,853,"NORTHEAST METROPOLITAN",246,{"$f":"VLOOKUP(P331,'Townwide Contributions'!$A$9:$B$361,2,0)","v":"Reading"},"READING                      "]
[257,null,"257 Rutland",257,"Rutland",257,"0257",null,null,null,null,85306,6,853,"NORTHEAST METROPOLITAN",248,{"$f":"VLOOKUP(P332,'Townwide Contributions'!$A$9:$B$361,2,0)","v":"Revere"},"REVERE                       "]
[258,null,"258 Salem",258,"Salem",258,"0258",null,null,null,null,85307,7,853,"NORTHEAST METROPOLITAN",262,{"$f":"VLOOKUP(P333,'Townwide Contributions'!$A$9:$B$361,2,0)","v":"Saugus"},"SAUGUS                       "]
[259,null,"259 Salisbury",259,"Salisbury",259,"0259",null,null,null,null,85308,8,853,"NORTHEAST METROPOLITAN",284,{"$f":"VLOOKUP(P334,'Townwide Contributions'!$A$9:$B$361,2,0)","v":"Stoneham"},"STONEHAM                     "]
[260,null,"260 Sandisfield",260,"Sandisfield",260,"0260",null,null,null,null,85309,9,853,"NORTHEAST METROPOLITAN",305,{"$f":"VLOOKUP(P335,'Townwide Contributions'!$A$9:$B$361,2,0)","v":"Wakefield"},"WAKEFIELD                    "]
[261,null,"261 Sandwich",261,"Sandwich",261,"0261",null,null,null,null,85310,10,853,"NORTHEAST METROPOLITAN",344,{"$f":"VLOOKUP(P336,'Townwide Contributions'!$A$9:$B$361,2,0)","v":"Winchester"},"WINCHESTER                   "]
[262,null,"262 Saugus",262,"Saugus",262,"0262",null,null,null,null,85311,11,853,"NORTHEAST METROPOLITAN",346,{"$f":"VLOOKUP(P337,'Townwide Contributions'!$A$9:$B$361,2,0)","v":"Winthrop"},"WINTHROP                     "]
[263,null,"263 Savoy",263,"Savoy",263,"0263",null,null,null,null,85312,12,853,"NORTHEAST METROPOLITAN",347,{"$f":"VLOOKUP(P338,'Townwide Contributions'!$A$9:$B$361,2,0)","v":"Woburn"},"WOBURN"]
[264,null,"264 Scituate",264,"Scituate",264,"0264",null,null,null,null,85501,1,855,"OLD COLONY",3,{"$f":"VLOOKUP(P339,'Townwide Contributions'!$A$9:$B$361,2,0)","v":"Acushnet"},"ACUSHNET                     "]
[265,null,"265 Seekonk",265,"Seekonk",265,"0265",null,null,null,null,85502,2,855,"OLD COLONY",52,{"$f":"VLOOKUP(P340,'Townwide Contributions'!$A$9:$B$361,2,0)","v":"Carver"},"CARVER                       "]
[null,null,"Select a regional district",null,"Select a regional district",999,"0999",null,null,null,null,85503,3,855,"OLD COLONY",146,{"$f":"VLOOKUP(P341,'Townwide Contributions'!$A$9:$B$361,2,0)","v":"Lakeville"},"LAKEVILLE                    "]
[266,null,{"$f":"PROPER(D342&\" \"&E342)","v":"266 Sharon"},266,"Sharon",266,"0266",null,null,null,null,85504,4,855,"OLD COLONY",173,{"$f":"VLOOKUP(P342,'Townwide Contributions'!$A$9:$B$361,2,0)","v":"Mattapoisett"},"MATTAPOISETT                 "]
[432,null,"871 Shawsheen Valley",871,"Shawsheen Valley",871,"0871",null,null,null,null,85505,5,855,"OLD COLONY",250,{"$f":"VLOOKUP(P343,'Townwide Contributions'!$A$9:$B$361,2,0)","v":"Rochester"},"ROCHESTER                    "]
[267,null,"267 Sheffield",267,"Sheffield",267,"0267",null,null,null,null,86001,1,860,"PATHFINDER",24,{"$f":"VLOOKUP(P344,'Townwide Contributions'!$A$9:$B$361,2,0)","v":"Belchertown"},"BELCHERTOWN                  "]
[268,null,"268 Shelburne",268,"Shelburne",268,"0268",null,null,null,null,86002,2,860,"PATHFINDER",111,{"$f":"VLOOKUP(P345,'Townwide Contributions'!$A$9:$B$361,2,0)","v":"Granby"},"GRANBY                       "]
[269,null,"269 Sherborn",269,"Sherborn",269,"0269",null,null,null,null,86003,3,860,"PATHFINDER",124,{"$f":"VLOOKUP(P346,'Townwide Contributions'!$A$9:$B$361,2,0)","v":"Hardwick"},"HARDWICK                     "]
[270,null,"270 Shirley",270,"Shirley",270,"0270",null,null,null,null,86004,4,860,"PATHFINDER",191,{"$f":"VLOOKUP(P347,'Townwide Contributions'!$A$9:$B$361,2,0)","v":"Monson"},"MONSON                       "]
[271,null,"271 Shrewsbury",271,"Shrewsbury",271,"0271",null,null,null,null,86005,5,860,"PATHFINDER",202,{"$f":"VLOOKUP(P348,'Townwide Contributions'!$A$9:$B$361,2,0)","v":"New Braintree"},"NEW BRAINTREE                "]
[272,null,"272 Shutesbury",272,"Shutesbury",272,"0272",null,null,null,null,86006,6,860,"PATHFINDER",222,{"$f":"VLOOKUP(P349,'Townwide Contributions'!$A$9:$B$361,2,0)","v":"Oakham"},"OAKHAM                       "]
[402,null,"760 Silver Lake",760,"Silver Lake",760,"0760",null,null,null,null,86007,7,860,"PATHFINDER",227,{"$f":"VLOOKUP(P350,'Townwide Contributions'!$A$9:$B$361,2,0)","v":"Palmer"},"PALMER                       "]
[273,null,"273 Somerset",273,"Somerset",273,"0273",null,null,null,null,86008,8,860,"PATHFINDER",309,{"$f":"VLOOKUP(P351,'Townwide Contributions'!$A$9:$B$361,2,0)","v":"Ware"},"WARE                         "]
[403,null,"763 Somerset Berkley",763,"Somerset Berkley",763,"0763",null,null,null,null,86009,9,860,"PATHFINDER",311,{"$f":"VLOOKUP(P352,'Townwide Contributions'!$A$9:$B$361,2,0)","v":"Warren"},"WARREN                       "]
[274,null,"274 Somerville",274,"Somerville",274,"0274",null,null,null,null,87101,1,871,"SHAWSHEEN VALLEY",23,{"$f":"VLOOKUP(P353,'Townwide Contributions'!$A$9:$B$361,2,0)","v":"Bedford"},"BEDFORD                      "]
[278,null,"278 South Hadley",278,"South Hadley",278,"0278",null,null,null,null,87102,2,871,"SHAWSHEEN VALLEY",31,{"$f":"VLOOKUP(P354,'Townwide Contributions'!$A$9:$B$361,2,0)","v":"Billerica"},"BILLERICA                    "]
[424,null,"829 South Middlesex",829,"South Middlesex",829,"0829",null,null,null,null,87103,3,871,"SHAWSHEEN VALLEY",48,{"$f":"VLOOKUP(P355,'Townwide Contributions'!$A$9:$B$361,2,0)","v":"Burlington"},"BURLINGTON                   "]
[434,null,"873 South Shore",873,"South Shore",873,"0873",null,null,null,null,87104,4,871,"SHAWSHEEN VALLEY",295,{"$f":"VLOOKUP(P356,'Townwide Contributions'!$A$9:$B$361,2,0)","v":"Tewksbury"},"TEWKSBURY                    "]
[275,null,"275 Southampton",275,"Southampton",275,"0275",null,null,null,null,87105,5,871,"SHAWSHEEN VALLEY",342,{"$f":"VLOOKUP(P357,'Townwide Contributions'!$A$9:$B$361,2,0)","v":"Wilmington"},"WILMINGTON                   "]
[276,null,"276 Southborough",276,"Southborough",276,"0276",88,null,null,null,87201,1,872,"SOUTHEASTERN",44,{"$f":"VLOOKUP(P358,'Townwide Contributions'!$A$9:$B$361,2,0)","v":"Brockton"},"BROCKTON                     "]
[277,null,"277 Southbridge",277,"Southbridge",277,"0277",{"$f":"B359","v":0},null,null,null,87202,2,872,"SOUTHEASTERN",83,{"$f":"VLOOKUP(P359,'Townwide Contributions'!$A$9:$B$361,2,0)","v":"East Bridgewater"},"EAST BRIDGEWATER             "]
[433,null,"872 Southeastern",872,"Southeastern",872,"0872",{"$f":"B360","v":0},null,null,null,87203,3,872,"SOUTHEASTERN",88,{"$f":"VLOOKUP(P360,'Townwide Contributions'!$A$9:$B$361,2,0)","v":"Easton"},"EASTON                       "]
[404,null,"765 Southern Berkshire",765,"Southern Berkshire",765,"0765",0,null,null,null,87204,4,872,"SOUTHEASTERN",99,{"$f":"VLOOKUP(P361,'Townwide Contributions'!$A$9:$B$361,2,0)","v":"Foxborough"},"FOXBOROUGH                   "]
[435,null,"876 Southern Worcester",876,"Southern Worcester",876,"0876",0,null,null,null,87205,5,872,"SOUTHEASTERN",167,{"$f":"VLOOKUP(P362,'Townwide Contributions'!$A$9:$B$361,2,0)","v":"Mansfield"},"MANSFIELD                    "]
[279,null,"279 Southwick",279,"Southwick",279,"0279",0,null,null,null,87206,6,872,"SOUTHEASTERN",218,{"$f":"VLOOKUP(P363,'Townwide Contributions'!$A$9:$B$361,2,0)","v":"Norton"},"NORTON                       "]
[405,null,"766 Southwick Tolland Granville",766,"Southwick Tolland Granville",766,"0766",0,null,null,null,87207,7,872,"SOUTHEASTERN",266,{"$f":"VLOOKUP(P364,'Townwide Contributions'!$A$9:$B$361,2,0)","v":"Sharon"},"SHARON                       "]
[280,null,"280 Spencer",280,"Spencer",280,"0280",0,null,null,null,87208,8,872,"SOUTHEASTERN",285,{"$f":"VLOOKUP(P365,'Townwide Contributions'!$A$9:$B$361,2,0)","v":"Stoughton"},"STOUGHTON                    "]
[406,null,"767 Spencer East Brookfield",767,"Spencer East Brookfield",767,"0767",0,null,null,null,87209,9,872,"SOUTHEASTERN",323,{"$f":"VLOOKUP(P366,'Townwide Contributions'!$A$9:$B$361,2,0)","v":"West Bridgewater"},"WEST BRIDGEWATER             "]
[281,null,"281 Springfield",281,"Springfield",281,"0281",0,null,null,null,87301,1,873,"SOUTH SHORE",1,{"$f":"VLOOKUP(P367,'Townwide Contributions'!$A$9:$B$361,2,0)","v":"Abington"},"ABINGTON                     "]
[282,null,"282 Sterling",282,"Sterling",282,"0282",0,null,null,null,87302,2,873,"SOUTH SHORE",65,{"$f":"VLOOKUP(P368,'Townwide Contributions'!$A$9:$B$361,2,0)","v":"Cohasset"},"COHASSET                     "]
[283,null,"283 Stockbridge",283,"Stockbridge",283,"0283",0,null,null,null,87303,3,873,"SOUTH SHORE",122,{"$f":"VLOOKUP(P369,'Townwide Contributions'!$A$9:$B$361,2,0)","v":"Hanover"},"HANOVER                      "]
[284,null,"284 Stoneham",284,"Stoneham",284,"0284",0,null,null,null,87304,4,873,"SOUTH SHORE",123,{"$f":"VLOOKUP(P370,'Townwide Contributions'!$A$9:$B$361,2,0)","v":"Hanson"},"HANSON                       "]
[285,null,"285 Stoughton",285,"Stoughton",285,"0285",0,null,null,null,87305,5,873,"SOUTH SHORE",219,{"$f":"VLOOKUP(P371,'Townwide Contributions'!$A$9:$B$361,2,0)","v":"Norwell"},"NORWELL                      "]
[286,null,"286 Stow",286,"Stow",286,"0286",0,null,null,null,87306,6,873,"SOUTH SHORE",251,{"$f":"VLOOKUP(P372,'Townwide Contributions'!$A$9:$B$361,2,0)","v":"Rockland"},"ROCKLAND                     "]
[287,null,"287 Sturbridge",287,"Sturbridge",287,"0287",0,null,null,null,87307,7,873,"SOUTH SHORE",264,{"$f":"VLOOKUP(P373,'Townwide Contributions'!$A$9:$B$361,2,0)","v":"Scituate"},"SCITUATE                     "]
[288,null,{"$f":"PROPER(D374&\" \"&E374)","v":"288 Sudbury"},288,"Sudbury",288,"0288",0,null,null,null,87308,8,873,"SOUTH SHORE",338,{"$f":"VLOOKUP(P374,'Townwide Contributions'!$A$9:$B$361,2,0)","v":"Whitman"},"WHITMAN                      "]
[289,null,"289 Sunderland",289,"Sunderland",289,"0289",0,null,null,null,87601,1,876,"SOUTHERN WORCESTER",17,{"$f":"VLOOKUP(P375,'Townwide Contributions'!$A$9:$B$361,2,0)","v":"Auburn"},"AUBURN                       "]
[290,null,"290 Sutton",290,"Sutton",290,"0290",0,null,null,null,87602,2,876,"SOUTHERN WORCESTER",54,{"$f":"VLOOKUP(P376,'Townwide Contributions'!$A$9:$B$361,2,0)","v":"Charlton"},"CHARLTON                     "]
[291,null,"291 Swampscott",291,"Swampscott",291,"0291",0,null,null,null,87603,3,876,"SOUTHERN WORCESTER",80,{"$f":"VLOOKUP(P377,'Townwide Contributions'!$A$9:$B$361,2,0)","v":"Dudley"},"DUDLEY                       "]
[292,null,"292 Swansea",292,"Swansea",292,"0292",0,null,null,null,87604,4,876,"SOUTHERN WORCESTER",215,{"$f":"VLOOKUP(P378,'Townwide Contributions'!$A$9:$B$361,2,0)","v":"North Brookfield"},"NORTH BROOKFIELD             "]
[407,null,"770 Tantasqua",770,"Tantasqua",770,"0770",0,null,null,null,87605,5,876,"SOUTHERN WORCESTER",226,{"$f":"VLOOKUP(P379,'Townwide Contributions'!$A$9:$B$361,2,0)","v":"Oxford"},"OXFORD                       "]
[293,null,"293 Taunton",293,"Taunton",293,"0293",0,null,null,null,87606,6,876,"SOUTHERN WORCESTER",228,{"$f":"VLOOKUP(P380,'Townwide Contributions'!$A$9:$B$361,2,0)","v":"Paxton"},"PAXTON                       "]
[294,null,"294 Templeton",294,"Templeton",294,"0294",0,null,null,null,87607,7,876,"SOUTHERN WORCESTER",257,{"$f":"VLOOKUP(P381,'Townwide Contributions'!$A$9:$B$361,2,0)","v":"Rutland"},"RUTLAND                      "]
[295,null,"295 Tewksbury",295,"Tewksbury",295,"0295",0,null,null,null,87608,8,876,"SOUTHERN WORCESTER",277,{"$f":"VLOOKUP(P382,'Townwide Contributions'!$A$9:$B$361,2,0)","v":"Southbridge"},"SOUTHBRIDGE                  "]
[296,null,"296 Tisbury",296,"Tisbury",296,"0296",0,null,null,null,87609,9,876,"SOUTHERN WORCESTER",280,{"$f":"VLOOKUP(P383,'Townwide Contributions'!$A$9:$B$361,2,0)","v":"Spencer"},"SPENCER                      "]
[297,null,"297 Tolland",297,"Tolland",297,"0297",0,null,null,null,87610,10,876,"SOUTHERN WORCESTER",316,{"$f":"VLOOKUP(P384,'Townwide Contributions'!$A$9:$B$361,2,0)","v":"Webster"},"WEBSTER                      "]
[298,null,"298 Topsfield",298,"Topsfield",298,"0298",0,null,null,null,87801,1,878,"TRI COUNTY",101,{"$f":"VLOOKUP(P385,'Townwide Contributions'!$A$9:$B$361,2,0)","v":"Franklin"},"FRANKLIN                     "]
[299,null,"299 Townsend",299,"Townsend",299,"0299",0,null,null,null,87802,2,878,"TRI COUNTY",175,{"$f":"VLOOKUP(P386,'Townwide Contributions'!$A$9:$B$361,2,0)","v":"Medfield"},"MEDFIELD                     "]
[436,null,"878 Tri County",878,"Tri County",878,"0878",0,null,null,null,87803,3,878,"TRI COUNTY",177,{"$f":"VLOOKUP(P387,'Townwide Contributions'!$A$9:$B$361,2,0)","v":"Medway"},"MEDWAY                       "]
[408,null,"773 Triton",773,"Triton",773,"0773",0,null,null,null,87804,4,878,"TRI COUNTY",187,{"$f":"VLOOKUP(P388,'Townwide Contributions'!$A$9:$B$361,2,0)","v":"Millis"},"MILLIS                       "]
[300,null,"300 Truro",300,"Truro",300,"0300",0,null,null,null,87805,5,878,"TRI COUNTY",208,{"$f":"VLOOKUP(P389,'Townwide Contributions'!$A$9:$B$361,2,0)","v":"Norfolk"},"NORFOLK                      "]
[301,null,"301 Tyngsborough",301,"Tyngsborough",301,"0301",0,null,null,null,87806,6,878,"TRI COUNTY",212,{"$f":"VLOOKUP(P390,'Townwide Contributions'!$A$9:$B$361,2,0)","v":"North Attleborough"},"NORTH ATTLEBOROUGH           "]
[302,null,"302 Tyringham",302,"Tyringham",302,"0302",0,null,null,null,87807,7,878,"TRI COUNTY",238,{"$f":"VLOOKUP(P391,'Townwide Contributions'!$A$9:$B$361,2,0)","v":"Plainville"},"PLAINVILLE                   "]
[409,null,"774 Upisland",774,"Upisland",774,"0774",0,null,null,null,87808,8,878,"TRI COUNTY",265,{"$f":"VLOOKUP(P392,'Townwide Contributions'!$A$9:$B$361,2,0)","v":"Seekonk"},"SEEKONK                      "]
[437,null,"879 Upper Cape Cod",879,"Upper Cape Cod",879,"0879",0,null,null,null,87809,9,878,"TRI COUNTY",269,{"$f":"VLOOKUP(P393,'Townwide Contributions'!$A$9:$B$361,2,0)","v":"Sherborn"},"SHERBORN                     "]
[303,null,"303 Upton",303,"Upton",303,"0303",0,null,null,null,87810,10,878,"TRI COUNTY",307,{"$f":"VLOOKUP(P394,'Townwide Contributions'!$A$9:$B$361,2,0)","v":"Walpole"},"WALPOLE                      "]
[304,null,"304 Uxbridge",304,"Uxbridge",304,"0304",0,null,null,null,87811,11,878,"TRI COUNTY",350,{"$f":"VLOOKUP(P395,'Townwide Contributions'!$A$9:$B$361,2,0)","v":"Wrentham"},"WRENTHAM                     "]
[410,null,"775 Wachusett",775,"Wachusett",775,"0775",0,null,null,null,87901,1,879,"UPPER CAPE COD",36,{"$f":"VLOOKUP(P396,'Townwide Contributions'!$A$9:$B$361,2,0)","v":"Bourne"},"BOURNE                       "]
[305,null,"305 Wakefield",305,"Wakefield",305,"0305",0,null,null,null,87902,2,879,"UPPER CAPE COD",96,{"$f":"VLOOKUP(P397,'Townwide Contributions'!$A$9:$B$361,2,0)","v":"Falmouth"},"FALMOUTH                     "]
[306,null,"306 Wales",306,"Wales",306,"0306",0,null,null,null,87903,3,879,"UPPER CAPE COD",169,{"$f":"VLOOKUP(P398,'Townwide Contributions'!$A$9:$B$361,2,0)","v":"Marion"},"MARION                       "]
[307,null,"307 Walpole",307,"Walpole",307,"0307",0,null,null,null,87904,4,879,"UPPER CAPE COD",261,{"$f":"VLOOKUP(P399,'Townwide Contributions'!$A$9:$B$361,2,0)","v":"Sandwich"},"SANDWICH                     "]
[308,null,"308 Waltham",308,"Waltham",308,"0308",0,null,null,null,87905,5,879,"UPPER CAPE COD",310,{"$f":"VLOOKUP(P400,'Townwide Contributions'!$A$9:$B$361,2,0)","v":"Wareham"},"WAREHAM                      "]
[309,null,"309 Ware",309,"Ware",309,"0309",0,null,null,null,88501,1,885,"WHITTIER",7,{"$f":"VLOOKUP(P401,'Townwide Contributions'!$A$9:$B$361,2,0)","v":"Amesbury"},"AMESBURY                     "]
[310,null,"310 Wareham",310,"Wareham",310,"0310",0,null,null,null,88502,2,885,"WHITTIER",105,{"$f":"VLOOKUP(P402,'Townwide Contributions'!$A$9:$B$361,2,0)","v":"Georgetown"},"GEORGETOWN                   "]
[311,null,"311 Warren",311,"Warren",311,"0311",0,null,null,null,88503,3,885,"WHITTIER",116,{"$f":"VLOOKUP(P403,'Townwide Contributions'!$A$9:$B$361,2,0)","v":"Groveland"},"GROVELAND                    "]
[312,null,"312 Warwick",312,"Warwick",312,"0312",0,null,null,null,88504,4,885,"WHITTIER",128,{"$f":"VLOOKUP(P404,'Townwide Contributions'!$A$9:$B$361,2,0)","v":"Haverhill"},"HAVERHILL                    "]
[313,null,"313 Washington",313,"Washington",313,"0313",0,null,null,null,88505,5,885,"WHITTIER",144,{"$f":"VLOOKUP(P405,'Townwide Contributions'!$A$9:$B$361,2,0)","v":"Ipswich"},"IPSWICH                      "]
[314,null,{"$f":"PROPER(D406&\" \"&E406)","v":"314 Watertown"},314,"Watertown",314,"0314",0,null,null,null,88506,6,885,"WHITTIER",180,{"$f":"VLOOKUP(P406,'Townwide Contributions'!$A$9:$B$361,2,0)","v":"Merrimac"},"MERRIMAC                     "]
[315,null,"315 Wayland",315,"Wayland",315,"0315",0,null,null,null,88507,7,885,"WHITTIER",203,{"$f":"VLOOKUP(P407,'Townwide Contributions'!$A$9:$B$361,2,0)","v":"Newbury"},"NEWBURY                      "]
[316,null,"316 Webster",316,"Webster",316,"0316",0,null,null,null,88508,8,885,"WHITTIER",204,{"$f":"VLOOKUP(P408,'Townwide Contributions'!$A$9:$B$361,2,0)","v":"Newburyport"},"NEWBURYPORT                  "]
[317,null,"317 Wellesley",317,"Wellesley",317,"0317",0,null,null,null,88509,9,885,"WHITTIER",254,{"$f":"VLOOKUP(P409,'Townwide Contributions'!$A$9:$B$361,2,0)","v":"Rowley"},"ROWLEY                       "]
[318,null,"318 Wellfleet",318,"Wellfleet",318,"0318",0,null,null,null,88510,10,885,"WHITTIER",259,{"$f":"VLOOKUP(P410,'Townwide Contributions'!$A$9:$B$361,2,0)","v":"Salisbury"},"SALISBURY                    "]
[319,null,"319 Wendell",319,"Wendell",319,"0319",0,null,null,null,88511,11,885,"WHITTIER",329,{"$f":"VLOOKUP(P411,'Townwide Contributions'!$A$9:$B$361,2,0)","v":"West Newbury"},"WEST NEWBURY                 "]
[320,null,"320 Wenham",320,"Wenham",320,"0320",0,null,null,null,91001,1,910,"BRISTOL COUNTY",3,{"$f":"VLOOKUP(P412,'Townwide Contributions'!$A$9:$B$361,2,0)","v":"Acushnet"},"ACUSHNET                     "]
[322,null,"322 West Boylston",322,"West Boylston",322,"0322",0,null,null,null,91002,2,910,"BRISTOL COUNTY",16,{"$f":"VLOOKUP(P413,'Townwide Contributions'!$A$9:$B$361,2,0)","v":"Attleboro"},"ATTLEBORO                    "]
[323,null,"323 West Bridgewater",323,"West Bridgewater",323,"0323",0,null,null,null,91003,3,910,"BRISTOL COUNTY",27,{"$f":"VLOOKUP(P414,'Townwide Contributions'!$A$9:$B$361,2,0)","v":"Berkley"},"BERKLEY                      "]
[324,null,"324 West Brookfield",324,"West Brookfield",324,"0324",0,null,null,null,91004,4,910,"BRISTOL COUNTY",72,{"$f":"VLOOKUP(P415,'Townwide Contributions'!$A$9:$B$361,2,0)","v":"Dartmouth"},"DARTMOUTH                    "]
[329,null,"329 West Newbury",329,"West Newbury",329,"0329",0,null,null,null,91005,5,910,"BRISTOL COUNTY",76,{"$f":"VLOOKUP(P416,'Townwide Contributions'!$A$9:$B$361,2,0)","v":"Dighton"},"DIGHTON                      "]
[332,null,"332 West Springfield",332,"West Springfield",332,"0332",0,null,null,null,91006,6,910,"BRISTOL COUNTY",88,{"$f":"VLOOKUP(P417,'Townwide Contributions'!$A$9:$B$361,2,0)","v":"Easton"},"EASTON                       "]
[333,null,"333 West Stockbridge",333,"West Stockbridge",333,"0333",0,null,null,null,91007,7,910,"BRISTOL COUNTY",94,{"$f":"VLOOKUP(P418,'Townwide Contributions'!$A$9:$B$361,2,0)","v":"Fairhaven"},"FAIRHAVEN                    "]
[334,null,"334 West Tisbury",334,"West Tisbury",334,"0334",0,null,null,null,91008,8,910,"BRISTOL COUNTY",95,{"$f":"VLOOKUP(P419,'Townwide Contributions'!$A$9:$B$361,2,0)","v":"Fall River"},"FALL RIVER                   "]
[321,null,"321 Westborough",321,"Westborough",321,"0321",0,null,null,null,91009,9,910,"BRISTOL COUNTY",102,{"$f":"VLOOKUP(P420,'Townwide Contributions'!$A$9:$B$361,2,0)","v":"Freetown"},"FREETOWN                     "]
[325,null,"325 Westfield",325,"Westfield",325,"0325",0,null,null,null,91010,10,910,"BRISTOL COUNTY",167,{"$f":"VLOOKUP(P421,'Townwide Contributions'!$A$9:$B$361,2,0)","v":"Mansfield"},"MANSFIELD                    "]
[326,null,"326 Westford",326,"Westford",326,"0326",0,null,null,null,91011,11,910,"BRISTOL COUNTY",201,{"$f":"VLOOKUP(P422,'Townwide Contributions'!$A$9:$B$361,2,0)","v":"New Bedford"},"NEW BEDFORD                  "]
[327,null,"327 Westhampton",327,"Westhampton",327,"0327",0,null,null,null,91012,12,910,"BRISTOL COUNTY",212,{"$f":"VLOOKUP(P423,'Townwide Contributions'!$A$9:$B$361,2,0)","v":"North Attleborough"},"NORTH ATTLEBOROUGH           "]
[328,null,"328 Westminster",328,"Westminster",328,"0328",{"$f":"B424","v":0},null,null,null,91013,13,910,"BRISTOL COUNTY",218,{"$f":"VLOOKUP(P424,'Townwide Contributions'!$A$9:$B$361,2,0)","v":"Norton"},"NORTON                       "]
[330,null,"330 Weston",330,"Weston",330,"0330",0,null,null,null,91014,14,910,"BRISTOL COUNTY",245,{"$f":"VLOOKUP(P425,'Townwide Contributions'!$A$9:$B$361,2,0)","v":"Raynham"},"RAYNHAM                      "]
[331,null,"331 Westport",331,"Westport",331,"0331",0,null,null,null,91015,15,910,"BRISTOL COUNTY",247,{"$f":"VLOOKUP(P426,'Townwide Contributions'!$A$9:$B$361,2,0)","v":"Rehoboth"},"REHOBOTH                     "]
[335,null,"335 Westwood",335,"Westwood",335,"0335",0,null,null,null,91016,16,910,"BRISTOL COUNTY",265,{"$f":"VLOOKUP(P427,'Townwide Contributions'!$A$9:$B$361,2,0)","v":"Seekonk"},"SEEKONK                      "]
[336,null,"336 Weymouth",336,"Weymouth",336,"0336",0,null,null,null,91017,17,910,"BRISTOL COUNTY",273,{"$f":"VLOOKUP(P428,'Townwide Contributions'!$A$9:$B$361,2,0)","v":"Somerset"},"SOMERSET                     "]
[337,null,"337 Whately",337,"Whately",337,"0337",0,null,null,null,91018,18,910,"BRISTOL COUNTY",292,{"$f":"VLOOKUP(P429,'Townwide Contributions'!$A$9:$B$361,2,0)","v":"Swansea"},"SWANSEA                      "]
[338,null,"338 Whitman",338,"Whitman",338,"0338",0,null,null,null,91019,19,910,"BRISTOL COUNTY",293,{"$f":"VLOOKUP(P430,'Townwide Contributions'!$A$9:$B$361,2,0)","v":"Taunton"},"TAUNTON                      "]
[412,null,"780 Whitman Hanson",780,"Whitman Hanson",780,"0780",0,null,null,null,91020,20,910,"BRISTOL COUNTY",331,{"$f":"VLOOKUP(P431,'Townwide Contributions'!$A$9:$B$361,2,0)","v":"Westport"},"WESTPORT                     "]
[438,null,"885 Whittier",885,"Whittier",885,"0885",0,null,null,null,91501,1,915,"NORFOLK COUNTY",18,{"$f":"VLOOKUP(P432,'Townwide Contributions'!$A$9:$B$361,2,0)","v":"Avon"},"AVON                         "]
[339,null,"339 Wilbraham",339,"Wilbraham",339,"0339",0,null,null,null,91502,2,915,"NORFOLK COUNTY",25,{"$f":"VLOOKUP(P433,'Townwide Contributions'!$A$9:$B$361,2,0)","v":"Bellingham"},"BELLINGHAM                   "]
[340,null,"340 Williamsburg",340,"Williamsburg",340,"0340",0,null,null,null,91503,3,915,"NORFOLK COUNTY",40,{"$f":"VLOOKUP(P434,'Townwide Contributions'!$A$9:$B$361,2,0)","v":"Braintree"},"BRAINTREE                    "]
[341,null,"341 Williamstown",341,"Williamstown",341,"0341",0,null,null,null,91504,4,915,"NORFOLK COUNTY",46,{"$f":"VLOOKUP(P435,'Townwide Contributions'!$A$9:$B$361,2,0)","v":"Brookline"},"BROOKLINE                    "]
[342,null,"342 Wilmington",342,"Wilmington",342,"0342",0,null,null,null,91505,5,915,"NORFOLK COUNTY",50,{"$f":"VLOOKUP(P436,'Townwide Contributions'!$A$9:$B$361,2,0)","v":"Canton"},"CANTON                       "]
[343,null,"343 Winchendon",343,"Winchendon",343,"0343",0,null,null,null,91506,6,915,"NORFOLK COUNTY",65,{"$f":"VLOOKUP(P437,'Townwide Contributions'!$A$9:$B$361,2,0)","v":"Cohasset"},"COHASSET                     "]
[344,null,{"$f":"PROPER(D438&\" \"&E438)","v":"344 Winchester"},344,"Winchester",344,"0344",0,null,null,null,91507,7,915,"NORFOLK COUNTY",73,{"$f":"VLOOKUP(P438,'Townwide Contributions'!$A$9:$B$361,2,0)","v":"Dedham"},"DEDHAM                       "]
[345,null,"345 Windsor",345,"Windsor",345,"0345",0,null,null,null,91508,8,915,"NORFOLK COUNTY",78,{"$f":"VLOOKUP(P439,'Townwide Contributions'!$A$9:$B$361,2,0)","v":"Dover"},"DOVER                        "]
[346,null,"346 Winthrop",346,"Winthrop",346,"0346",0,null,null,null,91509,9,915,"NORFOLK COUNTY",99,{"$f":"VLOOKUP(P440,'Townwide Contributions'!$A$9:$B$361,2,0)","v":"Foxborough"},"FOXBOROUGH                   "]
[347,null,"347 Woburn",347,"Woburn",347,"0347",0,null,null,null,91510,10,915,"NORFOLK COUNTY",101,{"$f":"VLOOKUP(P441,'Townwide Contributions'!$A$9:$B$361,2,0)","v":"Franklin"},"FRANKLIN                     "]
[348,null,"348 Worcester",348,"Worcester",348,"0348",0,null,null,null,91511,11,915,"NORFOLK COUNTY",133,{"$f":"VLOOKUP(P442,'Townwide Contributions'!$A$9:$B$361,2,0)","v":"Holbrook"},"HOLBROOK                     "]
[349,null,"349 Worthington",349,"Worthington",349,"0349",0,null,null,null,91512,12,915,"NORFOLK COUNTY",175,{"$f":"VLOOKUP(P443,'Townwide Contributions'!$A$9:$B$361,2,0)","v":"Medfield"},"MEDFIELD                     "]
[350,null,"350 Wrentham",350,"Wrentham",350,"0350",0,null,null,null,91513,13,915,"NORFOLK COUNTY",177,{"$f":"VLOOKUP(P444,'Townwide Contributions'!$A$9:$B$361,2,0)","v":"Medway"},"MEDWAY                       "]
[351,null,"351 Yarmouth",351,"Yarmouth",351,"0351",0,null,null,null,91514,14,915,"NORFOLK COUNTY",187,{"$f":"VLOOKUP(P445,'Townwide Contributions'!$A$9:$B$361,2,0)","v":"Millis"},"MILLIS                       "]
[441,null,{"$f":"PROPER(D446&\" \"&E446)","v":"999 State Total"},999,"State Total",999,"0999",88,null,null,null,91515,15,915,"NORFOLK COUNTY",189,{"$f":"VLOOKUP(P446,'Townwide Contributions'!$A$9:$B$361,2,0)","v":"Milton"},"MILTON                       "]
[null,null,null,null,null,null,null,null,null,null,null,91516,16,915,"NORFOLK COUNTY",199,{"$f":"VLOOKUP(P447,'Townwide Contributions'!$A$9:$B$361,2,0)","v":"Needham"},"NEEDHAM                      "]
[null,null,null,null,null,null,null,null,null,null,null,91517,17,915,"NORFOLK COUNTY",208,{"$f":"VLOOKUP(P448,'Townwide Contributions'!$A$9:$B$361,2,0)","v":"Norfolk"},"NORFOLK                      "]
[null,null,null,null,null,null,null,null,null,null,null,91518,18,915,"NORFOLK COUNTY",220,{"$f":"VLOOKUP(P449,'Townwide Contributions'!$A$9:$B$361,2,0)","v":"Norwood"},"NORWOOD                      "]
[null,88,"Select a regional district",null,"Select a regional district",999,"0999",88,null,null,null,91519,19,915,"NORFOLK COUNTY",238,{"$f":"VLOOKUP(P450,'Townwide Contributions'!$A$9:$B$361,2,0)","v":"Plainville"},"PLAINVILLE                   "]
[null,1,{"$f":"PROPER(D451&\" \"&E451)","v":"600 Acton Boxborough"},600,"Acton Boxborough",{"$f":"D451","v":600},{"$f":"TEXT(D451,\"0000\")","v":"0600"},{"$f":"B451","v":1},null,null,null,91520,20,915,"NORFOLK COUNTY",243,{"$f":"VLOOKUP(P451,'Townwide Contributions'!$A$9:$B$361,2,0)","v":"Quincy"},"QUINCY                       "]
[null,{"$f":"B451+1","v":2},"605 Amherst Pelham",605,"Amherst Pelham",{"$f":"D452","v":605},{"$f":"TEXT(D452,\"0000\")","v":"0605"},2,null,null,null,91521,21,915,"NORFOLK COUNTY",244,{"$f":"VLOOKUP(P452,'Townwide Contributions'!$A$9:$B$361,2,0)","v":"Randolph"},"RANDOLPH                     "]
[null,{"$f":"B452+1","v":3},"610 Ashburnham Westminster",610,"Ashburnham Westminster",610,"0610",3,null,null,null,91522,22,915,"NORFOLK COUNTY",266,{"$f":"VLOOKUP(P453,'Townwide Contributions'!$A$9:$B$361,2,0)","v":"Sharon"},"SHARON                       "]
[null,4,"801 Assabet Valley",801,"Assabet Valley",801,"0801",4,null,null,null,91523,23,915,"NORFOLK COUNTY",285,{"$f":"VLOOKUP(P454,'Townwide Contributions'!$A$9:$B$361,2,0)","v":"Stoughton"},"STOUGHTON                    "]
[null,5,"615 Athol Royalston",615,"Athol Royalston",615,"0615",5,null,null,null,91524,24,915,"NORFOLK COUNTY",307,{"$f":"VLOOKUP(P455,'Townwide Contributions'!$A$9:$B$361,2,0)","v":"Walpole"},"WALPOLE                      "]
[null,6,"616 Ayer Shirley",616,"Ayer Shirley",616,"0616",6,null,null,null,91525,25,915,"NORFOLK COUNTY",317,{"$f":"VLOOKUP(P456,'Townwide Contributions'!$A$9:$B$361,2,0)","v":"Wellesley"},"WELLESLEY                    "]
[null,7,"618 Berkshire Hills",618,"Berkshire Hills",618,"0618",7,null,null,null,91526,26,915,"NORFOLK COUNTY",335,{"$f":"VLOOKUP(P457,'Townwide Contributions'!$A$9:$B$361,2,0)","v":"Westwood"},"WESTWOOD                     "]
[null,8,"620 Berlin Boylston",620,"Berlin Boylston",620,"0620",8,null,null,null,91527,27,915,"NORFOLK COUNTY",336,{"$f":"VLOOKUP(P458,'Townwide Contributions'!$A$9:$B$361,2,0)","v":"Weymouth"},"WEYMOUTH                     "]
[null,9,"622 Blackstone Millville",622,"Blackstone Millville",622,"0622",9,null,null,null,91528,28,915,"NORFOLK COUNTY",350,{"$f":"VLOOKUP(P459,'Townwide Contributions'!$A$9:$B$361,2,0)","v":"Wrentham"},"WRENTHAM                     "]
[null,10,"805 Blackstone Valley",805,"Blackstone Valley",805,"0805",10,null,null,null,99901,1,999," "," "," "]
[null,11,"806 Blue Hills",806,"Blue Hills",806,"0806",11]
[null,12,"625 Bridgewater Raynham",625,"Bridgewater Raynham",625,"0625",12]
[null,13,"910 Bristol County",910,"Bristol County",910,"0910",13]
[null,14,"810 Bristol Plymouth",810,"Bristol Plymouth",810,"0810",14]
[null,15,"815 Cape Cod",815,"Cape Cod",815,"0815",15]
[null,16,"635 Central Berkshire",635,"Central Berkshire",635,"0635",16]
[null,17,"632 Chesterfield Goshen",632,"Chesterfield Goshen",632,"0632",17]
[null,18,"640 Concord Carlisle",640,"Concord Carlisle",640,"0640",18]
[null,19,"645 Dennis Yarmouth",645,"Dennis Yarmouth",645,"0645",19]
[null,20,"650 Dighton Rehoboth",650,"Dighton Rehoboth",650,"0650",20]
[null,21,"655 Dover Sherborn",655,"Dover Sherborn",655,"0655",21]
[null,22,"658 Dudley Charlton",658,"Dudley Charlton",658,"0658",22]
[null,23,"817 Essex North Shore",817,"Essex North Shore",817,"0817",23]
[null,24,"662 Farmington River",662,"Farmington River",662,"0662",24]
[null,25,"818 Franklin County",818,"Franklin County",818,"0818",25]
[null,26,"665 Freetown Lakeville",665,"Freetown Lakeville",665,"0665",26]
[null,27,"670 Frontier",670,"Frontier",670,"0670",27]
[null,28,"672 Gateway",672,"Gateway",672,"0672",28]
[null,29,"674 Gill Montague",674,"Gill Montague",674,"0674",29]
[null,30,"821 Greater Fall River",821,"Greater Fall River",821,"0821",30]
[null,31,"823 Greater Lawrence",823,"Greater Lawrence",823,"0823",31]
[null,32,"828 Greater Lowell",828,"Greater Lowell",828,"0828",32]
[null,33,{"$f":"PROPER(D483&\" \"&E483)","v":"825 Greater New Bedford"},825,"Greater New Bedford",825,"0825",33]
[null,34,"673 Groton Dunstable",673,"Groton Dunstable",673,"0673",34]
[null,35,"675 Hamilton Wenham",675,"Hamilton Wenham",675,"0675",35]
[null,36,"680 Hampden Wilbraham",680,"Hampden Wilbraham",680,"0680",36]
[null,37,"683 Hampshire",683,"Hampshire",683,"0683",37]
[null,38,"685 Hawlemont",685,"Hawlemont",685,"0685",38]
[null,39,"603 Hoosac Valley",603,"Hoosac Valley",603,"0603",39]
[null,40,"690 King Philip",690,"King Philip",690,"0690",40]
[null,41,"695 Lincoln Sudbury",695,"Lincoln Sudbury",695,"0695",41]
[null,42,"698 Manchester Essex",698,"Manchester Essex",698,"0698",42]
[null,43,"700 Marthas Vineyard",700,"Marthas Vineyard",700,"0700",43]
[null,44,"705 Masconomet",705,"Masconomet",705,"0705",44]
[null,45,"710 Mendon Upton",710,"Mendon Upton",710,"0710",45]
[null,46,"830 Minuteman",830,"Minuteman",830,"0830",46]
[null,47,"717 Mohawk Trail",717,"Mohawk Trail",717,"0717",47]
[null,48,"712 Monomoy",712,"Monomoy",712,"0712",48]
[null,49,"832 Montachusett",832,"Montachusett",832,"0832",49]
[null,50,"715 Mount Greylock",715,"Mount Greylock",715,"0715",50]
[null,51,"720 Narragansett",720,"Narragansett",720,"0720",51]
[null,52,"725 Nashoba",725,"Nashoba",725,"0725",52]
[null,53,"852 Nashoba Valley",852,"Nashoba Valley",852,"0852",53]
[null,54,"660 Nauset",660,"Nauset",660,"0660",54]
[null,55,"728 New Salem Wendell",728,"New Salem Wendell",728,"0728",55]
[null,56,"915 Norfolk County",915,"Norfolk County",915,"0915",56]
[null,57,"735 North Middlesex",735,"North Middlesex",735,"0735",57]
[null,58,"406 Northampton Smith",406,"Northampton Smith",406,"0406",58]
[null,59,"730 Northboro Southboro",730,"Northboro Southboro",730,"0730",59]
[null,60,"853 Northeast Metropolitan",853,"Northeast Metropolitan",853,"0853",60]
[null,61,"851 Northern Berkshire",851,"Northern Berkshire",851,"0851",61]
[null,62,"855 Old Colony",855,"Old Colony",855,"0855",62]
[null,63,"740 Old Rochester",740,"Old Rochester",740,"0740",63]
[null,64,"860 Pathfinder",860,"Pathfinder",860,"0860",64]
[null,65,{"$f":"PROPER(D515&\" \"&E515)","v":"745 Pentucket"},745,"Pentucket",745,"0745",{"$f":"B515","v":65}]
[null,66,"750 Pioneer",750,"Pioneer",{"$f":"D516","v":750},{"$f":"TEXT(D516,\"0000\")","v":"0750"},66]
[null,{"$f":"B516+1","v":67},"753 Quabbin",753,"Quabbin",753,"0753",67]
[null,68,"778 Quaboag",778,"Quaboag",778,"0778",68]
[null,69,"755 Ralph C Mahar",755,"Ralph C Mahar",755,"0755",69]
[null,70,"871 Shawsheen Valley",871,"Shawsheen Valley",871,"0871",70]
[null,71,"760 Silver Lake",760,"Silver Lake",760,"0760",71]
[null,72,"763 Somerset Berkley",763,"Somerset Berkley",763,"0763",72]
[null,73,"829 South Middlesex",829,"South Middlesex",829,"0829",73]
[null,74,"873 South Shore",873,"South Shore",873,"0873",74]
[null,75,"872 Southeastern",872,"Southeastern",872,"0872",75]
[null,76,"765 Southern Berkshire",765,"Southern Berkshire",765,"0765",76]
[null,77,"876 Southern Worcester",876,"Southern Worcester",876,"0876",77]
[null,78,"766 Southwick Tolland Granville",766,"Southwick Tolland Granville",766,"0766",78]
[null,79,"767 Spencer East Brookfield",767,"Spencer East Brookfield",767,"0767",79]
[null,80,{"$f":"PROPER(D530&\" \"&E530)","v":"770 Tantasqua"},770,"Tantasqua",770,"0770",80]
[null,81,"878 Tri County",878,"Tri County",878,"0878",81]
[null,82,"773 Triton",773,"Triton",773,"0773",82]
[null,83,"774 Upisland",774,"Upisland",774,"0774",83]
[null,84,"879 Upper Cape Cod",879,"Upper Cape Cod",879,"0879",84]
[null,85,"775 Wachusett",775,"Wachusett",775,"0775",85]
[null,86,"780 Whitman Hanson",780,"Whitman Hanson",780,"0780",86]
[null,87,"885 Whittier",885,"Whittier",885,"0885",87]
[null,null,"999 State Total",999,"State Total",999,"0999"]

{"sheet":"frac","index":18,"n_rows":462,"n_cols":11,"rows_kept":462,"cut":false,"hidden":true,"merged":[[0,6,0,10],[1,6,1,10]]}
[]
[null,null,null,null,null,null,"2020-01-13"]
[]
["fraclea","regorder",null,null,"memlea",null,null,null,null,null,"memeffpct"]
[null,null,null,null,null,null,"distfrac21prelim","distfrac21prelim","distfrac21prelim"]
[]
[null,null,null,null,null,null,null,"FY21","FY21","town ","weighted"]
[null,"Record",null,null,null,null,"Foundation","Reg'l Total","Member","effort ","effort goal"]
["fraclea","Number","fraconcat","District","memlea","Town","Percentage","Enrollment","Enrollment","goal pct","percentage"]
[406,1,{"$f":"A10*1000+E10","v":406210},"NORTHAMPTON SMITH            ",210,"NORTHAMPTON                  ",1,113,113,{"$f":"ROUND(VLOOKUP(E10,town351,12),2)","v":82.5},{"$f":"ROUND(G10*J10,2)","v":82.5}]
[600,2,600002,"ACTON BOXBOROUGH             ",2,"ACTON                        ",0.83830338952000005,5399,4526,81.23,68.099999999999994]
[600,3,600037,"ACTON BOXBOROUGH             ",37,"BOXBOROUGH                   ",0.16169661048,5399,873,82.5,13.34]
[603,4,603004,"HOOSAC VALLEY",4,"ADAMS                        ",0.71906614786,1285,924,34.979999999999997,25.15]
[603,5,603058,"HOOSAC VALLEY",58,"CHESHIRE                     ",0.28093385214,1285,361,48.52,13.63]
[605,6,605008,"AMHERST PELHAM               ",8,"AMHERST                      ",0.80843459614000002,1399,1131,77.75,62.86]
[605,7,605154,"AMHERST PELHAM               ",154,"LEVERETT                     ",6.5761258040000006E-2,1399,92,82.5,5.43]
[605,8,605230,"AMHERST PELHAM               ",230,"PELHAM                       ",4.7891350960000002E-2,1399,67,82.02,3.93]
[605,9,605272,"AMHERST PELHAM               ",272,"SHUTESBURY                   ",7.7912794849999994E-2,1399,109,59.97,4.67]
[610,10,610011,"ASHBURNHAM WESTMINSTER       ",11,"ASHBURNHAM                   ",0.45509499135999998,2316,1054,45.85,20.87]
[610,11,610328,"ASHBURNHAM WESTMINSTER       ",328,"WESTMINSTER                  ",0.54490500864000002,2316,1262,54.64,29.77]
[615,12,615015,"ATHOL ROYALSTON              ",15,"ATHOL                        ",0.92742382271000001,1805,1674,28.15,26.11]
[615,13,615255,"ATHOL ROYALSTON              ",255,"ROYALSTON                    ",7.2576177290000002E-2,1805,131,50.55,3.67]
[616,14,616019,"AYER SHIRLEY",19,"AYER",0.56905749851999998,1687,960,72.239999999999995,41.11]
[616,15,616270,"AYER SHIRLEY",270,"SHIRLEY",0.43094250148000002,1687,727,62.19,26.8]
[618,16,618113,"BERKSHIRE HILLS              ",113,"GREAT BARRINGTON             ",0.73469387755000004,980,720,82.5,60.61]
[618,17,618283,"BERKSHIRE HILLS              ",283,"STOCKBRIDGE                  ",0.12346938775999999,980,121,82.5,10.19]
[618,18,618333,"BERKSHIRE HILLS              ",333,"WEST STOCKBRIDGE             ",0.14183673468999999,980,139,82.5,11.7]
[620,19,620028,"BERLIN BOYLSTON              ",28,"BERLIN                       ",0.34414225940999998,956,329,82.5,28.39]
[620,20,620039,"BERLIN BOYLSTON              ",39,"BOYLSTON                     ",0.65585774059000002,956,627,82.5,54.11]
[622,21,622032,"BLACKSTONE MILLVILLE         ",32,"BLACKSTONE                   ",0.73684210526000005,1767,1302,49.05,36.14]
[622,22,622188,"BLACKSTONE MILLVILLE         ",188,"MILLVILLE                    ",0.26315789474000001,1767,465,46.76,12.31]
[625,23,625042,"BRIDGEWATER RAYNHAM          ",42,"BRIDGEWATER                  ",0.59817269796000005,5582,3339,64.14,38.369999999999997]
[625,24,625245,"BRIDGEWATER RAYNHAM          ",245,"RAYNHAM                      ",0.40182730204,5582,2243,62.37,25.06]
[632,25,632060,"CHESTERFIELD GOSHEN",60,"CHESTERFIELD                 ",0.42982456140000003,114,49,72.599999999999994,31.21]
[632,26,632108,"CHESTERFIELD GOSHEN",108,"GOSHEN                       ",0.57017543859999997,114,65,60.73,34.630000000000003]
[635,27,635022,"CENTRAL BERKSHIRE            ",22,"BECKET                       ",0.12201420271000001,1549,189,82.5,10.07]
[635,28,635069,"CENTRAL BERKSHIRE            ",69,"CUMMINGTON                   ",3.8734667530000003E-2,1549,60,82.5,3.2]
[635,29,635070,"CENTRAL BERKSHIRE            ",70,"DALTON                       ",0.58295674629000005,1549,903,50.33,29.34]
[635,30,635132,"CENTRAL BERKSHIRE            ",132,"HINSDALE                     ",0.11684958037,1549,181,82.5,9.64]
[635,31,635233,"CENTRAL BERKSHIRE            ",233,"PERU                         ",5.9393156879999999E-2,1549,92,57.03,3.39]
[635,32,635313,"CENTRAL BERKSHIRE            ",313,"WASHINGTON                   ",3.8089089739999998E-2,1549,59,78.5,2.99]
[635,33,635345,"CENTRAL BERKSHIRE            ",345,"WINDSOR                      ",4.1962556489999997E-2,1549,65,82.5,3.46]
[640,34,640051,"CONCORD CARLISLE             ",51,"CARLISLE                     ",0.24060751398999999,1251,301,82.5,19.850000000000001]
[640,35,640067,"CONCORD CARLISLE             ",67,"CONCORD                      ",0.75939248600999998,1251,950,82.5,62.65]
[645,36,645075,"DENNIS YARMOUTH              ",75,"DENNIS                       ",0.31357951160999997,3358,1053,82.5,25.87]
[645,37,645351,"DENNIS YARMOUTH              ",351,"YARMOUTH                     ",0.68642048839000003,3358,2305,82.5,56.63]
[650,38,650076,"DIGHTON REHOBOTH             ",76,"DIGHTON                      ",0.42867036010999998,2888,1238,51.52,22.09]
[650,39,650247,"DIGHTON REHOBOTH             ",247,"REHOBOTH                     ",0.57132963988999996,2888,1650,78.3,44.74]
[655,40,655078,"DOVER SHERBORN               ",78,"DOVER                        ",0.56224237428000001,1213,682,82.5,46.38]
[655,41,655269,"DOVER SHERBORN               ",269,"SHERBORN                     ",0.43775762571999999,1213,531,82.5,36.119999999999997]
[658,42,658054,"DUDLEY CHARLTON              ",54,"CHARLTON                     ",0.52307692307999998,3575,1870,54.8,28.66]
[658,43,658080,"DUDLEY CHARLTON              ",80,"DUDLEY                       ",0.47692307692000002,3575,1705,40.94,19.53]
[660,44,660041,"NAUSET                       ",41,"BREWSTER                     ",0.48160535116999997,1196,576,82.5,39.729999999999997]
[660,45,660085,"NAUSET                       ",85,"EASTHAM                      ",0.19397993311,1196,232,82.5,16]
[660,46,660224,"NAUSET                       ",224,"ORLEANS                      ",0.19481605351,1196,233,82.5,16.07]
[660,47,660318,"NAUSET                       ",318,"WELLFLEET                    ",0.12959866220999999,1196,155,82.5,10.69]
[662,48,662225,"FARMINGTON RIVER",225,"OTIS                         ",0.57819905213,211,122,82.5,47.7]
[662,49,662260,"FARMINGTON RIVER",260,"SANDISFIELD                  ",0.42180094787,211,89,82.5,34.799999999999997]
[665,50,665102,"FREETOWN LAKEVILLE           ",102,"FREETOWN                     ",0.42655864740999999,2839,1211,72.14,30.77]
[665,51,665146,"FREETOWN LAKEVILLE           ",146,"LAKEVILLE                    ",0.57344135258999995,2839,1628,69.22,39.69]
[670,52,670068,"FRONTIER                     ",68,"CONWAY                       ",0.19064124783,577,110,82.5,15.73]
[670,53,670074,"FRONTIER                     ",74,"DEERFIELD                    ",0.48526863084999999,577,280,82.5,40.03]
[670,54,670289,"FRONTIER                     ",289,"SUNDERLAND                   ",0.20103986134999999,577,116,82.5,16.59]
[670,55,670337,"FRONTIER                     ",337,"WHATELY                      ",0.12305025997000001,577,71,82.5,10.15]
[672,56,672033,"GATEWAY                      ",33,"BLANDFORD                    ",0.12969283275999999,879,114,82.5,10.7]
[672,57,672059,"GATEWAY                      ",59,"CHESTER                      ",0.16268486917,879,143,52.69,8.57]
[672,58,672143,"GATEWAY                      ",143,"HUNTINGTON                   ",0.32764505118999998,879,288,47.92,15.7]
[672,59,672183,"GATEWAY                      ",183,"MIDDLEFIELD                  ",3.9817974970000003E-2,879,35,82.5,3.28]
[672,60,672194,"GATEWAY                      ",194,"MONTGOMERY                   ",8.1911262799999995E-2,879,72,82.5,6.76]
[672,61,672256,"GATEWAY                      ",256,"RUSSELL                      ",0.25824800910000001,879,227,40.409999999999997,10.44]
[673,62,673081,"GROTON DUNSTABLE             ",81,"DUNSTABLE                    ",0.23009587328,2399,552,82.5,18.98]
[673,63,673115,"GROTON DUNSTABLE             ",115,"GROTON                       ",0.76990412671999997,2399,1847,82.5,63.52]
[674,64,{"$f":"A73*1000+E73","v":674106},"GILL MONTAGUE                ",106,"GILL                         ",0.11446886447,1092,125,67.31,7.7]
[674,65,674192,"GILL MONTAGUE                ",192,"MONTAGUE                     ",0.88553113552999996,1092,967,{"$f":"ROUND(VLOOKUP(E74,town351,12),2)","v":44.49},{"$f":"ROUND(G74*J74,2)","v":39.4}]
[675,66,675119,"HAMILTON WENHAM              ",119,"HAMILTON                     ",0.63946338736999997,1789,1144,82.5,52.76]
[675,67,675320,"HAMILTON WENHAM              ",320,"WENHAM                       ",0.36053661262999998,1789,645,82.5,29.74]
[680,68,680120,"HAMPDEN WILBRAHAM            ",120,"HAMPDEN                      ",0.20670958997,2951,610,82.5,17.05]
[680,69,680339,"HAMPDEN WILBRAHAM            ",339,"WILBRAHAM                    ",0.79329041003,2951,2341,82.5,65.45]
[683,70,683060,"HAMPSHIRE                    ",60,"CHESTERFIELD                 ",7.164179104E-2,670,48,72.599999999999994,5.2]
[683,71,683108,"HAMPSHIRE                    ",108,"GOSHEN                       ",5.8208955219999997E-2,670,39,60.73,3.54]
[683,72,683275,"HAMPSHIRE                    ",275,"SOUTHAMPTON                  ",0.55074626865999998,670,369,68.88,37.94]
[683,73,683327,"HAMPSHIRE                    ",327,"WESTHAMPTON                  ",0.14179104477999999,670,95,76.17,10.8]
[683,74,683340,"HAMPSHIRE                    ",340,"WILLIAMSBURG                 ",0.17761194029999999,670,119,65.66,11.66]
[685,75,685053,"HAWLEMONT                    ",53,"CHARLEMONT                   ",0.77551020408000004,98,76,52.53,40.74]
[685,76,685129,"HAWLEMONT                    ",129,"HAWLEY                       ",0.22448979592000001,98,22,61.78,13.87]
[690,77,690208,"KING PHILIP                  ",208,"NORFOLK                      ",0.33787068545999999,2057,695,82.5,27.87]
[690,78,690238,"KING PHILIP                  ",238,"PLAINVILLE                   ",0.25960136120999999,2057,534,73.510000000000005,19.079999999999998]
[690,79,690350,"KING PHILIP                  ",350,"WRENTHAM                     ",0.40252795333000002,2057,828,82.5,33.21]
[695,80,695157,"LINCOLN SUDBURY              ",157,"LINCOLN                      ",0.11975223675,1453,174,82.5,9.8800000000000008]
[695,81,695288,"LINCOLN SUDBURY              ",288,"SUDBURY                      ",0.88024776324999998,1453,1279,82.5,72.62]
[698,82,698092,"MANCHESTER ESSEX",92,"ESSEX",0.38597785977999999,1355,523,82.5,31.84]
[698,83,698166,"MANCHESTER ESSEX",166,"MANCHESTER",0.61402214022000001,1355,832,82.5,50.66]
[700,84,700062,"MARTHAS VINEYARD             ",62,"CHILMARK                     ",5.2039381150000001E-2,711,37,82.5,4.29]
[700,85,700089,"MARTHAS VINEYARD             ",89,"EDGARTOWN                    ",0.26160337553000002,711,186,82.5,21.58]
[700,86,700104,"MARTHAS VINEYARD             ",104,"GAY HEAD                     ",1.969057665E-2,711,14,82.5,1.62]
[700,87,700221,"MARTHAS VINEYARD             ",221,"OAK BLUFFS                   ",0.2770745429,711,197,82.5,22.86]
[700,88,700296,"MARTHAS VINEYARD             ",296,"TISBURY                      ",0.24894514768000001,711,177,82.5,20.54]
[700,89,700334,"MARTHAS VINEYARD             ",334,"WEST TISBURY                 ",0.14064697608999999,711,100,82.5,11.6]
[705,90,705038,"MASCONOMET                   ",38,"BOXFORD                      ",0.37697516930000002,1772,668,82.5,31.1]
[705,91,705184,"MASCONOMET                   ",184,"MIDDLETON                    ",0.35101580134999999,1772,622,82.5,28.96]
[705,92,705298,"MASCONOMET                   ",298,"TOPSFIELD                    ",0.27200902934999999,1772,482,82.5,22.44]
[710,93,710179,"MENDON UPTON                 ",179,"MENDON                       ",0.44489795918000002,2205,981,78.45,34.9]
[710,94,710303,"MENDON UPTON                 ",303,"UPTON                        ",0.55510204082000003,2205,1224,75.95,42.16]
[712,95,712055,"MONOMOY",55,"CHATHAM                      ",0.24156992814,1809,437,82.5,19.93]
[712,96,712126,"MONOMOY",126,"HARWICH                      ",0.75843007186,1809,1372,82.5,62.57]
[715,97,715148,"MOUNT GREYLOCK               ",148,"LANESBOROUGH                 ",0.34315589353999998,1052,361,62.07,21.3]
[715,98,715341,"MOUNT GREYLOCK               ",341,"WILLIAMSTOWN                 ",0.65684410646000002,1052,691,82.5,54.19]
[717,99,717013,"MOHAWK TRAIL                 ",13,"ASHFIELD                     ",0.16666666666999999,918,153,82.5,13.75]
[717,100,717047,"MOHAWK TRAIL                 ",47,"BUCKLAND                     ",0.21786492374999999,918,200,57.86,12.61]
[717,101,717053,"MOHAWK TRAIL                 ",53,"CHARLEMONT                   ",6.7538126360000006E-2,918,62,52.53,3.55]
[717,102,717066,"MOHAWK TRAIL                 ",66,"COLRAIN                      ",0.18409586056999999,918,169,56.7,10.44]
[717,103,717129,"MOHAWK TRAIL                 ",129,"HAWLEY                       ",1.525054466E-2,918,14,61.78,0.94]
[717,104,717130,"MOHAWK TRAIL                 ",130,"HEATH                        ",9.8039215690000001E-2,918,90,43.78,4.29]
[717,105,717237,"MOHAWK TRAIL                 ",237,"PLAINFIELD                   ",6.9716775600000003E-2,918,64,74.13,5.17]
[717,106,717268,"MOHAWK TRAIL                 ",268,"SHELBURNE                    ",0.18082788671,918,166,70,12.66]
[720,107,720235,"NARRAGANSETT                 ",235,"PHILLIPSTON                  ",0.15126050420000001,1309,198,55.19,8.35]
[720,108,720294,"NARRAGANSETT                 ",294,"TEMPLETON                    ",0.84873949579999997,1309,1111,38.15,32.380000000000003]
[725,109,725034,"NASHOBA                      ",34,"BOLTON                       ",0.32571249609000003,3193,1040,82.5,26.87]
[725,110,725147,"NASHOBA                      ",147,"LANCASTER                    ",0.30504227999,3193,974,70.62,21.54]
[725,111,725286,"NASHOBA                      ",286,"STOW                         ",0.36924522392999998,3193,1179,82.5,30.46]
[728,112,728206,"NEW SALEM WENDELL            ",206,"NEW SALEM                    ",0.37288135592999999,118,44,63.52,23.69]
[728,113,728319,"NEW SALEM WENDELL            ",319,"WENDELL                      ",0.62711864406999995,118,74,39.81,24.97]
[730,114,730213,"NORTHBORO SOUTHBORO          ",213,"NORTHBOROUGH                 ",0.63094393186999997,1409,889,82.5,52.05]
[730,115,730276,"NORTHBORO SOUTHBORO          ",276,"SOUTHBOROUGH                 ",0.36905606813000003,1409,520,82.5,30.45]
[735,116,735012,"NORTH MIDDLESEX              ",12,"ASHBY                        ",0.11308965947999999,3201,362,61.65,6.97]
[735,117,735232,"NORTH MIDDLESEX              ",232,"PEPPERELL                    ",0.47953764449000003,3201,1535,61.08,29.29]
[735,118,735299,"NORTH MIDDLESEX              ",299,"TOWNSEND                     ",0.40737269602999998,3201,1304,52.51,21.39]
[740,119,740169,"OLD ROCHESTER                ",169,"MARION                       ",0.29438822447000002,1087,320,82.5,24.29]
[740,120,740173,"OLD ROCHESTER                ",173,"MATTAPOISETT                 ",0.36522539098000001,1087,397,82.5,30.13]
[740,121,740250,"OLD ROCHESTER                ",250,"ROCHESTER                    ",0.34038638453999998,1087,370,65.81,22.4]
[745,122,745116,"PENTUCKET                    ",116,"GROVELAND                    ",0.38151465798,2456,937,73.73,28.13]
[745,123,745180,"PENTUCKET                    ",180,"MERRIMAC                     ",0.35301302932,2456,867,70.3,24.82]
[745,124,745329,"PENTUCKET                    ",329,"WEST NEWBURY                 ",0.26547231269999999,2456,652,82.5,21.9]
[750,125,750029,"PIONEER                      ",29,"BERNARDSTON                  ",0.35512630015000002,673,239,53.96,19.16]
[750,126,750156,"PIONEER                      ",156,"LEYDEN                       ",8.6181277860000002E-2,673,58,82.5,7.11]
[750,127,750216,"PIONEER                      ",216,"NORTHFIELD                   ",0.46805349183,673,315,73.349999999999994,34.33]
[750,128,{"$f":"A137*1000+E137","v":750312},"PIONEER                      ",312,"WARWICK                      ",9.0638930160000006E-2,673,61,66.849999999999994,6.06]
[753,129,753021,"QUABBIN                      ",21,"BARRE                        ",0.37846153846000002,1950,738,{"$f":"ROUND(VLOOKUP(E138,town351,12),2)","v":40.369999999999997},{"$f":"ROUND(G138*J138,2)","v":15.28}]
[753,130,753124,"QUABBIN                      ",124,"HARDWICK                     ",0.16871794872000001,1950,329,43.03,7.26]
[753,131,753140,"QUABBIN                      ",140,"HUBBARDSTON                  ",0.25846153845999997,1950,504,60.37,15.6]
[753,132,753202,"QUABBIN                      ",202,"NEW BRAINTREE                ",6.7692307689999995E-2,1950,132,61.48,4.16]
[753,133,753222,"QUABBIN                      ",222,"OAKHAM                       ",0.12666666667000001,1950,247,55.32,7.01]
[755,134,755206,"RALPH C MAHAR                ",206,"NEW SALEM                    ",7.6175040520000001E-2,617,47,63.52,4.84]
[755,135,755223,"RALPH C MAHAR                ",223,"ORANGE                       ",0.77471636953,617,478,28.81,22.32]
[755,136,755234,"RALPH C MAHAR                ",234,"PETERSHAM                    ",8.7520259320000002E-2,617,54,70.28,6.15]
[755,137,755319,"RALPH C MAHAR                ",319,"WENDELL                      ",6.158833063E-2,617,38,39.81,2.4500000000000002]
[760,138,760118,"SILVER LAKE                  ",118,"HALIFAX                      ",0.29711375212000002,1767,525,56.93,16.91]
[760,139,760145,"SILVER LAKE                  ",145,"KINGSTON                     ",0.58121109225000001,1767,1027,67.28,39.1]
[760,140,760240,"SILVER LAKE                  ",240,"PLYMPTON                     ",0.12167515563,1767,215,74.62,9.08]
[763,141,763027,"SOMERSET BERKLEY",27,"BERKLEY                      ",0.27848101266000003,1027,286,54.18,15.09]
[763,142,763273,"SOMERSET BERKLEY",273,"SOMERSET                     ",0.72151898733999997,1027,741,55.47,40.020000000000003]
[765,143,765006,"SOUTHERN BERKSHIRE           ",6,"ALFORD                       ",3.1700288180000001E-2,694,22,82.5,2.62]
[765,144,765090,"SOUTHERN BERKSHIRE           ",90,"EGREMONT                     ",0.11239193084,694,78,82.5,9.27]
[765,145,765193,"SOUTHERN BERKSHIRE           ",193,"MONTEREY                     ",0.10951008646,694,76,82.5,9.0299999999999994]
[765,146,765205,"SOUTHERN BERKSHIRE           ",205,"NEW MARLBOROUGH              ",0.21613832853000001,694,150,82.5,17.829999999999998]
[765,147,765267,"SOUTHERN BERKSHIRE           ",267,"SHEFFIELD                    ",0.53025936599000001,694,368,82.5,43.75]
[766,148,766112,"SOUTHWICK TOLLAND",112,"GRANVILLE",0.11760513186,1403,165,77.75,9.14]
[766,149,766279,"SOUTHWICK TOLLAND",279,"SOUTHWICK                    ",0.85174625802000004,1403,1195,65.760000000000005,56.01]
[766,150,766297,"SOUTHWICK TOLLAND",297,"TOLLAND                      ",3.0648610119999999E-2,1403,43,82.5,2.5299999999999998]
[767,151,767084,"SPENCER EAST BROOKFIELD      ",84,"EAST BROOKFIELD              ",0.18679245283000001,1590,297,51.61,9.64]
[767,152,767280,"SPENCER EAST BROOKFIELD      ",280,"SPENCER                      ",0.81320754716999999,1590,1293,50.46,41.03]
[770,153,770043,"TANTASQUA                    ",43,"BRIMFIELD                    ",0.15987261146000001,1570,251,59.1,9.4499999999999993]
[770,154,770045,"TANTASQUA                    ",45,"BROOKFIELD                   ",0.14968152866000001,1570,235,41.39,6.2]
[770,155,770135,"TANTASQUA                    ",135,"HOLLAND                      ",0.10700636943,1570,168,59.96,6.42]
[770,156,770287,"TANTASQUA                    ",287,"STURBRIDGE                   ",0.5,1570,785,60.06,30.03]
[770,157,770306,"TANTASQUA                    ",306,"WALES                        ",8.3439490450000001E-2,1570,131,38.700000000000003,3.23]
[773,158,773203,"TRITON                       ",203,"NEWBURY                      ",0.28698224851999998,2366,679,82.5,23.68]
[773,159,773254,"TRITON                       ",254,"ROWLEY                       ",0.31952662722000003,2366,756,82.5,26.36]
[773,160,773259,"TRITON                       ",259,"SALISBURY                    ",0.39349112425999999,2366,931,82.5,32.46]
[774,161,774062,"UPISLAND",62,"CHILMARK                     ",0.19259259259,405,78,82.5,15.89]
[774,162,774104,"UPISLAND",104,"AQUINNAH",0.12345679012000001,405,50,82.5,10.19]
[774,163,774334,"UPISLAND",334,"WEST TISBURY                 ",0.68395061727999995,405,277,82.5,56.43]
[775,164,775134,"WACHUSETT                    ",134,"HOLDEN                       ",0.47197055493000001,7064,3334,58.68,27.7]
[775,165,775228,"WACHUSETT                    ",228,"PAXTON                       ",9.2865232160000005E-2,7064,656,68.650000000000006,6.38]
[775,166,775241,"WACHUSETT                    ",241,"PRINCETON                    ",6.0305775759999999E-2,7064,426,82.5,4.9800000000000004]
[775,167,775257,"WACHUSETT                    ",257,"RUTLAND                      ",0.22692525481,7064,1603,46.22,10.49]
[775,168,775282,"WACHUSETT                    ",282,"STERLING                     ",0.14793318233,7064,1045,79.48,11.76]
[778,169,778311,"QUABOAG",311,"WARREN                       ",0.60723296888,1189,722,30.08,18.27]
[778,170,778324,"QUABOAG",324,"WEST BROOKFIELD              ",0.39276703112,1189,467,53.28,20.93]
[780,171,780123,"WHITMAN HANSON               ",123,"HANSON                       ",0.40031356153999997,3827,1532,61.33,24.55]
[780,172,780338,"WHITMAN HANSON               ",338,"WHITMAN                      ",0.59968643846000003,3827,2295,48.72,29.22]
[801,173,801028,"ASSABET VALLEY               ",28,"BERLIN                       ",3.3057851239999998E-2,847,28,82.5,2.73]
[801,174,801141,"ASSABET VALLEY               ",141,"HUDSON                       ",0.25974025973999998,847,220,62.6,16.260000000000002]
[801,175,801170,"ASSABET VALLEY               ",170,"MARLBOROUGH                  ",0.48642266824000002,847,412,57.04,27.75]
[801,176,801174,"ASSABET VALLEY               ",174,"MAYNARD                      ",8.7367178279999999E-2,847,74,69.53,6.07]
[801,177,801213,"ASSABET VALLEY               ",213,"NORTHBOROUGH                 ",6.1393152300000003E-2,847,52,82.5,5.0599999999999996]
[801,178,801276,"ASSABET VALLEY               ",276,"SOUTHBOROUGH                 ",2.479338843E-2,847,21,82.5,2.0499999999999998]
[801,179,801321,"ASSABET VALLEY               ",321,"WESTBOROUGH                  ",4.7225501769999997E-2,847,40,81.33,3.84]
[805,180,805025,"BLACKSTONE VALLEY            ",25,"BELLINGHAM                   ",5.4750402580000003E-2,1242,68,69.25,3.79]
[805,181,805032,"BLACKSTONE VALLEY            ",32,"BLACKSTONE                   ",7.0048309180000004E-2,1242,87,49.05,3.44]
[805,182,805077,"BLACKSTONE VALLEY            ",77,"DOUGLAS                      ",9.6618357490000001E-2,1242,120,57.62,5.57]
[805,183,805110,"BLACKSTONE VALLEY            ",110,"GRAFTON                      ",4.830917874E-2,1242,60,69.569999999999993,3.36]
[805,184,805138,"BLACKSTONE VALLEY            ",138,"HOPEDALE                     ",4.5088566830000003E-2,1242,56,60.57,2.73]
[805,185,805179,"BLACKSTONE VALLEY            ",179,"MENDON                       ",5.8776167470000001E-2,1242,73,78.45,4.6100000000000003]
[805,186,805185,"BLACKSTONE VALLEY            ",185,"MILFORD                      ",0.12077294685999999,1242,150,46,5.56]
[805,187,805186,"BLACKSTONE VALLEY            ",186,"MILLBURY                     ",7.7294685990000001E-2,1242,96,61.28,4.74]
[805,188,805188,"BLACKSTONE VALLEY            ",188,"MILLVILLE                    ",2.657004831E-2,1242,33,46.76,1.24]
[805,189,805214,"BLACKSTONE VALLEY            ",214,"NORTHBRIDGE                  ",0.1344605475,1242,167,55.32,7.44]
[805,190,805290,"BLACKSTONE VALLEY            ",290,"SUTTON                       ",9.0982286630000006E-2,1242,113,81.290000000000006,7.4]
[805,191,805303,"BLACKSTONE VALLEY            ",303,"UPTON                        ",7.4879227049999997E-2,1242,93,75.95,5.69]
[805,192,{"$f":"A201*1000+E201","v":805304},"BLACKSTONE VALLEY            ",304,"UXBRIDGE                     ",0.10144927535999999,1242,126,65.19,6.61]
[806,193,806018,"BLUE HILLS                   ",18,"AVON                         ",7.2497123129999994E-2,869,63,{"$f":"ROUND(VLOOKUP(E202,town351,12),2)","v":66.209999999999994},{"$f":"ROUND(G202*J202,2)","v":4.8}]
[806,194,806040,"BLUE HILLS                   ",40,"BRAINTREE                    ",0.15535097814000001,869,135,74.53,11.58]
[806,195,806050,"BLUE HILLS                   ",50,"CANTON                       ",7.7100115070000003E-2,869,67,82.5,6.36]
[806,196,806073,"BLUE HILLS                   ",73,"DEDHAM                       ",0.10701956272,869,93,82.5,8.83]
[806,197,806133,"BLUE HILLS                   ",133,"HOLBROOK                     ",0.12888377444999999,869,112,51.05,6.58]
[806,198,806189,"BLUE HILLS                   ",189,"MILTON                       ",4.2577675490000001E-2,869,37,82.5,3.51]
[806,199,806220,"BLUE HILLS                   ",220,"NORWOOD                      ",8.8607594940000006E-2,869,77,82.5,7.31]
[806,200,806244,"BLUE HILLS                   ",244,"RANDOLPH                     ",0.32105868814999999,869,279,56.51,18.14]
[806,201,806335,"BLUE HILLS                   ",335,"WESTWOOD                     ",6.9044879199999997E-3,869,6,82.5,0.56999999999999995]
[810,202,810027,"BRISTOL PLYMOUTH             ",27,"BERKLEY                      ",5.9835452509999998E-2,1337,80,54.18,3.24]
[810,203,810042,"BRISTOL PLYMOUTH             ",42,"BRIDGEWATER                  ",9.8728496629999996E-2,1337,132,64.14,6.33]
[810,204,810076,"BRISTOL PLYMOUTH             ",76,"DIGHTON",6.3575168289999998E-2,1337,85,51.52,3.28]
[810,205,810182,"BRISTOL PLYMOUTH             ",182,"MIDDLEBOROUGH                ",0.17801047119999999,1337,238,52.91,9.42]
[810,206,810245,"BRISTOL PLYMOUTH             ",245,"RAYNHAM                      ",0.13014210919999999,1337,174,62.37,8.1199999999999992]
[810,207,810247,"BRISTOL PLYMOUTH             ",247,"REHOBOTH                     ",4.1136873599999998E-2,1337,55,78.3,3.22]
[810,208,810293,"BRISTOL PLYMOUTH             ",293,"TAUNTON                      ",0.42857142857000002,1337,573,36.07,15.46]
[815,209,815020,"CAPE COD                     ",20,"BARNSTABLE                   ",0.31350482315,622,195,82.5,25.86]
[815,210,815041,"CAPE COD                     ",41,"BREWSTER                     ",4.662379421E-2,622,29,82.5,3.85]
[815,211,815055,"CAPE COD                     ",55,"CHATHAM                      ",1.6077170419999998E-2,622,10,82.5,1.33]
[815,212,815075,"CAPE COD                     ",75,"DENNIS                       ",0.11736334405,622,73,82.5,9.68]
[815,213,815085,"CAPE COD                     ",85,"EASTHAM                      ",3.5369774919999999E-2,622,22,82.5,2.92]
[815,214,815126,"CAPE COD                     ",126,"HARWICH                      ",9.3247588419999999E-2,622,58,82.5,7.69]
[815,215,815172,"CAPE COD                     ",172,"MASHPEE                      ",8.5209003219999996E-2,622,53,82.5,7.03]
[815,216,815224,"CAPE COD                     ",224,"ORLEANS                      ",1.9292604500000001E-2,622,12,82.5,1.59]
[815,217,815242,"CAPE COD                     ",242,"PROVINCETOWN                 ",2.2508038590000001E-2,622,14,82.5,1.86]
[815,218,815300,"CAPE COD                     ",300,"TRURO                        ",9.6463022500000006E-3,622,6,82.5,0.8]
[815,219,815318,"CAPE COD                     ",318,"WELLFLEET                    ",2.0900321539999999E-2,622,13,82.5,1.72]
[815,220,815351,"CAPE COD                     ",351,"YARMOUTH                     ",0.22025723473,622,137,82.5,18.170000000000002]
[817,221,817030,"ESSEX NORTH SHORE                  ",30,"BEVERLY                      ",0.10386266094,1165,121,82.5,8.57]
[817,222,817038,"ESSEX NORTH SHORE                  ",38,"BOXFORD                      ",1.3733905580000001E-2,1165,16,82.5,1.1299999999999999]
[817,223,817071,"ESSEX NORTH SHORE                  ",71,"DANVERS                      ",0.15793991416,1165,184,82.5,13.03]
[817,224,817092,"ESSEX NORTH SHORE                  ",92,"ESSEX                        ",1.2017167380000001E-2,1165,14,82.5,0.99]
[817,225,817107,"ESSEX NORTH SHORE                  ",107,"GLOUCESTER                   ",8.3261802580000002E-2,1165,97,82.5,6.87]
[817,226,817119,"ESSEX NORTH SHORE                  ",119,"HAMILTON                     ",1.287553648E-2,1165,15,82.5,1.06]
[817,227,817164,"ESSEX NORTH SHORE                  ",164,"LYNNFIELD                    ",3.1759656650000002E-2,1165,37,82.5,2.62]
[817,228,817166,"ESSEX NORTH SHORE                  ",166,"MANCHESTER                   ",8.5836909900000001E-3,1165,10,82.5,0.71]
[817,229,817168,"ESSEX NORTH SHORE                  ",168,"MARBLEHEAD                   ",3.948497854E-2,1165,46,82.5,3.26]
[817,230,817184,"ESSEX NORTH SHORE                  ",184,"MIDDLETON                    ",3.6051502149999998E-2,1165,42,82.5,2.97]
[817,231,817196,"ESSEX NORTH SHORE                  ",196,"NAHANT                       ",9.4420600899999992E-3,1165,11,82.5,0.78]
[817,232,817229,"ESSEX NORTH SHORE                  ",229,"PEABODY",0.25665236052000001,1165,299,71.319999999999993,18.3]
[817,233,817252,"ESSEX NORTH SHORE                  ",252,"ROCKPORT                     ",2.0600858369999999E-2,1165,24,82.5,1.7]
[817,234,817258,"ESSEX NORTH SHORE                  ",258,"SALEM                        ",0.15879828326000001,1165,185,62.62,9.94]
[817,235,817291,"ESSEX NORTH SHORE                  ",291,"SWAMPSCOTT                   ",2.832618026E-2,1165,33,82.5,2.34]
[817,236,817298,"ESSEX NORTH SHORE                  ",298,"TOPSFIELD                    ",1.8884120170000001E-2,1165,22,82.5,1.56]
[817,237,817320,"ESSEX NORTH SHORE                  ",320,"WENHAM                       ",7.7253218900000002E-3,1165,9,82.5,0.64]
[818,238,818029,"FRANKLIN COUNTY              ",29,"BERNARDSTON                  ",5.773195876E-2,485,28,53.96,3.12]
[818,239,818047,"FRANKLIN COUNTY              ",47,"BUCKLAND                     ",1.2371134020000001E-2,485,6,57.86,0.72]
[818,240,818066,"FRANKLIN COUNTY              ",66,"COLRAIN                      ",5.1546391749999997E-2,485,25,56.7,2.92]
[818,241,818068,"FRANKLIN COUNTY              ",68,"CONWAY                       ",1.0309278349999999E-2,485,5,82.5,0.85]
[818,242,818074,"FRANKLIN COUNTY              ",74,"DEERFIELD                    ",3.505154639E-2,485,17,82.5,2.89]
[818,243,818091,"FRANKLIN COUNTY              ",91,"ERVING                       ",5.3608247419999998E-2,485,26,82.5,4.42]
[818,244,818106,"FRANKLIN COUNTY              ",106,"GILL                         ",2.4742268040000001E-2,485,12,67.31,1.67]
[818,245,818114,"FRANKLIN COUNTY              ",114,"GREENFIELD                   ",0.20618556700999999,485,100,43.25,8.92]
[818,246,818130,"FRANKLIN COUNTY              ",130,"HEATH                        ",1.0309278349999999E-2,485,5,43.78,0.45]
[818,247,818156,"FRANKLIN COUNTY              ",156,"LEYDEN                       ",6.1855670100000003E-3,485,3,82.5,0.51]
[818,248,818192,"FRANKLIN COUNTY              ",192,"MONTAGUE                     ",0.21649484535999999,485,105,44.49,9.6300000000000008]
[818,249,818206,"FRANKLIN COUNTY              ",206,"NEW SALEM                    ",1.443298969E-2,485,7,63.52,0.92]
[818,250,818216,"FRANKLIN COUNTY              ",216,"NORTHFIELD                   ",5.5670103089999999E-2,485,27,73.349999999999994,4.08]
[818,251,818223,"FRANKLIN COUNTY              ",223,"ORANGE                       ",0.13608247423,485,66,28.81,3.92]
[818,252,818268,"FRANKLIN COUNTY              ",268,"SHELBURNE                    ",2.886597938E-2,485,14,70,2.02]
[818,253,818289,"FRANKLIN COUNTY              ",289,"SUNDERLAND                   ",2.0618556699999999E-2,485,10,82.5,1.7]
[818,254,818312,"FRANKLIN COUNTY              ",312,"WARWICK                      ",1.2371134020000001E-2,485,6,66.849999999999994,0.83]
[818,255,818319,"FRANKLIN COUNTY              ",319,"WENDELL                      ",2.268041237E-2,485,11,39.81,0.9]
[818,256,{"$f":"A265*1000+E265","v":818337},"FRANKLIN COUNTY              ",337,"WHATELY                      ",2.4742268040000001E-2,485,12,82.5,2.04]
[821,257,821095,"GREATER FALL RIVER           ",95,"FALL RIVER                   ",0.72496662215999996,1498,1086,{"$f":"ROUND(VLOOKUP(E266,town351,12),2)","v":22.57},{"$f":"ROUND(G266*J266,2)","v":16.36}]
[821,258,821273,"GREATER FALL RIVER           ",273,"SOMERSET                     ",8.8117489990000006E-2,1498,132,55.47,4.8899999999999997]
[821,259,821292,"GREATER FALL RIVER           ",292,"SWANSEA                      ",9.9465954610000004E-2,1498,149,62.26,6.19]
[821,260,821331,"GREATER FALL RIVER           ",331,"WESTPORT                     ",8.744993324E-2,1498,131,82.5,7.21]
[823,261,823009,"GREATER LAWRENCE             ",9,"ANDOVER                      ",2.0075282310000001E-2,1594,32,82.5,1.66]
[823,262,823149,"GREATER LAWRENCE             ",149,"LAWRENCE                     ",0.79297365118999996,1594,1264,13.7,10.86]
[823,263,823181,"GREATER LAWRENCE             ",181,"METHUEN                      ",0.17063989962000001,1594,272,46.12,7.87]
[823,264,823211,"GREATER LAWRENCE             ",211,"NORTH ANDOVER                ",1.6311166879999998E-2,1594,26,82.5,1.35]
[825,265,825072,"GREATER NEW BEDFORD          ",72,"DARTMOUTH                    ",0.15272556391,2128,325,82.5,12.6]
[825,266,825094,"GREATER NEW BEDFORD          ",94,"FAIRHAVEN                    ",7.5657894739999995E-2,2128,161,61.69,4.67]
[825,267,825201,"GREATER NEW BEDFORD          ",201,"NEW BEDFORD                  ",0.77161654135000002,2128,1642,20.67,15.95]
[828,268,828079,"GREATER LOWELL               ",79,"DRACUT                       ",0.19727891155999999,2352,464,56.99,11.24]
[828,269,828081,"GREATER LOWELL               ",81,"DUNSTABLE                    ",7.6530612200000001E-3,2352,18,82.5,0.63]
[828,270,828160,"GREATER LOWELL               ",160,"LOWELL                       ",0.75170068027000003,2352,1768,26.03,19.57]
[828,271,828301,"GREATER LOWELL               ",301,"TYNGSBOROUGH                 ",4.3367346940000003E-2,2352,102,73.010000000000005,3.17]
[829,272,829014,"SOUTH MIDDLESEX              ",14,"ASHLAND                      ",6.6582914569999999E-2,796,53,75.3,5.01]
[829,273,829100,"SOUTH MIDDLESEX              ",100,"FRAMINGHAM                   ",0.74246231155999998,796,591,55.28,41.04]
[829,274,829136,"SOUTH MIDDLESEX              ",136,"HOLLISTON                    ",7.5376884419999998E-2,796,60,77.459999999999994,5.84]
[829,275,829139,"SOUTH MIDDLESEX              ",139,"HOPKINTON                    ",3.8944723620000003E-2,796,31,82.5,3.21]
[829,276,829198,"SOUTH MIDDLESEX              ",198,"NATICK                       ",7.6633165830000002E-2,796,61,82.5,6.32]
[830,277,830002,"MINUTEMAN                    ",2,"ACTON                        ",0.10024449878,409,41,81.23,8.14]
[830,278,830010,"MINUTEMAN                    ",10,"ARLINGTON                    ",0.35452322737999997,409,145,82.5,29.25]
[830,280,830034,"MINUTEMAN                    ",34,"BOLTON                       ",3.4229828849999998E-2,409,14,82.5,2.82]
[830,281,830067,"MINUTEMAN                    ",67,"CONCORD                      ",6.6014669930000006E-2,409,27,82.5,5.45]
[830,282,830078,"MINUTEMAN                    ",78,"DOVER                        ",7.3349633300000003E-3,409,3,82.5,0.61]
[830,283,830147,"MINUTEMAN                    ",147,"LANCASTER                    ",0.13447432763,409,55,70.62,9.5]
[830,284,830155,"MINUTEMAN                    ",155,"LEXINGTON                    ",0.15892420537999999,409,65,82.5,13.11]
[830,285,830199,"MINUTEMAN                    ",199,"NEEDHAM                      ",5.6234718830000002E-2,409,23,82.5,4.6399999999999997]
[830,286,830286,"MINUTEMAN                    ",286,"STOW                         ",8.8019559900000002E-2,409,36,82.5,7.26]
[832,287,832011,"MONTACHUSETT                 ",11,"ASHBURNHAM                   ",4.5454545450000002E-2,1452,66,45.85,2.08]
[832,288,832012,"MONTACHUSETT                 ",12,"ASHBY                        ",2.4104683200000001E-2,1452,35,61.65,1.49]
[832,289,832015,"MONTACHUSETT                 ",15,"ATHOL                        ",7.3691460060000005E-2,1452,107,28.15,2.0699999999999998]
[832,290,832021,"MONTACHUSETT                 ",21,"BARRE                        ",3.7190082639999997E-2,1452,54,40.369999999999997,1.5]
[832,291,832097,"MONTACHUSETT                 ",97,"FITCHBURG                    ",0.26101928375,1452,379,24.96,6.52]
[832,292,832103,"MONTACHUSETT                 ",103,"GARDNER                      ",0.12741046832,1452,185,32.79,4.18]
[832,293,832125,"MONTACHUSETT                 ",125,"HARVARD                      ",2.75482094E-3,1452,4,82.5,0.23]
[832,294,832134,"MONTACHUSETT                 ",134,"HOLDEN",5.7162534440000003E-2,1452,83,58.68,3.35]
[832,295,832140,"MONTACHUSETT                 ",140,"HUBBARDSTON                  ",3.4435261709999998E-2,1452,50,60.37,2.08]
[832,296,832162,"MONTACHUSETT                 ",162,"LUNENBURG                    ",5.5785123970000003E-2,1452,81,59.47,3.32]
[832,297,832234,"MONTACHUSETT                 ",234,"PETERSHAM                    ",2.0661157000000001E-3,1452,3,70.28,0.15]
[832,298,832235,"MONTACHUSETT                 ",235,"PHILLIPSTON                  ",1.377410468E-2,1452,20,55.19,0.76]
[832,299,832241,"MONTACHUSETT                 ",241,"PRINCETON                    ",1.9283746559999999E-2,1452,28,82.5,1.59]
[832,300,832255,"MONTACHUSETT                 ",255,"ROYALSTON                    ",8.9531680400000008E-3,1452,13,50.55,0.45]
[832,301,832282,"MONTACHUSETT                 ",282,"STERLING                     ",4.2699724520000003E-2,1452,62,79.48,3.39]
[832,302,832294,"MONTACHUSETT                 ",294,"TEMPLETON                    ",6.0606060609999998E-2,1452,88,38.15,2.31]
[832,303,832328,"MONTACHUSETT                 ",328,"WESTMINSTER                  ",4.6831955920000001E-2,1452,68,54.64,2.56]
[832,304,832343,"MONTACHUSETT                 ",343,"WINCHENDON                   ",8.6776859499999998E-2,1452,126,34.43,2.99]
[851,305,851004,"NORTHERN BERKSHIRE           ",4,"ADAMS                        ",0.30585683296999999,461,141,34.979999999999997,10.7]
[851,306,851058,"NORTHERN BERKSHIRE           ",58,"CHESIRE",0.11062906725,461,51,48.52,5.37]
[851,307,851063,"NORTHERN BERKSHIRE           ",63,"CLARKSBURG                   ",0.10845986985,461,50,36.25,3.93]
[851,308,851098,"NORTHERN BERKSHIRE           ",98,"FLORIDA                      ",3.253796095E-2,461,15,64.150000000000006,2.09]
[851,309,851148,"NORTHERN BERKSHIRE           ",148,"LANESBOROUGH                 ",4.9891540130000002E-2,461,23,62.07,3.1]
[851,310,851190,"NORTHERN BERKSHIRE           ",190,"MONROE                       ",4.3383947900000001E-3,461,2,58.88,0.26]
[851,311,851209,"NORTHERN BERKSHIRE           ",209,"NORTH ADAMS                  ",0.32321041215000001,461,149,28.86,9.33]
[851,312,851263,"NORTHERN BERKSHIRE           ",263,"SAVOY                        ",3.0368763560000001E-2,461,14,59.82,1.82]
[851,313,851341,"NORTHERN BERKSHIRE           ",341,"WILLIAMSTOWN                 ",3.4707158350000003E-2,461,16,82.5,2.86]
[852,314,{"$f":"A322*1000+E322","v":852019},"NASHOBA VALLEY               ",19,"AYER",8.4097859329999997E-2,654,55,72.239999999999995,6.08]
[852,315,852056,"NASHOBA VALLEY               ",56,"CHELMSFORD                   ",0.30581039755,654,200,82.5,{"$f":"ROUND(G323*J323,2)","v":25.23}]
[852,316,852115,"NASHOBA VALLEY               ",115,"GROTON                       ",5.963302752E-2,654,39,82.5,4.92]
[852,317,852158,"NASHOBA VALLEY               ",158,"LITTLETON                    ",5.3516819569999999E-2,654,35,82.5,4.42]
[852,318,852232,"NASHOBA VALLEY               ",232,"PEPPERELL                    ",0.19571865443,654,128,61.08,11.95]
[852,319,852270,"NASHOBA VALLEY               ",270,"SHIRLEY                      ",8.1039755350000006E-2,654,53,62.19,5.04]
[852,320,852299,"NASHOBA VALLEY               ",299,"TOWNSEND                     ",0.12232415902,654,80,52.51,6.42]
[852,321,852326,"NASHOBA VALLEY               ",326,"WESTFORD                     ",9.785932722E-2,654,64,{"$f":"ROUND(VLOOKUP(E329,town351,12),2)","v":79.8},7.81]
[853,322,853057,"NORTHEAST METROPOLITAN       ",57,"CHELSEA                      ",0.20141620770999999,1271,256,20.87,4.2]
[853,323,853165,"NORTHEAST METROPOLITAN       ",165,"MALDEN                       ",0.11093627065,1271,141,53,5.88]
[853,324,853178,"NORTHEAST METROPOLITAN       ",178,"MELROSE                      ",3.619197482E-2,1271,46,82.5,2.99]
[853,325,853217,"NORTHEAST METROPOLITAN       ",217,"NORTH READING                ",2.5177025959999998E-2,1271,32,82.5,2.08]
[853,326,853246,"NORTHEAST METROPOLITAN       ",246,"READING                      ",2.0456333600000001E-2,1271,26,82.5,1.69]
[853,327,853248,"NORTHEAST METROPOLITAN       ",248,"REVERE                       ",0.20849724625999999,1271,265,35.08,7.31]
[853,328,853262,"NORTHEAST METROPOLITAN       ",262,"SAUGUS                       ",0.14083398898999999,1271,179,82.5,11.62]
[853,329,853284,"NORTHEAST METROPOLITAN       ",284,"STONEHAM                     ",6.2155782850000001E-2,1271,79,82.5,5.13]
[853,330,853305,"NORTHEAST METROPOLITAN       ",305,"WAKEFIELD                    ",6.4516129029999994E-2,1271,82,82.5,5.32]
[853,331,853344,"NORTHEAST METROPOLITAN       ",344,"WINCHESTER                   ",4.7206923699999997E-3,1271,6,82.5,0.39]
[853,332,853346,"NORTHEAST METROPOLITAN       ",346,"WINTHROP                     ",3.7765538949999997E-2,1271,48,75.22,2.84]
[853,333,853347,"NORTHEAST METROPOLITAN       ",347,"WOBURN",8.7332808809999996E-2,1271,111,82.5,7.2]
[855,334,855003,"OLD COLONY                   ",3,"ACUSHNET                     ",0.27526881720000002,465,128,57.53,15.84]
[855,335,855052,"OLD COLONY                   ",52,"CARVER                       ",0.2,465,93,53.86,10.77]
[855,336,855146,"OLD COLONY                   ",146,"LAKEVILLE                    ",0.27311827957000001,465,127,69.22,18.91]
[855,337,855173,"OLD COLONY                   ",173,"MATTAPOISETT                 ",7.7419354839999996E-2,465,36,82.5,6.39]
[855,338,855250,"OLD COLONY                   ",250,"ROCHESTER                    ",0.17419354839000001,465,81,65.81,11.46]
[860,339,860024,"PATHFINDER                   ",24,"BELCHERTOWN                  ",0.14532871972,578,84,51.26,7.45]
[860,340,860111,"PATHFINDER                   ",111,"GRANBY                       ",2.941176471E-2,578,17,64.25,1.89]
[860,341,860124,"PATHFINDER                   ",124,"HARDWICK",4.1522491350000003E-2,578,24,43.03,1.79]
[860,342,860191,"PATHFINDER                   ",191,"MONSON                       ",0.13667820069,578,79,56.86,7.77]
[860,343,860202,"PATHFINDER                   ",202,"NEW BRAINTREE                ",6.9204152200000001E-3,578,4,61.48,0.43]
[860,344,860222,"PATHFINDER                   ",222,"OAKHAM",2.0761245670000001E-2,578,12,55.32,1.1499999999999999]
[860,345,860227,"PATHFINDER                   ",227,"PALMER                       ",0.29930795848000002,578,173,40.83,12.22]
[860,346,860309,"PATHFINDER                   ",309,"WARE                         ",0.23183391003000001,578,134,34.119999999999997,7.91]
[860,347,860311,"PATHFINDER                   ",311,"WARREN                       ",8.8235294120000002E-2,578,51,30.08,2.65]
[871,348,871023,"SHAWSHEEN VALLEY             ",23,"BEDFORD                      ",2.6666666669999999E-2,1275,34,82.5,2.2000000000000002]
[871,349,871031,"SHAWSHEEN VALLEY             ",31,"BILLERICA                    ",0.40549019607999998,1275,517,80.010000000000005,32.44]
[871,350,871048,"SHAWSHEEN VALLEY             ",48,"BURLINGTON                   ",9.9607843139999999E-2,1275,127,82.5,8.2200000000000006]
[871,351,871295,"SHAWSHEEN VALLEY             ",295,"TEWKSBURY                    ",0.27529411765,1275,351,82.5,22.71]
[871,352,871342,"SHAWSHEEN VALLEY             ",342,"WILMINGTON                   ",0.19294117647,1275,246,82.5,15.92]
[872,353,872044,"SOUTHEASTERN                 ",44,"BROCKTON                     ",0.62310231022999996,1515,944,21.86,13.62]
[872,354,872083,"SOUTHEASTERN                 ",83,"EAST BRIDGEWATER             ",5.5445544550000003E-2,1515,84,55.42,3.07]
[872,355,872088,"SOUTHEASTERN                 ",88,"EASTON                       ",5.4125412540000001E-2,1515,82,79.84,4.32]
[872,356,872099,"SOUTHEASTERN                 ",99,"FOXBOROUGH                   ",2.7722772279999999E-2,1515,42,82.5,2.29]
[872,357,872167,"SOUTHEASTERN                 ",167,"MANSFIELD                    ",6.2706270630000005E-2,1515,95,72.78,4.5599999999999996]
[872,358,872218,"SOUTHEASTERN                 ",218,"NORTON                       ",6.9966996700000006E-2,1515,106,70.790000000000006,4.95]
[872,359,872266,"SOUTHEASTERN                 ",266,"SHARON                       ",7.2607260700000001E-3,1515,11,82.5,0.6]
[872,360,872285,"SOUTHEASTERN                 ",285,"STOUGHTON                    ",7.1947194719999996E-2,1515,109,62.67,4.51]
[872,361,872323,"SOUTHEASTERN                 ",323,"WEST BRIDGEWATER             ",2.7722772279999999E-2,1515,42,67.69,1.88]
[873,362,873001,"SOUTH SHORE                  ",1,"ABINGTON                     ",0.15526802217999999,541,84,62.02,9.6300000000000008]
[873,363,873065,"SOUTH SHORE                  ",65,"COHASSET                     ",1.478743068E-2,541,8,82.5,1.22]
[873,364,873122,"SOUTH SHORE                  ",122,"HANOVER                      ",7.3937153419999999E-2,541,40,79.3,5.86]
[873,365,873123,"SOUTH SHORE                  ",123,"HANSON                       ",0.14787430684,541,80,61.33,9.07]
[873,366,873219,"SOUTH SHORE                  ",219,"NORWELL                      ",3.6968576709999999E-2,541,20,82.5,3.05]
[873,367,873251,"SOUTH SHORE                  ",251,"ROCKLAND                     ",0.26802218114999998,541,145,49.83,13.36]
[873,368,873264,"SOUTH SHORE                  ",264,"SCITUATE                     ",5.7301293900000001E-2,541,31,82.5,4.7300000000000004]
[873,369,873338,"SOUTH SHORE                  ",338,"WHITMAN                      ",0.24584103512,541,133,48.72,11.98]
[876,370,876017,"SOUTHERN WORCESTER           ",17,"AUBURN                       ",7.6465590479999998E-2,1177,90,56.67,4.33]
[876,371,876054,"SOUTHERN WORCESTER           ",54,"CHARLTON                     ",0.18351741716,1177,216,54.8,10.06]
[876,372,876080,"SOUTHERN WORCESTER           ",80,"DUDLEY                       ",0.10960067968999999,1177,129,40.94,4.49]
[876,373,876215,"SOUTHERN WORCESTER           ",215,"NORTH BROOKFIELD",4.587935429E-2,1177,54,43.36,1.99]
[876,374,876226,"SOUTHERN WORCESTER           ",226,"OXFORD                       ",0.10960067968999999,1177,129,52.76,5.78]
[876,375,876228,"SOUTHERN WORCESTER           ",228,"PAXTON                       ",1.3593882749999999E-2,1177,16,68.650000000000006,0.93]
[876,376,876257,"SOUTHERN WORCESTER           ",257,"RUTLAND",4.3330501270000002E-2,1177,51,46.22,2]
[876,377,876277,"SOUTHERN WORCESTER           ",277,"SOUTHBRIDGE                  ",0.17926932879999999,1177,211,27.08,4.8499999999999996]
[876,378,{"$f":"A386*1000+E386","v":876280},"SOUTHERN WORCESTER           ",280,"SPENCER                      ",0.13254035684000001,1177,156,50.46,6.69]
[876,379,876316,"SOUTHERN WORCESTER           ",316,"WEBSTER                      ",0.10620220901000001,1177,125,44.77,{"$f":"ROUND(G387*J387,2)","v":4.75}]
[878,380,878101,"TRI COUNTY                   ",101,"FRANKLIN                     ",0.19139784945999999,930,178,69.849999999999994,13.37]
[878,381,878175,"TRI COUNTY                   ",175,"MEDFIELD                     ",1.6129032259999999E-2,930,15,82.5,1.33]
[878,382,878177,"TRI COUNTY                   ",177,"MEDWAY                       ",6.1290322580000001E-2,930,57,72.92,4.47]
[878,383,878187,"TRI COUNTY                   ",187,"MILLIS                       ",7.5268817200000004E-2,930,70,74.84,5.63]
[878,384,878208,"TRI COUNTY                   ",208,"NORFOLK                      ",2.3655913979999998E-2,930,22,82.5,1.95]
[878,385,878212,"TRI COUNTY                   ",212,"NORTH ATTLEBOROUGH           ",0.30430107527,930,283,{"$f":"ROUND(VLOOKUP(E393,town351,12),2)","v":63.9},19.440000000000001]
[878,386,878238,"TRI COUNTY                   ",238,"PLAINVILLE                   ",9.8924731180000003E-2,930,92,73.510000000000005,7.27]
[878,387,878265,"TRI COUNTY                   ",265,"SEEKONK                      ",9.5698924729999996E-2,930,89,72.08,6.9]
[878,388,878269,"TRI COUNTY                   ",269,"SHERBORN                     ",2.1505376300000002E-3,930,2,82.5,0.18]
[878,389,878307,"TRI COUNTY                   ",307,"WALPOLE                      ",6.9892473120000007E-2,930,65,82.5,5.77]
[878,390,878350,"TRI COUNTY                   ",350,"WRENTHAM                     ",6.1290322580000001E-2,930,57,82.5,5.0599999999999996]
[879,391,879036,"UPPER CAPE COD               ",36,"BOURNE                       ",0.24932614554999999,742,185,82.5,20.57]
[879,392,879096,"UPPER CAPE COD               ",96,"FALMOUTH                     ",0.23180592991999999,742,172,82.5,19.12]
[879,393,879169,"UPPER CAPE COD               ",169,"MARION                       ",1.886792453E-2,742,14,82.5,1.56]
[879,394,879261,"UPPER CAPE COD               ",261,"SANDWICH                     ",0.15498652291000001,742,115,82.5,12.79]
[879,395,879310,"UPPER CAPE COD               ",310,"WAREHAM                      ",0.34501347709000002,742,256,63.66,21.96]
[885,396,885007,"WHITTIER                     ",7,"AMESBURY                     ",7.5636942679999999E-2,1256,95,75.260000000000005,5.69]
[885,397,885105,"WHITTIER                     ",105,"GEORGETOWN                   ",2.6273885350000001E-2,1256,33,80.11,2.1]
[885,398,885116,"WHITTIER                     ",116,"GROVELAND                    ",3.7420382170000002E-2,1256,47,73.73,2.76]
[885,399,885128,"WHITTIER                     ",128,"HAVERHILL                    ",0.70063694267999999,1256,880,42.11,29.5]
[885,400,885144,"WHITTIER                     ",144,"IPSWICH                      ",1.831210191E-2,1256,23,82.5,1.51]
[885,401,885180,"WHITTIER                     ",180,"MERRIMAC                     ",4.6178343949999999E-2,1256,58,70.3,3.25]
[885,402,885203,"WHITTIER                     ",203,"NEWBURY                      ",1.9108280250000002E-2,1256,24,82.5,1.58]
[885,403,885204,"WHITTIER                     ",204,"NEWBURYPORT                  ",2.6273885350000001E-2,1256,33,82.5,2.17]
[885,404,885254,"WHITTIER                     ",254,"ROWLEY                       ",1.9108280250000002E-2,1256,24,82.5,1.58]
[885,405,885259,"WHITTIER                     ",259,"SALISBURY                    ",2.3089171969999999E-2,1256,29,82.5,1.9]
[885,406,885329,"WHITTIER                     ",329,"WEST NEWBURY                 ",7.96178344E-3,1256,10,82.5,0.66]
[910,407,910003,"BRISTOL COUNTY               ",3,"ACUSHNET                     ",2.6455026459999999E-2,378,10,57.53,1.52]
[910,408,910016,"BRISTOL COUNTY               ",16,"ATTLEBORO                    ",6.349206349E-2,378,24,48.51,3.08]
[910,409,910027,"BRISTOL COUNTY               ",27,"BERKLEY                      ",2.9100529100000001E-2,378,11,54.18,1.58]
[910,410,910072,"BRISTOL COUNTY               ",72,"DARTMOUTH                    ",6.8783068779999998E-2,378,26,82.5,5.67]
[910,411,910076,"BRISTOL COUNTY               ",76,"DIGHTON                      ",2.9100529100000001E-2,378,11,51.52,1.5]
[910,412,910088,"BRISTOL COUNTY               ",88,"EASTON                       ",1.8518518519999999E-2,378,7,79.84,1.48]
[910,413,910094,"BRISTOL COUNTY               ",94,"FAIRHAVEN                    ",5.8201058200000003E-2,378,22,61.69,3.59]
[910,414,910095,"BRISTOL COUNTY               ",95,"FALL RIVER                   ",0.11640211640000001,378,44,22.57,2.63]
[910,415,910102,"BRISTOL COUNTY               ",102,"FREETOWN                     ",2.9100529100000001E-2,378,11,72.14,2.1]
[910,416,910167,"BRISTOL COUNTY               ",167,"MANSFIELD                    ",2.6455026500000001E-3,378,1,72.78,0.19]
[910,417,910201,"BRISTOL COUNTY               ",201,"NEW BEDFORD                  ",0.12433862434,378,47,20.67,2.57]
[910,418,910212,"BRISTOL COUNTY               ",212,"NORTH ATTLEBOROUGH           ",2.380952381E-2,378,9,63.9,1.52]
[910,419,910218,"BRISTOL COUNTY               ",218,"NORTON                       ",2.1164021160000001E-2,378,8,70.790000000000006,1.5]
[910,420,910245,"BRISTOL COUNTY               ",245,"RAYNHAM                      ",3.7037037039999998E-2,378,14,62.37,2.31]
[910,421,910247,"BRISTOL COUNTY               ",247,"REHOBOTH                     ",6.8783068779999998E-2,378,26,78.3,5.39]
[910,422,910265,"BRISTOL COUNTY               ",265,"SEEKONK                      ",4.4973544970000001E-2,378,17,72.08,3.24]
[910,423,910273,"BRISTOL COUNTY               ",273,"SOMERSET                     ",5.2910052909999998E-2,378,20,55.47,2.93]
[910,424,910292,"BRISTOL COUNTY               ",292,"SWANSEA                      ",3.9682539679999997E-2,378,15,62.26,2.4700000000000002]
[910,425,910293,"BRISTOL COUNTY               ",293,"TAUNTON                      ",8.4656084660000006E-2,378,32,36.07,3.05]
[910,426,910331,"BRISTOL COUNTY               ",331,"WESTPORT                     ",6.0846560850000002E-2,378,23,82.5,5.0199999999999996]
[915,427,915018,"NORFOLK COUNTY               ",18,"AVON                         ",1.459854015E-2,274,4,66.209999999999994,0.97]
[915,428,915025,"NORFOLK COUNTY               ",25,"BELLINGHAM                   ",9.4890510950000007E-2,274,26,69.25,6.57]
[915,429,915040,"NORFOLK COUNTY               ",40,"BRAINTREE                    ",6.2043795620000002E-2,274,17,74.53,4.62]
[915,430,915046,"NORFOLK COUNTY               ",46,"BROOKLINE                    ",3.6496350399999999E-3,274,1,82.5,0.3]
[915,431,915050,"NORFOLK COUNTY               ",50,"CANTON                       ",3.6496350359999999E-2,274,10,82.5,3.01]
[915,432,915065,"NORFOLK COUNTY               ",65,"COHASSET                     ",0,274,0,82.5,0]
[915,433,915073,"NORFOLK COUNTY               ",73,"DEDHAM                       ",5.1094890509999998E-2,274,14,82.5,4.22]
[915,434,915078,"NORFOLK COUNTY               ",78,"DOVER                        ",0,274,0,82.5,0]
[915,435,915099,"NORFOLK COUNTY               ",99,"FOXBOROUGH                   ",4.3795620440000002E-2,274,12,82.5,3.61]
[915,436,915101,"NORFOLK COUNTY               ",101,"FRANKLIN                     ",5.1094890509999998E-2,274,14,69.849999999999994,3.57]
[915,437,915133,"NORFOLK COUNTY               ",133,"HOLBROOK                     ",1.0948905110000001E-2,274,3,51.05,0.56000000000000005]
[915,438,915175,"NORFOLK COUNTY               ",175,"MEDFIELD                     ",1.459854015E-2,274,4,82.5,1.2]
[915,439,915177,"NORFOLK COUNTY               ",177,"MEDWAY                       ",3.6496350359999999E-2,274,10,72.92,2.66]
[915,440,915187,"NORFOLK COUNTY               ",187,"MILLIS                       ",4.01459854E-2,274,11,74.84,3]
[915,441,915189,"NORFOLK COUNTY               ",189,"MILTON                       ",1.459854015E-2,274,4,82.5,1.2]
[915,442,{"$f":"A450*1000+E450","v":915199},"NORFOLK COUNTY               ",199,"NEEDHAM                      ",3.6496350399999999E-3,274,1,82.5,0.3]
[915,443,915208,"NORFOLK COUNTY               ",208,"NORFOLK                      ",2.5547445259999999E-2,274,7,82.5,{"$f":"ROUND(G451*J451,2)","v":2.11}]
[915,444,915220,"NORFOLK COUNTY               ",220,"NORWOOD                      ",5.4744525549999999E-2,274,15,82.5,4.5199999999999996]
[915,445,915238,"NORFOLK COUNTY               ",238,"PLAINVILLE                   ",2.5547445259999999E-2,274,7,73.510000000000005,1.88]
[915,446,915243,"NORFOLK COUNTY               ",243,"QUINCY                       ",6.5693430659999996E-2,274,18,80.11,5.26]
[915,447,915244,"NORFOLK COUNTY               ",244,"RANDOLPH                     ",3.6496350359999999E-2,274,10,56.51,2.06]
[915,448,915266,"NORFOLK COUNTY               ",266,"SHARON                       ",2.1897810220000001E-2,274,6,82.5,1.81]
[915,449,915285,"NORFOLK COUNTY               ",285,"STOUGHTON                    ",4.01459854E-2,274,11,{"$f":"ROUND(VLOOKUP(E457,town351,12),2)","v":62.67},2.52]
[915,450,915307,"NORFOLK COUNTY               ",307,"WALPOLE                      ",9.1240875910000005E-2,274,25,82.5,7.53]
[915,451,915317,"NORFOLK COUNTY               ",317,"WELLESLEY",7.2992700699999998E-3,274,2,82.5,0.6]
[915,452,915335,"NORFOLK COUNTY               ",335,"WESTWOOD                     ",1.8248175179999999E-2,274,5,82.5,1.51]
[915,453,915336,"NORFOLK COUNTY               ",336,"WEYMOUTH                     ",0.10218978102,274,28,81.3,8.31]
[915,454,915350,"NORFOLK COUNTY               ",350,"WRENTHAM                     ",3.2846715329999998E-2,274,9,82.5,2.71]