{"text_format":"1","workbook":"xlsx","n_sheets":19,"sheets":["notes","parameters","Index","MoreAboutData","localcont","Foundation Budget","Municipal Contribution","Regional Allocation","Summary","Regional District Members","Comparison to FY21","Rates","Townwide Contributions","Aid436","ceyregionalcalc","disthist","dist435","leas","frac"],"not_rendered":{"charts":6,"images":4,"macros":1,"external_links":0,"defined_names":154,"comments":1,"pivot_tables":0},"unopened":[],"bounds":{"document_bytes":16777216,"sheet_cells":100000,"rows_first":2000,"rows_last":500,"rows_between":2000,"halvings":0,"cell_chars":16384,"cell_head_chars":4096},"cells_cut":0,"cells_raw":0,"read":"whole","date_system":"1900"}

{"sheet":"notes","index":0,"n_rows":32,"n_cols":4,"rows_kept":32,"cut":false,"hidden":true,"merged":[]}
["FY22 Chapter 70"]
[]
["Tabs","What happens on this sheet","Data source (if any)","Notes"]
["Parameters","Allows the user to adjust all of the policy levers in Chapter 70, except for changes to foundation.  Foundation budget scenarios can be changed, but they must 1st be run separately and dropped into localcont (all the way to the right).  Up to 11 alternatives can be included.",null,"Updated table for graph re: \"additional increments toward target\" to include 175%CEY increment"]
["Index","Controls the district being viewed for all reports except regional dist members","Dropdown box reads LEAs","Changed LEA 603 label to \"Hoosac Valley\""]
["Rates","CY and PY foundation budget rates\nUsed to calculate foundation budget report","Copied in from found file","Copied in FY22 rates"]
["Foundation Budget","1 district report showing build-up of foundation budget","Rates, dist435","labels"]
["Municipal Contribution","1 city/town report showing build-up of required local contribution (municipal level)","townwide contributions","labels"]
["Regional Allocation","1 city/town report showing allocation of total municipal required local contribution based on proportion of foundation budget at each district to which it belongs","localcont","labels"]
["Summary","1 district report summarizing C70 calculation and comparison to PY","aid436, disthist","labels"]
["Regional Dist Members","1 regional district report summarizing enrollment and local contribution for each member town\nChanged in FY18 to vlookup on localcont","localcont, leas","Updated sheet to present foundation enrollment and local contribution for each town-to-regional-district combination"]
["LocalCont","Results from distfrac get copied into the far right (up to 11 versions of foundation budget can be entered).  Toggle is on parameters sheet.\nData is organized in 5 row format for each city/town (municipality and its districts, blanks are 998 and total is 999).\nUsed to calculate each municipal-district combination's RLC.","found file, distfrac (allocate sheet)","Copied in FY21 foundation budget, %s, RLCs and enro."]
[]
["Comparison to FY19","2 year comparison for operating districts","aid436, disthist, localcont"]
["Townwide Contributions","Calculates municipal required local contributions","DOR (EQV, Income, MRGFs), PY file (RLCs), parameters","Copied FY21 RLCs into PY RLC column"]
["Aid436","Calculates district Ch 70 aid","disthist, localcont, frac, parameters\nStarting w/ LEA 406, in col J (target aid %), formula changes to pull from frac tab.","Minimum aid adjustment amounts copied from c70fy22_min_aid_adjustment.xlsm"]
["Frac","Calculates target aid percentage for regional districts",null,"Copied from distfrac22prelim_updated"]
["DistHist","***Don't forget to copy in target aid %s from PY\nHistorical C70 data used in summary report, and other places",null,"Copied in FY21 FB, RLC and Aid\nCopied in target aid %s from FY21\n\nupdated FY20 aid values for Belmont & Minuteman to match base aid adjustments on aid436\n"]
["Dist435","Data source for foundation budget report, shows detailed enrollment and budget columns","found22"]
[]
["Data","Source","Year","Notes"]
["Inflation","BEA website","Q3 2019 to Q3 2020 as of Dec 2020 (1.41%)","Table 1.1.9. Implicit Price Deflators for Gross Domestic Product"]
["Wage Adjustment Factor Inputs","EOLWD","Calendar Year 2019","wagesense22"]
["EQV","DOR","2020 EQV","DOR file Dec. 2020"]
["Income","DOR","2018 Income","DOR file Dec. 2020"]
["Enrollment","DESE","October 2020","found22"]
["Postgrad Enrollment","DESE-CVTE office","Fall 2020","found22"]
["MRGFs","DOR/ANF","FY22","DOR 4/2/2021"]
[]
[null,"2021-03-08"]
[null,"Enrollment change from FY22 House 1:"]
[null,"Franklin County high school students reassigned as vocational students"]

{"sheet":"parameters","index":1,"n_rows":50,"n_cols":27,"rows_kept":50,"cut":false,"hidden":true,"merged":[[4,10,4,29]]}
["Cyr","FY22",22]
["Pyr","FY21",21]
["As of","2021-06-15"]
[]
["Parameters",null,null,"Base",null,null,null,null,null,null,"Analysis of Aggregate Wealth Model Implementation"]
[null,"Which version of foundation budget? ",1,1,null,null,"FY21 C70 including Devens",5283651631.4799995]
[null,"Effort reduction",1,0,null,null,null,null,null,null,"Progress Towards Target Local Share"]
[null,"Pct downpayment on target aid share",0,0,null,null,"FY22 foundation aid increase",{"$f":"'Aid436'!L448","v":199286644.40000001}]
[null,null,null,0,null,null,null,null,null,null,null,"FY07","FY08","FY09","FY10","FY11","FY12","FY13","FY14","FY15","FY16","FY17","FY18","FY19","FY20","FY21","FY22"]
[null,null,null,null,null,null,"Minimum per pupil aid increase",{"$f":"'Aid436'!R448","v":16714836.000000218},null,null,"excess effort before effort reduction",621.084157,494.05891200000002,372.382091,228.110232,366,293.3,229.8,234.5,307.90301399999998,235.358789,299.86437000000001,151.670894,68.664220999999998,21.435137000000001,104.649236,{"$f":"'Townwide Contributions'!V361/1000000","v":93.814687000000006}]
[null,null,null,null,null,null,"Min aid adjustment increase",{"$f":"'Aid436'!U448","v":3553119.000000231},null,null,"effort reduction",124.21683139999998,123.51472800000001,122.88609003000001,34.216535,109.8,58.7,34.5,35.200000000000003,153.95150699999999,117.6793945,254.88471449999989,128.92025990000005,68.664220999999998,21.435137000000001,104.649236,{"$f":"'Townwide Contributions'!V361/1000000","v":93.814687000000006}]
[null,null,null,null,null,null,"Non-op reduction",{"$f":"'Aid436'!W448","v":31346.879999999997},null,null,"net excess after effort reduction",496.86732560000002,370.54418399999997,249.49600097000001,193.893697,256.2,{"$f":"Q10-Q11","v":234.60000000000002},{"$f":"R10-R11","v":195.3},199.3,152.08069825743701,117.482913201,44.978793475999993,22.749214023213945,0,0,0,{"$f":"'Townwide Contributions'!AC361/1000000","v":0}]
[null,null,null,null,null,null,"FY22 Chapter 70",{"$f":"'Aid436'!Y448","v":5502959666.6000013},null,null,"shortfall below target before increment",-321.45232199999998,-352.17487499999999,-359.19356299999998,-427.2,-228,-211,-200,-180.2,-162.97221500000001,-132.627218,-96.928090999999995,-103.17317,-117.254713,-207.485209,-163.71,{"$f":"'Townwide Contributions'!AA361/1000000","v":-228.99932699999999}]
[null,"Per pupil guaranteed increase",30,0,null,null,"Devens",{"$f":"308558","v":308558},null,null,"additional increments toward target",0,-19.739149000000001,-21.387588000000001,-121.2,-10.6,-10,-4.2,-3.9,-7.5630930000000003,-5.8487390000000001,-2.4742150000000001,-3.6281780000000001,-5.3203490000000002,-19.253945000000002,-9.3782169999999994,{"$f":"('Townwide Contributions'!T361/1000000*-1)+('Townwide Contributions'!W361/1000000*-1)","v":-20.199767999999999}]
[null,"Which version of mrgf? ",1,1,null,null,null,null,null,null,"net shortfall below target after increment",-321.45232199999998,-332.43572599999999,-337.80597499999999,-306,-217.4,-200.9,-195.7,-176.3,-155.409122,-126.778479,-94.453875999999994,-99.544991999999993,-111.934364,-188.23126400000001,-154.331783,{"$f":"'Townwide Contributions'!AB361/1000000","v":-208.79955899999999}]
[null,"Below effort threshold 1",2.5,2.5,null,null,"Change in C70 Appropriation",{"$f":"H13+H14-H6","v":219616593.12000179},null,null,"n of municipalities with effort too high",232,218,214,193,282,257,249,255,279,278,303,291,0,0,0,{"$f":"'Townwide Contributions'!AC364","v":0}]
[null,"Below effort threshold 2",7.5,7.5,null,null,"Percent Change",{"$f":"H16/H6","v":4.1565305292182018E-2}]
[null,"Below effort contribution increment, 5-10% under",0.01,0.01]
[null,"Below effort contribution increment, >10% under",0.02,0.02,null,null,"N of Foundation Aid Districts",{"$f":"'Aid436'!P448","v":80}]
[null,"Maximum local contribution pct of foundation",0.82499999999999996,0.82499999999999996,null,null,"N of Districts with an Aid Increase",{"$f":"'Comparison to FY21'!N331","v":318}]
[null,"Statewide target for local contribution % of foundation",0.59,0.59,null,null,"Total C70 Including Devens",{"$f":"H13+H14","v":5503268224.6000013}]
[null,"Cap contributions at fixed percentage of foundation",0.9,0.9]
[null,null,null,0]
["Eqv/income percentages"]
[]
[null,"Target effort",{"$f":"C21*localcont!K1765","v":7036473217.1184654}]
[null,"Effort based upon following percentages",{"$f":"'Townwide Contributions'!K361","v":7036473216}]
[null,"Difference  from target",{"$f":"IF(ABS(C27-C26)<10,0,C27-C26)","v":0}]
[null,"           Percentage of EQV ",3.3258370618703182E-3]
[null,"           Percentage of INCOME",{"$f":"C29*1/C34","v":1.419874795071566E-2}]
[]
[null,"Total EQV",{"$f":"'Townwide Contributions'!C361","v":1420130860400}]
[null,"Total Income",{"$f":"'Townwide Contributions'!E361","v":332643685529.04999}]
[null,"State Average % of EQV",{"$f":"C33/C32","v":0.23423453063709648}]
[]
[]
["See Progress Towards Targets"]
[]
[]
[]
[]
[null,null,null,null,null,null,null,null,null,null,"Progress Towards Target Aid Share"]
[]
[null,null,null,null,null,null,null,null,null,null,null,"FY07","FY08","FY09","FY10","FY11","FY12","FY13","FY14","FY15","FY16","FY17","FY18","FY19","FY20","FY21","FY22"]
[null,null,null,null,null,null,null,null,null,null,"aid above target",394.9,421,440.4,413.59914561056684,489.29058672761249,360.5802896250691,372.91397258755205,385.3,404.65393358144092,419.07307786449184,488.13621374028867,497.40384494550671,487.80696944632837,518.44879540449108,516.49432754833651,{"$f":"'Aid436'!AE449/1000000","v":613.17696001292984}]
[null,null,null,null,null,null,null,null,null,null,"aid below target",-176.3,-143,-105.5,-97.823632622684812,-75.730739773442338,-110.4290612110001,-84.706296922117531,-66.900000000000006,-49.399214270156875,-44.487988876901781,-13.013026762936654,-7.2026888360463408,-1.8096836867057722E-2,-1.1899810261307884E-3,-1.2838879272505514E-2,{"$f":"'Aid436'!AE450/1000000","v":-1.7719228420077125E-3}]
[]
[]
[]
[null,null,{"$f":"TEXT(effortred,\"0%\")","v":"100%"}]

{"sheet":"Index","index":2,"n_rows":464,"n_cols":10,"rows_kept":464,"cut":false,"hidden":false,"merged":[]}
["Massachusetts Department of Elementary and Secondary Education",null,null,null,null,null,null,null,null,"2021-07-16"]
[{"$f":"parameters!B1& \" Chapter 70 and Net School Spending Formula Spreadsheet\"","v":"FY22 Chapter 70 and Net School Spending Formula Spreadsheet"},null,null,null,null,null,null,null,null,""]
[null,"Select or type full district name below","LEA code"]
[{"$f":"C4","v":999},"State Total",{"$f":"VLOOKUP(B4,leas!$E$4:$F$445,2,FALSE)","v":999}]
[]
[null,"Use the drop-down menu to select a municipal or regional district  and then go to any of the first four links below.  "]
[null,"Only municipal district selections will activate the Municipal Contribution Requirement and Regional Allocation reports."]
[null,"A list of LEAs by code begins on row 26 of this sheet."]
[]
[null,"We recommend that you save this workbook to your computer before proceeding, then leave this browser, and open the workbook using Excel or My Computer."]
[]
[null,"Summary"]
[null,"Foundation Budget"]
[null,"Municipal Contribution Requirement"]
[null,"Regional Allocation"]
[]
[null,"Regional District Detail",null,"(go to this sheet to see any particular regional district's comparison of enrollment and minimum contributions to the prior year)"]
[]
[null,"There are also a number of \"hidden\" sheets which contain the underlying spreadsheet calculations."]
[null,"They can be accessed by right-clicking on any of the tabs below and choosing a sheet to unhide."]
[]
[null,"Questions or comments about Chapter 70 may be directed to:"]
[null,"Rob Hanna",null,"Robert.Hanna@mass.gov",null,null,"781-338-6525"]
[null,"Rob O'Donnell",null,"Robert.F.O'Donnell@mass.gov",null,null,"781-338-6512"]
[]
[null,"District",null,"LEA Number"]
[null,"Abington                     ",null,1]
[null,"Acton                        ",null,2]
[null,"Acton Boxborough             ",null,600]
[null,"Acushnet                     ",null,3]
[null,"Adams                        ",null,4]
[null,"Agawam                       ",null,5]
[null,"Alford                       ",null,6]
[null,"Amesbury                     ",null,7]
[null,"Amherst                      ",null,8]
[null,"Amherst Pelham               ",null,605]
[null,"Andover                      ",null,9]
[null,"Arlington                    ",null,10]
[null,"Ashburnham                   ",null,11]
[null,"Ashburnham Westminster       ",null,610]
[null,"Ashby                        ",null,12]
[null,"Ashfield                     ",null,13]
[null,"Ashland                      ",null,14]
[null,"Assabet Valley               ",null,801]
[null,"Athol                        ",null,15]
[null,"Athol Royalston              ",null,615]
[null,"Attleboro                    ",null,16]
[null,"Auburn                       ",null,17]
[null,"Avon                         ",null,18]
[null,"Ayer                         ",null,19]
[null,"Ayer Shirley",null,616]
[null,"Barnstable                   ",null,20]
[null,"Barre                        ",null,21]
[null,"Becket                       ",null,22]
[null,"Bedford                      ",null,23]
[null,"Belchertown                  ",null,24]
[null,"Bellingham                   ",null,25]
[null,"Belmont                      ",null,26]
[null,"Berkley                      ",null,27]
[null,"Berkshire Hills              ",null,618]
[null,"Berlin                       ",null,28]
[null,"Berlin Boylston              ",null,620]
[null,"Bernardston                  ",null,29]
[null,"Beverly                      ",null,30]
[null,"Billerica                    ",null,31]
[null,"Blackstone                   ",null,32]
[null,"Blackstone Millville         ",null,622]
[null,"Blackstone Valley            ",null,805]
[null,"Blandford                    ",null,33]
[null,"Blue Hills                   ",null,806]
[null,"Bolton                       ",null,34]
[null,"Boston                       ",null,35]
[null,"Bourne                       ",null,36]
[null,"Boxborough                   ",null,37]
[null,"Boxford                      ",null,38]
[null,"Boylston                     ",null,39]
[null,"Braintree                    ",null,40]
[null,"Brewster                     ",null,41]
[null,"Bridgewater                  ",null,42]
[null,"Bridgewater Raynham          ",null,625]
[null,"Brimfield                    ",null,43]
[null,"Bristol County               ",null,910]
[null,"Bristol Plymouth             ",null,810]
[null,"Brockton                     ",null,44]
[null,"Brookfield                   ",null,45]
[null,"Brookline                    ",null,46]
[null,"Buckland                     ",null,47]
[null,"Burlington                   ",null,48]
[null,"Cambridge                    ",null,49]
[null,"Canton                       ",null,50]
[null,"Cape Cod                     ",null,815]
[null,"Carlisle                     ",null,51]
[null,"Carver                       ",null,52]
[null,"Central Berkshire            ",null,635]
[null,"Charlemont                   ",null,53]
[null,"Charlton                     ",null,54]
[null,"Chatham                      ",null,55]
[null,"Chelmsford                   ",null,56]
[null,"Chelsea                      ",null,57]
[null,"Cheshire                     ",null,58]
[null,"Chester                      ",null,59]
[null,"Chesterfield                 ",null,60]
[null,"Chesterfield Goshen",null,632]
[null,"Chicopee                     ",null,61]
[null,"Chilmark                     ",null,62]
[null,"Clarksburg                   ",null,63]
[null,"Clinton                      ",null,64]
[null,"Cohasset                     ",null,65]
[null,"Colrain                      ",null,66]
[null,"Concord                      ",null,67]
[null,"Concord Carlisle             ",null,640]
[null,"Conway                       ",null,68]
[null,"Cummington                   ",null,69]
[null,"Dalton                       ",null,70]
[null,"Danvers                      ",null,71]
[null,"Dartmouth                    ",null,72]
[null,"Dedham                       ",null,73]
[null,"Deerfield                    ",null,74]
[null,"Dennis                       ",null,75]
[null,"Dennis Yarmouth              ",null,645]
[null,"Dighton                      ",null,76]
[null,"Dighton Rehoboth             ",null,650]
[null,"Douglas                      ",null,77]
[null,"Dover                        ",null,78]
[null,"Dover Sherborn               ",null,655]
[null,"Dracut                       ",null,79]
[null,"Dudley                       ",null,80]
[null,"Dudley Charlton              ",null,658]
[null,"Dunstable                    ",null,81]
[null,"Duxbury                      ",null,82]
[null,"East Bridgewater             ",null,83]
[null,"East Brookfield              ",null,84]
[null,"East Longmeadow              ",null,87]
[null,"Eastham                      ",null,85]
[null,"Easthampton                  ",null,86]
[null,"Easton                       ",null,88]
[null,"Edgartown                    ",null,89]
[null,"Egremont                     ",null,90]
[null,"Erving                       ",null,91]
[null,"Essex                        ",null,92]
[null,"Essex North Shore",null,817]
[null,"Everett                      ",null,93]
[null,"Fairhaven                    ",null,94]
[null,"Fall River                   ",null,95]
[null,"Falmouth                     ",null,96]
[null,"Farmington River",null,662]
[null,"Fitchburg                    ",null,97]
[null,"Florida                      ",null,98]
[null,"Foxborough                   ",null,99]
[null,"Framingham                   ",null,100]
[null,"Franklin                     ",null,101]
[null,"Franklin County              ",null,818]
[null,"Freetown                     ",null,102]
[null,"Freetown Lakeville           ",null,665]
[null,"Frontier                     ",null,670]
[null,"Gardner                      ",null,103]
[null,"Gateway                      ",null,672]
[null,"Gay Head                     ",null,104]
[null,"Georgetown                   ",null,105]
[null,"Gill                         ",null,106]
[null,"Gill Montague                ",null,674]
[null,"Gloucester                   ",null,107]
[null,"Goshen                       ",null,108]
[null,"Gosnold                      ",null,109]
[null,"Grafton                      ",null,110]
[null,"Granby                       ",null,111]
[null,"Granville                    ",null,112]
[null,"Great Barrington             ",null,113]
[null,"Greater Fall River           ",null,821]
[null,"Greater Lawrence             ",null,823]
[null,"Greater Lowell               ",null,828]
[null,"Greater New Bedford          ",null,825]
[null,"Greenfield                   ",null,114]
[null,"Groton                       ",null,115]
[null,"Groton Dunstable             ",null,673]
[null,"Groveland                    ",null,116]
[null,"Hadley                       ",null,117]
[null,"Halifax                      ",null,118]
[null,"Hamilton                     ",null,119]
[null,"Hamilton Wenham              ",null,675]
[null,"Hampden                      ",null,120]
[null,"Hampden Wilbraham            ",null,680]
[null,"Hampshire                    ",null,683]
[null,"Hancock                      ",null,121]
[null,"Hanover                      ",null,122]
[null,"Hanson                       ",null,123]
[null,"Hardwick                     ",null,124]
[null,"Harvard                      ",null,125]
[null,"Harwich                      ",null,126]
[null,"Hatfield                     ",null,127]
[null,"Haverhill                    ",null,128]
[null,"Hawlemont                    ",null,685]
[null,"Hawley                       ",null,129]
[null,"Heath                        ",null,130]
[null,"Hingham                      ",null,131]
[null,"Hinsdale                     ",null,132]
[null,"Holbrook                     ",null,133]
[null,"Holden                       ",null,134]
[null,"Holland                      ",null,135]
[null,"Holliston                    ",null,136]
[null,"Holyoke                      ",null,137]
[null,"Hoosac Valley",null,603]
[null,"Hopedale                     ",null,138]
[null,"Hopkinton                    ",null,139]
[null,"Hubbardston                  ",null,140]
[null,"Hudson                       ",null,141]
[null,"Hull                         ",null,142]
[null,"Huntington                   ",null,143]
[null,"Ipswich                      ",null,144]
[null,"King Philip                  ",null,690]
[null,"Kingston                     ",null,145]
[null,"Lakeville                    ",null,146]
[null,"Lancaster                    ",null,147]
[null,"Lanesborough                 ",null,148]
[null,"Lawrence                     ",null,149]
[null,"Lee                          ",null,150]
[null,"Leicester                    ",null,151]
[null,"Lenox                        ",null,152]
[null,"Leominster                   ",null,153]
[null,"Leverett                     ",null,154]
[null,"Lexington                    ",null,155]
[null,"Leyden                       ",null,156]
[null,"Lincoln                      ",null,157]
[null,"Lincoln Sudbury              ",null,695]
[null,"Littleton                    ",null,158]
[null,"Longmeadow                   ",null,159]
[null,"Lowell                       ",null,160]
[null,"Ludlow                       ",null,161]
[null,"Lunenburg                    ",null,162]
[null,"Lynn                         ",null,163]
[null,"Lynnfield                    ",null,164]
[null,"Malden                       ",null,165]
[null,"Manchester                   ",null,166]
[null,"Manchester Essex",null,698]
[null,"Mansfield                    ",null,167]
[null,"Marblehead                   ",null,168]
[null,"Marion                       ",null,169]
[null,"Marlborough                  ",null,170]
[null,"Marshfield                   ",null,171]
[null,"Marthas Vineyard             ",null,700]
[null,"Masconomet                   ",null,705]
[null,"Mashpee                      ",null,172]
[null,"Mattapoisett                 ",null,173]
[null,"Maynard                      ",null,174]
[null,"Medfield                     ",null,175]
[null,"Medford                      ",null,176]
[null,"Medway                       ",null,177]
[null,"Melrose                      ",null,178]
[null,"Mendon                       ",null,179]
[null,"Mendon Upton                 ",null,710]
[null,"Merrimac                     ",null,180]
[null,"Methuen                      ",null,181]
[null,"Middleborough                ",null,182]
[null,"Middlefield                  ",null,183]
[null,"Middleton                    ",null,184]
[null,"Milford                      ",null,185]
[null,"Millbury                     ",null,186]
[null,"Millis                       ",null,187]
[null,"Millville                    ",null,188]
[null,"Milton                       ",null,189]
[null,"Minuteman                    ",null,830]
[null,"Mohawk Trail                 ",null,717]
[null,"Monomoy",null,712]
[null,"Monroe                       ",null,190]
[null,"Monson                       ",null,191]
[null,"Montachusett                 ",null,832]
[null,"Montague                     ",null,192]
[null,"Monterey                     ",null,193]
[null,"Montgomery                   ",null,194]
[null,"Mount Greylock               ",null,715]
[null,"Mount Washington             ",null,195]
[null,"Nahant                       ",null,196]
[null,"Nantucket                    ",null,197]
[null,"Narragansett                 ",null,720]
[null,"Nashoba                      ",null,725]
[null,"Nashoba Valley               ",null,852]
[null,"Natick                       ",null,198]
[null,"Nauset                       ",null,660]
[null,"Needham                      ",null,199]
[null,"New Ashford                  ",null,200]
[null,"New Bedford                  ",null,201]
[null,"New Braintree                ",null,202]
[null,"New Marlborough              ",null,205]
[null,"New Salem                    ",null,206]
[null,"New Salem Wendell            ",null,728]
[null,"Newbury                      ",null,203]
[null,"Newburyport                  ",null,204]
[null,"Newton                       ",null,207]
[null,"Norfolk                      ",null,208]
[null,"Norfolk County               ",null,915]
[null,"North Adams                  ",null,209]
[null,"North Andover                ",null,211]
[null,"North Attleborough           ",null,212]
[null,"North Brookfield             ",null,215]
[null,"North Middlesex              ",null,735]
[null,"North Reading                ",null,217]
[null,"Northampton                  ",null,210]
[null,"Northampton Smith            ",null,406]
[null,"Northboro Southboro          ",null,730]
[null,"Northborough                 ",null,213]
[null,"Northbridge                  ",null,214]
[null,"Northeast Metropolitan       ",null,853]
[null,"Northern Berkshire           ",null,851]
[null,"Northfield                   ",null,216]
[null,"Norton                       ",null,218]
[null,"Norwell                      ",null,219]
[null,"Norwood                      ",null,220]
[null,"Oak Bluffs                   ",null,221]
[null,"Oakham                       ",null,222]
[null,"Old Colony                   ",null,855]
[null,"Old Rochester                ",null,740]
[null,"Orange                       ",null,223]
[null,"Orleans                      ",null,224]
[null,"Otis                         ",null,225]
[null,"Oxford                       ",null,226]
[null,"Palmer                       ",null,227]
[null,"Pathfinder                   ",null,860]
[null,"Paxton                       ",null,228]
[null,"Peabody                      ",null,229]
[null,"Pelham                       ",null,230]
[null,"Pembroke                     ",null,231]
[null,"Pentucket                    ",null,745]
[null,"Pepperell                    ",null,232]
[null,"Peru                         ",null,233]
[null,"Petersham                    ",null,234]
[null,"Phillipston                  ",null,235]
[null,"Pioneer                      ",null,750]
[null,"Pittsfield                   ",null,236]
[null,"Plainfield                   ",null,237]
[null,"Plainville                   ",null,238]
[null,"Plymouth                     ",null,239]
[null,"Plympton                     ",null,240]
[null,"Princeton                    ",null,241]
[null,"Provincetown                 ",null,242]
[null,"Quabbin                      ",null,753]
[null,"Quaboag",null,778]
[null,"Quincy                       ",null,243]
[null,"Ralph C Mahar                ",null,755]
[null,"Randolph                     ",null,244]
[null,"Raynham                      ",null,245]
[null,"Reading                      ",null,246]
[null,"Rehoboth                     ",null,247]
[null,"Revere                       ",null,248]
[null,"Richmond                     ",null,249]
[null,"Rochester                    ",null,250]
[null,"Rockland                     ",null,251]
[null,"Rockport                     ",null,252]
[null,"Rowe                         ",null,253]
[null,"Rowley                       ",null,254]
[null,"Royalston                    ",null,255]
[null,"Russell                      ",null,256]
[null,"Rutland                      ",null,257]
[null,"Salem                        ",null,258]
[null,"Salisbury                    ",null,259]
[null,"Sandisfield                  ",null,260]
[null,"Sandwich                     ",null,261]
[null,"Saugus                       ",null,262]
[null,"Savoy                        ",null,263]
[null,"Scituate                     ",null,264]
[null,"Seekonk                      ",null,265]
[null,"Sharon                       ",null,266]
[null,"Shawsheen Valley             ",null,871]
[null,"Sheffield                    ",null,267]
[null,"Shelburne                    ",null,268]
[null,"Sherborn                     ",null,269]
[null,"Shirley                      ",null,270]
[null,"Shrewsbury                   ",null,271]
[null,"Shutesbury                   ",null,272]
[null,"Silver Lake                  ",null,760]
[null,"Somerset                     ",null,273]
[null,"Somerset Berkley",null,763]
[null,"Somerville                   ",null,274]
[null,"South Hadley                 ",null,278]
[null,"South Middlesex              ",null,829]
[null,"South Shore                  ",null,873]
[null,"Southampton                  ",null,275]
[null,"Southborough                 ",null,276]
[null,"Southbridge                  ",null,277]
[null,"Southeastern                 ",null,872]
[null,"Southern Berkshire           ",null,765]
[null,"Southern Worcester           ",null,876]
[null,"Southwick                    ",null,279]
[null,"Southwick Tolland Granville",null,766]
[null,"Spencer                      ",null,280]
[null,"Spencer East Brookfield      ",null,767]
[null,"Springfield                  ",null,281]
[null,"Sterling                     ",null,282]
[null,"Stockbridge                  ",null,283]
[null,"Stoneham                     ",null,284]
[null,"Stoughton                    ",null,285]
[null,"Stow                         ",null,286]
[null,"Sturbridge                   ",null,287]
[null,"Sudbury                      ",null,288]
[null,"Sunderland                   ",null,289]
[null,"Sutton                       ",null,290]
[null,"Swampscott                   ",null,291]
[null,"Swansea                      ",null,292]
[null,"Tantasqua                    ",null,770]
[null,"Taunton                      ",null,293]
[null,"Templeton                    ",null,294]
[null,"Tewksbury                    ",null,295]
[null,"Tisbury                      ",null,296]
[null,"Tolland                      ",null,297]
[null,"Topsfield                    ",null,298]
[null,"Townsend                     ",null,299]
[null,"Tri County                   ",null,878]
[null,"Triton                       ",null,773]
[null,"Truro                        ",null,300]
[null,"Tyngsborough                 ",null,301]
[null,"Tyringham                    ",null,302]
[null,"Upisland",null,774]
[null,"Upper Cape Cod               ",null,879]
[null,"Upton                        ",null,303]
[null,"Uxbridge                     ",null,304]
[null,"Wachusett                    ",null,775]
[null,"Wakefield                    ",null,305]
[null,"Wales                        ",null,306]
[null,"Walpole                      ",null,307]
[null,"Waltham                      ",null,308]
[null,"Ware                         ",null,309]
[null,"Wareham                      ",null,310]
[null,"Warren                       ",null,311]
[null,"Warwick                      ",null,312]
[null,"Washington                   ",null,313]
[null,"Watertown                    ",null,314]
[null,"Wayland                      ",null,315]
[null,"Webster                      ",null,316]
[null,"Wellesley                    ",null,317]
[null,"Wellfleet                    ",null,318]
[null,"Wendell                      ",null,319]
[null,"Wenham                       ",null,320]
[null,"West Boylston                ",null,322]
[null,"West Bridgewater             ",null,323]
[null,"West Brookfield              ",null,324]
[null,"West Newbury                 ",null,329]
[null,"West Springfield             ",null,332]
[null,"West Stockbridge             ",null,333]
[null,"West Tisbury                 ",null,334]
[null,"Westborough                  ",null,321]
[null,"Westfield                    ",null,325]
[null,"Westford                     ",null,326]
[null,"Westhampton                  ",null,327]
[null,"Westminster                  ",null,328]
[null,"Weston                       ",null,330]
[null,"Westport                     ",null,331]
[null,"Westwood                     ",null,335]
[null,"Weymouth                     ",null,336]
[null,"Whately                      ",null,337]
[null,"Whitman                      ",null,338]
[null,"Whitman Hanson               ",null,780]
[null,"Whittier                     ",null,885]
[null,"Wilbraham                    ",null,339]
[null,"Williamsburg                 ",null,340]
[null,"Williamstown                 ",null,341]
[null,"Wilmington                   ",null,342]
[null,"Winchendon                   ",null,343]
[null,"Winchester                   ",null,344]
[null,"Windsor                      ",null,345]
[null,"Winthrop                     ",null,346]
[null,"Woburn",null,347]
[null,"Worcester                    ",null,348]
[null,"Worthington                  ",null,349]
[null,"Wrentham                     ",null,350]
[null,"Yarmouth                     ",null,351]

{"sheet":"MoreAboutData","index":3,"n_rows":34,"n_cols":7,"rows_kept":34,"cut":false,"hidden":false,"merged":[[26,0,27,5],[28,4,28,5],[29,0,29,5],[31,0,31,5],[14,0,14,5],[20,0,20,5],[24,0,24,5],[25,4,25,5],[30,4,30,5],[0,1,0,5],[1,1,1,5],[2,0,2,5],[3,4,3,5],[33,0,33,5],[16,0,16,5],[5,4,5,5],[10,4,10,5],[15,4,15,5],[17,4,17,5],[21,4,21,5],[6,0,7,5],[11,0,12,5],[18,0,18,5],[9,0,9,5],[32,4,32,5]]}
[null,{"$f":"CYr&\" Chapter 70 and Net School Spending Formula\"","v":"FY22 Chapter 70 and Net School Spending Formula"},"FY18 Chapter 70 and Net School Spending Formula Spreadsheet","FY18 Chapter 70 and Net School Spending Formula Spreadsheet","FY18 Chapter 70 and Net School Spending Formula Spreadsheet","FY18 Chapter 70 and Net School Spending Formula Spreadsheet","Return to Index"]
[null,"More about the data"]
["TABLE OF CONTENTS\n"]
["Index",null,null,null,"Back to the top"]
["Select the district you're interested in from the dropdown list on this sheet."]
["Foundation Budget",null,null,null,"Back to the top"]
["This report displays the foundation enrollment and foundation budget for a single district. A district’s foundation budget is updated each year and it is derived by multiplying the number of pupils in thirteen enrollment categories by cost rates in eleven functional areas. "]
[]
["Key Terms"]
["Foundation Enrollment: A count of the students for whom a school district is financially responsible on October 1st of any given year.\nInflation: Foundation budget rates are adjusted each year by a statutorily defined inflationary factor.  It affects all districts in the same way. \nWage Adjustment Factor (WAF): Gives a district credit for having higher school costs if it is located in a geographic area where average wages are higher than in other areas of the state. Calculated using the latest available average wage data supplied by the state’s Executive Office of Labor and Workforce Development (EOLWD).  \nLow Income Group: Determined based on the relative concentration of low income students served in the district. Corresponds to a foundation budget rate for low income students."]
["Municipal Contribution",null,null,null,"Back to the top"]
["This report displays the required local contribution for a single municipality. Each municipality has a target local share of its foundation budget, based on local ability to pay. The required local contribution for each municipality is based on the previous year's required contribution, and includes some transition factors so that the shift toward the target levels occurs over a period of several years."]
[]
["Key Terms"]
["Equalized Valuation (EQV): Calculated by DOR every two years. Full and fair cash value of all taxable property for each municipality.\nIncome: Derived annually by DOR from state income tax returns. Includes all forms of wage, pension, interest, business, investment, and capital gains income.\nCombined Effort Yield (CEY): Sum of property and income effort. Based on DESE-calculated property and income percentages, which, when applied to all municipalities in the Commonwealth, yields 59% of statewide foundation coming from local revenue.\nTarget Local Contribution/Share: Calculated for each municipality as an equitable share of its foundation budget based on property wealth and income.\nMunicipal Revenue Growth Factor (MRGF): Calculated each year by DOR and quantifies the most recent annual percentage change in each community's local revenues (such as the annual increase in the Proposition 2½ levy limit) that should be available for schools. "]
["Regional Allocation",null,null,null,"Back to the top"]
["This report displays the allocation of a municipality's required local contribution across the districts to which it belongs. The municipality's required contribution is allocated in direct proportion to the district's share of the municipality's foundation budget."]
["Summary",null,null,null,"Back to the top"]
["This report displays the Chapter 70 aid calculation for a single district. The aid calculation begins with each district's prior year Chapter 70 amount. The difference between each district's foundation budget and its required contribution equals foundation aid. On the right-hand side, there is a comparison to the prior year."]
["Key Terms"]
["Foundation Aid: The amount of aid needed by a district to reach its foundation budget, after factoring in this year's required local contribution. Foundation budget - Required Local Contribution = Foundation Aid\nMinimum Aid: A guaranteed per pupil aid increase over the prior year.\nRequired Net School Spending (NSS): The sum of this year's required local contribution and Chapter 70 aid. A district must spend this amount to be in compliance."]
["Regional District Members",null,null,null,"Back to the top"]
["This report displays relevant data for municipal members of a single regional district."]
["Key Terms"]
["Foundation Enrollment: Foundation enrollment for the selected district, in total and by member.\nRequired Minimum Contribution: Total required minimum contribution for the selected district, in total and by member."]
[{"$f":"\"Comparison to \"&PYr","v":"Comparison to FY21"},null,null,null,"Back to the top"]
["This report displays prior year and current year foundation enrollment, foundation budget, required local contribution and Chapter 70 aid for all operating districts."]
[]
["Rates",null,null,null,"Back to the top"]
["This sheet displays the FY22 foundation budget rates."]
["Townwide Contributions",null,null,null,"Back to the top"]
["This sheet calculates FY22 required local contributions for each municipality."]
["Aid436",null,null,null,"Back to the top"]
["This sheet calculates FY22 Chapter 70 aid for each district."]

{"sheet":"localcont","index":4,"n_rows":1766,"n_cols":93,"rows_kept":1766,"cut":false,"hidden":true,"merged":[[4,55,4,59],[5,55,5,59],[5,19,5,23],[4,43,4,47],[5,43,5,47],[4,49,4,53],[5,49,5,53],[5,25,5,29],[4,31,4,35],[5,31,5,35],[4,37,4,41],[5,37,5,41],[4,25,4,29],[5,95,5,99],[4,95,4,99],[4,61,4,65],[5,61,5,65],[4,67,4,71],[5,67,5,71],[4,85,4,89],[5,85,5,89],[4,73,4,77],[5,73,5,77],[4,79,4,83],[5,79,5,83]]}
[null,null,null,null,null,null,null,null,"c70fy21","c70fy21",null,null,null,null,"c70fy21",null,null,"c70fy21",null,null,null,null,null,null,null,"2021-02-05",null,null,null,null,null,null,null,null,null,null,null,null,null,null,null,null,null,null,null,null,null,null,null,null,null,null,null,null,null,null,null,null,null,null,null,null,null,null,null,null,null,null,null,null,null,null,null,null,null,null,null,null,null,null,null,null,null,null,null,null,null,null,null,null,"Lookup table for foundation budget scenarios",1,2]
[null,null,null,null,null,null,null,null,null,null,null,null,null,null,null,null,null,null,null,null,null,null,null,null,null,null,null,null,null,null,null,null,null,null,null,null,null,null,null,null,null,null,null,null,null,null,null,null,null,null,null,null,null,null,null,null,null,null,null,null,null,null,null,null,null,null,null,null,null,null,null,null,null,null,null,null,null,null,null,null,null,null,null,null,null,null,null,null,null,null,null,2,8]
[null,null,null,1,2,3,4,5,6,7,8,9,10,11,12,13,14,15,16,17,18,19,20,21,1,2,3,4,5,6,7,8,9,10,11,12,13,14,15,16,17,18,19,20,21,22,23,24,25,26,27,28,29,30,31,32,33,34,35,36,37,38,39,40,41,42,43,44,45,46,47,48,49,50,51,52,53,54,55,56,57,58,59,60,61,62,63,64,65,66,null,3,14]
[null,null,null,null,null,null,"lea1755",null,null,null,"found1755",null,null,"prelcont1755","pynetmin",null,null,"pyenro",null,null,null,null,"enro1755",null,null,null,null,null,null,null,null,null,null,null,null,null,null,null,null,null,null,null,null,null,null,null,null,null,null,null,null,null,null,null,null,null,null,null,null,null,null,null,null,null,null,null,null,null,null,null,null,null,null,null,null,null,null,null,null,null,null,null,null,null,null,null,null,null,null,null,null,4,20]
[null,null,null,null,null,null,null,null,null,null,null,null,null,null,null,null,null,null,null,null,null,null,null,null,null,1,null,null,null,null,null,2,null,null,null,null,null,3,null,null,null,null,null,4,null,null,null,null,null,5,null,null,null,null,null,6,null,null,null,null,null,7,null,null,null,null,null,8,null,null,null,null,null,9,null,null,null,null,null,10,null,null,null,null,null,11,null,null,null,null,null,5,26]
[null,null,null,null,null,null,null,null,null,null,null,null,null,null,null,null,null,null,null,{"$f":"parameters!$C$6","v":1},null,null,null,null,null,"1/6th SOA",null,null,null,null,null,null,null,null,null,null,null,null,null,null,null,null,null,null,null,null,null,null,null,null,null,null,null,null,null,null,null,null,null,null,null,null,null,null,null,null,null,null,null,null,null,null,null,null,null,null,null,null,null,null,null,null,null,null,null,null,null,null,null,null,null,6,32]
[null,null,null,null,null,null,null,null,{"$f":"PYr","v":"FY21"},{"$f":"PYr","v":"FY21"},{"$f":"CYr","v":"FY22"},{"$f":"CYr","v":"FY22"},{"$f":"CYr","v":"FY22"},{"$f":"CYr","v":"FY22"},{"$f":"PYr","v":"FY21"},null,null,null,null,null,null,null,null,null,null,null,null,null,null,null,null,null,null,null,null,null,null,null,null,null,null,null,null,null,null,null,null,null,null,null,null,null,null,null,null,null,null,null,null,null,null,null,null,null,null,null,null,null,null,null,null,null,null,null,null,null,null,null,null,null,null,null,null,null,null,null,null,null,null,null,null,7,38]
[null,null,null,null,null,null,null,null,"Foundation","Share of Total","Foundation","Share of Total","Townwide","Net Minimum","Net Minimum",{"$f":"PYr&\" to \"&CYr","v":"FY21 to FY22"},"Percent",{"$f":"PYr","v":"FY21"},{"$f":"CYr","v":"FY22"},null,null,null,"final","foundation",null,null,null,null,"final","foundation",null,null,null,null,"final","foundation",null,null,null,null,"final","foundation",null,null,null,null,"final","foundation",null,null,null,null,"final","foundation",null,null,null,null,"final","foundation",null,null,null,null,"final","foundation",null,null,null,null,"final","foundation",null,null,null,null,"final","foundation",null,null,null,null,"final","foundation",null,null,null,null,"final","foundation",null,8,44]
["TownLEA","Town","LEA","Order","Town","City or Town","LEA","School District","Budget","Foundation","Budget","Foundation","Contribution","Contribution","Contribution","Change","Change","Enrollment","Enrollment","Town","LEA","Order","enrollment","budget",null,"Town","LEA","Order","enrollment","budget",null,"Town","LEA","Order","enrollment","budget",null,"Town","LEA","Order","enrollment","budget",null,"Town","LEA","Order","enrollment","budget",null,"Town","LEA","Order","enrollment","budget",null,"Town","LEA","Order","enrollment","budget",null,"Town","LEA","Order","enrollment","budget",null,"Town","LEA","Order","enrollment","budget",null,"Town","LEA","Order","enrollment","budget",null,"Town","LEA","Order","enrollment","budget",null,"Town","LEA","Order","enrollment","budget",null,9,50]
[{"$f":"B10&C10","v":"00010001"},"0001","0001",1,1,"Abington                     ",1,"Abington",25332546.714959998,0.94390333228259982,{"$f":"X10","v":26529795.66124},{"$f":"IF(K14>0, K10/K14, 0)","v":0.94241197523664644},null,{"$f":"ROUND(M14*L10,0)","v":15771170},15287069,{"$f":"N10-O10","v":484101},{"$f":"IF(O10>0,P10*100/O10,IF(P10>0,100,0))","v":3.1667352322410527},2197,{"$f":"W10","v":2193},{"$f":"VLOOKUP($D10, foundoptions, VLOOKUP($T$6, foundoptcell, 2, FALSE), FALSE)","v":1},{"$f":"VLOOKUP($D10, foundoptions, VLOOKUP($T$6, foundoptcell, 2, FALSE)+1, FALSE)","v":1},{"$f":"VLOOKUP($D10, foundoptions, VLOOKUP($T$6, foundoptcell, 2, FALSE)+2, FALSE)","v":1},{"$f":"VLOOKUP($D10, foundoptions, VLOOKUP($T$6, foundoptcell, 2, FALSE)+3, FALSE)","v":2193},{"$f":"VLOOKUP($D10, foundoptions, VLOOKUP($T$6, foundoptcell, 2, FALSE)+4, FALSE)","v":26529795.66124},{"$f":"D10","v":1},1,1,1,2193,26529795.66124,null,null,null,null,null,null,null,null,null,null,null,null,null,null,null,null,null,null,null,null,null,null,null,null,null,null,null,null,null,null,null,null,null,null,null,null,null,null,null,null,null,null,null,null,null,null,null,null,null,null,null,null,null,null,null,null,null,null,null,null,null,10,56]
["00010873","0001","0873",2,1,"Abington                     ",873,"South Shore",1505526.4738478158,5.6096667717400073E-2,{"$f":"X11","v":1621157.8053457548},{"$f":"IF(K14>0, K11/K14, 0)","v":5.7588024763353583E-2},null,{"$f":"ROUND(M14*L11,0)","v":963730},908518,{"$f":"N11-O11","v":55212},6.077149819816448,84.465804065919997,{"$f":"W11","v":88.000000001100005},1,873,2,88.000000001100005,1621157.8053457548,{"$f":"D11","v":2},1,873,2,88.000000001100005,1621157.8053457548,null,null,null,null,null,null,null,null,null,null,null,null,null,null,null,null,null,null,null,null,null,null,null,null,null,null,null,null,null,null,null,null,null,null,null,null,null,null,null,null,null,null,null,null,null,null,null,null,null,null,null,null,null,null,null,null,null,null,null,null,null,11,62]
["00010998","0001","0998",3,1,"",998,"",0,0,{"$f":"X12","v":0},{"$f":"IF(K14>0, K12/K14, 0)","v":0},null,{"$f":"ROUND(M14*L12,0)","v":0},0,{"$f":"N12-O12","v":0},0,0,0,1,998,3,0,0,3,1,998,3,0,0]
["00010998","0001","0998",4,1,"",998,"",0,0,{"$f":"X13","v":0},{"$f":"IF(K14>0, K13/K14, 0)","v":0},null,{"$f":"ROUND(M14*L13,0)","v":0},0,{"$f":"N13-O13","v":0},0,0,0,1,998,4,0,0,4,1,998,4,0,0]
["00010999","0001","0999",5,1,"Abington                     ",999,"Total",26838073.188807815,0.99999999999999989,{"$f":"SUM(K10:K13)","v":28150953.466585755},{"$f":"SUM(L10:L13)","v":1},{"$f":"VLOOKUP(E14,town351,24)","v":16734900},{"$f":"SUM(N10:N13)","v":16734900},16195587,{"$f":"SUM(P10:P13)","v":539313},3.3299997091800377,2281.4658040659201,2281.0000000011,1,999,5,2281.0000000011,28150953.466585755,5,1,999,5,2281.0000000011,28150953.466585755]
["00020002","0002","0002",6,2,"Acton                        ",2,"Acton",0,0,{"$f":"X15","v":0},{"$f":"IF(K19>0, K15/K19, 0)","v":0},null,{"$f":"ROUND(M19*L15,0)","v":0},0,{"$f":"N15-O15","v":0},0,0,0,2,2,6,0,0,6,2,2,6,0,0]
["00020600","0002","0600",7,2,"Acton                        ",600,"Acton Boxborough",48408644.57233873,0.98449723163101666,48416592.184061058,{"$f":"IF(K19>0, K16/K19, 0)","v":0.97524549610155931},null,{"$f":"ROUND(M19*L16,0)","v":38962815},38561442,{"$f":"N16-O16","v":401373},1.0408661584802767,4437.9781441188807,4287.1048093695999,2,600,7,4287.1048093695999,48416592.184061058,7,2,600,7,4287.1048093695999,48416592.184061058]
["00020830","0002","0830",8,2,"Acton                        ",830,"Minuteman",762285.54001935537,1.5502768368983341E-2,1228950.7870177776,{"$f":"IF(K19>0, K17/K19, 0)","v":2.4754503898440725E-2},null,{"$f":"ROUND(M19*L17,0)","v":988987},607223,{"$f":"N17-O17","v":381764},62.870477567549315,41.000000001019998,61.000000002050001,2,830,8,61.000000002050001,1228950.7870177776,8,2,830,8,61.000000002050001,1228950.7870177776]
["00020998","0002","0998",9,2,"",998,"",0,0,0,{"$f":"IF(K19>0, K18/K19, 0)","v":0},null,{"$f":"ROUND(M19*L18,0)","v":0},0,{"$f":"N18-O18","v":0},0,0,0,2,998,9,0,0,9,2,998,9,0,0]
["00020999","0002","0999",10,2,"Acton                        ",999,"Total",49170930.112358086,1,{"$f":"SUM(K15:K18)","v":49645542.971078835},{"$f":"SUM(L15:L18)","v":1},{"$f":"VLOOKUP(E19,town351,24)","v":39951802},{"$f":"SUM(N15:N18)","v":39951802},39168665,{"$f":"SUM(P15:P18)","v":783137},{"$f":"IF(O19>0,P19*100/O19,IF(P19>0,100,0))","v":1.9993967116316065},4478.9781441199011,4348.1048093716499,2,999,10,4348.1048093716499,49645542.971078835,10,2,999,10,4348.1048093716499,49645542.971078835]
["00030003","0003","0003",11,3,"Acushnet                     ",3,"Acushnet",13990412.9,0.85591938803263901,{"$f":"X20","v":13489100.060000001},{"$f":"IF(K24>0, K20/K24, 0)","v":0.83252155170362896},null,{"$f":"ROUND(M24*L20,0)","v":7882117},7889510,{"$f":"N20-O20","v":-7393},-9.3706706753651364E-2,1292,1207,3,3,11,1207,13489100.060000001,11,3,3,11,1207,13489100.060000001]
["00030855","0003","0855",12,3,"Acushnet                     ",855,"Old Colony",2180595.9486971111,0.13340666664350437,2536404.6419625869,{"$f":"IF(K24>0, K21/K24, 0)","v":0.15654206128521966},null,{"$f":"ROUND(M24*L21,0)","v":1482103},1229687,{"$f":"N21-O21","v":252416},20.526849515364479,128.55053763239999,144.00000000198,3,855,12,144.00000000198,2536404.6419625869,12,3,855,12,144.00000000198,2536404.6419625869]
["00030910","0003","0910",13,3,"Acushnet                     ",910,"Bristol County",174470.75558835606,1.0673945323856586E-2,177199.03873530435,{"$f":"IF(K24>0, K22/K24, 0)","v":1.0936387011151507E-2},null,{"$f":"ROUND(M24*L22,0)","v":103543},98388,{"$f":"N22-O22","v":5155},5.2394600967597675,10.00000000188,9.99999999954,3,910,13,9.99999999954,177199.03873530435,13,3,910,13,9.99999999954,177199.03873530435]
["00030998","0003","0998",14,3,"",998,"",0,0,0,{"$f":"IF(K24>0, K23/K24, 0)","v":0},null,{"$f":"ROUND(M24*L23,0)","v":0},0,{"$f":"N23-O23","v":0},0,0,0,3,998,14,0,0,14,3,998,14,0,0]
["00030999","0003","0999",15,3,"Acushnet                     ",999,"Total",16345479.604285467,0.99999999999999989,{"$f":"SUM(K20:K23)","v":16202703.740697891},{"$f":"SUM(L20:L23)","v":1},{"$f":"VLOOKUP(E24,town351,24)","v":9467763},{"$f":"SUM(N20:N23)","v":9467763},9217585,{"$f":"SUM(P20:P23)","v":250178},2.7141382477080493,1430.5505376342799,1361.00000000152,3,999,15,1361.00000000152,16202703.740697891,15,3,999,15,1361.00000000152,16202703.740697891]
["00040004","0004","0004",16,4,"Adams                        ",4,"Adams",0,0,{"$f":"X25","v":0},{"$f":"IF(K29>0, K25/K29, 0)","v":0},null,{"$f":"ROUND(M29*L25,0)","v":0},0,{"$f":"N25-O25","v":0},0,0,0,4,4,16,0,0,16,4,4,16,0,0]
["00040603","0004","0603",17,4,"Adams                        ",603,"Hoosac Valley",11030366.690055666,0.8139311601323026,11141094.777293742,{"$f":"IF(K29>0, K26/K29, 0)","v":0.81326930535456632},null,{"$f":"ROUND(M29*L26,0)","v":3677626},3790093,{"$f":"N26-O26","v":-112467},-2.9673942037833898,901.70894941643996,862.48194794790004,4,603,17,862.48194794790004,11141094.777293742,17,4,603,17,862.48194794790004,11141094.777293742]
["00040851","0004","0851",18,4,"Adams                        ",851,"Northern Berkshire",2521598.4273170433,0.18606883986769737,2558051.008660255,{"$f":"IF(K29>0, K27/K29, 0)","v":0.18673069464543365},null,{"$f":"ROUND(M29*L27,0)","v":844401},866435,{"$f":"N27-O27","v":-22034},-2.5430643960597159,140.99999999917,138.00000000112999,4,851,18,138.00000000112999,2558051.008660255,18,4,851,18,138.00000000112999,2558051.008660255]
["00040998","0004","0998",19,4,"",998,"",0,0,0,{"$f":"IF(K29>0, K28/K29, 0)","v":0},null,{"$f":"ROUND(M29*L28,0)","v":0},0,{"$f":"N28-O28","v":0},0,0,0,4,998,19,0,0,19,4,998,19,0,0]
["00040999","0004","0999",20,4,"Adams                        ",999,"Total",13551965.11737271,1,{"$f":"SUM(K25:K28)","v":13699145.785953997},{"$f":"SUM(L25:L28)","v":1},{"$f":"VLOOKUP(E29,town351,24)","v":4522027},{"$f":"SUM(N25:N28)","v":4522027},4656528,{"$f":"SUM(P25:P28)","v":-134501},-2.8884396271213229,1042.70894941561,1000.48194794903,4,999,20,1000.48194794903,13699145.785953997,20,4,999,20,1000.48194794903,13699145.785953997]
["00050005","0005","0005",21,5,"Agawam                       ",5,"Agawam",42427489.500000007,1,{"$f":"X30","v":42850725.390000008},{"$f":"IF(K34>0, K30/K34, 0)","v":1},null,{"$f":"ROUND(M34*L30,0)","v":23421246},23256462,{"$f":"N30-O30","v":164784},0.70855145550514087,3623,3516,5,5,21,3516,42850725.390000008,21,5,5,21,3516,42850725.390000008]
["00050998","0005","0998",22,5,"",998,"",0,0,0,{"$f":"IF(K34>0, K31/K34, 0)","v":0},null,{"$f":"ROUND(M34*L31,0)","v":0},0,{"$f":"N31-O31","v":0},0,0,0,5,998,22,0,0,22,5,998,22,0,0]
["00050998","0005","0998",23,5,"",998,"",0,0,0,{"$f":"IF(K34>0, K32/K34, 0)","v":0},null,{"$f":"ROUND(M34*L32,0)","v":0},0,{"$f":"N32-O32","v":0},0,0,0,5,998,23,0,0,23,5,998,23,0,0]
["00050998","0005","0998",24,5,"",998,"",0,0,0,{"$f":"IF(K34>0, K33/K34, 0)","v":0},null,{"$f":"ROUND(M34*L33,0)","v":0},0,{"$f":"N33-O33","v":0},0,0,0,5,998,24,0,0,24,5,998,24,0,0]
["00050999","0005","0999",25,5,"Agawam                       ",999,"Total",42427489.500000007,1,{"$f":"SUM(K30:K33)","v":42850725.390000008},{"$f":"SUM(L30:L33)","v":1},{"$f":"VLOOKUP(E34,town351,24)","v":23421246},{"$f":"SUM(N30:N33)","v":23421246},23256462,{"$f":"SUM(P30:P33)","v":164784},0.70855145550514087,3623,3516,5,999,25,3516,42850725.390000008,25,5,999,25,3516,42850725.390000008]
["00060006","0006","0006",26,6,"Alford                       ",6,"Alford",0,0,{"$f":"X35","v":0},{"$f":"IF(K39>0, K35/K39, 0)","v":0},null,{"$f":"ROUND(M39*L35,0)","v":0},0,{"$f":"N35-O35","v":0},0,0,0,6,6,26,0,0,26,6,6,26,0,0]
["00060765","0006","0765",27,6,"Alford                       ",765,"Southern Berkshire",249430.32307747169,1,243289.80463418583,{"$f":"IF(K39>0, K36/K39, 0)","v":1},null,{"$f":"ROUND(M39*L36,0)","v":200714},205780,{"$f":"N36-O36","v":-5066},-2.4618524637962871,21.270893368780001,20.450581392699998,6,765,27,20.450581392699998,243289.80463418583,27,6,765,27,20.450581392699998,243289.80463418583]
["00060998","0006","0998",28,6,"",998,"",0,0,0,{"$f":"IF(K39>0, K37/K39, 0)","v":0},null,{"$f":"ROUND(M39*L37,0)","v":0},0,{"$f":"N37-O37","v":0},0,0,0,6,998,28,0,0,28,6,998,28,0,0]
["00060998","0006","0998",29,6,"",998,"",0,0,0,{"$f":"IF(K39>0, K38/K39, 0)","v":0},null,{"$f":"ROUND(M39*L38,0)","v":0},0,{"$f":"N38-O38","v":0},0,0,0,6,998,29,0,0,29,6,998,29,0,0]
["00060999","0006","0999",30,6,"Alford                       ",999,"Total",249430.32307747169,1,{"$f":"SUM(K35:K38)","v":243289.80463418583},{"$f":"SUM(L35:L38)","v":1},{"$f":"VLOOKUP(E39,town351,24)","v":200714},{"$f":"SUM(N35:N38)","v":200714},205780,{"$f":"SUM(P35:P38)","v":-5066},-2.4618524637962871,21.270893368780001,20.450581392699998,6,999,30,20.450581392699998,243289.80463418583,30,6,999,30,20.450581392699998,243289.80463418583]
["00070007","0007","0007",31,7,"Amesbury                     ",7,"Amesbury",22553274.579999998,0.93065052409463411,{"$f":"X40","v":22473928.549999997},{"$f":"IF(K44>0, K40/K44, 0)","v":0.9198310235336522},null,{"$f":"ROUND(M44*L40,0)","v":16512866},16118764,{"$f":"N40-O40","v":394102},2.4449889582104434,2036,1930,7,7,31,1930,22473928.549999997,31,7,7,31,1930,22473928.549999997]
["00070885","0007","0885",32,7,"Amesbury                     ",885,"Whittier",1680606.9857365394,6.9349475905366012E-2,1958742.2069216794,{"$f":"IF(K44>0, K41/K44, 0)","v":8.0168976466347866E-2},null,{"$f":"ROUND(M44*L41,0)","v":1439199},1201125,{"$f":"N41-O41","v":238074},19.820917889478615,95.000000006080001,106.00000000567999,7,885,32,106.00000000567999,1958742.2069216794,32,7,885,32,106.00000000567999,1958742.2069216794]
["00070998","0007","0998",33,7,"",998,null,0,0,0,{"$f":"IF(K44>0, K42/K44, 0)","v":0},null,{"$f":"ROUND(M44*L42,0)","v":0},0,{"$f":"N42-O42","v":0},0,0,0,7,998,33,0,0,33,7,998,33,0,0]
["00070998","0007","0998",34,7,"",998,"",0,0,0,{"$f":"IF(K44>0, K43/K44, 0)","v":0},null,{"$f":"ROUND(M44*L43,0)","v":0},0,{"$f":"N43-O43","v":0},0,0,0,7,998,34,0,0,34,7,998,34,0,0]
["00070999","0007","0999",35,7,"Amesbury                     ",999,"Total",24233881.565736536,1.0000000000000002,{"$f":"SUM(K40:K43)","v":24432670.756921675},{"$f":"SUM(L40:L43)","v":1},{"$f":"VLOOKUP(E44,town351,24)","v":17952065},{"$f":"SUM(N40:N43)","v":17952065},17319889,{"$f":"SUM(P40:P43)","v":632176},3.6500002973460166,2131.00000000608,2036.00000000568,7,999,35,2036.00000000568,24432670.756921675,35,7,999,35,2036.00000000568,24432670.756921675]
["00080008","0008","0008",36,8,"Amherst                      ",8,"Amherst",12512134.57,0.47771099693016389,{"$f":"X45","v":12765297.700000001},{"$f":"IF(K49>0, K45/K49, 0)","v":0.48563324428678284},null,{"$f":"ROUND(M49*L45,0)","v":9889673},9645618,{"$f":"N45-O45","v":244055},2.5302163116971874,1097,1045,8,8,36,1045,12765297.700000001,36,8,8,36,1045,12765297.700000001]
["00080605","0008","0605",37,8,"Amherst                      ",605,"Amherst Pelham",13679715.000984726,0.52228900306983606,13520583.363903571,{"$f":"IF(K49>0, K46/K49, 0)","v":0.51436675571321722},null,{"$f":"ROUND(M49*L46,0)","v":10474817},10545708,{"$f":"N46-O46","v":-70891},-0.672226084773066,1130.9999999998599,1078.8111361978999,8,605,37,1078.8111361978999,13520583.363903571,37,8,605,37,1078.8111361978999,13520583.363903571]
["00080998","0008","0998",38,8,"",998,"",0,0,0,{"$f":"IF(K49>0, K47/K49, 0)","v":0},null,{"$f":"ROUND(M49*L47,0)","v":0},0,{"$f":"N47-O47","v":0},0,0,0,8,998,38,0,0,38,8,998,38,0,0]
["00080998","0008","0998",39,8,"",998,"",0,0,0,{"$f":"IF(K49>0, K48/K49, 0)","v":0},null,{"$f":"ROUND(M49*L48,0)","v":0},0,{"$f":"N48-O48","v":0},0,0,0,8,998,39,0,0,39,8,998,39,0,0]
["00080999","0008","0999",40,8,"Amherst                      ",999,"Total",26191849.570984729,1,{"$f":"SUM(K45:K48)","v":26285881.06390357},{"$f":"SUM(L45:L48)","v":1},{"$f":"VLOOKUP(E49,town351,24)","v":20364490},{"$f":"SUM(N45:N48)","v":20364490},20191326,{"$f":"SUM(P45:P48)","v":173164},0.85761579006747746,2227.9999999998599,2123.8111361978999,8,999,40,2123.8111361978999,26285881.06390357,40,8,999,40,2123.8111361978999,26285881.06390357]
["00090009","0009","0009",41,9,"Andover                      ",9,"Andover",64237434.876240008,0.98983464140633148,{"$f":"X50","v":64739542.478479996},{"$f":"IF(K54>0, K50/K54, 0)","v":0.98474322625387678},null,{"$f":"ROUND(M54*L50,0)","v":53410123},52995883,{"$f":"N50-O50","v":414240},0.78164562330247422,5740,5628,9,9,41,5628,64739542.478479996,41,9,9,41,5628,64739542.478479996]
["00090823","0009","0823",42,9,"Andover                      ",823,"Greater Lawrence",659702.67491006502,1.0165358593668421E-2,1003019.3919476161,{"$f":"IF(K54>0, K51/K54, 0)","v":1.5256773746123138E-2},null,{"$f":"ROUND(M54*L51,0)","v":827491},544255,{"$f":"N51-O51","v":283236},52.041046935719471,32.000000002139998,46.000000006800001,9,823,42,46.000000006800001,1003019.3919476161,42,9,823,42,46.000000006800001,1003019.3919476161]
["00090998","0009","0998",43,9,"",998,null,0,0,0,{"$f":"IF(K54>0, K52/K54, 0)","v":0},null,{"$f":"ROUND(M54*L52,0)","v":0},0,{"$f":"N52-O52","v":0},0,0,0,9,998,43,0,0,43,9,998,43,0,0]
["00090998","0009","0998",44,9,"",998,"",0,0,0,{"$f":"IF(K54>0, K53/K54, 0)","v":0},null,{"$f":"ROUND(M54*L53,0)","v":0},0,{"$f":"N53-O53","v":0},0,0,0,9,998,44,0,0,44,9,998,44,0,0]
["00090999","0009","0999",45,9,"Andover                      ",999,"Total",64897137.551150076,0.99999999999999989,{"$f":"SUM(K50:K53)","v":65742561.870427616},{"$f":"SUM(L50:L53)","v":0.99999999999999989},{"$f":"VLOOKUP(E54,town351,24)","v":54237614},{"$f":"SUM(N50:N53)","v":54237614},53540138,{"$f":"SUM(P50:P53)","v":697476},1.3027161043178483,5772.00000000214,5674.0000000068003,9,999,45,5674.0000000068003,65742561.870427616,45,9,999,45,5674.0000000068003,65742561.870427616]
["00100010","0010","0010",46,10,"Arlington                    ",10,"Arlington",64895656.34093,0.96011501266618249,{"$f":"X55","v":64412505.935059994},{"$f":"IF(K59>0, K55/K59, 0)","v":0.94838585046964663},null,{"$f":"ROUND(M59*L55,0)","v":51220285},50343449,{"$f":"N55-O55","v":876836},1.7417082409272355,6092,5836,10,10,46,5836,64412505.935059994,46,10,10,46,5836,64412505.935059994]
["00100830","0010","0830",47,10,"Arlington                    ",830,"Minuteman",2695887.8853378613,3.9884987333817533E-2,3505531.7530418648,{"$f":"IF(K59>0, K56/K59, 0)","v":5.161414953035337E-2},null,{"$f":"ROUND(M59*L56,0)","v":2787570},2091362,{"$f":"N56-O56","v":696208},33.289693510736065,144.99999999841998,174.00000000134,10,830,47,174.00000000134,3505531.7530418648,47,10,830,47,174.00000000134,3505531.7530418648]
["00100998","0010","0998",48,10,"",998,"",0,0,0,{"$f":"IF(K59>0, K57/K59, 0)","v":0},null,{"$f":"ROUND(M59*L57,0)","v":0},0,{"$f":"N57-O57","v":0},0,0,0,10,998,48,0,0,48,10,998,48,0,0]
["00100998","0010","0998",49,10,"",998,"",0,0,0,{"$f":"IF(K59>0, K58/K59, 0)","v":0},null,{"$f":"ROUND(M59*L58,0)","v":0},0,{"$f":"N58-O58","v":0},0,0,0,10,998,49,0,0,49,10,998,49,0,0]
["00100999","0010","0999",50,10,"Arlington                    ",999,"Total",67591544.226267859,1,{"$f":"SUM(K55:K58)","v":67918037.688101858},{"$f":"SUM(L55:L58)","v":1},{"$f":"VLOOKUP(E59,town351,24)","v":54007855},{"$f":"SUM(N55:N58)","v":54007855},52434811,{"$f":"SUM(P55:P58)","v":1573044},2.9999993706471071,6236.9999999984202,6010.0000000013397,10,999,50,6010.0000000013397,67918037.688101858,50,10,999,50,6010.0000000013397,67918037.688101858]
["00110011","0011","0011",51,11,"Ashburnham                   ",11,"Ashburnham",0,0,{"$f":"X60","v":0},{"$f":"IF(K64>0, K60/K64, 0)","v":0},null,{"$f":"ROUND(M64*L60,0)","v":0},0,{"$f":"N60-O60","v":0},0,0,0,11,11,51,0,0,51,11,11,51,0,0]
["00110610","0011","0610",52,11,"Ashburnham                   ",610,"Ashburnham Westminster",11216451.870728679,0.90650101387235082,11231931.145298973,{"$f":"IF(K64>0, K61/K64, 0)","v":0.90053221387397897},null,{"$f":"ROUND(M64*L61,0)","v":5107875},5065245,{"$f":"N61-O61","v":42630},0.8416177302381227,1040.3471502489599,1003.1105047672801,11,610,52,1003.1105047672801,11231931.145298973,52,11,610,52,1003.1105047672801,11231931.145298973]
["00110832","0011","0832",53,11,"Ashburnham                   ",832,"Montachusett",1156895.4273782887,9.3498986127649161E-2,1240616.7239000474,{"$f":"IF(K64>0, K62/K64, 0)","v":9.9467786126021016E-2},null,{"$f":"ROUND(M64*L62,0)","v":564187},522443,{"$f":"N62-O62","v":41744},7.9901539498088789,66.999999996300005,69.999999992970004,11,832,53,69.999999992970004,1240616.7239000474,53,11,832,53,69.999999992970004,1240616.7239000474]
["00110998","0011","0998",54,11,"",998,"",0,0,0,{"$f":"IF(K64>0, K63/K64, 0)","v":0},null,{"$f":"ROUND(M64*L63,0)","v":0},0,{"$f":"N63-O63","v":0},0,0,0,11,998,54,0,0,54,11,998,54,0,0]
["00110999","0011","0999",55,11,"Ashburnham                   ",999,"Total",12373347.298106968,1,{"$f":"SUM(K60:K63)","v":12472547.869199021},{"$f":"SUM(L60:L63)","v":1},{"$f":"VLOOKUP(E64,town351,24)","v":5672062},{"$f":"SUM(N60:N63)","v":5672062},5587688,{"$f":"SUM(P60:P63)","v":84374},1.5099984107917264,1107.3471502452599,1073.11050476025,11,999,55,1073.11050476025,12472547.869199021,55,11,999,55,1073.11050476025,12472547.869199021]
["00120012","0012","0012",56,12,"Ashby                        ",12,"Ashby",0,0,{"$f":"X65","v":0},{"$f":"IF(K69>0, K65/K69, 0)","v":0},null,{"$f":"ROUND(M69*L65,0)","v":0},0,{"$f":"N65-O65","v":0},0,0,0,12,12,56,0,0,56,12,12,56,0,0]
["00120735","0012","0735",57,12,"Ashby                        ",735,"North Middlesex",3861597.2551470348,0.86467628358438919,3906150.5175227756,{"$f":"IF(K69>0, K66/K69, 0)","v":0.85625423067635908},null,{"$f":"ROUND(M69*L66,0)","v":2313778},2247102,{"$f":"N66-O66","v":66676},2.967199530773414,357.13714463783998,349.01628990188999,12,735,57,349.01628990188999,3906150.5175227756,57,12,735,57,349.01628990188999,3906150.5175227756]
["00120832","0012","0832",58,12,"Ashby                        ",832,"Montachusett",604348.35763113457,0.13532371641561089,655754.55410214327,{"$f":"IF(K69>0, K67/K69, 0)","v":0.14374576932364094},null,{"$f":"ROUND(M69*L67,0)","v":388431},351676,{"$f":"N67-O67","v":36755},10.451381385138593,35.000000000699998,36.999999998580002,12,832,58,36.999999998580002,655754.55410214327,58,12,832,58,36.999999998580002,655754.55410214327]
["00120998","0012","0998",59,12,"",998,"",0,0,0,{"$f":"IF(K69>0, K68/K69, 0)","v":0},null,{"$f":"ROUND(M69*L68,0)","v":0},0,{"$f":"N68-O68","v":0},0,0,0,12,998,59,0,0,59,12,998,59,0,0]
["00120999","0012","0999",60,12,"Ashby                        ",999,"Total",4465945.6127781691,1,{"$f":"SUM(K65:K68)","v":4561905.0716249188},{"$f":"SUM(L65:L68)","v":1},{"$f":"VLOOKUP(E69,town351,24)","v":2702209},{"$f":"SUM(N65:N68)","v":2702209},2598778,{"$f":"SUM(P65:P68)","v":103431},3.9799859780250566,392.13714463854001,386.01628990046999,12,999,60,386.01628990046999,4561905.0716249188,60,12,999,60,386.01628990046999,4561905.0716249188]
["00130013","0013","0013",61,13,"Ashfield                     ",13,"Ashfield",117262.39999999999,6.3207172137195927E-2,{"$f":"X70","v":134575.02000000002},{"$f":"IF(K74>0, K70/K74, 0)","v":7.6608231605205482E-2},null,{"$f":"ROUND(M74*L70,0)","v":111024},96741,{"$f":"N70-O70","v":14283},14.764164108289144,8,9,13,13,61,9,134575.02000000002,61,13,13,61,9,134575.02000000002]
["00130717","0013","0717",62,13,"Ashfield                     ",717,"Mohawk Trail",1737944.7867014259,0.93679282786280416,1622090.2518668906,{"$f":"IF(K74>0, K71/K74, 0)","v":0.92339176839479453},null,{"$f":"ROUND(M74*L71,0)","v":1338225},1433805,{"$f":"N71-O71","v":-95580},-6.666178455229268,150.16666666966998,136.80856124064002,13,717,62,136.80856124064002,1622090.2518668906,62,13,717,62,136.80856124064002,1622090.2518668906]
["00130998","0013","0998",63,13,"",998,"",0,0,0,{"$f":"IF(K74>0, K72/K74, 0)","v":0},null,{"$f":"ROUND(M74*L72,0)","v":0},0,{"$f":"N72-O72","v":0},0,0,0,13,998,63,0,0,63,13,998,63,0,0]
["00130998","0013","0998",64,13,"",998,"",0,0,0,{"$f":"IF(K74>0, K73/K74, 0)","v":0},null,{"$f":"ROUND(M74*L73,0)","v":0},0,{"$f":"N73-O73","v":0},0,0,0,13,998,64,0,0,64,13,998,64,0,0]
[{"$f":"B74&C74","v":"00130999"},"0013","0999",65,13,"Ashfield                     ",999,"Total",1855207.1867014258,1,{"$f":"SUM(K70:K73)","v":1756665.2718668906},{"$f":"SUM(L70:L73)","v":1},{"$f":"VLOOKUP(E74,town351,24)","v":1449249},{"$f":"SUM(N70:N73)","v":1449249},1530546,{"$f":"SUM(P70:P73)","v":-81297},-5.3116338875146516,158.16666666966998,145.80856124064002,{"$f":"VLOOKUP($D74, foundoptions, VLOOKUP($T$6, foundoptcell, 2, FALSE), FALSE)","v":13},{"$f":"VLOOKUP($D74, foundoptions, VLOOKUP($T$6, foundoptcell, 2, FALSE)+1, FALSE)","v":999},{"$f":"VLOOKUP($D74, foundoptions, VLOOKUP($T$6, foundoptcell, 2, FALSE)+2, FALSE)","v":65},{"$f":"VLOOKUP($D74, foundoptions, VLOOKUP($T$6, foundoptcell, 2, FALSE)+3, FALSE)","v":145.80856124064002},{"$f":"VLOOKUP($D74, foundoptions, VLOOKUP($T$6, foundoptcell, 2, FALSE)+4, FALSE)","v":1756665.2718668906},65,13,999,65,145.80856124064002,1756665.2718668906]
["00140014","0014","0014",66,14,"Ashland                      ",14,"Ashland",30232498.719999995,0.96730294529912642,{"$f":"X75","v":30147061.930000003},{"$f":"IF(K79>0, K75/K79, 0)","v":0.9593346107904519},null,{"$f":"ROUND(M79*L75,0)","v":22838677},22294876,{"$f":"N75-O75","v":543801},2.4391299597270693,2786,{"$f":"W75","v":2694},14,14,66,2694,30147061.930000003,{"$f":"D75","v":66},14,14,66,2694,30147061.930000003]
["00140829","0014","0829",67,14,"Ashland                      ",829,"South Middlesex",1021927.6899712586,3.2697054700873605E-2,1277908.6599384502,{"$f":"IF(K79>0, K76/K79, 0)","v":4.0665389209548118E-2},null,{"$f":"ROUND(M79*L76,0)","v":968112},753618,{"$f":"N76-O76","v":214494},28.461899795387051,53.066499374700001,63.077205879950007,14,829,67,63.077205879950007,1277908.6599384502,67,14,829,67,63.077205879950007,1277908.6599384502]
["00140998","0014","0998",68,14,"",998,"",0,0,0,{"$f":"IF(K79>0, K77/K79, 0)","v":0},null,{"$f":"ROUND(M79*L77,0)","v":0},0,{"$f":"N77-O77","v":0},0,0,0,14,998,68,0,0,68,14,998,68,0,0]
["00140998","0014","0998",69,14,"",998,"",0,0,0,{"$f":"IF(K79>0, K78/K79, 0)","v":0},null,{"$f":"ROUND(M79*L78,0)","v":0},0,{"$f":"N78-O78","v":0},0,0,0,14,998,69,0,0,69,14,998,69,0,0]
["00140999","0014","0999",70,14,"Ashland                      ",999,"Total",31254426.409971252,1,{"$f":"SUM(K75:K78)","v":31424970.589938454},{"$f":"SUM(L75:L78)","v":1},{"$f":"VLOOKUP(E79,town351,24)","v":23806789},{"$f":"SUM(N75:N78)","v":23806789},23048494,{"$f":"SUM(P75:P78)","v":758295},3.2899980363142163,2839.0664993747,2757.0772058799498,14,999,70,2757.0772058799498,31424970.589938454,70,14,999,70,2757.0772058799498,31424970.589938454]
["00150015","0015","0015",71,15,"Athol                        ",15,"Athol",0,0,{"$f":"X80","v":0},{"$f":"IF(K84>0, K80/K84, 0)","v":0},null,{"$f":"ROUND(M84*L80,0)","v":0},0,{"$f":"N80-O80","v":0},{"$f":"IF(O80>0,P80*100/O80,IF(P80>0,100,0))","v":0},0,0,15,15,71,0,0,71,15,15,71,0,0]
["00150615","0015","0615",72,15,"Athol                        ",615,"Athol Royalston",20152139.444374729,0.91529965194686191,19986457.482347284,{"$f":"IF(K84>0, K81/K84, 0)","v":0.90892288807934729},null,{"$f":"ROUND(M84*L81,0)","v":3259668},3085382,{"$f":"N81-O81","v":174286},{"$f":"IF(O81>0,P81*100/O81,IF(P81>0,100,0))","v":5.6487656957874259},1641.5401661967001,1547.5639810482601,15,615,72,1547.5639810482601,19986457.482347284,72,15,615,72,1547.5639810482601,19986457.482347284]
["00150832","0015","0832",73,15,"Athol                        ",832,"Montachusett",1864846.3607773844,8.4700348053138072E-2,2002709.8545880166,{"$f":"IF(K84>0, K82/K84, 0)","v":9.1077111920652681E-2},null,{"$f":"ROUND(M84*L82,0)","v":326630},285516,{"$f":"N82-O82","v":41114},{"$f":"IF(O82>0,P82*100/O82,IF(P82>0,100,0))","v":14.399893526107117},108.0000000072,113.00000000514001,15,832,73,113.00000000514001,2002709.8545880166,73,15,832,73,113.00000000514001,2002709.8545880166]
["00150998","0015","0998",74,15,"",998,"",0,0,0,{"$f":"IF(K84>0, K83/K84, 0)","v":0},null,{"$f":"ROUND(M84*L83,0)","v":0},0,{"$f":"N83-O83","v":0},{"$f":"IF(O83>0,P83*100/O83,IF(P83>0,100,0))","v":0},0,0,15,998,74,0,0,74,15,998,74,0,0]
["00150999","0015","0999",75,15,"Athol                        ",999,"Total",22016985.805152114,1,{"$f":"SUM(K80:K83)","v":21989167.3369353},{"$f":"SUM(L80:L83)","v":1},{"$f":"VLOOKUP(E84,town351,24)","v":3586298},{"$f":"SUM(N80:N83)","v":3586298},3370898,{"$f":"SUM(P80:P83)","v":215400},{"$f":"IF(O84>0,P84*100/O84,IF(P84>0,100,0))","v":6.3899886617749928},1749.5401662039001,1660.5639810534001,15,999,75,1660.5639810534001,21989167.3369353,75,15,999,75,1660.5639810534001,21989167.3369353]
["00160016","0016","0016",76,16,"Attleboro                    ",16,"Attleboro",79207276.429999992,0.99474129329003169,{"$f":"X85","v":80741145.670000002},{"$f":"IF(K89>0, K85/K89, 0)","v":0.99562986989057989},null,{"$f":"ROUND(M89*L85,0)","v":39217459},38037529,{"$f":"N85-O85","v":1179930},3.1020153806520923,6383,6188,16,16,76,6188,80741145.670000002,76,16,16,76,6188,80741145.670000002]
["00160910","0016","0910",77,16,"Attleboro                    ",910,"Bristol County",418729.81331972458,5.2587067099683178E-3,354398.0774706087,{"$f":"IF(K89>0, K86/K89, 0)","v":4.3701301094200068E-3},null,{"$f":"ROUND(M89*L86,0)","v":172138},201086,{"$f":"N86-O86","v":-28948},-14.395830639626826,23.999999999220002,19.99999999908,16,910,77,19.99999999908,354398.0774706087,77,16,910,77,19.99999999908,354398.0774706087]
["00160998","0016","0998",78,16,"",998,"",0,0,0,{"$f":"IF(K89>0, K87/K89, 0)","v":0},null,{"$f":"ROUND(M89*L87,0)","v":0},0,{"$f":"N87-O87","v":0},0,0,0,16,998,78,0,0,78,16,998,78,0,0]
["00160998","0016","0998",79,16,"",998,"",0,0,0,{"$f":"IF(K89>0, K88/K89, 0)","v":0},null,{"$f":"ROUND(M89*L88,0)","v":0},0,{"$f":"N88-O88","v":0},0,0,0,16,998,79,0,0,79,16,998,79,0,0]
["00160999","0016","0999",80,16,"Attleboro                    ",999,"Total",79626006.24331972,1,{"$f":"SUM(K85:K88)","v":81095543.747470617},{"$f":"SUM(L85:L88)","v":0.99999999999999989},{"$f":"VLOOKUP(E89,town351,24)","v":39389597},{"$f":"SUM(N85:N88)","v":39389597},38238615,{"$f":"SUM(P85:P88)","v":1150982},3.0099991853784451,6406.9999999992197,6207.9999999990796,16,999,80,6207.9999999990796,81095543.747470617,80,16,999,80,6207.9999999990796,81095543.747470617]
["00170017","0017","0017",81,17,"Auburn                       ",17,"Auburn",27521289.789999999,0.9469501209624348,{"$f":"X90","v":27367440.740000006},{"$f":"IF(K94>0, K90/K94, 0)","v":0.93935135182200802},null,{"$f":"ROUND(M94*L90,0)","v":15568309},15309359,{"$f":"N90-O90","v":258950},1.69144900188179,2511,2421,17,17,81,2421,27367440.740000006,81,17,17,81,2421,27367440.740000006]
["00170876","0017","0876",82,17,"Auburn                       ",876,"Southern Worcester",1541793.0279510429,5.3049879037565216E-2,1766962.1507999999,{"$f":"IF(K94>0, K91/K94, 0)","v":6.0648648177991905E-2},null,{"$f":"ROUND(M94*L91,0)","v":1005158},857658,{"$f":"N91-O91","v":147500},17.197997336933835,89.999999994959992,99,17,876,82,99,1766962.1507999999,82,17,876,82,99,1766962.1507999999]
["00170998","0017","0998",83,17,"",998,"",0,0,0,{"$f":"IF(K94>0, K92/K94, 0)","v":0},null,{"$f":"ROUND(M94*L92,0)","v":0},0,{"$f":"N92-O92","v":0},0,0,0,17,998,83,0,0,83,17,998,83,0,0]
["00170998","0017","0998",84,17,"",998,"",0,0,0,{"$f":"IF(K94>0, K93/K94, 0)","v":0},null,{"$f":"ROUND(M94*L93,0)","v":0},0,{"$f":"N93-O93","v":0},0,0,0,17,998,84,0,0,84,17,998,84,0,0]
["00170999","0017","0999",85,17,"Auburn                       ",999,"Total",29063082.817951042,1,{"$f":"SUM(K90:K93)","v":29134402.890800007},{"$f":"SUM(L90:L93)","v":0.99999999999999989},{"$f":"VLOOKUP(E94,town351,24)","v":16573467},{"$f":"SUM(N90:N93)","v":16573467},16167017,{"$f":"SUM(P90:P93)","v":406450},2.5140692312007835,2600.99999999496,2520,17,999,85,2520,29134402.890800007,85,17,999,85,2520,29134402.890800007]
["00180018","0018","0018",86,18,"Avon                         ",18,"Avon",7045846.1099999985,0.85228008510575048,{"$f":"X95","v":7016240.1299999999},{"$f":"IF(K99>0, K95/K99, 0)","v":0.85278203293323862},null,{"$f":"ROUND(M99*L95,0)","v":4689958},4598969,{"$f":"N95-O95","v":90989},1.978465173389949,586,560,18,18,86,560,7016240.1299999999,86,18,18,86,560,7016240.1299999999]
["00180806","0018","0806",87,18,"Avon                         ",806,"Blue Hills",1149360.1570550108,0.13902897638960832,1118469.0579899827,{"$f":"IF(K99>0, K96/K99, 0)","v":0.13594322591202729},null,{"$f":"ROUND(M99*L96,0)","v":747633},750211,{"$f":"N96-O96","v":-2578},-0.34363665688719575,62.999999999969994,59.00000000384,18,806,87,59.00000000384,1118469.0579899827,87,18,806,87,59.00000000384,1118469.0579899827]
["00180915","0018","0915",88,18,"Avon                         ",915,"Norfolk County",71848.464284575864,8.6909385046412546E-3,92762.614935862206,{"$f":"IF(K99>0, K97/K99, 0)","v":1.1274741154734078E-2},null,{"$f":"ROUND(M99*L97,0)","v":62007},46897,{"$f":"N97-O97","v":15110},32.219544960232,4.0000000011000001,4.9999999991999999,18,915,88,4.9999999991999999,92762.614935862206,88,18,915,88,4.9999999991999999,92762.614935862206]
["00180998","0018","0998",89,18,"",998,"",0,0,0,{"$f":"IF(K99>0, K98/K99, 0)","v":0},null,{"$f":"ROUND(M99*L98,0)","v":0},0,{"$f":"N98-O98","v":0},0,0,0,18,998,89,0,0,89,18,998,89,0,0]
["00180999","0018","0999",90,18,"Avon                         ",999,"Total",8267054.731339585,1,{"$f":"SUM(K95:K98)","v":8227471.8029258447},{"$f":"SUM(L95:L98)","v":1},{"$f":"VLOOKUP(E99,town351,24)","v":5499598},{"$f":"SUM(N95:N98)","v":5499598},5396077,{"$f":"SUM(P95:P98)","v":103521},1.9184492734258611,653.00000000107002,624.00000000303999,18,999,90,624.00000000303999,8227471.8029258447,90,18,999,90,624.00000000303999,8227471.8029258447]
["00190019","0019","0019",91,19,"Ayer                         ",19,"Ayer",0,0,{"$f":"X100","v":0},{"$f":"IF(K104>0, K100/K104, 0)","v":0},null,{"$f":"ROUND(M104*L100,0)","v":0},0,{"$f":"N100-O100","v":0},0,0,0,19,19,91,0,0,91,19,19,91,0,0]
["00190616","0019","0616",92,19,"Ayer                         ",616,"Ayer Shirley",10850922.736254763,0.91926232955203591,10929926.094392963,{"$f":"IF(K104>0, K101/K104, 0)","v":0.91253704113150824},null,{"$f":"ROUND(M104*L101,0)","v":8156896},7768754,{"$f":"N101-O101","v":388142},4.9961937268189986,961.13811500027998,928.60679611236003,19,616,92,928.60679611236003,10929926.094392963,92,19,616,92,928.60679611236003,10929926.094392963]
["00190852","0019","0852",93,19,"Ayer                         ",852,"Nashoba Valley",953023.08793941094,8.073767044796408E-2,1047588.9014260611,{"$f":"IF(K104>0, K102/K104, 0)","v":8.7462958868491633E-2},null,{"$f":"ROUND(M104*L102,0)","v":781805},682320,{"$f":"N102-O102","v":99485},14.580402157345526,55.000000001819998,58.999999997369997,19,852,93,58.999999997369997,1047588.9014260611,93,19,852,93,58.999999997369997,1047588.9014260611]
["00190998","0019","0998",94,19,"",998,"",0,0,0,{"$f":"IF(K104>0, K103/K104, 0)","v":0},null,{"$f":"ROUND(M104*L103,0)","v":0},0,{"$f":"N103-O103","v":0},0,0,0,19,998,94,0,0,94,19,998,94,0,0]
["00190999","0019","0999",95,19,"Ayer                         ",999,"Total",11803945.824194174,1,{"$f":"SUM(K100:K103)","v":11977514.995819025},{"$f":"SUM(L100:L103)","v":0.99999999999999989},{"$f":"VLOOKUP(E104,town351,24)","v":8938701},{"$f":"SUM(N100:N103)","v":8938701},8451074,{"$f":"SUM(P100:P103)","v":487627},5.7700003573510301,1016.1381150021,987.60679610973,19,999,95,987.60679610973,11977514.995819025,95,19,999,95,987.60679610973,11977514.995819025]
["00200020","0020","0020",96,20,"Barnstable                   ",20,"Barnstable",65773443.140000001,0.94838058322615382,{"$f":"X105","v":65238260.339999989},{"$f":"IF(K109>0, K105/K109, 0)","v":0.95323497302493509},null,{"$f":"ROUND(M109*L105,0)","v":53821564},52762387,{"$f":"N105-O105","v":1059177},2.0074470853640491,5405,5147,20,20,96,5147,65238260.339999989,96,20,20,96,5147,65238260.339999989]
["00200815","0020","0815",97,20,"Barnstable                   ",815,"Cape Cod",3579983.4308553161,5.1619416773846148E-2,3200542.4590381682,{"$f":"IF(K109>0, K106/K109, 0)","v":4.6765026975064926E-2},null,{"$f":"ROUND(M109*L106,0)","v":2640448},2871805,{"$f":"N106-O106","v":-231357},-8.0561528376752598,194.9999999993,169.99999999758001,20,815,97,169.99999999758001,3200542.4590381682,97,20,815,97,169.99999999758001,3200542.4590381682]
["00200998","0020","0998",98,20,"",998,"",0,0,0,{"$f":"IF(K109>0, K107/K109, 0)","v":0},null,{"$f":"ROUND(M109*L107,0)","v":0},0,{"$f":"N107-O107","v":0},0,0,0,20,998,98,0,0,98,20,998,98,0,0]
["00200998","0020","0998",99,20,"",998,"",0,0,0,{"$f":"IF(K109>0, K108/K109, 0)","v":0},null,{"$f":"ROUND(M109*L108,0)","v":0},0,{"$f":"N108-O108","v":0},0,0,0,20,998,99,0,0,99,20,998,99,0,0]
["00200999","0020","0999",100,20,"Barnstable                   ",999,"Total",69353426.570855319,1,{"$f":"SUM(K105:K108)","v":68438802.799038157},{"$f":"SUM(L105:L108)","v":1},{"$f":"VLOOKUP(E109,town351,24)","v":56462012},{"$f":"SUM(N105:N108)","v":56462012},55634192,{"$f":"SUM(P105:P108)","v":827820},1.4879698441562699,5599.9999999992997,5316.9999999975798,20,999,100,5316.9999999975798,68438802.799038157,100,20,999,100,5316.9999999975798,68438802.799038157]
["00210021","0021","0021",101,21,"Barre                        ",21,"Barre",0,0,{"$f":"X110","v":0},{"$f":"IF(K114>0, K110/K114, 0)","v":0},null,{"$f":"ROUND(M114*L110,0)","v":0},0,{"$f":"N110-O110","v":0},0,0,0,21,21,101,0,0,101,21,21,101,0,0]
["00210753","0021","0753",102,21,"Barre                        ",753,"Quabbin",8321416.3819046365,0.89923931854318706,8480820.0998631455,{"$f":"IF(K114>0, K111/K114, 0)","v":0.90883502186568743},null,{"$f":"ROUND(M114*L111,0)","v":3434842},3314067,{"$f":"N111-O111","v":120775},3.6443137691543352,734.59384615086003,719.10447760469992,21,753,102,719.10447760469992,8480820.0998631455,102,21,753,102,719.10447760469992,8480820.0998631455]
["00210832","0021","0832",103,21,"Barre                        ",832,"Montachusett",932423.18038869218,0.10076068145681304,850708.61087406753,{"$f":"IF(K114>0, K112/K114, 0)","v":9.1164978134312513E-2},null,{"$f":"ROUND(M114*L112,0)","v":344548},371345,{"$f":"N112-O112","v":-26797},-7.2162005682047692,54.0000000036,48.000000006449994,21,832,103,48.000000006449994,850708.61087406753,103,21,832,103,48.000000006449994,850708.61087406753]
["00210998","0021","0998",104,21,"",998,"",0,0,0,{"$f":"IF(K114>0, K113/K114, 0)","v":0},null,{"$f":"ROUND(M114*L113,0)","v":0},0,{"$f":"N113-O113","v":0},0,0,0,21,998,104,0,0,104,21,998,104,0,0]
["00210999","0021","0999",105,21,"Barre                        ",999,"Total",9253839.5622933283,1,{"$f":"SUM(K110:K113)","v":9331528.7107372135},{"$f":"SUM(L110:L113)","v":1},{"$f":"VLOOKUP(E114,town351,24)","v":3779390},{"$f":"SUM(N110:N113)","v":3779390},3685412,{"$f":"SUM(P110:P113)","v":93978},2.54999983719595,788.59384615446004,767.10447761114995,21,999,105,767.10447761114995,9331528.7107372135,105,21,999,105,767.10447761114995,9331528.7107372135]
["00220022","0022","0022",106,22,"Becket                       ",22,"Becket",188943.82,8.0114183853096682E-2,{"$f":"X115","v":207582.36000000004},{"$f":"IF(K119>0, K115/K119, 0)","v":8.0836302549463765E-2},null,{"$f":"ROUND(M119*L115,0)","v":163858},155879,{"$f":"N115-O115","v":7979},5.118713874222955,11,12,22,22,106,12,207582.36000000004,106,22,22,106,12,207582.36000000004]
["00220635","0022","0635",107,22,"Becket                       ",635,"Central Berkshire",2169487.7449581032,0.91988581614690335,2360352.5090271966,{"$f":"IF(K119>0, K116/K119, 0)","v":0.91916369745053628},null,{"$f":"ROUND(M119*L116,0)","v":1863178},1789827,{"$f":"N116-O116","v":73351},4.0982173137403786,187.04651163432001,194.43489582828002,22,635,107,194.43489582828002,2360352.5090271966,107,22,635,107,194.43489582828002,2360352.5090271966]
["00220998","0022","0998",108,22,"",998,"",0,0,0,{"$f":"IF(K119>0, K117/K119, 0)","v":0},null,{"$f":"ROUND(M119*L117,0)","v":0},0,{"$f":"N117-O117","v":0},0,0,0,22,998,108,0,0,108,22,998,108,0,0]
["00220998","0022","0998",109,22,"",998,"",0,0,0,{"$f":"IF(K119>0, K118/K119, 0)","v":0},null,{"$f":"ROUND(M119*L118,0)","v":0},0,{"$f":"N118-O118","v":0},0,0,0,22,998,109,0,0,109,22,998,109,0,0]
["00220999","0022","0999",110,22,"Becket                       ",999,"Total",2358431.564958103,1,{"$f":"SUM(K115:K118)","v":2567934.8690271964},{"$f":"SUM(L115:L118)","v":1},{"$f":"VLOOKUP(E119,town351,24)","v":2027036},{"$f":"SUM(N115:N118)","v":2027036},1945706,{"$f":"SUM(P115:P118)","v":81330},4.1799737473184537,198.04651163432001,206.43489582828002,22,999,110,206.43489582828002,2567934.8690271964,110,22,999,110,206.43489582828002,2567934.8690271964]
["00230023","0023","0023",111,23,"Bedford                      ",23,"Bedford",30502691.57316,0.98159815436346853,{"$f":"X120","v":30729462.661080003},{"$f":"IF(K124>0, K120/K124, 0)","v":0.97767566292958286},null,{"$f":"ROUND(M124*L120,0)","v":25351806},25097492,{"$f":"N120-O120","v":254314},1.013304436953302,2707,2649,23,23,111,2649,30729462.661080003,111,23,23,111,2649,30729462.661080003]
["00230871","0023","0871",112,23,"Bedford                      ",871,"Shawsheen Valley",571828.52202081191,1.8401845636531449E-2,701679.41010530875,{"$f":"IF(K124>0, K121/K124, 0)","v":2.2324337070417099E-2},null,{"$f":"ROUND(M124*L121,0)","v":578886},470498,{"$f":"N121-O121","v":108388},23.036867319308477,34.000000004249998,40.999999994299998,23,871,112,40.999999994299998,701679.41010530875,112,23,871,112,40.999999994299998,701679.41010530875]
["00230998","0023","0998",113,23,"",998,null,0,0,0,{"$f":"IF(K124>0, K122/K124, 0)","v":0},null,{"$f":"ROUND(M124*L122,0)","v":0},0,{"$f":"N122-O122","v":0},0,0,0,23,998,113,0,0,113,23,998,113,0,0]
["00230998","0023","0998",114,23,"",998,"",0,0,0,{"$f":"IF(K124>0, K123/K124, 0)","v":0},null,{"$f":"ROUND(M124*L123,0)","v":0},0,{"$f":"N123-O123","v":0},0,0,0,23,998,114,0,0,114,23,998,114,0,0]
["00230999","0023","0999",115,23,"Bedford                      ",999,"Total",31074520.095180813,1,{"$f":"SUM(K120:K123)","v":31431142.071185313},{"$f":"SUM(L120:L123)","v":1},{"$f":"VLOOKUP(E124,town351,24)","v":25930692},{"$f":"SUM(N120:N123)","v":25930692},25567990,{"$f":"SUM(P120:P123)","v":362702},1.4185784647131041,2741.0000000042501,2689.9999999943002,23,999,115,2689.9999999943002,31431142.071185313,115,23,999,115,2689.9999999943002,31431142.071185313]
["00240024","0024","0024",116,24,"Belchertown                  ",24,"Belchertown",24726417.459999997,0.94195518471343975,{"$f":"X125","v":24800115.190000001},{"$f":"IF(K129>0, K125/K129, 0)","v":0.9402693379650785},null,{"$f":"ROUND(M129*L125,0)","v":12857028},12418125,{"$f":"N125-O125","v":438903},3.5343741506869999,2278,2204,24,24,116,2204,24800115.190000001,116,24,24,116,2204,24800115.190000001]
["00240860","0024","0860",117,24,"Belchertown                  ",860,"Pathfinder",1523682.1851569356,5.8044815286560282E-2,1575428.697958912,{"$f":"IF(K129>0, K126/K129, 0)","v":5.9730662034921451E-2},null,{"$f":"ROUND(M129*L126,0)","v":816743},765225,{"$f":"N126-O126","v":51518},6.7323989676239018,83.999999998159993,83.99999999952,24,860,117,83.99999999952,1575428.697958912,117,24,860,117,83.99999999952,1575428.697958912]
["00240998","0024","0998",118,24,"",998,"",0,0,0,{"$f":"IF(K129>0, K127/K129, 0)","v":0},null,{"$f":"ROUND(M129*L127,0)","v":0},0,{"$f":"N127-O127","v":0},0,0,0,24,998,118,0,0,118,24,998,118,0,0]
["00240998","0024","0998",119,24,"",998,"",0,0,0,{"$f":"IF(K129>0, K128/K129, 0)","v":0},null,{"$f":"ROUND(M129*L128,0)","v":0},0,{"$f":"N128-O128","v":0},0,0,0,24,998,119,0,0,119,24,998,119,0,0]
["00240999","0024","0999",120,24,"Belchertown                  ",999,"Total",26250099.645156931,1,{"$f":"SUM(K125:K128)","v":26375543.887958914},{"$f":"SUM(L125:L128)","v":1},{"$f":"VLOOKUP(E129,town351,24)","v":13673771},{"$f":"SUM(N125:N128)","v":13673771},13183350,{"$f":"SUM(P125:P128)","v":490421},3.7200028824236631,2361.9999999981601,2287.9999999995198,24,999,120,2287.9999999995198,26375543.887958914,120,24,999,120,2287.9999999995198,26375543.887958914]
["00250025","0025","0025",121,25,"Bellingham                   ",25,"Bellingham",24676853.43,0.93959150737064046,{"$f":"X130","v":24805882.760000002},{"$f":"IF(K134>0, K130/K134, 0)","v":0.93913072787389218},null,{"$f":"ROUND(M134*L130,0)","v":17397231},16772086,{"$f":"N130-O130","v":625145},3.7272942673916649,2247,2184,25,25,121,2184,24805882.760000002,121,25,25,121,2184,24805882.760000002]
["00250805","0025","0805",122,25,"Bellingham                   ",805,"Blackstone Valley",1119516.4769155812,4.2626511400865409E-2,1181072.4252639951,{"$f":"IF(K134>0, K131/K134, 0)","v":4.4714450081919148E-2},null,{"$f":"ROUND(M134*L131,0)","v":828327},760900,{"$f":"N131-O131","v":67427},8.861479826521224,68.000000004360004,70.00000000015001,25,805,122,70.00000000015001,1181072.4252639951,122,25,805,122,70.00000000015001,1181072.4252639951]
["00250915","0025","0915",123,25,"Bellingham                   ",915,"Norfolk County",467015.01772670267,1.7781981228494045E-2,426708.02875765529,{"$f":"IF(K134>0, K132/K134, 0)","v":1.6154822044188784E-2},null,{"$f":"ROUND(M134*L132,0)","v":299265},317416,{"$f":"N132-O132","v":-18151},-5.7183632835143783,26.000000000300002,22.99999999916,25,915,123,22.99999999916,426708.02875765529,123,25,915,123,22.99999999916,426708.02875765529]
["00250998","0025","0998",124,25,"",998,"",0,0,0,{"$f":"IF(K134>0, K133/K134, 0)","v":0},null,{"$f":"ROUND(M134*L133,0)","v":0},0,{"$f":"N133-O133","v":0},0,0,0,25,998,124,0,0,124,25,998,124,0,0]
["00250999","0025","0999",125,25,"Bellingham                   ",999,"Total",26263384.924642287,0.99999999999999989,{"$f":"SUM(K130:K133)","v":26413663.214021649},{"$f":"SUM(L130:L133)","v":1},{"$f":"VLOOKUP(E134,town351,24)","v":18524823},{"$f":"SUM(N130:N133)","v":18524823},17850402,{"$f":"SUM(P130:P133)","v":674421},3.7781838190534867,2341.0000000046603,2276.9999999993101,25,999,125,2276.9999999993101,26413663.214021649,125,25,999,125,2276.9999999993101,26413663.214021649]
["00260026","0026","0026",126,26,"Belmont                      ",26,"Belmont",50418107.66032999,1,{"$f":"X135","v":50694465.246789992},{"$f":"IF(K139>0, K135/K139, 0)","v":1},null,{"$f":"ROUND(M139*L135,0)","v":40824828},40662179,{"$f":"N135-O135","v":162649},0.40000069843773006,4638,4534,26,26,126,4534,50694465.246789992,126,26,26,126,4534,50694465.246789992]
["00260830","0026","0830",127,26,null,998,null,0,0,0,{"$f":"IF(K139>0, K136/K139, 0)","v":0},null,{"$f":"ROUND(M139*L136,0)","v":0},0,{"$f":"N136-O136","v":0},0,0,0,26,830,127,0,0,127,26,830,127,0,0]
["00260998","0026","0998",128,26,"",998,"",0,0,0,{"$f":"IF(K139>0, K137/K139, 0)","v":0},null,{"$f":"ROUND(M139*L137,0)","v":0},0,{"$f":"N137-O137","v":0},0,0,0,26,998,128,0,0,128,26,998,128,0,0]
[{"$f":"B138&C138","v":"00260998"},"0026","0998",129,26,"",998,"",0,0,0,{"$f":"IF(K139>0, K138/K139, 0)","v":0},null,{"$f":"ROUND(M139*L138,0)","v":0},0,{"$f":"N138-O138","v":0},0,0,0,{"$f":"VLOOKUP($D138, foundoptions, VLOOKUP($T$6, foundoptcell, 2, FALSE), FALSE)","v":26},{"$f":"VLOOKUP($D138, foundoptions, VLOOKUP($T$6, foundoptcell, 2, FALSE)+1, FALSE)","v":998},{"$f":"VLOOKUP($D138, foundoptions, VLOOKUP($T$6, foundoptcell, 2, FALSE)+2, FALSE)","v":129},{"$f":"VLOOKUP($D138, foundoptions, VLOOKUP($T$6, foundoptcell, 2, FALSE)+3, FALSE)","v":0},{"$f":"VLOOKUP($D138, foundoptions, VLOOKUP($T$6, foundoptcell, 2, FALSE)+4, FALSE)","v":0},129,26,998,129,0,0]
["00260999","0026","0999",130,26,"Belmont                      ",999,"Total",50418107.66032999,1,{"$f":"SUM(K135:K138)","v":50694465.246789992},{"$f":"SUM(L135:L138)","v":1},{"$f":"VLOOKUP(E139,town351,24)","v":40824828},{"$f":"SUM(N135:N138)","v":40824828},40662179,{"$f":"SUM(P135:P138)","v":162649},0.40000069843773006,4638,{"$f":"W139","v":4534},26,999,130,4534,50694465.246789992,{"$f":"D139","v":130},26,999,130,4534,50694465.246789992]
["00270027","0027","0027",131,27,"Berkley                      ",27,"Berkley",8014902.1800000006,0.61500311305205979,{"$f":"X140","v":7950531.7800000003},{"$f":"IF(K144>0, K140/K144, 0)","v":0.6016397336149546},null,{"$f":"ROUND(M144*L140,0)","v":4249272},4170576,{"$f":"N140-O140","v":78696},1.886933603415931,764,733,27,27,131,733,7950531.7800000003,131,27,27,131,733,7950531.7800000003]
["00270763","0027","0763",132,27,"Berkley                      ",763,"Somerset Berkley",3435010.9757180614,0.26357682177408698,3388681.4554681033,{"$f":"IF(K144>0, K141/K144, 0)","v":0.25643132617901016},null,{"$f":"ROUND(M144*L141,0)","v":1811128},1787417,{"$f":"N141-O141","v":23711},1.3265511069884643,286.00000000182001,274.53620352000002,27,763,132,274.53620352000002,3388681.4554681033,132,27,763,132,274.53620352000002,3388681.4554681033]
["00270810","0027","0810",133,27,"Berkley                      ",810,"Bristol Plymouth",1390464.3136397963,0.10669373902156226,1716079.4204915462,{"$f":"IF(K144>0, K142/K144, 0)","v":0.12986069284118243},null,{"$f":"ROUND(M144*L142,0)","v":917182},723532,{"$f":"N142-O142","v":193650},26.764538403277257,80.299177268419996,95.281273126249999,27,810,133,95.281273126249999,1716079.4204915462,133,27,810,133,95.281273126249999,1716079.4204915462]
["00270910","0027","0910",134,27,"Berkley                      ",910,"Bristol County",191917.83110762169,1.4726326152290829E-2,159479.1348414669,{"$f":"IF(K144>0, K143/K144, 0)","v":1.2068247364852815E-2},null,{"$f":"ROUND(M144*L143,0)","v":85236},99865,{"$f":"N143-O143","v":-14629},-14.648775847393981,10.9999999998,8.9999999984399999,27,910,134,8.9999999984399999,159479.1348414669,134,27,910,134,8.9999999984399999,159479.1348414669]
["00270999","0027","0999",135,27,"Berkley                      ",999,"Total",13032295.300465481,0.99999999999999989,{"$f":"SUM(K140:K143)","v":13214771.790801117},{"$f":"SUM(L140:L143)","v":0.99999999999999989},{"$f":"VLOOKUP(E144,town351,24)","v":7062818},{"$f":"SUM(N140:N143)","v":7062818},6781390,{"$f":"SUM(P140:P143)","v":281428},{"$f":"IF(O144>0,P144*100/O144,IF(P144>0,100,0))","v":4.1500046450653922},1141.2991772700398,1111.81747664469,27,999,135,1111.81747664469,13214771.790801117,135,27,999,135,1111.81747664469,13214771.790801117]
["00280028","0028","0028",136,28,"Berlin                       ",28,"Berlin",0,0,{"$f":"X145","v":0},{"$f":"IF(K149>0, K145/K149, 0)","v":0},null,{"$f":"ROUND(M149*L145,0)","v":0},0,{"$f":"N145-O145","v":0},0,0,0,28,28,136,0,0,136,28,28,136,0,0]
["00280620","0028","0620",137,28,"Berlin                       ",620,"Berlin Boylston",3478424.1159614702,0.86575882464117315,3808665.7655362594,{"$f":"IF(K149>0, K146/K149, 0)","v":0.86728972997322484},null,{"$f":"ROUND(M149*L146,0)","v":3018513},2869700,{"$f":"N146-O146","v":148813},5.1856640066905948,326.93514643949999,347.86368260633003,28,620,137,347.86368260633003,3808665.7655362594,137,28,620,137,347.86368260633003,3808665.7655362594]
["00280801","0028","0801",138,28,"Berlin                       ",801,"Assabet Valley",539350.83123950812,0.13424117535882693,582791.47638662264,{"$f":"IF(K149>0, K147/K149, 0)","v":0.13271027002677507},null,{"$f":"ROUND(M149*L147,0)","v":461885},444964,{"$f":"N147-O147","v":16921},3.8027795507052256,28.99999999656,29.999999999970001,28,801,138,29.999999999970001,582791.47638662264,138,28,801,138,29.999999999970001,582791.47638662264]
["00280998","0028","0998",139,28,"",998,"",0,0,0,{"$f":"IF(K149>0, K148/K149, 0)","v":0},null,{"$f":"ROUND(M149*L148,0)","v":0},0,{"$f":"N148-O148","v":0},0,0,0,28,998,139,0,0,139,28,998,139,0,0]
["00280999","0028","0999",140,28,"Berlin                       ",999,"Total",4017774.9472009782,1,{"$f":"SUM(K145:K148)","v":4391457.2419228824},{"$f":"SUM(L145:L148)","v":0.99999999999999989},{"$f":"VLOOKUP(E149,town351,24)","v":3480398},{"$f":"SUM(N145:N148)","v":3480398},3314664,{"$f":"SUM(P145:P148)","v":165734},5.0000241351762957,355.93514643605999,377.86368260630002,28,999,140,377.86368260630002,4391457.2419228824,140,28,999,140,377.86368260630002,4391457.2419228824]
["00290029","0029","0029",141,29,"Bernardston                  ",29,"Bernardston",0,0,{"$f":"X150","v":0},{"$f":"IF(K154>0, K150/K154, 0)","v":0},null,{"$f":"ROUND(M154*L150,0)","v":0},0,{"$f":"N150-O150","v":0},0,0,0,29,29,141,0,0,141,29,29,141,0,0]
["00290750","0029","0750",142,29,"Bernardston                  ",750,"Pioneer",2656656.3626554338,0.83961394432714598,2729706.169472733,{"$f":"IF(K154>0, K151/K154, 0)","v":0.80004872165687069},null,{"$f":"ROUND(M154*L151,0)","v":1396855},1426701,{"$f":"N151-O151","v":-29846},-2.0919590019212153,235.80386329960001,231.50160771732001,29,750,142,231.50160771732001,2729706.169472733,142,29,750,142,231.50160771732001,2729706.169472733]
["00290818","0029","0818",143,29,"Bernardston                  ",818,"Franklin County",507483.99090246082,0.16038605567285413,682218.74907424569,{"$f":"IF(K154>0, K152/K154, 0)","v":0.19995127834312929},null,{"$f":"ROUND(M154*L152,0)","v":349108},272533,{"$f":"N152-O152","v":76575},28.097514796373282,27.9999999986,35.999999998759996,29,818,143,35.999999998759996,682218.74907424569,143,29,818,143,35.999999998759996,682218.74907424569]
["00290998","0029","0998",144,29,"",998,"",0,0,0,{"$f":"IF(K154>0, K153/K154, 0)","v":0},null,{"$f":"ROUND(M154*L153,0)","v":0},0,{"$f":"N153-O153","v":0},0,0,0,29,998,144,0,0,144,29,998,144,0,0]
["00290999","0029","0999",145,29,"Bernardston                  ",999,"Total",3164140.3535578945,1,{"$f":"SUM(K150:K153)","v":3411924.9185469788},{"$f":"SUM(L150:L153)","v":1},{"$f":"VLOOKUP(E154,town351,24)","v":1745963},{"$f":"SUM(N150:N153)","v":1745963},1699234,{"$f":"SUM(P150:P153)","v":46729},2.7500038252530259,263.80386329819999,267.50160771608,29,999,145,267.50160771608,3411924.9185469788,145,29,999,145,267.50160771608,3411924.9185469788]
["00300030","0030","0030",146,30,"Beverly                      ",30,"Beverly",51866271.119999997,0.96164457185662555,{"$f":"X155","v":53925726.18999999},{"$f":"IF(K159>0, K155/K159, 0)","v":0.96246249964398412},null,{"$f":"ROUND(M159*L155,0)","v":43334812},41749093,{"$f":"N155-O155","v":1585719},3.7982118557641478,4570,4613,30,30,146,4613,53925726.18999999,146,30,30,146,4613,53925726.18999999]
["00300817","0030","0817",147,30,"Beverly                      ",817,"Essex North Shore",2068698.8657016344,3.8355428143374407E-2,2103185.2844181526,{"$f":"IF(K159>0, K156/K159, 0)","v":3.7537500356015871E-2},null,{"$f":"ROUND(M159*L156,0)","v":1690124},1665173,{"$f":"N156-O156","v":24951},1.498402868650885,120.9999999951,115.99999999875,30,817,147,115.99999999875,2103185.2844181526,147,30,817,147,115.99999999875,2103185.2844181526]
["00300998","0030","0998",148,30,"",998,null,0,0,0,{"$f":"IF(K159>0, K157/K159, 0)","v":0},null,{"$f":"ROUND(M159*L157,0)","v":0},0,{"$f":"N157-O157","v":0},0,0,0,30,998,148,0,0,148,30,998,148,0,0]
["00300998","0030","0998",149,30,"",998,"",0,0,0,{"$f":"IF(K159>0, K158/K159, 0)","v":0},null,{"$f":"ROUND(M159*L158,0)","v":0},0,{"$f":"N158-O158","v":0},0,0,0,30,998,149,0,0,149,30,998,149,0,0]
["00300999","0030","0999",150,30,"Beverly                      ",999,"Total",53934969.985701635,1,{"$f":"SUM(K155:K158)","v":56028911.474418141},{"$f":"SUM(L155:L158)","v":1},{"$f":"VLOOKUP(E159,town351,24)","v":45024936},{"$f":"SUM(N155:N158)","v":45024936},43414266,{"$f":"SUM(P155:P158)","v":1610670},3.7100016846996793,4690.9999999950996,4728.9999999987504,30,999,150,4728.9999999987504,56028911.474418141,150,30,999,150,4728.9999999987504,56028911.474418141]
["00310031","0031","0031",151,31,"Billerica                    ",31,"Billerica",52647471.612599999,0.85825261494674787,{"$f":"X160","v":52245953.957079992},{"$f":"IF(K164>0, K160/K164, 0)","v":0.85757610917662341},null,{"$f":"ROUND(M164*L160,0)","v":43102912},41417136,{"$f":"N160-O160","v":1685776},4.0702379807237277,4866,4694,31,31,151,4694,52245953.957079992,151,31,31,151,4694,52245953.957079992]
["00310871","0031","0871",152,31,"Billerica                    ",871,"Shawsheen Valley",8695157.2308514398,0.1417473850532521,8676864.9018110503,{"$f":"IF(K164>0, K161/K164, 0)","v":0.14242389082337667},null,{"$f":"ROUND(M164*L161,0)","v":7158414},6840376,{"$f":"N161-O161","v":318038},4.6494227802682193,517.00000000199998,507.00000000199998,31,871,152,507.00000000199998,8676864.9018110503,152,31,871,152,507.00000000199998,8676864.9018110503]
["00310998","0031","0998",153,31,"",998,null,0,0,0,{"$f":"IF(K164>0, K162/K164, 0)","v":0},null,{"$f":"ROUND(M164*L162,0)","v":0},0,{"$f":"N162-O162","v":0},0,0,0,31,998,153,0,0,153,31,998,153,0,0]
["00310998","0031","0998",154,31,"",998,"",0,0,0,{"$f":"IF(K164>0, K163/K164, 0)","v":0},null,{"$f":"ROUND(M164*L163,0)","v":0},0,{"$f":"N163-O163","v":0},0,0,0,31,998,154,0,0,154,31,998,154,0,0]
["00310999","0031","0999",155,31,"Billerica                    ",999,"Total",61342628.84345144,1,{"$f":"SUM(K160:K163)","v":60922818.85889104},{"$f":"SUM(L160:L163)","v":1},{"$f":"VLOOKUP(E164,town351,24)","v":50261326},{"$f":"SUM(N160:N163)","v":50261326},48257512,{"$f":"SUM(P160:P163)","v":2003814},4.1523359098993744,5383.000000002,5201.000000002,31,999,155,5201.000000002,60922818.85889104,155,31,999,155,5201.000000002,60922818.85889104]
["00320032","0032","0032",156,32,"Blackstone                   ",32,"Blackstone",408810.81999999995,2.5445762434576431E-2,{"$f":"X165","v":446826.83999999991},{"$f":"IF(K169>0, K165/K169, 0)","v":2.7587239290371799E-2},null,{"$f":"ROUND(M169*L165,0)","v":218589},197411,{"$f":"N165-O165","v":21178},10.7278723070143,26,28,32,32,156,28,446826.83999999991,156,32,32,156,28,446826.83999999991]
["00320622","0032","0622",157,32,"Blackstone                   ",622,"Blackstone Millville",14224835.217833772,0.88540165748057864,14467732.749324907,{"$f":"IF(K169>0, K166/K169, 0)","v":0.89324268288085584},null,{"$f":"ROUND(M169*L166,0)","v":7077649},6869052,{"$f":"N166-O166","v":208597},3.0367654808844073,1279.89473683662,1254.77031801475,32,622,157,1254.77031801475,14467732.749324907,157,32,622,157,1254.77031801475,14467732.749324907]
["00320805","0032","0805",158,32,"Blackstone                   ",805,"Blackstone Valley",1432322.5512817218,8.9152580084844904E-2,1282307.2046622194,{"$f":"IF(K169>0, K167/K169, 0)","v":7.9170077828772362E-2},null,{"$f":"ROUND(M169*L167,0)","v":627308},691656,{"$f":"N167-O167","v":-64348},-9.3034687763859498,87.000000001560011,76.000000005490008,32,805,158,76.000000005490008,1282307.2046622194,158,32,805,158,76.000000005490008,1282307.2046622194]
["00320998","0032","0998",159,32,"",998,"",0,0,0,{"$f":"IF(K169>0, K168/K169, 0)","v":0},null,{"$f":"ROUND(M169*L168,0)","v":0},0,{"$f":"N168-O168","v":0},0,0,0,32,998,159,0,0,159,32,998,159,0,0]
["00320999","0032","0999",160,32,"Blackstone                   ",999,"Total",16065968.589115495,1,{"$f":"SUM(K165:K168)","v":16196866.793987125},{"$f":"SUM(L165:L168)","v":1},{"$f":"VLOOKUP(E169,town351,24)","v":7923545},{"$f":"SUM(N165:N168)","v":7923546},7758119,{"$f":"SUM(P165:P168)","v":165427},2.1323081020025603,1392.8947368381801,1358.77031802024,32,999,160,1358.77031802024,16196866.793987125,160,32,999,160,1358.77031802024,16196866.793987125]
["00330033","0033","0033",161,33,"Blandford                    ",33,"Blandford",102604.6,7.2954906933033331E-2,{"$f":"X170","v":149527.79999999999},{"$f":"IF(K174>0, K170/K174, 0)","v":0.11302595097180636},null,{"$f":"ROUND(M174*L170,0)","v":123360},84649,{"$f":"N170-O170","v":38711},45.731195879455164,7,10,33,33,161,10,149527.79999999999,161,33,33,161,10,149527.79999999999]
["00330672","0033","0672",162,33,"Blandford                    ",672,"Gateway",1303806.6245963478,0.92704509306696659,1173423.2454399874,{"$f":"IF(K174>0, K171/K174, 0)","v":0.88697404902819355},null,{"$f":"ROUND(M174*L171,0)","v":968075},1075640,{"$f":"N171-O171","v":-107565},-10.000092967907479,110.36860067875999,95.409836067000001,33,672,162,95.409836067000001,1173423.2454399874,162,33,672,162,95.409836067000001,1173423.2454399874]
["00330998","0033","0998",163,33,"",998,"",0,0,0,{"$f":"IF(K174>0, K172/K174, 0)","v":0},null,{"$f":"ROUND(M174*L172,0)","v":0},0,{"$f":"N172-O172","v":0},0,0,0,33,998,163,0,0,163,33,998,163,0,0]
["00330998","0033","0998",164,33,"",998,"",0,0,0,{"$f":"IF(K174>0, K173/K174, 0)","v":0},null,{"$f":"ROUND(M174*L173,0)","v":0},0,{"$f":"N173-O173","v":0},0,0,0,33,998,164,0,0,164,33,998,164,0,0]
["00330999","0033","0999",165,33,"Blandford                    ",999,"Total",1406411.2245963479,0.99999999999999989,{"$f":"SUM(K170:K173)","v":1322951.0454399874},{"$f":"SUM(L170:L173)","v":0.99999999999999989},{"$f":"VLOOKUP(E174,town351,24)","v":1091435},{"$f":"SUM(N170:N173)","v":1091435},1160289,{"$f":"SUM(P170:P173)","v":-68854},-5.9342112180672233,117.36860067875999,105.409836067,33,999,165,105.409836067,1322951.0454399874,165,33,999,165,105.409836067,1322951.0454399874]
["00340034","0034","0034",166,34,"Bolton                       ",34,"Bolton",15157.29088,1.3646536367394515E-3,{"$f":"X175","v":15459.313859999998},{"$f":"IF(K179>0, K175/K179, 0)","v":1.283918094698071E-3},null,{"$f":"ROUND(M179*L175,0)","v":12370},12505,{"$f":"N175-O175","v":-135},-1.0795681727309077,1,1,34,34,166,1,15459.313859999998,166,34,34,166,1,15459.313859999998]
["00340725","0034","0725",167,34,"Bolton                       ",725,"Nashoba",10831610.860645892,0.97520046753413991,11682778.338350689,{"$f":"IF(K179>0, K176/K179, 0)","v":0.97027142606671379},null,{"$f":"ROUND(M179*L176,0)","v":9347905},8936079,{"$f":"N176-O176","v":411826},4.608576088013546,1004.1716254454701,1054.2805573078799,34,725,167,1054.2805573078799,11682778.338350689,167,34,725,167,1054.2805573078799,11682778.338350689]
["00340830","0034","0830",168,34,"Bolton                       ",830,"Minuteman",260292.62340826041,2.3434878829120619E-2,342494.48159060732,{"$f":"IF(K179>0, K177/K179, 0)","v":2.8444655838588177E-2},null,{"$f":"ROUND(M179*L177,0)","v":274045},214741,{"$f":"N177-O177","v":59304},27.616524091812927,13.999999999649999,16.99999999872,34,830,168,16.99999999872,342494.48159060732,168,34,830,168,16.99999999872,342494.48159060732]
["00340998","0034","0998",169,34,"",998,"",0,0,0,{"$f":"IF(K179>0, K178/K179, 0)","v":0},null,{"$f":"ROUND(M179*L178,0)","v":0},0,{"$f":"N178-O178","v":0},0,0,0,34,998,169,0,0,169,34,998,169,0,0]
["00340999","0034","0999",170,34,"Bolton                       ",999,"Total",11107060.774934152,1,{"$f":"SUM(K175:K178)","v":12040732.133801296},{"$f":"SUM(L175:L178)","v":1},{"$f":"VLOOKUP(E179,town351,24)","v":9634320},{"$f":"SUM(N175:N178)","v":9634320},9163325,{"$f":"SUM(P175:P178)","v":470995},5.1400010367415758,1019.1716254451201,1072.2805573065998,34,999,170,1072.2805573065998,12040732.133801296,170,34,999,170,1072.2805573065998,12040732.133801296]
["00350035","0035","0035",171,35,"Boston                       ",35,"Boston",924506066.0076499,1,{"$f":"X180","v":978880394.48934996},{"$f":"IF(K184>0, K180/K184, 0)","v":1},null,{"$f":"ROUND(M184*L180,0)","v":788497356},762717504,{"$f":"N180-O180","v":25779852},3.3800000478289798,62890,60704,35,35,171,60704,978880394.48934996,171,35,35,171,60704,978880394.48934996]
["00350998","0035","0998",172,35,"",998,null,0,0,0,{"$f":"IF(K184>0, K181/K184, 0)","v":0},null,{"$f":"ROUND(M184*L181,0)","v":0},0,{"$f":"N181-O181","v":0},0,0,0,35,998,172,0,0,172,35,998,172,0,0]
["00350998","0035","0998",173,35,"",998,"",0,0,0,{"$f":"IF(K184>0, K182/K184, 0)","v":0},null,{"$f":"ROUND(M184*L182,0)","v":0},0,{"$f":"N182-O182","v":0},0,0,0,35,998,173,0,0,173,35,998,173,0,0]
["00350998","0035","0998",174,35,"",998,"",0,0,0,{"$f":"IF(K184>0, K183/K184, 0)","v":0},null,{"$f":"ROUND(M184*L183,0)","v":0},0,{"$f":"N183-O183","v":0},0,0,0,35,998,174,0,0,174,35,998,174,0,0]
["00350999","0035","0999",175,35,"Boston                       ",999,"Total",924506066.0076499,1,{"$f":"SUM(K180:K183)","v":978880394.48934996},{"$f":"SUM(L180:L183)","v":1},{"$f":"VLOOKUP(E184,town351,24)","v":788497356},{"$f":"SUM(N180:N183)","v":788497356},762717504,{"$f":"SUM(P180:P183)","v":25779852},3.3800000478289798,62890,60704,35,999,175,60704,978880394.48934996,175,35,999,175,60704,978880394.48934996]
["00360036","0036","0036",176,36,"Bourne                       ",36,"Bourne",22664002.020000003,0.8760903726327447,{"$f":"X185","v":20951766.189999998},{"$f":"IF(K189>0, K185/K189, 0)","v":0.86732908458717572},null,{"$f":"ROUND(M189*L185,0)","v":17285207},18697802,{"$f":"N185-O185","v":-1412595},-7.5548719576771646,2012,1789,36,36,176,1789,20951766.189999998,176,36,36,176,1789,20951766.189999998]
["00360879","0036","0879",177,36,"Bourne                       ",879,"Upper Cape Cod",3205477.5770560275,0.12390962736725533,3204885.0307675474,{"$f":"IF(K189>0, K186/K189, 0)","v":0.13267091541282419},null,{"$f":"ROUND(M189*L186,0)","v":2644030},2644519,{"$f":"N186-O186","v":-489},-1.849107531464134E-2,184.99999999809998,179.70844327486,36,879,177,179.70844327486,3204885.0307675474,177,36,879,177,179.70844327486,3204885.0307675474]
["00360998","0036","0998",178,36,"",998,"",0,0,0,{"$f":"IF(K189>0, K187/K189, 0)","v":0},null,{"$f":"ROUND(M189*L187,0)","v":0},0,{"$f":"N187-O187","v":0},0,0,0,36,998,178,0,0,178,36,998,178,0,0]
["00360998","0036","0998",179,36,"",998,"",0,0,0,{"$f":"IF(K189>0, K188/K189, 0)","v":0},null,{"$f":"ROUND(M189*L188,0)","v":0},0,{"$f":"N188-O188","v":0},0,0,0,36,998,179,0,0,179,36,998,179,0,0]
["00360999","0036","0999",180,36,"Bourne                       ",999,"Total",25869479.597056031,1,{"$f":"SUM(K185:K188)","v":24156651.220767546},{"$f":"SUM(L185:L188)","v":0.99999999999999989},{"$f":"VLOOKUP(E189,town351,24)","v":19929237},{"$f":"SUM(N185:N188)","v":19929237},21342321,{"$f":"SUM(P185:P188)","v":-1413084},-6.6210418257695594,2196.9999999981001,1968.70844327486,36,999,180,1968.70844327486,24156651.220767546,180,36,999,180,1968.70844327486,24156651.220767546]
["00370037","0037","0037",181,37,"Boxborough                   ",37,"Boxborough",143372.81232,1.5122596372161111E-2,{"$f":"X190","v":144995.14512},{"$f":"IF(K194>0, K190/K194, 0)","v":1.5180622294971536E-2},null,{"$f":"ROUND(M194*L190,0)","v":119621},117755,{"$f":"N190-O190","v":1866},1.5846460872149803,9,9,37,37,181,9,144995.14512,181,37,37,181,9,144995.14512]
["00370600","0037","0600",182,37,"Boxborough                   ",600,"Acton Boxborough",9337328.0403412655,0.98487740362783893,9406335.6437389329,{"$f":"IF(K194>0, K191/K194, 0)","v":0.98481937770502836},null,{"$f":"ROUND(M194*L191,0)","v":7760227},7668914,{"$f":"N191-O191","v":91313},1.1906901029272201,856.02185588112002,832.89519063040007,37,600,182,832.89519063040007,9406335.6437389329,182,37,600,182,832.89519063040007,9406335.6437389329]
["00370830","0037","0830",183,37,null,998,null,0,0,0,{"$f":"IF(K194>0, K192/K194, 0)","v":0},null,{"$f":"ROUND(M194*L192,0)","v":0},0,{"$f":"N192-O192","v":0},0,0,0,37,998,183,0,0,183,37,998,183,0,0]
["00370998","0037","0998",184,37,"",998,"",0,0,0,{"$f":"IF(K194>0, K193/K194, 0)","v":0},null,{"$f":"ROUND(M194*L193,0)","v":0},0,{"$f":"N193-O193","v":0},0,0,0,37,998,184,0,0,184,37,998,184,0,0]
["00370999","0037","0999",185,37,"Boxborough",999,"Total",9480700.8526612651,1,{"$f":"SUM(K190:K193)","v":9551330.7888589334},{"$f":"SUM(L190:L193)","v":0.99999999999999989},{"$f":"VLOOKUP(E194,town351,24)","v":7879848},{"$f":"SUM(N190:N193)","v":7879848},7786669,{"$f":"SUM(P190:P193)","v":93179},1.1966477578538397,865.02185588112002,841.89519063040007,37,999,185,841.89519063040007,9551330.7888589334,185,37,999,185,841.89519063040007,9551330.7888589334]
["00380038","0038","0038",186,38,"Boxford",38,"Boxford",7419452.1552000009,0.49049391915090373,{"$f":"X195","v":7077684.451799999},{"$f":"IF(K199>0, K195/K199, 0)","v":0.47940406058647866},null,{"$f":"ROUND(M199*L195,0)","v":5839090},6121048,{"$f":"N195-O195","v":-281958},-4.6063680598485748,729,673,38,38,186,673,7077684.451799999,186,38,38,186,673,7077684.451799999]
["00380705","0038","0705",187,38,"Boxford",705,"Masconomet",7433492.502237807,0.49142211502045807,7250679.1956658335,{"$f":"IF(K199>0, K196/K199, 0)","v":0.49112178878334772},null,{"$f":"ROUND(M199*L196,0)","v":5981810},6132632,{"$f":"N196-O196","v":-150822},-2.4593355675018493,669.50790067680009,630.09075144699,38,705,187,630.09075144699,7250679.1956658335,187,38,705,187,630.09075144699,7250679.1956658335]
["00380817","0038","0817",188,38,"Boxford",817,"Essex North Shore",273546.9574711952,1.80839658286381E-2,435141.78288350237,{"$f":"IF(K199>0, K197/K199, 0)","v":2.9474150630173609E-2},null,{"$f":"ROUND(M199*L197,0)","v":358992},225676,{"$f":"N197-O197","v":133316},59.074070791754551,16.000000000700002,23.99999999425,38,817,188,23.99999999425,435141.78288350237,188,38,817,188,23.99999999425,435141.78288350237]
["00380998","0038","0998",189,38,"",998,null,0,0,0,{"$f":"IF(K199>0, K198/K199, 0)","v":0},null,{"$f":"ROUND(M199*L198,0)","v":0},0,{"$f":"N198-O198","v":0},0,0,0,38,998,189,0,0,189,38,998,189,0,0]
["00380999","0038","0999",190,38,"Boxford                      ",999,"Total",15126491.614909004,0.99999999999999989,{"$f":"SUM(K195:K198)","v":14763505.430349335},{"$f":"SUM(L195:L198)","v":0.99999999999999989},{"$f":"VLOOKUP(E199,town351,24)","v":12179892},{"$f":"SUM(N195:N198)","v":12179892},12479356,{"$f":"SUM(P195:P198)","v":-299464},-2.3996751114400454,1414.5079006775002,1327.0907514412399,38,999,190,1327.0907514412399,14763505.430349335,190,38,999,190,1327.0907514412399,14763505.430349335]
["00390039","0039","0039",191,39,"Boylston                     ",39,"Boylston",438126.42,6.199416389357755E-2,{"$f":"X200","v":579645.30000000005},{"$f":"IF(K204>0, K200/K204, 0)","v":7.7618356426904081E-2},null,{"$f":"ROUND(M204*L200,0)","v":466173},353125,{"$f":"N200-O200","v":113048},32.013592920353979,28,35,39,39,191,35,579645.30000000005,191,39,39,191,35,579645.30000000005]
["00390620","0039","0620",192,39,"Boylston                     ",620,"Berlin Boylston",6629093.9840385299,0.93800583610642241,6888244.0844637426,{"$f":"IF(K204>0, K201/K204, 0)","v":0.92238164357309593},null,{"$f":"ROUND(M204*L201,0)","v":5539790},5342970,{"$f":"N201-O201","v":196820},3.6837189802675292,623.06485356050007,629.13631739367008,39,620,192,629.13631739367008,6888244.0844637426,192,39,620,192,629.13631739367008,6888244.0844637426]
[{"$f":"B202&C202","v":"00390998"},"0039","0998",193,39,"",998,"",0,0,0,{"$f":"IF(K204>0, K202/K204, 0)","v":0},null,{"$f":"ROUND(M204*L202,0)","v":0},0,{"$f":"N202-O202","v":0},0,0,0,{"$f":"VLOOKUP($D202, foundoptions, VLOOKUP($T$6, foundoptcell, 2, FALSE), FALSE)","v":39},{"$f":"VLOOKUP($D202, foundoptions, VLOOKUP($T$6, foundoptcell, 2, FALSE)+1, FALSE)","v":998},{"$f":"VLOOKUP($D202, foundoptions, VLOOKUP($T$6, foundoptcell, 2, FALSE)+2, FALSE)","v":193},{"$f":"VLOOKUP($D202, foundoptions, VLOOKUP($T$6, foundoptcell, 2, FALSE)+3, FALSE)","v":0},{"$f":"VLOOKUP($D202, foundoptions, VLOOKUP($T$6, foundoptcell, 2, FALSE)+4, FALSE)","v":0},193,39,998,193,0,0]
["00390998","0039","0998",194,39,"",998,"",0,0,0,{"$f":"IF(K204>0, K203/K204, 0)","v":0},null,{"$f":"ROUND(M204*L203,0)","v":0},0,{"$f":"N203-O203","v":0},0,0,{"$f":"W203","v":0},39,998,194,0,0,{"$f":"D203","v":194},39,998,194,0,0]
["00390999","0039","0999",195,39,"Boylston                     ",999,"Total",7067220.4040385298,1,{"$f":"SUM(K200:K203)","v":7467889.3844637424},{"$f":"SUM(L200:L203)","v":1},{"$f":"VLOOKUP(E204,town351,24)","v":6005963},{"$f":"SUM(N200:N203)","v":6005963},5696095,{"$f":"SUM(P200:P203)","v":309868},5.4400075841431716,651.06485356050007,664.13631739367008,39,999,195,664.13631739367008,7467889.3844637424,195,39,999,195,664.13631739367008,7467889.3844637424]
["00400040","0040","0040",196,40,"Braintree                    ",40,"Braintree",64248920.529949985,0.95869312710716215,{"$f":"X205","v":63352380.463700004},{"$f":"IF(K209>0, K205/K209, 0)","v":0.95717191115546596},null,{"$f":"ROUND(M209*L205,0)","v":47033101},46089277,{"$f":"N205-O205","v":943824},2.0478168924194668,5666,5383,40,40,196,5383,63352380.463700004,196,40,40,196,5383,63352380.463700004]
["00400806","0040","0806",197,40,"Braintree                    ",806,"Blue Hills",2462914.6223286828,3.6750490149909422E-2,2426509.1426485302,{"$f":"IF(K209>0, K206/K209, 0)","v":3.6661391040166413E-2},null,{"$f":"ROUND(M209*L206,0)","v":1801452},1766784,{"$f":"N206-O206","v":34668},1.9622093023255813,135.00000000366001,128.00000000256,40,806,197,128.00000000256,2426509.1426485302,197,40,806,197,128.00000000256,2426509.1426485302]
["00400915","0040","0915",198,40,"Braintree                    ",915,"Norfolk County",305355.9731233191,4.5563827429284474E-3,408155.50577048282,{"$f":"IF(K209>0, K207/K209, 0)","v":6.1666978043675878E-3},null,{"$f":"ROUND(M209*L207,0)","v":303017},219049,{"$f":"N207-O207","v":83968},38.332975726892158,16.99999999988,21.99999999932,40,915,198,21.99999999932,408155.50577048282,198,40,915,198,21.99999999932,408155.50577048282]
["00400998","0040","0998",199,40,"",998,"",0,0,0,{"$f":"IF(K209>0, K208/K209, 0)","v":0},null,{"$f":"ROUND(M209*L208,0)","v":0},0,{"$f":"N208-O208","v":0},{"$f":"IF(O208>0,P208*100/O208,IF(P208>0,100,0))","v":0},0,0,40,998,199,0,0,199,40,998,199,0,0]
["00400999","0040","0999",200,40,"Braintree                    ",999,"Total",67017191.125401989,1,{"$f":"SUM(K205:K208)","v":66187045.112119019},{"$f":"SUM(L205:L208)","v":1},{"$f":"VLOOKUP(E209,town351,24)","v":49137569},{"$f":"SUM(N205:N208)","v":49137570},48075110,{"$f":"SUM(P205:P208)","v":1062460},{"$f":"IF(O209>0,P209*100/O209,IF(P209>0,100,0))","v":2.2100001435254129},5818.0000000035398,5533.0000000018799,40,999,200,5533.0000000018799,66187045.112119019,200,40,999,200,5533.0000000018799,66187045.112119019]
["00410041","0041","0041",201,41,"Brewster                     ",41,"Brewster",5175998.03,0.41687382116532051,{"$f":"X210","v":4895214.0599999996},{"$f":"IF(K214>0, K210/K214, 0)","v":0.38989424057870903},null,{"$f":"ROUND(M214*L210,0)","v":4038551},4206025,{"$f":"N210-O210","v":-167474},-3.9817642548486991,468,431,41,41,201,431,4895214.0599999996,201,41,41,201,431,4895214.0599999996]
["00410660","0041","0660",202,41,"Brewster                     ",660,"Nauset",6707816.4666141532,0.5402461642963764,6888126.0325498478,{"$f":"IF(K214>0, K211/K214, 0)","v":0.54862578746381907},null,{"$f":"ROUND(M214*L211,0)","v":5682704},5450784,{"$f":"N211-O211","v":231920},4.2548007772826812,575.99999999931993,574.99999999889997,41,660,202,574.99999999889997,6888126.0325498478,202,41,660,202,574.99999999889997,6888126.0325498478]
["00410815","0041","0815",203,41,"Brewster                     ",815,"Cape Cod",532407.79225762293,4.2880014538302945E-2,771895.53425544128,{"$f":"IF(K214>0, K212/K214, 0)","v":6.1479971957471902E-2},null,{"$f":"ROUND(M214*L212,0)","v":636814},432636,{"$f":"N212-O212","v":204178},47.193945949944066,28.999999998619998,41.000000000309996,41,815,203,41.000000000309996,771895.53425544128,203,41,815,203,41.000000000309996,771895.53425544128]
["00410998","0041","0998",204,41,"",998,"",0,0,0,{"$f":"IF(K214>0, K213/K214, 0)","v":0},null,{"$f":"ROUND(M214*L213,0)","v":0},0,{"$f":"N213-O213","v":0},0,0,0,41,998,204,0,0,204,41,998,204,0,0]
["00410999","0041","0999",205,41,"Brewster                     ",999,"Total",12416222.288871778,0.99999999999999989,{"$f":"SUM(K210:K213)","v":12555235.626805289},{"$f":"SUM(L210:L213)","v":1},{"$f":"VLOOKUP(E214,town351,24)","v":10358069},{"$f":"SUM(N210:N213)","v":10358069},10089445,{"$f":"SUM(P210:P213)","v":268624},2.662425931257864,1072.99999999794,1046.9999999992099,41,999,205,1046.9999999992099,12555235.626805289,205,41,999,205,1046.9999999992099,12555235.626805289]
["00420042","0042","0042",206,42,"Bridgewater                  ",42,"Bridgewater",117262.39999999999,3.0940215737473554E-3,{"$f":"X215","v":104669.45999999999},{"$f":"IF(K219>0, K215/K219, 0)","v":2.6769225734534726E-3},null,{"$f":"ROUND(M219*L215,0)","v":65145},73653,{"$f":"N215-O215","v":-8508},-11.551464298806566,8,7,42,42,206,7,104669.45999999999,206,42,42,206,7,104669.45999999999]
["00420625","0042","0625",207,42,"Bridgewater                  ",625,"Bridgewater Raynham",35488142.575867906,0.93637072703575353,36448975.098660745,{"$f":"IF(K219>0, K216/K219, 0)","v":0.9321829330240976},null,{"$f":"ROUND(M219*L216,0)","v":22685385},22290226,{"$f":"N216-O216","v":395159},1.7727904598185771,3293.5388749677604,3270.3790778432203,42,625,207,3270.3790778432203,36448975.098660745,207,42,625,207,3270.3790778432203,36448975.098660745]
["00420810","0042","0810",208,42,"Bridgewater                  ",810,"Bristol Plymouth",2294266.1172384256,6.0535251390499159E-2,2547023.1401314968,{"$f":"IF(K219>0, K217/K219, 0)","v":6.5140144402448918E-2},null,{"$f":"ROUND(M219*L217,0)","v":1585235},1441037,{"$f":"N217-O217","v":144198},10.006543898595247,132.49364247745999,141.41746854830001,42,810,208,141.41746854830001,2547023.1401314968,208,42,810,208,141.41746854830001,2547023.1401314968]
["00420998","0042","0998",209,42,"",998,"",0,0,0,{"$f":"IF(K219>0, K218/K219, 0)","v":0},null,{"$f":"ROUND(M219*L218,0)","v":0},0,{"$f":"N218-O218","v":0},0,0,0,42,998,209,0,0,209,42,998,209,0,0]
["00420999","0042","0999",210,42,"Bridgewater                  ",999,"Total",37899671.093106329,1,{"$f":"SUM(K215:K218)","v":39100667.698792242},{"$f":"SUM(L215:L218)","v":1},{"$f":"VLOOKUP(E219,town351,24)","v":24335765},{"$f":"SUM(N215:N218)","v":24335765},23804916,{"$f":"SUM(P215:P218)","v":530849},2.2299973669304274,3434.0325174452205,3418.7965463915202,42,999,210,3418.7965463915202,39100667.698792242,210,42,999,210,3418.7965463915202,39100667.698792242]
["00430043","0043","0043",211,43,"Brimfield                    ",43,"Brimfield",3081860.73,0.49002504387803947,{"$f":"X220","v":2957057.94},{"$f":"IF(K224>0, K220/K224, 0)","v":0.48814667282260832},null,{"$f":"ROUND(M224*L220,0)","v":1755767},1716855,{"$f":"N220-O220","v":38912},2.2664697950613184,283,269,43,43,211,269,2957057.94,211,43,43,211,269,2957057.94]
["00430770","0043","0770",212,43,"Brimfield                    ",770,"Tantasqua",3207329.5236455528,0.50997495612196064,3100666.3150920542,{"$f":"IF(K224>0, K221/K224, 0)","v":0.51185332717739163},null,{"$f":"ROUND(M224*L221,0)","v":1841036},1786752,{"$f":"N221-O221","v":54284},3.038138476968264,251.31974521512001,235.00000000135,43,770,212,235.00000000135,3100666.3150920542,212,43,770,212,235.00000000135,3100666.3150920542]
["00430998","0043","0998",213,43,"",998,"",0,0,0,{"$f":"IF(K224>0, K222/K224, 0)","v":0},null,{"$f":"ROUND(M224*L222,0)","v":0},0,{"$f":"N222-O222","v":0},0,0,0,43,998,213,0,0,213,43,998,213,0,0]
["00430998","0043","0998",214,43,"",998,"",0,0,0,{"$f":"IF(K224>0, K223/K224, 0)","v":0},null,{"$f":"ROUND(M224*L223,0)","v":0},0,{"$f":"N223-O223","v":0},0,0,0,43,998,214,0,0,214,43,998,214,0,0]
["00430999","0043","0999",215,43,"Brimfield                    ",999,"Total",6289190.2536455523,1,{"$f":"SUM(K220:K223)","v":6057724.2550920546},{"$f":"SUM(L220:L223)","v":1},{"$f":"VLOOKUP(E224,town351,24)","v":3596803},{"$f":"SUM(N220:N223)","v":3596803},3503607,{"$f":"SUM(P220:P223)","v":93196},2.6600015355603523,534.31974521512007,504.00000000135003,43,999,215,504.00000000135003,6057724.2550920546,215,43,999,215,504.00000000135003,6057724.2550920546]
["00440044","0044","0044",216,44,"Brockton                     ",44,"Brockton",237304378.99000001,0.93384680655864039,{"$f":"X225","v":261944926.60000005},{"$f":"IF(K229>0, K225/K229, 0)","v":0.93085065390708766},null,{"$f":"ROUND(M229*L225,0)","v":49559396},48074759,{"$f":"N225-O225","v":1484637},3.0881839678073062,17491,17092,44,44,216,17092,261944926.60000005,216,44,44,216,17092,261944926.60000005]
["00440872","0044","0872",217,44,"Brockton                     ",872,"Southeastern",16810511.507404741,6.6153193441359642E-2,19458889.898952443,{"$f":"IF(K229>0, K226/K229, 0)","v":6.9149346092912276E-2},null,{"$f":"ROUND(M229*L226,0)","v":3681579},3405589,{"$f":"N226-O226","v":275990},8.1040313437704903,945.24620461890993,1012.8710672354399,44,872,217,1012.8710672354399,19458889.898952443,217,44,872,217,1012.8710672354399,19458889.898952443]
["00440998","0044","0998",218,44,"",998,"",0,0,0,{"$f":"IF(K229>0, K227/K229, 0)","v":0},null,{"$f":"ROUND(M229*L227,0)","v":0},0,{"$f":"N227-O227","v":0},0,0,0,44,998,218,0,0,218,44,998,218,0,0]
["00440998","0044","0998",219,44,"",998,"",0,0,0,{"$f":"IF(K229>0, K228/K229, 0)","v":0},null,{"$f":"ROUND(M229*L228,0)","v":0},0,{"$f":"N228-O228","v":0},0,0,0,44,998,219,0,0,219,44,998,219,0,0]
["00440999","0044","0999",220,44,"Brockton                     ",999,"Total",254114890.49740475,1,{"$f":"SUM(K225:K228)","v":281403816.49895251},{"$f":"SUM(L225:L228)","v":0.99999999999999989},{"$f":"VLOOKUP(E229,town351,24)","v":53240975},{"$f":"SUM(N225:N228)","v":53240975},51480348,{"$f":"SUM(P225:P228)","v":1760627},3.4199982486520875,18436.24620461891,18104.871067235439,44,999,220,18104.871067235439,281403816.49895251,220,44,999,220,18104.871067235439,281403816.49895251]
["00450045","0045","0045",221,45,"Brookfield                   ",45,"Brookfield",2871199.0500000003,0.48879150010895872,{"$f":"X230","v":2739833.1099999994},{"$f":"IF(K234>0, K230/K234, 0)","v":0.47123854632296458},null,{"$f":"ROUND(M234*L230,0)","v":1154807},1170696,{"$f":"N230-O230","v":-15889},-1.3572268120844353,253,230,45,45,221,230,2739833.1099999994,221,45,45,221,230,2739833.1099999994]
["00450770","0045","0770",222,45,"Brookfield                   ",770,"Tantasqua",3002878.2393144998,0.51120849989104133,3074277.6654844987,{"$f":"IF(K234>0, K231/K234, 0)","v":0.52876145367703531},null,{"$f":"ROUND(M234*L231,0)","v":1295771},1224386,{"$f":"N231-O231","v":71385},5.830269212486912,235.29936305352001,232.99999999244,45,770,222,232.99999999244,3074277.6654844987,222,45,770,222,232.99999999244,3074277.6654844987]
["00450998","0045","0998",223,45,"",998,"",0,0,0,{"$f":"IF(K234>0, K232/K234, 0)","v":0},null,{"$f":"ROUND(M234*L232,0)","v":0},0,{"$f":"N232-O232","v":0},0,0,0,45,998,223,0,0,223,45,998,223,0,0]
["00450998","0045","0998",224,45,"",998,"",0,0,0,{"$f":"IF(K234>0, K233/K234, 0)","v":0},null,{"$f":"ROUND(M234*L233,0)","v":0},0,{"$f":"N233-O233","v":0},0,0,0,45,998,224,0,0,224,45,998,224,0,0]
["00450999","0045","0999",225,45,"Brookfield                   ",999,"Total",5874077.2893145001,1,{"$f":"SUM(K230:K233)","v":5814110.7754844986},{"$f":"SUM(L230:L233)","v":0.99999999999999989},{"$f":"VLOOKUP(E234,town351,24)","v":2450578},{"$f":"SUM(N230:N233)","v":2450578},2395082,{"$f":"SUM(P230:P233)","v":55496},2.3170814193418012,488.29936305351998,462.99999999244,45,999,225,462.99999999244,5814110.7754844986,225,45,999,225,462.99999999244,5814110.7754844986]
["00460046","0046","0046",226,46,"Brookline                    ",46,"Brookline",83874467.613419995,0.99978589109719007,{"$f":"X235","v":77422819.851260006},{"$f":"IF(K239>0, K235/K239, 0)","v":0.99976043137642867},null,{"$f":"ROUND(M239*L235,0)","v":63873826},69196436,{"$f":"N235-O235","v":-5322610},-7.6920291097073266,7648,6858,46,46,226,6858,77422819.851260006,226,46,46,226,6858,77422819.851260006]
["00460915","0046","0915",227,46,"Brookline                    ",915,"Norfolk County",17962.116083448014,2.1410890280998819E-4,18552.52298717244,{"$f":"IF(K239>0, K236/K239, 0)","v":2.3956862357131997E-4},null,{"$f":"ROUND(M239*L236,0)","v":15306},14819,{"$f":"N236-O236","v":487},3.2863216141440041,1.0000000009599999,0.99999999983999999,46,915,227,0.99999999983999999,18552.52298717244,227,46,915,227,0.99999999983999999,18552.52298717244]
["00460998","0046","0998",228,46,"",998,"",0,0,0,{"$f":"IF(K239>0, K237/K239, 0)","v":0},null,{"$f":"ROUND(M239*L237,0)","v":0},0,{"$f":"N237-O237","v":0},0,0,0,46,998,228,0,0,228,46,998,228,0,0]
["00460998","0046","0998",229,46,"",998,"",0,0,0,{"$f":"IF(K239>0, K238/K239, 0)","v":0},null,{"$f":"ROUND(M239*L238,0)","v":0},0,{"$f":"N238-O238","v":0},0,0,0,46,998,229,0,0,229,46,998,229,0,0]
["00460999","0046","0999",230,46,"Brookline                    ",999,"Total",83892429.729503438,1,{"$f":"SUM(K235:K238)","v":77441372.374247178},{"$f":"SUM(L235:L238)","v":1},{"$f":"VLOOKUP(E239,town351,24)","v":63889132},{"$f":"SUM(N235:N238)","v":63889132},69211255,{"$f":"SUM(P235:P238)","v":-5322123},-7.6896785067688773,7649.0000000009604,6858.9999999998399,46,999,230,6858.9999999998399,77441372.374247178,230,46,999,230,6858.9999999998399,77441372.374247178]
["00470047","0047","0047",231,47,"Buckland                     ",47,"Buckland",29315.599999999999,1.2164727731895858E-2,{"$f":"X240","v":29905.56},{"$f":"IF(K244>0, K240/K244, 0)","v":1.3210526692001906E-2},null,{"$f":"ROUND(M244*L240,0)","v":18425},16598,{"$f":"N240-O240","v":1827},11.007350283166646,2,2,47,47,231,2,29905.56,231,47,47,231,2,29905.56]
["00470717","0047","0717",232,47,"Buckland                     ",717,"Mohawk Trail",2271823.2505730605,0.94271006898074416,2082257.699155611,{"$f":"IF(K244>0, K241/K244, 0)","v":0.91981962264948958},null,{"$f":"ROUND(M244*L241,0)","v":1282910},1286236,{"$f":"N241-O241","v":-3326},-0.2585839612637183,196.29629629875001,175.61950059552001,47,717,232,175.61950059552001,2082257.699155611,232,47,717,232,175.61950059552001,2082257.699155611]
["00470818","0047","0818",233,47,"Buckland                     ",818,"Franklin County",108746.56947909875,4.5125203287360048E-2,151604.16641613605,{"$f":"IF(K244>0, K242/K244, 0)","v":6.6969850658508454E-2},null,{"$f":"ROUND(M244*L242,0)","v":93406},61569,{"$f":"N242-O242","v":31837},51.709464178401468,5.9999999997,7.9999999973599998,47,818,233,7.9999999973599998,151604.16641613605,233,47,818,233,7.9999999973599998,151604.16641613605]
["00470998","0047","0998",234,47,"",998,"",0,0,0,{"$f":"IF(K244>0, K243/K244, 0)","v":0},null,{"$f":"ROUND(M244*L243,0)","v":0},0,{"$f":"N243-O243","v":0},0,0,0,47,998,234,0,0,234,47,998,234,0,0]
["00470999","0047","0999",235,47,"Buckland                     ",999,"Total",2409885.4200521591,1,{"$f":"SUM(K240:K243)","v":2263767.4255717471},{"$f":"SUM(L240:L243)","v":1},{"$f":"VLOOKUP(E244,town351,24)","v":1394741},{"$f":"SUM(N240:N243)","v":1394741},1364403,{"$f":"SUM(P240:P243)","v":30338},2.2235365943932988,204.29629629845002,185.61950059288,47,999,235,185.61950059288,2263767.4255717471,235,47,999,235,185.61950059288,2263767.4255717471]
["00480048","0048","0048",236,48,"Burlington                   ",48,"Burlington",40012176.135040008,0.94932282817548352,{"$f":"X245","v":40093789.187169999},{"$f":"IF(K249>0, K245/K249, 0)","v":0.94551464294788612},null,{"$f":"ROUND(M249*L245,0)","v":33077377},33010045,{"$f":"N245-O245","v":67332},0.20397427510322994,3518,3420,48,48,236,3420,40093789.187169999,236,48,48,236,3420,40093789.187169999]
["00480871","0048","0871",237,48,"Burlington                   ",871,"Shawsheen Valley",2135947.7143990216,5.0677171824516448E-2,2310407.8141236599,{"$f":"IF(K249>0, K246/K249, 0)","v":5.4485357052113839E-2},null,{"$f":"ROUND(M249*L246,0)","v":1906086},1762157,{"$f":"N246-O246","v":143929},8.1677739270677918,127.00000000350001,135.00000000240001,48,871,237,135.00000000240001,2310407.8141236599,237,48,871,237,135.00000000240001,2310407.8141236599]
["00480998","0048","0998",238,48,"",998,"",0,0,0,{"$f":"IF(K249>0, K247/K249, 0)","v":0},null,{"$f":"ROUND(M249*L247,0)","v":0},0,{"$f":"N247-O247","v":0},0,0,0,48,998,238,0,0,238,48,998,238,0,0]
["00480998","0048","0998",239,48,"",998,"",0,0,0,{"$f":"IF(K249>0, K248/K249, 0)","v":0},null,{"$f":"ROUND(M249*L248,0)","v":0},0,{"$f":"N248-O248","v":0},0,0,0,48,998,239,0,0,239,48,998,239,0,0]
["00480999","0048","0999",240,48,"Burlington                   ",999,"Total",42148123.849439032,1,{"$f":"SUM(K245:K248)","v":42404197.001293659},{"$f":"SUM(L245:L248)","v":1},{"$f":"VLOOKUP(E249,town351,24)","v":34983463},{"$f":"SUM(N245:N248)","v":34983463},34772202,{"$f":"SUM(P245:P248)","v":211261},0.607557151543063,3645.0000000035002,3555.0000000024002,48,999,240,3555.0000000024002,42404197.001293659,240,48,999,240,3555.0000000024002,42404197.001293659]
["00490049","0049","0049",241,49,"Cambridge                    ",49,"Cambridge",97837766.086960018,1,{"$f":"X250","v":100848386.94927999},{"$f":"IF(K254>0, K250/K254, 0)","v":1},null,{"$f":"ROUND(M254*L250,0)","v":83199919},80716157,{"$f":"N250-O250","v":2483762},3.0771559156365682,7519,7160,49,49,241,7160,100848386.94927999,241,49,49,241,7160,100848386.94927999]
["00490998","0049","0998",242,49,"",998,"",0,0,0,{"$f":"IF(K254>0, K251/K254, 0)","v":0},null,{"$f":"ROUND(M254*L251,0)","v":0},0,{"$f":"N251-O251","v":0},0,0,0,49,998,242,0,0,242,49,998,242,0,0]
["00490998","0049","0998",243,49,"",998,"",0,0,0,{"$f":"IF(K254>0, K252/K254, 0)","v":0},null,{"$f":"ROUND(M254*L252,0)","v":0},0,{"$f":"N252-O252","v":0},0,0,0,49,998,243,0,0,243,49,998,243,0,0]
["00490998","0049","0998",244,49,"",998,"",0,0,0,{"$f":"IF(K254>0, K253/K254, 0)","v":0},null,{"$f":"ROUND(M254*L253,0)","v":0},0,{"$f":"N253-O253","v":0},0,0,0,49,998,244,0,0,244,49,998,244,0,0]
["00490999","0049","0999",245,49,"Cambridge                    ",999,"Total",97837766.086960018,1,{"$f":"SUM(K250:K253)","v":100848386.94927999},{"$f":"SUM(L250:L253)","v":1},{"$f":"VLOOKUP(E254,town351,24)","v":83199919},{"$f":"SUM(N250:N253)","v":83199919},80716157,{"$f":"SUM(P250:P253)","v":2483762},3.0771559156365682,7519,7160,49,999,245,7160,100848386.94927999,245,49,999,245,7160,100848386.94927999]
["00500050","0050","0050",246,50,"Canton                       ",50,"Canton",37234938.635360003,0.96371456457903404,{"$f":"X255","v":37413396.475199997},{"$f":"IF(K259>0, K255/K259, 0)","v":0.96299948832237503},null,{"$f":"ROUND(M259*L255,0)","v":30866052},30718825,{"$f":"N255-O255","v":147227},0.47927288885561214,3325,3234,50,50,246,3234,37413396.475199997,246,50,50,246,3234,37413396.475199997]
["00500806","0050","0806",247,50,"Canton                       ",806,"Blue Hills",1222335.4050465012,3.1636481106625487E-2,1289082.9819577199,{"$f":"IF(K259>0, K256/K259, 0)","v":3.3180260788491532E-2},null,{"$f":"ROUND(M259*L256,0)","v":1063493},1008427,{"$f":"N256-O256","v":55066},5.4605836614846686,66.999999995829995,67.99999999744,50,806,247,67.99999999744,1289082.9819577199,247,50,806,247,67.99999999744,1289082.9819577199]
["00500915","0050","0915",248,50,"Canton                       ",915,"Norfolk County",179621.16063761536,4.6489543143404879E-3,148420.18389737952,{"$f":"IF(K259>0, K257/K259, 0)","v":3.8202508891335626E-3},null,{"$f":"ROUND(M259*L257,0)","v":122447},148187,{"$f":"N257-O257","v":-25740},-17.369944731994035,9.9999999986399999,7.9999999987199999,50,915,248,7.9999999987199999,148420.18389737952,248,50,915,248,7.9999999987199999,148420.18389737952]
["00500998","0050","0998",249,50,"",998,"",0,0,0,{"$f":"IF(K259>0, K258/K259, 0)","v":0},null,{"$f":"ROUND(M259*L258,0)","v":0},0,{"$f":"N258-O258","v":0},0,0,0,50,998,249,0,0,249,50,998,249,0,0]
["00500999","0050","0999",250,50,"Canton                       ",999,"Total",38636895.20104412,1,{"$f":"SUM(K255:K258)","v":38850899.641055092},{"$f":"SUM(L255:L258)","v":1.0000000000000002},{"$f":"VLOOKUP(E259,town351,24)","v":32051992},{"$f":"SUM(N255:N258)","v":32051992},31875439,{"$f":"SUM(P255:P258)","v":176553},0.55388413630946387,3401.9999999944698,3309.9999999961597,50,999,250,3309.9999999961597,38850899.641055092,250,50,999,250,3309.9999999961597,38850899.641055092]
["00510051","0051","0051",251,51,"Carlisle                     ",51,"Carlisle",5783671.1796799991,0.60493456790125877,{"$f":"X260","v":5777297.3325199997},{"$f":"IF(K264>0, K260/K264, 0)","v":0.60579939363716429},null,{"$f":"ROUND(M264*L260,0)","v":4766270},4771528,{"$f":"N260-O260","v":-5258},-0.11019530850494852,570,556,51,51,251,556,5777297.3325199997,251,51,51,251,556,5777297.3325199997]
["00510640","0051","0640",252,51,"Carlisle                     ",640,"Concord Carlisle",3777149.9182871557,0.39506543209874123,3759353.5674316054,{"$f":"IF(K264>0, K261/K264, 0)","v":0.39420060636283571},null,{"$f":"ROUND(M264*L261,0)","v":3101467},3116149,{"$f":"N261-O261","v":-14682},-0.471158471562175,318.32374100877001,307.83911672505997,51,640,252,307.83911672505997,3759353.5674316054,252,51,640,252,307.83911672505997,3759353.5674316054]
["00510830","0051","0830",253,51,null,998,null,0,0,0,{"$f":"IF(K264>0, K262/K264, 0)","v":0},null,{"$f":"ROUND(M264*L262,0)","v":0},0,{"$f":"N262-O262","v":0},0,0,0,51,998,253,0,0,253,51,998,253,0,0]
["00510998","0051","0998",254,51,"",998,"",0,0,0,{"$f":"IF(K264>0, K263/K264, 0)","v":0},null,{"$f":"ROUND(M264*L263,0)","v":0},0,{"$f":"N263-O263","v":0},0,0,0,51,998,254,0,0,254,51,998,254,0,0]
["00510999","0051","0999",255,51,"Carlisle                     ",999,"Total",9560821.0979671553,1,{"$f":"SUM(K260:K263)","v":9536650.8999516051},{"$f":"SUM(L260:L263)","v":1},{"$f":"VLOOKUP(E264,town351,24)","v":7867737},{"$f":"SUM(N260:N263)","v":7867737},7887677,{"$f":"SUM(P260:P263)","v":-19940},-0.25279939835264553,888.32374100876996,863.83911672505997,51,999,255,863.83911672505997,9536650.8999516051,255,51,999,255,863.83911672505997,9536650.8999516051]
["00520052","0052","0052",256,52,"Carver                       ",52,"Carver",18039221.234960001,0.91926341574462511,{"$f":"X265","v":17600656.3972},{"$f":"IF(K269>0, K265/K269, 0)","v":0.91234853216638345},null,{"$f":"ROUND(M269*L265,0)","v":9595425},9418559,{"$f":"N265-O265","v":176866},1.8778456449654348,1591,1501,52,52,256,1501,17600656.3972,256,52,52,256,1501,17600656.3972]
[{"$f":"B266&C266","v":"00520855"},"0052","0855",257,52,"Carver                       ",855,"Old Colony",1584339.2440000002,8.0736584255374957E-2,1690936.4279750579,{"$f":"IF(K269>0, K266/K269, 0)","v":8.7651467833616464E-2},null,{"$f":"ROUND(M269*L266,0)","v":921855},827208,{"$f":"N266-O266","v":94647},11.441741375808745,93.4,96.000000001320004,{"$f":"VLOOKUP($D266, foundoptions, VLOOKUP($T$6, foundoptcell, 2, FALSE), FALSE)","v":52},{"$f":"VLOOKUP($D266, foundoptions, VLOOKUP($T$6, foundoptcell, 2, FALSE)+1, FALSE)","v":855},{"$f":"VLOOKUP($D266, foundoptions, VLOOKUP($T$6, foundoptcell, 2, FALSE)+2, FALSE)","v":257},{"$f":"VLOOKUP($D266, foundoptions, VLOOKUP($T$6, foundoptcell, 2, FALSE)+3, FALSE)","v":96.000000001320004},{"$f":"VLOOKUP($D266, foundoptions, VLOOKUP($T$6, foundoptcell, 2, FALSE)+4, FALSE)","v":1690936.4279750579},257,52,855,257,96.000000001320004,1690936.4279750579]
["00520998","0052","0998",258,52,"",998,"",0,0,0,{"$f":"IF(K269>0, K267/K269, 0)","v":0},null,{"$f":"ROUND(M269*L267,0)","v":0},0,{"$f":"N267-O267","v":0},0,0,{"$f":"W267","v":0},52,998,258,0,0,{"$f":"D267","v":258},52,998,258,0,0]
["00520998","0052","0998",259,52,"",998,"",0,0,0,{"$f":"IF(K269>0, K268/K269, 0)","v":0},null,{"$f":"ROUND(M269*L268,0)","v":0},0,{"$f":"N268-O268","v":0},0,0,0,52,998,259,0,0,259,52,998,259,0,0]
["00520999","0052","0999",260,52,"Carver                       ",999,"Total",19623560.47896,1,{"$f":"SUM(K265:K268)","v":19291592.825175058},{"$f":"SUM(L265:L268)","v":0.99999999999999989},{"$f":"VLOOKUP(E269,town351,24)","v":10517280},{"$f":"SUM(N265:N268)","v":10517280},10245767,{"$f":"SUM(P265:P268)","v":271513},2.6500017031423808,1684.4,1597.0000000013199,52,999,260,1597.0000000013199,19291592.825175058,260,52,999,260,1597.0000000013199,19291592.825175058]
["00530053","0053","0053",261,53,"Charlemont                   ",53,"Charlemont",102604.6,5.878654955191262E-2,{"$f":"X270","v":104669.45999999999},{"$f":"IF(K274>0, K270/K274, 0)","v":6.1902175144626245E-2},null,{"$f":"ROUND(M274*L270,0)","v":54679},52817,{"$f":"N270-O270","v":1862},3.5253800859571727,7,7,53,53,261,7,104669.45999999999,261,53,53,261,7,104669.45999999999]
["00530685","0053","0685",262,53,"Charlemont                   ",685,"Hawlemont",938505.6359163915,0.53770988893819782,941981.12309736095,{"$f":"IF(K274>0, K271/K274, 0)","v":0.55709354442933579},null,{"$f":"ROUND(M274*L271,0)","v":492085},483111,{"$f":"N271-O271","v":8974},1.8575441254701301,72.122448979440009,66.773809523959997,53,685,262,66.773809523959997,941981.12309736095,262,53,685,262,66.773809523959997,941981.12309736095]
["00530717","0053","0717",263,53,"Charlemont                   ",717,"Mohawk Trail",704265.20765157964,0.40350356150988953,644234.42628160899,{"$f":"IF(K274>0, K272/K274, 0)","v":0.38100428042603801},null,{"$f":"ROUND(M274*L272,0)","v":336544},362532,{"$f":"N272-O272","v":-25988},{"$f":"IF(O272>0,P272*100/O272,IF(P272>0,100,0))","v":-7.1684706453499274},60.851851850360006,54.335315103360003,53,717,263,54.335315103360003,644234.42628160899,263,53,717,263,54.335315103360003,644234.42628160899]
["00530998","0053","0998",264,53,"",998,"",0,0,0,{"$f":"IF(K274>0, K273/K274, 0)","v":0},null,{"$f":"ROUND(M274*L273,0)","v":0},0,{"$f":"N273-O273","v":0},{"$f":"IF(O273>0,P273*100/O273,IF(P273>0,100,0))","v":0},0,0,53,998,264,0,0,264,53,998,264,0,0]
["00530999","0053","0999",265,53,"Charlemont                   ",999,"Total",1745375.4435679712,1,{"$f":"SUM(K270:K273)","v":1690885.0093789699},{"$f":"SUM(L270:L273)","v":1},{"$f":"VLOOKUP(E274,town351,24)","v":883307},{"$f":"SUM(N270:N273)","v":883308},898460,{"$f":"SUM(P270:P273)","v":-15152},{"$f":"IF(O274>0,P274*100/O274,IF(P274>0,100,0))","v":-1.6864412439062395},139.97430082980003,128.10912462732,53,999,265,128.10912462732,1690885.0093789699,265,53,999,265,128.10912462732,1690885.0093789699]
["00540054","0054","0054",266,54,"Charlton                     ",54,"Charlton",14657.8,6.0397072707376112E-4,{"$f":"X275","v":14952.78},{"$f":"IF(K279>0, K275/K279, 0)","v":6.1925071060213986E-4},null,{"$f":"ROUND(M279*L275,0)","v":8396},7900,{"$f":"N275-O275","v":496},6.2784810126582276,1,1,54,54,266,1,14952.78,266,54,54,266,1,14952.78]
["00540658","0054","0658",267,54,"Charlton                     ",658,"Dudley Charlton",20554095.929967061,0.84692602322081345,20240729.848520093,{"$f":"IF(K279>0, K276/K279, 0)","v":0.83824454996341879},null,{"$f":"ROUND(M279*L276,0)","v":11365578},11077820,{"$f":"N276-O276","v":287758},2.5976049439330122,1860.0615384724799,1767.7632994471201,54,658,267,1767.7632994471201,20240729.848520093,267,54,658,267,1767.7632994471201,20240729.848520093]
["00540876","0054","0876",268,54,"Charlton                     ",876,"Southern Worcester",3700303.2672438086,0.15247000605211267,3890886.3523380589,{"$f":"IF(K279>0, K277/K279, 0)","v":0.16113619932597889},null,{"$f":"ROUND(M279*L277,0)","v":2184811},1994313,{"$f":"N277-O277","v":190498},9.5520612862675023,215.99999999732,218.00000000400001,54,876,268,218.00000000400001,3890886.3523380589,268,54,876,268,218.00000000400001,3890886.3523380589]
["00540998","0054","0998",269,54,"",998,"",0,0,0,{"$f":"IF(K279>0, K278/K279, 0)","v":0},null,{"$f":"ROUND(M279*L278,0)","v":0},0,{"$f":"N278-O278","v":0},0,0,0,54,998,269,0,0,269,54,998,269,0,0]
["00540999","0054","0999",270,54,"Charlton                     ",999,"Total",24269056.997210871,0.99999999999999989,{"$f":"SUM(K275:K278)","v":24146568.980858155},{"$f":"SUM(L275:L278)","v":0.99999999999999978},{"$f":"VLOOKUP(E279,town351,24)","v":13558786},{"$f":"SUM(N275:N278)","v":13558785},13080033,{"$f":"SUM(P275:P278)","v":478752},3.660174251853952,2077.0615384697999,1986.76329945112,54,999,270,1986.76329945112,24146568.980858155,270,54,999,270,1986.76329945112,24146568.980858155]
["00550055","0055","0055",271,55,"Chatham                      ",55,"Chatham",0,0,{"$f":"X280","v":0},{"$f":"IF(K284>0, K280/K284, 0)","v":0},null,{"$f":"ROUND(M284*L280,0)","v":0},0,{"$f":"N280-O280","v":0},0,0,0,55,55,271,0,0,271,55,55,271,0,0]
["00550712","0055","0712",272,55,"Chatham                      ",712,"Monomoy",5079477.3293425106,0.96511750258770923,4682848.1253936449,{"$f":"IF(K284>0, K281/K284, 0)","v":0.94312454237240428},null,{"$f":"ROUND(M284*L281,0)","v":3863349},4190569,{"$f":"N281-O281","v":-327220},-7.808486150687413,433.37645108316002,390.51979346152001,55,712,272,390.51979346152001,4682848.1253936449,272,55,712,272,390.51979346152001,4682848.1253936449]
["00550815","0055","0815",273,55,"Chatham                      ",815,"Cape Cod",183588.89391344026,3.4882497412290693E-2,282400.8051601788,{"$f":"IF(K284>0, K282/K284, 0)","v":5.6875457627595688E-2},null,{"$f":"ROUND(M284*L282,0)","v":232981},151461,{"$f":"N282-O282","v":81520},53.822436138675961,10.000000001239998,14.99999999718,55,815,273,14.99999999718,282400.8051601788,273,55,815,273,14.99999999718,282400.8051601788]
["00550998","0055","0998",274,55,"",998,"",0,0,0,{"$f":"IF(K284>0, K283/K284, 0)","v":0},null,{"$f":"ROUND(M284*L283,0)","v":0},0,{"$f":"N283-O283","v":0},0,0,0,55,998,274,0,0,274,55,998,274,0,0]
["00550999","0055","0999",275,55,"Chatham                      ",999,"Total",5263066.223255951,0.99999999999999989,{"$f":"SUM(K280:K283)","v":4965248.9305538237},{"$f":"SUM(L280:L283)","v":1},{"$f":"VLOOKUP(E284,town351,24)","v":4096330},{"$f":"SUM(N280:N283)","v":4096330},4342030,{"$f":"SUM(P280:P283)","v":-245700},-5.6586435377001081,443.3764510844,405.51979345870001,55,999,275,405.51979345870001,4965248.9305538237,275,55,999,275,405.51979345870001,4965248.9305538237]
["00560056","0056","0056",276,56,"Chelmsford                   ",56,"Chelmsford",54223728,0.93992749931468411,{"$f":"X285","v":54364865.709999993},{"$f":"IF(K289>0, K285/K289, 0)","v":0.9352438138749718},null,{"$f":"ROUND(M289*L285,0)","v":44851014},43879883,{"$f":"N285-O285","v":971131},2.2131576786565268,5112,4956,56,56,276,4956,54364865.709999993,276,56,56,276,4956,54364865.709999993]
["00560852","0056","0852",277,56,"Chelmsford                   ",852,"Nashoba Valley",3465538.5014433265,6.0072500685315909E-2,3764217.747661632,{"$f":"IF(K289>0, K286/K289, 0)","v":6.4756186125028162E-2},null,{"$f":"ROUND(M289*L286,0)","v":3105480},2804444,{"$f":"N286-O286","v":301036},10.734248927773205,199.9999999977,211.99999999982001,56,852,277,211.99999999982001,3764217.747661632,277,56,852,277,211.99999999982001,3764217.747661632]
["00560998","0056","0998",278,56,"",998,"",0,0,0,{"$f":"IF(K289>0, K287/K289, 0)","v":0},null,{"$f":"ROUND(M289*L287,0)","v":0},0,{"$f":"N287-O287","v":0},0,0,0,56,998,278,0,0,278,56,998,278,0,0]
["00560998","0056","0998",279,56,"",998,"",0,0,0,{"$f":"IF(K289>0, K288/K289, 0)","v":0},null,{"$f":"ROUND(M289*L288,0)","v":0},0,{"$f":"N288-O288","v":0},0,0,0,56,998,279,0,0,279,56,998,279,0,0]
["00560999","0056","0999",280,56,"Chelmsford                   ",999,"Total",57689266.501443326,1,{"$f":"SUM(K285:K288)","v":58129083.457661629},{"$f":"SUM(L285:L288)","v":1},{"$f":"VLOOKUP(E289,town351,24)","v":47956494},{"$f":"SUM(N285:N288)","v":47956494},46684327,{"$f":"SUM(P285:P288)","v":1272167},2.7250408900614547,5311.9999999976999,5167.9999999998199,56,999,280,5167.9999999998199,58129083.457661629,280,56,999,280,5167.9999999998199,58129083.457661629]
["00570057","0057","0057",281,57,"Chelsea                      ",57,"Chelsea",105670798.9015,0.95652866724560137,{"$f":"X290","v":114106347.65687999},{"$f":"IF(K294>0, K290/K294, 0)","v":0.9599865110243212},null,{"$f":"ROUND(M294*L290,0)","v":19018231},19903086,{"$f":"N290-O290","v":-884855},-4.4458181007709054,7289,7097,57,57,281,7097,114106347.65687999,281,57,57,281,7097,114106347.65687999]
["00570853","0057","0853",282,57,"Chelsea                      ",853,"Northeast Metropolitan",4802417.9711184371,4.3471332754398594E-2,4756101.2905814387,{"$f":"IF(K294>0, K291/K294, 0)","v":4.0013488975678857E-2},null,{"$f":"ROUND(M294*L291,0)","v":792705},904535,{"$f":"N291-O291","v":-111830},-12.36325846982151,255.99999999940999,238.00000000412999,57,853,282,238.00000000412999,4756101.2905814387,282,57,853,282,238.00000000412999,4756101.2905814387]
["00570998","0057","0998",283,57,"",998,"",0,0,0,{"$f":"IF(K294>0, K292/K294, 0)","v":0},null,{"$f":"ROUND(M294*L292,0)","v":0},0,{"$f":"N292-O292","v":0},0,0,0,57,998,283,0,0,283,57,998,283,0,0]
["00570998","0057","0998",284,57,"",998,"",0,0,0,{"$f":"IF(K294>0, K293/K294, 0)","v":0},null,{"$f":"ROUND(M294*L293,0)","v":0},0,{"$f":"N293-O293","v":0},0,0,0,57,998,284,0,0,284,57,998,284,0,0]
["00570999","0057","0999",285,57,"Chelsea                      ",999,"Total",110473216.87261844,1,{"$f":"SUM(K290:K293)","v":118862448.94746143},{"$f":"SUM(L290:L293)","v":1},{"$f":"VLOOKUP(E294,town351,24)","v":19810936},{"$f":"SUM(N290:N293)","v":19810936},20807621,{"$f":"SUM(P290:P293)","v":-996685},-4.7899997794077471,7544.9999999994097,7335.00000000413,57,999,285,7335.00000000413,118862448.94746143,285,57,999,285,7335.00000000413,118862448.94746143]
["00580058","0058","0058",286,58,"Cheshire                     ",58,"Cheshire",14657.8,2.7993156235902187E-3,{"$f":"X295","v":14952.78},{"$f":"IF(K299>0, K295/K299, 0)","v":3.0248364030247398E-3},null,{"$f":"ROUND(M299*L295,0)","v":7513},6986,{"$f":"N295-O295","v":527},7.5436587460635556,1,1,58,58,286,1,14952.78,286,58,58,286,1,14952.78]
["00580603","0058","0603",287,58,"Cheshire                     ",603,"Hoosac Valley",4309483.089944331,0.82301596032685786,4075698.6627062601,{"$f":"IF(K299>0, K296/K299, 0)","v":0.82448358651121367},null,{"$f":"ROUND(M299*L296,0)","v":2047941},2053814,{"$f":"N296-O296","v":-5873},-0.28595578762244295,352.29105058355998,315.51805205210002,58,603,287,315.51805205210002,4075698.6627062601,287,58,603,287,315.51805205210002,4075698.6627062601]
["00580851","0058","0851",288,58,"Cheshire                     ",851,"Northern Berkshire",912067.51630921871,0.17418472404955196,852683.66958202654,{"$f":"IF(K299>0, K297/K299, 0)","v":0.17249157708576152},null,{"$f":"ROUND(M299*L297,0)","v":428453},434673,{"$f":"N297-O297","v":-6220},-1.430960745203866,51.000000002250005,46.00000000192,58,851,288,46.00000000192,852683.66958202654,288,58,851,288,46.00000000192,852683.66958202654]
["00580998","0058","0998",289,58,"",998,"",0,0,0,{"$f":"IF(K299>0, K298/K299, 0)","v":0},null,{"$f":"ROUND(M299*L298,0)","v":0},0,{"$f":"N298-O298","v":0},0,0,0,58,998,289,0,0,289,58,998,289,0,0]
["00580999","0058","0999",290,58,"Cheshire                     ",999,"Total",5236208.4062535493,1,{"$f":"SUM(K295:K298)","v":4943335.1122882869},{"$f":"SUM(L295:L298)","v":1},{"$f":"VLOOKUP(E299,town351,24)","v":2483908},{"$f":"SUM(N295:N298)","v":2483907},2495473,{"$f":"SUM(P295:P298)","v":-11566},-0.46347926825896335,404.29105058581001,362.51805205402002,58,999,290,362.51805205402002,4943335.1122882869,290,58,999,290,362.51805205402002,4943335.1122882869]
["00590059","0059","0059",291,59,"Chester                      ",59,"Chester",131920.19999999998,7.4640957949214229E-2,{"$f":"X300","v":134575.02000000002},{"$f":"IF(K304>0, K300/K304, 0)","v":7.1713518943986351E-2},null,{"$f":"ROUND(M304*L300,0)","v":64400},68221,{"$f":"N300-O300","v":-3821},-5.6009146743671305,9,9,59,59,291,9,134575.02000000002,291,59,59,291,9,134575.02000000002]
["00590672","0059","0672",292,59,"Chester                      ",672,"Gateway",1635476.7309150428,0.92535904205078578,1741989.1478400028,{"$f":"IF(K304>0, K301/K304, 0)","v":0.92828648105601363},null,{"$f":"ROUND(M304*L301,0)","v":833617},845762,{"$f":"N301-O301","v":-12145},-1.435983172571007,138.44482366367001,141.63934426199998,59,672,292,141.63934426199998,1741989.1478400028,292,59,672,292,141.63934426199998,1741989.1478400028]
["00590998","0059","0998",293,59,"",998,"",0,0,0,{"$f":"IF(K304>0, K302/K304, 0)","v":0},null,{"$f":"ROUND(M304*L302,0)","v":0},0,{"$f":"N302-O302","v":0},0,0,0,59,998,293,0,0,293,59,998,293,0,0]
["00590998","0059","0998",294,59,"",998,"",0,0,0,{"$f":"IF(K304>0, K303/K304, 0)","v":0},null,{"$f":"ROUND(M304*L303,0)","v":0},0,{"$f":"N303-O303","v":0},0,0,0,59,998,294,0,0,294,59,998,294,0,0]
["00590999","0059","0999",295,59,"Chester                      ",999,"Total",1767396.9309150428,1,{"$f":"SUM(K300:K303)","v":1876564.1678400028},{"$f":"SUM(L300:L303)","v":1},{"$f":"VLOOKUP(E304,town351,24)","v":898017},{"$f":"SUM(N300:N303)","v":898017},913983,{"$f":"SUM(P300:P303)","v":-15966},-1.7468596243037342,147.44482366367001,150.63934426199998,59,999,295,150.63934426199998,1876564.1678400028,295,59,999,295,150.63934426199998,1876564.1678400028]
["00600060","0060","0060",296,60,"Chesterfield                 ",60,"Chesterfield",276890.62,0.20834640042093938,{"$f":"X305","v":267393.48},{"$f":"IF(K309>0, K305/K309, 0)","v":0.22214940486433649},null,{"$f":"ROUND(M309*L305,0)","v":209594},199297,{"$f":"N305-O305","v":10297},5.1666608127568399,17,16,60,60,296,16,267393.48,296,60,60,296,16,267393.48]
["00600632","0060","0632",297,60,"Chesterfield                 ",632,"Chesterfield Goshen",508920.60210110876,0.38293740520290348,507304.84455964126,{"$f":"IF(K309>0, K306/K309, 0)","v":0.42146678110370916},null,{"$f":"ROUND(M309*L306,0)","v":397647},366305,{"$f":"N306-O306","v":31342},8.5562577633392944,48.140350876799999,44.554455445999999,60,632,297,44.554455445999999,507304.84455964126,297,60,632,297,44.554455445999999,507304.84455964126]
["00600683","0060","0683",298,60,"Chesterfield                 ",683,"Hampshire",543180.39685931033,0.40871619437615703,428966.75013769325,{"$f":"IF(K309>0, K307/K309, 0)","v":0.35638381403195429},null,{"$f":"ROUND(M309*L307,0)","v":336242},390964,{"$f":"N307-O307","v":-54722},-13.996685116788246,48.143283578880002,37.058084772059999,60,683,298,37.058084772059999,428966.75013769325,298,60,683,298,37.058084772059999,428966.75013769325]
["00600998","0060","0998",299,60,"",998,"",0,0,0,{"$f":"IF(K309>0, K308/K309, 0)","v":0},null,{"$f":"ROUND(M309*L308,0)","v":0},0,{"$f":"N308-O308","v":0},0,0,0,60,998,299,0,0,299,60,998,299,0,0]
["00600999","0060","0999",300,60,"Chesterfield                 ",999,"Total",1328991.6189604192,0.99999999999999989,{"$f":"SUM(K305:K308)","v":1203665.0746973346},{"$f":"SUM(L305:L308)","v":0.99999999999999989},{"$f":"VLOOKUP(E309,town351,24)","v":943484},{"$f":"SUM(N305:N308)","v":943483},956566,{"$f":"SUM(P305:P308)","v":-13083},-1.3677048943826144,113.28363445568,97.612540218059991,60,999,300,97.612540218059991,1203665.0746973346,300,60,999,300,97.612540218059991,1203665.0746973346]
["00610061","0061","0061",301,61,"Chicopee                     ",61,"Chicopee",99981143.989999995,1,{"$f":"X310","v":103803922.04000001},{"$f":"IF(K314>0, K310/K314, 0)","v":1},null,{"$f":"ROUND(M314*L310,0)","v":31307943},30903112,{"$f":"N310-O310","v":404831},1.3100007533221898,7571,7269,61,61,301,7269,103803922.04000001,301,61,61,301,7269,103803922.04000001]
["00610998","0061","0998",302,61,"",998,"",0,0,0,{"$f":"IF(K314>0, K311/K314, 0)","v":0},null,{"$f":"ROUND(M314*L311,0)","v":0},0,{"$f":"N311-O311","v":0},0,0,0,61,998,302,0,0,302,61,998,302,0,0]
["00610998","0061","0998",303,61,"",998,"",0,0,0,{"$f":"IF(K314>0, K312/K314, 0)","v":0},null,{"$f":"ROUND(M314*L312,0)","v":0},0,{"$f":"N312-O312","v":0},0,0,0,61,998,303,0,0,303,61,998,303,0,0]
["00610998","0061","0998",304,61,"",998,"",0,0,0,{"$f":"IF(K314>0, K313/K314, 0)","v":0},null,{"$f":"ROUND(M314*L313,0)","v":0},0,{"$f":"N313-O313","v":0},0,0,0,61,998,304,0,0,304,61,998,304,0,0]
["00610999","0061","0999",305,61,"Chicopee                     ",999,"Total",99981143.989999995,1,{"$f":"SUM(K310:K313)","v":103803922.04000001},{"$f":"SUM(L310:L313)","v":1},{"$f":"VLOOKUP(E314,town351,24)","v":31307943},{"$f":"SUM(N310:N313)","v":31307943},30903112,{"$f":"SUM(P310:P313)","v":404831},1.3100007533221898,7571,7269,61,999,305,7269,103803922.04000001,305,61,999,305,7269,103803922.04000001]
["00620062","0062","0062",306,62,"Chilmark                     ",62,"Chilmark",0,0,{"$f":"X315","v":0},{"$f":"IF(K319>0, K315/K319, 0)","v":0},null,{"$f":"ROUND(M319*L315,0)","v":0},0,{"$f":"N315-O315","v":0},0,0,0,62,62,306,0,0,306,62,62,306,0,0]
["00620700","0062","0700",307,62,"Chilmark                     ",700,"Marthas Vineyard",547467.59616776009,0.39124151475756347,617421.43495183368,{"$f":"IF(K319>0, K316/K319, 0)","v":0.41508036133357146},null,{"$f":"ROUND(M319*L316,0)","v":509373},451661,{"$f":"N316-O316","v":57712},12.777724886585293,36.999999997650001,39.999999996440003,62,700,307,39.999999996440003,617421.43495183368,307,62,700,307,39.999999996440003,617421.43495183368]
["00620774","0062","0774",308,62,"Chilmark                     ",774,"Upisland",851840.95243297715,0.60875848524243648,870053.02172489325,{"$f":"IF(K319>0, K317/K319, 0)","v":0.5849196386664286},null,{"$f":"ROUND(M319*L317,0)","v":717793},702769,{"$f":"N317-O317","v":15024},2.1378290732801246,77.229629628590004,77.214105794519995,62,774,308,77.214105794519995,870053.02172489325,308,62,774,308,77.214105794519995,870053.02172489325]
["00620998","0062","0998",309,62,"",998,"",0,0,0,{"$f":"IF(K319>0, K318/K319, 0)","v":0},null,{"$f":"ROUND(M319*L318,0)","v":0},0,{"$f":"N318-O318","v":0},0,0,0,62,998,309,0,0,309,62,998,309,0,0]
["00620999","0062","0999",310,62,"Chilmark                     ",999,"Total",1399308.5486007372,1,{"$f":"SUM(K315:K318)","v":1487474.4566767269},{"$f":"SUM(L315:L318)","v":1},{"$f":"VLOOKUP(E319,town351,24)","v":1227166},{"$f":"SUM(N315:N318)","v":1227166},1154430,{"$f":"SUM(P315:P318)","v":72736},6.300598563793387,114.22962962624001,117.21410579095999,62,999,310,117.21410579095999,1487474.4566767269,310,62,999,310,117.21410579095999,1487474.4566767269]
["00630063","0063","0063",311,63,"Clarksburg                   ",63,"Clarksburg",2005332.3699999996,0.69160929793510051,{"$f":"X320","v":2139256.1799999997},{"$f":"IF(K324>0, K320/K324, 0)","v":0.72397723345869547},null,{"$f":"ROUND(M324*L320,0)","v":735842},683465,{"$f":"N320-O320","v":52377},7.6634502132515934,171,180,63,63,311,180,2139256.1799999997,311,63,63,311,180,2139256.1799999997]
["00630851","0063","0851",312,63,"Clarksburg                   ",851,"Northern Berkshire",894183.83949459367,0.30839070206489944,815610.46653806348,{"$f":"IF(K324>0, K321/K324, 0)","v":0.27602276654130464},null,{"$f":"ROUND(M324*L321,0)","v":280546},304759,{"$f":"N321-O321","v":-24213},-7.9449663504605281,50.000000000850001,44.000000000829999,63,851,312,44.000000000829999,815610.46653806348,312,63,851,312,44.000000000829999,815610.46653806348]
["00630998","0063","0998",313,63,"",998,"",0,0,0,{"$f":"IF(K324>0, K322/K324, 0)","v":0},null,{"$f":"ROUND(M324*L322,0)","v":0},0,{"$f":"N322-O322","v":0},0,0,0,63,998,313,0,0,313,63,998,313,0,0]
["00630998","0063","0998",314,63,"",998,"",0,0,0,{"$f":"IF(K324>0, K323/K324, 0)","v":0},null,{"$f":"ROUND(M324*L323,0)","v":0},0,{"$f":"N323-O323","v":0},0,0,0,63,998,314,0,0,314,63,998,314,0,0]
["00630999","0063","0999",315,63,"Clarksburg                   ",999,"Total",2899516.2094945936,1,{"$f":"SUM(K320:K323)","v":2954866.646538063},{"$f":"SUM(L320:L323)","v":1},{"$f":"VLOOKUP(E324,town351,24)","v":1016388},{"$f":"SUM(N320:N323)","v":1016388},988224,{"$f":"SUM(P320:P323)","v":28164},2.849961142413056,221.00000000085001,224.00000000083,63,999,315,224.00000000083,2954866.646538063,315,63,999,315,224.00000000083,2954866.646538063]
["00640064","0064","0064",316,64,"Clinton                      ",64,"Clinton",25739349.560000002,1,{"$f":"X325","v":26864608.990000002},{"$f":"IF(K329>0, K325/K329, 0)","v":1},null,{"$f":"ROUND(M329*L325,0)","v":11925947},11372125,{"$f":"N325-O325","v":553822},4.869995713202238,2086,2050,64,64,316,2050,26864608.990000002,316,64,64,316,2050,26864608.990000002]
["00640998","0064","0998",317,64,"",998,"",0,0,0,{"$f":"IF(K329>0, K326/K329, 0)","v":0},null,{"$f":"ROUND(M329*L326,0)","v":0},0,{"$f":"N326-O326","v":0},0,0,0,64,998,317,0,0,317,64,998,317,0,0]
["00640998","0064","0998",318,64,"",998,"",0,0,0,{"$f":"IF(K329>0, K327/K329, 0)","v":0},null,{"$f":"ROUND(M329*L327,0)","v":0},0,{"$f":"N327-O327","v":0},0,0,0,64,998,318,0,0,318,64,998,318,0,0]
["00640998","0064","0998",319,64,"",998,"",0,0,0,{"$f":"IF(K329>0, K328/K329, 0)","v":0},null,{"$f":"ROUND(M329*L328,0)","v":0},0,{"$f":"N328-O328","v":0},0,0,0,64,998,319,0,0,319,64,998,319,0,0]
["00640999","0064","0999",320,64,"Clinton                      ",999,"Total",25739349.560000002,1,{"$f":"SUM(K325:K328)","v":26864608.990000002},{"$f":"SUM(L325:L328)","v":1},{"$f":"VLOOKUP(E329,town351,24)","v":11925947},{"$f":"SUM(N325:N328)","v":11925947},11372125,{"$f":"SUM(P325:P328)","v":553822},4.869995713202238,2086,2050,64,999,320,2050,26864608.990000002,320,64,999,320,2050,26864608.990000002]
[{"$f":"B330&C330","v":"00650065"},"0065","0065",321,65,"Cohasset                     ",65,"Cohasset",15514224.726079997,0.990842568556211,{"$f":"X330","v":15385213.724099997},{"$f":"IF(K334>0, K330/K334, 0)","v":0.99168787379448198},null,{"$f":"ROUND(M334*L330,0)","v":12692802},12799236,{"$f":"N330-O330","v":-106434},-0.83156525905139966,1468,1419,{"$f":"VLOOKUP($D330, foundoptions, VLOOKUP($T$6, foundoptcell, 2, FALSE), FALSE)","v":65},{"$f":"VLOOKUP($D330, foundoptions, VLOOKUP($T$6, foundoptcell, 2, FALSE)+1, FALSE)","v":65},{"$f":"VLOOKUP($D330, foundoptions, VLOOKUP($T$6, foundoptcell, 2, FALSE)+2, FALSE)","v":321},{"$f":"VLOOKUP($D330, foundoptions, VLOOKUP($T$6, foundoptcell, 2, FALSE)+3, FALSE)","v":1419},{"$f":"VLOOKUP($D330, foundoptions, VLOOKUP($T$6, foundoptcell, 2, FALSE)+4, FALSE)","v":15385213.724099997},321,65,65,321,1419,15385213.724099997]
["00650873","0065","0873",322,65,"Cohasset                     ",873,"South Shore",143383.47366285368,9.1574314437890009E-3,128955.73451379075,{"$f":"IF(K334>0, K331/K334, 0)","v":8.3121262055180049E-3},null,{"$f":"ROUND(M334*L331,0)","v":106388},118291,{"$f":"N331-O331","v":-11903},-10.062473053740352,8.0443622899200005,{"$f":"W331","v":6.99999999996},65,873,322,6.99999999996,128955.73451379075,{"$f":"D331","v":322},65,873,322,6.99999999996,128955.73451379075]
["00650915","0065","0915",323,65,"Cohasset                     ",915,"Norfolk County",0,0,0,{"$f":"IF(K334>0, K332/K334, 0)","v":0},null,{"$f":"ROUND(M334*L332,0)","v":0},0,{"$f":"N332-O332","v":0},0,0,0,65,915,323,0,0,323,65,915,323,0,0]
["00650998","0065","0998",324,65,"",998,"",0,0,0,{"$f":"IF(K334>0, K333/K334, 0)","v":0},null,{"$f":"ROUND(M334*L333,0)","v":0},0,{"$f":"N333-O333","v":0},0,0,0,65,998,324,0,0,324,65,998,324,0,0]
["00650999","0065","0999",325,65,"Cohasset                     ",999,"Total",15657608.19974285,1,{"$f":"SUM(K330:K333)","v":15514169.458613789},{"$f":"SUM(L330:L333)","v":1},{"$f":"VLOOKUP(E334,town351,24)","v":12799190},{"$f":"SUM(N330:N333)","v":12799190},12917527,{"$f":"SUM(P330:P333)","v":-118337},-0.91609640142420445,1476.0443622899199,1425.99999999996,65,999,325,1425.99999999996,15514169.458613789,325,65,999,325,1425.99999999996,15514169.458613789]
["00660066","0066","0066",326,66,"Colrain                      ",66,"Colrain",0,0,{"$f":"X335","v":0},{"$f":"IF(K339>0, K335/K339, 0)","v":0},null,{"$f":"ROUND(M339*L335,0)","v":0},0,{"$f":"N335-O335","v":0},0,0,0,66,66,326,0,0,326,66,66,326,0,0]
["00660717","0066","0717",327,66,"Colrain                      ",717,"Mohawk Trail",1919690.6467472708,0.80903976407161837,1702619.5551037164,{"$f":"IF(K339>0, K336/K339, 0)","v":0.78918803101562729},null,{"$f":"ROUND(M339*L336,0)","v":1059607},1040182,{"$f":"N336-O336","v":19425},{"$f":"IF(O336>0,P336*100/O336,IF(P336>0,100,0))","v":1.8674616557487056},165.87037037356998,143.60047562448,66,717,327,143.60047562448,1702619.5551037164,327,66,717,327,143.60047562448,1702619.5551037164]
["00660818","0066","0818",328,66,"Colrain                      ",818,"Franklin County",453110.70616291143,0.19096023592838157,454812.49934922491,{"$f":"IF(K339>0, K337/K339, 0)","v":0.21081196898437268},null,{"$f":"ROUND(M339*L337,0)","v":283048},245517,{"$f":"N337-O337","v":37531},{"$f":"IF(O337>0,P337*100/O337,IF(P337>0,100,0))","v":15.286517837868661},24.999999998749999,23.9999999974,66,818,328,23.9999999974,454812.49934922491,328,66,818,328,23.9999999974,454812.49934922491]
["00660998","0066","0998",329,66,"",998,"",0,0,0,{"$f":"IF(K339>0, K338/K339, 0)","v":0},null,{"$f":"ROUND(M339*L338,0)","v":0},0,{"$f":"N338-O338","v":0},{"$f":"IF(O338>0,P338*100/O338,IF(P338>0,100,0))","v":0},0,0,66,998,329,0,0,329,66,998,329,0,0]
["00660999","0066","0999",330,66,"Colrain                      ",999,"Total",2372801.3529101824,1,{"$f":"SUM(K335:K338)","v":2157432.0544529413},{"$f":"SUM(L335:L338)","v":1},{"$f":"VLOOKUP(E339,town351,24)","v":1342655},{"$f":"SUM(N335:N338)","v":1342655},1285699,{"$f":"SUM(P335:P338)","v":56956},{"$f":"IF(O339>0,P339*100/O339,IF(P339>0,100,0))","v":4.4299637784582551},190.87037037232,167.60047562188001,66,999,330,167.60047562188001,2157432.0544529413,330,66,999,330,167.60047562188001,2157432.0544529413]
["00670067","0067","0067",331,67,"Concord                      ",67,"Concord",21359034.911680002,0.63225585498681081,{"$f":"X340","v":21236752.310529996},{"$f":"IF(K344>0, K340/K344, 0)","v":0.61557403530342403},null,{"$f":"ROUND(M344*L340,0)","v":17520320},17621204,{"$f":"N340-O340","v":-100884},-0.5725147952432762,2081,1998,67,67,331,1998,21236752.310529996,331,67,67,331,1998,21236752.310529996]
["00670640","0067","0640",332,67,"Concord                      ",640,"Concord Carlisle",11921237.283552848,0.35288448669989581,12678095.823648389,{"$f":"IF(K344>0, K341/K344, 0)","v":0.36749058858011219},null,{"$f":"ROUND(M344*L341,0)","v":10459429},9835021,{"$f":"N341-O341","v":624408},6.3488222343399165,1004.6762589912299,1038.16088327494,67,640,332,1038.16088327494,12678095.823648389,332,67,640,332,1038.16088327494,12678095.823648389]
["00670830","0067","0830",333,67,"Concord                      ",830,"Minuteman",501992.91661109502,1.4859658313293446E-2,584255.29220661765,{"$f":"IF(K344>0, K342/K344, 0)","v":1.6935376116463879E-2},null,{"$f":"ROUND(M344*L342,0)","v":482011},414144,{"$f":"N342-O342","v":67867},16.38729524030289,27.000000001370001,29.000000001859998,67,830,333,29.000000001859998,584255.29220661765,333,67,830,333,29.000000001859998,584255.29220661765]
["00670998","0067","0998",334,67,"",998,"",0,0,0,{"$f":"IF(K344>0, K343/K344, 0)","v":0},null,{"$f":"ROUND(M344*L343,0)","v":0},0,{"$f":"N343-O343","v":0},0,0,0,67,998,334,0,0,334,67,998,334,0,0]
["00670999","0067","0999",335,67,"Concord                      ",999,"Total",33782265.111843944,1,{"$f":"SUM(K340:K343)","v":34499103.426385},{"$f":"SUM(L340:L343)","v":1},{"$f":"VLOOKUP(E344,town351,24)","v":28461760},{"$f":"SUM(N340:N343)","v":28461760},27870369,{"$f":"SUM(P340:P343)","v":591391},2.1219345893841592,3112.6762589926002,3065.1608832767997,67,999,335,3065.1608832767997,34499103.426385,335,67,999,335,3065.1608832767997,34499103.426385]
["00680068","0068","0068",336,68,"Conway                       ",68,"Conway",894594.8200000003,0.39645596758518004,{"$f":"X345","v":926021.78},{"$f":"IF(K349>0, K345/K349, 0)","v":0.41648800462763591},null,{"$f":"ROUND(M349*L345,0)","v":763968},738041,{"$f":"N345-O345","v":25927},3.5129484676325569,79,78,68,68,336,78,926021.78,336,68,68,336,78,926021.78]
["00680670","0068","0670",337,68,"Conway                       ",670,"Frontier",1271262.6812583415,0.56338318206806282,1221581.7804380592,{"$f":"IF(K349>0, K346/K349, 0)","v":0.54941921368644497},null,{"$f":"ROUND(M349*L346,0)","v":1007805},1048792,{"$f":"N346-O346","v":-40987},-3.908019893363031,110.38128249357,103.0000000008,68,670,337,103.0000000008,1221581.7804380592,337,68,670,337,103.0000000008,1221581.7804380592]
["00680818","0068","0818",338,68,"Conway                       ",818,"Franklin County",90622.141232582275,4.0160850346757239E-2,75802.083208068027,{"$f":"IF(K349>0, K347/K349, 0)","v":3.4092781685919178E-2},null,{"$f":"ROUND(M349*L347,0)","v":62537},74763,{"$f":"N347-O347","v":-12226},-16.353008841271752,4.99999999975,3.9999999986799999,68,818,338,3.9999999986799999,75802.083208068027,338,68,818,338,3.9999999986799999,75802.083208068027]
["00680998","0068","0998",339,68,"",998,"",0,0,0,{"$f":"IF(K349>0, K348/K349, 0)","v":0},null,{"$f":"ROUND(M349*L348,0)","v":0},0,{"$f":"N348-O348","v":0},0,0,0,68,998,339,0,0,339,68,998,339,0,0]
["00680999","0068","0999",340,68,"Conway                       ",999,"Total",2256479.6424909239,1,{"$f":"SUM(K345:K348)","v":2223405.6436461271},{"$f":"SUM(L345:L348)","v":1},{"$f":"VLOOKUP(E349,town351,24)","v":1834310},{"$f":"SUM(N345:N348)","v":1834310},1861596,{"$f":"SUM(P345:P348)","v":-27286},-1.465731555074248,194.38128249331999,184.99999999948002,68,999,340,184.99999999948002,2223405.6436461271,340,68,999,340,184.99999999948002,2223405.6436461271]
["00690069","0069","0069",341,69,"Cummington                   ",69,"Cummington",87946.800000000017,0.11323528985868357,{"$f":"X350","v":59811.12},{"$f":"IF(K354>0, K350/K354, 0)","v":8.1846231425296581E-2},null,{"$f":"ROUND(M354*L350,0)","v":49344},72556,{"$f":"N350-O350","v":-23212},-31.99184078504879,6,4,69,69,341,4,59811.12,341,69,69,341,4,59811.12]
["00690635","0069","0635",342,69,"Cummington                   ",635,"Central Berkshire",688726.26817297575,0.88676471014131641,670963.14973032149,{"$f":"IF(K354>0, K351/K354, 0)","v":0.91815376857470343},null,{"$f":"ROUND(M354*L351,0)","v":553545},568199,{"$f":"N351-O351","v":-14654},-2.5790260102534499,59.37984495744,55.270833328280006,69,635,342,55.270833328280006,670963.14973032149,342,69,635,342,55.270833328280006,670963.14973032149]
["00690998","0069","0998",343,69,"",998,"",0,0,0,{"$f":"IF(K354>0, K352/K354, 0)","v":0},null,{"$f":"ROUND(M354*L352,0)","v":0},0,{"$f":"N352-O352","v":0},0,0,0,69,998,343,0,0,343,69,998,343,0,0]
["00690998","0069","0998",344,69,"",998,"",0,0,0,{"$f":"IF(K354>0, K353/K354, 0)","v":0},null,{"$f":"ROUND(M354*L353,0)","v":0},0,{"$f":"N353-O353","v":0},0,0,0,69,998,344,0,0,344,69,998,344,0,0]
["00690999","0069","0999",345,69,"Cummington                   ",999,"Total",776673.06817297579,1,{"$f":"SUM(K350:K353)","v":730774.26973032148},{"$f":"SUM(L350:L353)","v":1},{"$f":"VLOOKUP(E354,town351,24)","v":602889},{"$f":"SUM(N350:N353)","v":602889},640755,{"$f":"SUM(P350:P353)","v":-37866},-5.9095910293325842,65.37984495744,59.270833328280006,69,999,345,59.270833328280006,730774.26973032148,345,69,999,345,59.270833328280006,730774.26973032148]
["00700070","0070","0070",346,70,"Dalton                       ",70,"Dalton",379495.22,3.5318881446766037E-2,{"$f":"X355","v":312251.82},{"$f":"IF(K359>0, K355/K359, 0)","v":2.8387209667919751E-2},null,{"$f":"ROUND(M359*L355,0)","v":155489},187215,{"$f":"N355-O355","v":-31726},-16.946291696712336,24,19,70,70,346,19,312251.82,346,70,70,346,19,312251.82]
["00700635","0070","0635",347,70,"Dalton                       ",635,"Central Berkshire",10365330.336607436,0.96468111855323391,10687484.457457177,{"$f":"IF(K359>0, K356/K359, 0)","v":0.97161279033208026},null,{"$f":"ROUND(M359*L356,0)","v":5321930},5113499,{"$f":"N356-O356","v":208431},4.0760934929292052,893.66666666156004,880.3854166717199,70,635,347,880.3854166717199,10687484.457457177,347,70,635,347,880.3854166717199,10687484.457457177]
["00700998","0070","0998",348,70,"",998,"",0,0,0,{"$f":"IF(K359>0, K357/K359, 0)","v":0},null,{"$f":"ROUND(M359*L357,0)","v":0},0,{"$f":"N357-O357","v":0},0,0,0,70,998,348,0,0,348,70,998,348,0,0]
["00700998","0070","0998",349,70,"",998,"",0,0,0,{"$f":"IF(K359>0, K358/K359, 0)","v":0},null,{"$f":"ROUND(M359*L358,0)","v":0},0,{"$f":"N358-O358","v":0},0,0,0,70,998,349,0,0,349,70,998,349,0,0]
["00700999","0070","0999",350,70,"Dalton                       ",999,"Total",10744825.556607436,1,{"$f":"SUM(K355:K358)","v":10999736.277457178},{"$f":"SUM(L355:L358)","v":1},{"$f":"VLOOKUP(E359,town351,24)","v":5477419},{"$f":"SUM(N355:N358)","v":5477419},5300714,{"$f":"SUM(P355:P358)","v":176705},3.3336075102335272,917.66666666156004,899.3854166717199,70,999,350,899.3854166717199,10999736.277457178,350,70,999,350,899.3854166717199,10999736.277457178]
["00710071","0071","0071",351,71,"Danvers                      ",71,"Danvers",37325532.020000011,0.9222711329189649,{"$f":"X360","v":37556776.830000006},{"$f":"IF(K364>0, K360/K364, 0)","v":0.91074658891781457},null,{"$f":"ROUND(M364*L360,0)","v":30917580},30589946,{"$f":"N360-O360","v":327634},1.0710512532451022,3483,3384,71,71,351,3384,37556776.830000006,351,71,71,351,3384,37556776.830000006]
["00710817","0071","0817",352,71,"Danvers                      ",817,"Essex North Shore",3145790.0107195685,7.7728867081035075E-2,3680574.2476762412,{"$f":"IF(K364>0, K361/K364, 0)","v":8.9253411082185458E-2},null,{"$f":"ROUND(M364*L361,0)","v":3029931},2578116,{"$f":"N361-O361","v":451815},17.525006632750426,183.99999999639999,202.99999999475,71,817,352,202.99999999475,3680574.2476762412,352,71,817,352,202.99999999475,3680574.2476762412]
["00710998","0071","0998",353,71,"",998,null,0,0,0,{"$f":"IF(K364>0, K362/K364, 0)","v":0},null,{"$f":"ROUND(M364*L362,0)","v":0},0,{"$f":"N362-O362","v":0},0,0,0,71,998,353,0,0,353,71,998,353,0,0]
["00710998","0071","0998",354,71,"",998,"",0,0,0,{"$f":"IF(K364>0, K363/K364, 0)","v":0},null,{"$f":"ROUND(M364*L363,0)","v":0},0,{"$f":"N363-O363","v":0},0,0,0,71,998,354,0,0,354,71,998,354,0,0]
["00710999","0071","0999",355,71,"Danvers                      ",999,"Total",40471322.030719578,1,{"$f":"SUM(K360:K363)","v":41237351.077676244},{"$f":"SUM(L360:L363)","v":1},{"$f":"VLOOKUP(E364,town351,24)","v":33947511},{"$f":"SUM(N360:N363)","v":33947511},33168062,{"$f":"SUM(P360:P363)","v":779449},2.3499986221685187,3666.9999999964002,3586.9999999947499,71,999,355,3586.9999999947499,41237351.077676244,355,71,999,355,3586.9999999947499,41237351.077676244]
["00720072","0072","0072",356,72,"Dartmouth                    ",72,"Dartmouth",38785092.380000003,0.85906803702272672,{"$f":"X365","v":38413025.859999999},{"$f":"IF(K369>0, K365/K369, 0)","v":0.85381849720578384},null,{"$f":"ROUND(M369*L365,0)","v":31690747},31997701,{"$f":"N365-O365","v":-306954},-0.9593001697215684,3517,3369,72,72,356,3369,38413025.859999999,356,72,72,356,3369,38413025.859999999]
["00720825","0072","0825",357,72,"Dartmouth                    ",825,"Greater New Bedford",5909154.0319636147,0.1308844466571801,6257701.600543227,{"$f":"IF(K369>0, K366/K369, 0)","v":0.13909191626847922},null,{"$f":"ROUND(M369*L366,0)","v":5162604},4875052,{"$f":"N366-O366","v":287552},5.8984396474129914,325.00000000047999,322.99999999157001,72,825,357,322.99999999157001,6257701.600543227,357,72,825,357,322.99999999157001,6257701.600543227]
["00720910","0072","0910",358,72,"Dartmouth                    ",910,"Bristol County",453623.96442420577,1.0047516320093128E-2,318958.26975062385,{"$f":"IF(K369>0, K367/K369, 0)","v":7.0895865257367859E-3},null,{"$f":"ROUND(M369*L367,0)","v":263141},374240,{"$f":"N367-O367","v":-111099},-29.686564771269772,25.99999999884,18.000000000699998,72,910,358,18.000000000699998,318958.26975062385,358,72,910,358,18.000000000699998,318958.26975062385]
["00720998","0072","0998",359,72,"",998,"",0,0,0,{"$f":"IF(K369>0, K368/K369, 0)","v":0},null,{"$f":"ROUND(M369*L368,0)","v":0},0,{"$f":"N368-O368","v":0},0,0,0,72,998,359,0,0,359,72,998,359,0,0]
["00720999","0072","0999",360,72,"Dartmouth                    ",999,"Total",45147870.376387827,1,{"$f":"SUM(K365:K368)","v":44989685.730293855},{"$f":"SUM(L365:L368)","v":0.99999999999999978},{"$f":"VLOOKUP(E369,town351,24)","v":37116491},{"$f":"SUM(N365:N368)","v":37116492},37246993,{"$f":"SUM(P365:P368)","v":-130501},-0.35036653831357606,3867.9999999993202,3709.9999999922697,72,999,360,3709.9999999922697,44989685.730293855,360,72,999,360,3709.9999999922697,44989685.730293855]
["00730073","0073","0073",361,73,"Dedham                       ",73,"Dedham",31069861.763470002,0.94099752274281101,{"$f":"X370","v":30666508.900769994},{"$f":"IF(K374>0, K370/K374, 0)","v":0.93917641523512374},null,{"$f":"ROUND(M374*L370,0)","v":25299870},25205198,{"$f":"N370-O370","v":94672},0.37560506368567309,2700,2586,73,73,361,2586,30666508.900769994,361,73,73,361,2586,30666508.900769994]
["00730806","0073","0806",362,73,"Dedham                       ",806,"Blue Hills",1696674.5176253424,5.1386341211966509E-2,1781967.6516696701,{"$f":"IF(K374>0, K371/K374, 0)","v":5.4573606554805823E-2},null,{"$f":"ROUND(M374*L371,0)","v":1470123},1376415,{"$f":"N371-O371","v":93708},6.8081210971981561,93.00000000368,94.00000000384,73,806,362,94.00000000384,1781967.6516696701,362,73,806,362,94.00000000384,1781967.6516696701]
["00730915","0073","0915",363,73,"Dedham                       ",915,"Norfolk County",251469.6249221912,7.6161360452225504E-3,204077.75291158599,{"$f":"IF(K374>0, K372/K374, 0)","v":6.2499782100704079E-3},null,{"$f":"ROUND(M374*L372,0)","v":168364},204003,{"$f":"N372-O372","v":-35639},-17.469841129787309,13.99999999974,11.00000000108,73,915,363,11.00000000108,204077.75291158599,363,73,915,363,11.00000000108,204077.75291158599]
["00730998","0073","0998",364,73,"",998,"",0,0,0,{"$f":"IF(K374>0, K373/K374, 0)","v":0},null,{"$f":"ROUND(M374*L373,0)","v":0},0,{"$f":"N373-O373","v":0},0,0,0,73,998,364,0,0,364,73,998,364,0,0]
["00730999","0073","0999",365,73,"Dedham                       ",999,"Total",33018005.906017534,1,{"$f":"SUM(K370:K373)","v":32652554.30535125},{"$f":"SUM(L370:L373)","v":1},{"$f":"VLOOKUP(E374,town351,24)","v":26938357},{"$f":"SUM(N370:N373)","v":26938357},26785616,{"$f":"SUM(P370:P373)","v":152741},0.57023515904954358,2807.0000000034197,2691.0000000049199,73,999,365,2691.0000000049199,32652554.30535125,365,73,999,365,2691.0000000049199,32652554.30535125]
["00740074","0074","0074",366,74,"Deerfield                    ",74,"Deerfield",3368724.2699999996,0.48731824552638614,{"$f":"X375","v":3195342.38},{"$f":"IF(K379>0, K375/K379, 0)","v":0.47669789267921692},null,{"$f":"ROUND(M379*L375,0)","v":2636157},2732273,{"$f":"N375-O375","v":-96116},-3.5178036748158035,315,293,74,74,366,293,3195342.38,366,74,74,366,293,3195342.38]
["00740670","0074","0670",367,74,"Deerfield                    ",670,"Frontier",3235941.370542462,0.46810992676435409,3166624.6153141782,{"$f":"IF(K379>0, K376/K379, 0)","v":0.47241362630642564},null,{"$f":"ROUND(M379*L376,0)","v":2612465},2624577,{"$f":"N376-O376","v":-12112},-0.46148388864186496,280.97053726215,267.00000000239999,74,670,367,267.00000000239999,3166624.6153141782,367,74,670,367,267.00000000239999,3166624.6153141782]
["00740818","0074","0818",368,74,"Deerfield                    ",818,"Franklin County",308115.28019077977,4.4571827709259715E-2,341109.3745875312,{"$f":"IF(K379>0, K377/K379, 0)","v":5.0888481014357452E-2},null,{"$f":"ROUND(M379*L377,0)","v":281415},249903,{"$f":"N377-O377","v":31512},12.609692560713556,16.999999999149999,18.00000000204,74,818,368,18.00000000204,341109.3745875312,368,74,818,368,18.00000000204,341109.3745875312]
["00740998","0074","0998",369,74,"",998,"",0,0,0,{"$f":"IF(K379>0, K378/K379, 0)","v":0},null,{"$f":"ROUND(M379*L378,0)","v":0},0,{"$f":"N378-O378","v":0},0,0,0,74,998,369,0,0,369,74,998,369,0,0]
["00740999","0074","0999",370,74,"Deerfield                    ",999,"Total",6912780.9207332414,1,{"$f":"SUM(K375:K378)","v":6703076.3699017093},{"$f":"SUM(L375:L378)","v":1},{"$f":"VLOOKUP(E379,town351,24)","v":5530038},{"$f":"SUM(N375:N378)","v":5530037},5606753,{"$f":"SUM(P375:P378)","v":-76716},-1.3682785740695194,612.97053726129991,578.00000000443993,74,999,370,578.00000000443993,6703076.3699017093,370,74,999,370,578.00000000443993,6703076.3699017093]
["00750075","0075","0075",371,75,"Dennis                       ",75,"Dennis",0,0,{"$f":"X380","v":0},{"$f":"IF(K384>0, K380/K384, 0)","v":0},null,{"$f":"ROUND(M384*L380,0)","v":0},0,{"$f":"N380-O380","v":0},0,0,0,75,75,371,0,0,371,75,75,371,0,0]
["00750645","0075","0645",372,75,"Dennis                       ",645,"Dennis Yarmouth",12789171.252545364,0.9051480067045935,12282633.241545426,{"$f":"IF(K384>0, K381/K384, 0)","v":0.8993664631381636},null,{"$f":"ROUND(M384*L381,0)","v":10133173},10551066,{"$f":"N381-O381","v":-417893},-3.9606708933485963,1045.7855227815,964.16587528299988,75,645,372,964.16587528299988,12282633.241545426,372,75,645,372,964.16587528299988,12282633.241545426]
["00750815","0075","0815",373,75,"Dennis                       ",815,"Cape Cod",1340198.9253854065,9.4851993295406528E-2,1374350.5853671061,{"$f":"IF(K384>0, K382/K384, 0)","v":0.10063353686183643},null,{"$f":"ROUND(M384*L382,0)","v":1133839},1105664,{"$f":"N382-O382","v":28175},2.5482425040518639,72.999999999099998,72.999999999780002,75,815,373,72.999999999780002,1374350.5853671061,373,75,815,373,72.999999999780002,1374350.5853671061]
["00750998","0075","0998",374,75,"",998,"",0,0,0,{"$f":"IF(K384>0, K383/K384, 0)","v":0},null,{"$f":"ROUND(M384*L383,0)","v":0},0,{"$f":"N383-O383","v":0},0,0,0,75,998,374,0,0,374,75,998,374,0,0]
["00750999","0075","0999",375,75,"Dennis                       ",999,"Total",14129370.17793077,1,{"$f":"SUM(K380:K383)","v":13656983.826912532},{"$f":"SUM(L380:L383)","v":1},{"$f":"VLOOKUP(E384,town351,24)","v":11267012},{"$f":"SUM(N380:N383)","v":11267012},11656730,{"$f":"SUM(P380:P383)","v":-389718},-3.3432875257469292,1118.7855227806001,1037.1658752827798,75,999,375,1037.1658752827798,13656983.826912532,375,75,999,375,1037.1658752827798,13656983.826912532]
["00760076","0076","0076",376,76,"Dighton                      ",76,"Dighton",0,0,{"$f":"X385","v":0},{"$f":"IF(K389>0, K385/K389, 0)","v":0},null,{"$f":"ROUND(M389*L385,0)","v":0},0,{"$f":"N385-O385","v":0},0,0,0,76,76,376,0,0,376,76,76,376,0,0]
["00760650","0076","0650",377,76,"Dighton                      ",650,"Dighton Rehoboth",13490477.675196325,0.88988706011655794,13330977.968,{"$f":"IF(K389>0, K386/K389, 0)","v":0.86338651035566671},null,{"$f":"ROUND(M389*L386,0)","v":6858628},6784858,{"$f":"N386-O386","v":73770},1.0872740446447073,1223.42520775394,1172.5999999999999,76,650,377,1172.5999999999999,13330977.968,377,76,650,377,1172.5999999999999,13330977.968]
["00760810","0076","0810",378,76,"Dighton                      ",810,"Bristol Plymouth",1477368.3331987122,9.7453255132448E-2,1896719.3594906563,{"$f":"IF(K389>0, K387/K389, 0)","v":0.12284184347507077},null,{"$f":"ROUND(M389*L387,0)","v":975839},743023,{"$f":"N387-O387","v":232816},31.333619551480911,85.317875845179998,105.31088082375001,76,810,378,105.31088082375001,1896719.3594906563,378,76,810,378,105.31088082375001,1896719.3594906563]
["00760910","0076","0910",379,76,"Dighton                      ",910,"Bristol County",191917.83110762169,1.2659684750993975E-2,212638.84652297923,{"$f":"IF(K389>0, K388/K389, 0)","v":1.3771646169262443E-2},null,{"$f":"ROUND(M389*L388,0)","v":109400},96523,{"$f":"N388-O388","v":12877},13.340861763517504,10.9999999998,12.00000000174,76,910,379,12.00000000174,212638.84652297923,379,76,910,379,12.00000000174,212638.84652297923]
["00760999","0076","0999",380,76,"Dighton                      ",999,"Total",15159763.839502661,0.99999999999999989,{"$f":"SUM(K385:K388)","v":15440336.174013637},{"$f":"SUM(L385:L388)","v":0.99999999999999989},{"$f":"VLOOKUP(E389,town351,24)","v":7943867},{"$f":"SUM(N385:N388)","v":7943867},7624404,{"$f":"SUM(P385:P388)","v":319463},4.1900061958941315,1319.7430835989198,1289.91088082549,76,999,380,1289.91088082549,15440336.174013637,380,76,999,380,1289.91088082549,15440336.174013637]
["00770077","0077","0077",381,77,"Douglas                      ",77,"Douglas",13102757.229999999,0.86897677156107889,{"$f":"X390","v":12319421.250000002},{"$f":"IF(K394>0, K390/K394, 0)","v":0.85683263989186109},null,{"$f":"ROUND(M394*L390,0)","v":7492002},7355911,{"$f":"N390-O390","v":136091},1.8500903559056112,1213,1106,77,77,381,1106,12319421.250000002,381,77,77,381,1106,12319421.250000002]
["00770805","0077","0805",382,77,"Douglas                      ",805,"Blackstone Valley",1975617.3121197706,0.13102322843892109,2058440.512543041,{"$f":"IF(K394>0, K391/K394, 0)","v":0.14316736010813894},null,{"$f":"ROUND(M394*L391,0)","v":1251832},1109115,{"$f":"N391-O391","v":142717},12.867646727345676,120.00000000257999,121.99999999670999,77,805,382,121.99999999670999,2058440.512543041,382,77,805,382,121.99999999670999,2058440.512543041]
["00770998","0077","0998",383,77,"",998,"",0,0,0,{"$f":"IF(K394>0, K392/K394, 0)","v":0},null,{"$f":"ROUND(M394*L392,0)","v":0},0,{"$f":"N392-O392","v":0},0,0,0,77,998,383,0,0,383,77,998,383,0,0]
["00770998","0077","0998",384,77,"",998,"",0,0,0,{"$f":"IF(K394>0, K393/K394, 0)","v":0},null,{"$f":"ROUND(M394*L393,0)","v":0},0,{"$f":"N393-O393","v":0},0,0,0,77,998,384,0,0,384,77,998,384,0,0]
[{"$f":"B394&C394","v":"00770999"},"0077","0999",385,77,"Douglas                      ",999,"Total",15078374.542119769,1,{"$f":"SUM(K390:K393)","v":14377861.762543043},{"$f":"SUM(L390:L393)","v":1},{"$f":"VLOOKUP(E394,town351,24)","v":8743834},{"$f":"SUM(N390:N393)","v":8743834},8465026,{"$f":"SUM(P390:P393)","v":278808},3.2936461152038992,1333.00000000258,1227.9999999967099,{"$f":"VLOOKUP($D394, foundoptions, VLOOKUP($T$6, foundoptcell, 2, FALSE), FALSE)","v":77},{"$f":"VLOOKUP($D394, foundoptions, VLOOKUP($T$6, foundoptcell, 2, FALSE)+1, FALSE)","v":999},{"$f":"VLOOKUP($D394, foundoptions, VLOOKUP($T$6, foundoptcell, 2, FALSE)+2, FALSE)","v":385},{"$f":"VLOOKUP($D394, foundoptions, VLOOKUP($T$6, foundoptcell, 2, FALSE)+3, FALSE)","v":1227.9999999967099},{"$f":"VLOOKUP($D394, foundoptions, VLOOKUP($T$6, foundoptcell, 2, FALSE)+4, FALSE)","v":14377861.762543043},385,77,999,385,1227.9999999967099,14377861.762543043]
["00780078","0078","0078",386,78,"Dover                        ",78,"Dover",4983216.4504999993,0.39452532817002994,{"$f":"X395","v":4983017.6314199995},{"$f":"IF(K399>0, K395/K399, 0)","v":0.39114213336632325},null,{"$f":"ROUND(M399*L395,0)","v":4110989},4111154,{"$f":"N395-O395","v":-165},-4.013471643241776E-3,492,{"$f":"W395","v":476},78,78,386,476,4983017.6314199995,{"$f":"D395","v":386},78,78,386,476,4983017.6314199995]
["00780655","0078","0655",387,78,"Dover                        ",655,"Dover Sherborn",7591922.9909267463,0.60105876178355466,7676055.0243657483,{"$f":"IF(K399>0, K396/K399, 0)","v":0.60253219236796229},null,{"$f":"ROUND(M399*L396,0)","v":6332745},6263336,{"$f":"N396-O396","v":69409},1.1081794110997718,697.74278648148004,686.97425249442995,78,655,387,686.97425249442995,7676055.0243657483,387,78,655,387,686.97425249442995,7676055.0243657483]
["00780830","0078","0830",388,78,"Dover                        ",830,"Minuteman",55776.990768362833,4.4159100464153276E-3,80586.936839029935,{"$f":"IF(K399>0, K397/K399, 0)","v":6.3256742657145405E-3},null,{"$f":"ROUND(M399*L397,0)","v":66484},46016,{"$f":"N397-O397","v":20468},44.480180806675939,3.0000000019700002,3.99999999941,78,830,388,3.99999999941,80586.936839029935,388,78,830,388,3.99999999941,80586.936839029935]
["00780915","0078","0915",389,78,"Dover                        ",915,"Norfolk County",0,0,0,{"$f":"IF(K399>0, K398/K399, 0)","v":0},null,{"$f":"ROUND(M399*L398,0)","v":0},0,{"$f":"N398-O398","v":0},0,0,0,78,915,389,0,0,389,78,915,389,0,0]
["00780999","0078","0999",390,78,"Dover                        ",999,"Total",12630916.43219511,0.99999999999999989,{"$f":"SUM(K395:K398)","v":12739659.592624776},{"$f":"SUM(L395:L398)","v":1},{"$f":"VLOOKUP(E399,town351,24)","v":10510219},{"$f":"SUM(N395:N398)","v":10510218},10420506,{"$f":"SUM(P395:P398)","v":89712},0.86091788632912836,1192.7427864834499,1166.9742524938399,78,999,390,1166.9742524938399,12739659.592624776,390,78,999,390,1166.9742524938399,12739659.592624776]
["00790079","0079","0079",391,79,"Dracut                       ",79,"Dracut",44096709.129999995,0.83695425257453027,{"$f":"X400","v":46058563.059999995},{"$f":"IF(K404>0, K400/K404, 0)","v":0.84442794849678326},null,{"$f":"ROUND(M404*L400,0)","v":25045152},23979412,{"$f":"N400-O400","v":1065740},{"$f":"IF(O400>0,P400*100/O400,IF(P400>0,100,0))","v":4.4443958842693894},3964,3982,79,79,391,3982,46058563.059999995,391,79,79,391,3982,46058563.059999995]
["00790828","0079","0828",392,79,"Dracut                       ",828,"Greater Lowell",8590410.8581659161,0.16304574742546971,8485537.6439044625,{"$f":"IF(K404>0, K401/K404, 0)","v":0.15557205150321671},null,{"$f":"ROUND(M404*L401,0)","v":4614160},4671392,{"$f":"N401-O401","v":-57232},{"$f":"IF(O401>0,P401*100/O401,IF(P401>0,100,0))","v":-1.2251594385570725},463.99999998912,434.00000000658002,79,828,392,434.00000000658002,8485537.6439044625,392,79,828,392,434.00000000658002,8485537.6439044625]
["00790998","0079","0998",393,79,"",998,null,0,0,0,{"$f":"IF(K404>0, K402/K404, 0)","v":0},null,{"$f":"ROUND(M404*L402,0)","v":0},0,{"$f":"N402-O402","v":0},{"$f":"IF(O402>0,P402*100/O402,IF(P402>0,100,0))","v":0},0,0,79,998,393,0,0,393,79,998,393,0,0]
["00790998","0079","0998",394,79,"",998,"",0,0,0,{"$f":"IF(K404>0, K403/K404, 0)","v":0},null,{"$f":"ROUND(M404*L403,0)","v":0},0,{"$f":"N403-O403","v":0},{"$f":"IF(O403>0,P403*100/O403,IF(P403>0,100,0))","v":0},0,0,79,998,394,0,0,394,79,998,394,0,0]
["00790999","0079","0999",395,79,"Dracut                       ",999,"Total",52687119.988165915,1,{"$f":"SUM(K400:K403)","v":54544100.703904457},{"$f":"SUM(L400:L403)","v":1},{"$f":"VLOOKUP(E404,town351,24)","v":29659312},{"$f":"SUM(N400:N403)","v":29659312},28650804,{"$f":"SUM(P400:P403)","v":1008508},{"$f":"IF(O404>0,P404*100/O404,IF(P404>0,100,0))","v":3.5199989501167228},4427.9999999891197,4416.0000000065802,79,999,395,4416.0000000065802,54544100.703904457,395,79,999,395,4416.0000000065802,54544100.703904457]
["00800080","0080","0080",396,80,"Dudley                       ",80,"Dudley",0,0,{"$f":"X405","v":0},{"$f":"IF(K409>0, K405/K409, 0)","v":0},null,{"$f":"ROUND(M409*L405,0)","v":0},0,{"$f":"N405-O405","v":0},0,0,0,80,80,396,0,0,396,80,80,396,0,0]
["00800658","0080","0658",397,80,"Dudley                       ",658,"Dudley Charlton",18740499.230032943,0.89451738062286323,17979068.161479905,{"$f":"IF(K409>0, K406/K409, 0)","v":0.88725822294310941},null,{"$f":"ROUND(M409*L406,0)","v":6851168},6728250,{"$f":"N406-O406","v":122918},1.826894066064727,1695.9384615275201,1570.2367005528799,80,658,397,1570.2367005528799,17979068.161479905,397,80,658,397,1570.2367005528799,17979068.161479905]
["00800876","0080","0876",398,80,"Dudley                       ",876,"Southern Worcester",2209903.3401034879,0.10548261937713671,2284557.1243380588,{"$f":"IF(K409>0, K407/K409, 0)","v":0.11274177705689054},null,{"$f":"ROUND(M409*L407,0)","v":870562},793404,{"$f":"N407-O407","v":77158},9.7249320648748938,128.99999999513,128.00000000399999,80,876,398,128.00000000399999,2284557.1243380588,398,80,876,398,128.00000000399999,2284557.1243380588]
["00800998","0080","0998",399,80,"",998,"",0,0,0,{"$f":"IF(K409>0, K408/K409, 0)","v":0},null,{"$f":"ROUND(M409*L408,0)","v":0},0,{"$f":"N408-O408","v":0},0,0,0,80,998,399,0,0,399,80,998,399,0,0]
["00800999","0080","0999",400,80,"Dudley                       ",999,"Total",20950402.570136432,1,{"$f":"SUM(K405:K408)","v":20263625.285817966},{"$f":"SUM(L405:L408)","v":1},{"$f":"VLOOKUP(E409,town351,24)","v":7721730},{"$f":"SUM(N405:N408)","v":7721730},7521654,{"$f":"SUM(P405:P408)","v":200076},2.6600000478618133,1824.93846152265,1698.2367005568799,80,999,400,1698.2367005568799,20263625.285817966,400,80,999,400,1698.2367005568799,20263625.285817966]
["00810081","0081","0081",401,81,"Dunstable                    ",81,"Dunstable",0,0,{"$f":"X410","v":0},{"$f":"IF(K414>0, K410/K414, 0)","v":0},null,{"$f":"ROUND(M414*L410,0)","v":0},0,{"$f":"N410-O410","v":0},0,0,0,81,81,401,0,0,401,81,81,401,0,0]
["00810673","0081","0673",402,81,"Dunstable                    ",673,"Groton Dunstable",5530334.5444473671,0.94316637401058478,5528480.5962749477,{"$f":"IF(K414>0, K411/K414, 0)","v":0.94962365782473279},null,{"$f":"ROUND(M414*L411,0)","v":4560997},4541069,{"$f":"N411-O411","v":19928},0.43883940103090263,533.13213838976003,519.47409327207004,81,673,402,519.47409327207004,5528480.5962749477,402,81,673,402,519.47409327207004,5528480.5962749477]
["00810828","0081","0828",403,81,"Dunstable                    ",828,"Greater Lowell",333248.69689633086,5.683362598941525E-2,293278.95101648179,{"$f":"IF(K414>0, K412/K414, 0)","v":5.0376342175267208E-2},null,{"$f":"ROUND(M414*L412,0)","v":241955},273637,{"$f":"N412-O412","v":-31682},-11.578112609040444,17.999999989439999,15.000000009959999,81,828,403,15.000000009959999,293278.95101648179,403,81,828,403,15.000000009959999,293278.95101648179]
["00810998","0081","0998",404,81,"",998,"",0,0,0,{"$f":"IF(K414>0, K413/K414, 0)","v":0},null,{"$f":"ROUND(M414*L413,0)","v":0},0,{"$f":"N413-O413","v":0},0,0,0,81,998,404,0,0,404,81,998,404,0,0]
["00810999","0081","0999",405,81,"Dunstable                    ",999,"Total",5863583.2413436975,1,{"$f":"SUM(K410:K413)","v":5821759.5472914297},{"$f":"SUM(L410:L413)","v":1},{"$f":"VLOOKUP(E414,town351,24)","v":4802952},{"$f":"SUM(N410:N413)","v":4802952},4814706,{"$f":"SUM(P410:P413)","v":-11754},-0.24412705573299803,551.1321383792,534.47409328203003,81,999,405,534.47409328203003,5821759.5472914297,405,81,999,405,534.47409328203003,5821759.5472914297]
["00820082","0082","0082",406,82,"Duxbury                      ",82,"Duxbury",30754555.552399997,1,{"$f":"X415","v":29901986.556480002},{"$f":"IF(K419>0, K415/K419, 0)","v":1},null,{"$f":"ROUND(M419*L415,0)","v":24669139},25372508,{"$f":"N415-O415","v":-703369},-2.772169783136929,2888,2730,82,82,406,2730,29901986.556480002,406,82,82,406,2730,29901986.556480002]
["00820998","0082","0998",407,82,"",998,"",0,0,0,{"$f":"IF(K419>0, K416/K419, 0)","v":0},null,{"$f":"ROUND(M419*L416,0)","v":0},0,{"$f":"N416-O416","v":0},0,0,0,82,998,407,0,0,407,82,998,407,0,0]
["00820998","0082","0998",408,82,"",998,"",0,0,0,{"$f":"IF(K419>0, K417/K419, 0)","v":0},null,{"$f":"ROUND(M419*L417,0)","v":0},0,{"$f":"N417-O417","v":0},0,0,0,82,998,408,0,0,408,82,998,408,0,0]
["00820998","0082","0998",409,82,"",998,"",0,0,0,{"$f":"IF(K419>0, K418/K419, 0)","v":0},null,{"$f":"ROUND(M419*L418,0)","v":0},0,{"$f":"N418-O418","v":0},0,0,0,82,998,409,0,0,409,82,998,409,0,0]
["00820999","0082","0999",410,82,"Duxbury                      ",999,"Total",30754555.552399997,1,{"$f":"SUM(K415:K418)","v":29901986.556480002},{"$f":"SUM(L415:L418)","v":1},{"$f":"VLOOKUP(E419,town351,24)","v":24669139},{"$f":"SUM(N415:N418)","v":24669139},25372508,{"$f":"SUM(P415:P418)","v":-703369},-2.772169783136929,2888,2730,82,999,410,2730,29901986.556480002,410,82,999,410,2730,29901986.556480002]
["00830083","0083","0083",411,83,"East Bridgewater             ",83,"East Bridgewater",23574021.350000001,0.94033273871147893,{"$f":"X420","v":23394636.07},{"$f":"IF(K424>0, K420/K424, 0)","v":0.93106007228557164},null,{"$f":"ROUND(M424*L420,0)","v":12898727},12580578,{"$f":"N420-O420","v":318149},2.5288901670495583,2153,2067,83,83,411,2067,23394636.07,411,83,83,411,2067,23394636.07]
["00830872","0083","0872",412,83,"East Bridgewater             ",872,"Southeastern",1495850.6001174215,5.9667261288521067E-2,1732245.3916555403,{"$f":"IF(K424>0, K421/K424, 0)","v":6.8939927714428251E-2},null,{"$f":"ROUND(M424*L421,0)","v":955080},798280,{"$f":"N421-O421","v":156800},19.642230796211855,84.110891082350008,90.166563851839996,83,872,412,90.166563851839996,1732245.3916555403,412,83,872,412,90.166563851839996,1732245.3916555403]
["00830998","0083","0998",413,83,"",998,"",0,0,0,{"$f":"IF(K424>0, K422/K424, 0)","v":0},null,{"$f":"ROUND(M424*L422,0)","v":0},0,{"$f":"N422-O422","v":0},0,0,0,83,998,413,0,0,413,83,998,413,0,0]
["00830998","0083","0998",414,83,"",998,"",0,0,0,{"$f":"IF(K424>0, K423/K424, 0)","v":0},null,{"$f":"ROUND(M424*L423,0)","v":0},0,{"$f":"N423-O423","v":0},0,0,0,83,998,414,0,0,414,83,998,414,0,0]
["00830999","0083","0999",415,83,"East Bridgewater             ",999,"Total",25069871.950117424,1,{"$f":"SUM(K420:K423)","v":25126881.461655542},{"$f":"SUM(L420:L423)","v":0.99999999999999989},{"$f":"VLOOKUP(E424,town351,24)","v":13853807},{"$f":"SUM(N420:N423)","v":13853807},13378858,{"$f":"SUM(P420:P423)","v":474949},3.5499965692139046,2237.11089108235,2157.1665638518398,83,999,415,2157.1665638518398,25126881.461655542,415,83,999,415,2157.1665638518398,25126881.461655542]
["00840084","0084","0084",416,84,"East Brookfield              ",84,"East Brookfield",335521.82,8.7974533334453139E-2,{"$f":"X425","v":357110.16},{"$f":"IF(K429>0, K425/K429, 0)","v":9.1951485726998017E-2},null,{"$f":"ROUND(M429*L425,0)","v":175397},162027,{"$f":"N425-O425","v":13370},8.2517111345639922,21,22,84,84,416,22,357110.16,416,84,84,416,22,357110.16]
["00840767","0084","0767",417,84,"East Brookfield              ",767,"Spencer East Brookfield",3478329.8400530904,0.91202546666554696,3526569.9912946983,{"$f":"IF(K429>0, K426/K429, 0)","v":0.90804851427300193},null,{"$f":"ROUND(M429*L426,0)","v":1732103},1679723,{"$f":"N426-O426","v":52380},3.1183713028874402,289.90188679216004,282.71085119544,84,767,417,282.71085119544,3526569.9912946983,417,84,767,417,282.71085119544,3526569.9912946983]
["00840998","0084","0998",418,84,"",998,"",0,0,0,{"$f":"IF(K429>0, K427/K429, 0)","v":0},null,{"$f":"ROUND(M429*L427,0)","v":0},0,{"$f":"N427-O427","v":0},0,0,0,84,998,418,0,0,418,84,998,418,0,0]
["00840998","0084","0998",419,84,"",998,"",0,0,0,{"$f":"IF(K429>0, K428/K429, 0)","v":0},null,{"$f":"ROUND(M429*L428,0)","v":0},0,{"$f":"N428-O428","v":0},0,0,0,84,998,419,0,0,419,84,998,419,0,0]
["00840999","0084","0999",420,84,"East Brookfield              ",999,"Total",3813851.6600530902,1,{"$f":"SUM(K425:K428)","v":3883680.1512946985},{"$f":"SUM(L425:L428)","v":1},{"$f":"VLOOKUP(E429,town351,24)","v":1907500},{"$f":"SUM(N425:N428)","v":1907500},1841750,{"$f":"SUM(P425:P428)","v":65750},3.5699742093117957,310.90188679216004,304.71085119544,84,999,420,304.71085119544,3883680.1512946985,420,84,999,420,304.71085119544,3883680.1512946985]
["00850085","0085","0085",421,85,"Eastham                      ",85,"Eastham",2151871.9300000002,0.40929356485976232,{"$f":"X430","v":2320433.8899999997},{"$f":"IF(K434>0, K430/K434, 0)","v":0.41491485963070807},null,{"$f":"ROUND(M434*L430,0)","v":1914358},1775294,{"$f":"N430-O430","v":139064},7.8332940910068984,191,196,85,85,421,196,2320433.8899999997,421,85,85,421,196,2320433.8899999997]
["00850660","0085","0660",422,85,"Eastham                      ",660,"Nauset",2701759.4101620996,0.51388408620519277,2839105.8604416414,{"$f":"IF(K434>0, K431/K434, 0)","v":0.50765816455208923},null,{"$f":"ROUND(M434*L431,0)","v":2342262},2228952,{"$f":"N431-O431","v":113310},5.0835549621526166,231.99999999956,237.0000000053,85,660,422,237.0000000053,2839105.8604416414,422,85,660,422,237.0000000053,2839105.8604416414]
["00850815","0085","0815",423,85,"Eastham                      ",815,"Cape Cod",403895.56656389171,7.6822348935044957E-2,433014.56796788826,{"$f":"IF(K434>0, K432/K434, 0)","v":7.7426975817202912E-2},null,{"$f":"ROUND(M434*L432,0)","v":357237},333214,{"$f":"N432-O432","v":24023},7.2094809941959221,22.00000000024,22.999999998629999,85,815,423,22.999999998629999,433014.56796788826,423,85,815,423,22.999999998629999,433014.56796788826]
["00850998","0085","0998",424,85,"",998,"",0,0,0,{"$f":"IF(K434>0, K433/K434, 0)","v":0},null,{"$f":"ROUND(M434*L433,0)","v":0},0,{"$f":"N433-O433","v":0},0,0,0,85,998,424,0,0,424,85,998,424,0,0]
["00850999","0085","0999",425,85,"Eastham                      ",999,"Total",5257526.9067259915,1,{"$f":"SUM(K430:K433)","v":5592554.3184095286},{"$f":"SUM(L430:L433)","v":1.0000000000000002},{"$f":"VLOOKUP(E434,town351,24)","v":4613857},{"$f":"SUM(N430:N433)","v":4613857},4337460,{"$f":"SUM(P430:P433)","v":276397},6.3723238946295755,444.99999999980002,456.00000000392998,85,999,425,456.00000000392998,5592554.3184095286,425,85,999,425,456.00000000392998,5592554.3184095286]
["00860086","0086","0086",426,86,"Easthampton                  ",86,"Easthampton",20082994.249999996,1,{"$f":"X435","v":19817458.09},{"$f":"IF(K439>0, K435/K439, 0)","v":1},null,{"$f":"ROUND(M439*L435,0)","v":12976004},12651233,{"$f":"N435-O435","v":324771},2.5671094667215439,1719,1630,86,86,426,1630,19817458.09,426,86,86,426,1630,19817458.09]
["00860998","0086","0998",427,86,"",998,"",0,0,0,{"$f":"IF(K439>0, K436/K439, 0)","v":0},null,{"$f":"ROUND(M439*L436,0)","v":0},0,{"$f":"N436-O436","v":0},0,0,0,86,998,427,0,0,427,86,998,427,0,0]
["00860998","0086","0998",428,86,"",998,"",0,0,0,{"$f":"IF(K439>0, K437/K439, 0)","v":0},null,{"$f":"ROUND(M439*L437,0)","v":0},0,{"$f":"N437-O437","v":0},0,0,0,86,998,428,0,0,428,86,998,428,0,0]
["00860998","0086","0998",429,86,"",998,"",0,0,0,{"$f":"IF(K439>0, K438/K439, 0)","v":0},null,{"$f":"ROUND(M439*L438,0)","v":0},0,{"$f":"N438-O438","v":0},0,0,0,86,998,429,0,0,429,86,998,429,0,0]
["00860999","0086","0999",430,86,"Easthampton                  ",999,"Total",20082994.249999996,1,{"$f":"SUM(K435:K438)","v":19817458.09},{"$f":"SUM(L435:L438)","v":1},{"$f":"VLOOKUP(E439,town351,24)","v":12976004},{"$f":"SUM(N435:N438)","v":12976004},12651233,{"$f":"SUM(P435:P438)","v":324771},2.5671094667215439,1719,1630,86,999,430,1630,19817458.09,430,86,999,430,1630,19817458.09]
["00870087","0087","0087",431,87,"East Longmeadow              ",87,"East Longmeadow",29030299.670000002,1,{"$f":"X440","v":27993088.180000003},{"$f":"IF(K444>0, K440/K444, 0)","v":1},null,{"$f":"ROUND(M444*L440,0)","v":17190078},17494208,{"$f":"N440-O440","v":-304130},-1.7384610952379211,2643,2457,87,87,431,2457,27993088.180000003,431,87,87,431,2457,27993088.180000003]
["00870998","0087","0998",432,87,"",998,"",0,0,0,{"$f":"IF(K444>0, K441/K444, 0)","v":0},null,{"$f":"ROUND(M444*L441,0)","v":0},0,{"$f":"N441-O441","v":0},0,0,0,87,998,432,0,0,432,87,998,432,0,0]
["00870998","0087","0998",433,87,"",998,"",0,0,0,{"$f":"IF(K444>0, K442/K444, 0)","v":0},null,{"$f":"ROUND(M444*L442,0)","v":0},0,{"$f":"N442-O442","v":0},0,0,0,87,998,433,0,0,433,87,998,433,0,0]
["00870998","0087","0998",434,87,"",998,"",0,0,0,{"$f":"IF(K444>0, K443/K444, 0)","v":0},null,{"$f":"ROUND(M444*L443,0)","v":0},0,{"$f":"N443-O443","v":0},0,0,0,87,998,434,0,0,434,87,998,434,0,0]
["00870999","0087","0999",435,87,"East Longmeadow              ",999,"Total",29030299.670000002,1,{"$f":"SUM(K440:K443)","v":27993088.180000003},{"$f":"SUM(L440:L443)","v":1},{"$f":"VLOOKUP(E444,town351,24)","v":17190078},{"$f":"SUM(N440:N443)","v":17190078},17494208,{"$f":"SUM(P440:P443)","v":-304130},-1.7384610952379211,2643,2457,87,999,435,2457,27993088.180000003,435,87,999,435,2457,27993088.180000003]
["00880088","0088","0088",436,88,"Easton                       ",88,"Easton",37563612.82,0.95957784831677162,{"$f":"X445","v":37338104.880000003},{"$f":"IF(K449>0, K445/K449, 0)","v":0.95455121918970576},null,{"$f":"ROUND(M449*L445,0)","v":30163362},29384825,{"$f":"N445-O445","v":778537},2.6494525660778989,3516,3373,88,88,436,3373,37338104.880000003,436,88,88,436,3373,37338104.880000003]
["00880872","0088","0872",437,88,"Easton                       ",872,"Southeastern",1460235.1097219409,3.7302302931776013E-2,1636009.5365982323,{"$f":"IF(K449>0, K446/K449, 0)","v":4.1824696319879964E-2},null,{"$f":"ROUND(M449*L446,0)","v":1321640},1142296,{"$f":"N446-O446","v":179344},15.700308851646158,82.108250823180001,85.157310306319999,88,872,437,85.157310306319999,1636009.5365982323,437,88,872,437,85.157310306319999,1636009.5365982323]
["00880910","0088","0910",438,88,"Easton                       ",910,"Bristol County",122129.52889865923,3.119848751452348E-3,141759.2310153195,{"$f":"IF(K449>0, K447/K449, 0)","v":3.6240844904142431E-3},null,{"$f":"ROUND(M449*L447,0)","v":114519},95538,{"$f":"N447-O447","v":18981},19.867487282547259,7.00000000056,8.0000000011600001,88,910,438,8.0000000011600001,141759.2310153195,438,88,910,438,8.0000000011600001,141759.2310153195]
["00880998","0088","0998",439,88,"",998,"",0,0,0,{"$f":"IF(K449>0, K448/K449, 0)","v":0},null,{"$f":"ROUND(M449*L448,0)","v":0},0,{"$f":"N448-O448","v":0},0,0,0,88,998,439,0,0,439,88,998,439,0,0]
["00880999","0088","0999",440,88,"Easton                       ",999,"Total",39145977.4586206,1,{"$f":"SUM(K445:K448)","v":39115873.647613555},{"$f":"SUM(L445:L448)","v":1},{"$f":"VLOOKUP(E449,town351,24)","v":31599522},{"$f":"SUM(N445:N448)","v":31599521},30622659,{"$f":"SUM(P445:P448)","v":976862},3.1899973153866226,3605.1082508237396,3466.1573103074802,88,999,440,3466.1573103074802,39115873.647613555,440,88,999,440,3466.1573103074802,39115873.647613555]
["00890089","0089","0089",441,89,"Edgartown                    ",89,"Edgartown",5167542.74,0.65249411648748701,{"$f":"X450","v":5243884.84},{"$f":"IF(K454>0, K450/K454, 0)","v":0.63414274831191497},null,{"$f":"ROUND(M454*L450,0)","v":4326205},4263223,{"$f":"N450-O450","v":62982},1.4773329943097042,441,428,89,89,441,428,5243884.84,441,89,89,441,428,5243884.84]
["00890700","0089","0700",442,89,"Edgartown                    ",700,"Marthas Vineyard",2752134.402558723,0.34750588351251294,3025365.0315142563,{"$f":"IF(K454>0, K451/K454, 0)","v":0.36585725168808508},null,{"$f":"ROUND(M454*L451,0)","v":2495926},2270511,{"$f":"N451-O451","v":225415},9.9279413312686007,186.00000000183002,195.99999999876999,89,700,442,195.99999999876999,3025365.0315142563,442,89,700,442,195.99999999876999,3025365.0315142563]
["00890998","0089","0998",443,89,"",998,"",0,0,0,{"$f":"IF(K454>0, K452/K454, 0)","v":0},null,{"$f":"ROUND(M454*L452,0)","v":0},0,{"$f":"N452-O452","v":0},0,0,0,89,998,443,0,0,443,89,998,443,0,0]
["00890998","0089","0998",444,89,"",998,"",0,0,0,{"$f":"IF(K454>0, K453/K454, 0)","v":0},null,{"$f":"ROUND(M454*L453,0)","v":0},0,{"$f":"N453-O453","v":0},0,0,0,89,998,444,0,0,444,89,998,444,0,0]
["00890999","0089","0999",445,89,"Edgartown                    ",999,"Total",7919677.1425587237,1,{"$f":"SUM(K450:K453)","v":8269249.8715142561},{"$f":"SUM(L450:L453)","v":1},{"$f":"VLOOKUP(E454,town351,24)","v":6822131},{"$f":"SUM(N450:N453)","v":6822131},6533734,{"$f":"SUM(P450:P453)","v":288397},4.4139691025070809,627.00000000183002,623.99999999877002,89,999,445,623.99999999877002,8269249.8715142561,445,89,999,445,623.99999999877002,8269249.8715142561]
["00900090","0090","0090",446,90,"Egremont                     ",90,"Egremont",0,0,{"$f":"X455","v":0},{"$f":"IF(K459>0, K455/K459, 0)","v":0},null,{"$f":"ROUND(M459*L455,0)","v":0},0,{"$f":"N455-O455","v":0},0,0,0,90,90,446,0,0,446,90,90,446,0,0]
["00900765","0090","0765",447,90,"Egremont                     ",765,"Southern Berkshire",884343.87288658565,1,984744.44747307792,{"$f":"IF(K459>0, K456/K459, 0)","v":1},null,{"$f":"ROUND(M459*L456,0)","v":812414},729584,{"$f":"N456-O456","v":82830},11.353045022917168,75.414985593639997,82.776162792099996,90,765,447,82.776162792099996,984744.44747307792,447,90,765,447,82.776162792099996,984744.44747307792]
["00900998","0090","0998",448,90,"",998,"",0,0,0,{"$f":"IF(K459>0, K457/K459, 0)","v":0},null,{"$f":"ROUND(M459*L457,0)","v":0},0,{"$f":"N457-O457","v":0},0,0,0,90,998,448,0,0,448,90,998,448,0,0]
[{"$f":"B458&C458","v":"00900998"},"0090","0998",449,90,"",998,"",0,0,0,{"$f":"IF(K459>0, K458/K459, 0)","v":0},null,{"$f":"ROUND(M459*L458,0)","v":0},0,{"$f":"N458-O458","v":0},0,0,0,{"$f":"VLOOKUP($D458, foundoptions, VLOOKUP($T$6, foundoptcell, 2, FALSE), FALSE)","v":90},{"$f":"VLOOKUP($D458, foundoptions, VLOOKUP($T$6, foundoptcell, 2, FALSE)+1, FALSE)","v":998},{"$f":"VLOOKUP($D458, foundoptions, VLOOKUP($T$6, foundoptcell, 2, FALSE)+2, FALSE)","v":449},{"$f":"VLOOKUP($D458, foundoptions, VLOOKUP($T$6, foundoptcell, 2, FALSE)+3, FALSE)","v":0},{"$f":"VLOOKUP($D458, foundoptions, VLOOKUP($T$6, foundoptcell, 2, FALSE)+4, FALSE)","v":0},449,90,998,449,0,0]
["00900999","0090","0999",450,90,"Egremont                     ",999,"Total",884343.87288658565,1,{"$f":"SUM(K455:K458)","v":984744.44747307792},{"$f":"SUM(L455:L458)","v":1},{"$f":"VLOOKUP(E459,town351,24)","v":812414},{"$f":"SUM(N455:N458)","v":812414},729584,{"$f":"SUM(P455:P458)","v":82830},11.353045022917168,75.414985593639997,{"$f":"W459","v":82.776162792099996},90,999,450,82.776162792099996,984744.44747307792,{"$f":"D459","v":450},90,999,450,82.776162792099996,984744.44747307792]
["00910091","0091","0091",451,91,"Erving                       ",91,"Erving",2326189.63,0.83154680676142811,{"$f":"X460","v":2355746.09},{"$f":"IF(K464>0, K460/K464, 0)","v":0.82155881623555571},null,{"$f":"ROUND(M464*L460,0)","v":1943490},1919106,{"$f":"N460-O460","v":24384},1.2705916192227005,219,207,91,91,451,207,2355746.09,451,91,91,451,207,2355746.09]
["00910818","0091","0818",452,91,"Erving                       ",818,"Franklin County",471235.13440942788,0.16845319323857194,511664.0618308885,{"$f":"IF(K464>0, K461/K464, 0)","v":0.17844118376444423},null,{"$f":"ROUND(M464*L461,0)","v":422123},388769,{"$f":"N461-O461","v":33354},8.5793877598265293,25.999999998699998,27.0000000004,91,818,452,27.0000000004,511664.0618308885,452,91,818,452,27.0000000004,511664.0618308885]
["00910998","0091","0998",453,91,"",998,"",0,0,0,{"$f":"IF(K464>0, K462/K464, 0)","v":0},null,{"$f":"ROUND(M464*L462,0)","v":0},0,{"$f":"N462-O462","v":0},0,0,0,91,998,453,0,0,453,91,998,453,0,0]
["00910998","0091","0998",454,91,"",998,"",0,0,0,{"$f":"IF(K464>0, K463/K464, 0)","v":0},null,{"$f":"ROUND(M464*L463,0)","v":0},0,{"$f":"N463-O463","v":0},0,0,0,91,998,454,0,0,454,91,998,454,0,0]
["00910999","0091","0999",455,91,"Erving                       ",999,"Total",2797424.7644094275,1,{"$f":"SUM(K460:K463)","v":2867410.1518308884},{"$f":"SUM(L460:L463)","v":1},{"$f":"VLOOKUP(E464,town351,24)","v":2365613},{"$f":"SUM(N460:N463)","v":2365613},2307875,{"$f":"SUM(P460:P463)","v":57738},{"$f":"IF(O464>0,P464*100/O464,IF(P464>0,100,0))","v":2.5017819422629044},244.99999999869999,234.00000000040001,91,999,455,234.00000000040001,2867410.1518308884,455,91,999,455,234.00000000040001,2867410.1518308884]
["00920092","0092","0092",456,92,"Essex                        ",92,"Essex",0,0,{"$f":"X465","v":0},{"$f":"IF(K469>0, K465/K469, 0)","v":0},null,{"$f":"ROUND(M469*L465,0)","v":0},0,{"$f":"N465-O465","v":0},0,0,0,92,92,456,0,0,456,92,92,456,0,0]
["00920698","0092","0698",457,92,"Essex                        ",698,"Manchester Essex",5616499.488641195,0.95912575253928334,5527987.2751451852,{"$f":"IF(K469>0, K466/K469, 0)","v":0.95910574006944371},null,{"$f":"ROUND(M469*L466,0)","v":4560589},4631098,{"$f":"N466-O466","v":-70509},-1.5225115080700085,520.68242245516001,495.62668785125999,92,698,457,495.62668785125999,5527987.2751451852,457,92,698,457,495.62668785125999,5527987.2751451852]
["00920817","0092","0817",458,92,"Essex                        ",817,"Essex North Shore",239353.58773750172,4.0874247460716648E-2,235701.79916369461,{"$f":"IF(K469>0, K467/K469, 0)","v":4.0894259930556273E-2},null,{"$f":"ROUND(M469*L467,0)","v":194454},197360,{"$f":"N467-O467","v":-2906},-1.4724361572760438,13.999999997700002,13.0000000025,92,817,458,13.0000000025,235701.79916369461,458,92,817,458,13.0000000025,235701.79916369461]
["00920998","0092","0998",459,92,"",998,"",0,0,0,{"$f":"IF(K469>0, K468/K469, 0)","v":0},null,{"$f":"ROUND(M469*L468,0)","v":0},0,{"$f":"N468-O468","v":0},0,0,0,92,998,459,0,0,459,92,998,459,0,0]
["00920999","0092","0999",460,92,"Essex                        ",999,"Total",5855853.0763786966,1,{"$f":"SUM(K465:K468)","v":5763689.0743088797},{"$f":"SUM(L465:L468)","v":1},{"$f":"VLOOKUP(E469,town351,24)","v":4755043},{"$f":"SUM(N465:N468)","v":4755043},4828458,{"$f":"SUM(P465:P468)","v":-73415},-1.5204647115083119,534.68242245286001,508.62668785375996,92,999,460,508.62668785375996,5763689.0743088797,460,92,999,460,508.62668785375996,5763689.0743088797]
["00930093","0093","0093",461,93,"Everett                      ",93,"Everett",109071464.1568,1,{"$f":"X470","v":120819748.25191998},{"$f":"IF(K474>0, K470/K474, 0)","v":1},null,{"$f":"ROUND(M474*L470,0)","v":36483827},35431511,{"$f":"N470-O470","v":1052316},2.9700003479953199,7652,7505,93,93,461,7505,120819748.25191998,461,93,93,461,7505,120819748.25191998]
["00930998","0093","0998",462,93,"",998,"",0,0,0,{"$f":"IF(K474>0, K471/K474, 0)","v":0},null,{"$f":"ROUND(M474*L471,0)","v":0},0,{"$f":"N471-O471","v":0},0,0,0,93,998,462,0,0,462,93,998,462,0,0]
["00930998","0093","0998",463,93,"",998,"",0,0,0,{"$f":"IF(K474>0, K472/K474, 0)","v":0},null,{"$f":"ROUND(M474*L472,0)","v":0},0,{"$f":"N472-O472","v":0},0,0,0,93,998,463,0,0,463,93,998,463,0,0]
["00930998","0093","0998",464,93,"",998,"",0,0,0,{"$f":"IF(K474>0, K473/K474, 0)","v":0},null,{"$f":"ROUND(M474*L473,0)","v":0},0,{"$f":"N473-O473","v":0},0,0,0,93,998,464,0,0,464,93,998,464,0,0]
["00930999","0093","0999",465,93,"Everett                      ",999,"Total",109071464.1568,1,{"$f":"SUM(K470:K473)","v":120819748.25191998},{"$f":"SUM(L470:L473)","v":1},{"$f":"VLOOKUP(E474,town351,24)","v":36483827},{"$f":"SUM(N470:N473)","v":36483827},35431511,{"$f":"SUM(P470:P473)","v":1052316},2.9700003479953199,7652,7505,93,999,465,7505,120819748.25191998,465,93,999,465,7505,120819748.25191998]
["00940094","0094","0094",466,94,"Fairhaven                    ",94,"Fairhaven",20977288.109999999,0.86367418710256239,{"$f":"X475","v":20710203.66},{"$f":"IF(K479>0, K475/K479, 0)","v":0.84754144009013588},null,{"$f":"ROUND(M479*L475,0)","v":12632417},12688884,{"$f":"N475-O475","v":-56467},-0.44501155499569545,1816,1727,94,94,466,1727,20710203.66,466,94,94,466,1727,20710203.66]
["00940825","0094","0825",467,94,"Fairhaven                    ",825,"Greater New Bedford",2927303.9974906039,0.12052258076340921,3371021.9150996706,{"$f":"IF(K479>0, K476/K479, 0)","v":0.13795522320319775},null,{"$f":"ROUND(M479*L476,0)","v":2056192},1770687,{"$f":"N476-O476","v":285505},16.123967702931122,161.00000000672,174.00000000867001,94,825,467,174.00000000867001,3371021.9150996706,467,94,825,467,174.00000000867001,3371021.9150996706]
["00940910","0094","0910",468,94,"Fairhaven                    ",910,"Bristol County",383835.66221524338,1.5803232134028407E-2,354398.0774706087,{"$f":"IF(K479>0, K477/K479, 0)","v":1.450333670666642E-2},null,{"$f":"ROUND(M479*L477,0)","v":216169},232177,{"$f":"N477-O477","v":-16008},-6.8947397890402584,21.9999999996,19.99999999908,94,910,468,19.99999999908,354398.0774706087,468,94,910,468,19.99999999908,354398.0774706087]
["00940998","0094","0998",469,94,"",998,"",0,0,0,{"$f":"IF(K479>0, K478/K479, 0)","v":0},null,{"$f":"ROUND(M479*L478,0)","v":0},0,{"$f":"N478-O478","v":0},0,0,0,94,998,469,0,0,469,94,998,469,0,0]
["00940999","0094","0999",470,94,"Fairhaven                    ",999,"Total",24288427.769705847,1,{"$f":"SUM(K475:K478)","v":24435623.652570277},{"$f":"SUM(L475:L478)","v":1},{"$f":"VLOOKUP(E479,town351,24)","v":14904778},{"$f":"SUM(N475:N478)","v":14904778},14691748,{"$f":"SUM(P475:P478)","v":213030},1.4499976449364635,1999.0000000063201,1921.00000000775,94,999,470,1921.00000000775,24435623.652570277,470,94,999,470,1921.00000000775,24435623.652570277]
["00950095","0095","0095",471,95,"Fall River                   ",95,"Fall River",169915017.67999995,0.89404684185514049,{"$f":"X480","v":179465809.67000002},{"$f":"IF(K484>0, K480/K484, 0)","v":0.89125100672441437},null,{"$f":"ROUND(M484*L480,0)","v":34286248},32906432,{"$f":"N480-O480","v":1379816},4.1931498376973835,12095,11894,95,95,471,11894,179465809.67000002,471,95,95,471,11894,179465809.67000002]
["00950821","0095","0821",472,95,"Fall River                   ",821,"Greater Fall River",19368894.11780012,0.10191387937738529,21153889.23628721,{"$f":"IF(K484>0, K481/K484, 0)","v":0.10505301880422362},null,{"$f":"ROUND(M484*L481,0)","v":4041369},3751059,{"$f":"N481-O481","v":290310},7.7394143893764404,1085.9999999956799,1110.00000000204,95,821,472,1110.00000000204,21153889.23628721,472,95,821,472,1110.00000000204,21153889.23628721]
["00950910","0095","0910",473,95,"Fall River                   ",910,"Bristol County",767671.32443048677,4.0392787674742147E-3,744235.96272889222,{"$f":"IF(K484>0, K482/K484, 0)","v":3.6959744713620409E-3},null,{"$f":"ROUND(M484*L482,0)","v":142183},148670,{"$f":"N482-O482","v":-6487},-4.3633550817246247,43.9999999992,42.000000000359996,95,910,473,42.000000000359996,744235.96272889222,473,95,910,473,42.000000000359996,744235.96272889222]
["00950998","0095","0998",474,95,"",998,"",0,0,0,{"$f":"IF(K484>0, K483/K484, 0)","v":0},null,{"$f":"ROUND(M484*L483,0)","v":0},0,{"$f":"N483-O483","v":0},0,0,0,95,998,474,0,0,474,95,998,474,0,0]
["00950999","0095","0999",475,95,"Fall River                   ",999,"Total",190051583.12223056,1,{"$f":"SUM(K480:K483)","v":201363934.86901611},{"$f":"SUM(L480:L483)","v":1},{"$f":"VLOOKUP(E484,town351,24)","v":38469800},{"$f":"SUM(N480:N483)","v":38469800},36806161,{"$f":"SUM(P480:P483)","v":1663639},4.5200014204143706,13224.99999999488,13046.000000002401,95,999,475,13046.000000002401,201363934.86901611,475,95,999,475,13046.000000002401,201363934.86901611]
["00960096","0096","0096",476,96,"Falmouth                     ",96,"Falmouth",38101629.059999995,0.92745635107326485,{"$f":"X485","v":36995294.280000001},{"$f":"IF(K489>0, K485/K489, 0)","v":0.91904886737831504},null,{"$f":"ROUND(M489*L485,0)","v":30521118},31433844,{"$f":"N485-O485","v":-912726},-2.9036410564358595,3221,3037,96,96,476,3037,36995294.280000001,476,96,96,476,3037,36995294.280000001]
["00960879","0096","0879",477,96,"Falmouth                     ",879,"Upper Cape Cod",2980227.8014127063,7.2543648926735094E-2,3258598.1876911055,{"$f":"IF(K489>0, K486/K489, 0)","v":8.0951132621684893E-2},null,{"$f":"ROUND(M489*L486,0)","v":2688343},2458688,{"$f":"N486-O486","v":229655},9.3405507327485235,172.00000000064,182.72031662489999,96,879,477,182.72031662489999,3258598.1876911055,477,96,879,477,182.72031662489999,3258598.1876911055]
["00960998","0096","0998",478,96,"",998,"",0,0,0,{"$f":"IF(K489>0, K487/K489, 0)","v":0},null,{"$f":"ROUND(M489*L487,0)","v":0},0,{"$f":"N487-O487","v":0},0,0,0,96,998,478,0,0,478,96,998,478,0,0]
["00960998","0096","0998",479,96,"",998,"",0,0,0,{"$f":"IF(K489>0, K488/K489, 0)","v":0},null,{"$f":"ROUND(M489*L488,0)","v":0},0,{"$f":"N488-O488","v":0},0,0,0,96,998,479,0,0,479,96,998,479,0,0]
["00960999","0096","0999",480,96,"Falmouth                     ",999,"Total",41081856.861412704,1,{"$f":"SUM(K485:K488)","v":40253892.467691109},{"$f":"SUM(L485:L488)","v":0.99999999999999989},{"$f":"VLOOKUP(E489,town351,24)","v":33209461},{"$f":"SUM(N485:N488)","v":33209461},33892532,{"$f":"SUM(P485:P488)","v":-683071},-2.0154026851697004,3393.0000000006398,3219.7203166249001,96,999,480,3219.7203166249001,40253892.467691109,480,96,999,480,3219.7203166249001,40253892.467691109]
["00970097","0097","0097",481,97,"Fitchburg                    ",97,"Fitchburg",77039272.929999992,0.92056324633864695,{"$f":"X490","v":80948312.820000008},{"$f":"IF(K494>0, K490/K494, 0)","v":0.9224460388730733},null,{"$f":"ROUND(M494*L490,0)","v":19699066},19328344,{"$f":"N490-O490","v":370722},1.9180225683069383,5815,5644,97,97,481,5644,80948312.820000008,481,97,97,481,5644,80948312.820000008]
["00970832","0097","0832",482,97,"Fitchburg                    ",832,"Montachusett",6647831.9336886546,7.9436753661353041E-2,6805668.8859568024,{"$f":"IF(K494>0, K491/K494, 0)","v":7.7553961126926599E-2},null,{"$f":"ROUND(M494*L491,0)","v":1656184},1667871,{"$f":"N491-O491","v":-11687},-0.70071366430617232,384.99999999300002,383.99999999315997,97,832,482,383.99999999315997,6805668.8859568024,482,97,832,482,383.99999999315997,6805668.8859568024]
["00970998","0097","0998",483,97,"",998,"",0,0,0,{"$f":"IF(K494>0, K492/K494, 0)","v":0},null,{"$f":"ROUND(M494*L492,0)","v":0},0,{"$f":"N492-O492","v":0},0,0,0,97,998,483,0,0,483,97,998,483,0,0]
["00970998","0097","0998",484,97,"",998,"",0,0,0,{"$f":"IF(K494>0, K493/K494, 0)","v":0},null,{"$f":"ROUND(M494*L493,0)","v":0},0,{"$f":"N493-O493","v":0},0,0,0,97,998,484,0,0,484,97,998,484,0,0]
["00970999","0097","0999",485,97,"Fitchburg                    ",999,"Total",83687104.863688648,1,{"$f":"SUM(K490:K493)","v":87753981.705956817},{"$f":"SUM(L490:L493)","v":0.99999999999999989},{"$f":"VLOOKUP(E494,town351,24)","v":21355250},{"$f":"SUM(N490:N493)","v":21355250},20996215,{"$f":"SUM(P490:P493)","v":359035},1.709998683095977,6199.9999999929996,6027.9999999931597,97,999,485,6027.9999999931597,87753981.705956817,485,97,999,485,6027.9999999931597,87753981.705956817]
["00980098","0098","0098",486,98,"Florida                      ",98,"Florida",747149.5,0.73581453331956692,{"$f":"X495","v":710252.54},{"$f":"IF(K499>0, K495/K499, 0)","v":0.63525567015252649},null,{"$f":"ROUND(M499*L495,0)","v":432738},475424,{"$f":"N495-O495","v":-42686},-8.9785118126135828,66,58,98,98,486,58,710252.54,486,98,98,486,58,710252.54]
["00980851","0098","0851",487,98,"Florida                      ",851,"Northern Berkshire",268255.15180715622,0.26418546668043308,407805.23322611954,{"$f":"IF(K499>0, K496/K499, 0)","v":0.36474432984747357},null,{"$f":"ROUND(M499*L496,0)","v":248465},170695,{"$f":"N496-O496","v":77770},45.560795571047777,14.999999997950001,21.999999998099998,98,851,487,21.999999998099998,407805.23322611954,487,98,851,487,21.999999998099998,407805.23322611954]
["00980998","0098","0998",488,98,"",998,"",0,0,0,{"$f":"IF(K499>0, K497/K499, 0)","v":0},null,{"$f":"ROUND(M499*L497,0)","v":0},0,{"$f":"N497-O497","v":0},0,0,0,98,998,488,0,0,488,98,998,488,0,0]
["00980998","0098","0998",489,98,"",998,"",0,0,0,{"$f":"IF(K499>0, K498/K499, 0)","v":0},null,{"$f":"ROUND(M499*L498,0)","v":0},0,{"$f":"N498-O498","v":0},0,0,0,98,998,489,0,0,489,98,998,489,0,0]
["00980999","0098","0999",490,98,"Florida                      ",999,"Total",1015404.6518071562,1,{"$f":"SUM(K495:K498)","v":1118057.7732261196},{"$f":"SUM(L495:L498)","v":1},{"$f":"VLOOKUP(E499,town351,24)","v":681203},{"$f":"SUM(N495:N498)","v":681203},646119,{"$f":"SUM(P495:P498)","v":35084},5.4299594966252345,80.999999997949999,79.999999998099995,98,999,490,79.999999998099995,1118057.7732261196,490,98,999,490,79.999999998099995,1118057.7732261196]
["00990099","0099","0099",491,99,"Foxborough                   ",99,"Foxborough",29781054.52984,0.96866204028148672,{"$f":"X500","v":29685008.984399997},{"$f":"IF(K504>0, K500/K504, 0)","v":0.96283588136387066},null,{"$f":"ROUND(M504*L500,0)","v":24490132},24569370,{"$f":"N500-O500","v":-79238},-0.32250725191569829,2639,2543,99,99,491,2543,29685008.984399997,491,99,99,491,2543,29685008.984399997]
["00990872","0099","0872",492,99,"Foxborough                   ",872,"Southeastern",747925.30019360431,2.4327105225161166E-2,904617.03778829414,{"$f":"IF(K504>0, K501/K504, 0)","v":2.9341333308451786E-2},null,{"$f":"ROUND(M504*L501,0)","v":746309},617038,{"$f":"N501-O501","v":129271},20.950249417377862,42.055445548759998,47.086983340879996,99,872,492,47.086983340879996,904617.03778829414,492,99,872,492,47.086983340879996,904617.03778829414]
["00990915","0099","0915",493,99,"Foxborough                   ",915,"Norfolk County",215545.39280451142,7.0108544933520948E-3,241182.79888593088,{"$f":"IF(K504>0, K502/K504, 0)","v":7.8227853276775453E-3},null,{"$f":"ROUND(M504*L502,0)","v":198976},177825,{"$f":"N502-O502","v":21151},11.894278082384366,12.00000000056,13.00000000076,99,915,493,13.00000000076,241182.79888593088,493,99,915,493,13.00000000076,241182.79888593088]
["00990998","0099","0998",494,99,"",998,"",0,0,0,{"$f":"IF(K504>0, K503/K504, 0)","v":0},null,{"$f":"ROUND(M504*L503,0)","v":0},0,{"$f":"N503-O503","v":0},0,0,0,99,998,494,0,0,494,99,998,494,0,0]
["00990999","0099","0999",495,99,"Foxborough                   ",999,"Total",30744525.222838115,1,{"$f":"SUM(K500:K503)","v":30830808.821074221},{"$f":"SUM(L500:L503)","v":1},{"$f":"VLOOKUP(E504,town351,24)","v":25435417},{"$f":"SUM(N500:N503)","v":25435417},25364233,{"$f":"SUM(P500:P503)","v":71184},0.28064716169418569,2693.0554455493198,2603.08698334164,99,999,495,2603.08698334164,30830808.821074221,495,99,999,495,2603.08698334164,30830808.821074221]
["01000100","0100","0100",496,100,"Framingham                   ",100,"Framingham",121857618.34246999,0.91435028488658054,{"$f":"X505","v":124104569.45571999},{"$f":"IF(K509>0, K505/K509, 0)","v":0.91042024142902567},null,{"$f":"ROUND(M509*L505,0)","v":67201559},65102393,{"$f":"N505-O505","v":2099166},3.2244068201916942,9572,9303,100,100,496,9303,124104569.45571999,496,100,100,496,9303,124104569.45571999]
["01000829","0100","0829",497,100,"Framingham                   ",829,"South Middlesex",11414739.479987154,8.5649715113419456E-2,12211127.195445579,{"$f":"IF(K509>0, K506/K509, 0)","v":8.9579758570974277E-2},null,{"$f":"ROUND(M509*L506,0)","v":6612221},6098321,{"$f":"N506-O506","v":513900},8.4269096362752958,592.74278544516005,602.73774509867997,100,829,497,602.73774509867997,12211127.195445579,497,100,829,497,602.73774509867997,12211127.195445579]
["01000998","0100","0998",498,100,"",998,"",0,0,0,{"$f":"IF(K509>0, K507/K509, 0)","v":0},null,{"$f":"ROUND(M509*L507,0)","v":0},0,{"$f":"N507-O507","v":0},0,0,0,100,998,498,0,0,498,100,998,498,0,0]
["01000998","0100","0998",499,100,"",998,"",0,0,0,{"$f":"IF(K509>0, K508/K509, 0)","v":0},null,{"$f":"ROUND(M509*L508,0)","v":0},0,{"$f":"N508-O508","v":0},0,0,0,100,998,499,0,0,499,100,998,499,0,0]
["01000999","0100","0999",500,100,"Framingham                   ",999,"Total",133272357.82245715,1,{"$f":"SUM(K505:K508)","v":136315696.65116557},{"$f":"SUM(L505:L508)","v":1},{"$f":"VLOOKUP(E509,town351,24)","v":73813780},{"$f":"SUM(N505:N508)","v":73813780},71200714,{"$f":"SUM(P505:P508)","v":2613066},3.6699997137669151,10164.74278544516,9905.7377450986805,100,999,500,9905.7377450986805,136315696.65116557,500,100,999,500,9905.7377450986805,136315696.65116557]
["01010101","0101","0101",501,101,"Franklin                     ",101,"Franklin",60169866.394320011,0.94652617197279398,{"$f":"X510","v":59769256.119000003},{"$f":"IF(K514>0, K510/K514, 0)","v":0.94814933632970955},null,{"$f":"ROUND(M514*L510,0)","v":42443297},41152523,{"$f":"N510-O510","v":1290774},3.1365610317501069,5511,5292,101,101,501,5292,59769256.119000003,501,101,101,501,5292,59769256.119000003]
["01010878","0101","0878",502,101,"Franklin                     ",878,"Tri County",3147816.2936950736,4.9517984417961874E-2,3027369.3986468469,{"$f":"IF(K514>0, K511/K514, 0)","v":4.8024661381713449E-2},null,{"$f":"ROUND(M514*L511,0)","v":2149793},2152915,{"$f":"N511-O511","v":-3122},-0.14501269209420717,177.99999999779999,162.17920353709999,101,878,502,162.17920353709999,3027369.3986468469,502,101,878,502,162.17920353709999,3027369.3986468469]
["01010915","0101","0915",503,101,"Franklin                     ",915,"Norfolk County",251469.6249221912,3.955843609243997E-3,241182.79888593088,{"$f":"IF(K514>0, K512/K514, 0)","v":3.8260022885769716E-3},null,{"$f":"ROUND(M514*L512,0)","v":171269},171990,{"$f":"N512-O512","v":-721},-0.41921041921041918,13.99999999974,13.00000000076,101,915,503,13.00000000076,241182.79888593088,503,101,915,503,13.00000000076,241182.79888593088]
["01010998","0101","0998",504,101,"",998,"",0,0,0,{"$f":"IF(K514>0, K513/K514, 0)","v":0},null,{"$f":"ROUND(M514*L513,0)","v":0},0,{"$f":"N513-O513","v":0},0,0,0,101,998,504,0,0,504,101,998,504,0,0]
["01010999","0101","0999",505,101,"Franklin                     ",999,"Total",63569152.312937282,0.99999999999999978,{"$f":"SUM(K510:K513)","v":63037808.316532783},{"$f":"SUM(L510:L513)","v":1},{"$f":"VLOOKUP(E514,town351,24)","v":44764359},{"$f":"SUM(N510:N513)","v":44764359},43477428,{"$f":"SUM(P510:P513)","v":1286931},2.9599980017217211,5702.9999999975398,5467.1792035378603,101,999,505,5467.1792035378603,63037808.316532783,505,101,999,505,5467.1792035378603,63037808.316532783]
["01020102","0102","0102",506,102,"Freetown                     ",102,"Freetown",1444691.88,9.8864455874595927E-2,{"$f":"X515","v":1116188.82},{"$f":"IF(K519>0, K515/K519, 0)","v":7.7395418937777141E-2},null,{"$f":"ROUND(M519*L515,0)","v":798958},998607,{"$f":"N515-O515","v":-199649},-19.992749900611553,91,69,102,102,506,69,1116188.82,506,102,102,506,69,1116188.82]
["01020665","0102","0665",507,102,"Freetown                     ",665,"Freetown Lakeville",12976244.496399589,0.8880020502588174,13093070.106229845,{"$f":"IF(K519>0, K516/K519, 0)","v":0.90786041563590036},null,{"$f":"ROUND(M519*L516,0)","v":9371904},8969501,{"$f":"N516-O516","v":402403},4.486347679765017,1205.4547375806599,1183.0781938262999,102,665,507,1183.0781938262999,13093070.106229845,507,102,665,507,1183.0781938262999,13093070.106229845]
["01020910","0102","0910",508,102,"Freetown                     ",910,"Bristol County",191917.83110762169,1.3133493866586706E-2,212638.84652297923,{"$f":"IF(K519>0, K517/K519, 0)","v":1.474416542632247E-2},null,{"$f":"ROUND(M519*L517,0)","v":152205},132658,{"$f":"N517-O517","v":19547},14.734882178232748,10.9999999998,12.00000000174,102,910,508,12.00000000174,212638.84652297923,508,102,910,508,12.00000000174,212638.84652297923]
["01020998","0102","0998",509,102,"",998,"",0,0,0,{"$f":"IF(K519>0, K518/K519, 0)","v":0},null,{"$f":"ROUND(M519*L518,0)","v":0},0,{"$f":"N518-O518","v":0},0,0,0,102,998,509,0,0,509,102,998,509,0,0]
["01020999","0102","0999",510,102,"Freetown                     ",999,"Total",14612854.20750721,1,{"$f":"SUM(K515:K518)","v":14421897.772752825},{"$f":"SUM(L515:L518)","v":1},{"$f":"VLOOKUP(E519,town351,24)","v":10323067},{"$f":"SUM(N515:N518)","v":10323067},10100766,{"$f":"SUM(P515:P518)","v":222301},2.2008330853323401,1307.4547375804598,1264.07819382804,102,999,510,1264.07819382804,14421897.772752825,510,102,999,510,1264.07819382804,14421897.772752825]
["01030103","0103","0103",511,103,"Gardner                      ",103,"Gardner",30692122.609999999,0.90388976276231436,{"$f":"X520","v":30713287.02},{"$f":"IF(K524>0, K520/K524, 0)","v":0.90685274378242076},null,{"$f":"ROUND(M524*L520,0)","v":10332365},9927325,{"$f":"N520-O520","v":405040},4.0800517762841446,2418,2285,103,103,511,2285,30713287.02,511,103,103,511,2285,30713287.02]
["01030832","0103","0832",512,103,"Gardner                      ",832,"Montachusett",3263481.1311065964,9.6110237237685497E-2,3154711.0983019657,{"$f":"IF(K524>0, K521/K524, 0)","v":9.3147256217579272E-2},null,{"$f":"ROUND(M524*L521,0)","v":1061288},1055568,{"$f":"N521-O521","v":5720},0.54188834826368359,188.99999999790001,178.00000000383,103,832,512,178.00000000383,3154711.0983019657,512,103,832,512,178.00000000383,3154711.0983019657]
[{"$f":"B522&C522","v":"01030998"},"0103","0998",513,103,"",998,"",0,0,0,{"$f":"IF(K524>0, K522/K524, 0)","v":0},null,{"$f":"ROUND(M524*L522,0)","v":0},0,{"$f":"N522-O522","v":0},0,0,0,{"$f":"VLOOKUP($D522, foundoptions, VLOOKUP($T$6, foundoptcell, 2, FALSE), FALSE)","v":103},{"$f":"VLOOKUP($D522, foundoptions, VLOOKUP($T$6, foundoptcell, 2, FALSE)+1, FALSE)","v":998},{"$f":"VLOOKUP($D522, foundoptions, VLOOKUP($T$6, foundoptcell, 2, FALSE)+2, FALSE)","v":513},{"$f":"VLOOKUP($D522, foundoptions, VLOOKUP($T$6, foundoptcell, 2, FALSE)+3, FALSE)","v":0},{"$f":"VLOOKUP($D522, foundoptions, VLOOKUP($T$6, foundoptcell, 2, FALSE)+4, FALSE)","v":0},513,103,998,513,0,0]
["01030998","0103","0998",514,103,"",998,"",0,0,0,{"$f":"IF(K524>0, K523/K524, 0)","v":0},null,{"$f":"ROUND(M524*L523,0)","v":0},0,{"$f":"N523-O523","v":0},0,0,{"$f":"W523","v":0},103,998,514,0,0,{"$f":"D523","v":514},103,998,514,0,0]
["01030999","0103","0999",515,103,"Gardner                      ",999,"Total",33955603.7411066,0.99999999999999989,{"$f":"SUM(K520:K523)","v":33867998.118301965},{"$f":"SUM(L520:L523)","v":1},{"$f":"VLOOKUP(E524,town351,24)","v":11393653},{"$f":"SUM(N520:N523)","v":11393653},10982893,{"$f":"SUM(P520:P523)","v":410760},3.7399981953752985,2606.9999999979,2463.0000000038299,103,999,515,2463.0000000038299,33867998.118301965,515,103,999,515,2463.0000000038299,33867998.118301965]
["01040104","0104","0104",516,104,"Aquinnah",104,"Aquinnah",0,0,{"$f":"X525","v":0},{"$f":"IF(K529>0, K525/K529, 0)","v":0},null,{"$f":"ROUND(M529*L525,0)","v":0},0,{"$f":"N525-O525","v":0},0,0,0,104,104,516,0,0,516,104,104,516,0,0]
["01040700","0104","0700",517,104,"Aquinnah",700,"Marthas Vineyard",207149.90123844938,0.2750257672502599,277839.64579658111,{"$f":"IF(K529>0, K526/K529, 0)","v":0.36146971862710719},null,{"$f":"ROUND(M529*L526,0)","v":229218},170899,{"$f":"N526-O526","v":58319},34.124833966260773,13.999999998149999,18.000000002820002,104,700,517,18.000000002820002,277839.64579658111,517,104,700,517,18.000000002820002,277839.64579658111]
["01040774","0104","0774",518,104,"Aquinnah",774,"Upisland",546051.89257730311,0.72497423274974016,490799.14046700898,{"$f":"IF(K529>0, K527/K529, 0)","v":0.63853028137289281},null,{"$f":"ROUND(M529*L527,0)","v":404909},450492,{"$f":"N527-O527","v":-45583},-10.118492670236098,49.506172838120001,43.556675064179998,104,774,518,43.556675064179998,490799.14046700898,518,104,774,518,43.556675064179998,490799.14046700898]
["01040998","0104","0998",519,104,"",998,"",0,0,0,{"$f":"IF(K529>0, K528/K529, 0)","v":0},null,{"$f":"ROUND(M529*L528,0)","v":0},0,{"$f":"N528-O528","v":0},{"$f":"IF(O528>0,P528*100/O528,IF(P528>0,100,0))","v":0},0,0,104,998,519,0,0,519,104,998,519,0,0]
["01040999","0104","0999",520,104,"Aquinnah",999,"Total",753201.79381575249,1,{"$f":"SUM(K525:K528)","v":768638.7862635901},{"$f":"SUM(L525:L528)","v":1},{"$f":"VLOOKUP(E529,town351,24)","v":634127},{"$f":"SUM(N525:N528)","v":634127},621391,{"$f":"SUM(P525:P528)","v":12736},{"$f":"IF(O529>0,P529*100/O529,IF(P529>0,100,0))","v":2.0495951824213741},63.506172836269997,61.556675067,104,999,520,61.556675067,768638.7862635901,520,104,999,520,61.556675067,768638.7862635901]
["01050105","0105","0105",521,105,"Georgetown                   ",105,"Georgetown",13521537.540000001,0.95861210582810996,{"$f":"X530","v":13268519.02},{"$f":"IF(K534>0, K530/K534, 0)","v":0.94848383723199492},null,{"$f":"ROUND(M534*L530,0)","v":10680486},10617926,{"$f":"N530-O530","v":62560},0.58919227728654355,1303,1239,105,105,521,1239,13268519.02,521,105,105,521,1239,13268519.02]
["01050885","0105","0885",522,105,"Georgetown                   ",885,"Whittier",583789.7950008855,4.1387894171890115E-2,720669.30262038915,{"$f":"IF(K534>0, K531/K534, 0)","v":5.1516162768005171E-2},null,{"$f":"ROUND(M534*L531,0)","v":580102},458427,{"$f":"N531-O531","v":121675},26.541848538589569,32.9999999996,39.000000006080001,105,885,522,39.000000006080001,720669.30262038915,522,105,885,522,39.000000006080001,720669.30262038915]
["01050998","0105","0998",523,105,"",998,null,0,0,0,{"$f":"IF(K534>0, K532/K534, 0)","v":0},null,{"$f":"ROUND(M534*L532,0)","v":0},0,{"$f":"N532-O532","v":0},0,0,0,105,998,523,0,0,523,105,998,523,0,0]
["01050998","0105","0998",524,105,"",998,"",0,0,0,{"$f":"IF(K534>0, K533/K534, 0)","v":0},null,{"$f":"ROUND(M534*L533,0)","v":0},0,{"$f":"N533-O533","v":0},0,0,0,105,998,524,0,0,524,105,998,524,0,0]
["01050999","0105","0999",525,105,"Georgetown                   ",999,"Total",14105327.335000886,1,{"$f":"SUM(K530:K533)","v":13989188.322620388},{"$f":"SUM(L530:L533)","v":1},{"$f":"VLOOKUP(E534,town351,24)","v":11260588},{"$f":"SUM(N530:N533)","v":11260588},11076353,{"$f":"SUM(P530:P533)","v":184235},1.6633182420242476,1335.9999999996,1278.00000000608,105,999,525,1278.00000000608,13989188.322620388,525,105,999,525,1278.00000000608,13989188.322620388]
["01060106","0106","0106",526,106,"Gill                         ",106,"Gill",0,0,{"$f":"X535","v":0},{"$f":"IF(K539>0, K535/K539, 0)","v":0},null,{"$f":"ROUND(M539*L535,0)","v":0},0,{"$f":"N535-O535","v":0},0,0,0,106,106,526,0,0,526,106,106,526,0,0]
["01060674","0106","0674",527,106,"Gill                         ",674,"Gill Montague",1513765.2209399252,0.87437280073495438,1403433.0521495845,{"$f":"IF(K539>0, K536/K539, 0)","v":0.83156997639418295},null,{"$f":"ROUND(M539*L536,0)","v":939458},1001284,{"$f":"N536-O536","v":-61826},-6.1746717215095819,122.93956044078,110.1825557793,106,674,527,110.1825557793,1403433.0521495845,527,106,674,527,110.1825557793,1403433.0521495845]
["01060818","0106","0818",528,106,"Gill                         ",818,"Franklin County",217493.13895819749,0.12562719926504559,284257.81210586766,{"$f":"IF(K539>0, K537/K539, 0)","v":0.1684300236058171},null,{"$f":"ROUND(M539*L537,0)","v":190282},143861,{"$f":"N537-O537","v":46421},32.267953093611197,11.9999999994,14.99999999904,106,818,528,14.99999999904,284257.81210586766,528,106,818,528,14.99999999904,284257.81210586766]
["01060998","0106","0998",529,106,"",998,"",0,0,0,{"$f":"IF(K539>0, K538/K539, 0)","v":0},null,{"$f":"ROUND(M539*L538,0)","v":0},0,{"$f":"N538-O538","v":0},0,0,0,106,998,529,0,0,529,106,998,529,0,0]
["01060999","0106","0999",530,106,"Gill                         ",999,"Total",1731258.3598981227,1,{"$f":"SUM(K535:K538)","v":1687690.8642554521},{"$f":"SUM(L535:L538)","v":1},{"$f":"VLOOKUP(E539,town351,24)","v":1129740},{"$f":"SUM(N535:N538)","v":1129740},1145145,{"$f":"SUM(P535:P538)","v":-15405},-1.3452444886892052,134.93956044018,125.18255577834,106,999,530,125.18255577834,1687690.8642554521,530,106,999,530,125.18255577834,1687690.8642554521]
["01070107","0107","0107",531,107,"Gloucester                   ",107,"Gloucester",38460242.64918001,0.95866312487576244,{"$f":"X540","v":39342679.288419999},{"$f":"IF(K544>0, K540/K544, 0)","v":0.95721072737894319},null,{"$f":"ROUND(M544*L540,0)","v":32457710},31729700,{"$f":"N540-O540","v":728010},2.2944118601814703,3094,3017,107,107,531,3017,39342679.288419999,531,107,107,531,3017,39342679.288419999]
["01070817","0107","0817",532,107,"Gloucester                   ",817,"Essex North Shore",1658378.4296940179,4.1336875124237497E-2,1758698.0395891082,{"$f":"IF(K544>0, K541/K544, 0)","v":4.2789272621056883E-2},null,{"$f":"ROUND(M544*L541,0)","v":1450926},1368162,{"$f":"N541-O541","v":82764},6.0492836374639847,97.000000005700002,97.000000000749992,107,817,532,97.000000000749992,1758698.0395891082,532,107,817,532,97.000000000749992,1758698.0395891082]
["01070998","0107","0998",533,107,"",998,null,0,0,0,{"$f":"IF(K544>0, K542/K544, 0)","v":0},null,{"$f":"ROUND(M544*L542,0)","v":0},0,{"$f":"N542-O542","v":0},0,0,0,107,998,533,0,0,533,107,998,533,0,0]
["01070998","0107","0998",534,107,"",998,"",0,0,0,{"$f":"IF(K544>0, K543/K544, 0)","v":0},null,{"$f":"ROUND(M544*L543,0)","v":0},0,{"$f":"N543-O543","v":0},0,0,0,107,998,534,0,0,534,107,998,534,0,0]
["01070999","0107","0999",535,107,"Gloucester                   ",999,"Total",40118621.078874029,0.99999999999999989,{"$f":"SUM(K540:K543)","v":41101377.328009106},{"$f":"SUM(L540:L543)","v":1},{"$f":"VLOOKUP(E544,town351,24)","v":33908636},{"$f":"SUM(N540:N543)","v":33908636},33097862,{"$f":"SUM(P540:P543)","v":810774},2.4496265045760359,3191.0000000056998,3114.0000000007499,107,999,535,3114.0000000007499,41101377.328009106,535,107,999,535,3114.0000000007499,41101377.328009106]
["01080108","0108","0108",536,108,"Goshen                       ",108,"Goshen",146578.00000000003,0.11605442841667458,{"$f":"X545","v":134575.02000000002},{"$f":"IF(K549>0, K545/K549, 0)","v":0.11154645868233144},null,{"$f":"ROUND(M549*L545,0)","v":87682},88586,{"$f":"N545-O545","v":-904},-1.0204772763190573,10,9,108,108,536,9,134575.02000000002,536,108,108,536,9,134575.02000000002]
["01080632","0108","0632",537,108,"Goshen                       ",632,"Chesterfield Goshen",675098.75789889134,0.53451541481506637,631312.69544035883,{"$f":"IF(K549>0, K546/K549, 0)","v":0.52328207343063571},null,{"$f":"ROUND(M549*L546,0)","v":411332},408005,{"$f":"N546-O546","v":3327},0.81543118344137944,63.859649123200001,55.445544554000001,108,632,537,55.445544554000001,631312.69544035883,537,108,632,537,55.445544554000001,631312.69544035883]
["01080683","0108","0683",538,108,"Goshen                       ",683,"Hampshire",441334.07244818966,0.34943015676825917,440560.44606740063,{"$f":"IF(K549>0, K547/K549, 0)","v":0.36517146788703286},null,{"$f":"ROUND(M549*L547,0)","v":287047},266726,{"$f":"N547-O547","v":20321},7.6186798437347694,39.116417907839995,38.059654629039997,108,683,538,38.059654629039997,440560.44606740063,538,108,683,538,38.059654629039997,440560.44606740063]
["01080998","0108","0998",539,108,"",998,"",0,0,0,{"$f":"IF(K549>0, K548/K549, 0)","v":0},null,{"$f":"ROUND(M549*L548,0)","v":0},0,{"$f":"N548-O548","v":0},0,0,0,108,998,539,0,0,539,108,998,539,0,0]
["01080999","0108","0999",540,108,"Goshen                       ",999,"Total",1263010.8303470809,1,{"$f":"SUM(K545:K548)","v":1206448.1615077595},{"$f":"SUM(L545:L548)","v":1},{"$f":"VLOOKUP(E549,town351,24)","v":786062},{"$f":"SUM(N545:N548)","v":786061},763317,{"$f":"SUM(P545:P548)","v":22744},2.9796270749898142,112.97606703104,102.50519918304001,108,999,540,102.50519918304001,1206448.1615077595,540,108,999,540,102.50519918304001,1206448.1615077595]
["01090109","0109","0109",541,109,"Gosnold                      ",109,"Gosnold",8254.48,1,{"$f":"X550","v":41750.770000000004},{"$f":"IF(K554>0, K550/K554, 0)","v":1},null,{"$f":"ROUND(M554*L550,0)","v":34444},6810,{"$f":"N550-O550","v":27634},405.7856093979442,1,5,109,109,541,5,41750.770000000004,541,109,109,541,5,41750.770000000004]
["01090998","0109","0998",542,109,"",998,"",0,0,0,{"$f":"IF(K554>0, K551/K554, 0)","v":0},null,{"$f":"ROUND(M554*L551,0)","v":0},0,{"$f":"N551-O551","v":0},0,0,0,109,998,542,0,0,542,109,998,542,0,0]
["01090998","0109","0998",543,109,"",998,"",0,0,0,{"$f":"IF(K554>0, K552/K554, 0)","v":0},null,{"$f":"ROUND(M554*L552,0)","v":0},0,{"$f":"N552-O552","v":0},0,0,0,109,998,543,0,0,543,109,998,543,0,0]
["01090998","0109","0998",544,109,"",998,"",0,0,0,{"$f":"IF(K554>0, K553/K554, 0)","v":0},null,{"$f":"ROUND(M554*L553,0)","v":0},0,{"$f":"N553-O553","v":0},0,0,0,109,998,544,0,0,544,109,998,544,0,0]
["01090999","0109","0999",545,109,"Gosnold                      ",999,"Total",8254.48,1,{"$f":"SUM(K550:K553)","v":41750.770000000004},{"$f":"SUM(L550:L553)","v":1},{"$f":"VLOOKUP(E554,town351,24)","v":34444},{"$f":"SUM(N550:N553)","v":34444},6810,{"$f":"SUM(P550:P553)","v":27634},405.7856093979442,1,5,109,999,545,5,41750.770000000004,545,109,999,545,5,41750.770000000004]
["01100110","0110","0110",546,110,"Grafton                      ",110,"Grafton",32659858.43,0.97064258115030233,{"$f":"X555","v":33113667.029999997},{"$f":"IF(K559>0, K555/K559, 0)","v":0.96698834814919543},null,{"$f":"ROUND(M559*L555,0)","v":22380816},22211911,{"$f":"N555-O555","v":168905},0.76042534116042515,3079,3021,110,110,546,3021,33113667.029999997,546,110,110,546,3021,33113667.029999997]
["01100805","0110","0805",547,110,"Grafton                      ",805,"Blackstone Valley",987808.65595764702,2.9357418849697732E-2,1130455.0355648827,{"$f":"IF(K559>0, K556/K559, 0)","v":3.3011651850804576E-2},null,{"$f":"ROUND(M559*L556,0)","v":764050},671807,{"$f":"N556-O556","v":92243},13.730580360133192,59.999999995080003,66.999999997480003,110,805,547,66.999999997480003,1130455.0355648827,547,110,805,547,66.999999997480003,1130455.0355648827]
["01100998","0110","0998",548,110,"",998,"",0,0,0,{"$f":"IF(K559>0, K557/K559, 0)","v":0},null,{"$f":"ROUND(M559*L557,0)","v":0},0,{"$f":"N557-O557","v":0},0,0,0,110,998,548,0,0,548,110,998,548,0,0]
["01100998","0110","0998",549,110,"",998,"",0,0,0,{"$f":"IF(K559>0, K558/K559, 0)","v":0},null,{"$f":"ROUND(M559*L558,0)","v":0},0,{"$f":"N558-O558","v":0},0,0,0,110,998,549,0,0,549,110,998,549,0,0]
["01100999","0110","0999",550,110,"Grafton                      ",999,"Total",33647667.085957646,1,{"$f":"SUM(K555:K558)","v":34244122.065564878},{"$f":"SUM(L555:L558)","v":1},{"$f":"VLOOKUP(E559,town351,24)","v":23144866},{"$f":"SUM(N555:N558)","v":23144866},22883718,{"$f":"SUM(P555:P558)","v":261148},1.1411956745839991,3138.9999999950801,3087.9999999974798,110,999,550,3087.9999999974798,34244122.065564878,550,110,999,550,3087.9999999974798,34244122.065564878]
["01110111","0111","0111",551,111,"Granby                       ",111,"Granby",8181734.8699999992,0.96367954632993558,{"$f":"X560","v":8293230.8600000022},{"$f":"IF(K564>0, K560/K564, 0)","v":0.95672731147107071},null,{"$f":"ROUND(M564*L560,0)","v":5148277},5150983,{"$f":"N560-O560","v":-2706},-5.2533662021404456E-2,710,685,111,111,551,685,8293230.8600000022,551,111,111,551,685,8293230.8600000022]
["01110860","0111","0860",552,111,"Granby                       ",860,"Pathfinder",308364.25180787686,3.6320453670064333E-2,375102.07098769071,{"$f":"IF(K564>0, K561/K564, 0)","v":4.3272688528929237E-2},null,{"$f":"ROUND(M564*L561,0)","v":232856},194137,{"$f":"N561-O561","v":38719},19.944163142523063,17.000000002379998,20.000000002289998,111,860,552,20.000000002289998,375102.07098769071,552,111,860,552,20.000000002289998,375102.07098769071]
["01110998","0111","0998",553,111,"",998,"",0,0,0,{"$f":"IF(K564>0, K562/K564, 0)","v":0},null,{"$f":"ROUND(M564*L562,0)","v":0},0,{"$f":"N562-O562","v":0},0,0,0,111,998,553,0,0,553,111,998,553,0,0]
["01110998","0111","0998",554,111,"",998,"",0,0,0,{"$f":"IF(K564>0, K563/K564, 0)","v":0},null,{"$f":"ROUND(M564*L563,0)","v":0},0,{"$f":"N563-O563","v":0},0,0,0,111,998,554,0,0,554,111,998,554,0,0]
["01110999","0111","0999",555,111,"Granby                       ",999,"Total",8490099.121807877,0.99999999999999989,{"$f":"SUM(K560:K563)","v":8668332.9309876934},{"$f":"SUM(L560:L563)","v":1},{"$f":"VLOOKUP(E564,town351,24)","v":5381133},{"$f":"SUM(N560:N563)","v":5381133},5345120,{"$f":"SUM(P560:P563)","v":36013},0.67375475199808421,727.00000000238003,705.00000000228999,111,999,555,705.00000000228999,8668332.9309876934,555,111,999,555,705.00000000228999,8668332.9309876934]
["01120112","0112","0112",556,112,"Granville                    ",112,"Granville",0,0,{"$f":"X565","v":0},{"$f":"IF(K569>0, K565/K569, 0)","v":0},null,{"$f":"ROUND(M569*L565,0)","v":0},0,{"$f":"N565-O565","v":0},0,0,0,112,112,556,0,0,556,112,112,556,0,0]
["01120766","0112","0766",557,112,"Granville                    ",766,"Southwick Tolland Granville",1958315.1942929483,1,2022276.3484122918,{"$f":"IF(K569>0, K566/K569, 0)","v":1},null,{"$f":"ROUND(M569*L566,0)","v":1476110},1482039,{"$f":"N566-O566","v":-5929},-0.40005694856882984,166.29365645004,167.39389312725001,112,766,557,167.39389312725001,2022276.3484122918,557,112,766,557,167.39389312725001,2022276.3484122918]
["01120998","0112","0998",558,112,"",998,"",0,0,0,{"$f":"IF(K569>0, K567/K569, 0)","v":0},null,{"$f":"ROUND(M569*L567,0)","v":0},0,{"$f":"N567-O567","v":0},0,0,0,112,998,558,0,0,558,112,998,558,0,0]
["01120998","0112","0998",559,112,"",998,"",0,0,0,{"$f":"IF(K569>0, K568/K569, 0)","v":0},null,{"$f":"ROUND(M569*L568,0)","v":0},0,{"$f":"N568-O568","v":0},0,0,0,112,998,559,0,0,559,112,998,559,0,0]
["01120999","0112","0999",560,112,"Granville                    ",999,"Total",1958315.1942929483,1,{"$f":"SUM(K565:K568)","v":2022276.3484122918},{"$f":"SUM(L565:L568)","v":1},{"$f":"VLOOKUP(E569,town351,24)","v":1476110},{"$f":"SUM(N565:N568)","v":1476110},1482039,{"$f":"SUM(P565:P568)","v":-5929},-0.40005694856882984,166.29365645004,167.39389312725001,112,999,560,167.39389312725001,2022276.3484122918,560,112,999,560,167.39389312725001,2022276.3484122918]
["01130113","0113","0113",561,113,"Great Barrington             ",113,"Great Barrington",0,0,{"$f":"X570","v":0},{"$f":"IF(K574>0, K570/K574, 0)","v":0},null,{"$f":"ROUND(M574*L570,0)","v":0},0,{"$f":"N570-O570","v":0},0,0,0,113,113,561,0,0,561,113,113,561,0,0]
["01130618","0113","0618",562,113,"Great Barrington             ",618,"Berkshire Hills",8703465.3844777085,1,8890660.4402124211,{"$f":"IF(K574>0, K571/K574, 0)","v":1},null,{"$f":"ROUND(M574*L571,0)","v":7334795},7180359,{"$f":"N571-O571","v":154436},2.1508116794717367,712.6530612235,696.53976670120994,113,618,562,696.53976670120994,8890660.4402124211,562,113,618,562,696.53976670120994,8890660.4402124211]
["01130998","0113","0998",563,113,"",998,"",0,0,0,{"$f":"IF(K574>0, K572/K574, 0)","v":0},null,{"$f":"ROUND(M574*L572,0)","v":0},0,{"$f":"N572-O572","v":0},0,0,0,113,998,563,0,0,563,113,998,563,0,0]
["01130998","0113","0998",564,113,"",998,"",0,0,0,{"$f":"IF(K574>0, K573/K574, 0)","v":0},null,{"$f":"ROUND(M574*L573,0)","v":0},0,{"$f":"N573-O573","v":0},0,0,0,113,998,564,0,0,564,113,998,564,0,0]
["01130999","0113","0999",565,113,"Great Barrington             ",999,"Total",8703465.3844777085,1,{"$f":"SUM(K570:K573)","v":8890660.4402124211},{"$f":"SUM(L570:L573)","v":1},{"$f":"VLOOKUP(E574,town351,24)","v":7334795},{"$f":"SUM(N570:N573)","v":7334795},7180359,{"$f":"SUM(P570:P573)","v":154436},2.1508116794717367,712.6530612235,696.53976670120994,113,999,565,696.53976670120994,8890660.4402124211,565,113,999,565,696.53976670120994,8890660.4402124211]
["01140114","0114","0114",566,114,"Greenfield                   ",114,"Greenfield",24159291.550000001,0.93021479433801868,{"$f":"X575","v":23851070.390000001},{"$f":"IF(K579>0, K575/K579, 0)","v":0.91097259782078055},null,{"$f":"ROUND(M579*L575,0)","v":10181012},10256971,{"$f":"N575-O575","v":-75959},-0.7405597617464259,1965,1859,114,114,566,1859,23851070.390000001,566,114,114,566,1859,23851070.390000001]
["01140818","0114","0818",567,114,"Greenfield                   ",818,"Franklin County",1812442.8247395491,6.9785205661981306E-2,2330914.0594294216,{"$f":"IF(K579>0, K576/K579, 0)","v":8.9027402179219409E-2},null,{"$f":"ROUND(M579*L576,0)","v":994968},769483,{"$f":"N576-O576","v":225485},29.303441401564427,99.99999999984999,123.00000000064,114,818,567,123.00000000064,2330914.0594294216,567,114,818,567,123.00000000064,2330914.0594294216]
["01140998","0114","0998",568,114,"",998,"",0,0,0,{"$f":"IF(K579>0, K577/K579, 0)","v":0},null,{"$f":"ROUND(M579*L577,0)","v":0},0,{"$f":"N577-O577","v":0},0,0,0,114,998,568,0,0,568,114,998,568,0,0]
["01140998","0114","0998",569,114,"",998,"",0,0,0,{"$f":"IF(K579>0, K578/K579, 0)","v":0},null,{"$f":"ROUND(M579*L578,0)","v":0},0,{"$f":"N578-O578","v":0},0,0,0,114,998,569,0,0,569,114,998,569,0,0]
["01140999","0114","0999",570,114,"Greenfield                   ",999,"Total",25971734.37473955,1,{"$f":"SUM(K575:K578)","v":26181984.449429423},{"$f":"SUM(L575:L578)","v":1},{"$f":"VLOOKUP(E579,town351,24)","v":11175980},{"$f":"SUM(N575:N578)","v":11175980},11026454,{"$f":"SUM(P575:P578)","v":149526},1.356066057138587,2064.9999999998499,1982.0000000006401,114,999,570,1982.0000000006401,26181984.449429423,570,114,999,570,1982.0000000006401,26181984.449429423]
["01150115","0115","0115",571,115,"Groton                       ",115,"Groton",0,0,{"$f":"X580","v":0},{"$f":"IF(K584>0, K580/K584, 0)","v":0},null,{"$f":"ROUND(M584*L580,0)","v":0},0,{"$f":"N580-O580","v":0},0,0,0,115,115,571,0,0,571,115,115,571,0,0]
["01150673","0115","0673",572,115,"Groton                       ",673,"Groton Dunstable",18504579.535552628,0.96476708342040918,18448974.573725052,{"$f":"IF(K584>0, K581/K584, 0)","v":0.9576053513106485},null,{"$f":"ROUND(M584*L581,0)","v":15220404},15266278,{"$f":"N581-O581","v":-45874},-0.300492366246704,1783.86786161024,1733.5259067279301,115,673,572,1733.5259067279301,18448974.573725052,572,115,673,572,1733.5259067279301,18448974.573725052]
["01150852","0115","0852",573,115,"Groton                       ",852,"Nashoba Valley",675780.00775595102,3.5232916579590885E-2,816764.22825056128,{"$f":"IF(K584>0, K582/K584, 0)","v":4.2394648689351368E-2},null,{"$f":"ROUND(M584*L582,0)","v":673831},557519,{"$f":"N582-O582","v":116312},20.862428006937879,38.99999999808,45.999999999079996,115,852,573,45.999999999079996,816764.22825056128,573,115,852,573,45.999999999079996,816764.22825056128]
["01150998","0115","0998",574,115,"",998,"",0,0,0,{"$f":"IF(K584>0, K583/K584, 0)","v":0},null,{"$f":"ROUND(M584*L583,0)","v":0},0,{"$f":"N583-O583","v":0},0,0,0,115,998,574,0,0,574,115,998,574,0,0]
["01150999","0115","0999",575,115,"Groton                       ",999,"Total",19180359.543308578,1,{"$f":"SUM(K580:K583)","v":19265738.801975615},{"$f":"SUM(L580:L583)","v":0.99999999999999989},{"$f":"VLOOKUP(E584,town351,24)","v":15894235},{"$f":"SUM(N580:N583)","v":15894235},15823797,{"$f":"SUM(P580:P583)","v":70438},0.44513968423634354,1822.86786160832,1779.5259067270101,115,999,575,1779.5259067270101,19265738.801975615,575,115,999,575,1779.5259067270101,19265738.801975615]
["01160116","0116","0116",576,116,"Groveland                    ",116,"Groveland",117262.39999999999,1.1351033731716677E-2,{"$f":"X585","v":134575.02000000002},{"$f":"IF(K589>0, K585/K589, 0)","v":1.3027951110487148E-2},null,{"$f":"ROUND(M589*L585,0)","v":100582},84803,{"$f":"N585-O585","v":15779},18.606653066518874,8,9,116,116,576,9,134575.02000000002,576,116,116,576,9,134575.02000000002]
[{"$f":"B586&C586","v":"01160745"},"0116","0745",577,116,"Groveland                    ",745,"Pentucket",9381827.5113975797,0.90816357627868327,9474470.5234593432,{"$f":"IF(K589>0, K586/K589, 0)","v":0.91720542770404112},null,{"$f":"ROUND(M589*L586,0)","v":7081264},6784843,{"$f":"N586-O586","v":296421},4.368870436648276,891.59975569925996,878.13246752568989,{"$f":"VLOOKUP($D586, foundoptions, VLOOKUP($T$6, foundoptcell, 2, FALSE), FALSE)","v":116},{"$f":"VLOOKUP($D586, foundoptions, VLOOKUP($T$6, foundoptcell, 2, FALSE)+1, FALSE)","v":745},{"$f":"VLOOKUP($D586, foundoptions, VLOOKUP($T$6, foundoptcell, 2, FALSE)+2, FALSE)","v":577},{"$f":"VLOOKUP($D586, foundoptions, VLOOKUP($T$6, foundoptcell, 2, FALSE)+3, FALSE)","v":878.13246752568989},{"$f":"VLOOKUP($D586, foundoptions, VLOOKUP($T$6, foundoptcell, 2, FALSE)+4, FALSE)","v":9474470.5234593432},577,116,745,577,878.13246752568989,9474470.5234593432]
["01160885","0116","0885",578,116,"Groveland                    ",885,"Whittier",831458.19298777939,8.0485389989600073E-2,720669.30262038915,{"$f":"IF(K589>0, K587/K589, 0)","v":6.9766621185471833E-2},null,{"$f":"ROUND(M589*L587,0)","v":538632},601302,{"$f":"N587-O587","v":-62670},-10.422383427961323,47.00000000552,{"$f":"W587","v":39.000000006080001},116,885,578,39.000000006080001,720669.30262038915,{"$f":"D587","v":578},116,885,578,39.000000006080001,720669.30262038915]
["01160998","0116","0998",579,116,"",998,null,0,0,0,{"$f":"IF(K589>0, K588/K589, 0)","v":0},null,{"$f":"ROUND(M589*L588,0)","v":0},0,{"$f":"N588-O588","v":0},0,0,0,116,998,579,0,0,579,116,998,579,0,0]
["01160999","0116","0999",580,116,"Groveland                    ",999,"Total",10330548.104385359,1,{"$f":"SUM(K585:K588)","v":10329714.846079731},{"$f":"SUM(L585:L588)","v":1},{"$f":"VLOOKUP(E589,town351,24)","v":7720478},{"$f":"SUM(N585:N588)","v":7720478},7470948,{"$f":"SUM(P585:P588)","v":249530},3.3400045081293563,946.59975570477991,926.13246753176986,116,999,580,926.13246753176986,10329714.846079731,580,116,999,580,926.13246753176986,10329714.846079731]
["01170117","0117","0117",581,117,"Hadley                       ",117,"Hadley",5921818.3199999994,1,{"$f":"X590","v":5857373.9399999985},{"$f":"IF(K594>0, K590/K594, 0)","v":1},null,{"$f":"ROUND(M594*L590,0)","v":4832334},4885500,{"$f":"N590-O590","v":-53166},-1.0882407123119435,520,498,117,117,581,498,5857373.9399999985,581,117,117,581,498,5857373.9399999985]
["01170998","0117","0998",582,117,"",998,"",0,0,0,{"$f":"IF(K594>0, K591/K594, 0)","v":0},null,{"$f":"ROUND(M594*L591,0)","v":0},0,{"$f":"N591-O591","v":0},0,0,0,117,998,582,0,0,582,117,998,582,0,0]
["01170998","0117","0998",583,117,"",998,"",0,0,0,{"$f":"IF(K594>0, K592/K594, 0)","v":0},null,{"$f":"ROUND(M594*L592,0)","v":0},0,{"$f":"N592-O592","v":0},{"$f":"IF(O592>0,P592*100/O592,IF(P592>0,100,0))","v":0},0,0,117,998,583,0,0,583,117,998,583,0,0]
["01170998","0117","0998",584,117,"",998,"",0,0,0,{"$f":"IF(K594>0, K593/K594, 0)","v":0},null,{"$f":"ROUND(M594*L593,0)","v":0},0,{"$f":"N593-O593","v":0},{"$f":"IF(O593>0,P593*100/O593,IF(P593>0,100,0))","v":0},0,0,117,998,584,0,0,584,117,998,584,0,0]
["01170999","0117","0999",585,117,"Hadley                       ",999,"Total",5921818.3199999994,1,{"$f":"SUM(K590:K593)","v":5857373.9399999985},{"$f":"SUM(L590:L593)","v":1},{"$f":"VLOOKUP(E594,town351,24)","v":4832334},{"$f":"SUM(N590:N593)","v":4832334},4885500,{"$f":"SUM(P590:P593)","v":-53166},{"$f":"IF(O594>0,P594*100/O594,IF(P594>0,100,0))","v":-1.0882407123119435},520,498,117,999,585,498,5857373.9399999985,585,117,999,585,498,5857373.9399999985]
["01180118","0118","0118",586,118,"Halifax                      ",118,"Halifax",6764091.2584799994,0.52114654401603211,{"$f":"X595","v":6881455.87414},{"$f":"IF(K599>0, K595/K599, 0)","v":0.51232173578021944},null,{"$f":"ROUND(M599*L595,0)","v":3833817},3795461,{"$f":"N595-O595","v":38356},1.0105755269254513,630,615,118,118,586,615,6881455.87414,586,118,118,586,615,6881455.87414]
["01180760","0118","0760",587,118,"Halifax                      ",760,"Silver Lake",6215158.6975015085,0.47885345598396789,6550447.1538667446,{"$f":"IF(K599>0, K596/K599, 0)","v":0.48767826421978067},null,{"$f":"ROUND(M599*L596,0)","v":3649405},3487444,{"$f":"N596-O596","v":161961},4.6441175829633394,511.62988115064002,515.18793103721998,118,760,587,515.18793103721998,6550447.1538667446,587,118,760,587,515.18793103721998,6550447.1538667446]
["01180998","0118","0998",588,118,"",998,"",0,0,0,{"$f":"IF(K599>0, K597/K599, 0)","v":0},null,{"$f":"ROUND(M599*L597,0)","v":0},0,{"$f":"N597-O597","v":0},0,0,0,118,998,588,0,0,588,118,998,588,0,0]
["01180998","0118","0998",589,118,"",998,"",0,0,0,{"$f":"IF(K599>0, K598/K599, 0)","v":0},null,{"$f":"ROUND(M599*L598,0)","v":0},0,{"$f":"N598-O598","v":0},0,0,0,118,998,589,0,0,589,118,998,589,0,0]
["01180999","0118","0999",590,118,"Halifax                      ",999,"Total",12979249.955981508,1,{"$f":"SUM(K595:K598)","v":13431903.028006744},{"$f":"SUM(L595:L598)","v":1},{"$f":"VLOOKUP(E599,town351,24)","v":7483222},{"$f":"SUM(N595:N598)","v":7483222},7282905,{"$f":"SUM(P595:P598)","v":200317},2.7505095837443987,1141.6298811506399,1130.1879310372201,118,999,590,1130.1879310372201,13431903.028006744,590,118,999,590,1130.1879310372201,13431903.028006744]
["01190119","0119","0119",591,119,"Hamilton                     ",119,"Hamilton",0,0,{"$f":"X600","v":0},{"$f":"IF(K604>0, K600/K604, 0)","v":0},null,{"$f":"ROUND(M604*L600,0)","v":0},0,{"$f":"N600-O600","v":0},0,0,0,119,119,591,0,0,591,119,119,591,0,0]
["01190675","0119","0675",592,119,"Hamilton                     ",675,"Hamilton Wenham",12092590.415533029,0.97923318263493153,11714052.895583194,{"$f":"IF(K604>0, K601/K604, 0)","v":0.97436214490547668},null,{"$f":"ROUND(M604*L601,0)","v":9664094},9749310,{"$f":"N601-O601","v":-85216},-0.87407211382138839,1138.2448295186,1077.0891449336,119,675,592,1077.0891449336,11714052.895583194,592,119,675,592,1077.0891449336,11714052.895583194]
["01190817","0119","0817",593,119,"Hamilton                     ",817,"Essex North Shore",256450.27260434846,2.0766817365068479E-2,308225.42960726109,{"$f":"IF(K604>0, K602/K604, 0)","v":2.5637855094523297E-2},null,{"$f":"ROUND(M604*L602,0)","v":254286},206756,{"$f":"N602-O602","v":47530},22.988450153804486,14.9999999992,16.999999999500002,119,817,593,16.999999999500002,308225.42960726109,593,119,817,593,16.999999999500002,308225.42960726109]
["01190998","0119","0998",594,119,"",998,null,0,0,0,{"$f":"IF(K604>0, K603/K604, 0)","v":0},null,{"$f":"ROUND(M604*L603,0)","v":0},0,{"$f":"N603-O603","v":0},0,0,0,119,998,594,0,0,594,119,998,594,0,0]
["01190999","0119","0999",595,119,"Hamilton                     ",999,"Total",12349040.688137377,1,{"$f":"SUM(K600:K603)","v":12022278.325190455},{"$f":"SUM(L600:L603)","v":1},{"$f":"VLOOKUP(E604,town351,24)","v":9918380},{"$f":"SUM(N600:N603)","v":9918380},9956066,{"$f":"SUM(P600:P603)","v":-37686},-0.37852300296120978,1153.2448295178001,1094.0891449331,119,999,595,1094.0891449331,12022278.325190455,595,119,999,595,1094.0891449331,12022278.325190455]
["01200120","0120","0120",596,120,"Hampden                      ",120,"Hampden",0,0,{"$f":"X605","v":0},{"$f":"IF(K609>0, K605/K609, 0)","v":0},null,{"$f":"ROUND(M609*L605,0)","v":0},0,{"$f":"N605-O605","v":0},0,0,0,120,120,596,0,0,596,120,120,596,0,0]
["01200680","0120","0680",597,120,"Hampden                      ",680,"Hampden Wilbraham",6552141.4838517774,1,6505214.9423783263,{"$f":"IF(K609>0, K606/K609, 0)","v":1},null,{"$f":"ROUND(M609*L606,0)","v":5212308},5348433,{"$f":"N606-O606","v":-136125},-2.5451379871450199,603.38529312242997,577.03633157787999,120,680,597,577.03633157787999,6505214.9423783263,597,120,680,597,577.03633157787999,6505214.9423783263]
["01200998","0120","0998",598,120,"",998,"",0,0,0,{"$f":"IF(K609>0, K607/K609, 0)","v":0},null,{"$f":"ROUND(M609*L607,0)","v":0},0,{"$f":"N607-O607","v":0},0,0,0,120,998,598,0,0,598,120,998,598,0,0]
["01200998","0120","0998",599,120,"",998,"",0,0,0,{"$f":"IF(K609>0, K608/K609, 0)","v":0},null,{"$f":"ROUND(M609*L608,0)","v":0},0,{"$f":"N608-O608","v":0},0,0,0,120,998,599,0,0,599,120,998,599,0,0]
["01200999","0120","0999",600,120,"Hampden                      ",999,"Total",6552141.4838517774,1,{"$f":"SUM(K605:K608)","v":6505214.9423783263},{"$f":"SUM(L605:L608)","v":1},{"$f":"VLOOKUP(E609,town351,24)","v":5212308},{"$f":"SUM(N605:N608)","v":5212308},5348433,{"$f":"SUM(P605:P608)","v":-136125},-2.5451379871450199,603.38529312242997,577.03633157787999,120,999,600,577.03633157787999,6505214.9423783263,600,120,999,600,577.03633157787999,6505214.9423783263]
["01210121","0121","0121",601,121,"Hancock                      ",121,"Hancock",883632.04,1,{"$f":"X610","v":936904.25999999989},{"$f":"IF(K614>0, K610/K614, 0)","v":1},null,{"$f":"ROUND(M614*L610,0)","v":689423},673593,{"$f":"N610-O610","v":15830},2.3500838043150685,77,81,121,121,601,81,936904.25999999989,601,121,121,601,81,936904.25999999989]
["01210998","0121","0998",602,121,"",998,"",0,0,0,{"$f":"IF(K614>0, K611/K614, 0)","v":0},null,{"$f":"ROUND(M614*L611,0)","v":0},0,{"$f":"N611-O611","v":0},0,0,0,121,998,602,0,0,602,121,998,602,0,0]
["01210998","0121","0998",603,121,"",998,"",0,0,0,{"$f":"IF(K614>0, K612/K614, 0)","v":0},null,{"$f":"ROUND(M614*L612,0)","v":0},0,{"$f":"N612-O612","v":0},0,0,0,121,998,603,0,0,603,121,998,603,0,0]
["01210998","0121","0998",604,121,"",998,"",0,0,0,{"$f":"IF(K614>0, K613/K614, 0)","v":0},null,{"$f":"ROUND(M614*L613,0)","v":0},0,{"$f":"N613-O613","v":0},0,0,0,121,998,604,0,0,604,121,998,604,0,0]
["01210999","0121","0999",605,121,"Hancock                      ",999,"Total",883632.04,1,{"$f":"SUM(K610:K613)","v":936904.25999999989},{"$f":"SUM(L610:L613)","v":1},{"$f":"VLOOKUP(E614,town351,24)","v":689423},{"$f":"SUM(N610:N613)","v":689423},673593,{"$f":"SUM(P610:P613)","v":15830},2.3500838043150685,77,81,121,999,605,81,936904.25999999989,605,121,999,605,81,936904.25999999989]
["01220122","0122","0122",606,122,"Hanover                      ",122,"Hanover",27226298.169830002,0.97434377702435215,{"$f":"X615","v":27986422.446649998},{"$f":"IF(K619>0, K615/K619, 0)","v":0.967519324098297},null,{"$f":"ROUND(M619*L615,0)","v":21593458},21124278,{"$f":"N615-O615","v":469180},2.2210463240447793,2558,2548,122,122,606,2548,27986422.446649998,606,122,122,606,2548,27986422.446649998]
["01220873","0122","0873",607,122,"Hanover                      ",873,"South Shore",716917.36850819446,2.5656222975647923E-2,939534.63718666811,{"$f":"IF(K619>0, K616/K619, 0)","v":3.2480675901702977E-2},null,{"$f":"ROUND(M619*L616,0)","v":724916},556240,{"$f":"N616-O616","v":168676},30.324320437221342,40.221811460479998,51.000000000509999,122,873,607,51.000000000509999,939534.63718666811,607,122,873,607,51.000000000509999,939534.63718666811]
["01220998","0122","0998",608,122,"",998,"",0,0,0,{"$f":"IF(K619>0, K617/K619, 0)","v":0},null,{"$f":"ROUND(M619*L617,0)","v":0},0,{"$f":"N617-O617","v":0},0,0,0,122,998,608,0,0,608,122,998,608,0,0]
["01220998","0122","0998",609,122,"",998,"",0,0,0,{"$f":"IF(K619>0, K618/K619, 0)","v":0},null,{"$f":"ROUND(M619*L618,0)","v":0},0,{"$f":"N618-O618","v":0},0,0,0,122,998,609,0,0,609,122,998,609,0,0]
["01220999","0122","0999",610,122,"Hanover                      ",999,"Total",27943215.538338196,1,{"$f":"SUM(K615:K618)","v":28925957.083836667},{"$f":"SUM(L615:L618)","v":1},{"$f":"VLOOKUP(E619,town351,24)","v":22318374},{"$f":"SUM(N615:N618)","v":22318374},21680518,{"$f":"SUM(P615:P618)","v":637856},2.9420699265580277,2598.2218114604798,2599.0000000005102,122,999,610,2599.0000000005102,28925957.083836667,610,122,999,610,2599.0000000005102,28925957.083836667]
["01230123","0123","0123",611,123,"Hanson                       ",123,"Hanson",14657.8,8.3594125432757428E-4,{"$f":"X620","v":14952.78},{"$f":"IF(K624>0, K620/K624, 0)","v":8.6297985216368309E-4},null,{"$f":"ROUND(M624*L620,0)","v":9162},8507,{"$f":"N620-O620","v":655},7.699541554014341,1,1,123,123,611,1,14952.78,611,123,123,611,1,14952.78]
["01230780","0123","0780",612,123,"Hanson                       ",780,"Whitman Hanson",16085993.198815178,0.91739178674305766,15764495.091676069,{"$f":"IF(K624>0, K621/K624, 0)","v":0.90982691136027694},null,{"$f":"ROUND(M624*L621,0)","v":9659334},9335424,{"$f":"N621-O621","v":323910},3.4696870758093046,1464.7473216748599,1388.0971350439199,123,780,612,1388.0971350439199,15764495.091676069,612,123,780,612,1388.0971350439199,15764495.091676069]
["01230873","0123","0873",613,123,"Hanson                       ",873,"South Shore",1433834.7370163889,8.1772272002614846E-2,1547468.814165489,{"$f":"IF(K624>0, K622/K624, 0)","v":8.9310108787559489E-2},null,{"$f":"ROUND(M624*L622,0)","v":948176},832119,{"$f":"N622-O622","v":116057},13.947163807099706,80.443622920959996,83.99999999952,123,873,613,83.99999999952,1547468.814165489,613,123,873,613,83.99999999952,1547468.814165489]
["01230998","0123","0998",614,123,"",998,"",0,0,0,{"$f":"IF(K624>0, K623/K624, 0)","v":0},null,{"$f":"ROUND(M624*L623,0)","v":0},0,{"$f":"N623-O623","v":0},0,0,0,123,998,614,0,0,614,123,998,614,0,0]
["01230999","0123","0999",615,123,"Hanson                       ",999,"Total",17534485.735831566,1.0000000000000002,{"$f":"SUM(K620:K623)","v":17326916.685841557},{"$f":"SUM(L620:L623)","v":1},{"$f":"VLOOKUP(E624,town351,24)","v":10616672},{"$f":"SUM(N620:N623)","v":10616672},10176050,{"$f":"SUM(P620:P623)","v":440622},4.3299905169491106,1546.1909445958199,1473.0971350434399,123,999,615,1473.0971350434399,17326916.685841557,615,123,999,615,1473.0971350434399,17326916.685841557]
["01240124","0124","0124",616,124,"Hardwick                     ",124,"Hardwick",29315.599999999999,7.0228170499853524E-3,{"$f":"X625","v":44858.340000000004},{"$f":"IF(K629>0, K625/K629, 0)","v":9.8099368979292986E-3},null,{"$f":"ROUND(M629*L625,0)","v":16753},11840,{"$f":"N625-O625","v":4913},41.494932432432435,2,3,124,124,616,3,44858.340000000004,616,124,124,616,3,44858.340000000004]
["01240753","0124","0753",617,124,"Hardwick                     ",753,"Quabbin",3709682.9128604876,0.8886880845173204,4077764.1850598957,{"$f":"IF(K629>0, K626/K629, 0)","v":0.89175411618159883},null,{"$f":"ROUND(M629*L626,0)","v":1522867},1498303,{"$f":"N626-O626","v":24564},1.6394547698296005,327.48153846552003,345.76119403121999,124,753,617,345.76119403121999,4077764.1850598957,617,124,753,617,345.76119403121999,4077764.1850598957]
["01240860","0124","0860",618,124,"Hardwick                     ",860,"Pathfinder",435337.7672026736,0.10428909843269421,450122.48510105594,{"$f":"IF(K629>0, K627/K629, 0)","v":9.8435946920471848E-2},null,{"$f":"ROUND(M629*L627,0)","v":168101},175828,{"$f":"N627-O627","v":-7727},-4.3946356666742501,24.000000000300002,23.999999998259998,124,860,618,23.999999998259998,450122.48510105594,618,124,860,618,23.999999998259998,450122.48510105594]
["01240998","0124","0998",619,124,"",998,"",0,0,0,{"$f":"IF(K629>0, K628/K629, 0)","v":0},null,{"$f":"ROUND(M629*L628,0)","v":0},0,{"$f":"N628-O628","v":0},0,0,0,124,998,619,0,0,619,124,998,619,0,0]
["01240999","0124","0999",620,124,"Hardwick                     ",999,"Total",4174336.2800631612,0.99999999999999989,{"$f":"SUM(K625:K628)","v":4572745.0101609519},{"$f":"SUM(L625:L628)","v":1},{"$f":"VLOOKUP(E629,town351,24)","v":1707721},{"$f":"SUM(N625:N628)","v":1707721},1685971,{"$f":"SUM(P625:P628)","v":21750},1.2900577767945001,353.48153846582005,372.76119402948001,124,999,620,372.76119402948001,4572745.0101609519,620,124,999,620,372.76119402948001,4572745.0101609519]
["01250125","0125","0125",621,125,"Harvard                      ",125,"Harvard",9458347.1900000013,0.99275056458805955,{"$f":"X630","v":9395298.2599999998},{"$f":"IF(K634>0, K630/K634, 0)","v":0.99251099127747933},null,{"$f":"ROUND(M634*L630,0)","v":7751121},7803137,{"$f":"N630-O630","v":-52016},-0.66660370053736084,911,876,125,125,621,876,9395298.2599999998,621,125,125,621,876,9395298.2599999998]
["01250832","0125","0832",622,125,"Harvard                      ",832,"Montachusett",69068.383845307413,7.2494354119404802E-3,70892.38430423924,{"$f":"IF(K634>0, K631/K634, 0)","v":7.4890087225208011E-3},null,{"$f":"ROUND(M634*L631,0)","v":58486},56981,{"$f":"N631-O631","v":1505},2.6412312876221899,4.0000000067999997,4.0000000041899995,125,832,622,4.0000000041899995,70892.38430423924,622,125,832,622,4.0000000041899995,70892.38430423924]
["01250998","0125","0998",623,125,"",998,"",0,0,0,{"$f":"IF(K634>0, K632/K634, 0)","v":0},null,{"$f":"ROUND(M634*L632,0)","v":0},0,{"$f":"N632-O632","v":0},0,0,0,125,998,623,0,0,623,125,998,623,0,0]
["01250998","0125","0998",624,125,"",998,"",0,0,0,{"$f":"IF(K634>0, K633/K634, 0)","v":0},null,{"$f":"ROUND(M634*L633,0)","v":0},0,{"$f":"N633-O633","v":0},0,0,0,125,998,624,0,0,624,125,998,624,0,0]
["01250999","0125","0999",625,125,"Harvard                      ",999,"Total",9527415.5738453083,1,{"$f":"SUM(K630:K633)","v":9466190.6443042383},{"$f":"SUM(L630:L633)","v":1.0000000000000002},{"$f":"VLOOKUP(E634,town351,24)","v":7809607},{"$f":"SUM(N630:N633)","v":7809607},7860118,{"$f":"SUM(P630:P633)","v":-50511},-0.64262394025127867,915.00000000679995,880.00000000419004,125,999,625,880.00000000419004,9466190.6443042383,625,125,999,625,880.00000000419004,9466190.6443042383]
["01260126","0126","0126",626,126,"Harwich                      ",126,"Harwich",0,0,{"$f":"X635","v":0},{"$f":"IF(K639>0, K635/K639, 0)","v":0},null,{"$f":"ROUND(M639*L635,0)","v":0},0,{"$f":"N635-O635","v":0},0,0,0,126,126,626,0,0,626,126,126,626,0,0]
["01260712","0126","0712",627,126,"Harwich                      ",712,"Monomoy",15947466.58065749,0.93740900990373177,16086119.514606355,{"$f":"IF(K639>0, K636/K639, 0)","v":0.94367318788216192},null,{"$f":"ROUND(M639*L636,0)","v":13260472},13156660,{"$f":"N636-O636","v":103812},0.78904524400569753,1360.62354891684,1341.4802065384799,126,712,627,1341.4802065384799,16086119.514606355,627,126,712,627,1341.4802065384799,16086119.514606355]
["01260815","0126","0815",628,126,"Harwich                      ",815,"Cape Cod",1064815.5845152459,6.2590990096268131E-2,960162.73773528496,{"$f":"IF(K639>0, K637/K639, 0)","v":5.6326812117838063E-2},null,{"$f":"ROUND(M639*L637,0)","v":791503},878473,{"$f":"N637-O637","v":-86970},-9.9001335271545052,57.999999997239996,51.000000000539998,126,815,628,51.000000000539998,960162.73773528496,628,126,815,628,51.000000000539998,960162.73773528496]
["01260998","0126","0998",629,126,"",998,"",0,0,0,{"$f":"IF(K639>0, K638/K639, 0)","v":0},null,{"$f":"ROUND(M639*L638,0)","v":0},0,{"$f":"N638-O638","v":0},0,0,0,126,998,629,0,0,629,126,998,629,0,0]
["01260999","0126","0999",630,126,"Harwich                      ",999,"Total",17012282.165172737,0.99999999999999989,{"$f":"SUM(K635:K638)","v":17046282.252341639},{"$f":"SUM(L635:L638)","v":1},{"$f":"VLOOKUP(E639,town351,24)","v":14051975},{"$f":"SUM(N635:N638)","v":14051975},14035133,{"$f":"SUM(P635:P638)","v":16842},0.11999886285366872,1418.6235489140799,1392.4802065390199,126,999,630,1392.4802065390199,17046282.252341639,630,126,999,630,1392.4802065390199,17046282.252341639]
["01270127","0127","0127",631,127,"Hatfield                     ",127,"Hatfield",3943217.63,1,{"$f":"X640","v":3877179.38},{"$f":"IF(K644>0, K640/K644, 0)","v":1},null,{"$f":"ROUND(M644*L640,0)","v":3198673},3167592,{"$f":"N640-O640","v":31081},0.98121854077166504,353,334,127,127,631,334,3877179.38,631,127,127,631,334,3877179.38]
["01270998","0127","0998",632,127,"",998,"",0,0,0,{"$f":"IF(K644>0, K641/K644, 0)","v":0},null,{"$f":"ROUND(M644*L641,0)","v":0},0,{"$f":"N641-O641","v":0},0,0,0,127,998,632,0,0,632,127,998,632,0,0]
["01270998","0127","0998",633,127,"",998,"",0,0,0,{"$f":"IF(K644>0, K642/K644, 0)","v":0},null,{"$f":"ROUND(M644*L642,0)","v":0},0,{"$f":"N642-O642","v":0},0,0,0,127,998,633,0,0,633,127,998,633,0,0]
["01270998","0127","0998",634,127,"",998,"",0,0,0,{"$f":"IF(K644>0, K643/K644, 0)","v":0},null,{"$f":"ROUND(M644*L643,0)","v":0},0,{"$f":"N643-O643","v":0},0,0,0,127,998,634,0,0,634,127,998,634,0,0]
["01270999","0127","0999",635,127,"Hatfield                     ",999,"Total",3943217.63,1,{"$f":"SUM(K640:K643)","v":3877179.38},{"$f":"SUM(L640:L643)","v":1},{"$f":"VLOOKUP(E644,town351,24)","v":3198673},{"$f":"SUM(N640:N643)","v":3198673},3167592,{"$f":"SUM(P640:P643)","v":31081},0.98121854077166504,353,334,127,999,635,334,3877179.38,635,127,999,635,334,3877179.38]
["01280128","0128","0128",636,128,"Haverhill                    ",128,"Haverhill",107173075.29000002,0.87316583021641725,{"$f":"X645","v":109839437.75000001},{"$f":"IF(K649>0, K645/K649, 0)","v":0.87232376382232191},null,{"$f":"ROUND(M649*L645,0)","v":44857002},43835110,{"$f":"N645-O645","v":1021892},2.3312180578536248,8540,8276,128,128,636,8276,109839437.75000001,636,128,128,636,8276,109839437.75000001]
["01280885","0128","0885",637,128,"Haverhill                    ",885,"Whittier",15567727.866986537,0.1268341697835827,16076469.055873163,{"$f":"IF(K649>0, K646/K649, 0)","v":0.12767623617767804},null,{"$f":"ROUND(M649*L646,0)","v":6565422},6367393,{"$f":"N646-O646","v":198029},3.1100483353234205,880.00000000607997,869.99999999592001,128,885,637,869.99999999592001,16076469.055873163,637,128,885,637,869.99999999592001,16076469.055873163]
["01280998","0128","0998",638,128,"",998,null,0,0,0,{"$f":"IF(K649>0, K647/K649, 0)","v":0},null,{"$f":"ROUND(M649*L647,0)","v":0},0,{"$f":"N647-O647","v":0},0,0,0,128,998,638,0,0,638,128,998,638,0,0]
["01280998","0128","0998",639,128,"",998,"",0,0,0,{"$f":"IF(K649>0, K648/K649, 0)","v":0},null,{"$f":"ROUND(M649*L648,0)","v":0},0,{"$f":"N648-O648","v":0},0,0,0,128,998,639,0,0,639,128,998,639,0,0]
["01280999","0128","0999",640,128,"Haverhill                    ",999,"Total",122740803.15698656,1,{"$f":"SUM(K645:K648)","v":125915906.80587319},{"$f":"SUM(L645:L648)","v":1},{"$f":"VLOOKUP(E649,town351,24)","v":51422424},{"$f":"SUM(N645:N648)","v":51422424},50202503,{"$f":"SUM(P645:P648)","v":1219921},2.430000352771255,9420.0000000060791,9145.99999999592,128,999,640,9145.99999999592,125915906.80587319,640,128,999,640,9145.99999999592,125915906.80587319]
[{"$f":"B650&C650","v":"01290129"},"0129","0129",641,129,"Hawley                       ",129,"Hawley",14657.8,3.2912390317574779E-2,{"$f":"X650","v":59811.12},{"$f":"IF(K654>0, K650/K654, 0)","v":0.16668252137336018},null,{"$f":"ROUND(M654*L650,0)","v":46542},8781,{"$f":"N650-O650","v":37761},430.03074820635464,1,4,{"$f":"VLOOKUP($D650, foundoptions, VLOOKUP($T$6, foundoptcell, 2, FALSE), FALSE)","v":129},{"$f":"VLOOKUP($D650, foundoptions, VLOOKUP($T$6, foundoptcell, 2, FALSE)+1, FALSE)","v":129},{"$f":"VLOOKUP($D650, foundoptions, VLOOKUP($T$6, foundoptcell, 2, FALSE)+2, FALSE)","v":641},{"$f":"VLOOKUP($D650, foundoptions, VLOOKUP($T$6, foundoptcell, 2, FALSE)+3, FALSE)","v":4},{"$f":"VLOOKUP($D650, foundoptions, VLOOKUP($T$6, foundoptcell, 2, FALSE)+4, FALSE)","v":59811.12},641,129,129,641,4,59811.12]
["01290685","0129","0685",642,129,"Hawley                       ",685,"Hawlemont",271672.68408360844,0.61000951146713067,172475.41690263915,{"$f":"IF(K654>0, K651/K654, 0)","v":0.48065706450996659},null,{"$f":"ROUND(M654*L651,0)","v":134211},162745,{"$f":"N651-O651","v":-28534},-17.532950321054411,20.877551020560002,{"$f":"W651","v":12.226190476040001},129,685,642,12.226190476040001,172475.41690263915,{"$f":"D651","v":642},129,685,642,12.226190476040001,172475.41690263915]
["01290717","0129","0717",643,129,"Hawley                       ",717,"Mohawk Trail",159027.62751404507,0.35707809821529468,126546.04798504812,{"$f":"IF(K654>0, K652/K654, 0)","v":0.35266041411667337},null,{"$f":"ROUND(M654*L652,0)","v":98471},95265,{"$f":"N652-O652","v":3206},3.3653492888259069,13.74074073866,10.673008320959999,129,717,643,10.673008320959999,126546.04798504812,643,129,717,643,10.673008320959999,126546.04798504812]
["01290998","0129","0998",644,129,"",998,"",0,0,0,{"$f":"IF(K654>0, K653/K654, 0)","v":0},null,{"$f":"ROUND(M654*L653,0)","v":0},0,{"$f":"N653-O653","v":0},0,0,0,129,998,644,0,0,644,129,998,644,0,0]
["01290999","0129","0999",645,129,"Hawley                       ",999,"Total",445358.11159765348,1,{"$f":"SUM(K650:K653)","v":358832.58488768723},{"$f":"SUM(L650:L653)","v":1},{"$f":"VLOOKUP(E654,town351,24)","v":279224},{"$f":"SUM(N650:N653)","v":279224},266791,{"$f":"SUM(P650:P653)","v":12433},4.6602021807332328,35.61829175922,26.899198797000004,129,999,645,26.899198797000004,358832.58488768723,645,129,999,645,26.899198797000004,358832.58488768723]
["01300130","0130","0130",646,130,"Heath                        ",130,"Heath",0,0,{"$f":"X655","v":0},{"$f":"IF(K659>0, K655/K659, 0)","v":0},null,{"$f":"ROUND(M659*L655,0)","v":0},0,{"$f":"N655-O655","v":0},0,0,0,130,130,646,0,0,646,130,130,646,0,0]
["01300717","0130","0717",647,130,"Heath                        ",717,"Mohawk Trail",1022320.4627839464,0.91857429043911731,966351.63942241343,{"$f":"IF(K659>0, K656/K659, 0)","v":0.89472466709797782},null,{"$f":"ROUND(M659*L656,0)","v":406130},431793,{"$f":"N656-O656","v":-25663},{"$f":"IF(O656>0,P656*100/O656,IF(P656>0,100,0))","v":-5.9433571178782429},88.333333336690004,81.502972655039997,130,717,647,81.502972655039997,966351.63942241343,647,130,717,647,81.502972655039997,966351.63942241343]
["01300818","0130","0818",648,130,"Heath                        ",818,"Franklin County",90622.141232582275,8.1425709560882631E-2,113703.12486251042,{"$f":"IF(K659>0, K657/K659, 0)","v":0.10527533290202214},null,{"$f":"ROUND(M659*L657,0)","v":47786},38276,{"$f":"N657-O657","v":9510},{"$f":"IF(O657>0,P657*100/O657,IF(P657>0,100,0))","v":24.845856411328249},4.99999999975,6.0000000006800001,130,818,648,6.0000000006800001,113703.12486251042,648,130,818,648,6.0000000006800001,113703.12486251042]
["01300998","0130","0998",649,130,"",998,"",0,0,0,{"$f":"IF(K659>0, K658/K659, 0)","v":0},null,{"$f":"ROUND(M659*L658,0)","v":0},0,{"$f":"N658-O658","v":0},{"$f":"IF(O658>0,P658*100/O658,IF(P658>0,100,0))","v":0},0,0,130,998,649,0,0,649,130,998,649,0,0]
["01300999","0130","0999",650,130,"Heath                        ",999,"Total",1112942.6040165287,1,{"$f":"SUM(K655:K658)","v":1080054.7642849239},{"$f":"SUM(L655:L658)","v":1},{"$f":"VLOOKUP(E659,town351,24)","v":453916},{"$f":"SUM(N655:N658)","v":453916},470069,{"$f":"SUM(P655:P658)","v":-16153},{"$f":"IF(O659>0,P659*100/O659,IF(P659>0,100,0))","v":-3.4363040319612654},93.333333336440006,87.502972655720001,130,999,650,87.502972655720001,1080054.7642849239,650,130,999,650,87.502972655720001,1080054.7642849239]
["01310131","0131","0131",651,131,"Hingham                      ",131,"Hingham",45460703.839160003,1,{"$f":"X660","v":43233894.313900001},{"$f":"IF(K664>0, K660/K664, 0)","v":1},null,{"$f":"ROUND(M664*L660,0)","v":35667963},37505081,{"$f":"N660-O660","v":-1837118},-4.8983176439480296,4289,3947,131,131,651,3947,43233894.313900001,651,131,131,651,3947,43233894.313900001]
["01310998","0131","0998",652,131,"",998,"",0,0,0,{"$f":"IF(K664>0, K661/K664, 0)","v":0},null,{"$f":"ROUND(M664*L661,0)","v":0},0,{"$f":"N661-O661","v":0},0,0,0,131,998,652,0,0,652,131,998,652,0,0]
["01310998","0131","0998",653,131,"",998,"",0,0,0,{"$f":"IF(K664>0, K662/K664, 0)","v":0},null,{"$f":"ROUND(M664*L662,0)","v":0},0,{"$f":"N662-O662","v":0},0,0,0,131,998,653,0,0,653,131,998,653,0,0]
["01310998","0131","0998",654,131,"",998,"",0,0,0,{"$f":"IF(K664>0, K663/K664, 0)","v":0},null,{"$f":"ROUND(M664*L663,0)","v":0},0,{"$f":"N663-O663","v":0},0,0,0,131,998,654,0,0,654,131,998,654,0,0]
["01310999","0131","0999",655,131,"Hingham                      ",999,"Total",45460703.839160003,1,{"$f":"SUM(K660:K663)","v":43233894.313900001},{"$f":"SUM(L660:L663)","v":1},{"$f":"VLOOKUP(E664,town351,24)","v":35667963},{"$f":"SUM(N660:N663)","v":35667963},37505081,{"$f":"SUM(P660:P663)","v":-1837118},-4.8983176439480296,4289,3947,131,999,655,3947,43233894.313900001,655,131,999,655,3947,43233894.313900001]
["01320132","0132","0132",656,132,"Hinsdale                     ",132,"Hinsdale",117262.39999999999,5.3424453416532812E-2,{"$f":"X665","v":119622.24},{"$f":"IF(K669>0, K665/K669, 0)","v":5.1467793219911885E-2},null,{"$f":"ROUND(M669*L665,0)","v":96740},96741,{"$f":"N665-O665","v":-1},-1.033687888279013E-3,8,8,132,132,656,8,119622.24,656,132,132,656,8,119622.24]
["01320635","0132","0635",657,132,"Hinsdale                     ",635,"Central Berkshire",2077657.5757972966,0.94657554658346721,2204593.2065196787,{"$f":"IF(K669>0, K666/K669, 0)","v":0.94853220678008798},null,{"$f":"ROUND(M669*L666,0)","v":1782880},1714068,{"$f":"N666-O666","v":68812},4.0145431803172338,179.12919896720001,181.60416667172001,132,635,657,181.60416667172001,2204593.2065196787,657,132,635,657,181.60416667172001,2204593.2065196787]
["01320998","0132","0998",658,132,"",998,"",0,0,0,{"$f":"IF(K669>0, K667/K669, 0)","v":0},null,{"$f":"ROUND(M669*L667,0)","v":0},0,{"$f":"N667-O667","v":0},0,0,0,132,998,658,0,0,658,132,998,658,0,0]
["01320998","0132","0998",659,132,"",998,"",0,0,0,{"$f":"IF(K669>0, K668/K669, 0)","v":0},null,{"$f":"ROUND(M669*L668,0)","v":0},0,{"$f":"N668-O668","v":0},0,0,0,132,998,659,0,0,659,132,998,659,0,0]
["01320999","0132","0999",660,132,"Hinsdale                     ",999,"Total",2194919.9757972965,1,{"$f":"SUM(K665:K668)","v":2324215.4465196789},{"$f":"SUM(L665:L668)","v":0.99999999999999989},{"$f":"VLOOKUP(E669,town351,24)","v":1879620},{"$f":"SUM(N665:N668)","v":1879620},1810809,{"$f":"SUM(P665:P668)","v":68811},3.8000142477754419,187.12919896720001,189.60416667172001,132,999,660,189.60416667172001,2324215.4465196789,660,132,999,660,189.60416667172001,2324215.4465196789]
["01330133","0133","0133",661,133,"Holbrook                     ",133,"Holbrook",16096140.681580001,0.88472737889404629,{"$f":"X670","v":17262299.148400001},{"$f":"IF(K674>0, K670/K674, 0)","v":0.88363593740624169},null,{"$f":"ROUND(M674*L670,0)","v":8486011},8273118,{"$f":"N670-O670","v":212893},2.5733103287055741,1346,1315,133,133,661,1315,17262299.148400001,661,133,133,661,1315,17262299.148400001]
["01330806","0133","0806",662,133,"Holbrook                     ",806,"Blue Hills",2043306.9458227286,0.11231074791254189,2199023.9104084545,{"$f":"IF(K674>0, K671/K674, 0)","v":0.11256533893589826},null,{"$f":"ROUND(M674*L671,0)","v":1081023},1050222,{"$f":"N671-O671","v":30801},2.9328084919188515,111.99999999704998,115.99999999615999,133,806,662,115.99999999615999,2199023.9104084545,662,133,806,662,115.99999999615999,2199023.9104084545]
["01330915","0133","0915",663,133,"Holbrook                     ",915,"Norfolk County",53886.348201127854,2.9618731934117257E-3,74210.091948689762,{"$f":"IF(K674>0, K672/K674, 0)","v":3.7987236578600147E-3},null,{"$f":"ROUND(M674*L672,0)","v":36481},27697,{"$f":"N672-O672","v":8784},31.714626132794166,3.00000000014,3.9999999993599999,133,915,663,3.9999999993599999,74210.091948689762,663,133,915,663,3.9999999993599999,74210.091948689762]
["01330998","0133","0998",664,133,"",998,"",0,0,0,{"$f":"IF(K674>0, K673/K674, 0)","v":0},null,{"$f":"ROUND(M674*L673,0)","v":0},0,{"$f":"N673-O673","v":0},0,0,0,133,998,664,0,0,664,133,998,664,0,0]
["01330999","0133","0999",665,133,"Holbrook                     ",999,"Total",18193333.97560386,0.99999999999999989,{"$f":"SUM(K670:K673)","v":19535533.150757145},{"$f":"SUM(L670:L673)","v":1},{"$f":"VLOOKUP(E674,town351,24)","v":9603515},{"$f":"SUM(N670:N673)","v":9603515},9351037,{"$f":"SUM(P670:P673)","v":252478},2.700000010694001,1460.9999999971901,1434.9999999955198,133,999,665,1434.9999999955198,19535533.150757145,665,133,999,665,1434.9999999955198,19535533.150757145]
["01340134","0134","0134",666,134,"Holden                       ",134,"Holden",0,0,{"$f":"X675","v":14952.78},{"$f":"IF(K679>0, K675/K679, 0)","v":4.1077026198047429E-4},null,{"$f":"ROUND(M679*L675,0)","v":8857},0,{"$f":"N675-O675","v":8857},100,0,1,134,134,666,1,14952.78,666,134,134,666,1,14952.78]
["01340775","0134","0775",667,134,"Holden                       ",775,"Wachusett",34895216.912936985,0.96054961078712076,34827222.258734651,{"$f":"IF(K679>0, K676/K679, 0)","v":0.95674431184519781},null,{"$f":"ROUND(M679*L676,0)","v":20628675},20032549,{"$f":"N676-O676","v":596126},2.9757870553567596,3316.0651189381801,3202.1015844732797,134,775,667,3202.1015844732797,34827222.258734651,667,134,775,667,3202.1015844732797,34827222.258734651]
["01340832","0134","0832",668,134,"Holden                       ",832,"Montachusett",1433168.9622518655,3.9450389212879258E-2,1559632.4531396565,{"$f":"IF(K679>0, K677/K679, 0)","v":4.2844917892821695E-2},null,{"$f":"ROUND(M679*L677,0)","v":923793},822750,{"$f":"N677-O677","v":101043},12.281130355515041,82.999999994099994,88.00000000451999,134,832,668,88.00000000451999,1559632.4531396565,668,134,832,668,88.00000000451999,1559632.4531396565]
["01340998","0134","0998",669,134,"",998,"",0,0,0,{"$f":"IF(K679>0, K678/K679, 0)","v":0},null,{"$f":"ROUND(M679*L678,0)","v":0},0,{"$f":"N678-O678","v":0},0,0,0,134,998,669,0,0,669,134,998,669,0,0]
["01340999","0134","0999",670,134,"Holden                       ",999,"Total",36328385.87518885,1,{"$f":"SUM(K675:K678)","v":36401807.491874307},{"$f":"SUM(L675:L678)","v":1},{"$f":"VLOOKUP(E679,town351,24)","v":21561325},{"$f":"SUM(N675:N678)","v":21561325},20855299,{"$f":"SUM(P675:P678)","v":706026},3.3853554437172058,3399.0651189322803,3291.1015844777999,134,999,670,3291.1015844777999,36401807.491874307,670,134,999,670,3291.1015844777999,36401807.491874307]
["01350135","0135","0135",671,135,"Holland                      ",135,"Holland",1899540.24,0.46945363100115461,{"$f":"X680","v":1813558.83},{"$f":"IF(K684>0, K680/K684, 0)","v":0.47983926125881315},null,{"$f":"ROUND(M684*L680,0)","v":1163643},1117998,{"$f":"N680-O680","v":45645},4.0827443340685763,156,152,135,135,671,152,1813558.83,671,135,135,671,152,1813558.83]
["01350770","0135","0770",672,135,"Holland                      ",770,"Tantasqua",2146738.4860779075,0.53054636899884533,1965954.387076692,{"$f":"IF(K684>0, K681/K684, 0)","v":0.52016073874118696},null,{"$f":"ROUND(M684*L681,0)","v":1261426},1263490,{"$f":"N681-O681","v":-2064},-0.16335705070875114,168.21401274395998,149.00000000546999,135,770,672,149.00000000546999,1965954.387076692,672,135,770,672,149.00000000546999,1965954.387076692]
["01350998","0135","0998",673,135,"",998,"",0,0,0,{"$f":"IF(K684>0, K682/K684, 0)","v":0},null,{"$f":"ROUND(M684*L682,0)","v":0},0,{"$f":"N682-O682","v":0},0,0,0,135,998,673,0,0,673,135,998,673,0,0]
["01350998","0135","0998",674,135,"",998,"",0,0,0,{"$f":"IF(K684>0, K683/K684, 0)","v":0},null,{"$f":"ROUND(M684*L683,0)","v":0},0,{"$f":"N683-O683","v":0},0,0,0,135,998,674,0,0,674,135,998,674,0,0]
["01350999","0135","0999",675,135,"Holland                      ",999,"Total",4046278.7260779077,1,{"$f":"SUM(K680:K683)","v":3779513.2170766918},{"$f":"SUM(L680:L683)","v":1},{"$f":"VLOOKUP(E684,town351,24)","v":2425069},{"$f":"SUM(N680:N683)","v":2425069},2381488,{"$f":"SUM(P680:P683)","v":43581},1.8299903253764034,324.21401274395998,301.00000000546999,135,999,675,301.00000000546999,3779513.2170766918,675,135,999,675,301.00000000546999,3779513.2170766918]
["01360136","0136","0136",676,136,"Holliston                    ",136,"Holliston",28673820.518239997,0.96121785596164244,{"$f":"X685","v":28327730.336479999},{"$f":"IF(K689>0, K685/K689, 0)","v":0.95356895070199854},null,{"$f":"ROUND(M689*L685,0)","v":21443054},21202129,{"$f":"N685-O685","v":240925},1.1363245643869067,2706,2604,136,136,676,2604,28327730.336479999,676,136,136,676,2604,28327730.336479999]
["01360829","0136","0829",677,136,"Holliston                    ",829,"South Middlesex",1156899.2716597768,3.8782144038357572E-2,1379329.98215316,{"$f":"IF(K689>0, K686/K689, 0)","v":4.6431049298001494E-2},null,{"$f":"ROUND(M689*L686,0)","v":1044102},855440,{"$f":"N686-O686","v":188662},22.054381370990367,60.075282310680002,68.083333330610003,136,829,677,68.083333330610003,1379329.98215316,677,136,829,677,68.083333330610003,1379329.98215316]
["01360998","0136","0998",678,136,"",998,"",0,0,0,{"$f":"IF(K689>0, K687/K689, 0)","v":0},null,{"$f":"ROUND(M689*L687,0)","v":0},0,{"$f":"N687-O687","v":0},0,0,0,136,998,678,0,0,678,136,998,678,0,0]
["01360998","0136","0998",679,136,"",998,"",0,0,0,{"$f":"IF(K689>0, K688/K689, 0)","v":0},null,{"$f":"ROUND(M689*L688,0)","v":0},0,{"$f":"N688-O688","v":0},0,0,0,136,998,679,0,0,679,136,998,679,0,0]
["01360999","0136","0999",680,136,"Holliston                    ",999,"Total",29830719.789899774,1,{"$f":"SUM(K685:K688)","v":29707060.318633158},{"$f":"SUM(L685:L688)","v":1},{"$f":"VLOOKUP(E689,town351,24)","v":22487156},{"$f":"SUM(N685:N688)","v":22487156},22057569,{"$f":"SUM(P685:P688)","v":429587},1.9475718289717239,2766.07528231068,2672.08333333061,136,999,680,2672.08333333061,29707060.318633158,680,136,999,680,2672.08333333061,29707060.318633158]
["01370137","0137","0137",681,137,"Holyoke                      ",137,"Holyoke",90161028.659999996,1,{"$f":"X690","v":94346220.059999973},{"$f":"IF(K694>0, K690/K694, 0)","v":1},null,{"$f":"ROUND(M694*L690,0)","v":11493463},11207668,{"$f":"N690-O690","v":285795},2.5499952354049031,6357,6159,137,137,681,6159,94346220.059999973,681,137,137,681,6159,94346220.059999973]
["01370998","0137","0998",682,137,"",998,"",0,0,0,{"$f":"IF(K694>0, K691/K694, 0)","v":0},null,{"$f":"ROUND(M694*L691,0)","v":0},0,{"$f":"N691-O691","v":0},0,0,0,137,998,682,0,0,682,137,998,682,0,0]
["01370998","0137","0998",683,137,"",998,"",0,0,0,{"$f":"IF(K694>0, K692/K694, 0)","v":0},null,{"$f":"ROUND(M694*L692,0)","v":0},0,{"$f":"N692-O692","v":0},0,0,0,137,998,683,0,0,683,137,998,683,0,0]
["01370998","0137","0998",684,137,"",998,"",0,0,0,{"$f":"IF(K694>0, K693/K694, 0)","v":0},null,{"$f":"ROUND(M694*L693,0)","v":0},0,{"$f":"N693-O693","v":0},0,0,0,137,998,684,0,0,684,137,998,684,0,0]
["01370999","0137","0999",685,137,"Holyoke                      ",999,"Total",90161028.659999996,1,{"$f":"SUM(K690:K693)","v":94346220.059999973},{"$f":"SUM(L690:L693)","v":1},{"$f":"VLOOKUP(E694,town351,24)","v":11493463},{"$f":"SUM(N690:N693)","v":11493463},11207668,{"$f":"SUM(P690:P693)","v":285795},2.5499952354049031,6357,6159,137,999,685,6159,94346220.059999973,685,137,999,685,6159,94346220.059999973]
["01380138","0138","0138",686,138,"Hopedale                     ",138,"Hopedale",9927021.4951400012,0.91501919395730902,{"$f":"X695","v":10312156.29149},{"$f":"IF(K699>0, K695/K699, 0)","v":0.92159022514453248},null,{"$f":"ROUND(M699*L695,0)","v":6099344},5864081,{"$f":"N695-O695","v":235263},4.0119329866009696,924,914,138,138,686,914,10312156.29149,686,138,138,686,914,10312156.29149]
["01380805","0138","0805",687,138,"Hopedale                     ",805,"Blackstone Valley",921954.74568315642,8.4980806042691065E-2,877368.0872790463,{"$f":"IF(K699>0, K696/K699, 0)","v":7.8409774855467546E-2},null,{"$f":"ROUND(M699*L696,0)","v":518938},544616,{"$f":"N696-O696","v":-25678},-4.7148816780997986,56.000000002860006,51.99999999656,138,805,687,51.99999999656,877368.0872790463,687,138,805,687,51.99999999656,877368.0872790463]
["01380998","0138","0998",688,138,"",998,"",0,0,0,{"$f":"IF(K699>0, K697/K699, 0)","v":0},null,{"$f":"ROUND(M699*L697,0)","v":0},0,{"$f":"N697-O697","v":0},0,0,0,138,998,688,0,0,688,138,998,688,0,0]
["01380998","0138","0998",689,138,"",998,"",0,0,0,{"$f":"IF(K699>0, K698/K699, 0)","v":0},null,{"$f":"ROUND(M699*L698,0)","v":0},0,{"$f":"N698-O698","v":0},0,0,0,138,998,689,0,0,689,138,998,689,0,0]
["01380999","0138","0999",690,138,"Hopedale                     ",999,"Total",10848976.240823157,1,{"$f":"SUM(K695:K698)","v":11189524.378769046},{"$f":"SUM(L695:L698)","v":1},{"$f":"VLOOKUP(E699,town351,24)","v":6618282},{"$f":"SUM(N695:N698)","v":6618282},6408697,{"$f":"SUM(P695:P698)","v":209585},3.2703215645863737,980.00000000286002,965.99999999655995,138,999,690,965.99999999655995,11189524.378769046,690,138,999,690,965.99999999655995,11189524.378769046]
["01390139","0139","0139",691,139,"Hopkinton                    ",139,"Hopkinton",41585309.188900001,0.98583005673605195,{"$f":"X700","v":43582814.802780002},{"$f":"IF(K704>0, K700/K704, 0)","v":0.98758964288324547},null,{"$f":"ROUND(M704*L700,0)","v":35955822},34279876,{"$f":"N700-O700","v":1675946},4.8890083499718608,3867,3935,139,139,691,3935,43582814.802780002,691,139,139,691,3935,43582814.802780002]
["01390829","0139","0829",692,139,"Hopkinton                    ",829,"South Middlesex",597731.29029095895,1.4169943263948027E-2,547675.13992633007,{"$f":"IF(K704>0, K701/K704, 0)","v":1.2410357116754537E-2},null,{"$f":"ROUND(M704*L701,0)","v":451832},492726,{"$f":"N701-O701","v":-40894},-8.2995417331336281,31.038895857060002,27.033088231929998,139,829,692,27.033088231929998,547675.13992633007,692,139,829,692,27.033088231929998,547675.13992633007]
["01390998","0139","0998",693,139,"",998,"",0,0,0,{"$f":"IF(K704>0, K702/K704, 0)","v":0},null,{"$f":"ROUND(M704*L702,0)","v":0},0,{"$f":"N702-O702","v":0},0,0,0,139,998,693,0,0,693,139,998,693,0,0]
["01390998","0139","0998",694,139,"",998,"",0,0,0,{"$f":"IF(K704>0, K703/K704, 0)","v":0},null,{"$f":"ROUND(M704*L703,0)","v":0},0,{"$f":"N703-O703","v":0},0,0,0,139,998,694,0,0,694,139,998,694,0,0]
["01390999","0139","0999",695,139,"Hopkinton                    ",999,"Total",42183040.479190961,1,{"$f":"SUM(K700:K703)","v":44130489.942706332},{"$f":"SUM(L700:L703)","v":1},{"$f":"VLOOKUP(E704,town351,24)","v":36407654},{"$f":"SUM(N700:N703)","v":36407654},34772602,{"$f":"SUM(P700:P703)","v":1635052},4.7021272667486889,3898.0388958570602,3962.0330882319299,139,999,695,3962.0330882319299,44130489.942706332,695,139,999,695,3962.0330882319299,44130489.942706332]
["01400140","0140","0140",696,140,"Hubbardston                  ",140,"Hubbardston",0,0,{"$f":"X705","v":0},{"$f":"IF(K709>0, K705/K709, 0)","v":0},null,{"$f":"ROUND(M709*L705,0)","v":0},0,{"$f":"N705-O705","v":0},0,0,0,140,140,696,0,0,696,140,140,696,0,0]
["01400753","0140","0753",697,140,"Hubbardston                  ",753,"Quabbin",5682918.5047046347,0.8658312680029927,5750693.0814310582,{"$f":"IF(K709>0, K706/K709, 0)","v":0.88539448793242315},null,{"$f":"ROUND(M709*L706,0)","v":3558562},3375955,{"$f":"N706-O706","v":182607},5.4090472177502367,501.67384615085996,487.61194029504003,140,753,697,487.61194029504003,5750693.0814310582,697,140,753,697,487.61194029504003,5750693.0814310582]
["01400832","0140","0832",698,140,"Hubbardston                  ",832,"Montachusett",880621.89250471164,0.1341687319970073,744370.03428824153,{"$f":"IF(K709>0, K707/K709, 0)","v":0.11460551206757685},null,{"$f":"ROUND(M709*L707,0)","v":460621},523136,{"$f":"N707-O707","v":-62515},-11.950047406410571,50.999999998500002,41.999999992859998,140,832,698,41.999999992859998,744370.03428824153,698,140,832,698,41.999999992859998,744370.03428824153]
["01400998","0140","0998",699,140,"",998,"",0,0,0,{"$f":"IF(K709>0, K708/K709, 0)","v":0},null,{"$f":"ROUND(M709*L708,0)","v":0},0,{"$f":"N708-O708","v":0},0,0,0,140,998,699,0,0,699,140,998,699,0,0]
["01400999","0140","0999",700,140,"Hubbardston                  ",999,"Total",6563540.3972093463,1,{"$f":"SUM(K705:K708)","v":6495063.1157192998},{"$f":"SUM(L705:L708)","v":1},{"$f":"VLOOKUP(E709,town351,24)","v":4019183},{"$f":"SUM(N705:N708)","v":4019183},3899091,{"$f":"SUM(P705:P708)","v":120092},3.0799999281883905,552.67384614935997,529.61194028789998,140,999,700,529.61194028789998,6495063.1157192998,700,140,999,700,529.61194028789998,6495063.1157192998]
["01410141","0141","0141",701,141,"Hudson                       ",141,"Hudson",30603552.288509995,0.88112464238712784,{"$f":"X710","v":30183664.778300002},{"$f":"IF(K714>0, K710/K714, 0)","v":0.87301558983124139},null,{"$f":"ROUND(M714*L710,0)","v":18931449},18666759,{"$f":"N710-O710","v":264690},1.4179751289444515,2658,2512,141,141,701,2512,30183664.778300002,701,141,141,701,2512,30183664.778300002]
["01410801","0141","0801",702,141,"Hudson                       ",801,"Assabet Valley",4128823.6050972627,0.11887535761287214,4390362.4554343512,{"$f":"IF(K714>0, K711/K714, 0)","v":0.12698441016875853},null,{"$f":"ROUND(M714*L711,0)","v":2753672},2518392,{"$f":"N711-O711","v":235280},9.3424693216941606,221.99999999711997,225.99999999918001,141,801,702,225.99999999918001,4390362.4554343512,702,141,801,702,225.99999999918001,4390362.4554343512]
["01410998","0141","0998",703,141,"",998,"",0,0,0,{"$f":"IF(K714>0, K712/K714, 0)","v":0},null,{"$f":"ROUND(M714*L712,0)","v":0},0,{"$f":"N712-O712","v":0},0,0,0,141,998,703,0,0,703,141,998,703,0,0]
["01410998","0141","0998",704,141,"",998,"",0,0,0,{"$f":"IF(K714>0, K713/K714, 0)","v":0},null,{"$f":"ROUND(M714*L713,0)","v":0},0,{"$f":"N713-O713","v":0},0,0,0,141,998,704,0,0,704,141,998,704,0,0]
[{"$f":"B714&C714","v":"01410999"},"0141","0999",705,141,"Hudson                       ",999,"Total",34732375.893607259,1,{"$f":"SUM(K710:K713)","v":34574027.233734354},{"$f":"SUM(L710:L713)","v":0.99999999999999989},{"$f":"VLOOKUP(E714,town351,24)","v":21685121},{"$f":"SUM(N710:N713)","v":21685121},21185151,{"$f":"SUM(P710:P713)","v":499970},2.360002059933394,2879.9999999971201,2737.9999999991801,{"$f":"VLOOKUP($D714, foundoptions, VLOOKUP($T$6, foundoptcell, 2, FALSE), FALSE)","v":141},{"$f":"VLOOKUP($D714, foundoptions, VLOOKUP($T$6, foundoptcell, 2, FALSE)+1, FALSE)","v":999},{"$f":"VLOOKUP($D714, foundoptions, VLOOKUP($T$6, foundoptcell, 2, FALSE)+2, FALSE)","v":705},{"$f":"VLOOKUP($D714, foundoptions, VLOOKUP($T$6, foundoptcell, 2, FALSE)+3, FALSE)","v":2737.9999999991801},{"$f":"VLOOKUP($D714, foundoptions, VLOOKUP($T$6, foundoptcell, 2, FALSE)+4, FALSE)","v":34574027.233734354},705,141,999,705,2737.9999999991801,34574027.233734354]
["01420142","0142","0142",706,142,"Hull                         ",142,"Hull",10567859.950760001,1,{"$f":"X715","v":10312532.869039997},{"$f":"IF(K719>0, K715/K719, 0)","v":1},null,{"$f":"ROUND(M719*L715,0)","v":8507840},8718484,{"$f":"N715-O715","v":-210644},-2.4160622420136346,896,{"$f":"W715","v":837},142,142,706,837,10312532.869039997,{"$f":"D715","v":706},142,142,706,837,10312532.869039997]
["01420998","0142","0998",707,142,"",998,"",0,0,0,{"$f":"IF(K719>0, K716/K719, 0)","v":0},null,{"$f":"ROUND(M719*L716,0)","v":0},0,{"$f":"N716-O716","v":0},0,0,0,142,998,707,0,0,707,142,998,707,0,0]
["01420998","0142","0998",708,142,"",998,"",0,0,0,{"$f":"IF(K719>0, K717/K719, 0)","v":0},null,{"$f":"ROUND(M719*L717,0)","v":0},0,{"$f":"N717-O717","v":0},0,0,0,142,998,708,0,0,708,142,998,708,0,0]
["01420998","0142","0998",709,142,"",998,"",0,0,0,{"$f":"IF(K719>0, K718/K719, 0)","v":0},null,{"$f":"ROUND(M719*L718,0)","v":0},0,{"$f":"N718-O718","v":0},0,0,0,142,998,709,0,0,709,142,998,709,0,0]
["01420999","0142","0999",710,142,"Hull                         ",999,"Total",10567859.950760001,1,{"$f":"SUM(K715:K718)","v":10312532.869039997},{"$f":"SUM(L715:L718)","v":1},{"$f":"VLOOKUP(E719,town351,24)","v":8507840},{"$f":"SUM(N715:N718)","v":8507840},8718484,{"$f":"SUM(P715:P718)","v":-210644},-2.4160622420136346,896,837,142,999,710,837,10312532.869039997,710,142,999,710,837,10312532.869039997]
["01430143","0143","0143",711,143,"Huntington                   ",143,"Huntington",423468.62,0.11391845939059077,{"$f":"X720","v":431874.06000000006},{"$f":"IF(K724>0, K720/K724, 0)","v":0.11992082793086033},null,{"$f":"ROUND(M724*L720,0)","v":198796},191404,{"$f":"N720-O720","v":7392},{"$f":"IF(O720>0,P720*100/O720,IF(P720>0,100,0))","v":3.8619882552088773},27,27,143,143,711,27,431874.06000000006,711,143,143,711,27,431874.06000000006]
["01430672","0143","0672",712,143,"Huntington                   ",672,"Gateway",3293827.262206926,0.88608154060940925,3169452.4772800342,{"$f":"IF(K724>0, K721/K724, 0)","v":0.88007917206913966},null,{"$f":"ROUND(M724*L721,0)","v":1458932},1488783,{"$f":"N721-O721","v":-29851},{"$f":"IF(O721>0,P721*100/O721,IF(P721>0,100,0))","v":-2.0050605091541214},278.82593856269,257.704918029,143,672,712,257.704918029,3169452.4772800342,712,143,672,712,257.704918029,3169452.4772800342]
["01430998","0143","0998",713,143,"",998,"",0,0,0,{"$f":"IF(K724>0, K722/K724, 0)","v":0},null,{"$f":"ROUND(M724*L722,0)","v":0},0,{"$f":"N722-O722","v":0},{"$f":"IF(O722>0,P722*100/O722,IF(P722>0,100,0))","v":0},0,0,143,998,713,0,0,713,143,998,713,0,0]
["01430998","0143","0998",714,143,"",998,"",0,0,0,{"$f":"IF(K724>0, K723/K724, 0)","v":0},null,{"$f":"ROUND(M724*L723,0)","v":0},0,{"$f":"N723-O723","v":0},{"$f":"IF(O723>0,P723*100/O723,IF(P723>0,100,0))","v":0},0,0,143,998,714,0,0,714,143,998,714,0,0]
["01430999","0143","0999",715,143,"Huntington                   ",999,"Total",3717295.8822069261,1,{"$f":"SUM(K720:K723)","v":3601326.5372800343},{"$f":"SUM(L720:L723)","v":1},{"$f":"VLOOKUP(E724,town351,24)","v":1657728},{"$f":"SUM(N720:N723)","v":1657728},1680187,{"$f":"SUM(P720:P723)","v":-22459},{"$f":"IF(O724>0,P724*100/O724,IF(P724>0,100,0))","v":-1.3366964510497938},305.82593856269,284.704918029,143,999,715,284.704918029,3601326.5372800343,715,143,999,715,284.704918029,3601326.5372800343]
["01440144","0144","0144",716,144,"Ipswich                      ",144,"Ipswich",18495911.746960003,0.9784749406209905,{"$f":"X725","v":18360232.905999996},{"$f":"IF(K729>0, K725/K729, 0)","v":0.97259171709901515},null,{"$f":"ROUND(M729*L725,0)","v":15147192},15259127,{"$f":"N725-O725","v":-111935},-0.73356096977238605,1654,1585,144,144,716,1585,18360232.905999996,716,144,144,716,1585,18360232.905999996]
["01440885","0144","0885",717,144,"Ipswich                      ",885,"Whittier",406883.79650230234,2.1525059379009504E-2,517403.60191077623,{"$f":"IF(K729>0, K726/K729, 0)","v":2.7408282900984744E-2},null,{"$f":"ROUND(M729*L726,0)","v":426858},335679,{"$f":"N726-O726","v":91179},27.162557085787316,22.99999999896,28.00000000596,144,885,717,28.00000000596,517403.60191077623,717,144,885,717,28.00000000596,517403.60191077623]
["01440998","0144","0998",718,144,"",998,null,0,0,0,{"$f":"IF(K729>0, K727/K729, 0)","v":0},null,{"$f":"ROUND(M729*L727,0)","v":0},0,{"$f":"N727-O727","v":0},0,0,0,144,998,718,0,0,718,144,998,718,0,0]
["01440998","0144","0998",719,144,"",998,"",0,0,0,{"$f":"IF(K729>0, K728/K729, 0)","v":0},null,{"$f":"ROUND(M729*L728,0)","v":0},0,{"$f":"N728-O728","v":0},0,0,0,144,998,719,0,0,719,144,998,719,0,0]
["01440999","0144","0999",720,144,"Ipswich                      ",999,"Total",18902795.543462306,1,{"$f":"SUM(K725:K728)","v":18877636.507910773},{"$f":"SUM(L725:L728)","v":0.99999999999999989},{"$f":"VLOOKUP(E729,town351,24)","v":15574050},{"$f":"SUM(N725:N728)","v":15574050},15594806,{"$f":"SUM(P725:P728)","v":-20756},-0.13309559605935464,1676.99999999896,1613.0000000059599,144,999,720,1613.0000000059599,18877636.507910773,720,144,999,720,1613.0000000059599,18877636.507910773]
["01450145","0145","0145",721,145,"Kingston                     ",145,"Kingston",11789935.42196,0.49231461298655654,{"$f":"X730","v":11891965.326339999},{"$f":"IF(K734>0, K730/K734, 0)","v":0.48695465486497602},null,{"$f":"ROUND(M734*L730,0)","v":7846238},7692593,{"$f":"N730-O730","v":153645},1.997310919737987,1105,1076,145,145,721,1076,11891965.326339999,721,145,145,721,1076,11891965.326339999]
["01450760","0145","0760",722,145,"Kingston                     ",760,"Silver Lake",12158034.252224632,0.50768538701344346,12529128.521992618,{"$f":"IF(K734>0, K731/K734, 0)","v":0.51304534513502398},null,{"$f":"ROUND(M734*L731,0)","v":8266633},7932767,{"$f":"N731-O731","v":333866},4.2086954022474128,1000.8455008545,985.40689655583003,145,760,722,985.40689655583003,12529128.521992618,722,145,760,722,985.40689655583003,12529128.521992618]
["01450998","0145","0998",723,145,"",998,"",0,0,0,{"$f":"IF(K734>0, K732/K734, 0)","v":0},null,{"$f":"ROUND(M734*L732,0)","v":0},0,{"$f":"N732-O732","v":0},0,0,0,145,998,723,0,0,723,145,998,723,0,0]
["01450998","0145","0998",724,145,"",998,"",0,0,0,{"$f":"IF(K734>0, K733/K734, 0)","v":0},null,{"$f":"ROUND(M734*L733,0)","v":0},0,{"$f":"N733-O733","v":0},0,0,0,145,998,724,0,0,724,145,998,724,0,0]
["01450999","0145","0999",725,145,"Kingston                     ",999,"Total",23947969.674184632,1,{"$f":"SUM(K730:K733)","v":24421093.848332617},{"$f":"SUM(L730:L733)","v":1},{"$f":"VLOOKUP(E734,town351,24)","v":16112871},{"$f":"SUM(N730:N733)","v":16112871},15625360,{"$f":"SUM(P730:P733)","v":487511},3.1199985152342089,2105.8455008544997,2061.4068965558299,145,999,725,2061.4068965558299,24421093.848332617,725,145,999,725,2061.4068965558299,24421093.848332617]
["01460146","0146","0146",726,146,"Lakeville                    ",146,"Lakeville",203601.62000000002,1.0276841658977865E-2,{"$f":"X735","v":134575.02000000002},{"$f":"IF(K739>0, K735/K739, 0)","v":6.900791886392461E-3},null,{"$f":"ROUND(M739*L735,0)","v":93268},133221,{"$f":"N735-O735","v":-39953},-29.990016588976211,12,9,146,146,726,9,134575.02000000002,726,146,146,726,9,134575.02000000002]
["01460665","0146","0665",727,146,"Lakeville                    ",665,"Freetown Lakeville",17444530.173600409,0.88051693502906825,16953705.773770154,{"$f":"IF(K739>0, K736/K739, 0)","v":0.86935892892988664},null,{"$f":"ROUND(M739*L736,0)","v":11749820},11414373,{"$f":"N736-O736","v":335447},2.9388123202211807,1620.5452624193399,1531.9218061737001,146,665,727,1531.9218061737001,16953705.773770154,727,146,665,727,1531.9218061737001,16953705.773770154]
["01460855","0146","0855",728,146,"Lakeville                    ",855,"Old Colony",2163560.0428825724,0.10920622331195379,2413107.194087578,{"$f":"IF(K739>0, K737/K739, 0)","v":0.12374027918372098},null,{"$f":"ROUND(M739*L737,0)","v":1672412},1415669,{"$f":"N737-O737","v":256743},18.135807169613802,127.54623655919001,137.00000000177999,146,855,728,137.00000000177999,2413107.194087578,728,146,855,728,137.00000000177999,2413107.194087578]
["01460998","0146","0998",729,146,"",998,"",0,0,0,{"$f":"IF(K739>0, K738/K739, 0)","v":0},null,{"$f":"ROUND(M739*L738,0)","v":0},0,{"$f":"N738-O738","v":0},0,0,0,146,998,729,0,0,729,146,998,729,0,0]
["01460999","0146","0999",730,146,"Lakeville                    ",999,"Total",19811691.836482983,1,{"$f":"SUM(K735:K738)","v":19501387.987857729},{"$f":"SUM(L735:L738)","v":1},{"$f":"VLOOKUP(E739,town351,24)","v":13515499},{"$f":"SUM(N735:N738)","v":13515500},12963263,{"$f":"SUM(P735:P738)","v":552237},4.2600153989007241,1760.0914989785299,1677.92180617548,146,999,730,1677.92180617548,19501387.987857729,730,146,999,730,1677.92180617548,19501387.987857729]
["01470147","0147","0147",731,147,"Lancaster                    ",147,"Lancaster",0,0,{"$f":"X740","v":14952.78},{"$f":"IF(K744>0, K740/K744, 0)","v":1.2545028907250623E-3},null,{"$f":"ROUND(M744*L740,0)","v":10266},0,{"$f":"N740-O740","v":10266},100,0,1,147,147,731,1,14952.78,731,147,147,731,1,14952.78]
["01470725","0147","0725",732,147,"Lancaster                    ",725,"Nashoba",10144220.171346724,0.90842691586511215,10735823.638171408,{"$f":"IF(K744>0, K741/K744, 0)","v":0.90071022167118664},null,{"$f":"ROUND(M744*L741,0)","v":7370587},7110899,{"$f":"N741-O741","v":259688},3.6519714314603542,940.44534920916999,968.82520583784003,147,725,732,968.82520583784003,10735823.638171408,732,147,725,732,968.82520583784003,10735823.638171408]
["01470830","0147","0830",733,147,"Lancaster                    ",830,"Minuteman",1022578.1634276159,9.1573084134887822E-2,1168510.5843143146,{"$f":"IF(K744>0, K742/K744, 0)","v":9.803527543808839E-2},null,{"$f":"ROUND(M744*L742,0)","v":802231},716807,{"$f":"N742-O742","v":85424},11.91729433445823,55.000000000669999,57.999999998809997,147,830,733,57.999999998809997,1168510.5843143146,733,147,830,733,57.999999998809997,1168510.5843143146]
["01470998","0147","0998",734,147,"",998,"",0,0,0,{"$f":"IF(K744>0, K743/K744, 0)","v":0},null,{"$f":"ROUND(M744*L743,0)","v":0},0,{"$f":"N743-O743","v":0},0,0,0,147,998,734,0,0,734,147,998,734,0,0]
["01470999","0147","0999",735,147,"Lancaster                    ",999,"Total",11166798.33477434,1,{"$f":"SUM(K740:K743)","v":11919287.002485722},{"$f":"SUM(L740:L743)","v":1},{"$f":"VLOOKUP(E744,town351,24)","v":8183084},{"$f":"SUM(N740:N743)","v":8183084},7827706,{"$f":"SUM(P740:P743)","v":355378},4.5400018856099091,995.44534920983995,1027.82520583665,147,999,735,1027.82520583665,11919287.002485722,735,147,999,735,1027.82520583665,11919287.002485722]
["01480148","0148","0148",736,148,"Lanesborough                 ",148,"Lanesborough",29315.599999999999,6.7970761119592145E-3,{"$f":"X745","v":14952.78},{"$f":"IF(K749>0, K745/K749, 0)","v":3.2452097879754498E-3},null,{"$f":"ROUND(M749*L745,0)","v":8521},18020,{"$f":"N745-O745","v":-9499},-52.713651498335182,2,1,148,148,736,1,14952.78,736,148,148,736,1,14952.78]
["01480715","0148","0715",737,148,"Lanesborough                 ",715,"Mount Greylock",3872331.9879144868,0.89783375583747549,4166352.032709213,{"$f":"IF(K749>0, K746/K749, 0)","v":0.9042255952872541},null,{"$f":"ROUND(M749*L746,0)","v":2374330},2380276,{"$f":"N746-O746","v":-5946},-0.24980296402602051,358.25475285575999,366.74486803188,148,715,737,366.74486803188,4166352.032709213,737,148,715,737,366.74486803188,4166352.032709213]
["01480851","0148","0851",738,148,"Lanesborough                 ",851,"Northern Berkshire",411324.56615926872,9.5369168050565334E-2,426341.83479101327,{"$f":"IF(K749>0, K747/K749, 0)","v":9.2529194924770394E-2},null,{"$f":"ROUND(M749*L747,0)","v":242965},252836,{"$f":"N747-O747","v":-9871},-3.9041117562372447,22.999999999930001,23.00000000096,148,851,738,23.00000000096,426341.83479101327,738,148,851,738,23.00000000096,426341.83479101327]
["01480998","0148","0998",739,148,"",998,"",0,0,0,{"$f":"IF(K749>0, K748/K749, 0)","v":0},null,{"$f":"ROUND(M749*L748,0)","v":0},0,{"$f":"N748-O748","v":0},0,0,0,148,998,739,0,0,739,148,998,739,0,0]
["01480999","0148","0999",740,148,"Lanesborough                 ",999,"Total",4312972.1540737553,1,{"$f":"SUM(K745:K748)","v":4607646.6475002263},{"$f":"SUM(L745:L748)","v":1},{"$f":"VLOOKUP(E749,town351,24)","v":2625816},{"$f":"SUM(N745:N748)","v":2625816},2651132,{"$f":"SUM(P745:P748)","v":-25316},-0.95491284477724991,383.25475285569001,390.74486803284003,148,999,740,390.74486803284003,4607646.6475002263,740,148,999,740,390.74486803284003,4607646.6475002263]
["01490149","0149","0149",741,149,"Lawrence                     ",149,"Lawrence",218786376.44,0.89357228118931442,{"$f":"X750","v":234592260.91},{"$f":"IF(K754>0, K750/K754, 0)","v":0.89501494953445759},null,{"$f":"ROUND(M754*L750,0)","v":12048747},11530073,{"$f":"N750-O750","v":518674},4.4984450662194417,15367,14746,149,149,741,14746,234592260.91,741,149,149,741,14746,234592260.91]
["01490823","0149","0823",742,149,"Lawrence                     ",823,"Greater Lawrence",26058255.657140184,0.10642771881068552,27517618.966334209,{"$f":"IF(K754>0, K751/K754, 0)","v":0.10498505046554243},null,{"$f":"ROUND(M754*L751,0)","v":1413315},1373274,{"$f":"N751-O751","v":40041},2.9157327670952773,1263.99999999686,1262.0000000006,149,823,742,1262.0000000006,27517618.966334209,742,149,823,742,1262.0000000006,27517618.966334209]
["01490998","0149","0998",743,149,"",998,null,0,0,0,{"$f":"IF(K754>0, K752/K754, 0)","v":0},null,{"$f":"ROUND(M754*L752,0)","v":0},0,{"$f":"N752-O752","v":0},0,0,0,149,998,743,0,0,743,149,998,743,0,0]
["01490998","0149","0998",744,149,"",998,"",0,0,0,{"$f":"IF(K754>0, K753/K754, 0)","v":0},null,{"$f":"ROUND(M754*L753,0)","v":0},0,{"$f":"N753-O753","v":0},0,0,0,149,998,744,0,0,744,149,998,744,0,0]
["01490999","0149","0999",745,149,"Lawrence                     ",999,"Total",244844632.09714019,1,{"$f":"SUM(K750:K753)","v":262109879.87633419},{"$f":"SUM(L750:L753)","v":1},{"$f":"VLOOKUP(E754,town351,24)","v":13462062},{"$f":"SUM(N750:N753)","v":13462062},12903347,{"$f":"SUM(P750:P753)","v":558715},4.3300005804695481,16630.99999999686,16008.0000000006,149,999,745,16008.0000000006,262109879.87633419,745,149,999,745,16008.0000000006,262109879.87633419]
["01500150","0150","0150",746,150,"Lee                          ",150,"Lee",7515008.5899999989,1,{"$f":"X755","v":7363633.6299999999},{"$f":"IF(K759>0, K755/K759, 0)","v":1},null,{"$f":"ROUND(M759*L755,0)","v":6074998},6036549,{"$f":"N755-O755","v":38449},0.63693676635441876,616,579,150,150,746,579,7363633.6299999999,746,150,150,746,579,7363633.6299999999]
["01500998","0150","0998",747,150,"",998,"",0,0,0,{"$f":"IF(K759>0, K756/K759, 0)","v":0},null,{"$f":"ROUND(M759*L756,0)","v":0},0,{"$f":"N756-O756","v":0},0,0,0,150,998,747,0,0,747,150,998,747,0,0]
["01500998","0150","0998",748,150,"",998,"",0,0,0,{"$f":"IF(K759>0, K757/K759, 0)","v":0},null,{"$f":"ROUND(M759*L757,0)","v":0},0,{"$f":"N757-O757","v":0},0,0,0,150,998,748,0,0,748,150,998,748,0,0]
["01500998","0150","0998",749,150,"",998,"",0,0,0,{"$f":"IF(K759>0, K758/K759, 0)","v":0},null,{"$f":"ROUND(M759*L758,0)","v":0},0,{"$f":"N758-O758","v":0},0,0,0,150,998,749,0,0,749,150,998,749,0,0]
["01500999","0150","0999",750,150,"Lee                          ",999,"Total",7515008.5899999989,1,{"$f":"SUM(K755:K758)","v":7363633.6299999999},{"$f":"SUM(L755:L758)","v":1},{"$f":"VLOOKUP(E759,town351,24)","v":6074998},{"$f":"SUM(N755:N758)","v":6074998},6036549,{"$f":"SUM(P755:P758)","v":38449},0.63693676635441876,616,579,150,999,750,579,7363633.6299999999,750,150,999,750,579,7363633.6299999999]
["01510151","0151","0151",751,151,"Leicester                    ",151,"Leicester",18032789.120000001,1,{"$f":"X760","v":17918102.010000005},{"$f":"IF(K764>0, K760/K764, 0)","v":1},null,{"$f":"ROUND(M764*L760,0)","v":8874997},8592877,{"$f":"N760-O760","v":282120},3.2831844328738793,1539,1458,151,151,751,1458,17918102.010000005,751,151,151,751,1458,17918102.010000005]
["01510998","0151","0998",752,151,"",998,"",0,0,0,{"$f":"IF(K764>0, K761/K764, 0)","v":0},null,{"$f":"ROUND(M764*L761,0)","v":0},0,{"$f":"N761-O761","v":0},0,0,0,151,998,752,0,0,752,151,998,752,0,0]
["01510998","0151","0998",753,151,"",998,"",0,0,0,{"$f":"IF(K764>0, K762/K764, 0)","v":0},null,{"$f":"ROUND(M764*L762,0)","v":0},0,{"$f":"N762-O762","v":0},0,0,0,151,998,753,0,0,753,151,998,753,0,0]
["01510998","0151","0998",754,151,"",998,"",0,0,0,{"$f":"IF(K764>0, K763/K764, 0)","v":0},null,{"$f":"ROUND(M764*L763,0)","v":0},0,{"$f":"N763-O763","v":0},0,0,0,151,998,754,0,0,754,151,998,754,0,0]
["01510999","0151","0999",755,151,"Leicester                    ",999,"Total",18032789.120000001,1,{"$f":"SUM(K760:K763)","v":17918102.010000005},{"$f":"SUM(L760:L763)","v":1},{"$f":"VLOOKUP(E764,town351,24)","v":8874997},{"$f":"SUM(N760:N763)","v":8874997},8592877,{"$f":"SUM(P760:P763)","v":282120},3.2831844328738793,1539,1458,151,999,755,1458,17918102.010000005,755,151,999,755,1458,17918102.010000005]
["01520152","0152","0152",756,152,"Lenox                        ",152,"Lenox",5736170.5799999991,1,{"$f":"X765","v":5879254.1000000006},{"$f":"IF(K769>0, K765/K769, 0)","v":1},null,{"$f":"ROUND(M769*L765,0)","v":4784639},4728371,{"$f":"N765-O765","v":56268},1.1900081444539778,507,496,152,152,756,496,5879254.1000000006,756,152,152,756,496,5879254.1000000006]
["01520998","0152","0998",757,152,"",998,"",0,0,0,{"$f":"IF(K769>0, K766/K769, 0)","v":0},null,{"$f":"ROUND(M769*L766,0)","v":0},0,{"$f":"N766-O766","v":0},0,0,0,152,998,757,0,0,757,152,998,757,0,0]
["01520998","0152","0998",758,152,"",998,"",0,0,0,{"$f":"IF(K769>0, K767/K769, 0)","v":0},null,{"$f":"ROUND(M769*L767,0)","v":0},0,{"$f":"N767-O767","v":0},0,0,0,152,998,758,0,0,758,152,998,758,0,0]
["01520998","0152","0998",759,152,"",998,"",0,0,0,{"$f":"IF(K769>0, K768/K769, 0)","v":0},null,{"$f":"ROUND(M769*L768,0)","v":0},0,{"$f":"N768-O768","v":0},0,0,0,152,998,759,0,0,759,152,998,759,0,0]
["01520999","0152","0999",760,152,"Lenox                        ",999,"Total",5736170.5799999991,1,{"$f":"SUM(K765:K768)","v":5879254.1000000006},{"$f":"SUM(L765:L768)","v":1},{"$f":"VLOOKUP(E769,town351,24)","v":4784639},{"$f":"SUM(N765:N768)","v":4784639},4728371,{"$f":"SUM(P765:P768)","v":56268},1.1900081444539778,507,496,152,999,760,496,5879254.1000000006,760,152,999,760,496,5879254.1000000006]
["01530153","0153","0153",761,153,"Leominster                   ",153,"Leominster",79655609.189999998,1,{"$f":"X770","v":81402160.149999991},{"$f":"IF(K774>0, K770/K774, 0)","v":1},null,{"$f":"ROUND(M774*L770,0)","v":32019531},30886014,{"$f":"N770-O770","v":1133517},3.6700009266330063,6177,5990,153,153,761,5990,81402160.149999991,761,153,153,761,5990,81402160.149999991]
["01530998","0153","0998",762,153,"",998,"",0,0,0,{"$f":"IF(K774>0, K771/K774, 0)","v":0},null,{"$f":"ROUND(M774*L771,0)","v":0},0,{"$f":"N771-O771","v":0},0,0,0,153,998,762,0,0,762,153,998,762,0,0]
["01530998","0153","0998",763,153,"",998,"",0,0,0,{"$f":"IF(K774>0, K772/K774, 0)","v":0},null,{"$f":"ROUND(M774*L772,0)","v":0},0,{"$f":"N772-O772","v":0},0,0,0,153,998,763,0,0,763,153,998,763,0,0]
["01530998","0153","0998",764,153,"",998,"",0,0,0,{"$f":"IF(K774>0, K773/K774, 0)","v":0},null,{"$f":"ROUND(M774*L773,0)","v":0},0,{"$f":"N773-O773","v":0},0,0,0,153,998,764,0,0,764,153,998,764,0,0]
["01530999","0153","0999",765,153,"Leominster                   ",999,"Total",79655609.189999998,1,{"$f":"SUM(K770:K773)","v":81402160.149999991},{"$f":"SUM(L770:L773)","v":1},{"$f":"VLOOKUP(E774,town351,24)","v":32019531},{"$f":"SUM(N770:N773)","v":32019531},30886014,{"$f":"SUM(P770:P773)","v":1133517},3.6700009266330063,6177,5990,153,999,765,5990,81402160.149999991,765,153,999,765,5990,81402160.149999991]
["01540154","0154","0154",766,154,"Leverett                     ",154,"Leverett",1203602.1499999999,0.51960835659925453,{"$f":"X775","v":1142444.52},{"$f":"IF(K779>0, K775/K779, 0)","v":0.52023968861516212},null,{"$f":"ROUND(M779*L775,0)","v":942517},992972,{"$f":"N775-O775","v":-50455},-5.0812107491449909,116,105,154,154,766,105,1142444.52,766,154,154,766,105,1142444.52]
["01540605","0154","0605",767,154,"Leverett                     ",605,"Amherst Pelham",1112761.9629202865,0.48039164340074558,1053551.9504751749,{"$f":"IF(K779>0, K776/K779, 0)","v":0.47976031138483788},null,{"$f":"ROUND(M779*L776,0)","v":869180},918028,{"$f":"N776-O776","v":-48848},-5.3209706022038548,91.999999997960003,84.063205421299998,154,605,767,84.063205421299998,1053551.9504751749,767,154,605,767,84.063205421299998,1053551.9504751749]
["01540998","0154","0998",768,154,"",998,"",0,0,0,{"$f":"IF(K779>0, K777/K779, 0)","v":0},null,{"$f":"ROUND(M779*L777,0)","v":0},0,{"$f":"N777-O777","v":0},0,0,0,154,998,768,0,0,768,154,998,768,0,0]
[{"$f":"B778&C778","v":"01540998"},"0154","0998",769,154,"",998,"",0,0,0,{"$f":"IF(K779>0, K778/K779, 0)","v":0},null,{"$f":"ROUND(M779*L778,0)","v":0},0,{"$f":"N778-O778","v":0},0,0,0,{"$f":"VLOOKUP($D778, foundoptions, VLOOKUP($T$6, foundoptcell, 2, FALSE), FALSE)","v":154},{"$f":"VLOOKUP($D778, foundoptions, VLOOKUP($T$6, foundoptcell, 2, FALSE)+1, FALSE)","v":998},{"$f":"VLOOKUP($D778, foundoptions, VLOOKUP($T$6, foundoptcell, 2, FALSE)+2, FALSE)","v":769},{"$f":"VLOOKUP($D778, foundoptions, VLOOKUP($T$6, foundoptcell, 2, FALSE)+3, FALSE)","v":0},{"$f":"VLOOKUP($D778, foundoptions, VLOOKUP($T$6, foundoptcell, 2, FALSE)+4, FALSE)","v":0},769,154,998,769,0,0]
["01540999","0154","0999",770,154,"Leverett                     ",999,"Total",2316364.1129202861,1,{"$f":"SUM(K775:K778)","v":2195996.470475175},{"$f":"SUM(L775:L778)","v":1},{"$f":"VLOOKUP(E779,town351,24)","v":1811697},{"$f":"SUM(N775:N778)","v":1811697},1911000,{"$f":"SUM(P775:P778)","v":-99303},-5.1963893249607533,207.99999999796,{"$f":"W779","v":189.06320542129998},154,999,770,189.06320542129998,2195996.470475175,{"$f":"D779","v":770},154,999,770,189.06320542129998,2195996.470475175]
["01550155","0155","0155",771,155,"Lexington                    ",155,"Lexington",81400953.564800009,0.98537090620663792,{"$f":"X780","v":80618068.692389995},{"$f":"IF(K784>0, K780/K784, 0)","v":0.98136133500769307},null,{"$f":"ROUND(M784*L780,0)","v":66509907},67155786,{"$f":"N780-O780","v":-645879},-0.9617622523247662,7282,6982,155,155,771,6982,80618068.692389995,771,155,155,771,6982,80618068.692389995]
["01550830","0155","0830",772,155,"Lexington                    ",830,"Minuteman",1208501.4658620874,1.4629093793362137E-2,1531151.8001394097,{"$f":"IF(K784>0, K781/K784, 0)","v":1.8638664992306916E-2},null,{"$f":"ROUND(M784*L781,0)","v":1263200},997014,{"$f":"N781-O781","v":266186},26.698321187064575,65.000000000420002,75.999999998609994,155,830,772,75.999999998609994,1531151.8001394097,772,155,830,772,75.999999998609994,1531151.8001394097]
["01550998","0155","0998",773,155,"",998,null,0,0,0,{"$f":"IF(K784>0, K782/K784, 0)","v":0},null,{"$f":"ROUND(M784*L782,0)","v":0},0,{"$f":"N782-O782","v":0},0,0,0,155,998,773,0,0,773,155,998,773,0,0]
["01550998","0155","0998",774,155,"",998,"",0,0,0,{"$f":"IF(K784>0, K783/K784, 0)","v":0},null,{"$f":"ROUND(M784*L783,0)","v":0},0,{"$f":"N783-O783","v":0},0,0,0,155,998,774,0,0,774,155,998,774,0,0]
["01550999","0155","0999",775,155,"Lexington                    ",999,"Total",82609455.03066209,1,{"$f":"SUM(K780:K783)","v":82149220.492529407},{"$f":"SUM(L780:L783)","v":1},{"$f":"VLOOKUP(E784,town351,24)","v":67773107},{"$f":"SUM(N780:N783)","v":67773107},68152800,{"$f":"SUM(P780:P783)","v":-379693},{"$f":"IF(O784>0,P784*100/O784,IF(P784>0,100,0))","v":-0.55712017701400385},7347.0000000004202,7057.9999999986103,155,999,775,7057.9999999986103,82149220.492529407,775,155,999,775,7057.9999999986103,82149220.492529407]
["01560156","0156","0156",776,156,"Leyden                       ",156,"Leyden",0,0,{"$f":"X785","v":0},{"$f":"IF(K789>0, K785/K789, 0)","v":0},null,{"$f":"ROUND(M789*L785,0)","v":0},0,{"$f":"N785-O785","v":0},0,0,0,156,156,776,0,0,776,156,156,776,0,0]
["01560750","0156","0750",777,156,"Leyden                       ",750,"Pioneer",644711.58591137326,0.92222219787288195,597489.33321815555,{"$f":"IF(K789>0, K786/K789, 0)","v":0.96925811869096601},null,{"$f":"ROUND(M789*L786,0)","v":492929},531887,{"$f":"N786-O786","v":-38958},-7.3244880961557621,57.224368499040004,50.672025722340003,156,750,777,50.672025722340003,597489.33321815555,777,156,750,777,50.672025722340003,597489.33321815555]
["01560818","0156","0818",778,156,"Leyden                       ",818,"Franklin County",54373.284739549374,7.7777802127118045E-2,18950.520827221197,{"$f":"IF(K789>0, K787/K789, 0)","v":3.0741881309033971E-2},null,{"$f":"ROUND(M789*L787,0)","v":15634},44858,{"$f":"N787-O787","v":-29224},-65.147799723572163,2.99999999985,1.0000000010000001,156,818,778,1.0000000010000001,18950.520827221197,778,156,818,778,1.0000000010000001,18950.520827221197]
["01560998","0156","0998",779,156,"",998,"",0,0,0,{"$f":"IF(K789>0, K788/K789, 0)","v":0},null,{"$f":"ROUND(M789*L788,0)","v":0},0,{"$f":"N788-O788","v":0},0,0,0,156,998,779,0,0,779,156,998,779,0,0]
["01560999","0156","0999",780,156,"Leyden                       ",999,"Total",699084.87065092265,1,{"$f":"SUM(K785:K788)","v":616439.85404537676},{"$f":"SUM(L785:L788)","v":1},{"$f":"VLOOKUP(E789,town351,24)","v":508563},{"$f":"SUM(N785:N788)","v":508563},576745,{"$f":"SUM(P785:P788)","v":-68182},-11.821862348178138,60.224368498890001,51.672025723339999,156,999,780,51.672025723339999,616439.85404537676,780,156,999,780,51.672025723339999,616439.85404537676]
["01570157","0157","0157",781,157,"Lincoln                      ",157,"Lincoln",6274212.1128000012,0.74459294528320386,{"$f":"X790","v":6357796.1330000004},{"$f":"IF(K794>0, K790/K794, 0)","v":0.72915638612543154},null,{"$f":"ROUND(M794*L790,0)","v":5245182},5176225,{"$f":"N790-O790","v":68957},1.332187066829591,595,578,157,157,781,578,6357796.1330000004,781,157,157,781,578,6357796.1330000004]
["01570695","0157","0695",782,157,"Lincoln                      ",695,"Lincoln Sudbury",2152153.1281621228,0.2554070547167962,2361590.0699843271,{"$f":"IF(K794>0, K791/K794, 0)","v":0.27084361387456851},null,{"$f":"ROUND(M794*L791,0)","v":1948312},1775526,{"$f":"N791-O791","v":172786},9.7315387102188318,187.771507224,201.50000000338002,157,695,782,201.50000000338002,2361590.0699843271,782,157,695,782,201.50000000338002,2361590.0699843271]
["01570830","0157","0830",783,157,null,998,null,0,0,0,{"$f":"IF(K794>0, K792/K794, 0)","v":0},null,{"$f":"ROUND(M794*L792,0)","v":0},0,{"$f":"N792-O792","v":0},0,0,0,157,998,783,0,0,783,157,998,783,0,0]
["01570998","0157","0998",784,157,"",998,"",0,0,0,{"$f":"IF(K794>0, K793/K794, 0)","v":0},null,{"$f":"ROUND(M794*L793,0)","v":0},0,{"$f":"N793-O793","v":0},0,0,0,157,998,784,0,0,784,157,998,784,0,0]
["01570999","0157","0999",785,157,"Lincoln                      ",999,"Total",8426365.2409621235,1,{"$f":"SUM(K790:K793)","v":8719386.2029843275},{"$f":"SUM(L790:L793)","v":1},{"$f":"VLOOKUP(E794,town351,24)","v":7193494},{"$f":"SUM(N790:N793)","v":7193494},6951751,{"$f":"SUM(P790:P793)","v":241743},3.477440431914204,782.77150722400006,779.50000000338002,157,999,785,779.50000000338002,8719386.2029843275,785,157,999,785,779.50000000338002,8719386.2029843275]
["01580158","0158","0158",786,158,"Littleton                    ",158,"Littleton",16791308.800700001,0.96514099464894365,{"$f":"X795","v":16227167.91492},{"$f":"IF(K799>0, K795/K799, 0)","v":0.96108993983779456},null,{"$f":"ROUND(M799*L795,0)","v":13387414},13852830,{"$f":"N795-O795","v":-465416},-3.3597178338289,1611,1515,158,158,786,1515,16227167.91492,786,158,158,786,1515,16227167.91492]
["01580852","0158","0852",787,158,"Littleton                    ",852,"Nashoba Valley",606469.23773841676,3.4859005351056425E-2,656962.53145497397,{"$f":"IF(K799>0, K796/K799, 0)","v":3.8910060162205384E-2},null,{"$f":"ROUND(M799*L796,0)","v":541994},500337,{"$f":"N796-O796","v":41657},8.3257884186058604,34.999999998779998,37.000000001290005,158,852,787,37.000000001290005,656962.53145497397,787,158,852,787,37.000000001290005,656962.53145497397]
["01580998","0158","0998",788,158,"",998,"",0,0,0,{"$f":"IF(K799>0, K797/K799, 0)","v":0},null,{"$f":"ROUND(M799*L797,0)","v":0},0,{"$f":"N797-O797","v":0},0,0,0,158,998,788,0,0,788,158,998,788,0,0]
["01580998","0158","0998",789,158,"",998,"",0,0,0,{"$f":"IF(K799>0, K798/K799, 0)","v":0},null,{"$f":"ROUND(M799*L798,0)","v":0},0,{"$f":"N798-O798","v":0},0,0,0,158,998,789,0,0,789,158,998,789,0,0]
["01580999","0158","0999",790,158,"Littleton                    ",999,"Total",17397778.038438417,1,{"$f":"SUM(K795:K798)","v":16884130.446374975},{"$f":"SUM(L795:L798)","v":1},{"$f":"VLOOKUP(E799,town351,24)","v":13929408},{"$f":"SUM(N795:N798)","v":13929408},14353167,{"$f":"SUM(P795:P798)","v":-423759},-2.9523728108228657,1645.9999999987799,1552.0000000012901,158,999,790,1552.0000000012901,16884130.446374975,790,158,999,790,1552.0000000012901,16884130.446374975]
["01590159","0159","0159",791,159,"Longmeadow                   ",159,"Longmeadow",29237892.870000001,1,{"$f":"X800","v":29129978.330000002},{"$f":"IF(K804>0, K800/K804, 0)","v":1},null,{"$f":"ROUND(M804*L800,0)","v":24032232},24121262,{"$f":"N800-O800","v":-89030},-0.36909345787960846,2808,2705,159,159,791,2705,29129978.330000002,791,159,159,791,2705,29129978.330000002]
["01590998","0159","0998",792,159,"",998,"",0,0,0,{"$f":"IF(K804>0, K801/K804, 0)","v":0},null,{"$f":"ROUND(M804*L801,0)","v":0},0,{"$f":"N801-O801","v":0},0,0,0,159,998,792,0,0,792,159,998,792,0,0]
["01590998","0159","0998",793,159,"",998,"",0,0,0,{"$f":"IF(K804>0, K802/K804, 0)","v":0},null,{"$f":"ROUND(M804*L802,0)","v":0},0,{"$f":"N802-O802","v":0},0,0,0,159,998,793,0,0,793,159,998,793,0,0]
["01590998","0159","0998",794,159,"",998,"",0,0,0,{"$f":"IF(K804>0, K803/K804, 0)","v":0},null,{"$f":"ROUND(M804*L803,0)","v":0},0,{"$f":"N803-O803","v":0},0,0,0,159,998,794,0,0,794,159,998,794,0,0]
["01590999","0159","0999",795,159,"Longmeadow                   ",999,"Total",29237892.870000001,1,{"$f":"SUM(K800:K803)","v":29129978.330000002},{"$f":"SUM(L800:L803)","v":1},{"$f":"VLOOKUP(E804,town351,24)","v":24032232},{"$f":"SUM(N800:N803)","v":24032232},24121262,{"$f":"SUM(P800:P803)","v":-89030},-0.36909345787960846,2808,2705,159,999,795,2705,29129978.330000002,795,159,999,795,2705,29129978.330000002]
["01600160","0160","0160",796,160,"Lowell                       ",160,"Lowell",218744159.73000002,0.86983906561266544,{"$f":"X805","v":232660515.38},{"$f":"IF(K809>0, K805/K809, 0)","v":0.86690094477590496},null,{"$f":"ROUND(M809*L805,0)","v":54112190},51808768,{"$f":"N805-O805","v":2303422},4.4460080579410803,16352,16047,160,160,796,16047,232660515.38,796,160,160,796,16047,232660515.38]
["01600828","0160","0828",797,160,"Lowell                       ",828,"Greater Lowell",32732427.580928583,0.13016093438733453,35721376.209866777,{"$f":"IF(K809>0, K806/K809, 0)","v":0.1330990552240951},null,{"$f":"ROUND(M809*L806,0)","v":8308079},7752558,{"$f":"N806-O806","v":555521},7.1656477771594869,1767.9999999950401,1826.99999998866,160,828,797,1826.99999998866,35721376.209866777,797,160,828,797,1826.99999998866,35721376.209866777]
["01600998","0160","0998",798,160,"",998,null,0,0,0,{"$f":"IF(K809>0, K807/K809, 0)","v":0},null,{"$f":"ROUND(M809*L807,0)","v":0},0,{"$f":"N807-O807","v":0},0,0,0,160,998,798,0,0,798,160,998,798,0,0]
["01600998","0160","0998",799,160,"",998,"",0,0,0,{"$f":"IF(K809>0, K808/K809, 0)","v":0},null,{"$f":"ROUND(M809*L808,0)","v":0},0,{"$f":"N808-O808","v":0},0,0,0,160,998,799,0,0,799,160,998,799,0,0]
["01600999","0160","0999",800,160,"Lowell                       ",999,"Total",251476587.31092861,1,{"$f":"SUM(K805:K808)","v":268381891.58986676},{"$f":"SUM(L805:L808)","v":1},{"$f":"VLOOKUP(E809,town351,24)","v":62420269},{"$f":"SUM(N805:N808)","v":62420269},59561326,{"$f":"SUM(P805:P808)","v":2858943},4.7999989120457123,18119.999999995041,17873.99999998866,160,999,800,17873.99999998866,268381891.58986676,800,160,999,800,17873.99999998866,268381891.58986676]
["01610161","0161","0161",801,161,"Ludlow                       ",161,"Ludlow",29294399.16,1,{"$f":"X810","v":28842661.469999999},{"$f":"IF(K814>0, K810/K814, 0)","v":1},null,{"$f":"ROUND(M814*L810,0)","v":16677575},16443714,{"$f":"N810-O810","v":233861},1.4221908748838614,2509,2381,161,161,801,2381,28842661.469999999,801,161,161,801,2381,28842661.469999999]
["01610998","0161","0998",802,161,"",998,"",0,0,0,{"$f":"IF(K814>0, K811/K814, 0)","v":0},null,{"$f":"ROUND(M814*L811,0)","v":0},0,{"$f":"N811-O811","v":0},0,0,0,161,998,802,0,0,802,161,998,802,0,0]
["01610998","0161","0998",803,161,"",998,"",0,0,0,{"$f":"IF(K814>0, K812/K814, 0)","v":0},null,{"$f":"ROUND(M814*L812,0)","v":0},0,{"$f":"N812-O812","v":0},0,0,0,161,998,803,0,0,803,161,998,803,0,0]
["01610998","0161","0998",804,161,"",998,"",0,0,0,{"$f":"IF(K814>0, K813/K814, 0)","v":0},null,{"$f":"ROUND(M814*L813,0)","v":0},0,{"$f":"N813-O813","v":0},0,0,0,161,998,804,0,0,804,161,998,804,0,0]
["01610999","0161","0999",805,161,"Ludlow                       ",999,"Total",29294399.16,1,{"$f":"SUM(K810:K813)","v":28842661.469999999},{"$f":"SUM(L810:L813)","v":1},{"$f":"VLOOKUP(E814,town351,24)","v":16677575},{"$f":"SUM(N810:N813)","v":16677575},16443714,{"$f":"SUM(P810:P813)","v":233861},1.4221908748838614,2509,2381,161,999,805,2381,28842661.469999999,805,161,999,805,2381,28842661.469999999]
["01620162","0162","0162",806,162,"Lunenburg                    ",162,"Lunenburg",18301715.41,0.92819102599031111,{"$f":"X815","v":18408485.399999999},{"$f":"IF(K819>0, K815/K819, 0)","v":0.92600333020834913},null,{"$f":"ROUND(M819*L815,0)","v":10908378},10527777,{"$f":"N815-O815","v":380601},3.6152076549493781,1705,1656,162,162,806,1656,18408485.399999999,806,162,162,806,1656,18408485.399999999]
["01620832","0162","0832",807,162,"Lunenburg                    ",832,"Montachusett",1415901.8665443652,7.1808974009688803E-2,1471016.972694624,{"$f":"IF(K819>0, K816/K819, 0)","v":7.3996669791650871E-2},null,{"$f":"ROUND(M819*L816,0)","v":871685},814475,{"$f":"N816-O816","v":57210},7.0241566653365668,82.000000007099999,82.999999995630006,162,832,807,82.999999995630006,1471016.972694624,807,162,832,807,82.999999995630006,1471016.972694624]
["01620998","0162","0998",808,162,"",998,"",0,0,0,{"$f":"IF(K819>0, K817/K819, 0)","v":0},null,{"$f":"ROUND(M819*L817,0)","v":0},0,{"$f":"N817-O817","v":0},0,0,0,162,998,808,0,0,808,162,998,808,0,0]
["01620998","0162","0998",809,162,"",998,"",0,0,0,{"$f":"IF(K819>0, K818/K819, 0)","v":0},null,{"$f":"ROUND(M819*L818,0)","v":0},0,{"$f":"N818-O818","v":0},0,0,0,162,998,809,0,0,809,162,998,809,0,0]
["01620999","0162","0999",810,162,"Lunenburg                    ",999,"Total",19717617.276544366,0.99999999999999989,{"$f":"SUM(K815:K818)","v":19879502.372694623},{"$f":"SUM(L815:L818)","v":1},{"$f":"VLOOKUP(E819,town351,24)","v":11780063},{"$f":"SUM(N815:N818)","v":11780063},11342252,{"$f":"SUM(P815:P818)","v":437811},3.8600006418478445,1787.0000000071,1738.9999999956301,162,999,810,1738.9999999956301,19879502.372694623,810,162,999,810,1738.9999999956301,19879502.372694623]
["01630163","0163","0163",811,163,"Lynn                         ",163,"Lynn",252551048.48000005,1,{"$f":"X820","v":268344427.44},{"$f":"IF(K824>0, K820/K824, 0)","v":1},null,{"$f":"ROUND(M824*L820,0)","v":55110068},53396054,{"$f":"N820-O820","v":1714014},3.2100012484068579,18087,17156,163,163,811,17156,268344427.44,811,163,163,811,17156,268344427.44]
["01630998","0163","0998",812,163,"",998,null,0,0,0,{"$f":"IF(K824>0, K821/K824, 0)","v":0},null,{"$f":"ROUND(M824*L821,0)","v":0},0,{"$f":"N821-O821","v":0},0,0,0,163,998,812,0,0,812,163,998,812,0,0]
["01630998","0163","0998",813,163,"",998,"",0,0,0,{"$f":"IF(K824>0, K822/K824, 0)","v":0},null,{"$f":"ROUND(M824*L822,0)","v":0},0,{"$f":"N822-O822","v":0},0,0,0,163,998,813,0,0,813,163,998,813,0,0]
["01630998","0163","0998",814,163,"",998,"",0,0,0,{"$f":"IF(K824>0, K823/K824, 0)","v":0},null,{"$f":"ROUND(M824*L823,0)","v":0},0,{"$f":"N823-O823","v":0},0,0,0,163,998,814,0,0,814,163,998,814,0,0]
["01630999","0163","0999",815,163,"Lynn                         ",999,"Total",252551048.48000005,1,{"$f":"SUM(K820:K823)","v":268344427.44},{"$f":"SUM(L820:L823)","v":1},{"$f":"VLOOKUP(E824,town351,24)","v":55110068},{"$f":"SUM(N820:N823)","v":55110068},53396054,{"$f":"SUM(P820:P823)","v":1714014},3.2100012484068579,18087,17156,163,999,815,17156,268344427.44,815,163,999,815,17156,268344427.44]
["01640164","0164","0164",816,164,"Lynnfield                    ",164,"Lynnfield",23513323.468790006,0.9738018745247502,{"$f":"X825","v":23928671.94923},{"$f":"IF(K829>0, K825/K829, 0)","v":0.96561241718661017},null,{"$f":"ROUND(M829*L825,0)","v":19741154},19317442,{"$f":"N825-O825","v":423712},2.1934167060007219,2205,2175,164,164,816,2175,23928671.94923,816,164,164,816,2175,23928671.94923]
["01640817","0164","0817",817,164,"Lynnfield                    ",817,"Essex North Shore",632577.33907744777,2.6198125475249832E-2,852152.65837821667,{"$f":"IF(K829>0, K826/K829, 0)","v":3.4387582813389855E-2},null,{"$f":"ROUND(M829*L826,0)","v":703026},519696,{"$f":"N826-O826","v":183330},35.276392352452206,36.999999997250001,47.000000001499998,164,817,817,47.000000001499998,852152.65837821667,817,164,817,817,47.000000001499998,852152.65837821667]
["01640998","0164","0998",818,164,"",998,null,0,0,0,{"$f":"IF(K829>0, K827/K829, 0)","v":0},null,{"$f":"ROUND(M829*L827,0)","v":0},0,{"$f":"N827-O827","v":0},0,0,0,164,998,818,0,0,818,164,998,818,0,0]
["01640998","0164","0998",819,164,"",998,"",0,0,0,{"$f":"IF(K829>0, K828/K829, 0)","v":0},null,{"$f":"ROUND(M829*L828,0)","v":0},0,{"$f":"N828-O828","v":0},0,0,0,164,998,819,0,0,819,164,998,819,0,0]
["01640999","0164","0999",820,164,"Lynnfield                    ",999,"Total",24145900.807867453,1,{"$f":"SUM(K825:K828)","v":24780824.607608218},{"$f":"SUM(L825:L828)","v":1},{"$f":"VLOOKUP(E829,town351,24)","v":20444180},{"$f":"SUM(N825:N828)","v":20444180},19837138,{"$f":"SUM(P825:P828)","v":607042},3.0601289359382386,2241.9999999972501,2222.0000000015002,164,999,820,2222.0000000015002,24780824.607608218,820,164,999,820,2222.0000000015002,24780824.607608218]
["01650165","0165","0165",821,165,"Malden                       ",165,"Malden",94879629.913439989,0.97287783037399833,{"$f":"X830","v":97816216.363690004},{"$f":"IF(K834>0, K830/K834, 0)","v":0.96988202443801075},null,{"$f":"ROUND(M834*L830,0)","v":47782256},45560692,{"$f":"N830-O830","v":2221564},4.87605412139043,7268,6921,165,165,821,6921,97816216.363690004,821,165,165,821,6921,97816216.363690004]
["01650853","0165","0853",822,165,"Malden                       ",853,"Northeast Metropolitan",2645081.7730889488,2.7122169626001707E-2,3037510.0680053532,{"$f":"IF(K834>0, K831/K834, 0)","v":3.011797556198928E-2},null,{"$f":"ROUND(M834*L831,0)","v":1483794},1270154,{"$f":"N831-O831","v":213640},16.820007652615352,140.99999999615,152.00000000619002,165,853,822,152.00000000619002,3037510.0680053532,822,165,853,822,152.00000000619002,3037510.0680053532]
["01650998","0165","0998",823,165,"",998,null,0,0,0,{"$f":"IF(K834>0, K832/K834, 0)","v":0},null,{"$f":"ROUND(M834*L832,0)","v":0},0,{"$f":"N832-O832","v":0},0,0,0,165,998,823,0,0,823,165,998,823,0,0]
["01650998","0165","0998",824,165,"",998,"",0,0,0,{"$f":"IF(K834>0, K833/K834, 0)","v":0},null,{"$f":"ROUND(M834*L833,0)","v":0},0,{"$f":"N833-O833","v":0},0,0,0,165,998,824,0,0,824,165,998,824,0,0]
["01650999","0165","0999",825,165,"Malden                       ",999,"Total",97524711.686528936,1,{"$f":"SUM(K830:K833)","v":100853726.43169536},{"$f":"SUM(L830:L833)","v":1},{"$f":"VLOOKUP(E834,town351,24)","v":49266050},{"$f":"SUM(N830:N833)","v":49266050},46830846,{"$f":"SUM(P830:P833)","v":2435204},5.2000000170827576,7408.9999999961501,7073.00000000619,165,999,825,7073.00000000619,100853726.43169536,825,165,999,825,7073.00000000619,100853726.43169536]
["01660166","0166","0166",826,166,"Manchester                   ",166,"Manchester",0,0,{"$f":"X835","v":0},{"$f":"IF(K839>0, K835/K839, 0)","v":0},null,{"$f":"ROUND(M839*L835,0)","v":0},0,{"$f":"N835-O835","v":0},0,0,0,166,166,826,0,0,826,166,166,826,0,0]
["01660698","0166","0698",827,166,"Manchester                   ",698,"Manchester Essex",8924112.9541388024,0.98120227065844279,8447386.1773748174,{"$f":"IF(K839>0, K836/K839, 0)","v":0.97693489145946466},null,{"$f":"ROUND(M839*L836,0)","v":6969094},7362393,{"$f":"N836-O836","v":-393299},-5.3419995373786753,827.31757754483999,757.37331214873996,166,698,827,757.37331214873996,8447386.1773748174,827,166,698,827,757.37331214873996,8447386.1773748174]
["01660817","0166","0817",828,166,"Manchester                   ",817,"Essex North Shore",170966.84846929109,1.8797729341557275E-2,199439.9839419114,{"$f":"IF(K839>0, K837/K839, 0)","v":2.3065108540535402E-2},null,{"$f":"ROUND(M839*L837,0)","v":164538},141048,{"$f":"N837-O837","v":23490},16.653905053598773,10.000000003349999,11.000000004,166,817,828,11.000000004,199439.9839419114,828,166,817,828,11.000000004,199439.9839419114]
["01660998","0166","0998",829,166,"",998,"",0,0,0,{"$f":"IF(K839>0, K838/K839, 0)","v":0},null,{"$f":"ROUND(M839*L838,0)","v":0},0,{"$f":"N838-O838","v":0},0,0,0,166,998,829,0,0,829,166,998,829,0,0]
["01660999","0166","0999",830,166,"Manchester                   ",999,"Total",9095079.8026080932,1,{"$f":"SUM(K835:K838)","v":8646826.1613167282},{"$f":"SUM(L835:L838)","v":1},{"$f":"VLOOKUP(E839,town351,24)","v":7133632},{"$f":"SUM(N835:N838)","v":7133632},7503441,{"$f":"SUM(P835:P838)","v":-369809},-4.9285254591859919,837.31757754819,768.37331215273991,166,999,830,768.37331215273991,8646826.1613167282,830,166,999,830,768.37331215273991,8646826.1613167282]
["01670167","0167","0167",831,167,"Mansfield                    ",167,"Mansfield",41671720.92024,0.96060057020303879,{"$f":"X840","v":41585191.998259999},{"$f":"IF(K844>0, K840/K844, 0)","v":0.95291331827848402},null,{"$f":"ROUND(M844*L840,0)","v":29922569},29709526,{"$f":"N840-O840","v":213043},0.71708649946148584,3730,3599,167,167,831,3599,41585191.998259999,831,167,167,831,3599,41585191.998259999]
["01670872","0167","0872",832,167,"Mansfield                    ",872,"Southeastern",1691735.7979670332,3.8997246484503131E-2,2001705.786003201,{"$f":"IF(K844>0, K841/K844, 0)","v":4.586854144709402E-2},null,{"$f":"ROUND(M844*L841,0)","v":1440325},1206110,{"$f":"N841-O841","v":234215},19.419041380968569,95.125412545710006,104.19247378903999,167,872,832,104.19247378903999,2001705.786003201,832,167,872,832,104.19247378903999,2001705.786003201]
[{"$f":"B842&C842","v":"01670910"},"0167","0910",833,167,"Mansfield                    ",910,"Bristol County",17447.075585215585,4.0218331245814754E-4,53159.711613822299,{"$f":"IF(K844>0, K842/K844, 0)","v":1.2181402744220644E-3},null,{"$f":"ROUND(M844*L842,0)","v":38251},12439,{"$f":"N842-O842","v":25812},207.5086421738082,1.0000000017000001,2.99999999948,{"$f":"VLOOKUP($D842, foundoptions, VLOOKUP($T$6, foundoptcell, 2, FALSE), FALSE)","v":167},{"$f":"VLOOKUP($D842, foundoptions, VLOOKUP($T$6, foundoptcell, 2, FALSE)+1, FALSE)","v":910},{"$f":"VLOOKUP($D842, foundoptions, VLOOKUP($T$6, foundoptcell, 2, FALSE)+2, FALSE)","v":833},{"$f":"VLOOKUP($D842, foundoptions, VLOOKUP($T$6, foundoptcell, 2, FALSE)+3, FALSE)","v":2.99999999948},{"$f":"VLOOKUP($D842, foundoptions, VLOOKUP($T$6, foundoptcell, 2, FALSE)+4, FALSE)","v":53159.711613822299},833,167,910,833,2.99999999948,53159.711613822299]
["01670998","0167","0998",834,167,"",998,"",0,0,0,{"$f":"IF(K844>0, K843/K844, 0)","v":0},null,{"$f":"ROUND(M844*L843,0)","v":0},0,{"$f":"N843-O843","v":0},0,0,{"$f":"W843","v":0},167,998,834,0,0,{"$f":"D843","v":834},167,998,834,0,0]
["01670999","0167","0999",835,167,"Mansfield                    ",999,"Total",43380903.793792248,1,{"$f":"SUM(K840:K843)","v":43640057.49587702},{"$f":"SUM(L840:L843)","v":1.0000000000000002},{"$f":"VLOOKUP(E844,town351,24)","v":31401145},{"$f":"SUM(N840:N843)","v":31401145},30928075,{"$f":"SUM(P840:P843)","v":473070},1.5295811329997098,3826.1254125474097,3706.1924737885201,167,999,835,3706.1924737885201,43640057.49587702,835,167,999,835,3706.1924737885201,43640057.49587702]
["01680168","0168","0168",836,168,"Marblehead                   ",168,"Marblehead",31915735.240000002,0.97595122292392145,{"$f":"X845","v":30235711.089999996},{"$f":"IF(K849>0, K845/K849, 0)","v":0.97714799499392979},null,{"$f":"ROUND(M849*L845,0)","v":24944462},26330482,{"$f":"N845-O845","v":-1386020},-5.2639370597165671,3023,2772,168,168,836,2772,30235711.089999996,836,168,168,836,2772,30235711.089999996]
["01680817","0168","0817",837,168,"Marblehead                   ",817,"Essex North Shore",786447.50267989212,2.404877707607856E-2,707105.39726898028,{"$f":"IF(K849>0, K846/K849, 0)","v":2.2852005006070139E-2},null,{"$f":"ROUND(M849*L846,0)","v":583362},648819,{"$f":"N846-O846","v":-65457},-10.088637971452748,45.999999999099998,38.99999999525,168,817,837,38.99999999525,707105.39726898028,837,168,817,837,38.99999999525,707105.39726898028]
["01680998","0168","0998",838,168,"",998,null,0,0,0,{"$f":"IF(K849>0, K847/K849, 0)","v":0},null,{"$f":"ROUND(M849*L847,0)","v":0},0,{"$f":"N847-O847","v":0},0,0,0,168,998,838,0,0,838,168,998,838,0,0]
["01680998","0168","0998",839,168,"",998,"",0,0,0,{"$f":"IF(K849>0, K848/K849, 0)","v":0},null,{"$f":"ROUND(M849*L848,0)","v":0},0,{"$f":"N848-O848","v":0},{"$f":"IF(O848>0,P848*100/O848,IF(P848>0,100,0))","v":0},0,0,168,998,839,0,0,839,168,998,839,0,0]
["01680999","0168","0999",840,168,"Marblehead                   ",999,"Total",32702182.742679894,1,{"$f":"SUM(K845:K848)","v":30942816.487268977},{"$f":"SUM(L845:L848)","v":0.99999999999999989},{"$f":"VLOOKUP(E849,town351,24)","v":25527824},{"$f":"SUM(N845:N848)","v":25527824},26979301,{"$f":"SUM(P845:P848)","v":-1451477},{"$f":"IF(O849>0,P849*100/O849,IF(P849>0,100,0))","v":-5.3799651814552201},3068.9999999991001,2810.9999999952502,168,999,840,2810.9999999952502,30942816.487268977,840,168,999,840,2810.9999999952502,30942816.487268977]
["01690169","0169","0169",841,169,"Marion                       ",169,"Marion",4522671.7799999993,0.54354056450077415,{"$f":"X850","v":4374312.4499999993},{"$f":"IF(K854>0, K850/K854, 0)","v":0.5254392931458759},null,{"$f":"ROUND(M854*L850,0)","v":3608808},3731204,{"$f":"N850-O850","v":-122396},-3.2803352483541506,432,403,169,169,841,403,4374312.4499999993,841,169,169,841,403,4374312.4499999993]
["01690740","0169","0740",842,169,"Marion                       ",740,"Old Rochester",3555513.7324623689,0.42730625507227293,3646370.725862971,{"$f":"IF(K854>0, K851/K854, 0)","v":0.43799945217567948},null,{"$f":"ROUND(M854*L851,0)","v":3008256},2933299,{"$f":"N851-O851","v":74957},2.5553821823141796,320.29438822335999,318.00000000299997,169,740,842,318.00000000299997,3646370.725862971,842,169,740,842,318.00000000299997,3646370.725862971]
["01690879","0169","0879",843,169,"Marion                       ",879,"Upper Cape Cod",242576.68153126584,2.9153180426953019E-2,304374.5559454012,{"$f":"IF(K854>0, K852/K854, 0)","v":3.6561254678444718E-2},null,{"$f":"ROUND(M854*L852,0)","v":251109},200126,{"$f":"N852-O852","v":50983},25.47545046620629,14.00000000126,17.067282319429999,169,879,843,17.067282319429999,304374.5559454012,843,169,879,843,17.067282319429999,304374.5559454012]
["01690998","0169","0998",844,169,"",998,"",0,0,0,{"$f":"IF(K854>0, K853/K854, 0)","v":0},null,{"$f":"ROUND(M854*L853,0)","v":0},0,{"$f":"N853-O853","v":0},0,0,0,169,998,844,0,0,844,169,998,844,0,0]
["01690999","0169","0999",845,169,"Marion                       ",999,"Total",8320762.1939936336,1,{"$f":"SUM(K850:K853)","v":8325057.7318083709},{"$f":"SUM(L850:L853)","v":1},{"$f":"VLOOKUP(E854,town351,24)","v":6868173},{"$f":"SUM(N850:N853)","v":6868173},6864629,{"$f":"SUM(P850:P853)","v":3544},5.1626970663673159E-2,766.29438822461998,738.06728232242995,169,999,845,738.06728232242995,8325057.7318083709,845,169,999,845,738.06728232242995,8325057.7318083709]
["01700170","0170","0170",846,170,"Marlborough                  ",170,"Marlborough",67959735.832000002,0.89537089279439075,{"$f":"X855","v":68784010.9164},{"$f":"IF(K859>0, K855/K859, 0)","v":0.89125926942640266},null,{"$f":"ROUND(M859*L855,0)","v":38142644},36937156,{"$f":"N855-O855","v":1205488},3.2636188882544177,5336,5207,170,170,846,5207,68784010.9164,846,170,170,846,5207,68784010.9164]
["01700801","0170","0801",847,170,"Marlborough                  ",801,"Assabet Valley",7941476.0332889827,0.10462910720560925,8392197.2600019835,{"$f":"IF(K859>0, K856/K859, 0)","v":0.10874073057359727},null,{"$f":"ROUND(M859*L856,0)","v":4653706},4316314,{"$f":"N856-O856","v":337392},7.8166695008750517,426.99999999776003,432.00000000134997,170,801,847,432.00000000134997,8392197.2600019835,847,170,801,847,432.00000000134997,8392197.2600019835]
["01700998","0170","0998",848,170,"",998,"",0,0,0,{"$f":"IF(K859>0, K857/K859, 0)","v":0},null,{"$f":"ROUND(M859*L857,0)","v":0},0,{"$f":"N857-O857","v":0},0,0,0,170,998,848,0,0,848,170,998,848,0,0]
["01700998","0170","0998",849,170,"",998,"",0,0,0,{"$f":"IF(K859>0, K858/K859, 0)","v":0},null,{"$f":"ROUND(M859*L858,0)","v":0},0,{"$f":"N858-O858","v":0},0,0,0,170,998,849,0,0,849,170,998,849,0,0]
["01700999","0170","0999",850,170,"Marlborough                  ",999,"Total",75901211.865288988,1,{"$f":"SUM(K855:K858)","v":77176208.176401988},{"$f":"SUM(L855:L858)","v":0.99999999999999989},{"$f":"VLOOKUP(E859,town351,24)","v":42796350},{"$f":"SUM(N855:N858)","v":42796350},41253470,{"$f":"SUM(P855:P858)","v":1542880},3.7400005381365493,5762.9999999977599,5639.0000000013497,170,999,850,5639.0000000013497,77176208.176401988,850,170,999,850,5639.0000000013497,77176208.176401988]
["01710171","0171","0171",851,171,"Marshfield                   ",171,"Marshfield",43514601.597520001,1,{"$f":"X860","v":43275872.179899998},{"$f":"IF(K864>0, K860/K864, 0)","v":1},null,{"$f":"ROUND(M864*L860,0)","v":35702595},35899546,{"$f":"N860-O860","v":-196951},-0.54861696579672625,3941,3791,171,171,851,3791,43275872.179899998,851,171,171,851,3791,43275872.179899998]
["01710998","0171","0998",852,171,"",998,"",0,0,0,{"$f":"IF(K864>0, K861/K864, 0)","v":0},null,{"$f":"ROUND(M864*L861,0)","v":0},0,{"$f":"N861-O861","v":0},0,0,0,171,998,852,0,0,852,171,998,852,0,0]
["01710998","0171","0998",853,171,"",998,"",0,0,0,{"$f":"IF(K864>0, K862/K864, 0)","v":0},null,{"$f":"ROUND(M864*L862,0)","v":0},0,{"$f":"N862-O862","v":0},0,0,0,171,998,853,0,0,853,171,998,853,0,0]
["01710998","0171","0998",854,171,"",998,"",0,0,0,{"$f":"IF(K864>0, K863/K864, 0)","v":0},null,{"$f":"ROUND(M864*L863,0)","v":0},0,{"$f":"N863-O863","v":0},0,0,0,171,998,854,0,0,854,171,998,854,0,0]
["01710999","0171","0999",855,171,"Marshfield                   ",999,"Total",43514601.597520001,1,{"$f":"SUM(K860:K863)","v":43275872.179899998},{"$f":"SUM(L860:L863)","v":1},{"$f":"VLOOKUP(E864,town351,24)","v":35702595},{"$f":"SUM(N860:N863)","v":35702595},35899546,{"$f":"SUM(P860:P863)","v":-196951},-0.54861696579672625,3941,3791,171,999,855,3791,43275872.179899998,855,171,999,855,3791,43275872.179899998]
["01720172","0172","0172",856,172,"Mashpee                      ",172,"Mashpee",18424932.769999996,0.94983898083767238,{"$f":"X865","v":18231111.670000002},{"$f":"IF(K869>0, K865/K869, 0)","v":0.95090162546027468},null,{"$f":"ROUND(M869*L865,0)","v":15040667},15200570,{"$f":"N865-O865","v":-159903},-1.0519539727786524,1585,1510,172,172,856,1510,18231111.670000002,856,172,172,856,1510,18231111.670000002]
["01720815","0172","0815",857,172,"Mashpee                      ",815,"Cape Cod",973021.13767271803,5.0161019162327569E-2,941336.01739921782,{"$f":"IF(K869>0, K866/K869, 0)","v":4.9098374539725341E-2},null,{"$f":"ROUND(M869*L866,0)","v":776602},802742,{"$f":"N866-O866","v":-26140},-3.2563388984256463,53.000000002839997,50.000000001149999,172,815,857,50.000000001149999,941336.01739921782,857,172,815,857,50.000000001149999,941336.01739921782]
["01720998","0172","0998",858,172,"",998,"",0,0,0,{"$f":"IF(K869>0, K867/K869, 0)","v":0},null,{"$f":"ROUND(M869*L867,0)","v":0},0,{"$f":"N867-O867","v":0},0,0,0,172,998,858,0,0,858,172,998,858,0,0]
["01720998","0172","0998",859,172,"",998,"",0,0,0,{"$f":"IF(K869>0, K868/K869, 0)","v":0},null,{"$f":"ROUND(M869*L868,0)","v":0},0,{"$f":"N868-O868","v":0},0,0,0,172,998,859,0,0,859,172,998,859,0,0]
["01720999","0172","0999",860,172,"Mashpee                      ",999,"Total",19397953.907672714,1,{"$f":"SUM(K865:K868)","v":19172447.68739922},{"$f":"SUM(L865:L868)","v":1},{"$f":"VLOOKUP(E869,town351,24)","v":15817269},{"$f":"SUM(N865:N868)","v":15817269},16003312,{"$f":"SUM(P865:P868)","v":-186043},-1.1625281066819169,1638.0000000028399,1560.0000000011501,172,999,860,1560.0000000011501,19172447.68739922,860,172,999,860,1560.0000000011501,19172447.68739922]
["01730173","0173","0173",861,173,"Mattapoisett                 ",173,"Mattapoisett",4546818.59,0.47505356065712651,{"$f":"X870","v":4252682.29},{"$f":"IF(K874>0, K870/K874, 0)","v":0.45038502908267658},null,{"$f":"ROUND(M874*L870,0)","v":3508463},3751126,{"$f":"N870-O870","v":-242663},-6.4690708869816689,437,396,173,173,861,396,4252682.29,861,173,173,861,396,4252682.29]
["01730740","0173","0740",862,173,"Mattapoisett                 ",740,"Old Rochester",4411059.2242987612,0.46086936377476828,4414631.2247067997,{"$f":"IF(K874>0, K871/K874, 0)","v":0.46753641042130706},null,{"$f":"ROUND(M874*L871,0)","v":3642071},3639124,{"$f":"N871-O871","v":2947},8.0981027302174921E-2,397.36522538624001,385.00000000349996,173,740,862,385.00000000349996,4414631.2247067997,862,173,740,862,385.00000000349996,4414631.2247067997]
["01730855","0173","0855",863,173,"Mattapoisett                 ",855,"Old Colony",613292.61059086677,6.4077075568105255E-2,775012.5294373997,{"$f":"IF(K874>0, K872/K874, 0)","v":8.2078560496016265E-2},null,{"$f":"ROUND(M874*L872,0)","v":639385},505966,{"$f":"N872-O872","v":133419},26.369163145349688,36.154838710279996,43.999999997700002,173,855,863,43.999999997700002,775012.5294373997,863,173,855,863,43.999999997700002,775012.5294373997]
["01730998","0173","0998",864,173,"",998,"",0,0,0,{"$f":"IF(K874>0, K873/K874, 0)","v":0},null,{"$f":"ROUND(M874*L873,0)","v":0},0,{"$f":"N873-O873","v":0},0,0,0,173,998,864,0,0,864,173,998,864,0,0]
["01730999","0173","0999",865,173,"Mattapoisett                 ",999,"Total",9571170.4248896278,1,{"$f":"SUM(K870:K873)","v":9442326.0441442002},{"$f":"SUM(L870:L873)","v":0.99999999999999989},{"$f":"VLOOKUP(E874,town351,24)","v":7789919},{"$f":"SUM(N870:N873)","v":7789919},7896216,{"$f":"SUM(P870:P873)","v":-106297},-1.3461764470475479,870.52006409652006,825.00000000119996,173,999,865,825.00000000119996,9442326.0441442002,865,173,999,865,825.00000000119996,9442326.0441442002]
["01740174","0174","0174",866,174,"Maynard                      ",174,"Maynard",14950228.72524,0.91362154308923871,{"$f":"X875","v":14868952.430520002},{"$f":"IF(K879>0, K875/K879, 0)","v":0.91184178759057133},null,{"$f":"ROUND(M879*L875,0)","v":10603032},10176959,{"$f":"N875-O875","v":426073},4.1866435739792207,1305,1256,174,174,866,1256,14868952.430520002,866,174,174,866,1256,14868952.430520002]
["01740801","0174","0801",867,174,"Maynard                      ",801,"Assabet Valley",1413471.1440610522,8.6378456910761361E-2,1437552.3084318752,{"$f":"IF(K879>0, K876/K879, 0)","v":8.8158212409428699E-2},null,{"$f":"ROUND(M879*L876,0)","v":1025117},962182,{"$f":"N876-O876","v":62935},6.5408623316586674,75.9999999976,74.000000000520004,174,801,867,74.000000000520004,1437552.3084318752,867,174,801,867,74.000000000520004,1437552.3084318752]
["01740998","0174","0998",868,174,"",998,"",0,0,0,{"$f":"IF(K879>0, K877/K879, 0)","v":0},null,{"$f":"ROUND(M879*L877,0)","v":0},0,{"$f":"N877-O877","v":0},0,0,0,174,998,868,0,0,868,174,998,868,0,0]
["01740998","0174","0998",869,174,"",998,"",0,0,0,{"$f":"IF(K879>0, K878/K879, 0)","v":0},null,{"$f":"ROUND(M879*L878,0)","v":0},0,{"$f":"N878-O878","v":0},0,0,0,174,998,869,0,0,869,174,998,869,0,0]
["01740999","0174","0999",870,174,"Maynard                      ",999,"Total",16363699.869301051,1,{"$f":"SUM(K875:K878)","v":16306504.738951877},{"$f":"SUM(L875:L878)","v":1},{"$f":"VLOOKUP(E879,town351,24)","v":11628149},{"$f":"SUM(N875:N878)","v":11628149},11139141,{"$f":"SUM(P875:P878)","v":489008},4.3899973974653879,1380.9999999976001,1330.00000000052,174,999,870,1330.00000000052,16306504.738951877,870,174,999,870,1330.00000000052,16306504.738951877]
["01750175","0175","0175",871,175,"Medfield                     ",175,"Medfield",26552098.786160003,0.98746285782020038,{"$f":"X880","v":26424181.490199994},{"$f":"IF(K884>0, K880/K884, 0)","v":0.98953319217619229},null,{"$f":"ROUND(M884*L880,0)","v":21799950},21905481,{"$f":"N880-O880","v":-105531},-0.48175614130545685,2513,2433,175,175,871,2433,26424181.490199994,871,175,175,871,2433,26424181.490199994]
["01750878","0175","0878",872,175,"Medfield                     ",878,"Tri County",265265.41804312222,9.8651240299793136E-3,168187.18877617267,{"$f":"IF(K884>0, K881/K884, 0)","v":6.2982766695933098E-3},null,{"$f":"ROUND(M884*L881,0)","v":138754},218844,{"$f":"N881-O881","v":-80090},-36.596845241359141,15.000000001799998,9.0099557500500005,175,878,872,9.0099557500500005,168187.18877617267,872,175,878,872,9.0099557500500005,168187.18877617267]
["01750915","0175","0915",873,175,"Medfield                     ",915,"Norfolk County",71848.464284575864,2.6720181498202547E-3,111315.13792303464,{"$f":"IF(K884>0, K882/K884, 0)","v":4.1685311542143779E-3},null,{"$f":"ROUND(M884*L882,0)","v":91835},59275,{"$f":"N882-O882","v":32560},54.930409110080134,4.0000000011000001,5.9999999990399999,175,915,873,5.9999999990399999,111315.13792303464,873,175,915,873,5.9999999990399999,111315.13792303464]
["01750998","0175","0998",874,175,"",998,"",0,0,0,{"$f":"IF(K884>0, K883/K884, 0)","v":0},null,{"$f":"ROUND(M884*L883,0)","v":0},0,{"$f":"N883-O883","v":0},0,0,0,175,998,874,0,0,874,175,998,874,0,0]
["01750999","0175","0999",875,175,"Medfield                     ",999,"Total",26889212.668487702,0.99999999999999989,{"$f":"SUM(K880:K883)","v":26703683.816899203},{"$f":"SUM(L880:L883)","v":0.99999999999999989},{"$f":"VLOOKUP(E884,town351,24)","v":22030539},{"$f":"SUM(N880:N883)","v":22030539},22183600,{"$f":"SUM(P880:P883)","v":-153061},-0.68997367424583922,2532.0000000028999,2448.0099557490898,175,999,875,2448.0099557490898,26703683.816899203,875,175,999,875,2448.0099557490898,26703683.816899203]
["01760176","0176","0176",876,176,"Medford                      ",176,"Medford",59524340.664400004,1,{"$f":"X885","v":59164566.017499991},{"$f":"IF(K889>0, K885/K889, 0)","v":1},null,{"$f":"ROUND(M889*L885,0)","v":48810767},49107581,{"$f":"N885-O885","v":-296814},-0.60441584365558543,4622,4414,176,176,876,4414,59164566.017499991,876,176,176,876,4414,59164566.017499991]
["01760998","0176","0998",877,176,"",998,null,0,0,0,{"$f":"IF(K889>0, K886/K889, 0)","v":0},null,{"$f":"ROUND(M889*L886,0)","v":0},0,{"$f":"N886-O886","v":0},0,0,0,176,998,877,0,0,877,176,998,877,0,0]
["01760998","0176","0998",878,176,"",998,"",0,0,0,{"$f":"IF(K889>0, K887/K889, 0)","v":0},null,{"$f":"ROUND(M889*L887,0)","v":0},0,{"$f":"N887-O887","v":0},0,0,0,176,998,878,0,0,878,176,998,878,0,0]
["01760998","0176","0998",879,176,"",998,"",0,0,0,{"$f":"IF(K889>0, K888/K889, 0)","v":0},null,{"$f":"ROUND(M889*L888,0)","v":0},0,{"$f":"N888-O888","v":0},0,0,0,176,998,879,0,0,879,176,998,879,0,0]
["01760999","0176","0999",880,176,"Medford                      ",999,"Total",59524340.664400004,1,{"$f":"SUM(K885:K888)","v":59164566.017499991},{"$f":"SUM(L885:L888)","v":1},{"$f":"VLOOKUP(E889,town351,24)","v":48810767},{"$f":"SUM(N885:N888)","v":48810767},49107581,{"$f":"SUM(P885:P888)","v":-296814},-0.60441584365558543,4622,4414,176,999,880,4414,59164566.017499991,880,176,999,880,4414,59164566.017499991]
["01770177","0177","0177",881,177,"Medway                       ",177,"Medway",23623580.679760002,0.95213334099613622,{"$f":"X890","v":23134189.308129996},{"$f":"IF(K894>0, K890/K894, 0)","v":0.94078927988673478},null,{"$f":"ROUND(M894*L890,0)","v":17421552},16885292,{"$f":"N890-O890","v":536260},3.1759000673485538,2186,2089,177,177,881,2089,23134189.308129996,881,177,177,881,2089,23134189.308129996]
["01770878","0177","0878",882,177,"Medway                       ",878,"Tri County",1008008.5884322928,4.0627142771761583E-2,1233372.7180298024,{"$f":"IF(K894>0, K891/K894, 0)","v":5.0157099337793762E-2},null,{"$f":"ROUND(M894*L891,0)","v":928810},720489,{"$f":"N891-O891","v":208321},28.913834909346292,56.999999999400004,66.073008851800012,177,878,882,66.073008851800012,1233372.7180298024,882,177,878,882,66.073008851800012,1233372.7180298024]
["01770915","0177","0915",883,177,"Medway                       ",915,"Norfolk County",179621.16063761536,7.2395162321021124E-3,222630.27589875844,{"$f":"IF(K894>0, K892/K894, 0)","v":9.0536207754715707E-3},null,{"$f":"ROUND(M894*L892,0)","v":167655},128387,{"$f":"N892-O892","v":39268},30.585651195214467,9.9999999986399999,12.00000000092,177,915,883,12.00000000092,222630.27589875844,883,177,915,883,12.00000000092,222630.27589875844]
["01770998","0177","0998",884,177,"",998,"",0,0,0,{"$f":"IF(K894>0, K893/K894, 0)","v":0},null,{"$f":"ROUND(M894*L893,0)","v":0},0,{"$f":"N893-O893","v":0},0,0,0,177,998,884,0,0,884,177,998,884,0,0]
["01770999","0177","0999",885,177,"Medway                       ",999,"Total",24811210.428829912,0.99999999999999989,{"$f":"SUM(K890:K893)","v":24590192.302058555},{"$f":"SUM(L890:L893)","v":1.0000000000000002},{"$f":"VLOOKUP(E894,town351,24)","v":18518017},{"$f":"SUM(N890:N893)","v":18518017},17734168,{"$f":"SUM(P890:P893)","v":783849},4.4199930890470869,2252.99999999804,2167.0730088527198,177,999,885,2167.0730088527198,24590192.302058555,885,177,999,885,2167.0730088527198,24590192.302058555]
["01780178","0178","0178",886,178,"Melrose                      ",178,"Melrose",43519030.447039999,0.98055664095647432,{"$f":"X895","v":44344391.455760002},{"$f":"IF(K899>0, K895/K899, 0)","v":0.98055710169149357},null,{"$f":"ROUND(M899*L895,0)","v":36147679},35108451,{"$f":"N895-O895","v":1039228},2.9600508435988817,4013,3914,178,178,886,3914,44344391.455760002,886,178,178,886,3914,44344391.455760002]
["01780853","0178","0853",887,178,"Melrose                      ",853,"Northeast Metropolitan",862934.47911642224,1.9443359043525663E-2,879279.23028617818,{"$f":"IF(K899>0, K896/K899, 0)","v":1.9442898308506408E-2},null,{"$f":"ROUND(M899*L896,0)","v":716751},696162,{"$f":"N896-O896","v":20589},2.9575012712558282,45.999999996219998,44.000000005499999,178,853,887,44.000000005499999,879279.23028617818,887,178,853,887,44.000000005499999,879279.23028617818]
["01780998","0178","0998",888,178,"",998,null,0,0,0,{"$f":"IF(K899>0, K897/K899, 0)","v":0},null,{"$f":"ROUND(M899*L897,0)","v":0},0,{"$f":"N897-O897","v":0},0,0,0,178,998,888,0,0,888,178,998,888,0,0]
["01780998","0178","0998",889,178,"",998,"",0,0,0,{"$f":"IF(K899>0, K898/K899, 0)","v":0},null,{"$f":"ROUND(M899*L898,0)","v":0},0,{"$f":"N898-O898","v":0},0,0,0,178,998,889,0,0,889,178,998,889,0,0]
["01780999","0178","0999",890,178,"Melrose                      ",999,"Total",44381964.926156424,1,{"$f":"SUM(K895:K898)","v":45223670.686046183},{"$f":"SUM(L895:L898)","v":1},{"$f":"VLOOKUP(E899,town351,24)","v":36864430},{"$f":"SUM(N895:N898)","v":36864430},35804613,{"$f":"SUM(P895:P898)","v":1059817},2.9600012713445611,4058.9999999962201,3958.0000000055002,178,999,890,3958.0000000055002,45223670.686046183,890,178,999,890,3958.0000000055002,45223670.686046183]
["01790179","0179","0179",891,179,"Mendon                       ",179,"Mendon",102604.6,8.9836131807422316E-3,{"$f":"X900","v":89716.680000000008},{"$f":"IF(K904>0, K900/K904, 0)","v":7.9114453991373426E-3},null,{"$f":"ROUND(M904*L900,0)","v":68581},77719,{"$f":"N900-O900","v":-9138},-11.757742636935626,7,6,179,179,891,6,89716.680000000008,891,179,179,891,6,89716.680000000008]
["01790710","0179","0710",892,179,"Mendon                       ",710,"Mendon Upton",10116868.078079732,0.88578903298748213,10069323.285549274,{"$f":"IF(K904>0, K901/K904, 0)","v":0.88793857931306985},null,{"$f":"ROUND(M904*L901,0)","v":7697151},7663123,{"$f":"N901-O901","v":34028},0.44404872530429174,968.54285713486001,935.76575729495994,179,710,892,935.76575729495994,10069323.285549274,892,179,710,892,935.76575729495994,10069323.285549274]
["01790805","0179","0805",893,179,"Mendon                       ",805,"Blackstone Valley",1201833.8648098134,0.10522735383177574,1181072.4252639951,{"$f":"IF(K904>0, K902/K904, 0)","v":0.10414997528779282},null,{"$f":"ROUND(M904*L902,0)","v":902831},910341,{"$f":"N902-O902","v":-7510},-0.82496558981744206,72.999999997740005,70.00000000015001,179,805,893,70.00000000015001,1181072.4252639951,893,179,805,893,70.00000000015001,1181072.4252639951]
["01790998","0179","0998",894,179,"",998,"",0,0,0,{"$f":"IF(K904>0, K903/K904, 0)","v":0},null,{"$f":"ROUND(M904*L903,0)","v":0},0,{"$f":"N903-O903","v":0},0,0,0,179,998,894,0,0,894,179,998,894,0,0]
["01790999","0179","0999",895,179,"Mendon                       ",999,"Total",11421306.542889545,1.0000000000000002,{"$f":"SUM(K900:K903)","v":11340112.390813269},{"$f":"SUM(L900:L903)","v":1},{"$f":"VLOOKUP(E904,town351,24)","v":8668562},{"$f":"SUM(N900:N903)","v":8668563},8651183,{"$f":"SUM(P900:P903)","v":17380},0.20089738016176517,1048.5428571325999,1011.76575729511,179,999,895,1011.76575729511,11340112.390813269,895,179,999,895,1011.76575729511,11340112.390813269]
["01800180","0180","0180",896,180,"Merrimac                     ",180,"Merrimac",146578.00000000003,1.4875613627842163E-2,{"$f":"X905","v":134575.02000000002},{"$f":"IF(K909>0, K905/K909, 0)","v":1.3849517107466102E-2},null,{"$f":"ROUND(M909*L905,0)","v":96496},99096,{"$f":"N905-O905","v":-2600},-2.6237184144667798,10,9,180,180,896,9,134575.02000000002,896,180,180,896,9,134575.02000000002]
[{"$f":"B906&C906","v":"01800745"},"0180","0745",897,180,"Merrimac                     ",745,"Pentucket",8680943.9194071423,0.88099419878881158,8658436.7088742796,{"$f":"IF(K909>0, K906/K909, 0)","v":0.89106557311651757},null,{"$f":"ROUND(M909*L906,0)","v":6208439},5868885,{"$f":"N906-O906","v":339554},5.78566456831238,824.99144952083998,802.49913419991992,{"$f":"VLOOKUP($D906, foundoptions, VLOOKUP($T$6, foundoptcell, 2, FALSE), FALSE)","v":180},{"$f":"VLOOKUP($D906, foundoptions, VLOOKUP($T$6, foundoptcell, 2, FALSE)+1, FALSE)","v":745},{"$f":"VLOOKUP($D906, foundoptions, VLOOKUP($T$6, foundoptcell, 2, FALSE)+2, FALSE)","v":897},{"$f":"VLOOKUP($D906, foundoptions, VLOOKUP($T$6, foundoptcell, 2, FALSE)+3, FALSE)","v":802.49913419991992},{"$f":"VLOOKUP($D906, foundoptions, VLOOKUP($T$6, foundoptcell, 2, FALSE)+4, FALSE)","v":8658436.7088742796},897,180,745,897,802.49913419991992,8658436.7088742796]
["01800885","0180","0885",898,180,"Merrimac                     ",885,"Whittier",1026054.7912473432,0.10413018758334622,923935.00333000219,{"$f":"IF(K909>0, K907/K909, 0)","v":9.5084909776016482E-2},null,{"$f":"ROUND(M909*L907,0)","v":662498},693680,{"$f":"N907-O907","v":-31182},-4.4951562680198363,58.0000000012,{"$f":"W907","v":50.000000006200004},180,885,898,50.000000006200004,923935.00333000219,{"$f":"D907","v":898},180,885,898,50.000000006200004,923935.00333000219]
["01800998","0180","0998",899,180,"",998,null,0,0,0,{"$f":"IF(K909>0, K908/K909, 0)","v":0},null,{"$f":"ROUND(M909*L908,0)","v":0},0,{"$f":"N908-O908","v":0},0,0,0,180,998,899,0,0,899,180,998,899,0,0]
["01800999","0180","0999",900,180,"Merrimac                     ",999,"Total",9853576.710654486,1,{"$f":"SUM(K905:K908)","v":9716946.7322042808},{"$f":"SUM(L905:L908)","v":1.0000000000000002},{"$f":"VLOOKUP(E909,town351,24)","v":6967432},{"$f":"SUM(N905:N908)","v":6967433},6661661,{"$f":"SUM(P905:P908)","v":305772},4.5900264213384618,892.99144952203994,861.49913420611995,180,999,900,861.49913420611995,9716946.7322042808,900,180,999,900,861.49913420611995,9716946.7322042808]
["01810181","0181","0181",901,181,"Methuen                      ",181,"Methuen",88769466.079999998,0.9405842909658183,{"$f":"X910","v":89379134.690000013},{"$f":"IF(K914>0, K910/K914, 0)","v":0.93138022234042428},null,{"$f":"ROUND(M914*L910,0)","v":40893031},40325303,{"$f":"N910-O910","v":567728},1.4078703884754442,7124,6767,181,181,901,6767,89379134.690000013,901,181,181,901,6767,89379134.690000013]
["01810823","0181","0823",902,181,"Methuen                      ",823,"Greater Lawrence",5607472.7362426305,5.9415709034181585E-2,6585040.3548631016,{"$f":"IF(K914>0, K911/K914, 0)","v":6.8619777659575609E-2},null,{"$f":"ROUND(M914*L911,0)","v":3012809},2547307,{"$f":"N911-O911","v":465502},18.274279464548247,271.99999999428002,302.00000000029996,181,823,902,302.00000000029996,6585040.3548631016,902,181,823,902,302.00000000029996,6585040.3548631016]
["01810998","0181","0998",903,181,"",998,null,0,0,0,{"$f":"IF(K914>0, K912/K914, 0)","v":0},null,{"$f":"ROUND(M914*L912,0)","v":0},0,{"$f":"N912-O912","v":0},{"$f":"IF(O912>0,P912*100/O912,IF(P912>0,100,0))","v":0},0,0,181,998,903,0,0,903,181,998,903,0,0]
["01810998","0181","0998",904,181,"",998,"",0,0,0,{"$f":"IF(K914>0, K913/K914, 0)","v":0},null,{"$f":"ROUND(M914*L913,0)","v":0},0,{"$f":"N913-O913","v":0},{"$f":"IF(O913>0,P913*100/O913,IF(P913>0,100,0))","v":0},0,0,181,998,904,0,0,904,181,998,904,0,0]
["01810999","0181","0999",905,181,"Methuen                      ",999,"Total",94376938.816242635,0.99999999999999989,{"$f":"SUM(K910:K913)","v":95964175.04486312},{"$f":"SUM(L910:L913)","v":0.99999999999999989},{"$f":"VLOOKUP(E914,town351,24)","v":43905840},{"$f":"SUM(N910:N913)","v":43905840},42872610,{"$f":"SUM(P910:P913)","v":1033230},{"$f":"IF(O914>0,P914*100/O914,IF(P914>0,100,0))","v":2.4100002309166624},7395.9999999942802,7069.0000000003001,181,999,905,7069.0000000003001,95964175.04486312,905,181,999,905,7069.0000000003001,95964175.04486312]
["01820182","0182","0182",906,182,"Middleborough                ",182,"Middleborough",35057530.5,0.89445797181893849,{"$f":"X915","v":35767383},{"$f":"IF(K919>0, K915/K919, 0)","v":0.90576556343461545},null,{"$f":"ROUND(M919*L915,0)","v":19089621},18220402,{"$f":"N915-O915","v":869219},4.7705808027726277,3073,3021,182,182,906,3021,35767383,906,182,182,906,3021,35767383]
["01820810","0182","0810",907,182,"Middleborough                ",810,"Bristol Plymouth",4136631.3326775362,0.10554202818106147,3721182.7436257126,{"$f":"IF(K919>0, K916/K919, 0)","v":9.4234436565384494E-2},null,{"$f":"ROUND(M919*L916,0)","v":1986054},2149926,{"$f":"N916-O916","v":-163872},-7.6222158344054636,238.8900523504,206.60991858205,182,810,907,206.60991858205,3721182.7436257126,907,182,810,907,206.60991858205,3721182.7436257126]
["01820998","0182","0998",908,182,"",998,"",0,0,0,{"$f":"IF(K919>0, K917/K919, 0)","v":0},null,{"$f":"ROUND(M919*L917,0)","v":0},0,{"$f":"N917-O917","v":0},0,0,0,182,998,908,0,0,908,182,998,908,0,0]
["01820998","0182","0998",909,182,"",998,"",0,0,0,{"$f":"IF(K919>0, K918/K919, 0)","v":0},null,{"$f":"ROUND(M919*L918,0)","v":0},0,{"$f":"N918-O918","v":0},0,0,0,182,998,909,0,0,909,182,998,909,0,0]
["01820999","0182","0999",910,182,"Middleborough                ",999,"Total",39194161.832677536,1,{"$f":"SUM(K915:K918)","v":39488565.743625715},{"$f":"SUM(L915:L918)","v":1},{"$f":"VLOOKUP(E919,town351,24)","v":21075675},{"$f":"SUM(N915:N918)","v":21075675},20370328,{"$f":"SUM(P915:P918)","v":705347},3.4626197477036205,3311.8900523503999,3227.6099185820499,182,999,910,3227.6099185820499,39488565.743625715,910,182,999,910,3227.6099185820499,39488565.743625715]
["01830183","0183","0183",911,183,"Middlefield                  ",183,"Middlefield",43973.400000000009,9.898013381819061E-2,{"$f":"X920","v":44858.340000000004},{"$f":"IF(K924>0, K920/K924, 0)","v":0.12482002601259776},null,{"$f":"ROUND(M924*L920,0)","v":37008},36278,{"$f":"N920-O920","v":730},2.0122388224268151,3,3,183,183,911,3,44858.340000000004,911,183,183,911,3,44858.340000000004]
["01830672","0183","0672",912,183,"Middlefield                  ",672,"Gateway",400291.50754974666,0.9010198661818094,314525.81839997153,{"$f":"IF(K924>0, K921/K924, 0)","v":0.87517997398740222},null,{"$f":"ROUND(M924*L921,0)","v":259484},330241,{"$f":"N921-O921","v":-70757},-21.425867775351939,33.885096699470004,25.573770495000002,183,672,912,25.573770495000002,314525.81839997153,912,183,672,912,25.573770495000002,314525.81839997153]
["01830998","0183","0998",913,183,"",998,"",0,0,0,{"$f":"IF(K924>0, K922/K924, 0)","v":0},null,{"$f":"ROUND(M924*L922,0)","v":0},0,{"$f":"N922-O922","v":0},0,0,0,183,998,913,0,0,913,183,998,913,0,0]
["01830998","0183","0998",914,183,"",998,"",0,0,0,{"$f":"IF(K924>0, K923/K924, 0)","v":0},null,{"$f":"ROUND(M924*L923,0)","v":0},0,{"$f":"N923-O923","v":0},0,0,0,183,998,914,0,0,914,183,998,914,0,0]
["01830999","0183","0999",915,183,"Middlefield                  ",999,"Total",444264.90754974668,1,{"$f":"SUM(K920:K923)","v":359384.15839997155},{"$f":"SUM(L920:L923)","v":1},{"$f":"VLOOKUP(E924,town351,24)","v":296492},{"$f":"SUM(N920:N923)","v":296492},366519,{"$f":"SUM(P920:P923)","v":-70027},-19.105967221344596,36.885096699470004,28.573770495000002,183,999,915,28.573770495000002,359384.15839997155,915,183,999,915,28.573770495000002,359384.15839997155]
["01840184","0184","0184",916,184,"Middleton                    ",184,"Middleton",7013290.1260299999,0.47862629480833818,{"$f":"X925","v":6927207.1538000004},{"$f":"IF(K929>0, K925/K929, 0)","v":0.4658406448503799},null,{"$f":"ROUND(M929*L925,0)","v":5714946},5785964,{"$f":"N925-O925","v":-71018},-1.2274186289441138,686,658,184,184,916,658,6927207.1538000004,916,184,184,916,658,6927207.1538000004]
["01840705","0184","0705",917,184,"Middleton                    ",705,"Masconomet",6921605.2939172201,0.47236920709405805,7054714.8929886445,{"$f":"IF(K929>0, K926/K929, 0)","v":0.47441528194845894},null,{"$f":"ROUND(M929*L926,0)","v":5820140},5710324,{"$f":"N926-O926","v":109816},1.9231132944470402,623.40406319759995,613.06127167018997,184,705,917,613.06127167018997,7054714.8929886445,917,184,705,917,613.06127167018997,7054714.8929886445]
["01840817","0184","0817",918,184,"Middleton                    ",817,"Essex North Shore",718060.7634116814,4.9004498097603683E-2,888414.47360000003,{"$f":"IF(K929>0, K927/K929, 0)","v":5.9744073201161207E-2},null,{"$f":"ROUND(M929*L927,0)","v":732942},592400,{"$f":"N927-O927","v":140542},23.724172856178257,42.00000000475,49,184,817,918,49,888414.47360000003,918,184,817,918,49,888414.47360000003]
["01840998","0184","0998",919,184,"",998,"",0,0,0,{"$f":"IF(K929>0, K928/K929, 0)","v":0},null,{"$f":"ROUND(M929*L928,0)","v":0},0,{"$f":"N928-O928","v":0},0,0,0,184,998,919,0,0,919,184,998,919,0,0]
["01840999","0184","0999",920,184,"Middleton                    ",999,"Total",14652956.183358902,0.99999999999999989,{"$f":"SUM(K925:K928)","v":14870336.520388644},{"$f":"SUM(L925:L928)","v":1},{"$f":"VLOOKUP(E929,town351,24)","v":12268028},{"$f":"SUM(N925:N928)","v":12268028},12088688,{"$f":"SUM(P925:P928)","v":179340},1.4835356822841321,1351.40406320235,1320.0612716701899,184,999,920,1320.0612716701899,14870336.520388644,920,184,999,920,1320.0612716701899,14870336.520388644]
["01850185","0185","0185",921,185,"Milford                      ",185,"Milford",56604613.875760004,0.95819622888200129,{"$f":"X930","v":58526188.083009996},{"$f":"IF(K934>0, K930/K934, 0)","v":0.95801963136029655},null,{"$f":"ROUND(M934*L930,0)","v":26079517},25435714,{"$f":"N930-O930","v":643803},2.5310985962493522,4482,4422,185,185,921,4422,58526188.083009996,921,185,185,921,4422,58526188.083009996]
["01850805","0185","0805",922,185,"Milford                      ",805,"Blackstone Valley",2469521.6400985937,4.1803771117998746E-2,2564614.4091147142,{"$f":"IF(K934>0, K931/K934, 0)","v":4.198036863970353E-2},null,{"$f":"ROUND(M934*L931,0)","v":1142803},1109698,{"$f":"N931-O931","v":33105},2.98324408983345,150.00000000012,151.99999999855001,185,805,922,151.99999999855001,2564614.4091147142,922,185,805,922,151.99999999855001,2564614.4091147142]
["01850998","0185","0998",923,185,"",998,"",0,0,0,{"$f":"IF(K934>0, K932/K934, 0)","v":0},null,{"$f":"ROUND(M934*L932,0)","v":0},0,{"$f":"N932-O932","v":0},0,0,0,185,998,923,0,0,923,185,998,923,0,0]
["01850998","0185","0998",924,185,"",998,"",0,0,0,{"$f":"IF(K934>0, K933/K934, 0)","v":0},null,{"$f":"ROUND(M934*L933,0)","v":0},0,{"$f":"N933-O933","v":0},0,0,0,185,998,924,0,0,924,185,998,924,0,0]
["01850999","0185","0999",925,185,"Milford                      ",999,"Total",59074135.515858598,1,{"$f":"SUM(K930:K933)","v":61090802.492124707},{"$f":"SUM(L930:L933)","v":1},{"$f":"VLOOKUP(E934,town351,24)","v":27222320},{"$f":"SUM(N930:N933)","v":27222320},26545412,{"$f":"SUM(P930:P933)","v":676908},2.5499999773972242,4632.0000000001201,4573.9999999985503,185,999,925,4573.9999999985503,61090802.492124707,925,185,999,925,4573.9999999985503,61090802.492124707]
["01860186","0186","0186",926,186,"Millbury                     ",186,"Millbury",19675592.059999999,0.92564511376306446,{"$f":"X935","v":19104092.829999998},{"$f":"IF(K939>0, K935/K939, 0)","v":0.92184094539863215},null,{"$f":"ROUND(M939*L935,0)","v":12049555},11797270,{"$f":"N935-O935","v":252285},2.1385032299845643,1743,1633,186,186,926,1633,19104092.829999998,926,186,186,926,1633,19104092.829999998]
["01860805","0186","0805",927,186,"Millbury                     ",805,"Blackstone Valley",1580493.8496549211,7.4354886236935591E-2,1619756.468903518,{"$f":"IF(K939>0, K936/K939, 0)","v":7.8159054601367808E-2},null,{"$f":"ROUND(M939*L936,0)","v":1021632},947647,{"$f":"N936-O936","v":73985},7.8072320178294241,95.999999999579998,95.999999998429999,186,805,927,95.999999998429999,1619756.468903518,927,186,805,927,95.999999998429999,1619756.468903518]
["01860998","0186","0998",928,186,"",998,"",0,0,0,{"$f":"IF(K939>0, K937/K939, 0)","v":0},null,{"$f":"ROUND(M939*L937,0)","v":0},0,{"$f":"N937-O937","v":0},0,0,0,186,998,928,0,0,928,186,998,928,0,0]
["01860998","0186","0998",929,186,"",998,"",0,0,0,{"$f":"IF(K939>0, K938/K939, 0)","v":0},null,{"$f":"ROUND(M939*L938,0)","v":0},0,{"$f":"N938-O938","v":0},0,0,0,186,998,929,0,0,929,186,998,929,0,0]
["01860999","0186","0999",930,186,"Millbury                     ",999,"Total",21256085.909654919,1,{"$f":"SUM(K935:K938)","v":20723849.298903517},{"$f":"SUM(L935:L938)","v":1},{"$f":"VLOOKUP(E939,town351,24)","v":13071187},{"$f":"SUM(N935:N938)","v":13071187},12744917,{"$f":"SUM(P935:P938)","v":326270},2.5600009792139096,1838.99999999958,1728.99999999843,186,999,930,1728.99999999843,20723849.298903517,930,186,999,930,1728.99999999843,20723849.298903517]
["01870187","0187","0187",931,187,"Millis                       ",187,"Millis",11739340.2481,0.89104309577488661,{"$f":"X940","v":11844886.359460002},{"$f":"IF(K944>0, K940/K944, 0)","v":0.90064739598783072},null,{"$f":"ROUND(M944*L940,0)","v":9095464},8676571,{"$f":"N940-O940","v":418893},4.827863449742992,1088,1051,187,187,931,1051,11844886.359460002,931,187,187,931,1051,11844886.359460002]
["01870878","0187","0878",932,187,"Millis                       ",878,"Tri County",1237905.2839819512,9.3959876211432897E-2,1102560.4600927792,{"$f":"IF(K944>0, K941/K944, 0)","v":8.3835182302836125E-2},null,{"$f":"ROUND(M944*L941,0)","v":846635},914938,{"$f":"N941-O941","v":-68303},-7.4653145896224666,69.999999996,59.065265490649999,187,878,932,59.065265490649999,1102560.4600927792,932,187,878,932,59.065265490649999,1102560.4600927792]
["01870915","0187","0915",933,187,"Millis                       ",915,"Norfolk County",197583.27672106339,1.4997028013680476E-2,204077.75291158599,{"$f":"IF(K944>0, K942/K944, 0)","v":1.5517421709333077E-2},null,{"$f":"ROUND(M944*L942,0)","v":156707},146034,{"$f":"N942-O942","v":10673},7.30857197638906,10.9999999996,11.00000000108,187,915,933,11.00000000108,204077.75291158599,933,187,915,933,11.00000000108,204077.75291158599]
["01870998","0187","0998",934,187,"",998,"",0,0,0,{"$f":"IF(K944>0, K943/K944, 0)","v":0},null,{"$f":"ROUND(M944*L943,0)","v":0},0,{"$f":"N943-O943","v":0},0,0,0,187,998,934,0,0,934,187,998,934,0,0]
["01870999","0187","0999",935,187,"Millis                       ",999,"Total",13174828.808803014,1,{"$f":"SUM(K940:K943)","v":13151524.572464367},{"$f":"SUM(L940:L943)","v":1},{"$f":"VLOOKUP(E944,town351,24)","v":10098807},{"$f":"SUM(N940:N943)","v":10098806},9737543,{"$f":"SUM(P940:P943)","v":361263},3.7100015886964504,1168.9999999956001,1121.0652654917301,187,999,935,1121.0652654917301,13151524.572464367,935,187,999,935,1121.0652654917301,13151524.572464367]
["01880188","0188","0188",936,188,"Millville                    ",188,"Millville",73289.000000000015,1.2864756426078849E-2,{"$f":"X945","v":119622.24},{"$f":"IF(K949>0, K945/K949, 0)","v":2.1597874894873172E-2},null,{"$f":"ROUND(M949*L945,0)","v":56307},33038,{"$f":"N945-O945","v":23269},70.431018826805499,5,8,188,188,936,8,119622.24,936,188,188,936,8,119622.24]
["01880622","0188","0622",937,188,"Millville                    ",622,"Blackstone Millville",5080298.2921662265,0.89176820669599599,4845325.5906750923,{"$f":"IF(K949>0, K946/K949, 0)","v":0.87482675405784149},null,{"$f":"ROUND(M949*L946,0)","v":2280730},2290179,{"$f":"N946-O946","v":-9449},-0.4125878370205997,457.10526316338002,420.22968198525001,188,622,937,420.22968198525001,4845325.5906750923,937,188,622,937,420.22968198525001,4845325.5906750923]
["01880805","0188","0805",938,188,"Millville                    ",805,"Blackstone Valley",543294.76083804877,9.5367036877925165E-2,573663.74950382242,{"$f":"IF(K949>0, K947/K949, 0)","v":0.10357537104728533},null,{"$f":"ROUND(M949*L947,0)","v":270028},244915,{"$f":"N947-O947","v":25113},10.253761509094993,33.000000001019998,34.000000005399997,188,805,938,34.000000005399997,573663.74950382242,938,188,805,938,34.000000005399997,573663.74950382242]
["01880998","0188","0998",939,188,"",998,"",0,0,0,{"$f":"IF(K949>0, K948/K949, 0)","v":0},null,{"$f":"ROUND(M949*L948,0)","v":0},0,{"$f":"N948-O948","v":0},0,0,0,188,998,939,0,0,939,188,998,939,0,0]
["01880999","0188","0999",940,188,"Millville                    ",999,"Total",5696882.0530042751,1,{"$f":"SUM(K945:K948)","v":5538611.5801789146},{"$f":"SUM(L945:L948)","v":1},{"$f":"VLOOKUP(E949,town351,24)","v":2607065},{"$f":"SUM(N945:N948)","v":2607065},2568132,{"$f":"SUM(P945:P948)","v":38933},1.5160046290455476,495.10526316440001,462.22968199065002,188,999,940,462.22968199065002,5538611.5801789146,940,188,999,940,462.22968199065002,5538611.5801789146]
["01890189","0189","0189",941,189,"Milton                       ",189,"Milton",46912230.011340007,0.98432892109927927,{"$f":"X950","v":48097215.820799999},{"$f":"IF(K954>0, K950/K954, 0)","v":0.98221670331987676},null,{"$f":"ROUND(M954*L950,0)","v":38757408},37346878,{"$f":"N950-O950","v":1410530},3.7768351078770226,4374,4340,189,189,941,4340,48097215.820799999,941,189,189,941,4340,48097215.820799999]
["01890806","0189","0806",942,189,"Milton                       ",806,"Blue Hills",675021.04463470855,1.4163529135664123E-2,815155.4151164525,{"$f":"IF(K954>0, K951/K954, 0)","v":1.664668631781336E-2},null,{"$f":"ROUND(M954*L951,0)","v":656864},537385,{"$f":"N951-O951","v":119479},22.233408078007386,37.000000000810005,43.00000000128,189,806,942,43.00000000128,815155.4151164525,942,189,806,942,43.00000000128,815155.4151164525]
["01890915","0189","0915",943,189,"Milton                       ",915,"Norfolk County",71848.464284575864,1.5075497650565968E-3,55657.568961517318,{"$f":"IF(K954>0, K952/K954, 0)","v":1.1366103623099684E-3},null,{"$f":"ROUND(M954*L952,0)","v":44850},57199,{"$f":"N952-O952","v":-12349},-21.589538278641236,4.0000000011000001,2.99999999952,189,915,943,2.99999999952,55657.568961517318,943,189,915,943,2.99999999952,55657.568961517318]
["01890998","0189","0998",944,189,"",998,"",0,0,0,{"$f":"IF(K954>0, K953/K954, 0)","v":0},null,{"$f":"ROUND(M954*L953,0)","v":0},0,{"$f":"N953-O953","v":0},0,0,0,189,998,944,0,0,944,189,998,944,0,0]
["01890999","0189","0999",945,189,"Milton                       ",999,"Total",47659099.520259291,1,{"$f":"SUM(K950:K953)","v":48968028.804877967},{"$f":"SUM(L950:L953)","v":1.0000000000000002},{"$f":"VLOOKUP(E954,town351,24)","v":39459121},{"$f":"SUM(N950:N953)","v":39459122},37941462,{"$f":"SUM(P950:P953)","v":1517660},4.0000040061714017,4415.0000000019099,4386.0000000007994,189,999,945,4386.0000000007994,48968028.804877967,945,189,999,945,4386.0000000007994,48968028.804877967]
["01900190","0190","0190",946,190,"Monroe                       ",190,"Monroe",149215.03999999998,0.80664455215973829,{"$f":"X955","v":147610.14000000001},{"$f":"IF(K959>0, K955/K959, 0)","v":0.72635656085060274},null,{"$f":"ROUND(M959*L955,0)","v":75426},79783,{"$f":"N955-O955","v":-4357},-5.4610631337502973,15,14,190,190,946,14,147610.14000000001,946,190,190,946,14,147610.14000000001]
["01900851","0190","0851",947,190,"Monroe                       ",851,"Northern Berkshire",35767.353546806247,0.19335544784026165,55609.80452303226,{"$f":"IF(K959>0, K956/K959, 0)","v":0.27364343914939721},null,{"$f":"ROUND(M959*L956,0)","v":28416},19124,{"$f":"N956-O956","v":9292},48.588161472495294,1.9999999981900001,2.9999999993199999,190,851,947,2.9999999993199999,55609.80452303226,947,190,851,947,2.9999999993199999,55609.80452303226]
["01900998","0190","0998",948,190,"",998,"",0,0,0,{"$f":"IF(K959>0, K957/K959, 0)","v":0},null,{"$f":"ROUND(M959*L957,0)","v":0},0,{"$f":"N957-O957","v":0},0,0,0,190,998,948,0,0,948,190,998,948,0,0]
["01900998","0190","0998",949,190,"",998,"",0,0,0,{"$f":"IF(K959>0, K958/K959, 0)","v":0},null,{"$f":"ROUND(M959*L958,0)","v":0},0,{"$f":"N958-O958","v":0},0,0,0,190,998,949,0,0,949,190,998,949,0,0]
["01900999","0190","0999",950,190,"Monroe                       ",999,"Total",184982.39354680624,1,{"$f":"SUM(K955:K958)","v":203219.94452303229},{"$f":"SUM(L955:L958)","v":1},{"$f":"VLOOKUP(E959,town351,24)","v":103842},{"$f":"SUM(N955:N958)","v":103842},98907,{"$f":"SUM(P955:P958)","v":4935},4.9895356243744127,16.999999998189999,16.99999999932,190,999,950,16.99999999932,203219.94452303229,950,190,999,950,16.99999999932,203219.94452303229]
["01910191","0191","0191",951,191,"Monson                       ",191,"Monson",10603017.180000002,0.8809416466329143,{"$f":"X960","v":10403183.449999999},{"$f":"IF(K964>0, K960/K964, 0)","v":0.88510983052900094},null,{"$f":"ROUND(M964*L960,0)","v":6007448},5893568,{"$f":"N960-O960","v":113880},1.9322759998696883,934,883,191,191,951,883,10403183.449999999,951,191,191,951,883,10403183.449999999]
["01910860","0191","0860",952,191,"Monson                       ",860,"Pathfinder",1432986.8170028175,0.1190583533670857,1350367.4554083839,{"$f":"IF(K964>0, K961/K964, 0)","v":0.11489016947099909},null,{"$f":"ROUND(M964*L961,0)","v":779787},796510,{"$f":"N961-O961","v":-16723},-2.0995342180261392,78.999999998820002,72.000000000390003,191,860,952,72.000000000390003,1350367.4554083839,952,191,860,952,72.000000000390003,1350367.4554083839]
["01910998","0191","0998",953,191,"",998,"",0,0,0,{"$f":"IF(K964>0, K962/K964, 0)","v":0},null,{"$f":"ROUND(M964*L962,0)","v":0},0,{"$f":"N962-O962","v":0},0,0,0,191,998,953,0,0,953,191,998,953,0,0]
["01910998","0191","0998",954,191,"",998,"",0,0,0,{"$f":"IF(K964>0, K963/K964, 0)","v":0},null,{"$f":"ROUND(M964*L963,0)","v":0},0,{"$f":"N963-O963","v":0},0,0,0,191,998,954,0,0,954,191,998,954,0,0]
["01910999","0191","0999",955,191,"Monson                       ",999,"Total",12036003.99700282,1,{"$f":"SUM(K960:K963)","v":11753550.905408382},{"$f":"SUM(L960:L963)","v":1},{"$f":"VLOOKUP(E964,town351,24)","v":6787235},{"$f":"SUM(N960:N963)","v":6787235},6690078,{"$f":"SUM(P960:P963)","v":97157},1.4522551157101606,1012.99999999882,955.00000000038995,191,999,955,955.00000000038995,11753550.905408382,955,191,999,955,955.00000000038995,11753550.905408382]
["01920192","0192","0192",956,192,"Montague                     ",192,"Montague",0,0,{"$f":"X965","v":0},{"$f":"IF(K969>0, K965/K969, 0)","v":0},null,{"$f":"ROUND(M969*L965,0)","v":0},0,{"$f":"N965-O965","v":0},0,0,0,192,192,956,0,0,956,192,192,956,0,0]
["01920674","0192","0674",957,192,"Montague                     ",674,"Gill Montague",11710487.749060076,0.8602080584100027,10951790.067850415,{"$f":"IF(K969>0, K966/K969, 0)","v":0.84377623301981375},null,{"$f":"ROUND(M969*L966,0)","v":5125871},5122213,{"$f":"N966-O966","v":3658},7.1414445279803868E-2,951.06043955921996,859.81744422069994,192,674,957,859.81744422069994,10951790.067850415,957,192,674,957,859.81744422069994,10951790.067850415]
["01920818","0192","0818",958,192,"Montague                     ",818,"Franklin County",1903064.9659721314,0.1397919415899973,2027705.7264963328,{"$f":"IF(K969>0, K967/K969, 0)","v":0.15622376698018617},null,{"$f":"ROUND(M969*L967,0)","v":949047},832408,{"$f":"N967-O967","v":116639},14.012239190397016,104.99999999959999,107.0000000006,192,818,958,107.0000000006,2027705.7264963328,958,192,818,958,107.0000000006,2027705.7264963328]
["01920998","0192","0998",959,192,"",998,"",0,0,0,{"$f":"IF(K969>0, K968/K969, 0)","v":0},null,{"$f":"ROUND(M969*L968,0)","v":0},0,{"$f":"N968-O968","v":0},0,0,0,192,998,959,0,0,959,192,998,959,0,0]
["01920999","0192","0999",960,192,"Montague                     ",999,"Total",13613552.715032207,1,{"$f":"SUM(K965:K968)","v":12979495.794346748},{"$f":"SUM(L965:L968)","v":0.99999999999999989},{"$f":"VLOOKUP(E969,town351,24)","v":6074918},{"$f":"SUM(N965:N968)","v":6074918},5954621,{"$f":"SUM(P965:P968)","v":120297},2.0202293311362722,1056.06043955882,966.81744422129998,192,999,960,966.81744422129998,12979495.794346748,960,192,999,960,966.81744422129998,12979495.794346748]
[{"$f":"B970&C970","v":"01930193"},"0193","0193",961,193,"Monterey                     ",193,"Monterey",0,0,{"$f":"X970","v":0},{"$f":"IF(K974>0, K970/K974, 0)","v":0},null,{"$f":"ROUND(M974*L970,0)","v":0},0,{"$f":"N970-O970","v":0},0,0,0,{"$f":"VLOOKUP($D970, foundoptions, VLOOKUP($T$6, foundoptcell, 2, FALSE), FALSE)","v":193},{"$f":"VLOOKUP($D970, foundoptions, VLOOKUP($T$6, foundoptcell, 2, FALSE)+1, FALSE)","v":193},{"$f":"VLOOKUP($D970, foundoptions, VLOOKUP($T$6, foundoptcell, 2, FALSE)+2, FALSE)","v":961},{"$f":"VLOOKUP($D970, foundoptions, VLOOKUP($T$6, foundoptcell, 2, FALSE)+3, FALSE)","v":0},{"$f":"VLOOKUP($D970, foundoptions, VLOOKUP($T$6, foundoptcell, 2, FALSE)+4, FALSE)","v":0},961,193,193,961,0,0]
["01930765","0193","0765",962,193,"Monterey                     ",765,"Southern Berkshire",861668.3889704519,1,926818.30350876192,{"$f":"IF(K974>0, K971/K974, 0)","v":1},null,{"$f":"ROUND(M974*L971,0)","v":764625},710876,{"$f":"N971-O971","v":53749},7.5609529650740779,73.481268014660003,{"$f":"W971","v":77.906976745899996},193,765,962,77.906976745899996,926818.30350876192,{"$f":"D971","v":962},193,765,962,77.906976745899996,926818.30350876192]
["01930998","0193","0998",963,193,"",998,"",0,0,0,{"$f":"IF(K974>0, K972/K974, 0)","v":0},null,{"$f":"ROUND(M974*L972,0)","v":0},0,{"$f":"N972-O972","v":0},0,0,0,193,998,963,0,0,963,193,998,963,0,0]
["01930998","0193","0998",964,193,"",998,"",0,0,0,{"$f":"IF(K974>0, K973/K974, 0)","v":0},null,{"$f":"ROUND(M974*L973,0)","v":0},0,{"$f":"N973-O973","v":0},0,0,0,193,998,964,0,0,964,193,998,964,0,0]
["01930999","0193","0999",965,193,"Monterey                     ",999,"Total",861668.3889704519,1,{"$f":"SUM(K970:K973)","v":926818.30350876192},{"$f":"SUM(L970:L973)","v":1},{"$f":"VLOOKUP(E974,town351,24)","v":764625},{"$f":"SUM(N970:N973)","v":764625},710876,{"$f":"SUM(P970:P973)","v":53749},7.5609529650740779,73.481268014660003,77.906976745899996,193,999,965,77.906976745899996,926818.30350876192,965,193,999,965,77.906976745899996,926818.30350876192]
["01940194","0194","0194",966,194,"Montgomery                   ",194,"Montgomery",87946.800000000017,9.6495996391604111E-2,{"$f":"X975","v":59811.12},{"$f":"IF(K979>0, K975/K979, 0)","v":6.686435657594901E-2},null,{"$f":"ROUND(M979*L975,0)","v":49337},68444,{"$f":"N975-O975","v":-19107},-27.91625270293963,6,4,194,194,966,4,59811.12,966,194,194,966,4,59811.12]
["01940672","0194","0672",967,194,"Montgomery                   ",672,"Gateway",823456.81557686406,0.90350400360839589,834703.13337597519,{"$f":"IF(K979>0, K976/K979, 0)","v":0.93313564342405098},null,{"$f":"ROUND(M979*L976,0)","v":688536},640845,{"$f":"N976-O976","v":47691},{"$f":"IF(O976>0,P976*100/O976,IF(P976>0,100,0))","v":7.4418931254827614},69.706484642799992,67.868852461800003,194,672,967,67.868852461800003,834703.13337597519,967,194,672,967,67.868852461800003,834703.13337597519]
["01940998","0194","0998",968,194,"",998,"",0,0,0,{"$f":"IF(K979>0, K977/K979, 0)","v":0},null,{"$f":"ROUND(M979*L977,0)","v":0},0,{"$f":"N977-O977","v":0},{"$f":"IF(O977>0,P977*100/O977,IF(P977>0,100,0))","v":0},0,0,194,998,968,0,0,968,194,998,968,0,0]
["01940998","0194","0998",969,194,"",998,"",0,0,0,{"$f":"IF(K979>0, K978/K979, 0)","v":0},null,{"$f":"ROUND(M979*L978,0)","v":0},0,{"$f":"N978-O978","v":0},{"$f":"IF(O978>0,P978*100/O978,IF(P978>0,100,0))","v":0},0,0,194,998,969,0,0,969,194,998,969,0,0]
["01940999","0194","0999",970,194,"Montgomery                   ",999,"Total",911403.6155768641,1,{"$f":"SUM(K975:K978)","v":894514.25337597518},{"$f":"SUM(L975:L978)","v":1},{"$f":"VLOOKUP(E979,town351,24)","v":737873},{"$f":"SUM(N975:N978)","v":737873},709289,{"$f":"SUM(P975:P978)","v":28584},{"$f":"IF(O979>0,P979*100/O979,IF(P979>0,100,0))","v":4.0299511200653049},75.706484642799992,71.868852461800003,194,999,970,71.868852461800003,894514.25337597518,970,194,999,970,71.868852461800003,894514.25337597518]
["01950195","0195","0195",971,195,"Mount Washington             ",195,"Mount Washington",17625.62,1,{"$f":"X980","v":43505.390000000007},{"$f":"IF(K984>0, K980/K984, 0)","v":1},null,{"$f":"ROUND(M984*L980,0)","v":35892},14541,{"$f":"N980-O980","v":21351},146.83309263461936,2,5,195,195,971,5,43505.390000000007,971,195,195,971,5,43505.390000000007]
["01950998","0195","0998",972,195,"",998,"",0,0,0,{"$f":"IF(K984>0, K981/K984, 0)","v":0},null,{"$f":"ROUND(M984*L981,0)","v":0},0,{"$f":"N981-O981","v":0},0,0,0,195,998,972,0,0,972,195,998,972,0,0]
["01950998","0195","0998",973,195,"",998,"",0,0,0,{"$f":"IF(K984>0, K982/K984, 0)","v":0},null,{"$f":"ROUND(M984*L982,0)","v":0},0,{"$f":"N982-O982","v":0},0,0,0,195,998,973,0,0,973,195,998,973,0,0]
["01950998","0195","0998",974,195,"",998,"",0,0,0,{"$f":"IF(K984>0, K983/K984, 0)","v":0},null,{"$f":"ROUND(M984*L983,0)","v":0},0,{"$f":"N983-O983","v":0},0,0,0,195,998,974,0,0,974,195,998,974,0,0]
["01950999","0195","0999",975,195,"Mount Washington             ",999,"Total",17625.62,1,{"$f":"SUM(K980:K983)","v":43505.390000000007},{"$f":"SUM(L980:L983)","v":1},{"$f":"VLOOKUP(E984,town351,24)","v":35892},{"$f":"SUM(N980:N983)","v":35892},14541,{"$f":"SUM(P980:P983)","v":21351},146.83309263461936,2,5,195,999,975,5,43505.390000000007,975,195,999,975,5,43505.390000000007]
["01960196","0196","0196",976,196,"Nahant                       ",196,"Nahant",2739284.95,0.93575635616781361,{"$f":"X985","v":2845521.7600000002},{"$f":"IF(K989>0, K985/K989, 0)","v":0.93450164543488734},null,{"$f":"ROUND(M989*L985,0)","v":2347555},2259910,{"$f":"N985-O985","v":87645},3.8782517887880492,266,263,196,196,976,263,2845521.7600000002,976,196,196,976,263,2845521.7600000002]
["01960817","0196","0817",977,196,"Nahant                       ",817,"Essex North Shore",188063.53333613783,6.4243643832186378E-2,199439.9839419114,{"$f":"IF(K989>0, K986/K989, 0)","v":6.5498354565112757E-2},null,{"$f":"ROUND(M989*L986,0)","v":164538},155152,{"$f":"N986-O986","v":9386},6.0495514076518511,11.00000000485,11.000000004,196,817,977,11.000000004,199439.9839419114,977,196,817,977,11.000000004,199439.9839419114]
["01960998","0196","0998",978,196,"",998,null,0,0,0,{"$f":"IF(K989>0, K987/K989, 0)","v":0},null,{"$f":"ROUND(M989*L987,0)","v":0},0,{"$f":"N987-O987","v":0},0,0,0,196,998,978,0,0,978,196,998,978,0,0]
["01960998","0196","0998",979,196,"",998,"",0,0,0,{"$f":"IF(K989>0, K988/K989, 0)","v":0},null,{"$f":"ROUND(M989*L988,0)","v":0},0,{"$f":"N988-O988","v":0},0,0,0,196,998,979,0,0,979,196,998,979,0,0]
["01960999","0196","0999",980,196,"Nahant                       ",999,"Total",2927348.4833361381,1,{"$f":"SUM(K985:K988)","v":3044961.7439419115},{"$f":"SUM(L985:L988)","v":1},{"$f":"VLOOKUP(E989,town351,24)","v":2512093},{"$f":"SUM(N985:N988)","v":2512093},2415062,{"$f":"SUM(P985:P988)","v":97031},4.0177436438484806,277.00000000484999,274.00000000400001,196,999,980,274.00000000400001,3044961.7439419115,980,196,999,980,274.00000000400001,3044961.7439419115]
["01970197","0197","0197",981,197,"Nantucket                    ",197,"Nantucket",19472349.760000002,1,{"$f":"X990","v":20100924.599999998},{"$f":"IF(K994>0, K990/K994, 0)","v":1},null,{"$f":"ROUND(M994*L990,0)","v":16583263},16064689,{"$f":"N990-O990","v":518574},3.2280363472956122,1664,1663,197,197,981,1663,20100924.599999998,981,197,197,981,1663,20100924.599999998]
["01970998","0197","0998",982,197,"",998,"",0,0,0,{"$f":"IF(K994>0, K991/K994, 0)","v":0},null,{"$f":"ROUND(M994*L991,0)","v":0},0,{"$f":"N991-O991","v":0},0,0,0,197,998,982,0,0,982,197,998,982,0,0]
["01970998","0197","0998",983,197,"",998,"",0,0,0,{"$f":"IF(K994>0, K992/K994, 0)","v":0},null,{"$f":"ROUND(M994*L992,0)","v":0},0,{"$f":"N992-O992","v":0},0,0,0,197,998,983,0,0,983,197,998,983,0,0]
["01970998","0197","0998",984,197,"",998,"",0,0,0,{"$f":"IF(K994>0, K993/K994, 0)","v":0},null,{"$f":"ROUND(M994*L993,0)","v":0},0,{"$f":"N993-O993","v":0},0,0,0,197,998,984,0,0,984,197,998,984,0,0]
["01970999","0197","0999",985,197,"Nantucket                    ",999,"Total",19472349.760000002,1,{"$f":"SUM(K990:K993)","v":20100924.599999998},{"$f":"SUM(L990:L993)","v":1},{"$f":"VLOOKUP(E994,town351,24)","v":16583263},{"$f":"SUM(N990:N993)","v":16583263},16064689,{"$f":"SUM(P990:P993)","v":518574},3.2280363472956122,1664,1663,197,999,985,1663,20100924.599999998,985,197,999,985,1663,20100924.599999998]
["01980198","0198","0198",986,198,"Natick                       ",198,"Natick",58312471.325909987,0.98022848254927986,{"$f":"X995","v":57529966.215679981},{"$f":"IF(K999>0, K995/K999, 0)","v":0.98063748960071773},null,{"$f":"ROUND(M999*L995,0)","v":47462222},48107789,{"$f":"N995-O995","v":-645567},-1.3419178337212712,5484,5270,198,198,986,5270,57529966.215679981,986,198,198,986,5270,57529966.215679981]
["01980829","0198","0829",987,198,"Natick                       ",829,"South Middlesex",1176180.9261208472,1.9771517450720099E-2,1135918.80887096,{"$f":"IF(K999>0, K996/K999, 0)","v":1.9362510399282173E-2},null,{"$f":"ROUND(M999*L996,0)","v":937133},970349,{"$f":"N996-O996","v":-33216},-3.4230982873172437,61.076537012399996,56.068627450660003,198,829,987,56.068627450660003,1135918.80887096,987,198,829,987,56.068627450660003,1135918.80887096]
["01980998","0198","0998",988,198,"",998,"",0,0,0,{"$f":"IF(K999>0, K997/K999, 0)","v":0},null,{"$f":"ROUND(M999*L997,0)","v":0},0,{"$f":"N997-O997","v":0},0,0,0,198,998,988,0,0,988,198,998,988,0,0]
["01980998","0198","0998",989,198,"",998,"",0,0,0,{"$f":"IF(K999>0, K998/K999, 0)","v":0},null,{"$f":"ROUND(M999*L998,0)","v":0},0,{"$f":"N998-O998","v":0},0,0,0,198,998,989,0,0,989,198,998,989,0,0]
["01980999","0198","0999",990,198,"Natick                       ",999,"Total",59488652.252030835,1,{"$f":"SUM(K995:K998)","v":58665885.024550945},{"$f":"SUM(L995:L998)","v":0.99999999999999989},{"$f":"VLOOKUP(E999,town351,24)","v":48399355},{"$f":"SUM(N995:N998)","v":48399355},49078138,{"$f":"SUM(P995:P998)","v":-678783},-1.3830659182709826,5545.0765370124,5326.0686274506597,198,999,990,5326.0686274506597,58665885.024550945,990,198,999,990,5326.0686274506597,58665885.024550945]
["01990199","0199","0199",991,199,"Needham                      ",199,"Needham",63004475.701059997,0.99297737934685426,{"$f":"X1000","v":62757965.939740002},{"$f":"IF(K1004>0, K1000/K1004, 0)","v":0.99051102605373953},null,{"$f":"ROUND(M1004*L1000,0)","v":51775322},51978693,{"$f":"N1000-O1000","v":-203371},-0.39125839505044885,5754,5561,199,199,991,5561,62757965.939740002,991,199,199,991,5561,62757965.939740002]
["01990830","0199","0830",992,199,"Needham                      ",830,"Minuteman",427623.59563730634,6.7395300511272644E-3,564108.55797213002,{"$f":"IF(K1004>0, K1001/K1004, 0)","v":8.9033437938250814E-3},null,{"$f":"ROUND(M1004*L1001,0)","v":465390},352789,{"$f":"N1001-O1001","v":112601},31.917378376309919,23.000000001469999,28.000000000779998,199,830,992,28.000000000779998,564108.55797213002,992,199,830,992,28.000000000779998,564108.55797213002]
["01990915","0199","0915",993,199,"Needham                      ",915,"Norfolk County",17962.116083448014,2.8309060201839147E-4,37105.045974344881,{"$f":"IF(K1004>0, K1002/K1004, 0)","v":5.856301524353036E-4},null,{"$f":"ROUND(M1004*L1002,0)","v":30612},14819,{"$f":"N1002-O1002","v":15793},106.57264322828802,1.0000000009599999,1.99999999968,199,915,993,1.99999999968,37105.045974344881,993,199,915,993,1.99999999968,37105.045974344881]
["01990998","0199","0998",994,199,"",998,"",0,0,0,{"$f":"IF(K1004>0, K1003/K1004, 0)","v":0},null,{"$f":"ROUND(M1004*L1003,0)","v":0},0,{"$f":"N1003-O1003","v":0},0,0,0,199,998,994,0,0,994,199,998,994,0,0]
["01990999","0199","0999",995,199,"Needham                      ",999,"Total",63450061.412780754,0.99999999999999989,{"$f":"SUM(K1000:K1003)","v":63359179.543686479},{"$f":"SUM(L1000:L1003)","v":0.99999999999999989},{"$f":"VLOOKUP(E1004,town351,24)","v":52271323},{"$f":"SUM(N1000:N1003)","v":52271324},52346301,{"$f":"SUM(P1000:P1003)","v":-74977},-0.14323266127247464,5778.0000000024302,5591.0000000004602,199,999,995,5591.0000000004602,63359179.543686479,995,199,999,995,5591.0000000004602,63359179.543686479]
["02000200","0200","0200",996,200,"New Ashford                  ",200,"New Ashford",278897.32,1,{"$f":"X1005","v":234545.27},{"$f":"IF(K1009>0, K1005/K1009, 0)","v":1},null,{"$f":"ROUND(M1009*L1005,0)","v":193500},226155,{"$f":"N1005-O1005","v":-32655},-14.439212044836506,28,22,200,200,996,22,234545.27,996,200,200,996,22,234545.27]
["02000998","0200","0998",997,200,"",998,"",0,0,0,{"$f":"IF(K1009>0, K1006/K1009, 0)","v":0},null,{"$f":"ROUND(M1009*L1006,0)","v":0},0,{"$f":"N1006-O1006","v":0},0,0,0,200,998,997,0,0,997,200,998,997,0,0]
["02000998","0200","0998",998,200,"",998,"",0,0,0,{"$f":"IF(K1009>0, K1007/K1009, 0)","v":0},null,{"$f":"ROUND(M1009*L1007,0)","v":0},0,{"$f":"N1007-O1007","v":0},0,0,0,200,998,998,0,0,998,200,998,998,0,0]
["02000998","0200","0998",999,200,"",998,"",0,0,0,{"$f":"IF(K1009>0, K1008/K1009, 0)","v":0},null,{"$f":"ROUND(M1009*L1008,0)","v":0},0,{"$f":"N1008-O1008","v":0},0,0,0,200,998,999,0,0,999,200,998,999,0,0]
["02000999","0200","0999",1000,200,"New Ashford                  ",999,"Total",278897.32,1,{"$f":"SUM(K1005:K1008)","v":234545.27},{"$f":"SUM(L1005:L1008)","v":1},{"$f":"VLOOKUP(E1009,town351,24)","v":193500},{"$f":"SUM(N1005:N1008)","v":193500},226155,{"$f":"SUM(P1005:P1008)","v":-32655},-14.439212044836506,28,22,200,999,1000,22,234545.27,1000,200,999,1000,22,234545.27]
["02010201","0201","0201",1001,201,"New Bedford                  ",201,"New Bedford",197388756.04999998,0.86549860439398973,{"$f":"X1010","v":206188927.62000003},{"$f":"IF(K1014>0, K1010/K1014, 0)","v":0.86411808232775245},null,{"$f":"ROUND(M1014*L1010,0)","v":32442344},31307615,{"$f":"N1010-O1010","v":1134729},3.6244504731516596,14257,14010,201,201,1001,14010,206188927.62000003,1001,201,201,1001,14010,206188927.62000003]
["02010825","0201","0825",1002,201,"New Bedford                  ",825,"Greater New Bedford",29854864.370545782,0.13090585281632725,31501618.584357105,{"$f":"IF(K1014>0, K1011/K1014, 0)","v":0.13202027167774327},null,{"$f":"ROUND(M1014*L1011,0)","v":4956553},4735247,{"$f":"N1011-O1011","v":221306},4.673589360808422,1641.9999999928,1625.9999999997601,201,825,1002,1625.9999999997601,31501618.584357105,1002,201,825,1002,1625.9999999997601,31501618.584357105]
["02010910","0201","0910",1003,201,"New Bedford                  ",910,"Bristol County",820012.55112018355,3.5955427896829997E-3,921435.0014641966,{"$f":"IF(K1014>0, K1012/K1014, 0)","v":3.8616459945043057E-3},null,{"$f":"ROUND(M1014*L1012,0)","v":144981},130061,{"$f":"N1012-O1012","v":14920},11.471540277254519,47.000000000519996,51.999999999899998,201,910,1003,51.999999999899998,921435.0014641966,1003,201,910,1003,51.999999999899998,921435.0014641966]
["02010998","0201","0998",1004,201,"",998,"",0,0,0,{"$f":"IF(K1014>0, K1013/K1014, 0)","v":0},null,{"$f":"ROUND(M1014*L1013,0)","v":0},0,{"$f":"N1013-O1013","v":0},0,0,0,201,998,1004,0,0,1004,201,998,1004,0,0]
["02010999","0201","0999",1005,201,"New Bedford                  ",999,"Total",228063632.97166595,1,{"$f":"SUM(K1010:K1013)","v":238611981.20582134},{"$f":"SUM(L1010:L1013)","v":1},{"$f":"VLOOKUP(E1014,town351,24)","v":37543878},{"$f":"SUM(N1010:N1013)","v":37543878},36172923,{"$f":"SUM(P1010:P1013)","v":1370955},3.7900033679888132,15945.999999993321,15687.99999999966,201,999,1005,15687.99999999966,238611981.20582134,1005,201,999,1005,15687.99999999966,238611981.20582134]
["02020202","0202","0202",1006,202,"New Braintree                ",202,"New Braintree",43973.400000000009,2.7399240284062557E-2,{"$f":"X1015","v":44858.340000000004},{"$f":"IF(K1019>0, K1015/K1019, 0)","v":2.8780549121419023E-2},null,{"$f":"ROUND(M1019*L1015,0)","v":28827},26677,{"$f":"N1015-O1015","v":2150},8.0593769914158262,3,3,202,202,1006,3,44858.340000000004,1006,202,202,1006,3,44858.340000000004]
["02020753","0202","0753",1007,202,"New Braintree                ",753,"Quabbin",1488383.4178569519,0.92739189829935598,1382489.8518042797,{"$f":"IF(K1019>0, K1016/K1019, 0)","v":0.88698817409909447},null,{"$f":"ROUND(M1019*L1016,0)","v":888425},902959,{"$f":"N1016-O1016","v":-14534},-1.6095968919962036,131.39076922628999,117.2238805881,202,753,1007,117.2238805881,1382489.8518042797,1007,202,753,1007,117.2238805881,1382489.8518042797]
["02020860","0202","0860",1008,202,"New Braintree                ",860,"Pathfinder",72556.294481357007,4.5208861416581439E-2,131285.72482990933,{"$f":"IF(K1019>0, K1017/K1019, 0)","v":8.4231276779486414E-2},null,{"$f":"ROUND(M1019*L1017,0)","v":84368},44018,{"$f":"N1017-O1017","v":40350},91.667045299650141,3.9999999971600002,6.99999999996,202,860,1008,6.99999999996,131285.72482990933,1008,202,860,1008,6.99999999996,131285.72482990933]
["02020998","0202","0998",1009,202,"",998,"",0,0,0,{"$f":"IF(K1019>0, K1018/K1019, 0)","v":0},null,{"$f":"ROUND(M1019*L1018,0)","v":0},0,{"$f":"N1018-O1018","v":0},0,0,0,202,998,1009,0,0,1009,202,998,1009,0,0]
["02020999","0202","0999",1010,202,"New Braintree                ",999,"Total",1604913.1123383089,1,{"$f":"SUM(K1015:K1018)","v":1558633.9166341892},{"$f":"SUM(L1015:L1018)","v":0.99999999999999989},{"$f":"VLOOKUP(E1019,town351,24)","v":1001620},{"$f":"SUM(N1015:N1018)","v":1001620},973654,{"$f":"SUM(P1015:P1018)","v":27966},2.8722729018727393,138.39076922344998,127.22388058806,202,999,1010,127.22388058806,1558633.9166341892,1010,202,999,1010,127.22388058806,1558633.9166341892]
["02030203","0203","0203",1011,203,"Newbury                      ",203,"Newbury",45293.483039999999,5.697693641557363E-3,{"$f":"X1020","v":46160.855639999994},{"$f":"IF(K1024>0, K1020/K1024, 0)","v":6.1251809820323747E-3},null,{"$f":"ROUND(M1024*L1020,0)","v":38083},37367,{"$f":"N1020-O1020","v":716},1.9161292049134262,3,3,203,203,1011,3,46160.855639999994,1011,203,203,1011,3,46160.855639999994]
["02030773","0203","0773",1012,203,"Newbury                      ",773,"Triton",7479573.7525953092,0.94089297071911915,7175944.7885182956,{"$f":"IF(K1024>0, K1021/K1024, 0)","v":0.95219120047373973},null,{"$f":"ROUND(M1024*L1021,0)","v":5920155},6170648,{"$f":"N1021-O1021","v":-250493},-4.0594277942932413,657.18934911079998,612.55277524446001,203,773,1012,612.55277524446001,7175944.7885182956,1012,203,773,1012,612.55277524446001,7175944.7885182956]
["02030885","0203","0885",1013,203,"Newbury                      ",885,"Whittier",424574.3962632831,5.3409335639323458E-2,314137.90120116324,{"$f":"IF(K1024>0, K1022/K1024, 0)","v":4.1683618544227884E-2},null,{"$f":"ROUND(M1024*L1022,0)","v":259164},350274,{"$f":"N1022-O1022","v":-91110},-26.011065622912348,23.999999994000003,17.00000000584,203,885,1013,17.00000000584,314137.90120116324,1013,203,885,1013,17.00000000584,314137.90120116324]
["02030998","0203","0998",1014,203,"",998,null,0,0,0,{"$f":"IF(K1024>0, K1023/K1024, 0)","v":0},null,{"$f":"ROUND(M1024*L1023,0)","v":0},0,{"$f":"N1023-O1023","v":0},0,0,0,203,998,1014,0,0,1014,203,998,1014,0,0]
["02030999","0203","0999",1015,203,"Newbury                      ",999,"Total",7949441.6318985922,1,{"$f":"SUM(K1020:K1023)","v":7536243.5453594588},{"$f":"SUM(L1020:L1023)","v":1},{"$f":"VLOOKUP(E1024,town351,24)","v":6217401},{"$f":"SUM(N1020:N1023)","v":6217402},6558289,{"$f":"SUM(P1020:P1023)","v":-340887},-5.1978038784201184,684.18934910479993,632.55277525029999,203,999,1015,632.55277525029999,7536243.5453594588,1015,203,999,1015,632.55277525029999,7536243.5453594588]
["02040204","0204","0204",1016,204,"Newburyport                  ",204,"Newburyport",24204978.57,0.97644942312563077,{"$f":"X1025","v":24047193.300000001},{"$f":"IF(K1029>0, K1025/K1029, 0)","v":0.97526879427765889},null,{"$f":"ROUND(M1029*L1025,0)","v":19838934},19969107,{"$f":"N1025-O1025","v":-130173},-0.65187191395188582,2308,2211,204,204,1016,2211,24047193.300000001,1016,204,204,1016,2211,24047193.300000001]
["02040885","0204","0885",1017,204,"Newburyport                  ",885,"Whittier",583789.7950008855,2.3550576874369233E-2,609797.10212883889,{"$f":"IF(K1029>0, K1026/K1029, 0)","v":2.4731205722341124E-2},null,{"$f":"ROUND(M1029*L1026,0)","v":503083},481627,{"$f":"N1026-O1026","v":21456},4.4548997460690538,32.9999999996,33.000000000359996,204,885,1017,33.000000000359996,609797.10212883889,1017,204,885,1017,33.000000000359996,609797.10212883889]
["02040998","0204","0998",1018,204,"",998,null,0,0,0,{"$f":"IF(K1029>0, K1027/K1029, 0)","v":0},null,{"$f":"ROUND(M1029*L1027,0)","v":0},0,{"$f":"N1027-O1027","v":0},0,0,0,204,998,1018,0,0,1018,204,998,1018,0,0]
["02040998","0204","0998",1019,204,"",998,"",0,0,0,{"$f":"IF(K1029>0, K1028/K1029, 0)","v":0},null,{"$f":"ROUND(M1029*L1028,0)","v":0},0,{"$f":"N1028-O1028","v":0},0,0,0,204,998,1019,0,0,1019,204,998,1019,0,0]
["02040999","0204","0999",1020,204,"Newburyport                  ",999,"Total",24788768.365000885,1,{"$f":"SUM(K1025:K1028)","v":24656990.402128838},{"$f":"SUM(L1025:L1028)","v":1},{"$f":"VLOOKUP(E1029,town351,24)","v":20342017},{"$f":"SUM(N1025:N1028)","v":20342017},20450734,{"$f":"SUM(P1025:P1028)","v":-108717},-0.53160439131426773,2340.9999999995998,2244.0000000003602,204,999,1020,2244.0000000003602,24656990.402128838,1020,204,999,1020,2244.0000000003602,24656990.402128838]
["02050205","0205","0205",1021,205,"New Marlborough              ",205,"New Marlborough",0,0,{"$f":"X1030","v":0},{"$f":"IF(K1034>0, K1030/K1034, 0)","v":0},null,{"$f":"ROUND(M1034*L1030,0)","v":0},0,{"$f":"N1030-O1030","v":0},0,0,0,205,205,1021,0,0,1021,205,205,1021,0,0]
["02050765","0205","0765",1022,205,"New Marlborough              ",765,"Southern Berkshire",1700661.293946086,1,1459738.8279645278,{"$f":"IF(K1034>0, K1031/K1034, 0)","v":1},null,{"$f":"ROUND(M1034*L1031,0)","v":1204285},1290475,{"$f":"N1031-O1031","v":-86190},-6.6789360506790132,145.02881844363,122.70348836960001,205,765,1022,122.70348836960001,1459738.8279645278,1022,205,765,1022,122.70348836960001,1459738.8279645278]
["02050998","0205","0998",1023,205,"",998,"",0,0,0,{"$f":"IF(K1034>0, K1032/K1034, 0)","v":0},null,{"$f":"ROUND(M1034*L1032,0)","v":0},0,{"$f":"N1032-O1032","v":0},0,0,0,205,998,1023,0,0,1023,205,998,1023,0,0]
["02050998","0205","0998",1024,205,"",998,"",0,0,0,{"$f":"IF(K1034>0, K1033/K1034, 0)","v":0},null,{"$f":"ROUND(M1034*L1033,0)","v":0},0,{"$f":"N1033-O1033","v":0},0,0,0,205,998,1024,0,0,1024,205,998,1024,0,0]
[{"$f":"B1034&C1034","v":"02050999"},"0205","0999",1025,205,"New Marlborough              ",999,"Total",1700661.293946086,1,{"$f":"SUM(K1030:K1033)","v":1459738.8279645278},{"$f":"SUM(L1030:L1033)","v":1},{"$f":"VLOOKUP(E1034,town351,24)","v":1204285},{"$f":"SUM(N1030:N1033)","v":1204285},1290475,{"$f":"SUM(P1030:P1033)","v":-86190},-6.6789360506790132,145.02881844363,122.70348836960001,{"$f":"VLOOKUP($D1034, foundoptions, VLOOKUP($T$6, foundoptcell, 2, FALSE), FALSE)","v":205},{"$f":"VLOOKUP($D1034, foundoptions, VLOOKUP($T$6, foundoptcell, 2, FALSE)+1, FALSE)","v":999},{"$f":"VLOOKUP($D1034, foundoptions, VLOOKUP($T$6, foundoptcell, 2, FALSE)+2, FALSE)","v":1025},{"$f":"VLOOKUP($D1034, foundoptions, VLOOKUP($T$6, foundoptcell, 2, FALSE)+3, FALSE)","v":122.70348836960001},{"$f":"VLOOKUP($D1034, foundoptions, VLOOKUP($T$6, foundoptcell, 2, FALSE)+4, FALSE)","v":1459738.8279645278},1025,205,999,1025,122.70348836960001,1459738.8279645278]
["02060206","0206","0206",1026,206,"New Salem                    ",206,"New Salem",0,0,{"$f":"X1035","v":0},{"$f":"IF(K1039>0, K1035/K1039, 0)","v":0},null,{"$f":"ROUND(M1039*L1035,0)","v":0},0,{"$f":"N1035-O1035","v":0},0,0,{"$f":"W1035","v":0},206,206,1026,0,0,{"$f":"D1035","v":1026},206,206,1026,0,0]
["02060728","0206","0728",1027,206,"New Salem                    ",728,"New Salem Wendell",464335.885420985,0.39071511412917587,506492.31473097869,{"$f":"IF(K1039>0, K1036/K1039, 0)","v":0.39167526149489973},null,{"$f":"ROUND(M1039*L1036,0)","v":306228},301783,{"$f":"N1036-O1036","v":4445},1.4729126557824661,40.644067796370003,39.509090909379999,206,728,1027,39.509090909379999,506492.31473097869,1027,206,728,1027,39.509090909379999,506492.31473097869]
["02060755","0206","0755",1028,206,"New Salem                    ",755,"Ralph C Mahar",597218.82302526047,0.50252937135549924,616096.48836983042,{"$f":"IF(K1039>0, K1037/K1039, 0)","v":0.476433197839366},null,{"$f":"ROUND(M1039*L1037,0)","v":372495},388147,{"$f":"N1037-O1037","v":-15652},-4.0324928442059322,47.152350081880002,46.151067323139998,206,755,1028,46.151067323139998,616096.48836983042,1028,206,755,1028,46.151067323139998,616096.48836983042]
["02060818","0206","0818",1029,206,"New Salem                    ",818,"Franklin County",126870.99772561521,0.10675551451532481,170554.68724335727,{"$f":"IF(K1039>0, K1038/K1039, 0)","v":0.13189154066573436},null,{"$f":"ROUND(M1039*L1038,0)","v":103118},82456,{"$f":"N1038-O1038","v":20662},25.058212865043174,6.99999999965,8.9999999983600016,206,818,1029,8.9999999983600016,170554.68724335727,1029,206,818,1029,8.9999999983600016,170554.68724335727]
["02060999","0206","0999",1030,206,"New Salem                    ",999,"Total",1188425.7061718607,0.99999999999999989,{"$f":"SUM(K1035:K1038)","v":1293143.4903441663},{"$f":"SUM(L1035:L1038)","v":1},{"$f":"VLOOKUP(E1039,town351,24)","v":781841},{"$f":"SUM(N1035:N1038)","v":781841},772386,{"$f":"SUM(P1035:P1038)","v":9455},1.2241288682083828,94.796417877899998,94.660158230879986,206,999,1030,94.660158230879986,1293143.4903441663,1030,206,999,1030,94.660158230879986,1293143.4903441663]
["02070207","0207","0207",1031,207,"Newton                       ",207,"Newton",143592665.22735,1,{"$f":"X1040","v":140792530.04910001},{"$f":"IF(K1044>0, K1040/K1044, 0)","v":1},null,{"$f":"ROUND(M1044*L1040,0)","v":116153837},118463949,{"$f":"N1040-O1040","v":-2310112},{"$f":"IF(O1040>0,P1040*100/O1040,IF(P1040>0,100,0))","v":-1.9500548643705944},12831,12113,207,207,1031,12113,140792530.04910001,1031,207,207,1031,12113,140792530.04910001]
["02070998","0207","0998",1032,207,"",998,"",0,0,0,{"$f":"IF(K1044>0, K1041/K1044, 0)","v":0},null,{"$f":"ROUND(M1044*L1041,0)","v":0},0,{"$f":"N1041-O1041","v":0},{"$f":"IF(O1041>0,P1041*100/O1041,IF(P1041>0,100,0))","v":0},0,0,207,998,1032,0,0,1032,207,998,1032,0,0]
["02070998","0207","0998",1033,207,"",998,"",0,0,0,{"$f":"IF(K1044>0, K1042/K1044, 0)","v":0},null,{"$f":"ROUND(M1044*L1042,0)","v":0},0,{"$f":"N1042-O1042","v":0},{"$f":"IF(O1042>0,P1042*100/O1042,IF(P1042>0,100,0))","v":0},0,0,207,998,1033,0,0,1033,207,998,1033,0,0]
["02070998","0207","0998",1034,207,"",998,"",0,0,0,{"$f":"IF(K1044>0, K1043/K1044, 0)","v":0},null,{"$f":"ROUND(M1044*L1043,0)","v":0},0,{"$f":"N1043-O1043","v":0},{"$f":"IF(O1043>0,P1043*100/O1043,IF(P1043>0,100,0))","v":0},0,0,207,998,1034,0,0,1034,207,998,1034,0,0]
["02070999","0207","0999",1035,207,"Newton                       ",999,"Total",143592665.22735,1,{"$f":"SUM(K1040:K1043)","v":140792530.04910001},{"$f":"SUM(L1040:L1043)","v":1},{"$f":"VLOOKUP(E1044,town351,24)","v":116153837},{"$f":"SUM(N1040:N1043)","v":116153837},118463949,{"$f":"SUM(P1040:P1043)","v":-2310112},{"$f":"IF(O1044>0,P1044*100/O1044,IF(P1044>0,100,0))","v":-1.9500548643705944},12831,12113,207,999,1035,12113,140792530.04910001,1035,207,999,1035,12113,140792530.04910001]
["02080208","0208","0208",1036,208,"Norfolk                      ",208,"Norfolk",9555961.1148400009,0.53741443952566625,{"$f":"X1045","v":10190816.706399998},{"$f":"IF(K1049>0, K1045/K1049, 0)","v":0.54807087588470182},null,{"$f":"ROUND(M1049*L1045,0)","v":8337473},7883668,{"$f":"N1045-O1045","v":453805},5.756267260366621,944,968,208,208,1036,968,10190816.706399998,1036,208,208,1036,968,10190816.706399998]
["02080690","0208","0690",1037,208,"Norfolk                      ",690,"King Philip",7710610.910743014,0.43363441847438128,7676237.3249402447,{"$f":"IF(K1049>0, K1046/K1049, 0)","v":0.41283463684875227},null,{"$f":"ROUND(M1049*L1046,0)","v":6280206},6361254,{"$f":"N1046-O1046","v":-81048},-1.2740884108699322,694.99999999121997,672.33217993920005,208,690,1037,672.33217993920005,7676237.3249402447,1037,208,690,1037,672.33217993920005,7676237.3249402447]
["02080878","0208","0878",1038,208,"Norfolk                      ",878,"Tri County",389055.94644131733,2.1879984743364975E-2,467186.63565830322,{"$f":"IF(K1049>0, K1047/K1049, 0)","v":2.5125698556237294E-2},null,{"$f":"ROUND(M1049*L1047,0)","v":382222},320971,{"$f":"N1047-O1047","v":61251},19.083032423489971,22.0000000014,25.027654870300001,208,878,1038,25.027654870300001,467186.63565830322,1038,208,878,1038,25.027654870300001,467186.63565830322]
["02080915","0208","0915",1039,208,"Norfolk                      ",915,"Norfolk County",125734.8124857037,7.0711572565875366E-3,259735.32187310333,{"$f":"IF(K1049>0, K1048/K1049, 0)","v":1.3968788710308809E-2},null,{"$f":"ROUND(M1049*L1048,0)","v":212499},103731,{"$f":"N1048-O1048","v":108768},104.85582901929028,7.0000000012400001,14.0000000006,208,915,1039,14.0000000006,259735.32187310333,1039,208,915,1039,14.0000000006,259735.32187310333]
["02080999","0208","0999",1040,208,"Norfolk                      ",999,"Total",17781362.784510035,1,{"$f":"SUM(K1045:K1048)","v":18593975.988871645},{"$f":"SUM(L1045:L1048)","v":1},{"$f":"VLOOKUP(E1049,town351,24)","v":15212400},{"$f":"SUM(N1045:N1048)","v":15212400},14669624,{"$f":"SUM(P1045:P1048)","v":542776},3.6999994001209573,1667.99999999386,1679.3598348101002,208,999,1040,1679.3598348101002,18593975.988871645,1040,208,999,1040,1679.3598348101002,18593975.988871645]
["02090209","0209","0209",1041,209,"North Adams                  ",209,"North Adams",18178355.150000002,0.87215540458146545,{"$f":"X1050","v":17897202.07},{"$f":"IF(K1054>0, K1050/K1054, 0)","v":0.85404767109746171},null,{"$f":"ROUND(M1054*L1050,0)","v":5027520},5057245,{"$f":"N1050-O1050","v":-29725},-0.5877706142375938,1424,1308,209,209,1041,1308,17897202.07,1041,209,209,1041,1308,17897202.07]
["02090851","0209","0851",1042,209,"North Adams                  ",851,"Northern Berkshire",2664667.8416691562,0.12784459541853449,3058539.24945337,{"$f":"IF(K1054>0, K1051/K1054, 0)","v":0.14595232890253829},null,{"$f":"ROUND(M1054*L1051,0)","v":859177},741314,{"$f":"N1051-O1051","v":117863},15.899200608648966,149.00000000115,164.99999999963998,209,851,1042,164.99999999963998,3058539.24945337,1042,209,851,1042,164.99999999963998,3058539.24945337]
["02090998","0209","0998",1043,209,"",998,"",0,0,0,{"$f":"IF(K1054>0, K1052/K1054, 0)","v":0},null,{"$f":"ROUND(M1054*L1052,0)","v":0},0,{"$f":"N1052-O1052","v":0},0,0,0,209,998,1043,0,0,1043,209,998,1043,0,0]
["02090998","0209","0998",1044,209,"",998,"",0,0,0,{"$f":"IF(K1054>0, K1053/K1054, 0)","v":0},null,{"$f":"ROUND(M1054*L1053,0)","v":0},0,{"$f":"N1053-O1053","v":0},0,0,0,209,998,1044,0,0,1044,209,998,1044,0,0]
["02090999","0209","0999",1045,209,"North Adams                  ",999,"Total",20843022.991669159,1,{"$f":"SUM(K1050:K1053)","v":20955741.31945337},{"$f":"SUM(L1050:L1053)","v":1},{"$f":"VLOOKUP(E1054,town351,24)","v":5886697},{"$f":"SUM(N1050:N1053)","v":5886697},5798559,{"$f":"SUM(P1050:P1053)","v":88138},1.519998330619728,1573.0000000011501,1472.9999999996401,209,999,1045,1472.9999999996401,20955741.31945337,1045,209,999,1045,1472.9999999996401,20955741.31945337]
["02100210","0210","0210",1046,210,"Northampton                  ",210,"Northampton",31063338.950000003,0.92028088345288606,{"$f":"X1055","v":30678559.000000004},{"$f":"IF(K1059>0, K1055/K1059, 0)","v":0.90776283981693384},null,{"$f":"ROUND(M1059*L1055,0)","v":25309811},25627255,{"$f":"N1055-O1055","v":-317444},-1.2386968483358831,2745,2656,210,210,1046,2656,30678559.000000004,1046,210,210,1046,2656,30678559.000000004]
["02100406","0210","0406",1047,210,"Northampton                  ",406,"Northampton Smith",2690854.48,7.9719116547114013E-2,3117227.3600000003,{"$f":"IF(K1059>0, K1056/K1059, 0)","v":9.2237160183066075E-2},null,{"$f":"ROUND(M1059*L1056,0)","v":2571713},2219955,{"$f":"N1056-O1056","v":351758},15.845276142984881,113,116,210,406,1047,116,3117227.3600000003,1047,210,406,1047,116,3117227.3600000003]
["02100998","0210","0998",1048,210,"",998,"",0,0,0,{"$f":"IF(K1059>0, K1057/K1059, 0)","v":0},null,{"$f":"ROUND(M1059*L1057,0)","v":0},0,{"$f":"N1057-O1057","v":0},0,0,0,210,998,1048,0,0,1048,210,998,1048,0,0]
["02100998","0210","0998",1049,210,"",998,"",0,0,0,{"$f":"IF(K1059>0, K1058/K1059, 0)","v":0},null,{"$f":"ROUND(M1059*L1058,0)","v":0},0,{"$f":"N1058-O1058","v":0},0,0,0,210,998,1049,0,0,1049,210,998,1049,0,0]
["02100999","0210","0999",1050,210,"Northampton                  ",999,"Total",33754193.43,1,{"$f":"SUM(K1055:K1058)","v":33795786.360000007},{"$f":"SUM(L1055:L1058)","v":0.99999999999999989},{"$f":"VLOOKUP(E1059,town351,24)","v":27881524},{"$f":"SUM(N1055:N1058)","v":27881524},27847210,{"$f":"SUM(P1055:P1058)","v":34314},0.12322239822229947,2858,2772,210,999,1050,2772,33795786.360000007,1050,210,999,1050,2772,33795786.360000007]
["02110211","0211","0211",1051,211,"North Andover                ",211,"North Andover",50577443.990000002,0.98951335904428372,{"$f":"X1060","v":51229167.579999998},{"$f":"IF(K1064>0, K1060/K1064, 0)","v":0.98532154911697323},null,{"$f":"ROUND(M1064*L1060,0)","v":42264063},41726391,{"$f":"N1060-O1060","v":537672},1.2885657904130745,4704,4600,211,211,1051,4600,51229167.579999998,1051,211,211,1051,4600,51229167.579999998]
["02110823","0211","0823",1052,211,"North Andover                ",823,"Greater Lawrence",536008.42346711969,1.0486640955716284E-2,763166.92837508221,{"$f":"IF(K1064>0, K1061/K1064, 0)","v":1.4678450883026786E-2},null,{"$f":"ROUND(M1064*L1061,0)","v":629613},442207,{"$f":"N1061-O1061","v":187406},42.379700004748905,26.000000006719997,34.999999992300005,211,823,1052,34.999999992300005,763166.92837508221,1052,211,823,1052,34.999999992300005,763166.92837508221]
["02110998","0211","0998",1053,211,"",998,null,0,0,0,{"$f":"IF(K1064>0, K1062/K1064, 0)","v":0},null,{"$f":"ROUND(M1064*L1062,0)","v":0},0,{"$f":"N1062-O1062","v":0},0,0,0,211,998,1053,0,0,1053,211,998,1053,0,0]
["02110998","0211","0998",1054,211,"",998,"",0,0,0,{"$f":"IF(K1064>0, K1063/K1064, 0)","v":0},null,{"$f":"ROUND(M1064*L1063,0)","v":0},0,{"$f":"N1063-O1063","v":0},0,0,0,211,998,1054,0,0,1054,211,998,1054,0,0]
["02110999","0211","0999",1055,211,"North Andover                ",999,"Total",51113452.413467124,1,{"$f":"SUM(K1060:K1063)","v":51992334.508375078},{"$f":"SUM(L1060:L1063)","v":1},{"$f":"VLOOKUP(E1064,town351,24)","v":42893676},{"$f":"SUM(N1060:N1063)","v":42893676},42168598,{"$f":"SUM(P1060:P1063)","v":725078},1.7194738131915128,4730.0000000067203,4634.9999999923002,211,999,1055,4634.9999999923002,51992334.508375078,1055,211,999,1055,4634.9999999923002,51992334.508375078]
["02120212","0212","0212",1056,212,"North Attleborough           ",212,"North Attleborough",45073173.739999995,0.89724870928619138,{"$f":"X1065","v":45683012.360000007},{"$f":"IF(K1069>0, K1065/K1069, 0)","v":0.89973155263158733},null,{"$f":"ROUND(M1069*L1065,0)","v":29002278},28270188,{"$f":"N1065-O1065","v":732090},2.5896184347978162,4170,4093,212,212,1056,4093,45683012.360000007,1056,212,212,1056,4093,45683012.360000007]
["02120878","0212","0878",1057,212,"North Attleborough           ",878,"Tri County",5004674.2198324651,9.9625500304131823E-2,4896115.9411111251,{"$f":"IF(K1069>0, K1066/K1069, 0)","v":9.6429499062924265E-2},null,{"$f":"ROUND(M1069*L1066,0)","v":3108344},3138964,{"$f":"N1066-O1066","v":-30620},-0.97548108229339359,283.00000000109998,262.28982300925003,212,878,1057,262.28982300925003,4896115.9411111251,1057,212,878,1057,262.28982300925003,4896115.9411111251]
["02120910","0212","0910",1058,212,"North Attleborough           ",910,"Bristol County",157023.68000314047,3.1257904096767459E-3,194918.94262914179,{"$f":"IF(K1069>0, K1067/K1069, 0)","v":3.838948305488343E-3},null,{"$f":"ROUND(M1069*L1067,0)","v":123746},98486,{"$f":"N1067-O1067","v":25260},25.64831549661881,9.00000000018,11.00000000064,212,910,1058,11.00000000064,194918.94262914179,1058,212,910,1058,11.00000000064,194918.94262914179]
["02120998","0212","0998",1059,212,"",998,"",0,0,0,{"$f":"IF(K1069>0, K1068/K1069, 0)","v":0},null,{"$f":"ROUND(M1069*L1068,0)","v":0},0,{"$f":"N1068-O1068","v":0},0,0,0,212,998,1059,0,0,1059,212,998,1059,0,0]
["02120999","0212","0999",1060,212,"North Attleborough           ",999,"Total",50234871.639835604,1,{"$f":"SUM(K1065:K1068)","v":50774047.243740276},{"$f":"SUM(L1065:L1068)","v":1},{"$f":"VLOOKUP(E1069,town351,24)","v":32234368},{"$f":"SUM(N1065:N1068)","v":32234368},31507638,{"$f":"SUM(P1065:P1068)","v":726730},2.306520088874958,4462.0000000012797,4366.2898230098899,212,999,1060,4366.2898230098899,50774047.243740276,1060,212,999,1060,4366.2898230098899,50774047.243740276]
["02130213","0213","0213",1061,213,"Northborough                 ",213,"Northborough",15653167.560000001,0.58365890145823429,{"$f":"X1070","v":16551243.649999999},{"$f":"IF(K1074>0, K1070/K1074, 0)","v":0.59034803863757757},null,{"$f":"ROUND(M1074*L1070,0)","v":13451109},12913864,{"$f":"N1070-O1070","v":537245},4.1602188159949645,1540,1567,213,213,1061,1567,16551243.649999999,1061,213,213,1061,1567,16551243.649999999]
["02130730","0213","0730",1062,213,"Northborough                 ",730,"Northboro Southboro",10180155.67882039,0.37958697224692034,10339016.548839785,{"$f":"IF(K1074>0, K1071/K1074, 0)","v":0.36877096791750891},null,{"$f":"ROUND(M1074*L1071,0)","v":8402465},8398629,{"$f":"N1071-O1071","v":3836},4.5674121335756108E-2,892.15471966417999,877.53623187784012,213,730,1062,877.53623187784012,10339016.548839785,1062,213,730,1062,877.53623187784012,10339016.548839785]
["02130801","0213","0801",1063,213,"Northborough                 ",801,"Assabet Valley",985710.13990743808,3.6754126294845445E-2,1146156.5701520194,{"$f":"IF(K1074>0, K1072/K1074, 0)","v":4.0880993444913589E-2},null,{"$f":"ROUND(M1074*L1072,0)","v":931475},813211,{"$f":"N1072-O1072","v":118264},14.54284312435518,52.99999999672,58.999999996080007,213,801,1063,58.999999996080007,1146156.5701520194,1063,213,801,1063,58.999999996080007,1146156.5701520194]
["02130998","0213","0998",1064,213,"",998,"",0,0,0,{"$f":"IF(K1074>0, K1073/K1074, 0)","v":0},null,{"$f":"ROUND(M1074*L1073,0)","v":0},0,{"$f":"N1073-O1073","v":0},0,0,0,213,998,1064,0,0,1064,213,998,1064,0,0]
["02130999","0213","0999",1065,213,"Northborough                 ",999,"Total",26819033.378727827,1,{"$f":"SUM(K1070:K1073)","v":28036416.768991802},{"$f":"SUM(L1070:L1073)","v":1.0000000000000002},{"$f":"VLOOKUP(E1074,town351,24)","v":22785049},{"$f":"SUM(N1070:N1073)","v":22785049},22125704,{"$f":"SUM(P1070:P1073)","v":659345},2.9799955743781079,2485.1547196608999,2503.5362318739203,213,999,1065,2503.5362318739203,28036416.768991802,1065,213,999,1065,2503.5362318739203,28036416.768991802]
["02140214","0214","0214",1066,214,"Northbridge                  ",214,"Northbridge",23651358.309999999,0.89585902617360103,{"$f":"X1075","v":24066339.760000002},{"$f":"IF(K1079>0, K1075/K1079, 0)","v":0.89406832050675489},null,{"$f":"ROUND(M1079*L1075,0)","v":12899827},12499433,{"$f":"N1075-O1075","v":400394},3.2032973015655992,2074,2023,214,214,1066,2023,24066339.760000002,1066,214,214,1066,2023,24066339.760000002]
["02140805","0214","0805",1067,214,"Northbridge                  ",805,"Blackstone Valley",2749400.7592252512,0.10414097382639893,2851446.2838666253,{"$f":"IF(K1079>0, K1076/K1079, 0)","v":0.10593167949324508},null,{"$f":"ROUND(M1079*L1076,0)","v":1528407},1453022,{"$f":"N1076-O1076","v":75385},5.1881526914251817,166.999999995,169.00000000124999,214,805,1067,169.00000000124999,2851446.2838666253,1067,214,805,1067,169.00000000124999,2851446.2838666253]
["02140998","0214","0998",1068,214,"",998,"",0,0,0,{"$f":"IF(K1079>0, K1077/K1079, 0)","v":0},null,{"$f":"ROUND(M1079*L1077,0)","v":0},0,{"$f":"N1077-O1077","v":0},0,0,0,214,998,1068,0,0,1068,214,998,1068,0,0]
["02140998","0214","0998",1069,214,"",998,"",0,0,0,{"$f":"IF(K1079>0, K1078/K1079, 0)","v":0},null,{"$f":"ROUND(M1079*L1078,0)","v":0},0,{"$f":"N1078-O1078","v":0},0,0,0,214,998,1069,0,0,1069,214,998,1069,0,0]
["02140999","0214","0999",1070,214,"Northbridge                  ",999,"Total",26400759.069225252,1,{"$f":"SUM(K1075:K1078)","v":26917786.043866627},{"$f":"SUM(L1075:L1078)","v":1},{"$f":"VLOOKUP(E1079,town351,24)","v":14428234},{"$f":"SUM(N1075:N1078)","v":14428234},13952455,{"$f":"SUM(P1075:P1078)","v":475779},3.4100020390676766,2240.9999999950001,2192.0000000012501,214,999,1070,2192.0000000012501,26917786.043866627,1070,214,999,1070,2192.0000000012501,26917786.043866627]
["02150215","0215","0215",1071,215,"North Brookfield             ",215,"North Brookfield",6921441.0200000014,0.88210363451065643,{"$f":"X1080","v":6863578.7700000005},{"$f":"IF(K1084>0, K1080/K1084, 0)","v":0.89942816616468657},null,{"$f":"ROUND(M1084*L1080,0)","v":3115388},2970928,{"$f":"N1080-O1080","v":144460},4.8624537518243454,609,573,215,215,1071,573,6863578.7700000005,1071,215,215,1071,573,6863578.7700000005]
["02150876","0215","0876",1072,215,"North Brookfield             ",876,"Southern Worcester",925075.81681095215,0.11789636548934355,767468.40886194096,{"$f":"IF(K1084>0, K1081/K1084, 0)","v":0.1005718338353135},null,{"$f":"ROUND(M1084*L1081,0)","v":348355},397075,{"$f":"N1081-O1081","v":-48720},-12.269722344645219,53.999999999330001,42.999999996,215,876,1072,42.999999996,767468.40886194096,1072,215,876,1072,42.999999996,767468.40886194096]
["02150998","0215","0998",1073,215,"",998,"",0,0,0,{"$f":"IF(K1084>0, K1082/K1084, 0)","v":0},null,{"$f":"ROUND(M1084*L1082,0)","v":0},0,{"$f":"N1082-O1082","v":0},0,0,0,215,998,1073,0,0,1073,215,998,1073,0,0]
["02150998","0215","0998",1074,215,"",998,"",0,0,0,{"$f":"IF(K1084>0, K1083/K1084, 0)","v":0},null,{"$f":"ROUND(M1084*L1083,0)","v":0},0,{"$f":"N1083-O1083","v":0},0,0,0,215,998,1074,0,0,1074,215,998,1074,0,0]
["02150999","0215","0999",1075,215,"North Brookfield             ",999,"Total",7846516.8368109539,1,{"$f":"SUM(K1080:K1083)","v":7631047.1788619412},{"$f":"SUM(L1080:L1083)","v":1},{"$f":"VLOOKUP(E1084,town351,24)","v":3463743},{"$f":"SUM(N1080:N1083)","v":3463743},3368003,{"$f":"SUM(P1080:P1083)","v":95740},2.8426340475349932,662.99999999933004,615.99999999600004,215,999,1075,615.99999999600004,7631047.1788619412,1075,215,999,1075,615.99999999600004,7631047.1788619412]
["02160216","0216","0216",1076,216,"Northfield                   ",216,"Northfield",14657.8,3.6594473367775439E-3,{"$f":"X1085","v":14952.78},{"$f":"IF(K1089>0, K1085/K1089, 0)","v":3.8565493181352871E-3},null,{"$f":"ROUND(M1089*L1085,0)","v":11661},10697,{"$f":"N1085-O1085","v":964},9.0118724876133491,1,1,216,216,1076,1,14952.78,1076,216,216,1076,1,14952.78]
["02160750","0216","0750",1077,216,"Northfield                   ",750,"Pioneer",3501450.8545496203,0.87416767895175695,3350626.456909019,{"$f":"IF(K1089>0, K1086/K1089, 0)","v":0.8641775093138887},null,{"$f":"ROUND(M1089*L1086,0)","v":2613100},2555341,{"$f":"N1086-O1086","v":57759},2.2603245515960491,310.78751857511998,284.16077170109997,216,750,1077,284.16077170109997,3350626.456909019,1077,216,750,1077,284.16077170109997,3350626.456909019]
["02160818","0216","0818",1078,216,"Northfield                   ",818,"Franklin County",489359.56265594432,0.12217287371146551,511664.0618308885,{"$f":"IF(K1089>0, K1087/K1089, 0)","v":0.13196594136797601},null,{"$f":"ROUND(M1089*L1087,0)","v":399039},357132,{"$f":"N1087-O1087","v":41907},11.734316723228385,26.999999998650001,27.0000000004,216,818,1078,27.0000000004,511664.0618308885,1078,216,818,1078,27.0000000004,511664.0618308885]
["02160998","0216","0998",1079,216,"",998,"",0,0,0,{"$f":"IF(K1089>0, K1088/K1089, 0)","v":0},null,{"$f":"ROUND(M1089*L1088,0)","v":0},0,{"$f":"N1088-O1088","v":0},0,0,0,216,998,1079,0,0,1079,216,998,1079,0,0]
["02160999","0216","0999",1080,216,"Northfield                   ",999,"Total",4005468.2172055645,1,{"$f":"SUM(K1085:K1088)","v":3877243.2987399073},{"$f":"SUM(L1085:L1088)","v":1},{"$f":"VLOOKUP(E1089,town351,24)","v":3023800},{"$f":"SUM(N1085:N1088)","v":3023800},2923170,{"$f":"SUM(P1085:P1088)","v":100630},3.4424956468491397,338.78751857377,312.16077170149998,216,999,1080,312.16077170149998,3877243.2987399073,1080,216,999,1080,312.16077170149998,3877243.2987399073]
["02170217","0217","0217",1081,217,"North Reading                ",217,"North Reading",25345400.252699994,0.97686313383407064,{"$f":"X1090","v":25122867.634200003},{"$f":"IF(K1094>0, K1090/K1094, 0)","v":0.97366735676807326},null,{"$f":"ROUND(M1094*L1090,0)","v":20726365},20909956,{"$f":"N1090-O1090","v":-183591},-0.87800758643394561,2320,2243,217,217,1081,2243,25122867.634200003,1081,217,217,1081,2243,25122867.634200003]
["02170853","0217","0853",1082,217,"North Reading                ",853,"Northeast Metropolitan",600302.24630039243,2.3136866165929422E-2,679443.04158477404,{"$f":"IF(K1094>0, K1091/K1094, 0)","v":2.6332643231926699E-2},null,{"$f":"ROUND(M1094*L1091,0)","v":560541},495249,{"$f":"N1091-O1091","v":65292},13.183671244162028,31.99999999516,34.000000004249998,217,853,1082,34.000000004249998,679443.04158477404,1082,217,853,1082,34.000000004249998,679443.04158477404]
["02170998","0217","0998",1083,217,"",998,null,0,0,0,{"$f":"IF(K1094>0, K1092/K1094, 0)","v":0},null,{"$f":"ROUND(M1094*L1092,0)","v":0},0,{"$f":"N1092-O1092","v":0},0,0,0,217,998,1083,0,0,1083,217,998,1083,0,0]
["02170998","0217","0998",1084,217,"",998,"",0,0,0,{"$f":"IF(K1094>0, K1093/K1094, 0)","v":0},null,{"$f":"ROUND(M1094*L1093,0)","v":0},0,{"$f":"N1093-O1093","v":0},0,0,0,217,998,1084,0,0,1084,217,998,1084,0,0]
["02170999","0217","0999",1085,217,"North Reading                ",999,"Total",25945702.499000385,1,{"$f":"SUM(K1090:K1093)","v":25802310.675784778},{"$f":"SUM(L1090:L1093)","v":1},{"$f":"VLOOKUP(E1094,town351,24)","v":21286906},{"$f":"SUM(N1090:N1093)","v":21286906},21405205,{"$f":"SUM(P1090:P1093)","v":-118299},-0.55266464394991777,2351.9999999951601,2277.0000000042501,217,999,1085,2277.0000000042501,25802310.675784778,1085,217,999,1085,2277.0000000042501,25802310.675784778]
["02180218","0218","0218",1086,218,"Norton                       ",218,"Norton",26443914.049999997,0.92879808751804427,{"$f":"X1095","v":26330388.290000003},{"$f":"IF(K1099>0, K1095/K1099, 0)","v":0.92041586076223347},null,{"$f":"ROUND(M1099*L1095,0)","v":18951479},18367335,{"$f":"N1095-O1095","v":584144},3.1803416227776102,2400,2301,218,218,1086,2301,26330388.290000003,1086,218,218,1086,2301,26330388.290000003]
["02180872","0218","0872",1087,218,"Norton                       ",872,"Southeastern",1887620.9955468578,6.6299518570051785E-2,2117188.811884773,{"$f":"IF(K1099>0, K1096/K1099, 0)","v":7.400932113968052E-2},null,{"$f":"ROUND(M1099*L1096,0)","v":1523861},1311098,{"$f":"N1096-O1096","v":212763},16.227848719165159,106.13993399390002,110.20357803392,218,872,1087,110.20357803392,2117188.811884773,1087,218,872,1087,110.20357803392,2117188.811884773]
["02180910","0218","0910",1088,218,"Norton                       ",910,"Bristol County",139576.60441792489,4.902393911903947E-3,159479.1348414669,{"$f":"IF(K1099>0, K1097/K1099, 0)","v":5.574818098086051E-3},null,{"$f":"ROUND(M1099*L1097,0)","v":114786},96947,{"$f":"N1097-O1097","v":17839},18.400775681557963,7.9999999984800008,8.9999999984399999,218,910,1088,8.9999999984399999,159479.1348414669,1088,218,910,1088,8.9999999984399999,159479.1348414669]
[{"$f":"B1098&C1098","v":"02180998"},"0218","0998",1089,218,"",998,"",0,0,0,{"$f":"IF(K1099>0, K1098/K1099, 0)","v":0},null,{"$f":"ROUND(M1099*L1098,0)","v":0},0,{"$f":"N1098-O1098","v":0},0,0,0,{"$f":"VLOOKUP($D1098, foundoptions, VLOOKUP($T$6, foundoptcell, 2, FALSE), FALSE)","v":218},{"$f":"VLOOKUP($D1098, foundoptions, VLOOKUP($T$6, foundoptcell, 2, FALSE)+1, FALSE)","v":998},{"$f":"VLOOKUP($D1098, foundoptions, VLOOKUP($T$6, foundoptcell, 2, FALSE)+2, FALSE)","v":1089},{"$f":"VLOOKUP($D1098, foundoptions, VLOOKUP($T$6, foundoptcell, 2, FALSE)+3, FALSE)","v":0},{"$f":"VLOOKUP($D1098, foundoptions, VLOOKUP($T$6, foundoptcell, 2, FALSE)+4, FALSE)","v":0},1089,218,998,1089,0,0]
["02180999","0218","0999",1090,218,"Norton                       ",999,"Total",28471111.64996478,1,{"$f":"SUM(K1095:K1098)","v":28607056.236726243},{"$f":"SUM(L1095:L1098)","v":1},{"$f":"VLOOKUP(E1099,town351,24)","v":20590126},{"$f":"SUM(N1095:N1098)","v":20590126},19775380,{"$f":"SUM(P1095:P1098)","v":814746},4.120001739536737,2514.1399339923796,{"$f":"W1099","v":2420.2035780323604},218,999,1090,2420.2035780323604,28607056.236726243,{"$f":"D1099","v":1090},218,999,1090,2420.2035780323604,28607056.236726243]
["02190219","0219","0219",1091,219,"Norwell                      ",219,"Norwell",22887277.58972,0.98457959429508679,{"$f":"X1100","v":23347458.345409997},{"$f":"IF(K1104>0, K1100/K1104, 0)","v":0.98217539572778412},null,{"$f":"ROUND(M1104*L1100,0)","v":19261653},18882004,{"$f":"N1100-O1100","v":379649},2.0106393367992084,2153,2138,219,219,1091,2138,23347458.345409997,1091,219,219,1091,2138,23347458.345409997]
["02190873","0219","0873",1092,219,"Norwell                      ",873,"South Shore",358458.68425409723,1.5420405704913171E-2,423711.69913150516,{"$f":"IF(K1104>0, K1101/K1104, 0)","v":1.7824604272215903E-2},null,{"$f":"ROUND(M1104*L1101,0)","v":349562},295728,{"$f":"N1101-O1101","v":53834},18.203890061137262,20.110905730239999,23.000000000669999,219,873,1092,23.000000000669999,423711.69913150516,1092,219,873,1092,23.000000000669999,423711.69913150516]
["02190998","0219","0998",1093,219,"",998,"",0,0,0,{"$f":"IF(K1104>0, K1102/K1104, 0)","v":0},null,{"$f":"ROUND(M1104*L1102,0)","v":0},0,{"$f":"N1102-O1102","v":0},0,0,0,219,998,1093,0,0,1093,219,998,1093,0,0]
["02190998","0219","0998",1094,219,"",998,"",0,0,0,{"$f":"IF(K1104>0, K1103/K1104, 0)","v":0},null,{"$f":"ROUND(M1104*L1103,0)","v":0},0,{"$f":"N1103-O1103","v":0},0,0,0,219,998,1094,0,0,1094,219,998,1094,0,0]
["02190999","0219","0999",1095,219,"Norwell                      ",999,"Total",23245736.273974098,1,{"$f":"SUM(K1100:K1103)","v":23771170.044541501},{"$f":"SUM(L1100:L1103)","v":1},{"$f":"VLOOKUP(E1104,town351,24)","v":19611215},{"$f":"SUM(N1100:N1103)","v":19611215},19177732,{"$f":"SUM(P1100:P1103)","v":433483},{"$f":"IF(O1104>0,P1104*100/O1104,IF(P1104>0,100,0))","v":2.2603454881943286},2173.1109057302401,2161.0000000006698,219,999,1095,2161.0000000006698,23771170.044541501,1095,219,999,1095,2161.0000000006698,23771170.044541501]
["02200220","0220","0220",1096,220,"Norwood                      ",220,"Norwood",42697305.215410002,0.96226846352151485,{"$f":"X1105","v":43678902.616409995},{"$f":"IF(K1109>0, K1105/K1109, 0)","v":0.95339270787808272},null,{"$f":"ROUND(M1109*L1105,0)","v":34547211},33534173,{"$f":"N1105-O1105","v":1013038},3.0209124286440581,3531,3494,220,220,1096,3494,43678902.616409995,1096,220,220,1096,3494,43678902.616409995]
["02200806","0220","0806",1097,220,"Norwood                      ",806,"Blue Hills",1404773.525342304,3.1659357774620631E-2,1819881.8569014699,{"$f":"IF(K1109>0, K1106/K1109, 0)","v":3.9723115454774034E-2},null,{"$f":"ROUND(M1109*L1106,0)","v":1439410},1103300,{"$f":"N1106-O1106","v":336110},30.464062358379408,77.000000002860006,95.99999999744,220,806,1097,95.99999999744,1819881.8569014699,1097,220,806,1097,95.99999999744,1819881.8569014699]
["02200915","0220","0915",1098,220,"Norwood                      ",915,"Norfolk County",269431.74100563925,6.0721787038646863E-3,315392.89083462063,{"$f":"IF(K1109>0, K1107/K1109, 0)","v":6.8841766671433316E-3},null,{"$f":"ROUND(M1109*L1107,0)","v":249456},211610,{"$f":"N1107-O1107","v":37846},17.884788053494635,15.0000000007,17.00000000012,220,915,1098,17.00000000012,315392.89083462063,1098,220,915,1098,17.00000000012,315392.89083462063]
["02200998","0220","0998",1099,220,"",998,"",0,0,0,{"$f":"IF(K1109>0, K1108/K1109, 0)","v":0},null,{"$f":"ROUND(M1109*L1108,0)","v":0},0,{"$f":"N1108-O1108","v":0},0,0,0,220,998,1099,0,0,1099,220,998,1099,0,0]
["02200999","0220","0999",1100,220,"Norwood                      ",999,"Total",44371510.481757939,1.0000000000000002,{"$f":"SUM(K1105:K1108)","v":45814177.364146084},{"$f":"SUM(L1105:L1108)","v":1},{"$f":"VLOOKUP(E1109,town351,24)","v":36236076},{"$f":"SUM(N1105:N1108)","v":36236077},34849083,{"$f":"SUM(P1105:P1108)","v":1386994},3.9800014250016278,3623.0000000035598,3606.9999999975598,220,999,1100,3606.9999999975598,45814177.364146084,1100,220,999,1100,3606.9999999975598,45814177.364146084]
["02210221","0221","0221",1101,221,"Oak Bluffs                   ",221,"Oak Bluffs",5068644.3499999996,0.63488687195721893,{"$f":"X1110","v":5250477.3999999994},{"$f":"IF(K1114>0, K1110/K1114, 0)","v":0.62167953511650664},null,{"$f":"ROUND(M1114*L1110,0)","v":4061903},3984819,{"$f":"N1110-O1110","v":77084},1.9344416898233019,447,438,221,221,1101,438,5250477.3999999994,1101,221,221,1101,438,5250477.3999999994]
["02210700","0221","0700",1102,221,"Oak Bluffs                   ",700,"Marthas Vineyard",2914895.0392686194,0.36511312804278107,3195155.926205643,{"$f":"IF(K1114>0, K1111/K1114, 0)","v":0.37832046488349336},null,{"$f":"ROUND(M1114*L1111,0)","v":2471854},2291605,{"$f":"N1111-O1111","v":180249},7.8656225658435899,197.00000000189999,207.00000000295003,221,700,1102,207.00000000295003,3195155.926205643,1102,221,700,1102,207.00000000295003,3195155.926205643]
["02210998","0221","0998",1103,221,"",998,"",0,0,0,{"$f":"IF(K1114>0, K1112/K1114, 0)","v":0},null,{"$f":"ROUND(M1114*L1112,0)","v":0},0,{"$f":"N1112-O1112","v":0},0,0,0,221,998,1103,0,0,1103,221,998,1103,0,0]
["02210998","0221","0998",1104,221,"",998,"",0,0,0,{"$f":"IF(K1114>0, K1113/K1114, 0)","v":0},null,{"$f":"ROUND(M1114*L1113,0)","v":0},0,{"$f":"N1113-O1113","v":0},0,0,0,221,998,1104,0,0,1104,221,998,1104,0,0]
["02210999","0221","0999",1105,221,"Oak Bluffs                   ",999,"Total",7983539.389268619,1,{"$f":"SUM(K1110:K1113)","v":8445633.3262056429},{"$f":"SUM(L1110:L1113)","v":1},{"$f":"VLOOKUP(E1114,town351,24)","v":6533757},{"$f":"SUM(N1110:N1113)","v":6533757},6276424,{"$f":"SUM(P1110:P1113)","v":257333},4.0999938818664896,644.00000000189993,645.00000000295006,221,999,1105,645.00000000295006,8445633.3262056429,1105,221,999,1105,645.00000000295006,8445633.3262056429]
["02220222","0222","0222",1106,222,"Oakham                       ",222,"Oakham",14657.8,4.8577458159637793E-3,{"$f":"X1115","v":44858.340000000004},{"$f":"IF(K1119>0, K1115/K1119, 0)","v":1.4407389717130027E-2},null,{"$f":"ROUND(M1119*L1115,0)","v":24647},8004,{"$f":"N1115-O1115","v":16643},207.93353323338332,1,3,222,222,1106,3,44858.340000000004,1106,222,222,1106,3,44858.340000000004]
["02220753","0222","0753",1107,222,"Oakham                       ",753,"Quabbin",2785081.0926732924,0.92300454536516519,2881155.3216158957,{"$f":"IF(K1119>0, K1116/K1119, 0)","v":0.92535585476643378},null,{"$f":"ROUND(M1119*L1116,0)","v":1583006},1520886,{"$f":"N1116-O1116","v":62120},4.0844612942718914,245.86000000647002,244.29850746180003,222,753,1107,244.29850746180003,2881155.3216158957,1107,222,753,1107,244.29850746180003,2881155.3216158957]
["02220860","0222","0860",1108,222,"Oakham                       ",860,"Pathfinder",217668.88354891486,7.2137708818871077E-2,187551.0354412373,{"$f":"IF(K1119>0, K1117/K1119, 0)","v":6.0236755516436209E-2},null,{"$f":"ROUND(M1119*L1117,0)","v":103047},118865,{"$f":"N1117-O1117","v":-15818},-13.307533756782904,11.99999999726,9.9999999983400016,222,860,1108,9.9999999983400016,187551.0354412373,1108,222,860,1108,9.9999999983400016,187551.0354412373]
["02220998","0222","0998",1109,222,"",998,"",0,0,0,{"$f":"IF(K1119>0, K1118/K1119, 0)","v":0},null,{"$f":"ROUND(M1119*L1118,0)","v":0},0,{"$f":"N1118-O1118","v":0},0,0,0,222,998,1109,0,0,1109,222,998,1109,0,0]
["02220999","0222","0999",1110,222,"Oakham                       ",999,"Total",3017407.7762222071,1,{"$f":"SUM(K1115:K1118)","v":3113564.6970571331},{"$f":"SUM(L1115:L1118)","v":1},{"$f":"VLOOKUP(E1119,town351,24)","v":1710700},{"$f":"SUM(N1115:N1118)","v":1710700},1647755,{"$f":"SUM(P1115:P1118)","v":62945},3.8200460626731521,258.86000000373002,257.29850746014006,222,999,1110,257.29850746014006,3113564.6970571331,1110,222,999,1110,257.29850746014006,3113564.6970571331]
["02230223","0223","0223",1111,223,"Orange                       ",223,"Orange",7238630.1499999985,0.4989170413293415,{"$f":"X1120","v":6806427.04},{"$f":"IF(K1124>0, K1120/K1124, 0)","v":0.47023252721210224},null,{"$f":"ROUND(M1124*L1120,0)","v":1964703},2020501,{"$f":"N1120-O1120","v":-55798},-2.7615922981478356,595,532,223,223,1111,532,6806427.04,1111,223,223,1111,532,6806427.04]
["02230755","0223","0755",1112,223,"Orange                       ",755,"Ralph C Mahar",6073842.4978931593,0.41863494414744656,6227931.8933533709,{"$f":"IF(K1124>0, K1121/K1124, 0)","v":0.43026629629697882},null,{"$f":"ROUND(M1124*L1121,0)","v":1797718},1695377,{"$f":"N1121-O1121","v":102341},6.0364744832565265,479.54943273907003,466.52709359633002,223,755,1112,466.52709359633002,6227931.8933533709,1112,223,755,1112,466.52709359633002,6227931.8933533709]
["02230818","0223","0818",1113,223,"Orange                       ",818,"Franklin County",1196212.2643579897,8.2448014523212015E-2,1440239.5814573762,{"$f":"IF(K1124>0, K1122/K1124, 0)","v":9.9501176490918858E-2},null,{"$f":"ROUND(M1124*L1122,0)","v":415731},333896,{"$f":"N1122-O1122","v":81835},24.509128590938495,66.000000001550006,76.000000001520007,223,818,1113,76.000000001520007,1440239.5814573762,1113,223,818,1113,76.000000001520007,1440239.5814573762]
["02230998","0223","0998",1114,223,"",998,"",0,0,0,{"$f":"IF(K1124>0, K1123/K1124, 0)","v":0},null,{"$f":"ROUND(M1124*L1123,0)","v":0},0,{"$f":"N1123-O1123","v":0},0,0,0,223,998,1114,0,0,1114,223,998,1114,0,0]
["02230999","0223","0999",1115,223,"Orange                       ",999,"Total",14508684.912251147,1,{"$f":"SUM(K1120:K1123)","v":14474598.514810748},{"$f":"SUM(L1120:L1123)","v":0.99999999999999989},{"$f":"VLOOKUP(E1124,town351,24)","v":4178152},{"$f":"SUM(N1120:N1123)","v":4178152},4049774,{"$f":"SUM(P1120:P1123)","v":128378},3.1700040545472414,1140.54943274062,1074.5270935978501,223,999,1115,1074.5270935978501,14474598.514810748,1115,223,999,1115,1074.5270935978501,14474598.514810748]
["02240224","0224","0224",1116,224,"Orleans                      ",224,"Orleans",2333514.6599999997,0.44302533172567787,{"$f":"X1125","v":2121258.23},{"$f":"IF(K1129>0, K1125/K1129, 0)","v":0.41811879581733075},null,{"$f":"ROUND(M1129*L1125,0)","v":1750038},1925150,{"$f":"N1125-O1125","v":-175112},-9.0960184920655536,204,183,224,224,1116,183,2121258.23,1116,224,224,1116,183,2121258.23]
["02240660","0224","0660",1117,224,"Orleans                      ",660,"Nauset",2713404.9248424638,0.51514873145661777,2707333.0145869302,{"$f":"IF(K1129>0, K1126/K1129, 0)","v":0.53363932968009797},null,{"$f":"ROUND(M1129*L1126,0)","v":2233550},2238559,{"$f":"N1126-O1126","v":-5009},-0.22376001704668047,232.99999999796,226.0000000041,224,660,1117,226.0000000041,2707333.0145869302,1117,224,660,1117,226.0000000041,2707333.0145869302]
["02240815","0224","0815",1118,224,"Orleans                      ",815,"Cape Cod",220306.67265045142,4.1825936817704232E-2,244747.36448804472,{"$f":"IF(K1129>0, K1127/K1129, 0)","v":4.8241874502571336E-2},null,{"$f":"ROUND(M1129*L1127,0)","v":201917},181753,{"$f":"N1127-O1127","v":20164},11.094177262548623,11.999999999,12.9999999984,224,815,1118,12.9999999984,244747.36448804472,1118,224,815,1118,12.9999999984,244747.36448804472]
["02240998","0224","0998",1119,224,"",998,"",0,0,0,{"$f":"IF(K1129>0, K1128/K1129, 0)","v":0},null,{"$f":"ROUND(M1129*L1128,0)","v":0},0,{"$f":"N1128-O1128","v":0},0,0,0,224,998,1119,0,0,1119,224,998,1119,0,0]
["02240999","0224","0999",1120,224,"Orleans                      ",999,"Total",5267226.2574929157,0.99999999999999989,{"$f":"SUM(K1125:K1128)","v":5073338.6090749744},{"$f":"SUM(L1125:L1128)","v":1},{"$f":"VLOOKUP(E1129,town351,24)","v":4185504},{"$f":"SUM(N1125:N1128)","v":4185505},4345462,{"$f":"SUM(P1125:P1128)","v":-159957},-3.6810125137442231,448.99999999696001,422.00000000249997,224,999,1120,422.00000000249997,5073338.6090749744,1120,224,999,1120,422.00000000249997,5073338.6090749744]
["02250225","0225","0225",1121,225,"Otis                         ",225,"Otis",0,0,{"$f":"X1130","v":0},{"$f":"IF(K1134>0, K1130/K1134, 0)","v":0},null,{"$f":"ROUND(M1134*L1130,0)","v":0},0,{"$f":"N1130-O1130","v":0},0,0,0,225,225,1121,0,0,1121,225,225,1121,0,0]
["02250662","0225","0662",1122,225,"Otis                         ",662,"Farmington River",1323697.1321265169,1,1347522.0402430634,{"$f":"IF(K1134>0, K1131/K1134, 0)","v":1},null,{"$f":"ROUND(M1134*L1131,0)","v":1111706},1092050,{"$f":"N1131-O1131","v":19656},1.7999175861911085,120.26540284303999,117.63888888990002,225,662,1122,117.63888888990002,1347522.0402430634,1122,225,662,1122,117.63888888990002,1347522.0402430634]
["02250998","0225","0998",1123,225,"",998,"",0,0,0,{"$f":"IF(K1134>0, K1132/K1134, 0)","v":0},null,{"$f":"ROUND(M1134*L1132,0)","v":0},0,{"$f":"N1132-O1132","v":0},0,0,0,225,998,1123,0,0,1123,225,998,1123,0,0]
["02250998","0225","0998",1124,225,"",998,"",0,0,0,{"$f":"IF(K1134>0, K1133/K1134, 0)","v":0},null,{"$f":"ROUND(M1134*L1133,0)","v":0},0,{"$f":"N1133-O1133","v":0},0,0,0,225,998,1124,0,0,1124,225,998,1124,0,0]
["02250999","0225","0999",1125,225,"Otis                         ",999,"Total",1323697.1321265169,1,{"$f":"SUM(K1130:K1133)","v":1347522.0402430634},{"$f":"SUM(L1130:L1133)","v":1},{"$f":"VLOOKUP(E1134,town351,24)","v":1111706},{"$f":"SUM(N1130:N1133)","v":1111706},1092050,{"$f":"SUM(P1130:P1133)","v":19656},1.7999175861911085,120.26540284303999,117.63888888990002,225,999,1125,117.63888888990002,1347522.0402430634,1125,225,999,1125,117.63888888990002,1347522.0402430634]
["02260226","0226","0226",1126,226,"Oxford                       ",226,"Oxford",19171590.48,0.89664410921440507,{"$f":"X1135","v":18679880.199999996},{"$f":"IF(K1139>0, K1135/K1139, 0)","v":0.88649869276669524},null,{"$f":"ROUND(M1139*L1135,0)","v":10080418},9891135,{"$f":"N1135-O1135","v":189283},1.9136630932648275,1655,1563,226,226,1126,1563,18679880.199999996,1126,226,226,1126,1563,18679880.199999996]
["02260876","0226","0876",1127,226,"Oxford                       ",876,"Southern Worcester",2209903.3401034879,0.10335589078559487,2391645.7395380591,{"$f":"IF(K1139>0, K1136/K1139, 0)","v":0.11350130723330475},null,{"$f":"ROUND(M1139*L1136,0)","v":1290629},1140148,{"$f":"N1136-O1136","v":150481},13.1983742461505,128.99999999513,134.00000000399999,226,876,1127,134.00000000399999,2391645.7395380591,1127,226,876,1127,134.00000000399999,2391645.7395380591]
["02260998","0226","0998",1128,226,"",998,"",0,0,0,{"$f":"IF(K1139>0, K1137/K1139, 0)","v":0},null,{"$f":"ROUND(M1139*L1137,0)","v":0},0,{"$f":"N1137-O1137","v":0},0,0,0,226,998,1128,0,0,1128,226,998,1128,0,0]
["02260998","0226","0998",1129,226,"",998,"",0,0,0,{"$f":"IF(K1139>0, K1138/K1139, 0)","v":0},null,{"$f":"ROUND(M1139*L1138,0)","v":0},0,{"$f":"N1138-O1138","v":0},0,0,0,226,998,1129,0,0,1129,226,998,1129,0,0]
["02260999","0226","0999",1130,226,"Oxford                       ",999,"Total",21381493.820103489,1,{"$f":"SUM(K1135:K1138)","v":21071525.939538054},{"$f":"SUM(L1135:L1138)","v":1},{"$f":"VLOOKUP(E1139,town351,24)","v":11371047},{"$f":"SUM(N1135:N1138)","v":11371047},11031283,{"$f":"SUM(P1135:P1138)","v":339764},3.0800043838962341,1783.9999999951301,1697.000000004,226,999,1130,1697.000000004,21071525.939538054,1130,226,999,1130,1697.000000004,21071525.939538054]
["02270227","0227","0227",1131,227,"Palmer                       ",227,"Palmer",17071234.920000002,0.84472195632806713,{"$f":"X1140","v":16709438.479999997},{"$f":"IF(K1144>0, K1140/K1144, 0)","v":0.82651895319697533},null,{"$f":"ROUND(M1144*L1140,0)","v":6791117},6857027,{"$f":"N1140-O1140","v":-65910},-0.96120374033819611,1413,1318,227,227,1131,1318,16709438.479999997,1131,227,227,1131,1318,16709438.479999997]
["02270860","0227","0860",1132,227,"Palmer                       ",860,"Pathfinder",3138059.7385728336,0.15527804367193293,3507204.3632982611,{"$f":"IF(K1144>0, K1141/K1144, 0)","v":0.17348104680302479},null,{"$f":"ROUND(M1144*L1141,0)","v":1425412},1260469,{"$f":"N1141-O1141","v":164943},13.085843443987912,173.00000000144001,186.99999999812999,227,860,1132,186.99999999812999,3507204.3632982611,1132,227,860,1132,186.99999999812999,3507204.3632982611]
["02270998","0227","0998",1133,227,"",998,"",0,0,0,{"$f":"IF(K1144>0, K1142/K1144, 0)","v":0},null,{"$f":"ROUND(M1144*L1142,0)","v":0},0,{"$f":"N1142-O1142","v":0},0,0,0,227,998,1133,0,0,1133,227,998,1133,0,0]
["02270998","0227","0998",1134,227,"",998,"",0,0,0,{"$f":"IF(K1144>0, K1143/K1144, 0)","v":0},null,{"$f":"ROUND(M1144*L1143,0)","v":0},0,{"$f":"N1143-O1143","v":0},0,0,0,227,998,1134,0,0,1134,227,998,1134,0,0]
["02270999","0227","0999",1135,227,"Palmer                       ",999,"Total",20209294.658572834,1,{"$f":"SUM(K1140:K1143)","v":20216642.843298256},{"$f":"SUM(L1140:L1143)","v":1},{"$f":"VLOOKUP(E1144,town351,24)","v":8216529},{"$f":"SUM(N1140:N1143)","v":8216529},8117496,{"$f":"SUM(P1140:P1143)","v":99033},1.2199944416356965,1586.00000000144,1504.9999999981301,227,999,1135,1504.9999999981301,20216642.843298256,1135,227,999,1135,1504.9999999981301,20216642.843298256]
["02280228","0228","0228",1136,228,"Paxton                       ",228,"Paxton",14657.8,2.0486781328515591E-3,{"$f":"X1145","v":0},{"$f":"IF(K1149>0, K1145/K1149, 0)","v":0},null,{"$f":"ROUND(M1149*L1145,0)","v":0},9737,{"$f":"N1145-O1145","v":-9737},-100,1,0,228,228,1136,0,0,1136,228,228,1136,0,0]
["02280775","0228","0775",1137,228,"Paxton                       ",775,"Wachusett",6866005.4870882193,0.95964164481958081,7021792.1668371903,{"$f":"IF(K1149>0, K1146/K1149, 0)","v":0.94932671286319537},null,{"$f":"ROUND(M1149*L1146,0)","v":4699650},4560978,{"$f":"N1146-O1146","v":138672},3.0404005456724414,652.47112115616005,645.60106620712008,228,775,1137,645.60106620712008,7021792.1668371903,1137,228,775,1137,645.60106620712008,7021792.1668371903]
["02280876","0228","0876",1138,228,"Paxton                       ",876,"Southern Worcester",274096.53826208116,3.8309677047567596E-2,374810.1532,{"$f":"IF(K1149>0, K1147/K1149, 0)","v":5.0673287136804655E-2},null,{"$f":"ROUND(M1149*L1147,0)","v":250859},182078,{"$f":"N1147-O1147","v":68781},37.775568712310111,15.999999996749999,21.000000000000004,228,876,1138,21.000000000000004,374810.1532,1138,228,876,1138,21.000000000000004,374810.1532]
["02280998","0228","0998",1139,228,"",998,"",0,0,0,{"$f":"IF(K1149>0, K1148/K1149, 0)","v":0},null,{"$f":"ROUND(M1149*L1148,0)","v":0},0,{"$f":"N1148-O1148","v":0},0,0,0,228,998,1139,0,0,1139,228,998,1139,0,0]
["02280999","0228","0999",1140,228,"Paxton                       ",999,"Total",7154759.8253503004,1,{"$f":"SUM(K1145:K1148)","v":7396602.3200371899},{"$f":"SUM(L1145:L1148)","v":1},{"$f":"VLOOKUP(E1149,town351,24)","v":4950509},{"$f":"SUM(N1145:N1148)","v":4950509},4752793,{"$f":"SUM(P1145:P1148)","v":197716},4.1599960275989298,669.47112115291009,666.60106620712008,228,999,1140,666.60106620712008,7396602.3200371899,1140,228,999,1140,666.60106620712008,7396602.3200371899]
["02290229","0229","0229",1141,229,"Peabody                      ",229,"Peabody",72290192.479999989,0.93395646002858657,{"$f":"X1150","v":74033830.659999996},{"$f":"IF(K1154>0, K1150/K1154, 0)","v":0.93007302398090874},null,{"$f":"ROUND(M1154*L1150,0)","v":50930549},50135481,{"$f":"N1150-O1150","v":795068},1.5858389789857605,5983,5877,229,229,1141,5877,74033830.659999996,1141,229,229,1141,5877,74033830.659999996]
["02290817","0229","0817",1142,229,"Peabody                      ",817,"Essex North Shore",5111908.7676184755,6.6043539971413379E-2,5566188.6407636944,{"$f":"IF(K1154>0, K1151/K1154, 0)","v":6.9926976019091133E-2},null,{"$f":"ROUND(M1154*L1151,0)","v":3829182},3545267,{"$f":"N1151-O1151","v":283915},8.0082825919740319,299.00000000580002,307.00000000250003,229,817,1142,307.00000000250003,5566188.6407636944,1142,229,817,1142,307.00000000250003,5566188.6407636944]
["02290998","0229","0998",1143,229,"",998,"",0,0,0,{"$f":"IF(K1154>0, K1152/K1154, 0)","v":0},null,{"$f":"ROUND(M1154*L1152,0)","v":0},0,{"$f":"N1152-O1152","v":0},0,0,0,229,998,1143,0,0,1143,229,998,1143,0,0]
["02290998","0229","0998",1144,229,"",998,"",0,0,0,{"$f":"IF(K1154>0, K1153/K1154, 0)","v":0},null,{"$f":"ROUND(M1154*L1153,0)","v":0},0,{"$f":"N1153-O1153","v":0},0,0,0,229,998,1144,0,0,1144,229,998,1144,0,0]
["02290999","0229","0999",1145,229,"Peabody                      ",999,"Total",77402101.247618467,1,{"$f":"SUM(K1150:K1153)","v":79600019.300763696},{"$f":"SUM(L1150:L1153)","v":0.99999999999999989},{"$f":"VLOOKUP(E1154,town351,24)","v":54759731},{"$f":"SUM(N1150:N1153)","v":54759731},53680748,{"$f":"SUM(P1150:P1153)","v":1078983},2.0099999351722895,6282.0000000057998,6184.0000000025002,229,999,1145,6184.0000000025002,79600019.300763696,1145,229,999,1145,6184.0000000025002,79600019.300763696]
["02300230","0230","0230",1146,230,"Pelham                       ",230,"Pelham",928975.21,0.53409141123952286,{"$f":"X1155","v":782638.4700000002},{"$f":"IF(K1159>0, K1155/K1159, 0)","v":0.5056725705153936},null,{"$f":"ROUND(M1159*L1155,0)","v":645677},690492,{"$f":"N1155-O1155","v":-44815},-6.4902996703799607,84,70,230,230,1146,70,782638.4700000002,1146,230,230,1146,70,782638.4700000002]
["02300605","0230","0605",1147,230,"Pelham                       ",605,"Amherst Pelham",810380.99466921249,0.46590858876047719,765079.39257323812,{"$f":"IF(K1159>0, K1156/K1159, 0)","v":0.49432742948460634},null,{"$f":"ROUND(M1159*L1156,0)","v":631190},602343,{"$f":"N1156-O1156","v":28847},4.7891317737568126,66.999999993040007,61.045899172299997,230,605,1147,61.045899172299997,765079.39257323812,1147,230,605,1147,61.045899172299997,765079.39257323812]
["02300998","0230","0998",1148,230,"",998,"",0,0,0,{"$f":"IF(K1159>0, K1157/K1159, 0)","v":0},null,{"$f":"ROUND(M1159*L1157,0)","v":0},0,{"$f":"N1157-O1157","v":0},0,0,0,230,998,1148,0,0,1148,230,998,1148,0,0]
["02300998","0230","0998",1149,230,"",998,"",0,0,0,{"$f":"IF(K1159>0, K1158/K1159, 0)","v":0},null,{"$f":"ROUND(M1159*L1158,0)","v":0},0,{"$f":"N1158-O1158","v":0},0,0,0,230,998,1149,0,0,1149,230,998,1149,0,0]
["02300999","0230","0999",1150,230,"Pelham                       ",999,"Total",1739356.2046692125,1,{"$f":"SUM(K1155:K1158)","v":1547717.8625732383},{"$f":"SUM(L1155:L1158)","v":1},{"$f":"VLOOKUP(E1159,town351,24)","v":1276867},{"$f":"SUM(N1155:N1158)","v":1276867},1292835,{"$f":"SUM(P1155:P1158)","v":-15968},-1.2351150765565597,150.99999999304001,131.04589917229998,230,999,1150,131.04589917229998,1547717.8625732383,1150,230,999,1150,131.04589917229998,1547717.8625732383]
["02310231","0231","0231",1151,231,"Pembroke                     ",231,"Pembroke",31797805.646810003,1,{"$f":"X1160","v":31570380.367049992},{"$f":"IF(K1164>0, K1160/K1164, 0)","v":1},null,{"$f":"ROUND(M1164*L1160,0)","v":21759351},21249366,{"$f":"N1160-O1160","v":509985},2.4000010165009158,2854,2740,231,231,1151,2740,31570380.367049992,1151,231,231,1151,2740,31570380.367049992]
["02310998","0231","0998",1152,231,"",998,"",0,0,0,{"$f":"IF(K1164>0, K1161/K1164, 0)","v":0},null,{"$f":"ROUND(M1164*L1161,0)","v":0},0,{"$f":"N1161-O1161","v":0},0,0,0,231,998,1152,0,0,1152,231,998,1152,0,0]
[{"$f":"B1162&C1162","v":"02310998"},"0231","0998",1153,231,"",998,"",0,0,0,{"$f":"IF(K1164>0, K1162/K1164, 0)","v":0},null,{"$f":"ROUND(M1164*L1162,0)","v":0},0,{"$f":"N1162-O1162","v":0},0,0,0,{"$f":"VLOOKUP($D1162, foundoptions, VLOOKUP($T$6, foundoptcell, 2, FALSE), FALSE)","v":231},{"$f":"VLOOKUP($D1162, foundoptions, VLOOKUP($T$6, foundoptcell, 2, FALSE)+1, FALSE)","v":998},{"$f":"VLOOKUP($D1162, foundoptions, VLOOKUP($T$6, foundoptcell, 2, FALSE)+2, FALSE)","v":1153},{"$f":"VLOOKUP($D1162, foundoptions, VLOOKUP($T$6, foundoptcell, 2, FALSE)+3, FALSE)","v":0},{"$f":"VLOOKUP($D1162, foundoptions, VLOOKUP($T$6, foundoptcell, 2, FALSE)+4, FALSE)","v":0},1153,231,998,1153,0,0]
["02310998","0231","0998",1154,231,"",998,"",0,0,0,{"$f":"IF(K1164>0, K1163/K1164, 0)","v":0},null,{"$f":"ROUND(M1164*L1163,0)","v":0},0,{"$f":"N1163-O1163","v":0},0,0,{"$f":"W1163","v":0},231,998,1154,0,0,{"$f":"D1163","v":1154},231,998,1154,0,0]
["02310999","0231","0999",1155,231,"Pembroke                     ",999,"Total",31797805.646810003,1,{"$f":"SUM(K1160:K1163)","v":31570380.367049992},{"$f":"SUM(L1160:L1163)","v":1},{"$f":"VLOOKUP(E1164,town351,24)","v":21759351},{"$f":"SUM(N1160:N1163)","v":21759351},21249366,{"$f":"SUM(P1160:P1163)","v":509985},2.4000010165009158,2854,2740,231,999,1155,2740,31570380.367049992,1155,231,999,1155,2740,31570380.367049992]
["02320232","0232","0232",1156,232,"Pepperell                    ",232,"Pepperell",0,0,{"$f":"X1165","v":0},{"$f":"IF(K1169>0, K1165/K1169, 0)","v":0},null,{"$f":"ROUND(M1169*L1165,0)","v":0},0,{"$f":"N1165-O1165","v":0},0,0,0,232,232,1156,0,0,1156,232,232,1156,0,0]
["02320735","0232","0735",1157,232,"Pepperell                    ",735,"North Middlesex",16374452.449649014,0.88070690239138794,15947332.454494171,{"$f":"IF(K1169>0, K1166/K1169, 0)","v":0.8917738831618619},null,{"$f":"ROUND(M1169*L1166,0)","v":10340397},9801394,{"$f":"N1166-O1166","v":539003},5.4992483722213388,1514.37988129942,1424.9012633105999,232,735,1157,1424.9012633105999,15947332.454494171,1157,232,735,1157,1424.9012633105999,15947332.454494171]
["02320852","0232","0852",1158,232,"Pepperell                    ",852,"Nashoba Valley",2217944.6409010645,0.11929309760861201,1935376.1060565349,{"$f":"IF(K1169>0, K1167/K1169, 0)","v":0.10822611683813821},null,{"$f":"ROUND(M1169*L1167,0)","v":1254916},1327614,{"$f":"N1167-O1167","v":-72698},-5.4758386097163783,127.99999999722,108.99999999695001,232,852,1158,108.99999999695001,1935376.1060565349,1158,232,852,1158,108.99999999695001,1935376.1060565349]
["02320998","0232","0998",1159,232,"",998,"",0,0,0,{"$f":"IF(K1169>0, K1168/K1169, 0)","v":0},null,{"$f":"ROUND(M1169*L1168,0)","v":0},0,{"$f":"N1168-O1168","v":0},{"$f":"IF(O1168>0,P1168*100/O1168,IF(P1168>0,100,0))","v":0},0,0,232,998,1159,0,0,1159,232,998,1159,0,0]
["02320999","0232","0999",1160,232,"Pepperell                    ",999,"Total",18592397.09055008,1,{"$f":"SUM(K1165:K1168)","v":17882708.560550705},{"$f":"SUM(L1165:L1168)","v":1},{"$f":"VLOOKUP(E1169,town351,24)","v":11595313},{"$f":"SUM(N1165:N1168)","v":11595313},11129008,{"$f":"SUM(P1165:P1168)","v":466305},{"$f":"IF(O1169>0,P1169*100/O1169,IF(P1169>0,100,0))","v":4.1899960894987229},1642.37988129664,1533.9012633075499,232,999,1160,1533.9012633075499,17882708.560550705,1160,232,999,1160,1533.9012633075499,17882708.560550705]
["02330233","0233","0233",1161,233,"Peru                         ",233,"Peru",117262.39999999999,0.1009290017587763,{"$f":"X1170","v":134575.02000000002},{"$f":"IF(K1174>0, K1170/K1174, 0)","v":0.11205926846007672},null,{"$f":"ROUND(M1174*L1170,0)","v":64606},58074,{"$f":"N1170-O1170","v":6532},11.247718428212281,8,9,233,233,1161,9,134575.02000000002,1161,233,233,1161,9,134575.02000000002]
["02330635","0233","0635",1162,233,"Peru                         ",635,"Central Berkshire",1044568.1735378329,0.89907099824122383,1066352.1487146965,{"$f":"IF(K1174>0, K1171/K1174, 0)","v":0.88794073153992326},null,{"$f":"ROUND(M1174*L1171,0)","v":511928},517324,{"$f":"N1171-O1171","v":-5396},-1.0430600552071816,90.059431531040005,87.841145828280006,233,635,1162,87.841145828280006,1066352.1487146965,1162,233,635,1162,87.841145828280006,1066352.1487146965]
["02330998","0233","0998",1163,233,"",998,"",0,0,0,{"$f":"IF(K1174>0, K1172/K1174, 0)","v":0},null,{"$f":"ROUND(M1174*L1172,0)","v":0},0,{"$f":"N1172-O1172","v":0},0,0,0,233,998,1163,0,0,1163,233,998,1163,0,0]
["02330998","0233","0998",1164,233,"",998,"",0,0,0,{"$f":"IF(K1174>0, K1173/K1174, 0)","v":0},null,{"$f":"ROUND(M1174*L1173,0)","v":0},0,{"$f":"N1173-O1173","v":0},0,0,0,233,998,1164,0,0,1164,233,998,1164,0,0]
["02330999","0233","0999",1165,233,"Peru                         ",999,"Total",1161830.5735378328,1.0000000000000002,{"$f":"SUM(K1170:K1173)","v":1200927.1687146965},{"$f":"SUM(L1170:L1173)","v":1},{"$f":"VLOOKUP(E1174,town351,24)","v":576534},{"$f":"SUM(N1170:N1173)","v":576534},575398,{"$f":"SUM(P1170:P1173)","v":1136},0.19742856249065863,98.059431531040005,96.841145828280006,233,999,1165,96.841145828280006,1200927.1687146965,1165,233,999,1165,96.841145828280006,1200927.1687146965]
["02340234","0234","0234",1166,234,"Petersham                    ",234,"Petersham",932984.68,0.55835507324580047,{"$f":"X1175","v":859319.13},{"$f":"IF(K1179>0, K1175/K1179, 0)","v":0.50212688932499416},null,{"$f":"ROUND(M1179*L1175,0)","v":588398},640821,{"$f":"N1175-O1175","v":-52423},-8.1805995746081983,79,67,234,234,1166,67,859319.13,1166,234,234,1166,67,859319.13]
["02340755","0234","0755",1167,234,"Petersham                    ",755,"Ralph C Mahar",686166.30729894608,0.41064386906192657,763423.90948046849,{"$f":"IF(K1179>0, K1176/K1179, 0)","v":0.44609232998659482},null,{"$f":"ROUND(M1179*L1176,0)","v":522736},471294,{"$f":"N1176-O1176","v":51442},10.91505514604472,54.17504051908,57.187192116209999,234,755,1167,57.187192116209999,763423.90948046849,1167,234,755,1167,57.187192116209999,763423.90948046849]
["02340832","0234","0832",1168,234,"Petersham                    ",832,"Montachusett",51801.287883980556,3.1001057692272887E-2,88615.480186098226,{"$f":"IF(K1179>0, K1177/K1179, 0)","v":5.1780780688411021E-2},null,{"$f":"ROUND(M1179*L1177,0)","v":60677},35580,{"$f":"N1177-O1177","v":25097},70.536818437324342,3.0000000051,4.9999999942800004,234,832,1168,4.9999999942800004,88615.480186098226,1168,234,832,1168,4.9999999942800004,88615.480186098226]
["02340998","0234","0998",1169,234,"",998,"",0,0,0,{"$f":"IF(K1179>0, K1178/K1179, 0)","v":0},null,{"$f":"ROUND(M1179*L1178,0)","v":0},0,{"$f":"N1178-O1178","v":0},0,0,0,234,998,1169,0,0,1169,234,998,1169,0,0]
["02340999","0234","0999",1170,234,"Petersham                    ",999,"Total",1670952.2751829268,0.99999999999999989,{"$f":"SUM(K1175:K1178)","v":1711358.5196665667},{"$f":"SUM(L1175:L1178)","v":1},{"$f":"VLOOKUP(E1179,town351,24)","v":1171811},{"$f":"SUM(N1175:N1178)","v":1171811},1147695,{"$f":"SUM(P1175:P1178)","v":24116},2.1012551244015176,136.17504052417999,129.18719211049,234,999,1170,129.18719211049,1711358.5196665667,1170,234,999,1170,129.18719211049,1711358.5196665667]
["02350235","0235","0235",1171,235,"Phillipston                  ",235,"Phillipston",0,0,{"$f":"X1180","v":0},{"$f":"IF(K1184>0, K1180/K1184, 0)","v":0},null,{"$f":"ROUND(M1184*L1180,0)","v":0},0,{"$f":"N1180-O1180","v":0},0,0,0,235,235,1171,0,0,1171,235,235,1171,0,0]
["02350720","0235","0720",1172,235,"Phillipston                  ",720,"Narragansett",2298730.1581257191,0.86939012678844585,2082745.6501935776,{"$f":"IF(K1184>0, K1181/K1184, 0)","v":0.86717426146207943},null,{"$f":"ROUND(M1184*L1181,0)","v":1298409},1246625,{"$f":"N1181-O1181","v":51784},4.153935626190715,196.94117646840002,175.71842316572,235,720,1172,175.71842316572,2082745.6501935776,1172,235,720,1172,175.71842316572,2082745.6501935776]
["02350832","0235","0832",1173,235,"Phillipston                  ",832,"Montachusett",345341.91871888441,0.13060987321155418,319015.72898067493,{"$f":"IF(K1184>0, K1182/K1184, 0)","v":0.13282573853792065},null,{"$f":"ROUND(M1184*L1182,0)","v":198878},187283,{"$f":"N1182-O1182","v":11595},6.1911652419066332,20.0000000046,17.999999996939998,235,832,1173,17.999999996939998,319015.72898067493,1173,235,832,1173,17.999999996939998,319015.72898067493]
["02350998","0235","0998",1174,235,"",998,"",0,0,0,{"$f":"IF(K1184>0, K1183/K1184, 0)","v":0},null,{"$f":"ROUND(M1184*L1183,0)","v":0},0,{"$f":"N1183-O1183","v":0},0,0,0,235,998,1174,0,0,1174,235,998,1174,0,0]
["02350999","0235","0999",1175,235,"Phillipston                  ",999,"Total",2644072.0768446033,1,{"$f":"SUM(K1180:K1183)","v":2401761.3791742525},{"$f":"SUM(L1180:L1183)","v":1},{"$f":"VLOOKUP(E1184,town351,24)","v":1497287},{"$f":"SUM(N1180:N1183)","v":1497287},1433908,{"$f":"SUM(P1180:P1183)","v":63379},4.4200185785977899,216.94117647300001,193.71842316266,235,999,1175,193.71842316266,2401761.3791742525,1175,235,999,1175,193.71842316266,2401761.3791742525]
["02360236","0236","0236",1176,236,"Pittsfield                   ",236,"Pittsfield",76463876.149999991,1,{"$f":"X1185","v":79110404.659999996},{"$f":"IF(K1189>0, K1185/K1189, 0)","v":1},null,{"$f":"ROUND(M1189*L1185,0)","v":29449820},28300807,{"$f":"N1185-O1185","v":1149013},4.0600008331917881,5920,5707,236,236,1176,5707,79110404.659999996,1176,236,236,1176,5707,79110404.659999996]
["02360998","0236","0998",1177,236,"",998,"",0,0,0,{"$f":"IF(K1189>0, K1186/K1189, 0)","v":0},null,{"$f":"ROUND(M1189*L1186,0)","v":0},0,{"$f":"N1186-O1186","v":0},0,0,0,236,998,1177,0,0,1177,236,998,1177,0,0]
["02360998","0236","0998",1178,236,"",998,"",0,0,0,{"$f":"IF(K1189>0, K1187/K1189, 0)","v":0},null,{"$f":"ROUND(M1189*L1187,0)","v":0},0,{"$f":"N1187-O1187","v":0},0,0,0,236,998,1178,0,0,1178,236,998,1178,0,0]
["02360998","0236","0998",1179,236,"",998,"",0,0,0,{"$f":"IF(K1189>0, K1188/K1189, 0)","v":0},null,{"$f":"ROUND(M1189*L1188,0)","v":0},0,{"$f":"N1188-O1188","v":0},0,0,0,236,998,1179,0,0,1179,236,998,1179,0,0]
["02360999","0236","0999",1180,236,"Pittsfield                   ",999,"Total",76463876.149999991,1,{"$f":"SUM(K1185:K1188)","v":79110404.659999996},{"$f":"SUM(L1185:L1188)","v":1},{"$f":"VLOOKUP(E1189,town351,24)","v":29449820},{"$f":"SUM(N1185:N1188)","v":29449820},28300807,{"$f":"SUM(P1185:P1188)","v":1149013},4.0600008331917881,5920,5707,236,999,1180,5707,79110404.659999996,1180,236,999,1180,5707,79110404.659999996]
["02370237","0237","0237",1181,237,"Plainfield                   ",237,"Plainfield",43973.400000000009,5.7037434144225914E-2,{"$f":"X1190","v":59811.12},{"$f":"IF(K1194>0, K1190/K1194, 0)","v":8.3587649171039322E-2},null,{"$f":"ROUND(M1194*L1190,0)","v":47653},31321,{"$f":"N1190-O1190","v":16332},52.143928993327158,3,4,237,237,1181,4,59811.12,1181,237,237,1181,4,59811.12]
["02370717","0237","0717",1182,237,"Plainfield                   ",717,"Mohawk Trail",726983.44018337945,0.94296256585577409,655738.61244447704,{"$f":"IF(K1194>0, K1191/K1194, 0)","v":0.91641235082896066},null,{"$f":"ROUND(M1194*L1191,0)","v":522439},517817,{"$f":"N1191-O1191","v":4622},0.8925933293035957,62.814814815600002,55.305588585600006,237,717,1182,55.305588585600006,655738.61244447704,1182,237,717,1182,55.305588585600006,655738.61244447704]
["02370998","0237","0998",1183,237,"",998,"",0,0,0,{"$f":"IF(K1194>0, K1192/K1194, 0)","v":0},null,{"$f":"ROUND(M1194*L1192,0)","v":0},0,{"$f":"N1192-O1192","v":0},0,0,0,237,998,1183,0,0,1183,237,998,1183,0,0]
["02370998","0237","0998",1184,237,"",998,"",0,0,0,{"$f":"IF(K1194>0, K1193/K1194, 0)","v":0},null,{"$f":"ROUND(M1194*L1193,0)","v":0},0,{"$f":"N1193-O1193","v":0},0,0,0,237,998,1184,0,0,1184,237,998,1184,0,0]
["02370999","0237","0999",1185,237,"Plainfield                   ",999,"Total",770956.84018337948,1,{"$f":"SUM(K1190:K1193)","v":715549.73244447703},{"$f":"SUM(L1190:L1193)","v":1},{"$f":"VLOOKUP(E1194,town351,24)","v":570092},{"$f":"SUM(N1190:N1193)","v":570092},549138,{"$f":"SUM(P1190:P1193)","v":20954},3.8157985788636006,65.814814815600002,59.305588585600006,237,999,1185,59.305588585600006,715549.73244447703,1185,237,999,1185,59.305588585600006,715549.73244447703]
["02380238","0238","0238",1186,238,"Plainville                   ",238,"Plainville",7517996.1499999994,0.49476437511616228,{"$f":"X1195","v":7127762.9100000001},{"$f":"IF(K1199>0, K1195/K1199, 0)","v":0.47296449033286542},null,{"$f":"ROUND(M1199*L1195,0)","v":5273871},5427402,{"$f":"N1195-O1195","v":-153531},-2.8288120172413982,716,658,238,238,1186,658,7127762.9100000001,1186,238,238,1186,658,7127762.9100000001]
["02380690","0238","0690",1187,238,"Plainville                   ",690,"King Philip",5924411.8366301432,0.38988952132957777,6168404.9931235043,{"$f":"IF(K1199>0, K1196/K1199, 0)","v":0.4093060558518718},null,{"$f":"ROUND(M1199*L1196,0)","v":4564037},4276960,{"$f":"N1196-O1196","v":287077},6.7121740675620067,534.00000000897001,540.26693029672003,238,690,1187,540.26693029672003,6168404.9931235043,1187,238,690,1187,540.26693029672003,6168404.9931235043]
["02380878","0238","0878",1188,238,"Plainville                   ",878,"Tri County",1626961.2304232684,0.10707141111113644,1625809.491840872,{"$f":"IF(K1199>0, K1197/K1199, 0)","v":0.10788099539731365},null,{"$f":"ROUND(M1199*L1197,0)","v":1202945},1174538,{"$f":"N1197-O1197","v":28407},2.4185679816234127,91.999999997399996,87.09623893525,238,878,1188,87.09623893525,1625809.491840872,1188,238,878,1188,87.09623893525,1625809.491840872]
["02380915","0238","0915",1189,238,"Plainville                   ",915,"Norfolk County",125734.8124857037,8.2746924431235623E-3,148420.18389737952,{"$f":"IF(K1199>0, K1198/K1199, 0)","v":9.8484584179490148E-3},null,{"$f":"ROUND(M1199*L1198,0)","v":109817},90771,{"$f":"N1198-O1198","v":19046},20.982472375538443,7.0000000012400001,7.9999999987199999,238,915,1189,7.9999999987199999,148420.18389737952,1189,238,915,1189,7.9999999987199999,148420.18389737952]
["02380999","0238","0999",1190,238,"Plainville                   ",999,"Total",15195104.029539114,0.99999999999999989,{"$f":"SUM(K1195:K1198)","v":15070397.578861758},{"$f":"SUM(L1195:L1198)","v":0.99999999999999989},{"$f":"VLOOKUP(E1199,town351,24)","v":11150671},{"$f":"SUM(N1195:N1198)","v":11150670},10969671,{"$f":"SUM(P1195:P1198)","v":180999},1.6499947901810363,1349.00000000761,1293.3631692306903,238,999,1190,1293.3631692306903,15070397.578861758,1190,238,999,1190,1293.3631692306903,15070397.578861758]
["02390239","0239","0239",1191,239,"Plymouth                     ",239,"Plymouth",94027629.56190002,1,{"$f":"X1200","v":96767564.539159998},{"$f":"IF(K1204>0, K1200/K1204, 0)","v":1},null,{"$f":"ROUND(M1204*L1200,0)","v":74471293},71603127,{"$f":"N1200-O1200","v":2868166},4.0056434965472949,7951,7708,239,239,1191,7708,96767564.539159998,1191,239,239,1191,7708,96767564.539159998]
["02390998","0239","0998",1192,239,"",998,"",0,0,0,{"$f":"IF(K1204>0, K1201/K1204, 0)","v":0},null,{"$f":"ROUND(M1204*L1201,0)","v":0},0,{"$f":"N1201-O1201","v":0},0,0,0,239,998,1192,0,0,1192,239,998,1192,0,0]
["02390998","0239","0998",1193,239,"",998,"",0,0,0,{"$f":"IF(K1204>0, K1202/K1204, 0)","v":0},null,{"$f":"ROUND(M1204*L1202,0)","v":0},0,{"$f":"N1202-O1202","v":0},0,0,0,239,998,1193,0,0,1193,239,998,1193,0,0]
["02390998","0239","0998",1194,239,"",998,"",0,0,0,{"$f":"IF(K1204>0, K1203/K1204, 0)","v":0},null,{"$f":"ROUND(M1204*L1203,0)","v":0},0,{"$f":"N1203-O1203","v":0},0,0,0,239,998,1194,0,0,1194,239,998,1194,0,0]
["02390999","0239","0999",1195,239,"Plymouth                     ",999,"Total",94027629.56190002,1,{"$f":"SUM(K1200:K1203)","v":96767564.539159998},{"$f":"SUM(L1200:L1203)","v":1},{"$f":"VLOOKUP(E1204,town351,24)","v":74471293},{"$f":"SUM(N1200:N1203)","v":74471293},71603127,{"$f":"SUM(P1200:P1203)","v":2868166},4.0056434965472949,7951,7708,239,999,1195,7708,96767564.539159998,1195,239,999,1195,7708,96767564.539159998]
["02400240","0240","0240",1196,240,"Plympton                     ",240,"Plympton",2429975.0922999997,0.48841456964363339,{"$f":"X1205","v":2366031.9386399998},{"$f":"IF(K1209>0, K1205/K1209, 0)","v":0.48147636126190202},null,{"$f":"ROUND(M1209*L1205,0)","v":1783978},1772432,{"$f":"N1205-O1205","v":11546},0.65142132392103058,227,214,240,240,1196,214,2366031.9386399998,1196,240,240,1196,214,2366031.9386399998]
["02400760","0240","0760",1197,240,"Plympton                     ",760,"Silver Lake",2545255.4665938634,0.51158543035636661,2548086.6536806356,{"$f":"IF(K1209>0, K1206/K1209, 0)","v":0.51852363873809793},null,{"$f":"ROUND(M1209*L1206,0)","v":1921246},1856518,{"$f":"N1206-O1206","v":64728},3.4865269283680527,209.52461799485999,200.40517240694999,240,760,1197,200.40517240694999,2548086.6536806356,1197,240,760,1197,200.40517240694999,2548086.6536806356]
["02400998","0240","0998",1198,240,"",998,"",0,0,0,{"$f":"IF(K1209>0, K1207/K1209, 0)","v":0},null,{"$f":"ROUND(M1209*L1207,0)","v":0},0,{"$f":"N1207-O1207","v":0},0,0,0,240,998,1198,0,0,1198,240,998,1198,0,0]
["02400998","0240","0998",1199,240,"",998,"",0,0,0,{"$f":"IF(K1209>0, K1208/K1209, 0)","v":0},null,{"$f":"ROUND(M1209*L1208,0)","v":0},0,{"$f":"N1208-O1208","v":0},0,0,0,240,998,1199,0,0,1199,240,998,1199,0,0]
["02400999","0240","0999",1200,240,"Plympton                     ",999,"Total",4975230.5588938631,1,{"$f":"SUM(K1205:K1208)","v":4914118.5923206359},{"$f":"SUM(L1205:L1208)","v":1},{"$f":"VLOOKUP(E1209,town351,24)","v":3705224},{"$f":"SUM(N1205:N1208)","v":3705224},3628950,{"$f":"SUM(P1205:P1208)","v":76274},2.1018200856997202,436.52461799486002,414.40517240694999,240,999,1200,414.40517240694999,4914118.5923206359,1200,240,999,1200,414.40517240694999,4914118.5923206359]
["02410241","0241","0241",1201,241,"Princeton                    ",241,"Princeton",0,0,{"$f":"X1210","v":14952.78},{"$f":"IF(K1214>0, K1210/K1214, 0)","v":3.0273596915970191E-3},null,{"$f":"ROUND(M1214*L1210,0)","v":12336},0,{"$f":"N1210-O1210","v":12336},100,0,1,241,241,1201,1,14952.78,1201,241,241,1201,1,14952.78]
["02410775","0241","0775",1202,241,"Princeton                    ",775,"Wachusett",4458716.977715373,0.90217330129398776,4410292.3024059907,{"$f":"IF(K1214>0, K1211/K1214, 0)","v":0.89291363508755606},null,{"$f":"ROUND(M1214*L1211,0)","v":3638491},3678441,{"$f":"N1211-O1211","v":-39950},-1.0860579250829359,423.70838048975997,405.49326227080002,241,775,1202,405.49326227080002,4410292.3024059907,1202,241,775,1202,405.49326227080002,4410292.3024059907]
["02410832","0241","0832",1203,241,"Princeton                    ",832,"Montachusett",483478.68615567288,9.7826698706012225E-2,513969.78575259924,{"$f":"IF(K1214>0, K1212/K1214, 0)","v":0.10405900522084688},null,{"$f":"ROUND(M1214*L1212,0)","v":424025},398870,{"$f":"N1212-O1212","v":25155},6.3065660490886755,28.000000003499999,29.000000004810001,241,832,1203,29.000000004810001,513969.78575259924,1203,241,832,1203,29.000000004810001,513969.78575259924]
["02410998","0241","0998",1204,241,"",998,"",0,0,0,{"$f":"IF(K1214>0, K1213/K1214, 0)","v":0},null,{"$f":"ROUND(M1214*L1213,0)","v":0},0,{"$f":"N1213-O1213","v":0},0,0,0,241,998,1204,0,0,1204,241,998,1204,0,0]
["02410999","0241","0999",1205,241,"Princeton                    ",999,"Total",4942195.6638710462,1,{"$f":"SUM(K1210:K1213)","v":4939214.86815859},{"$f":"SUM(L1210:L1213)","v":1},{"$f":"VLOOKUP(E1214,town351,24)","v":4074852},{"$f":"SUM(N1210:N1213)","v":4074852},4077311,{"$f":"SUM(P1210:P1213)","v":-2459},-6.0309355847518134E-2,451.70838049325999,435.49326227560999,241,999,1205,435.49326227560999,4939214.86815859,1205,241,999,1205,435.49326227560999,4939214.86815859]
["02420242","0242","0242",1206,242,"Provincetown                 ",242,"Provincetown",1297760.2800000003,0.83468807848825899,{"$f":"X1215","v":1357829.1199999996},{"$f":"IF(K1219>0, K1215/K1219, 0)","v":0.86766510683430631},null,{"$f":"ROUND(M1219*L1215,0)","v":1120209},1070652,{"$f":"N1215-O1215","v":49557},4.6286748635410948,97,99,242,242,1206,99,1357829.1199999996,1206,242,242,1206,99,1357829.1199999996]
["02420815","0242","0815",1207,242,"Provincetown                 ",815,"Cape Cod",257024.45150165487,0.16531192151174096,207093.92381591065,{"$f":"IF(K1219>0, K1216/K1219, 0)","v":0.13233489316569366},null,{"$f":"ROUND(M1219*L1216,0)","v":170853},212045,{"$f":"N1216-O1216","v":-41192},-19.426065222004762,14.00000000298,10.99999999962,242,815,1207,10.99999999962,207093.92381591065,1207,242,815,1207,10.99999999962,207093.92381591065]
["02420998","0242","0998",1208,242,"",998,"",0,0,0,{"$f":"IF(K1219>0, K1217/K1219, 0)","v":0},null,{"$f":"ROUND(M1219*L1217,0)","v":0},0,{"$f":"N1217-O1217","v":0},0,0,0,242,998,1208,0,0,1208,242,998,1208,0,0]
["02420998","0242","0998",1209,242,"",998,"",0,0,0,{"$f":"IF(K1219>0, K1218/K1219, 0)","v":0},null,{"$f":"ROUND(M1219*L1218,0)","v":0},0,{"$f":"N1218-O1218","v":0},0,0,0,242,998,1209,0,0,1209,242,998,1209,0,0]
["02420999","0242","0999",1210,242,"Provincetown                 ",999,"Total",1554784.7315016552,1,{"$f":"SUM(K1215:K1218)","v":1564923.0438159104},{"$f":"SUM(L1215:L1218)","v":1},{"$f":"VLOOKUP(E1219,town351,24)","v":1291062},{"$f":"SUM(N1215:N1218)","v":1291062},1282697,{"$f":"SUM(P1215:P1218)","v":8365},0.6521415423907595,111.00000000298,109.99999999962,242,999,1210,109.99999999962,1564923.0438159104,1210,242,999,1210,109.99999999962,1564923.0438159104]
["02430243","0243","0243",1211,243,"Quincy                       ",243,"Quincy",129336079.22404,0.99750640450359596,{"$f":"X1220","v":138447528.00444001},{"$f":"IF(K1224>0, K1220/K1224, 0)","v":0.99786052312371376},null,{"$f":"ROUND(M1224*L1220,0)","v":106595521},101589945,{"$f":"N1220-O1220","v":5005576},4.9272356629388865,9657,9549,243,243,1211,9549,138447528.00444001,1211,243,243,1211,9549,138447528.00444001]
["02430915","0243","0915",1212,243,"Quincy                       ",915,"Norfolk County",323318.08920676709,2.4935954964039851E-3,296840.36784744821,{"$f":"IF(K1224>0, K1221/K1224, 0)","v":2.1394768762862345E-3},null,{"$f":"ROUND(M1224*L1221,0)","v":228548},253957,{"$f":"N1221-O1221","v":-25409},-10.005237107069307,18.00000000084,16.00000000028,243,915,1212,16.00000000028,296840.36784744821,1212,243,915,1212,16.00000000028,296840.36784744821]
["02430998","0243","0998",1213,243,"",998,"",0,0,0,{"$f":"IF(K1224>0, K1222/K1224, 0)","v":0},null,{"$f":"ROUND(M1224*L1222,0)","v":0},0,{"$f":"N1222-O1222","v":0},0,0,0,243,998,1213,0,0,1213,243,998,1213,0,0]
["02430998","0243","0998",1214,243,"",998,"",0,0,0,{"$f":"IF(K1224>0, K1223/K1224, 0)","v":0},null,{"$f":"ROUND(M1224*L1223,0)","v":0},0,{"$f":"N1223-O1223","v":0},0,0,0,243,998,1214,0,0,1214,243,998,1214,0,0]
["02430999","0243","0999",1215,243,"Quincy                       ",999,"Total",129659397.31324677,0.99999999999999989,{"$f":"SUM(K1220:K1223)","v":138744368.37228745},{"$f":"SUM(L1220:L1223)","v":1},{"$f":"VLOOKUP(E1224,town351,24)","v":106824069},{"$f":"SUM(N1220:N1223)","v":106824069},101843902,{"$f":"SUM(P1220:P1223)","v":4980167},4.8900001887201849,9675.0000000008404,9565.0000000002801,243,999,1215,9565.0000000002801,138744368.37228745,1215,243,999,1215,9565.0000000002801,138744368.37228745]
["02440244","0244","0244",1216,244,"Randolph                     ",244,"Randolph",42468258.92028001,0.88961298439502001,{"$f":"X1225","v":44771562.799199991},{"$f":"IF(K1229>0, K1225/K1229, 0)","v":0.88902552707558369},null,{"$f":"ROUND(M1229*L1225,0)","v":24106610},23490641,{"$f":"N1225-O1225","v":615969},2.6221889815607842,3286,3265,244,244,1216,3265,44771562.799199991,1216,244,244,1216,3265,44771562.799199991]
[{"$f":"B1226&C1226","v":"02440806"},"0244","0806",1217,244,"Randolph                     ",806,"Blue Hills",5090023.5527174883,0.10662436272402974,5421731.3654726101,{"$f":"IF(K1229>0, K1226/K1229, 0)","v":0.10765890854579772},null,{"$f":"ROUND(M1229*L1226,0)","v":2919254},2815465,{"$f":"N1226-O1226","v":103789},3.6863892820546518,279.00000000235002,285.99999999872,{"$f":"VLOOKUP($D1226, foundoptions, VLOOKUP($T$6, foundoptcell, 2, FALSE), FALSE)","v":244},{"$f":"VLOOKUP($D1226, foundoptions, VLOOKUP($T$6, foundoptcell, 2, FALSE)+1, FALSE)","v":806},{"$f":"VLOOKUP($D1226, foundoptions, VLOOKUP($T$6, foundoptcell, 2, FALSE)+2, FALSE)","v":1217},{"$f":"VLOOKUP($D1226, foundoptions, VLOOKUP($T$6, foundoptcell, 2, FALSE)+3, FALSE)","v":285.99999999872},{"$f":"VLOOKUP($D1226, foundoptions, VLOOKUP($T$6, foundoptcell, 2, FALSE)+4, FALSE)","v":5421731.3654726101},1217,244,806,1217,285.99999999872,5421731.3654726101]
["02440915","0244","0915",1218,244,"Randolph                     ",915,"Norfolk County",179621.16063761536,3.7626528809500989E-3,166972.70693724114,{"$f":"IF(K1229>0, K1227/K1229, 0)","v":3.3155643786187032E-3},null,{"$f":"ROUND(M1229*L1227,0)","v":89904},99355,{"$f":"N1227-O1227","v":-9451},-9.5123546877358969,9.9999999986399999,{"$f":"W1227","v":9.0000000014000001},244,915,1218,9.0000000014000001,166972.70693724114,{"$f":"D1227","v":1218},244,915,1218,9.0000000014000001,166972.70693724114]
["02440998","0244","0998",1219,244,"",998,"",0,0,0,{"$f":"IF(K1229>0, K1228/K1229, 0)","v":0},null,{"$f":"ROUND(M1229*L1228,0)","v":0},0,{"$f":"N1228-O1228","v":0},0,0,0,244,998,1219,0,0,1219,244,998,1219,0,0]
["02440999","0244","0999",1220,244,"Randolph                     ",999,"Total",47737903.633635119,0.99999999999999989,{"$f":"SUM(K1225:K1228)","v":50360266.871609837},{"$f":"SUM(L1225:L1228)","v":1.0000000000000002},{"$f":"VLOOKUP(E1229,town351,24)","v":27115768},{"$f":"SUM(N1225:N1228)","v":27115768},26405461,{"$f":"SUM(P1225:P1228)","v":710307},2.6900003753011545,3575.00000000099,3560.0000000001201,244,999,1220,3560.0000000001201,50360266.871609837,1220,244,999,1220,3560.0000000001201,50360266.871609837]
["02450245","0245","0245",1221,245,"Raynham                      ",245,"Raynham",0,0,{"$f":"X1230","v":0},{"$f":"IF(K1234>0, K1230/K1234, 0)","v":0},null,{"$f":"ROUND(M1234*L1230,0)","v":0},0,{"$f":"N1230-O1230","v":0},0,0,0,245,245,1221,0,0,1221,245,245,1221,0,0]
["02450625","0245","0625",1222,245,"Raynham                      ",625,"Bridgewater Raynham",23839444.084132094,0.87942587435029729,24247694.511339262,{"$f":"IF(K1234>0, K1231/K1234, 0)","v":0.87785479300144587},null,{"$f":"ROUND(M1234*L1231,0)","v":14890217},14329362,{"$f":"N1231-O1231","v":560855},3.9140263188270352,2212.46112503224,2175.6209221567801,245,625,1222,2175.6209221567801,24247694.511339262,1222,245,625,1222,2175.6209221567801,24247694.511339262]
["02450810","0245","0810",1223,245,"Raynham                      ",810,"Bristol Plymouth",3024259.8819516045,0.1115635239463531,3161198.9327284712,{"$f":"IF(K1234>0, K1232/K1234, 0)","v":0.11444690683598807},null,{"$f":"ROUND(M1234*L1232,0)","v":1941254},1817816,{"$f":"N1232-O1232","v":123438},{"$f":"IF(O1232>0,P1232*100/O1232,IF(P1232>0,100,0))","v":6.7904562397954464},174.65071054640001,175.5181347198,245,810,1223,175.5181347198,3161198.9327284712,1223,245,810,1223,175.5181347198,3161198.9327284712]
["02450910","0245","0910",1224,245,"Raynham                      ",910,"Bristol County",244259.05779731847,9.0106017033495332E-3,212638.84652297923,{"$f":"IF(K1234>0, K1233/K1234, 0)","v":7.6983001625660994E-3},null,{"$f":"ROUND(M1234*L1233,0)","v":130579},146819,{"$f":"N1233-O1233","v":-16240},{"$f":"IF(O1233>0,P1233*100/O1233,IF(P1233>0,100,0))","v":-11.061238668019806},14.00000000112,12.00000000174,245,910,1224,12.00000000174,212638.84652297923,1224,245,910,1224,12.00000000174,212638.84652297923]
["02450999","0245","0999",1225,245,"Raynham                      ",999,"Total",27107963.023881018,1,{"$f":"SUM(K1230:K1233)","v":27621532.290590711},{"$f":"SUM(L1230:L1233)","v":1},{"$f":"VLOOKUP(E1234,town351,24)","v":16962050},{"$f":"SUM(N1230:N1233)","v":16962050},16293997,{"$f":"SUM(P1230:P1233)","v":668053},{"$f":"IF(O1234>0,P1234*100/O1234,IF(P1234>0,100,0))","v":4.0999946176496778},2401.1118355797603,2363.1390568783199,245,999,1225,2363.1390568783199,27621532.290590711,1225,245,999,1225,2363.1390568783199,27621532.290590711]
["02460246","0246","0246",1226,246,"Reading                      ",246,"Reading",42488891.059600003,0.98865091329874255,{"$f":"X1235","v":42274011.335760005},{"$f":"IF(K1239>0, K1235/K1239, 0)","v":0.9846399694471839},null,{"$f":"ROUND(M1239*L1235,0)","v":34876059},35053335,{"$f":"N1235-O1235","v":-177276},-0.50573219352737764,3975,3835,246,246,1226,3835,42274011.335760005,1226,246,246,1226,3835,42274011.335760005]
["02460853","0246","0853",1227,246,"Reading                      ",853,"Northeast Metropolitan",487745.57529789332,1.1349086701257447E-2,659459.4225866386,{"$f":"IF(K1239>0, K1236/K1239, 0)","v":1.5360030552816041E-2},null,{"$f":"ROUND(M1239*L1236,0)","v":544054},402390,{"$f":"N1236-O1236","v":141664},35.20564626357514,26.0000000056,32.999999997719996,246,853,1227,32.999999997719996,659459.4225866386,1227,246,853,1227,32.999999997719996,659459.4225866386]
["02460998","0246","0998",1228,246,"",998,null,0,0,0,{"$f":"IF(K1239>0, K1237/K1239, 0)","v":0},null,{"$f":"ROUND(M1239*L1237,0)","v":0},0,{"$f":"N1237-O1237","v":0},0,0,0,246,998,1228,0,0,1228,246,998,1228,0,0]
["02460998","0246","0998",1229,246,"",998,"",0,0,0,{"$f":"IF(K1239>0, K1238/K1239, 0)","v":0},null,{"$f":"ROUND(M1239*L1238,0)","v":0},0,{"$f":"N1238-O1238","v":0},0,0,0,246,998,1229,0,0,1229,246,998,1229,0,0]
["02460999","0246","0999",1230,246,"Reading                      ",999,"Total",42976636.634897895,1,{"$f":"SUM(K1235:K1238)","v":42933470.758346647},{"$f":"SUM(L1235:L1238)","v":1},{"$f":"VLOOKUP(E1239,town351,24)","v":35420113},{"$f":"SUM(N1235:N1238)","v":35420113},35455725,{"$f":"SUM(P1235:P1238)","v":-35612},-0.10044076097724698,4001.0000000056002,3867.9999999977199,246,999,1230,3867.9999999977199,42933470.758346647,1230,246,999,1230,3867.9999999977199,42933470.758346647]
["02470247","0247","0247",1231,247,"Rehoboth                     ",247,"Rehoboth",0,0,{"$f":"X1240","v":0},{"$f":"IF(K1244>0, K1240/K1244, 0)","v":0},null,{"$f":"ROUND(M1244*L1240,0)","v":0},0,{"$f":"N1240-O1240","v":0},0,0,0,247,247,1231,0,0,1231,247,247,1231,0,0]
["02470650","0247","0650",1232,247,"Rehoboth                     ",650,"Dighton Rehoboth",17980038.904803675,0.92730290129813531,16966699.232000001,{"$f":"IF(K1244>0, K1241/K1244, 0)","v":0.90939420392443526},null,{"$f":"ROUND(M1244*L1241,0)","v":13992526},13687722,{"$f":"N1241-O1241","v":304804},2.2268424212589939,1630.5747922460598,1492.4,247,650,1232,1492.4,16966699.232000001,1232,247,650,1232,1492.4,16966699.232000001]
["02470810","0247","0810",1233,247,"Rehoboth                     ",810,"Bristol Plymouth",955944.21561283618,4.9301886904155864E-2,{"$f":"X1242","v":1300607.5607935928},{"$f":"IF(K1244>0, K1242/K1244, 0)","v":6.9710965061208829E-2},null,{"$f":"ROUND(M1244*L1242,0)","v":1072618},727735,{"$f":"N1242-O1242","v":344883},47.391289411667707,55.2056843712,72.213175421999992,247,810,1233,72.213175421999992,1300607.5607935928,1233,247,810,1233,72.213175421999992,1300607.5607935928]
["02470910","0247","0910",1234,247,"Rehoboth                     ",910,"Bristol County",453623.96442420577,2.3395211797708912E-2,389837.88525828358,{"$f":"IF(K1244>0, K1243/K1244, 0)","v":2.0894831014355904E-2},null,{"$f":"ROUND(M1244*L1243,0)","v":321501},345332,{"$f":"N1243-O1243","v":-23831},-6.9008953702523952,25.99999999884,22.00000000128,247,910,1234,22.00000000128,389837.88525828358,1234,247,910,1234,22.00000000128,389837.88525828358]
["02470999","0247","0999",1235,247,"Rehoboth                     ",999,"Total",19389607.084840715,1,{"$f":"SUM(K1240:K1243)","v":18657144.678051878},{"$f":"SUM(L1240:L1243)","v":0.99999999999999989},{"$f":"VLOOKUP(E1244,town351,24)","v":15386645},{"$f":"SUM(N1240:N1243)","v":15386645},14760789,{"$f":"SUM(P1240:P1243)","v":625856},4.2399901522879295,1711.7804766160998,1586.6131754232802,247,999,1235,1586.6131754232802,18657144.678051878,1235,247,999,1235,1586.6131754232802,18657144.678051878]
["02480248","0248","0248",1236,248,"Revere                       ",248,"Revere",107222329.50896001,0.95569039808097234,{"$f":"X1245","v":119408964.46437},{"$f":"IF(K1249>0, K1245/K1249, 0)","v":0.96015003106319918},null,{"$f":"ROUND(M1249*L1245,0)","v":38458098},36927909,{"$f":"N1245-O1245","v":1530189},4.1437195915966969,7979,7766,248,248,1236,7766,119408964.46437,1236,248,248,1236,7766,119408964.46437]
["02480853","0248","0853",1237,248,"Revere                       ",853,"Northeast Metropolitan",4971252.9778606184,4.4309601919027691E-2,4955937.4792828429,{"$f":"IF(K1249>0, K1246/K1249, 0)","v":3.9849968936800796E-2},null,{"$f":"ROUND(M1249*L1246,0)","v":1596161},1712125,{"$f":"N1246-O1246","v":-115964},-6.7731035993283202,264.99999999645996,248.00000000538,248,853,1237,248.00000000538,4955937.4792828429,1237,248,853,1237,248.00000000538,4955937.4792828429]
["02480998","0248","0998",1238,248,"",998,null,0,0,0,{"$f":"IF(K1249>0, K1247/K1249, 0)","v":0},null,{"$f":"ROUND(M1249*L1247,0)","v":0},0,{"$f":"N1247-O1247","v":0},0,0,0,248,998,1238,0,0,1238,248,998,1238,0,0]
["02480998","0248","0998",1239,248,"",998,"",0,0,0,{"$f":"IF(K1249>0, K1248/K1249, 0)","v":0},null,{"$f":"ROUND(M1249*L1248,0)","v":0},0,{"$f":"N1248-O1248","v":0},0,0,0,248,998,1239,0,0,1239,248,998,1239,0,0]
["02480999","0248","0999",1240,248,"Revere                       ",999,"Total",112193582.48682062,1,{"$f":"SUM(K1245:K1248)","v":124364901.94365284},{"$f":"SUM(L1245:L1248)","v":1},{"$f":"VLOOKUP(E1249,town351,24)","v":40054259},{"$f":"SUM(N1245:N1248)","v":40054259},38640034,{"$f":"SUM(P1245:P1248)","v":1414225},3.6599993674953804,8243.9999999964602,8014.0000000053797,248,999,1240,8014.0000000053797,124364901.94365284,1240,248,999,1240,8014.0000000053797,124364901.94365284]
["02490249","0249","0249",1241,249,"Richmond                     ",249,"Richmond",1449827.3,1,{"$f":"X1250","v":1294266.8799999999},{"$f":"IF(K1254>0, K1250/K1254, 0)","v":1},null,{"$f":"ROUND(M1254*L1250,0)","v":1067770},1196108,{"$f":"N1250-O1250","v":-128338},-10.729633110053607,125,112,249,249,1241,112,1294266.8799999999,1241,249,249,1241,112,1294266.8799999999]
["02490998","0249","0998",1242,249,"",998,"",0,0,0,{"$f":"IF(K1254>0, K1251/K1254, 0)","v":0},null,{"$f":"ROUND(M1254*L1251,0)","v":0},0,{"$f":"N1251-O1251","v":0},0,0,0,249,998,1242,0,0,1242,249,998,1242,0,0]
["02490998","0249","0998",1243,249,"",998,"",0,0,0,{"$f":"IF(K1254>0, K1252/K1254, 0)","v":0},null,{"$f":"ROUND(M1254*L1252,0)","v":0},0,{"$f":"N1252-O1252","v":0},0,0,0,249,998,1243,0,0,1243,249,998,1243,0,0]
["02490998","0249","0998",1244,249,"",998,"",0,0,0,{"$f":"IF(K1254>0, K1253/K1254, 0)","v":0},null,{"$f":"ROUND(M1254*L1253,0)","v":0},0,{"$f":"N1253-O1253","v":0},0,0,0,249,998,1244,0,0,1244,249,998,1244,0,0]
["02490999","0249","0999",1245,249,"Richmond                     ",999,"Total",1449827.3,1,{"$f":"SUM(K1250:K1253)","v":1294266.8799999999},{"$f":"SUM(L1250:L1253)","v":1},{"$f":"VLOOKUP(E1254,town351,24)","v":1067770},{"$f":"SUM(N1250:N1253)","v":1067770},1196108,{"$f":"SUM(P1250:P1253)","v":-128338},-10.729633110053607,125,112,249,999,1245,112,1294266.8799999999,1245,249,999,1245,112,1294266.8799999999]
["02500250","0250","0250",1246,250,"Rochester                    ",250,"Rochester",5386708.8799999999,0.49520751452143491,{"$f":"X1255","v":5247585.0799999991},{"$f":"IF(K1259>0, K1255/K1259, 0)","v":0.49586174828448426},null,{"$f":"ROUND(M1259*L1255,0)","v":3517393},3382851,{"$f":"N1255-O1255","v":134542},3.977177830179337,514,483,250,250,1246,483,5247585.0799999991,1246,250,250,1246,483,5247585.0799999991]
["02500740","0250","0740",1247,250,"Rochester                    ",740,"Old Rochester",4111062.7531180964,0.37793562142776499,3978901.3895506281,{"$f":"IF(K1259>0, K1256/K1259, 0)","v":0.37597961142044761},null,{"$f":"ROUND(M1259*L1256,0)","v":2667009},2581746,{"$f":"N1256-O1256","v":85263},3.3025324722106668,370.34038637952,347.00000000400001,250,740,1247,347.00000000400001,3978901.3895506281,1247,250,740,1247,347.00000000400001,3978901.3895506281]
["02500855","0250","0855",1248,250,"Rochester                    ",855,"Old Colony",1379908.3738294502,0.12685686405080002,1356271.926625096,{"$f":"IF(K1259>0, K1257/K1259, 0)","v":0.12815864029506807},null,{"$f":"ROUND(M1259*L1257,0)","v":909093},866582,{"$f":"N1257-O1257","v":42511},4.9055946234747552,81.348387098130004,77.000000002199997,250,855,1248,77.000000002199997,1356271.926625096,1248,250,855,1248,77.000000002199997,1356271.926625096]
["02500998","0250","0998",1249,250,"",998,"",0,0,0,{"$f":"IF(K1259>0, K1258/K1259, 0)","v":0},null,{"$f":"ROUND(M1259*L1258,0)","v":0},0,{"$f":"N1258-O1258","v":0},0,0,0,250,998,1249,0,0,1249,250,998,1249,0,0]
["02500999","0250","0999",1250,250,"Rochester                    ",999,"Total",10877680.006947547,0.99999999999999989,{"$f":"SUM(K1255:K1258)","v":10582758.396175724},{"$f":"SUM(L1255:L1258)","v":1},{"$f":"VLOOKUP(E1259,town351,24)","v":7093495},{"$f":"SUM(N1255:N1258)","v":7093495},6831179,{"$f":"SUM(P1255:P1258)","v":262316},3.8399813560733804,965.68877347764999,907.00000000619991,250,999,1250,907.00000000619991,10582758.396175724,1250,250,999,1250,907.00000000619991,10582758.396175724]
["02510251","0251","0251",1251,251,"Rockland                     ",251,"Rockland",29202100.0068,0.91827830723012138,{"$f":"X1260","v":29636842.031679999},{"$f":"IF(K1264>0, K1260/K1264, 0)","v":0.91836747570345889},null,{"$f":"ROUND(M1264*L1260,0)","v":14836781},14473503,{"$f":"N1260-O1260","v":363278},2.5099521518736689,2326,2251,251,251,1251,2251,29636842.031679999,1251,251,251,1251,2251,29636842.031679999]
["02510873","0251","0873",1252,251,"Rockland                     ",873,"South Shore",2598825.4608664457,8.1721692769878618E-2,2634381.4336093399,{"$f":"IF(K1264>0, K1261/K1264, 0)","v":8.1632524296541123E-2},null,{"$f":"ROUND(M1264*L1261,0)","v":1318823},1288062,{"$f":"N1261-O1261","v":30761},2.3881614394338162,145.80406654559999,142.99999999758001,251,873,1252,142.99999999758001,2634381.4336093399,1252,251,873,1252,142.99999999758001,2634381.4336093399]
["02510998","0251","0998",1253,251,"",998,"",0,0,0,{"$f":"IF(K1264>0, K1262/K1264, 0)","v":0},null,{"$f":"ROUND(M1264*L1262,0)","v":0},0,{"$f":"N1262-O1262","v":0},0,0,0,251,998,1253,0,0,1253,251,998,1253,0,0]
["02510998","0251","0998",1254,251,"",998,"",0,0,0,{"$f":"IF(K1264>0, K1263/K1264, 0)","v":0},null,{"$f":"ROUND(M1264*L1263,0)","v":0},0,{"$f":"N1263-O1263","v":0},0,0,0,251,998,1254,0,0,1254,251,998,1254,0,0]
["02510999","0251","0999",1255,251,"Rockland                     ",999,"Total",31800925.467666447,1,{"$f":"SUM(K1260:K1263)","v":32271223.465289339},{"$f":"SUM(L1260:L1263)","v":1},{"$f":"VLOOKUP(E1264,town351,24)","v":16155604},{"$f":"SUM(N1260:N1263)","v":16155604},15761565,{"$f":"SUM(P1260:P1263)","v":394039},2.4999992069315451,2471.8040665456001,2393.9999999975798,251,999,1255,2393.9999999975798,32271223.465289339,1255,251,999,1255,2393.9999999975798,32271223.465289339]
["02520252","0252","0252",1256,252,"Rockport                     ",252,"Rockport",7619056.3994999984,0.94889759882957669,{"$f":"X1265","v":6998375.1413199985},{"$f":"IF(K1269>0, K1265/K1269, 0)","v":0.94607730005452961},null,{"$f":"ROUND(M1269*L1265,0)","v":5773659},6285722,{"$f":"N1265-O1265","v":-512063},-8.1464468202698122,665,594,252,252,1256,594,6998375.1413199985,1256,252,252,1256,594,6998375.1413199985]
["02520817","0252","0817",1257,252,"Rockport                     ",817,"Essex North Shore",410320.43620679277,5.1102401170423341E-2,398879.96766171913,{"$f":"IF(K1269>0, K1266/K1269, 0)","v":5.3922699945470408E-2},null,{"$f":"ROUND(M1269*L1266,0)","v":329076},338514,{"$f":"N1266-O1266","v":-9438},-2.7880678494833302,24.000000001049997,21.999999995749999,252,817,1257,21.999999995749999,398879.96766171913,1257,252,817,1257,21.999999995749999,398879.96766171913]
["02520998","0252","0998",1258,252,"",998,null,0,0,0,{"$f":"IF(K1269>0, K1267/K1269, 0)","v":0},null,{"$f":"ROUND(M1269*L1267,0)","v":0},0,{"$f":"N1267-O1267","v":0},0,0,0,252,998,1258,0,0,1258,252,998,1258,0,0]
["02520998","0252","0998",1259,252,"",998,"",0,0,0,{"$f":"IF(K1269>0, K1268/K1269, 0)","v":0},null,{"$f":"ROUND(M1269*L1268,0)","v":0},0,{"$f":"N1268-O1268","v":0},0,0,0,252,998,1259,0,0,1259,252,998,1259,0,0]
["02520999","0252","0999",1260,252,"Rockport                     ",999,"Total",8029376.8357067909,1,{"$f":"SUM(K1265:K1268)","v":7397255.1089817174},{"$f":"SUM(L1265:L1268)","v":1},{"$f":"VLOOKUP(E1269,town351,24)","v":6102735},{"$f":"SUM(N1265:N1268)","v":6102735},6624236,{"$f":"SUM(P1265:P1268)","v":-521501},-7.8726210841521951,689.00000000105001,615.99999999575004,252,999,1260,615.99999999575004,7397255.1089817174,1260,252,999,1260,615.99999999575004,7397255.1089817174]
["02530253","0253","0253",1261,253,"Rowe                         ",253,"Rowe",643874.47,1,{"$f":"X1270","v":580639.88},{"$f":"IF(K1274>0, K1270/K1274, 0)","v":1},null,{"$f":"ROUND(M1274*L1270,0)","v":479028},531196,{"$f":"N1270-O1270","v":-52168},-9.820857084767205,50,43,253,253,1261,43,580639.88,1261,253,253,1261,43,580639.88]
["02530998","0253","0998",1262,253,"",998,"",0,0,0,{"$f":"IF(K1274>0, K1271/K1274, 0)","v":0},null,{"$f":"ROUND(M1274*L1271,0)","v":0},0,{"$f":"N1271-O1271","v":0},0,0,0,253,998,1262,0,0,1262,253,998,1262,0,0]
["02530998","0253","0998",1263,253,"",998,"",0,0,0,{"$f":"IF(K1274>0, K1272/K1274, 0)","v":0},null,{"$f":"ROUND(M1274*L1272,0)","v":0},0,{"$f":"N1272-O1272","v":0},0,0,0,253,998,1263,0,0,1263,253,998,1263,0,0]
["02530998","0253","0998",1264,253,"",998,"",0,0,0,{"$f":"IF(K1274>0, K1273/K1274, 0)","v":0},null,{"$f":"ROUND(M1274*L1273,0)","v":0},0,{"$f":"N1273-O1273","v":0},0,0,0,253,998,1264,0,0,1264,253,998,1264,0,0]
["02530999","0253","0999",1265,253,"Rowe                         ",999,"Total",643874.47,1,{"$f":"SUM(K1270:K1273)","v":580639.88},{"$f":"SUM(L1270:L1273)","v":1},{"$f":"VLOOKUP(E1274,town351,24)","v":479028},{"$f":"SUM(N1270:N1273)","v":479028},531196,{"$f":"SUM(P1270:P1273)","v":-52168},-9.820857084767205,50,43,253,999,1265,43,580639.88,1265,253,999,1265,43,580639.88]
["02540254","0254","0254",1266,254,"Rowley                       ",254,"Rowley",105768.04224000001,1.1940242245512595E-2,{"$f":"X1275","v":107793.08546999999},{"$f":"IF(K1279>0, K1275/K1279, 0)","v":1.3124706988438956E-2},null,{"$f":"ROUND(M1279*L1275,0)","v":88929},87259,{"$f":"N1275-O1275","v":1670},1.9138426981744003,7,7,254,254,1266,7,107793.08546999999,1266,254,254,1266,7,107793.08546999999]
["02540773","0254","0773",1267,254,"Rowley                       ",773,"Triton",8327772.8379895343,0.94012920108291242,7754101.4776973072,{"$f":"IF(K1279>0, K1276/K1279, 0)","v":0.94412651247210555},null,{"$f":"ROUND(M1279*L1276,0)","v":6397134},6870412,{"$f":"N1276-O1276","v":-473278},-6.8886407394491043,731.71597633380009,661.90536851543993,254,773,1267,661.90536851543993,7754101.4776973072,1267,254,773,1267,661.90536851543993,7754101.4776973072]
["02540885","0254","0885",1268,254,"Rowley                       ",885,"Whittier",424574.3962632831,4.7930556671574982E-2,351095.30128838832,{"$f":"IF(K1279>0, K1277/K1279, 0)","v":4.2748780539455425E-2},null,{"$f":"ROUND(M1279*L1277,0)","v":289654},350274,{"$f":"N1277-O1277","v":-60620},-17.306451520809425,23.999999994000003,19.0000000036,254,885,1268,19.0000000036,351095.30128838832,1268,254,885,1268,19.0000000036,351095.30128838832]
["02540998","0254","0998",1269,254,"",998,null,0,0,0,{"$f":"IF(K1279>0, K1278/K1279, 0)","v":0},null,{"$f":"ROUND(M1279*L1278,0)","v":0},0,{"$f":"N1278-O1278","v":0},0,0,0,254,998,1269,0,0,1269,254,998,1269,0,0]
["02540999","0254","0999",1270,254,"Rowley                       ",999,"Total",8858115.2764928173,1,{"$f":"SUM(K1275:K1278)","v":8212989.8644556962},{"$f":"SUM(L1275:L1278)","v":0.99999999999999989},{"$f":"VLOOKUP(E1279,town351,24)","v":6775717},{"$f":"SUM(N1275:N1278)","v":6775717},7307945,{"$f":"SUM(P1275:P1278)","v":-532228},-7.2828681660849934,762.71597632780004,687.90536851903994,254,999,1270,687.90536851903994,8212989.8644556962,1270,254,999,1270,687.90536851903994,8212989.8644556962]
["02550255","0255","0255",1271,255,"Royalston                    ",255,"Royalston",0,0,{"$f":"X1280","v":0},{"$f":"IF(K1284>0, K1280/K1284, 0)","v":0},null,{"$f":"ROUND(M1284*L1280,0)","v":0},0,{"$f":"N1280-O1280","v":0},0,0,0,255,255,1271,0,0,1271,255,255,1271,0,0]
["02550615","0255","0615",1272,255,"Royalston                    ",615,"Athol Royalston",1577019.2756252694,0.87539644557206975,1529575.8276527186,{"$f":"IF(K1284>0, K1281/K1284, 0)","v":0.87792980981650059},null,{"$f":"ROUND(M1284*L1281,0)","v":566852},531019,{"$f":"N1281-O1281","v":35833},6.7479694700189636,128.4598338033,118.43601895174,255,615,1272,118.43601895174,1529575.8276527186,1272,255,615,1272,118.43601895174,1529575.8276527186]
["02550832","0255","0832",1273,255,"Royalston                    ",832,"Montachusett",224472.24698959643,0.12460355442793028,212677.15265378327,{"$f":"IF(K1284>0, K1282/K1284, 0)","v":0.12207019018349936},null,{"$f":"ROUND(M1284*L1282,0)","v":78817},75585,{"$f":"N1282-O1282","v":3232},4.2759806839981476,12.999999992699999,11.999999997959998,255,832,1273,11.999999997959998,212677.15265378327,1273,255,832,1273,11.999999997959998,212677.15265378327]
["02550998","0255","0998",1274,255,"",998,"",0,0,0,{"$f":"IF(K1284>0, K1283/K1284, 0)","v":0},null,{"$f":"ROUND(M1284*L1283,0)","v":0},0,{"$f":"N1283-O1283","v":0},0,0,0,255,998,1274,0,0,1274,255,998,1274,0,0]
["02550999","0255","0999",1275,255,"Royalston                    ",999,"Total",1801491.5226148658,1,{"$f":"SUM(K1280:K1283)","v":1742252.980306502},{"$f":"SUM(L1280:L1283)","v":1},{"$f":"VLOOKUP(E1284,town351,24)","v":645669},{"$f":"SUM(N1280:N1283)","v":645669},606604,{"$f":"SUM(P1280:P1283)","v":39065},6.4399509399872077,141.459833796,130.43601894969999,255,999,1275,130.43601894969999,1742252.980306502,1275,255,999,1275,130.43601894969999,1742252.980306502]
["02560256","0256","0256",1276,256,"Russell                      ",256,"Russell",335521.82,0.11444623581703987,{"$f":"X1285","v":357110.16},{"$f":"IF(K1289>0, K1285/K1289, 0)","v":0.13148125427675117},null,{"$f":"ROUND(M1289*L1285,0)","v":152804},128757,{"$f":"N1285-O1285","v":24047},18.676266144753296,21,22,256,256,1276,22,357110.16,1276,256,256,1276,22,357110.16]
["02560672","0256","0672",1277,256,"Russell                      ",672,"Gateway",2596176.349054541,0.88555376418296017,2358943.6376640298,{"$f":"IF(K1289>0, K1286/K1289, 0)","v":0.86851874572324883},null,{"$f":"ROUND(M1289*L1286,0)","v":1009369},996289,{"$f":"N1286-O1286","v":13080},1.3128720682452582,219.7690557441,191.80327868520001,256,672,1277,191.80327868520001,2358943.6376640298,1277,256,672,1277,191.80327868520001,2358943.6376640298]
["02560998","0256","0998",1278,256,"",998,"",0,0,0,{"$f":"IF(K1289>0, K1287/K1289, 0)","v":0},null,{"$f":"ROUND(M1289*L1287,0)","v":0},0,{"$f":"N1287-O1287","v":0},0,0,0,256,998,1278,0,0,1278,256,998,1278,0,0]
["02560998","0256","0998",1279,256,"",998,"",0,0,0,{"$f":"IF(K1289>0, K1288/K1289, 0)","v":0},null,{"$f":"ROUND(M1289*L1288,0)","v":0},0,{"$f":"N1288-O1288","v":0},0,0,0,256,998,1279,0,0,1279,256,998,1279,0,0]
["02560999","0256","0999",1280,256,"Russell                      ",999,"Total",2931698.1690545408,1,{"$f":"SUM(K1285:K1288)","v":2716053.79766403},{"$f":"SUM(L1285:L1288)","v":1},{"$f":"VLOOKUP(E1289,town351,24)","v":1162173},{"$f":"SUM(N1285:N1288)","v":1162173},1125046,{"$f":"SUM(P1285:P1288)","v":37127},3.3000428426926542,240.7690557441,213.80327868520001,256,999,1280,213.80327868520001,2716053.79766403,1280,256,999,1280,213.80327868520001,2716053.79766403]
[{"$f":"B1290&C1290","v":"02570257"},"0257","0257",1281,257,"Rutland                      ",257,"Rutland",0,0,{"$f":"X1290","v":0},{"$f":"IF(K1294>0, K1290/K1294, 0)","v":0},null,{"$f":"ROUND(M1294*L1290,0)","v":0},0,{"$f":"N1290-O1290","v":0},0,0,0,{"$f":"VLOOKUP($D1290, foundoptions, VLOOKUP($T$6, foundoptcell, 2, FALSE), FALSE)","v":257},{"$f":"VLOOKUP($D1290, foundoptions, VLOOKUP($T$6, foundoptcell, 2, FALSE)+1, FALSE)","v":257},{"$f":"VLOOKUP($D1290, foundoptions, VLOOKUP($T$6, foundoptcell, 2, FALSE)+2, FALSE)","v":1281},{"$f":"VLOOKUP($D1290, foundoptions, VLOOKUP($T$6, foundoptcell, 2, FALSE)+3, FALSE)","v":0},{"$f":"VLOOKUP($D1290, foundoptions, VLOOKUP($T$6, foundoptcell, 2, FALSE)+4, FALSE)","v":0},1281,257,257,1281,0,0]
["02570775","0257","0775",1282,257,"Rutland                      ",775,"Wachusett",16777754.262218516,0.9505035926034423,16579231.5046867,{"$f":"IF(K1294>0, K1291/K1294, 0)","v":0.93743107522314018},null,{"$f":"ROUND(M1294*L1291,0)","v":7707056},7592895,{"$f":"N1291-O1291","v":114161},1.5035240181775198,1594.37684029506,{"$f":"W1291","v":1524.3358507350401},257,775,1282,1524.3358507350401,16579231.5046867,{"$f":"D1291","v":1282},257,775,1282,1524.3358507350401,16579231.5046867]
["02570876","0257","0876",1283,257,"Rutland                      ",876,"Southern Worcester",873682.7157985979,4.9496407396557675E-2,1106582.3571380591,{"$f":"IF(K1294>0, K1292/K1294, 0)","v":6.256892477685988E-2},null,{"$f":"ROUND(M1294*L1292,0)","v":514408},395391,{"$f":"N1292-O1292","v":119017},30.101089807304668,50.999999994790002,62.000000004,257,876,1283,62.000000004,1106582.3571380591,1283,257,876,1283,62.000000004,1106582.3571380591]
["02570998","0257","0998",1284,257,"",998,"",0,0,0,{"$f":"IF(K1294>0, K1293/K1294, 0)","v":0},null,{"$f":"ROUND(M1294*L1293,0)","v":0},0,{"$f":"N1293-O1293","v":0},0,0,0,257,998,1284,0,0,1284,257,998,1284,0,0]
["02570999","0257","0999",1285,257,"Rutland                      ",999,"Total",17651436.978017114,1,{"$f":"SUM(K1290:K1293)","v":17685813.861824758},{"$f":"SUM(L1290:L1293)","v":1},{"$f":"VLOOKUP(E1294,town351,24)","v":8221464},{"$f":"SUM(N1290:N1293)","v":8221464},7988286,{"$f":"SUM(P1290:P1293)","v":233178},2.91899914449733,1645.37684028985,1586.3358507390401,257,999,1285,1586.3358507390401,17685813.861824758,1285,257,999,1285,1586.3358507390401,17685813.861824758]
["02580258","0258","0258",1286,258,"Salem                        ",258,"Salem",59442159.61999999,0.94947872604961292,{"$f":"X1295","v":59973101.910000004},{"$f":"IF(K1299>0, K1295/K1299, 0)","v":0.94298392483370463},null,{"$f":"ROUND(M1299*L1295,0)","v":36940239},35764101,{"$f":"N1295-O1295","v":1176138},3.2885993695186131,4536,4315,258,258,1286,4315,59973101.910000004,1286,258,258,1286,4315,59973101.910000004]
["02580817","0258","0817",1287,258,"Salem                        ",817,"Essex North Shore",3162886.6955864155,5.0521273950387136E-2,3626181.5248435666,{"$f":"IF(K1299>0, K1296/K1299, 0)","v":5.7016075166295394E-2},null,{"$f":"ROUND(M1299*L1296,0)","v":2233535},1902989,{"$f":"N1296-O1296","v":330546},{"$f":"IF(O1296>0,P1296*100/O1296,IF(P1296>0,100,0))","v":17.369832405757467},184.99999999790001,199.999999997,258,817,1287,199.999999997,3626181.5248435666,1287,258,817,1287,199.999999997,3626181.5248435666]
["02580998","0258","0998",1288,258,"",998,null,0,0,0,{"$f":"IF(K1299>0, K1297/K1299, 0)","v":0},null,{"$f":"ROUND(M1299*L1297,0)","v":0},0,{"$f":"N1297-O1297","v":0},{"$f":"IF(O1297>0,P1297*100/O1297,IF(P1297>0,100,0))","v":0},0,0,258,998,1288,0,0,1288,258,998,1288,0,0]
["02580998","0258","0998",1289,258,"",998,"",0,0,0,{"$f":"IF(K1299>0, K1298/K1299, 0)","v":0},null,{"$f":"ROUND(M1299*L1298,0)","v":0},0,{"$f":"N1298-O1298","v":0},{"$f":"IF(O1298>0,P1298*100/O1298,IF(P1298>0,100,0))","v":0},0,0,258,998,1289,0,0,1289,258,998,1289,0,0]
["02580999","0258","0999",1290,258,"Salem                        ",999,"Total",62605046.315586403,1,{"$f":"SUM(K1295:K1298)","v":63599283.43484357},{"$f":"SUM(L1295:L1298)","v":1},{"$f":"VLOOKUP(E1299,town351,24)","v":39173774},{"$f":"SUM(N1295:N1298)","v":39173774},37667090,{"$f":"SUM(P1295:P1298)","v":1506684},{"$f":"IF(O1299>0,P1299*100/O1299,IF(P1299>0,100,0))","v":4.0000010619349675},4720.9999999979,4514.9999999969996,258,999,1290,4514.9999999969996,63599283.43484357,1290,258,999,1290,4514.9999999969996,63599283.43484357]
["02590259","0259","0259",1291,259,"Salisbury                    ",259,"Salisbury",29315.599999999999,2.7149501391535522E-3,{"$f":"X1300","v":29905.56},{"$f":"IF(K1304>0, K1300/K1304, 0)","v":2.80920634792717E-3},null,{"$f":"ROUND(M1304*L1300,0)","v":24672},24185,{"$f":"N1300-O1300","v":487},2.0136448211701468,2,2,259,259,1291,2,29905.56,1291,259,259,1291,2,29905.56]
["02590773","0259","0773",1292,259,"Salisbury                    ",773,"Triton",10255498.031925155,0.94977301535237824,9987373.3946244009,{"$f":"IF(K1304>0, K1301/K1304, 0)","v":0.93817312698032718},null,{"$f":"ROUND(M1304*L1301,0)","v":8239583},8460786,{"$f":"N1301-O1301","v":-221203},-2.614449768614878,901.09467455539993,852.54185624009995,259,773,1292,852.54185624009995,9987373.3946244009,1292,259,773,1292,852.54185624009995,9987373.3946244009]
["02590885","0259","0885",1293,259,"Salisbury                    ",885,"Whittier",513027.39551257464,4.7512034508468151E-2,628275.8021724514,{"$f":"IF(K1304>0, K1302/K1304, 0)","v":5.9017666671745496E-2},null,{"$f":"ROUND(M1304*L1302,0)","v":518328},423248,{"$f":"N1302-O1302","v":95080},22.464370770801043,28.99999999432,33.999999999239996,259,885,1293,33.999999999239996,628275.8021724514,1293,259,885,1293,33.999999999239996,628275.8021724514]
["02590998","0259","0998",1294,259,"",998,null,0,0,0,{"$f":"IF(K1304>0, K1303/K1304, 0)","v":0},null,{"$f":"ROUND(M1304*L1303,0)","v":0},0,{"$f":"N1303-O1303","v":0},0,0,0,259,998,1294,0,0,1294,259,998,1294,0,0]
["02590999","0259","0999",1295,259,"Salisbury                    ",999,"Total",10797841.02743773,1,{"$f":"SUM(K1300:K1303)","v":10645554.756796854},{"$f":"SUM(L1300:L1303)","v":0.99999999999999978},{"$f":"VLOOKUP(E1304,town351,24)","v":8782583},{"$f":"SUM(N1300:N1303)","v":8782583},8908219,{"$f":"SUM(P1300:P1303)","v":-125636},-1.4103380260408955,932.09467454971991,888.54185623933995,259,999,1295,888.54185623933995,10645554.756796854,1295,259,999,1295,888.54185623933995,10645554.756796854]
["02600260","0260","0260",1296,260,"Sandisfield                  ",260,"Sandisfield",0,0,{"$f":"X1305","v":0},{"$f":"IF(K1309>0, K1305/K1309, 0)","v":0},null,{"$f":"ROUND(M1309*L1305,0)","v":0},0,{"$f":"N1305-O1305","v":0},0,0,0,260,260,1296,0,0,1296,260,260,1296,0,0]
["02600662","0260","0662",1297,260,"Sandisfield                  ",662,"Farmington River",965647.90787348303,1,1057971.8497569363,{"$f":"IF(K1309>0, K1306/K1309, 0)","v":1},null,{"$f":"ROUND(M1309*L1306,0)","v":820083},785670,{"$f":"N1306-O1306","v":34413},4.3800832410554049,87.734597156960007,92.361111110099998,260,662,1297,92.361111110099998,1057971.8497569363,1297,260,662,1297,92.361111110099998,1057971.8497569363]
["02600998","0260","0998",1298,260,"",998,"",0,0,0,{"$f":"IF(K1309>0, K1307/K1309, 0)","v":0},null,{"$f":"ROUND(M1309*L1307,0)","v":0},0,{"$f":"N1307-O1307","v":0},0,0,0,260,998,1298,0,0,1298,260,998,1298,0,0]
["02600998","0260","0998",1299,260,"",998,"",0,0,0,{"$f":"IF(K1309>0, K1308/K1309, 0)","v":0},null,{"$f":"ROUND(M1309*L1308,0)","v":0},0,{"$f":"N1308-O1308","v":0},0,0,0,260,998,1299,0,0,1299,260,998,1299,0,0]
["02600999","0260","0999",1300,260,"Sandisfield                  ",999,"Total",965647.90787348303,1,{"$f":"SUM(K1305:K1308)","v":1057971.8497569363},{"$f":"SUM(L1305:L1308)","v":1},{"$f":"VLOOKUP(E1309,town351,24)","v":820083},{"$f":"SUM(N1305:N1308)","v":820083},785670,{"$f":"SUM(P1305:P1308)","v":34413},4.3800832410554049,87.734597156960007,92.361111110099998,260,999,1300,92.361111110099998,1057971.8497569363,1300,260,999,1300,92.361111110099998,1057971.8497569363]
["02610261","0261","0261",1301,261,"Sandwich                     ",261,"Sandwich",28550950.060000002,0.9347621823271608,{"$f":"X1310","v":27638904.289999999},{"$f":"IF(K1314>0, K1310/K1314, 0)","v":0.92177678468500002},null,{"$f":"ROUND(M1314*L1310,0)","v":22802096},23554534,{"$f":"N1310-O1310","v":-752438},-3.1944508008521839,2644,2480,261,261,1301,2480,27638904.289999999,1301,261,261,1301,2480,27638904.289999999]
["02610879","0261","0879",1302,261,"Sandwich                     ",879,"Upper Cape Cod",1992594.1695282639,6.5237817672839163E-2,2345474.5197191867,{"$f":"IF(K1314>0, K1311/K1314, 0)","v":7.8223215314999983E-2},null,{"$f":"ROUND(M1314*L1311,0)","v":1935017},1643890,{"$f":"N1311-O1311","v":291127},17.709639939412003,114.99999999922001,131.518469659,261,879,1302,131.518469659,2345474.5197191867,1302,261,879,1302,131.518469659,2345474.5197191867]
["02610998","0261","0998",1303,261,"",998,"",0,0,0,{"$f":"IF(K1314>0, K1312/K1314, 0)","v":0},null,{"$f":"ROUND(M1314*L1312,0)","v":0},0,{"$f":"N1312-O1312","v":0},0,0,0,261,998,1303,0,0,1303,261,998,1303,0,0]
["02610998","0261","0998",1304,261,"",998,"",0,0,0,{"$f":"IF(K1314>0, K1313/K1314, 0)","v":0},null,{"$f":"ROUND(M1314*L1313,0)","v":0},0,{"$f":"N1313-O1313","v":0},0,0,0,261,998,1304,0,0,1304,261,998,1304,0,0]
["02610999","0261","0999",1305,261,"Sandwich                     ",999,"Total",30543544.229528267,1,{"$f":"SUM(K1310:K1313)","v":29984378.809719186},{"$f":"SUM(L1310:L1313)","v":1},{"$f":"VLOOKUP(E1314,town351,24)","v":24737113},{"$f":"SUM(N1310:N1313)","v":24737113},25198424,{"$f":"SUM(P1310:P1313)","v":-461311},-1.8307136986027379,2758.9999999992201,2611.5184696589999,261,999,1305,2611.5184696589999,29984378.809719186,1305,261,999,1305,2611.5184696589999,29984378.809719186]
["02620262","0262","0262",1306,262,"Saugus                       ",262,"Saugus",33051187.879999995,0.90777201150715192,{"$f":"X1315","v":31864908.979999997},{"$f":"IF(K1319>0, K1315/K1319, 0)","v":0.90365823711140314},null,{"$f":"ROUND(M1319*L1315,0)","v":26288549},26786282,{"$f":"N1315-O1315","v":-497733},-1.85816381683729,2798,2612,262,262,1306,2612,31864908.979999997,1306,262,262,1306,2612,31864908.979999997]
["02620853","0262","0853",1307,262,"Saugus                       ",853,"Northeast Metropolitan",3357940.6908687055,9.2227988492848106E-2,3397215.2074118899,{"$f":"IF(K1319>0, K1316/K1319, 0)","v":9.6341762888596791E-2},null,{"$f":"ROUND(M1319*L1316,0)","v":2802703},2721438,{"$f":"N1316-O1316","v":81265},2.9861051400031893,179.00000000628998,169.99999999562999,262,853,1307,169.99999999562999,3397215.2074118899,1307,262,853,1307,169.99999999562999,3397215.2074118899]
["02620998","0262","0998",1308,262,"",998,null,0,0,0,{"$f":"IF(K1319>0, K1317/K1319, 0)","v":0},null,{"$f":"ROUND(M1319*L1317,0)","v":0},0,{"$f":"N1317-O1317","v":0},0,0,0,262,998,1308,0,0,1308,262,998,1308,0,0]
["02620998","0262","0998",1309,262,"",998,"",0,0,0,{"$f":"IF(K1319>0, K1318/K1319, 0)","v":0},null,{"$f":"ROUND(M1319*L1318,0)","v":0},0,{"$f":"N1318-O1318","v":0},0,0,0,262,998,1309,0,0,1309,262,998,1309,0,0]
["02620999","0262","0999",1310,262,"Saugus                       ",999,"Total",36409128.570868701,1,{"$f":"SUM(K1315:K1318)","v":35262124.187411889},{"$f":"SUM(L1315:L1318)","v":0.99999999999999989},{"$f":"VLOOKUP(E1319,town351,24)","v":29091252},{"$f":"SUM(N1315:N1318)","v":29091252},29507720,{"$f":"SUM(P1315:P1318)","v":-416468},-1.4113865795120735,2977.0000000062901,2781.9999999956299,262,999,1310,2781.9999999956299,35262124.187411889,1310,262,999,1310,2781.9999999956299,35262124.187411889]
["02630263","0263","0263",1311,263,"Savoy                        ",263,"Savoy",635304.58000000007,0.71731032623007929,{"$f":"X1320","v":542332.33000000007},{"$f":"IF(K1324>0, K1320/K1324, 0)","v":0.85404603308937088},null,{"$f":"ROUND(M1324*L1320,0)","v":447424},372887,{"$f":"N1320-O1320","v":74537},19.989165618538593,50,45,263,263,1311,45,542332.33000000007,1311,263,263,1311,45,542332.33000000007]
["02630851","0263","0851",1312,263,"Savoy                        ",851,"Northern Berkshire",250371.47507497499,0.28268967376992066,92683.007566995249,{"$f":"IF(K1324>0, K1321/K1324, 0)","v":0.14595396691062917},null,{"$f":"ROUND(M1324*L1321,0)","v":76464},146954,{"$f":"N1321-O1321","v":-70490},-47.967391156416291,14.00000000116,5.00000000041,263,851,1312,5.00000000041,92683.007566995249,1312,263,851,1312,5.00000000041,92683.007566995249]
["02630998","0263","0998",1313,263,"",998,"",0,0,0,{"$f":"IF(K1324>0, K1322/K1324, 0)","v":0},null,{"$f":"ROUND(M1324*L1322,0)","v":0},0,{"$f":"N1322-O1322","v":0},0,0,0,263,998,1313,0,0,1313,263,998,1313,0,0]
["02630998","0263","0998",1314,263,"",998,"",0,0,0,{"$f":"IF(K1324>0, K1323/K1324, 0)","v":0},null,{"$f":"ROUND(M1324*L1323,0)","v":0},0,{"$f":"N1323-O1323","v":0},0,0,0,263,998,1314,0,0,1314,263,998,1314,0,0]
["02630999","0263","0999",1315,263,"Savoy                        ",999,"Total",885676.05507497513,1,{"$f":"SUM(K1320:K1323)","v":635015.33756699529},{"$f":"SUM(L1320:L1323)","v":1},{"$f":"VLOOKUP(E1324,town351,24)","v":523888},{"$f":"SUM(N1320:N1323)","v":523888},519841,{"$f":"SUM(P1320:P1323)","v":4047},0.77850727433965383,64.000000001160004,50.000000000409997,263,999,1315,50.000000000409997,635015.33756699529,1315,263,999,1315,50.000000000409997,635015.33756699529]
["02640264","0264","0264",1316,264,"Scituate                     ",264,"Scituate",32099035.583470002,0.98298524040554691,{"$f":"X1325","v":30894315.612089995},{"$f":"IF(K1329>0, K1325/K1329, 0)","v":0.98242542272365152},null,{"$f":"ROUND(M1329*L1325,0)","v":25487810},26068183,{"$f":"N1325-O1325","v":-580373},-2.2263653742188323,2991,2790,264,264,1316,2790,30894315.612089995,1316,264,264,1316,2790,30894315.612089995]
["02640873","0264","0873",1317,264,"Scituate                     ",873,"South Shore",555610.96058900259,1.7014759594453095E-2,552667.43364529591,{"$f":"IF(K1329>0, K1326/K1329, 0)","v":1.7574577276348497E-2},null,{"$f":"ROUND(M1329*L1326,0)","v":455951},451221,{"$f":"N1326-O1326","v":4730},1.0482668138229383,31.171903881600002,30.000000000629999,264,873,1317,30.000000000629999,552667.43364529591,1317,264,873,1317,30.000000000629999,552667.43364529591]
["02640998","0264","0998",1318,264,"",998,"",0,0,0,{"$f":"IF(K1329>0, K1327/K1329, 0)","v":0},null,{"$f":"ROUND(M1329*L1327,0)","v":0},0,{"$f":"N1327-O1327","v":0},0,0,0,264,998,1318,0,0,1318,264,998,1318,0,0]
["02640998","0264","0998",1319,264,"",998,"",0,0,0,{"$f":"IF(K1329>0, K1328/K1329, 0)","v":0},null,{"$f":"ROUND(M1329*L1328,0)","v":0},0,{"$f":"N1328-O1328","v":0},0,0,0,264,998,1319,0,0,1319,264,998,1319,0,0]
["02640999","0264","0999",1320,264,"Scituate                     ",999,"Total",32654646.544059005,1,{"$f":"SUM(K1325:K1328)","v":31446983.045735292},{"$f":"SUM(L1325:L1328)","v":1},{"$f":"VLOOKUP(E1329,town351,24)","v":25943761},{"$f":"SUM(N1325:N1328)","v":25943761},26519404,{"$f":"SUM(P1325:P1328)","v":-575643},-2.1706483298040937,3022.1719038816,2820.0000000006298,264,999,1320,2820.0000000006298,31446983.045735292,1320,264,999,1320,2820.0000000006298,31446983.045735292]
["02650265","0265","0265",1321,265,"Seekonk                      ",265,"Seekonk",22173871.389999997,0.92220600218542426,{"$f":"X1330","v":22858887.199999999},{"$f":"IF(K1334>0, K1330/K1334, 0)","v":0.92437926821435523},null,{"$f":"ROUND(M1334*L1330,0)","v":16514693},15952238,{"$f":"N1330-O1330","v":562455},3.5258689094282571,2077,2048,265,265,1321,2048,22858887.199999999,1321,265,265,1321,2048,22858887.199999999]
["02650878","0265","0878",1322,265,"Seekonk                      ",878,"Tri County",1573908.1468475368,6.5458462998298134E-2,1551059.630162573,{"$f":"IF(K1334>0, K1331/K1334, 0)","v":6.2722535587231371E-2},null,{"$f":"ROUND(M1334*L1331,0)","v":1120583},1132295,{"$f":"N1331-O1331","v":-11712},-1.0343594204690474,88.999999998899995,83.091814157450003,265,878,1322,83.091814157450003,1551059.630162573,1322,265,878,1322,83.091814157450003,1551059.630162573]
["02650910","0265","0910",1323,265,"Seekonk                      ",910,"Bristol County",296600.28442106536,1.2335534816277766E-2,318958.26975062385,{"$f":"IF(K1334>0, K1332/K1334, 0)","v":1.2898196198413307E-2},null,{"$f":"ROUND(M1334*L1332,0)","v":230435},213379,{"$f":"N1332-O1332","v":17056},7.9932889365870121,16.999999998660002,18.000000000699998,265,910,1323,18.000000000699998,318958.26975062385,1323,265,910,1323,18.000000000699998,318958.26975062385]
["02650998","0265","0998",1324,265,"",998,"",0,0,0,{"$f":"IF(K1334>0, K1333/K1334, 0)","v":0},null,{"$f":"ROUND(M1334*L1333,0)","v":0},0,{"$f":"N1333-O1333","v":0},0,0,0,265,998,1324,0,0,1324,265,998,1324,0,0]
["02650999","0265","0999",1325,265,"Seekonk                      ",999,"Total",24044379.821268596,1.0000000000000002,{"$f":"SUM(K1330:K1333)","v":24728905.099913199},{"$f":"SUM(L1330:L1333)","v":0.99999999999999989},{"$f":"VLOOKUP(E1334,town351,24)","v":17865711},{"$f":"SUM(N1330:N1333)","v":17865711},17297912,{"$f":"SUM(P1330:P1333)","v":567799},3.2824713179255394,2182.9999999975598,2149.0918141581496,265,999,1325,2149.0918141581496,24728905.099913199,1325,265,999,1325,2149.0918141581496,24728905.099913199]
["02660266","0266","0266",1326,266,"Sharon                       ",266,"Sharon",38206192.104400009,0.99211479935666225,{"$f":"X1335","v":38638373.186679997},{"$f":"IF(K1339>0, K1335/K1339, 0)","v":0.99022368756014845},null,{"$f":"ROUND(M1339*L1335,0)","v":31062235},30736571,{"$f":"N1335-O1335","v":325664},1.0595326329667678,3535,3471,266,266,1326,3471,38638373.186679997,1326,266,266,1326,3471,38638373.186679997]
["02660872","0266","0872",1327,266,"Sharon                       ",872,"Southeastern",195885.19757982442,5.0866258265886291E-3,288707.56517192448,{"$f":"IF(K1339>0, K1336/K1339, 0)","v":7.3989934418255878E-3},null,{"$f":"ROUND(M1339*L1336,0)","v":232098},157588,{"$f":"N1336-O1336","v":74510},47.281518897377971,11.014521448190001,15.027760636559998,266,872,1327,15.027760636559998,288707.56517192448,1327,266,872,1327,15.027760636559998,288707.56517192448]
["02660915","0266","0915",1328,266,"Sharon                       ",915,"Norfolk County",107772.69640225571,2.7985748167490537E-3,92762.614935862206,{"$f":"IF(K1339>0, K1337/K1339, 0)","v":2.3773189980259694E-3},null,{"$f":"ROUND(M1339*L1337,0)","v":74574},86702,{"$f":"N1337-O1337","v":-12128},-13.988143295425711,6.00000000028,4.9999999991999999,266,915,1328,4.9999999991999999,92762.614935862206,1328,266,915,1328,4.9999999991999999,92762.614935862206]
["02660998","0266","0998",1329,266,"",998,"",0,0,0,{"$f":"IF(K1339>0, K1338/K1339, 0)","v":0},null,{"$f":"ROUND(M1339*L1338,0)","v":0},0,{"$f":"N1338-O1338","v":0},0,0,0,266,998,1329,0,0,1329,266,998,1329,0,0]
["02660999","0266","0999",1330,266,"Sharon                       ",999,"Total",38509849.998382092,0.99999999999999989,{"$f":"SUM(K1335:K1338)","v":39019843.366787784},{"$f":"SUM(L1335:L1338)","v":1},{"$f":"VLOOKUP(E1339,town351,24)","v":31368907},{"$f":"SUM(N1335:N1338)","v":31368907},30980861,{"$f":"SUM(P1335:P1338)","v":388046},1.2525345890161026,3552.0145214484701,3491.0277606357599,266,999,1330,3491.0277606357599,39019843.366787784,1330,266,999,1330,3491.0277606357599,39019843.366787784]
["02670267","0267","0267",1331,267,"Sheffield                    ",267,"Sheffield",0,0,{"$f":"X1340","v":0},{"$f":"IF(K1344>0, K1340/K1344, 0)","v":0},null,{"$f":"ROUND(M1344*L1340,0)","v":0},0,{"$f":"N1340-O1340","v":0},0,0,0,267,267,1331,0,0,1331,267,267,1331,0,0]
["02670765","0267","0765",1332,267,"Sheffield                    ",765,"Southern Berkshire",4172289.0411194046,1,4356046.0264194449,{"$f":"IF(K1344>0, K1341/K1344, 0)","v":1},null,{"$f":"ROUND(M1344*L1341,0)","v":3512505},3370279,{"$f":"N1341-O1341","v":142226},4.2200067116105222,355.80403457929003,366.1627906997,267,765,1332,366.1627906997,4356046.0264194449,1332,267,765,1332,366.1627906997,4356046.0264194449]
["02670998","0267","0998",1333,267,"",998,"",0,0,0,{"$f":"IF(K1344>0, K1342/K1344, 0)","v":0},null,{"$f":"ROUND(M1344*L1342,0)","v":0},0,{"$f":"N1342-O1342","v":0},0,0,0,267,998,1333,0,0,1333,267,998,1333,0,0]
["02670998","0267","0998",1334,267,"",998,"",0,0,0,{"$f":"IF(K1344>0, K1343/K1344, 0)","v":0},null,{"$f":"ROUND(M1344*L1343,0)","v":0},0,{"$f":"N1343-O1343","v":0},0,0,0,267,998,1334,0,0,1334,267,998,1334,0,0]
["02670999","0267","0999",1335,267,"Sheffield                    ",999,"Total",4172289.0411194046,1,{"$f":"SUM(K1340:K1343)","v":4356046.0264194449},{"$f":"SUM(L1340:L1343)","v":1},{"$f":"VLOOKUP(E1344,town351,24)","v":3512505},{"$f":"SUM(N1340:N1343)","v":3512505},3370279,{"$f":"SUM(P1340:P1343)","v":142226},4.2200067116105222,355.80403457929003,366.1627906997,267,999,1335,366.1627906997,4356046.0264194449,1335,267,999,1335,366.1627906997,4356046.0264194449]
["02680268","0268","0268",1336,268,"Shelburne                    ",268,"Shelburne",14657.8,6.8048797126195526E-3,{"$f":"X1345","v":0},{"$f":"IF(K1349>0, K1345/K1349, 0)","v":0},null,{"$f":"ROUND(M1349*L1345,0)","v":0},10057,{"$f":"N1345-O1345","v":-10057},-100,1,0,268,268,1336,0,0,1336,268,268,1336,0,0]
["02680717","0268","0717",1337,268,"Shelburne                    ",717,"Mohawk Trail",1885613.2979495712,0.87539546705935989,1875182.3478369866,{"$f":"IF(K1349>0, K1346/K1349, 0)","v":0.85338696897590349},null,{"$f":"ROUND(M1349*L1346,0)","v":1331793},1293693,{"$f":"N1346-O1346","v":38100},2.9450572894805802,162.92592592571,158.15457788256001,268,717,1337,158.15457788256001,1875182.3478369866,1337,268,717,1337,158.15457788256001,1875182.3478369866]
["02680818","0268","0818",1338,268,"Shelburne                    ",818,"Franklin County",253741.99545123041,0.11779965322802062,322158.85376031004,{"$f":"IF(K1349>0, K1347/K1349, 0)","v":0.14661303102409656},null,{"$f":"ROUND(M1349*L1347,0)","v":228804},174089,{"$f":"N1347-O1347","v":54715},31.429326379036009,13.9999999993,17.00000000104,268,818,1338,17.00000000104,322158.85376031004,1338,268,818,1338,17.00000000104,322158.85376031004]
["02680998","0268","0998",1339,268,"",998,"",0,0,0,{"$f":"IF(K1349>0, K1348/K1349, 0)","v":0},null,{"$f":"ROUND(M1349*L1348,0)","v":0},0,{"$f":"N1348-O1348","v":0},0,0,0,268,998,1339,0,0,1339,268,998,1339,0,0]
["02680999","0268","0999",1340,268,"Shelburne                    ",999,"Total",2154013.0934008015,1,{"$f":"SUM(K1345:K1348)","v":2197341.2015972966},{"$f":"SUM(L1345:L1348)","v":1},{"$f":"VLOOKUP(E1349,town351,24)","v":1560597},{"$f":"SUM(N1345:N1348)","v":1560597},1477839,{"$f":"SUM(P1345:P1348)","v":82758},5.5999334162923029,177.92592592501001,175.15457788360001,268,999,1340,175.15457788360001,2197341.2015972966,1340,268,999,1340,175.15457788360001,2197341.2015972966]
["02690269","0269","0269",1341,269,"Sherborn                     ",269,"Sherborn",4086891.646209999,0.40733381334867114,{"$f":"X1350","v":4092250.4348000004},{"$f":"IF(K1354>0, K1350/K1354, 0)","v":0.40174980549488848},null,{"$f":"ROUND(M1354*L1350,0)","v":3376106},3371686,{"$f":"N1350-O1350","v":4420},0.13109168528741999,400,387,269,269,1341,387,4092250.4348000004,1341,269,269,1341,387,4092250.4348000004]
["02690655","0269","0655",1342,269,"Sherborn                     ",655,"Dover Sherborn",5911013.3550732508,0.58914104388105193,6056441.6313542491,{"$f":"IF(K1354>0, K1351/K1354, 0)","v":0.59458097351430317},null,{"$f":"ROUND(M1354*L1351,0)","v":4996564},4876586,{"$f":"N1351-O1351","v":119978},2.4602867661925782,543.25721351851996,542.02574750557005,269,655,1342,542.02574750557005,6056441.6313542491,1342,269,655,1342,542.02574750557005,6056441.6313542491]
["02690878","0269","0878",1343,269,"Sherborn                     ",878,"Tri County",35368.722328999509,3.5251427702767597E-3,37374.930839149485,{"$f":"IF(K1354>0, K1352/K1354, 0)","v":3.6692209908084613E-3},null,{"$f":"ROUND(M1354*L1352,0)","v":30834},29179,{"$f":"N1352-O1352","v":1655},5.6718873162205696,1.9999999959000001,2.0022123889000003,269,878,1343,2.0022123889000003,37374.930839149485,1343,269,878,1343,2.0022123889000003,37374.930839149485]
["02690998","0269","0998",1344,269,"",998,"",0,0,0,{"$f":"IF(K1354>0, K1353/K1354, 0)","v":0},null,{"$f":"ROUND(M1354*L1353,0)","v":0},0,{"$f":"N1353-O1353","v":0},0,0,0,269,998,1344,0,0,1344,269,998,1344,0,0]
[{"$f":"B1354&C1354","v":"02690999"},"0269","0999",1345,269,"Sherborn                     ",999,"Total",10033273.723612251,0.99999999999999978,{"$f":"SUM(K1350:K1353)","v":10186066.996993398},{"$f":"SUM(L1350:L1353)","v":1},{"$f":"VLOOKUP(E1354,town351,24)","v":8403505},{"$f":"SUM(N1350:N1353)","v":8403504},8277451,{"$f":"SUM(P1350:P1353)","v":126053},1.5228480361889185,945.25721351441996,931.02795989447009,{"$f":"VLOOKUP($D1354, foundoptions, VLOOKUP($T$6, foundoptcell, 2, FALSE), FALSE)","v":269},{"$f":"VLOOKUP($D1354, foundoptions, VLOOKUP($T$6, foundoptcell, 2, FALSE)+1, FALSE)","v":999},{"$f":"VLOOKUP($D1354, foundoptions, VLOOKUP($T$6, foundoptcell, 2, FALSE)+2, FALSE)","v":1345},{"$f":"VLOOKUP($D1354, foundoptions, VLOOKUP($T$6, foundoptcell, 2, FALSE)+3, FALSE)","v":931.02795989447009},{"$f":"VLOOKUP($D1354, foundoptions, VLOOKUP($T$6, foundoptcell, 2, FALSE)+4, FALSE)","v":10186066.996993398},1345,269,999,1345,931.02795989447009,10186066.996993398]
["02700270","0270","0270",1346,270,"Shirley                      ",270,"Shirley",0,0,{"$f":"X1355","v":0},{"$f":"IF(K1359>0, K1355/K1359, 0)","v":0},null,{"$f":"ROUND(M1359*L1355,0)","v":0},0,{"$f":"N1355-O1355","v":0},0,0,{"$f":"W1355","v":0},270,270,1346,0,0,{"$f":"D1355","v":1346},270,270,1346,0,0]
["02700616","0270","0616",1347,270,"Shirley                      ",616,"Ayer Shirley",8217313.3637452424,0.89947463181156828,8396810.1756070387,{"$f":"IF(K1359>0, K1356/K1359, 0)","v":0.89751506105822265},null,{"$f":"ROUND(M1359*L1356,0)","v":5169644},5051708,{"$f":"N1356-O1356","v":117936},2.3345767411734801,727.86188499972002,713.39320388763997,270,616,1347,713.39320388763997,8396810.1756070387,1347,270,616,1347,713.39320388763997,8396810.1756070387]
["02700852","0270","0852",1348,270,"Shirley                      ",852,"Nashoba Valley",918367.70287398237,0.10052536818843175,958810.18101038609,{"$f":"IF(K1359>0, K1357/K1359, 0)","v":0.10248493894177736},null,{"$f":"ROUND(M1359*L1357,0)","v":590308},564579,{"$f":"N1357-O1357","v":25729},4.5572010294396357,52.999999998900002,54.00000000008,270,852,1348,54.00000000008,958810.18101038609,1348,270,852,1348,54.00000000008,958810.18101038609]
["02700998","0270","0998",1349,270,"",998,"",0,0,0,{"$f":"IF(K1359>0, K1358/K1359, 0)","v":0},null,{"$f":"ROUND(M1359*L1358,0)","v":0},0,{"$f":"N1358-O1358","v":0},0,0,0,270,998,1349,0,0,1349,270,998,1349,0,0]
["02700999","0270","0999",1350,270,"Shirley                      ",999,"Total",9135681.0666192248,1,{"$f":"SUM(K1355:K1358)","v":9355620.3566174246},{"$f":"SUM(L1355:L1358)","v":1},{"$f":"VLOOKUP(E1359,town351,24)","v":5759952},{"$f":"SUM(N1355:N1358)","v":5759952},5616287,{"$f":"SUM(P1355:P1358)","v":143665},2.5580067400401725,780.86188499861998,767.39320388772001,270,999,1350,767.39320388772001,9355620.3566174246,1350,270,999,1350,767.39320388772001,9355620.3566174246]
["02710271","0271","0271",1351,271,"Shrewsbury                   ",271,"Shrewsbury",66373147.319999993,1,{"$f":"X1360","v":67854307.580000013},{"$f":"IF(K1364>0, K1360/K1364, 0)","v":1},null,{"$f":"ROUND(M1364*L1360,0)","v":52472153},50487975,{"$f":"N1360-O1360","v":1984178},{"$f":"IF(O1360>0,P1360*100/O1360,IF(P1360>0,100,0))","v":3.9300011537400739},6207,6144,271,271,1351,6144,67854307.580000013,1351,271,271,1351,6144,67854307.580000013]
["02710998","0271","0998",1352,271,"",998,"",0,0,0,{"$f":"IF(K1364>0, K1361/K1364, 0)","v":0},null,{"$f":"ROUND(M1364*L1361,0)","v":0},0,{"$f":"N1361-O1361","v":0},{"$f":"IF(O1361>0,P1361*100/O1361,IF(P1361>0,100,0))","v":0},0,0,271,998,1352,0,0,1352,271,998,1352,0,0]
["02710998","0271","0998",1353,271,"",998,"",0,0,0,{"$f":"IF(K1364>0, K1362/K1364, 0)","v":0},null,{"$f":"ROUND(M1364*L1362,0)","v":0},0,{"$f":"N1362-O1362","v":0},{"$f":"IF(O1362>0,P1362*100/O1362,IF(P1362>0,100,0))","v":0},0,0,271,998,1353,0,0,1353,271,998,1353,0,0]
["02710998","0271","0998",1354,271,"",998,"",0,0,0,{"$f":"IF(K1364>0, K1363/K1364, 0)","v":0},null,{"$f":"ROUND(M1364*L1363,0)","v":0},0,{"$f":"N1363-O1363","v":0},{"$f":"IF(O1363>0,P1363*100/O1363,IF(P1363>0,100,0))","v":0},0,0,271,998,1354,0,0,1354,271,998,1354,0,0]
["02710999","0271","0999",1355,271,"Shrewsbury                   ",999,"Total",66373147.319999993,1,{"$f":"SUM(K1360:K1363)","v":67854307.580000013},{"$f":"SUM(L1360:L1363)","v":1},{"$f":"VLOOKUP(E1364,town351,24)","v":52472153},{"$f":"SUM(N1360:N1363)","v":52472153},50487975,{"$f":"SUM(P1360:P1363)","v":1984178},{"$f":"IF(O1364>0,P1364*100/O1364,IF(P1364>0,100,0))","v":3.9300011537400739},6207,6144,271,999,1355,6144,67854307.580000013,1355,271,999,1355,6144,67854307.580000013]
["02720272","0272","0272",1356,272,"Shutesbury                   ",272,"Shutesbury",1221694.1099999999,0.48096770641411446,{"$f":"X1365","v":1167665.8499999999},{"$f":"IF(K1369>0, K1365/K1369, 0)","v":0.46759976411683307},null,{"$f":"ROUND(M1369*L1365,0)","v":713413},712492,{"$f":"N1365-O1365","v":921},0.12926460928684111,105,98,272,272,1356,98,1167665.8499999999,1356,272,272,1356,98,1167665.8499999999]
["02720605","0272","0605",1357,272,"Shutesbury                   ",605,"Amherst Pelham",1318381.0212565633,0.51903229358588554,1329482.2232147045,{"$f":"IF(K1369>0, K1366/K1369, 0)","v":0.53240023588316698},null,{"$f":"ROUND(M1369*L1366,0)","v":812279},768880,{"$f":"N1366-O1366","v":43399},5.6444438664030798,108.99999999514999,106.0797592218,272,605,1357,106.0797592218,1329482.2232147045,1357,272,605,1357,106.0797592218,1329482.2232147045]
["02720998","0272","0998",1358,272,"",998,"",0,0,0,{"$f":"IF(K1369>0, K1367/K1369, 0)","v":0},null,{"$f":"ROUND(M1369*L1367,0)","v":0},0,{"$f":"N1367-O1367","v":0},0,0,0,272,998,1358,0,0,1358,272,998,1358,0,0]
["02720998","0272","0998",1359,272,"",998,"",0,0,0,{"$f":"IF(K1369>0, K1368/K1369, 0)","v":0},null,{"$f":"ROUND(M1369*L1368,0)","v":0},0,{"$f":"N1368-O1368","v":0},0,0,0,272,998,1359,0,0,1359,272,998,1359,0,0]
["02720999","0272","0999",1360,272,"Shutesbury                   ",999,"Total",2540075.1312565631,1,{"$f":"SUM(K1365:K1368)","v":2497148.0732147042},{"$f":"SUM(L1365:L1368)","v":1},{"$f":"VLOOKUP(E1369,town351,24)","v":1525692},{"$f":"SUM(N1365:N1368)","v":1525692},1481372,{"$f":"SUM(P1365:P1368)","v":44320},2.9918210955789633,213.99999999515001,204.0797592218,272,999,1360,204.0797592218,2497148.0732147042,1360,272,999,1360,204.0797592218,2497148.0732147042]
["02730273","0273","0273",1361,273,"Somerset                     ",273,"Somerset",18501842.410000004,0.61458083099433658,{"$f":"X1370","v":17923179.719999999},{"$f":"IF(K1374>0, K1370/K1374, 0)","v":0.59275107108732794},null,{"$f":"ROUND(M1374*L1370,0)","v":9348329},9406646,{"$f":"N1370-O1370","v":-58317},-0.61995529543686456,1758,1642,273,273,1361,1642,17923179.719999999,1361,273,273,1361,1642,17923179.719999999]
["02730763","0273","0763",1362,273,"Somerset                     ",763,"Somerset Berkley",8899801.1642819364,0.29562716371816483,9250853.0245318972,{"$f":"IF(K1374>0, K1371/K1374, 0)","v":0.30594197706135201},null,{"$f":"ROUND(M1374*L1371,0)","v":4825038},4524808,{"$f":"N1371-O1371","v":300230},6.6351986647831245,740.99999999817999,749.46379648000004,273,763,1362,749.46379648000004,9250853.0245318972,1362,273,763,1362,749.46379648000004,9250853.0245318972]
["02730821","0273","0821",1363,273,"Somerset                     ",821,"Greater Fall River",2354230.2243618956,7.8201118330696928E-2,2744288.333221925,{"$f":"IF(K1374>0, K1372/K1374, 0)","v":9.0758440985479E-2},null,{"$f":"ROUND(M1374*L1372,0)","v":1431359},1196930,{"$f":"N1372-O1372","v":234429},19.585857151211851,132.00000000502001,143.99999999322,273,821,1363,143.99999999322,2744288.333221925,1363,273,821,1363,143.99999999322,2744288.333221925]
["02730910","0273","0910",1364,273,"Somerset                     ",910,"Bristol County",348941.51111076213,1.1590886956801815E-2,318958.26975062385,{"$f":"IF(K1374>0, K1373/K1374, 0)","v":1.0548510865841118E-2},null,{"$f":"ROUND(M1374*L1373,0)","v":166361},177408,{"$f":"N1373-O1373","v":-11047},-6.2268894300144302,19.999999999979998,18.000000000699998,273,910,1364,18.000000000699998,318958.26975062385,1364,273,910,1364,18.000000000699998,318958.26975062385]
["02730999","0273","0999",1365,273,"Somerset                     ",999,"Total",30104815.309754595,1.0000000000000002,{"$f":"SUM(K1370:K1373)","v":30237279.347504444},{"$f":"SUM(L1370:L1373)","v":1},{"$f":"VLOOKUP(E1374,town351,24)","v":15771087},{"$f":"SUM(N1370:N1373)","v":15771087},15305792,{"$f":"SUM(P1370:P1373)","v":465295},3.0399929647547803,2651.00000000318,2553.46379647392,273,999,1365,2553.46379647392,30237279.347504444,1365,273,999,1365,2553.46379647392,30237279.347504444]
["02740274","0274","0274",1366,274,"Somerville                   ",274,"Somerville",72325602.754360005,1,{"$f":"X1375","v":77023976.661080003},{"$f":"IF(K1379>0, K1375/K1379, 0)","v":1},null,{"$f":"ROUND(M1379*L1375,0)","v":62371611},59668622,{"$f":"N1375-O1375","v":2702989},4.5300007095856847,5282,5049,274,274,1366,5049,77023976.661080003,1366,274,274,1366,5049,77023976.661080003]
["02740998","0274","0998",1367,274,"",998,"",0,0,0,{"$f":"IF(K1379>0, K1376/K1379, 0)","v":0},null,{"$f":"ROUND(M1379*L1376,0)","v":0},0,{"$f":"N1376-O1376","v":0},0,0,0,274,998,1367,0,0,1367,274,998,1367,0,0]
["02740998","0274","0998",1368,274,"",998,"",0,0,0,{"$f":"IF(K1379>0, K1377/K1379, 0)","v":0},null,{"$f":"ROUND(M1379*L1377,0)","v":0},0,{"$f":"N1377-O1377","v":0},0,0,0,274,998,1368,0,0,1368,274,998,1368,0,0]
["02740998","0274","0998",1369,274,"",998,"",0,0,0,{"$f":"IF(K1379>0, K1378/K1379, 0)","v":0},null,{"$f":"ROUND(M1379*L1378,0)","v":0},0,{"$f":"N1378-O1378","v":0},0,0,0,274,998,1369,0,0,1369,274,998,1369,0,0]
["02740999","0274","0999",1370,274,"Somerville                   ",999,"Total",72325602.754360005,1,{"$f":"SUM(K1375:K1378)","v":77023976.661080003},{"$f":"SUM(L1375:L1378)","v":1},{"$f":"VLOOKUP(E1379,town351,24)","v":62371611},{"$f":"SUM(N1375:N1378)","v":62371611},59668622,{"$f":"SUM(P1375:P1378)","v":2702989},4.5300007095856847,5282,5049,274,999,1370,5049,77023976.661080003,1370,274,999,1370,5049,77023976.661080003]
["02750275","0275","0275",1371,275,"Southampton                  ",275,"Southampton",4972548.3299999991,0.54355200367153822,{"$f":"X1380","v":5095671.4799999995},{"$f":"IF(K1384>0, K1380/K1384, 0)","v":0.54973033513307867},null,{"$f":"ROUND(M1384*L1380,0)","v":3512848},3367625,{"$f":"N1380-O1380","v":145223},4.3123269366393231,462,448,275,275,1371,448,5095671.4799999995,1371,275,275,1371,448,5095671.4799999995]
["02750683","0275","0683",1372,275,"Southampton                  ",683,"Hampshire",4175699.301159224,0.45644799632846172,4173730.541932154,{"$f":"IF(K1384>0, K1381/K1384, 0)","v":0.45026966486692138},null,{"$f":"ROUND(M1384*L1381,0)","v":2877282},2827964,{"$f":"N1381-O1381","v":49318},1.7439401633118385,370.10149253952,360.56514913804,275,683,1372,360.56514913804,4173730.541932154,1372,275,683,1372,360.56514913804,4173730.541932154]
["02750998","0275","0998",1373,275,"",998,"",0,0,0,{"$f":"IF(K1384>0, K1382/K1384, 0)","v":0},null,{"$f":"ROUND(M1384*L1382,0)","v":0},0,{"$f":"N1382-O1382","v":0},0,0,0,275,998,1373,0,0,1373,275,998,1373,0,0]
["02750998","0275","0998",1374,275,"",998,"",0,0,0,{"$f":"IF(K1384>0, K1383/K1384, 0)","v":0},null,{"$f":"ROUND(M1384*L1383,0)","v":0},0,{"$f":"N1383-O1383","v":0},0,0,0,275,998,1374,0,0,1374,275,998,1374,0,0]
["02750999","0275","0999",1375,275,"Southampton                  ",999,"Total",9148247.6311592236,1,{"$f":"SUM(K1380:K1383)","v":9269402.021932153},{"$f":"SUM(L1380:L1383)","v":1},{"$f":"VLOOKUP(E1384,town351,24)","v":6390130},{"$f":"SUM(N1380:N1383)","v":6390130},6195589,{"$f":"SUM(P1380:P1383)","v":194541},3.1399920169010564,832.10149253952,808.56514913803994,275,999,1375,808.56514913803994,9269402.021932153,1375,275,999,1375,808.56514913803994,9269402.021932153]
["02760276","0276","0276",1376,276,"Southborough                 ",276,"Southborough",12497359.942009997,0.66325130949846178,{"$f":"X1385","v":12226979.455160001},{"$f":"IF(K1389>0, K1385/K1389, 0)","v":0.654558732444942},null,{"$f":"ROUND(M1389*L1385,0)","v":10087258},10310322,{"$f":"N1385-O1385","v":-223064},-2.1635017800607974,1225,1156,276,276,1376,1156,12226979.455160001,1376,276,276,1376,1156,12226979.455160001]
["02760730","0276","0730",1377,276,"Southborough                 ",730,"Northboro Southboro",5954646.7411796097,0.31602092498049017,5967089.5511602163,{"$f":"IF(K1389>0, K1386/K1389, 0)","v":0.3194419837962979},null,{"$f":"ROUND(M1389*L1386,0)","v":4922849},4912584,{"$f":"N1386-O1386","v":10265},0.2089531700628427,521.84528033582001,506.46376812215999,276,730,1377,506.46376812215999,5967089.5511602163,1377,276,730,1377,506.46376812215999,5967089.5511602163]
["02760801","0276","0801",1378,276,"Southborough                 ",801,"Assabet Valley",390564.39512498298,2.072776552104787E-2,485659.56362667074,{"$f":"IF(K1389>0, K1387/K1389, 0)","v":2.5999283758760296E-2},null,{"$f":"ROUND(M1389*L1387,0)","v":400669},322216,{"$f":"N1387-O1387","v":78453},24.347952925987535,21.00000000232,24.999999998490001,276,801,1378,24.999999998490001,485659.56362667074,1378,276,801,1378,24.999999998490001,485659.56362667074]
["02760998","0276","0998",1379,276,"",998,"",0,0,0,{"$f":"IF(K1389>0, K1388/K1389, 0)","v":0},null,{"$f":"ROUND(M1389*L1388,0)","v":0},0,{"$f":"N1388-O1388","v":0},0,0,0,276,998,1379,0,0,1379,276,998,1379,0,0]
["02760999","0276","0999",1380,276,"Southborough                 ",999,"Total",18842571.078314591,0.99999999999999978,{"$f":"SUM(K1385:K1388)","v":18679728.569946885},{"$f":"SUM(L1385:L1388)","v":1.0000000000000002},{"$f":"VLOOKUP(E1389,town351,24)","v":15410776},{"$f":"SUM(N1385:N1388)","v":15410776},15545122,{"$f":"SUM(P1385:P1388)","v":-134346},-0.86423252258811478,1767.8452803381399,1687.46376812065,276,999,1380,1687.46376812065,18679728.569946885,1380,276,999,1380,1687.46376812065,18679728.569946885]
["02770277","0277","0277",1381,277,"Southbridge                  ",277,"Southbridge",29979243.07,0.89240162502052645,{"$f":"X1390","v":31977786.810000002},{"$f":"IF(K1394>0, K1390/K1394, 0)","v":0.89643076942638766},null,{"$f":"ROUND(M1394*L1390,0)","v":8279716},8016911,{"$f":"N1390-O1390","v":262805},3.278132936738352,2231,2210,277,277,1381,2210,31977786.810000002,1381,277,277,1381,2210,31977786.810000002]
["02770876","0277","0876",1382,277,"Southbridge                  ",876,"Southern Worcester",3614648.0990243061,0.10759837497947367,3694557.2243999997,{"$f":"IF(K1394>0, K1391/K1394, 0)","v":0.10356923057361238},null,{"$f":"ROUND(M1394*L1391,0)","v":956598},966612,{"$f":"N1391-O1391","v":-10014},-1.0359896214820423,210.99999999759999,206.99999999999997,277,876,1382,206.99999999999997,3694557.2243999997,1382,277,876,1382,206.99999999999997,3694557.2243999997]
["02770998","0277","0998",1383,277,"",998,"",0,0,0,{"$f":"IF(K1394>0, K1392/K1394, 0)","v":0},null,{"$f":"ROUND(M1394*L1392,0)","v":0},0,{"$f":"N1392-O1392","v":0},0,0,0,277,998,1383,0,0,1383,277,998,1383,0,0]
["02770998","0277","0998",1384,277,"",998,"",0,0,0,{"$f":"IF(K1394>0, K1393/K1394, 0)","v":0},null,{"$f":"ROUND(M1394*L1393,0)","v":0},0,{"$f":"N1393-O1393","v":0},0,0,0,277,998,1384,0,0,1384,277,998,1384,0,0]
["02770999","0277","0999",1385,277,"Southbridge                  ",999,"Total",33593891.169024304,1,{"$f":"SUM(K1390:K1393)","v":35672344.034400001},{"$f":"SUM(L1390:L1393)","v":1},{"$f":"VLOOKUP(E1394,town351,24)","v":9236314},{"$f":"SUM(N1390:N1393)","v":9236314},8983523,{"$f":"SUM(P1390:P1393)","v":252791},2.8139405887868265,2441.9999999975998,2417,277,999,1385,2417,35672344.034400001,1385,277,999,1385,2417,35672344.034400001]
["02780278","0278","0278",1386,278,"South Hadley                 ",278,"South Hadley",22558199.090000004,1,{"$f":"X1395","v":22281902.760000002},{"$f":"IF(K1399>0, K1395/K1399, 0)","v":1},null,{"$f":"ROUND(M1399*L1395,0)","v":14084456},14027360,{"$f":"N1395-O1395","v":57096},0.40703311243170492,1941,1837,278,278,1386,1837,22281902.760000002,1386,278,278,1386,1837,22281902.760000002]
["02780998","0278","0998",1387,278,"",998,"",0,0,0,{"$f":"IF(K1399>0, K1396/K1399, 0)","v":0},null,{"$f":"ROUND(M1399*L1396,0)","v":0},0,{"$f":"N1396-O1396","v":0},0,0,0,278,998,1387,0,0,1387,278,998,1387,0,0]
["02780998","0278","0998",1388,278,"",998,"",0,0,0,{"$f":"IF(K1399>0, K1397/K1399, 0)","v":0},null,{"$f":"ROUND(M1399*L1397,0)","v":0},0,{"$f":"N1397-O1397","v":0},0,0,0,278,998,1388,0,0,1388,278,998,1388,0,0]
["02780998","0278","0998",1389,278,"",998,"",0,0,0,{"$f":"IF(K1399>0, K1398/K1399, 0)","v":0},null,{"$f":"ROUND(M1399*L1398,0)","v":0},0,{"$f":"N1398-O1398","v":0},0,0,0,278,998,1389,0,0,1389,278,998,1389,0,0]
["02780999","0278","0999",1390,278,"South Hadley                 ",999,"Total",22558199.090000004,1,{"$f":"SUM(K1395:K1398)","v":22281902.760000002},{"$f":"SUM(L1395:L1398)","v":1},{"$f":"VLOOKUP(E1399,town351,24)","v":14084456},{"$f":"SUM(N1395:N1398)","v":14084456},14027360,{"$f":"SUM(P1395:P1398)","v":57096},0.40703311243170492,1941,1837,278,999,1390,1837,22281902.760000002,1390,278,999,1390,1837,22281902.760000002]
["02790279","0279","0279",1391,279,"Southwick                    ",279,"Southwick",0,0,{"$f":"X1400","v":0},{"$f":"IF(K1404>0, K1400/K1404, 0)","v":0},null,{"$f":"ROUND(M1404*L1400,0)","v":0},0,{"$f":"N1400-O1400","v":0},0,0,0,279,279,1391,0,0,1391,279,279,1391,0,0]
["02790766","0279","0766",1392,279,"Southwick                    ",766,"Southwick Tolland",14182949.437515542,1,13461538.343522813,{"$f":"IF(K1404>0, K1401/K1404, 0)","v":1},null,{"$f":"ROUND(M1404*L1401,0)","v":9206158},9078342,{"$f":"N1401-O1401","v":127816},1.4079222836064118,1204.36920884028,1114.2786259519801,279,766,1392,1114.2786259519801,13461538.343522813,1392,279,766,1392,1114.2786259519801,13461538.343522813]
["02790998","0279","0998",1393,279,"",998,"",0,0,0,{"$f":"IF(K1404>0, K1402/K1404, 0)","v":0},null,{"$f":"ROUND(M1404*L1402,0)","v":0},0,{"$f":"N1402-O1402","v":0},0,0,0,279,998,1393,0,0,1393,279,998,1393,0,0]
["02790998","0279","0998",1394,279,"",998,"",0,0,0,{"$f":"IF(K1404>0, K1403/K1404, 0)","v":0},null,{"$f":"ROUND(M1404*L1403,0)","v":0},0,{"$f":"N1403-O1403","v":0},0,0,0,279,998,1394,0,0,1394,279,998,1394,0,0]
["02790999","0279","0999",1395,279,"Southwick                    ",999,"Total",14182949.437515542,1,{"$f":"SUM(K1400:K1403)","v":13461538.343522813},{"$f":"SUM(L1400:L1403)","v":1},{"$f":"VLOOKUP(E1404,town351,24)","v":9206158},{"$f":"SUM(N1400:N1403)","v":9206158},9078342,{"$f":"SUM(P1400:P1403)","v":127816},1.4079222836064118,1204.36920884028,1114.2786259519801,279,999,1395,1114.2786259519801,13461538.343522813,1395,279,999,1395,1114.2786259519801,13461538.343522813]
["02800280","0280","0280",1396,280,"Spencer                      ",280,"Spencer",29315.599999999999,1.6428101427138934E-3,{"$f":"X1405","v":59811.12},{"$f":"IF(K1409>0, K1405/K1409, 0)","v":3.3071254413575913E-3},null,{"$f":"ROUND(M1409*L1405,0)","v":28819},13937,{"$f":"N1405-O1405","v":14882},106.78051230537419,2,4,280,280,1396,4,59811.12,1396,280,280,1396,4,59811.12]
["02800767","0280","0767",1397,280,"Spencer                      ",767,"Spencer East Brookfield",15143031.929946909,0.84859687149357776,15384200.7987053,{"$f":"IF(K1409>0, K1406/K1409, 0)","v":0.85063583254003727},null,{"$f":"ROUND(M1409*L1406,0)","v":7412649},7199066,{"$f":"N1406-O1406","v":213583},2.9668154174444297,1262.09811320784,1233.28914880456,280,767,1397,1233.28914880456,15384200.7987053,1397,280,767,1397,1233.28914880456,15384200.7987053]
["02800876","0280","0876",1398,280,"Spencer                      ",876,"Southern Worcester",2672441.2486097803,0.14976031836370837,2641519.174861941,{"$f":"IF(K1409>0, K1407/K1409, 0)","v":0.14605704201860517},null,{"$f":"ROUND(M1409*L1407,0)","v":1272777},1270491,{"$f":"N1407-O1407","v":2286},0.17993043634311459,156.00000000068002,147.99999999600001,280,876,1398,147.99999999600001,2641519.174861941,1398,280,876,1398,147.99999999600001,2641519.174861941]
["02800998","0280","0998",1399,280,"",998,"",0,0,0,{"$f":"IF(K1409>0, K1408/K1409, 0)","v":0},null,{"$f":"ROUND(M1409*L1408,0)","v":0},0,{"$f":"N1408-O1408","v":0},0,0,0,280,998,1399,0,0,1399,280,998,1399,0,0]
["02800999","0280","0999",1400,280,"Spencer                      ",999,"Total",17844788.77855669,1,{"$f":"SUM(K1405:K1408)","v":18085531.093567241},{"$f":"SUM(L1405:L1408)","v":1},{"$f":"VLOOKUP(E1409,town351,24)","v":8714245},{"$f":"SUM(N1405:N1408)","v":8714245},8483494,{"$f":"SUM(P1405:P1408)","v":230751},2.7199995662164671,1420.0981132085201,1385.28914880056,280,999,1400,1385.28914880056,18085531.093567241,1400,280,999,1400,1385.28914880056,18085531.093567241]
["02810281","0281","0281",1401,281,"Springfield                  ",281,"Springfield",419043165.70000011,1,{"$f":"X1410","v":446524567.99999994},{"$f":"IF(K1414>0, K1410/K1414, 0)","v":1},null,{"$f":"ROUND(M1414*L1410,0)","v":43175654},41873391,{"$f":"N1410-O1410","v":1302263},3.1100012893629754,29551,29144,281,281,1401,29144,446524567.99999994,1401,281,281,1401,29144,446524567.99999994]
["02810998","0281","0998",1402,281,"",998,"",0,0,0,{"$f":"IF(K1414>0, K1411/K1414, 0)","v":0},null,{"$f":"ROUND(M1414*L1411,0)","v":0},0,{"$f":"N1411-O1411","v":0},0,0,0,281,998,1402,0,0,1402,281,998,1402,0,0]
["02810998","0281","0998",1403,281,"",998,"",0,0,0,{"$f":"IF(K1414>0, K1412/K1414, 0)","v":0},null,{"$f":"ROUND(M1414*L1412,0)","v":0},0,{"$f":"N1412-O1412","v":0},0,0,0,281,998,1403,0,0,1403,281,998,1403,0,0]
["02810998","0281","0998",1404,281,"",998,"",0,0,0,{"$f":"IF(K1414>0, K1413/K1414, 0)","v":0},null,{"$f":"ROUND(M1414*L1413,0)","v":0},0,{"$f":"N1413-O1413","v":0},0,0,0,281,998,1404,0,0,1404,281,998,1404,0,0]
["02810999","0281","0999",1405,281,"Springfield                  ",999,"Total",419043165.70000011,1,{"$f":"SUM(K1410:K1413)","v":446524567.99999994},{"$f":"SUM(L1410:L1413)","v":1},{"$f":"VLOOKUP(E1414,town351,24)","v":43175654},{"$f":"SUM(N1410:N1413)","v":43175654},41873391,{"$f":"SUM(P1410:P1413)","v":1302263},3.1100012893629754,29551,29144,281,999,1405,29144,446524567.99999994,1405,281,999,1405,29144,446524567.99999994]
["02820282","0282","0282",1406,282,"Sterling                     ",282,"Sterling",0,0,{"$f":"X1415","v":29905.56},{"$f":"IF(K1419>0, K1415/K1419, 0)","v":2.6000714969528355E-3},null,{"$f":"ROUND(M1419*L1415,0)","v":24672},0,{"$f":"N1415-O1415","v":24672},100,0,2,282,282,1406,2,29905.56,1406,282,282,1406,2,29905.56]
["02820775","0282","0775",1407,282,"Sterling                     ",775,"Wachusett",10937463.009301562,0.91084627738906199,10337638.467335474,{"$f":"IF(K1419>0, K1416/K1419, 0)","v":0.89878267200888928},null,{"$f":"ROUND(M1419*L1416,0)","v":8528551},8510116,{"$f":"N1416-O1416","v":18435},0.21662454424828051,1039.37853905058,950.46823631376003,282,775,1407,950.46823631376003,10337638.467335474,1407,282,775,1407,950.46823631376003,10337638.467335474]
["02820832","0282","0832",1408,282,"Sterling                     ",832,"Montachusett",1070559.9478254805,8.9153722610938055E-2,1134278.1475731556,{"$f":"IF(K1419>0, K1417/K1419, 0)","v":9.8617256494157729E-2},null,{"$f":"ROUND(M1419*L1417,0)","v":935779},832971,{"$f":"N1417-O1417","v":102808},12.342326443537651,62.000000002499995,63.999999993990002,282,832,1408,63.999999993990002,1134278.1475731556,1408,282,832,1408,63.999999993990002,1134278.1475731556]
[{"$f":"B1418&C1418","v":"02820998"},"0282","0998",1409,282,"",998,"",0,0,0,{"$f":"IF(K1419>0, K1418/K1419, 0)","v":0},null,{"$f":"ROUND(M1419*L1418,0)","v":0},0,{"$f":"N1418-O1418","v":0},0,0,0,{"$f":"VLOOKUP($D1418, foundoptions, VLOOKUP($T$6, foundoptcell, 2, FALSE), FALSE)","v":282},{"$f":"VLOOKUP($D1418, foundoptions, VLOOKUP($T$6, foundoptcell, 2, FALSE)+1, FALSE)","v":998},{"$f":"VLOOKUP($D1418, foundoptions, VLOOKUP($T$6, foundoptcell, 2, FALSE)+2, FALSE)","v":1409},{"$f":"VLOOKUP($D1418, foundoptions, VLOOKUP($T$6, foundoptcell, 2, FALSE)+3, FALSE)","v":0},{"$f":"VLOOKUP($D1418, foundoptions, VLOOKUP($T$6, foundoptcell, 2, FALSE)+4, FALSE)","v":0},1409,282,998,1409,0,0]
["02820999","0282","0999",1410,282,"Sterling                     ",999,"Total",12008022.957127042,1,{"$f":"SUM(K1415:K1418)","v":11501822.174908631},{"$f":"SUM(L1415:L1418)","v":0.99999999999999989},{"$f":"VLOOKUP(E1419,town351,24)","v":9489003},{"$f":"SUM(N1415:N1418)","v":9489002},9343087,{"$f":"SUM(P1415:P1418)","v":145915},1.5617429228690689,1101.37853905308,{"$f":"W1419","v":1016.46823630775},282,999,1410,1016.46823630775,11501822.174908631,{"$f":"D1419","v":1410},282,999,1410,1016.46823630775,11501822.174908631]
["02830283","0283","0283",1411,283,"Stockbridge                  ",283,"Stockbridge",0,0,{"$f":"X1420","v":0},{"$f":"IF(K1424>0, K1420/K1424, 0)","v":0},null,{"$f":"ROUND(M1424*L1420,0)","v":0},0,{"$f":"N1420-O1420","v":0},0,0,0,283,283,1411,0,0,1411,283,283,1411,0,0]
["02830618","0283","0618",1412,283,"Stockbridge                  ",618,"Berkshire Hills",1462665.7105070027,1,1534621.8448339903,{"$f":"IF(K1424>0, K1421/K1424, 0)","v":1},null,{"$f":"ROUND(M1424*L1421,0)","v":1266063},1206699,{"$f":"N1421-O1421","v":59364},4.9195366864479046,119.76530612719999,120.23011664470999,283,618,1412,120.23011664470999,1534621.8448339903,1412,283,618,1412,120.23011664470999,1534621.8448339903]
["02830998","0283","0998",1413,283,"",998,"",0,0,0,{"$f":"IF(K1424>0, K1422/K1424, 0)","v":0},null,{"$f":"ROUND(M1424*L1422,0)","v":0},0,{"$f":"N1422-O1422","v":0},0,0,0,283,998,1413,0,0,1413,283,998,1413,0,0]
["02830998","0283","0998",1414,283,"",998,"",0,0,0,{"$f":"IF(K1424>0, K1423/K1424, 0)","v":0},null,{"$f":"ROUND(M1424*L1423,0)","v":0},0,{"$f":"N1423-O1423","v":0},0,0,0,283,998,1414,0,0,1414,283,998,1414,0,0]
["02830999","0283","0999",1415,283,"Stockbridge                  ",999,"Total",1462665.7105070027,1,{"$f":"SUM(K1420:K1423)","v":1534621.8448339903},{"$f":"SUM(L1420:L1423)","v":1},{"$f":"VLOOKUP(E1424,town351,24)","v":1266063},{"$f":"SUM(N1420:N1423)","v":1266063},1206699,{"$f":"SUM(P1420:P1423)","v":59364},{"$f":"IF(O1424>0,P1424*100/O1424,IF(P1424>0,100,0))","v":4.9195366864479046},119.76530612719999,120.23011664470999,283,999,1415,120.23011664470999,1534621.8448339903,1415,283,999,1415,120.23011664470999,1534621.8448339903]
["02840284","0284","0284",1416,284,"Stoneham                     ",284,"Stoneham",27298622.593199998,0.94850714701537542,{"$f":"X1425","v":27721100.205059998},{"$f":"IF(K1429>0, K1425/K1429, 0)","v":0.94547404586025263},null,{"$f":"ROUND(M1429*L1425,0)","v":22660313},22148293,{"$f":"N1425-O1425","v":512020},2.3117808672659335,2450,2376,284,284,1416,2376,27721100.205059998,1416,284,284,1416,2376,27721100.205059998]
["02840853","0284","0853",1417,284,"Stoneham                     ",853,"Northeast Metropolitan",1481996.1708223305,5.1492852984624624E-2,1598689.5093552431,{"$f":"IF(K1429>0, K1426/K1429, 0)","v":5.4525954139747403E-2},null,{"$f":"ROUND(M1429*L1426,0)","v":1306831},1202393,{"$f":"N1426-O1426","v":104438},8.6858456428139554,79.000000002350006,79.999999997190002,284,853,1417,79.999999997190002,1598689.5093552431,1417,284,853,1417,79.999999997190002,1598689.5093552431]
["02840998","0284","0998",1418,284,"",998,null,0,0,0,{"$f":"IF(K1429>0, K1427/K1429, 0)","v":0},null,{"$f":"ROUND(M1429*L1427,0)","v":0},0,{"$f":"N1427-O1427","v":0},0,0,0,284,998,1418,0,0,1418,284,998,1418,0,0]
["02840998","0284","0998",1419,284,"",998,"",0,0,0,{"$f":"IF(K1429>0, K1428/K1429, 0)","v":0},null,{"$f":"ROUND(M1429*L1428,0)","v":0},0,{"$f":"N1428-O1428","v":0},0,0,0,284,998,1419,0,0,1419,284,998,1419,0,0]
["02840999","0284","0999",1420,284,"Stoneham                     ",999,"Total",28780618.764022328,1,{"$f":"SUM(K1425:K1428)","v":29319789.714415241},{"$f":"SUM(L1425:L1428)","v":1},{"$f":"VLOOKUP(E1429,town351,24)","v":23967144},{"$f":"SUM(N1425:N1428)","v":23967144},23350686,{"$f":"SUM(P1425:P1428)","v":616458},2.6399995272087509,2529.0000000023501,2455.9999999971901,284,999,1420,2455.9999999971901,29319789.714415241,1420,284,999,1420,2455.9999999971901,29319789.714415241]
["02850285","0285","0285",1421,285,"Stoughton                    ",285,"Stoughton",44058289.500399999,0.95370627205258418,{"$f":"X1430","v":44927626.417459995},{"$f":"IF(K1434>0, K1430/K1434, 0)","v":0.95011141347810568},null,{"$f":"ROUND(M1434*L1430,0)","v":27845850},27084504,{"$f":"N1430-O1430","v":761346},2.8110021878192786,3644,3540,285,285,1421,3540,44927626.417459995,1421,285,285,1421,3540,44927626.417459995]
["02850872","0285","0872",1422,285,"Stoughton                    ",872,"Southeastern",1941044.2312749722,4.2016748237164794E-2,2136435.9830210335,{"$f":"IF(K1434>0, K1431/K1434, 0)","v":4.5180490791401996E-2},null,{"$f":"ROUND(M1434*L1431,0)","v":1324149},1193242,{"$f":"N1431-O1431","v":130907},10.970699992122302,109.14389439023999,111.20542874952,285,872,1422,111.20542874952,2136435.9830210335,1422,285,872,1422,111.20542874952,2136435.9830210335]
["02850915","0285","0915",1423,285,"Stoughton                    ",915,"Norfolk County",197583.27672106339,4.2769797102510916E-3,222630.27589875844,{"$f":"IF(K1434>0, K1432/K1434, 0)","v":4.708095730492157E-3},null,{"$f":"ROUND(M1434*L1432,0)","v":137985},121463,{"$f":"N1432-O1432","v":16522},13.602496233420878,10.9999999996,12.00000000092,285,915,1423,12.00000000092,222630.27589875844,1423,285,915,1423,12.00000000092,222630.27589875844]
["02850998","0285","0998",1424,285,"",998,"",0,0,0,{"$f":"IF(K1434>0, K1433/K1434, 0)","v":0},null,{"$f":"ROUND(M1434*L1433,0)","v":0},0,{"$f":"N1433-O1433","v":0},0,0,0,285,998,1424,0,0,1424,285,998,1424,0,0]
["02850999","0285","0999",1425,285,"Stoughton                    ",999,"Total",46196917.008396029,1,{"$f":"SUM(K1430:K1433)","v":47286692.676379792},{"$f":"SUM(L1430:L1433)","v":0.99999999999999978},{"$f":"VLOOKUP(E1434,town351,24)","v":29307984},{"$f":"SUM(N1430:N1433)","v":29307984},28399209,{"$f":"SUM(P1430:P1433)","v":908775},3.2000010986221481,3764.1438943898397,3663.2054287504398,285,999,1425,3663.2054287504398,47286692.676379792,1425,285,999,1425,3663.2054287504398,47286692.676379792]
["02860286","0286","0286",1426,286,"Stow                         ",286,"Stow",15240.539360000001,1.175617240092003E-3,{"$f":"X1435","v":15555.7965},{"$f":"IF(K1439>0, K1435/K1439, 0)","v":1.1734495912482336E-3},null,{"$f":"ROUND(M1439*L1435,0)","v":12834},12573,{"$f":"N1435-O1435","v":261},2.0758768790264854,1,1,286,286,1426,1,15555.7965,1426,286,286,1426,1,15555.7965]
["02860725","0286","0725",1427,286,"Stow                         ",725,"Nashoba",12279297.312119935,0.94719440535230426,12354455.509577906,{"$f":"IF(K1439>0, K1436/K1439, 0)","v":0.93195682829925686},null,{"$f":"ROUND(M1439*L1436,0)","v":10192426},10130420,{"$f":"N1436-O1436","v":62006},0.61207728800977645,1138.3830253761898,1114.8942368542801,286,725,1427,1114.8942368542801,12354455.509577906,1427,286,725,1427,1114.8942368542801,12354455.509577906]
["02860830","0286","0830",1428,286,"Stow                         ",830,"Minuteman",669323.88876409829,5.1629977407603771E-2,886456.30532824981,{"$f":"IF(K1439>0, K1437/K1439, 0)","v":6.6869722109494947E-2},null,{"$f":"ROUND(M1439*L1437,0)","v":731326},552192,{"$f":"N1437-O1437","v":179134},32.440527932313401,35.999999999099998,43.999999998420002,286,830,1428,43.999999998420002,886456.30532824981,1428,286,830,1428,43.999999998420002,886456.30532824981]
["02860998","0286","0998",1429,286,"",998,"",0,0,0,{"$f":"IF(K1439>0, K1438/K1439, 0)","v":0},null,{"$f":"ROUND(M1439*L1438,0)","v":0},0,{"$f":"N1438-O1438","v":0},0,0,0,286,998,1429,0,0,1429,286,998,1429,0,0]
["02860999","0286","0999",1430,286,"Stow                         ",999,"Total",12963861.740244033,1,{"$f":"SUM(K1435:K1438)","v":13256467.611406155},{"$f":"SUM(L1435:L1438)","v":1},{"$f":"VLOOKUP(E1439,town351,24)","v":10936586},{"$f":"SUM(N1435:N1438)","v":10936586},10695185,{"$f":"SUM(P1435:P1438)","v":241401},2.2570998070627111,1175.3830253752899,1159.8942368527,286,999,1430,1159.8942368527,13256467.611406155,1430,286,999,1430,1159.8942368527,13256467.611406155]
["02870287","0287","0287",1431,287,"Sturbridge                   ",287,"Sturbridge",8866569.3900000006,0.46919369805928096,{"$f":"X1440","v":8608625.4299999997},{"$f":"IF(K1444>0, K1440/K1444, 0)","v":0.45232036623540361},null,{"$f":"ROUND(M1444*L1440,0)","v":5070480},5185477,{"$f":"N1440-O1440","v":-114997},-2.2176744781627611,870,804,287,287,1431,804,8608625.4299999997,1431,287,287,1431,804,8608625.4299999997]
["02870770","0287","0770",1432,287,"Sturbridge                   ",770,"Tantasqua",10030891.139999999,0.53080630194071887,10423516.548589937,{"$f":"IF(K1444>0, K1441/K1444, 0)","v":0.54767963376459639},null,{"$f":"ROUND(M1444*L1441,0)","v":6139451},5866412,{"$f":"N1441-O1441","v":273039},4.6542759015220891,786,790.00000000322007,287,770,1432,790.00000000322007,10423516.548589937,1432,287,770,1432,790.00000000322007,10423516.548589937]
["02870998","0287","0998",1433,287,"",998,"",0,0,0,{"$f":"IF(K1444>0, K1442/K1444, 0)","v":0},null,{"$f":"ROUND(M1444*L1442,0)","v":0},0,{"$f":"N1442-O1442","v":0},0,0,0,287,998,1433,0,0,1433,287,998,1433,0,0]
["02870998","0287","0998",1434,287,"",998,"",0,0,0,{"$f":"IF(K1444>0, K1443/K1444, 0)","v":0},null,{"$f":"ROUND(M1444*L1443,0)","v":0},0,{"$f":"N1443-O1443","v":0},0,0,0,287,998,1434,0,0,1434,287,998,1434,0,0]
["02870999","0287","0999",1435,287,"Sturbridge                   ",999,"Total",18897460.530000001,0.99999999999999978,{"$f":"SUM(K1440:K1443)","v":19032141.978589937},{"$f":"SUM(L1440:L1443)","v":1},{"$f":"VLOOKUP(E1444,town351,24)","v":11209931},{"$f":"SUM(N1440:N1443)","v":11209931},11051889,{"$f":"SUM(P1440:P1443)","v":158042},1.4299998850875175,1656,1594.0000000032201,287,999,1435,1594.0000000032201,19032141.978589937,1435,287,999,1435,1594.0000000032201,19032141.978589937]
["02880288","0288","0288",1436,288,"Sudbury                      ",288,"Sudbury",26639866.135919996,0.62741932895603503,{"$f":"X1445","v":25581450.369169995},{"$f":"IF(K1449>0, K1445/K1449, 0)","v":0.61188136964598461},null,{"$f":"ROUND(M1449*L1445,0)","v":21104696},21977890,{"$f":"N1445-O1445","v":-873194},-3.973056558204632,2690,2524,288,288,1436,2524,25581450.369169995,1436,288,288,1436,2524,25581450.369169995]
["02880695","0288","0695",1437,288,"Sudbury                      ",695,"Lincoln Sudbury",15819562.361837879,0.37258067104396497,16226409.190225672,{"$f":"IF(K1449>0, K1446/K1449, 0)","v":0.38811863035401528},null,{"$f":"ROUND(M1449*L1446,0)","v":13386788},13051139,{"$f":"N1446-O1446","v":335649},2.571798522718975,1380.2284927759999,1384.4999999966201,288,695,1437,1384.4999999966201,16226409.190225672,1437,288,695,1437,1384.4999999966201,16226409.190225672]
["02880830","0288","0830",1438,288,null,998,null,0,0,0,{"$f":"IF(K1449>0, K1447/K1449, 0)","v":0},null,{"$f":"ROUND(M1449*L1447,0)","v":0},0,{"$f":"N1447-O1447","v":0},0,0,0,288,998,1438,0,0,1438,288,998,1438,0,0]
["02880998","0288","0998",1439,288,"",998,"",0,0,0,{"$f":"IF(K1449>0, K1448/K1449, 0)","v":0},null,{"$f":"ROUND(M1449*L1448,0)","v":0},0,{"$f":"N1448-O1448","v":0},0,0,0,288,998,1439,0,0,1439,288,998,1439,0,0]
["02880999","0288","0999",1440,288,"Sudbury                      ",999,"Total",42459428.497757874,1,{"$f":"SUM(K1445:K1448)","v":41807859.559395671},{"$f":"SUM(L1445:L1448)","v":0.99999999999999989},{"$f":"VLOOKUP(E1449,town351,24)","v":34491484},{"$f":"SUM(N1445:N1448)","v":34491484},35029029,{"$f":"SUM(P1445:P1448)","v":-537545},-1.5345700847145949,4070.2284927760002,3908.4999999966203,288,999,1440,3908.4999999966203,41807859.559395671,1440,288,999,1440,3908.4999999966203,41807859.559395671]
["02890289","0289","0289",1441,289,"Sunderland                   ",289,"Sunderland",2034470.88,0.57207202888583575,{"$f":"X1450","v":1721299.0999999999},{"$f":"IF(K1454>0, K1450/K1454, 0)","v":0.50408420087023353},null,{"$f":"ROUND(M1454*L1450,0)","v":1420072},1662285,{"$f":"N1450-O1450","v":-242213},-14.57108738874501,171,141,289,289,1441,141,1721299.0999999999,1441,289,289,1441,141,1721299.0999999999]
["02890670","0289","0670",1442,289,"Sunderland                   ",670,"Frontier",1340604.2820675878,0.37696396597008275,1541802.247123881,{"$f":"IF(K1454>0, K1451/K1454, 0)","v":0.45151836403177803},null,{"$f":"ROUND(M1454*L1451,0)","v":1271987},1095354,{"$f":"N1451-O1451","v":176633},16.125654354665251,116.40207972165,129.9999999984,289,670,1442,129.9999999984,1541802.247123881,1442,289,670,1442,129.9999999984,1541802.247123881]
["02890818","0289","0818",1443,289,"Sunderland                   ",818,"Franklin County",181244.28246516455,5.0964005144081587E-2,151604.16641613605,{"$f":"IF(K1454>0, K1452/K1454, 0)","v":4.4397435097988401E-2},null,{"$f":"ROUND(M1454*L1452,0)","v":125073},148087,{"$f":"N1452-O1452","v":-23014},-15.540864491818999,9.9999999995,7.9999999973599998,289,818,1443,7.9999999973599998,151604.16641613605,1443,289,818,1443,7.9999999973599998,151604.16641613605]
["02890998","0289","0998",1444,289,"",998,"",0,0,0,{"$f":"IF(K1454>0, K1453/K1454, 0)","v":0},null,{"$f":"ROUND(M1454*L1453,0)","v":0},0,{"$f":"N1453-O1453","v":0},0,0,0,289,998,1444,0,0,1444,289,998,1444,0,0]
["02890999","0289","0999",1445,289,"Sunderland                   ",999,"Total",3556319.444532752,1,{"$f":"SUM(K1450:K1453)","v":3414705.513540017},{"$f":"SUM(L1450:L1453)","v":1},{"$f":"VLOOKUP(E1454,town351,24)","v":2817132},{"$f":"SUM(N1450:N1453)","v":2817132},2905726,{"$f":"SUM(P1450:P1453)","v":-88594},-3.0489454270636669,297.40207972115002,278.99999999575999,289,999,1445,278.99999999575999,3414705.513540017,1445,289,999,1445,278.99999999575999,3414705.513540017]
["02900290","0290","0290",1446,290,"Sutton                       ",290,"Sutton",13916186.880000001,0.88207993462369083,{"$f":"X1455","v":13690363.949999999},{"$f":"IF(K1459>0, K1455/K1459, 0)","v":0.87116207982356753},null,{"$f":"ROUND(M1459*L1455,0)","v":11091587},10856059,{"$f":"N1455-O1455","v":235528},2.1695534263400744,1321,1257,290,290,1446,1257,13690363.949999999,1446,290,290,1446,1257,13690363.949999999]
["02900805","0290","0805",1447,290,"Sutton                       ",805,"Blackstone Valley",1860372.9687815784,0.1179200653763092,2024695.5860769665,{"$f":"IF(K1459>0, K1456/K1459, 0)","v":0.12883792017643236},null,{"$f":"ROUND(M1459*L1456,0)","v":1640357},1451282,{"$f":"N1456-O1456","v":189075},13.028136502761008,112.99999999446001,119.99999999493001,290,805,1447,119.99999999493001,2024695.5860769665,1447,290,805,1447,119.99999999493001,2024695.5860769665]
["02900998","0290","0998",1448,290,"",998,"",0,0,0,{"$f":"IF(K1459>0, K1457/K1459, 0)","v":0},null,{"$f":"ROUND(M1459*L1457,0)","v":0},0,{"$f":"N1457-O1457","v":0},0,0,0,290,998,1448,0,0,1448,290,998,1448,0,0]
["02900998","0290","0998",1449,290,"",998,"",0,0,0,{"$f":"IF(K1459>0, K1458/K1459, 0)","v":0},null,{"$f":"ROUND(M1459*L1458,0)","v":0},0,{"$f":"N1458-O1458","v":0},0,0,0,290,998,1449,0,0,1449,290,998,1449,0,0]
["02900999","0290","0999",1450,290,"Sutton                       ",999,"Total",15776559.848781578,1,{"$f":"SUM(K1455:K1458)","v":15715059.536076967},{"$f":"SUM(L1455:L1458)","v":0.99999999999999989},{"$f":"VLOOKUP(E1459,town351,24)","v":12731944},{"$f":"SUM(N1455:N1458)","v":12731944},12307341,{"$f":"SUM(P1455:P1458)","v":424603},3.449997850876156,1433.99999999446,1376.99999999493,290,999,1450,1376.99999999493,15715059.536076967,1450,290,999,1450,1376.99999999493,15715059.536076967]
["02910291","0291","0291",1451,291,"Swampscott                   ",291,"Swampscott",23409223.779999994,0.9764659889129349,{"$f":"X1460","v":23502231.440000005},{"$f":"IF(K1464>0, K1460/K1464, 0)","v":0.97370896640796112},null,{"$f":"ROUND(M1464*L1460,0)","v":19389341},18964138,{"$f":"N1460-O1460","v":425203},2.2421425113021218,2155,2086,291,291,1451,2086,23502231.440000005,1451,291,291,1451,2086,23502231.440000005]
["02910817","0291","0817",1452,291,"Swampscott                   ",817,"Essex North Shore",564190.59980923717,2.3534011087065137E-2,634581.7668254138,{"$f":"IF(K1464>0, K1461/K1464, 0)","v":2.6291033592038836E-2},null,{"$f":"ROUND(M1464*L1461,0)","v":523530},457059,{"$f":"N1461-O1461","v":66471},14.543199018069878,33.000000002900002,34.999999998250004,291,817,1452,34.999999998250004,634581.7668254138,1452,291,817,1452,34.999999998250004,634581.7668254138]
["02910998","0291","0998",1453,291,"",998,null,0,0,0,{"$f":"IF(K1464>0, K1462/K1464, 0)","v":0},null,{"$f":"ROUND(M1464*L1462,0)","v":0},0,{"$f":"N1462-O1462","v":0},0,0,0,291,998,1453,0,0,1453,291,998,1453,0,0]
["02910998","0291","0998",1454,291,"",998,"",0,0,0,{"$f":"IF(K1464>0, K1463/K1464, 0)","v":0},null,{"$f":"ROUND(M1464*L1463,0)","v":0},0,{"$f":"N1463-O1463","v":0},0,0,0,291,998,1454,0,0,1454,291,998,1454,0,0]
["02910999","0291","0999",1455,291,"Swampscott                   ",999,"Total",23973414.379809231,1,{"$f":"SUM(K1460:K1463)","v":24136813.20682542},{"$f":"SUM(L1460:L1463)","v":1},{"$f":"VLOOKUP(E1464,town351,24)","v":19912871},{"$f":"SUM(N1460:N1463)","v":19912871},19421197,{"$f":"SUM(P1460:P1463)","v":491674},2.5316359233676482,2188.0000000028999,2120.9999999982501,291,999,1455,2120.9999999982501,24136813.20682542,1455,291,999,1455,2120.9999999982501,24136813.20682542]
["02920292","0292","0292",1456,292,"Swansea                      ",292,"Swansea",22877752.370000001,0.88684166055614855,{"$f":"X1465","v":23940769.109999999},{"$f":"IF(K1469>0, K1465/K1469, 0)","v":0.89797034486778127},null,{"$f":"ROUND(M1469*L1465,0)","v":14745527},14533757,{"$f":"N1465-O1465","v":211770},1.457090551328194,2115,2044,292,292,1456,2044,23940769.109999999,1456,292,292,1456,2044,23940769.109999999]
["02920821","0292","0821",1457,292,"Swansea                      ",821,"Greater Fall River",2657426.5411378001,0.10301346602732848,2401252.2916048695,{"$f":"IF(K1469>0, K1466/K1469, 0)","v":9.0066168655639101E-2},null,{"$f":"ROUND(M1469*L1466,0)","v":1478972},1688207,{"$f":"N1466-O1466","v":-209235},-12.393918518285968,149.00000000578001,125.99999999594,292,821,1457,125.99999999594,2401252.2916048695,1457,292,821,1457,125.99999999594,2401252.2916048695]
["02920910","0292","0910",1458,292,"Swansea                      ",910,"Bristol County",261706.13331658411,1.0144873416522964E-2,318958.26975062385,{"$f":"IF(K1469>0, K1467/K1469, 0)","v":1.1963486476579554E-2},null,{"$f":"ROUND(M1469*L1467,0)","v":196452},166256,{"$f":"N1467-O1467","v":30196},18.162352035415264,14.999999999039998,18.000000000699998,292,910,1458,18.000000000699998,318958.26975062385,1458,292,910,1458,18.000000000699998,318958.26975062385]
["02920998","0292","0998",1459,292,"",998,"",0,0,0,{"$f":"IF(K1469>0, K1468/K1469, 0)","v":0},null,{"$f":"ROUND(M1469*L1468,0)","v":0},0,{"$f":"N1468-O1468","v":0},0,0,0,292,998,1459,0,0,1459,292,998,1459,0,0]
["02920999","0292","0999",1460,292,"Swansea                      ",999,"Total",25796885.044454385,1,{"$f":"SUM(K1465:K1468)","v":26660979.671355493},{"$f":"SUM(L1465:L1468)","v":0.99999999999999989},{"$f":"VLOOKUP(E1469,town351,24)","v":16420951},{"$f":"SUM(N1465:N1468)","v":16420951},16388220,{"$f":"SUM(P1465:P1468)","v":32731},0.19972272766658003,2279.0000000048199,2187.9999999966399,292,999,1460,2187.9999999966399,26660979.671355493,1460,292,999,1460,2187.9999999966399,26660979.671355493]
["02930293","0293","0293",1461,293,"Taunton                      ",293,"Taunton",103523189.69,0.90777408975131235,{"$f":"X1470","v":107043467.58},{"$f":"IF(K1474>0, K1470/K1474, 0)","v":0.90871758248874424},null,{"$f":"ROUND(M1474*L1470,0)","v":38153915},36893138,{"$f":"N1470-O1470","v":1260777},3.4173753395550142,8113,7953,293,293,1461,7953,107043467.58,1461,293,293,1461,7953,107043467.58]
["02930810","0293","0810",1462,293,"Taunton                      ",810,"Bristol Plymouth",9959200.6456810888,8.7330233234275384E-2,10061644.602738522,{"$f":"IF(K1474>0, K1471/K1474, 0)","v":8.5415706030152791E-2},null,{"$f":"ROUND(M1474*L1471,0)","v":3586311},3549216,{"$f":"N1471-O1471","v":37095},1.0451603959860432,575.14285714094001,558.64914877785009,293,810,1462,558.64914877785009,10061644.602738522,1462,293,810,1462,558.64914877785009,10061644.602738522]
["02930910","0293","0910",1463,293,"Taunton                      ",910,"Bristol County",558306.4178035995,4.8956770144123101E-3,691076.25111506996,{"$f":"IF(K1474>0, K1472/K1474, 0)","v":5.8667114811030742E-3},null,{"$f":"ROUND(M1474*L1472,0)","v":246323},198967,{"$f":"N1472-O1472","v":47356},23.800931812813179,32.000000001480004,39.00000000088,293,910,1463,39.00000000088,691076.25111506996,1463,293,910,1463,39.00000000088,691076.25111506996]
["02930998","0293","0998",1464,293,"",998,"",0,0,0,{"$f":"IF(K1474>0, K1473/K1474, 0)","v":0},null,{"$f":"ROUND(M1474*L1473,0)","v":0},0,{"$f":"N1473-O1473","v":0},0,0,0,293,998,1464,0,0,1464,293,998,1464,0,0]
["02930999","0293","0999",1465,293,"Taunton                      ",999,"Total",114040696.75348468,1,{"$f":"SUM(K1470:K1473)","v":117796188.43385358},{"$f":"SUM(L1470:L1473)","v":1.0000000000000002},{"$f":"VLOOKUP(E1474,town351,24)","v":41986549},{"$f":"SUM(N1470:N1473)","v":41986549},40641321,{"$f":"SUM(P1470:P1473)","v":1345228},3.310000676405179,8720.1428571424203,8550.6491487787298,293,999,1465,8550.6491487787298,117796188.43385358,1465,293,999,1465,8550.6491487787298,117796188.43385358]
["02940294","0294","0294",1466,294,"Templeton                    ",294,"Templeton",0,0,{"$f":"X1475","v":0},{"$f":"IF(K1479>0, K1475/K1479, 0)","v":0},null,{"$f":"ROUND(M1479*L1475,0)","v":0},0,{"$f":"N1475-O1475","v":0},0,0,0,294,294,1466,0,0,1466,294,294,1466,0,0]
["02940720","0294","0720",1467,294,"Templeton                    ",720,"Narragansett",12898430.331874279,0.89461011816992531,12543541.599806422,{"$f":"IF(K1479>0, K1476/K1479, 0)","v":0.8882963644308931},null,{"$f":"ROUND(M1479*L1476,0)","v":4806670},4664067,{"$f":"N1476-O1476","v":142603},3.0574818071867322,1105.0588235316,1058.28157683428,294,720,1467,1058.28157683428,12543541.599806422,1467,294,720,1467,1058.28157683428,12543541.599806422]
["02940832","0294","0832",1468,294,"Templeton                    ",832,"Montachusett",1519504.4420584999,0.10538988183007467,1577355.5490215158,{"$f":"IF(K1479>0, K1477/K1479, 0)","v":0.11170363556910683},null,{"$f":"ROUND(M1479*L1477,0)","v":604441},549452,{"$f":"N1477-O1477","v":54989},10.007971578955031,88.000000002600004,88.999999994610008,294,832,1468,88.999999994610008,1577355.5490215158,1468,294,832,1468,88.999999994610008,1577355.5490215158]
["02940998","0294","0998",1469,294,"",998,"",0,0,0,{"$f":"IF(K1479>0, K1478/K1479, 0)","v":0},null,{"$f":"ROUND(M1479*L1478,0)","v":0},0,{"$f":"N1478-O1478","v":0},0,0,0,294,998,1469,0,0,1469,294,998,1469,0,0]
["02940999","0294","0999",1470,294,"Templeton                    ",999,"Total",14417934.773932779,1,{"$f":"SUM(K1475:K1478)","v":14120897.148827938},{"$f":"SUM(L1475:L1478)","v":0.99999999999999989},{"$f":"VLOOKUP(E1479,town351,24)","v":5411111},{"$f":"SUM(N1475:N1478)","v":5411111},5213519,{"$f":"SUM(P1475:P1478)","v":197592},3.7899929011479578,1193.0588235342,1147.2815768288901,294,999,1470,1147.2815768288901,14120897.148827938,1470,294,999,1470,1147.2815768288901,14120897.148827938]
["02950295","0295","0295",1471,295,"Tewksbury                    ",295,"Tewksbury",35851430.130000003,0.85861984586630713,{"$f":"X1480","v":35982818.319999993},{"$f":"IF(K1484>0, K1480/K1484, 0)","v":0.8548497736737366},null,{"$f":"ROUND(M1484*L1480,0)","v":29685825},29577430,{"$f":"N1480-O1480","v":108395},0.3664787643821657,3364,3256,295,295,1471,3256,35982818.319999993,1471,295,295,1471,3256,35982818.319999993]
["02950871","0295","0871",1472,295,"Tewksbury                    ",871,"Shawsheen Valley",5903288.5648929523,0.14138015413369284,6109745.1082653003,{"$f":"IF(K1484>0, K1481/K1484, 0)","v":0.14515022632626329},null,{"$f":"ROUND(M1484*L1481,0)","v":5040540},4870213,{"$f":"N1481-O1481","v":170327},3.497321369722433,351.00000000375002,356.99999999495003,295,871,1472,356.99999999495003,6109745.1082653003,1472,295,871,1472,356.99999999495003,6109745.1082653003]
[{"$f":"B1482&C1482","v":"02950998"},"0295","0998",1473,295,"",998,null,0,0,0,{"$f":"IF(K1484>0, K1482/K1484, 0)","v":0},null,{"$f":"ROUND(M1484*L1482,0)","v":0},0,{"$f":"N1482-O1482","v":0},0,0,0,{"$f":"VLOOKUP($D1482, foundoptions, VLOOKUP($T$6, foundoptcell, 2, FALSE), FALSE)","v":295},{"$f":"VLOOKUP($D1482, foundoptions, VLOOKUP($T$6, foundoptcell, 2, FALSE)+1, FALSE)","v":998},{"$f":"VLOOKUP($D1482, foundoptions, VLOOKUP($T$6, foundoptcell, 2, FALSE)+2, FALSE)","v":1473},{"$f":"VLOOKUP($D1482, foundoptions, VLOOKUP($T$6, foundoptcell, 2, FALSE)+3, FALSE)","v":0},{"$f":"VLOOKUP($D1482, foundoptions, VLOOKUP($T$6, foundoptcell, 2, FALSE)+4, FALSE)","v":0},1473,295,998,1473,0,0]
["02950998","0295","0998",1474,295,"",998,"",0,0,0,{"$f":"IF(K1484>0, K1483/K1484, 0)","v":0},null,{"$f":"ROUND(M1484*L1483,0)","v":0},0,{"$f":"N1483-O1483","v":0},0,0,{"$f":"W1483","v":0},295,998,1474,0,0,{"$f":"D1483","v":1474},295,998,1474,0,0]
["02950999","0295","0999",1475,295,"Tewksbury                    ",999,"Total",41754718.694892958,1,{"$f":"SUM(K1480:K1483)","v":42092563.428265296},{"$f":"SUM(L1480:L1483)","v":0.99999999999999989},{"$f":"VLOOKUP(E1484,town351,24)","v":34726365},{"$f":"SUM(N1480:N1483)","v":34726365},34447643,{"$f":"SUM(P1480:P1483)","v":278722},0.80911776750589293,3715.0000000037498,3612.99999999495,295,999,1475,3612.99999999495,42092563.428265296,1475,295,999,1475,3612.99999999495,42092563.428265296]
["02960296","0296","0296",1476,296,"Tisbury                      ",296,"Tisbury",4358704.2899999991,0.62466464142171085,{"$f":"X1485","v":4207932.1499999994},{"$f":"IF(K1489>0, K1485/K1489, 0)","v":0.59442954262755709},null,{"$f":"ROUND(M1489*L1485,0)","v":3462684},3499193,{"$f":"N1485-O1485","v":-36509},-1.0433548535333719,371,343,296,296,1476,343,4207932.1499999994,1476,296,296,1476,343,4207932.1499999994]
["02960700","0296","0700",1477,296,"Tisbury                      ",700,"Marthas Vineyard",2618966.6088678618,0.3753353585782892,2871009.6727762981,{"$f":"IF(K1489>0, K1486/K1489, 0)","v":0.40557045737244302},null,{"$f":"ROUND(M1489*L1486,0)","v":2362538},2102521,{"$f":"N1486-O1486","v":260017},12.366915716894148,177.00000000048001,185.99999999965999,296,700,1477,185.99999999965999,2871009.6727762981,1477,296,700,1477,185.99999999965999,2871009.6727762981]
["02960998","0296","0998",1478,296,"",998,"",0,0,0,{"$f":"IF(K1489>0, K1487/K1489, 0)","v":0},null,{"$f":"ROUND(M1489*L1487,0)","v":0},0,{"$f":"N1487-O1487","v":0},0,0,0,296,998,1478,0,0,1478,296,998,1478,0,0]
["02960998","0296","0998",1479,296,"",998,"",0,0,0,{"$f":"IF(K1489>0, K1488/K1489, 0)","v":0},null,{"$f":"ROUND(M1489*L1488,0)","v":0},0,{"$f":"N1488-O1488","v":0},{"$f":"IF(O1488>0,P1488*100/O1488,IF(P1488>0,100,0))","v":0},0,0,296,998,1479,0,0,1479,296,998,1479,0,0]
["02960999","0296","0999",1480,296,"Tisbury                      ",999,"Total",6977670.8988678604,1,{"$f":"SUM(K1485:K1488)","v":7078941.8227762971},{"$f":"SUM(L1485:L1488)","v":1},{"$f":"VLOOKUP(E1489,town351,24)","v":5825222},{"$f":"SUM(N1485:N1488)","v":5825222},5601714,{"$f":"SUM(P1485:P1488)","v":223508},{"$f":"IF(O1489>0,P1489*100/O1489,IF(P1489>0,100,0))","v":3.9899930628375531},548.00000000047999,528.99999999965996,296,999,1480,528.99999999965996,7078941.8227762971,1480,296,999,1480,528.99999999965996,7078941.8227762971]
["02970297","0297","0297",1481,297,"Tolland                      ",297,"Tolland",0,0,{"$f":"X1490","v":0},{"$f":"IF(K1494>0, K1490/K1494, 0)","v":0},null,{"$f":"ROUND(M1494*L1490,0)","v":0},0,{"$f":"N1490-O1490","v":0},0,0,0,297,297,1481,0,0,1481,297,297,1481,0,0]
["02970766","0297","0766",1482,297,"Tolland                      ",766,"Southwick Tolland",510348.80819151201,1,475113.11806489067,{"$f":"IF(K1494>0, K1491/K1494, 0)","v":1},null,{"$f":"ROUND(M1494*L1491,0)","v":391968},421038,{"$f":"N1491-O1491","v":-29070},-6.9043649266812022,43.337134709680001,39.32748092077,297,766,1482,39.32748092077,475113.11806489067,1482,297,766,1482,39.32748092077,475113.11806489067]
["02970998","0297","0998",1483,297,"",998,"",0,0,0,{"$f":"IF(K1494>0, K1492/K1494, 0)","v":0},null,{"$f":"ROUND(M1494*L1492,0)","v":0},0,{"$f":"N1492-O1492","v":0},0,0,0,297,998,1483,0,0,1483,297,998,1483,0,0]
["02970998","0297","0998",1484,297,"",998,"",0,0,0,{"$f":"IF(K1494>0, K1493/K1494, 0)","v":0},null,{"$f":"ROUND(M1494*L1493,0)","v":0},0,{"$f":"N1493-O1493","v":0},0,0,0,297,998,1484,0,0,1484,297,998,1484,0,0]
["02970999","0297","0999",1485,297,"Tolland                      ",999,"Total",510348.80819151201,1,{"$f":"SUM(K1490:K1493)","v":475113.11806489067},{"$f":"SUM(L1490:L1493)","v":1},{"$f":"VLOOKUP(E1494,town351,24)","v":391968},{"$f":"SUM(N1490:N1493)","v":391968},421038,{"$f":"SUM(P1490:P1493)","v":-29070},-6.9043649266812022,43.337134709680001,39.32748092077,297,999,1485,39.32748092077,475113.11806489067,1485,297,999,1485,39.32748092077,475113.11806489067]
["02980298","0298","0298",1486,298,"Topsfield                    ",298,"Topsfield",6270046.2603099989,0.52207483869636262,{"$f":"X1495","v":5583546.5710300002},{"$f":"IF(K1499>0, K1495/K1499, 0)","v":0.47830239165539473},null,{"$f":"ROUND(M1499*L1495,0)","v":4606426},5031835,{"$f":"N1495-O1495","v":-425409},-8.4543511462518151,627,542,298,298,1486,542,5583546.5710300002,1486,298,298,1486,542,5583546.5710300002]
["02980705","0298","0705",1487,298,"Topsfield                    ",705,"Masconomet",5363687.7038049744,0.4466069748970557,5636855.5273455251,{"$f":"IF(K1499>0, K1496/K1499, 0)","v":0.48286898763126834},null,{"$f":"ROUND(M1499*L1496,0)","v":4650406},4304465,{"$f":"N1496-O1496","v":345941},8.036794351911329,483.08803612559996,489.84797688281998,298,705,1487,489.84797688281998,5636855.5273455251,1487,298,705,1487,489.84797688281998,5636855.5273455251]
["02980817","0298","0817",1488,298,"Topsfield                    ",817,"Essex North Shore",376127.06647309934,3.1318186406581759E-2,453272.69071649766,{"$f":"IF(K1499>0, K1497/K1499, 0)","v":3.8828620713336932E-2},null,{"$f":"ROUND(M1499*L1497,0)","v":373950},301849,{"$f":"N1497-O1497","v":72101},23.88644653452554,21.999999998050001,25.000000005750003,298,817,1488,25.000000005750003,453272.69071649766,1488,298,817,1488,25.000000005750003,453272.69071649766]
["02980998","0298","0998",1489,298,"",998,null,0,0,0,{"$f":"IF(K1499>0, K1498/K1499, 0)","v":0},null,{"$f":"ROUND(M1499*L1498,0)","v":0},0,{"$f":"N1498-O1498","v":0},0,0,0,298,998,1489,0,0,1489,298,998,1489,0,0]
["02980999","0298","0999",1490,298,"Topsfield                    ",999,"Total",12009861.030588072,1,{"$f":"SUM(K1495:K1498)","v":11673674.789092023},{"$f":"SUM(L1495:L1498)","v":1},{"$f":"VLOOKUP(E1499,town351,24)","v":9630782},{"$f":"SUM(N1495:N1498)","v":9630782},9638149,{"$f":"SUM(P1495:P1498)","v":-7367},-7.6435838458193586E-2,1132.08803612365,1056.84797688857,298,999,1490,1056.84797688857,11673674.789092023,1490,298,999,1490,1056.84797688857,11673674.789092023]
["02990299","0299","0299",1491,299,"Townsend                     ",299,"Townsend",0,0,{"$f":"X1500","v":0},{"$f":"IF(K1504>0, K1500/K1504, 0)","v":0},null,{"$f":"ROUND(M1504*L1500,0)","v":0},0,{"$f":"N1500-O1500","v":0},0,0,0,299,299,1491,0,0,1491,299,299,1491,0,0]
["02990735","0299","0735",1492,299,"Townsend                     ",735,"North Middlesex",13910284.035203952,0.90937695213228187,13621447.958317794,{"$f":"IF(K1504>0, K1501/K1504, 0)","v":0.90663674013371032},null,{"$f":"ROUND(M1504*L1501,0)","v":7266654},7077702,{"$f":"N1501-O1501","v":188952},2.6696800741257545,1286.4829740627399,1217.0824468174201,299,735,1492,1217.0824468174201,13621447.958317794,1492,299,735,1492,1217.0824468174201,13621447.958317794]
["02990852","0299","0852",1493,299,"Townsend                     ",852,"Nashoba Valley",1386215.4005773307,9.0623047867718132E-2,1402703.783325623,{"$f":"IF(K1504>0, K1502/K1504, 0)","v":9.3363259866289669E-2},null,{"$f":"ROUND(M1504*L1502,0)","v":748303},705321,{"$f":"N1502-O1502","v":42982},6.0939628906554608,79.999999999080003,78.999999999869999,299,852,1493,78.999999999869999,1402703.783325623,1493,299,852,1493,78.999999999869999,1402703.783325623]
["02990998","0299","0998",1494,299,"",998,"",0,0,0,{"$f":"IF(K1504>0, K1503/K1504, 0)","v":0},null,{"$f":"ROUND(M1504*L1503,0)","v":0},0,{"$f":"N1503-O1503","v":0},0,0,0,299,998,1494,0,0,1494,299,998,1494,0,0]
["02990999","0299","0999",1495,299,"Townsend                     ",999,"Total",15296499.435781283,1,{"$f":"SUM(K1500:K1503)","v":15024151.741643418},{"$f":"SUM(L1500:L1503)","v":1},{"$f":"VLOOKUP(E1504,town351,24)","v":8014957},{"$f":"SUM(N1500:N1503)","v":8014957},7783023,{"$f":"SUM(P1500:P1503)","v":231934},2.9799989027399767,1366.48297406182,1296.08244681729,299,999,1495,1296.08244681729,15024151.741643418,1495,299,999,1495,1296.08244681729,15024151.741643418]
["03000300","0300","0300",1496,300,"Truro                        ",300,"Truro",2296768.69,0.95423477157945047,{"$f":"X1505","v":2253510.1199999996},{"$f":"IF(K1509>0, K1505/K1509, 0)","v":0.91583614424417958},null,{"$f":"ROUND(M1509*L1505,0)","v":1859146},1894834,{"$f":"N1505-O1505","v":-35688},-1.8834367548819579,213,199,300,300,1496,199,2253510.1199999996,1496,300,300,1496,199,2253510.1199999996]
["03000815","0300","0815",1497,300,"Truro                        ",815,"Cape Cod",110153.33632522571,4.5765228420549454E-2,207093.92381591065,{"$f":"IF(K1509>0, K1506/K1509, 0)","v":8.4163855755820402E-2},null,{"$f":"ROUND(M1509*L1506,0)","v":170852},90877,{"$f":"N1506-O1506","v":79975},88.00356525853627,5.9999999995,10.99999999962,300,815,1497,10.99999999962,207093.92381591065,1497,300,815,1497,10.99999999962,207093.92381591065]
["03000998","0300","0998",1498,300,"",998,"",0,0,0,{"$f":"IF(K1509>0, K1507/K1509, 0)","v":0},null,{"$f":"ROUND(M1509*L1507,0)","v":0},0,{"$f":"N1507-O1507","v":0},0,0,0,300,998,1498,0,0,1498,300,998,1498,0,0]
["03000998","0300","0998",1499,300,"",998,"",0,0,0,{"$f":"IF(K1509>0, K1508/K1509, 0)","v":0},null,{"$f":"ROUND(M1509*L1508,0)","v":0},0,{"$f":"N1508-O1508","v":0},0,0,0,300,998,1499,0,0,1499,300,998,1499,0,0]
["03000999","0300","0999",1500,300,"Truro                        ",999,"Total",2406922.0263252258,0.99999999999999989,{"$f":"SUM(K1505:K1508)","v":2460604.0438159104},{"$f":"SUM(L1505:L1508)","v":1},{"$f":"VLOOKUP(E1509,town351,24)","v":2029998},{"$f":"SUM(N1505:N1508)","v":2029998},1985711,{"$f":"SUM(P1505:P1508)","v":44287},2.230284265937994,218.99999999950001,209.99999999962,300,999,1500,209.99999999962,2460604.0438159104,1500,300,999,1500,209.99999999962,2460604.0438159104]
["03010301","0301","0301",1501,301,"Tyngsborough                 ",301,"Tyngsborough",17653818.739999998,0.90336775922910395,{"$f":"X1510","v":18200500.57},{"$f":"IF(K1514>0, K1510/K1514, 0)","v":0.90563100714236699},null,{"$f":"ROUND(M1514*L1510,0)","v":12713256},12650386,{"$f":"N1510-O1510","v":62870},0.49698088263867995,1645,1626,301,301,1501,1626,18200500.57,1501,301,301,1501,1626,18200500.57]
["03010828","0301","0828",1502,301,"Tyngsborough                 ",828,"Greater Lowell",1888409.2835737281,9.6632240770896036E-2,1896537.2152122783,{"$f":"IF(K1514>0, K1511/K1514, 0)","v":9.4368992857633019E-2},null,{"$f":"ROUND(M1514*L1511,0)","v":1324753},1353198,{"$f":"N1511-O1511","v":-28445},-2.1020574963900329,102.00000000288,96.999999994799992,301,828,1502,96.999999994799992,1896537.2152122783,1502,301,828,1502,96.999999994799992,1896537.2152122783]
["03010998","0301","0998",1503,301,"",998,"",0,0,0,{"$f":"IF(K1514>0, K1512/K1514, 0)","v":0},null,{"$f":"ROUND(M1514*L1512,0)","v":0},0,{"$f":"N1512-O1512","v":0},0,0,0,301,998,1503,0,0,1503,301,998,1503,0,0]
["03010998","0301","0998",1504,301,"",998,"",0,0,0,{"$f":"IF(K1514>0, K1513/K1514, 0)","v":0},null,{"$f":"ROUND(M1514*L1513,0)","v":0},0,{"$f":"N1513-O1513","v":0},0,0,0,301,998,1504,0,0,1504,301,998,1504,0,0]
["03010999","0301","0999",1505,301,"Tyngsborough                 ",999,"Total",19542228.023573726,1,{"$f":"SUM(K1510:K1513)","v":20097037.785212278},{"$f":"SUM(L1510:L1513)","v":1},{"$f":"VLOOKUP(E1514,town351,24)","v":14038009},{"$f":"SUM(N1510:N1513)","v":14038009},14003584,{"$f":"SUM(P1510:P1513)","v":34425},0.24582992468213852,1747.0000000028799,1722.9999999948,301,999,1505,1722.9999999948,20097037.785212278,1505,301,999,1505,1722.9999999948,20097037.785212278]
["03020302","0302","0302",1506,302,"Tyringham                    ",302,"Tyringham",321152.71999999997,1,{"$f":"X1515","v":305094.65999999997},{"$f":"IF(K1519>0, K1515/K1519, 0)","v":1},null,{"$f":"ROUND(M1519*L1515,0)","v":251703},264951,{"$f":"N1515-O1515","v":-13248},-5.0001698427256365,34,32,302,302,1506,32,305094.65999999997,1506,302,302,1506,32,305094.65999999997]
["03020998","0302","0998",1507,302,"",998,"",0,0,0,{"$f":"IF(K1519>0, K1516/K1519, 0)","v":0},null,{"$f":"ROUND(M1519*L1516,0)","v":0},0,{"$f":"N1516-O1516","v":0},0,0,0,302,998,1507,0,0,1507,302,998,1507,0,0]
["03020998","0302","0998",1508,302,"",998,"",0,0,0,{"$f":"IF(K1519>0, K1517/K1519, 0)","v":0},null,{"$f":"ROUND(M1519*L1517,0)","v":0},0,{"$f":"N1517-O1517","v":0},0,0,0,302,998,1508,0,0,1508,302,998,1508,0,0]
["03020998","0302","0998",1509,302,"",998,"",0,0,0,{"$f":"IF(K1519>0, K1518/K1519, 0)","v":0},null,{"$f":"ROUND(M1519*L1518,0)","v":0},0,{"$f":"N1518-O1518","v":0},0,0,0,302,998,1509,0,0,1509,302,998,1509,0,0]
["03020999","0302","0999",1510,302,"Tyringham                    ",999,"Total",321152.71999999997,1,{"$f":"SUM(K1515:K1518)","v":305094.65999999997},{"$f":"SUM(L1515:L1518)","v":1},{"$f":"VLOOKUP(E1519,town351,24)","v":251703},{"$f":"SUM(N1515:N1518)","v":251703},264951,{"$f":"SUM(P1515:P1518)","v":-13248},-5.0001698427256365,34,32,302,999,1510,32,305094.65999999997,1510,302,999,1510,32,305094.65999999997]
["03030303","0303","0303",1511,303,"Upton                        ",303,"Upton",87946.800000000017,6.1752017322707397E-3,{"$f":"X1520","v":89716.680000000008},{"$f":"IF(K1524>0, K1520/K1524, 0)","v":6.3625275588521076E-3},null,{"$f":"ROUND(M1524*L1520,0)","v":68168},63657,{"$f":"N1520-O1520","v":4511},7.0864162621549873,6,6,303,303,1511,6,89716.680000000008,1511,303,303,1511,6,89716.680000000008]
["03030710","0303","0710",1512,303,"Upton                        ",710,"Mendon Upton",12622881.271920269,0.88631807293284015,12560043.844450723,{"$f":"IF(K1524>0, K1521/K1524, 0)","v":0.89073319588629996},null,{"$f":"ROUND(M1524*L1521,0)","v":9543250},9136616,{"$f":"N1521-O1521","v":406634},4.450597464093927,1208.45714286514,1167.2342427050398,303,710,1512,1167.2342427050398,12560043.844450723,1512,303,710,1512,1167.2342427050398,12560043.844450723]
["03030805","0303","0805",1513,303,"Upton                        ",805,"Blackstone Valley",1531103.4167956957,0.10750672533488911,1451031.8367828687,{"$f":"IF(K1524>0, K1522/K1524, 0)","v":0.10290427655484793},null,{"$f":"ROUND(M1524*L1522,0)","v":1102509},1108234,{"$f":"N1522-O1522","v":-5725},-0.51658765206626034,92.999999996100001,86.000000001960004,303,805,1513,86.000000001960004,1451031.8367828687,1513,303,805,1513,86.000000001960004,1451031.8367828687]
["03030998","0303","0998",1514,303,"",998,"",0,0,0,{"$f":"IF(K1524>0, K1523/K1524, 0)","v":0},null,{"$f":"ROUND(M1524*L1523,0)","v":0},0,{"$f":"N1523-O1523","v":0},0,0,0,303,998,1514,0,0,1514,303,998,1514,0,0]
["03030999","0303","0999",1515,303,"Upton                        ",999,"Total",14241931.488715965,1,{"$f":"SUM(K1520:K1523)","v":14100792.361233592},{"$f":"SUM(L1520:L1523)","v":1},{"$f":"VLOOKUP(E1524,town351,24)","v":10713927},{"$f":"SUM(N1520:N1523)","v":10713927},10308507,{"$f":"SUM(P1520:P1523)","v":405420},3.9328682611361665,1307.4571428612401,1259.2342427069998,303,999,1515,1259.2342427069998,14100792.361233592,1515,303,999,1515,1259.2342427069998,14100792.361233592]
["03040304","0304","0304",1516,304,"Uxbridge                     ",304,"Uxbridge",19464063.84,0.90368865818109878,{"$f":"X1525","v":19398107.32},{"$f":"IF(K1529>0, K1525/K1529, 0)","v":0.89911552478635781},null,{"$f":"ROUND(M1529*L1525,0)","v":12927160},12445154,{"$f":"N1525-O1525","v":482006},3.8730416674634962,1776,1693,304,304,1516,1693,19398107.32,1516,304,304,1516,1693,19398107.32]
["03040805","0304","0805",1517,304,"Uxbridge                     ",805,"Blackstone Valley",2074398.1776337444,9.6311341818901219E-2,2176547.755174303,{"$f":"IF(K1529>0, K1526/K1529, 0)","v":0.10088447521364226},null,{"$f":"ROUND(M1529*L1526,0)","v":1450481},1326352,{"$f":"N1526-O1526","v":124129},9.358677032944497,125.99999999711999,129.00000000294,304,805,1517,129.00000000294,2176547.755174303,1517,304,805,1517,129.00000000294,2176547.755174303]
["03040998","0304","0998",1518,304,"",998,"",0,0,0,{"$f":"IF(K1529>0, K1527/K1529, 0)","v":0},null,{"$f":"ROUND(M1529*L1527,0)","v":0},0,{"$f":"N1527-O1527","v":0},0,0,0,304,998,1518,0,0,1518,304,998,1518,0,0]
["03040998","0304","0998",1519,304,"",998,"",0,0,0,{"$f":"IF(K1529>0, K1528/K1529, 0)","v":0},null,{"$f":"ROUND(M1529*L1528,0)","v":0},0,{"$f":"N1528-O1528","v":0},0,0,0,304,998,1519,0,0,1519,304,998,1519,0,0]
["03040999","0304","0999",1520,304,"Uxbridge                     ",999,"Total",21538462.017633744,1,{"$f":"SUM(K1525:K1528)","v":21574655.075174302},{"$f":"SUM(L1525:L1528)","v":1},{"$f":"VLOOKUP(E1529,town351,24)","v":14377641},{"$f":"SUM(N1525:N1528)","v":14377641},13771506,{"$f":"SUM(P1525:P1528)","v":606135},4.4013704819211492,1901.9999999971201,1822.0000000029399,304,999,1520,1822.0000000029399,21574655.075174302,1520,304,999,1520,1822.0000000029399,21574655.075174302]
["03050305","0305","0305",1521,305,"Wakefield                    ",305,"Wakefield",38545137.935350008,0.96162316497972899,{"$f":"X1530","v":38638839.541639999},{"$f":"IF(K1534>0, K1530/K1534, 0)","v":0.95082432311981113},null,{"$f":"ROUND(M1534*L1530,0)","v":31877042},31799739,{"$f":"N1530-O1530","v":77303},0.24309319016737843,3480,3384,305,305,1521,3384,38638839.541639999,1521,305,305,1521,3384,38638839.541639999]
["03050853","0305","0853",1522,305,"Wakefield                    ",853,"Northeast Metropolitan",1538274.5063235799,3.8376835020270866E-2,1998361.8867580513,{"$f":"IF(K1534>0, K1531/K1534, 0)","v":4.9175676880188854E-2},null,{"$f":"ROUND(M1534*L1531,0)","v":1648649},1269076,{"$f":"N1531-O1531","v":379573},29.909398649095877,81.99999999712999,99.999999999690004,305,853,1522,99.999999999690004,1998361.8867580513,1522,305,853,1522,99.999999999690004,1998361.8867580513]
["03050998","0305","0998",1523,305,"",998,null,0,0,0,{"$f":"IF(K1534>0, K1532/K1534, 0)","v":0},null,{"$f":"ROUND(M1534*L1532,0)","v":0},0,{"$f":"N1532-O1532","v":0},0,0,0,305,998,1523,0,0,1523,305,998,1523,0,0]
["03050998","0305","0998",1524,305,"",998,"",0,0,0,{"$f":"IF(K1534>0, K1533/K1534, 0)","v":0},null,{"$f":"ROUND(M1534*L1533,0)","v":0},0,{"$f":"N1533-O1533","v":0},0,0,0,305,998,1524,0,0,1524,305,998,1524,0,0]
["03050999","0305","0999",1525,305,"Wakefield                    ",999,"Total",40083412.441673592,0.99999999999999989,{"$f":"SUM(K1530:K1533)","v":40637201.42839805},{"$f":"SUM(L1530:L1533)","v":1},{"$f":"VLOOKUP(E1534,town351,24)","v":33525691},{"$f":"SUM(N1530:N1533)","v":33525691},33068815,{"$f":"SUM(P1530:P1533)","v":456876},1.3815916899350642,3561.9999999971301,3483.9999999996899,305,999,1525,3483.9999999996899,40637201.42839805,1525,305,999,1525,3483.9999999996899,40637201.42839805]
["03060306","0306","0306",1526,306,"Wales                        ",306,"Wales",1614023.6,0.49088779422206286,{"$f":"X1535","v":1543003.67},{"$f":"IF(K1539>0, K1535/K1539, 0)","v":0.45161993528642558},null,{"$f":"ROUND(M1539*L1535,0)","v":564773},613294,{"$f":"N1535-O1535","v":-48521},-7.911539979194318,145,130,306,306,1526,130,1543003.67,1526,306,306,1526,130,1543003.67]
["03060770","0306","0770",1527,306,"Wales                        ",770,"Tantasqua",1673944.8909620391,0.50911220577793714,1873594.1137568199,{"$f":"IF(K1539>0, K1536/K1539, 0)","v":0.54838006471357448},null,{"$f":"ROUND(M1539*L1536,0)","v":685776},636062,{"$f":"N1536-O1536","v":49714},7.8159047388462133,131.1668789874,141.99999999752001,306,770,1527,141.99999999752001,1873594.1137568199,1527,306,770,1527,141.99999999752001,1873594.1137568199]
["03060998","0306","0998",1528,306,"",998,"",0,0,0,{"$f":"IF(K1539>0, K1537/K1539, 0)","v":0},null,{"$f":"ROUND(M1539*L1537,0)","v":0},0,{"$f":"N1537-O1537","v":0},0,0,0,306,998,1528,0,0,1528,306,998,1528,0,0]
["03060998","0306","0998",1529,306,"",998,"",0,0,0,{"$f":"IF(K1539>0, K1538/K1539, 0)","v":0},null,{"$f":"ROUND(M1539*L1538,0)","v":0},0,{"$f":"N1538-O1538","v":0},0,0,0,306,998,1529,0,0,1529,306,998,1529,0,0]
["03060999","0306","0999",1530,306,"Wales                        ",999,"Total",3287968.4909620392,1,{"$f":"SUM(K1535:K1538)","v":3416597.7837568196},{"$f":"SUM(L1535:L1538)","v":1},{"$f":"VLOOKUP(E1539,town351,24)","v":1250549},{"$f":"SUM(N1535:N1538)","v":1250549},1249356,{"$f":"SUM(P1535:P1538)","v":1193},9.5489196033796617E-2,276.16687898739997,271.99999999752004,306,999,1530,271.99999999752004,3416597.7837568196,1530,306,999,1530,271.99999999752004,3416597.7837568196]
["03070307","0307","0307",1531,307,"Walpole                      ",307,"Walpole",39454988.392580003,0.961062140496179,{"$f":"X1540","v":40749021.079649992},{"$f":"IF(K1544>0, K1540/K1544, 0)","v":0.95412559006081843},null,{"$f":"ROUND(M1544*L1540,0)","v":33446471},32550365,{"$f":"N1540-O1540","v":896106},2.7529829542618032,3587,3573,307,307,1531,3573,40749021.079649992,1531,307,307,1531,3573,40749021.079649992]
["03070878","0307","0878",1532,307,"Walpole                      ",878,"Tri County",1149483.47807722,2.7999629372939896E-2,1551059.630162573,{"$f":"IF(K1544>0, K1541/K1544, 0)","v":3.6317576364734878E-2},null,{"$f":"ROUND(M1544*L1541,0)","v":1273097},948324,{"$f":"N1541-O1541","v":324773},34.247050586086608,65.0000000016,83.091814157450003,307,878,1532,83.091814157450003,1551059.630162573,1532,307,878,1532,83.091814157450003,1551059.630162573]
["03070915","0307","0915",1533,307,"Walpole                      ",915,"Norfolk County",449052.90164325462,1.0938230130881195E-2,408155.50577048282,{"$f":"IF(K1544>0, K1542/K1544, 0)","v":9.5568335744466593E-3},null,{"$f":"ROUND(M1544*L1542,0)","v":335011},370469,{"$f":"N1542-O1542","v":-35458},-9.571111213083956,24.999999999340002,21.99999999932,307,915,1533,21.99999999932,408155.50577048282,1533,307,915,1533,21.99999999932,408155.50577048282]
["03070998","0307","0998",1534,307,"",998,"",0,0,0,{"$f":"IF(K1544>0, K1543/K1544, 0)","v":0},null,{"$f":"ROUND(M1544*L1543,0)","v":0},0,{"$f":"N1543-O1543","v":0},0,0,0,307,998,1534,0,0,1534,307,998,1534,0,0]
["03070999","0307","0999",1535,307,"Walpole                      ",999,"Total",41053524.772300474,1,{"$f":"SUM(K1540:K1543)","v":42708236.215583049},{"$f":"SUM(L1540:L1543)","v":1},{"$f":"VLOOKUP(E1544,town351,24)","v":35054579},{"$f":"SUM(N1540:N1543)","v":35054579},33869158,{"$f":"SUM(P1540:P1543)","v":1185421},3.5000013876931928,3677.00000000094,3678.0918141567699,307,999,1535,3678.0918141567699,42708236.215583049,1535,307,999,1535,3678.0918141567699,42708236.215583049]
["03080308","0308","0308",1536,308,"Waltham                      ",308,"Waltham",78968509.286119998,1,{"$f":"X1545","v":79126547.643249989},{"$f":"IF(K1549>0, K1545/K1549, 0)","v":1},null,{"$f":"ROUND(M1549*L1545,0)","v":65279402},63760767,{"$f":"N1545-O1545","v":1518635},2.3817702820293865,5746,5524,308,308,1536,5524,79126547.643249989,1536,308,308,1536,5524,79126547.643249989]
[{"$f":"B1546&C1546","v":"03080998"},"0308","0998",1537,308,"",998,"",0,0,0,{"$f":"IF(K1549>0, K1546/K1549, 0)","v":0},null,{"$f":"ROUND(M1549*L1546,0)","v":0},0,{"$f":"N1546-O1546","v":0},0,0,0,{"$f":"VLOOKUP($D1546, foundoptions, VLOOKUP($T$6, foundoptcell, 2, FALSE), FALSE)","v":308},{"$f":"VLOOKUP($D1546, foundoptions, VLOOKUP($T$6, foundoptcell, 2, FALSE)+1, FALSE)","v":998},{"$f":"VLOOKUP($D1546, foundoptions, VLOOKUP($T$6, foundoptcell, 2, FALSE)+2, FALSE)","v":1537},{"$f":"VLOOKUP($D1546, foundoptions, VLOOKUP($T$6, foundoptcell, 2, FALSE)+3, FALSE)","v":0},{"$f":"VLOOKUP($D1546, foundoptions, VLOOKUP($T$6, foundoptcell, 2, FALSE)+4, FALSE)","v":0},1537,308,998,1537,0,0]
["03080998","0308","0998",1538,308,"",998,"",0,0,0,{"$f":"IF(K1549>0, K1547/K1549, 0)","v":0},null,{"$f":"ROUND(M1549*L1547,0)","v":0},0,{"$f":"N1547-O1547","v":0},0,0,{"$f":"W1547","v":0},308,998,1538,0,0,{"$f":"D1547","v":1538},308,998,1538,0,0]
["03080998","0308","0998",1539,308,"",998,"",0,0,0,{"$f":"IF(K1549>0, K1548/K1549, 0)","v":0},null,{"$f":"ROUND(M1549*L1548,0)","v":0},0,{"$f":"N1548-O1548","v":0},0,0,0,308,998,1539,0,0,1539,308,998,1539,0,0]
["03080999","0308","0999",1540,308,"Waltham                      ",999,"Total",78968509.286119998,1,{"$f":"SUM(K1545:K1548)","v":79126547.643249989},{"$f":"SUM(L1545:L1548)","v":1},{"$f":"VLOOKUP(E1549,town351,24)","v":65279402},{"$f":"SUM(N1545:N1548)","v":65279402},63760767,{"$f":"SUM(P1545:P1548)","v":1518635},2.3817702820293865,5746,5524,308,999,1540,5524,79126547.643249989,1540,308,999,1540,5524,79126547.643249989]
["03090309","0309","0309",1541,309,"Ware                         ",309,"Ware",15723620.550000001,0.8661120669997121,{"$f":"X1550","v":16595927.159999996},{"$f":"IF(K1554>0, K1550/K1554, 0)","v":0.88587163545975667},null,{"$f":"ROUND(M1554*L1550,0)","v":5393117},5305670,{"$f":"N1550-O1550","v":87447},1.6481801544385535,1289,1277,309,309,1541,1277,16595927.159999996,1541,309,309,1541,1277,16595927.159999996]
["03090860","0309","0860",1542,309,"Ware                         ",860,"Pathfinder",2430635.8668029611,0.13388793300028787,2138081.80438784,{"$f":"IF(K1554>0, K1551/K1554, 0)","v":0.11412836454024325},null,{"$f":"ROUND(M1554*L1551,0)","v":694805},820177,{"$f":"N1551-O1551","v":-125372},-15.285968760401719,133.99999999734001,114.00000000015,309,860,1542,114.00000000015,2138081.80438784,1542,309,860,1542,114.00000000015,2138081.80438784]
["03090998","0309","0998",1543,309,"",998,"",0,0,0,{"$f":"IF(K1554>0, K1552/K1554, 0)","v":0},null,{"$f":"ROUND(M1554*L1552,0)","v":0},0,{"$f":"N1552-O1552","v":0},{"$f":"IF(O1552>0,P1552*100/O1552,IF(P1552>0,100,0))","v":0},0,0,309,998,1543,0,0,1543,309,998,1543,0,0]
["03090998","0309","0998",1544,309,"",998,"",0,0,0,{"$f":"IF(K1554>0, K1553/K1554, 0)","v":0},null,{"$f":"ROUND(M1554*L1553,0)","v":0},0,{"$f":"N1553-O1553","v":0},{"$f":"IF(O1553>0,P1553*100/O1553,IF(P1553>0,100,0))","v":0},0,0,309,998,1544,0,0,1544,309,998,1544,0,0]
["03090999","0309","0999",1545,309,"Ware                         ",999,"Total",18154256.416802961,1,{"$f":"SUM(K1550:K1553)","v":18734008.964387838},{"$f":"SUM(L1550:L1553)","v":0.99999999999999989},{"$f":"VLOOKUP(E1554,town351,24)","v":6087922},{"$f":"SUM(N1550:N1553)","v":6087922},6125847,{"$f":"SUM(P1550:P1553)","v":-37925},{"$f":"IF(O1554>0,P1554*100/O1554,IF(P1554>0,100,0))","v":-0.61909806105180232},1422.99999999734,1391.0000000001501,309,999,1545,1391.0000000001501,18734008.964387838,1545,309,999,1545,1391.0000000001501,18734008.964387838]
["03100310","0310","0310",1546,310,"Wareham                      ",310,"Wareham",29995900.239999998,0.87117388040123012,{"$f":"X1555","v":30246630.430000003},{"$f":"IF(K1559>0, K1555/K1559, 0)","v":0.87153969648848872},null,{"$f":"ROUND(M1559*L1555,0)","v":19008275},18760166,{"$f":"N1555-O1555","v":248109},1.3225309413573418,2403,2269,310,310,1546,2269,30246630.430000003,1546,310,310,1546,2269,30246630.430000003]
["03100879","0310","0879",1547,310,"Wareham                      ",879,"Upper Cape Cod",4435687.890471736,0.12882611959876983,4458192.0260124784,{"$f":"IF(K1559>0, K1556/K1559, 0)","v":0.12846030351151136},null,{"$f":"ROUND(M1559*L1556,0)","v":2801718},2774187,{"$f":"N1556-O1556","v":27531},0.99239885415078366,256.00000000078001,249.98548812941999,310,879,1547,249.98548812941999,4458192.0260124784,1547,310,879,1547,249.98548812941999,4458192.0260124784]
["03100998","0310","0998",1548,310,"",998,"",0,0,0,{"$f":"IF(K1559>0, K1557/K1559, 0)","v":0},null,{"$f":"ROUND(M1559*L1557,0)","v":0},0,{"$f":"N1557-O1557","v":0},0,0,0,310,998,1548,0,0,1548,310,998,1548,0,0]
["03100998","0310","0998",1549,310,"",998,"",0,0,0,{"$f":"IF(K1559>0, K1558/K1559, 0)","v":0},null,{"$f":"ROUND(M1559*L1558,0)","v":0},0,{"$f":"N1558-O1558","v":0},0,0,0,310,998,1549,0,0,1549,310,998,1549,0,0]
["03100999","0310","0999",1550,310,"Wareham                      ",999,"Total",34431588.130471736,1,{"$f":"SUM(K1555:K1558)","v":34704822.45601248},{"$f":"SUM(L1555:L1558)","v":1},{"$f":"VLOOKUP(E1559,town351,24)","v":21809993},{"$f":"SUM(N1555:N1558)","v":21809993},21534353,{"$f":"SUM(P1555:P1558)","v":275640},1.2800013076780157,2659.0000000007799,2518.98548812942,310,999,1550,2518.98548812942,34704822.45601248,1550,310,999,1550,2518.98548812942,34704822.45601248]
["03110311","0311","0311",1551,311,"Warren                       ",311,"Warren",0,0,{"$f":"X1560","v":0},{"$f":"IF(K1564>0, K1560/K1564, 0)","v":0},null,{"$f":"ROUND(M1564*L1560,0)","v":0},0,{"$f":"N1560-O1560","v":0},0,0,0,311,311,1551,0,0,1551,311,311,1551,0,0]
["03110778","0311","0778",1552,311,"Warren                       ",778,"Quaboag",8569211.3221667744,0.9025633950873222,8507475.3681874163,{"$f":"IF(K1564>0, K1561/K1564, 0)","v":0.91341268731892977},null,{"$f":"ROUND(M1564*L1561,0)","v":2682996},2592121,{"$f":"N1561-O1561","v":90875},3.505816279409796,713.49873843399996,662.07801418408008,311,778,1552,662.07801418408008,8507475.3681874163,1552,311,778,1552,662.07801418408008,8507475.3681874163]
["03110860","0311","0860",1553,311,"Warren                       ",860,"Pathfinder",925092.75531878683,9.7436604912677832E-2,806469.45248149324,{"$f":"IF(K1564>0, K1562/K1564, 0)","v":8.65873126810702E-2},null,{"$f":"ROUND(M1564*L1562,0)","v":254336},279833,{"$f":"N1562-O1562","v":-25497},-9.1115057909538901,51.00000000136,42.999999997349995,311,860,1553,42.999999997349995,806469.45248149324,1553,311,860,1553,42.999999997349995,806469.45248149324]
["03110998","0311","0998",1554,311,"",998,"",0,0,0,{"$f":"IF(K1564>0, K1563/K1564, 0)","v":0},null,{"$f":"ROUND(M1564*L1563,0)","v":0},0,{"$f":"N1563-O1563","v":0},0,0,0,311,998,1554,0,0,1554,311,998,1554,0,0]
["03110999","0311","0999",1555,311,"Warren                       ",999,"Total",9494304.0774855614,1,{"$f":"SUM(K1560:K1563)","v":9313944.8206689097},{"$f":"SUM(L1560:L1563)","v":1},{"$f":"VLOOKUP(E1564,town351,24)","v":2937332},{"$f":"SUM(N1560:N1563)","v":2937332},2871954,{"$f":"SUM(P1560:P1563)","v":65378},2.2764292185738353,764.49873843536,705.07801418143004,311,999,1555,705.07801418143004,9313944.8206689097,1555,311,999,1555,705.07801418143004,9313944.8206689097]
["03120312","0312","0312",1556,312,"Warwick                      ",312,"Warwick",0,0,{"$f":"X1565","v":0},{"$f":"IF(K1569>0, K1565/K1569, 0)","v":0},null,{"$f":"ROUND(M1569*L1565,0)","v":0},0,{"$f":"N1565-O1565","v":0},0,0,0,312,312,1556,0,0,1556,312,312,1556,0,0]
["03120750","0312","0750",1557,312,"Warwick                      ",750,"Pioneer",678058.73688357265,0.8617871936046998,609204.81032722059,{"$f":"IF(K1569>0, K1566/K1569, 0)","v":0.84271423880183527},null,{"$f":"ROUND(M1569*L1566,0)","v":442501},438612,{"$f":"N1566-O1566","v":3889},0.88666064767949804,60.184249626240003,51.66559485306,312,750,1557,51.66559485306,609204.81032722059,1557,312,750,1557,51.66559485306,609204.81032722059]
["03120818","0312","0818",1558,312,"Warwick                      ",818,"Franklin County",108746.56947909875,0.13821280639530018,113703.12486251042,{"$f":"IF(K1569>0, K1567/K1569, 0)","v":0.15728576119816481},null,{"$f":"ROUND(M1569*L1567,0)","v":82589},70344,{"$f":"N1567-O1567","v":12245},17.407312635050609,5.9999999997,6.0000000006800001,312,818,1558,6.0000000006800001,113703.12486251042,1558,312,818,1558,6.0000000006800001,113703.12486251042]
["03120998","0312","0998",1559,312,"",998,"",0,0,0,{"$f":"IF(K1569>0, K1568/K1569, 0)","v":0},null,{"$f":"ROUND(M1569*L1568,0)","v":0},0,{"$f":"N1568-O1568","v":0},0,0,0,312,998,1559,0,0,1559,312,998,1559,0,0]
["03120999","0312","0999",1560,312,"Warwick                      ",999,"Total",786805.30636267143,1,{"$f":"SUM(K1565:K1568)","v":722907.93518973095},{"$f":"SUM(L1565:L1568)","v":1},{"$f":"VLOOKUP(E1569,town351,24)","v":525090},{"$f":"SUM(N1565:N1568)","v":525090},508956,{"$f":"SUM(P1565:P1568)","v":16134},3.1700186263645582,66.184249625939998,57.665594853740004,312,999,1560,57.665594853740004,722907.93518973095,1560,312,999,1560,57.665594853740004,722907.93518973095]
["03130313","0313","0313",1561,313,"Washington                   ",313,"Washington",14657.8,2.1184691115998775E-2,{"$f":"X1570","v":0},{"$f":"IF(K1574>0, K1570/K1574, 0)","v":0},null,{"$f":"ROUND(M1574*L1570,0)","v":0},10895,{"$f":"N1570-O1570","v":-10895},-100,1,0,313,313,1561,0,0,1561,313,313,1561,0,0]
["03130635","0313","0635",1562,313,"Washington                   ",635,"Central Berkshire",677247.49707229773,0.97881530888400115,706907.6041834465,{"$f":"IF(K1574>0, K1571/K1574, 0)","v":1},null,{"$f":"ROUND(M1574*L1571,0)","v":522494},503408,{"$f":"N1571-O1571","v":19086},3.7913581031688013,58.390180877879992,58.231770828280006,313,635,1562,58.231770828280006,706907.6041834465,1562,313,635,1562,58.231770828280006,706907.6041834465]
["03130998","0313","0998",1563,313,"",998,"",0,0,0,{"$f":"IF(K1574>0, K1572/K1574, 0)","v":0},null,{"$f":"ROUND(M1574*L1572,0)","v":0},0,{"$f":"N1572-O1572","v":0},0,0,0,313,998,1563,0,0,1563,313,998,1563,0,0]
["03130998","0313","0998",1564,313,"",998,"",0,0,0,{"$f":"IF(K1574>0, K1573/K1574, 0)","v":0},null,{"$f":"ROUND(M1574*L1573,0)","v":0},0,{"$f":"N1573-O1573","v":0},0,0,0,313,998,1564,0,0,1564,313,998,1564,0,0]
["03130999","0313","0999",1565,313,"Washington                   ",999,"Total",691905.29707229778,0.99999999999999989,{"$f":"SUM(K1570:K1573)","v":706907.6041834465},{"$f":"SUM(L1570:L1573)","v":1},{"$f":"VLOOKUP(E1574,town351,24)","v":522494},{"$f":"SUM(N1570:N1573)","v":522494},514303,{"$f":"SUM(P1570:P1573)","v":8191},1.5926409140137234,59.390180877879992,58.231770828280006,313,999,1565,58.231770828280006,706907.6041834465,1565,313,999,1565,58.231770828280006,706907.6041834465]
["03140314","0314","0314",1566,314,"Watertown                    ",314,"Watertown",33148323.506280009,1,{"$f":"X1575","v":33614343.104620002},{"$f":"IF(K1579>0, K1575/K1579, 0)","v":1},null,{"$f":"ROUND(M1579*L1575,0)","v":27731833},27347367,{"$f":"N1575-O1575","v":384466},1.405861120012029,2678,2607,314,314,1566,2607,33614343.104620002,1566,314,314,1566,2607,33614343.104620002]
["03140998","0314","0998",1567,314,"",998,"",0,0,0,{"$f":"IF(K1579>0, K1576/K1579, 0)","v":0},null,{"$f":"ROUND(M1579*L1576,0)","v":0},0,{"$f":"N1576-O1576","v":0},0,0,0,314,998,1567,0,0,1567,314,998,1567,0,0]
["03140998","0314","0998",1568,314,"",998,"",0,0,0,{"$f":"IF(K1579>0, K1577/K1579, 0)","v":0},null,{"$f":"ROUND(M1579*L1577,0)","v":0},0,{"$f":"N1577-O1577","v":0},0,0,0,314,998,1568,0,0,1568,314,998,1568,0,0]
["03140998","0314","0998",1569,314,"",998,"",0,0,0,{"$f":"IF(K1579>0, K1578/K1579, 0)","v":0},null,{"$f":"ROUND(M1579*L1578,0)","v":0},0,{"$f":"N1578-O1578","v":0},0,0,0,314,998,1569,0,0,1569,314,998,1569,0,0]
["03140999","0314","0999",1570,314,"Watertown                    ",999,"Total",33148323.506280009,1,{"$f":"SUM(K1575:K1578)","v":33614343.104620002},{"$f":"SUM(L1575:L1578)","v":1},{"$f":"VLOOKUP(E1579,town351,24)","v":27731833},{"$f":"SUM(N1575:N1578)","v":27731833},27347367,{"$f":"SUM(P1575:P1578)","v":384466},1.405861120012029,2678,2607,314,999,1570,2607,33614343.104620002,1570,314,999,1570,2607,33614343.104620002]
["03150315","0315","0315",1571,315,"Wayland                      ",315,"Wayland",28213341.421039999,1,{"$f":"X1580","v":29175011.111419998},{"$f":"IF(K1584>0, K1580/K1584, 0)","v":1},null,{"$f":"ROUND(M1584*L1580,0)","v":23897476},23276007,{"$f":"N1580-O1580","v":621469},2.669998337773313,2653,2647,315,315,1571,2647,29175011.111419998,1571,315,315,1571,2647,29175011.111419998]
["03150830","0315","0830",1572,315,null,998,null,0,0,0,{"$f":"IF(K1584>0, K1581/K1584, 0)","v":0},null,{"$f":"ROUND(M1584*L1581,0)","v":0},0,{"$f":"N1581-O1581","v":0},0,0,0,315,998,1572,0,0,1572,315,998,1572,0,0]
["03150998","0315","0998",1573,315,"",998,"",0,0,0,{"$f":"IF(K1584>0, K1582/K1584, 0)","v":0},null,{"$f":"ROUND(M1584*L1582,0)","v":0},0,{"$f":"N1582-O1582","v":0},0,0,0,315,998,1573,0,0,1573,315,998,1573,0,0]
["03150998","0315","0998",1574,315,"",998,"",0,0,0,{"$f":"IF(K1584>0, K1583/K1584, 0)","v":0},null,{"$f":"ROUND(M1584*L1583,0)","v":0},0,{"$f":"N1583-O1583","v":0},0,0,0,315,998,1574,0,0,1574,315,998,1574,0,0]
["03150999","0315","0999",1575,315,"Wayland                      ",999,"Total",28213341.421039999,1,{"$f":"SUM(K1580:K1583)","v":29175011.111419998},{"$f":"SUM(L1580:L1583)","v":1},{"$f":"VLOOKUP(E1584,town351,24)","v":23897476},{"$f":"SUM(N1580:N1583)","v":23897476},23276007,{"$f":"SUM(P1580:P1583)","v":621469},2.669998337773313,2653,2647,315,999,1575,2647,29175011.111419998,1575,315,999,1575,2647,29175011.111419998]
["03160316","0316","0316",1576,316,"Webster                      ",316,"Webster",26082448.07,0.92412867380556551,{"$f":"X1585","v":25360639.029999997},{"$f":"IF(K1589>0, K1585/K1589, 0)","v":0.9103090252522722},null,{"$f":"ROUND(M1589*L1585,0)","v":11546702},11471908,{"$f":"N1585-O1585","v":74794},0.65197524247928074,2023,1870,316,316,1576,1870,25360639.029999997,1576,316,316,1576,1870,25360639.029999997]
["03160876","0316","0876",1577,316,"Webster                      ",876,"Southern Worcester",2141379.2056891918,7.5871326194434485E-2,2498734.354738059,{"$f":"IF(K1589>0, K1586/K1589, 0)","v":8.969097474772772E-2},null,{"$f":"ROUND(M1589*L1586,0)","v":1137674},941848,{"$f":"N1586-O1586","v":195826},20.791677638005282,125.00000000477,140.00000000400001,316,876,1577,140.00000000400001,2498734.354738059,1577,316,876,1577,140.00000000400001,2498734.354738059]
["03160998","0316","0998",1578,316,"",998,"",0,0,0,{"$f":"IF(K1589>0, K1587/K1589, 0)","v":0},null,{"$f":"ROUND(M1589*L1587,0)","v":0},0,{"$f":"N1587-O1587","v":0},0,0,0,316,998,1578,0,0,1578,316,998,1578,0,0]
["03160998","0316","0998",1579,316,"",998,"",0,0,0,{"$f":"IF(K1589>0, K1588/K1589, 0)","v":0},null,{"$f":"ROUND(M1589*L1588,0)","v":0},0,{"$f":"N1588-O1588","v":0},0,0,0,316,998,1579,0,0,1579,316,998,1579,0,0]
["03160999","0316","0999",1580,316,"Webster                      ",999,"Total",28223827.275689192,1,{"$f":"SUM(K1585:K1588)","v":27859373.384738058},{"$f":"SUM(L1585:L1588)","v":0.99999999999999989},{"$f":"VLOOKUP(E1589,town351,24)","v":12684376},{"$f":"SUM(N1585:N1588)","v":12684376},12413756,{"$f":"SUM(P1585:P1588)","v":270620},2.180000960225092,2148.0000000047698,2010.000000004,316,999,1580,2010.000000004,27859373.384738058,1580,316,999,1580,2010.000000004,27859373.384738058]
["03170317","0317","0317",1581,317,"Wellesley                    ",317,"Wellesley",52873250.972209997,0.99932102074963469,{"$f":"X1590","v":49998663.731600001},{"$f":"IF(K1594>0, K1590/K1594, 0)","v":0.99962907725826367},null,{"$f":"ROUND(M1594*L1590,0)","v":41248897},43620433,{"$f":"N1590-O1590","v":-2371536},-5.4367548345978136,4876,4466,317,317,1581,4466,49998663.731600001,1581,317,317,1581,4466,49998663.731600001]
["03170915","0317","0915",1582,317,"Wellesley                    ",915,"Norfolk County",35924.232117679829,6.78979250365283E-4,18552.52298717244,{"$f":"IF(K1594>0, K1591/K1594, 0)","v":3.7092274173637071E-4},null,{"$f":"ROUND(M1594*L1591,0)","v":15306},29637,{"$f":"N1591-O1591","v":-14331},-48.355096669703414,1.9999999991799999,0.99999999983999999,317,915,1582,0.99999999983999999,18552.52298717244,1582,317,915,1582,0.99999999983999999,18552.52298717244]
["03170998","0317","0998",1583,317,"",998,"",0,0,0,{"$f":"IF(K1594>0, K1592/K1594, 0)","v":0},null,{"$f":"ROUND(M1594*L1592,0)","v":0},0,{"$f":"N1592-O1592","v":0},0,0,0,317,998,1583,0,0,1583,317,998,1583,0,0]
["03170998","0317","0998",1584,317,"",998,"",0,0,0,{"$f":"IF(K1594>0, K1593/K1594, 0)","v":0},null,{"$f":"ROUND(M1594*L1593,0)","v":0},0,{"$f":"N1593-O1593","v":0},0,0,0,317,998,1584,0,0,1584,317,998,1584,0,0]
["03170999","0317","0999",1585,317,"Wellesley                    ",999,"Total",52909175.20432768,1,{"$f":"SUM(K1590:K1593)","v":50017216.254587173},{"$f":"SUM(L1590:L1593)","v":1},{"$f":"VLOOKUP(E1594,town351,24)","v":41264203},{"$f":"SUM(N1590:N1593)","v":41264203},43650070,{"$f":"SUM(P1590:P1593)","v":-2385867},-5.465895014601351,4877.9999999991796,4466.9999999998399,317,999,1585,4466.9999999998399,50017216.254587173,1585,317,999,1585,4466.9999999998399,50017216.254587173]
["03180318","0318","0318",1586,318,"Wellfleet                    ",318,"Wellfleet",1257777.1000000001,0.38097170229746435,{"$f":"X1595","v":1274233.2699999998},{"$f":"IF(K1599>0, K1595/K1599, 0)","v":0.37518035486441426},null,{"$f":"ROUND(M1599*L1595,0)","v":1051243},1037666,{"$f":"N1595-O1595","v":13577},1.3084171592786118,115,114,318,318,1586,114,1274233.2699999998,1586,318,318,1586,114,1274233.2699999998]
["03180660","0318","0660",1587,318,"Wellfleet                    ",660,"Nauset",1805054.7783812811,0.54673820318408473,1820861.142564134,{"$f":"IF(K1599>0, K1596/K1599, 0)","v":0.53612736828479979},null,{"$f":"ROUND(M1599*L1596,0)","v":1502211},1489170,{"$f":"N1596-O1596","v":13041},0.87572271802413426,155.00000000315998,152.00000000360001,318,660,1587,152.00000000360001,1820861.142564134,1587,318,660,1587,152.00000000360001,1820861.142564134]
["03180815","0318","0815",1588,318,"Wellfleet                    ",815,"Cape Cod",238665.56201895699,7.229009451845092E-2,301227.52561541897,{"$f":"IF(K1599>0, K1597/K1599, 0)","v":8.8692276850785998E-2},null,{"$f":"ROUND(M1599*L1597,0)","v":248513},196899,{"$f":"N1597-O1597","v":51614},26.213439377548895,12.99999999788,16.000000002900002,318,815,1588,16.000000002900002,301227.52561541897,1588,318,815,1588,16.000000002900002,301227.52561541897]
["03180998","0318","0998",1589,318,"",998,"",0,0,0,{"$f":"IF(K1599>0, K1598/K1599, 0)","v":0},null,{"$f":"ROUND(M1599*L1598,0)","v":0},0,{"$f":"N1598-O1598","v":0},0,0,0,318,998,1589,0,0,1589,318,998,1589,0,0]
["03180999","0318","0999",1590,318,"Wellfleet                    ",999,"Total",3301497.4404002381,1,{"$f":"SUM(K1595:K1598)","v":3396321.9381795526},{"$f":"SUM(L1595:L1598)","v":1},{"$f":"VLOOKUP(E1599,town351,24)","v":2801966},{"$f":"SUM(N1595:N1598)","v":2801967},2723735,{"$f":"SUM(P1595:P1598)","v":78232},2.8722324308348646,283.00000000104001,282.00000000649999,318,999,1590,282.00000000649999,3396321.9381795526,1590,318,999,1590,282.00000000649999,3396321.9381795526]
["03190319","0319","0319",1591,319,"Wendell                      ",319,"Wendell",0,0,{"$f":"X1600","v":0},{"$f":"IF(K1604>0, K1600/K1604, 0)","v":0},null,{"$f":"ROUND(M1604*L1600,0)","v":0},0,{"$f":"N1600-O1600","v":0},0,0,0,319,319,1591,0,0,1591,319,319,1591,0,0]
["03190728","0319","0728",1592,319,"Wendell                      ",728,"New Salem Wendell",780928.53457901487,0.53372918485497389,852389.50526902115,{"$f":"IF(K1604>0, K1601/K1604, 0)","v":0.54220709933996247},null,{"$f":"ROUND(M1604*L1601,0)","v":325398},320476,{"$f":"N1601-O1601","v":4922},1.5358404373494428,68.35593220362999,66.490909090620008,319,728,1592,66.490909090620008,852389.50526902115,1592,319,728,1592,66.490909090620008,852389.50526902115]
["03190755","0319","0755",1593,319,"Wendell                      ",755,"Ralph C Mahar",482857.77178263589,0.33001135638277729,549129.47879633121,{"$f":"IF(K1604>0, K1602/K1604, 0)","v":0.34930263690453861},null,{"$f":"ROUND(M1604*L1602,0)","v":209629},198154,{"$f":"N1602-O1602","v":11475},5.79095047286454,38.123176659969999,41.134646964319998,319,755,1593,41.134646964319998,549129.47879633121,1593,319,755,1593,41.134646964319998,549129.47879633121]
["03190818","0319","0818",1594,319,"Wendell                      ",818,"Franklin County",199368.71071168102,0.13625945876224874,170554.68724335727,{"$f":"IF(K1604>0, K1603/K1604, 0)","v":0.10849026375549882},null,{"$f":"ROUND(M1604*L1603,0)","v":65109},81817,{"$f":"N1603-O1603","v":-16708},-20.421183861544666,10.999999999449999,8.9999999983600016,319,818,1594,8.9999999983600016,170554.68724335727,1594,319,818,1594,8.9999999983600016,170554.68724335727]
["03190999","0319","0999",1595,319,"Wendell                      ",999,"Total",1463155.0170733319,1,{"$f":"SUM(K1600:K1603)","v":1572073.6713087098},{"$f":"SUM(L1600:L1603)","v":0.99999999999999989},{"$f":"VLOOKUP(E1604,town351,24)","v":600136},{"$f":"SUM(N1600:N1603)","v":600136},600447,{"$f":"SUM(P1600:P1603)","v":-311},-5.1794746247379037E-2,117.47910886304999,116.6255560533,319,999,1595,116.6255560533,1572073.6713087098,1595,319,999,1595,116.6255560533,1572073.6713087098]
["03200320","0320","0320",1596,320,"Wenham                       ",320,"Wenham",0,0,{"$f":"X1605","v":0},{"$f":"IF(K1609>0, K1605/K1609, 0)","v":0},null,{"$f":"ROUND(M1609*L1605,0)","v":0},0,{"$f":"N1605-O1605","v":0},0,0,0,320,320,1596,0,0,1596,320,320,1596,0,0]
["03200675","0320","0675",1597,320,"Wenham                       ",675,"Hamilton Wenham",6817937.7779069711,0.97792966115914959,6122025.7977368031,{"$f":"IF(K1609>0, K1606/K1609, 0)","v":0.97403772899161556},null,{"$f":"ROUND(M1609*L1606,0)","v":5050671},5420689,{"$f":"N1606-O1606","v":-370018},-6.8260326316451652,641.7551704814,562.91085506640002,320,675,1597,562.91085506640002,6122025.7977368031,1597,320,675,1597,562.91085506640002,6122025.7977368031]
["03200817","0320","0817",1598,320,"Wenham                       ",817,"Essex North Shore",153870.16360244434,2.2070338840850374E-2,163178.16872012816,{"$f":"IF(K1609>0, K1607/K1609, 0)","v":2.5962271008384517E-2},null,{"$f":"ROUND(M1609*L1607,0)","v":134622},122336,{"$f":"N1607-O1607","v":12286},10.042832853779753,9.000000001850001,9.0000000055000005,320,817,1598,9.0000000055000005,163178.16872012816,1598,320,817,1598,9.0000000055000005,163178.16872012816]
["03200998","0320","0998",1599,320,"",998,null,0,0,0,{"$f":"IF(K1609>0, K1608/K1609, 0)","v":0},null,{"$f":"ROUND(M1609*L1608,0)","v":0},0,{"$f":"N1608-O1608","v":0},0,0,0,320,998,1599,0,0,1599,320,998,1599,0,0]
["03200999","0320","0999",1600,320,"Wenham                       ",999,"Total",6971807.9415094154,1,{"$f":"SUM(K1605:K1608)","v":6285203.9664569311},{"$f":"SUM(L1605:L1608)","v":1},{"$f":"VLOOKUP(E1609,town351,24)","v":5185293},{"$f":"SUM(N1605:N1608)","v":5185293},5543025,{"$f":"SUM(P1605:P1608)","v":-357732},-6.4537323934133441,650.75517048325003,571.91085507190007,320,999,1600,571.91085507190007,6285203.9664569311,1600,320,999,1600,571.91085507190007,6285203.9664569311]
[{"$f":"B1610&C1610","v":"03210321"},"0321","0321",1601,321,"Westborough                  ",321,"Westborough",40523119.020000003,0.98020568921155093,{"$f":"X1610","v":42200577.130000003},{"$f":"IF(K1614>0, K1610/K1614, 0)","v":0.97970535119654767},null,{"$f":"ROUND(M1614*L1610,0)","v":31967462},32212271,{"$f":"N1610-O1610","v":-244809},-0.75998677646788704,3783,3821,{"$f":"VLOOKUP($D1610, foundoptions, VLOOKUP($T$6, foundoptcell, 2, FALSE), FALSE)","v":321},{"$f":"VLOOKUP($D1610, foundoptions, VLOOKUP($T$6, foundoptcell, 2, FALSE)+1, FALSE)","v":321},{"$f":"VLOOKUP($D1610, foundoptions, VLOOKUP($T$6, foundoptcell, 2, FALSE)+2, FALSE)","v":1601},{"$f":"VLOOKUP($D1610, foundoptions, VLOOKUP($T$6, foundoptcell, 2, FALSE)+3, FALSE)","v":3821},{"$f":"VLOOKUP($D1610, foundoptions, VLOOKUP($T$6, foundoptcell, 2, FALSE)+4, FALSE)","v":42200577.130000003},1601,321,321,1601,3821,42200577.130000003]
["03210801","0321","0801",1602,321,"Westborough                  ",801,"Assabet Valley",818325.39927859721,1.9794310788449149E-2,874187.21466647857,{"$f":"IF(K1614>0, K1611/K1614, 0)","v":2.0294648803452373E-2},null,{"$f":"ROUND(M1614*L1611,0)","v":662208},650496,{"$f":"N1611-O1611","v":11712},1.8004722550177095,44.0000000032,{"$f":"W1611","v":45.000000004410005},321,801,1602,45.000000004410005,874187.21466647857,{"$f":"D1611","v":1602},321,801,1602,45.000000004410005,874187.21466647857]
["03210998","0321","0998",1603,321,"",998,"",0,0,0,{"$f":"IF(K1614>0, K1612/K1614, 0)","v":0},null,{"$f":"ROUND(M1614*L1612,0)","v":0},0,{"$f":"N1612-O1612","v":0},0,0,0,321,998,1603,0,0,1603,321,998,1603,0,0]
["03210998","0321","0998",1604,321,"",998,"",0,0,0,{"$f":"IF(K1614>0, K1613/K1614, 0)","v":0},null,{"$f":"ROUND(M1614*L1613,0)","v":0},0,{"$f":"N1613-O1613","v":0},0,0,0,321,998,1604,0,0,1604,321,998,1604,0,0]
["03210999","0321","0999",1605,321,"Westborough                  ",999,"Total",41341444.419278599,1,{"$f":"SUM(K1610:K1613)","v":43074764.344666481},{"$f":"SUM(L1610:L1613)","v":1},{"$f":"VLOOKUP(E1614,town351,24)","v":32629670},{"$f":"SUM(N1610:N1613)","v":32629670},32862767,{"$f":"SUM(P1610:P1613)","v":-233097},-0.70930424087539556,3827.0000000032001,3866.0000000044101,321,999,1605,3866.0000000044101,43074764.344666481,1605,321,999,1605,3866.0000000044101,43074764.344666481]
["03220322","0322","0322",1606,322,"West Boylston                ",322,"West Boylston",9693716.8899999987,1,{"$f":"X1615","v":9723140.6099999994},{"$f":"IF(K1619>0, K1615/K1619, 0)","v":1},null,{"$f":"ROUND(M1619*L1615,0)","v":7800056},7543146,{"$f":"N1615-O1615","v":256910},3.4058733584104033,854,832,322,322,1606,832,9723140.6099999994,1606,322,322,1606,832,9723140.6099999994]
["03220998","0322","0998",1607,322,"",998,"",0,0,0,{"$f":"IF(K1619>0, K1616/K1619, 0)","v":0},null,{"$f":"ROUND(M1619*L1616,0)","v":0},0,{"$f":"N1616-O1616","v":0},{"$f":"IF(O1616>0,P1616*100/O1616,IF(P1616>0,100,0))","v":0},0,0,322,998,1607,0,0,1607,322,998,1607,0,0]
["03220998","0322","0998",1608,322,"",998,"",0,0,0,{"$f":"IF(K1619>0, K1617/K1619, 0)","v":0},null,{"$f":"ROUND(M1619*L1617,0)","v":0},0,{"$f":"N1617-O1617","v":0},{"$f":"IF(O1617>0,P1617*100/O1617,IF(P1617>0,100,0))","v":0},0,0,322,998,1608,0,0,1608,322,998,1608,0,0]
["03220998","0322","0998",1609,322,"",998,"",0,0,0,{"$f":"IF(K1619>0, K1618/K1619, 0)","v":0},null,{"$f":"ROUND(M1619*L1618,0)","v":0},0,{"$f":"N1618-O1618","v":0},{"$f":"IF(O1618>0,P1618*100/O1618,IF(P1618>0,100,0))","v":0},0,0,322,998,1609,0,0,1609,322,998,1609,0,0]
["03220999","0322","0999",1610,322,"West Boylston                ",999,"Total",9693716.8899999987,1,{"$f":"SUM(K1615:K1618)","v":9723140.6099999994},{"$f":"SUM(L1615:L1618)","v":1},{"$f":"VLOOKUP(E1619,town351,24)","v":7800056},{"$f":"SUM(N1615:N1618)","v":7800056},7543146,{"$f":"SUM(P1615:P1618)","v":256910},{"$f":"IF(O1619>0,P1619*100/O1619,IF(P1619>0,100,0))","v":3.4058733584104033},854,832,322,999,1610,832,9723140.6099999994,1610,322,999,1610,832,9723140.6099999994]
["03230323","0323","0323",1611,323,"West Bridgewater             ",323,"West Bridgewater",12165316.310000001,0.94208074759453131,{"$f":"X1620","v":12509536.450000003},{"$f":"IF(K1624>0, K1620/K1624, 0)","v":0.93122633409204691},null,{"$f":"ROUND(M1624*L1620,0)","v":8120160},8009301,{"$f":"N1620-O1620","v":110859},1.3841282778609518,1107,1100,323,323,1611,1100,12509536.450000003,1611,323,323,1611,1100,12509536.450000003]
["03230872","0323","0872",1612,323,"West Bridgewater             ",872,"Southeastern",747925.30019360431,5.7919252405468691E-2,923864.2089245544,{"$f":"IF(K1624>0, K1621/K1624, 0)","v":6.8773665907953085E-2},null,{"$f":"ROUND(M1624*L1621,0)","v":599697},492413,{"$f":"N1621-O1621","v":107284},21.787402038532694,42.055445548759998,48.088834056479996,323,872,1612,48.088834056479996,923864.2089245544,1612,323,872,1612,48.088834056479996,923864.2089245544]
["03230998","0323","0998",1613,323,"",998,"",0,0,0,{"$f":"IF(K1624>0, K1622/K1624, 0)","v":0},null,{"$f":"ROUND(M1624*L1622,0)","v":0},0,{"$f":"N1622-O1622","v":0},0,0,0,323,998,1613,0,0,1613,323,998,1613,0,0]
["03230998","0323","0998",1614,323,"",998,"",0,0,0,{"$f":"IF(K1624>0, K1623/K1624, 0)","v":0},null,{"$f":"ROUND(M1624*L1623,0)","v":0},0,{"$f":"N1623-O1623","v":0},0,0,0,323,998,1614,0,0,1614,323,998,1614,0,0]
["03230999","0323","0999",1615,323,"West Bridgewater             ",999,"Total",12913241.610193605,1,{"$f":"SUM(K1620:K1623)","v":13433400.658924557},{"$f":"SUM(L1620:L1623)","v":1},{"$f":"VLOOKUP(E1624,town351,24)","v":8719857},{"$f":"SUM(N1620:N1623)","v":8719857},8501714,{"$f":"SUM(P1620:P1623)","v":218143},2.5658708349869213,1149.05544554876,1148.08883405648,323,999,1615,1148.08883405648,13433400.658924557,1615,323,999,1615,1148.08883405648,13433400.658924557]
["03240324","0324","0324",1616,324,"West Brookfield              ",324,"West Brookfield",656385.84,0.10588447845652954,{"$f":"X1625","v":609550.86},{"$f":"IF(K1629>0, K1625/K1629, 0)","v":9.4241127959651505E-2},null,{"$f":"ROUND(M1629*L1625,0)","v":327849},351215,{"$f":"N1625-O1625","v":-23366},-6.6529049157923206,41,37,324,324,1616,37,609550.86,1616,324,324,1616,37,609550.86]
["03240778","0324","0778",1617,324,"West Brookfield              ",778,"Quaboag",5542689.317833229,0.89411552154347052,5858441.1218125867,{"$f":"IF(K1629>0, K1626/K1629, 0)","v":0.90575887204034844},null,{"$f":"ROUND(M1629*L1626,0)","v":3150981},2965747,{"$f":"N1626-O1626","v":185234},6.2457788880845193,461.50126156599998,455.92198581591998,324,778,1617,455.92198581591998,5858441.1218125867,1617,324,778,1617,455.92198581591998,5858441.1218125867]
["03240998","0324","0998",1618,324,"",998,"",0,0,0,{"$f":"IF(K1629>0, K1627/K1629, 0)","v":0},null,{"$f":"ROUND(M1629*L1627,0)","v":0},0,{"$f":"N1627-O1627","v":0},0,0,0,324,998,1618,0,0,1618,324,998,1618,0,0]
["03240998","0324","0998",1619,324,"",998,"",0,0,0,{"$f":"IF(K1629>0, K1628/K1629, 0)","v":0},null,{"$f":"ROUND(M1629*L1628,0)","v":0},0,{"$f":"N1628-O1628","v":0},0,0,0,324,998,1619,0,0,1619,324,998,1619,0,0]
["03240999","0324","0999",1620,324,"West Brookfield              ",999,"Total",6199075.1578332288,1,{"$f":"SUM(K1625:K1628)","v":6467991.981812587},{"$f":"SUM(L1625:L1628)","v":1},{"$f":"VLOOKUP(E1629,town351,24)","v":3478830},{"$f":"SUM(N1625:N1628)","v":3478830},3316962,{"$f":"SUM(P1625:P1628)","v":161868},4.8800076696688111,502.50126156599998,492.92198581591998,324,999,1620,492.92198581591998,6467991.981812587,1620,324,999,1620,492.92198581591998,6467991.981812587]
["03250325","0325","0325",1621,325,"Westfield                    ",325,"Westfield",65292799.700000003,1,{"$f":"X1630","v":64714818.569999993},{"$f":"IF(K1634>0, K1630/K1634, 0)","v":1},null,{"$f":"ROUND(M1634*L1630,0)","v":28674517},27986427,{"$f":"N1630-O1630","v":688090},2.4586561192681011,5221,4980,325,325,1621,4980,64714818.569999993,1621,325,325,1621,4980,64714818.569999993]
["03250998","0325","0998",1622,325,"",998,"",0,0,0,{"$f":"IF(K1634>0, K1631/K1634, 0)","v":0},null,{"$f":"ROUND(M1634*L1631,0)","v":0},0,{"$f":"N1631-O1631","v":0},0,0,0,325,998,1622,0,0,1622,325,998,1622,0,0]
["03250998","0325","0998",1623,325,"",998,"",0,0,0,{"$f":"IF(K1634>0, K1632/K1634, 0)","v":0},null,{"$f":"ROUND(M1634*L1632,0)","v":0},0,{"$f":"N1632-O1632","v":0},0,0,0,325,998,1623,0,0,1623,325,998,1623,0,0]
["03250998","0325","0998",1624,325,"",998,"",0,0,0,{"$f":"IF(K1634>0, K1633/K1634, 0)","v":0},null,{"$f":"ROUND(M1634*L1633,0)","v":0},0,{"$f":"N1633-O1633","v":0},0,0,0,325,998,1624,0,0,1624,325,998,1624,0,0]
["03250999","0325","0999",1625,325,"Westfield                    ",999,"Total",65292799.700000003,1,{"$f":"SUM(K1630:K1633)","v":64714818.569999993},{"$f":"SUM(L1630:L1633)","v":1},{"$f":"VLOOKUP(E1634,town351,24)","v":28674517},{"$f":"SUM(N1630:N1633)","v":28674517},27986427,{"$f":"SUM(P1630:P1633)","v":688090},2.4586561192681011,5221,4980,325,999,1625,4980,64714818.569999993,1625,325,999,1625,4980,64714818.569999993]
["03260326","0326","0326",1626,326,"Westford                     ",326,"Westford",49470077.997149989,0.97807447325439312,{"$f":"X1635","v":49437144.66234},{"$f":"IF(K1639>0, K1635/K1639, 0)","v":0.97513387625149628},null,{"$f":"ROUND(M1639*L1635,0)","v":38453895},38573963,{"$f":"N1635-O1635","v":-120068},-0.31126695486279177,4715,4586,326,326,1626,4586,49437144.66234,1626,326,326,1626,4586,49437144.66234]
["03260852","0326","0852",1627,326,"Westford                     ",852,"Nashoba Valley",1108972.3205071937,2.192552674560698E-2,1260657.8305657981,{"$f":"IF(K1639>0, K1636/K1639, 0)","v":2.4866123748503763E-2},null,{"$f":"ROUND(M1639*L1636,0)","v":980583},864714,{"$f":"N1636-O1636","v":115869},13.39969053351744,64.000000001879997,70.999999998869995,326,852,1627,70.999999998869995,1260657.8305657981,1627,326,852,1627,70.999999998869995,1260657.8305657981]
["03260998","0326","0998",1628,326,"",998,"",0,0,0,{"$f":"IF(K1639>0, K1637/K1639, 0)","v":0},null,{"$f":"ROUND(M1639*L1637,0)","v":0},0,{"$f":"N1637-O1637","v":0},0,0,0,326,998,1628,0,0,1628,326,998,1628,0,0]
["03260998","0326","0998",1629,326,"",998,"",0,0,0,{"$f":"IF(K1639>0, K1638/K1639, 0)","v":0},null,{"$f":"ROUND(M1639*L1638,0)","v":0},0,{"$f":"N1638-O1638","v":0},0,0,0,326,998,1629,0,0,1629,326,998,1629,0,0]
["03260999","0326","0999",1630,326,"Westford                     ",999,"Total",50579050.31765718,1,{"$f":"SUM(K1635:K1638)","v":50697802.492905796},{"$f":"SUM(L1635:L1638)","v":1},{"$f":"VLOOKUP(E1639,town351,24)","v":39434478},{"$f":"SUM(N1635:N1638)","v":39434478},39438677,{"$f":"SUM(P1635:P1638)","v":-4199},-1.0646908870700708E-2,4779.0000000018799,4656.9999999988704,326,999,1630,4656.9999999988704,50697802.492905796,1630,326,999,1630,4656.9999999988704,50697802.492905796]
["03270327","0327","0327",1631,327,"Westhampton                  ",327,"Westhampton",1307846.49,0.54884863637318027,{"$f":"X1640","v":1221027.5199999998},{"$f":"IF(K1644>0, K1640/K1644, 0)","v":0.5447920216752179},null,{"$f":"ROUND(M1644*L1640,0)","v":977281},960638,{"$f":"N1640-O1640","v":16643},1.7324944463991638,116,103,327,327,1631,103,1221027.5199999998,1631,327,327,1631,103,1221027.5199999998]
["03270683","0327","0683",1632,327,"Westhampton                  ",683,"Hampshire",1075044.5355518102,0.45115136362681979,1020245.2435866977,{"$f":"IF(K1644>0, K1641/K1644, 0)","v":0.45520797832478199},null,{"$f":"ROUND(M1644*L1641,0)","v":816580},789641,{"$f":"N1641-O1641","v":26939},3.4115503121038548,95.283582092159989,88.138147567360008,327,683,1632,88.138147567360008,1020245.2435866977,1632,327,683,1632,88.138147567360008,1020245.2435866977]
["03270998","0327","0998",1633,327,"",998,"",0,0,0,{"$f":"IF(K1644>0, K1642/K1644, 0)","v":0},null,{"$f":"ROUND(M1644*L1642,0)","v":0},0,{"$f":"N1642-O1642","v":0},0,0,0,327,998,1633,0,0,1633,327,998,1633,0,0]
["03270998","0327","0998",1634,327,"",998,"",0,0,0,{"$f":"IF(K1644>0, K1643/K1644, 0)","v":0},null,{"$f":"ROUND(M1644*L1643,0)","v":0},0,{"$f":"N1643-O1643","v":0},0,0,0,327,998,1634,0,0,1634,327,998,1634,0,0]
["03270999","0327","0999",1635,327,"Westhampton                  ",999,"Total",2382891.0255518099,1,{"$f":"SUM(K1640:K1643)","v":2241272.7635866976},{"$f":"SUM(L1640:L1643)","v":0.99999999999999989},{"$f":"VLOOKUP(E1644,town351,24)","v":1793861},{"$f":"SUM(N1640:N1643)","v":1793861},1750279,{"$f":"SUM(P1640:P1643)","v":43582},2.4900030223752898,211.28358209215997,191.13814756736002,327,999,1635,191.13814756736002,2241272.7635866976,1635,327,999,1635,191.13814756736002,2241272.7635866976]
["03280328","0328","0328",1636,328,"Westminster                  ",328,"Westminster",0,0,{"$f":"X1645","v":0},{"$f":"IF(K1649>0, K1645/K1649, 0)","v":0},null,{"$f":"ROUND(M1649*L1645,0)","v":0},0,{"$f":"N1645-O1645","v":0},0,0,0,328,328,1636,0,0,1636,328,328,1636,0,0]
["03280610","0328","0610",1637,328,"Westminster                  ",610,"Ashburnham Westminster",13429945.219271321,0.91960052993078656,13222540.724701032,{"$f":"IF(K1649>0, K1646/K1649, 0)","v":0.90206304678841098},null,{"$f":"ROUND(M1649*L1646,0)","v":7375057},7238316,{"$f":"N1646-O1646","v":136741},1.8891272500399263,1245.6528497510401,1180.88949523272,328,610,1637,1180.88949523272,13222540.724701032,1637,328,610,1637,1180.88949523272,13222540.724701032]
["03280832","0328","0832",1638,328,"Westminster                  ",832,"Montachusett",1174162.5233396154,8.0399470069213386E-2,1435570.7806719716,{"$f":"IF(K1649>0, K1647/K1649, 0)","v":9.7936953211589101E-2},null,{"$f":"ROUND(M1649*L1647,0)","v":800710},632837,{"$f":"N1647-O1647","v":167873},26.527051989690868,67.999999997999993,81.000000000839989,328,832,1638,81.000000000839989,1435570.7806719716,1638,328,832,1638,81.000000000839989,1435570.7806719716]
["03280998","0328","0998",1639,328,"",998,"",0,0,0,{"$f":"IF(K1649>0, K1648/K1649, 0)","v":0},null,{"$f":"ROUND(M1649*L1648,0)","v":0},0,{"$f":"N1648-O1648","v":0},0,0,0,328,998,1639,0,0,1639,328,998,1639,0,0]
["03280999","0328","0999",1640,328,"Westminster                  ",999,"Total",14604107.742610937,1,{"$f":"SUM(K1645:K1648)","v":14658111.505373003},{"$f":"SUM(L1645:L1648)","v":1},{"$f":"VLOOKUP(E1649,town351,24)","v":8175767},{"$f":"SUM(N1645:N1648)","v":8175767},7871153,{"$f":"SUM(P1645:P1648)","v":304614},3.8700048137801413,1313.6528497490401,1261.88949523356,328,999,1640,1261.88949523356,14658111.505373003,1640,328,999,1640,1261.88949523356,14658111.505373003]
["03290329","0329","0329",1641,329,"West Newbury                 ",329,"West Newbury",29315.599999999999,4.3530790063806305E-3,{"$f":"X1650","v":29905.56},{"$f":"IF(K1654>0, K1650/K1654, 0)","v":4.5696963348743251E-3},null,{"$f":"ROUND(M1654*L1650,0)","v":24672},24185,{"$f":"N1650-O1650","v":487},2.0136448211701468,2,2,329,329,1641,2,29905.56,1641,329,329,1641,2,29905.56]
["03290745","0329","0745",1642,329,"West Newbury                 ",745,"Pentucket",6528230.0291952752,0.96937811571018717,6348107.2076663785,{"$f":"IF(K1654>0, K1651/K1654, 0)","v":0.97001769036467922},null,{"$f":"ROUND(M1654*L1651,0)","v":5237189},5385790,{"$f":"N1651-O1651","v":-148601},-2.7591309724293001,620.40879477989995,588.36839827438996,329,745,1642,588.36839827438996,6348107.2076663785,1642,329,745,1642,588.36839827438996,6348107.2076663785]
["03290885","0329","0885",1643,329,"West Newbury                 ",885,"Whittier",176905.9984985831,2.6268805283432214E-2,166308.30062238791,{"$f":"IF(K1654>0, K1652/K1654, 0)","v":2.5412613300446588E-2},null,{"$f":"ROUND(M1654*L1652,0)","v":137204},145947,{"$f":"N1652-O1652","v":-8743},-5.9905308091293419,10.00000000064,9.0000000023600002,329,885,1643,9.0000000023600002,166308.30062238791,1643,329,885,1643,9.0000000023600002,166308.30062238791]
["03290998","0329","0998",1644,329,"",998,null,0,0,0,{"$f":"IF(K1654>0, K1653/K1654, 0)","v":0},null,{"$f":"ROUND(M1654*L1653,0)","v":0},0,{"$f":"N1653-O1653","v":0},0,0,0,329,998,1644,0,0,1644,329,998,1644,0,0]
["03290999","0329","0999",1645,329,"West Newbury                 ",999,"Total",6734451.627693858,1,{"$f":"SUM(K1650:K1653)","v":6544321.0682887658},{"$f":"SUM(L1650:L1653)","v":1.0000000000000002},{"$f":"VLOOKUP(E1654,town351,24)","v":5399065},{"$f":"SUM(N1650:N1653)","v":5399065},5555922,{"$f":"SUM(P1650:P1653)","v":-156857},-2.8232397791041701,632.40879478053989,599.36839827674999,329,999,1645,599.36839827674999,6544321.0682887658,1645,329,999,1645,599.36839827674999,6544321.0682887658]
["03300330","0330","0330",1646,330,"Weston                       ",330,"Weston",22266149.914000005,1,{"$f":"X1655","v":21554028.930860002},{"$f":"IF(K1659>0, K1655/K1659, 0)","v":1},null,{"$f":"ROUND(M1659*L1655,0)","v":17782074},18369574,{"$f":"N1655-O1655","v":-587500},-3.1982233229796182,2057,1928,330,330,1646,1928,21554028.930860002,1646,330,330,1646,1928,21554028.930860002]
["03300830","0330","0830",1647,330,null,998,null,0,0,0,{"$f":"IF(K1659>0, K1656/K1659, 0)","v":0},null,{"$f":"ROUND(M1659*L1656,0)","v":0},0,{"$f":"N1656-O1656","v":0},0,0,0,330,998,1647,0,0,1647,330,998,1647,0,0]
["03300998","0330","0998",1648,330,"",998,"",0,0,0,{"$f":"IF(K1659>0, K1657/K1659, 0)","v":0},null,{"$f":"ROUND(M1659*L1657,0)","v":0},0,{"$f":"N1657-O1657","v":0},0,0,0,330,998,1648,0,0,1648,330,998,1648,0,0]
["03300998","0330","0998",1649,330,"",998,"",0,0,0,{"$f":"IF(K1659>0, K1658/K1659, 0)","v":0},null,{"$f":"ROUND(M1659*L1658,0)","v":0},0,{"$f":"N1658-O1658","v":0},0,0,0,330,998,1649,0,0,1649,330,998,1649,0,0]
["03300999","0330","0999",1650,330,"Weston                       ",999,"Total",22266149.914000005,1,{"$f":"SUM(K1655:K1658)","v":21554028.930860002},{"$f":"SUM(L1655:L1658)","v":1},{"$f":"VLOOKUP(E1659,town351,24)","v":17782074},{"$f":"SUM(N1655:N1658)","v":17782074},18369574,{"$f":"SUM(P1655:P1658)","v":-587500},-3.1982233229796182,2057,1928,330,999,1650,1928,21554028.930860002,1650,330,999,1650,1928,21554028.930860002]
["03310331","0331","0331",1651,331,"Westport                     ",331,"Westport",16658171.17,0.85885238244492379,{"$f":"X1660","v":16990670.259999998},{"$f":"IF(K1664>0, K1660/K1664, 0)","v":0.86014167028239219},null,{"$f":"ROUND(M1664*L1660,0)","v":14017303},13742991,{"$f":"N1660-O1660","v":274312},1.9960138226096489,1505,1471,331,331,1651,1471,16990670.259999998,1651,331,331,1651,1471,16990670.259999998]
["03310821","0331","0821",1652,331,"Westport                     ",821,"Greater Fall River",2336395.1467001829,0.12045851357860728,2248791.8286005156,{"$f":"IF(K1664>0, K1661/K1664, 0)","v":0.11384362888399924},null,{"$f":"ROUND(M1664*L1661,0)","v":1855253},1927526,{"$f":"N1661-O1661","v":-72273},-3.749521407233936,130.99999999351999,117.99999999382,331,821,1652,117.99999999382,2248791.8286005156,1652,331,821,1652,117.99999999382,2248791.8286005156]
["03310910","0331","0910",1653,331,"Westport                     ",910,"Bristol County",401282.73780045897,2.0689103976468858E-2,513877.21237976564,{"$f":"IF(K1664>0, K1662/K1664, 0)","v":2.6014700833608625E-2},null,{"$f":"ROUND(M1664*L1662,0)","v":423949},331058,{"$f":"N1662-O1662","v":92891},28.058829570649252,23.000000001300002,29.000000001340002,331,910,1653,29.000000001340002,513877.21237976564,1653,331,910,1653,29.000000001340002,513877.21237976564]
["03310998","0331","0998",1654,331,"",998,"",0,0,0,{"$f":"IF(K1664>0, K1663/K1664, 0)","v":0},null,{"$f":"ROUND(M1664*L1663,0)","v":0},0,{"$f":"N1663-O1663","v":0},0,0,0,331,998,1654,0,0,1654,331,998,1654,0,0]
["03310999","0331","0999",1655,331,"Westport                     ",999,"Total",19395849.054500643,0.99999999999999989,{"$f":"SUM(K1660:K1663)","v":19753339.300980277},{"$f":"SUM(L1660:L1663)","v":1},{"$f":"VLOOKUP(E1664,town351,24)","v":16296505},{"$f":"SUM(N1660:N1663)","v":16296505},16001575,{"$f":"SUM(P1660:P1663)","v":294930},1.8431310667856133,1658.99999999482,1617.9999999951599,331,999,1655,1617.9999999951599,19753339.300980277,1655,331,999,1655,1617.9999999951599,19753339.300980277]
["03320332","0332","0332",1656,332,"West Springfield             ",332,"West Springfield",52593244.399999991,1,{"$f":"X1665","v":53788012.660000004},{"$f":"IF(K1669>0, K1665/K1669, 0)","v":1},null,{"$f":"ROUND(M1669*L1665,0)","v":20662897},20539659,{"$f":"N1665-O1665","v":123238},0.60000022395698005,4138,3995,332,332,1656,3995,53788012.660000004,1656,332,332,1656,3995,53788012.660000004]
["03320998","0332","0998",1657,332,"",998,"",0,0,0,{"$f":"IF(K1669>0, K1666/K1669, 0)","v":0},null,{"$f":"ROUND(M1669*L1666,0)","v":0},0,{"$f":"N1666-O1666","v":0},0,0,0,332,998,1657,0,0,1657,332,998,1657,0,0]
["03320998","0332","0998",1658,332,"",998,"",0,0,0,{"$f":"IF(K1669>0, K1667/K1669, 0)","v":0},null,{"$f":"ROUND(M1669*L1667,0)","v":0},0,{"$f":"N1667-O1667","v":0},0,0,0,332,998,1658,0,0,1658,332,998,1658,0,0]
["03320998","0332","0998",1659,332,"",998,"",0,0,0,{"$f":"IF(K1669>0, K1668/K1669, 0)","v":0},null,{"$f":"ROUND(M1669*L1668,0)","v":0},0,{"$f":"N1668-O1668","v":0},0,0,0,332,998,1659,0,0,1659,332,998,1659,0,0]
["03320999","0332","0999",1660,332,"West Springfield             ",999,"Total",52593244.399999991,1,{"$f":"SUM(K1665:K1668)","v":53788012.660000004},{"$f":"SUM(L1665:L1668)","v":1},{"$f":"VLOOKUP(E1669,town351,24)","v":20662897},{"$f":"SUM(N1665:N1668)","v":20662897},20539659,{"$f":"SUM(P1665:P1668)","v":123238},0.60000022395698005,4138,3995,332,999,1660,3995,53788012.660000004,1660,332,999,1660,3995,53788012.660000004]
["03330333","0333","0333",1661,333,"West Stockbridge             ",333,"West Stockbridge",0,0,{"$f":"X1670","v":0},{"$f":"IF(K1674>0, K1670/K1674, 0)","v":0},null,{"$f":"ROUND(M1674*L1670,0)","v":0},0,{"$f":"N1670-O1670","v":0},0,0,0,333,333,1661,0,0,1661,333,333,1661,0,0]
["03330618","0333","0618",1662,333,"West Stockbridge             ",618,"Berkshire Hills",1680252.3450152895,1,1534621.8448339903,{"$f":"IF(K1674>0, K1671/K1674, 0)","v":1},null,{"$f":"ROUND(M1674*L1671,0)","v":1266063},1386208,{"$f":"N1671-O1671","v":-120145},-8.6671697176758471,137.58163264929999,120.23011664470999,333,618,1662,120.23011664470999,1534621.8448339903,1662,333,618,1662,120.23011664470999,1534621.8448339903]
["03330998","0333","0998",1663,333,"",998,"",0,0,0,{"$f":"IF(K1674>0, K1672/K1674, 0)","v":0},null,{"$f":"ROUND(M1674*L1672,0)","v":0},0,{"$f":"N1672-O1672","v":0},0,0,0,333,998,1663,0,0,1663,333,998,1663,0,0]
["03330998","0333","0998",1664,333,"",998,"",0,0,0,{"$f":"IF(K1674>0, K1673/K1674, 0)","v":0},null,{"$f":"ROUND(M1674*L1673,0)","v":0},0,{"$f":"N1673-O1673","v":0},0,0,0,333,998,1664,0,0,1664,333,998,1664,0,0]
[{"$f":"B1674&C1674","v":"03330999"},"0333","0999",1665,333,"West Stockbridge             ",999,"Total",1680252.3450152895,1,{"$f":"SUM(K1670:K1673)","v":1534621.8448339903},{"$f":"SUM(L1670:L1673)","v":1},{"$f":"VLOOKUP(E1674,town351,24)","v":1266063},{"$f":"SUM(N1670:N1673)","v":1266063},1386208,{"$f":"SUM(P1670:P1673)","v":-120145},-8.6671697176758471,137.58163264929999,120.23011664470999,{"$f":"VLOOKUP($D1674, foundoptions, VLOOKUP($T$6, foundoptcell, 2, FALSE), FALSE)","v":333},{"$f":"VLOOKUP($D1674, foundoptions, VLOOKUP($T$6, foundoptcell, 2, FALSE)+1, FALSE)","v":999},{"$f":"VLOOKUP($D1674, foundoptions, VLOOKUP($T$6, foundoptcell, 2, FALSE)+2, FALSE)","v":1665},{"$f":"VLOOKUP($D1674, foundoptions, VLOOKUP($T$6, foundoptcell, 2, FALSE)+3, FALSE)","v":120.23011664470999},{"$f":"VLOOKUP($D1674, foundoptions, VLOOKUP($T$6, foundoptcell, 2, FALSE)+4, FALSE)","v":1534621.8448339903},1665,333,999,1665,120.23011664470999,1534621.8448339903]
["03340334","0334","0334",1666,334,"West Tisbury                 ",334,"West Tisbury",0,0,{"$f":"X1675","v":0},{"$f":"IF(K1679>0, K1675/K1679, 0)","v":0},null,{"$f":"ROUND(M1679*L1675,0)","v":0},0,{"$f":"N1675-O1675","v":0},0,0,{"$f":"W1675","v":0},334,334,1666,0,0,{"$f":"D1675","v":1666},334,334,1666,0,0]
["03340700","0334","0700",1667,334,"West Tisbury                 ",700,"Marthas Vineyard",1479642.151898586,0.32846122469764849,1389198.2287553856,{"$f":"IF(K1679>0, K1676/K1679, 0)","v":0.3117105606000366},null,{"$f":"ROUND(M1679*L1676,0)","v":1146089},1220705,{"$f":"N1676-O1676","v":-74616},-6.1125333311488035,99.999999999989996,89.99999999936,334,700,1667,89.99999999936,1389198.2287553856,1667,334,700,1667,89.99999999936,1389198.2287553856]
["03340774","0334","0774",1668,334,"West Tisbury                 ",774,"Upisland",3025127.4849454886,0.67153877530235151,3067494.6278523812,{"$f":"IF(K1679>0, K1677/K1679, 0)","v":0.68828943939996334},null,{"$f":"ROUND(M1679*L1677,0)","v":2530683},2495730,{"$f":"N1677-O1677","v":34953},1.4005120746234569,274.26419752927995,272.22921914522999,334,774,1668,272.22921914522999,3067494.6278523812,1668,334,774,1668,272.22921914522999,3067494.6278523812]
["03340998","0334","0998",1669,334,"",998,"",0,0,0,{"$f":"IF(K1679>0, K1678/K1679, 0)","v":0},null,{"$f":"ROUND(M1679*L1678,0)","v":0},0,{"$f":"N1678-O1678","v":0},0,0,0,334,998,1669,0,0,1669,334,998,1669,0,0]
["03340999","0334","0999",1670,334,"West Tisbury                 ",999,"Total",4504769.6368440744,1,{"$f":"SUM(K1675:K1678)","v":4456692.8566077668},{"$f":"SUM(L1675:L1678)","v":1},{"$f":"VLOOKUP(E1679,town351,24)","v":3676772},{"$f":"SUM(N1675:N1678)","v":3676772},3716435,{"$f":"SUM(P1675:P1678)","v":-39663},-1.0672324418427874,374.26419752926995,362.22921914458999,334,999,1670,362.22921914458999,4456692.8566077668,1670,334,999,1670,362.22921914458999,4456692.8566077668]
["03350335","0335","0335",1671,335,"Westwood                     ",335,"Westwood",32201274.010420009,0.99384968872230151,{"$f":"X1680","v":32473679.60554},{"$f":"IF(K1684>0, K1680/K1684, 0)","v":0.99030784291069407},null,{"$f":"ROUND(M1684*L1680,0)","v":26790785},26566051,{"$f":"N1680-O1680","v":224734},{"$f":"IF(O1680>0,P1680*100/O1680,IF(P1680>0,100,0))","v":0.84594432194683356},3001,2941,335,335,1671,2941,32473679.60554,1671,335,335,1671,2941,32473679.60554]
["03350806","0335","0806",1672,335,"Westwood                     ",806,"Blue Hills",109462.872145774,3.378426622919433E-3,113742.61603510991,{"$f":"IF(K1684>0, K1681/K1684, 0)","v":3.4686615776529563E-3},null,{"$f":"ROUND(M1684*L1681,0)","v":93838},90307,{"$f":"N1681-O1681","v":3531},{"$f":"IF(O1681>0,P1681*100/O1681,IF(P1681>0,100,0))","v":3.9099959028646727},6.0000000024800002,5.9999999987199999,335,806,1672,5.9999999987199999,113742.61603510991,1672,335,806,1672,5.9999999987199999,113742.61603510991]
["03350915","0335","0915",1673,335,"Westwood                     ",915,"Norfolk County",89810.580318807682,2.7718846547789759E-3,204077.75291158599,{"$f":"IF(K1684>0, K1682/K1684, 0)","v":6.223495511652956E-3},null,{"$f":"ROUND(M1684*L1682,0)","v":168364},74094,{"$f":"N1682-O1682","v":94270},{"$f":"IF(O1682>0,P1682*100/O1682,IF(P1682>0,100,0))","v":127.23027505600993},4.9999999993199999,11.00000000108,335,915,1673,11.00000000108,204077.75291158599,1673,335,915,1673,11.00000000108,204077.75291158599]
["03350998","0335","0998",1674,335,"",998,"",0,0,0,{"$f":"IF(K1684>0, K1683/K1684, 0)","v":0},null,{"$f":"ROUND(M1684*L1683,0)","v":0},0,{"$f":"N1683-O1683","v":0},{"$f":"IF(O1683>0,P1683*100/O1683,IF(P1683>0,100,0))","v":0},0,0,335,998,1674,0,0,1674,335,998,1674,0,0]
["03350999","0335","0999",1675,335,"Westwood                     ",999,"Total",32400547.462884594,0.99999999999999989,{"$f":"SUM(K1680:K1683)","v":32791499.974486697},{"$f":"SUM(L1680:L1683)","v":0.99999999999999989},{"$f":"VLOOKUP(E1684,town351,24)","v":27052987},{"$f":"SUM(N1680:N1683)","v":27052987},26730452,{"$f":"SUM(P1680:P1683)","v":322535},{"$f":"IF(O1684>0,P1684*100/O1684,IF(P1684>0,100,0))","v":1.2066200751113374},3012.0000000018003,2957.9999999997999,335,999,1675,2957.9999999997999,32791499.974486697,1675,335,999,1675,2957.9999999997999,32791499.974486697]
["03360336","0336","0336",1676,336,"Weymouth                     ",336,"Weymouth",73265345.799600005,0.99318217511079077,{"$f":"X1685","v":76134831.638579994},{"$f":"IF(K1689>0, K1685/K1689, 0)","v":0.99394489189113033},null,{"$f":"ROUND(M1689*L1685,0)","v":58393693},56687928,{"$f":"N1685-O1685","v":1705765},3.0090445359018942,5921,5929,336,336,1676,5929,76134831.638579994,1676,336,336,1676,5929,76134831.638579994]
["03360915","0336","0915",1677,336,"Weymouth                     ",915,"Norfolk County",502939.2498443824,6.8178248892092203E-3,463813.07473200018,{"$f":"IF(K1689>0, K1686/K1689, 0)","v":6.0551081088696416E-3},null,{"$f":"ROUND(M1689*L1686,0)","v":355734},389141,{"$f":"N1686-O1686","v":-33407},-8.5848060214677968,27.99999999948,24.99999999884,336,915,1677,24.99999999884,463813.07473200018,1677,336,915,1677,24.99999999884,463813.07473200018]
["03360998","0336","0998",1678,336,"",998,"",0,0,0,{"$f":"IF(K1689>0, K1687/K1689, 0)","v":0},null,{"$f":"ROUND(M1689*L1687,0)","v":0},0,{"$f":"N1687-O1687","v":0},0,0,0,336,998,1678,0,0,1678,336,998,1678,0,0]
["03360998","0336","0998",1679,336,"",998,"",0,0,0,{"$f":"IF(K1689>0, K1688/K1689, 0)","v":0},null,{"$f":"ROUND(M1689*L1688,0)","v":0},0,{"$f":"N1688-O1688","v":0},0,0,0,336,998,1679,0,0,1679,336,998,1679,0,0]
["03360999","0336","0999",1680,336,"Weymouth                     ",999,"Total",73768285.049444392,1,{"$f":"SUM(K1685:K1688)","v":76598644.713312},{"$f":"SUM(L1685:L1688)","v":1},{"$f":"VLOOKUP(E1689,town351,24)","v":58749427},{"$f":"SUM(N1685:N1688)","v":58749427},57077069,{"$f":"SUM(P1685:P1688)","v":1672358},2.9299997867795207,5948.9999999994798,5953.9999999988404,336,999,1680,5953.9999999988404,76598644.713312,1680,336,999,1680,5953.9999999988404,76598644.713312]
["03370337","0337","0337",1681,337,"Whately                      ",337,"Whately",904197.0199999999,0.46554521676402305,{"$f":"X1690","v":961185.17},{"$f":"IF(K1694>0, K1690/K1694, 0)","v":0.51093118412650707},null,{"$f":"ROUND(M1694*L1690,0)","v":774927},739905,{"$f":"N1690-O1690","v":35022},4.7333103574107485,79,81,337,337,1681,81,961185.17,1681,337,337,1681,81,961185.17]
["03370670","0337","0670",1682,337,"Whately                      ",670,"Frontier",820542.27613160806,0.42247377878521913,711601.03712388116,{"$f":"IF(K1694>0, K1691/K1694, 0)","v":0.37826130892485066},null,{"$f":"ROUND(M1694*L1691,0)","v":573707},671451,{"$f":"N1691-O1691","v":-97744},-14.557130751164269,71.246100522630002,59.9999999984,337,670,1682,59.9999999984,711601.03712388116,1682,337,670,1682,59.9999999984,711601.03712388116]
["03370818","0337","0818",1683,337,"Whately                      ",818,"Franklin County",217493.13895819749,0.1119810044507577,208455.72889779962,{"$f":"IF(K1694>0, K1692/K1694, 0)","v":0.11080750694864226},null,{"$f":"ROUND(M1694*L1692,0)","v":168061},177975,{"$f":"N1692-O1692","v":-9914},-5.5704452872594468,11.9999999994,11.00000000036,337,818,1683,11.00000000036,208455.72889779962,1683,337,818,1683,11.00000000036,208455.72889779962]
["03370998","0337","0998",1684,337,"",998,"",0,0,0,{"$f":"IF(K1694>0, K1693/K1694, 0)","v":0},null,{"$f":"ROUND(M1694*L1693,0)","v":0},0,{"$f":"N1693-O1693","v":0},0,0,0,337,998,1684,0,0,1684,337,998,1684,0,0]
["03370999","0337","0999",1685,337,"Whately                      ",999,"Total",1942232.4350898056,0.99999999999999978,{"$f":"SUM(K1690:K1693)","v":1881241.9360216809},{"$f":"SUM(L1690:L1693)","v":1},{"$f":"VLOOKUP(E1694,town351,24)","v":1516695},{"$f":"SUM(N1690:N1693)","v":1516695},1589331,{"$f":"SUM(P1690:P1693)","v":-72636},-4.5702248304475281,162.24610052202999,151.99999999875999,337,999,1685,151.99999999875999,1881241.9360216809,1685,337,999,1685,151.99999999875999,1881241.9360216809]
["03380338","0338","0338",1686,338,"Whitman                      ",338,"Whitman",203601.62000000002,7.6298605189573775E-3,{"$f":"X1695","v":134575.02000000002},{"$f":"IF(K1699>0, K1695/K1699, 0)","v":4.9982803541700439E-3},null,{"$f":"ROUND(M1699*L1695,0)","v":63660},93108,{"$f":"N1695-O1695","v":-29448},-31.627787085964687,12,9,338,338,1686,9,134575.02000000002,1686,338,338,1686,9,134575.02000000002]
["03380780","0338","0780",1687,338,"Whitman                      ",780,"Whitman Hanson",24097489.81118482,0.90304038895337224,24302685.56832394,{"$f":"IF(K1699>0, K1696/K1699, 0)","v":0.90263137861488252},null,{"$f":"ROUND(M1699*L1696,0)","v":11496291},11019930,{"$f":"N1696-O1696","v":476361},4.3227225581287723,2194.2526783251401,2139.9028649560801,338,780,1687,2139.9028649560801,24302685.56832394,1687,338,780,1687,2139.9028649560801,24302685.56832394]
["03380873","0338","0873",1688,338,"Whitman                      ",873,"South Shore",2383750.2502752021,8.932975052767031E-2,2487003.4513521572,{"$f":"IF(K1699>0, K1697/K1699, 0)","v":9.2370341030947503E-2},null,{"$f":"ROUND(M1699*L1697,0)","v":1176467},1090104,{"$f":"N1697-O1697","v":86363},7.9224551052009717,133.73752310527999,135.00000000003001,338,873,1688,135.00000000003001,2487003.4513521572,1688,338,873,1688,135.00000000003001,2487003.4513521572]
["03380998","0338","0998",1689,338,"",998,"",0,0,0,{"$f":"IF(K1699>0, K1698/K1699, 0)","v":0},null,{"$f":"ROUND(M1699*L1698,0)","v":0},0,{"$f":"N1698-O1698","v":0},0,0,0,338,998,1689,0,0,1689,338,998,1689,0,0]
["03380999","0338","0999",1690,338,"Whitman                      ",999,"Total",26684841.681460023,1,{"$f":"SUM(K1695:K1698)","v":26924264.039676096},{"$f":"SUM(L1695:L1698)","v":1},{"$f":"VLOOKUP(E1699,town351,24)","v":12736419},{"$f":"SUM(N1695:N1698)","v":12736418},12203142,{"$f":"SUM(P1695:P1698)","v":533276},4.3699893027549788,2339.9902014304203,2283.9028649561101,338,999,1690,2283.9028649561101,26924264.039676096,1690,338,999,1690,2283.9028649561101,26924264.039676096]
["03390339","0339","0339",1691,339,"Wilbraham                    ",339,"Wilbraham",0,0,{"$f":"X1700","v":0},{"$f":"IF(K1704>0, K1700/K1704, 0)","v":0},null,{"$f":"ROUND(M1704*L1700,0)","v":0},0,{"$f":"N1700-O1700","v":0},0,0,0,339,339,1691,0,0,1691,339,339,1691,0,0]
["03390680","0339","0680",1692,339,"Wilbraham                    ",680,"Hampden Wilbraham",25145185.596148223,1,25128205.917621668,{"$f":"IF(K1704>0, K1701/K1704, 0)","v":1},null,{"$f":"ROUND(M1704*L1701,0)","v":16762083},16700024,{"$f":"N1701-O1701","v":62059},0.37161024439246315,2315.6147068775699,2228.96366842212,339,680,1692,2228.96366842212,25128205.917621668,1692,339,680,1692,2228.96366842212,25128205.917621668]
["03390998","0339","0998",1693,339,"",998,"",0,0,0,{"$f":"IF(K1704>0, K1702/K1704, 0)","v":0},null,{"$f":"ROUND(M1704*L1702,0)","v":0},0,{"$f":"N1702-O1702","v":0},0,0,0,339,998,1693,0,0,1693,339,998,1693,0,0]
["03390998","0339","0998",1694,339,"",998,"",0,0,0,{"$f":"IF(K1704>0, K1703/K1704, 0)","v":0},null,{"$f":"ROUND(M1704*L1703,0)","v":0},0,{"$f":"N1703-O1703","v":0},0,0,0,339,998,1694,0,0,1694,339,998,1694,0,0]
["03390999","0339","0999",1695,339,"Wilbraham                    ",999,"Total",25145185.596148223,1,{"$f":"SUM(K1700:K1703)","v":25128205.917621668},{"$f":"SUM(L1700:L1703)","v":1},{"$f":"VLOOKUP(E1704,town351,24)","v":16762083},{"$f":"SUM(N1700:N1703)","v":16762083},16700024,{"$f":"SUM(P1700:P1703)","v":62059},0.37161024439246315,2315.6147068775699,2228.96366842212,339,999,1695,2228.96366842212,25128205.917621668,1695,339,999,1695,2228.96366842212,25128205.917621668]
["03400340","0340","0340",1696,340,"Williamsburg                 ",340,"Williamsburg",2006916.64,0.59844517533581454,{"$f":"X1705","v":2025767.98},{"$f":"IF(K1709>0, K1705/K1709, 0)","v":0.60516763284209374},null,{"$f":"ROUND(M1709*L1705,0)","v":1285613},1291212,{"$f":"N1705-O1705","v":-5599},-0.4336236032502796,176,168,340,340,1696,168,2025767.98,1696,340,340,1696,168,2025767.98]
["03400683","0340","0683",1697,340,"Williamsburg                 ",683,"Hampshire",1346634.7339814655,0.40155482466418541,1321681.3382760538,{"$f":"IF(K1709>0, K1706/K1709, 0)","v":0.39483236715790626},null,{"$f":"ROUND(M1709*L1706,0)","v":838778},866399,{"$f":"N1706-O1706","v":-27621},-3.1880230702020662,119.3552238816,114.1789638935,340,683,1697,114.1789638935,1321681.3382760538,1697,340,683,1697,114.1789638935,1321681.3382760538]
["03400998","0340","0998",1698,340,"",998,"",0,0,0,{"$f":"IF(K1709>0, K1707/K1709, 0)","v":0},null,{"$f":"ROUND(M1709*L1707,0)","v":0},0,{"$f":"N1707-O1707","v":0},0,0,0,340,998,1698,0,0,1698,340,998,1698,0,0]
["03400998","0340","0998",1699,340,"",998,"",0,0,0,{"$f":"IF(K1709>0, K1708/K1709, 0)","v":0},null,{"$f":"ROUND(M1709*L1708,0)","v":0},0,{"$f":"N1708-O1708","v":0},0,0,0,340,998,1699,0,0,1699,340,998,1699,0,0]
["03400999","0340","0999",1700,340,"Williamsburg                 ",999,"Total",3353551.3739814656,1,{"$f":"SUM(K1705:K1708)","v":3347449.3182760538},{"$f":"SUM(L1705:L1708)","v":1},{"$f":"VLOOKUP(E1709,town351,24)","v":2124391},{"$f":"SUM(N1705:N1708)","v":2124391},2157611,{"$f":"SUM(P1705:P1708)","v":-33220},-1.5396658619185757,295.35522388160001,282.1789638935,340,999,1700,282.1789638935,3347449.3182760538,1700,340,999,1700,282.1789638935,3347449.3182760538]
["03410341","0341","0341",1701,341,"Williamstown                 ",341,"Williamstown",0,0,{"$f":"X1710","v":0},{"$f":"IF(K1714>0, K1710/K1714, 0)","v":0},null,{"$f":"ROUND(M1714*L1710,0)","v":0},0,{"$f":"N1710-O1710","v":0},0,0,0,341,341,1701,0,0,1701,341,341,1701,0,0]
["03410715","0341","0715",1702,341,"Williamstown                 ",715,"Mount Greylock",7412136.8520855131,0.96283078958332502,7353048.3172907867,{"$f":"IF(K1714>0, K1711/K1714, 0)","v":0.95890516207299969},null,{"$f":"ROUND(M1714*L1711,0)","v":6066265},6115012,{"$f":"N1711-O1711","v":-48747},-0.79716932689584252,685.74524714424001,647.25513196812005,341,715,1702,647.25513196812005,7353048.3172907867,1702,341,715,1702,647.25513196812005,7353048.3172907867]
["03410851","0341","0851",1703,341,"Williamstown                 ",851,"Northern Berkshire",286138.82862178126,3.716921041667498E-2,315122.22565912426,{"$f":"IF(K1714>0, K1712/K1714, 0)","v":4.109483792700027E-2},null,{"$f":"ROUND(M1714*L1712,0)","v":259976},236065,{"$f":"N1712-O1712","v":23911},10.128989896850443,15.999999999350001,16.999999997690001,341,851,1703,16.999999997690001,315122.22565912426,1703,341,851,1703,16.999999997690001,315122.22565912426]
["03410998","0341","0998",1704,341,"",998,"",0,0,0,{"$f":"IF(K1714>0, K1713/K1714, 0)","v":0},null,{"$f":"ROUND(M1714*L1713,0)","v":0},0,{"$f":"N1713-O1713","v":0},0,0,0,341,998,1704,0,0,1704,341,998,1704,0,0]
["03410999","0341","0999",1705,341,"Williamstown                 ",999,"Total",7698275.6807072945,1,{"$f":"SUM(K1710:K1713)","v":7668170.5429499112},{"$f":"SUM(L1710:L1713)","v":1},{"$f":"VLOOKUP(E1714,town351,24)","v":6326241},{"$f":"SUM(N1710:N1713)","v":6326241},6351077,{"$f":"SUM(P1710:P1713)","v":-24836},-0.39105178539009999,701.74524714359006,664.25513196581005,341,999,1705,664.25513196581005,7668170.5429499112,1705,341,999,1705,664.25513196581005,7668170.5429499112]
["03420342","0342","0342",1706,342,"Wilmington                   ",342,"Wilmington",35336725.314499997,0.89518822756699645,{"$f":"X1715","v":31976675.075399999},{"$f":"IF(K1719>0, K1715/K1719, 0)","v":0.87170137624491173},null,{"$f":"ROUND(M1719*L1715,0)","v":26380757},28856084,{"$f":"N1715-O1715","v":-2475327},-8.5781806013594917,3220,2818,342,342,1706,2818,31976675.075399999,1706,342,342,1706,2818,31976675.075399999]
["03420871","0342","0871",1707,342,"Wilmington                   ",871,"Shawsheen Valley",4137347.54115021,0.10481177243300349,4706386.2880546823,{"$f":"IF(K1719>0, K1716/K1719, 0)","v":0.12829862375508813},null,{"$f":"ROUND(M1719*L1716,0)","v":3882769},3378571,{"$f":"N1716-O1716","v":504198},14.923409926859611,245.99999999925001,275.00000000634998,342,871,1707,275.00000000634998,4706386.2880546823,1707,342,871,1707,275.00000000634998,4706386.2880546823]
["03420998","0342","0998",1708,342,"",998,null,0,0,0,{"$f":"IF(K1719>0, K1717/K1719, 0)","v":0},null,{"$f":"ROUND(M1719*L1717,0)","v":0},0,{"$f":"N1717-O1717","v":0},0,0,0,342,998,1708,0,0,1708,342,998,1708,0,0]
["03420998","0342","0998",1709,342,"",998,"",0,0,0,{"$f":"IF(K1719>0, K1718/K1719, 0)","v":0},null,{"$f":"ROUND(M1719*L1718,0)","v":0},0,{"$f":"N1718-O1718","v":0},0,0,0,342,998,1709,0,0,1709,342,998,1709,0,0]
["03420999","0342","0999",1710,342,"Wilmington                   ",999,"Total",39474072.855650209,1,{"$f":"SUM(K1715:K1718)","v":36683061.363454685},{"$f":"SUM(L1715:L1718)","v":0.99999999999999989},{"$f":"VLOOKUP(E1719,town351,24)","v":30263526},{"$f":"SUM(N1715:N1718)","v":30263526},32234655,{"$f":"SUM(P1715:P1718)","v":-1971129},-6.1149374795542251,3465.9999999992501,3093.0000000063501,342,999,1710,3093.0000000063501,36683061.363454685,1710,342,999,1710,3093.0000000063501,36683061.363454685]
["03430343","0343","0343",1711,343,"Winchendon                   ",343,"Winchendon",15745625.66,0.87522629051983103,{"$f":"X1720","v":16192011.48},{"$f":"IF(K1724>0, K1720/K1724, 0)","v":0.88733606611011828},null,{"$f":"ROUND(M1724*L1720,0)","v":5511010},5282604,{"$f":"N1720-O1720","v":228406},4.3237388227472664,1322,1283,343,343,1711,1283,16192011.48,1711,343,343,1711,1283,16192011.48]
["03430832","0343","0832",1712,343,"Winchendon                   ",832,"Montachusett",2244722.4711650959,0.12477370948016907,2055879.1427514625,{"$f":"IF(K1724>0, K1721/K1724, 0)","v":0.11266393388988168},null,{"$f":"ROUND(M1724*L1721,0)","v":699726},753097,{"$f":"N1721-O1721","v":-53371},-7.0868692877544328,130.00000000049999,116.00000000463,343,832,1712,116.00000000463,2055879.1427514625,1712,343,832,1712,116.00000000463,2055879.1427514625]
["03430998","0343","0998",1713,343,"",998,"",0,0,0,{"$f":"IF(K1724>0, K1722/K1724, 0)","v":0},null,{"$f":"ROUND(M1724*L1722,0)","v":0},0,{"$f":"N1722-O1722","v":0},0,0,0,343,998,1713,0,0,1713,343,998,1713,0,0]
["03430998","0343","0998",1714,343,"",998,"",0,0,0,{"$f":"IF(K1724>0, K1723/K1724, 0)","v":0},null,{"$f":"ROUND(M1724*L1723,0)","v":0},0,{"$f":"N1723-O1723","v":0},0,0,0,343,998,1714,0,0,1714,343,998,1714,0,0]
["03430999","0343","0999",1715,343,"Winchendon                   ",999,"Total",17990348.131165095,1,{"$f":"SUM(K1720:K1723)","v":18247890.622751463},{"$f":"SUM(L1720:L1723)","v":1},{"$f":"VLOOKUP(E1724,town351,24)","v":6210736},{"$f":"SUM(N1720:N1723)","v":6210736},6035701,{"$f":"SUM(P1720:P1723)","v":175035},2.8999945491004278,1452.0000000005,1399.00000000463,343,999,1715,1399.00000000463,18247890.622751463,1715,343,999,1715,1399.00000000463,18247890.622751463]
["03440344","0344","0344",1716,344,"Winchester                   ",344,"Winchester",49895727.543140002,0.99774923949083294,{"$f":"X1725","v":49628251.23258999},{"$f":"IF(K1729>0, K1725/K1729, 0)","v":0.99559020433775636},null,{"$f":"ROUND(M1729*L1725,0)","v":40943308},40278256,{"$f":"N1725-O1725","v":665052},1.6511439820035902,4685,4513,344,344,1716,4513,49628251.23258999,1716,344,344,1716,4513,49628251.23258999]
["03440853","0344","0853",1717,344,"Winchester                   ",853,"Northeast Metropolitan",112556.67124093171,2.2507605091670727E-3,219819.80744354948,{"$f":"IF(K1729>0, K1726/K1729, 0)","v":4.4097956622435753E-3},null,{"$f":"ROUND(M1729*L1726,0)","v":181351},90861,{"$f":"N1726-O1726","v":90490},99.591684000836437,6.0000000022699993,10.999999994969999,344,853,1717,10.999999994969999,219819.80744354948,1717,344,853,1717,10.999999994969999,219819.80744354948]
["03440998","0344","0998",1718,344,"",998,"",0,0,0,{"$f":"IF(K1729>0, K1727/K1729, 0)","v":0},null,{"$f":"ROUND(M1729*L1727,0)","v":0},0,{"$f":"N1727-O1727","v":0},0,0,0,344,998,1718,0,0,1718,344,998,1718,0,0]
["03440998","0344","0998",1719,344,"",998,"",0,0,0,{"$f":"IF(K1729>0, K1728/K1729, 0)","v":0},null,{"$f":"ROUND(M1729*L1728,0)","v":0},0,{"$f":"N1728-O1728","v":0},0,0,0,344,998,1719,0,0,1719,344,998,1719,0,0]
["03440999","0344","0999",1720,344,"Winchester                   ",999,"Total",50008284.214380935,1,{"$f":"SUM(K1725:K1728)","v":49848071.040033542},{"$f":"SUM(L1725:L1728)","v":0.99999999999999989},{"$f":"VLOOKUP(E1729,town351,24)","v":41124659},{"$f":"SUM(N1725:N1728)","v":41124659},40369117,{"$f":"SUM(P1725:P1728)","v":755542},1.8715841617244191,4691.0000000022701,4523.9999999949696,344,999,1720,4523.9999999949696,49848071.040033542,1720,344,999,1720,4523.9999999949696,49848071.040033542]
["03450345","0345","0345",1721,345,"Windsor                      ",345,"Windsor",58631.199999999997,7.2856295183470698E-2,{"$f":"X1730","v":59811.12},{"$f":"IF(K1734>0, K1730/K1734, 0)","v":7.800920743614119E-2},null,{"$f":"ROUND(M1734*L1730,0)","v":49344},48371,{"$f":"N1730-O1730","v":973},2.0115358375886379,4,4,345,345,1721,4,59811.12,1721,345,345,1721,4,59811.12]
["03450635","0345","0635",1722,345,"Windsor                      ",635,"Central Berkshire",746120.12385405705,0.92714370481652941,706907.6041834465,{"$f":"IF(K1734>0, K1731/K1734, 0)","v":0.92199079256385885},null,{"$f":"ROUND(M1734*L1731,0)","v":583199},615549,{"$f":"N1731-O1731","v":-32350},-5.255471132273791,64.328165370560001,58.231770828280006,345,635,1722,58.231770828280006,706907.6041834465,1722,345,635,1722,58.231770828280006,706907.6041834465]
["03450998","0345","0998",1723,345,"",998,"",0,0,0,{"$f":"IF(K1734>0, K1732/K1734, 0)","v":0},null,{"$f":"ROUND(M1734*L1732,0)","v":0},0,{"$f":"N1732-O1732","v":0},0,0,0,345,998,1723,0,0,1723,345,998,1723,0,0]
["03450998","0345","0998",1724,345,"",998,"",0,0,0,{"$f":"IF(K1734>0, K1733/K1734, 0)","v":0},null,{"$f":"ROUND(M1734*L1733,0)","v":0},0,{"$f":"N1733-O1733","v":0},0,0,0,345,998,1724,0,0,1724,345,998,1724,0,0]
["03450999","0345","0999",1725,345,"Windsor                      ",999,"Total",804751.323854057,1,{"$f":"SUM(K1730:K1733)","v":766718.72418344649},{"$f":"SUM(L1730:L1733)","v":1},{"$f":"VLOOKUP(E1734,town351,24)","v":632543},{"$f":"SUM(N1730:N1733)","v":632543},663920,{"$f":"SUM(P1730:P1733)","v":-31377},-4.7260212073743828,68.328165370560001,62.231770828280006,345,999,1725,62.231770828280006,766718.72418344649,1725,345,999,1725,62.231770828280006,766718.72418344649]
["03460346","0346","0346",1726,346,"Winthrop                     ",346,"Winthrop",23537383.711800005,0.96315331153545136,{"$f":"X1735","v":23441502.304000001},{"$f":"IF(K1739>0, K1735/K1739, 0)","v":0.95365988903847532},null,{"$f":"ROUND(M1739*L1735,0)","v":17313006},16793461,{"$f":"N1735-O1735","v":519545},3.0937339241744151,1986,1907,346,346,1726,1907,23441502.304000001,1726,346,346,1726,1907,23441502.304000001]
["03460853","0346","0853",1727,346,"Winthrop                     ",853,"Northeast Metropolitan",900453.36968902114,3.6846688464548659E-2,1139066.2754700084,{"$f":"IF(K1739>0, K1736/K1739, 0)","v":4.6340110961524725E-2},null,{"$f":"ROUND(M1739*L1736,0)","v":841271},642456,{"$f":"N1736-O1736","v":198815},30.946088136775124,48.000000005449998,57.00000000072,346,853,1727,57.00000000072,1139066.2754700084,1727,346,853,1727,57.00000000072,1139066.2754700084]
["03460998","0346","0998",1728,346,"",998,null,0,0,0,{"$f":"IF(K1739>0, K1737/K1739, 0)","v":0},null,{"$f":"ROUND(M1739*L1737,0)","v":0},0,{"$f":"N1737-O1737","v":0},0,0,0,346,998,1728,0,0,1728,346,998,1728,0,0]
[{"$f":"B1738&C1738","v":"03460998"},"0346","0998",1729,346,"",998,"",0,0,0,{"$f":"IF(K1739>0, K1738/K1739, 0)","v":0},null,{"$f":"ROUND(M1739*L1738,0)","v":0},0,{"$f":"N1738-O1738","v":0},0,0,0,{"$f":"VLOOKUP($D1738, foundoptions, VLOOKUP($T$6, foundoptcell, 2, FALSE), FALSE)","v":346},{"$f":"VLOOKUP($D1738, foundoptions, VLOOKUP($T$6, foundoptcell, 2, FALSE)+1, FALSE)","v":998},{"$f":"VLOOKUP($D1738, foundoptions, VLOOKUP($T$6, foundoptcell, 2, FALSE)+2, FALSE)","v":1729},{"$f":"VLOOKUP($D1738, foundoptions, VLOOKUP($T$6, foundoptcell, 2, FALSE)+3, FALSE)","v":0},{"$f":"VLOOKUP($D1738, foundoptions, VLOOKUP($T$6, foundoptcell, 2, FALSE)+4, FALSE)","v":0},1729,346,998,1729,0,0]
["03460999","0346","0999",1730,346,"Winthrop                     ",999,"Total",24437837.081489027,1,{"$f":"SUM(K1735:K1738)","v":24580568.579470009},{"$f":"SUM(L1735:L1738)","v":1},{"$f":"VLOOKUP(E1739,town351,24)","v":18154277},{"$f":"SUM(N1735:N1738)","v":18154277},17435917,{"$f":"SUM(P1735:P1738)","v":718360},4.1200012594691753,2034.0000000054499,{"$f":"W1739","v":1964.0000000007201},346,999,1730,1964.0000000007201,24580568.579470009,{"$f":"D1739","v":1730},346,999,1730,1964.0000000007201,24580568.579470009]
["03470347","0347","0347",1731,347,"Woburn",347,"Woburn",54604897.586800009,0.96326686511397341,{"$f":"X1740","v":54858831.045920007},{"$f":"IF(K1744>0, K1740/K1744, 0)","v":0.96012856813649072},null,{"$f":"ROUND(M1744*L1740,0)","v":45258536},45049041,{"$f":"N1740-O1740","v":209495},0.46503764641737877,4517,4384,347,347,1731,4384,54858831.045920007,1731,347,347,1731,4384,54858831.045920007]
["03470853","0347","0853",1732,347,"Woburn",853,"Northeast Metropolitan",2082298.4171227228,3.6733134886026621E-2,2278132.5509400168,{"$f":"IF(K1744>0, K1741/K1744, 0)","v":3.9871431863509318E-2},null,{"$f":"ROUND(M1744*L1741,0)","v":1879459},1717896,{"$f":"N1741-O1741","v":161563},9.4047020308563507,110.99999999750999,114.00000000144,347,853,1732,114.00000000144,2278132.5509400168,1732,347,853,1732,114.00000000144,2278132.5509400168]
["03470998","0347","0998",1733,347,"",998,null,0,0,0,{"$f":"IF(K1744>0, K1742/K1744, 0)","v":0},null,{"$f":"ROUND(M1744*L1742,0)","v":0},0,{"$f":"N1742-O1742","v":0},0,0,0,347,998,1733,0,0,1733,347,998,1733,0,0]
["03470998","0347","0998",1734,347,"",998,"",0,0,0,{"$f":"IF(K1744>0, K1743/K1744, 0)","v":0},null,{"$f":"ROUND(M1744*L1743,0)","v":0},0,{"$f":"N1743-O1743","v":0},0,0,0,347,998,1734,0,0,1734,347,998,1734,0,0]
["03470999","0347","0999",1735,347,"Woburn",999,"Total",56687196.003922731,1,{"$f":"SUM(K1740:K1743)","v":57136963.596860021},{"$f":"SUM(L1740:L1743)","v":1},{"$f":"VLOOKUP(E1744,town351,24)","v":47137995},{"$f":"SUM(N1740:N1743)","v":47137995},46766937,{"$f":"SUM(P1740:P1743)","v":371058},{"$f":"IF(O1744>0,P1744*100/O1744,IF(P1744>0,100,0))","v":0.79341950489509283},4627.9999999975098,4498.0000000014397,347,999,1735,4498.0000000014397,57136963.596860021,1735,347,999,1735,4498.0000000014397,57136963.596860021]
["03480348","0348","0348",1736,348,"Worcester                    ",348,"Worcester",382606983.73000002,1,{"$f":"X1745","v":400051102.55999994},{"$f":"IF(K1749>0, K1745/K1749, 0)","v":1},null,{"$f":"ROUND(M1749*L1745,0)","v":108945977},105210987,{"$f":"N1745-O1745","v":3734990},3.5499999634068637,27442,26540,348,348,1736,26540,400051102.55999994,1736,348,348,1736,26540,400051102.55999994]
["03480998","0348","0998",1737,348,"",998,"",0,0,0,{"$f":"IF(K1749>0, K1746/K1749, 0)","v":0},null,{"$f":"ROUND(M1749*L1746,0)","v":0},0,{"$f":"N1746-O1746","v":0},0,0,0,348,998,1737,0,0,1737,348,998,1737,0,0]
["03480998","0348","0998",1738,348,"",998,"",0,0,0,{"$f":"IF(K1749>0, K1747/K1749, 0)","v":0},null,{"$f":"ROUND(M1749*L1747,0)","v":0},0,{"$f":"N1747-O1747","v":0},0,0,0,348,998,1738,0,0,1738,348,998,1738,0,0]
["03480998","0348","0998",1739,348,"",998,"",0,0,0,{"$f":"IF(K1749>0, K1748/K1749, 0)","v":0},null,{"$f":"ROUND(M1749*L1748,0)","v":0},0,{"$f":"N1748-O1748","v":0},0,0,0,348,998,1739,0,0,1739,348,998,1739,0,0]
["03480999","0348","0999",1740,348,"Worcester                    ",999,"Total",382606983.73000002,1,{"$f":"SUM(K1745:K1748)","v":400051102.55999994},{"$f":"SUM(L1745:L1748)","v":1},{"$f":"VLOOKUP(E1749,town351,24)","v":108945977},{"$f":"SUM(N1745:N1748)","v":108945977},105210987,{"$f":"SUM(P1745:P1748)","v":3734990},3.5499999634068637,27442,26540,348,999,1740,26540,400051102.55999994,1740,348,999,1740,26540,400051102.55999994]
["03490349","0349","0349",1741,349,"Worthington                  ",349,"Worthington",1374749.7299999997,1,{"$f":"X1750","v":1188969.8699999999},{"$f":"IF(K1754>0, K1750/K1754, 0)","v":1},null,{"$f":"ROUND(M1754*L1750,0)","v":980900},1018495,{"$f":"N1750-O1750","v":-37595},-3.6912306884177144,123,102,349,349,1741,102,1188969.8699999999,1741,349,349,1741,102,1188969.8699999999]
["03490998","0349","0998",1742,349,null,998,null,0,0,0,{"$f":"IF(K1754>0, K1751/K1754, 0)","v":0},null,{"$f":"ROUND(M1754*L1751,0)","v":0},0,{"$f":"N1751-O1751","v":0},0,0,0,349,998,1742,0,0,1742,349,998,1742,0,0]
["03490998","0349","0998",1743,349,"",998,"",0,0,0,{"$f":"IF(K1754>0, K1752/K1754, 0)","v":0},null,{"$f":"ROUND(M1754*L1752,0)","v":0},0,{"$f":"N1752-O1752","v":0},0,0,0,349,998,1743,0,0,1743,349,998,1743,0,0]
["03490998","0349","0998",1744,349,"",998,"",0,0,0,{"$f":"IF(K1754>0, K1753/K1754, 0)","v":0},null,{"$f":"ROUND(M1754*L1753,0)","v":0},0,{"$f":"N1753-O1753","v":0},0,0,0,349,998,1744,0,0,1744,349,998,1744,0,0]
["03490999","0349","0999",1745,349,"Worthington                  ",999,"Total",1374749.7299999997,1,{"$f":"SUM(K1750:K1753)","v":1188969.8699999999},{"$f":"SUM(L1750:L1753)","v":1},{"$f":"VLOOKUP(E1754,town351,24)","v":980900},{"$f":"SUM(N1750:N1753)","v":980900},1018495,{"$f":"SUM(P1750:P1753)","v":-37595},-3.6912306884177144,123,102,349,999,1745,102,1188969.8699999999,1745,349,999,1745,102,1188969.8699999999]
["03500350","0350","0350",1746,350,"Wrentham                     ",350,"Wrentham",9053868.8087499999,0.46646096324074171,{"$f":"X1755","v":8698911.8334400002},{"$f":"IF(K1759>0, K1755/K1759, 0)","v":0.44881764188688955},null,{"$f":"ROUND(M1759*L1755,0)","v":7176602},7469442,{"$f":"N1755-O1755","v":-292840},-3.9205070472466352,874,822,350,350,1746,822,8698911.8334400002,1746,350,350,1746,822,8698911.8334400002]
["03500690","0350","0690",1747,350,"Wrentham                     ",690,"King Philip",9186166.6678768415,0.47327703138868682,9264030.4619362541,{"$f":"IF(K1759>0, K1756/K1759, 0)","v":0.47797476120071314},null,{"$f":"ROUND(M1759*L1756,0)","v":7642825},7578587,{"$f":"N1756-O1756","v":64238},0.84762502561493325,827.99999999981003,811.40088976408003,350,690,1747,811.40088976408003,9264030.4619362541,1747,350,690,1747,811.40088976408003,9264030.4619362541]
["03500878","0350","0878",1748,350,"Wrentham                     ",878,"Tri County",1008008.5884322928,5.1933230649493387E-2,1233372.7180298024,{"$f":"IF(K1759>0, K1757/K1759, 0)","v":6.3635480560429294E-2},null,{"$f":"ROUND(M1759*L1757,0)","v":1017532},831607,{"$f":"N1757-O1757","v":185925},22.357315414612913,56.999999999400004,66.073008851800012,350,878,1748,66.073008851800012,1233372.7180298024,1748,350,878,1748,66.073008851800012,1233372.7180298024]
["03500915","0350","0915",1749,350,"Wrentham                     ",915,"Norfolk County",161659.04460338355,8.3287747210778595E-3,185525.22992441358,{"$f":"IF(K1759>0, K1758/K1759, 0)","v":9.5721163519679239E-3},null,{"$f":"ROUND(M1759*L1758,0)","v":153058},133369,{"$f":"N1758-O1758","v":19689},14.762800950745676,9.00000000042,10.00000000124,350,915,1749,10.00000000124,185525.22992441358,1749,350,915,1749,10.00000000124,185525.22992441358]
["03500999","0350","0999",1750,350,"Wrentham                     ",999,"Total",19409703.109662522,0.99999999999999978,{"$f":"SUM(K1755:K1758)","v":19381840.243330471},{"$f":"SUM(L1755:L1758)","v":1},{"$f":"VLOOKUP(E1759,town351,24)","v":15990018},{"$f":"SUM(N1755:N1758)","v":15990017},16013005,{"$f":"SUM(P1755:P1758)","v":-22988},-0.14355831400789545,1767.9999999996298,1709.4738986171203,350,999,1750,1709.4738986171203,19381840.243330471,1750,350,999,1750,1709.4738986171203,19381840.243330471]
["03510351","0351","0351",1751,351,"Yarmouth                     ",351,"Yarmouth",0,0,{"$f":"X1760","v":0},{"$f":"IF(K1764>0, K1760/K1764, 0)","v":0},null,{"$f":"ROUND(M1764*L1760,0)","v":0},0,{"$f":"N1760-O1760","v":0},0,0,0,351,351,1751,0,0,1751,351,351,1751,0,0]
["03510645","0351","0645",1752,351,"Yarmouth                     ",645,"Dennis Yarmouth",27983143.937454641,0.91753091567263378,27718231.098454572,{"$f":"IF(K1764>0, K1761/K1764, 0)","v":0.90253061470660179},null,{"$f":"ROUND(M1764*L1761,0)","v":22206631},22445527,{"$f":"N1761-O1761","v":-238896},-1.0643367830035801,2288.2144772185002,2175.8341247170001,351,645,1752,2175.8341247170001,27718231.098454572,1752,351,645,1752,2175.8341247170001,27718231.098454572]
["03510815","0351","0815",1753,351,"Yarmouth                     ",815,"Cape Cod",2515167.8463400705,8.2469084327366132E-2,2993448.535222257,{"$f":"IF(K1764>0, K1762/K1764, 0)","v":9.7469385293398186E-2},null,{"$f":"ROUND(M1764*L1762,0)","v":2398220},2017438,{"$f":"N1762-O1762","v":380782},18.874532947233075,137.00000000206001,158.99999999795997,351,815,1753,158.99999999795997,2993448.535222257,1753,351,815,1753,158.99999999795997,2993448.535222257]
["03510998","0351","0998",1754,351,"",998,"",0,0,0,{"$f":"IF(K1764>0, K1763/K1764, 0)","v":0},null,{"$f":"ROUND(M1764*L1763,0)","v":0},0,{"$f":"N1763-O1763","v":0},0,0,0,351,998,1754,0,0,1754,351,998,1754,0,0]
["03510999","0351","0999",1755,351,"Yarmouth                     ",999,"Total",30498311.783794712,0.99999999999999989,{"$f":"SUM(K1760:K1763)","v":30711679.633676831},{"$f":"SUM(L1760:L1763)","v":1},{"$f":"VLOOKUP(E1764,town351,24)","v":24604851},{"$f":"SUM(N1760:N1763)","v":24604851},24462965,{"$f":"SUM(P1760:P1763)","v":141886},0.58000328251297417,2425.2144772205602,2334.8341247149601,351,999,1755,2334.8341247149601,30711679.633676831,1755,351,999,1755,2334.8341247149601,30711679.633676831]
[null,null,null,1756,999,"State Total",999,"STATE TOTAL",11626531095.326315,null,{"$f":"SUM(K10:K1764)/2","v":11926225791.726213},null,{"$f":"SUM(M10:M1764)","v":6827673657},{"$f":"SUM(N10:N1764)/2","v":6827673657},{"$f":"SUM(O10:O1764)/2","v":6705321561},{"$f":"SUM(P10:P1764)/2","v":122352096},1.8247013940633892,938084.99999988661,{"$f":"SUM(S10:S1764)/2","v":907506.00000004785},null,null,null,{"$f":"SUM(W10:W1764)/2","v":907506.00000004785},11926225791.726213,null,null,null,null,907506.00000004785,11926225791.726213,null,null,null,null,{"$f":"SUM(AI10:AI1764)/2","v":0},0,null,null,null,null,{"$f":"SUM(AO10:AO1764)/2","v":0},0,null,null,null,null,{"$f":"SUM(AU10:AU1764)/2","v":0},0,null,null,null,null,{"$f":"SUM(BA10:BA1764)/2","v":0},0,null,null,null,null,{"$f":"SUM(BG10:BG1764)/2","v":0},0,null,null,null,null,null,null,null,null,null,null,null,null,null,null,null,null,null,null,null,null,null,null,{"$f":"SUM(CE10:CE1764)/2","v":0},{"$f":"SUM(CF10:CF1764)/2","v":0},null,null,null,null,null,{"$f":"SUM(CL10:CL1764)/2","v":0}]
[null,null,null,null,null,null,null,null,null,null,null,null,null,null,null,null,null,null,null,null,null,null,null,null,null,null,null,null,null,null,null,null,null,null,null,null,null,null,null,null,null,null,null,null,null,null,null,null,null,null,null,null,null,null,null,null,null,null,null,null,null,null,null,null,null,null,null,null,null,null,null,null,null,null,null,null,null,null,null,null,null,null,null,{"$f":"CF1765-AD1765","v":-11926225791.726213}]

{"sheet":"Foundation Budget","index":5,"n_rows":48,"n_cols":21,"rows_kept":48,"cut":false,"hidden":false,"merged":[[36,1,36,8],[4,1,4,6],[5,10,5,15],[7,3,7,4],[5,2,5,8]]}
["Return to Index",null,null,null,null,null,null,null,null,null,null,null,null,null,null,null,null,null,null,null,"More about the data"]
["Massachusetts Department of Elementary and Secondary Education"]
["Office of School Finance"]
[{"$f":"parameters!B1&\" Chapter 70 Foundation Budget\"","v":"FY22 Chapter 70 Foundation Budget"}]
[{"$f":"lea","v":999},{"$f":"IF(lea=999,\"State total cannot be computed on this page; Please enter an lea code on the index sheet\",VLOOKUP(A5,dist915,2))","v":"State total cannot be computed on this page; Please enter an lea code on the index sheet"},null,null,null,null,null,6,8,null,9,10,11,12,13,14]
[null,null,"Base Foundation Components",null,null,null,null,null,null,null,"Incremental Costs Above the Base"]
[null,null,"1","2","3","4","5","6","7",null,"8",9,"10","11","12","13",14]
[null,null,null," ------ Kindergarten ------",null,null," Junior/","High",null,null,"Special Ed","Special Ed","English learners","English learners","English learners"]
[null,null,"Pre-school","Half-Day","Full-Day","Elementary","Middle","School","Vocational",null,"In-District","Tuitioned-Out","PK-5","6-8","High School/Voc","Low income","TOTAL"]
[null,"Foundation Enrollment",{"$f":"IF($A$5<>999,VLOOKUP(lea,dist915,VALUE(C$7)+2),0)","v":0},0,0,0,0,0,{"$f":"IF($A$5<>999,VLOOKUP(lea,dist915,VALUE(I$7)+2),0)","v":0},null,{"$f":"IF($A$5<>999,VLOOKUP(lea,dist915,VALUE(K$7)+2),0)","v":0},0,0,0,0,0,0]
[]
[1,"Administration",{"$f":"(VLOOKUP(VALUE(C$7),newrates,$A12+2)*C$10*waf)","v":0},0,0,0,0,0,0,null,{"$f":"(VLOOKUP(VALUE(K$7),newrates,$A12+2)*K$10*waf)","v":0},0,0,0,0,{"$f":"IF(C29=0,0,(VLOOKUP(VALUE(P$7)+$C$29-1, newrates, $A12+2, FALSE))*P$10*waf)","v":0},{"$f":"SUM(C12:P12)","v":0}]
[2,"Instructional Leadership",0,0,0,0,0,0,0,null,0,0,0,0,0,{"$f":"IF(C29=0,0,(VLOOKUP(VALUE(P$7)+$C$29-1, newrates, $A13+2, FALSE))*P$10*waf)","v":0},0]
[3,"Classroom & Specialist Teachers",0,0,0,0,0,0,0,null,0,0,0,0,0,{"$f":"IF(C29=0,0,(VLOOKUP(VALUE(P$7)+$C$29-1, newrates, $A14+2, FALSE))*P$10*waf)","v":0},0]
[4,"Other Teaching Services",0,0,0,0,0,0,0,null,0,0,0,0,0,{"$f":"IF(C29=0,0,(VLOOKUP(VALUE(P$7)+$C$29-1, newrates, $A15+2, FALSE))*P$10*waf)","v":0},0]
[5,"Professional Development",0,0,0,0,0,0,0,null,0,0,0,0,0,{"$f":"IF(C29=0,0,(VLOOKUP(VALUE(P$7)+$C$29-1, newrates, $A16+2, FALSE))*P$10*waf)","v":0},0]
[6,"Instructional Materials, Equipment & Technology*",{"$f":"(VLOOKUP(VALUE(C$7),newrates,$A17+2)*C$10)","v":0},0,0,0,0,0,0,null,{"$f":"(VLOOKUP(VALUE(K$7),newrates,$A17+2)*K$10)","v":0},{"$f":"(VLOOKUP(VALUE(L$7),newrates,$A17+2)*L$10)","v":0},{"$f":"(VLOOKUP(VALUE(M$7),newrates,$A17+2)*M$10)","v":0},{"$f":"(VLOOKUP(VALUE(N$7),newrates,$A17+2)*N$10)","v":0},{"$f":"(VLOOKUP(VALUE(O$7),newrates,$A17+2)*O$10)","v":0},{"$f":"IF(C29=0,0,(VLOOKUP(VALUE(P$7)+$C$29-1, newrates, $A17+2, FALSE))*P$10)","v":0},0]
[7,"Guidance & Psychological Services",{"$f":"(VLOOKUP(VALUE(C$7),newrates,$A18+2)*C$10*waf)","v":0},0,0,0,0,0,0,null,{"$f":"(VLOOKUP(VALUE(K$7),newrates,$A18+2)*K$10*waf)","v":0},0,0,0,0,{"$f":"IF(C29=0,0,(VLOOKUP(VALUE(P$7)+$C$29-1, newrates, $A18+2, FALSE))*P$10*waf)","v":0},0]
[8,"Pupil Services",0,0,0,0,0,0,0,null,0,0,0,0,0,{"$f":"IF(C29=0,0,(VLOOKUP(VALUE(P$7)+$C$29-1, newrates, $A19+2, FALSE))*P$10*waf)","v":0},0]
[9,"Operations & Maintenance",0,0,0,0,0,0,0,null,0,0,0,0,0,{"$f":"IF(C29=0,0,(VLOOKUP(VALUE(P$7)+$C$29-1, newrates, $A20+2, FALSE))*P$10*waf)","v":0},0]
[10,"Employee Benefits/Fixed Charges*",{"$f":"(VLOOKUP(VALUE(C$7),newrates,$A21+2)*C$10)","v":0},0,0,0,0,0,0,null,{"$f":"(VLOOKUP(VALUE(K$7),newrates,$A21+2)*K$10)","v":0},{"$f":"(VLOOKUP(VALUE(L$7),newrates,$A21+2)*L$10)","v":0},{"$f":"(VLOOKUP(VALUE(M$7),newrates,$A21+2)*M$10)","v":0},{"$f":"(VLOOKUP(VALUE(N$7),newrates,$A21+2)*N$10)","v":0},{"$f":"(VLOOKUP(VALUE(O$7),newrates,$A21+2)*O$10)","v":0},{"$f":"IF(C29=0,0,(VLOOKUP(VALUE(P$7)+$C$29-1, newrates, $A21+2, FALSE))*P$10)","v":0},0]
[11,"Special Education Tuition*",0,0,0,0,0,0,0,null,{"$f":"(VLOOKUP(VALUE(K$7)-2,newrates,$A22+2)*K$10)","v":0},{"$f":"(VLOOKUP(VALUE(L$7),newrates,$A22+2)*L$10)","v":0},{"$f":"(VLOOKUP(VALUE(M$7),newrates,$A22+2)*M$10)","v":0},{"$f":"(VLOOKUP(VALUE(N$7),newrates,$A22+2)*N$10)","v":0},{"$f":"(VLOOKUP(VALUE(O$7)-2,newrates,$A22+2)*O$10)","v":0},{"$f":"IF(C29=0,0,(VLOOKUP(VALUE(P$7)+$C$29-1, newrates, $A22+2, FALSE))*P$10)","v":0},0]
[]
[12,"Total",{"$f":"SUM(C12:C22)","v":0},{"$f":"SUM(D12:D22)","v":0},{"$f":"SUM(E12:E22)","v":0},0,0,0,{"$f":"SUM(I12:I22)","v":0},null,0,0,0,0,0,0,{"$f":"SUM(Q12:Q23)","v":0}]
[]
[13,"Wage Adjustment Factor",{"$f":"VLOOKUP(lea,dist915,17)","v":0},null,null,null,null,null,null,null,null,null,null,"Foundation Budget per Pupil",null,null,{"$f":"IFERROR(IF(A5<>999,Q24/Q10,\" \"),\"\")","v":" "}]
[null,"*The wage adjustment factor is applied to underlying rates in all functions except instructional equipment, benefits and special education tuition."]
[14,"Low income percentage",{"$f":"VLOOKUP(lea,dist915,19)","v":0},null,null,null,null,null,null,null,null,"English learner foundation budget as % total foundation budget",null,null,null,null,{"$f":"IFERROR(IF(A5=999,\"\",SUM(M24:O24)/Q24),\"\")","v":""}]
[15,"Low income group",{"$f":"VLOOKUP(lea,dist915,18)","v":0},null,null,null,null,null,null,null,null,"Low-income foundation budget as % total foundation budget",null,null,null,null,{"$f":"IFERROR(IF(A5=999,\"\",P24/Q24),\"\")","v":""}]
[]
[null,null,null,null,null,null,null,null,null,null,null,"Low income enrollment determination"]
[null,"Total foundation enrollment (column 14) does not include incremental costs above the base.  The pupils are already counted in columns 1 to 7.",null,null,null,null,null,null,null,null,null,"Estimated low income enrollment based on FY16 Ch.70",null,null,null,{"$f":"IF($A$5<>999,VLOOKUP(lea,dist915,44,0),\"\")","v":""}]
[null,"Total foundation enrollment assigns pupils in pre-kindergarten and half-time kindergarten an enrollment count of .5.",null,null,null,null,null,null,null,null,null,"FY22 low income enrollment from direct certification",null,null,null,{"$f":"IF($A$5<>999,VLOOKUP(lea,dist915,45,0),\"\")","v":""}]
[null,"Special education in-district enrollment is an assumed percentage, representing 3.83 percent of K-12 non-vocational enrollment and",null,null,null,null,null,null,null,null,null,"greater number used for FY22 Chapter 70",null,null,null,{"$f":"IF($A$5<>999,VLOOKUP(lea,dist915,46,0),\"\")","v":""}]
[null,"4.83 percent of vocational enrollment."]
[null,"Special education tuitioned-out enrollment is also an assumed percentage, representing 1 percent of non-vocational K-12 enrollment."]
[null,"Direct certification includes the Supplemental Nutrition Assistance Program (SNAP);"]
[null,"the Transitional Assistance for Families with Dependent Children (TAFDC);  MassHealth (Medicaid); and students in foster care."]
[null,"Low income and English learner foundation budget increments are based on:"]
[null,"the number of students attending school in the district or district residents who attend charter schools."]
[null,"The low income percentage is the ratio of the low-income enrollment to:"]
[null,"the total students attending school in the district and the total resident students attending charter schools."]
[]
[null,"Each component of the foundation budget represents the enrollment in row 10 multiplied by the appropriate statewide foundation allotment."]
[null,"The foundation budget shown on this page may differ from the final number used in the formula, due to rounding error."]
[]
[]
[null,"Return to Index"]

{"sheet":"Municipal Contribution","index":6,"n_rows":31,"n_cols":13,"rows_kept":31,"cut":false,"hidden":false,"merged":[]}
[null,null,null,null,null,null,null,null,null,null,null,null,{"$f":"IF(VLOOKUP(A6,town351,18)>0,\"lo\",\"hi\")","v":"hi"}]
["Return to Index",null,null,null,null,null,"More about the data"]
["Massachusetts Department of Elementary and Secondary Education"]
["Office of School Finance"]
[{"$f":"parameters!B1&\" Chapter 70 Determination of City and Town Total Required Contribution\"","v":"FY22 Chapter 70 Determination of City and Town Total Required Contribution"}]
[{"$f":"lea","v":999},{"$f":"IF(lea>351, \"This lea code does not refer to a city or a town - this table shows municipal data only.\",VLOOKUP(A6,aidcalc,2))","v":"This lea code does not refer to a city or a town - this table shows municipal data only."}]
[]
["Effort Goal",null,null,null,{"$f":"parameters!B1&\" Increments Toward Goal\"","v":"FY22 Increments Toward Goal"}]
[]
["1)","2020 equalized valuation",{"$f":"IF(A6<352,VLOOKUP($A$6,town351,3),\" \")","v":" "},null,"13)",{"$f":"PYr&\" required local contribution\"","v":"FY21 required local contribution"},{"$f":"IF(A6<352,VLOOKUP($A$6,town351,14),\" \")","v":" "}]
["2)","Uniform property percentage",{"$f":"IF(A6<352,'Townwide Contributions'!D5,\" \")","v":" "},null,"14)","Municipal revenue growth factor (DOR)",{"$f":"IF(A$6<352,VLOOKUP($A$6,town351,15),\" \")","v":" "}]
["3)","Local effort from property wealth",{"$f":"IF(A6<352,VLOOKUP($A$6,town351,4),\" \")","v":" "},null,"15)",{"$f":"parameters!B1&\" preliminary contribution (13 raised by 14)\"","v":"FY22 preliminary contribution (13 raised by 14)"},{"$f":"IF(A$6<352,VLOOKUP($A$6,town351,16),\" \")","v":" "}]
[null,null,null,null,"16)","Preliminary contribution pct of foundation (15 / 8)",{"$f":"IF(A$6<352,VLOOKUP($A$6,town351,17)/100,\" \")","v":" "}]
["4)","2018 income",{"$f":"IF(A6<352,VLOOKUP($A$6,town351,5),\" \")","v":" "}]
["5)","Uniform income percentage",{"$f":"IF(A6<352,'Townwide Contributions'!F5,\" \")","v":" "},null,"If preliminary contribution is above the target share:"]
["6)","Local effort from income",{"$f":"IF(A6<352,VLOOKUP($A$6,town351,6),\" \")","v":" "},null,"17)","Excess local effort (15 - 10)",{"$f":"IF(AND(A$6<352,M$1=\"hi\"),VLOOKUP($A$6,town351,21),\" \")","v":" "}]
[null,null,null,null,"18)",{"$f":"parameters!$C$50&\" reduction toward target (17 x \"&parameters!$C$50&\")\"","v":"100% reduction toward target (17 x 100%)"},{"$f":"IF(AND(A$6<352,M$1=\"hi\"),VLOOKUP($A$6,town351,22),\" \")","v":" "}]
["7)","Combined effort yield (3 + 6)",{"$f":"IF(A6<352,VLOOKUP($A$6,town351,7),\" \")","v":" "},null,"19)",{"$f":"parameters!B1&\" required local contribution (15 - 18), capped at 90% of foundation\"","v":"FY22 required local contribution (15 - 18), capped at 90% of foundation"},{"$f":"IF(AND(A$6<352,M$1=\"hi\"),VLOOKUP($A$6,town351,24),\" \")","v":" "}]
[null,null,null,null,"20)","Contribution as percentage of foundation (19 / 8)",{"$f":"IF(AND(A$6<352,M$1=\"hi\"),VLOOKUP($A$6,town351,25)/100,\" \")","v":" "}]
["8)",{"$f":"parameters!B1&\" Foundation budget\"","v":"FY22 Foundation budget"},{"$f":"IF(A6<352,VLOOKUP($A$6,town351,8),\" \")","v":" "}]
["9)","Maximum local contribution (82.5% * 8)",{"$f":"IF(A6<352,VLOOKUP($A$6,town351,10),\" \")","v":" "},null,"If preliminary contribution is below the target share:"]
[null,null,null,null,"21)","Shortfall from target local share (10 - 15)",{"$f":"IF(AND(A$6<352,M1=\"lo\"),-1*VLOOKUP($A$6,town351,27),\" \")","v":" "}]
["10)","Target local contribution (lesser of 7 or 9)",{"$f":"IF(A6<352,VLOOKUP($A$6,town351,11),\" \")","v":" "},null,"22)","Shortfall percentage (11 - 16)",{"$f":"IF(AND(A$6<352,M1=\"lo\"),VLOOKUP($A$6,town351,18)/100,\" \")","v":" "}]
[null,null,null,null,"23)","Added increment toward target (13 x 1% or 2%)*",{"$f":"IF(AND(A$6<352,M1=\"lo\"),VLOOKUP($A$6,town351,20),\" \")","v":" "}]
["11)","Target local share (10 as % of 8)",{"$f":"IF(A6<352,VLOOKUP(lea,town351,12)/100,\" \")","v":" "},null,null,"*1% if shortfall is between 2.5% and 7.5%; 2% if shortfall > 7.5%"]
["12)","Target aid share (100% minus 11)",{"$f":"IF(A6<352,VLOOKUP(lea,aidcalc,13)/100,\" \")","v":" "},null,"24)","Special increment toward 82.5% target**",{"$f":"IF(AND(A$6<352,M1=\"lo\"),VLOOKUP($A$6,town351,23),\" \")","v":" "}]
[null,null,null,null,null,"**if combined effort yield > 175% foundation"]
[null,null,null,null,null,"    Combined effort yield as % of foundation",{"$f":"IF(AND(A$6<352,M1=\"lo\"),IF(VLOOKUP($A$6,town351,9)>175%,VLOOKUP($A$6,town351,9),\" \"),\"\")","v":""}]
[null,"See a listing of all 351 communities",null,null,"25)","Shortfall from target after adding increments (10 - 15 - 23 - 24)",{"$f":"IF(AND(A$6<352,M1=\"lo\"),-1*VLOOKUP($A$6,town351,28),\" \")","v":" "}]
[null,null,null,null,"26)",{"$f":"parameters!B1&\" required local contribution (15 + 23 + 24)\"","v":"FY22 required local contribution (15 + 23 + 24)"},{"$f":"IF(AND(A$6<352,M1=\"lo\"),VLOOKUP($A$6,town351,24),\" \")","v":" "}]
[null,null,null,null,"27)","Contribution as percentage of foundation (26 / 8)",{"$f":"IF(AND(A$6<352,M1=\"lo\"),VLOOKUP($A$6,town351,25)/100,\" \")","v":" "}]

{"sheet":"Regional Allocation","index":7,"n_rows":26,"n_cols":10,"rows_kept":26,"cut":false,"hidden":false,"merged":[]}
[null,null,null,null,null,null,null,null,null,"More about the data"]
[null,null,null,"Return to Index"]
[null,null,null,"Massachusetts Department of Elementary and Secondary Education"]
[null,null,null,"Office of School Finance"]
[null,null,null,{"$f":"CYr& \" Chapter 70 Apportionment of Local Contribution Across School Districts\"","v":"FY22 Chapter 70 Apportionment of Local Contribution Across School Districts"}]
[]
[null,null,null,null,4,4,3,2,1]
[null,null,null,null,null,null,null," "," "]
[5,null,null,{"$f":"lea","v":999},{"$f":"IF($D$9>351, \"\", IF(AND($D$9>0, VLOOKUP($D$9*5-E$7, order1755, $A9)<>0), VLOOKUP($D$9*5-E$7, order1755, $A9), \"\"))","v":""},{"$f":"IF(OR($D$9=\"\", $D$9>351), \"\", IF(AND($D$9>0, VLOOKUP($D$9*5-F$7, order1755, $A9)<>0), VLOOKUP($D$9*5-F$7, order1755, $A9), \"\"))","v":""},{"$f":"IF(OR($D$9=\"\", $D$9>351), \"\", IF(AND($D$9>0, VLOOKUP($D$9*5-G$7, order1755, $A9)<>0), VLOOKUP($D$9*5-G$7, order1755, $A9), \"\"))","v":""},{"$f":"IF(OR($D$9=\"\", $D$9>351), \"\", IF(AND($D$9>0, VLOOKUP($D$9*5-H$7, order1755, $A9)<>0), VLOOKUP($D$9*5-H$7, order1755, $A9), \"\"))","v":""},{"$f":"IF(OR($D$9=\"\", $D$9>351), \"\", IF(AND($D$9>0, VLOOKUP($D$9*5-I$7, order1755, $A9)<>0), VLOOKUP($D$9*5-I$7, order1755, $A9), \"\"))","v":""},"Combined Total for All Districts"]
[6]
[null,null,null,null,"Prior Year Data (for comparison purposes)"]
[]
[15,null,null,1,{"$f":"parameters!B2&\" foundation enrollment\"","v":"FY21 foundation enrollment"},{"$f":"IF(OR($D$9=\"\", $D$9>351), \"\", IF(AND($D$9>0, VLOOKUP($D$9*5-F$7, order1755, $A13)<>0), VLOOKUP($D$9*5-F$7, order1755, $A13), \"\"))","v":""},"","","",{"$f":"IF(OR($D$9=\"\", $D$9>351), \"\", VLOOKUP($D$9*5, order1755, $A13))","v":""}]
[6,null,null,2,{"$f":"parameters!B2&\" foundation budget\"","v":"FY21 foundation budget"},"","","","",{"$f":"IF(OR($D$9=\"\", $D$9>351), \"\", VLOOKUP($D$9*5, order1755, $A14))","v":""}]
[7,null,null,3,{"$f":"\"Each district's share of municipality's combined \"& parameters!B2&\" foundation\"","v":"Each district's share of municipality's combined FY21 foundation"},"","","","",{"$f":"IF(OR($D$9=\"\", $D$9>351), \"\", VLOOKUP($D$9*5, order1755, $A15))","v":""}]
[12,null,null,4,{"$f":"parameters!B2&\" required contribution\"","v":"FY21 required contribution"},"","","","",{"$f":"IF(OR($D$9=\"\", $D$9>351), \"\", VLOOKUP($D$9*5, order1755, $A16))","v":""}]
[null,null,null,null,{"$f":"parameters!B1& \" apportionment of contribution among community's districts\"","v":"FY22 apportionment of contribution among community's districts"}]
[null,null,null,5,{"$f":"parameters!B1&\" total unapportioned required contribution ('municipal contribution' tab row 19 or 25)\"","v":"FY22 total unapportioned required contribution ('municipal contribution' tab row 19 or 25)"},null,null,null,null,{"$f":"IF(OR($D$9=\"\", $D$9>351), \"\", VLOOKUP($D$9,town351,24))","v":""}]
[20,null,null,6,{"$f":"parameters!B1&\" foundation enrollment\"","v":"FY22 foundation enrollment"},{"$f":"IF(OR($D$9=\"\", $D$9>351), \"\", IF(AND($D$9>0, VLOOKUP($D$9*5-F$7, order1755, $A19)<>0), VLOOKUP($D$9*5-F$7, order1755, $A19), \"\"))","v":""},"","","",{"$f":"IF(OR($D$9=\"\", $D$9>351), \"\", VLOOKUP($D$9*5, order1755, $A19))","v":""}]
[8,null,null,7,{"$f":"parameters!B1&\" foundation budget\"","v":"FY22 foundation budget"},"","","","",{"$f":"IF(OR($D$9=\"\", $D$9>351), \"\", VLOOKUP($D$9*5, order1755, $A20))","v":""}]
[9,null,null,8,{"$f":"\"Each district's share of municipality's total \"& parameters!B1&\" foundation \"","v":"Each district's share of municipality's total FY22 foundation "},"","","","",{"$f":"IF(OR($D$9=\"\", $D$9>351), \"\", VLOOKUP($D$9*5, order1755, $A21))","v":""}]
[11,null,null,9,{"$f":"parameters!B1&\" Required Contribution\"","v":"FY22 Required Contribution"},"","","","",{"$f":"VLOOKUP($D$9*5, order1755, $A22)","v":6827673657}]
[]
[13,null,null,10,{"$f":"\"Change \"&parameters!B1&\" to \"&parameters!B2& \" (9 - 4)\"","v":"Change FY22 to FY21 (9 - 4)"},{"$f":"IF(OR($D$9=\"\", $D$9>351), \"\", IF(AND($D$9>0, VLOOKUP($D$9*5-F$7, order1755, $A24)<>0), VLOOKUP($D$9*5-F$7, order1755, $A24), \"\"))","v":""},{"$f":"IF(OR($D$9=\"\", $D$9>351), \"\", IF(AND($D$9>0, VLOOKUP($D$9*5-G$7, order1755, $A24)<>0), VLOOKUP($D$9*5-G$7, order1755, $A24), \"\"))","v":""},{"$f":"IF(OR($D$9=\"\", $D$9>351), \"\", IF(AND($D$9>0, VLOOKUP($D$9*5-H$7, order1755, $A24)<>0), VLOOKUP($D$9*5-H$7, order1755, $A24), \"\"))","v":""},{"$f":"IF(OR($D$9=\"\", $D$9>351), \"\", IF(AND($D$9>0, VLOOKUP($D$9*5-I$7, order1755, $A24)<>0), VLOOKUP($D$9*5-I$7, order1755, $A24), \"\"))","v":""},{"$f":"IF(OR($D$9=\"\", $D$9>351), \"\", VLOOKUP($D$9*5, order1755, $A24))","v":""}]
[]
[null,null,null,null,"The combined totals on lines 5 and 9 may differ due to rounding."]

{"sheet":"Summary","index":8,"n_rows":53,"n_cols":37,"rows_kept":53,"cut":false,"hidden":false,"merged":[[43,0,49,1],[52,0,58,1]]}
["Return to Index",null,null,null,null,null,null,null,null,"More about the data"]
[]
["Massachusetts Department of Elementary and Secondary Education"]
[{"$f":"parameters!B1&\" Chapter 70 Summary\"","v":"FY22 Chapter 70 Summary"}]
[]
[{"$f":"lea","v":999},{"$f":"PROPER(VLOOKUP(A6,dist915,2))","v":"State Total"}]
[]
["Aid Calculation FY22",null,null,null,{"$f":"\"Comparison to \"&PYr","v":"Comparison to FY21"}]
[]
[null,null,null,null,null,{"$f":"PYr","v":"FY21"},{"$f":"CYr","v":"FY22"},"Change","Pct Chg",null,null,null,null,null,null,null,null,null,null,null,"FY06","FY07","FY08","FY09","FY10","FY11","FY12","FY13","FY14","FY15","FY16","FY17","FY18","FY19","FY20","FY21","FY22"]
["Prior Year Aid",null,null,null,"Enrollment",{"$f":"VLOOKUP(A6,aidcalc,14)","v":938084.99999988743},{"$f":"VLOOKUP(A6,aidcalc,15)","v":907506.00000004878},{"$f":"G11-F11","v":-30578.999999838648},{"$f":"IF(F11>0, H11/F11, 0)","v":-3.2597259310022351E-2},null,null,null,null,null,null,null,null,null,null,"Required District Contribution",{"$f":"VLOOKUP($A$6,disthist,5)","v":4743946672},{"$f":"VLOOKUP($A$6,disthist,8)","v":4876428772},{"$f":"VLOOKUP($A$6,disthist,11)","v":4997705374},{"$f":"VLOOKUP($A$6,disthist,14)","v":5110365426},{"$f":"VLOOKUP($A$6,disthist,18)","v":5250106061},{"$f":"VLOOKUP($A$6,disthist,22)","v":5302200670.3241692},{"$f":"VLOOKUP($A$6,disthist,27)","v":5413602268},{"$f":"VLOOKUP($A$6,disthist,30)","v":5582113529},{"$f":"VLOOKUP($A$6,disthist, 33)","v":5748475145},{"$f":"VLOOKUP($A$6,disthist, 36)","v":5817618237},{"$f":"VLOOKUP($A$6,disthist, 39)","v":5943909029},{"$f":"VLOOKUP($A$6,disthist, 42)","v":5926185567},{"$f":"VLOOKUP($A$6,disthist, 45)","v":6046916786},{"$f":"VLOOKUP($A$6,disthist, 48)","v":6246842886},{"$f":"VLOOKUP($A$6,disthist, 51)","v":6513607368},{"$f":"VLOOKUP($A$6,disthist, 54)","v":6705321561},{"$f":"VLOOKUP($A$6,aidcalc,10 )","v":6827673657}]
[1,{"$f":"\"Chapter 70 \"&PYr","v":"Chapter 70 FY21"},{"$f":"VLOOKUP(A6,aidcalc,6)","v":5283343073.4799995},null,"Foundation budget",{"$f":"VLOOKUP(A6,disthist,53)","v":11626531095.326303},{"$f":"VLOOKUP(A6,aidcalc,9)","v":11926225791.726231},{"$f":"G12-F12","v":299694696.39992714},{"$f":"IF(F12>0, H12/F12, 0)","v":2.5776793950209282E-2},null,null,null,null,null,null,null,null,null,null,"C70 Aid",{"$f":"VLOOKUP($A$6,disthist,6)","v":3288603061.8000002},{"$f":"VLOOKUP($A$6,disthist,9)","v":3505192038.9270248},{"$f":"VLOOKUP($A$6,disthist,12)","v":3725343326.8219399},{"$f":"VLOOKUP($A$6,disthist,15)+VLOOKUP($A$6,disthist,16)","v":3948496062.2495604},{"$f":"VLOOKUP($A$6,disthist,19)+VLOOKUP($A$6,disthist,20)","v":4043156700},{"$f":"VLOOKUP($A$6,disthist,23)+VLOOKUP($A$6,disthist,24)+VLOOKUP($A$6,disthist,25)","v":4072032852.5488005},{"$f":"VLOOKUP($A$6,disthist,28)","v":3990504093.3881507},{"$f":"VLOOKUP($A$6,disthist,31)","v":4173223954.2949104},{"$f":"VLOOKUP($A$6,disthist,34)","v":4300854366.3566036},{"$f":"VLOOKUP($A$6,disthist,37)","v":4400335961.8829308},{"$f":"VLOOKUP($A$6,disthist,40)","v":4511521973.6381674},{"$f":"VLOOKUP($A$6,disthist,43)","v":4627705061.1446953},{"$f":"VLOOKUP($A$6,disthist,46)","v":4745645155.949439},{"$f":"VLOOKUP($A$6,disthist,49)","v":4906614765.8021221},{"$f":"VLOOKUP($A$6,disthist,52)","v":5175694094},{"$f":"VLOOKUP($A$6,disthist,55)","v":5283343073.4799995},{"$f":"VLOOKUP($A$6,aidcalc,25)","v":5502959666.6000013}]
[null,null,null,null,"Required district contribution",{"$f":"VLOOKUP(A6,disthist,54)","v":6705321561},{"$f":"VLOOKUP($A$6, aidcalc, 10)","v":6827673657},{"$f":"G13-F13","v":122352096},{"$f":"IF(F13>0, H13/F13, 0)","v":1.824701394063389E-2},null,null,null,null,null,null,null,null,null,null,"Foundation Budget",{"$f":"VLOOKUP($A$6,disthist,4)","v":7551933454},{"$f":"VLOOKUP($A$6,disthist,7)","v":8014672861.3798904},{"$f":"VLOOKUP($A$6,disthist,10)","v":8406096436.3857374},{"$f":"VLOOKUP($A$6,disthist,13)","v":8811314229.2926865},{"$f":"VLOOKUP($A$6,disthist,17)","v":9088557473.2006893},{"$f":"VLOOKUP($A$6,disthist,21)","v":8921047970},{"$f":"VLOOKUP($A$6,disthist,26)","v":9119340580.3732376},{"$f":"VLOOKUP($A$6,disthist,29)","v":9467117140.6663704},{"$f":"VLOOKUP($A$6,disthist, 32)","v":9711217584.8007889},{"$f":"VLOOKUP($A$6,disthist, 35)","v":9866011313.0677662},{"$f":"VLOOKUP($A$6,disthist, 38)","v":10090177272.100754},{"$f":"VLOOKUP($A$6,disthist, 41)","v":10128238382.975546},{"$f":"VLOOKUP($A$6,disthist, 44)","v":10379173843.167685},{"$f":"VLOOKUP($A$6,disthist, 47)","v":10777588551.40456},{"$f":"VLOOKUP($A$6,disthist, 50)","v":11359048511.850758},{"$f":"VLOOKUP($A$6,disthist, 53)","v":11626531095.326303},{"$f":"VLOOKUP($A$6,aidcalc,9 )","v":11926225791.726231}]
["Foundation Aid",null,null,null,"Chapter 70 aid",{"$f":"IF(A6=999,VLOOKUP(A6,disthist,55,0)+308558,VLOOKUP(A6,disthist,55,0))","v":5283651631.4799995},{"$f":"IF(A6=999,VLOOKUP($A$6,aidcalc,25,0)+308558,VLOOKUP($A$6,aidcalc,25,0))","v":5503268224.6000013},{"$f":"G14-F14","v":219616593.12000179},{"$f":"IF(F14>0, H14/F14, 0)","v":4.1565305292182018E-2}]
[2,"Foundation budget FY22",{"$f":"VLOOKUP($A$6, aidcalc, 9)","v":11926225791.726231},null,"Required net school spending (NSS)",{"$f":"F13+F14","v":11988973192.48},{"$f":"G13+G14","v":12330941881.600002},{"$f":"G15-F15","v":341968689.12000275},{"$f":"IF(F15>0, H15/F15, 0)","v":2.852360111493954E-2}]
[3,{"$f":"\"Required district contribution \"& CYr","v":"Required district contribution FY22"},{"$f":"VLOOKUP($A$6, aidcalc, 10)","v":6827673657}]
[4,"Foundation aid (2 -3)",{"$f":"VLOOKUP($A$6, aidcalc, 11)","v":5098552128},null,"Target aid share",{"$f":"VLOOKUP(A$6,disthist,3)/100","v":0.41},{"$f":"VLOOKUP(A6,aidcalc,13)/100","v":0.41}]
[5,{"$f":"\"Increase over \" & PYr&\" (4 - 1)\"","v":"Increase over FY21 (4 - 1)"},{"$f":"VLOOKUP($A$6, aidcalc, 12)","v":199286644.40000001},null,"C70 % of foundation",{"$f":"IF(F12>0,F14/F12,IF(F14>0,1,0))","v":0.45444781320921684},{"$f":"IF(G12>0,G14/G12,IF(G14>0,1,0))","v":0.46144256537704248}]
[]
["Minimum Aid",null,null,null,"Required NSS % of foundation",{"$f":"IF(F12>0,F15/F12,IF(F15>0,1,0))","v":1.0311737090093358},{"$f":"IF(G12>0,G15/G12,IF(G15>0,1,0))","v":1.0339349679388548}]
[6,"Minimum $30 per pupil increase",{"$f":"IF(A6=999,\"\",VLOOKUP($A$6,aidcalc,17,0))","v":""}]
[7,"Minimum aid amount"]
[null,"(if line 6 - line 5 > 0, then line 6 - line 5, otherwise 0)",{"$f":"VLOOKUP($A$6, aidcalc, 18,0)","v":16714836.000000218}]
[]
["Subtotal"]
[8,"Sum of 1,5,7",{"$f":"C12+C18+C23","v":5499344553.8799992}]
[]
["Minimum Aid Adjustment"]
[9,"Minimum aid adjustment",{"$f":"IF(A6=999,\"\",VLOOKUP($A$6, aidcalc, 20))","v":""}]
[10,"Aid adjustment increment"]
[null,"(if line 9 - line 8 > 0, then line 9 - line 8, otherwise 0)",{"$f":"VLOOKUP($A$6, aidcalc, 21, FALSE)","v":3553119.000000231}]
[]
["Non-Operating District Reduction to Foundation"]
[11,"Reduction to foundation",{"$f":"VLOOKUP($A$6, aidcalc, 23)","v":31346.879999999997}]
[]
["Hold harmless aid based on Municipal Revenue Growth Factors used in House 1"]
[12,"Hold harmless aid increment",{"$f":"VLOOKUP($A$6, aidcalc, 24)","v":93340.600002262174}]
[]
[{"$f":"CYr&\" Chapter 70 Aid\"","v":"FY22 Chapter 70 Aid"}]
[13,"Sum of 1,5,7,10 minus 11 plus 12",{"$f":"VLOOKUP($A$6, aidcalc, 25)","v":5502959666.6000013}]
[null,{"$f":"IF(A6=999,\"with Devens aid\",\"\")","v":"with Devens aid"},{"$f":"IF(A6=999,C40+308558,\"\")","v":5503268224.6000013}]
[]
["Note on Minimum Aid Adjustment on lines 9 and 10:"]
["The minimum aid adjustment is the sum of (a) the greater of foundation aid or base aid determined based on the FY21 base and incremental rates, inflated to FY22, and (b) foundation enrollment multiplied by $30. The aid adjustment increment (line 10) is the line 9 amount less the line 9 amount if the difference is positive. Otherwise, the increment is zero."]
[]
[]
[]
[]
[]
[]
[]
["Note on hold harmless add on line 12"]
["The hold harmless aid increment (line 12) guarantees districts the greater of (a) Chapter 70 aid based on the final FY22 budget parameters including the Municipal Revenue Growth Factors (MRGFs), and (b) Chapter 70 aid based on the same parameters except for MRGFs used in House 1."]

{"sheet":"Regional District Members","index":9,"n_rows":68,"n_cols":16,"rows_kept":68,"cut":false,"hidden":false,"merged":[[13,12,13,14],[9,4,9,9],[14,6,14,7],[14,9,14,10],[13,9,13,11],[13,6,13,8],[10,4,10,8]]}
[]
[null,null,null,null,"Return to Index"]
[null,null,null,null,null,"Select or type full regional district name below"]
[null,null,null,null,{"$f":"VLOOKUP(reg_order, regdistricts, 3, FALSE)","v":600},"Acton Boxborough",{"$f":"VLOOKUP(F4,leas!$E$450:$H$536,4,FALSE)","v":1}]
[]
[null,null,null,null,"Massachusetts Department of Elementary and Secondary Education"]
[null,null,null,null,"Office of School Finance"]
[null,null,null,null,{"$f":"CYr&\" Chapter 70\"","v":"FY22 Chapter 70"}]
[null,null,null,null,"Regional District Enrollment and Contributions by Member City or Town"]
[null,null,null,null,"The table below presents the minimum required local contribution for each member to the selected regional district. "]
[null,null,null,null,"Note: A city or town might belong to more than one regional district (e.g., a regional district and a vocational district) and therefore be required to contribute to multiple districts. See the regional allocation tab for a full list of minimum required contributions for each city or town.\n\nFoundation enrollments are presented as whole numbers. The change column reflects differences prior to rounding."]
[null,{"$f":"VLOOKUP(E4, leas!D6:G445, 4, FALSE)","v":"0600"},null,2,{"$f":"VLOOKUP(reg_order, regdistricts, 2, FALSE)","v":"600 Acton Boxborough"}]
[]
[null,null,null,null,null,null,"Foundation Enrollment in Regional District",null,null,"Required Minimum Contribution to Regional District"]
[]
[null,{"$f":"VLOOKUP($E$4, regcount, 2, FALSE)","v":2},null,null,"LEA","Member",{"$f":"PYr","v":"FY21"},{"$f":"CYr","v":"FY22"},"Change",{"$f":"PYr","v":"FY21"},{"$f":"CYr","v":"FY22"},"Change"]
[]
[null,null,null,null,null,"Total",{"$f":"SUM(G20:G67)","v":5294.0000000000009},{"$f":"SUM(H20:H67)","v":5120},{"$f":"SUM(I20:I67)","v":-174.00000000000068},{"$f":"SUM(J20:J67)","v":46230356},{"$f":"SUM(K20:K67)","v":46723042},{"$f":"SUM(L20:L62)","v":492686}]
[]
[{"$f":"IF($C20<=$B$16,VLOOKUP(E20,leas!D6:G445,4,FALSE),\"\")","v":"0002"},{"$f":"$E$4*100+C20","v":60001},1,null,{"$f":"IF($C20<=$B$16, VLOOKUP($B20, regdetail, 5), \" \")","v":2},{"$f":"IF($C20<=$B$16, VLOOKUP($B20, regdetail, 6), \" \")","v":"Acton"},{"$f":"IF($C20<=$B$16,VLOOKUP(A20&$B$12, localcont!A10:X1764, 18, FALSE), \"\")","v":4437.9781441188807},{"$f":"IF($C20<=$B$16,VLOOKUP(A20&$B$12, localcont!$A$10:$X$1764, 23, FALSE), \"\")","v":4287.1048093695999},{"$f":"IF($C20<=$B$16, H20-G20, \" \")","v":-150.87333474928073},{"$f":"IF($C20<=$B$16,VLOOKUP(A20&$B$12, localcont!$A$10:$X$1764, 15, FALSE), \"\")","v":38561442},{"$f":"IF($C20<=$B$16,VLOOKUP(A20&$B$12, localcont!$A$10:$X$1764, 14, FALSE),\"\")","v":38962815},{"$f":"IF($C20<=$B$16, K20-J20, \" \")","v":401373}]
[{"$f":"IF($C21<=$B$16,VLOOKUP(E21,leas!D7:G446,4,FALSE),\"\")","v":"0037"},{"$f":"$E$4*100+C21","v":60002},2,null,37,"Boxborough",{"$f":"IF($C21<=$B$16,VLOOKUP(A21&$B$12, localcont!A11:X1765, 18, FALSE), \"\")","v":856.02185588112002},{"$f":"IF($C21<=$B$16,VLOOKUP(A21&$B$12, localcont!$A$10:$X$1764, 23, FALSE), \"\")","v":832.89519063040007},{"$f":"IF($C21<=$B$16, H21-G21, \" \")","v":-23.126665250719952},{"$f":"IF($C21<=$B$16,VLOOKUP(A21&$B$12, localcont!$A$10:$X$1764, 15, FALSE), \"\")","v":7668914},{"$f":"IF($C21<=$B$16,VLOOKUP(A21&$B$12, localcont!$A$10:$X$1764, 14, FALSE),\"\")","v":7760227},{"$f":"IF($C21<=$B$16, K21-J21, \" \")","v":91313}]
[{"$f":"IF($C22<=$B$16,VLOOKUP(E22,leas!D8:G447,4,FALSE),\"\")","v":""},60003,3,null," "," ",{"$f":"IF($C22<=$B$16,VLOOKUP(A22&$B$12, localcont!A12:X1766, 18, FALSE), \"\")","v":""},{"$f":"IF($C22<=$B$16,VLOOKUP(A22&$B$12, localcont!$A$10:$X$1764, 23, FALSE), \"\")","v":""}," ",{"$f":"IF($C22<=$B$16,VLOOKUP(A22&$B$12, localcont!$A$10:$X$1764, 15, FALSE), \"\")","v":""},{"$f":"IF($C22<=$B$16,VLOOKUP(A22&$B$12, localcont!$A$10:$X$1764, 14, FALSE),\"\")","v":""}," "]
[{"$f":"IF($C23<=$B$16,VLOOKUP(E23,leas!D9:G448,4,FALSE),\"\")","v":""},60004,4,null," "," ",{"$f":"IF($C23<=$B$16,VLOOKUP(A23&$B$12, localcont!A13:X1767, 18, FALSE), \"\")","v":""},{"$f":"IF($C23<=$B$16,VLOOKUP(A23&$B$12, localcont!$A$10:$X$1764, 23, FALSE), \"\")","v":""}," ",{"$f":"IF($C23<=$B$16,VLOOKUP(A23&$B$12, localcont!$A$10:$X$1764, 15, FALSE), \"\")","v":""},{"$f":"IF($C23<=$B$16,VLOOKUP(A23&$B$12, localcont!$A$10:$X$1764, 14, FALSE),\"\")","v":""}," "]
[{"$f":"IF($C24<=$B$16,VLOOKUP(E24,leas!D10:G449,4,FALSE),\"\")","v":""},60005,5,null," "," ",{"$f":"IF($C24<=$B$16,VLOOKUP(A24&$B$12, localcont!A14:X1768, 18, FALSE), \"\")","v":""},{"$f":"IF($C24<=$B$16,VLOOKUP(A24&$B$12, localcont!$A$10:$X$1764, 23, FALSE), \"\")","v":""}," ",{"$f":"IF($C24<=$B$16,VLOOKUP(A24&$B$12, localcont!$A$10:$X$1764, 15, FALSE), \"\")","v":""},{"$f":"IF($C24<=$B$16,VLOOKUP(A24&$B$12, localcont!$A$10:$X$1764, 14, FALSE),\"\")","v":""}," "]
[{"$f":"IF($C25<=$B$16,VLOOKUP(E25,leas!D11:G450,4,FALSE),\"\")","v":""},60006,6,null," "," ",{"$f":"IF($C25<=$B$16,VLOOKUP(A25&$B$12, localcont!A15:X1769, 18, FALSE), \"\")","v":""},{"$f":"IF($C25<=$B$16,VLOOKUP(A25&$B$12, localcont!$A$10:$X$1764, 23, FALSE), \"\")","v":""}," ",{"$f":"IF($C25<=$B$16,VLOOKUP(A25&$B$12, localcont!$A$10:$X$1764, 15, FALSE), \"\")","v":""},{"$f":"IF($C25<=$B$16,VLOOKUP(A25&$B$12, localcont!$A$10:$X$1764, 14, FALSE),\"\")","v":""}," "]
[{"$f":"IF($C26<=$B$16,VLOOKUP(E26,leas!D12:G451,4,FALSE),\"\")","v":""},60007,7,null," "," ",{"$f":"IF($C26<=$B$16,VLOOKUP(A26&$B$12, localcont!A16:X1770, 18, FALSE), \"\")","v":""},{"$f":"IF($C26<=$B$16,VLOOKUP(A26&$B$12, localcont!$A$10:$X$1764, 23, FALSE), \"\")","v":""}," ",{"$f":"IF($C26<=$B$16,VLOOKUP(A26&$B$12, localcont!$A$10:$X$1764, 15, FALSE), \"\")","v":""},{"$f":"IF($C26<=$B$16,VLOOKUP(A26&$B$12, localcont!$A$10:$X$1764, 14, FALSE),\"\")","v":""}," "]
[{"$f":"IF($C27<=$B$16,VLOOKUP(E27,leas!D13:G452,4,FALSE),\"\")","v":""},60008,8,null," "," ",{"$f":"IF($C27<=$B$16,VLOOKUP(A27&$B$12, localcont!A17:X1771, 18, FALSE), \"\")","v":""},{"$f":"IF($C27<=$B$16,VLOOKUP(A27&$B$12, localcont!$A$10:$X$1764, 23, FALSE), \"\")","v":""}," ",{"$f":"IF($C27<=$B$16,VLOOKUP(A27&$B$12, localcont!$A$10:$X$1764, 15, FALSE), \"\")","v":""},{"$f":"IF($C27<=$B$16,VLOOKUP(A27&$B$12, localcont!$A$10:$X$1764, 14, FALSE),\"\")","v":""}," "]
[{"$f":"IF($C28<=$B$16,VLOOKUP(E28,leas!D14:G453,4,FALSE),\"\")","v":""},60009,9,null," "," ",{"$f":"IF($C28<=$B$16,VLOOKUP(A28&$B$12, localcont!A18:X1772, 18, FALSE), \"\")","v":""},{"$f":"IF($C28<=$B$16,VLOOKUP(A28&$B$12, localcont!$A$10:$X$1764, 23, FALSE), \"\")","v":""}," ",{"$f":"IF($C28<=$B$16,VLOOKUP(A28&$B$12, localcont!$A$10:$X$1764, 15, FALSE), \"\")","v":""},{"$f":"IF($C28<=$B$16,VLOOKUP(A28&$B$12, localcont!$A$10:$X$1764, 14, FALSE),\"\")","v":""}," "]
[{"$f":"IF($C29<=$B$16,VLOOKUP(E29,leas!D15:G454,4,FALSE),\"\")","v":""},60010,10,null," "," ",{"$f":"IF($C29<=$B$16,VLOOKUP(A29&$B$12, localcont!A19:X1773, 18, FALSE), \"\")","v":""},{"$f":"IF($C29<=$B$16,VLOOKUP(A29&$B$12, localcont!$A$10:$X$1764, 23, FALSE), \"\")","v":""}," ",{"$f":"IF($C29<=$B$16,VLOOKUP(A29&$B$12, localcont!$A$10:$X$1764, 15, FALSE), \"\")","v":""},{"$f":"IF($C29<=$B$16,VLOOKUP(A29&$B$12, localcont!$A$10:$X$1764, 14, FALSE),\"\")","v":""}," "]
[{"$f":"IF($C30<=$B$16,VLOOKUP(E30,leas!D16:G455,4,FALSE),\"\")","v":""},60011,11,null," "," ",{"$f":"IF($C30<=$B$16,VLOOKUP(A30&$B$12, localcont!A20:X1774, 18, FALSE), \"\")","v":""},{"$f":"IF($C30<=$B$16,VLOOKUP(A30&$B$12, localcont!$A$10:$X$1764, 23, FALSE), \"\")","v":""}," ",{"$f":"IF($C30<=$B$16,VLOOKUP(A30&$B$12, localcont!$A$10:$X$1764, 15, FALSE), \"\")","v":""},{"$f":"IF($C30<=$B$16,VLOOKUP(A30&$B$12, localcont!$A$10:$X$1764, 14, FALSE),\"\")","v":""}," "]
[{"$f":"IF($C31<=$B$16,VLOOKUP(E31,leas!D17:G456,4,FALSE),\"\")","v":""},60012,12,null," "," ",{"$f":"IF($C31<=$B$16,VLOOKUP(A31&$B$12, localcont!A21:X1775, 18, FALSE), \"\")","v":""},{"$f":"IF($C31<=$B$16,VLOOKUP(A31&$B$12, localcont!$A$10:$X$1764, 23, FALSE), \"\")","v":""}," ",{"$f":"IF($C31<=$B$16,VLOOKUP(A31&$B$12, localcont!$A$10:$X$1764, 15, FALSE), \"\")","v":""},{"$f":"IF($C31<=$B$16,VLOOKUP(A31&$B$12, localcont!$A$10:$X$1764, 14, FALSE),\"\")","v":""}," "]
[{"$f":"IF($C32<=$B$16,VLOOKUP(E32,leas!D18:G457,4,FALSE),\"\")","v":""},60013,13,null," "," ",{"$f":"IF($C32<=$B$16,VLOOKUP(A32&$B$12, localcont!A22:X1776, 18, FALSE), \"\")","v":""},{"$f":"IF($C32<=$B$16,VLOOKUP(A32&$B$12, localcont!$A$10:$X$1764, 23, FALSE), \"\")","v":""}," ",{"$f":"IF($C32<=$B$16,VLOOKUP(A32&$B$12, localcont!$A$10:$X$1764, 15, FALSE), \"\")","v":""},{"$f":"IF($C32<=$B$16,VLOOKUP(A32&$B$12, localcont!$A$10:$X$1764, 14, FALSE),\"\")","v":""}," "]
[{"$f":"IF($C33<=$B$16,VLOOKUP(E33,leas!D19:G458,4,FALSE),\"\")","v":""},60014,14,null," "," ",{"$f":"IF($C33<=$B$16,VLOOKUP(A33&$B$12, localcont!A23:X1777, 18, FALSE), \"\")","v":""},{"$f":"IF($C33<=$B$16,VLOOKUP(A33&$B$12, localcont!$A$10:$X$1764, 23, FALSE), \"\")","v":""}," ",{"$f":"IF($C33<=$B$16,VLOOKUP(A33&$B$12, localcont!$A$10:$X$1764, 15, FALSE), \"\")","v":""},{"$f":"IF($C33<=$B$16,VLOOKUP(A33&$B$12, localcont!$A$10:$X$1764, 14, FALSE),\"\")","v":""}," "]
[{"$f":"IF($C34<=$B$16,VLOOKUP(E34,leas!D20:G459,4,FALSE),\"\")","v":""},60015,15,null," "," ",{"$f":"IF($C34<=$B$16,VLOOKUP(A34&$B$12, localcont!A24:X1778, 18, FALSE), \"\")","v":""},{"$f":"IF($C34<=$B$16,VLOOKUP(A34&$B$12, localcont!$A$10:$X$1764, 23, FALSE), \"\")","v":""}," ",{"$f":"IF($C34<=$B$16,VLOOKUP(A34&$B$12, localcont!$A$10:$X$1764, 15, FALSE), \"\")","v":""},{"$f":"IF($C34<=$B$16,VLOOKUP(A34&$B$12, localcont!$A$10:$X$1764, 14, FALSE),\"\")","v":""}," "]
[{"$f":"IF($C35<=$B$16,VLOOKUP(E35,leas!D21:G460,4,FALSE),\"\")","v":""},60016,16,null," "," ",{"$f":"IF($C35<=$B$16,VLOOKUP(A35&$B$12, localcont!A25:X1779, 18, FALSE), \"\")","v":""},{"$f":"IF($C35<=$B$16,VLOOKUP(A35&$B$12, localcont!$A$10:$X$1764, 23, FALSE), \"\")","v":""}," ",{"$f":"IF($C35<=$B$16,VLOOKUP(A35&$B$12, localcont!$A$10:$X$1764, 15, FALSE), \"\")","v":""},{"$f":"IF($C35<=$B$16,VLOOKUP(A35&$B$12, localcont!$A$10:$X$1764, 14, FALSE),\"\")","v":""}," "]
[{"$f":"IF($C36<=$B$16,VLOOKUP(E36,leas!D22:G461,4,FALSE),\"\")","v":""},60017,17,null," "," ",{"$f":"IF($C36<=$B$16,VLOOKUP(A36&$B$12, localcont!A26:X1780, 18, FALSE), \"\")","v":""},{"$f":"IF($C36<=$B$16,VLOOKUP(A36&$B$12, localcont!$A$10:$X$1764, 23, FALSE), \"\")","v":""}," ",{"$f":"IF($C36<=$B$16,VLOOKUP(A36&$B$12, localcont!$A$10:$X$1764, 15, FALSE), \"\")","v":""},{"$f":"IF($C36<=$B$16,VLOOKUP(A36&$B$12, localcont!$A$10:$X$1764, 14, FALSE),\"\")","v":""}," "]
[{"$f":"IF($C37<=$B$16,VLOOKUP(E37,leas!D23:G462,4,FALSE),\"\")","v":""},60018,18,null," "," ",{"$f":"IF($C37<=$B$16,VLOOKUP(A37&$B$12, localcont!A27:X1781, 18, FALSE), \"\")","v":""},{"$f":"IF($C37<=$B$16,VLOOKUP(A37&$B$12, localcont!$A$10:$X$1764, 23, FALSE), \"\")","v":""}," ",{"$f":"IF($C37<=$B$16,VLOOKUP(A37&$B$12, localcont!$A$10:$X$1764, 15, FALSE), \"\")","v":""},{"$f":"IF($C37<=$B$16,VLOOKUP(A37&$B$12, localcont!$A$10:$X$1764, 14, FALSE),\"\")","v":""}," "]
[{"$f":"IF($C38<=$B$16,VLOOKUP(E38,leas!D24:G463,4,FALSE),\"\")","v":""},60019,19,null," "," ",{"$f":"IF($C38<=$B$16,VLOOKUP(A38&$B$12, localcont!A28:X1782, 18, FALSE), \"\")","v":""},{"$f":"IF($C38<=$B$16,VLOOKUP(A38&$B$12, localcont!$A$10:$X$1764, 23, FALSE), \"\")","v":""}," ",{"$f":"IF($C38<=$B$16,VLOOKUP(A38&$B$12, localcont!$A$10:$X$1764, 15, FALSE), \"\")","v":""},{"$f":"IF($C38<=$B$16,VLOOKUP(A38&$B$12, localcont!$A$10:$X$1764, 14, FALSE),\"\")","v":""}," "]
[{"$f":"IF($C39<=$B$16,VLOOKUP(E39,leas!D25:G464,4,FALSE),\"\")","v":""},60020,20,null," "," ",{"$f":"IF($C39<=$B$16,VLOOKUP(A39&$B$12, localcont!A29:X1783, 18, FALSE), \"\")","v":""},{"$f":"IF($C39<=$B$16,VLOOKUP(A39&$B$12, localcont!$A$10:$X$1764, 23, FALSE), \"\")","v":""}," ",{"$f":"IF($C39<=$B$16,VLOOKUP(A39&$B$12, localcont!$A$10:$X$1764, 15, FALSE), \"\")","v":""},{"$f":"IF($C39<=$B$16,VLOOKUP(A39&$B$12, localcont!$A$10:$X$1764, 14, FALSE),\"\")","v":""}," "]
[{"$f":"IF($C40<=$B$16,VLOOKUP(E40,leas!D26:G465,4,FALSE),\"\")","v":""},60021,21,null," "," ",{"$f":"IF($C40<=$B$16,VLOOKUP(A40&$B$12, localcont!A30:X1784, 18, FALSE), \"\")","v":""},{"$f":"IF($C40<=$B$16,VLOOKUP(A40&$B$12, localcont!$A$10:$X$1764, 23, FALSE), \"\")","v":""}," ",{"$f":"IF($C40<=$B$16,VLOOKUP(A40&$B$12, localcont!$A$10:$X$1764, 15, FALSE), \"\")","v":""},{"$f":"IF($C40<=$B$16,VLOOKUP(A40&$B$12, localcont!$A$10:$X$1764, 14, FALSE),\"\")","v":""}," "]
[{"$f":"IF($C41<=$B$16,VLOOKUP(E41,leas!D27:G466,4,FALSE),\"\")","v":""},60022,22,null," "," ",{"$f":"IF($C41<=$B$16,VLOOKUP(A41&$B$12, localcont!A31:X1785, 18, FALSE), \"\")","v":""},{"$f":"IF($C41<=$B$16,VLOOKUP(A41&$B$12, localcont!$A$10:$X$1764, 23, FALSE), \"\")","v":""}," ",{"$f":"IF($C41<=$B$16,VLOOKUP(A41&$B$12, localcont!$A$10:$X$1764, 15, FALSE), \"\")","v":""},{"$f":"IF($C41<=$B$16,VLOOKUP(A41&$B$12, localcont!$A$10:$X$1764, 14, FALSE),\"\")","v":""}," "]
[{"$f":"IF($C42<=$B$16,VLOOKUP(E42,leas!D28:G467,4,FALSE),\"\")","v":""},60023,23,null," "," ",{"$f":"IF($C42<=$B$16,VLOOKUP(A42&$B$12, localcont!A32:X1786, 18, FALSE), \"\")","v":""},{"$f":"IF($C42<=$B$16,VLOOKUP(A42&$B$12, localcont!$A$10:$X$1764, 23, FALSE), \"\")","v":""}," ",{"$f":"IF($C42<=$B$16,VLOOKUP(A42&$B$12, localcont!$A$10:$X$1764, 15, FALSE), \"\")","v":""},{"$f":"IF($C42<=$B$16,VLOOKUP(A42&$B$12, localcont!$A$10:$X$1764, 14, FALSE),\"\")","v":""}," "]
[{"$f":"IF($C43<=$B$16,VLOOKUP(E43,leas!D29:G468,4,FALSE),\"\")","v":""},60024,24,null," "," ",{"$f":"IF($C43<=$B$16,VLOOKUP(A43&$B$12, localcont!A33:X1787, 18, FALSE), \"\")","v":""},{"$f":"IF($C43<=$B$16,VLOOKUP(A43&$B$12, localcont!$A$10:$X$1764, 23, FALSE), \"\")","v":""}," ",{"$f":"IF($C43<=$B$16,VLOOKUP(A43&$B$12, localcont!$A$10:$X$1764, 15, FALSE), \"\")","v":""},{"$f":"IF($C43<=$B$16,VLOOKUP(A43&$B$12, localcont!$A$10:$X$1764, 14, FALSE),\"\")","v":""}," "]
[{"$f":"IF($C44<=$B$16,VLOOKUP(E44,leas!D30:G469,4,FALSE),\"\")","v":""},60025,25,null," "," ",{"$f":"IF($C44<=$B$16,VLOOKUP(A44&$B$12, localcont!A34:X1788, 18, FALSE), \"\")","v":""},{"$f":"IF($C44<=$B$16,VLOOKUP(A44&$B$12, localcont!$A$10:$X$1764, 23, FALSE), \"\")","v":""}," ",{"$f":"IF($C44<=$B$16,VLOOKUP(A44&$B$12, localcont!$A$10:$X$1764, 15, FALSE), \"\")","v":""},{"$f":"IF($C44<=$B$16,VLOOKUP(A44&$B$12, localcont!$A$10:$X$1764, 14, FALSE),\"\")","v":""}," "]
[{"$f":"IF($C45<=$B$16,VLOOKUP(E45,leas!D31:G470,4,FALSE),\"\")","v":""},60026,26,null," "," ",{"$f":"IF($C45<=$B$16,VLOOKUP(A45&$B$12, localcont!A35:X1789, 18, FALSE), \"\")","v":""},{"$f":"IF($C45<=$B$16,VLOOKUP(A45&$B$12, localcont!$A$10:$X$1764, 23, FALSE), \"\")","v":""}," ",{"$f":"IF($C45<=$B$16,VLOOKUP(A45&$B$12, localcont!$A$10:$X$1764, 15, FALSE), \"\")","v":""},{"$f":"IF($C45<=$B$16,VLOOKUP(A45&$B$12, localcont!$A$10:$X$1764, 14, FALSE),\"\")","v":""}," "]
[{"$f":"IF($C46<=$B$16,VLOOKUP(E46,leas!D32:G471,4,FALSE),\"\")","v":""},60027,27,null," "," ",{"$f":"IF($C46<=$B$16,VLOOKUP(A46&$B$12, localcont!A36:X1790, 18, FALSE), \"\")","v":""},{"$f":"IF($C46<=$B$16,VLOOKUP(A46&$B$12, localcont!$A$10:$X$1764, 23, FALSE), \"\")","v":""}," ",{"$f":"IF($C46<=$B$16,VLOOKUP(A46&$B$12, localcont!$A$10:$X$1764, 15, FALSE), \"\")","v":""},{"$f":"IF($C46<=$B$16,VLOOKUP(A46&$B$12, localcont!$A$10:$X$1764, 14, FALSE),\"\")","v":""}," "]
[{"$f":"IF($C47<=$B$16,VLOOKUP(E47,leas!D33:G472,4,FALSE),\"\")","v":""},60028,28,null," "," ",{"$f":"IF($C47<=$B$16,VLOOKUP(A47&$B$12, localcont!A37:X1791, 18, FALSE), \"\")","v":""},{"$f":"IF($C47<=$B$16,VLOOKUP(A47&$B$12, localcont!$A$10:$X$1764, 23, FALSE), \"\")","v":""}," ",{"$f":"IF($C47<=$B$16,VLOOKUP(A47&$B$12, localcont!$A$10:$X$1764, 15, FALSE), \"\")","v":""},{"$f":"IF($C47<=$B$16,VLOOKUP(A47&$B$12, localcont!$A$10:$X$1764, 14, FALSE),\"\")","v":""}," "]
[{"$f":"IF($C48<=$B$16,VLOOKUP(E48,leas!D34:G473,4,FALSE),\"\")","v":""},60029,29,null," "," ",{"$f":"IF($C48<=$B$16,VLOOKUP(A48&$B$12, localcont!A38:X1792, 18, FALSE), \"\")","v":""},{"$f":"IF($C48<=$B$16,VLOOKUP(A48&$B$12, localcont!$A$10:$X$1764, 23, FALSE), \"\")","v":""}," ",{"$f":"IF($C48<=$B$16,VLOOKUP(A48&$B$12, localcont!$A$10:$X$1764, 15, FALSE), \"\")","v":""},{"$f":"IF($C48<=$B$16,VLOOKUP(A48&$B$12, localcont!$A$10:$X$1764, 14, FALSE),\"\")","v":""}," "]
[{"$f":"IF($C49<=$B$16,VLOOKUP(E49,leas!D35:G474,4,FALSE),\"\")","v":""},60030,30,null," "," ",{"$f":"IF($C49<=$B$16,VLOOKUP(A49&$B$12, localcont!A39:X1793, 18, FALSE), \"\")","v":""},{"$f":"IF($C49<=$B$16,VLOOKUP(A49&$B$12, localcont!$A$10:$X$1764, 23, FALSE), \"\")","v":""}," ",{"$f":"IF($C49<=$B$16,VLOOKUP(A49&$B$12, localcont!$A$10:$X$1764, 15, FALSE), \"\")","v":""},{"$f":"IF($C49<=$B$16,VLOOKUP(A49&$B$12, localcont!$A$10:$X$1764, 14, FALSE),\"\")","v":""}," "]
[{"$f":"IF($C50<=$B$16,VLOOKUP(E50,leas!D36:G475,4,FALSE),\"\")","v":""},60031,31,null," "," ",{"$f":"IF($C50<=$B$16,VLOOKUP(A50&$B$12, localcont!A40:X1794, 18, FALSE), \"\")","v":""},{"$f":"IF($C50<=$B$16,VLOOKUP(A50&$B$12, localcont!$A$10:$X$1764, 23, FALSE), \"\")","v":""}," ",{"$f":"IF($C50<=$B$16,VLOOKUP(A50&$B$12, localcont!$A$10:$X$1764, 15, FALSE), \"\")","v":""},{"$f":"IF($C50<=$B$16,VLOOKUP(A50&$B$12, localcont!$A$10:$X$1764, 14, FALSE),\"\")","v":""}," "]
[{"$f":"IF($C51<=$B$16,VLOOKUP(E51,leas!D37:G476,4,FALSE),\"\")","v":""},60032,32,null," "," ",{"$f":"IF($C51<=$B$16,VLOOKUP(A51&$B$12, localcont!A41:X1795, 18, FALSE), \"\")","v":""},{"$f":"IF($C51<=$B$16,VLOOKUP(A51&$B$12, localcont!$A$10:$X$1764, 23, FALSE), \"\")","v":""}," ",{"$f":"IF($C51<=$B$16,VLOOKUP(A51&$B$12, localcont!$A$10:$X$1764, 15, FALSE), \"\")","v":""},{"$f":"IF($C51<=$B$16,VLOOKUP(A51&$B$12, localcont!$A$10:$X$1764, 14, FALSE),\"\")","v":""}," "]
[{"$f":"IF($C52<=$B$16,VLOOKUP(E52,leas!D38:G477,4,FALSE),\"\")","v":""},60033,33,null," ",{"$f":"IF($C52<=$B$16, VLOOKUP($B52, regdetail, 6), \" \")","v":" "},{"$f":"IF($C52<=$B$16,VLOOKUP(A52&$B$12, localcont!A42:X1796, 18, FALSE), \"\")","v":""},{"$f":"IF($C52<=$B$16,VLOOKUP(A52&$B$12, localcont!$A$10:$X$1764, 23, FALSE), \"\")","v":""}," ",{"$f":"IF($C52<=$B$16,VLOOKUP(A52&$B$12, localcont!$A$10:$X$1764, 15, FALSE), \"\")","v":""},{"$f":"IF($C52<=$B$16,VLOOKUP(A52&$B$12, localcont!$A$10:$X$1764, 14, FALSE),\"\")","v":""}," "]
[{"$f":"IF($C53<=$B$16,VLOOKUP(E53,leas!D39:G478,4,FALSE),\"\")","v":""},60034,34,null," "," ",{"$f":"IF($C53<=$B$16,VLOOKUP(A53&$B$12, localcont!A43:X1797, 18, FALSE), \"\")","v":""},{"$f":"IF($C53<=$B$16,VLOOKUP(A53&$B$12, localcont!$A$10:$X$1764, 23, FALSE), \"\")","v":""}," ",{"$f":"IF($C53<=$B$16,VLOOKUP(A53&$B$12, localcont!$A$10:$X$1764, 15, FALSE), \"\")","v":""},{"$f":"IF($C53<=$B$16,VLOOKUP(A53&$B$12, localcont!$A$10:$X$1764, 14, FALSE),\"\")","v":""}," "]
[{"$f":"IF($C54<=$B$16,VLOOKUP(E54,leas!D40:G479,4,FALSE),\"\")","v":""},60035,35,null," "," ",{"$f":"IF($C54<=$B$16,VLOOKUP(A54&$B$12, localcont!A44:X1798, 18, FALSE), \"\")","v":""},{"$f":"IF($C54<=$B$16,VLOOKUP(A54&$B$12, localcont!$A$10:$X$1764, 23, FALSE), \"\")","v":""}," ",{"$f":"IF($C54<=$B$16,VLOOKUP(A54&$B$12, localcont!$A$10:$X$1764, 15, FALSE), \"\")","v":""},{"$f":"IF($C54<=$B$16,VLOOKUP(A54&$B$12, localcont!$A$10:$X$1764, 14, FALSE),\"\")","v":""}," "]
[{"$f":"IF($C55<=$B$16,VLOOKUP(E55,leas!D41:G480,4,FALSE),\"\")","v":""},60036,36,null," "," ",{"$f":"IF($C55<=$B$16,VLOOKUP(A55&$B$12, localcont!A45:X1799, 18, FALSE), \"\")","v":""},{"$f":"IF($C55<=$B$16,VLOOKUP(A55&$B$12, localcont!$A$10:$X$1764, 23, FALSE), \"\")","v":""}," ",{"$f":"IF($C55<=$B$16,VLOOKUP(A55&$B$12, localcont!$A$10:$X$1764, 15, FALSE), \"\")","v":""},{"$f":"IF($C55<=$B$16,VLOOKUP(A55&$B$12, localcont!$A$10:$X$1764, 14, FALSE),\"\")","v":""}," "]
[{"$f":"IF($C56<=$B$16,VLOOKUP(E56,leas!D42:G481,4,FALSE),\"\")","v":""},60037,37,null," "," ",{"$f":"IF($C56<=$B$16,VLOOKUP(A56&$B$12, localcont!A46:X1800, 18, FALSE), \"\")","v":""},{"$f":"IF($C56<=$B$16,VLOOKUP(A56&$B$12, localcont!$A$10:$X$1764, 23, FALSE), \"\")","v":""}," ",{"$f":"IF($C56<=$B$16,VLOOKUP(A56&$B$12, localcont!$A$10:$X$1764, 15, FALSE), \"\")","v":""},{"$f":"IF($C56<=$B$16,VLOOKUP(A56&$B$12, localcont!$A$10:$X$1764, 14, FALSE),\"\")","v":""}," "]
[{"$f":"IF($C57<=$B$16,VLOOKUP(E57,leas!D43:G482,4,FALSE),\"\")","v":""},60038,38,null," "," ",{"$f":"IF($C57<=$B$16,VLOOKUP(A57&$B$12, localcont!A47:X1801, 18, FALSE), \"\")","v":""},{"$f":"IF($C57<=$B$16,VLOOKUP(A57&$B$12, localcont!$A$10:$X$1764, 23, FALSE), \"\")","v":""}," ",{"$f":"IF($C57<=$B$16,VLOOKUP(A57&$B$12, localcont!$A$10:$X$1764, 15, FALSE), \"\")","v":""},{"$f":"IF($C57<=$B$16,VLOOKUP(A57&$B$12, localcont!$A$10:$X$1764, 14, FALSE),\"\")","v":""}," "]
[{"$f":"IF($C58<=$B$16,VLOOKUP(E58,leas!D44:G483,4,FALSE),\"\")","v":""},60039,39,null," "," ",{"$f":"IF($C58<=$B$16,VLOOKUP(A58&$B$12, localcont!A48:X1802, 18, FALSE), \"\")","v":""},{"$f":"IF($C58<=$B$16,VLOOKUP(A58&$B$12, localcont!$A$10:$X$1764, 23, FALSE), \"\")","v":""}," ",{"$f":"IF($C58<=$B$16,VLOOKUP(A58&$B$12, localcont!$A$10:$X$1764, 15, FALSE), \"\")","v":""},{"$f":"IF($C58<=$B$16,VLOOKUP(A58&$B$12, localcont!$A$10:$X$1764, 14, FALSE),\"\")","v":""}," "]
[{"$f":"IF($C59<=$B$16,VLOOKUP(E59,leas!D45:G484,4,FALSE),\"\")","v":""},60040,40,null," "," ",{"$f":"IF($C59<=$B$16,VLOOKUP(A59&$B$12, localcont!A49:X1803, 18, FALSE), \"\")","v":""},{"$f":"IF($C59<=$B$16,VLOOKUP(A59&$B$12, localcont!$A$10:$X$1764, 23, FALSE), \"\")","v":""}," ",{"$f":"IF($C59<=$B$16,VLOOKUP(A59&$B$12, localcont!$A$10:$X$1764, 15, FALSE), \"\")","v":""},{"$f":"IF($C59<=$B$16,VLOOKUP(A59&$B$12, localcont!$A$10:$X$1764, 14, FALSE),\"\")","v":""}," "]
[{"$f":"IF($C60<=$B$16,VLOOKUP(E60,leas!D46:G485,4,FALSE),\"\")","v":""},60041,41,null," "," ",{"$f":"IF($C60<=$B$16,VLOOKUP(A60&$B$12, localcont!A50:X1804, 18, FALSE), \"\")","v":""},{"$f":"IF($C60<=$B$16,VLOOKUP(A60&$B$12, localcont!$A$10:$X$1764, 23, FALSE), \"\")","v":""}," ",{"$f":"IF($C60<=$B$16,VLOOKUP(A60&$B$12, localcont!$A$10:$X$1764, 15, FALSE), \"\")","v":""},{"$f":"IF($C60<=$B$16,VLOOKUP(A60&$B$12, localcont!$A$10:$X$1764, 14, FALSE),\"\")","v":""}," "]
[{"$f":"IF($C61<=$B$16,VLOOKUP(E61,leas!D47:G486,4,FALSE),\"\")","v":""},60042,42,null," "," ",{"$f":"IF($C61<=$B$16,VLOOKUP(A61&$B$12, localcont!A51:X1805, 18, FALSE), \"\")","v":""},{"$f":"IF($C61<=$B$16,VLOOKUP(A61&$B$12, localcont!$A$10:$X$1764, 23, FALSE), \"\")","v":""}," ",{"$f":"IF($C61<=$B$16,VLOOKUP(A61&$B$12, localcont!$A$10:$X$1764, 15, FALSE), \"\")","v":""},{"$f":"IF($C61<=$B$16,VLOOKUP(A61&$B$12, localcont!$A$10:$X$1764, 14, FALSE),\"\")","v":""}," "]
[{"$f":"IF($C62<=$B$16,VLOOKUP(E62,leas!D48:G487,4,FALSE),\"\")","v":""},60043,43,null," "," ",{"$f":"IF($C62<=$B$16,VLOOKUP(A62&$B$12, localcont!A52:X1806, 18, FALSE), \"\")","v":""},{"$f":"IF($C62<=$B$16,VLOOKUP(A62&$B$12, localcont!$A$10:$X$1764, 23, FALSE), \"\")","v":""}," ",{"$f":"IF($C62<=$B$16,VLOOKUP(A62&$B$12, localcont!$A$10:$X$1764, 15, FALSE), \"\")","v":""},{"$f":"IF($C62<=$B$16,VLOOKUP(A62&$B$12, localcont!$A$10:$X$1764, 14, FALSE),\"\")","v":""}," "]
[{"$f":"IF($C63<=$B$16,VLOOKUP(E63,leas!D49:G488,4,FALSE),\"\")","v":""},60044,44,null," "," ",{"$f":"IF($C63<=$B$16,VLOOKUP(A63&$B$12, localcont!A53:X1807, 18, FALSE), \"\")","v":""},{"$f":"IF($C63<=$B$16,VLOOKUP(A63&$B$12, localcont!$A$10:$X$1764, 23, FALSE), \"\")","v":""}," ",{"$f":"IF($C63<=$B$16,VLOOKUP(A63&$B$12, localcont!$A$10:$X$1764, 15, FALSE), \"\")","v":""},{"$f":"IF($C63<=$B$16,VLOOKUP(A63&$B$12, localcont!$A$10:$X$1764, 14, FALSE),\"\")","v":""}," ",null,null,null,{"$f":"IF($C63>$B$16,\"\",O63*$P$13)","v":""}]
[{"$f":"IF($C64<=$B$16,VLOOKUP(E64,leas!D50:G489,4,FALSE),\"\")","v":""},60045,45,null," "," ",{"$f":"IF($C64<=$B$16,VLOOKUP(A64&$B$12, localcont!A54:X1808, 18, FALSE), \"\")","v":""},{"$f":"IF($C64<=$B$16,VLOOKUP(A64&$B$12, localcont!$A$10:$X$1764, 23, FALSE), \"\")","v":""}," ",{"$f":"IF($C64<=$B$16,VLOOKUP(A64&$B$12, localcont!$A$10:$X$1764, 15, FALSE), \"\")","v":""},{"$f":"IF($C64<=$B$16,VLOOKUP(A64&$B$12, localcont!$A$10:$X$1764, 14, FALSE),\"\")","v":""}," ",null,null,null,""]
[{"$f":"IF($C65<=$B$16,VLOOKUP(E65,leas!D51:G490,4,FALSE),\"\")","v":""},60046,46,null," "," ",{"$f":"IF($C65<=$B$16,VLOOKUP(A65&$B$12, localcont!A55:X1809, 18, FALSE), \"\")","v":""},{"$f":"IF($C65<=$B$16,VLOOKUP(A65&$B$12, localcont!$A$10:$X$1764, 23, FALSE), \"\")","v":""}," ",{"$f":"IF($C65<=$B$16,VLOOKUP(A65&$B$12, localcont!$A$10:$X$1764, 15, FALSE), \"\")","v":""},{"$f":"IF($C65<=$B$16,VLOOKUP(A65&$B$12, localcont!$A$10:$X$1764, 14, FALSE),\"\")","v":""}," ",null,null,null,""]
[{"$f":"IF($C66<=$B$16,VLOOKUP(E66,leas!D52:G491,4,FALSE),\"\")","v":""},60047,47,null," "," ",{"$f":"IF($C66<=$B$16,VLOOKUP(A66&$B$12, localcont!A56:X1810, 18, FALSE), \"\")","v":""},{"$f":"IF($C66<=$B$16,VLOOKUP(A66&$B$12, localcont!$A$10:$X$1764, 23, FALSE), \"\")","v":""}," ",{"$f":"IF($C66<=$B$16,VLOOKUP(A66&$B$12, localcont!$A$10:$X$1764, 15, FALSE), \"\")","v":""},{"$f":"IF($C66<=$B$16,VLOOKUP(A66&$B$12, localcont!$A$10:$X$1764, 14, FALSE),\"\")","v":""}," ",null,null,null,""]
[{"$f":"IF($C67<=$B$16,VLOOKUP(E67,leas!D53:G492,4,FALSE),\"\")","v":""},60048,48,null," "," ",{"$f":"IF($C67<=$B$16,VLOOKUP(A67&$B$12, localcont!A57:X1811, 18, FALSE), \"\")","v":""},{"$f":"IF($C67<=$B$16,VLOOKUP(A67&$B$12, localcont!$A$10:$X$1764, 23, FALSE), \"\")","v":""}," ",{"$f":"IF($C67<=$B$16,VLOOKUP(A67&$B$12, localcont!$A$10:$X$1764, 15, FALSE), \"\")","v":""},{"$f":"IF($C67<=$B$16,VLOOKUP(A67&$B$12, localcont!$A$10:$X$1764, 14, FALSE),\"\")","v":""}," ",null,null,null,""]
[{"$f":"IF($C68<=$B$16,VLOOKUP(E68,leas!D54:G493,4,FALSE),\"\")","v":""},60049,49,null," "," ",{"$f":"IF($C68<=$B$16,VLOOKUP(A68&$B$12, localcont!A58:X1812, 18, FALSE), \"\")","v":""},{"$f":"IF($C68<=$B$16,VLOOKUP(A68&$B$12, localcont!$A$10:$X$1764, 23, FALSE), \"\")","v":""}," ",{"$f":"IF($C68<=$B$16,VLOOKUP(A68&$B$12, localcont!$A$10:$X$1764, 15, FALSE), \"\")","v":""},{"$f":"IF($C68<=$B$16,VLOOKUP(A68&$B$12, localcont!$A$10:$X$1764, 14, FALSE),\"\")","v":""}," ",null,null,null,""]

{"sheet":"Comparison to FY21","index":10,"n_rows":333,"n_cols":16,"rows_kept":333,"cut":false,"hidden":false,"merged":[[3,0,3,11]]}
[null,"Return to Index",null,null,null,null,null,null,null,null,null,null,null,null,null,"More about the data"]
["Massachusetts Department of Elementary and Secondary Education"]
[{"$f":"CYr&\" Chapter 70 Comparison to \"&PYr","v":"FY22 Chapter 70 Comparison to FY21"}]
[]
[]
[]
[null,null,{"$f":"PYr","v":"FY21"},"FY22",null,{"$f":"PYr","v":"FY21"},{"$f":"CYr","v":"FY22"},null,{"$f":"PYr","v":"FY21"},{"$f":"CYr","v":"FY22"},null,{"$f":"PYr","v":"FY21"},{"$f":"CYr","v":"FY22"}]
[null,"Operating","Foundation ","Foundation ",null,"Foundation","Foundation",null,"Minimum","Minimum",null,"Chapter 70","Chapter 70"]
["LEA","District name","Enrollment","Enrollment","change","Budget","Budget","change per pupil","Contribution","Contribution","change per pupil","aid","aid","change in aid","change in aid per pupil","% change in aid"]
[1,"Abington                     ",{"$f":"VLOOKUP(A10,aidcalc,14,FALSE)","v":2197},{"$f":"VLOOKUP(A10,aidcalc,15,FALSE)","v":2193},{"$f":"D10-C10","v":-4},{"$f":"VLOOKUP(A10,aidcalc,4,FALSE)","v":25332546.714959998},{"$f":"VLOOKUP(A10,aidcalc,9,FALSE)","v":26529795.66124},{"$f":"(G10-F10)/$D10","v":545.94115197446536},{"$f":"VLOOKUP(A10,aidcalc,5,FALSE)","v":15287069},{"$f":"VLOOKUP(A10,aidcalc,10,FALSE)","v":15771170},{"$f":"(J10-I10)/$D10","v":220.74829001367988},{"$f":"VLOOKUP(A10,aidcalc,6,FALSE)","v":10045478},{"$f":"VLOOKUP(A10,aidcalc,25,FALSE)","v":10858340},{"$f":"M10-L10","v":812862},{"$f":"(M10-L10)/$D10","v":370.66210670314638},{"$f":"ROUND(IF(F10>0,(M10-L10)/L10,100),2)","v":0.08}]
[3,"Acushnet                     ",1292,1207,{"$f":"D11-C11","v":-85},13990412.9,13489100.060000001,-415.33789560894769,7889510,7882117,{"$f":"(J11-I11)/$D11","v":-6.1251035625517813},6361492,6397702,{"$f":"M11-L11","v":36210},{"$f":"(M11-L11)/$D11","v":30},0.01]
[5,"Agawam                       ",3623,3516,-107,42427489.500000007,42850725.390000008,120.37425767918106,23256462,23421246,46.86689419795222,19477412,19949538,472126,134.2792946530148,0.02]
[7,"Amesbury                     ",2036,1930,-106,22553274.579999998,22473928.549999997,-41.111932642487666,16118764,16512866,204.1979274611399,9190887,9248787,57900,30,0.01]
[8,"Amherst                      ",1097,1045,-52,12512134.57,12765297.700000001,242.26136842105342,9645618,9889673,233.54545454545453,6122223,6153573,31350,30,0.01]
[9,"Andover                      ",5740,5628,-112,64237434.876240008,64739542.478479996,89.215991869223302,52995883,53410123,73.603411513859271,11668291,11837131,168840,30,0.01]
[10,"Arlington                    ",6092,5836,-256,64895656.34093,64412505.935059994,-82.787937948938563,50343449,51220285,150.24605894448251,14566028,14741108,175080,30,0.01]
[14,"Ashland                      ",2786,2694,-92,30232498.719999995,30147061.930000003,-31.713730512246347,22294876,22838677,201.85634743875278,7937623,8018443,80820,30,0.01]
[16,"Attleboro                    ",6383,6188,-195,79207276.429999992,80741145.670000002,247.87802844214764,38037529,39217459,190.68034906270199,41169747,41523687,353940,57.197802197802197,0.01]
[17,"Auburn                       ",2511,2421,-90,27521289.789999999,27367440.740000006,-63.547728211480091,15309359,15568309,106.95993391160677,12211931,12284561,72630,30,0.01]
[18,"Avon                         ",586,560,-26,7045846.1099999985,7016240.1299999999,-52.867821428568902,4598969,4689958,162.48035714285714,2448769,2465569,16800,{"$f":"(M20-L20)/$D20","v":30},0.01]
[20,"Barnstable                   ",5405,5147,-258,65773443.140000001,65238260.339999989,-103.97956090926985,52762387,53821564,205.78531183213522,13011056,13165466,154410,30,0.01]
[23,"Bedford                      ",2707,2649,-58,30502691.57316,30729462.661080003,85.606299705550256,25097492,25351806,96.003775009437518,5595167,5674637,79470,30,0.01]
[24,"Belchertown                  ",2278,2204,-74,24726417.459999997,24800115.190000001,33.438171506353981,12418125,12857028,199.13929219600726,13884146,13950266,66120,30,0]
[25,"Bellingham                   ",2247,2184,-63,24676853.43,24805882.760000002,59.07936355311444,16772086,17397231,286.23855311355311,8642425,8707945,65520,30,0.01]
[26,"Belmont                      ",4638,4534,-104,50418107.66032999,50694465.246789992,60.952268738421211,40662179,40824828,35.873180414644906,9755929,9891949,136020,30,0.01]
[27,"Berkley                      ",764,733,-31,8014902.1800000006,7950531.7800000003,-87.817735334243352,4170576,4249272,107.36152796725784,4003448,4025438,21990,30,0.01]
[30,"Beverly                      ",4570,4613,43,51866271.119999997,53925726.18999999,446.44592889659503,41749093,43334812,343.75005419466726,10125430,10590914,465484,100.90700195100803,0.05]
[31,"Billerica                    ",4866,4694,-172,52647471.612599999,52245953.957079992,-85.538486476354279,41417136,43102912,359.13421389007243,19348854,19489674,140820,30,0.01]
[35,"Boston                       ",62890,60704,-2186,924506066.0076499,978880394.48934996,895.72892201008278,762717504,788497356,424.68127306273061,221915045,223736165,1821120,30,0.01]
[36,"Bourne                       ",2012,1789,-223,22664002.020000003,20951766.189999998,-957.09101732811939,18697802,17285207,-789.60033538289542,5215213,5268883,53670,30,0.01]
[38,"Boxford                      ",729,673,-56,7419452.1552000009,7077684.451799999,-507.82719673105777,6121048,5839090,-418.95690936106985,1747903,1768093,20190,30,0.01]
[40,"Braintree                    ",5666,5383,-283,64248920.529949985,63352380.463700004,-166.55026309678274,46089277,47033101,175.33420026007803,18297651,18459141,161490,30,0.01]
[41,"Brewster                     ",468,431,-37,5175998.03,4895214.0599999996,-651.47092807424747,4206025,4038551,-388.57076566125289,1011979,1024909,12930,30,0.01]
[43,"Brimfield                    ",283,269,-14,3081860.73,2957057.94,-463.95089219330868,1716855,1755767,144.65427509293681,1365006,1373076,8070,30,0.01]
[44,"Brockton                     ",17491,17092,-399,237304378.99000001,261944926.60000005,1441.6421489585796,48074759,49559396,86.86151415867073,189236745,212385531,23148786,1354.3637959279195,0.12]
[45,"Brookfield                   ",253,230,-23,2871199.0500000003,2739833.1099999994,-571.156260869569,1170696,1154807,-69.082608695652169,1700503,1707403,6900,30,0]
[46,"Brookline                    ",7648,6858,-790,83874467.613419995,77422819.851260006,-940.74770518518346,69196436,63873826,-776.11694371536896,15006787,15212527,205740,30,0.01]
[48,"Burlington                   ",3518,3420,-98,40012176.135040008,40093789.187169999,23.86346553508519,33010045,33077377,19.687719298245614,7002131,7104731,102600,30,0.01]
[49,"Cambridge                    ",7519,7160,-359,97837766.086960018,100848386.94927999,420.47777406703574,80716157,83199919,346.89413407821229,17121609,17648468,526859,73.583659217877099,0.03]
[50,"Canton                       ",3325,3234,-91,37234938.635360003,37413396.475199997,55.18176865800708,30718825,30866052,45.52473716759431,6516115,6613135,97020,30,0.01]
[51,"Carlisle                     ",570,556,-14,5783671.1796799991,5777297.3325199997,-11.463753884891048,4771528,4766270,-9.456834532374101,1012143,1028823,16680,30,0.02]
[52,"Carver                       ",1591,1501,-90,18039221.234960001,17600656.3972,-292.18177065956127,9418559,9595425,117.83211192538307,10008599,10053629,45030,30,0]
[56,"Chelmsford                   ",5112,4956,-156,54223728,54364865.709999993,28.478149717512803,43879883,44851014,195.95056497175142,11199428,11348108,148680,30,0.01]
[57,"Chelsea                      ",7289,7097,-192,105670798.9015,114106347.65687999,1188.6076871044088,19903086,19018231,-124.68014654079188,85769782,95092112,9322330,1313.5592503874877,0.11]
[61,"Chicopee                     ",7571,7269,-302,99981143.989999995,103803922.04000001,525.90150639703006,30903112,31307943,55.69280506259458,69078032,72495979,3417947,470.20869445590864,0.05]
[63,"Clarksburg                   ",171,180,9,2005332.3699999996,2139256.1799999997,744.021166666667,683465,735842,290.98333333333335,1799935,1805335,5400,30,0]
[64,"Clinton                      ",2086,2050,-36,25739349.560000002,26864608.990000002,548.90703902439009,11372125,11925947,270.15707317073173,14367225,14938662,571437,278.74975609756098,0.04]
[65,"Cohasset                     ",1468,1419,-49,15514224.726079997,15385213.724099997,-90.916844242423707,12799236,12692802,-75.006342494714588,2748292,2790862,42570,30,0.02]
[67,"Concord                      ",2081,1998,-83,21359034.911680002,21236752.310529996,-61.202503078081108,17621204,17520320,-50.492492492492495,3737831,3797771,59940,30,0.02]
[68,"Conway                       ",79,78,-1,894594.8200000003,926021.78,402.90974358974012,738041,763968,332.39743589743591,626464,628804,2340,30,0]
[71,"Danvers                      ",3483,3384,-99,37325532.020000011,37556776.830000006,68.334754728130889,30589946,30917580,96.818557919621753,7108192,7209712,101520,30,0.01]
[72,"Dartmouth                    ",3517,3369,-148,38785092.380000003,38413025.859999999,-110.43826654793804,31997701,31690747,-91.111308993766698,9948121,10049191,101070,30,0.01]
[73,"Dedham                       ",2700,2586,-114,31069861.763470002,30666508.900769994,-155.97558495746631,25205198,25299870,36.609435421500386,6066360,6143940,77580,30,0.01]
[74,"Deerfield                    ",315,293,-22,3368724.2699999996,3195342.38,-591.74706484641524,2732273,2636157,-328.0409556313993,1114363,1123153,8790,30,0.01]
[77,"Douglas                      ",1213,1106,-107,13102757.229999999,12319421.250000002,-708.26037974683243,7355911,7492002,123.04792043399638,8759585,8792765,33180,30,0]
[78,"Dover                        ",492,476,-16,4983216.4504999993,4983017.6314199995,-0.4176871428567478,4111154,4110989,-0.34663865546218486,872062,886342,14280,30,0.02]
[79,"Dracut                       ",3964,3982,18,44096709.129999995,46058563.059999995,492.68054495228523,23979412,25045152,267.63937719738823,20128364,21013411,885047,222.26192867905576,0.04]
[82,"Duxbury                      ",2888,2730,-158,30754555.552399997,29901986.556480002,-312.29633550182967,25372508,24669139,-257.64432234432235,5382048,5463948,81900,30,0.02]
[83,"East Bridgewater             ",2153,2067,-86,23574021.350000001,23394636.07,-86.785331398162157,12580578,12898727,153.9182389937107,10995125,11057135,62010,30,0.01]
[85,"Eastham                      ",191,196,5,2151871.9300000002,2320433.8899999997,860.00999999999749,1775294,1914358,709.51020408163265,376578,406076,29498,150.5,0.08]
[86,"Easthampton                  ",1719,1630,-89,20082994.249999996,19817458.09,-162.90561963189964,12651233,12976004,199.24601226993866,8029692,8078592,48900,30,0.01]
[87,"East Longmeadow              ",2643,2457,-186,29030299.670000002,27993088.180000003,-422.14549857549792,17494208,17190078,-123.78103378103378,12102248,12175958,73710,30,0.01]
[88,"Easton                       ",3516,3373,-143,37563612.82,37338104.880000003,-66.856786243699261,29384825,30163362,230.81440853839311,10148451,10249641,101190,30,0.01]
[89,"Edgartown                    ",441,428,-13,5167542.74,5243884.84,178.36939252336362,4263223,4326205,147.15420560747663,904320,917680,13360,31.214953271028037,0.01]
[91,"Erving                       ",219,207,-12,2326189.63,2355746.09,142.78483091787422,1919106,1943490,117.79710144927536,471505,477715,6210,30,0.01]
[93,"Everett                      ",7652,7505,-147,109071464.1568,120819748.25191998,1565.3942831605573,35431511,36483827,140.21532311792137,75001709,84335921,9334212,1243.7324450366423,0.12]
[94,"Fairhaven                    ",1816,1727,-89,20977288.109999999,20710203.66,-154.65225825130241,12688884,12632417,-32.696583671105962,8291230,8343040,51810,30,0.01]
[95,"Fall River                   ",12095,11894,-201,169915017.67999995,179465809.67000002,802.99243231882201,32906432,34286248,116.00941651252732,137016364,145182843,8166479,686.6049268538759,0.06]
[96,"Falmouth                     ",3221,3037,-184,38101629.059999995,36995294.280000001,-364.28540665129856,31433844,30521118,{"$f":"(J69-I69)/$D69","v":-300.53539677313137},6780099,6871209,{"$f":"M69-L69","v":91110},{"$f":"(M69-L69)/$D69","v":30},0.01]
[97,"Fitchburg                    ",5815,5644,-171,77039272.929999992,80948312.820000008,692.60097271438974,19328344,19699066,65.684266477675408,57710929,61251183,3540254,627.25974486180019,0.06]
[98,"Florida                      ",66,58,-8,747149.5,710252.54,-636.15448275862002,475424,432738,-735.9655172413793,550717,552457,1740,30,0]
[99,"Foxborough                   ",2639,2543,-96,29781054.52984,29685008.984399997,-37.768598285490867,24569370,24490132,-31.159260715690131,9046950,9123240,76290,30,0.01]
[100,"Framingham                   ",9572,9303,-269,121857618.34246999,124104569.45571999,241.529733768677,65102393,67201559,225.6439858110287,56755225,57034315,279090,30,0]
[101,"Franklin                     ",{"$f":"VLOOKUP(A74,aidcalc,14,FALSE)","v":5511},{"$f":"VLOOKUP(A74,aidcalc,15,FALSE)","v":5292},-219,{"$f":"VLOOKUP(A74,aidcalc,4,FALSE)","v":60169866.394320011},{"$f":"VLOOKUP(A74,aidcalc,9,FALSE)","v":59769256.119000003},{"$f":"(G74-F74)/$D74","v":-75.701110226758956},{"$f":"VLOOKUP(A74,aidcalc,5,FALSE)","v":41152523},{"$f":"VLOOKUP(A74,aidcalc,10,FALSE)","v":42443297},243.91043083900226,{"$f":"VLOOKUP(A74,aidcalc,6,FALSE)","v":28416161},{"$f":"VLOOKUP(A74,aidcalc,25,FALSE)","v":28574921},158760,30,{"$f":"ROUND(IF(F74>0,(M74-L74)/L74,100),2)","v":0.01}]
[103,"Gardner                      ",2418,2285,{"$f":"D75-C75","v":-133},30692122.609999999,30713287.02,9.2623238512035666,9927325,10332365,177.26039387308535,21003460,21072010,68550,30,0]
[105,"Georgetown                   ",1303,1239,-64,13521537.540000001,13268519.02,-204.21188054883083,10617926,10680486,50.492332526230832,5527768,5564938,37170,30,0.01]
[107,"Gloucester                   ",3094,3017,-77,38460242.64918001,39342679.288419999,292.4881137686408,31729700,32457710,241.30261849519391,6730543,6884969,154426,51.185283394100097,0.02]
[110,"Grafton                      ",3079,3021,-58,32659858.43,33113667.029999997,150.2180072823561,22211911,22380816,55.91029460443562,11108735,11350399,241664,79.994703740483288,0.02]
[111,"Granby                       ",710,685,-25,8181734.8699999992,8293230.8600000022,162.76786861314309,5150983,5148277,-3.9503649635036497,4664780,4685330,20550,30,0]
[114,"Greenfield                   ",1965,1859,-106,24159291.550000001,23851070.390000001,-165.79944055944063,10256971,10181012,-40.86013986013986,13902321,13958091,55770,30,0]
[117,"Hadley                       ",520,498,-22,5921818.3199999994,5857373.9399999985,-129.40638554217031,4885500,4832334,-106.75903614457832,1279420,1294360,14940,30,0.01]
[118,"Halifax                      ",630,615,-15,6764091.2584799994,6881455.87414,190.83677343089528,3795461,3833817,62.367479674796748,3063392,3081842,18450,30,0.01]
[121,"Hancock                      ",77,81,4,883632.04,936904.25999999989,657.68172839505996,673593,689423,195.4320987654321,211450,247481,36031,444.82716049382714,0.17]
[122,"Hanover                      ",2558,2548,-10,27226298.169830002,27986422.446649998,298.32192967817758,21124278,21593458,184.13657770800629,7023879,7100319,76440,30,0.01]
[125,"Harvard                      ",911,876,-35,9458347.1900000013,9395298.2599999998,-71.973664383563431,7803137,7751121,-59.378995433789953,1982671,2008951,26280,30,0.01]
[127,"Hatfield                     ",353,334,-19,3943217.63,3877179.38,-197.7193113772455,3167592,3198673,93.056886227544908,846256,856276,10020,30,0.01]
[128,"Haverhill                    ",8540,8276,-264,107173075.29000002,109839437.75000001,322.18009424842842,43835110,44857002,123.47655872402126,63349956,64982436,1632480,197.25471242145963,0.03]
[131,"Hingham                      ",4289,3947,-342,45460703.839160003,43233894.313900001,-564.17773632125704,37505081,35667963,-465.4466683557132,7955623,8074033,118410,30,0.01]
[133,"Holbrook                     ",1346,1315,-31,16096140.681580001,17262299.148400001,886.81252229657775,8273118,8486011,161.8958174904943,7826400,8776288,949888,722.348288973384,0.12]
[135,"Holland                      ",156,152,-4,1899540.24,1813558.83,-565.66717105263103,1117998,1163643,300.29605263157896,933678,938238,4560,30,0]
[136,"Holliston                    ",2706,2604,-102,28673820.518239997,28327730.336479999,-132.90713585253388,21202129,21443054,92.52112135176651,7936216,8014336,78120,30,0.01]
[137,"Holyoke                      ",6357,6159,-198,90161028.659999996,94346220.059999973,679.52450073063426,11207668,11493463,46.402825133950316,78953361,82853878,3900517,633.30362071764898,0.05]
[138,"Hopedale                     ",924,914,-10,9927021.4951400012,10312156.29149,421.37286252735072,5864081,6099344,257.39934354485774,6087390,6114810,27420,30,0]
[139,"Hopkinton                    ",3867,3935,68,41585309.188900001,43582814.802780002,507.62531483608666,34279876,35955822,425.90749682337992,7305433,8050421,744988,189.32350698856416,0.1]
[141,"Hudson                       ",2658,2512,-146,30603552.288509995,30183664.778300002,-167.1526712619397,18666759,18931449,105.3702229299363,12020446,12095806,75360,30,0.01]
[142,"Hull                         ",896,837,-59,10567859.950760001,10312532.869039997,-305.05027684588276,8718484,8507840,-251.66547192353644,3874466,3899576,25110,30,0.01]
[144,"Ipswich                      ",1654,1585,-69,18495911.746960003,18360232.905999996,-85.60179240379,15259127,15147192,-70.621451104100942,3332340,3379890,47550,30,0.01]
[145,"Kingston                     ",1105,1076,-29,11789935.42196,11891965.326339999,94.823331208177763,7692593,7846238,142.79275092936803,4372585,4404865,32280,30,0.01]
[149,"Lawrence                     ",15367,14746,-621,218786376.44,234592260.91,1071.8760660518105,11530073,12048747,35.173877661738778,207256303,222543514,15287211,1036.7022243320223,7.0000000000000007E-2]
[150,"Lee                          ",616,579,-37,7515008.5899999989,7363633.6299999999,-261.44207253885844,6036549,6074998,66.405872193436963,2085069,2102439,17370,30,0.01]
[151,"Leicester                    ",1539,1458,-81,18032789.120000001,17918102.010000005,-78.660569272973717,8592877,8874997,193.49794238683128,9802497,9846237,43740,30,0]
[152,"Lenox                        ",507,496,-11,5736170.5799999991,5879254.1000000006,288.47483870968028,4728371,4784639,113.44354838709677,1272525,1287405,14880,30,0.01]
[153,"Leominster                   ",6177,5990,-187,79655609.189999998,81402160.149999991,291.57778964941463,30886014,32019531,189.23489148580967,48769595,49388806,619211,103.37412353923206,0.01]
[154,"Leverett                     ",116,105,-11,1203602.1499999999,1142444.52,-582.45361904761796,992972,942517,-480.52380952380952,295511,298661,3150,30,0.01]
[155,"Lexington                    ",7282,6982,-300,81400953.564800009,80618068.692389995,-112.12902784445922,67155786,66509907,-92.50630191922086,14438034,14647494,209460,30,0.01]
[157,"Lincoln                      ",595,578,-17,6274212.1128000012,6357796.1330000004,144.6090314878879,5176225,5245182,119.30276816608996,1174169,1191509,17340,30,0.01]
[158,"Littleton                    ",1611,1515,-96,16791308.800700001,16227167.91492,-372.3702216369644,13852830,13387414,-307.20528052805281,4039908,4085358,45450,30,0.01]
[159,"Longmeadow                   ",2808,2705,-103,29237892.870000001,29129978.330000002,-39.894469500923883,24121262,24032232,-32.913123844731977,5669282,5750432,81150,30,0.01]
[160,"Lowell                       ",16352,16047,-305,218744159.73000002,232660515.38,867.22475540599339,51808768,54112190,143.54221972954446,166954483,178553488,11599005,722.81454477472425,7.0000000000000007E-2]
[161,"Ludlow                       ",2509,2381,-128,29294399.16,28842661.469999999,-189.72603527929499,16443714,16677575,98.219655606887869,13795983,13867413,71430,30,0.01]
[162,"Lunenburg                    ",1705,1656,-49,18301715.41,18408485.399999999,64.474631642511085,10527777,10908378,229.83152173913044,7773938,7823618,49680,30,0.01]
[163,"Lynn                         ",18087,17156,-931,252551048.48000005,268344427.44,920.57466542317263,53396054,55110068,99.907554208440189,199154994,213234359,14079365,820.66711354628114,7.0000000000000007E-2]
[164,"Lynnfield                    ",2205,2175,-30,23513323.468790006,23928671.94923,190.96481859310092,19317442,19741154,194.81011494252874,4404631,4469881,65250,30,0.01]
[165,"Malden                       ",7268,6921,-347,94879629.913439989,97816216.363690004,424.30088863603737,45560692,47782256,320.98887444010978,51206223,51413853,207630,30,0]
[167,"Mansfield                    ",3730,3599,-131,41671720.92024,41585191.998259999,-24.042490130592117,29709526,29922569,59.195054181717147,18962339,19070309,107970,30,0.01]
[168,"Marblehead                   ",3023,2772,-251,31915735.240000002,30235711.089999996,-606.06931818182034,26330482,24944462,-500.007215007215,5952147,6035307,83160,30,0.01]
[169,"Marion                       ",432,403,-29,4522671.7799999993,4374312.4499999993,-368.13729528535998,3731204,3608808,-303.712158808933,860344,872434,12090,30,0.01]
[170,"Marlborough                  ",5336,5207,-129,67959735.832000002,68784010.9164,158.30134134818479,36937156,38142644,231.51296331860956,31032674,31188884,156210,30,0.01]
[171,"Marshfield                   ",3941,3791,-150,43514601.597520001,43275872.179899998,-62.972676766025643,35899546,35702595,-51.952255341598523,14664853,14778583,113730,30,0.01]
[172,"Mashpee                      ",1585,1510,-75,18424932.769999996,18231111.670000002,-128.35834437085697,15200570,15040667,-105.89602649006622,4640166,4685466,45300,30,0.01]
[173,"Mattapoisett                 ",437,396,-41,4546818.59,4252682.29,-742.76843434343391,3751126,3508463,-612.78535353535358,839485,851365,11880,30,0.01]
[174,"Maynard                      ",1305,1256,-49,14950228.72524,14868952.430520002,-64.710425732482321,10176959,10603032,339.23009554140128,5442941,5480621,37680,30,0.01]
[175,"Medfield                     ",2513,2433,-80,26552098.786160003,26424181.490199994,-52.575953949859887,21905481,21799950,-43.374845869297161,6288744,6361734,72990,30,0.01]
[176,"Medford                      ",4622,4414,-208,59524340.664400004,59164566.017499991,-81.507622768466945,49107581,48810767,-67.24376982328954,12143306,12275726,132420,30,0.01]
[177,"Medway                       ",2186,2089,-97,23623580.679760002,23134189.308129996,-234.27064223552205,16885292,17421552,256.70655816179988,10501419,10564089,62670,30,0.01]
[178,"Melrose                      ",4013,3914,-99,43519030.447039999,44344391.455760002,210.8740441287693,35108451,36147679,265.51558507920288,8514496,8631916,117420,30,0.01]
[181,"Methuen                      ",7124,6767,-357,88769466.079999998,89379134.690000013,90.094371213242837,40325303,40893031,83.89655681986109,48444163,48647173,203010,30,0]
[182,"Middleborough                ",3073,3021,-52,35057530.5,35767383,234.97269116186692,18220402,19089621,{"$f":"(J128-I128)/$D128","v":287.72558755379015},17978609,18069239,{"$f":"M128-L128","v":90630},{"$f":"(M128-L128)/$D128","v":30},0.01]
[184,"Middleton                    ",686,658,-28,7013290.1260299999,6927207.1538000004,-130.82518575987766,5785964,5714946,-107.93009118541033,1666151,1685891,19740,30,0.01]
[185,"Milford                      ",4482,4422,-60,56604613.875760004,58526188.083009996,434.54866740162635,25435714,26079517,145.59090909090909,31168900,32446671,1277771,288.95771144278609,0.04]
[186,"Millbury                     ",1743,1633,-110,19675592.059999999,19104092.829999998,-349.96890998162917,11797270,12049555,154.49173300673607,7878322,7927312,48990,30,0.01]
[187,"Millis                       ",1088,1051,-37,11739340.2481,11844886.359460002,100.42446371075386,8676571,9095464,398.56612749762132,4831312,4862842,31530,30,0.01]
[189,"Milton                       ",4374,4340,-34,46912230.011340007,48097215.820799999,273.03820494469858,37346878,38757408,325.0069124423963,9567275,9697475,130200,30,0.01]
[191,"Monson                       ",934,883,-51,10603017.180000002,10403183.449999999,-226.31226500566513,5893568,6007448,128.96942242355607,7541075,7567565,26490,30,0]
[196,"Nahant                       ",266,263,-3,2739284.95,2845521.7600000002,403.94224334600784,2259910,2347555,333.25095057034218,523513,531403,7890,30,0.02]
[197,"Nantucket                    ",1664,1663,-1,19472349.760000002,20100924.599999998,377.97645219482627,16064689,16583263,311.83042693926637,3600249,3650139,49890,30,0.01]
[198,"Natick                       ",5484,5270,-214,58312471.325909987,57529966.215679981,-148.48294311764826,48107789,47462222,-122.49848197343454,10204682,10362782,158100,30,0.02]
[199,"Needham                      ",{"$f":"VLOOKUP(A138,aidcalc,14,FALSE)","v":5754},{"$f":"VLOOKUP(A138,aidcalc,15,FALSE)","v":5561},-193,{"$f":"VLOOKUP(A138,aidcalc,4,FALSE)","v":63004475.701059997},{"$f":"VLOOKUP(A138,aidcalc,9,FALSE)","v":62757965.939740002},{"$f":"(G138-F138)/$D138","v":-44.328315288616245},{"$f":"VLOOKUP(A138,aidcalc,5,FALSE)","v":51978693},{"$f":"VLOOKUP(A138,aidcalc,10,FALSE)","v":51775322},-36.570940478331238,{"$f":"VLOOKUP(A138,aidcalc,6,FALSE)","v":11025783},{"$f":"VLOOKUP(A138,aidcalc,25,FALSE)","v":11192613},166830,30,{"$f":"ROUND(IF(F138>0,(M138-L138)/L138,100),2)","v":0.02}]
[201,"New Bedford                  ",14257,14010,{"$f":"D139-C139","v":-247},197388756.04999998,206188927.62000003,628.13501570307301,31307615,32442344,80.994218415417564,166091904,173746584,7654680,546.37259100642393,0.05]
[204,"Newburyport                  ",2308,2211,-97,24204978.57,24047193.300000001,-71.363758480325444,19969107,19838934,-58.875169606512891,4235872,4302202,66330,30,0.02]
[207,"Newton                       ",12831,12113,-718,143592665.22735,140792530.04910001,-231.16776836869354,118463949,116153837,-190.71344836126477,25128716,25492106,363390,30,0.01]
[208,"Norfolk                      ",944,968,24,9555961.1148400009,10190816.706399998,655.84255326445953,7883668,8337473,468.80681818181819,3461385,3490425,29040,30,0.01]
[209,"North Adams                  ",1424,1308,-116,18178355.150000002,17897202.07,-214.94883792049077,5057245,5027520,-22.725535168195719,13809703,13848943,39240,30,0]
[210,"Northampton                  ",2745,2656,-89,31063338.950000003,30678559.000000004,-144.87196912650575,25627255,25309811,-119.51957831325301,7558369,7638049,79680,30,0.01]
[211,"North Andover                ",4704,4600,-104,50577443.990000002,51229167.579999998,141.67904130434698,41726391,42264063,116.88521739130435,9160097,9298097,138000,30,0.02]
[212,"North Attleborough           ",4170,4093,-77,45073173.739999995,45683012.360000007,148.99550940630644,28270188,29002278,178.86391399951137,20682041,20804831,122790,30,0.01]
[213,"Northborough                 ",1540,1567,27,15653167.560000001,16551243.649999999,573.11811742182385,12913864,13451109,342.84939374601151,3993500,4040510,47010,30,0.01]
[214,"Northbridge                  ",2074,2023,-51,23651358.309999999,24066339.760000002,205.13171033119278,12499433,12899827,197.92090954028671,15603931,15664621,60690,30,0]
[215,"North Brookfield             ",609,573,-36,6921441.0200000014,6863578.7700000005,-100.98123909249726,2970928,3115388,252.11169284467715,4290838,4308028,17190,30,0]
[217,"North Reading                ",2320,2243,-77,25345400.252699994,25122867.634200003,-99.212045697722047,20909956,20726365,-81.850646455639762,7153937,7221227,67290,30,0.01]
[218,"Norton                       ",2400,2301,-99,26443914.049999997,26330388.290000003,-49.337574967402951,18367335,18951479,253.86527596697087,12827390,12896420,69030,30,0.01]
[219,"Norwell                      ",2153,2138,-15,22887277.58972,23347458.345409997,215.23889414873585,18882004,19261653,177.57202993451824,4011711,4092385,80674,37.733395696913,0.02]
[220,"Norwood                      ",3531,3494,-37,42697305.215410002,43678902.616409995,280.9380082999408,33534173,34547211,289.93646250715511,9166992,9271812,104820,30,0.01]
[221,"Oak Bluffs                   ",447,438,-9,5068644.3499999996,5250477.3999999994,415.14394977168905,3984819,4061903,175.99086757990867,1083825,1190134,106309,242.71461187214612,0.1]
[223,"Orange                       ",595,532,-63,7238630.1499999985,6806427.04,-812.41186090225278,2020501,1964703,-104.88345864661655,5432046,5448006,15960,30,0]
[224,"Orleans                      ",204,183,-21,2333514.6599999997,2121258.23,-1159.8712021857907,1925150,1750038,-956.89617486338796,429984,435474,5490,30,0.01]
[226,"Oxford                       ",1655,1563,-92,19171590.48,18679880.199999996,-314.59390914907544,9891135,10080418,121.1023672424824,10566894,10613784,46890,30,0]
[227,"Palmer                       ",1413,1318,-95,17071234.920000002,16709438.479999997,-274.50412746586119,6857027,6791117,-50.007587253414265,10915640,10955180,39540,30,0]
[229,"Peabody                      ",5983,5877,-106,72290192.479999989,74033830.659999996,296.6884771141751,50135481,50930549,135.28466904883444,22171771,23103282,931511,158.50110600646587,0.04]
[230,"Pelham                       ",84,70,-14,928975.21,782638.4700000002,-2090.5248571428538,690492,645677,-640.21428571428567,238483,240583,2100,30,0.01]
[231,"Pembroke                     ",2854,2740,-114,31797805.646810003,31570380.367049992,-83.001926919711877,21249366,21759351,186.12591240875912,13608752,13690952,82200,30,0.01]
[234,"Petersham                    ",79,67,-12,932984.68,859319.13,-1099.4858208955231,640821,588398,-782.43283582089555,435523,437533,2010,30,0]
[236,"Pittsfield                   ",5920,5707,-213,76463876.149999991,79110404.659999996,463.73374978097166,28300807,29449820,201.33397581916944,48163069,49660585,1497516,262.39985982127212,0.03]
[238,"Plainville                   ",716,658,-58,7517996.1499999994,7127762.9100000001,-593.05963525835762,5427402,5273871,-233.32978723404256,2927801,2947541,19740,30,0.01]
[239,"Plymouth                     ",7951,7708,-243,94027629.56190002,96767564.539159998,355.46639559677982,71603127,74471293,372.1024909185262,26369547,26600787,231240,30,0.01]
[240,"Plympton                     ",227,214,-13,2429975.0922999997,2366031.9386399998,-298.79978345794314,1772432,1783978,53.953271028037385,740470,746890,6420,30,0.01]
[242,"Provincetown                 ",97,99,2,1297760.2800000003,1357829.1199999996,606.75595959595341,1070652,1120209,500.57575757575756,290781,293751,2970,30,0.01]
[243,"Quincy                       ",9657,9549,-108,129336079.22404,138447528.00444001,954.17832028484736,101589945,106595521,524.1989737145251,28647763,31872332,3224569,337.68656403811917,0.11]
[244,"Randolph                     ",3286,3265,-21,42468258.92028001,44771562.799199991,705.4529491332255,23490641,24106610,188.65819295558958,18986721,20667301,1680580,514.72588055130166,0.09]
[246,"Reading                      ",3975,3835,-140,42488891.059600003,42274011.335760005,-56.031218732724447,35053335,34876059,-46.225814863102997,10834809,10949859,115050,30,0.01]
[248,"Revere                       ",7979,7766,-213,107222329.50896001,119408964.46437,1569.2293272482602,36927909,38458098,197.03695596188513,70298333,80950866,10652533,1371.6885140355396,0.15]
[249,"Richmond                     ",125,112,-13,1449827.3,1294266.8799999999,-1388.9323214285728,1196108,1067770,-1145.875,364649,368009,3360,30,0.01]
[250,"Rochester                    ",514,483,-31,5386708.8799999999,5247585.0799999991,-288.04099378882142,3382851,3517393,278.55486542443066,2057549,2072039,14490,30,0.01]
[251,"Rockland                     ",2326,2251,-75,29202100.0068,29636842.031679999,193.13284090626365,14473503,14836781,161.38516215015548,14728597,14800061,71464,31.747667703243003,0]
[252,"Rockport                     ",665,594,-71,7619056.3994999984,6998375.1413199985,-1044.9179430639729,6285722,5773659,-862.05892255892252,1502126,1519946,17820,30,0.01]
[253,"Rowe                         ",50,43,-7,643874.47,580639.88,-1470.5718604651156,531196,479028,-1213.2093023255813,139775,141065,1290,30,0.01]
[258,"Salem                        ",4536,4315,-221,59442159.61999999,59973101.910000004,123.04572190035087,35764101,36940239,272.56964078794903,25807152,25936602,129450,30,0.01]
[261,"Sandwich                     ",2644,2480,-164,28550950.060000002,27638904.289999999,-367.76039112903356,23554534,22802096,-303.40241935483868,7151788,7226188,74400,30,0.01]
[262,"Saugus                       ",2798,2612,-186,33051187.879999995,31864908.979999997,-454.16496937212804,26786282,26288549,-190.55627871362941,6270812,6349172,78360,30,0.01]
[263,"Savoy                        ",50,45,-5,635304.58000000007,542332.33000000007,-2066.0500000000002,372887,447424,1656.3777777777777,515849,517199,1350,30,0]
[264,"Scituate                     ",2991,2790,-201,32099035.583470002,30894315.612089995,-431.79927289605968,26068183,25487810,-208.0189964157706,6030853,6114553,83700,30,0.01]
[265,"Seekonk                      ",2077,2048,-29,22173871.389999997,22858887.199999999,334.48037597656366,15952238,16514693,274.63623046875,6705263,6766703,61440,30,0.01]
[266,"Sharon                       ",3535,3471,-64,38206192.104400009,38638373.186679997,124.51197991356601,30736571,31062235,93.824258138864877,7469972,8528536,1058564,304.97378277153558,0.14000000000000001]
[269,"Sherborn                     ",400,387,-13,4086891.646209999,4092250.4348000004,13.846998940572114,3371686,3376106,11.421188630490956,715207,726817,11610,30,0.02]
[271,"Shrewsbury                   ",6207,6144,-63,66373147.319999993,67854307.580000013,241.07426106771163,50487975,52472153,322.94563802083331,20068648,20252968,184320,30,0.01]
[272,"Shutesbury                   ",105,98,-7,1221694.1099999999,1167665.8499999999,-551.30877551020421,712492,713413,9.3979591836734695,630386,633326,2940,30,0]
[273,"Somerset                     ",1758,1642,-116,18501842.410000004,17923179.719999999,-352.41333130329178,9406646,9348329,-35.515834348355661,9096902,9146162,49260,30,0.01]
[274,"Somerville                   ",5282,5049,-233,72325602.754360005,77023976.661080003,930.555339021588,59668622,62371611,535.35135670429793,20486918,20638388,151470,30,0.01]
[275,"Southampton                  ",462,448,-14,4972548.3299999991,5095671.4799999995,274.82845982142942,3367625,3512848,324.15848214285717,2551486,2564926,13440,30,0.01]
[276,"Southborough                 ",1225,1156,-69,12497359.942009997,12226979.455160001,-233.89315471452883,10310322,10087258,-192.96193771626298,2986051,3020731,34680,30,0.01]
[277,"Southbridge                  ",2231,2210,-21,29979243.07,31977786.810000002,904.3184343891412,8016911,8279716,{"$f":"(J191-I191)/$D191","v":118.91628959276018},22989832,23698071,{"$f":"M191-L191","v":708239},{"$f":"(M191-L191)/$D191","v":320.47013574660633},0.03]
[278,"South Hadley                 ",1941,1837,-104,22558199.090000004,22281902.760000002,-150.40627653783449,14027360,14084456,31.081110506260206,8530839,8585949,55110,30,0.01]
[281,"Springfield                  ",29551,29144,-407,419043165.70000011,446524567.99999994,942.95231608563802,41873391,43175654,44.683742794400217,377169775,403348914,26179139,898.26856299752956,7.0000000000000007E-2]
[284,"Stoneham                     ",2450,2376,-74,27298622.593199998,27721100.205059998,177.81044270202003,22148293,22660313,215.496632996633,5266351,5337631,71280,30,0.01]
[285,"Stoughton                    ",3644,3540,-104,44058289.500399999,44927626.417459995,245.57540029943368,27084504,27845850,215.06949152542373,16973793,17235177,261384,73.837288135593226,0.02]
[287,"Sturbridge                   ",870,804,-66,8866569.3900000006,8608625.4299999997,-320.82582089552352,5185477,5070480,-143.03109452736319,3846634,3870754,24120,30,0.01]
[288,"Sudbury                      ",2690,2524,-166,26639866.135919996,25581450.369169995,-419.34063658874817,21977890,21104696,-345.95641838351821,4990518,5066238,75720,30,0.02]
[289,"Sunderland                   ",171,141,-30,2034470.88,1721299.0999999999,-2221.0764539007096,1662285,1420072,-1717.822695035461,872838,877068,4230,30,0]
[290,"Sutton                       ",1321,1257,-64,13916186.880000001,13690363.949999999,-179.65229116945233,10856059,11091587,187.37311058074781,5479815,5517525,37710,30,0.01]
[291,"Swampscott                   ",2155,2086,-69,23409223.779999994,23502231.440000005,44.586605944396609,18964138,19389341,203.8365292425695,4447386,4509966,62580,30,0.01]
[292,"Swansea                      ",2115,2044,-71,22877752.370000001,23940769.109999999,520.06689823874672,14533757,14745527,103.60567514677103,8449049,9195242,746193,365.0650684931507,0.09]
[293,"Taunton                      ",{"$f":"VLOOKUP(A202,aidcalc,14,FALSE)","v":8113},{"$f":"VLOOKUP(A202,aidcalc,15,FALSE)","v":7953},-160,{"$f":"VLOOKUP(A202,aidcalc,4,FALSE)","v":103523189.69},{"$f":"VLOOKUP(A202,aidcalc,9,FALSE)","v":107043467.58},{"$f":"(G202-F202)/$D202","v":442.63521815667053},{"$f":"VLOOKUP(A202,aidcalc,5,FALSE)","v":36893138},{"$f":"VLOOKUP(A202,aidcalc,10,FALSE)","v":38153915},158.52847981893626,{"$f":"VLOOKUP(A202,aidcalc,6,FALSE)","v":66638377},{"$f":"VLOOKUP(A202,aidcalc,25,FALSE)","v":68896940},2258563,283.98880925436941,{"$f":"ROUND(IF(F202>0,(M202-L202)/L202,100),2)","v":0.03}]
[295,"Tewksbury                    ",3364,3256,{"$f":"D203-C203","v":-108},35851430.130000003,35982818.319999993,40.352638206385187,29577430,29685825,33.290847665847664,13326215,13423895,97680,30,0.01]
[296,"Tisbury                      ",371,343,-28,4358704.2899999991,4207932.1499999994,-439.56892128279787,3499193,3462684,-106.4402332361516,859511,869801,10290,30,0.01]
[298,"Topsfield                    ",627,542,-85,6270046.2603099989,5583546.5710300002,-1266.6045927675252,5031835,4606426,-784.88745387453878,1239023,1255283,16260,30,0.01]
[300,"Truro                        ",213,199,-14,2296768.69,2253510.1199999996,-217.37974874372009,1894834,1859146,-179.33668341708542,402446,408416,5970,30,0.01]
[301,"Tyngsborough                 ",1645,1626,-19,17653818.739999998,18200500.57,336.21268757687699,12650386,12713256,38.665436654366545,7409074,7457854,48780,30,0.01]
[304,"Uxbridge                     ",1776,1693,-83,19464063.84,19398107.32,-38.958369757826077,12445154,12927160,284.70525694034257,9438614,9489404,50790,30,0.01]
[305,"Wakefield                    ",3480,3384,-96,38545137.935350008,38638839.541639999,27.689599967491208,31799739,31877042,22.843676122931441,6745399,6846919,101520,30,0.02]
[306,"Wales                        ",145,130,-15,1614023.6,1543003.67,-546.30715384615519,613294,564773,-373.23846153846154,1000730,1004630,3900,30,0]
[307,"Walpole                      ",3587,3573,-14,39454988.392580003,40749021.079649992,362.16979766862295,32550365,33446471,250.79932829554997,8182871,8290061,107190,30,0.01]
[308,"Waltham                      ",5746,5524,-222,78968509.286119998,79126547.643249989,28.609405707818802,63760767,65279402,274.91582186821142,15541249,15706969,165720,30,0.01]
[309,"Ware                         ",1289,1277,-12,15723620.550000001,16595927.159999996,683.0905324980389,5305670,5393117,68.478465152701645,10591234,11202810,611576,478.91620986687548,0.06]
[310,"Wareham                      ",2403,2269,-134,29995900.239999998,30246630.430000003,110.50250771265098,18760166,19008275,109.34728955486999,13381730,13449800,68070,30,0.01]
[314,"Watertown                    ",2678,2607,-71,33148323.506280009,33614343.104620002,178.75703810509916,27347367,27731833,147.47449175297277,5858595,5936805,78210,30,0.01]
[315,"Wayland                      ",2653,2647,-6,28213341.421039999,29175011.111419998,363.30551204382306,23276007,23897476,234.78239516433698,5299764,5379174,79410,30,0.01]
[316,"Webster                      ",2023,1870,-153,26082448.07,25360639.029999997,-385.99413903743465,11471908,11546702,39.99679144385027,14610856,14666956,56100,30,0]
[317,"Wellesley                    ",4876,4466,-410,52873250.972209997,49998663.731600001,-643.66037631213521,43620433,41248897,-531.02015226153162,9273504,9407484,133980,30,0.01]
[318,"Wellfleet                    ",115,114,-1,1257777.1000000001,1274233.2699999998,144.35236842104993,1037666,1051243,119.09649122807018,220111,223660,3549,31.131578947368421,0.02]
[321,"Westborough                  ",3783,3821,38,40523119.020000003,42200577.130000003,439.01023554043428,32212271,31967462,-64.069353572363255,8310848,11190003,2879155,753.50824391520541,0.35]
[322,"West Boylston                ",854,832,-22,9693716.8899999987,9723140.6099999994,35.365048076923884,7543146,7800056,308.78605769230768,3034005,3058965,24960,30,0.01]
[323,"West Bridgewater             ",1107,1100,-7,12165316.310000001,12509536.450000003,312.92740000000225,8009301,8120160,100.78090909090909,4157054,4569989,412935,375.39545454545453,0.1]
[325,"Westfield                    ",5221,4980,-241,65292799.700000003,64714818.569999993,-116.06046787148797,27986427,28674517,138.17068273092369,37306373,37455773,149400,30,0]
[326,"Westford                     ",4715,4586,-129,49470077.997149989,49437144.66234,-7.1812766702984598,38573963,38453895,-26.181421718273004,17144235,17281815,137580,30,0.01]
[327,"Westhampton                  ",116,103,-13,1307846.49,1221027.5199999998,-842.90262135922524,960638,977281,161.58252427184465,477140,480230,3090,30,0.01]
[330,"Weston                       ",2057,1928,-129,22266149.914000005,21554028.930860002,-369.35735640041645,18369574,17782074,-304.71991701244815,3949220,4007060,57840,30,0.01]
[331,"Westport                     ",1505,1471,-34,16658171.17,16990670.259999998,226.03609109449218,13742991,14017303,186.47994561522773,4559462,4603592,44130,30,0.01]
[332,"West Springfield             ",4138,3995,-143,52593244.399999991,53788012.660000004,299.06589737171782,20539659,20662897,30.848060075093866,32053585,33125116,1071531,268.21802252816019,0.03]
[335,"Westwood                     ",3001,2941,-60,32201274.010420009,32473679.60554,92.623459748381649,26566051,26790785,76.414144848690924,5635223,5723453,88230,30,0.02]
[336,"Weymouth                     ",5921,5929,8,73265345.799600005,76134831.638579994,483.97467346601269,56687928,58393693,287.69860010119748,28433225,28611095,177870,30,0.01]
[337,"Whately                      ",79,81,2,904197.0199999999,961185.17,703.55740740740919,739905,774927,432.37037037037038,264770,267200,2430,30,0.01]
[340,"Williamsburg                 ",176,168,-8,2006916.64,2025767.98,112.21035714285765,1291212,1285613,-33.327380952380949,715705,785367,69662,414.65476190476193,0.1]
[342,"Wilmington                   ",3220,2818,-402,35336725.314499997,31976675.075399999,-1192.3528172817594,28856084,26380757,-878.39850958126328,11469170,11553710,84540,30,0.01]
[343,"Winchendon                   ",1322,1283,-39,15745625.66,16192011.48,347.92347622759183,5282604,5511010,178.024941543258,11491100,11529590,38490,30,0]
[344,"Winchester                   ",4685,4513,-172,49895727.543140002,49628251.23258999,-59.267961566588014,40278256,40943308,147.36361621980944,9617689,9753079,135390,30,0.01]
[346,"Winthrop                     ",1986,1907,-79,23537383.711800005,23441502.304000001,-50.278661667542679,16793461,17313006,272.44100681699001,7340903,7398113,57210,30,0.01]
[347,"Woburn",4517,4384,-133,54604897.586800009,54858831.045920007,57.922778083941132,45049041,45258536,47.786268248175183,9555857,9687377,131520,30,0.01]
[348,"Worcester                    ",27442,26540,-902,382606983.73000002,400051102.55999994,657.27651959306422,105210987,108945977,140.73059532780709,277395997,291115647,13719650,516.94235116804828,0.05]
[349,"Worthington",123,102,-21,1374749.7299999997,1188969.8699999999,-1821.371176470587,1018495,980900,{"$f":"(J239-I239)/$D239","v":-368.57843137254901},356255,359315,{"$f":"M239-L239","v":3060},{"$f":"(M239-L239)/$D239","v":30},0.01]
[350,"Wrentham                     ",874,822,-52,9053868.8087499999,8698911.8334400002,-431.82113784671492,7469442,7176602,-356.25304136253044,3793153,3817813,24660,30,0.01]
[406,"Northampton Smith            ",113,116,3,2690854.48,3117227.3600000003,3675.6282758620719,2219955,2571713,3032.3965517241381,913025,916505,{"$f":"M241-L241","v":3480},{"$f":"(M241-L241)/$D241","v":30},0]
[600,"Acton Boxborough             ",5294.0000000000009,5120,-174.00000000000091,57745972.612679996,57822927.827799991,15.030315453124057,46230356,46723042,96.227734374999997,15185311,15338911,153600,30,0.01]
[603,"Hoosac Valley",1254,1178,-76,15339849.779999997,15216793.440000001,-104.46208828522592,5843907,5725567,-100.45840407470288,10354753,10390093,35340,30,0]
[605,"Amherst Pelham               ",1398.9999999860099,1330.0000000133,-68.999999972709929,16921238.979830787,16668696.930166688,-189.88124034704762,12834959,12787466,-35.709022556033887,9561457,9601357.0000003986,39900.000000398606,29.999999999999705,0]
[610,"Ashburnham Westminster       ",2286,2184,-102,24646397.09,24454471.870000005,-87.877847985345738,12303561,12482932,82.129578754578759,12361170,12426690,65520,30,0.01]
[615,"Athol Royalston              ",1770,1666,-104,21729158.719999999,21516033.310000002,-127.92641656662451,3616401,3826520,126.1218487394958,18112758,18162738,49980,30,0]
[616,"Ayer Shirley",1689,1642,-47,19068236.100000005,19326736.270000003,157.43006699147264,12820462,13326540,{"$f":"(J247-I247)/$D247","v":308.20828258221678},8301431,8350691,49260,30,0.01]
[618,"Berkshire Hills              ",970,936.99999999062993,-33.000000009370069,11846383.439999999,11959904.129880402,121.15335099417074,9773266,9866921,99.951974387338907,2933388,2961498,28110,30.000000000300002,0.01]
[620,"Berlin Boylston              ",950,977.00000000000011,27.000000000000114,10107518.1,10696909.850000001,603.26688843398347,8212670,8558303,353.76970317297844,2139724,2169034,29310,29.999999999999996,0.01]
[622,"Blackstone Millville         ",1737,1675,-62,19305133.509999998,19313058.34,4.7312417910459326,9159231,9358379,118.89432835820895,10985239,11035489,50250,30,0]
[625,"Bridgewater Raynham          ",5506,5446,-60,59327586.659999996,60696669.610000007,251.39238890929315,36619588,37575602,175.54425266250459,22716693,23266232,549539,100.90690414983474,0.02]
[632,"Chesterfield Goshen",112,100,-12,1184019.3600000001,1138617.54,-454.01820000000066,774310,808979,346.69,751930,754930,3000,30,0]
[635,"Central Berkshire            ",1532.0000000000002,1515.9999999848403,-16.000000015159912,17769137.719999999,18403560.679815963,418.48480199360699,10821874,11139154,209.28759894668386,8773249,8818729,45480,30.000000000299995,0.01]
[640,"Concord Carlisle             ",1323,1346,23,15698387.201840004,16437449.391079996,549.08037833580374,12951170,13560896,452.99108469539374,2747217,2885882,138665,103.02005943536405,0.05]
[645,"Dennis Yarmouth              ",3334,3140,-194,40772315.190000005,40000864.339999996,-245.68498407643597,32996593,32339804,-209.1684713375796,7812700,7906900,94200,30,0.01]
[650,"Dighton Rehoboth             ",2854,2665,-189,31470516.579999998,30297677.200000003,-440.08982363977304,20472580,20851154,{"$f":"(J256-I256)/$D256","v":142.05403377110693},12956936,13036886,79950,30,0.01]
[655,"Dover Sherborn               ",1241,1229,-12,13502936.345999997,13732496.655719997,186.78625689178213,11139922,11329309,154.09845402766476,2363014,2413514,50500,41.090317331163547,0.02]
[658,"Dudley Charlton              ",3556,3338,-218,39294595.160000004,38219798.009999998,-321.98836129418993,17806070,18216746,123.03055721989215,24488263,24588403,100140,30,0]
[660,"Nauset                       ",1196,1190.0000000119001,-5.9999999880999439,13928035.579999996,14255426.050142555,275.11804213385233,11407465,11760727,296.85882352644319,3526849,3562549.0000003572,35700.000000357162,30.000000000000135,0.01]
[662,"Farmington River",208,210,2,2289345.04,2405493.8899999997,553.08976190476017,1877720,1931789,257.47142857142859,494950,501250,6300,30,0.01]
[665,"Freetown Lakeville           ",2826,2715,-111,30420774.669999998,30046775.879999999,-137.75277716390391,20383874,21121724,271.76795580110496,11102173,11183623,81450,30,0.01]
[670,"Frontier                     ",579,560,-19,6668350.6099999994,6641609.6799999997,-47.75166071428518,5440174,5465964,46.053571428571431,2855535,2872335,16800,30,0.01]
[672,"Gateway                      ",850.99999999148986,779.99999999999989,-70.999999991489972,10053035.289899468,9593037.4600000009,-589.74080756342005,5377560,5218013,-204.54743589743592,5658699,5682099,23400,30.000000000000004,0]
[673,"Groton Dunstable             ",2317,2253,-64,24034914.079999994,23977455.170000002,-25.503288948066,19807347,19781401,-11.516200621393697,10920053,10987643,67590,30,0.01]
[674,"Gill Montague                ",1074,970,-104,13224252.970000001,12355223.119999999,-895.9070618556716,6123497,6065329,-59.967010309278351,7100756,7129856,29100,30,0]
[675,"Hamilton Wenham              ",{"$f":"VLOOKUP(A266,aidcalc,14,FALSE)","v":1780},{"$f":"VLOOKUP(A266,aidcalc,15,FALSE)","v":1640},-140,{"$f":"VLOOKUP(A266,aidcalc,4,FALSE)","v":18910528.193439998},{"$f":"VLOOKUP(A266,aidcalc,9,FALSE)","v":17836078.693319999},{"$f":"(G266-F266)/$D266","v":-655.15213421951159},{"$f":"VLOOKUP(A266,aidcalc,5,FALSE)","v":15169999},{"$f":"VLOOKUP(A266,aidcalc,10,FALSE)","v":14714765},-277.58170731707315,{"$f":"VLOOKUP(A266,aidcalc,6,FALSE)","v":3742189},{"$f":"VLOOKUP(A266,aidcalc,25,FALSE)","v":3791389},49200,30,{"$f":"ROUND(IF(F266>0,(M266-L266)/L266,100),2)","v":0.01}]
[680,"Hampden Wilbraham            ",2919,2806,{"$f":"D267-C267","v":-113},31697327.079999998,31633420.859999996,-22.774846756950296,22048457,21974391,-26.395580898075551,11920364,12004544,84180,30,0.01]
[683,"Hampshire                    ",672,638,-34,7581893.040000001,7385184.3199999994,-308.32087774294922,5141694,5155929,22.311912225705328,3271593,3290733,19140,30,0.01]
[685,"Hawlemont                    ",93.000000000000014,79,-14.000000000000014,1210178.3199999998,1114456.54,-1211.6681012658203,645856,626296,-247.59493670886076,636346,638716,2370,30,0]
[690,"King Philip                  ",2057,2024,-33,22821189.415249996,23108672.780000001,142.03723554842159,18216801,18487068,133.53112648221344,7592980,7653700,60720,30,0.01]
[695,"Lincoln Sudbury              ",1568,1586,18,17971715.490000002,18587999.26021,388.57740870743879,14826665,15335100,320.57692307692309,3145998,3264670,118672,74.824716267339213,0.04]
[698,"Manchester Essex",1348,1253,-95,14540612.442779997,13975373.452520002,-451.10853173184012,11993491,11529683,-370.15802075019951,3048668,3086258,37590,30,0.01]
[700,"Marthas Vineyard             ",711,737,26,10520255.699999999,11375989.939999998,1161.1048032564429,8507902,9214998,959.42469470827677,2875680,2897790,{"$f":"M273-L273","v":22110},{"$f":"(M273-L273)/$D273","v":30},0.01]
[705,"Masconomet                   ",1776,1732.9999999999998,-43.000000000000227,19718785.499960002,19942249.616000004,128.94640279284627,16147421,16452356,175.9578765147144,5201349,5253339,51990,30.000000000000004,0.01]
[710,"Mendon Upton                 ",2177,2103,-74,22739749.350000001,22629367.129999995,-52.487979077511298,16799739,17240401,209.53970518307179,12448756,12511846,63090,30,0.01]
[712,"Monomoy",1794,1732,-62,21026943.91,20768967.640000001,-148.94703810623531,17347229,17123821,{"$f":"(J276-I276)/$D276","v":-128.98845265588915},3798314,3850274,51960,30,0.01]
[715,"Mount Greylock               ",1044,1014,-30,11284468.84,11519400.35,231.68787968441794,8495288,8440595,-53.937869822485204,3554057,3584477,30420,30,0.01]
[717,"Mohawk Trail                 ",901.00000000900991,816.00000000816021,-85.000000000849695,10427668.720104279,9675020.5800967515,-922.36291666666773,6461323,6376119,-104.41666666562247,6056894,6081374.0000002449,24480.000000244938,30.00000000000016,0]
[720,"Narragansett                 ",1302,1234,-68,15197160.489999998,14626287.25,-462.62012965964209,5910692,6105079,157.52593192868719,9951444,9988464,37020,30,0]
[725,"Nashoba                      ",3083.0000000308301,3138,54.999999969169949,33255128.344112549,34773057.486100003,483.72502931403892,26177398,26910918,233.75398342893564,7273744,7867074,593330,189.07903123008285,0.08]
[728,"New Salem Wendell            ",109,106,-3,1245264.42,1358881.8199999998,1071.8622641509426,622259,631626,88.367924528301884,688101,727256,39155,369.38679245283021,0.06]
[730,"Northboro Southboro          ",1414,1384,-30,16134802.42,16306106.100000001,123.77433526011674,13311213,13325314,10.188583815028903,3168064,3209584,41520,30,0.01]
[735,"North Middlesex              ",3158,2991.0000000299101,-166.9999999700899,34146333.740000002,33474930.930334739,-224.47435963174479,19126198,19920829,265.67402206354183,20393183,20482913.000000898,89730.000000897795,30.000000000000163,0]
[740,"Old Rochester                ",1087.9999999891199,1050.0000000104999,-37.999999978620053,12077635.709879227,12039903.340120399,-35.935590246143136,9154169,9317336,155.3971428555889,3043394,3074894.0000003148,31500.000000314787,29.999999999999801,0.01]
[745,"Pentucket                    ",2337,2269,-68,24591001.459999997,24481014.440000001,-48.473785808724472,18039518,18526892,214.79682679594535,13182092,13250162,68070,30,0.01]
[750,"Pioneer                      ",664,617.9999999938201,-46.000000006179903,7480877.54,7287026.7699271282,-313.67438523432088,4952541,4945385,-11.579288026005759,4170581,4189121,18540,30.000000000299995,0]
[753,"Quabbin                      ",1941.0000000000002,1913.9999999808599,-27.000000019140316,21987482.310000002,22572922.539774276,305.87263833862505,10612170,10987702,196.20271682536853,16646098,16703518,57420,30.000000000300002,0]
[755,"Ralph C Mahar                ",619,611,-8,7840085.4000000013,8156581.7700000005,517.9973322422245,2752972,2902578,244.8543371522095,5432010,5450340,18330,30,0]
[760,"Silver Lake                  ",1722,1701,-21,20918448.416320004,21627662.329539999,416.93939636684058,13276729,13837284,329.54438565549674,8215063,8266093,51030,30,0.01]
[763,"Somerset Berkley",1027,1024,-3,12334812.139999997,12639534.48,297.58041015625349,6312225,6636166,{"$f":"(J290-I290)/$D290","v":316.3486328125},6024105,6054825,30720,30,0.01]
[765,"Southern Berkshire           ",671,670,-1,7868392.9199999999,7970637.4099999983,152.603716417908,6306994,6494543,279.92388059701494,1986791,2006891,20100,30,0.01]
[766,"Southwick Tolland Granville",1414,1321.0000000000002,-92.999999999999773,16651613.440000001,15958927.809999997,-524.36459500378839,10981419,11074236,70.26267978803935,9846558,9886188,39630,29.999999999999996,0]
[767,"Spencer East Brookfield      ",1552,1516,-36,18621361.77,18910770.789999999,190.90304749340339,8878789,9144752,175.43733509234829,13695254,13740734,45480,30,0]
[770,"Tantasqua                    ",1572,1549,-23,20061782.279999997,20438009.030000001,242.88363460297205,10777102,11223460,288.15881213686248,9284680,9331150,46470,30,0.01]
[773,"Triton                       ",2290,2127,-163,26062844.622510001,24917419.660840005,-538.51667215326586,21501846,20556872,-444.27550540667607,8777631,8841441,63810,30,0.01]
[774,"Upisland",400.99999999598992,393.00000000392998,-7.9999999920599407,4423020.3299557688,4428346.7900442835,13.553333558426104,3648991,3653385,11.180661577496336,879292,891082.00000011793,11790.000000117929,30.000000000000075,0.01]
[775,"Wachusett                    ",7025.9999999297406,6728,-297.99999992974062,73935156.649260655,73176176.700000003,-112.80914822542391,44374979,45202423,122.98513674197385,29560178,29762018,201840,30,0.01]
[778,"Quaboag",1175,1118,-57,14111900.640000004,14365916.490000002,227.20559033989068,5557868,5833977,246.96690518783541,9158560,9192100,33540,30,0]
[780,"Whitman Hanson               ",3659,3528,-131,40183483.009999998,40067180.660000011,-32.965518707479191,20355354,21155625,226.8341836734694,24776700,24882540,105840,30,0]
[801,"Assabet Valley               ",871.99999999127999,891,19.000000008720008,16217721.547997823,17308906.848700002,1224.6748604962725,10027775,10888732,966.28170594837263,6208186,6421072,212886,238.92929292929293,0.03]
[805,"Blackstone Valley            ",1241.9999999875804,1243,1.0000000124196049,20447639.179795522,20972471.779999997,422.23057136321415,12329585,13049503,579.17779565567173,8264744,8302034,37290,30,0]
[806,"Blue Hills                   ",869.00000000868999,896,26.999999991310005,15853872.642718541,16985563.998199999,1263.0483878141281,10498516,11273090,864.47991071428567,5377315,5713327,336012,375.01339285714283,0.06]
[810,"Bristol Plymouth             ",1342,1355,13,23238134.84,24404455.759999998,860.75344649446356,11152285,12064493,673.21623616236161,12133330,12341965,208635,153.97416974169741,0.02]
[815,"Cape Cod                     ",622.00000000000011,632.99999999366992,10.999999993669803,11419229.199999999,11917313.979880825,786.86379128879355,9275007,9759779,765.83254345157627,2184147,2203137,18990,30.000000000300005,0.01]
[817,"Essex North Shore",1165.0000000116499,1224.9999999999998,59.999999988349828,19917637.840199184,22210361.840000004,1871.611428408833,14966372,16751014,1456.8506122448982,4972500,5459940,{"$f":"M305-L305","v":487440},{"$f":"(M305-L305)/$D305","v":397.91020408163274},0.1]
[818,"Franklin County              ",484.99999999029995,531.99999999468002,47.00000000438007,8790347.6998241916,10081677.069899183,2427.3108460298954,4547736,5276878,1370.5676691866379,4242612,4805223,562611,1057.5394736947858,0.13]
[821,"Greater Fall River           ",1498,1497.9999999850199,-1.4980059859226458E-8,26716946.030000001,28548221.689714517,1222.4804137068286,8563722,8806953,162.37049399361302,18196847,19741656,1544809,1031.2476635617145,0.08]
[823,"Greater Lawrence             ",1594,1645,51,32861439.491759997,35868845.641520008,1828.2104253860252,4907043,5883228,593.42553191489367,27954396,29985618,2031222,1234.7854103343466,7.0000000000000007E-2]
[825,"Greater New Bedford          ",2128,2123,-5,38691322.399999999,41130342.100000001,1148.8552520018854,11380986,12175349,374.17004239284034,27384112,28956006,1571894,740.41168158266601,0.06]
[828,"Greater Lowell               ",2351.99999997648,2373,21.000000023519988,43544496.41956456,46396730.020000003,1201.9526339803806,14050785,14488947,184.6447534766119,29582555,31907783,2325228,979.86852085967132,0.08]
[829,"South Middlesex              ",798,816.99999999183001,18.999999991830009,15367478.658029996,16551959.786334479,1449.793302712764,9170454,10013400,1031.7576499491181,6197025,6548952,351927,430.7552019626919,0.06]
[830,"Minuteman                    ",409.00000000408994,491,81.999999995910059,7604263.0698360428,9892046.4984500017,4659.4367181547022,5992288,7861244,3806.4276985743381,1977748,2031339,53591,109.14663951120163,0.03]
[832,"Montachusett                 ",1470.0000000146999,1460.9999999853901,-9.000000029309831,25382631.02025383,25893443.339741066,349.63197774972247,9937436,10458906,356.92676249501346,15445809,15489639,43830,30.000000000299998,0]
[851,"Northern Berkshire           ",461.00000000000006,462.99999999999994,1.9999999999998863,8244375,8582446.4999999981,730.17602591792263,3172855,3268863,207.36069114470845,5071520,5316141,244621,528.33909287257029,0.05]
[852,"Nashoba Valley               ",653.99999999346005,666.99999999332999,12.999999999869942,11332310.899736676,11843081.30975157,765.77272866566955,8006848,8677220,1005.0554722739187,3717284,3737294,20010,30.000000000300002,0.01]
[853,"Northeast Metropolitan       ",1271,1281.0000000128102,10.000000012810233,23843254.848850004,25599015.769705985,1370.6174245420941,13124735,14354270,959.82435596229857,10745350,11244913,499563,389.97892271272775,0.05]
[855,"Old Colony                   ",467,498.00000000498,31.000000004979995,7921696.2200000016,8771732.7200877182,1706.9006025687074,4845112,5624848,1565.7349397433788,3282354,3297294.0000001495,14940.000000149477,30.000000000000156,0]
[860,"Pathfinder                   ",577.99999999422005,560.9999999943899,-16.999999999830152,10484384.559895158,10521613.089894783,66.361016042775816,4455062,4559455,186.08377896799277,6051178,6068008,16830,30.000000000300005,0]
[871,"Shawsheen Valley             ",1275.0000000127498,1315,39.999999987250249,21443569.573314432,22505083.522360001,807.23494223997625,17321815,18566695,946.67680608365015,6470511,6509961,39450,30,0.01]
[872,"Southeastern                 ",1516.9999999999998,1623.9999999999995,106.99999999999977,26978734.039999999,31199664.219999995,2599.0949384236437,10323654,11824738,924.31280788177367,16871155,19375182,2504027,1541.8885467980299,0.15]
[873,"South Shore                  ",544,561,17,9696307.4090200011,10334881.008950002,1138.2773617290577,5540283,6044013,897.91443850267376,4442848,4459678,16830,30,0]
[876,"Southern Worcester           ",1176.99999997646,1200.0000000119999,23.00000003553987,20163226.599596739,21417723.040214177,1045.413700504078,8939018,9831831,{"$f":"(J322-I322)/$D322","v":744.01083332589326},11243208,11586540,343332,286.10999999713891,0.03]
[878,"Tri County                   ",929.99999999069996,905,-24.999999990699962,16446455.91653554,16893468.743349999,493.93682520934766,11583064,12199549,681.1988950276243,5716838,5743988,27150,30,0]
[879,"Upper Cape Cod               ",742,761.00000000760997,19.00000000760997,12856564.119999999,13571524.320135718,939.50092001126075,9721410,10320217,786.86859394745329,3262258,3285088.0000002282,22830.000000228174,29.999999999999837,0.01]
[885,"Whittier                     ",1256.0000000000002,1244.0000000373198,-11.999999962680477,22219393.409999993,22987502.880689632,617.45134297957907,11408976,11920144,410.90675239924843,10835866,11067840,231974,186.47427652173701,0.02]
[910,"Bristol County               ",378,382.00000000763993,4.000000007639926,6594994.5600000005,6769003.2801353801,455.52020976937024,3396297,3495898,260.7356020890262,3238896,3291775,52879,138.42670156791212,0.02]
[915,"Norfolk County               ",274.00000000274008,284.00000000000006,9.9999999972599767,4921619.8021892179,5268916.5291999988,1222.8757993337356,3697896,3999047,1060.3908450704223,1291559,1300079,8520,29.999999999999993,0.01]
[999,"State Total, All Districts",938084.99999988743,907506.00000004878,{"$f":"D328-C328","v":-30578.999999838648},11626531095.326303,11926225791.726231,330.23990629253251,6705321561,6827673657,{"$f":"(J328-I328)/$D328","v":134.82235489351413},{"$f":"VLOOKUP(A328,aidcalc,6,FALSE)+308558","v":5283651631.4799995},{"$f":"VLOOKUP(A328,aidcalc,25,FALSE)+308558","v":5503268224.6000013},219616593.12000179,242.00015550309308,0.04]
[]
[]
[null,"increasing",null,null,{"$f":"COUNTIF(E10:E327,\">0\")","v":41},null,null,{"$f":"COUNTIF(H10:H327,\">.5\")","v":171},null,null,{"$f":"COUNTIF(K10:K327,\">.5\")","v":228},null,null,{"$f":"COUNTIF(N10:N327,\">.5\")","v":318},{"$f":"COUNTIF(O10:O327,\">.5\")","v":318}]
[null,"decreasing",null,null,{"$f":"COUNTIF(E10:E327,\"<0\")","v":277},null,null,{"$f":"COUNTIF(H10:H327,\"<-.5\")","v":146},null,null,{"$f":"COUNTIF(K10:K327,\"<-.5\")","v":89},null,null,{"$f":"COUNTIF(N10:N327,\"<-.5\")","v":0},{"$f":"COUNTIF(O10:O327,\"<-.5\")","v":0}]
[null,"same",null,null,{"$f":"318-E331-E332","v":0},null,null,{"$f":"318-H331-H332","v":1},null,null,{"$f":"318-K331-K332","v":1},null,null,{"$f":"318-N331-N332","v":0},{"$f":"318-O331-O332","v":0}]

{"sheet":"Rates","index":11,"n_rows":33,"n_cols":14,"rows_kept":33,"cut":false,"hidden":false,"merged":[]}
[]
[]
["Massachusetts Department of Elementary and Secondary Education"]
["Office of School Finance"]
[]
[{"$f":"\"Foundation Budget Rates Per Pupil, \"& CYr &\" Chapter 70\"","v":"Foundation Budget Rates Per Pupil, FY22 Chapter 70"}]
[]
[null,null,"Administration","Instructional Leadership","Classroom & Specialist Teachers","Other Teaching Services","Professional Development","Instructional Materials, Equipment & Technology","Guidance & Psychological Services","Pupil Services","Operations & Maintenance","Employee Benefits/Fixed Charges","Special Education Tuition","Total, All Categories"]
[]
[1,"Pre-school",202.69,366.06,1678.52,430.49,66.38,242.94,134.35,48.57,466.11,583.96,0,4220.0700000000006]
[2,"Kindergarten half-day",202.69,366.06,1678.52,430.49,66.38,242.94,134.35,48.57,466.11,583.96,0,4220.0700000000006]
[3,"Kindergarten full-day",405.37,732.13,3357.03,861.01,132.83000000000001,485.89,268.72000000000003,97.19,932.2,1167.9000000000001,0,8440.27]
[4,"Elementary",405.37,732.13,3356.99,861.01,132.85,485.89,268.72000000000003,145.76,932.2,1167.93,0,8488.85]
[5,"Junior/Middle",405.37,732.13,2954.16,619.79999999999995,144.01,485.89,336.12,238.1,1010.62,1215.9100000000001,0,8142.1100000000006]
[6,"High School",405.37,732.13,4344.33,515.98,139.63999999999999,777.42,407.6,549.04,979.9,1093.9000000000001,0,9945.31]
[7,"Vocational",405.37,732.13,7385.41,515.98,230.86,1360.47,407.6,549.04,1833.94,1531.98,0,14952.78]
[8,"Special Ed-in district",2797.71,0,9231.73,8619.5400000000009,445.33,388.7,0,0,3125.17,3540.82,0,28149]
[9,"Special Ed-tuitioned out",3010.64,0,0,45.99,0,0,0,0,0,0,28584.400000000001,31641.030000000002]
[10,"English learners PK-5",95.01,166.27,1163.8499999999999,166.27,47.5,118.75,71.260000000000005,23.76,285.02,261.27,0,2398.9599999999996]
[11,"English learners 6-8",99.85,174.72,1222.99,174.72,49.92,124.79,74.88,24.96,299.51,274.55,0,2520.8900000000003]
[12,"English learners high school/voc",85.72,150.02000000000001,1050.0899999999999,150.02000000000001,42.86,107.15,64.290000000000006,21.43,257.17,235.73,0,2164.48]
[13,"Low income group 1",52.17,247.19,2413.12,0,117.08,17.940000000000001,97.71,507.75,0,390.34,0,3843.3]
[14,"Low income group 2",53.18,251.94,2459.38,0,119.32,18.29,99.58,517.49,0,397.82,0,3917.0000000000005]
[15,"Low income group 3",54.17,256.68,2505.65,0,121.57,18.64,101.47,527.23,0,405.31,0,3990.72]
[16,"Low income group 4",55.17,261.41000000000003,2551.91,0,123.81,18.98,103.34,536.95000000000005,0,412.79,0,4064.3599999999997]
[17,"Low income group 5",56.17,266.14999999999998,2598.17,0,126.05,19.32,105.21,546.69000000000005,0,420.28,0,4138.0400000000009]
[18,"Low income group 6",60.56,286.93,2800.97,0,135.88,20.83,113.42,589.36,0,453.08,0,4461.0300000000007]
[19,"Low income group 7",62.96,298.31,2912.09,0,141.28,21.66,117.92,612.75,0,471.05,0,4638.0200000000004]
[20,"Low income group 8",65.36,309.69,3023.19,0,146.66999999999999,22.49,122.42,636.12,0,489.02,0,4814.9600000000009]
[21,"Low income group 9",67.77,321.08,3134.33,0,152.06,23.31,126.92,659.5,0,507,0,4991.9699999999993]
[22,"Low income group 10",70.17,332.46,3245.44,0,157.44999999999999,24.14,131.41999999999999,682.88,0,524.98,0,5168.9400000000005]
[23,"Low income group 11",72.23,342.21,3340.67,0,162.07,24.84,135.27000000000001,702.92,0,540.38,0,5320.59]
[24,"Low income group 12",74.290000000000006,351.97,3435.89,0,166.69,25.55,139.13,722.96,0,555.78,0,5472.26]

{"sheet":"Townwide Contributions","index":12,"n_rows":365,"n_cols":38,"rows_kept":365,"cut":false,"hidden":false,"merged":[[4,32,4,37],[365,21,365,23],[6,27,6,28],[1,2,1,11],[1,13,1,24],[1,26,1,29]]}
[1,null,"From DOR\n3",4,"From DOR\n5",6,7,8,{"$f":"H1+1","v":9},{"$f":"I1+1","v":10},11,12,13,"c70fy21\n14","From DOR\n15",16,17,18,19,20,21,22,23,24,25,26,27,28,29,30,29]
[null,"Return to Index","1. Calculation of effort goal (target local share)",null,null,null,null,null,null,null,null,null,null,"2. Calculation of annual increments toward goal (required local contribution)",null,null,null,null,null,null,null,null,null,null,null,null,"Analysis of Gap Closing"]
[null,"More about the data",null,null,null,null,null,null,null,null,null,null,null,null,null,null,null,null,"Increments","Thresholds"]
[null,null,null,"uniform property percentage",null,"uniform income percentage",null,null,null,null,null,null,null,"Updated 12/17/20","Updated 4/5/21",null,null,null,{"$f":"parameters!C18","v":0.01},{"$f":"parameters!C16","v":2.5},null,"Effort Reduction","OPTION TO ACTIVATE THIS INCREMENT"]
[null,null,null,{"$f":"parameters!C29","v":3.3258370618703182E-3},null,{"$f":"parameters!C30","v":1.419874795071566E-2},null,null,null,null,null,null,null,null,null,null,null,null,{"$f":"parameters!C19","v":0.02},{"$f":"parameters!C17","v":7.5},null,{"$f":"effortred","v":1},1,null,null,null,null,null,null,null,null,null,"SUMMARY FOR EXPORT (reads from columns to the left)"]
[null,null,"Updated 12/17/20",null,"Updated 12/17/20",null,null,null,null,"maximum ","target local",null,null,"required",null,null,"preliminary",null,"percentage","dollar"]
[null,null,null,"local effort","DOR total","local effort","combined",null,null,"local contribution","contribution","target",null,"local",null,"preliminary","contribution","shortfall","increment","increment",null,"excess effort",null,"required",null,null,"Before","After implementation",null,null,null,null,null,null,"CEY%","target"]
[null,null,"total","from property","income","from income","effort ",{"$f":"CYr","v":"FY22"},"CEY %","foundation pct=","(lesser of max local","local ",null,"contribution","mrgf ","contribution","percentage of","from target","toward","toward","excess","times effort","CEY% > 175%","contribution","percentage ",null,"below effort","below effort","above effort","distance from",null,null,"3 digit town code",null,"found","local share","RLC","distance from"]
["LEA","Town","EQV 2020","wealth",2018,"wealth","yield","foundation","Found",{"$f":"maxloc","v":0.82499999999999996},"or effort yield)","share",null,"FY21","FY21",{"$f":"CYr","v":"FY22"},"foundation","local share","target","target","effort","reduction %","increment",{"$f":"CYr","v":"FY22"},"of foundation",null,"shortfall","shortfall","excess","target","blank","blank",{"$f":"CYr","v":"FY22"},"Town",{"$f":"CYr","v":"FY22"},{"$f":"CYr","v":"FY22"},{"$f":"CYr","v":"FY22"},"target"]
[1,"Abington",2379458500,{"$f":"D$5*C10","v":7913691.2664823541},640153000,{"$f":"E10*F$5","v":9089371.0968944822},{"$f":"ROUND(D10+F10,0)","v":17003062},{"$f":"(SUMIF(town1755,A10,found1755)/2)","v":28150953.466585755},{"$f":"G10/H10","v":0.60399595417548002},{"$f":"ROUND(H10*maxloc,0)","v":23224537},{"$f":"MIN(G10,J10)","v":17003062},{"$f":"IF(H10>0, ROUND((K10*100/H10), 2), 0)","v":60.4},null,16195587,3.3300000000000003E-2,{"$f":"ROUND(N10*(1+O10),0)","v":16734900},{"$f":"P10*100/H10","v":59.447009565284418},{"$f":"IF(L10>Q10,L10-Q10,0)","v":0.95299043471558065},{"$f":"IF(AND(R10>$T$4,R10<=$T$5),$S$4,IF(R10>$T$5,$S$5,0))","v":0},{"$f":"ROUND(S10*N10,0)","v":0},{"$f":"MAX(P10-K10,0)","v":0},{"$f":"MAX(U10*(V$5),0)","v":0},{"$f":"IF(AND(I10>1.75,$W$5=1),MAX(K10-(P10+T10),0),0)","v":0},{"$f":"MIN(H10*parameters!C$22,ROUND(P10+T10-V10+W10,0))","v":16734900},{"$f":"X10*100/H10","v":59.447009565284418},null,{"$f":"IF(Q10<L10, P10-K10, 0)","v":-268162},{"$f":"-1*MAX(K10-(P10+T10+W10),0)","v":-268162},{"$f":"IF(Q10>L10, X10-K10,0)","v":0},{"$f":"Y10-L10","v":-0.95299043471558065},null,null,{"$f":"TEXT(A10,\"000\")","v":"001"},{"$f":"B10","v":"Abington"},{"$f":"I10","v":0.60399595417548002},{"$f":"L10","v":60.4},{"$f":"X10","v":16734900},{"$f":"AD10","v":-0.95299043471558065}]
[2,"Acton",4940912200,16432668.914207211,1656423000,{"$f":"E11*F$5","v":23519132.676768284},39951802,{"$f":"(SUMIF(town1755,A11,found1755)/2)","v":49645542.971078835},{"$f":"G11/H11","v":0.80474096180746868},40957573,{"$f":"MIN(G11,J11)","v":39951802},{"$f":"IF(H11>0, ROUND((K11*100/H11), 2), 0)","v":80.47},null,39168665,3.2899999999999999E-2,{"$f":"ROUND(N11*(1+O11),0)","v":40457314},{"$f":"P11*100/H11","v":81.492338644716881},{"$f":"IF(L11>Q11,L11-Q11,0)","v":0},{"$f":"IF(AND(R11>$T$4,R11<=$T$5),$S$4,IF(R11>$T$5,$S$5,0))","v":0},{"$f":"ROUND(S11*N11,0)","v":0},{"$f":"MAX(P11-K11,0)","v":505512},505512,{"$f":"IF(AND(I11>1.75,$W$5=1),MAX(K11-(P11+T11),0),0)","v":0},{"$f":"MIN(H11*parameters!C$22,ROUND(P11+T11-V11+W11,0))","v":39951802},{"$f":"X11*100/H11","v":80.474096180746869},null,{"$f":"IF(Q11<L11, P11-K11, 0)","v":0},{"$f":"-1*MAX(K11-(P11+T11+W11),0)","v":0},{"$f":"IF(Q11>L11, X11-K11,0)","v":0},{"$f":"Y11-L11","v":4.0961807468704592E-3},null,null,{"$f":"TEXT(A11,\"000\")","v":"002"},{"$f":"B11","v":"Acton"},{"$f":"I11","v":0.80474096180746868},80.47,39951802,{"$f":"AD11","v":4.0961807468704592E-3}]
[3,"Acushnet",1346443900,4478053.0243492126,351419000,{"$f":"E12*F$5","v":4989709.8060925463},9467763,16202703.740697891,0.58433229117304097,13367231,9467763,58.43,null,9217585,3.1899999999999998E-2,9511626,58.703943195040551,0,0,0,43863,43863,0,{"$f":"MIN(H12*parameters!C$22,ROUND(P12+T12-V12+W12,0))","v":9467763},58.433229117304094,null,0,0,0,3.2291173040945864E-3,null,null,"003","Acushnet",0.58433229117304097,58.43,9467763,3.2291173040945864E-3]
[4,"Adams",549332800,1826991.385540995,189808000,2695035.9510294381,4522027,13699145.785953997,0.33009554541981173,11301795,4522027,33.01,null,4656528,2.9399999999999999E-2,4793430,34.990721866138529,0,0,0,271403,271403,0,{"$f":"MIN(H13*parameters!C$22,ROUND(P13+T13-V13+W13,0))","v":4522027},33.009554541981174,null,0,0,0,-4.4545801882378555E-4,null,null,"004","Adams",0.33009554541981173,33.01,4522027,-4.4545801882378555E-4]
[5,"Agawam",3286756800,10931217.578794289,879657000,12490028.026082685,23421246,42850725.390000008,0.54657758501950049,35351848,23421246,54.66,null,23256462,1.3100000000000001E-2,23561122,54.984184714638261,0,0,0,139876,139876,0,{"$f":"MIN(H14*parameters!C$22,ROUND(P14+T14-V14+W14,0))","v":23421246},54.657758501950056,null,0,0,0,-2.2414980499405601E-3,null,null,"005","Agawam",0.54657758501950049,54.66,23421246,-2.2414980499405601E-3]
[6,"Alford",279886100,930855.5644823421,18905000,268427.33000827953,1199283,243289.80463418583,4.9294420775390062,200714,200714,82.5,null,205780,2.69E-2,211315,86.857318298946552,0,0,0,10601,10601,0,{"$f":"MIN(H15*parameters!C$22,ROUND(P15+T15-V15+W15,0))","v":200714},82.499963490782761,null,0,0,0,-3.6509217238744895E-5,null,null,"006","Alford",4.9294420775390062,82.5,200714,-3.6509217238744895E-5]
[7,"Amesbury",2652855600,8822965.4742702208,724019000,10280163.292529201,19103129,24432670.756921675,0.78186822840839709,20156953,19103129,78.19,null,17319889,2.6499999999999999E-2,17778866,72.766772723621798,5.4232272763781992,0.01,173199,0,0,0,{"$f":"MIN(H16*parameters!C$22,ROUND(P16+T16-V16+W16,0))","v":17952065},73.475655521262468,null,-1324263,-1151064,0,-4.7143444787375302,null,null,"007","Amesbury",0.78186822840839709,78.19,17952065,-4.7143444787375302]
[8,"Amherst",2727618700,9071615.3631105367,795343000,11292874.791366044,20364490,26285881.06390357,0.77473111707733577,21685852,20364490,77.47,null,20191326,9.5999999999999992E-3,20385163,77.551758491342397,0,0,0,20673,20673,0,{"$f":"MIN(H17*parameters!C$22,ROUND(P17+T17-V17+W17,0))","v":20364490},77.47311170773358,null,0,0,0,3.1117077335807153E-3,null,null,"008","Amherst",0.77473111707733577,77.47,20364490,3.1117077335807153E-3]
[9,"Andover",9328654100,31025583.543148499,3175310000,45085426.355386943,76111010,65742561.870427616,1.1577128702408588,54237614,54237614,82.5,null,53540138,3.39E-2,55355149,84.199866000202078,0,0,0,1117535,1117535,0,{"$f":"MIN(H18*parameters!C$22,ROUND(P18+T18-V18+W18,0))","v":54237614},82.500000694979335,null,0,0,0,6.949793345256694E-7,null,null,"009","Andover",1.1577128702408588,82.5,54237614,6.949793345256694E-7]
[10,"Arlington",12795048700,42554247.174895637,2994953000,42524582.77123972,85078830,67918037.688101858,1.2526691420430192,56032381,56032381,82.5,null,52434811,0.02,53483507,78.747132309108878,3.7528676908911223,0.01,524348,0,0,0,{"$f":"MIN(H19*parameters!C$22,ROUND(P19+T19-V19+W19,0))","v":54007855},79.519162859237468,null,-2548874,-2024526,0,-2.9808371407625316,null,null,"010","Arlington",1.2526691420430192,82.5,54007855,-2.9808371407625316]
[11,"Ashburnham",795346900,2645194.1970636658,231628000,3288827.590328367,5934022,12472547.869199021,0.47576662460876001,10289852,5934022,47.58,null,5587688,1.5100000000000001E-2,5672062,45.476369860300693,2.1036301396993053,0,0,0,0,0,{"$f":"MIN(H20*parameters!C$22,ROUND(P20+T20-V20+W20,0))","v":5672062},45.476369860300693,null,-261960,-261960,0,-2.1036301396993053,null,null,"011","Ashburnham",0.47576662460876001,47.58,5672062,-2.1036301396993053]
[12,"Ashby",366133300,1217699.6987248838,106452000,1511485.1168495833,2729185,4561905.0716249188,0.59825554393394764,3763572,2729185,59.83,null,2598778,3.9800000000000002E-2,2702209,59.234222491997009,0.59577750800298901,0,0,0,0,0,{"$f":"MIN(H21*parameters!C$22,ROUND(P21+T21-V21+W21,0))","v":2702209},59.234222491997009,null,-26976,-26976,0,-0.59577750800298901,null,null,"012","Ashby",0.59825554393394764,59.83,2702209,-0.59577750800298901]
[13,"Ashfield",271206700,901989.29428754479,47427000,673404.01905859157,1575393,1756665.2718668906,0.89680887146232247,1449249,1449249,82.5,null,1530546,3.2899999999999999E-2,1580901,89.994435782287781,0,0,0,131652,131652,0,{"$f":"MIN(H22*parameters!C$22,ROUND(P22+T22-V22+W22,0))","v":1449249},82.500008579313189,null,0,0,0,8.5793131887612617E-6,null,null,"013","Ashfield",0.89680887146232247,82.5,1449249,8.5793131887612617E-6]
[14,"Ashland",3214888000,10692193.660162143,977144000,13874221.367554102,24566415,31424970.589938454,0.78174822565675195,25925601,24566415,78.17,null,23048494,3.2899999999999999E-2,23806789,75.757553795841517,2.4124462041584849,0,0,0,0,0,{"$f":"MIN(H23*parameters!C$22,ROUND(P23+T23-V23+W23,0))","v":23806789},75.757553795841517,null,-759626,-759626,0,-2.4124462041584849,null,null,"014","Ashland",0.78174822565675195,78.17,23806789,-2.4124462041584849]
[15,"Athol",880913600,2929775.0991856046,252764000,3588932.3270146931,6518707,21989167.3369353,0.29645083418190643,18141063,6518707,29.65,null,3370898,4.3900000000000008E-2,3518880,16.002788764490059,13.647211235509939,0.02,67418,0,0,0,{"$f":"MIN(H24*parameters!C$22,ROUND(P24+T24-V24+W24,0))","v":3586298},16.309385185204714,null,-2999827,-2932409,0,-13.340614814795284,null,null,"015","Athol",0.29645083418190643,29.65,3586298,-13.340614814795284]
[16,"Attleboro",5286614900,17582419.766255844,1548600000,21988181.076478273,39570601,81095543.747470617,0.48795037521693924,66903824,39570601,48.8,null,38238615,3.0099999999999998E-2,39389597,48.571839067579553,0.22816093242044388,0,0,0,0,0,{"$f":"MIN(H25*parameters!C$22,ROUND(P25+T25-V25+W25,0))","v":39389597},48.571839067579553,null,-181004,-181004,0,-0.22816093242044388,null,null,"016","Attleboro",0.48795037521693924,48.8,39389597,-0.22816093242044388]
[17,"Auburn",2423368200,8059727.7741179615,599612000,8513739.656224519,16573467,29134402.890800007,0.56886242227512862,24035882,16573467,56.89,null,16167017,2.9499999999999998E-2,16643944,57.128145245962074,0,0,0,70477,70477,0,{"$f":"MIN(H26*parameters!C$22,ROUND(P26+T26-V26+W26,0))","v":16573467},56.886242227512859,null,0,0,0,-3.7577724871411533E-3,null,null,"017","Auburn",0.56886242227512862,56.89,16573467,-3.7577724871411533E-3]
[18,"Avon",912879000,3036086.8112031142,173502000,2463511.1669450686,5499598,8227471.8029258447,0.66844325106580604,6787664,5499598,66.84,null,5396077,3.8399999999999997E-2,5603286,68.104590744478344,0,0,0,103688,103688,0,{"$f":"MIN(H27*parameters!C$22,ROUND(P27+T27-V27+W27,0))","v":5499598},66.844325106580598,null,0,0,0,4.3251065805947064E-3,null,null,"018","Avon",0.66844325106580604,66.84,5499598,4.3251065805947064E-3]
[19,"Ayer",1414841800,4705533.2951233126,300571000,4267731.870294557,8973265,11977514.995819025,0.74917585184675495,9881450,8973265,74.92,null,8451074,5.7700000000000001E-2,8938701,74.629011135617205,0.29098886438279692,0,0,0,0,0,{"$f":"MIN(H28*parameters!C$22,ROUND(P28+T28-V28+W28,0))","v":8938701},74.629011135617205,null,-34564,-34564,0,-0.29098886438279692,null,null,"019","Ayer",0.74917585184675495,74.92,8938701,-0.29098886438279692]
[20,"Barnstable",16031008100,53316520.878123276,1909202000,27108277.985002238,80424799,68438802.799038157,1.1751345101134687,56462012,56462012,82.5,null,55634192,2.4E-2,56969413,83.241393288663218,0,0,0,507401,507401,0,{"$f":"MIN(H29*parameters!C$22,ROUND(P29+T29-V29+W29,0))","v":56462012},82.499999548200051,null,0,0,0,-4.5179994856425765E-7,null,null,"020","Barnstable",1.1751345101134687,82.5,56462012,-4.5179994856425765E-7]
[21,"Barre",507030500,1686300.8283986384,150607000,2138430.8326134332,3824732,9331528.7107372135,0.40987196402226328,7698511,3824732,40.99,null,3685412,2.5499999999999998E-2,3779390,40.501295309216481,0.4887046907835213,0,0,0,0,0,{"$f":"MIN(H30*parameters!C$22,ROUND(P30+T30-V30+W30,0))","v":3779390},40.501295309216481,null,-45342,-45342,0,-0.4887046907835213,null,null,"021","Barre",0.40987196402226328,40.99,3779390,-0.4887046907835213]
[22,"Becket",558339300,1856945.5370387302,53841000,764474.78841448191,2621420,2567934.8690271964,1.0208280714662616,2118546,2118546,82.5,null,1945706,3.1800000000000002E-2,2007579,78.178735146835152,4.3212648531648483,0.01,19457,0,0,0,{"$f":"MIN(H31*parameters!C$22,ROUND(P31+T31-V31+W31,0))","v":2027036},78.93642570334724,null,-110967,-91510,0,-3.5635742966527602,null,null,"022","Becket",1.0208280714662616,82.5,2027036,-3.5635742966527602]
[23,"Bedford",4399434500,14631802.311370913,1096519000,15569196.904170785,30200999,31431142.071185313,0.96086228529656093,25930692,25930692,82.5,null,25567990,3.6200000000000003E-2,26493551,84.290767863278248,0,0,0,562859,562859,0,{"$f":"MIN(H32*parameters!C$22,ROUND(P32+T32-V32+W32,0))","v":25930692},82.499999335920137,null,0,0,0,-6.6407986309968692E-7,null,null,"023","Bedford",0.96086228529656093,82.5,25930692,-6.6407986309968692E-7]
[24,"Belchertown",1706796100,5676525.7264357181,564318000,8012609.0460519595,13689135,26375543.887958914,0.51900863383709894,21759824,13689135,51.9,null,13183350,3.7199999999999997E-2,13673771,51.84261245222099,5.738754777900823E-2,0,0,0,0,0,{"$f":"MIN(H33*parameters!C$22,ROUND(P33+T33-V33+W33,0))","v":13673771},51.84261245222099,null,-15364,-15364,0,-5.738754777900823E-2,null,null,"024","Belchertown",0.51900863383709894,51.9,13673771,-5.738754777900823E-2]
[25,"Bellingham",2853759500,9491139.1107645091,636231000,9033683.607431775,18524823,26413663.214021649,0.70133486786361876,21791272,18524823,70.13,null,17850402,4.0500000000000001E-2,18573343,70.317179595673693,0,0,0,48520,48520,0,{"$f":"MIN(H34*parameters!C$22,ROUND(P34+T34-V34+W34,0))","v":18524823},70.133486786361871,null,0,0,0,3.4867863618757156E-3,null,null,"025","Bellingham",0.70133486786361876,70.13,18524823,3.4867863618757156E-3]
[26,"Belmont",9840875900,32729149.789486423,2583978000,36689252.332194351,{"$f":"ROUND(D35+F35,0)","v":69418402},{"$f":"(SUMIF(town1755,A35,found1755)/2)","v":50694465.246789992},1.3693487378170071,41822934,41822934,82.5,null,40662179,4.0000000000000001E-3,40824828,80.531134515882982,{"$f":"IF(L35>Q35,L35-Q35,0)","v":1.9688654841170177},{"$f":"IF(AND(R35>$T$4,R35<=$T$5),$S$4,IF(R35>$T$5,$S$5,0))","v":0},{"$f":"ROUND(S35*N35,0)","v":0},0,0,0,{"$f":"MIN(H35*parameters!C$22,ROUND(P35+T35-V35+W35,0))","v":40824828},80.531134515882982,null,-998106,-998106,0,-1.9688654841170177,null,null,"026","Belmont",1.3693487378170071,82.5,40824828,-1.9688654841170177]
[27,"Berkley",971888500,3232342.7933055507,270345000,3838560.5147362254,7070903,13214771.790801117,0.53507567984806959,10902187,7070903,53.51,null,6781390,4.1500000000000002E-2,7062818,53.44638645153502,6.3613548464978464E-2,0,0,0,0,0,{"$f":"MIN(H36*parameters!C$22,ROUND(P36+T36-V36+W36,0))","v":7062818},53.44638645153502,null,-8085,-8085,0,-6.3613548464978464E-2,null,null,"027","Berkley",0.53507567984806959,53.51,7062818,-6.3613548464978464E-2]
[28,"Berlin",710453400,2362852.2484517777,169836000,2411458.556957745,4774311,4391457.2419228824,1.0871814837275924,3622952,3622952,82.5,null,3314664,0.04,3447251,78.499022308379722,4.0009776916202782,0.01,33147,0,0,0,{"$f":"MIN(H37*parameters!C$22,ROUND(P37+T37-V37+W37,0))","v":3480398},79.253828701199922,null,-175701,-142554,0,-3.2461712988000784,null,null,"028","Berlin",1.0871814837275924,82.5,3480398,-3.2461712988000784]
[29,"Bernardston",248325200,825889.15355635912,65708000,932971.33034562459,1758860,3411924.9185469788,0.51550372355468999,2814838,1758860,51.55,null,1699234,2.75E-2,1745963,51.172374588581086,0.37762541141891148,0,0,0,0,0,{"$f":"MIN(H38*parameters!C$22,ROUND(P38+T38-V38+W38,0))","v":1745963},51.172374588581086,null,-12897,-12897,0,-0.37762541141891148,null,null,"029","Bernardston",0.51550372355468999,51.55,1745963,-0.37762541141891148]
[30,"Beverly",7994706700,26589091.841642946,2115626000,30039240.331980769,56628332,56028911.474418141,1.0106984146185947,46223852,46223852,82.5,null,43414266,2.7099999999999999E-2,44590793,79.585328050428757,2.9146719495712432,0.01,434143,0,0,0,{"$f":"MIN(H39*parameters!C$22,ROUND(P39+T39-V39+W39,0))","v":45024936},80.360183368112786,null,-1633059,-1198916,0,-2.1398166318872143,null,null,"030","Beverly",1.0106984146185947,82.5,45024936,-2.1398166318872143]
[31,"Billerica",7998669600,26602271.801335432,1728420000,24541399.932975963,51143672,60922818.85889104,0.83948302061430502,50261326,50261326,82.5,null,48257512,4.1900000000000007E-2,50279502,82.529835194357943,0,0,0,18176,18176,0,{"$f":"MIN(H40*parameters!C$22,ROUND(P40+T40-V40+W40,0))","v":50261326},82.500000724547718,null,0,0,0,7.2454771782304306E-7,null,null,"031","Billerica",0.83948302061430502,82.5,50261326,7.2454771782304306E-7]
[32,"Blackstone",1075325500,3576357.4014742309,306167000,4347188.0638267612,7923545,16196866.793987125,0.48920233158560716,13362415,7923545,48.92,null,7758120,3.04E-2,7993967,49.355020953606015,0,0,0,70422,70422,0,{"$f":"MIN(H41*parameters!C$22,ROUND(P41+T41-V41+W41,0))","v":7923545},48.92023315856072,null,0,0,0,2.3315856071803864E-4,null,null,"032","Blackstone",0.48920233158560716,48.92,7923545,2.3315856071803864E-4]
[33,"Blandford",180760100,601178.63988738495,40004000,568006.71302042925,1169185,1322951.0454399874,0.88377041919276167,1091435,1091435,82.5,null,1160289,4.1500000000000002E-2,1208441,91.344347484762466,0,0,0,117006,117006,0,{"$f":"MIN(H42*parameters!C$22,ROUND(P42+T42-V42+W42,0))","v":1091435},82.500029291485248,null,0,0,0,2.9291485247995297E-5,null,null,"033","Blandford",0.88377041919276167,82.5,1091435,2.9291485247995297E-5]
[34,"Bolton",1191544800,3962883.8567188559,447908000,6359732.7971091503,10322617,12040732.133801296,0.85730808436655404,9933604,9933604,82.5,null,9163325,4.1399999999999999E-2,9542687,79.25337839890426,3.2466216010957396,0.01,91633,0,0,0,{"$f":"MIN(H43*parameters!C$22,ROUND(P43+T43-V43+W43,0))","v":9634320},80.014403550711791,null,-390917,-299284,0,-2.4855964492882094,null,null,"034","Bolton",0.85730808436655404,82.5,9634320,-2.4855964492882094]
[35,"Boston",203894526100,678119971.61586487,37097269000,526734772.19089758,1204854744,978880394.48934996,1.2308498063530362,807576325,807576325,82.5,null,762717504,2.3800000000000002E-2,780870181,79.771766335902001,2.7282336640979992,0.01,7627175,0,0,0,{"$f":"MIN(H44*parameters!C$22,ROUND(P44+T44-V44+W44,0))","v":788497356},80.550939669328386,null,-26706144,-19078969,0,-1.9490603306716139,null,null,"035","Boston",1.2308498063530362,82.5,788497356,-1.9490603306716139]
[36,"Bourne",5178654100,17223359.736386675,778353000,11051638.063683387,28274998,24156651.220767546,1.1704850039682611,19929237,19929237,82.5,null,21342321,2.9499999999999998E-2,21971919,90.955980608399372,0,0,0,2042682,2042682,0,{"$f":"MIN(H45*parameters!C$22,ROUND(P45+T45-V45+W45,0))","v":19929237},82.499998935559304,null,0,0,0,-1.0644406955861996E-6,null,null,"036","Bourne",1.1704850039682611,82.5,19929237,-1.0644406955861996E-6]
[37,"Boxborough",1245735100,4143111.964852727,358888000,5095760.2545364415,9238872,9551330.7888589334,0.9672863608468677,7879848,7879848,82.5,null,7786669,3.5099999999999999E-2,8059981,84.385947656650046,{"$f":"IF(L46>Q46,L46-Q46,0)","v":0},0,0,180133,180133,0,{"$f":"MIN(H46*parameters!C$22,ROUND(P46+T46-V46+W46,0))","v":7879848},82.500001038508472,null,0,0,0,1.0385084721065141E-6,null,null,"037","Boxborough",0.9672863608468677,82.5,7879848,1.0385084721065141E-6]
[38,"Boxford",2027205500,6742155.1839273497,844353000,11988755.428430621,18730911,14763505.430349335,1.2687305930402457,12179892,12179892,82.5,null,12479356,2.6000000000000002E-2,12803819,86.726144142428339,0,0,0,623927,623927,0,{"$f":"MIN(H47*parameters!C$22,ROUND(P47+T47-V47+W47,0))","v":12179892},82.500000135210428,null,0,0,0,1.352104277430044E-7,null,null,"038","Boxford",1.2687305930402457,82.5,12179892,1.352104277430044E-7]
[39,"Boylston",894665100,2975510.3475419143,311214000,4418849.1447340231,7394359,7467889.3844637424,0.99015379303599282,6161009,6161009,82.5,null,5696095,4.4400000000000002E-2,5949002,79.66108887976236,2.8389111202376398,0.01,56961,0,0,0,{"$f":"MIN(H48*parameters!C$22,ROUND(P48+T48-V48+W48,0))","v":6005963},80.423834510656434,null,-212007,-155046,0,-2.0761654893435662,null,null,"039","Boylston",0.99015379303599282,82.5,6005963,-2.0761654893435662]
[40,"Braintree",8213296300,27316085.234662354,1720700000,24431785.598796435,51747871,66187045.112119019,0.78184289557481434,54604312,51747871,78.180000000000007,null,48075109,1.21E-2,48656818,73.514111285035767,4.6658887149642396,0.01,480751,0,0,0,{"$f":"MIN(H49*parameters!C$22,ROUND(P49+T49-V49+W49,0))","v":49137569},74.240463396971904,null,-3091053,-2610302,0,-3.9395366030281025,null,null,"040","Braintree",0.78184289557481434,78.180000000000007,49137569,-3.9395366030281025]
[41,"Brewster",4380442300,14568637.348724458,383285000,5442167.108290052,20010804,12555235.626805289,1.5938214618033257,10358069,10358069,82.5,null,10089445,3.1300000000000001E-2,10405245,82.875744504427445,0,0,0,47176,47176,0,{"$f":"MIN(H50*parameters!C$22,ROUND(P50+T50-V50+W50,0))","v":10358069},82.499996876885675,null,0,0,0,-3.1231143253762639E-6,null,null,"041","Brewster",1.5938214618033257,82.5,10358069,-3.1231143253762639E-6]
[42,"Bridgewater",3400108700,11308207.528847707,976278000,13861925.251828784,25170133,39100667.698792242,0.6437264241596945,32258051,25170133,64.37,null,23804915,2.23E-2,24335765,62.238745352043424,2.131254647956581,0,0,0,0,0,{"$f":"MIN(H51*parameters!C$22,ROUND(P51+T51-V51+W51,0))","v":24335765},62.238745352043424,null,-834368,-834368,0,-2.131254647956581,null,null,"042","Bridgewater",0.6437264241596945,64.37,24335765,-2.131254647956581]
[43,"Brimfield",466597600,1551827.591059742,145657000,2068147.0302573908,3619975,6057724.2550920546,0.59758002305190594,4997623,3619975,59.76,null,3503607,2.6599999999999999E-2,3596803,59.375482417783672,0.38451758221632559,0,0,0,0,0,{"$f":"MIN(H52*parameters!C$22,ROUND(P52+T52-V52+W52,0))","v":3596803},59.375482417783672,null,-23172,-23172,0,-0.38451758221632559,null,null,"043","Brimfield",0.59758002305190594,59.76,3596803,-0.38451758221632559]
[44,"Brockton",8886561300,29555254.924122475,2189454000,31087505.495686203,60642760,281403816.49895251,0.21550084414091711,232158149,60642760,21.55,null,51480348,2.4199999999999999E-2,52726172,18.7368361438681,2.8131638561319008,0.01,514803,0,0,0,{"$f":"MIN(H53*parameters!C$22,ROUND(P53+T53-V53+W53,0))","v":53240975},18.919777159524838,null,-7916588,-7401785,0,-2.6302228404751631,null,null,"044","Brockton",0.21550084414091711,21.55,53240975,-2.6302228404751631]
[45,"Brookfield",312533400,1039435.1647923409,99385000,1411142.5650818758,2450578,5814110.7754844986,0.42148801332320496,4796641,2450578,42.15,null,2395082,4.8300000000000003E-2,2510764,43.183972527437341,0,0,0,60186,60186,0,{"$f":"MIN(H54*parameters!C$22,ROUND(P54+T54-V54+W54,0))","v":2450578},42.148801332320495,null,0,0,0,-1.1986676795032736E-3,null,null,"045","Brookfield",0.42148801332320496,42.15,2450578,-1.1986676795032736E-3]
[46,"Brookline",28147948700,93615491.002084449,5644070000,80138727.346195742,173754218,77441372.374247178,2.2436872265164207,63889132,63889132,82.5,null,69211255,1.72E-2,70401689,90.909660871934392,0,0,0,6512557,6512557,0,{"$f":"MIN(H55*parameters!C$22,ROUND(P55+T55-V55+W55,0))","v":63889132},82.499999730436173,null,0,0,0,-2.695638272598444E-7,null,null,"046","Brookline",2.2436872265164207,82.5,63889132,-2.695638272598444E-7]
[47,"Buckland",236099700,785229.13255646359,42927187.5,609512.3155456119,1394741,2263767.4255717471,0.61611497022391248,1867608,1394741,61.61,null,1364402,2.9100000000000001E-2,1404106,62.025187929602474,0,0,0,9365,9365,0,{"$f":"MIN(H56*parameters!C$22,ROUND(P56+T56-V56+W56,0))","v":1394741},61.611497022391248,null,0,0,0,1.4970223912484926E-3,null,null,"047","Buckland",0.61611497022391248,61.61,1394741,1.4970223912484926E-3]
[48,"Burlington",8100649200,26941439.334570143,1382790000,19633886.678770106,46575326,42404197.001293659,1.0983659470919609,34983463,34983463,82.5,null,34772202,3.3799999999999997E-2,35947502,84.773452964816954,0,0,0,964039,964039,0,{"$f":"MIN(H57*parameters!C$22,ROUND(P57+T57-V57+W57,0))","v":34983463},82.500001117655245,null,0,0,0,1.1176552447977883E-6,null,null,"048","Burlington",1.0983659470919609,82.5,34983463,1.1176552447977883E-6]
[49,"Cambridge",63505735500,211209728.76723355,8087170000,114827688.46458916,326037417,100848386.94927999,3.2329462757195615,83199919,83199919,82.5,null,80716157,2.6000000000000002E-2,82814777,82.118097775475874,0.3819022245241257,0,0,0,0,385142,{"$f":"MIN(H58*parameters!C$22,ROUND(P58+T58-V58+W58,0))","v":83199919},82.499999768805424,null,-385142,0,0,-2.3119457637221785E-7,null,null,"049","Cambridge",3.2329462757195615,82.5,83199919,-2.3119457637221785E-7]
[50,"Canton",5664784600,18840150.570192225,1475836000,20955023.380592398,39795174,38850899.641055092,1.0243050834773222,32051992,32051992,82.5,null,31875439,3.4299999999999997E-2,32968767,84.859726041352104,0,0,0,916775,916775,0,{"$f":"MIN(H59*parameters!C$22,ROUND(P59+T59-V59+W59,0))","v":32051992},82.499999475249084,null,0,0,0,-5.2475091649739625E-7,null,null,"050","Canton",1.0243050834773222,82.5,32051992,-5.2475091649739625E-7]
[51,"Carlisle",1657167300,5511468.424059568,815711000,11582074.889626222,17093543,9536650.8999516051,1.7924052352683628,7867737,7867737,82.5,null,7887677,3.4500000000000003E-2,8159802,85.562553202418343,0,0,0,292065,292065,0,{"$f":"MIN(H60*parameters!C$22,ROUND(P60+T60-V60+W60,0))","v":7867737},82.500000079062616,null,0,0,0,7.906261600965081E-8,null,null,"051","Carlisle",1.7924052352683628,82.5,7867737,7.906261600965081E-8]
[52,"Carver",1542843600,5131246.4255494243,383236000,5441471.3696404668,10572718,19291592.825175058,0.54804795517987814,15915564,10572718,54.8,null,10245767,2.6499999999999999E-2,10517280,54.517426815453028,0.282573184546969,0,0,0,0,0,{"$f":"MIN(H61*parameters!C$22,ROUND(P61+T61-V61+W61,0))","v":10517280},54.517426815453028,null,-55438,-55438,0,-0.282573184546969,null,null,"052","Carver",0.54804795517987814,54.8,10517280,-0.282573184546969]
[53,"Charlemont",147289000,489859.2150058173,27710000,393447.30571433093,883307,1690885.0093789699,0.52239330001773565,1394980,883307,52.24,null,898461,3.27E-2,927841,54.873098694084376,0,0,0,44534,44534,0,{"$f":"MIN(H62*parameters!C$22,ROUND(P62+T62-V62+W62,0))","v":883307},52.239330001773567,null,0,0,0,-6.6999822643509788E-4,null,null,"053","Charlemont",0.52239330001773565,52.24,883307,-6.6999822643509788E-4]
[54,"Charlton",1794497600,5968206.6255173376,534595000,7590579.6607128382,13558786,24146568.980858155,0.56152018991801833,19920919,13558786,56.15,null,13080033,3.7100000000000001E-2,13565302,56.17900419208086,0,0,0,6516,6516,0,{"$f":"MIN(H63*parameters!C$22,ROUND(P63+T63-V63+W63,0))","v":13558786},56.152018991801825,null,0,0,0,2.0189918018260755E-3,null,null,"054","Charlton",0.56152018991801833,56.15,13558786,2.0189918018260755E-3]
[55,"Chatham",7904158600,26287943.614781007,475325000,6749019.8696739208,33036963,4965248.9305538237,6.6536367988935972,4096330,4096330,82.5,null,4342030,-8.0000000000000004E-4,4338556,87.378418699263037,0,0,0,242226,242226,0,{"$f":"MIN(H64*parameters!C$22,ROUND(P64+T64-V64+W64,0))","v":4096330},82.499992594391344,null,0,0,0,-7.4056086560858603E-6,null,null,"055","Chatham",6.6536367988935972,82.5,4096330,-7.4056086560858603E-6]
[56,"Chelmsford",6551073600,21787803.37392021,2003049000,28440787.883933052,50228591,58129083.457661629,0.86408709740940681,47956494,47956494,82.5,null,46684327,2.9300000000000003E-2,48052178,82.66460632395632,0,0,0,95684,95684,0,{"$f":"MIN(H65*parameters!C$22,ROUND(P65+T65-V65+W65,0))","v":47956494},82.500000253623739,null,0,0,0,2.5362373889947776E-7,null,null,"056","Chelmsford",0.86408709740940681,82.5,47956494,2.5362373889947776E-7]
[57,"Chelsea",4225152600,14052169.109137736,821843000,11669141.61206001,25721311,118862448.94746143,0.21639560035793234,98061520,25721311,21.64,null,20807621,-5.79E-2,19602860,16.492054617404602,5.1479453825953989,0.01,208076,0,0,0,{"$f":"MIN(H66*parameters!C$22,ROUND(P66+T66-V66+W66,0))","v":19810936},16.667110744753931,null,-6118451,-5910375,0,-4.97288925524607,null,null,"057","Chelsea",0.21639560035793234,21.64,19810936,-4.97288925524607]
[58,"Cheshire",327182900,1088157.0148302102,98301000,1395751.1223033001,2483908,4943335.1122882869,0.50247615093409892,4078251,2483908,50.25,null,2495473,2.4899999999999999E-2,2557610,51.738551846145697,0,0,0,73702,73702,0,{"$f":"MIN(H67*parameters!C$22,ROUND(P67+T67-V67+W67,0))","v":2483908},50.247615093409891,null,0,0,0,-2.3849065901089261E-3,null,null,"058","Cheshire",0.50247615093409892,50.25,2483908,-2.3849065901089261E-3]
[59,"Chester",129904800,432042.19835485134,32818000,465974.51024658652,898017,1876564.1678400028,0.47854318833853249,1548165,898017,47.85,null,913983,3.39E-2,944967,50.356231680992458,0,0,0,46950,46950,0,{"$f":"MIN(H68*parameters!C$22,ROUND(P68+T68-V68+W68,0))","v":898017},47.854318833853249,null,0,0,0,4.3188338532473836E-3,null,null,"059","Chester",0.47854318833853249,47.85,898017,4.3188338532473836E-3]
[60,"Chesterfield",165075500,549014.21590677369,27782000,394469.61556678248,943484,1203665.0746973346,0.78384263183613767,993024,943484,78.38,null,956565,3.73E-2,992245,82.435307035015796,0,0,0,48761,48761,0,{"$f":"MIN(H69*parameters!C$22,ROUND(P69+T69-V69+W69,0))","v":943484},78.384263183613768,null,0,0,0,4.2631836137729806E-3,null,null,"060","Chesterfield",0.78384263183613767,78.38,943484,4.2631836137729806E-3]
[61,"Chicopee",4282298400,14242226.728707965,1201917000,17065716.540680315,31307943,103803922.04000001,0.30160655189825808,85638236,31307943,30.16,null,30903112,2.9700000000000001E-2,31820934,30.654847499633068,0,0,0,512991,512991,0,{"$f":"MIN(H70*parameters!C$22,ROUND(P70+T70-V70+W70,0))","v":31307943},30.16065518982581,null,0,0,0,6.5518982581025398E-4,null,null,"061","Chicopee",0.30160655189825808,30.16,31307943,6.5518982581025398E-4]
[62,"Chilmark",3657005200,12162603.429612476,69962000,993372.80412796896,13155976,1487474.4566767269,8.8445054911347558,1227166,1227166,82.5,null,1154430,5.5199999999999999E-2,1218155,81.894179394620807,0.60582060537919347,0,0,0,0,9011,{"$f":"MIN(H71*parameters!C$22,ROUND(P71+T71-V71+W71,0))","v":1227166},82.499971309873743,null,-9011,0,0,-2.8690126256947224E-5,null,null,"062","Chilmark",8.8445054911347558,82.5,1227166,-2.8690126256947224E-5]
[63,"Clarksburg",133566700,444221.08109171421,41976000,596006.64397924056,1040228,2954866.646538063,0.35203889868219146,2437765,1040228,35.200000000000003,null,988224,2.8500000000000001E-2,1016388,34.397085269171299,0.80291473082870368,0,0,0,0,0,{"$f":"MIN(H72*parameters!C$22,ROUND(P72+T72-V72+W72,0))","v":1016388},34.397085269171299,null,-23840,-23840,0,-0.80291473082870368,null,null,"063","Clarksburg",0.35203889868219146,35.200000000000003,1016388,-0.80291473082870368]
[64,"Clinton",1653168200,5498168.0690654423,456680000,6484284.2141328277,11982452,26864608.990000002,0.44603113354303092,22163302,11982452,44.6,null,11372125,4.87E-2,11925947,44.392780868090348,0.20721913190965324,0,0,0,0,0,{"$f":"MIN(H73*parameters!C$22,ROUND(P73+T73-V73+W73,0))","v":11925947},44.392780868090348,null,-56505,-56505,0,-0.20721913190965324,null,null,"064","Clinton",0.44603113354303092,44.6,11925947,-0.20721913190965324]
[65,"Cohasset",3240448100,10777202.388047256,1097162000,15578326.699103095,26355529,15514169.458613789,1.6988037336002453,{"$f":"ROUND(H74*maxloc,0)","v":12799190},12799190,82.5,null,12917527,3.32E-2,13346389,86.027093075161744,0,0,0,547199,{"$f":"MAX(U74*(V$5),0)","v":547199},0,{"$f":"MIN(H74*parameters!C$22,ROUND(P74+T74-V74+W74,0))","v":12799190},82.500001267509845,null,0,0,0,1.2675098446379707E-6,null,null,"065","Cohasset",1.6988037336002453,{"$f":"L74","v":82.5},{"$f":"X74","v":12799190},1.2675098446379707E-6]
[66,"Colrain",182644300,{"$f":"D$5*C75","v":607445.18207936094},54839000,778645.13886929606,{"$f":"ROUND(D75+F75,0)","v":1386090},{"$f":"(SUMIF(town1755,A75,found1755)/2)","v":2157432.0544529413},{"$f":"G75/H75","v":0.64247214513157402},1779881,{"$f":"MIN(G75,J75)","v":1386090},{"$f":"IF(H75>0, ROUND((K75*100/H75), 2), 0)","v":64.25},null,1285699,3.4299999999999997E-2,{"$f":"ROUND(N75*(1+O75),0)","v":1329798},{"$f":"P75*100/H75","v":61.63800140334876},{"$f":"IF(L75>Q75,L75-Q75,0)","v":2.6119985966512402},{"$f":"IF(AND(R75>$T$4,R75<=$T$5),$S$4,IF(R75>$T$5,$S$5,0))","v":0.01},{"$f":"ROUND(S75*N75,0)","v":12857},{"$f":"MAX(P75-K75,0)","v":0},0,{"$f":"IF(AND(I75>1.75,$W$5=1),MAX(K75-(P75+T75),0),0)","v":0},{"$f":"MIN(H75*parameters!C$22,ROUND(P75+T75-V75+W75,0))","v":1342655},{"$f":"X75*100/H75","v":62.233941376218972},null,{"$f":"IF(Q75<L75, P75-K75, 0)","v":-56292},{"$f":"-1*MAX(K75-(P75+T75+W75),0)","v":-43435},{"$f":"IF(Q75>L75, X75-K75,0)","v":0},{"$f":"Y75-L75","v":-2.0160586237810278},null,null,{"$f":"TEXT(A75,\"000\")","v":"066"},{"$f":"B75","v":"Colrain"},{"$f":"I75","v":0.64247214513157402},64.25,1342655,{"$f":"AD75","v":-2.0160586237810278}]
[67,"Concord",7134203400,23727198.074641235,2921432000,{"$f":"E76*F$5","v":41480676.623155154},65207875,34499103.426385,1.8901324534170025,28461760,28461760,82.5,null,27870369,2.5000000000000001E-2,28567128,82.805421482784936,0,0,0,105368,105368,0,{"$f":"MIN(H76*parameters!C$22,ROUND(P76+T76-V76+W76,0))","v":28461760},82.499999052822844,null,0,0,0,-9.4717715626302379E-7,null,null,"067","Concord",1.8901324534170025,82.5,28461760,-9.4717715626302379E-7]
[68,"Conway",272849200,907451.98166166688,69800000,991072.60695995309,1898525,2223405.6436461271,0.8538815242398321,1834310,1834310,82.5,null,1861596,2.87E-2,1915024,86.13021224771127,0,0,0,80714,80714,0,{"$f":"MIN(H77*parameters!C$22,ROUND(P77+T77-V77+W77,0))","v":1834310},82.500015471398399,null,0,0,0,1.5471398398858582E-5,null,null,"068","Conway",0.8538815242398321,82.5,1834310,1.5471398398858582E-5]
[69,"Cummington",136764000,454854.7799296322,27624000,392226.21339056938,847081,730774.26973032148,1.159155480819815,602889,602889,82.5,null,640755,3.3799999999999997E-2,662413,90.645364435785496,0,0,0,59524,59524,0,{"$f":"MIN(H78*parameters!C$22,ROUND(P78+T78-V78+W78,0))","v":602889},82.500031127599073,null,0,0,0,3.1127599072533485E-5,null,null,"069","Cummington",1.159155480819815,82.5,602889,3.1127599072533485E-5]
[70,"Dalton",659304000,2192737.6782393483,231336000,3284681.5559267579,5477419,10999736.277457178,0.49795912027685646,9074782,5477419,49.8,null,5300714,3.4200000000000001E-2,5481998,49.837540298441411,0,0,0,4579,4579,0,{"$f":"MIN(H79*parameters!C$22,ROUND(P79+T79-V79+W79,0))","v":5477419},49.795912027685645,null,0,0,0,-4.0879723143518731E-3,null,null,"070","Dalton",0.49795912027685646,49.8,5477419,-4.0879723143518731E-3]
[71,"Danvers",5748464900,19118457.613280654,1428486000,20282712.665126011,39401170,41237351.077676244,0.95547286550444177,34020815,34020815,82.5,null,33168062,2.35E-2,33947511,82.322239699769213,0.17776030023078704,0,0,0,0,0,{"$f":"MIN(H80*parameters!C$22,ROUND(P80+T80-V80+W80,0))","v":33947511},82.322239699769213,null,-73304,-73304,0,-0.17776030023078704,null,null,"071","Danvers",0.95547286550444177,82.5,33947511,-0.17776030023078704]
[72,"Dartmouth",6198070600,20613772.913568802,1269313000,18022655.357566748,38636428,44989685.730293855,0.85878412735797616,37116491,37116491,82.5,null,37246993,3.6200000000000003E-2,38595334,85.787071799907665,0,0,0,1478843,1478843,0,{"$f":"MIN(H81*parameters!C$22,ROUND(P81+T81-V81+W81,0))","v":37116491},82.500000605711207,null,0,0,0,6.0571120741315099E-7,null,null,"072","Dartmouth",0.85878412735797616,82.5,37116491,6.0571120741315099E-7]
[73,"Dedham",5863555800,19501231.193984665,1532426000,21758530.527123395,41259762,32652554.30535125,1.2635998278774216,26938357,26938357,82.5,null,26785616,3.2300000000000002E-2,27650791,84.681862072482531,0,0,0,712434,712434,0,{"$f":"MIN(H82*parameters!C$22,ROUND(P82+T82-V82+W82,0))","v":26938357},82.499999075371633,null,0,0,0,-9.2462836676077131E-7,null,null,"073","Dedham",1.2635998278774216,82.5,26938357,-9.2462836676077131E-7]
[74,"Deerfield",808941100,2690406.2912501432,215554000,3060596.9157685633,5751003,6703076.3699017093,0.85796471390707574,5530038,5530038,82.5,null,5606753,2.4899999999999999E-2,5746361,85.727219606245697,0,0,0,216323,216323,0,{"$f":"MIN(H83*parameters!C$22,ROUND(P83+T83-V83+W83,0))","v":5530038},82.499999922887497,null,0,0,0,-7.7112503049647785E-8,null,null,"074","Deerfield",0.85796471390707574,82.5,5530038,-7.7112503049647785E-8]
[75,"Dennis",7955584100,26458976.448606219,537187000,7627382.8154010931,34086359,13656983.826912532,2.4958921700433754,11267012,11267012,82.5,null,11656730,3.56E-2,12071710,88.392211289079938,0,0,0,804698,804698,0,{"$f":"MIN(H84*parameters!C$22,ROUND(P84+T84-V84+W84,0))","v":11267012},82.50000251005028,null,0,0,0,2.5100502796249202E-6,null,null,"075","Dennis",2.4958921700433754,82.5,11267012,2.5100502796249202E-6]
[76,"Dighton",1162938400,3867743.6313921688,289109000,4104985.8212834536,7972729,15440336.174013637,0.51635721594056005,12738277,7972729,51.64,null,7624404,4.1900000000000007E-2,7943867,51.448795612168539,0.19120438783146199,0,0,0,0,0,{"$f":"MIN(H85*parameters!C$22,ROUND(P85+T85-V85+W85,0))","v":7943867},51.448795612168539,null,-28862,-28862,0,-0.19120438783146199,null,null,"076","Dighton",0.51635721594056005,51.64,7943867,-0.19120438783146199]
[77,"Douglas",1154562000,3839885.0898271184,345379000,4903949.3684702236,8743834,14377861.762543043,0.60814564393568482,11861736,8743834,60.81,null,8465026,4.9500000000000002E-2,8884045,61.789751123804514,0,0,0,140211,140211,0,{"$f":"MIN(H86*parameters!C$22,ROUND(P86+T86-V86+W86,0))","v":8743834},60.814564393568489,null,0,0,0,4.56439356848648E-3,null,null,"077","Douglas",0.60814564393568482,60.81,8743834,4.56439356848648E-3]
[78,"Dover",2831290600,9416411.2104050498,1475249000,20946688.715545326,30363100,12739659.592624776,2.3833525361680588,10510219,10510219,82.5,null,10420506,2.3700000000000002E-2,10667472,83.734356655617361,0,0,0,157253,157253,0,{"$f":"MIN(H87*parameters!C$22,ROUND(P87+T87-V87+W87,0))","v":10510219},82.499998713345207,null,0,0,0,-1.2866547933754191E-6,null,null,"078","Dover",2.3833525361680588,82.5,10510219,-1.2866547933754191E-6]
[79,"Dracut",4153988500,13815488.907883091,1156106000,16415257.698310079,30230747,54544100.703904457,0.5542441182431298,44998883,30230747,55.42,null,28650804,3.5200000000000002E-2,29659312,54.376754987688123,1.0432450123118784,0,0,0,0,0,{"$f":"MIN(H88*parameters!C$22,ROUND(P88+T88-V88+W88,0))","v":29659312},54.376754987688123,null,-571435,-571435,0,-1.0432450123118784,null,null,"079","Dracut",0.5542441182431298,55.42,29659312,-1.0432450123118784]
[80,"Dudley",1146095200,3811725.8925916748,343087000,4871405.838167184,8683132,20263625.285817966,0.42850831860166305,16717491,8683132,42.85,null,7521654,1.66E-2,7646513,37.735167780424831,5.1148322195751703,0.01,75217,0,0,0,{"$f":"MIN(H89*parameters!C$22,ROUND(P89+T89-V89+W89,0))","v":7721730},38.106359997706122,null,-1036619,-961402,0,-4.7436400022938798,null,null,"080","Dudley",0.42850831860166305,42.85,7721730,-4.7436400022938798]
[81,"Dunstable",606991900,2018756.1572750821,208516000,2960666.1276914268,4979422,5821759.5472914297,0.85531220579466793,4802952,4802952,82.5,null,4814706,5.4399999999999997E-2,5076626,87.200887614156059,0,0,0,273674,273674,0,{"$f":"MIN(H90*parameters!C$22,ROUND(P90+T90-V90+W90,0))","v":4802952},82.500006415321138,null,0,0,0,6.415321138319996E-6,null,null,"081","Dunstable",0.85531220579466793,82.5,4802952,6.415321138319996E-6]
[82,"Duxbury",4654728300,15480867.893076621,1401567000,19900496.569040697,35381364,29901986.556480002,1.1832445959123934,24669139,24669139,82.5,null,25372508,2.6599999999999999E-2,26047417,87.109319478826777,0,0,0,1378278,1378278,0,{"$f":"MIN(H91*parameters!C$22,ROUND(P91+T91-V91+W91,0))","v":24669139},82.500000304006548,null,0,0,0,3.0400654793538706E-7,null,null,"082","Duxbury",1.1832445959123934,82.5,24669139,3.0400654793538706E-7]
[83,"East Bridgewater",1926835300,6408340.2528600134,535363000,7601484.2991389884,14009825,25126881.461655542,0.55756322253437851,20729677,14009825,55.76,null,13378858,3.5499999999999997E-2,13853807,55.135401586310543,0.6245984136894549,0,0,0,0,0,{"$f":"MIN(H92*parameters!C$22,ROUND(P92+T92-V92+W92,0))","v":13853807},55.135401586310543,null,-156018,-156018,0,-0.6245984136894549,null,null,"083","East Bridgewater",0.55756322253437851,55.76,13853807,-0.6245984136894549]
[84,"East Brookfield",278867500,927467.86685112095,74695000,1060575.4781787063,1988043,3883680.1512946985,0.51189668627506524,3204036,1988043,51.19,null,1841750,3.5700000000000003E-2,1907500,49.115785175154002,2.0742148248459955,0,0,0,0,0,{"$f":"MIN(H93*parameters!C$22,ROUND(P93+T93-V93+W93,0))","v":1907500},49.115785175154002,null,-80543,-80543,0,-2.0742148248459955,null,null,"084","East Brookfield",0.51189668627506524,51.19,1907500,-2.0742148248459955]
[85,"Eastham",3250149400,10809467.331135578,189533000,2691131.2953429911,13500599,5592554.3184095286,2.4140309116996557,4613857,4613857,82.5,null,4337460,1.2199999999999999E-2,4390377,78.503967061129643,3.996032938870357,0.01,43375,0,0,180105,{"$f":"MIN(H94*parameters!C$22,ROUND(P94+T94-V94+W94,0))","v":4613857},82.499994408854292,null,-223480,0,0,-5.5911457081947447E-6,null,null,"085","Eastham",2.4140309116996557,82.5,4613857,-5.5911457081947447E-6]
[86,"Easthampton",1773024900,5896791.924038915,498580000,7079211.7532678135,12976004,19817458.09,0.65477640679597371,16349403,12976004,65.48,null,12651233,3.61E-2,13107943,66.143412240212285,0,0,0,131939,131939,0,{"$f":"MIN(H95*parameters!C$22,ROUND(P95+T95-V95+W95,0))","v":12976004},65.477640679597371,null,0,0,0,-2.3593204026326475E-3,null,null,"086","Easthampton",0.65477640679597371,65.48,12976004,-2.3593204026326475E-3]
[87,"East Longmeadow",2143969100,7130491.8922847509,708484000,10059585.743114835,17190078,27993088.180000003,0.61408294395620333,23094298,17190078,61.41,null,17494208,3.1199999999999995E-2,18040027,64.444576046771829,0,0,0,849949,849949,0,{"$f":"MIN(H96*parameters!C$22,ROUND(P96+T96-V96+W96,0))","v":17190078},61.408294395620331,null,0,0,0,-1.705604379665715E-3,null,null,"087","East Longmeadow",0.61408294395620333,61.41,17190078,-1.705604379665715E-3]
[88,"Easton",4091504700,13607677.970076598,1319292000,18732294.581395566,32339973,39115873.647613555,0.82677363393040437,32270596,32270596,82.5,null,30622659,3.1899999999999998E-2,31599522,80.784395319080076,1.7156046809199239,0,0,0,0,0,{"$f":"MIN(H97*parameters!C$22,ROUND(P97+T97-V97+W97,0))","v":31599522},80.784395319080076,null,-671074,-671074,0,-1.7156046809199239,null,null,"088","Easton",0.82677363393040437,82.5,31599522,-1.7156046809199239]
[89,"Edgartown",10127877000,33683668.684663974,290012000,4117807.2906829501,37801476,8269249.8715142561,4.5713307237477192,6822131,6822131,82.5,null,6533734,5.6600000000000004E-2,6903543,83.48451319364753,0,0,0,81412,81412,0,{"$f":"MIN(H98*parameters!C$22,ROUND(P98+T98-V98+W98,0))","v":6822131},82.499998258617609,null,0,0,0,-1.7413823911738291E-6,null,null,"089","Edgartown",4.5713307237477192,82.5,6822131,-1.7413823911738291E-6]
[90,"Egremont",461457900,1534733.7863128472,38278000,543499.67405749403,2078233,984744.44747307792,2.110428756752972,812414,812414,82.5,null,729584,3.6999999999999998E-2,756579,76.82998385433234,5.6700161456676597,0.01,7296,0,0,48539,{"$f":"MIN(H99*parameters!C$22,ROUND(P99+T99-V99+W99,0))","v":812414},82.499982821402071,null,-55835,0,0,-1.7178597929046191E-5,null,null,"090","Egremont",2.110428756752972,82.5,812414,-1.7178597929046191E-5]
[91,"Erving",956478200,3181090.6464310107,40698000,577860.64409822598,3758951,2867410.1518308884,1.3109219821935303,2365613,2365613,82.5,null,2307875,2.9899999999999996E-2,2376880,82.892919887387691,0,0,0,11267,11267,0,{"$f":"MIN(H100*parameters!C$22,ROUND(P100+T100-V100+W100,0))","v":2365613},82.499986912912249,null,0,0,0,-1.308708775127343E-5,null,null,"091","Erving",1.3109219821935303,82.5,2365613,-1.308708775127343E-5]
[92,"Essex",944642600,3141727.3693015384,267540000,3798733.0267344676,6940460,5763689.0743088797,1.204169744502088,4755043,4755043,82.5,null,4828458,2.1600000000000001E-2,4932753,85.583259894904785,0,0,0,177710,177710,0,{"$f":"MIN(H101*parameters!C$22,ROUND(P101+T101-V101+W101,0))","v":4755043},82.499991562611726,null,0,0,0,-8.4373882742738715E-6,null,null,"092","Essex",1.204169744502088,82.5,4755043,-8.4373882742738715E-6]
[93,"Everett",7029819300,23380033.566191256,1048306000,14884632.66922293,38264666,120819748.25191998,0.31670870493964898,99676292,38264666,31.67,null,35431511,2.9700000000000001E-2,36483827,30.196906985708956,1.4730930142910452,0,0,0,0,0,{"$f":"MIN(H102*parameters!C$22,ROUND(P102+T102-V102+W102,0))","v":36483827},30.196906985708956,null,-1780839,-1780839,0,-1.4730930142910452,null,null,"093","Everett",0.31670870493964898,31.67,36483827,-1.4730930142910452]
[94,"Fairhaven",2482405500,8256076.2144907182,504096000,7157532.0469639618,15413608,24435623.652570277,0.63078430979103373,20159390,15413608,63.08,null,14691748,1.4500000000000002E-2,14904778,60.996102296870298,2.0838977031297006,0,0,0,0,0,{"$f":"MIN(H103*parameters!C$22,ROUND(P103+T103-V103+W103,0))","v":14904778},60.996102296870298,null,-508830,-508830,0,-2.0838977031297006,null,null,"094","Fairhaven",0.63078430979103373,63.08,14904778,-2.0838977031297006]
[95,"Fall River",6253556700,20798310.641367443,1696635000,24090092.729362465,44888403,201363934.86901611,0.2229217611842913,166125246,44888403,22.29,null,36806161,3.5200000000000002E-2,38101738,18.921828293028017,3.3681717069719816,0.01,368062,0,0,0,{"$f":"MIN(H104*parameters!C$22,ROUND(P104+T104-V104+W104,0))","v":38469800},19.104612762471078,null,-6786665,-6418603,0,-3.1853872375289214,null,null,"095","Fall River",0.2229217611842913,22.29,38469800,-3.1853872375289214]
[96,"Falmouth",13186717700,43856874.451081321,1469734000,20868382.620597132,64725257,40253892.467691109,1.6079254211738725,33209461,33209461,82.5,null,33892532,2.1299999999999999E-2,34614443,85.990300261726276,0,0,0,1404982,1404982,0,{"$f":"MIN(H105*parameters!C$22,ROUND(P105+T105-V105+W105,0))","v":33209461},82.499999289894347,null,0,0,0,-7.1010565250162472E-7,null,null,"096","Falmouth",1.6079254211738725,82.5,33209461,-7.1010565250162472E-7]
[97,"Fitchburg",3008407300,10005472.495541217,871769000,12378028.30224744,22383501,87753981.705956817,0.25507105848486633,72397035,22383501,25.51,null,20996215,1.7100000000000001E-2,21355250,24.335363005585862,1.1746369944141399,0,0,0,0,0,{"$f":"MIN(H106*parameters!C$22,ROUND(P106+T106-V106+W106,0))","v":21355250},24.335363005585862,null,-1028251,-1028251,0,-1.1746369944141399,null,null,"097","Fitchburg",0.25507105848486633,25.51,21355250,-1.1746369944141399]
[98,"Florida",182043400,605446.68658888305,14109000,200330.13483664725,805777,1118057.7732261196,0.7206935270213779,922398,805777,72.069999999999993,null,646119,3.4299999999999997E-2,668281,59.7715982128273,12.298401787172693,0.02,12922,0,0,0,{"$f":"MIN(H107*parameters!C$22,ROUND(P107+T107-V107+W107,0))","v":681203},60.927352442120302,null,-137496,-124574,0,-11.142647557879691,null,null,"098","Florida",0.7206935270213779,72.069999999999993,681203,-11.142647557879691]
[99,"Foxborough",3632254300,12080285.969077829,982169000,13945570.07600645,26025856,30830808.821074221,0.84415093197977265,25435417,25435417,82.5,null,25364233,5.5999999999999991E-3,25506273,82.729821160466386,0,0,0,70856,70856,0,{"$f":"MIN(H108*parameters!C$22,ROUND(P108+T108-V108+W108,0))","v":25435417},82.499999100295312,null,0,0,0,-8.9970468764022371E-7,null,null,"099","Foxborough",0.84415093197977265,82.5,25435417,-8.9970468764022371E-7]
[100,"Framingham",11101738800,36922574.352243714,2729430000,38754488.619121842,75677063,136315696.65116557,0.55516029965103009,112460450,75677063,55.52,null,71200714,3.6700000000000003E-2,73813780,54.14914189148066,1.370858108519343,0,0,0,0,0,{"$f":"MIN(H109*parameters!C$22,ROUND(P109+T109-V109+W109,0))","v":73813780},54.14914189148066,null,-1863283,-1863283,0,-1.370858108519343,null,null,"100","Framingham",0.55516029965103009,55.52,73813780,-1.370858108519343]
[101,"Franklin",6057291000,20145562.90233352,1754160000,24906875.705227382,45052439,63037808.316532783,0.71468917151715439,52006192,45052439,71.47,null,43477427,2.9600000000000001E-2,44764359,71.011921568123029,0.45807843187697017,0,0,0,0,0,{"$f":"MIN(H110*parameters!C$22,ROUND(P110+T110-V110+W110,0))","v":44764359},71.011921568123029,null,-288080,-288080,0,-0.45807843187697017,null,null,"101","Franklin",0.71468917151715439,71.47,44764359,-0.45807843187697017]
[102,"Freetown",1612258700,5362109.7377828592,349394000,4960957.3414923474,10323067,14421897.772752825,0.71579116442659074,11898066,10323067,71.58,null,10100766,2.5899999999999999E-2,10362376,71.851681126027344,0,0,0,39309,39309,0,{"$f":"MIN(H111*parameters!C$22,ROUND(P111+T111-V111+W111,0))","v":10323067},71.579116442659071,null,0,0,0,-8.8355734092715466E-4,null,null,"102","Freetown",0.71579116442659074,71.58,10323067,-8.8355734092715466E-4]
[103,"Gardner",1481985500,4928842.3010544144,462479000,6566622.7534990273,11495465,33867998.118301965,0.33941967753293195,27941098,11495465,33.94,null,10982893,3.7400000000000003E-2,11393653,33.641353587541893,0.29864641245810475,0,0,0,0,0,{"$f":"MIN(H112*parameters!C$22,ROUND(P112+T112-V112+W112,0))","v":11393653},33.641353587541893,null,-101812,-101812,0,-0.29864641245810475,null,null,"103","Gardner",0.33941967753293195,33.94,11393653,-0.29864641245810475]
[104,"Aquinnah",810687000,2696212.8701764625,14482000,205626.2678222642,2901839,768638.7862635901,3.7752960842713308,634127,634127,82.5,null,621391,2.86E-2,639163,83.155184388627916,0,0,0,5036,5036,0,{"$f":"MIN(H113*parameters!C$22,ROUND(P113+T113-V113+W113,0))","v":634127},82.500000173363375,null,0,0,0,1.7336337521101086E-7,null,null,"104","Aquinnah",3.7752960842713308,82.5,634127,1.7336337521101086E-7]
[105,"Georgetown",1425622900,4741389.4770710422,459139000,6519198.9353436371,11260588,13989188.322620388,0.80494934661732542,11541080,11260588,80.489999999999995,null,11076353,3.1899999999999998E-2,11429689,81.703732456859555,0,0,0,169101,169101,0,{"$f":"MIN(H114*parameters!C$22,ROUND(P114+T114-V114+W114,0))","v":11260588},80.494934661732543,null,0,0,0,4.9346617325483066E-3,null,null,"105","Georgetown",0.80494934661732542,80.489999999999995,11260588,4.9346617325483066E-3]
[106,"Gill",173933200,578473.48284970247,38825000,551266.3891865355,1129740,1687690.8642554521,0.66939984325766932,1392345,1129740,66.94,null,1145145,3.5099999999999999E-2,1185340,70.234426523540435,0,0,0,55600,55600,0,{"$f":"MIN(H115*parameters!C$22,ROUND(P115+T115-V115+W115,0))","v":1129740},66.939984325766929,null,0,0,0,-1.5674233068807553E-5,null,null,"106","Gill",0.66939984325766932,66.94,1129740,-1.5674233068807553E-5]
[107,"Gloucester",7571872500,25182814.188256662,1213317000,17227582.267318472,42410396,41101377.328009106,1.0318485354284914,33908636,33908636,82.5,null,33097862,3.6900000000000002E-2,34319173,83.49883928734603,0,0,0,410537,410537,0,{"$f":"MIN(H116*parameters!C$22,ROUND(P116+T116-V116+W116,0))","v":33908636},82.499999280784408,null,0,0,0,-7.1921559197107854E-7,null,null,"107","Gloucester",1.0318485354284914,82.5,33908636,-7.1921559197107854E-7]
[108,"Goshen",173818900,578093.33967353066,14647000,207969.06123413227,786062,1206448.1615077595,0.65155058052193349,995320,786062,65.16,null,763317,3.3300000000000003E-2,788735,65.376617509556141,0,0,0,2673,2673,0,{"$f":"MIN(H117*parameters!C$22,ROUND(P117+T117-V117+W117,0))","v":786062},65.15505805219334,null,0,0,0,-4.941947806656799E-3,null,null,"108","Goshen",0.65155058052193349,65.16,786062,-4.941947806656799E-3]
[109,"Gosnold",229578500,763540.68390859489,1900000,26977.621106359755,790518,41750.770000000004,18.934213668394616,34444,34444,82.5,null,6810,6.5299999999999997E-2,7255,17.376925024376796,65.123074975623211,0.02,136,0,0,27053,{"$f":"MIN(H118*parameters!C$22,ROUND(P118+T118-V118+W118,0))","v":34444},82.499077262527123,null,-27189,0,0,-9.2273747287663355E-4,null,null,"109","Gosnold",18.934213668394616,82.5,34444,-9.2273747287663355E-4]
[110,"Grafton",2853771800,9491180.0185603686,961612000,13653686.414383586,23144866,34244122.065564878,0.67587850421996831,28251401,23144866,67.59,null,22883718,4.0500000000000001E-2,23810509,69.53166722864627,0,0,0,665643,665643,0,{"$f":"MIN(H119*parameters!C$22,ROUND(P119+T119-V119+W119,0))","v":23144866},67.587850421996833,null,0,0,0,-2.1495780031699496E-3,null,null,"110","Grafton",0.67587850421996831,67.59,23144866,-2.1495780031699496E-3]
[111,"Granby",698314800,2322481.242692559,215417000,3058651.6872993154,5381133,8668332.9309876934,0.62078060947145219,7151375,5381133,62.08,null,5345120,3.5000000000000003E-2,5532199,63.820795117633374,0,0,0,151066,151066,0,{"$f":"MIN(H120*parameters!C$22,ROUND(P120+T120-V120+W120,0))","v":5381133},62.078060947145218,null,0,0,0,-1.9390528547802433E-3,null,null,"111","Granby",0.62078060947145219,62.08,5381133,-1.9390528547802433E-3]
[112,"Granville",210428400,699850.57159007213,54671000,776259.74921357585,1476110,2022276.3484122918,0.72992496854295297,1668378,1476110,72.989999999999995,null,1482039,4.2000000000000003E-2,1544285,76.363697830537987,0,0,0,68175,68175,0,{"$f":"MIN(H121*parameters!C$22,ROUND(P121+T121-V121+W121,0))","v":1476110},72.992496854295297,null,0,0,0,2.4968542953018869E-3,null,null,"112","Granville",0.72992496854295297,72.989999999999995,1476110,2.4968542953018869E-3]
[113,"Great Barrington",1600428300,5322763.7550061084,308304000,4377530.788197441,9700295,8890660.4402124211,1.0910657386177527,7334795,7334795,82.5,null,7180359,5.2299999999999992E-2,7555892,84.986847161823107,0,0,0,221097,221097,0,{"$f":"MIN(H122*parameters!C$22,ROUND(P122+T122-V122+W122,0))","v":7334795},82.500001538971745,null,0,0,0,1.538971744707851E-6,null,null,"113","Great Barrington",1.0910657386177527,82.5,7334795,1.538971744707851E-6]
[114,"Greenfield",1635101600,5438081.501203456,404113000,5737898.6306075575,11175980,26181984.449429423,0.42685763646321145,21600137,11175980,42.69,null,11026454,2.6800000000000001E-2,11321963,43.243334063804078,0,0,0,145983,145983,0,{"$f":"MIN(H123*parameters!C$22,ROUND(P123+T123-V123+W123,0))","v":11175980},42.685763646321142,null,0,0,0,-4.2363536788556644E-3,null,null,"114","Greenfield",0.42685763646321145,42.69,11175980,-4.2363536788556644E-3]
[115,"Groton",2033204400,6762106.5478778034,803259000,11405272.08014391,18167379,19265738.801975615,0.94298896018132539,15894235,15894235,82.5,null,15823797,3.6799999999999999E-2,16406113,85.156936718760178,0,0,0,511878,511878,0,{"$f":"MIN(H124*parameters!C$22,ROUND(P124+T124-V124+W124,0))","v":15894235},82.500002534915069,null,0,0,0,2.534915068963528E-6,null,null,"115","Groton",0.94298896018132539,82.5,15894235,2.534915068963528E-6]
[116,"Groveland",1116385500,3712916.271234626,290488000,4124565.8947074907,7837482,10329714.846079731,0.75873168976919358,8522015,7837482,75.87,null,7470948,3.3399999999999999E-2,7720478,74.740475560465512,1.1295244395344923,0,0,0,0,0,{"$f":"MIN(H125*parameters!C$22,ROUND(P125+T125-V125+W125,0))","v":7720478},74.740475560465512,null,-117004,-117004,0,-1.1295244395344923,null,null,"116","Groveland",0.75873168976919358,75.87,7720478,-1.1295244395344923]
[117,"Hadley",1106994300,3681682.6702191895,195843000,2780725.3949120068,6462408,5857373.9399999985,1.1032944227562842,4832334,4832334,82.5,null,4885500,-6.7999999999999996E-3,4852279,82.840519483719376,0,0,0,19945,19945,0,{"$f":"MIN(H126*parameters!C$22,ROUND(P126+T126-V126+W126,0))","v":4832334},82.500008527712353,null,0,0,0,8.5277123531568577E-6,null,null,"117","Hadley",1.1032944227562842,82.5,4832334,8.5277123531568577E-6]
[118,"Halifax",1059770900,3524625.336311663,278799000,3958596.7299115751,7483222,13431903.028006744,0.55712299176049729,11081320,7483222,55.71,null,7282905,2.8799999999999999E-2,7492653,55.782512607313606,0,0,0,9431,9431,0,{"$f":"MIN(H127*parameters!C$22,ROUND(P127+T127-V127+W127,0))","v":7483222},55.712299176049733,null,0,0,0,2.2991760497319547E-3,null,null,"118","Halifax",0.55712299176049729,55.71,7483222,2.2991760497319547E-3]
[119,"Hamilton",1756199200,5840832.3873870037,620295000,8807412.3600891698,14648245,12022278.325190455,1.2184250442203888,9918380,9918380,82.5,null,9956066,2.46E-2,10200985,84.850680745144018,0,0,0,282605,282605,0,{"$f":"MIN(H128*parameters!C$22,ROUND(P128+T128-V128+W128,0))","v":9918380},82.500003175087656,null,0,0,0,3.1750876559044627E-6,null,null,"119","Hamilton",1.2184250442203888,82.5,9918380,3.1750876559044627E-6]
[120,"Hampden",662234900,2202485.3740839842,211978000,3009822.1930968044,5212308,6505214.9423783263,0.80125069596768228,5366802,5212308,80.13,null,5348433,3.2500000000000001E-2,5522257,84.889693098765562,0,0,0,309949,309949,0,{"$f":"MIN(H129*parameters!C$22,ROUND(P129+T129-V129+W129,0))","v":5212308},80.125069596768228,null,0,0,0,-4.9304032317678548E-3,null,null,"120","Hampden",0.80125069596768228,80.13,5212308,-4.9304032317678548E-3]
[121,"Hancock",322918000,1073972.6523450394,9915000,140780.58593134576,1214753,936904.25999999989,1.2965604404445765,772946,772946,82.5,null,673593,3.5000000000000005E-3,675951,72.147286426043152,10.352713573956848,0.02,13472,0,0,0,{"$f":"MIN(H130*parameters!C$22,ROUND(P130+T130-V130+W130,0))","v":689423},73.585213498762414,null,-96995,-83523,0,-8.914786501237586,null,null,"121","Hancock",1.2965604404445765,82.5,689423,-8.914786501237586]
[122,"Hanover",3073778500,10222886.455280153,851870000,12095487.416776149,22318374,28925957.083836667,0.77156907670554231,23863915,22318374,77.16,null,21680518,3.8199999999999998E-2,22508714,77.814932569949391,0,0,0,190340,190340,0,{"$f":"MIN(H131*parameters!C$22,ROUND(P131+T131-V131+W131,0))","v":22318374},77.156907670554233,null,0,0,0,-3.092329445763653E-3,null,null,"122","Hanover",0.77156907670554231,77.16,22318374,-3.092329445763653E-3]
[123,"Hanson",1526710200,5077589.3658954455,415143000,5894510.8205039511,10972100,17326916.685841557,0.63324018917720637,14294706,10972100,63.32,null,10176049,4.3299999999999998E-2,10616672,61.272713388616118,2.0472866113838819,0,0,0,0,0,{"$f":"MIN(H132*parameters!C$22,ROUND(P132+T132-V132+W132,0))","v":10616672},61.272713388616118,null,-355428,-355428,0,-2.0472866113838819,null,null,"123","Hanson",0.63324018917720637,63.32,10616672,-2.0472866113838819]
[124,"Hardwick",270761600,900508.9642113063,64626000,917608.28506295022,1818117,4572745.0101609519,0.39759859689530463,3772515,1818117,39.76,null,1685972,1.29E-2,1707721,37.345642414027616,2.4143575859723825,0,0,0,0,0,{"$f":"MIN(H133*parameters!C$22,ROUND(P133+T133-V133+W133,0))","v":1707721},37.345642414027616,null,-110396,-110396,0,-2.4143575859723825,null,null,"124","Hardwick",0.39759859689530463,39.76,1707721,-2.4143575859723825]
[125,"Harvard",1320082000,4390377.640307893,469429000,6665304.0517565012,11055682,9466190.6443042383,1.1679124597656556,7809607,7809607,82.5,null,7860118,3.2300000000000002E-2,8114000,85.715577732233342,0,0,0,304393,304393,0,{"$f":"MIN(H134*parameters!C$22,ROUND(P134+T134-V134+W134,0))","v":7809607},82.499997025720191,null,0,0,0,-2.9742798091092482E-6,null,null,"125","Harvard",1.1679124597656556,82.5,7809607,-2.9742798091092482E-6]
[126,"Harwich",6396397000,21273374.205036119,503299000,7146215.6448472412,28419590,17046282.252341639,1.6672016560148191,14063183,14063183,82.5,null,14035133,1.1999999999999999E-3,14051975,82.434250424720545,6.5749575279454575E-2,0,0,0,0,0,{"$f":"MIN(H135*parameters!C$22,ROUND(P135+T135-V135+W135,0))","v":14051975},82.434250424720545,null,-11208,-11208,0,-6.5749575279454575E-2,null,null,"126","Harwich",1.6672016560148191,82.5,14051975,-6.5749575279454575E-2]
[127,"Hatfield",610123900,2029172.6789528599,130093000,1847157.7171524523,3876330,3877179.38,0.99978092837169685,3198673,3198673,82.5,null,3167592,3.7900000000000003E-2,3287644,84.794735496607331,0,0,0,88971,88971,0,{"$f":"MIN(H136*parameters!C$22,ROUND(P136+T136-V136+W136,0))","v":3198673},82.500000296607382,null,0,0,0,2.9660738221082283E-7,null,null,"127","Hatfield",0.99978092837169685,82.5,3198673,2.9660738221082283E-7]
[128,"Haverhill",7590825800,25245849.775841407,2007640000,28505974.335774787,53751824,125915906.80587319,0.42688668464160096,103880623,53751824,42.69,null,50202503,2.4299999999999999E-2,51422424,40.838703627238196,1.8512963727618015,0,0,0,0,0,{"$f":"MIN(H137*parameters!C$22,ROUND(P137+T137-V137+W137,0))","v":51422424},40.838703627238196,null,-2329400,-2329400,0,-1.8512963727618015,null,null,"128","Haverhill",0.42688668464160096,42.69,51422424,-1.8512963727618015]
[129,"Hawley",51879800,172543.76160241975,8262000,117310.05556881278,289854,358832.58488768723,0.8077694507334745,{"$f":"ROUND(H138*maxloc,0)","v":296037},289854,80.78,null,266791,3.6600000000000001E-2,276556,77.071038597723955,3.7089614022760458,0.01,2668,0,{"$f":"MAX(U138*(V$5),0)","v":0},0,{"$f":"MIN(H138*parameters!C$22,ROUND(P138+T138-V138+W138,0))","v":279224},77.814560817378307,null,-13298,-10630,0,-2.9654391826216937,null,null,"129","Hawley",0.8077694507334745,{"$f":"L138","v":80.78},{"$f":"X138","v":279224},-2.9654391826216937]
[130,"Heath",96423600,{"$f":"D$5*C139","v":320689.18251895881},9383000,133226.85202156505,{"$f":"ROUND(D139+F139,0)","v":453916},{"$f":"(SUMIF(town1755,A139,found1755)/2)","v":1080054.7642849239},{"$f":"G139/H139","v":0.4202712816146188},891045,{"$f":"MIN(G139,J139)","v":453916},{"$f":"IF(H139>0, ROUND((K139*100/H139), 2), 0)","v":42.03},null,470069,3.7100000000000001E-2,{"$f":"ROUND(N139*(1+O139),0)","v":487509},{"$f":"P139*100/H139","v":45.137433408088988},{"$f":"IF(L139>Q139,L139-Q139,0)","v":0},{"$f":"IF(AND(R139>$T$4,R139<=$T$5),$S$4,IF(R139>$T$5,$S$5,0))","v":0},{"$f":"ROUND(S139*N139,0)","v":0},{"$f":"MAX(P139-K139,0)","v":33593},33593,{"$f":"IF(AND(I139>1.75,$W$5=1),MAX(K139-(P139+T139),0),0)","v":0},{"$f":"MIN(H139*parameters!C$22,ROUND(P139+T139-V139+W139,0))","v":453916},{"$f":"X139*100/H139","v":42.027128161461881},null,{"$f":"IF(Q139<L139, P139-K139, 0)","v":0},{"$f":"-1*MAX(K139-(P139+T139+W139),0)","v":0},{"$f":"IF(Q139>L139, X139-K139,0)","v":0},{"$f":"Y139-L139","v":-2.8718385381196754E-3},null,null,{"$f":"TEXT(A139,\"000\")","v":"130"},{"$f":"B139","v":"Heath"},{"$f":"I139","v":0.4202712816146188},42.03,453916,{"$f":"AD139","v":-2.8718385381196754E-3}]
[131,"Hingham",7942260800,26414665.323679805,2988570000,{"$f":"E140*F$5","v":42433952.163070299},68848617,43233894.313900001,1.5924685502565215,35667963,35667963,82.5,null,37505081,1.66E-2,38127665,88.189291307356712,0,0,0,2459702,2459702,0,{"$f":"MIN(H140*parameters!C$22,ROUND(P140+T140-V140+W140,0))","v":35667963},82.500000441858177,null,0,0,0,4.4185817671404948E-7,null,null,"131","Hingham",1.5924685502565215,82.5,35667963,4.4185817671404948E-7]
[132,"Hinsdale",323523800,1075987.4444371203,67709000,961383.02499500662,2037370,2324215.4465196789,0.87658396860359644,1917478,1917478,82.5,null,1810809,3.7999999999999999E-2,1879620,80.871160322704853,1.6288396772951472,0,0,0,0,0,{"$f":"MIN(H141*parameters!C$22,ROUND(P141+T141-V141+W141,0))","v":1879620},80.871160322704853,null,-37858,-37858,0,-1.6288396772951472,null,null,"132","Hinsdale",0.87658396860359644,82.5,1879620,-1.6288396772951472]
[133,"Holbrook",1455967400,4842310.3397949664,359991000,5111421.4735260811,9953732,19535533.150757145,0.50951934217440187,16116815,9953732,50.95,null,9351037,2.7000000000000003E-2,9603515,49.159216315669347,1.7907836843306555,0,0,0,0,0,{"$f":"MIN(H142*parameters!C$22,ROUND(P142+T142-V142+W142,0))","v":9603515},49.159216315669347,null,-350217,-350217,0,-1.7907836843306555,null,null,"133","Holbrook",0.50951934217440187,50.95,9603515,-1.7907836843306555]
[134,"Holden",2669892800,8879628.4254607167,893156000,12681696.924669396,21561325,36401807.491874307,0.59231468120952424,30031491,21561325,59.23,null,20855299,3.8399999999999997E-2,21656142,59.491941450528607,0,0,0,94817,94817,0,{"$f":"MIN(H143*parameters!C$22,ROUND(P143+T143-V143+W143,0))","v":21561325},59.231468120952421,null,0,0,0,1.4681209524241012E-3,null,null,"134","Holden",0.59231468120952424,59.23,21561325,1.4681209524241012E-3]
[135,"Holland",368404300,1225252.6746923912,89712000,1273798.0761546034,2499051,3779513.2170766918,0.66120975280856931,3118098,2499051,66.12,null,2381488,1.83E-2,2425069,64.163527436363822,1.9564725636361828,0,0,0,0,0,{"$f":"MIN(H144*parameters!C$22,ROUND(P144+T144-V144+W144,0))","v":2425069},64.163527436363822,null,-73982,-73982,0,-1.9564725636361828,null,null,"135","Holland",0.66120975280856931,66.12,2425069,-1.9564725636361828]
[136,"Holliston",2882048100,9585222.3850729335,908667000,12901933.704132946,22487156,29707060.318633158,0.75696335345222232,24508325,22487156,75.7,null,22057569,4.1200000000000001E-2,22966341,77.309369401302973,0,0,0,479185,479185,0,{"$f":"MIN(H145*parameters!C$22,ROUND(P145+T145-V145+W145,0))","v":22487156},75.696335345222238,null,0,0,0,-3.6646547777650085E-3,null,null,"136","Holliston",0.75696335345222232,75.7,22487156,-3.6646547777650085E-3]
[137,"Holyoke",2379718800,7914556.9818695597,736279000,10454239.942404976,18368797,94346220.059999973,0.19469563262119316,77835632,18368797,19.47,null,11207668,5.4999999999999997E-3,11269310,11.944633280308658,7.5253667196913412,0.02,224153,0,0,0,{"$f":"MIN(H146*parameters!C$22,ROUND(P146+T146-V146+W146,0))","v":11493463},12.18221884532382,null,-7099487,-6875334,0,-7.2877811546761784,null,null,"137","Holyoke",0.19469563262119316,19.47,11493463,-7.2877811546761784]
[138,"Hopedale",867520800,2885232.8285833881,262914000,3733049.6187144569,6618282,11189524.378769046,0.59147125257240596,9231358,6618282,59.15,null,6408697,3.8100000000000002E-2,6652868,59.456217930255576,0,0,0,34586,34586,0,{"$f":"MIN(H147*parameters!C$22,ROUND(P147+T147-V147+W147,0))","v":6618282},59.147125257240596,null,0,0,0,-2.8747427594026931E-3,null,null,"138","Hopedale",0.59147125257240596,59.15,6618282,-2.8747427594026931E-3]
[139,"Hopkinton",4454778900,14815868.768057888,1570790000,22303251.293504652,37119120,44130489.942706332,0.84112186490997398,36407654,36407654,82.5,null,34772602,5.8299999999999998E-2,36799845,83.388707099731846,0,0,0,392191,392191,0,{"$f":"MIN(H148*parameters!C$22,ROUND(P148+T148-V148+W148,0))","v":36407654},82.499999540606225,null,0,0,0,-4.5939377457671071E-7,null,null,"139","Hopkinton",0.84112186490997398,82.5,36407654,-4.5939377457671071E-7]
[140,"Hubbardston",527028100,1752809.5876270963,169203000,2402470.749504942,4155280,6495063.1157192998,0.63975975690573728,5358427,4155280,63.98,null,3899091,2.0799999999999999E-2,3980192,61.280266705448497,2.6997332945514998,0.01,38991,0,0,0,{"$f":"MIN(H149*parameters!C$22,ROUND(P149+T149-V149+W149,0))","v":4019183},61.880584197446915,null,-175088,-136097,0,-2.0994158025530822,null,null,"140","Hubbardston",0.63975975690573728,63.98,4019183,-2.0994158025530822]
[141,"Hudson",3166995200,10532910.010925401,817996000,11614519.028693607,22147429,34574027.233734354,0.64057996050834509,28523572,22147429,64.06,null,21185151,2.3599999999999999E-2,21685121,62.720842016464687,1.3391579835353156,0,0,0,0,0,{"$f":"MIN(H150*parameters!C$22,ROUND(P150+T150-V150+W150,0))","v":21685121},62.720842016464687,null,-462308,-462308,0,-1.3391579835353156,null,null,"141","Hudson",0.64057996050834509,64.06,21685121,-1.3391579835353156]
[142,"Hull",2567554800,8539268.9122230317,460088000,6532673.5471488666,15071942,10312532.869039997,1.4615169901905058,8507840,8507840,82.5,null,8718484,2.2200000000000001E-2,8912034,86.419448191583115,0,0,0,404194,404194,0,{"$f":"MIN(H151*parameters!C$22,ROUND(P151+T151-V151+W151,0))","v":8507840},82.500003714334852,null,0,0,0,3.7143348521340158E-6,null,null,"142","Hull",1.4615169901905058,82.5,8507840,3.7143348521340158E-6]
[143,"Huntington",203312000,676182.58472297818,69129000,981545.24708502286,1657728,3601326.5372800343,0.46031038364325289,2971094,1657728,46.03,null,1680187,3.9699999999999999E-2,1746890,48.506848293722612,0,0,0,89162,89162,0,{"$f":"MIN(H152*parameters!C$22,ROUND(P152+T152-V152+W152,0))","v":1657728},46.031038364325291,null,0,0,0,1.0383643252893648E-3,null,null,"143","Huntington",0.46031038364325289,46.03,1657728,1.0383643252893648E-3]
[144,"Ipswich",3246602500,10797670.919660829,843632000,11978518.131158154,22776189,18877636.507910773,1.2065169805794025,15574050,15574050,82.5,null,15594806,2.3700000000000002E-2,15964403,84.567805897258552,0,0,0,390353,390353,0,{"$f":"MIN(H153*parameters!C$22,ROUND(P153+T153-V153+W153,0))","v":15574050},82.499999369484698,null,0,0,0,-6.3051530219127017E-7,null,null,"144","Ipswich",1.2065169805794025,82.5,15574050,-6.3051530219127017E-7]
[145,"Kingston",2303085100,7659685.782221308,611304000,8679751.4172642864,16339437,24421093.848332617,0.66907064447957132,20147402,16339437,66.91,null,15625360,3.1199999999999995E-2,16112871,65.979317306870456,0.93068269312954044,0,0,0,0,0,{"$f":"MIN(H154*parameters!C$22,ROUND(P154+T154-V154+W154,0))","v":16112871},65.979317306870456,null,-226566,-226566,0,-0.93068269312954044,null,null,"145","Kingston",0.66907064447957132,66.91,16112871,-0.93068269312954044]
[146,"Lakeville",2033953800,6764598.9301719684,491877000,6984037.5457541663,13748636,19501387.987857729,0.70500807473603411,16088645,13748636,70.5,null,12963264,4.2599999999999999E-2,13515499,69.305318208197491,1.194681791802509,0,0,0,0,0,{"$f":"MIN(H155*parameters!C$22,ROUND(P155+T155-V155+W155,0))","v":13515499},69.305318208197491,null,-233137,-233137,0,-1.194681791802509,null,null,"146","Lakeville",0.70500807473603411,70.5,13515499,-1.194681791802509]
[147,"Lancaster",1088038600,3618639.1006254945,356212000,5057764.4050203264,8676404,11919287.002485722,0.72792978289645749,9833412,8676404,72.790000000000006,null,7827706,3.5400000000000001E-2,8104807,67.99741459627387,4.792585403726136,0.01,78277,0,0,0,{"$f":"MIN(H156*parameters!C$22,ROUND(P156+T156-V156+W156,0))","v":8183084},68.654140120071347,null,-571597,-493320,0,-4.1358598799286597,null,null,"147","Lancaster",0.72792978289645749,72.790000000000006,8183084,-4.1358598799286597]
[148,"Lanesborough",426435400,1418254.6578134939,85047000,1207560.9169645146,2625816,4607646.6475002263,0.56988224160474121,3801308,2625816,56.99,null,2651132,2.6000000000000002E-2,2720061,59.033628402813989,0,0,0,94245,94245,0,{"$f":"MIN(H157*parameters!C$22,ROUND(P157+T157-V157+W157,0))","v":2625816},56.988224160474125,null,0,0,0,-1.7758395258766768E-3,null,null,"148","Lanesborough",0.56988224160474121,56.99,2625816,-1.7758395258766768E-3]
[149,"Lawrence",5310863600,17663066.991418023,1439231000,20435278.211856451,38098345,262109879.87633419,0.14535257128794665,216240651,38098345,14.54,null,12903347,2.3300000000000001E-2,13203995,5.0375800432359759,9.5024199567640224,0.02,258067,0,0,0,{"$f":"MIN(H158*parameters!C$22,ROUND(P158+T158-V158+W158,0))","v":13462062},5.136037606194594,null,-24894350,-24636283,0,-9.4039623938054042,null,null,"149","Lawrence",0.14535257128794665,14.54,13462062,-9.4039623938054042]
[150,"Lee",1039758100,3458066.0243598646,188035000,2669861.5709128194,6127928,7363633.6299999999,0.83218806202339535,6074998,6074998,82.5,null,6036549,5.0799999999999998E-2,6343206,86.142335682716464,0,0,0,268208,268208,0,{"$f":"MIN(H159*parameters!C$22,ROUND(P159+T159-V159+W159,0))","v":6074998},82.500003466359317,null,0,0,0,3.4663593169170781E-6,null,null,"150","Lee",0.83218806202339535,82.5,6074998,3.4663593169170781E-6]
[151,"Leicester",1145368600,3809309.3393825199,356770000,5065687.306376826,8874997,17918102.010000005,0.49530898948152585,14782434,8874997,49.53,null,8592877,3.3099999999999997E-2,8877301,49.543757452913383,0,0,0,2304,2304,0,{"$f":"MIN(H160*parameters!C$22,ROUND(P160+T160-V160+W160,0))","v":8874997},49.530898948152583,null,0,0,0,8.9894815258162453E-4,null,null,"151","Leicester",0.49530898948152585,49.53,8874997,8.9894815258162453E-4]
[152,"Lenox",1351518200,4494929.3193522608,268376000,3810603.180021266,8305532,5879254.1000000006,1.4126846465098353,4850385,4850385,82.5,null,4728371,1.1900000000000001E-2,4784639,81.381735142218119,1.118264857781881,0,0,0,0,0,{"$f":"MIN(H161*parameters!C$22,ROUND(P161+T161-V161+W161,0))","v":4784639},81.381735142218119,null,-65746,-65746,0,-1.118264857781881,null,null,"152","Lenox",1.4126846465098353,82.5,4784639,-1.118264857781881]
[153,"Leominster",4405389500,14651607.671074349,1270113000,18034014.355927318,32685622,81402160.149999991,0.4015326121539049,67156782,32685622,40.15,null,30886014,3.6700000000000003E-2,32019531,39.334989318462213,0.81501068153778533,0,0,0,0,0,{"$f":"MIN(H162*parameters!C$22,ROUND(P162+T162-V162+W162,0))","v":32019531},39.334989318462213,null,-666091,-666091,0,-0.81501068153778533,null,null,"153","Leominster",0.4015326121539049,40.15,32019531,-0.81501068153778533]
[154,"Leverett",291826100,970566.05900107371,87249000,1238826.5599519906,2209393,2195996.470475175,1.0061004330858174,1811697,1811697,82.5,null,1911000,4.6699999999999998E-2,2000244,91.08593874776048,0,0,0,188547,188547,0,{"$f":"MIN(H163*parameters!C$22,ROUND(P163+T163-V163+W163,0))","v":1811697},82.499995986240393,null,0,0,0,-4.013759607346401E-6,null,null,"154","Leverett",1.0061004330858174,82.5,1811697,-4.013759607346401E-6]
[155,"Lexington",13471181900,44802956.030216612,6516414000,92524919.928514838,137327876,82149220.492529407,1.6716881204306557,67773107,67773107,82.5,null,68152800,3.7600000000000001E-2,70715345,86.081577616954746,0,0,0,2942238,2942238,0,{"$f":"MIN(H164*parameters!C$22,ROUND(P164+T164-V164+W164,0))","v":67773107},82.500000114015975,null,0,0,0,1.1401597532767482E-7,null,null,"155","Lexington",1.6716881204306557,82.5,67773107,1.1401597532767482E-7]
[156,"Leyden",95052200,316128.12957230984,29721000,422000.98784322012,738129,616439.85404537676,1.1974063570939486,508563,508563,82.5,null,576745,1.9800000000000002E-2,588165,95.413201489192588,0,0,0,79602,79602,0,{"$f":"MIN(H165*parameters!C$22,ROUND(P165+T165-V165+W165,0))","v":508563},82.500019533546279,null,0,0,0,1.953354627914905E-5,null,null,"156","Leyden",1.1974063570939486,82.5,508563,1.953354627914905E-5]
[157,"Lincoln",2323751900,7728420.1916115694,1094909000,15546336.919970132,23274757,8719386.2029843275,2.6693114008453831,7193494,7193494,82.5,null,6951751,2.2499999999999999E-2,7108165,81.521391925123524,0.97860807487647605,0,0,0,0,85329,{"$f":"MIN(H166*parameters!C$22,ROUND(P166+T166-V166+W166,0))","v":7193494},82.500004387211675,null,-85329,0,0,4.3872116748389089E-6,null,null,"157","Lincoln",2.6693114008453831,82.5,7193494,4.3872116748389089E-6]
[158,"Littleton",2226110600,7403681.1373023717,554681000,7875775.7120509129,15279457,16884130.446374975,0.9049596630711001,13929408,13929408,82.5,null,14353167,3.5000000000000003E-2,14855528,87.985152964685156,0,0,0,926120,926120,0,{"$f":"MIN(H167*parameters!C$22,ROUND(P167+T167-V167+W167,0))","v":13929408},82.500002260943475,null,0,0,0,2.2609434751075241E-6,null,null,"158","Littleton",0.9049596630711001,82.5,13929408,2.2609434751075241E-6]
[159,"Longmeadow",2309114600,7679738.9167858548,1221303000,17340973.468452889,25020712,29129978.330000002,0.85893342303766818,24032232,24032232,82.5,null,24121262,2.0400000000000001E-2,24613336,84.494865465284391,0,0,0,581104,581104,0,{"$f":"MIN(H168*parameters!C$22,ROUND(P168+T168-V168+W168,0))","v":24032232},82.499999580329245,null,0,0,0,-4.1967075503634987E-7,null,null,"159","Longmeadow",0.85893342303766818,82.5,24032232,-4.1967075503634987E-7]
[160,"Lowell",9848176600,32753430.728124019,2589681000,36770227.791757278,69523659,268381891.58986676,0.2590475034964132,221415061,69523659,25.9,null,59561326,3.7999999999999999E-2,61824656,23.03607580740902,2.8639241925909786,0.01,595613,0,0,0,{"$f":"MIN(H169*parameters!C$22,ROUND(P169+T169-V169+W169,0))","v":62420269},23.25800322452038,null,-7699003,-7103390,0,-2.641996775479619,null,null,"160","Lowell",0.2590475034964132,25.9,62420269,-2.641996775479619]
[161,"Ludlow",2262713800,7525417.4164454229,644575000,9152157.9603325464,16677575,28842661.469999999,0.57822593859262184,23795196,16677575,57.82,null,16443714,2.1000000000000001E-2,16789032,58.209024910765287,0,0,0,111457,111457,0,{"$f":"MIN(H170*parameters!C$22,ROUND(P170+T170-V170+W170,0))","v":16677575},57.822593859262184,null,0,0,0,2.5938592621841394E-3,null,null,"161","Ludlow",0.57822593859262184,57.82,16677575,2.5938592621841394E-3]
[162,"Lunenburg",1672175900,5561384.5821863553,458091000,6504318.6474912874,12065703,19879502.372694623,0.6069419029609503,16400589,12065703,60.69,null,11342252,3.8600000000000002E-2,11780063,59.25733340377996,1.432666596220038,0,0,0,0,0,{"$f":"MIN(H171*parameters!C$22,ROUND(P171+T171-V171+W171,0))","v":11780063},59.25733340377996,null,-285640,-285640,0,-1.432666596220038,null,null,"162","Lunenburg",0.6069419029609503,60.69,11780063,-1.432666596220038]
[163,"Lynn",9814969600,32642989.656810492,2178211000,30927868.972476307,63570859,268344427.44,0.23690023901917626,221384153,63570859,23.69,null,53396054,2.2099999999999998E-2,54576107,20.338080995627475,3.351919004372526,0.01,533961,0,0,0,{"$f":"MIN(H172*parameters!C$22,ROUND(P172+T172-V172+W172,0))","v":55110068},20.537064445775471,null,-8994752,-8460791,0,-3.1529355542245305,null,null,"163","Lynn",0.23690023901917626,23.69,55110068,-3.1529355542245305]
[164,"Lynnfield",3508636700,11669153.973498369,1094455000,15539890.688400507,27209045,24780824.607608218,1.0979878769508853,20444180,20444180,82.5,null,19837138,3.2599999999999997E-2,20483829,82.659997495446731,0,0,0,39649,39649,0,{"$f":"MIN(H173*parameters!C$22,ROUND(P173+T173-V173+W173,0))","v":20444180},82.499998784234251,null,0,0,0,-1.2157657494071827E-6,null,null,"164","Lynnfield",1.0979878769508853,82.5,20444180,-1.2157657494071827E-6]
[165,"Malden",9209316800,30628687.127944961,1860508000,26416884.152290091,57045571,100853726.43169536,0.56562680446552405,83204324,57045571,56.56,null,46830846,3.2000000000000001E-2,48329433,47.920324523389631,8.6396754766103712,0.02,936617,0,0,0,{"$f":"MIN(H174*parameters!C$22,ROUND(P174+T174-V174+W174,0))","v":49266050},48.849013063851579,null,-8716138,-7779521,0,-7.7109869361484229,null,null,"165","Malden",0.56562680446552405,56.56,49266050,-7.7109869361484229]
[166,"Manchester",2662108600,8853739.4446037058,813624000,11552442.102653079,20406182,8646826.1613167282,2.3599620969935828,7133632,7133632,82.5,null,7503441,2.8799999999999999E-2,7719540,89.275993942550571,0,0,0,585908,585908,0,{"$f":"MIN(H175*parameters!C$22,ROUND(P175+T175-V175+W175,0))","v":7133632},82.500004821580674,null,0,0,0,4.8215806742746281E-6,null,null,"166","Manchester",2.3599620969935828,82.5,7133632,4.8215806742746281E-6]
[167,"Mansfield",4294632400,14283247.603029074,1205592000,17117896.939399194,31401145,43640057.49587702,0.7195486624408477,36003047,31401145,71.95,null,30928074,2.9399999999999999E-2,31837359,72.954438712661869,0,0,0,436214,436214,0,{"$f":"MIN(H176*parameters!C$22,ROUND(P176+T176-V176+W176,0))","v":31401145},71.954866244084769,null,0,0,0,4.8662440847664357E-3,null,null,"167","Mansfield",0.7195486624408477,71.95,31401145,4.8662440847664357E-3]
[168,"Marblehead",6959309400,23145529.127542488,1951102000,27703205.524137225,50848735,30942816.487268977,1.6433130778809697,25527824,25527824,82.5,null,26979301,1.77E-2,27456835,88.734117048772077,0,0,0,1929011,1929011,0,{"$f":"MIN(H177*parameters!C$22,ROUND(P177+T177-V177+W177,0))","v":25527824},82.500001286253607,null,0,0,0,1.2862536067359542E-6,null,null,"168","Marblehead",1.6433130778809697,82.5,25527824,1.2862536067359542E-6]
[169,"Marion",1895160500,6302995.0290926835,338551000,4807000.3174627377,11109995,8325057.7318083709,1.3345246793365702,6868173,6868173,82.5,null,6864629,3.4200000000000001E-2,7099399,85.277474687948697,0,0,0,231226,231226,0,{"$f":"MIN(H178*parameters!C$22,ROUND(P178+T178-V178+W178,0))","v":6868173},82.500004459525755,null,0,0,0,4.4595257548962763E-6,null,null,"169","Marion",1.3345246793365702,82.5,6868173,4.4595257548962763E-6]
[170,"Marlborough",6865547800,22833693.323282227,1529182000,21712469.788771275,44546163,77176208.176401988,0.57720072095509856,63670372,44546163,57.72,null,41253470,3.7400000000000003E-2,42796350,55.452776200380562,2.2672237996194369,0,0,0,0,0,{"$f":"MIN(H179*parameters!C$22,ROUND(P179+T179-V179+W179,0))","v":42796350},55.452776200380562,null,-1749813,-1749813,0,-2.2672237996194369,null,null,"170","Marlborough",0.57720072095509856,57.72,42796350,-2.2672237996194369]
[171,"Marshfield",5504694400,18307716.649789993,1334557000,18949038.468863238,37256755,43275872.179899998,0.86091286260209332,35702595,35702595,82.5,null,35899546,2.7300000000000001E-2,36879604,85.219782161037941,0,0,0,1177009,1177009,0,{"$f":"MIN(H180*parameters!C$22,ROUND(P180+T180-V180+W180,0))","v":35702595},82.500001043497164,null,0,0,0,1.0434971642325763E-6,null,null,"171","Marshfield",0.86091286260209332,82.5,35702595,1.0434971642325763E-6]
[172,"Mashpee",5990551100,19923596.869408004,605961000,8603887.5069636125,28527484,19172447.68739922,1.4879416788681201,15817269,15817269,82.5,null,16003312,3.0099999999999998E-2,16485012,85.982824252713996,0,0,0,667743,667743,0,{"$f":"MIN(H181*parameters!C$22,ROUND(P181+T181-V181+W181,0))","v":15817269},82.499998215645903,null,0,0,0,-1.7843540973672134E-6,null,null,"172","Mashpee",1.4879416788681201,82.5,15817269,-1.7843540973672134E-6]
[173,"Mattapoisett",1900482600,6320695.4665196631,397161000,5639188.9348541824,11959884,9442326.0441442002,1.2666247642885728,7789919,7789919,82.5,null,7896216,2.9300000000000003E-2,8127575,86.075983417671083,0,0,0,337656,337656,0,{"$f":"MIN(H182*parameters!C$22,ROUND(P182+T182-V182+W182,0))","v":7789919},82.500000143831457,null,0,0,0,1.4383145696683641E-7,null,null,"173","Mattapoisett",1.2666247642885728,82.5,7789919,1.4383145696683641E-7]
[174,"Maynard",1620005500,5387874.3323337557,464575000,6596383.3292037277,11984258,16306504.738951877,0.73493726533392623,13452866,11984258,73.489999999999995,null,11139141,3.39E-2,11516758,70.626772471292071,2.8632275287079239,0.01,111391,0,0,0,{"$f":"MIN(H183*parameters!C$22,ROUND(P183+T183-V183+W183,0))","v":11628149},71.309880235851296,null,-467500,-356109,0,-2.1801197641486993,null,null,"174","Maynard",0.73493726533392623,73.489999999999995,11628149,-2.1801197641486993]
[175,"Medfield",2985655000,9929802.0529584251,1285677000,18255003.669032257,28184806,26703683.816899203,1.0554650883846775,22030539,22030539,82.5,null,22183600,2.7400000000000001E-2,22791431,85.349389081579204,0,0,0,760892,760892,0,{"$f":"MIN(H184*parameters!C$22,ROUND(P184+T184-V184+W184,0))","v":22030539},82.499999442242341,null,0,0,0,-5.5775765872567717E-7,null,null,"175","Medfield",1.0554650883846775,82.5,22030539,-5.5775765872567717E-7]
[176,"Medford",12501964700,41579497.545454435,2459618000,34923496.037043348,76502994,59164566.017499991,1.2930542578030837,48810767,48810767,82.5,null,49107581,1.9E-2,50040625,84.578707101812824,0,0,0,1229858,1229858,0,{"$f":"MIN(H185*parameters!C$22,ROUND(P185+T185-V185+W185,0))","v":48810767},82.50000006010778,null,0,0,0,6.0107780086582352E-8,null,null,"176","Medford",1.2930542578030837,82.5,48810767,6.0107780086582352E-8]
[177,"Medway",2494179400,8295234.2874734728,750663000,10658474.732928069,18953709,24590192.302058555,0.77078327681127168,20286909,18953709,77.08,null,17734167,4.4199999999999996E-2,18518017,75.306515591786464,1.7734844082135339,0,0,0,0,0,{"$f":"MIN(H186*parameters!C$22,ROUND(P186+T186-V186+W186,0))","v":18518017},75.306515591786464,null,-435692,-435692,0,-1.7734844082135339,null,null,"177","Medway",0.77078327681127168,77.08,18518017,-1.7734844082135339]
[178,"Melrose",6208754700,20649306.48932153,1581273000,22452096.768272005,43101403,45223670.686046183,0.95307175083642626,37309528,37309528,82.5,null,35804613,2.9600000000000001E-2,36864430,81.51578463394074,0.98421536605926008,0,0,0,0,0,{"$f":"MIN(H187*parameters!C$22,ROUND(P187+T187-V187+W187,0))","v":36864430},81.51578463394074,null,-445098,-445098,0,-0.98421536605926008,null,null,"178","Melrose",0.95307175083642626,82.5,36864430,-0.98421536605926008]
[179,"Mendon",1082278300,3599481.281398003,357009000,5069080.8071370469,8668562,11340112.390813269,0.76441588065939126,9355593,8668562,76.44,null,8651183,4.1700000000000001E-2,9011937,79.469556292058044,0,0,0,343375,343375,0,{"$f":"MIN(H188*parameters!C$22,ROUND(P188+T188-V188+W188,0))","v":8668562},76.441588065939129,null,0,0,0,1.5880659391314111E-3,null,null,"179","Mendon",0.76441588065939126,76.44,8668562,1.5880659391314111E-3]
[180,"Merrimac",966545100,3214571.5155491531,277076000,3934132.2871924923,7148704,9716946.7322042808,0.73569447245269837,8016481,7148704,73.569999999999993,null,6661661,3.5900000000000001E-2,6900815,71.018347534303672,2.5516524656963213,0.01,66617,0,0,0,{"$f":"MIN(H189*parameters!C$22,ROUND(P189+T189-V189+W189,0))","v":6967432},71.703922971073482,null,-247889,-181272,0,-1.8660770289265116,null,null,"180","Merrimac",0.73569447245269837,73.569999999999993,6967432,-1.8660770289265116]
[181,"Methuen",6534741900,21733486.800776862,1644683000,23352439.375826884,45085926,95964175.04486312,0.46982038848270608,79170444,45085926,46.98,null,42872610,2.41E-2,43905840,45.752323697331924,1.2276763026680726,0,0,0,0,0,{"$f":"MIN(H190*parameters!C$22,ROUND(P190+T190-V190+W190,0))","v":43905840},45.752323697331924,null,-1180086,-1180086,0,-1.2276763026680726,null,null,"181","Methuen",0.46982038848270608,46.98,43905840,-1.2276763026680726]
[182,"Middleborough",3078877100,10239843.568123806,763154000,10835831.293580459,21075675,39488565.743625715,0.53371588972947337,32578067,21075675,53.37,null,20370328,3.5700000000000003E-2,21097549,53.426982223089702,0,0,0,21874,21874,0,{"$f":"MIN(H191*parameters!C$22,ROUND(P191+T191-V191+W191,0))","v":21075675},53.371588972947329,null,0,0,0,1.5889729473315128E-3,null,null,"182","Middleborough",0.53371588972947337,53.37,21075675,1.5889729473315128E-3]
[183,"Middlefield",73050200,242953.06253703911,9215000,130841.46236584481,373795,359384.15839997155,1.0400987112625875,296492,296492,82.5,null,366519,2.3199999999999998E-2,375022,104.35128851245149,0,0,0,78530,78530,0,{"$f":"MIN(H192*parameters!C$22,ROUND(P192+T192-V192+W192,0))","v":296492},82.500019288558448,null,0,0,0,1.9288558448238291E-5,null,null,"183","Middlefield",1.0400987112625875,82.5,296492,1.9288558448238291E-5]
[184,"Middleton",2366454600,7870442.4139134996,561437000,7971702.4532059478,15842145,14870336.520388644,1.0653521511284505,12268028,12268028,82.5,null,12088689,3.73E-2,12539597,84.326248991117453,0,0,0,271569,271569,0,{"$f":"MIN(H193*parameters!C$22,ROUND(P193+T193-V193+W193,0))","v":12268028},82.500002492743647,null,0,0,0,2.4927436470534303E-6,null,null,"184","Middleton",1.0653521511284505,82.5,12268028,2.4927436470534303E-6]
[185,"Milford",3913410800,13015366.676963571,1006959000,14297557.037704691,27312924,61090802.492124707,0.44708733370331721,50399912,27312924,44.71,null,26545412,2.5499999999999998E-2,27222320,44.560422992494267,0.14957700750573366,0,0,0,0,0,{"$f":"MIN(H194*parameters!C$22,ROUND(P194+T194-V194+W194,0))","v":27222320},44.560422992494267,null,-90604,-90604,0,-0.14957700750573366,null,null,"185","Milford",0.44708733370331721,44.71,27222320,-0.14957700750573366]
[186,"Millbury",1940073800,6452369.3468035832,495169000,7030779.8240079228,13483149,20723849.298903517,0.65061026093802865,17097176,13483149,65.06,null,12744917,2.5600000000000001E-2,13071187,63.073161802482254,1.9868381975177485,0,0,0,0,0,{"$f":"MIN(H195*parameters!C$22,ROUND(P195+T195-V195+W195,0))","v":13071187},63.073161802482254,null,-411962,-411962,0,-1.9868381975177485,null,null,"186","Millbury",0.65061026093802865,65.06,13071187,-1.9868381975177485]
[187,"Millis",1417727000,4715129.000214221,386007000,5480816.1002118997,10195945,13151524.572464367,0.77526715201882157,10850008,10195945,77.53,null,9737544,3.7100000000000001E-2,10098807,76.788108818532649,0.74189118146735211,0,0,0,0,0,{"$f":"MIN(H196*parameters!C$22,ROUND(P196+T196-V196+W196,0))","v":10098807},76.788108818532649,null,-97138,-97138,0,-0.74189118146735211,null,null,"187","Millis",0.77526715201882157,77.53,10098807,-0.74189118146735211]
[188,"Millville",337150600,1121307.9609118148,104640000,1485756.9855628866,2607065,5538611.5801789146,0.47070731757574946,4569355,2607065,47.07,null,2568133,3.7199999999999997E-2,2663668,48.092702682609044,0,0,0,56603,56603,0,{"$f":"MIN(H197*parameters!C$22,ROUND(P197+T197-V197+W197,0))","v":2607065},47.070731757574947,null,0,0,0,7.3175757494681193E-4,null,null,"188","Millville",0.47070731757574946,47.07,2607065,7.3175757494681193E-4]
[189,"Milton",6817342900,22673371.680298474,2084927000,29603352.968641751,52276725,48968028.804877967,1.0675684987914489,40398624,40398624,82.5,null,37941462,0.03,39079706,79.806573704896735,2.693426295103265,0.01,379415,0,0,0,{"$f":"MIN(H198*parameters!C$22,ROUND(P198+T198-V198+W198,0))","v":39459121},80.581395582068566,null,-1318918,-939503,0,-1.9186044179314337,null,null,"189","Milton",1.0675684987914489,82.5,39459121,-1.9186044179314337]
[190,"Monroe",28214600,93837.162365846278,1281000,18188.596124866759,112026,203219.94452303229,0.55125494824305166,167656,112026,55.13,null,98907,3.9899999999999998E-2,102853,50.611666212881467,4.5183337871185358,0.01,989,0,0,0,{"$f":"MIN(H199*parameters!C$22,ROUND(P199+T199-V199+W199,0))","v":103842},51.098331044092419,null,-9173,-8184,0,-4.031668955907584,null,null,"190","Monroe",0.55125494824305166,55.13,103842,-4.031668955907584]
[191,"Monson",853970900,2840168.0689787515,277987000,3947067.346575594,6787235,11753550.905408382,0.57746250938317389,9696679,6787235,57.75,null,6690078,2.8899999999999995E-2,6883421,58.564607882309012,0,0,0,96186,96186,0,{"$f":"MIN(H200*parameters!C$22,ROUND(P200+T200-V200+W200,0))","v":6787235},57.746250938317388,null,0,0,0,-3.7490616826119094E-3,null,null,"191","Monson",0.57746250938317389,57.75,6787235,-3.7490616826119094E-3]
[192,"Montague",953787100,3172140.4863138115,204439000,2902777.8322963589,6074918,12979495.794346748,0.468039598475462,10708084,6074918,46.8,null,5954621,5.3699999999999998E-2,6274384,48.340737571122169,0,0,0,199466,199466,0,{"$f":"MIN(H201*parameters!C$22,ROUND(P201+T201-V201+W201,0))","v":6074918},46.803959847546203,null,0,0,0,3.9598475462057081E-3,null,null,"192","Montague",0.468039598475462,46.8,6074918,3.9598475462057081E-3]
[193,"Monterey",540379700,1797214.8337423641,28584000,405857.01142325642,2203072,926818.30350876192,2.3770268580794949,{"$f":"ROUND(H202*maxloc,0)","v":764625},764625,82.5,null,710876,2.1899999999999999E-2,726444,78.380411484086792,4.1195885159132075,0.01,7109,0,{"$f":"MAX(U202*(V$5),0)","v":0},31072,{"$f":"MIN(H202*parameters!C$22,ROUND(P202+T202-V202+W202,0))","v":764625},82.499989167809034,null,-38181,0,0,-1.0832190966425514E-5,null,null,"193","Monterey",2.3770268580794949,{"$f":"L202","v":82.5},{"$f":"X202","v":764625},-1.0832190966425514E-5]
[194,"Montgomery",113997900,{"$f":"D$5*C203","v":379138.44079538633},34065000,483680.34894112893,{"$f":"ROUND(D203+F203,0)","v":862819},{"$f":"(SUMIF(town1755,A203,found1755)/2)","v":894514.25337597518},{"$f":"G203/H203","v":0.96456707843798517},737974,{"$f":"MIN(G203,J203)","v":737974},{"$f":"IF(H203>0, ROUND((K203*100/H203), 2), 0)","v":82.5},null,709289,4.0300000000000002E-2,{"$f":"ROUND(N203*(1+O203),0)","v":737873},{"$f":"P203*100/H203","v":82.488679997574394},{"$f":"IF(L203>Q203,L203-Q203,0)","v":1.1320002425605935E-2},{"$f":"IF(AND(R203>$T$4,R203<=$T$5),$S$4,IF(R203>$T$5,$S$5,0))","v":0},{"$f":"ROUND(S203*N203,0)","v":0},{"$f":"MAX(P203-K203,0)","v":0},0,{"$f":"IF(AND(I203>1.75,$W$5=1),MAX(K203-(P203+T203),0),0)","v":0},{"$f":"MIN(H203*parameters!C$22,ROUND(P203+T203-V203+W203,0))","v":737873},{"$f":"X203*100/H203","v":82.488679997574394},null,{"$f":"IF(Q203<L203, P203-K203, 0)","v":-101},{"$f":"-1*MAX(K203-(P203+T203+W203),0)","v":-101},{"$f":"IF(Q203>L203, X203-K203,0)","v":0},{"$f":"Y203-L203","v":-1.1320002425605935E-2},null,null,{"$f":"TEXT(A203,\"000\")","v":"194"},{"$f":"B203","v":"Montgomery"},{"$f":"I203","v":0.96456707843798517},82.5,737873,{"$f":"AD203","v":-1.1320002425605935E-2}]
[195,"Mount Washington",100069300,332814.18669541943,4364000,{"$f":"E204*F$5","v":61963.336056923137},394778,43505.390000000007,9.074231951489228,35892,35892,82.5,null,14541,3.8800000000000001E-2,15105,34.719835864015927,47.780164135984073,0.02,291,0,0,20496,{"$f":"MIN(H204*parameters!C$22,ROUND(P204+T204-V204+W204,0))","v":35892},82.500122398626914,null,-20787,0,0,1.2239862691387771E-4,null,null,"195","Mount Washington",9.074231951489228,82.5,35892,1.2239862691387771E-4]
[196,"Nahant",1034428700,3440341.3083223328,271031000,3848300.8558304161,7288642,3044961.7439419115,2.3936727660047228,2512093,2512093,82.5,null,2415062,4.1900000000000007E-2,2516253,82.636604712890033,0,0,0,4160,4160,0,{"$f":"MIN(H205*parameters!C$22,ROUND(P205+T205-V205+W205,0))","v":2512093},82.499985590883767,null,0,0,0,-1.4409116232627639E-5,null,null,"196","Nahant",2.3936727660047228,82.5,2512093,-1.4409116232627639E-5]
[197,"Nantucket",26096711600,86793410.632221058,800175000,11361483.141463904,98154894,20100924.599999998,4.8831034369433937,16583263,16583263,82.5,null,16064689,2.7999999999999995E-3,16109670,80.14392531973381,2.3560746802661896,0,0,0,0,473593,{"$f":"MIN(H206*parameters!C$22,ROUND(P206+T206-V206+W206,0))","v":16583263},82.500001019853599,null,-473593,0,0,1.0198535989047741E-6,null,null,"197","Nantucket",4.8831034369433937,82.5,16583263,1.0198535989047741E-6]
[198,"Natick",9500063400,31595662.945837747,2337791000,33193705.170451514,64789368,58665885.024550945,1.1043789414049827,48399355,48399355,82.5,null,49078138,1.1599999999999999E-2,49647444,84.627452529222325,0,0,0,1248089,1248089,0,{"$f":"MIN(H207*parameters!C$22,ROUND(P207+T207-V207+W207,0))","v":48399355},82.499999752403752,null,0,0,0,-2.4759624750458897E-7,null,null,"198","Natick",1.1043789414049827,82.5,48399355,-2.4759624750458897E-7]
[199,"Needham",11580160100,38513725.642971888,3861378000,54826732.964438535,93340459,63359179.543686479,1.4731955128244878,52271323,52271323,82.5,null,52346301,4.8799999999999996E-2,54900800,86.650111941783621,0,0,0,2629477,2629477,0,{"$f":"MIN(H208*parameters!C$22,ROUND(P208+T208-V208+W208,0))","v":52271323},82.499999805014298,null,0,0,0,-1.9498570225096046E-7,null,null,"199","Needham",1.4731955128244878,82.5,52271323,-1.9498570225096046E-7]
[200,"New Ashford",40130500,133467.50421138681,6874000,97602.193413219444,231070,234545.27,0.98518294570596121,193500,193500,82.5,null,226155,4.4699999999999997E-2,236264,100.73279243704212,0,0,0,42764,42764,0,{"$f":"MIN(H209*parameters!C$22,ROUND(P209+T209-V209+W209,0))","v":193500},82.500064912841779,null,0,0,0,6.4912841779118935E-5,null,null,"200","New Ashford",0.98518294570596121,82.5,193500,6.4912841779118935E-5]
[201,"New Bedford",6947603100,23106595.881145116,1831702000,26007875.018821776,49114471,238611981.20582134,0.20583405222068443,196854884,49114471,20.58,null,36172924,2.7900000000000001E-2,37182149,15.582683154509125,4.9973168454908734,0.01,361729,0,0,0,{"$f":"MIN(H210*parameters!C$22,ROUND(P210+T210-V210+W210,0))","v":37543878},15.734280319987576,null,-11932322,-11570593,0,-4.8457196800124223,null,null,"201","New Bedford",0.20583405222068443,20.58,37543878,-4.8457196800124223]
[202,"New Braintree",125454700,417241.89084582223,41157000,584377.86940760445,1001620,1558633.9166341892,0.64262684733754571,1285873,1001620,64.260000000000005,null,973654,3.8699999999999998E-2,1011334,64.885922807578666,0,0,0,9714,9714,0,{"$f":"MIN(H211*parameters!C$22,ROUND(P211+T211-V211+W211,0))","v":1001620},64.262684733754568,null,0,0,0,2.6847337545632399E-3,null,null,"202","New Braintree",0.64262684733754571,64.260000000000005,1001620,2.6847337545632399E-3]
[203,"Newbury",1736208200,5774345.5786831537,522355000,7416786.985796079,13191133,7536243.5453594588,1.7503591704016273,6217401,6217401,82.5,null,6558289,2.2399999999999996E-2,6705195,88.972642134539456,0,0,0,487794,487794,0,{"$f":"MIN(H212*parameters!C$22,ROUND(P212+T212-V212+W212,0))","v":6217401},82.500000996231691,null,0,0,0,9.9623169091955788E-7,null,null,"203","Newbury",1.7503591704016273,82.5,6217401,9.9623169091955788E-7]
[204,"Newburyport",4963974700,16509371.031446595,1287058000,18274612.139952198,34783983,24656990.402128838,1.4107148696053682,20342017,20342017,82.5,null,20450734,3.2599999999999997E-2,21117428,85.644791418569724,0,0,0,775411,775411,0,{"$f":"MIN(H213*parameters!C$22,ROUND(P213+T213-V213+W213,0))","v":20342017},82.499999668425502,null,0,0,0,-3.3157449763621116E-7,null,null,"204","Newburyport",1.4107148696053682,82.5,20342017,-3.3157449763621116E-7]
[205,"New Marlborough",568276600,1889995.3776736541,54616000,775478.81807628646,2665474,1459738.8279645278,1.8259937661018166,1204285,1204285,82.5,null,1290475,3.2199999999999999E-2,1332028,91.251117972753462,0,0,0,127743,127743,0,{"$f":"MIN(H214*parameters!C$22,ROUND(P214+T214-V214+W214,0))","v":1204285},82.500031987178502,null,0,0,0,3.1987178502390634E-5,null,null,"205","New Marlborough",1.8259937661018166,82.5,1204285,3.1987178502390634E-5]
[206,"New Salem",123679700,411338.53006100241,26094000,370502.12902597443,781841,1293143.4903441663,0.60460498454963829,1066843,781841,60.46,null,772386,3.5299999999999998E-2,799651,61.837762473457239,0,0,0,17810,17810,0,{"$f":"MIN(H215*parameters!C$22,ROUND(P215+T215-V215+W215,0))","v":781841},60.460498454963833,null,0,0,0,4.9845496383227328E-4,null,null,"206","New Salem",0.60460498454963829,60.46,781841,4.9845496383227328E-4]
[207,"Newton",34257156100,113933719.39165685,13232692000,187887658.4174515,301821378,140792530.04910001,2.1437314742106186,116153837,116153837,82.5,null,118463949,2.3700000000000002E-2,121271545,86.134928435271206,0,0,0,5117708,5117708,0,{"$f":"MIN(H216*parameters!C$22,ROUND(P216+T216-V216+W216,0))","v":116153837},82.499999793662695,null,0,0,0,-2.0633730457575439E-7,null,null,"207","Newton",2.1437314742106186,82.5,116153837,-2.0633730457575439E-7]
[208,"Norfolk",1981383700,6589759.34324574,697665000,9905969.4890360404,16495729,18593975.988871645,0.88715447464665809,15340030,15340030,82.5,null,14669624,3.6999999999999998E-2,15212400,81.813593870963942,0.68640612903605813,0,0,0,0,0,{"$f":"MIN(H217*parameters!C$22,ROUND(P217+T217-V217+W217,0))","v":15212400},81.813593870963942,null,-127630,-127630,0,-0.68640612903605813,null,null,"208","Norfolk",0.88715447464665809,82.5,15212400,-0.68640612903605813]
[209,"North Adams",801676900,2666246.7456653048,227962000,3236774.9803410433,5903022,20955741.31945337,0.28168996314724409,17288487,5903022,28.17,null,5798559,1.52E-2,5886697,28.091094036054624,7.8905963945377522E-2,0,0,0,0,0,{"$f":"MIN(H218*parameters!C$22,ROUND(P218+T218-V218+W218,0))","v":5886697},28.091094036054624,null,-16325,-16325,0,-7.8905963945377522E-2,null,null,"209","North Adams",0.28168996314724409,28.17,5886697,-7.8905963945377522E-2]
[210,"Northampton",3915520200,13022382.19766188,1115015000,15831816.946267221,28854199,33795786.360000007,0.8537809622962711,27881524,27881524,82.5,null,27847210,1.9099999999999999E-2,28379092,83.972278963122179,0,0,0,497568,497568,0,{"$f":"MIN(H219*parameters!C$22,ROUND(P219+T219-V219+W219,0))","v":27881524},82.500000748614013,null,0,0,0,7.4861401344605838E-7,null,null,"210","Northampton",0.8537809622962711,82.5,27881524,7.4861401344605838E-7]
[211,"North Andover",5762245600,19164289.97607917,1877723000,26661315.598261662,45825606,51992334.508375078,0.88139158268837259,42893676,42893676,82.5,null,42168598,3.95E-2,43834258,84.30907827948954,0,0,0,940582,940582,0,{"$f":"MIN(H220*parameters!C$22,ROUND(P220+T220-V220+W220,0))","v":42893676},82.500000058836676,null,0,0,0,5.8836675975726394E-8,null,null,"211","North Andover",0.88139158268837259,82.5,42893676,5.8836675975726394E-8]
[212,"North Attleborough",4386403100,14588461.998282855,1242779000,17645905.779442456,32234368,50774047.243740276,0.63485914064047833,41888589,32234368,63.49,null,31507638,2.53E-2,32304781,63.624593180293942,0,0,0,70413,70413,0,{"$f":"MIN(H221*parameters!C$22,ROUND(P221+T221-V221+W221,0))","v":32234368},63.485914064047833,null,0,0,0,-4.0859359521689953E-3,null,null,"212","North Attleborough",0.63485914064047833,63.49,32234368,-4.0859359521689953E-3]
[213,"Northborough",3297006900,10965307.741262166,1117866000,15872297.576674713,26837605,28036416.768991802,0.9572409063943691,23130044,23130044,82.5,null,22125703,2.98E-2,22785049,81.269476009502753,1.2305239904972467,0,0,0,0,0,{"$f":"MIN(H222*parameters!C$22,ROUND(P222+T222-V222+W222,0))","v":22785049},81.269476009502753,null,-344995,-344995,0,-1.2305239904972467,null,null,"213","Northborough",0.9572409063943691,82.5,22785049,-1.2305239904972467]
[214,"Northbridge",1894649500,6301295.526354067,603357000,8566913.9672999494,14868209,26917786.043866627,0.55235631101941263,22207173,14868209,55.24,null,13952455,3.4099999999999998E-2,14428234,53.601117032756697,1.6388829672433047,0,0,0,0,0,{"$f":"MIN(H223*parameters!C$22,ROUND(P223+T223-V223+W223,0))","v":14428234},53.601117032756697,null,-439975,-439975,0,-1.6388829672433047,null,null,"214","Northbridge",0.55235631101941263,55.24,14428234,-1.6388829672433047]
[215,"North Brookfield",473064600,1573335.7793388574,133139000,1890407.1034103322,3463743,7631047.1788619412,0.45390140026844472,6295614,3463743,45.39,null,3368003,3.5999999999999997E-2,3489251,45.724406077127291,0,0,0,25508,25508,0,{"$f":"MIN(H224*parameters!C$22,ROUND(P224+T224-V224+W224,0))","v":3463743},45.390140026844477,null,0,0,0,1.4002684447689262E-4,null,null,"215","North Brookfield",0.45390140026844472,45.39,3463743,1.4002684447689262E-4]
[216,"Northfield",517658400,1721647.4921084899,91709000,1302152.9758121825,3023800,3877243.2987399073,0.77988399670011066,3198726,3023800,77.989999999999995,null,2923170,4.1500000000000002E-2,3044482,78.521819896869715,0,0,0,20682,20682,0,{"$f":"MIN(H225*parameters!C$22,ROUND(P225+T225-V225+W225,0))","v":3023800},77.988399670011063,null,0,0,0,-1.6003299889320033E-3,null,null,"216","Northfield",0.77988399670011066,77.989999999999995,3023800,-1.6003299889320033E-3]
[217,"North Reading",3607668800,11998518.601993216,1018321000,14458883.211920721,26457402,25802310.675784778,1.0253888627435999,21286906,21286906,82.5,null,21405205,2.81E-2,22006691,85.289613308365702,0,0,0,719785,719785,0,{"$f":"MIN(H226*parameters!C$22,ROUND(P226+T226-V226+W226,0))","v":21286906},82.49999880815929,null,0,0,0,-1.1918407096800365E-6,null,null,"217","North Reading",1.0253888627435999,82.5,21286906,-1.1918407096800365E-6]
[218,"Norton",2900634100,9647036.3927048557,771754000,10957940.525956614,20604977,28607056.236726243,0.72027603362931725,23600821,20604977,72.03,null,19775380,4.1200000000000001E-2,20590126,71.975689597750474,5.4310402249527101E-2,0,0,0,0,0,{"$f":"MIN(H227*parameters!C$22,ROUND(P227+T227-V227+W227,0))","v":20590126},71.975689597750474,null,-14851,-14851,0,-5.4310402249527101E-2,null,null,"218","Norton",0.72027603362931725,72.03,20590126,-5.4310402249527101E-2]
[219,"Norwell",2967834000,9870532.3106788341,1121323000,15921382.648340337,25791915,23771170.044541501,1.085008224318454,19611215,19611215,82.5,null,19177732,2.41E-2,19639915,82.62073327984902,0,0,0,28700,28700,0,{"$f":"MIN(H228*parameters!C$22,ROUND(P228+T228-V228+W228,0))","v":19611215},82.49999879372055,null,0,0,0,-1.2062794496614515E-6,null,null,"219","Norwell",1.085008224318454,82.5,19611215,-1.2062794496614515E-6]
[220,"Norwood",6194416300,20601619.307193607,1322069000,18771724.504454702,39373344,45814177.364146084,0.85941396889106547,37796696,37796696,82.5,null,34849082,2.98E-2,35887585,78.332924576498939,4.1670754235010605,0.01,348491,0,0,0,{"$f":"MIN(H229*parameters!C$22,ROUND(P229+T229-V229+W229,0))","v":36236076},79.093586493944443,null,-1909111,-1560620,0,-3.4064135060555571,null,null,"220","Norwood",0.85941396889106547,82.5,36236076,-3.4064135060555571]
[221,"Oak Bluffs",3630614100,12074830.931128949,136968000,1944774.1093136226,14019605,8445633.3262056429,1.6599826748929636,6967647,6967647,82.5,null,6276424,3.1E-2,6470993,76.619393123798019,5.8806068762019805,0.01,62764,0,0,0,{"$f":"MIN(H230*parameters!C$22,ROUND(P230+T230-V230+W230,0))","v":6533757},77.36254639100477,null,-496654,-433890,0,-5.1374536089952301,null,null,"221","Oak Bluffs",1.6599826748929636,82.5,6533757,-5.1374536089952301]
[222,"Oakham",239239000,795669.93284479307,67309000,955703.52581472031,1751373,3113564.6970571331,0.56249770613578576,2568691,1751373,56.25,null,1647756,3.8199999999999998E-2,1710700,54.943454414707126,1.3065455852928736,0,0,0,0,0,{"$f":"MIN(H231*parameters!C$22,ROUND(P231+T231-V231+W231,0))","v":1710700},54.943454414707126,null,-40673,-40673,0,-1.3065455852928736,null,null,"222","Oakham",0.56249770613578576,56.25,1710700,-1.3065455852928736]
[223,"Orange",620932600,2065120.6540034974,162611000,2308872.6030138242,4373993,14474598.514810748,0.30218406372545864,11941544,4373993,30.22,null,4049774,3.1699999999999999E-2,4178152,28.865408568844359,1.3545914311556402,0,0,0,0,0,{"$f":"MIN(H232*parameters!C$22,ROUND(P232+T232-V232+W232,0))","v":4178152},28.865408568844359,null,-195841,-195841,0,-1.3545914311556402,null,null,"223","Orange",0.30218406372545864,30.22,4178152,-1.3545914311556402]
[224,"Orleans",4515570600,15018052.05697199,327281000,4646980.4280581716,19665032,5073338.6090749744,3.8761520795840472,4185504,4185504,82.5,null,4345462,2.46E-2,4452360,87.759961301140166,0,0,0,266856,266856,0,{"$f":"MIN(H233*parameters!C$22,ROUND(P233+T233-V233+W233,0))","v":4185504},82.499993052171732,null,0,0,0,-6.9478282682666759E-6,null,null,"224","Orleans",3.8761520795840472,82.5,4185504,-6.9478282682666759E-6]
[225,"Otis",659119700,2192124.7264688457,54100000,768152.26413371717,2960277,1347522.0402430634,2.1968301160150459,1111706,1111706,82.5,null,1092050,2.92E-2,1123938,83.40776376446253,0,0,0,12232,12232,0,{"$f":"MIN(H234*parameters!C$22,ROUND(P234+T234-V234+W234,0))","v":1111706},82.500023509780419,null,0,0,0,2.3509780419317394E-5,null,null,"225","Otis",2.1968301160150459,82.5,1111706,2.3509780419317394E-5]
[226,"Oxford",1570978000,5224816.8557829084,438659000,6228408.5773129808,11453225,21071525.939538054,0.54354036973228748,17384009,11453225,54.35,null,11031283,3.0800000000000001E-2,11371047,53.964041487207474,0.38595851279252713,0,0,0,0,0,{"$f":"MIN(H235*parameters!C$22,ROUND(P235+T235-V235+W235,0))","v":11371047},53.964041487207474,null,-82178,-82178,0,-0.38595851279252713,null,null,"226","Oxford",0.54354036973228748,54.35,11371047,-0.38595851279252713]
[227,"Palmer",1017230700,3383143.5625322871,357620000,5077756.2421349343,8460900,20216642.843298256,0.41851162260626062,16678730,8460900,41.85,null,8117496,1.2199999999999999E-2,8216529,40.642400737290316,1.2075992627096852,0,0,0,0,0,{"$f":"MIN(H236*parameters!C$22,ROUND(P236+T236-V236+W236,0))","v":8216529},40.642400737290316,null,-244371,-244371,0,-1.2075992627096852,null,null,"227","Palmer",0.41851162260626062,41.85,8216529,-1.2075992627096852]
[228,"Paxton",607020400,2018850.9436313454,211970000,3009708.6031131987,5028560,7396602.3200371899,0.67984728425614704,6102197,5028560,67.98,null,4752793,4.1599999999999998E-2,4950509,66.929500678834785,1.0504993211652192,0,0,0,0,0,{"$f":"MIN(H237*parameters!C$22,ROUND(P237+T237-V237+W237,0))","v":4950509},66.929500678834785,null,-78051,-78051,0,-1.0504993211652192,null,null,"228","Paxton",0.67984728425614704,67.98,4950509,-1.0504993211652192]
[229,"Peabody",9078660600,30194145.895621821,1853537000,26317904.680325653,56512051,79600019.300763696,0.70995021730425401,65670016,56512051,71,null,53680748,2.0099999999999996E-2,54759731,68.793615229028745,2.2063847709712547,0,0,0,0,0,{"$f":"MIN(H238*parameters!C$22,ROUND(P238+T238-V238+W238,0))","v":54759731},68.793615229028745,null,-1752320,-1752320,0,-2.2063847709712547,null,null,"229","Peabody",0.70995021730425401,71,54759731,-2.2063847709712547]
[230,"Pelham",189643300,630722.71567539137,50850000,722006.33329389128,1352729,1547717.8625732383,0.87401524057553392,1276867,1276867,82.5,null,1292835,3.7199999999999997E-2,1340928,86.639046587636514,0,0,0,64061,64061,0,{"$f":"MIN(H239*parameters!C$22,ROUND(P239+T239-V239+W239,0))","v":1276867},82.499984711495074,null,0,0,0,-1.5288504926047608E-5,null,null,"230","Pelham",0.87401524057553392,82.5,1276867,-1.5288504926047608E-5]
[231,"Pembroke",3116738700,10365765.080625515,811818000,11526799.163854085,21892564,31570380.367049992,0.69345265231106534,26045564,21892564,69.349999999999994,null,21249366,2.4E-2,21759351,68.923309592779674,0.42669040722032037,0,0,0,0,0,{"$f":"MIN(H240*parameters!C$22,ROUND(P240+T240-V240+W240,0))","v":21759351},68.923309592779674,null,-133213,-133213,0,-0.42669040722032037,null,null,"231","Pembroke",0.69345265231106534,69.349999999999994,21759351,-0.42669040722032037]
[232,"Pepperell",1488119500,4949242.9855919266,472844000,6713792.7760081952,11663036,17882708.560550705,0.65219628002710306,14753235,11663036,65.22,null,11129008,4.1900000000000007E-2,11595313,64.840921389164095,0.37907861083590433,0,0,0,0,0,{"$f":"MIN(H241*parameters!C$22,ROUND(P241+T241-V241+W241,0))","v":11595313},64.840921389164095,null,-67723,-67723,0,-0.37907861083590433,null,null,"232","Pepperell",0.65219628002710306,65.22,11595313,-0.37907861083590433]
[233,"Peru",100581000,334516.01751997846,17045000,242017.65881994844,576534,1200927.1687146965,0.48007407528055251,990765,576534,48.01,null,575398,3.3700000000000001E-2,594789,49.527483055994018,0,0,0,18255,18255,0,{"$f":"MIN(H242*parameters!C$22,ROUND(P242+T242-V242+W242,0))","v":576534},48.007407528055253,null,0,0,0,-2.5924719447445455E-3,null,null,"233","Peru",0.48007407528055251,48.01,576534,-2.5924719447445455E-3]
[234,"Petersham",168293700,559717.42473928479,43109000,612093.82540740143,1171811,1711358.5196665667,0.68472560631439772,1411871,1171811,68.47,null,1147694,4.5999999999999999E-2,1200488,70.148246916367796,0,0,0,28677,28677,0,{"$f":"MIN(H243*parameters!C$22,ROUND(P243+T243-V243+W243,0))","v":1171811},68.472560631439762,null,0,0,0,2.5606314397634833E-3,null,null,"234","Petersham",0.68472560631439772,68.47,1171811,2.5606314397634833E-3]
[235,"Phillipston",225116800,748701.79668964806,53220000,755657.36593708745,1504359,2401761.3791742525,0.62635656191507771,1981453,1504359,62.64,null,1433908,4.4199999999999996E-2,1497287,62.341205624464699,0.29879437553530153,0,0,0,0,0,{"$f":"MIN(H244*parameters!C$22,ROUND(P244+T244-V244+W244,0))","v":1497287},62.341205624464699,null,-7072,-7072,0,-0.29879437553530153,null,null,"235","Phillipston",0.62635656191507771,62.64,1497287,-0.29879437553530153]
[236,"Pittsfield",3828682400,12733573.824050598,1208297000,17156304.552605879,29889878,79110404.659999996,0.37782486549601729,65266084,29889878,37.78,null,28300807,4.0599999999999997E-2,29449820,37.226228492407763,0.55377150759223781,0,0,0,0,0,{"$f":"MIN(H245*parameters!C$22,ROUND(P245+T245-V245+W245,0))","v":29449820},37.226228492407763,null,-440058,-440058,0,-0.55377150759223781,null,null,"236","Pittsfield",0.37782486549601729,37.78,29449820,-0.55377150759223781]
[237,"Plainfield",98187300,326554.96134497947,17152000,243536.92485067502,570092,715549.73244447703,0.79671890596959483,590329,570092,79.67,null,549138,4.7600000000000003E-2,575277,80.39650829505949,0,0,0,5185,5185,0,{"$f":"MIN(H246*parameters!C$22,ROUND(P246+T246-V246+W246,0))","v":570092},79.671890596959472,null,0,0,0,1.8905969594698036E-3,null,null,"237","Plainfield",0.79671890596959483,79.67,570092,1.8905969594698036E-3]
[238,"Plainville",1692502300,5628986.8766407557,413440000,5870330.3527438827,11499317,15070397.578861758,0.76304005516943529,12433078,11499317,76.3,null,10969671,1.6500000000000001E-2,11150671,73.990556265352296,2.3094437346477008,0,0,0,0,0,{"$f":"MIN(H247*parameters!C$22,ROUND(P247+T247-V247+W247,0))","v":11150671},73.990556265352296,null,-348646,-348646,0,-2.3094437346477008,null,null,"238","Plainville",0.76304005516943529,76.3,11150671,-2.3094437346477008]
[239,"Plymouth",12163150000,40452655.059087962,2395890000,34018638.227640145,74471293,96767564.539159998,0.76958941102483658,79833241,74471293,76.959999999999994,null,71603127,4.0199999999999993E-2,74481573,76.96956449685031,0,0,0,10280,10280,0,{"$f":"MIN(H248*parameters!C$22,ROUND(P248+T248-V248+W248,0))","v":74471293},76.958941102483649,null,0,0,0,-1.0588975163443592E-3,null,null,"239","Plymouth",0.76958941102483658,76.959999999999994,74471293,-1.0588975163443592E-3]
[240,"Plympton",591177800,1966161.0373949585,122480000,1739062.649003654,3705224,4914118.5923206359,0.75399564141374342,4054148,3705224,75.400000000000006,null,3628950,2.3399999999999997E-2,3713867,75.575445122625112,0,0,0,8643,8643,0,{"$f":"MIN(H249*parameters!C$22,ROUND(P249+T249-V249+W249,0))","v":3705224},75.399564141374341,null,0,0,0,-4.3585862566430933E-4,null,null,"240","Plympton",0.75399564141374342,75.400000000000006,3705224,-4.3585862566430933E-4]
[241,"Princeton",591085900,1965855.3929689727,201570000,2862041.6244257558,4827897,4939214.86815859,0.97746243661594523,4074852,4074852,82.5,null,4077311,3.6499999999999998E-2,4226133,85.562849821424408,0,0,0,151281,151281,0,{"$f":"MIN(H250*parameters!C$22,ROUND(P250+T250-V250+W250,0))","v":4074852},82.499994609855136,null,0,0,0,-5.3901448637816429E-6,null,null,"241","Princeton",0.97746243661594523,82.5,4074852,-5.3901448637816429E-6]
[242,"Provincetown",3620873900,12042436.61297892,181534000,2577555.5104852165,14619992,1564923.0438159104,9.3423073152214524,1291062,1291062,82.5,null,1282697,-3.5999999999999999E-3,1278079,81.67040577813529,0.82959422186470988,0,0,0,0,12983,{"$f":"MIN(H251*parameters!C$22,ROUND(P251+T251-V251+W251,0))","v":1291062},82.50003123807754,null,-12983,0,0,3.1238077539796905E-5,null,null,"242","Provincetown",9.3423073152214524,82.5,1291062,3.1238077539796905E-5]
[243,"Quincy",18377975900,61122153.370379515,3623776000,51453082.053852595,112575235,138744368.37228745,0.81138597782888877,114464104,112575235,81.14,null,101843902,3.8899999999999997E-2,105805630,76.259405150121694,4.8805948498783067,0.01,1018439,0,0,0,{"$f":"MIN(H252*parameters!C$22,ROUND(P252+T252-V252+W252,0))","v":106824069},76.993445033648541,null,-6769605,-5751166,0,-4.1465549663514594,null,null,"243","Quincy",0.81138597782888877,81.14,106824069,-4.1465549663514594]
[244,"Randolph",4234173100,14082169.822354337,999298000,14188780.429654257,28270950,50360266.871609837,0.5613741101109514,41547220,28270950,56.14,null,26405461,2.69E-2,27115768,53.843574874473667,2.2964251255263335,0,0,0,0,0,{"$f":"MIN(H253*parameters!C$22,ROUND(P253+T253-V253+W253,0))","v":27115768},53.843574874473667,null,-1155182,-1155182,0,-2.2964251255263335,null,null,"244","Randolph",0.5613741101109514,56.14,27115768,-2.2964251255263335]
[245,"Raynham",2528923600,8410787.8355185073,608974000,8646668.3345391192,17057456,27621532.290590711,0.61754198936351667,22787764,17057456,61.75,null,16293996,4.1000000000000009E-2,16962050,61.408794492469667,0.34120550753033285,0,0,0,0,0,{"$f":"MIN(H254*parameters!C$22,ROUND(P254+T254-V254+W254,0))","v":16962050},61.408794492469667,null,-95406,-95406,0,-0.34120550753033285,null,null,"245","Raynham",0.61754198936351667,61.75,16962050,-0.34120550753033285]
[246,"Reading",5817458000,19347917.422273979,1682759000,23893070.902798332,43240988,42933470.758346647,1.0071626457451863,35420113,35420113,82.5,null,35455725,2.3800000000000002E-2,36299571,84.548419586932752,0,0,0,879458,879458,0,{"$f":"MIN(H255*parameters!C$22,ROUND(P255+T255-V255+W255,0))","v":35420113},82.499999125074268,null,0,0,0,-8.7492573186409572E-7,null,null,"246","Reading",1.0071626457451863,82.5,35420113,-8.7492573186409572E-7]
[247,"Rehoboth",2137328300,7108405.6735242819,625370000,8879471.0059390515,15987877,18657144.678051878,0.85693053657926643,15392144,15392144,82.5,null,14760788,4.24E-2,15386645,82.470524110266084,2.9475889733916461E-2,0,0,0,0,0,{"$f":"MIN(H256*parameters!C$22,ROUND(P256+T256-V256+W256,0))","v":15386645},82.470524110266084,null,-5499,-5499,0,-2.9475889733916461E-2,null,null,"247","Rehoboth",0.85693053657926643,82.5,15386645,-2.9475889733916461E-2]
[248,"Revere",7759126900,25805591.81177495,1448160000,20562058.832308389,46367651,124364901.94365284,0.37283550483566674,102601044,46367651,37.28,null,38640034,2.6599999999999999E-2,39667859,31.896345657050961,5.3836543429490398,0.01,386400,0,0,0,{"$f":"MIN(H257*parameters!C$22,ROUND(P257+T257-V257+W257,0))","v":40054259},32.207044249629014,null,-6699792,-6313392,0,-5.072955750370987,null,null,"248","Revere",0.37283550483566674,37.28,40054259,-5.072955750370987]
[249,"Richmond",441224400,1467440.4621214941,71144000,1010155.7242057149,2477596,1294266.8799999999,1.9142852515858246,1067770,1067770,82.5,null,1196108,3.3399999999999999E-2,1236058,95.502559719367937,0,0,0,168288,168288,0,{"$f":"MIN(H258*parameters!C$22,ROUND(P258+T258-V258+W258,0))","v":1067770},82.499986401568123,null,0,0,0,-1.3598431877426265E-5,null,null,"249","Richmond",1.9142852515858246,82.5,1067770,-1.3598431877426265E-5]
[250,"Rochester",1099776900,3657678.7738088467,250809000,3561173.774771044,7218853,10582758.396175724,0.68213340319747517,8730776,7218853,68.209999999999994,null,6831178,3.8399999999999997E-2,7093495,67.028790930003339,1.1812090699966546,0,0,0,0,0,{"$f":"MIN(H259*parameters!C$22,ROUND(P259+T259-V259+W259,0))","v":7093495},67.028790930003339,null,-125358,-125358,0,-1.1812090699966546,null,null,"250","Rochester",0.68213340319747517,68.209999999999994,7093495,-1.1812090699966546]
[251,"Rockland",2402334500,7989773.1151096998,582172000,8266113.4919640375,16255887,32271223.465289339,0.50372701293722866,26623759,16255887,50.37,null,15761565,2.5000000000000001E-2,16155604,50.061950757388651,0.30804924261134659,0,0,0,0,0,{"$f":"MIN(H260*parameters!C$22,ROUND(P260+T260-V260+W260,0))","v":16155604},50.061950757388651,null,-100283,-100283,0,-0.30804924261134659,null,null,"251","Rockland",0.50372701293722866,50.37,16155604,-0.30804924261134659]
[252,"Rockport",2475141900,8231918.6644081166,362060000,5140798.6830361122,13372717,7397255.1089817174,1.807794486330869,6102735,6102735,82.5,null,6624236,1.26E-2,6707701,90.678243499477745,0,0,0,604966,604966,0,{"$f":"MIN(H261*parameters!C$22,ROUND(P261+T261-V261+W261,0))","v":6102735},82.499993715102292,null,0,0,0,-6.2848977080420809E-6,null,null,"252","Rockport",1.807794486330869,82.5,6102735,-6.2848977080420809E-6]
[253,"Rowe",520263200,1730310.6324872498,11397000,161823.13039430638,1892134,580639.88,3.2587048619533334,479028,479028,82.5,null,531196,4.3700000000000003E-2,554409,95.482418465641729,0,0,0,75381,75381,0,{"$f":"MIN(H262*parameters!C$22,ROUND(P262+T262-V262+W262,0))","v":479028},82.50001705015508,null,0,0,0,1.7050155079800788E-5,null,null,"253","Rowe",3.2587048619533334,82.5,479028,1.7050155079800788E-5]
[254,"Rowley",1201949600,3997488.5261802045,311397000,4421447.5156090045,8418936,8212989.8644556962,1.0250756592840327,6775717,6775717,82.5,null,7307945,2.8000000000000004E-2,7512567,91.471767577761213,0,0,0,736850,736850,0,{"$f":"MIN(H263*parameters!C$22,ROUND(P263+T263-V263+W263,0))","v":6775717},82.500004405509529,null,0,0,0,4.4055095287376389E-6,null,null,"254","Rowley",1.0250756592840327,82.5,6775717,4.4055095287376389E-6]
[255,"Royalston",148156600,492744.71124069596,32005000,454430.92816265469,947176,1742252.980306502,0.54365009600004832,1437359,947176,54.37,null,606604,4.4400000000000002E-2,633537,36.363088894733671,18.006911105266326,0.02,12132,0,0,0,{"$f":"MIN(H264*parameters!C$22,ROUND(P264+T264-V264+W264,0))","v":645669},37.059428642011113,null,-313639,-301507,0,-17.310571357988884,null,null,"255","Royalston",0.54365009600004832,54.37,645669,-17.310571357988884]
[256,"Russell",159385000,530088.54010620061,45829000,650714.41983334802,1180803,2716053.79766403,0.43474948876769737,2240744,1180803,43.47,null,1125046,3.3000000000000002E-2,1162173,42.789027264465041,0.68097273553495796,0,0,0,0,0,{"$f":"MIN(H265*parameters!C$22,ROUND(P265+T265-V265+W265,0))","v":1162173},42.789027264465041,null,-18630,-18630,0,-0.68097273553495796,null,null,"256","Russell",0.43474948876769737,43.47,1162173,-0.68097273553495796]
[257,"Rutland",1039229400,3456307.6543052536,335604000,4765156.6072519785,8221464,17685813.861824758,0.46486206765673488,{"$f":"ROUND(H266*maxloc,0)","v":14590796},8221464,46.49,null,7988286,4.87E-2,8377316,47.367432821865393,0,0,0,155852,{"$f":"MAX(U266*(V$5),0)","v":155852},0,{"$f":"MIN(H266*parameters!C$22,ROUND(P266+T266-V266+W266,0))","v":8221464},46.486206765673487,null,0,0,0,-3.79323432651546E-3,null,null,"257","Rutland",0.46486206765673488,{"$f":"L266","v":46.49},{"$f":"X266","v":8221464},-3.79323432651546E-3]
[258,"Salem",6641110700,{"$f":"D$5*C267","v":22087252.098043531},1448792000,20571032.441013243,{"$f":"ROUND(D267+F267,0)","v":42658285},{"$f":"(SUMIF(town1755,A267,found1755)/2)","v":63599283.43484357},{"$f":"G267/H267","v":0.6707353085778508},52469409,{"$f":"MIN(G267,J267)","v":42658285},{"$f":"IF(H267>0, ROUND((K267*100/H267), 2), 0)","v":67.069999999999993},null,37667090,0.03,{"$f":"ROUND(N267*(1+O267),0)","v":38797103},{"$f":"P267*100/H267","v":61.002421575625142},{"$f":"IF(L267>Q267,L267-Q267,0)","v":6.067578424374851},{"$f":"IF(AND(R267>$T$4,R267<=$T$5),$S$4,IF(R267>$T$5,$S$5,0))","v":0.01},{"$f":"ROUND(S267*N267,0)","v":376671},{"$f":"MAX(P267-K267,0)","v":0},0,{"$f":"IF(AND(I267>1.75,$W$5=1),MAX(K267-(P267+T267),0),0)","v":0},{"$f":"MIN(H267*parameters!C$22,ROUND(P267+T267-V267+W267,0))","v":39173774},{"$f":"X267*100/H267","v":61.59467824843167},null,{"$f":"IF(Q267<L267, P267-K267, 0)","v":-3861182},{"$f":"-1*MAX(K267-(P267+T267+W267),0)","v":-3484511},{"$f":"IF(Q267>L267, X267-K267,0)","v":0},{"$f":"Y267-L267","v":-5.4753217515683232},null,null,{"$f":"TEXT(A267,\"000\")","v":"258"},{"$f":"B267","v":"Salem"},{"$f":"I267","v":0.6707353085778508},67.069999999999993,39173774,{"$f":"AD267","v":-5.4753217515683232}]
[259,"Salisbury",2004195100,6665626.3427988887,298342000,{"$f":"E268*F$5","v":4236082.8611124111},10901709,10645554.756796854,1.0240620849786715,8782583,8782583,82.5,null,8908219,5.0700000000000002E-2,9359866,87.922764137998712,0,0,0,577283,577283,0,{"$f":"MIN(H268*parameters!C$22,ROUND(P268+T268-V268+W268,0))","v":8782583},82.500003058953737,null,0,0,0,3.0589537374225984E-6,null,null,"259","Salisbury",1.0240620849786715,82.5,8782583,3.0589537374225984E-6]
[260,"Sandisfield",239836800,797658.11824037915,19703000,279757.93087295064,1077416,1057971.8497569363,1.0183787028431153,872827,872827,82.5,null,785670,3.3799999999999997E-2,812226,76.77198596414496,5.7280140358550398,0.01,7857,0,0,0,{"$f":"MIN(H269*parameters!C$22,ROUND(P269+T269-V269+W269,0))","v":820083},77.514633323033109,null,-60601,-52744,0,-4.9853666769668905,null,null,"260","Sandisfield",1.0183787028431153,82.5,820083,-4.9853666769668905]
[261,"Sandwich",4979931300,16562440.083108034,906417000,12869986.521243837,29432427,29984378.809719186,0.98159202119137201,24737113,24737113,82.5,null,25198424,2.1999999999999999E-2,25752789,85.887352088989914,0,0,0,1015676,1015676,0,{"$f":"MIN(H270*parameters!C$22,ROUND(P270+T270-V270+W270,0))","v":24737113},82.50000160744257,null,0,0,0,1.6074425701617656E-6,null,null,"261","Sandwich",0.98159202119137201,82.5,24737113,1.6074425701617656E-6]
[262,"Saugus",5498717200,18287837.456503782,1034333000,14686233.56410758,32974071,35262124.187411889,0.9351130075076789,29091252,29091252,82.5,null,29507720,2.3E-2,30186398,85.605727662816591,0,0,0,1095146,1095146,0,{"$f":"MIN(H271*parameters!C$22,ROUND(P271+T271-V271+W271,0))","v":29091252},82.499998710756032,null,0,0,0,-1.2892439684719648E-6,null,null,"262","Saugus",0.9351130075076789,82.5,29091252,-1.2892439684719648E-6]
[263,"Savoy",75889600,252396.4442905137,19636000,278806.61476025271,531203,635015.33756699529,0.83651995247115918,523888,523888,82.5,null,519841,3.3700000000000001E-2,537360,84.621578127364131,0,0,0,13472,13472,0,{"$f":"MIN(H272*parameters!C$22,ROUND(P272+T272-V272+W272,0))","v":523888},82.500054566749554,null,0,0,0,5.4566749554396665E-5,null,null,"263","Savoy",0.83651995247115918,82.5,523888,5.4566749554396665E-5]
[264,"Scituate",5194149500,17274894.911995184,1332356000,18917787.024623714,36192682,31446983.045735292,1.1509111048065483,25943761,25943761,82.5,null,26519404,3.7199999999999997E-2,27505926,87.467614810604985,0,0,0,1562165,1562165,0,{"$f":"MIN(H273*parameters!C$22,ROUND(P273+T273-V273+W273,0))","v":25943761},82.499999959514028,null,0,0,0,-4.0485971908310603E-8,null,null,"264","Scituate",1.1509111048065483,82.5,25943761,-4.0485971908310603E-8]
[265,"Seekonk",2729356900,9077396.3330914807,618950000,8788315.0440954585,17865711,24728905.099913199,0.72246267789926177,20401347,17865711,72.25,null,17297912,3.7400000000000003E-2,17944854,72.566310265240929,0,0,0,79143,79143,0,{"$f":"MIN(H274*parameters!C$22,ROUND(P274+T274-V274+W274,0))","v":17865711},72.246267789926179,null,0,0,0,-3.7322100738208519E-3,null,null,"265","Seekonk",0.72246267789926177,72.25,17865711,-3.7322100738208519E-3]
[266,"Sharon",3961784600,13176250.053827073,1281286000,18192656.966780666,31368907,39019843.366787784,0.80392190981217593,32191371,31368907,80.39,null,30980861,3.4599999999999999E-2,32052799,82.144868442199154,0,0,0,683892,683892,0,{"$f":"MIN(H275*parameters!C$22,ROUND(P275+T275-V275+W275,0))","v":31368907},80.392190981217595,null,0,0,0,2.1909812175948673E-3,null,null,"266","Sharon",0.80392190981217593,80.39,31368907,2.1909812175948673E-3]
[267,"Sheffield",717578800,2386550.1678524287,118093000,1676772.7417438645,4063323,4356046.0264194449,0.93280074989013473,3593738,3593738,82.5,null,3370279,4.2199999999999994E-2,3512505,80.63516727547497,1.86483272452503,0,0,0,0,0,{"$f":"MIN(H276*parameters!C$22,ROUND(P276+T276-V276+W276,0))","v":3512505},80.63516727547497,null,-81233,-81233,0,-1.86483272452503,null,null,"267","Sheffield",0.93280074989013473,82.5,3512505,-1.86483272452503]
[268,"Shelburne",308015300,1024408.7003631046,42606664.5,604961.29025620467,1629370,2197341.2015972966,0.74151888601350324,1812806,1629370,74.150000000000006,null,1477838,4.5999999999999999E-2,1545819,70.349520542203891,3.800479457796115,0.01,14778,0,0,0,{"$f":"MIN(H277*parameters!C$22,ROUND(P277+T277-V277+W277,0))","v":1560597},71.022060609684416,null,-83551,-68773,0,-3.1279393903155892,null,null,"268","Shelburne",0.74151888601350324,74.150000000000006,1560597,-3.1279393903155892]
[269,"Sherborn",1380482500,4591259.8617633916,922729000,13101596.497815911,17692856,10186066.996993398,1.7369663880300774,8403505,8403505,82.5,null,8277451,4.3499999999999997E-2,8637520,84.79740023847792,0,0,0,234015,234015,0,{"$f":"MIN(H278*parameters!C$22,ROUND(P278+T278-V278+W278,0))","v":8403505},82.499997324585109,null,0,0,0,-2.6754148905183683E-6,null,null,"269","Sherborn",1.7369663880300774,82.5,8403505,-2.6754148905183683E-6]
[270,"Shirley",778088400,2587795.2381313769,223411000,3172156.4784173365,5759952,9355620.3566174246,0.6156675645699824,7718387,5759952,61.57,null,5616287,2.8799999999999999E-2,5778036,61.760052030254464,0,0,0,18084,18084,0,{"$f":"MIN(H279*parameters!C$22,ROUND(P279+T279-V279+W279,0))","v":5759952},61.566756456998242,null,0,0,0,-3.2435430017585531E-3,null,null,"270","Shirley",0.6156675645699824,61.57,5759952,-3.2435430017585531E-3]
[271,"Shrewsbury",6818364500,22676769.355440881,2314738000,32866381.433943667,55543151,67854307.580000013,0.81856484843670096,55979804,55543151,81.86,null,50487975,2.9300000000000003E-2,51967273,76.586549702435249,5.2734502975647501,0.01,504880,0,0,0,{"$f":"MIN(H280*parameters!C$22,ROUND(P280+T280-V280+W280,0))","v":52472153},77.330614475927703,null,-3575878,-3070998,0,-4.5293855240722962,null,null,"271","Shrewsbury",0.81856484843670096,81.86,52472153,-4.5293855240722962]
[272,"Shutesbury",243958800,811367.21860940859,50309000,714324.81065255415,1525692,2497148.0732147042,0.61097378099645494,2060147,1525692,61.1,null,1481372,3.0300000000000004E-2,1526258,61.120043956190848,0,0,0,566,566,0,{"$f":"MIN(H281*parameters!C$22,ROUND(P281+T281-V281+W281,0))","v":1525692},61.097378099645489,null,0,0,0,-2.6219003545122632E-3,null,null,"272","Shutesbury",0.61097378099645494,61.1,1525692,-2.6219003545122632E-3]
[273,"Somerset",2395477400,7966967.5177927492,596046000,8463106.9210322667,16430074,30237279.347504444,0.54337143931423226,24945755,16430074,54.34,null,15305791,3.04E-2,15771087,52.157758040164502,2.1822419598355012,0,0,0,0,0,{"$f":"MIN(H282*parameters!C$22,ROUND(P282+T282-V282+W282,0))","v":15771087},52.157758040164502,null,-658987,-658987,0,-2.1822419598355012,null,null,"273","Somerset",0.54337143931423226,54.34,15771087,-2.1822419598355012]
[274,"Somerville",19987384600,66474784.472536042,3842650000,54560818.812817529,121035603,77023976.661080003,1.5714016368251076,63544781,63544781,82.5,null,59668622,4.53E-2,62371611,80.976877205972926,1.5231227940270742,0,0,0,0,0,{"$f":"MIN(H283*parameters!C$22,ROUND(P283+T283-V283+W283,0))","v":62371611},80.976877205972926,null,-1173170,-1173170,0,-1.5231227940270742,null,null,"274","Somerville",1.5714016368251076,82.5,62371611,-1.5231227940270742]
[275,"Southampton",841345200,2798177.0479866951,257987000,3663092.3875612812,6461269,9269402.021932153,0.69705348680660484,7647257,6461269,69.709999999999994,null,6195589,3.1399999999999997E-2,6390130,68.937888170999997,0.77211182899999642,0,0,0,0,0,{"$f":"MIN(H284*parameters!C$22,ROUND(P284+T284-V284+W284,0))","v":6390130},68.937888170999997,null,-71139,-71139,0,-0.77211182899999642,null,null,"275","Southampton",0.69705348680660484,69.709999999999994,6390130,-0.77211182899999642]
[276,"Southborough",2780408500,9247185.6364392582,1258344000,17866909.291295346,27114095,18679728.569946885,1.4515251063991823,15410776,15410776,82.5,null,15545121,4.0800000000000003E-2,16179362,86.614545492006613,0,0,0,768586,768586,0,{"$f":"MIN(H285*parameters!C$22,ROUND(P285+T285-V285+W285,0))","v":15410776},82.499999624158463,null,0,0,0,-3.7584153744774085E-7,null,null,"276","Southborough",1.4515251063991823,82.5,15410776,-3.7584153744774085E-7]
[277,"Southbridge",1200715500,3993384.1106621502,369253000,5242930.2770456094,9236314,35672344.034400001,0.25892086012326865,29429684,9236314,25.89,null,8983523,2.9600000000000001E-2,9249435,25.928868007890003,0,0,0,13121,13121,0,{"$f":"MIN(H286*parameters!C$22,ROUND(P286+T286-V286+W286,0))","v":9236314},25.892086012326867,null,0,0,0,2.0860123268668929E-3,null,null,"277","Southbridge",0.25892086012326865,25.89,9236314,2.0860123268668929E-3]
[278,"South Hadley",1745214700,5804299.7301808884,583161000,8280156.0536872949,14084456,22281902.760000002,0.63210292907678045,18382570,14084456,63.21,null,14027360,3.2500000000000001E-2,14483249,65.000054779881822,0,0,0,398793,398793,0,{"$f":"MIN(H287*parameters!C$22,ROUND(P287+T287-V287+W287,0))","v":14084456},63.210292907678046,null,0,0,0,2.9290767804468487E-4,null,null,"278","South Hadley",0.63210292907678045,63.21,14084456,2.9290767804468487E-4]
[279,"Southwick",1204413300,4005682.3909495343,366263000,5200476.0206729695,9206158,13461538.343522813,0.68388602885268734,11105769,9206158,68.39,null,9078342,4.0800000000000003E-2,9448738,70.190625758209706,0,0,0,242580,242580,0,{"$f":"MIN(H288*parameters!C$22,ROUND(P288+T288-V288+W288,0))","v":9206158},68.388602885268739,null,0,0,0,-1.3971147312616949E-3,null,null,"279","Southwick",0.68388602885268734,68.39,9206158,-1.3971147312616949E-3]
[280,"Spencer",1231722600,4096508.673023269,345229000,4901819.5562776169,8998328,18085531.093567241,0.49754292276219492,14920563,8998328,49.75,null,8483494,2.7199999999999998E-2,8714245,48.183517281942187,1.5664827180578129,0,0,0,0,0,{"$f":"MIN(H289*parameters!C$22,ROUND(P289+T289-V289+W289,0))","v":8714245},48.183517281942187,null,-284083,-284083,0,-1.5664827180578129,null,null,"280","Spencer",0.49754292276219492,49.75,8714245,-1.5664827180578129]
[281,"Springfield",9395931000,31249335.55057624,2520011000,35781001.02203092,67030337,446524567.99999994,0.1501156751581024,368382769,67030337,15.01,null,41873391,2.1099999999999997E-2,42756920,9.5754910399465416,5.4345089600534582,0.01,418734,0,0,0,{"$f":"MIN(H290*parameters!C$22,ROUND(P290+T290-V290+W290,0))","v":43175654},9.669267291021713,null,-24273417,-23854683,0,-5.3407327089782868,null,null,"281","Springfield",0.1501156751581024,15.01,43175654,-5.3407327089782868]
[282,"Sterling",1256274900,4178165.6223174278,392721000,5576146.4939530045,9754312,11501822.174908631,0.84806666732156177,9489003,9489003,82.5,null,9343087,2.69E-2,9594416,83.416487006122722,0,0,0,105413,105413,0,{"$f":"MIN(H291*parameters!C$22,ROUND(P291+T291-V291+W291,0))","v":9489003},82.499997441278296,null,0,0,0,-2.5587217038491872E-6,null,null,"282","Sterling",0.84806666732156177,82.5,9489003,-2.5587217038491872E-6]
[283,"Stockbridge",951374700,3164117.2369857556,79869000,1134039.8000757091,4298157,1534621.8448339903,2.8007922697496586,1266063,1266063,82.5,null,1206699,3.8999999999999994E-3,1211405,78.938339375134163,3.5616606248658371,0.01,12067,0,0,42591,{"$f":"MIN(H292*parameters!C$22,ROUND(P292+T292-V292+W292,0))","v":1266063},82.499998567201288,null,-54658,0,0,-1.4327987116757868E-6,null,null,"283","Stockbridge",2.8007922697496586,82.5,1266063,-1.4327987116757868E-6]
[284,"Stoneham",4676207700,15552304.877663359,1077411000,15297887.228328509,30850192,29319789.714415241,1.0521969052469817,24188827,24188827,82.5,null,23350686,2.64E-2,23967144,81.743915060265309,0.75608493973469137,0,0,0,0,0,{"$f":"MIN(H293*parameters!C$22,ROUND(P293+T293-V293+W293,0))","v":23967144},81.743915060265309,null,-221683,-221683,0,-0.75608493973469137,null,null,"284","Stoneham",1.0521969052469817,82.5,23967144,-0.75608493973469137]
[285,"Stoughton",4681174300,15568822.980014844,1002081000,14228295.545201099,29797119,47286692.676379792,0.63013751466877232,39011521,29797119,63.01,null,28399209,3.2000000000000001E-2,29307984,61.979348398454711,1.0306516015452871,0,0,0,0,0,{"$f":"MIN(H294*parameters!C$22,ROUND(P294+T294-V294+W294,0))","v":29307984},61.979348398454711,null,-489135,-489135,0,-1.0306516015452871,null,null,"285","Stoughton",0.63013751466877232,63.01,29307984,-1.0306516015452871]
[286,"Stow",1445144700,4806315.8030254627,516842000,7338509.2883437835,12144825,13256467.611406155,0.91614337665264056,10936586,10936586,82.5,null,10695186,4.1000000000000009E-2,11133689,83.986845714618056,0,0,0,197103,197103,0,{"$f":"MIN(H295*parameters!C$22,ROUND(P295+T295-V295+W295,0))","v":10936586},82.500001664017361,null,0,0,0,1.6640173612358922E-6,null,null,"286","Stow",0.91614337665264056,82.5,10936586,1.6640173612358922E-6]
[287,"Sturbridge",1458329400,4850165.9669351038,470345000,6678310.1048793569,11528476,19032141.978589937,0.6057371793972991,15701517,11528476,60.57,null,11051889,1.43E-2,11209931,58.899996714035268,1.6700032859647322,0,0,0,0,0,{"$f":"MIN(H296*parameters!C$22,ROUND(P296+T296-V296+W296,0))","v":11209931},58.899996714035268,null,-318545,-318545,0,-1.6700032859647322,null,null,"287","Sturbridge",0.6057371793972991,60.57,11209931,-1.6700032859647322]
[288,"Sudbury",5131906400,17067884.503169481,2367954000,33621982.004888952,50689867,41807859.559395671,1.2124482701149966,34491484,34491484,82.5,null,35029029,3.5000000000000003E-2,36255045,86.718251979614294,0,0,0,1763561,1763561,0,{"$f":"MIN(H297*parameters!C$22,ROUND(P297+T297-V297+W297,0))","v":34491484},82.499999673502955,null,0,0,0,-3.2649704451159778E-7,null,null,"288","Sudbury",1.2124482701149966,82.5,34491484,-3.2649704451159778E-7]
[289,"Sunderland",388097600,1290749.3817029221,112190000,1592957.53259079,2883707,3414705.513540017,0.84449654254678841,2817132,2817132,82.5,null,2905727,3.3000000000000002E-2,3001616,87.902631371811381,0,0,0,184484,184484,0,{"$f":"MIN(H298*parameters!C$22,ROUND(P298+T298-V298+W298,0))","v":2817132},82.499998574679026,null,0,0,0,-1.4253209741355022E-6,null,null,"289","Sunderland",0.84449654254678841,82.5,2817132,-1.4253209741355022E-6]
[290,"Sutton",1666618900,5542902.9056335418,538377000,7644279.3254624447,13187182,15715059.536076967,0.83914298700086154,12964924,12964924,82.5,null,12307341,3.4500000000000003E-2,12731944,81.017472258195099,1.4825277418049012,0,0,0,0,0,{"$f":"MIN(H299*parameters!C$22,ROUND(P299+T299-V299+W299,0))","v":12731944},81.017472258195099,null,-232980,-232980,0,-1.4825277418049012,null,null,"290","Sutton",0.83914298700086154,82.5,12731944,-1.4825277418049012]
[291,"Swampscott",3428507500,11402657.31040035,1090111000,15478211.327302599,26880869,24136813.20682542,1.1136875763035119,19912871,19912871,82.5,null,19421197,3.1399999999999997E-2,20031023,82.989509958736463,0,0,0,118152,118152,0,{"$f":"MIN(H300*parameters!C$22,ROUND(P300+T300-V300+W300,0))","v":19912871},82.500000432405997,null,0,0,0,4.3240599723048945E-7,null,null,"291","Swampscott",1.1136875763035119,82.5,19912871,4.3240599723048945E-7]
[292,"Swansea",2431716500,8087492.8596615735,586915000,8333458.1534942817,16420951,26660979.671355493,0.61591701439398494,21995308,16420951,61.59,null,16388221,4.1599999999999998E-2,17069971,64.026045593290576,0,0,0,649020,649020,0,{"$f":"MIN(H301*parameters!C$22,ROUND(P301+T301-V301+W301,0))","v":16420951},61.591701439398491,null,0,0,0,1.7014393984879916E-3,null,null,"292","Swansea",0.61591701439398494,61.59,16420951,1.7014393984879916E-3]
[293,"Taunton",6152158200,20461075.752049387,1560040000,22150614.753034458,42611691,117796188.43385358,0.36174083021309184,97181855,42611691,36.17,null,40641321,3.3099999999999997E-2,41986549,35.643385034972354,0.52661496502764749,0,0,0,0,0,{"$f":"MIN(H302*parameters!C$22,ROUND(P302+T302-V302+W302,0))","v":41986549},35.643385034972354,null,-625142,-625142,0,-0.52661496502764749,null,null,"293","Taunton",0.36174083021309184,36.17,41986549,-0.52661496502764749]
[294,"Templeton",731826100,2433934.3662240137,224581000,3188769.0135196736,5622703,14120897.148827938,0.39818312822048246,11649740,5622703,39.82,null,5213519,3.7900000000000003E-2,5411111,38.319881116400119,1.5001188835998818,0,0,0,0,0,{"$f":"MIN(H303*parameters!C$22,ROUND(P303+T303-V303+W303,0))","v":5411111},38.319881116400119,null,-211592,-211592,0,-1.5001188835998818,null,null,"294","Templeton",0.39818312822048246,39.82,5411111,-1.5001188835998818]
[295,"Tewksbury",5637921800,18750809.274366617,1342147000,19056806.96580917,37807616,42092563.428265296,0.89820179434859648,34726365,34726365,82.5,null,34447643,3.1199999999999995E-2,35522409,84.391175321355178,0,0,0,796044,796044,0,{"$f":"MIN(H304*parameters!C$22,ROUND(P304+T304-V304+W304,0))","v":34726365},82.500000407865713,null,0,0,0,4.0786571275930328E-7,null,null,"295","Tewksbury",0.89820179434859648,82.5,34726365,4.0786571275930328E-7]
[296,"Tisbury",3224394300,10723810.065023402,100614669.5,1428602.3323750584,12152412,7078941.8227762971,1.7166989508092798,5840127,5840127,82.5,null,5601714,3.9899999999999998E-2,5825222,82.289445878160933,0.21055412183906697,0,0,0,0,0,{"$f":"MIN(H305*parameters!C$22,ROUND(P305+T305-V305+W305,0))","v":5825222},82.289445878160933,null,-14905,-14905,0,-0.21055412183906697,null,null,"296","Tisbury",1.7166989508092798,82.5,5825222,-0.21055412183906697]
[297,"Tolland",196506400,653548.26801471354,13345000,189482.29140230047,843031,475113.11806489067,1.774379548671732,391968,391968,82.5,null,421038,2.6800000000000001E-2,432322,90.993488405629265,0,0,0,40354,40354,0,{"$f":"MIN(H306*parameters!C$22,ROUND(P306+T306-V306+W306,0))","v":391968},82.499932141731605,null,0,0,0,-6.7858268394616061E-5,null,null,"297","Tolland",1.774379548671732,82.5,391968,-6.7858268394616061E-5]
[298,"Topsfield",1512746600,5031148.7074983139,538204000,7641822.9420669712,12672972,11673674.789092023,1.0856026254767461,9630782,9630782,82.5,null,9638149,3.4200000000000001E-2,9967774,85.386771347390706,0,0,0,336992,336992,0,{"$f":"MIN(H307*parameters!C$22,ROUND(P307+T307-V307+W307,0))","v":9630782},82.500002561310694,null,0,0,0,2.5613106942046215E-6,null,null,"298","Topsfield",1.0856026254767461,82.5,9630782,2.5613106942046215E-6]
[299,"Townsend",1028137100,3419416.4718638696,332630000,4722929.5308465501,8142346,15024151.741643418,0.54195046349480958,12394925,8142346,54.2,null,7783023,2.98E-2,8014957,53.347151558543054,0.85284844145694905,0,0,0,0,0,{"$f":"MIN(H308*parameters!C$22,ROUND(P308+T308-V308+W308,0))","v":8014957},53.347151558543054,null,-127389,-127389,0,-0.85284844145694905,null,null,"299","Townsend",0.54195046349480958,54.2,8014957,-0.85284844145694905]
[300,"Truro",2485412200,8266076.0087846434,99760000,1416467.0955633943,9682543,2460604.0438159104,3.9350268582767547,2029998,2029998,82.5,null,1985711,2.75E-2,2040318,82.919395549552547,0,0,0,10320,10320,0,{"$f":"MIN(H309*parameters!C$22,ROUND(P309+T309-V309+W309,0))","v":2029998},82.499986338796489,null,0,0,0,-1.3661203510650921E-5,null,null,"300","Truro",3.9350268582767547,82.5,2029998,-1.3661203510650921E-5]
[301,"Tyngsborough",1879305900,6250265.2128115539,548481000,7787743.4747564755,14038009,20097037.785212278,0.69851135028115396,16580056,14038009,69.849999999999994,null,14003584,2.8400000000000002E-2,14401286,71.658749681988937,0,0,0,363277,363277,0,{"$f":"MIN(H310*parameters!C$22,ROUND(P310+T310-V310+W310,0))","v":14038009},69.851135028115394,null,0,0,0,1.1350281153994501E-3,null,null,"301","Tyngsborough",0.69851135028115396,69.849999999999994,14038009,1.1350281153994501E-3]
[302,"Tyringham",214764900,714273.06400887272,8440000,119837.43270404017,834110,305094.65999999997,2.7339383783380544,251703,251703,82.5,null,264951,1.95E-2,270118,88.535800659375695,0,0,0,18415,18415,0,{"$f":"MIN(H311*parameters!C$22,ROUND(P311+T311-V311+W311,0))","v":251703},82.499969026006553,null,0,0,0,-3.0973993446536952E-5,null,null,"302","Tyringham",2.7339383783380544,82.5,251703,-3.0973993446536952E-5]
[303,"Upton",1323346500,4401234.835396369,444595000,6312692.3451484293,10713927,14100792.361233592,0.75981028055239752,11633154,10713927,75.98,null,10308507,4.2500000000000003E-2,10746619,76.21287318253826,0,0,0,32692,32692,0,{"$f":"MIN(H312*parameters!C$22,ROUND(P312+T312-V312+W312,0))","v":10713927},75.981028055239761,null,0,0,0,1.0280552397574638E-3,null,null,"303","Upton",0.75981028055239752,75.98,10713927,1.0280552397574638E-3]
[304,"Uxbridge",2020830200,6720951.9749068078,539251000,7656689.0311713703,14377641,21574655.075174302,0.66641348146252311,17799090,14377641,66.64,null,13771506,5.8299999999999998E-2,14574385,67.553270025487322,0,0,0,196744,196744,0,{"$f":"MIN(H313*parameters!C$22,ROUND(P313+T313-V313+W313,0))","v":14377641},66.641348146252312,null,0,0,0,1.3481462523117216E-3,null,null,"304","Uxbridge",0.66641348146252311,66.64,14377641,1.3481462523117216E-3]
[305,"Wakefield",5733498000,19068680.142559346,1383218000,19639963.742893014,38708644,40637201.42839805,0.95254207079697328,33525691,33525691,82.5,null,33068815,3.39E-2,34189848,84.134356693439727,0,0,0,664157,664157,0,{"$f":"MIN(H314*parameters!C$22,ROUND(P314+T314-V314+W314,0))","v":33525691},82.499999560923527,null,0,0,0,-4.3907647295782226E-7,null,null,"305","Wakefield",0.95254207079697328,82.5,33525691,-4.3907647295782226E-7]
[306,"Wales",184036100,612074.08210207208,44967000,638475.09909983107,1250549,3416597.7837568196,0.36602172077303241,2818693,1250549,36.6,null,1249356,5.2999999999999999E-2,1315572,38.505322641561413,0,0,0,65023,65023,0,{"$f":"MIN(H315*parameters!C$22,ROUND(P315+T315-V315+W315,0))","v":1250549},36.602172077303244,null,0,0,0,2.1720773032427587E-3,null,null,"306","Wales",0.36602172077303241,36.6,1250549,2.1720773032427587E-3]
[307,"Walpole",5276015500,17547167.888902258,1489289000,21146039.136773374,38693207,42708236.215583049,0.90598934605222403,35234295,35234295,82.5,null,33869158,3.5000000000000003E-2,35054579,82.079200890083953,0.42079910991604663,0,0,0,0,0,{"$f":"MIN(H316*parameters!C$22,ROUND(P316+T316-V316+W316,0))","v":35054579},82.079200890083953,null,-179716,-179716,0,-0.42079910991604663,null,null,"307","Walpole",0.90598934605222403,82.5,35054579,-0.42079910991604663]
[308,"Waltham",15280634600,50820900.881577924,2565949000,36433263.105390899,87254164,79126547.643249989,1.1027166810486184,65279402,65279402,82.5,null,63760767,3.0899999999999997E-2,65730975,83.070697455871226,0,0,0,451573,451573,0,{"$f":"MIN(H317*parameters!C$22,ROUND(P317+T317-V317+W317,0))","v":65279402},82.500000245579727,null,0,0,0,2.4557972722050181E-7,null,null,"308","Waltham",1.1027166810486184,82.5,65279402,2.4557972722050181E-7]
[309,"Ware",812035400,2700697.4288706887,238558000,3387224.9136268264,6087922,18734008.964387838,0.32496632256196489,15455557,6087922,32.5,null,6125847,2.87E-2,6301659,33.637535948547125,0,0,0,213737,213737,0,{"$f":"MIN(H318*parameters!C$22,ROUND(P318+T318-V318+W318,0))","v":6087922},32.496632256196492,null,0,0,0,-3.3677438035084606E-3,null,null,"309","Ware",0.32496632256196489,32.5,6087922,-3.3677438035084606E-3]
[310,"Wareham",4129275400,13733297.163989384,621314000,8821880.8842509501,22555178,34704822.45601248,0.64991480733227036,28631479,22555178,64.989999999999995,null,21534353,2.7999999999999995E-3,21594649,62.223770276798547,2.7662297232014481,0.01,215344,0,0,0,{"$f":"MIN(H319*parameters!C$22,ROUND(P319+T319-V319+W319,0))","v":21809993},62.844271938413279,null,-960529,-745185,0,-2.1457280615867163,null,null,"310","Wareham",0.64991480733227036,64.989999999999995,21809993,-2.1457280615867163]
[311,"Warren",430289400,1431072.4338499422,106084000,1506259.97760372,2937332,9313944.8206689097,0.31536927226384903,7684004,2937332,31.54,null,2871954,2.5100000000000001E-2,2944040,31.608948267191522,0,0,0,6708,6708,0,{"$f":"MIN(H320*parameters!C$22,ROUND(P320+T320-V320+W320,0))","v":2937332},31.536927226384904,null,0,0,0,-3.0727736150950591E-3,null,null,"311","Warren",0.31536927226384903,31.54,2937332,-3.0727736150950591E-3]
[312,"Warwick",82405000,274065.60308342357,18360000,260689.01237513951,534755,722907.93518973095,0.73972766651074418,596399,534755,73.97,null,508956,3.1699999999999999E-2,525090,72.63580525813255,1.3341947418674494,0,0,0,0,0,{"$f":"MIN(H321*parameters!C$22,ROUND(P321+T321-V321+W321,0))","v":525090},72.63580525813255,null,-9665,-9665,0,-1.3341947418674494,null,null,"312","Warwick",0.73972766651074418,73.97,525090,-1.3341947418674494]
[313,"Washington",85907800,285715.34514374292,16676000,236778.32082613435,522494,706907.6041834465,0.73912629728115053,583199,522494,73.91,null,514303,3.73E-2,533487,75.467712731175709,0,0,0,10993,10993,0,{"$f":"MIN(H322*parameters!C$22,ROUND(P322+T322-V322+W322,0))","v":522494},73.912629728115064,null,0,0,0,2.6297281150675644E-3,null,null,"313","Washington",0.73912629728115053,73.91,522494,2.6297281150675644E-3]
[314,"Watertown",9830970500,32696206.043053772,1747797000,24816529.072016977,57512735,33614343.104620002,1.7109581710699968,27731833,27731833,82.5,null,27347367,4.7600000000000003E-2,28649102,85.228802213488521,0,0,0,917269,917269,0,{"$f":"MIN(H323*parameters!C$22,ROUND(P323+T323-V323+W323,0))","v":27731833},82.499999817603154,null,0,0,0,-1.8239684607124218E-7,null,null,"314","Watertown",1.7109581710699968,82.5,27731833,-1.8239684607124218E-7]
[315,"Wayland",4238747600,14097383.863993863,2078745000,29515576.308810424,43612960,29175011.111419998,1.494873809420026,24069384,24069384,82.5,null,23276007,2.6699999999999998E-2,23897476,81.910769146702364,0.5892308532976358,0,0,0,0,0,{"$f":"MIN(H324*parameters!C$22,ROUND(P324+T324-V324+W324,0))","v":23897476},81.910769146702364,null,-171908,-171908,0,-0.5892308532976358,null,null,"315","Wayland",1.494873809420026,82.5,23897476,-0.5892308532976358]
[316,"Webster",1844205900,6133528.3319399059,486392000,6906157.4132444914,13039686,27859373.384738058,0.46805381513510314,22983983,13039686,46.81,null,12413756,2.18E-2,12684376,45.530011837770779,1.2799881622292233,0,0,0,0,0,{"$f":"MIN(H325*parameters!C$22,ROUND(P325+T325-V325+W325,0))","v":12684376},45.530011837770779,null,-355310,-355310,0,-1.2799881622292233,null,null,"316","Webster",0.46805381513510314,46.81,12684376,-1.2799881622292233]
[317,"Wellesley",13524019800,44978686.276308008,6319792000,89733133.708949223,134711820,50017216.254587173,2.693309026122487,41264203,41264203,82.5,null,43650070,3.8100000000000002E-2,45313138,90.595081840133886,0,0,0,4048935,4048935,0,{"$f":"MIN(H326*parameters!C$22,ROUND(P326+T326-V326+W326,0))","v":41264203},82.499999180213436,null,0,0,0,-8.1978656396586302E-7,null,null,"317","Wellesley",2.693309026122487,82.5,41264203,-8.1978656396586302E-7]
[318,"Wellfleet",2661294900,8851033.2109864615,136003000,1931072.3175411818,10782106,3396321.9381795526,3.1746419203649667,2801966,2801966,82.5,null,2723735,3.5900000000000001E-2,2821517,83.075663949347188,0,0,0,19551,19551,0,{"$f":"MIN(H327*parameters!C$22,ROUND(P327+T327-V327+W327,0))","v":2801966},82.500011806945167,null,0,0,0,1.180694516733638E-5,null,null,"318","Wellfleet",3.1746419203649667,82.5,2801966,1.180694516733638E-5]
[319,"Wendell",102149000,339730.93003299116,18340000,260405.03741612521,600136,1572073.6713087098,0.38174801280171727,1296961,600136,38.17,null,600447,3.9E-2,623864,39.684145303486297,0,0,0,23728,23728,0,{"$f":"MIN(H328*parameters!C$22,ROUND(P328+T328-V328+W328,0))","v":600136},38.174801280171728,null,0,0,0,4.8012801717263187E-3,null,null,"319","Wendell",0.38174801280171727,38.17,600136,4.8012801717263187E-3]
[320,"Wenham",946329400,3147337.3912575012,406019000,5764961.4442016212,8912299,6285203.9664569311,1.4179808718322318,5185293,5185293,82.5,null,5543025,6.1400000000000003E-2,5883367,93.606620109681927,0,0,0,698074,698074,0,{"$f":"MIN(H329*parameters!C$22,ROUND(P329+T329-V329+W329,0))","v":5185293},82.499995667173735,null,0,0,0,-4.3328262648856253E-6,null,null,"320","Wenham",1.4179808718322318,82.5,5185293,-4.3328262648856253E-6]
[321,"Westborough",4556141700,15152984.924992837,1230861000,17476685.101365827,32629670,43074764.344666481,0.75751244368769732,{"$f":"ROUND(H330*maxloc,0)","v":35536681},32629670,75.75,null,32862767,2.1700000000000001E-2,33575889,77.947934273858351,0,0,0,946219,{"$f":"MAX(U330*(V$5),0)","v":946219},0,{"$f":"MIN(H330*parameters!C$22,ROUND(P330+T330-V330+W330,0))","v":32629670},75.751244368769733,null,0,0,0,1.2443687697327732E-3,null,null,"321","Westborough",0.75751244368769732,75.75,32629670,1.2443687697327732E-3]
[322,"West Boylston",1080272600,{"$f":"D$5*C331","v":3592810.6500030095},296311000,4207245.2040245077,{"$f":"ROUND(D331+F331,0)","v":7800056},{"$f":"(SUMIF(town1755,A331,found1755)/2)","v":9723140.6099999994},{"$f":"G331/H331","v":0.80221569479082133},8021591,{"$f":"MIN(G331,J331)","v":7800056},{"$f":"IF(H331>0, ROUND((K331*100/H331), 2), 0)","v":80.22},null,7543146,3.78E-2,{"$f":"ROUND(N331*(1+O331),0)","v":7828277},{"$f":"P331*100/H331","v":80.511815204531942},{"$f":"IF(L331>Q331,L331-Q331,0)","v":0},{"$f":"IF(AND(R331>$T$4,R331<=$T$5),$S$4,IF(R331>$T$5,$S$5,0))","v":0},{"$f":"ROUND(S331*N331,0)","v":0},{"$f":"MAX(P331-K331,0)","v":28221},28221,{"$f":"IF(AND(I331>1.75,$W$5=1),MAX(K331-(P331+T331),0),0)","v":0},{"$f":"MIN(H331*parameters!C$22,ROUND(P331+T331-V331+W331,0))","v":7800056},{"$f":"X331*100/H331","v":80.221569479082135},null,{"$f":"IF(Q331<L331, P331-K331, 0)","v":0},{"$f":"-1*MAX(K331-(P331+T331+W331),0)","v":0},{"$f":"IF(Q331>L331, X331-K331,0)","v":0},{"$f":"Y331-L331","v":1.5694790821356719E-3},null,null,{"$f":"TEXT(A331,\"000\")","v":"322"},{"$f":"B331","v":"West Boylston"},{"$f":"I331","v":0.80221569479082133},{"$f":"L331","v":80.22},{"$f":"X331","v":7800056},{"$f":"AD331","v":1.5694790821356719E-3}]
[323,"West Bridgewater",1379056200,4586516.2203620458,291106000,{"$f":"E332*F$5","v":4133340.7209410327},8719857,13433400.658924557,0.6491176152188175,11082556,8719857,64.91,null,8501714,3.9199999999999999E-2,8834981,65.768759708141587,0,0,0,115124,115124,0,{"$f":"MIN(H332*parameters!C$22,ROUND(P332+T332-V332+W332,0))","v":8719857},64.911761521881743,null,0,0,0,1.7615218817468303E-3,null,null,"323","West Bridgewater",0.6491176152188175,64.91,8719857,1.7615218817468303E-3]
[324,"West Brookfield",440792400,1466003.7005107661,151648000,2153211.7292301282,3619215,6467991.981812587,0.55955774375987288,5336093,3619215,55.96,null,3316962,3.8800000000000001E-2,3445660,53.272484098447968,2.6875159015520325,0.01,33170,0,0,0,{"$f":"MIN(H333*parameters!C$22,ROUND(P333+T333-V333+W333,0))","v":3478830},53.7853171398814,null,-173555,-140385,0,-2.174682860118601,null,null,"324","West Brookfield",0.55955774375987288,55.96,3478830,-2.174682860118601]
[325,"Westfield",3606467600,11994523.606514499,1174751000,16679993.353851173,28674517,64714818.569999993,0.44309043328281411,53389725,28674517,44.31,null,27986427,3.7100000000000001E-2,29024723,44.850196046837198,0,0,0,350206,350206,0,{"$f":"MIN(H334*parameters!C$22,ROUND(P334+T334-V334+W334,0))","v":28674517},{"$f":"X334*100/H334","v":44.309043328281412},null,0,0,0,{"$f":"Y334-L334","v":-9.5667171859048494E-4},null,null,"325","Westfield",0.44309043328281411,44.31,28674517,-9.5667171859048494E-4]
[326,"Westford",5161061500,17164849.615292016,1568422000,22269628.658357356,39434478,50697802.492905796,0.77783406895235974,41825687,39434478,77.78,null,39438677,2.9700000000000001E-2,40610006,80.102103056010378,0,0,0,1175528,1175528,0,{"$f":"MIN(H335*parameters!C$22,ROUND(P335+T335-V335+W335,0))","v":39434478},77.78340689523597,null,0,0,0,3.406895235968932E-3,null,null,"326","Westford",0.77783406895235974,77.78,39434478,3.406895235968932E-3]
[327,"Westhampton",250696200,833774.71323005366,76201000,1081958.792592484,1915734,2241272.7635866976,0.85475272404339597,1849050,1849050,82.5,null,1750279,2.4899999999999999E-2,1793861,80.037603148725779,2.4623968512742209,0,0,0,0,0,{"$f":"MIN(H336*parameters!C$22,ROUND(P336+T336-V336+W336,0))","v":1793861},80.037603148725779,null,-55189,-55189,0,-2.4623968512742209,null,null,"327","Westhampton",0.85475272404339597,82.5,1793861,-2.4623968512742209]
[328,"Westminster",1117484000,3716569.7032470908,318896000,4527923.9264914207,8244494,14658111.505373003,0.56245267318221315,12092942,8244494,56.25,null,7871153,3.8699999999999998E-2,8175767,55.776400643446685,0.47359935655331498,0,0,0,0,0,{"$f":"MIN(H337*parameters!C$22,ROUND(P337+T337-V337+W337,0))","v":8175767},55.776400643446685,null,-68727,-68727,0,-0.47359935655331498,null,null,"328","Westminster",0.56245267318221315,56.25,8175767,-0.47359935655331498]
[329,"West Newbury",1027055700,3415819.911665163,334092000,4743688.1003504964,8159508,6544321.0682887658,1.2468074097919495,5399065,5399065,82.5,null,5555923,2.9600000000000001E-2,5720378,87.409800654780312,0,0,0,321313,321313,0,{"$f":"MIN(H338*parameters!C$22,ROUND(P338+T338-V338+W338,0))","v":5399065},82.500001813202118,null,0,0,0,1.8132021182282188E-6,null,null,"329","West Newbury",1.2468074097919495,82.5,5399065,1.8132021182282188E-6]
[330,"Weston",6765132800,22499729.394714519,4296594000,61006255.252557203,83505985,21554028.930860002,3.8742633810071689,17782074,17782074,82.5,null,18369574,4.4600000000000001E-2,19188857,89.026775743658462,0,0,0,1406783,1406783,0,{"$f":"MIN(H339*parameters!C$22,ROUND(P339+T339-V339+W339,0))","v":17782074},82.500000612602406,null,0,0,0,6.1260240613592032E-7,null,null,"330","Weston",3.8742633810071689,82.5,17782074,6.1260240613592032E-7]
[331,"Westport",3742770600,12447845.175558608,734227000,10425104.111610107,22872949,19753339.300980277,1.1579282191981033,16296505,16296505,82.5,null,16001575,3.8300000000000001E-2,16614435,84.10950040824487,0,0,0,317930,317930,0,{"$f":"MIN(H340*parameters!C$22,ROUND(P340+T340-V340+W340,0))","v":16296505},82.500000388244587,null,0,0,0,3.8824458670205786E-7,null,null,"331","Westport",1.1579282191981033,82.5,16296505,3.8824458670205786E-7]
[332,"West Springfield",2966876100,9867346.4913572688,812204000,11532279.880563062,21399626,53788012.660000004,0.39785121148218305,44375110,21399626,39.79,null,20539659,6.0000000000000001E-3,20662897,38.415431205113421,1.3745687948865779,0,0,0,0,0,{"$f":"MIN(H341*parameters!C$22,ROUND(P341+T341-V341+W341,0))","v":20662897},38.415431205113421,null,-736729,-736729,0,-1.3745687948865779,null,null,"332","West Springfield",0.39785121148218305,39.79,20662897,-1.3745687948865779]
[333,"West Stockbridge",410234100,1364371.7738230142,58062000,824407.70351445267,2188779,1534621.8448339903,1.4262660259712217,1266063,1266063,82.5,null,1386208,2.7799999999999998E-2,1424745,92.840135489803586,0,0,0,158682,158682,0,{"$f":"MIN(H342*parameters!C$22,ROUND(P342+T342-V342+W342,0))","v":1266063},82.499998567201288,null,0,0,0,-1.4327987116757868E-6,null,null,"333","West Stockbridge",1.4262660259712217,82.5,1266063,-1.4327987116757868E-6]
[334,"West Tisbury",3002267300,9985051.8559813332,121881000,1730557.5989811753,11715609,4456692.8566077668,2.6287674239497383,3676772,3676772,82.5,null,3716435,5.779999999999999E-2,3931245,88.209915434744275,0,0,0,254473,254473,0,{"$f":"MIN(H343*parameters!C$22,ROUND(P343+T343-V343+W343,0))","v":3676772},82.500008824897861,null,0,0,0,8.8248978613592044E-6,null,null,"334","West Tisbury",2.6287674239497383,82.5,3676772,8.8248978613592044E-6]
[335,"Westwood",5214138300,17341374.403857496,1934818000,27471993.112507772,44813368,32791499.974486697,1.3666153739495561,27052987,27052987,82.5,null,26730452,4.1799999999999997E-2,27847785,84.923791292459526,0,0,0,794798,794798,0,{"$f":"MIN(H344*parameters!C$22,ROUND(P344+T344-V344+W344,0))","v":27052987},82.499998539403421,null,0,0,0,-1.4605965787950481E-6,null,null,"335","Westwood",1.3666153739495561,82.5,27052987,-1.4605965787950481E-6]
[336,"Weymouth",9358057000,31123372.797694966,2157281000,30630689.17786783,61754062,76598644.713312,0.80620306313680545,63193882,61754062,80.62,null,57077069,1.9300000000000001E-2,58178656,75.952591873847069,4.6674081261529352,0.01,570771,0,0,0,{"$f":"MIN(H345*parameters!C$22,ROUND(P345+T345-V345+W345,0))","v":58749427},76.697736911512223,null,-3575406,-3004635,0,-3.9222630884877816,null,null,"336","Weymouth",0.80620306313680545,80.62,58749427,-3.9222630884877816]
[337,"Whately",288556600,959692.23472728871,39229000,557002.68335862458,1516695,1881241.9360216809,0.80622006715808214,1552025,1516695,80.62,null,1589331,4.4400000000000002E-2,1659897,88.234105790254404,0,0,0,143202,143202,0,{"$f":"MIN(H346*parameters!C$22,ROUND(P346+T346-V346+W346,0))","v":1516695},80.622006715808212,null,0,0,0,2.0067158082071046E-3,null,null,"337","Whately",0.80622006715808214,80.62,1516695,2.0067158082071046E-3]
[338,"Whitman",1882778200,6261813.5168414861,504242000,7159605.0641647661,13421419,26924264.039676096,0.49848786879455453,22212518,13421419,49.85,null,12203142,3.3700000000000001E-2,12614388,46.851375329744215,2.9986246702557864,0.01,122031,0,0,0,{"$f":"MIN(H347*parameters!C$22,ROUND(P347+T347-V347+W347,0))","v":12736419},47.304613345164704,null,-807031,-685000,0,-2.5453866548352977,null,null,"338","Whitman",0.49848786879455453,49.85,12736419,-2.5453866548352977]
[339,"Wilbraham",1874892200,6235585.9657715773,741368000,10526497.370726168,16762083,25128205.917621668,0.66706246577855555,20730770,16762083,66.709999999999994,null,16700024,3.3500000000000002E-2,17259475,68.685663658528199,0,0,0,497392,497392,0,{"$f":"MIN(H348*parameters!C$22,ROUND(P348+T348-V348+W348,0))","v":16762083},66.706246577855552,null,0,0,0,-3.7534221444417426E-3,null,null,"339","Wilbraham",0.66706246577855555,66.709999999999994,16762083,-3.7534221444417426E-3]
[340,"Williamsburg",330724800,1099936.7971196487,72151007.549999997,1024453.9705926325,2124391,3347449.3182760538,0.63462977270528698,2761646,2124391,63.46,null,2157611,3.8100000000000002E-2,2239816,66.911125069804243,0,0,0,115425,115425,0,{"$f":"MIN(H349*parameters!C$22,ROUND(P349+T349-V349+W349,0))","v":2124391},63.462977270528704,null,0,0,0,2.9772705287030021E-3,null,null,"340","Williamsburg",0.63462977270528698,63.46,2124391,2.9772705287030021E-3]
[341,"Williamstown",1054809700,3508125.1934803119,290750000,4128285.9666705783,7636411,7668170.5429499112,0.99585826335342653,6326241,6326241,82.5,null,6351077,3.2000000000000001E-2,6554311,85.474246605352434,0,0,0,228070,228070,0,{"$f":"MIN(H350*parameters!C$22,ROUND(P350+T350-V350+W350,0))","v":6326241},82.500003939222808,null,0,0,0,3.9392228075030289E-6,null,null,"341","Williamstown",0.99585826335342653,82.5,6326241,3.9392228075030289E-6]
[342,"Wilmington",5340168500,17760530.313932426,1263191000,17935730.622612465,35696261,36683061.363454685,0.97309929087767522,30263526,30263526,82.5,null,32234655,4.0399999999999998E-2,33536935,91.423490170891256,0,0,0,3273409,3273409,0,{"$f":"MIN(H351*parameters!C$22,ROUND(P351+T351-V351+W351,0))","v":30263526},82.500001022678788,null,0,0,0,1.0226787878764299E-6,null,null,"342","Wilmington",0.97309929087767522,82.5,30263526,1.0226787878764299E-6]
[343,"Winchendon",825187100,2744437.8401572886,252699000,3588009.4083978967,6332447,18247890.622751463,0.34702350704057311,15054510,6332447,34.700000000000003,null,6035701,2.9000000000000005E-2,6210736,34.035364023151566,0.66463597684843734,0,0,0,0,0,{"$f":"MIN(H352*parameters!C$22,ROUND(P352+T352-V352+W352,0))","v":6210736},34.035364023151566,null,-121711,-121711,0,-0.66463597684843734,null,null,"343","Winchendon",0.34702350704057311,34.700000000000003,6210736,-0.66463597684843734]
[344,"Winchester",8680662000,28870467.401169319,2901678000,41200194.556136712,70070662,49848071.040033542,1.4056845237547,41124659,41124659,82.5,null,40369117,2.76E-2,41483305,83.219478977800961,0,0,0,358646,358646,0,{"$f":"MIN(H353*parameters!C$22,ROUND(P353+T353-V353+W353,0))","v":41124659},82.500000786333999,null,0,0,0,7.8633399880345678E-7,null,null,"344","Winchester",1.4056845237547,82.5,41124659,7.8633399880345678E-7]
[345,"Windsor",123292600,410051.09853435238,24509000,347997.11352409009,758048,766718.72418344649,0.98869112764569456,632543,632543,82.5,null,663920,4.0800000000000003E-2,691008,90.125358649082401,0,0,0,58465,58465,0,{"$f":"MIN(H354*parameters!C$22,ROUND(P354+T354-V354+W354,0))","v":632543},82.500006853707234,null,0,0,0,6.853707233744899E-6,null,null,"345","Windsor",0.98869112764569456,82.5,632543,6.853707233744899E-6]
[346,"Winthrop",2870648300,9547308.5077350233,702830000,9979306.0222014878,19526615,24580568.579470009,0.79439232403716109,20278969,19526615,79.44,null,17435917,3.1199999999999995E-2,17979918,73.146875923029086,6.293124076970912,0.01,174359,0,0,0,{"$f":"MIN(H355*parameters!C$22,ROUND(P355+T355-V355+W355,0))","v":18154277},73.856212647427014,null,-1546697,-1372338,0,-5.5837873525729833,null,null,"346","Winthrop",0.79439232403716109,79.44,18154277,-5.5837873525729833]
[347,"Woburn",9226467200,30685726.563890863,1743936000,24761707.706179265,55447434,57136963.596860021,0.97043018231103784,47137995,47137995,82.5,null,46766937,2.92E-2,48132532,84.240619329384771,0,0,0,994537,994537,0,{"$f":"MIN(H356*parameters!C$22,ROUND(P356+T356-V356+W356,0))","v":47137995},82.50000005703923,null,0,0,0,5.7039230227928783E-8,null,null,"347","Woburn",0.97043018231103784,82.5,47137995,5.7039230227928783E-8]
[348,"Worcester",15426121200,51304765.607863426,4447781000,63152921.358982049,114457687,400051102.55999994,0.28610766541465427,330042160,114457687,28.61,null,105210987,3.5499999999999997E-2,108945977,27.233015058035043,1.376984941964956,0,0,0,0,0,{"$f":"MIN(H357*parameters!C$22,ROUND(P357+T357-V357+W357,0))","v":108945977},27.233015058035043,null,-5511710,-5511710,0,-1.376984941964956,null,null,"348","Worcester",0.28610766541465427,28.61,108945977,-1.376984941964956]
[349,"Worthington",182949300,608459.56238323136,35227000,500179.29405986058,1108639,1188969.8699999999,0.93243658058382939,980900,980900,82.5,null,1018495,3.7699999999999997E-2,1056892,88.891403110156205,0,0,0,75992,75992,0,{"$f":"MIN(H358*parameters!C$22,ROUND(P358+T358-V358+W358,0))","v":980900},82.49998799380846,null,0,0,0,-1.2006191539626343E-5,null,null,"349","Worthington",0.93243658058382939,82.5,980900,-1.2006191539626343E-5]
[350,"Wrentham",2481220700,8252135.7627398139,671446000,9533692.5165162273,17785828,19381840.243330471,0.91765424627933978,15990018,15990018,82.5,null,16013005,4.7400000000000005E-2,16772021,86.534719043365641,0,0,0,782003,782003,0,{"$f":"MIN(H359*parameters!C$22,ROUND(P359+T359-V359+W359,0))","v":15990018},82.499998964248817,null,0,0,0,-1.0357511825986876E-6,null,null,"350","Wrentham",0.91765424627933978,82.5,15990018,-1.0357511825986876E-6]
[351,"Yarmouth",6880187700,22882383.245284304,826835000,11740021.761829983,34622405,30711679.633676831,1.1273367465722999,25337136,25337136,82.5,null,24462965,-4.1999999999999997E-3,24360221,79.319077597071072,3.1809224029289282,0.01,244630,0,0,0,{"$f":"MIN(H360*parameters!C$22,ROUND(P360+T360-V360+W360,0))","v":24604851},80.115614950019207,null,-976915,-732285,0,-2.3843850499807928,null,null,"351","Yarmouth",1.1273367465722999,82.5,24604851,-2.3843850499807928]
[999,"STATE TOTAL",{"$f":"SUM(C10:C360)","v":1420130860400},4723123848.2241039,332643685529.04999,4723123848.2241049,9446247692,11926225791.726206,0.79205675432988321,9839136278,7036473216,{"$f":"K361*100/H361","v":58.999999990621831},null,{"$f":"SUM(N10:N360)","v":6705321557},2.86E-2,{"$f":"SUM(P10:P360)","v":6901288576},null,null,null,{"$f":"SUM(T10:T360)","v":18883854},{"$f":"SUM(U10:U360)","v":93814687},{"$f":"SUM(V10:V360)","v":93814687},{"$f":"SUM(W10:W360)","v":1315914},{"$f":"SUM(X10:X360)","v":6827673657},57.249240256181331,null,{"$f":"SUM(AA10:AA360)","v":-228999327},{"$f":"SUM(AB10:AB360)","v":-208799559},{"$f":"SUM(AC10:AC360)","v":0},null,null,null,{"$f":"TEXT(A361,\"000\")","v":"999"},{"$f":"B361","v":"STATE TOTAL"},{"$f":"I361","v":0.79205675432988321},{"$f":"L361","v":58.999999990621831},{"$f":"X361","v":6827673657},{"$f":"AD361","v":0}]
[]
[null,null,null,null,null,null,null,null,null,null,null,null,null,null,null,null,null,null,null,null,null,null,null,null,null,null,null,null,null,null,"min"]
[null,null,null,null,null,null,null,null,null,null,{"$f":"H361-K361","v":4889752575.7262058},{"$f":"COUNTIF(L10:L360,\">82.499\")","v":162},null,null,{"$f":"COUNTIF(mrgf,\"<0\")","v":5},"negative",null,{"$f":"COUNTIF(R10:R360,\">0\")","v":151},{"$f":"COUNTIF(S10:S360,\".01\")","v":43},{"$f":"COUNTIF(T10:T360,\">0\")","v":52},{"$f":"COUNTIF(U10:U360,\">0\")","v":200},null,{"$f":"COUNTIF(W10:W360,\">0\")","v":11},null,null,null,{"$f":"COUNTIF(AA10:AA360,\"<0\")","v":151},{"$f":"COUNTIF(AB10:AB360,\">0\")","v":0},{"$f":"COUNTIF(AC10:AC360,\">0\")","v":0},null,"median"]
[null,null,null,null,null,null,null,null,null,null,null,{"$f":"L364/351","v":0.46153846153846156},null,null,null,null,null,null,{"$f":"COUNTIF(S10:S360,\".02\")","v":9},null,{"$f":"U364/351","v":0.56980056980056981},null,null,null,null,null,null,null,null,null,"max"]

{"sheet":"Aid436","index":13,"n_rows":454,"n_cols":46,"rows_kept":454,"cut":false,"hidden":false,"merged":[[4,38,4,43],[4,8,4,11],[4,28,4,32],[4,16,4,17],[4,18,4,20]]}
[null,null,null,"c70fy21","c70fy21","c70fy21",null,null,null,null,null,null,null,"c70fy21"]
[null,null,null,47,null,null,null,49]
[1,{"$f":"A3+1","v":2},{"$f":"B3+1","v":3},4,5,6,7,8,9,10,11,12,13,14,15,16,{"$f":"P3+1","v":17},{"$f":"Q3+1","v":18},{"$f":"R3+1","v":19},{"$f":"S3+1","v":20},{"$f":"T3+1","v":21},{"$f":"U3+1","v":22},{"$f":"V3+1","v":23},{"$f":"W3+1","v":24},{"$f":"X3+1","v":25},{"$f":"Y3+1","v":26},27,{"$f":"AA3+1","v":28},{"$f":"AB3+1","v":29},{"$f":"AC3+1","v":30},{"$f":"AD3+1","v":31},{"$f":"AE3+1","v":32},{"$f":"AF3+1","v":33},{"$f":"AG3+1","v":34},{"$f":"AH3+1","v":35},{"$f":"AI3+1","v":36},{"$f":"AJ3+1","v":37},{"$f":"AK3+1","v":38},{"$f":"AL3+1","v":39},{"$f":"AM3+1","v":40},{"$f":"AN3+1","v":41},{"$f":"AO3+1","v":42},{"$f":"AP3+1","v":43},{"$f":"AQ3+1","v":44},{"$f":"AR3+1","v":45},{"$f":"AS3+1","v":46}]
["Return to Index",null,"nonop",null,null,null,null,"priorc70","found","prelcont436","foundaid","foundinc",null,null,"enro",null,null,"minaid",null,null,null,null,"rednonop",null,"chapter70"]
["More about the data",null,null,null,null,null,null,"Base Aid","Foundation Aid Calculation",null,null,null,null,null,null,null,"Minimum Aid Calculation",null,"Minimum Aid Adjustment",null,null,null,null,null,null,null,null,null,"Analysis",null,null,null,null,null,null,null,null,null,"SUMMARY FOR EXPORT (reads from columns to the left)"]
[null,null,null,null,null,null,null,null,null,null,null,null,null,null,null,null,{"$f":"mininc","v":30},null,null,null,null,null,null,null,null,null,null,null,null,null,null,null,null,null,null,null,null,null,null,null,null,null,null,null,null,"SOA 1/6th "]
[null,null,null,"foundation","required",null,null,null,"foundation","required",null,null,"district","foundation","foundation","operating dist",null,null,null,null,null,"c70 prior ",null,"HOLD HARMLESS",null,null,null,"nss ",null,null,null,null,null,null,null,null,null,null,null,null,null,{"$f":"I7","v":"foundation"},{"$f":"J7","v":"required"},null,null,"with H1 MRGF"]
[null,null,null,"budget","contribution","chapter 70","base aid",null,"budget","contribution","foundation","foundation","target aid","enrollment","enrollment","foundation ","Min Aid ","Addl Aid ","Aid determination",null,"Increment","to non-op","non-op ","to SOA 1/6th run","Chapter 70","c70 pct of",{"$f":"CYr","v":"FY22"},"percent of",null,null,"Aid Comp'd","Distance from","Foundation ",null,"Base Aid",null,"per pupil",null,{"$f":"A9","v":"LEA"},{"$f":"B9","v":"District"},{"$f":"C9","v":"Non-Op"},"budget","contribution",{"$f":"Y8","v":"Chapter 70"},null,"Chapter 70"]
["LEA","District","Non-Op",{"$f":"PYr","v":"FY21"},"FY21",{"$f":"PYr","v":"FY21"},"adjustment","base aid",{"$f":"CYr","v":"FY22"},{"$f":"CYr","v":"FY22"},"aid","aid increase","percentage",{"$f":"PYr","v":"FY21"},{"$f":"CYr","v":"FY22"},"aid?","Per Pupil","to Reach Min","from minimum aid adjustment formula","plus additional $30/pupil","above min aid","reduction","reduction","with H1 MRGFs","FY22","foundation","Required NSS","foundation","∆ in Foundation Budget","∆ in Aid","to Target","Aid Target","Budget PP","blank","Reduction","blank","∆ in Aid","blank",{"$f":"CYr","v":"FY22"},{"$f":"CYr","v":"FY22"},{"$f":"CYr","v":"FY22"},"FY22","FY22","FY22",null,"FY22"]
[1,"Abington                     ",1,25332546.714959998,15287069,10045478,null,{"$f":"F10+G10","v":10045478},{"$f":"SUMIF(dist1755,A10,found1755)","v":26529795.66124},{"$f":"SUMIF(dist1755,A10,prelcont1755)","v":15771170},{"$f":"ROUND(MAX(found-prelcont436,0),0)","v":10758626},{"$f":"IF(foundaid>priorc70,foundaid-priorc70,0)","v":713148},{"$f":"ROUND(100-'Townwide Contributions'!L10,2)","v":39.6},2197,{"$f":"SUMIF(dist1755,A10,enro1755)","v":2193},{"$f":"IF(AND(C10=1,L10>0),1,0)","v":1},{"$f":"IF(nonop=1,enro*$Q$6,0)","v":65790},{"$f":"IF((foundinc)<Q10,Q10-(foundinc),0)","v":0},10792550,{"$f":"S10+30*enro","v":10858340},{"$f":"IF(T10-priorc70-foundinc-minaid>0,T10-priorc70-foundinc-minaid,0)","v":99714},{"$f":"priorc70+foundinc+minaidadjincrement+minaid","v":10858340},{"$f":"IF(AND(C10=0,V10>found),V10-found,0)","v":0},{"$f":"MAX(AT10-(priorc70+foundinc+minaidadjincrement+minaid-rednonop),0)","v":0},{"$f":"priorc70+foundinc+minaidadjincrement+minaid-rednonop+holdharmlessaid","v":10858340},{"$f":"IF(C10=1, Y10/I10*100, 0)","v":40.928848976639578},{"$f":"prelcont436+chapter70","v":26629510},{"$f":"IF(found>0,AA10*100/found,0)","v":100.37585792228955},{"$f":"I10-D10","v":1197248.9462800026},{"$f":"Y10-F10","v":812862},{"$f":"Y10-((M10/100)*I10)","v":352540.91814895906},{"$f":"IF(C10=1, (Y10/I10*100)-M10, \"\")","v":1.328848976639577},{"$f":"IFERROR(ROUND(I10/O10, 2), 0)","v":12097.49},null,{"$f":"VLOOKUP(A10, disthist, 37, FALSE)*$H$6","v":0},null,{"$f":"IFERROR(AD10/O10, 0)","v":370.66210670314638},null,{"$f":"A10","v":1},{"$f":"B10","v":"Abington                     "},{"$f":"C10","v":1},26529795.66124,15771170,10858340,null,10858340]
[2,"Acton                        ",0,0,0,0,null,{"$f":"F11+G11","v":0},0,{"$f":"SUMIF(dist1755,A11,prelcont1755)","v":0},{"$f":"ROUND(MAX(found-prelcont436,0),0)","v":0},{"$f":"IF(foundaid>priorc70,foundaid-priorc70,0)","v":0},{"$f":"ROUND(100-'Townwide Contributions'!L11,2)","v":19.53},0,0,0,0,{"$f":"IF((foundinc)<Q11,Q11-(foundinc),0)","v":0},0,0,0,{"$f":"priorc70+foundinc+minaidadjincrement+minaid","v":0},0,0,0,0,0,0,0,0,0,"",0,null,0,null,0,null,2,"Acton                        ",0,0,0,0,null,0]
[3,"Acushnet                     ",1,13990412.9,7889510,6361492,null,6361492,13489100.060000001,7882117,5606983,0,{"$f":"ROUND(100-'Townwide Contributions'!L12,2)","v":41.57},1292,1207,0,36210,36210,6361492,6397702,0,6397702,0,0,6397702,47.428679241334052,14279819,105.86191025704349,-501312.83999999985,36210,790283.10505799949,5.8586792413340518,11175.72,null,0,null,30,null,3,"Acushnet                     ",1,13489100.060000001,7882117,6397702,null,6397702]
[4,"Adams                        ",0,0,0,0,null,0,0,0,0,0,{"$f":"ROUND(100-'Townwide Contributions'!L13,2)","v":66.989999999999995},0,0,0,0,0,0,0,0,0,0,0,0,0,0,0,0,0,0,"",0,null,0,null,0,null,4,"Adams                        ",0,0,0,0,null,0]
[5,"Agawam                       ",1,42427489.500000007,23256462,19477412,null,19477412,42850725.390000008,23421246,19429479,0,{"$f":"ROUND(100-'Townwide Contributions'!L14,2)","v":45.34},3623,3516,0,105480,105480,19844058,19949538,366646,19949538,0,0,19949538,46.555893321366234,43370784,101.2136518233163,423235.8900000006,472126,521019.10817399621,1.2158933213662309,12187.35,null,0,null,134.2792946530148,null,5,"Agawam                       ",1,42850725.390000008,23421246,19949538,null,19949538]
[6,"Alford                       ",0,0,0,0,null,0,0,0,0,0,{"$f":"ROUND(100-'Townwide Contributions'!L15,2)","v":17.5},0,0,0,0,0,0,0,0,0,0,0,0,0,0,0,0,0,0,"",0,null,0,null,0,null,6,"Alford                       ",0,0,0,0,null,0]
[7,"Amesbury                     ",1,22553274.579999998,16118764,9190887,null,9190887,22473928.549999997,16512866,5961063,0,{"$f":"ROUND(100-'Townwide Contributions'!L16,2)","v":21.81},2036,1930,0,57900,57900,9190887,9248787,0,9248787,0,0,9248787,41.153405731549327,25761653,114.62905981339877,-79346.030000001192,57900,4347223.1832450014,19.343405731549328,11644.52,null,0,null,30,null,7,"Amesbury                     ",1,22473928.549999997,16512866,9248787,null,9248787]
[8,"Amherst                      ",1,12512134.57,9645618,6122223,null,6122223,12765297.700000001,9889673,2875625,0,{"$f":"ROUND(100-'Townwide Contributions'!L17,2)","v":22.53},1097,1045,0,31350,31350,6122223,6153573,0,6153573,0,0,6153573,48.205479767228617,16043246,125.67858875708005,253163.13000000082,31350,3277551.4281899999,25.675479767228616,12215.6,null,0,null,30,null,8,"Amherst                      ",1,12765297.700000001,9889673,6153573,null,6153573]
[9,"Andover                      ",1,64237434.876240008,52995883,11668291,null,11668291,64739542.478479996,53410123,11329419,0,{"$f":"ROUND(100-'Townwide Contributions'!L18,2)","v":17.5},5740,5628,0,168840,168840,11668291,11837131,0,11837131,0,0,11837131,18.284236413834357,65247254,100.78423711704291,502107.60223998874,168840,507711.06626600213,0.78423641383435694,11503.12,null,0,null,30,null,9,"Andover                      ",1,64739542.478479996,53410123,11837131,null,11837131]
[10,"Arlington                    ",1,64895656.34093,50343449,14566028,null,14566028,64412505.935059994,51220285,13192221,0,{"$f":"ROUND(100-'Townwide Contributions'!L19,2)","v":17.5},6092,5836,0,175080,175080,14566028,14741108,0,14741108,0,0,14741108,22.885475089048434,{"$f":"prelcont436+chapter70","v":65961393},102.40463717791322,-483150.40587000549,175080,3468919.4613645021,5.385475089048434,11037.1,null,0,null,30,null,10,"Arlington                    ",1,64412505.935059994,51220285,14741108,null,14741108]
[11,"Ashburnham                   ",0,0,0,0,null,0,0,0,0,0,{"$f":"ROUND(100-'Townwide Contributions'!L20,2)","v":52.42},0,0,0,0,0,0,0,0,0,0,0,0,0,0,0,0,0,0,"",0,null,0,null,0,null,11,"Ashburnham                   ",0,0,0,0,null,0]
[12,"Ashby                        ",0,0,0,0,null,0,0,0,0,0,{"$f":"ROUND(100-'Townwide Contributions'!L21,2)","v":40.17},0,0,0,0,0,0,0,0,0,0,0,0,0,0,0,0,0,0,"",0,null,0,null,0,null,12,"Ashby                        ",0,0,0,0,null,0]
[13,"Ashfield                     ",0,117262.39999999999,96741,93413,null,93413,134575.02000000002,111024,23551,0,{"$f":"ROUND(100-'Townwide Contributions'!L22,2)","v":17.5},8,9,0,0,0,93413,93683,270,93683,0,0,93683,0,204707,152.11366864370518,17312.620000000024,270,70132.371499999994,"",14952.78,null,0,null,30,null,13,"Ashfield                     ",0,134575.02000000002,111024,93683,null,93683]
[14,"Ashland                      ",1,30232498.719999995,22294876,7937623,null,7937623,30147061.930000003,22838677,7308385,0,{"$f":"ROUND(100-'Townwide Contributions'!L23,2)","v":21.83},2786,2694,0,80820,80820,7937623,8018443,0,8018443,0,0,8018443,26.597759405604538,30857120,102.35531433095774,-85436.789999991655,80820,1437339.3806809997,4.76775940560454,11190.45,null,0,null,30,null,14,"Ashland                      ",1,30147061.930000003,22838677,8018443,null,8018443]
[15,"Athol                        ",0,0,0,0,null,0,0,0,0,0,{"$f":"ROUND(100-'Townwide Contributions'!L24,2)","v":70.349999999999994},0,0,0,0,0,0,0,0,0,0,0,0,0,0,0,0,0,0,"",0,null,0,null,0,null,15,"Athol                        ",0,0,0,0,null,0]
[16,"Attleboro                    ",1,79207276.429999992,38037529,41169747,null,41169747,80741145.670000002,39217459,41523687,353940,{"$f":"ROUND(100-'Townwide Contributions'!L25,2)","v":51.2},6383,6188,1,185640,0,41169747,41355387,0,41523687,0,0,41523687,51.428161757467414,80741146,100.00000040871355,1533869.2400000095,353940,184220.41696000099,0.22816175746741152,13048.02,null,0,null,57.197802197802197,null,16,"Attleboro                    ",1,80741145.670000002,39217459,41523687,null,41523687]
[17,"Auburn                       ",1,27521289.789999999,15309359,12211931,null,12211931,27367440.740000006,15568309,11799132,0,{"$f":"ROUND(100-'Townwide Contributions'!L26,2)","v":43.11},2511,2421,0,72630,72630,12211931,12284561,0,12284561,0,0,12284561,44.887503792216108,27852870,101.77374736867702,-153849.04999999329,72630,486457.29698599875,1.777503792216109,11304.19,null,0,null,30,null,17,"Auburn                       ",1,27367440.740000006,15568309,12284561,null,12284561]
[18,"Avon                         ",1,7045846.1099999985,4598969,2448769,null,2448769,7016240.1299999999,4689958,2326282,0,{"$f":"ROUND(100-'Townwide Contributions'!L27,2)","v":33.159999999999997},586,560,0,16800,16800,2448769,2465569,0,2465569,0,0,2465569,35.140886775778014,7155527,101.98520671213116,-29605.979999998584,16800,138983.77289200015,1.9808867757780177,12529,null,0,null,30,null,18,"Avon                         ",1,7016240.1299999999,4689958,2465569,null,2465569]
[19,"Ayer                         ",0,0,0,0,null,0,0,0,0,0,{"$f":"ROUND(100-'Townwide Contributions'!L28,2)","v":25.08},0,0,0,0,0,0,0,0,0,0,0,0,0,0,0,0,0,0,"",0,null,0,null,0,null,19,"Ayer                         ",0,0,0,0,null,0]
[20,"Barnstable                   ",1,65773443.140000001,52762387,13011056,null,13011056,65238260.339999989,53821564,11416696,0,{"$f":"ROUND(100-'Townwide Contributions'!L29,2)","v":17.5},5405,5147,0,154410,154410,13011056,13165466,0,13165466,0,0,13165466,20.180590241655732,66987030,102.68058904527192,-535182.80000001192,154410,1748770.4405000024,2.6805902416557323,12675.01,null,0,null,30,null,20,"Barnstable                   ",1,65238260.339999989,53821564,13165466,null,13165466]
[21,"Barre                        ",0,0,0,0,null,0,0,0,0,0,{"$f":"ROUND(100-'Townwide Contributions'!L30,2)","v":59.01},0,0,0,0,0,0,0,0,0,0,0,0,0,0,0,0,0,0,"",0,null,0,null,0,null,21,"Barre                        ",0,0,0,0,null,0]
[22,"Becket                       ",0,188943.82,155879,76563,null,76563,207582.36000000004,163858,43724,0,{"$f":"ROUND(100-'Townwide Contributions'!L31,2)","v":17.5},11,12,0,0,0,76563,76923,360,76923,0,0,76923,0,240781,115.99299670742734,18638.540000000037,360,40596.086999999992,"",17298.53,null,0,null,30,null,22,"Becket                       ",0,207582.36000000004,163858,76923,null,76923]
[23,"Bedford                      ",1,30502691.57316,25097492,5595167,null,5595167,30729462.661080003,25351806,5377657,0,{"$f":"ROUND(100-'Townwide Contributions'!L32,2)","v":17.5},2707,2649,0,79470,79470,5595167,5674637,0,5674637,0,0,5674637,18.466437446649977,31026443,100.96643518370445,226771.08792000264,79470,296981.03431100026,0.96643744664997655,11600.4,null,0,null,30,null,23,"Bedford                      ",1,30729462.661080003,25351806,5674637,null,5674637]
[24,"Belchertown                  ",1,24726417.459999997,12418125,13884146,null,13884146,24800115.190000001,12857028,11943087,0,{"$f":"ROUND(100-'Townwide Contributions'!L33,2)","v":48.1},2278,2204,0,66120,66120,13884146,13950266,0,13950266,0,0,13950266,56.250811309235694,26807294,108.0934253515457,73697.730000004172,66120,2021410.593609998,8.1508113092356922,11252.32,null,0,null,30,null,24,"Belchertown                  ",1,24800115.190000001,12857028,13950266,null,13950266]
[25,"Bellingham                   ",1,24676853.43,16772086,8642425,null,8642425,24805882.760000002,17397231,7408652,0,{"$f":"ROUND(100-'Townwide Contributions'!L34,2)","v":29.87},2247,2184,0,65520,65520,8642425,8707945,0,8707945,0,0,8707945,35.104354415645879,26105176,105.23784318651677,129029.33000000194,65520,1298427.819587999,5.2343544156458783,11358,null,0,null,30,null,25,"Bellingham                   ",1,24805882.760000002,17397231,8707945,null,8707945]
[26,"Belmont                      ",1,50418107.66032999,40662179,9755929,null,9755929,50694465.246789992,40824828,9869637,113708,{"$f":"ROUND(100-'Townwide Contributions'!L35,2)","v":17.5},4638,4534,1,136020,22312,9755929,9891949,0,9891949,0,0,9891949,19.512877691566864,50716777,100.04401220744985,276357.58646000177,136020,1020417.5818117522,2.0128776915668638,11180.96,null,0,null,30,null,26,"Belmont                      ",1,50694465.246789992,40824828,9891949,null,9891949]
[27,"Berkley                      ",1,8014902.1800000006,4170576,4003448,null,4003448,7950531.7800000003,4249272,3701260,0,{"$f":"ROUND(100-'Townwide Contributions'!L36,2)","v":46.49},764,733,0,21990,21990,4003448,4025438,0,4025438,0,0,4025438,50.631053511743843,8274710,104.07744071680196,-64370.400000000373,21990,329235.77547799982,4.1410535117438414,10846.56,null,0,null,30,null,27,"Berkley                      ",1,7950531.7800000003,4249272,4025438,null,4025438]
[28,"Berlin                       ",0,0,0,0,null,0,0,0,0,0,{"$f":"ROUND(100-'Townwide Contributions'!L37,2)","v":17.5},0,0,0,0,0,0,0,0,0,0,0,0,0,0,0,0,0,0,"",0,null,0,null,0,null,28,"Berlin                       ",0,0,0,0,null,0]
[29,"Bernardston                  ",0,0,0,0,null,0,0,0,0,0,{"$f":"ROUND(100-'Townwide Contributions'!L38,2)","v":48.45},0,0,0,0,0,0,0,0,0,0,0,0,0,0,0,0,0,0,"",0,null,0,null,0,null,29,"Bernardston                  ",0,0,0,0,null,0]
[30,"Beverly                      ",1,51866271.119999997,41749093,10125430,null,10125430,53925726.18999999,43334812,10590914,465484,{"$f":"ROUND(100-'Townwide Contributions'!L39,2)","v":17.5},4570,4613,1,138390,0,10132893,10271283,0,10590914,0,0,10590914,19.639817111937166,53925726,99.999999647663543,2059455.0699999928,465484,1153911.9167500027,2.1398171119371661,11689.95,null,0,null,100.90700195100803,null,30,"Beverly                      ",1,53925726.18999999,43334812,10590914,null,10590914]
[31,"Billerica                    ",1,52647471.612599999,41417136,19348854,null,19348854,52245953.957079992,43102912,9143042,0,{"$f":"ROUND(100-'Townwide Contributions'!L40,2)","v":17.5},4866,4694,0,140820,140820,19348854,19489674,0,19489674,0,0,19489674,37.303700141087958,62592586,119.80370011316045,-401517.65552000701,140820,10346632.057511002,19.803700141087958,11130.37,null,0,null,30,null,31,"Billerica                    ",1,52245953.957079992,43102912,19489674,null,19489674]
[32,"Blackstone                   ",0,408810.81999999995,197411,211400,null,211400,446826.83999999991,218589,228238,16838,{"$f":"ROUND(100-'Townwide Contributions'!L41,2)","v":51.08},26,28,0,0,0,233349,234189,5951,234189,0,0,234189,0,452778,101.33187164853393,38016.01999999996,22789,5949.85012800002,"",15958.1,null,0,null,813.89285714285711,null,32,"Blackstone                   ",0,446826.83999999991,218589,234189,null,234189]
[33,"Blandford                    ",0,102604.6,84649,43655,null,43655,149527.79999999999,123360,26168,0,{"$f":"ROUND(100-'Townwide Contributions'!L42,2)","v":17.5},7,10,0,0,0,43655,43955,300,43955,0,0,43955,0,167315,111.89558062112866,46923.199999999983,300,17787.635000000002,"",14952.78,null,0,null,30,null,33,"Blandford                    ",0,149527.79999999999,123360,43955,null,43955]
[34,"Bolton                       ",0,15157.29088,12505,4568,null,4568,15459.313859999998,12370,3089,0,{"$f":"ROUND(100-'Townwide Contributions'!L43,2)","v":17.5},1,1,0,0,0,4568,4598,30,4598,0,0,4598,0,16968,109.75907568513524,302.02297999999792,30,1892.6200745000006,"",15459.31,null,0,null,30,null,34,"Bolton                       ",0,15459.313859999998,12370,4598,null,4598]
[35,"Boston                       ",1,924506066.0076499,762717504,221915045,null,221915045,978880394.48934996,788497356,190383038,0,{"$f":"ROUND(100-'Townwide Contributions'!L44,2)","v":17.5},62890,60704,0,1821120,1821120,221915045,223736165,0,223736165,0,0,223736165,22.856333241480016,1012233521,103.4072729108084,54374328.481700063,1821120,52432095.964363754,5.3563332414800158,16125.47,null,0,null,30,null,35,"Boston                       ",1,978880394.48934996,788497356,223736165,null,223736165]
[36,"Bourne                       ",1,22664002.020000003,18697802,5215213,null,5215213,20951766.189999998,17285207,3666559,0,{"$f":"ROUND(100-'Townwide Contributions'!L45,2)","v":17.5},2012,1789,0,53670,53670,5215213,5268883,0,5268883,0,0,5268883,25.147679447257143,22554090,107.64767893775357,-1712235.8300000057,53670,1602323.9167500008,7.6476794472571434,11711.44,null,0,null,30,null,36,"Bourne                       ",1,20951766.189999998,17285207,5268883,null,5268883]
[37,"Boxborough                   ",0,143372.81232,117755,25618,null,25618,144995.14512,119621,25374,0,{"$f":"ROUND(100-'Townwide Contributions'!L46,2)","v":17.5},9,9,0,0,0,25618,25888,270,25888,0,0,25888,0,145509,100.35439454167567,1622.3328000000038,270,513.84960400000273,"",16110.57,null,0,null,30,null,37,"Boxborough                   ",0,144995.14512,119621,25888,null,25888]
[38,"Boxford                      ",1,7419452.1552000009,6121048,1747903,null,1747903,7077684.451799999,5839090,1238594,0,{"$f":"ROUND(100-'Townwide Contributions'!L47,2)","v":17.5},729,673,0,20190,20190,1747903,1768093,0,1768093,0,0,1768093,24.981235205397407,7607183,107.4812398292967,-341767.70340000186,20190,529498.22093500034,7.4812352053974074,10516.62,null,0,null,30,null,38,"Boxford                      ",1,7077684.451799999,5839090,1768093,null,1768093]
[39,"Boylston                     ",0,438126.42,353125,85001,null,85001,579645.30000000005,466173,113472,28471,{"$f":"ROUND(100-'Townwide Contributions'!L48,2)","v":17.5},28,35,0,0,0,111929,112979,0,113472,0,0,113472,0,579645,99.999948244210714,141518.88000000006,28471,12034.072499999995,"",16561.29,null,0,null,813.45714285714291,null,39,"Boylston                     ",0,579645.30000000005,466173,113472,null,113472]
[40,"Braintree                    ",1,64248920.529949985,46089277,18297651,null,18297651,63352380.463700004,47033101,16319279,0,{"$f":"ROUND(100-'Townwide Contributions'!L49,2)","v":21.82},5666,5383,0,161490,161490,18297651,18459141,0,18459141,0,0,18459141,29.137249247606128,65492242,103.3777129140808,-896540.06624998152,161490,4635651.5828206595,7.3172492476061279,11768.97,null,0,null,30,null,40,"Braintree                    ",1,63352380.463700004,47033101,18459141,null,18459141]
[41,"Brewster                     ",1,5175998.03,4206025,1011979,null,1011979,4895214.0599999996,4038551,856663,0,{"$f":"ROUND(100-'Townwide Contributions'!L50,2)","v":17.5},468,431,0,12930,12930,1011979,1024909,0,1024909,0,0,1024909,20.936959802734346,5063460,103.43694755607889,-280783.97000000067,12930,168246.53950000007,3.4369598027343464,11357.81,null,0,null,30,null,41,"Brewster                     ",1,4895214.0599999996,4038551,1024909,null,1024909]
[42,"Bridgewater                  ",0,117262.39999999999,73653,76038,null,76038,104669.45999999999,65145,39524,0,{"$f":"ROUND(100-'Townwide Contributions'!L51,2)","v":35.630000000000003},8,7,0,0,0,76038,76248,210,76248,0,0,76248,0,141393,135.0852483618431,-12592.940000000002,210,38954.271402000006,"",14952.78,null,0,null,30,null,42,"Bridgewater                  ",0,104669.45999999999,65145,76248,null,76248]
[43,"Brimfield                    ",1,3081860.73,1716855,1365006,null,1365006,2957057.94,1755767,1201291,0,{"$f":"ROUND(100-'Townwide Contributions'!L52,2)","v":40.24},283,269,0,8070,8070,1365006,1373076,0,1373076,0,0,1373076,46.433855131022561,3128843,105.80932343855258,-124802.79000000004,8070,183155.88494399982,6.1938551310225591,10992.78,null,0,null,30,null,43,"Brimfield                    ",1,2957057.94,1755767,1373076,null,1373076]
[44,"Brockton                     ",1,237304378.99000001,48074759,189236745,null,189236745,261944926.60000005,49559396,212385531,23148786,{"$f":"ROUND(100-'Townwide Contributions'!L53,2)","v":78.45},17491,17092,1,512760,0,189257018,189769778,0,212385531,0,0,212385531,81.080223143363582,261944927,100.00000015270383,24640547.610000044,23148786,6889736.0822999775,2.6302231433635797,15325.59,null,0,null,1354.3637959279195,null,44,"Brockton                     ",1,261944926.60000005,49559396,212385531,null,212385531]
[45,"Brookfield                   ",1,2871199.0500000003,1170696,1700503,null,1700503,2739833.1099999994,1154807,1585026,0,{"$f":"ROUND(100-'Townwide Contributions'!L54,2)","v":57.85},253,230,0,6900,6900,1700503,1707403,0,1707403,0,0,1707403,62.317773800463364,2862210,104.46658190797616,-131365.94000000088,6900,122409.54586500023,4.4677738004633625,11912.32,null,0,null,30,null,45,"Brookfield                   ",1,2739833.1099999994,1154807,1707403,null,1707403]
[46,"Brookline                    ",1,83874467.613419995,69196436,15006787,null,15006787,77422819.851260006,63873826,13548994,0,{"$f":"ROUND(100-'Townwide Contributions'!L55,2)","v":17.5},7648,6858,0,205740,205740,15006787,15212527,0,15212527,0,0,15212527,19.648634639277386,79086353,102.14863415196692,-6451647.7621599883,205740,1663533.5260294992,2.1486346392773861,11289.42,null,0,null,30,null,46,"Brookline                    ",1,77422819.851260006,63873826,15212527,null,15212527]
[47,"Buckland                     ",0,29315.599999999999,16598,13074,null,13074,29905.56,18425,11481,0,{"$f":"ROUND(100-'Townwide Contributions'!L56,2)","v":38.39},2,2,0,0,0,13074,13134,60,13134,0,0,13134,0,31559,105.52887155431966,589.96000000000276,60,1653.2555159999993,"",14952.78,null,0,null,30,null,47,"Buckland                     ",0,29905.56,18425,13134,null,13134]
[48,"Burlington                   ",1,40012176.135040008,33010045,7002131,null,7002131,40093789.187169999,33077377,7016412,14281,{"$f":"ROUND(100-'Townwide Contributions'!L57,2)","v":17.5},3518,3420,1,102600,88319,7002131,7104731,0,7104731,0,0,7104731,17.720278237691517,40182108,100.22028053376971,81613.052129991353,102600,88317.892245250754,0.22027823769151667,11723.33,null,0,null,30,null,48,"Burlington                   ",1,40093789.187169999,33077377,7104731,null,7104731]
[49,"Cambridge                    ",1,97837766.086960018,80716157,17121609,null,17121609,100848386.94927999,83199919,17648468,526859,{"$f":"ROUND(100-'Townwide Contributions'!L58,2)","v":17.5},7519,7160,1,214800,0,17121609,17336409,0,17648468,0,0,17648468,17.500000281487896,100848387,100.00000005029332,3010620.8623199761,526859,0.28387600183486938,2.8148789610327185E-7,14084.97,null,0,null,73.583659217877099,null,49,"Cambridge                    ",1,100848386.94927999,83199919,17648468,null,17648468]
[50,"Canton                       ",1,37234938.635360003,30718825,6516115,null,6516115,37413396.475199997,30866052,6547344,31229,{"$f":"ROUND(100-'Townwide Contributions'!L59,2)","v":17.5},3325,3234,1,97020,65791,6516115,6613135,0,6613135,0,0,6613135,17.675847752511885,37479187,100.17584750650376,178457.83983999491,97020,65790.616840001196,0.17584775251188489,11568.77,null,0,null,30,null,50,"Canton                       ",1,37413396.475199997,30866052,6613135,null,6613135]
[51,"Carlisle                     ",1,5783671.1796799991,4771528,1012143,null,1012143,5777297.3325199997,4766270,1011027,0,{"$f":"ROUND(100-'Townwide Contributions'!L60,2)","v":17.5},570,556,0,16680,16680,1012143,1028823,0,1028823,0,0,1028823,17.808032731997848,5795093,100.30802755087279,-6373.8471599994227,16680,17795.966809000121,0.30803273199784797,10390.82,null,0,null,30,null,51,"Carlisle                     ",1,5777297.3325199997,4766270,1028823,null,1028823]
[52,"Carver                       ",1,18039221.234960001,9418559,10008599,null,10008599,17600656.3972,9595425,8005231,0,{"$f":"ROUND(100-'Townwide Contributions'!L61,2)","v":45.2},1591,1501,0,45030,45030,10008599,10053629,0,10053629,0,0,10053629,57.120761709769994,19649054,111.63818869349595,-438564.83776000142,45030,2098132.3084656,11.920761709769991,11725.95,null,0,null,30,null,52,"Carver                       ",1,17600656.3972,9595425,10053629,null,10053629]
[53,"Charlemont                   ",0,102604.6,52817,102604.6,null,102604.6,104669.45999999999,54679,49990,0,{"$f":"ROUND(100-'Townwide Contributions'!L62,2)","v":47.76},7,7,0,0,0,102604.6,102814.6,210,102814.6,0,0.39999999999417923,102815,0,157494,150.46795884874157,2064.859999999986,210.39999999999418,52824.865904000006,"",14952.78,null,0,null,30.057142857142026,null,53,"Charlemont                   ",0,104669.45999999999,54679,102815,null,102815]
[54,"Charlton                     ",0,14657.8,7900,6759,null,6759,14952.78,8396,6557,0,{"$f":"ROUND(100-'Townwide Contributions'!L63,2)","v":43.85},1,1,0,0,0,6759,6789,30,6789,0,0,6789,0,15185,101.55302224736805,294.98000000000138,30,232.20596999999998,"",14952.78,null,0,null,30,null,54,"Charlton                     ",0,14952.78,8396,6789,null,6789]
[55,"Chatham                      ",0,0,0,0,null,0,0,0,0,0,{"$f":"ROUND(100-'Townwide Contributions'!L64,2)","v":17.5},0,0,0,0,0,0,0,0,0,0,0,0,0,0,0,0,0,0,"",0,null,0,null,0,null,55,"Chatham                      ",0,0,0,0,null,0]
[56,"Chelmsford                   ",1,54223728,43879883,11199428,null,11199428,54364865.709999993,44851014,9513852,0,{"$f":"ROUND(100-'Townwide Contributions'!L65,2)","v":17.5},5112,4956,0,148680,148680,11199428,11348108,0,11348108,0,0,11348108,20.873974122431434,56199122,103.37397373477299,141137.70999999344,148680,1834256.5007500015,3.3739741224314344,10969.5,null,0,null,30,null,56,"Chelmsford                   ",1,54364865.709999993,44851014,11348108,null,11348108]
[57,"Chelsea                      ",1,105670798.9015,19903086,85769782,null,85769782,114106347.65687999,19018231,95088117,9318335,{"$f":"ROUND(100-'Townwide Contributions'!L66,2)","v":78.36},7289,7097,1,212910,0,85769782,85982692,0,95088117,0,3995,95092112,83.336390965683904,114110343,100.00350142056253,8435548.7553799897,9322330,5678377.9760688394,4.9763909656839047,16078.11,null,0,null,1313.5592503874877,null,57,"Chelsea                      ",1,114106347.65687999,19018231,95092112,null,95092112]
[58,"Cheshire                     ",0,14657.8,6986,7672,null,7672,14952.78,7513,7440,0,{"$f":"ROUND(100-'Townwide Contributions'!L67,2)","v":49.75},1,1,0,0,0,7672,7702,30,7702,0,0,7702,0,15215,101.75365383560782,294.98000000000138,30,262.99194999999963,"",14952.78,null,0,null,30,null,58,"Cheshire                     ",0,14952.78,7513,7702,null,7702]
[59,"Chester                      ",0,131920.19999999998,68221,63699,null,63699,134575.02000000002,64400,70175,6476,{"$f":"ROUND(100-'Townwide Contributions'!L68,2)","v":52.15},9,9,0,0,0,71744,72014,1839,72014,0,0,72014,0,136414,101.36650917830069,2654.8200000000361,8315,1833.1270700000023,"",14952.78,null,0,null,923.88888888888891,null,59,"Chester                      ",0,134575.02000000002,64400,72014,null,72014]
[60,"Chesterfield                 ",0,276890.62,199297,133114,null,133114,267393.48,209594,57799,0,{"$f":"ROUND(100-'Townwide Contributions'!L69,2)","v":21.62},17,16,0,0,0,133114,133594,480,133594,0,0,133594,0,343188,128.34568741167513,-9497.140000000014,480,75783.529624000003,"",16712.09,null,0,null,30,null,60,"Chesterfield                 ",0,267393.48,209594,133594,null,133594]
[61,"Chicopee                     ",1,99981143.989999995,30903112,69078032,null,69078032,103803922.04000001,31307943,72495979,3417947,{"$f":"ROUND(100-'Townwide Contributions'!L70,2)","v":69.84},7571,7269,1,218070,0,69078032,69296102,0,72495979,0,0,72495979,69.83934477164,103803922,99.999999961465804,3822778.0500000119,3417947,-680.15273600816727,-6.5522836000297957E-4,14280.36,null,0,null,470.20869445590864,null,61,"Chicopee                     ",1,103803922.04000001,31307943,72495979,null,72495979]
[62,"Chilmark                     ",0,0,0,0,null,0,0,0,0,0,{"$f":"ROUND(100-'Townwide Contributions'!L71,2)","v":17.5},0,0,0,0,0,0,0,0,0,0,0,0,0,0,0,0,0,0,"",0,null,0,null,0,null,62,"Chilmark                     ",0,{"$f":"I71","v":0},{"$f":"J71","v":0},0,null,0]
[63,"Clarksburg                   ",1,2005332.3699999996,683465,1799935,null,1799935,2139256.1799999997,735842,1403414,0,{"$f":"ROUND(100-'Townwide Contributions'!L72,2)","v":64.8},171,180,0,5400,5400,1799935,1805335,0,1805335,0,0,1805335,84.39078109850314,2541177,118.78787700872742,133923.81000000006,5400,419096.99536000006,19.590781098503143,11884.76,null,0,null,30,null,63,"Clarksburg                   ",1,2139256.1799999997,735842,{"$f":"Y72","v":1805335},null,1805335]
[64,"Clinton                      ",1,25739349.560000002,11372125,14367225,null,14367225,26864608.990000002,11925947,14938662,571437,{"$f":"ROUND(100-'Townwide Contributions'!L73,2)","v":55.4},2086,2050,1,61500,0,14483598,14545098,0,14938662,0,0,14938662,55.607219169133337,26864609,100.00000003722369,1125259.4299999997,571437,55668.619540000334,0.20721916913333871,13104.69,null,0,null,278.74975609756098,null,64,"Clinton                      ",1,26864608.990000002,11925947,14938662,null,14938662]
[65,"Cohasset                     ",1,15514224.726079997,12799236,2748292,null,2748292,{"$f":"SUMIF(dist1755,A74,found1755)","v":15385213.724099997},{"$f":"SUMIF(dist1755,A74,prelcont1755)","v":12692802},{"$f":"ROUND(MAX(found-prelcont436,0),0)","v":2692412},{"$f":"IF(foundaid>priorc70,foundaid-priorc70,0)","v":0},{"$f":"ROUND(100-'Townwide Contributions'!L74,2)","v":17.5},1468,{"$f":"SUMIF(dist1755,A74,enro1755)","v":1419},{"$f":"IF(AND(C74=1,L74>0),1,0)","v":0},{"$f":"IF(nonop=1,enro*$Q$6,0)","v":42570},{"$f":"IF((foundinc)<Q74,Q74-(foundinc),0)","v":42570},2748292,{"$f":"S74+30*enro","v":2790862},{"$f":"IF(T74-priorc70-foundinc-minaid>0,T74-priorc70-foundinc-minaid,0)","v":0},{"$f":"priorc70+foundinc+minaidadjincrement+minaid","v":2790862},{"$f":"IF(AND(C74=0,V74>found),V74-found,0)","v":0},{"$f":"MAX(AT74-(priorc70+foundinc+minaidadjincrement+minaid-rednonop),0)","v":0},{"$f":"priorc70+foundinc+minaidadjincrement+minaid-rednonop+holdharmlessaid","v":2790862},{"$f":"IF(C74=1, Y74/I74*100, 0)","v":18.139897501900055},{"$f":"prelcont436+chapter70","v":15483664},{"$f":"IF(found>0,AA74*100/found,0)","v":100.63990190624253},{"$f":"I74-D74","v":-129011.00197999924},{"$f":"Y74-F74","v":42570},{"$f":"Y74-((M74/100)*I74)","v":98449.598282500636},{"$f":"IF(C74=1, (Y74/I74*100)-M74, \"\")","v":0.63989750190005523},{"$f":"IFERROR(ROUND(I74/O74, 2), 0)","v":10842.29},null,{"$f":"VLOOKUP(A74, disthist, 37, FALSE)*$H$6","v":0},null,{"$f":"IFERROR(AD74/O74, 0)","v":30},null,{"$f":"A74","v":65},{"$f":"B74","v":"Cohasset                     "},{"$f":"C74","v":1},15385213.724099997,12692802,2790862,null,2790862]
[66,"Colrain                      ",0,0,0,0,null,{"$f":"F75+G75","v":0},0,0,0,0,{"$f":"ROUND(100-'Townwide Contributions'!L75,2)","v":35.75},0,0,0,0,0,0,0,0,0,0,0,0,0,0,0,0,0,0,"",0,null,0,null,0,null,66,"Colrain                      ",0,0,0,0,null,0]
[67,"Concord                      ",1,21359034.911680002,17621204,3737831,null,3737831,21236752.310529996,17520320,3716432,0,{"$f":"ROUND(100-'Townwide Contributions'!L76,2)","v":17.5},2081,1998,0,59940,59940,3737831,3797771,0,3797771,0,0,3797771,17.883012169035467,21318091,100.3830090791692,-122282.60115000606,59940,81339.345657250844,0.38301216903546731,10629.01,null,0,null,30,null,67,"Concord                      ",1,21236752.310529996,17520320,3797771,null,3797771]
[68,"Conway                       ",1,894594.8200000003,738041,626464,null,626464,926021.78,763968,162054,0,{"$f":"ROUND(100-'Townwide Contributions'!L77,2)","v":17.5},79,78,0,2340,2340,626464,628804,0,628804,0,0,628804,67.903802435402767,1392772,150.40380583705061,31426.95999999973,2340,466750.18850000005,50.403802435402767,11872.07,null,0,null,30,null,68,"Conway                       ",1,926021.78,763968,628804,null,628804]
[69,"Cummington                   ",0,87946.800000000017,72556,73684,null,73684,59811.12,49344,10467,0,{"$f":"ROUND(100-'Townwide Contributions'!L78,2)","v":17.5},6,4,0,0,0,59457.920000000006,59577.920000000006,0,73684,13872.879999999997,0,59811.12,0,109155.12,182.49970908419704,-28135.680000000015,-13872.879999999997,49344.173999999999,"",14952.78,null,0,null,-3468.2199999999993,null,69,"Cummington                   ",0,59811.12,49344,59811.12,null,59811]
[70,"Dalton                       ",0,379495.22,187215,236011,null,236011,312251.82,155489,156763,0,{"$f":"ROUND(100-'Townwide Contributions'!L79,2)","v":50.2},24,19,0,0,0,236011,236581,570,236581,0,0,236581,0,392070,125.56211842095908,-67243.399999999965,570,79830.586359999987,"",16434.310000000001,null,0,null,30,null,70,"Dalton                       ",0,312251.82,155489,236581,null,236581]
[71,"Danvers                      ",1,37325532.020000011,30589946,7108192,null,7108192,37556776.830000006,30917580,6639197,0,{"$f":"ROUND(100-'Townwide Contributions'!L80,2)","v":17.5},3483,3384,0,101520,101520,7108192,7209712,0,7209712,0,0,7209712,19.196833723603643,38127292,101.51907383475003,231244.80999999493,101520,637276.0547499992,1.6968337236036426,11098.34,null,0,null,30,null,71,"Danvers                      ",1,37556776.830000006,30917580,7209712,null,7209712]
[72,"Dartmouth                    ",1,38785092.380000003,31997701,9948121,null,9948121,38413025.859999999,31690747,6722279,0,{"$f":"ROUND(100-'Townwide Contributions'!L81,2)","v":17.5},3517,3369,0,101070,101070,9948121,10049191,0,10049191,0,0,10049191,26.160894058763429,41739938,108.66089579124866,-372066.52000000328,101070,3326911.4745000005,8.6608940587634287,11401.91,null,0,null,30,null,72,"Dartmouth                    ",1,38413025.859999999,31690747,10049191,null,10049191]
[73,"Dedham                       ",1,31069861.763470002,25205198,6066360,null,6066360,30666508.900769994,25299870,5366639,0,{"$f":"ROUND(100-'Townwide Contributions'!L82,2)","v":17.5},2700,2586,0,77580,77580,6066360,6143940,0,6143940,0,0,6143940,20.034690025788144,31443810,102.53469053730629,-403352.86270000786,77580,777300.94236525148,2.5346900257881444,11858.67,null,0,null,30,null,73,"Dedham                       ",1,30666508.900769994,25299870,6143940,null,6143940]
[74,"Deerfield                    ",1,3368724.2699999996,2732273,1114363,null,1114363,3195342.38,2636157,559185,0,{"$f":"ROUND(100-'Townwide Contributions'!L83,2)","v":17.5},315,293,0,8790,8790,1114363,1123153,0,1123153,0,0,1123153,35.149691846167677,3759310,117.64967734067984,-173381.88999999966,8790,563968.08350000007,17.649691846167677,10905.61,null,0,null,30,null,74,"Deerfield                    ",1,3195342.38,2636157,1123153,null,1123153]
[75,"Dennis                       ",0,0,0,0,null,0,0,0,0,0,{"$f":"ROUND(100-'Townwide Contributions'!L84,2)","v":17.5},0,0,0,0,0,0,0,0,0,0,0,0,0,0,0,0,0,0,"",0,null,0,null,0,null,75,"Dennis                       ",0,0,0,0,null,0]
[76,"Dighton                      ",0,0,0,0,null,0,0,0,0,0,{"$f":"ROUND(100-'Townwide Contributions'!L85,2)","v":48.36},0,0,0,0,0,0,0,0,0,0,0,0,0,0,0,0,0,0,"",0,null,0,null,0,null,76,"Dighton                      ",0,0,0,0,null,0]
[77,"Douglas                      ",1,13102757.229999999,7355911,8759585,null,8759585,12319421.250000002,7492002,4827419,0,{"$f":"ROUND(100-'Townwide Contributions'!L86,2)","v":39.19},1213,1106,0,33180,33180,8759585,8792765,0,8792765,0,0,8792765,71.373198639505887,16284767,132.18776003783455,-783335.97999999672,33180,3964783.8121249992,32.183198639505889,11138.72,null,0,null,30,null,77,"Douglas                      ",1,12319421.250000002,7492002,8792765,null,8792765]
[78,"Dover                        ",1,4983216.4504999993,4111154,872062,null,872062,4983017.6314199995,4110989,872029,0,{"$f":"ROUND(100-'Townwide Contributions'!L87,2)","v":17.5},492,476,0,14280,14280,872062,886342,0,886342,0,0,886342,17.787253940488689,4997331,100.28724298484815,-198.81907999981195,14280,14313.914501500083,0.28725394048868935,10468.52,null,0,null,30,null,78,"Dover                        ",1,4983017.6314199995,4110989,886342,null,886342]
[79,"Dracut                       ",1,44096709.129999995,23979412,20128364,null,20128364,46058563.059999995,25045152,21013411,885047,{"$f":"ROUND(100-'Townwide Contributions'!L88,2)","v":44.58},3964,3982,1,119460,0,20827585,20947045,0,21013411,0,0,21013411,45.623244851616526,46058563,99.99999986973107,1961853.9299999997,885047,480503.58785200492,1.043244851616528,11566.69,null,0,null,222.26192867905576,null,79,"Dracut                       ",1,46058563.059999995,25045152,21013411,null,20994056]
[80,"Dudley                       ",0,0,0,0,null,0,0,0,0,0,{"$f":"ROUND(100-'Townwide Contributions'!L89,2)","v":57.15},0,0,0,0,0,0,0,0,0,0,0,0,0,0,0,0,0,0,"",0,null,0,null,0,null,80,"Dudley                       ",0,0,0,0,null,0]
[81,"Dunstable                    ",0,0,0,0,null,0,0,0,0,0,{"$f":"ROUND(100-'Townwide Contributions'!L90,2)","v":17.5},0,0,0,0,0,0,0,0,0,0,0,0,0,0,0,0,0,0,"",0,null,0,null,0,null,81,"Dunstable                    ",0,0,0,0,null,0]
[82,"Duxbury                      ",1,30754555.552399997,25372508,5382048,null,5382048,29901986.556480002,24669139,5232848,0,{"$f":"ROUND(100-'Townwide Contributions'!L91,2)","v":17.5},2888,2730,0,81900,81900,5382048,5463948,0,5463948,0,0,5463948,18.272859529514832,30133087,100.77285983352138,-852568.99591999501,81900,231100.35261599999,0.77285952951483239,10953.11,null,0,null,30,null,82,"Duxbury                      ",1,29901986.556480002,24669139,5463948,null,5463948]
[83,"East Bridgewater             ",1,23574021.350000001,12580578,10995125,null,10995125,23394636.07,12898727,10495909,0,{"$f":"ROUND(100-'Townwide Contributions'!L92,2)","v":44.24},2153,2067,0,62010,62010,10995125,11057135,0,11057135,0,0,11057135,47.263547793244214,23955862,102.3989513165357,-179385.28000000119,62010,707348.00263199955,3.0235477932442123,11318.16,null,0,null,30,null,83,"East Bridgewater             ",1,23394636.07,12898727,11057135,null,11057135]
[84,"East Brookfield              ",0,335521.82,162027,186016,null,186016,357110.16,175397,181713,0,{"$f":"ROUND(100-'Townwide Contributions'!L93,2)","v":48.81},21,22,0,0,0,186016,186676,660,186676,0,0,186676,0,362073,101.38972243186809,21588.339999999967,660,12370.530904000014,"",16232.28,null,0,null,30,null,84,"East Brookfield              ",0,357110.16,175397,186676,null,186676]
[85,"Eastham                      ",1,2151871.9300000002,1775294,376578,null,376578,2320433.8899999997,1914358,406076,29498,{"$f":"ROUND(100-'Townwide Contributions'!L94,2)","v":17.5},191,196,1,5880,0,394523,400403,0,406076,0,0,406076,17.500002984355657,2320434,100.00000474049276,168561.9599999995,29498,6.9250000058673322E-2,2.9843556568209806E-6,11838.95,null,0,null,150.5,null,85,"Eastham                      ",1,2320433.8899999997,1914358,406076,null,406076]
[86,"Easthampton                  ",1,20082994.249999996,12651233,8029692,null,8029692,19817458.09,12976004,6841454,0,{"$f":"ROUND(100-'Townwide Contributions'!L95,2)","v":34.520000000000003},1719,1630,0,48900,48900,8029692,8078592,0,8078592,0,0,8078592,40.765026287990501,21054596,106.24266696758787,-265536.15999999642,48900,1237605.4673319999,6.2450262879904983,12157.95,null,0,null,30,null,86,"Easthampton                  ",1,19817458.09,12976004,8078592,null,8078592]
[87,"East Longmeadow              ",1,29030299.670000002,17494208,12102248,null,12102248,27993088.180000003,17190078,10803010,0,{"$f":"ROUND(100-'Townwide Contributions'!L96,2)","v":38.590000000000003},2643,2457,0,73710,73710,12102248,12175958,0,12175958,0,0,12175958,43.496301378778419,29366036,104.90459577439876,-1037211.4899999984,73710,1373425.2713379972,4.9063013787784158,11393.2,null,0,null,30,null,87,"East Longmeadow              ",1,27993088.180000003,17190078,12175958,null,12175958]
[88,"Easton                       ",1,37563612.82,29384825,10148451,null,10148451,37338104.880000003,30163362,7174743,0,{"$f":"ROUND(100-'Townwide Contributions'!L97,2)","v":17.5},3516,3373,0,101190,101190,10148451,10249641,0,10249641,0,0,10249641,27.450887057447247,40413003,108.23528170452768,-225507.93999999762,101190,3715472.6459999997,9.9508870574472468,11069.7,null,0,null,30,null,88,"Easton                       ",1,37338104.880000003,30163362,10249641,null,10249641]
[89,"Edgartown                    ",1,5167542.74,4263223,904320,null,904320,5243884.84,4326205,917680,13360,{"$f":"ROUND(100-'Townwide Contributions'!L98,2)","v":17.5},441,428,1,12840,0,904320,917160,0,917680,0,0,917680,17.50000291768421,5243885,100.00000305117304,76342.099999999627,13360,0.1530000000493601,2.9176842097911049E-6,12252.07,null,0,null,31.214953271028037,null,89,"Edgartown                    ",1,5243884.84,4326205,917680,null,917680]
[90,"Egremont                     ",0,0,0,0,null,0,0,0,0,0,{"$f":"ROUND(100-'Townwide Contributions'!L99,2)","v":17.5},0,0,0,0,0,0,0,0,0,0,0,0,0,0,0,0,0,0,"",0,null,0,null,0,null,90,"Egremont                     ",0,0,0,0,null,0]
[91,"Erving                       ",1,2326189.63,1919106,471505,null,471505,2355746.09,1943490,412256,0,{"$f":"ROUND(100-'Townwide Contributions'!L100,2)","v":17.5},219,207,0,6210,6210,471505,477715,0,477715,0,0,477715,20.278713483930691,2421205,102.77869122983454,29556.459999999963,6210,65459.434250000049,2.7787134839306908,11380.42,null,0,null,30,null,91,"Erving                       ",1,2355746.09,1943490,477715,null,477715]
[92,"Essex                        ",0,0,0,0,null,0,0,0,0,0,{"$f":"ROUND(100-'Townwide Contributions'!L101,2)","v":17.5},0,0,0,0,0,0,0,0,0,0,0,0,0,0,0,0,0,0,"",0,null,0,null,0,null,92,"Essex                        ",0,0,0,0,null,0]
[93,"Everett                      ",1,109071464.1568,35431511,75001709,null,75001709,120819748.25191998,36483827,84335921,9334212,{"$f":"ROUND(100-'Townwide Contributions'!L102,2)","v":68.33},7652,7505,1,225150,0,75001709,75226859,0,84335921,0,0,84335921,69.8030928057821,120819748,99.999999791491049,11748284.095119983,9334212,1779787.0194630772,1.4730928057821018,16098.57,null,0,null,1243.7324450366423,null,93,"Everett                      ",1,120819748.25191998,36483827,84335921,null,84335921]
[94,"Fairhaven                    ",1,20977288.109999999,12688884,8291230,null,8291230,20710203.66,12632417,8077787,0,{"$f":"ROUND(100-'Townwide Contributions'!L103,2)","v":36.92},1816,1727,0,51810,51810,8291230,8343040,0,8343040,0,0,8343040,40.284683516241195,20975457,101.28078576316618,-267084.44999999925,51810,696832.80872799922,3.3646835162411932,11992.01,null,0,null,30,null,94,"Fairhaven                    ",1,20710203.66,12632417,8343040,null,8343040]
[95,"Fall River                   ",1,169915017.67999995,32906432,137016364,null,137016364,179465809.67000002,34286248,145179562,8163198,{"$f":"ROUND(100-'Townwide Contributions'!L104,2)","v":77.709999999999994},12095,11894,1,356820,0,137016364,137373184,0,145179562,0,3281,145182843,80.89721561280156,179469091,100.00182838725996,9550791.9900000691,8166479,5719962.3054430187,3.1872156128015661,15088.77,null,0,null,686.6049268538759,null,95,"Fall River                   ",1,179465809.67000002,34286248,145182843,null,145182843]
[96,"Falmouth                     ",1,38101629.059999995,31433844,6780099,null,6780099,36995294.280000001,30521118,6474176,0,{"$f":"ROUND(100-'Townwide Contributions'!L105,2)","v":17.5},3221,3037,0,91110,91110,6780099,6871209,0,6871209,0,0,6871209,18.573197304487017,37392327,101.07319789645419,-1106334.7799999937,91110,397032.50100000016,1.0731973044870173,12181.53,null,0,null,30,null,96,"Falmouth                     ",1,36995294.280000001,30521118,6871209,null,6871209]
[97,"Fitchburg                    ",1,77039272.929999992,19328344,57710929,null,57710929,80948312.820000008,19699066,61249247,3538318,{"$f":"ROUND(100-'Townwide Contributions'!L106,2)","v":74.489999999999995},5815,5644,1,169320,0,57710929,57880249,0,61249247,0,1936,61251183,75.667028584277787,80950249,100.00239187196439,3909039.8900000155,3540254,952784.78038199991,1.1770285842777923,14342.37,null,0,null,627.25974486180019,null,97,"Fitchburg                    ",1,80948312.820000008,19699066,61251183,null,61251183]
[98,"Florida                      ",1,747149.5,475424,550717,null,550717,710252.54,432738,277515,0,{"$f":"ROUND(100-'Townwide Contributions'!L107,2)","v":27.93},66,58,0,1740,1740,550717,552457,0,552457,0,0,552457,77.783178360756011,985195,138.71052119011077,-36896.959999999963,1740,354083.465578,49.853178360756012,12245.73,null,0,null,30,null,98,"Florida                      ",1,710252.54,432738,552457,null,552457]
[99,"Foxborough                   ",1,29781054.52984,24569370,9046950,null,9046950,29685008.984399997,24490132,5194877,0,{"$f":"ROUND(100-'Townwide Contributions'!L108,2)","v":17.5},2639,2543,0,76290,76290,9046950,9123240,0,9123240,0,0,9123240,30.73349246683545,33613372,113.2334910784916,-96045.545440003276,76290,3928363.4277300006,13.23349246683545,11673.22,null,0,null,30,null,99,"Foxborough                   ",1,29685008.984399997,24490132,9123240,null,9123240]
[100,"Framingham                   ",1,121857618.34246999,65102393,56755225,null,56755225,124104569.45571999,67201559,56903010,147785,{"$f":"ROUND(100-'Townwide Contributions'!L109,2)","v":44.48},9572,9303,1,279090,131305,56755225,57034315,0,57034315,0,0,57034315,45.956659976448016,124235874,100.10580153886022,2246951.1132500023,279090,1832602.5060957521,1.4766599764480191,13340.27,null,0,null,30,null,100,"Framingham                   ",1,124104569.45571999,67201559,57034315,null,57034315]
[101,"Franklin                     ",1,60169866.394320011,41152523,28416161,null,28416161,59769256.119000003,42443297,17325959,0,{"$f":"ROUND(100-'Townwide Contributions'!L110,2)","v":28.53},5511,5292,0,158760,158760,28416161,28574921,0,28574921,0,0,28574921,47.808727856856059,71018218,118.82064896140488,-400610.2753200084,158760,11522752.229249299,19.278727856856058,11294.27,null,0,null,30,null,101,"Franklin                     ",1,59769256.119000003,42443297,28574921,null,28574921]
[102,"Freetown                     ",0,1444691.88,998607,459454,null,459454,1116188.82,798958,317231,0,{"$f":"ROUND(100-'Townwide Contributions'!L111,2)","v":28.42},91,69,0,0,0,459454,461524,2070,461524,0,0,461524,0,1260482,112.92730919845621,-328503.05999999982,2070,144303.13735599996,"",16176.65,null,0,null,30,null,102,"Freetown                     ",0,1116188.82,798958,461524,null,461524]
[103,"Gardner                      ",1,30692122.609999999,9927325,21003460,null,21003460,30713287.02,10332365,20380922,0,{"$f":"ROUND(100-'Townwide Contributions'!L112,2)","v":66.06},2418,2285,0,68550,68550,21003460,21072010,0,21072010,0,0,21072010,68.608775043446983,31404375,102.25012705266609,21164.410000000149,68550,782812.5945879966,2.5487750434469802,13441.26,null,0,null,30,null,103,"Gardner                      ",1,30713287.02,10332365,21072010,null,21072010]
[104,"Aquinnah",0,0,0,0,null,0,0,0,0,0,{"$f":"ROUND(100-'Townwide Contributions'!L113,2)","v":17.5},0,0,0,0,0,0,0,0,0,0,0,0,0,0,0,0,0,0,"",0,null,0,null,0,null,104,"Aquinnah",0,0,0,0,null,0]
[105,"Georgetown                   ",1,13521537.540000001,10617926,5527768,null,5527768,13268519.02,10680486,2588033,0,{"$f":"ROUND(100-'Townwide Contributions'!L114,2)","v":19.510000000000002},1303,1239,0,37170,37170,5527768,5564938,0,5564938,0,0,5564938,41.940912860069893,16245424,122.43584966425288,-253018.52000000142,37170,2976249.9391979999,22.430912860069892,10709.05,null,0,null,30,null,105,"Georgetown                   ",1,13268519.02,10680486,5564938,null,5564938]
[106,"Gill                         ",0,0,0,0,null,0,0,0,0,0,{"$f":"ROUND(100-'Townwide Contributions'!L115,2)","v":33.06},0,0,0,0,0,0,0,0,0,0,0,0,0,0,0,0,0,0,"",0,null,0,null,0,null,106,"Gill                         ",0,0,0,0,null,0]
[107,"Gloucester                   ",1,38460242.64918001,31729700,6730543,null,6730543,39342679.288419999,32457710,6884969,154426,{"$f":"ROUND(100-'Townwide Contributions'!L116,2)","v":17.5},3094,3017,1,90510,0,6730543,6821053,0,6884969,0,0,6884969,17.500000316517589,39342679,99.999999266903004,882436.63923998922,154426,0.1245265007019043,3.1651758902739857E-7,13040.33,null,0,null,51.185283394100097,null,107,"Gloucester                   ",1,39342679.288419999,32457710,6884969,null,6884969]
[108,"Goshen                       ",0,146578.00000000003,88586,96111,null,96111,134575.02000000002,87682,46893,0,{"$f":"ROUND(100-'Townwide Contributions'!L117,2)","v":34.840000000000003},10,9,0,0,0,96111,96381,270,96381,0,0,96381,0,184063,136.77352602288298,-12002.98000000001,270,49495.063031999991,"",14952.78,null,0,null,30,null,108,"Goshen                       ",0,134575.02000000002,87682,96381,null,96381]
[109,"Gosnold                      ",0,8254.48,6810,8254.48,null,8254.48,41750.770000000004,34444,7307,0,{"$f":"ROUND(100-'Townwide Contributions'!L118,2)","v":17.5},1,5,0,0,0,8254.48,8404.48,150,8404.48,0,0,8404.48,0,42848.479999999996,102.62919701840228,33496.290000000008,150,1098.0952499999994,"",8350.15,null,0,null,30,null,109,"Gosnold                      ",0,41750.770000000004,34444,8404.48,null,8404]
[110,"Grafton                      ",1,32659858.43,22211911,11108735,null,11108735,33113667.029999997,22380816,10732851,0,{"$f":"ROUND(100-'Townwide Contributions'!L119,2)","v":32.409999999999997},3079,3021,0,90630,90630,11259769,11350399,151034,11350399,0,0,11350399,34.277082600718536,33731215,101.86493380343688,453808.59999999776,241664,618259.51557700336,1.8670826007185397,10961.16,null,0,null,79.994703740483288,null,110,"Grafton                      ",1,33113667.029999997,22380816,11350399,null,11350399]
[111,"Granby                       ",1,8181734.8699999992,5150983,4664780,null,4664780,8293230.8600000022,5148277,3144954,0,{"$f":"ROUND(100-'Townwide Contributions'!L120,2)","v":37.92},710,685,0,20550,20550,4664780,4685330,0,4685330,0,0,4685330,56.495834724658792,9833607,118.57389678405742,111495.99000000302,20550,1540536.8578879987,18.57583472465879,12106.91,null,0,null,30,null,111,"Granby                       ",1,8293230.8600000022,5148277,4685330,null,4685330]
[112,"Granville                    ",0,0,0,0,null,0,0,0,0,0,{"$f":"ROUND(100-'Townwide Contributions'!L121,2)","v":27.01},0,0,0,0,0,0,0,0,0,0,0,0,0,0,0,0,0,0,"",0,null,0,null,0,null,112,"Granville                    ",0,0,0,0,null,0]
[113,"Great Barrington             ",0,0,0,0,null,0,0,0,0,0,{"$f":"ROUND(100-'Townwide Contributions'!L122,2)","v":17.5},0,0,0,0,0,0,0,0,0,0,0,0,0,0,0,0,0,0,"",0,null,0,null,0,null,113,"Great Barrington             ",0,0,0,0,null,0]
[114,"Greenfield                   ",1,24159291.550000001,10256971,13902321,null,13902321,23851070.390000001,10181012,13670058,0,{"$f":"ROUND(100-'Townwide Contributions'!L123,2)","v":57.31},1965,1859,0,55770,55770,13902321,13958091,0,13958091,0,0,13958091,58.521864099869433,24139103,101.20762970084883,-308221.16000000015,55770,289042.55949099921,1.2118640998694303,12830.05,null,0,null,30,null,114,"Greenfield                   ",1,23851070.390000001,10181012,13958091,null,13958091]
[115,"Groton                       ",0,0,0,0,null,0,0,0,0,0,{"$f":"ROUND(100-'Townwide Contributions'!L124,2)","v":17.5},0,0,0,0,0,0,0,0,0,0,0,0,0,0,0,0,0,0,"",0,null,0,null,0,null,115,"Groton                       ",0,0,0,0,null,0]
[116,"Groveland                    ",0,117262.39999999999,84803,65200,null,65200,134575.02000000002,100582,33993,0,{"$f":"ROUND(100-'Townwide Contributions'!L125,2)","v":24.13},8,9,0,0,0,65200,65470,270,65470,0,0,65470,0,166052,123.38991292737684,17312.620000000024,270,32997.047674000001,"",14952.78,null,0,null,30,null,116,"Groveland                    ",0,134575.02000000002,100582,65470,null,65470]
[117,"Hadley                       ",1,5921818.3199999994,4885500,1279420,null,1279420,5857373.9399999985,4832334,1025040,0,{"$f":"ROUND(100-'Townwide Contributions'!L126,2)","v":17.5},520,498,0,14940,14940,1279420,1294360,0,1294360,0,0,1294360,22.097957433805231,6126694,104.59796596151759,-64444.38000000082,14940,269319.56050000037,4.5979574338052309,11761.8,null,0,null,30,null,117,"Hadley                       ",1,5857373.9399999985,4832334,1294360,null,1294360]
[118,"Halifax                      ",1,6764091.2584799994,3795461,3063392,null,3063392,6881455.87414,3833817,3047639,0,{"$f":"ROUND(100-'Townwide Contributions'!L127,2)","v":44.29},630,615,0,18450,18450,3063392,3081842,0,3081842,0,0,3081842,44.78473823513616,6915659,100.49703328024718,117364.61566000059,18450,34045.19334339397,0.49473823513616111,11189.36,null,0,null,30,null,118,"Halifax                      ",1,6881455.87414,3833817,3081842,null,3081842]
[119,"Hamilton                     ",0,0,0,0,null,0,0,0,0,0,{"$f":"ROUND(100-'Townwide Contributions'!L128,2)","v":17.5},0,0,0,0,0,0,0,0,0,0,0,0,0,0,0,0,0,0,"",0,null,0,null,0,null,119,"Hamilton                     ",0,0,0,0,null,0]
[120,"Hampden                      ",0,0,0,0,null,0,0,0,0,0,{"$f":"ROUND(100-'Townwide Contributions'!L129,2)","v":19.87},0,0,0,0,0,0,0,0,0,0,0,0,0,0,0,0,0,0,"",0,null,0,null,0,null,120,"Hampden                      ",0,0,0,0,null,0]
[121,"Hancock                      ",1,883632.04,673593,211450,null,211450,936904.25999999989,689423,247481,36031,{"$f":"ROUND(100-'Townwide Contributions'!L130,2)","v":17.5},77,81,1,2430,0,236144,238574,0,247481,0,0,247481,26.414758750269744,936904,99.999972249032155,53272.219999999856,36031,83522.754500000039,8.9147587502697441,11566.72,null,0,null,444.82716049382714,null,121,"Hancock                      ",1,936904.25999999989,689423,247481,null,247145]
[122,"Hanover                      ",1,27226298.169830002,21124278,7023879,null,7023879,27986422.446649998,21593458,6392964,0,{"$f":"ROUND(100-'Townwide Contributions'!L131,2)","v":22.84},2558,2548,0,76440,76440,7023879,7100319,0,7100319,0,0,7100319,25.370584659526269,28693777,102.52749187467036,760124.27681999654,76440,708220.1131851403,2.5305846595262693,10983.68,null,0,null,30,null,122,"Hanover                      ",1,27986422.446649998,21593458,7100319,null,7100319]
[123,"Hanson                       ",0,14657.8,8507,14657.8,null,14657.8,14952.78,9162,5791,0,{"$f":"ROUND(100-'Townwide Contributions'!L132,2)","v":36.68},1,1,0,0,0,14657.8,14687.8,30,14687.8,0,0.2000000000007276,14688,0,23850,159.50211265062416,294.98000000000138,30.200000000000728,9203.3202959999999,"",14952.78,null,0,null,30.200000000000728,null,123,"Hanson                       ",0,14952.78,9162,14688,null,14688]
[124,"Hardwick                     ",0,29315.599999999999,11840,17476,null,17476,44858.340000000004,16753,28105,10629,{"$f":"ROUND(100-'Townwide Contributions'!L133,2)","v":60.24},2,3,0,0,0,27660,27750,0,28105,0,9,28114,0,44867,100.0193052172684,15542.740000000005,10638,1091.3359839999939,"",14952.78,null,0,null,3546,null,124,"Hardwick                     ",0,44858.340000000004,16753,28114,null,28114]
[125,"Harvard                      ",1,9458347.1900000013,7803137,1982671,null,1982671,9395298.2599999998,7751121,1644177,0,{"$f":"ROUND(100-'Townwide Contributions'!L134,2)","v":17.5},911,876,0,26280,26280,1982671,2008951,0,2008951,0,0,2008951,21.382514364158141,9760072,103.88251367764455,-63048.930000001565,26280,364773.80450000009,3.8825143641581406,10725.23,null,0,null,30,null,125,"Harvard                      ",1,9395298.2599999998,7751121,2008951,null,2008951]
[126,"Harwich                      ",0,0,0,0,null,0,0,0,0,0,{"$f":"ROUND(100-'Townwide Contributions'!L135,2)","v":17.5},0,0,0,0,0,0,0,0,0,0,0,0,0,0,0,0,0,0,"",0,null,0,null,0,null,126,"Harwich                      ",0,{"$f":"I135","v":0},{"$f":"J135","v":0},0,null,0]
[127,"Hatfield                     ",1,3943217.63,3167592,846256,null,846256,3877179.38,3198673,678506,0,{"$f":"ROUND(100-'Townwide Contributions'!L136,2)","v":17.5},353,334,0,10020,10020,846256,856276,0,856276,0,0,856276,22.085024087794462,4054949,104.58502438440185,-66038.25,10020,177769.60850000009,4.5850240877944621,11608.32,null,0,null,30,null,127,"Hatfield                     ",1,3877179.38,3198673,{"$f":"Y136","v":856276},null,856276]
[128,"Haverhill                    ",1,107173075.29000002,43835110,63349956,null,63349956,109839437.75000001,44857002,64982436,1632480,{"$f":"ROUND(100-'Townwide Contributions'!L137,2)","v":57.31},8540,8276,1,248280,0,63349956,63598236,0,64982436,0,0,64982436,59.161297008733079,109839438,100.00000022760494,2666362.4599999934,1632480,2033454.2254749835,1.8512970087330771,13272.04,null,0,null,197.25471242145963,null,128,"Haverhill                    ",1,109839437.75000001,44857002,64982436,null,64982436]
[129,"Hawley                       ",0,14657.8,8781,5877,null,5877,{"$f":"SUMIF(dist1755,A138,found1755)","v":59811.12},{"$f":"SUMIF(dist1755,A138,prelcont1755)","v":46542},{"$f":"ROUND(MAX(found-prelcont436,0),0)","v":13269},{"$f":"IF(foundaid>priorc70,foundaid-priorc70,0)","v":7392},{"$f":"ROUND(100-'Townwide Contributions'!L138,2)","v":19.22},1,{"$f":"SUMIF(dist1755,A138,enro1755)","v":4},{"$f":"IF(AND(C138=1,L138>0),1,0)","v":0},{"$f":"IF(nonop=1,enro*$Q$6,0)","v":0},{"$f":"IF((foundinc)<Q138,Q138-(foundinc),0)","v":0},12611,{"$f":"S138+30*enro","v":12731},{"$f":"IF(T138-priorc70-foundinc-minaid>0,T138-priorc70-foundinc-minaid,0)","v":0},{"$f":"priorc70+foundinc+minaidadjincrement+minaid","v":13269},{"$f":"IF(AND(C138=0,V138>found),V138-found,0)","v":0},{"$f":"MAX(AT138-(priorc70+foundinc+minaidadjincrement+minaid-rednonop),0)","v":31},{"$f":"priorc70+foundinc+minaidadjincrement+minaid-rednonop+holdharmlessaid","v":13300},{"$f":"IF(C138=1, Y138/I138*100, 0)","v":0},{"$f":"prelcont436+chapter70","v":59842},{"$f":"IF(found>0,AA138*100/found,0)","v":100.05162919537369},{"$f":"I138-D138","v":45153.320000000007},{"$f":"Y138-F138","v":7423},{"$f":"Y138-((M138/100)*I138)","v":1804.3027360000015},{"$f":"IF(C138=1, (Y138/I138*100)-M138, \"\")","v":""},{"$f":"IFERROR(ROUND(I138/O138, 2), 0)","v":14952.78},null,{"$f":"VLOOKUP(A138, disthist, 37, FALSE)*$H$6","v":0},null,{"$f":"IFERROR(AD138/O138, 0)","v":1855.75},null,{"$f":"A138","v":129},{"$f":"B138","v":"Hawley                       "},{"$f":"C138","v":0},59811.12,46542,13300,null,13300]
[130,"Heath                        ",0,0,0,0,null,{"$f":"F139+G139","v":0},0,0,0,0,{"$f":"ROUND(100-'Townwide Contributions'!L139,2)","v":57.97},0,0,0,0,0,0,0,0,0,0,0,0,0,0,0,0,0,0,"",0,null,0,null,0,null,130,"Heath                        ",0,0,0,0,null,0]
[131,"Hingham                      ",1,45460703.839160003,37505081,7955623,null,7955623,43233894.313900001,35667963,7565931,0,{"$f":"ROUND(100-'Townwide Contributions'!L140,2)","v":17.5},4289,3947,0,118410,118410,7955623,8074033,0,8074033,0,0,8074033,18.675238786907386,43741996,101.17523922876556,-2226809.5252600014,118410,508101.49506750051,1.1752387869073857,10953.61,null,0,null,30,null,131,"Hingham                      ",1,43233894.313900001,35667963,8074033,null,8074033]
[132,"Hinsdale                     ",0,117262.39999999999,96741,104683,null,104683,119622.24,96740,22882,0,{"$f":"ROUND(100-'Townwide Contributions'!L141,2)","v":17.5},8,8,0,0,0,104683,104923,240,104923,0,0,104923,0,201663,168.58319991332715,2359.8400000000111,240,83989.108000000007,"",14952.78,null,0,null,30,null,132,"Hinsdale                     ",0,119622.24,96740,104923,null,104923]
[133,"Holbrook                     ",1,16096140.681580001,8273118,7826400,null,7826400,17262299.148400001,8486011,8776288,949888,{"$f":"ROUND(100-'Townwide Contributions'!L142,2)","v":49.05},1346,1315,1,39450,0,7826400,7865850,0,8776288,0,0,8776288,50.840782705433838,17262299,99.999999140323084,1166158.4668199997,949888,309130.26770979911,1.7907827054338412,13127.22,null,0,null,722.348288973384,null,133,"Holbrook                     ",1,17262299.148400001,8486011,8776288,null,8776288]
[134,"Holden                       ",0,0,0,0,null,0,14952.78,8857,6096,6096,{"$f":"ROUND(100-'Townwide Contributions'!L143,2)","v":40.770000000000003},0,1,0,0,0,6333,6363,267,6363,0,0,6363,0,15220,101.78709243364779,14952.78,6363,266.75159399999939,"",14952.78,null,0,null,6363,null,134,"Holden                       ",0,14952.78,8857,6363,null,6363]
[135,"Holland                      ",1,1899540.24,1117998,933678,null,933678,1813558.83,1163643,649916,0,{"$f":"ROUND(100-'Townwide Contributions'!L144,2)","v":33.880000000000003},156,152,0,4560,4560,933678,938238,0,938238,0,0,938238,51.734632727629794,2101881,115.89814265909422,-85981.409999999916,4560,323804.26839599991,17.854632727629792,11931.31,null,0,null,30,null,135,"Holland                      ",1,1813558.83,1163643,938238,null,938238]
[136,"Holliston                    ",1,28673820.518239997,21202129,7936216,null,7936216,28327730.336479999,21443054,6884676,0,{"$f":"ROUND(100-'Townwide Contributions'!L145,2)","v":24.3},2706,2604,0,78120,78120,7936216,8014336,0,8014336,0,0,8014336,28.29148648622677,29457390,103.98782270976804,-346090.1817599982,78120,1130697.52823536,3.9914864862267692,10878.54,null,0,null,30,null,136,"Holliston                    ",1,28327730.336479999,21443054,8014336,null,8014336]
[137,"Holyoke                      ",1,90161028.659999996,11207668,78953361,null,78953361,94346220.059999973,11493463,82852757,3899396,{"$f":"ROUND(100-'Townwide Contributions'!L146,2)","v":80.53},6357,6159,1,184770,0,78953361,79138131,0,82852757,0,1121,82853878,87.818969267988308,94347341,100.00118811331214,4185191.3999999762,3900517,6876866.9856820256,7.2889692679883069,15318.43,null,0,null,633.30362071764898,null,137,"Holyoke                      ",1,94346220.059999973,11493463,82853878,null,82853878]
[138,"Hopedale                     ",1,9927021.4951400012,5864081,6087390,null,6087390,10312156.29149,6099344,4212812,0,{"$f":"ROUND(100-'Townwide Contributions'!L147,2)","v":40.85},924,914,0,27420,27420,6087390,6114810,0,6114810,0,0,6114810,59.297103604279002,12214154,118.44422887655033,385134.79634999856,27420,1902294.1549263345,18.447103604279,11282.45,null,0,null,30,null,138,"Hopedale                     ",1,10312156.29149,6099344,6114810,null,6114810]
[139,"Hopkinton                    ",1,41585309.188900001,34279876,7305433,null,7305433,43582814.802780002,35955822,7626993,321560,{"$f":"ROUND(100-'Townwide Contributions'!L148,2)","v":17.5},3867,3935,1,118050,0,7932371,8050421,423428,8050421,0,0,8050421,18.471549018643216,44006243,100.97154853153953,1997505.613880001,744988,423428.40951350052,0.9715490186432163,11075.68,null,0,null,189.32350698856416,null,139,"Hopkinton                    ",1,43582814.802780002,35955822,8050421,null,8050421]
[140,"Hubbardston                  ",0,0,0,0,null,0,0,0,0,0,{"$f":"ROUND(100-'Townwide Contributions'!L149,2)","v":36.020000000000003},0,0,0,0,0,0,0,0,0,0,0,0,0,0,0,0,0,0,"",0,null,0,null,0,null,140,"Hubbardston                  ",0,0,0,0,null,0]
[141,"Hudson                       ",1,30603552.288509995,18666759,12020446,null,12020446,30183664.778300002,18931449,11252216,0,{"$f":"ROUND(100-'Townwide Contributions'!L150,2)","v":35.94},2658,2512,0,75360,75360,12020446,12095806,0,12095806,0,0,12095806,40.074013837763204,31027255,102.79485684689449,-419887.51020999253,75360,1247796.8786789794,4.1340138377632059,12015.79,null,0,null,30,null,141,"Hudson                       ",1,30183664.778300002,18931449,12095806,null,12095806]
[142,"Hull                         ",1,10567859.950760001,8718484,3874466,null,3874466,10312532.869039997,8507840,1804693,0,{"$f":"ROUND(100-'Townwide Contributions'!L151,2)","v":17.5},896,837,0,25110,25110,3874466,3899576,0,3899576,0,0,3899576,37.813949778596104,12407416,120.31395349293095,-255327.08172000386,25110,2094882.7479180004,20.313949778596104,12320.83,null,0,null,30,null,142,"Hull                         ",1,10312532.869039997,8507840,3899576,null,3899576]
[143,"Huntington                   ",0,423468.62,191404,257686,null,257686,431874.06000000006,198796,233078,0,{"$f":"ROUND(100-'Townwide Contributions'!L152,2)","v":53.97},27,27,0,0,0,257686,258496,810,258496,0,0,258496,0,457292,105.8854981936169,8405.4400000000605,810,25413.569817999989,"",15995.34,null,0,null,30,null,143,"Huntington                   ",0,431874.06000000006,198796,258496,null,258496]
[144,"Ipswich                      ",1,18495911.746960003,15259127,3332340,null,3332340,18360232.905999996,15147192,3213041,0,{"$f":"ROUND(100-'Townwide Contributions'!L153,2)","v":17.5},1654,1585,0,47550,47550,3332340,3379890,0,3379890,0,0,3379890,18.408753403642695,18527082,100.90875260054833,-135678.84096000716,47550,166849.24145000102,0.90875340364269519,11583.74,null,0,null,30,null,144,"Ipswich                      ",1,18360232.905999996,15147192,3379890,null,3379890]
[145,"Kingston                     ",1,11789935.42196,7692593,4372585,null,4372585,11891965.326339999,7846238,4045727,0,{"$f":"ROUND(100-'Townwide Contributions'!L154,2)","v":33.090000000000003},1105,1076,0,32280,32280,4372585,4404865,0,4404865,0,0,4404865,37.040681494786106,12251103,103.02000269765782,102029.90437999927,32280,469813.67351409374,3.9506814947861031,11052.01,null,0,null,30,null,145,"Kingston                     ",1,11891965.326339999,7846238,4404865,null,4404865]
[146,"Lakeville                    ",0,203601.62000000002,133221,86148,null,86148,134575.02000000002,93268,41307,0,{"$f":"ROUND(100-'Townwide Contributions'!L155,2)","v":29.5},12,9,0,0,0,86148,86418,270,86418,0,0,86418,0,179686,133.52106505352924,-69026.600000000006,270,46718.369099999996,"",14952.78,null,0,null,30,null,146,"Lakeville                    ",0,134575.02000000002,93268,86418,null,86418]
[147,"Lancaster                    ",0,0,0,0,null,0,14952.78,10266,4687,4687,{"$f":"ROUND(100-'Townwide Contributions'!L156,2)","v":27.21},0,1,0,0,0,4567,4597,0,4687,0,7,4694,0,14960,100.0482853355697,14952.78,4694,625.34856199999967,"",14952.78,null,0,null,4694,null,147,"Lancaster                    ",0,14952.78,10266,4694,null,4694]
[148,"Lanesborough                 ",0,29315.599999999999,18020,11311,null,11311,14952.78,8521,6432,0,{"$f":"ROUND(100-'Townwide Contributions'!L157,2)","v":43.01},2,1,0,0,0,11311,11341,30,11341,0,0,11341,0,19862,132.83148685394957,-14362.819999999998,30,4909.8093220000001,"",14952.78,null,0,null,30,null,148,"Lanesborough                 ",0,14952.78,8521,11341,null,11341]
[149,"Lawrence                     ",1,218786376.44,11530073,207256303,null,207256303,234592260.91,12048747,222543514,15287211,{"$f":"ROUND(100-'Townwide Contributions'!L158,2)","v":85.46},15367,14746,1,442380,0,207256303,207698683,0,222543514,0,0,222543514,94.863962322004127,234592261,100.00000003836443,15805884.469999999,15287211,22060967.826314032,9.4039623220041335,15908.87,null,0,null,1036.7022243320223,null,149,"Lawrence                     ",1,234592260.91,12048747,222543514,null,222543514]
[150,"Lee                          ",1,7515008.5899999989,6036549,2085069,null,2085069,7363633.6299999999,6074998,1288636,0,{"$f":"ROUND(100-'Townwide Contributions'!L159,2)","v":17.5},616,579,0,17370,17370,2085069,2102439,0,2102439,0,0,2102439,28.551651340100687,8177437,111.05165480646001,-151374.95999999903,17370,813803.11475000018,11.051651340100687,12717.85,null,0,null,30,null,150,"Lee                          ",1,7363633.6299999999,6074998,2102439,null,2102439]
[151,"Leicester                    ",1,18032789.120000001,8592877,9802497,null,9802497,17918102.010000005,8874997,9043105,0,{"$f":"ROUND(100-'Townwide Contributions'!L160,2)","v":50.47},1539,1458,0,43740,43740,9802497,9846237,0,9846237,0,0,9846237,54.95133912344545,18721234,104.48223807159805,-114687.10999999568,43740,802970.9155529961,4.4813391234454514,12289.51,null,0,null,30,null,151,"Leicester                    ",1,17918102.010000005,8874997,9846237,null,9846237]
[152,"Lenox                        ",1,5736170.5799999991,4728371,1272525,null,1272525,5879254.1000000006,4784639,1094615,0,{"$f":"ROUND(100-'Townwide Contributions'!L161,2)","v":17.5},507,496,0,14880,14880,1272525,1287405,0,1287405,0,0,1287405,21.8974206268785,6072044,103.27915576909662,143083.52000000142,14880,258535.53249999997,4.3974206268784997,11853.33,null,0,null,30,null,152,"Lenox                        ",1,5879254.1000000006,4784639,1287405,null,1287405]
[153,"Leominster                   ",1,79655609.189999998,30886014,48769595,null,48769595,81402160.149999991,32019531,49382629,613034,{"$f":"ROUND(100-'Townwide Contributions'!L162,2)","v":59.85},6177,5990,1,179700,0,48769595,48949295,0,49382629,0,6177,49388806,60.672598747982988,81408337,100.00758806644519,1746550.9599999934,619211,669613.15022500604,0.82259874798298682,13589.68,null,0,null,103.37412353923206,null,153,"Leominster                   ",1,81402160.149999991,32019531,49388806,null,49388806]
[154,"Leverett                     ",1,1203602.1499999999,992972,295511,null,295511,1142444.52,942517,199928,0,{"$f":"ROUND(100-'Townwide Contributions'!L163,2)","v":17.5},116,105,0,3150,3150,295511,298661,0,298661,0,0,298661,26.142276038052159,1241178,108.64229975911653,-61157.629999999888,3150,98733.209000000003,8.6422760380521595,10880.42,null,0,null,30,null,154,"Leverett                     ",1,1142444.52,942517,298661,null,298661]
[155,"Lexington                    ",1,81400953.564800009,67155786,14438034,null,14438034,80618068.692389995,66509907,14108162,0,{"$f":"ROUND(100-'Townwide Contributions'!L164,2)","v":17.5},7282,6982,0,209460,209460,14438034,14647494,0,14647494,0,0,14647494,18.168996401898006,81157401,100.66899680972004,-782884.87241001427,209460,539331.97883175127,0.66899640189800635,11546.56,null,0,null,30,null,155,"Lexington                    ",1,80618068.692389995,66509907,14647494,null,14647494]
[156,"Leyden                       ",0,0,0,0,null,0,0,0,0,0,{"$f":"ROUND(100-'Townwide Contributions'!L165,2)","v":17.5},0,0,0,0,0,0,0,0,0,0,0,0,0,0,0,0,0,0,"",0,null,0,null,0,null,156,"Leyden                       ",0,0,0,0,null,0]
[157,"Lincoln                      ",1,6274212.1128000012,5176225,1174169,null,1174169,6357796.1330000004,5245182,1112614,0,{"$f":"ROUND(100-'Townwide Contributions'!L166,2)","v":17.5},595,578,0,17340,17340,1174169,1191509,0,1191509,0,0,1191509,18.740912339348203,6436691,101.24091533213054,83584.020199999213,17340,78894.67672499991,1.2409123393482027,10999.65,null,0,null,30,null,157,"Lincoln                      ",1,6357796.1330000004,5245182,1191509,null,1191509]
[158,"Littleton                    ",1,16791308.800700001,13852830,4039908,null,4039908,16227167.91492,13387414,2839754,0,{"$f":"ROUND(100-'Townwide Contributions'!L167,2)","v":17.5},1611,1515,0,45450,45450,4039908,4085358,0,4085358,0,0,4085358,25.176038242900876,17472772,107.67604114045517,-564140.88578000106,45450,1245603.6148890001,7.6760382429008764,10711,null,0,null,30,null,158,"Littleton                    ",1,16227167.91492,13387414,4085358,null,4085358]
[159,"Longmeadow                   ",1,29237892.870000001,24121262,5669282,null,5669282,29129978.330000002,24032232,5097746,0,{"$f":"ROUND(100-'Townwide Contributions'!L168,2)","v":17.5},2808,2705,0,81150,81150,5669282,5750432,0,5750432,0,0,5750432,19.740598275961709,29782664,102.24059785629095,-107914.53999999911,81150,652685.79224999994,2.2405982759617089,10768.94,null,0,null,30,null,159,"Longmeadow                   ",1,29129978.330000002,24032232,5750432,null,5750432]
[160,"Lowell                       ",1,218744159.73000002,51808768,166954483,null,166954483,232660515.38,54112190,178548325,11593842,{"$f":"ROUND(100-'Townwide Contributions'!L169,2)","v":74.099999999999994},16352,16047,1,481410,0,166954483,167435893,0,178548325,0,5163,178553488,76.744215798014537,232665678,100.0022189497825,13916355.649999976,11599005,6152046.1034200191,2.6442157980145424,14498.69,null,0,null,722.81454477472425,null,160,"Lowell                       ",1,232660515.38,54112190,178553488,null,178553488]
[161,"Ludlow                       ",1,29294399.16,16443714,13795983,null,13795983,28842661.469999999,16677575,12165086,0,{"$f":"ROUND(100-'Townwide Contributions'!L170,2)","v":42.18},2509,2381,0,71430,71430,13795983,13867413,0,13867413,0,0,13867413,48.079519341250311,30544988,105.90211320051249,-451737.69000000134,71430,1701578.391954001,5.8995193412503113,12113.68,null,0,null,30,null,161,"Ludlow                       ",1,28842661.469999999,16677575,13867413,null,13867413]
[162,"Lunenburg                    ",1,18301715.41,10527777,7773938,null,7773938,18408485.399999999,10908378,7500107,0,{"$f":"ROUND(100-'Townwide Contributions'!L171,2)","v":39.31},1705,1656,0,49680,49680,7773938,7823618,0,7823618,0,0,7823618,42.500063584807471,18731996,101.75739933498278,106769.98999999836,49680,587242.38926000055,3.1900635848074685,11116.24,null,0,null,30,null,162,"Lunenburg                    ",1,18408485.399999999,10908378,7823618,null,7823618]
[163,"Lynn                         ",1,252551048.48000005,53396054,199154994,null,199154994,268344427.44,55110068,213234359,14079365,{"$f":"ROUND(100-'Townwide Contributions'!L172,2)","v":76.31},18087,17156,1,514680,0,199154994,199669674,0,213234359,0,0,213234359,79.462935390256149,268344427,99.99999983603162,15793378.959999949,14079365,8460726.4205360115,3.1529353902561468,15641.43,null,0,null,820.66711354628114,null,163,"Lynn                         ",1,268344427.44,55110068,213234359,null,213234359]
[164,"Lynnfield                    ",1,23513323.468790006,19317442,4404631,null,4404631,23928671.94923,19741154,4187518,0,{"$f":"ROUND(100-'Townwide Contributions'!L173,2)","v":17.5},2205,2175,0,65250,65250,4404631,4469881,0,4469881,0,0,4469881,18.680021229276104,24211035,101.18001973268343,415348.48043999448,65250,282363.40888475021,1.1800212292761039,11001.69,null,0,null,30,null,164,"Lynnfield                    ",1,23928671.94923,19741154,4469881,null,4469881]
[165,"Malden                       ",1,94879629.913439989,45560692,51206223,null,51206223,97816216.363690004,47782256,50033960,0,{"$f":"ROUND(100-'Townwide Contributions'!L174,2)","v":43.44},7268,6921,0,207630,207630,51206223,51413853,0,51413853,0,0,51413853,52.561686508951034,99196109,101.41069925581606,2936586.4502500147,207630,8922488.611613065,9.1216865089510364,14133.25,null,0,null,30,null,165,"Malden                       ",1,97816216.363690004,47782256,51413853,null,51413853]
[166,"Manchester                   ",0,0,0,0,null,0,0,0,0,0,{"$f":"ROUND(100-'Townwide Contributions'!L175,2)","v":17.5},0,0,0,0,0,0,0,0,0,0,0,0,0,0,0,0,0,0,"",0,null,0,null,0,null,166,"Manchester                   ",0,0,0,0,null,0]
[167,"Mansfield                    ",1,41671720.92024,29709526,18962339,null,18962339,41585191.998259999,29922569,11662623,0,{"$f":"ROUND(100-'Townwide Contributions'!L176,2)","v":28.05},3730,3599,0,107970,107970,18962339,19070309,0,19070309,0,0,19070309,45.858412775388743,48992878,117.81327834689317,-86528.921980001032,107970,7405662.6444880683,17.808412775388742,11554.65,null,0,null,30,null,167,"Mansfield                    ",1,41585191.998259999,29922569,19070309,null,19070309]
[168,"Marblehead                   ",1,31915735.240000002,26330482,5952147,null,5952147,30235711.089999996,24944462,5291249,0,{"$f":"ROUND(100-'Townwide Contributions'!L177,2)","v":17.5},3023,2772,0,83160,83160,5952147,6035307,0,6035307,0,0,6035307,19.960856822699586,30979769,102.46085798275169,-1680024.150000006,83160,744057.55925000086,2.4608568226995864,10907.54,null,0,null,30,null,168,"Marblehead                   ",1,30235711.089999996,24944462,6035307,null,6035307]
[169,"Marion                       ",1,4522671.7799999993,3731204,860344,null,860344,4374312.4499999993,3608808,765504,0,{"$f":"ROUND(100-'Townwide Contributions'!L178,2)","v":17.5},432,403,0,12090,12090,860344,872434,0,872434,0,0,872434,19.944482932397754,4481242,102.44448816179101,-148359.33000000007,12090,106929.32125000015,2.4444829323977544,10854.37,null,0,null,30,null,169,"Marion                       ",1,4374312.4499999993,3608808,872434,null,872434]
[170,"Marlborough                  ",1,67959735.832000002,36937156,31032674,null,31032674,68784010.9164,38142644,30641367,0,{"$f":"ROUND(100-'Townwide Contributions'!L179,2)","v":42.28},5336,5207,0,156210,156210,31032674,31188884,0,31188884,0,0,31188884,45.343217972425201,69331528,100.79599470328279,824275.08439999819,156210,2107004.1845460795,3.0632179724251998,13209.91,null,0,null,30,null,170,"Marlborough                  ",1,68784010.9164,38142644,31188884,null,31188884]
[171,"Marshfield                   ",1,43514601.597520001,35899546,14664853,null,14664853,43275872.179899998,35702595,7573277,0,{"$f":"ROUND(100-'Townwide Contributions'!L180,2)","v":17.5},3941,3791,0,113730,113730,14664853,14778583,0,14778583,0,0,14778583,34.149705726471971,50481178,116.64970676996914,-238729.41762000322,113730,7205305.3685175013,16.649705726471971,11415.42,null,0,null,30,null,171,"Marshfield                   ",1,43275872.179899998,35702595,14778583,null,14778583]
[172,"Mashpee                      ",1,18424932.769999996,15200570,4640166,null,4640166,18231111.670000002,15040667,3190445,0,{"$f":"ROUND(100-'Townwide Contributions'!L181,2)","v":17.5},1585,1510,0,45300,45300,4640166,4685466,0,4685466,0,0,4685466,25.700385609014258,19726133,108.20038490828902,-193821.09999999404,45300,1495021.4577500001,8.2003856090142584,12073.58,null,0,null,30,null,172,"Mashpee                      ",1,18231111.670000002,15040667,4685466,null,4685466]
[173,"Mattapoisett                 ",1,4546818.59,3751126,839485,null,839485,4252682.29,3508463,744219,0,{"$f":"ROUND(100-'Townwide Contributions'!L182,2)","v":17.5},437,396,0,11880,11880,839485,851365,0,851365,0,0,851365,20.019482809753935,4359828,102.51948541399268,-294136.29999999981,11880,107145.59925000009,2.519482809753935,10739.1,null,0,null,30,null,173,"Mattapoisett                 ",1,4252682.29,3508463,851365,null,851365]
[174,"Maynard                      ",1,14950228.72524,10176959,5442941,null,5442941,14868952.430520002,10603032,4265920,0,{"$f":"ROUND(100-'Townwide Contributions'!L183,2)","v":26.51},1305,1256,0,37680,37680,5442941,5480621,0,5480621,0,0,5480621,36.859496495196801,16083653,108.16937558416492,-81276.294719997793,37680,1538861.7106691473,10.349496495196799,11838.34,null,0,null,30,null,174,"Maynard                      ",1,14868952.430520002,10603032,5480621,null,5480621]
[175,"Medfield                     ",1,26552098.786160003,21905481,6288744,null,6288744,26424181.490199994,21799950,4624231,0,{"$f":"ROUND(100-'Townwide Contributions'!L184,2)","v":17.5},2513,2433,0,72990,72990,6288744,6361734,0,6361734,0,0,6361734,24.075425013105487,28161684,106.57542603711073,-127917.2959600091,72990,1737502.2392150015,6.5754250131054874,10860.74,null,0,null,30,null,175,"Medfield                     ",1,26424181.490199994,21799950,6361734,null,6361734]
[176,"Medford                      ",1,59524340.664400004,49107581,12143306,null,12143306,59164566.017499991,48810767,10353799,0,{"$f":"ROUND(100-'Townwide Contributions'!L185,2)","v":17.5},4622,4414,0,132420,132420,12143306,12275726,0,12275726,0,0,12275726,20.748442566736692,61086493,103.24844262684448,-359774.64690001309,132420,1921926.9469375014,3.2484425667366921,13403.84,null,0,null,30,null,176,"Medford                      ",1,59164566.017499991,48810767,12275726,null,12275726]
[177,"Medway                       ",1,23623580.679760002,16885292,10501419,null,10501419,23134189.308129996,17421552,5712637,0,{"$f":"ROUND(100-'Townwide Contributions'!L186,2)","v":22.92},2186,2089,0,62670,62670,10501419,10564089,0,10564089,0,0,10564089,45.66440111340961,27985641,120.97091723099659,-489391.37163000554,62670,5261732.8105766047,22.744401113409609,11074.29,null,0,null,30,null,177,"Medway                       ",1,23134189.308129996,17421552,10564089,null,10564089]
[178,"Melrose                      ",1,43519030.447039999,35108451,8514496,null,8514496,44344391.455760002,36147679,8196712,0,{"$f":"ROUND(100-'Townwide Contributions'!L187,2)","v":17.5},4013,3914,0,117420,117420,8514496,8631916,0,8631916,0,0,8631916,19.465631879539028,44779595,100.98141733363097,825361.00872000307,117420,871647.49524200056,1.9656318795390284,11329.69,null,0,null,30,null,178,"Melrose                      ",1,44344391.455760002,36147679,8631916,null,8631916]
[179,"Mendon                       ",0,102604.6,77719,35836,null,35836,89716.680000000008,68581,21136,0,{"$f":"ROUND(100-'Townwide Contributions'!L188,2)","v":23.56},7,6,0,0,0,35836,36016,180,36016,0,0,36016,0,104597,116.5859013062008,-12887.919999999998,180,14878.750192,"",14952.78,null,0,null,30,null,179,"Mendon                       ",0,89716.680000000008,68581,36016,null,36016]
[180,"Merrimac                     ",0,146578.00000000003,99096,47504,null,47504,134575.02000000002,96496,38079,0,{"$f":"ROUND(100-'Townwide Contributions'!L189,2)","v":26.43},10,9,0,0,0,47504,47774,270,47774,0,0,47774,0,144270,107.20414531612181,-12002.98000000001,270,12205.822214,"",14952.78,null,0,null,30,null,180,"Merrimac                     ",0,134575.02000000002,96496,47774,null,47774]
[181,"Methuen                      ",1,88769466.079999998,40325303,48444163,null,48444163,89379134.690000013,40893031,48486104,41941,{"$f":"ROUND(100-'Townwide Contributions'!L190,2)","v":53.02},7124,6767,1,203010,161069,48444163,48647173,0,48647173,0,0,48647173,54.427885399345655,89540204,100.18020907291017,609668.61000001431,203010,1258355.7873619944,1.4078853993456519,13208.09,null,0,null,30,null,181,"Methuen                      ",1,89379134.690000013,40893031,48647173,null,48647173]
[182,"Middleborough                ",1,35057530.5,18220402,17978609,null,17978609,35767383,19089621,16677762,0,{"$f":"ROUND(100-'Townwide Contributions'!L191,2)","v":46.63},3073,3021,0,90630,90630,17978609,18069239,0,18069239,0,0,18069239,50.518761744464221,37158860,103.89035172072835,709852.5,90630,1390908.307099998,3.8887617444642189,11839.58,null,0,null,30,null,182,"Middleborough                ",1,35767383,19089621,18069239,null,18069239]
[183,"Middlefield                  ",0,43973.400000000009,36278,13200,null,13200,44858.340000000004,37008,7850,0,{"$f":"ROUND(100-'Townwide Contributions'!L192,2)","v":17.5},3,3,0,0,0,13200,13290,90,13290,0,0,13290,0,50298,112.12630694760438,884.93999999999505,90,5439.7905000000001,"",14952.78,null,0,null,30,null,183,"Middlefield                  ",0,44858.340000000004,37008,13290,null,13290]
[184,"Middleton                    ",1,7013290.1260299999,5785964,1666151,null,1666151,6927207.1538000004,5714946,1212261,0,{"$f":"ROUND(100-'Townwide Contributions'!L193,2)","v":17.5},686,658,0,19740,19740,1666151,1685891,0,1685891,0,0,1685891,24.337239562342013,7400837,106.83724097871368,-86082.97222999949,19740,473629.74808500009,6.8372395623420132,10527.67,null,0,null,30,null,184,"Middleton                    ",1,6927207.1538000004,5714946,1685891,null,1685891]
[185,"Milford                      ",1,56604613.875760004,25435714,31168900,null,31168900,58526188.083009996,26079517,32446671,1277771,{"$f":"ROUND(100-'Townwide Contributions'!L194,2)","v":55.29},4482,4422,1,132660,0,32084712,32217372,0,32446671,0,0,32446671,55.439576816415261,58526188,99.999999858166063,1921574.2072499916,1277771,87541.608903776854,0.14957681641526221,13235.23,null,0,null,288.95771144278609,null,185,"Milford                      ",1,58526188.083009996,26079517,32446671,null,32446671]
[186,"Millbury                     ",1,19675592.059999999,11797270,7878322,null,7878322,19104092.829999998,12049555,7054538,0,{"$f":"ROUND(100-'Townwide Contributions'!L195,2)","v":34.94},1743,1633,0,48990,48990,7878322,7927312,0,7927312,0,0,7927312,41.495359505118159,19976867,104.56851931031997,-571499.23000000045,48990,1252341.9651980009,6.5553595051181617,11698.77,null,0,null,30,null,186,"Millbury                     ",1,19104092.829999998,12049555,7927312,null,7927312]
[187,"Millis                       ",1,11739340.2481,8676571,4831312,null,4831312,11844886.359460002,9095464,2749422,0,{"$f":"ROUND(100-'Townwide Contributions'!L196,2)","v":22.47},1088,1051,0,31530,31530,4831312,4862842,0,4862842,0,0,4862842,41.054357571917585,13958306,117.84246447288285,105546.11136000231,31530,2201296.0350293377,18.584357571917586,11270.11,null,0,null,30,null,187,"Millis                       ",1,11844886.359460002,9095464,4862842,null,4862842]
[188,"Millville                    ",0,73289.000000000015,33038,71567,null,71567,119622.24,56307,63315,0,{"$f":"ROUND(100-'Townwide Contributions'!L197,2)","v":52.93},5,8,0,0,0,71567,71807,240,71807,0,0,71807,0,128114,107.09881373229592,46333.239999999991,240,8490.9483679999976,"",14952.78,null,0,null,30,null,188,"Millville                    ",0,119622.24,56307,71807,null,71807]
[189,"Milton                       ",1,46912230.011340007,37346878,9567275,null,9567275,48097215.820799999,38757408,9339808,0,{"$f":"ROUND(100-'Townwide Contributions'!L198,2)","v":17.5},4374,4340,0,130200,130200,9567275,9697475,0,9697475,0,0,9697475,20.162237739770074,48454883,100.7436338530126,1184985.8094599918,130200,1280462.2313600015,2.6622377397700738,11082.31,null,0,null,30,null,189,"Milton                       ",1,48097215.820799999,38757408,9697475,null,9697475]
[190,"Monroe                       ",0,149215.03999999998,79783,69432,null,69432,147610.14000000001,75426,72184,2752,{"$f":"ROUND(100-'Townwide Contributions'!L199,2)","v":44.87},15,14,0,0,0,71266,71686,0,72184,0,3318,75502,0,150928,102.24771821231251,-1604.8999999999651,6070,9269.3301819999906,"",10543.58,null,0,null,433.57142857142856,null,190,"Monroe                       ",0,{"$f":"I199","v":147610.14000000001},{"$f":"J199","v":75426},75502,null,75502]
[191,"Monson                       ",1,10603017.180000002,5893568,7541075,null,7541075,10403183.449999999,6007448,4395735,0,{"$f":"ROUND(100-'Townwide Contributions'!L200,2)","v":42.25},934,883,0,26490,26490,7541075,7567565,0,7567565,0,0,7567565,72.742781441578828,13575013,130.48902833680205,-199833.73000000231,26490,3172219.9923750004,30.492781441578828,11781.63,null,0,null,30,null,191,"Monson                       ",1,10403183.449999999,6007448,{"$f":"Y200","v":7567565},null,7567565]
[192,"Montague                     ",0,0,0,0,null,0,0,0,0,0,{"$f":"ROUND(100-'Townwide Contributions'!L201,2)","v":53.2},0,0,0,0,0,0,0,0,0,0,0,0,0,0,0,0,0,0,"",0,null,0,null,0,null,192,"Montague                     ",0,0,0,0,null,0]
[193,"Monterey                     ",0,0,0,0,null,0,{"$f":"SUMIF(dist1755,A202,found1755)","v":0},{"$f":"SUMIF(dist1755,A202,prelcont1755)","v":0},{"$f":"ROUND(MAX(found-prelcont436,0),0)","v":0},{"$f":"IF(foundaid>priorc70,foundaid-priorc70,0)","v":0},{"$f":"ROUND(100-'Townwide Contributions'!L202,2)","v":17.5},0,{"$f":"SUMIF(dist1755,A202,enro1755)","v":0},{"$f":"IF(AND(C202=1,L202>0),1,0)","v":0},{"$f":"IF(nonop=1,enro*$Q$6,0)","v":0},{"$f":"IF((foundinc)<Q202,Q202-(foundinc),0)","v":0},0,{"$f":"S202+30*enro","v":0},{"$f":"IF(T202-priorc70-foundinc-minaid>0,T202-priorc70-foundinc-minaid,0)","v":0},{"$f":"priorc70+foundinc+minaidadjincrement+minaid","v":0},{"$f":"IF(AND(C202=0,V202>found),V202-found,0)","v":0},{"$f":"MAX(AT202-(priorc70+foundinc+minaidadjincrement+minaid-rednonop),0)","v":0},{"$f":"priorc70+foundinc+minaidadjincrement+minaid-rednonop+holdharmlessaid","v":0},{"$f":"IF(C202=1, Y202/I202*100, 0)","v":0},{"$f":"prelcont436+chapter70","v":0},{"$f":"IF(found>0,AA202*100/found,0)","v":0},{"$f":"I202-D202","v":0},{"$f":"Y202-F202","v":0},{"$f":"Y202-((M202/100)*I202)","v":0},{"$f":"IF(C202=1, (Y202/I202*100)-M202, \"\")","v":""},{"$f":"IFERROR(ROUND(I202/O202, 2), 0)","v":0},null,{"$f":"VLOOKUP(A202, disthist, 37, FALSE)*$H$6","v":0},null,{"$f":"IFERROR(AD202/O202, 0)","v":0},null,{"$f":"A202","v":193},{"$f":"B202","v":"Monterey                     "},{"$f":"C202","v":0},0,0,0,null,0]
[194,"Montgomery                   ",0,87946.800000000017,68444,21042,null,{"$f":"F203+G203","v":21042},59811.12,49337,10474,0,{"$f":"ROUND(100-'Townwide Contributions'!L203,2)","v":17.5},6,4,0,0,0,21042,21162,120,21162,0,0,21162,0,70499,117.86938616096806,-28135.680000000015,120,10695.054,"",14952.78,null,0,null,30,null,194,"Montgomery                   ",0,59811.12,49337,21162,null,21162]
[195,"Mount Washington             ",0,17625.62,14541,7771,null,7771,43505.390000000007,35892,7613,0,{"$f":"ROUND(100-'Townwide Contributions'!L204,2)","v":17.5},2,5,0,0,0,7771,7921,150,7921,0,0,7921,0,43813,100.7070618146395,25879.770000000008,150,307.55674999999974,"",8701.08,null,0,null,30,null,195,"Mount Washington             ",0,43505.390000000007,35892,7921,null,7921]
[196,"Nahant                       ",1,2739284.95,2259910,523513,null,523513,2845521.7600000002,2347555,497967,0,{"$f":"ROUND(100-'Townwide Contributions'!L205,2)","v":17.5},266,263,0,7890,7890,523513,531403,0,531403,0,0,531403,18.675063655109771,2878958,101.17504777050097,106236.81000000006,7890,33436.691999999981,1.1750636551097706,10819.47,null,0,null,30,null,196,"Nahant                       ",1,2845521.7600000002,2347555,531403,null,531403]
[197,"Nantucket                    ",1,19472349.760000002,16064689,3600249,null,3600249,20100924.599999998,16583263,3517662,0,{"$f":"ROUND(100-'Townwide Contributions'!L206,2)","v":17.5},1664,1663,0,49890,49890,3600249,3650139,0,3650139,0,0,3650139,18.159060205618605,20233402,100.6590612254722,628574.83999999613,49890,132477.19500000076,0.65906020561860501,12087.15,null,0,null,30,null,197,"Nantucket                    ",1,20100924.599999998,16583263,3650139,null,3650139]
[198,"Natick                       ",1,58312471.325909987,48107789,10204682,null,10204682,57529966.215679981,47462222,10067744,0,{"$f":"ROUND(100-'Townwide Contributions'!L207,2)","v":17.5},5484,5270,0,158100,158100,10204682,10362782,0,10362782,0,0,10362782,18.01284214412695,57825004,100.51284192174548,-782505.11023000628,158100,295037.91225600429,0.51284214412694951,10916.5,null,0,null,30,null,198,"Natick                       ",1,57529966.215679981,47462222,10362782,null,10362782]
[199,"Needham                      ",1,63004475.701059997,51978693,11025783,null,11025783,62757965.939740002,51775322,10982644,0,{"$f":"ROUND(100-'Townwide Contributions'!L208,2)","v":17.5},5754,5561,0,166830,166830,11025783,11192613,0,11192613,0,0,11192613,17.834569416649213,62967935,100.33456957553661,-246509.76131999493,166830,209968.96054550074,0.33456941664921303,11285.37,null,0,null,30,null,199,"Needham                      ",1,62757965.939740002,51775322,11192613,null,11192613]
[200,"New Ashford                  ",0,278897.32,226155,179597,null,179597,234545.27,193500,41045,0,{"$f":"ROUND(100-'Townwide Contributions'!L209,2)","v":17.5},28,22,0,0,0,179597,180257,660,180257,0,0,180257,0,373757,159.35388507301812,-44352.050000000017,660,139211.57775,"",10661.15,null,0,null,30,null,200,"New Ashford                  ",0,234545.27,193500,180257,null,180257]
[201,"New Bedford                  ",1,197388756.04999998,31307615,166091904,null,166091904,206188927.62000003,32442344,173746584,7654680,{"$f":"ROUND(100-'Townwide Contributions'!L210,2)","v":79.42},14257,14010,1,420300,0,166091904,166512204,0,173746584,0,0,173746584,84.265719796656441,206188928,100.00000018429698,8800171.5700000525,7654680,9991337.6841959655,4.8457197966564394,14717.27,null,0,null,546.37259100642393,null,201,"New Bedford                  ",1,206188927.62000003,32442344,173746584,null,173746584]
[202,"New Braintree                ",0,43973.400000000009,26677,17296,null,17296,44858.340000000004,28827,16031,0,{"$f":"ROUND(100-'Townwide Contributions'!L211,2)","v":35.74},3,3,0,0,0,17296,17386,90,17386,0,0,17386,0,46213,103.01986208138776,884.93999999999505,90,1353.6292839999987,"",14952.78,null,0,null,30,null,202,"New Braintree                ",0,44858.340000000004,28827,17386,null,17386]
[203,"Newbury                      ",0,45293.483039999999,37367,16844,null,16844,46160.855639999994,38083,8078,0,{"$f":"ROUND(100-'Townwide Contributions'!L212,2)","v":17.5},3,3,0,0,0,16844,16934,90,16934,0,0,16934,0,55017,119.18539905123822,867.37259999999515,90,8855.8502630000003,"",15386.95,null,0,null,30,null,203,"Newbury                      ",0,46160.855639999994,38083,16934,null,16934]
[204,"Newburyport                  ",1,24204978.57,19969107,4235872,null,4235872,24047193.300000001,19838934,4208259,0,{"$f":"ROUND(100-'Townwide Contributions'!L213,2)","v":17.5},2308,2211,0,66330,66330,4235872,4302202,0,4302202,0,0,4302202,17.890661693146534,24141136,100.39065972826026,-157785.26999999955,66330,93943.172500000335,0.39066169314653365,10876.16,null,0,null,30,null,204,"Newburyport                  ",1,24047193.300000001,19838934,4302202,null,4302202]
[205,"New Marlborough              ",0,0,0,0,null,0,0,0,0,0,{"$f":"ROUND(100-'Townwide Contributions'!L214,2)","v":17.5},0,0,0,0,0,0,0,0,0,0,0,0,0,0,0,0,0,0,"",0,null,0,null,0,null,205,"New Marlborough              ",0,0,0,0,null,0]
[206,"New Salem                    ",0,0,0,0,null,0,0,0,0,0,{"$f":"ROUND(100-'Townwide Contributions'!L215,2)","v":39.54},0,0,0,0,0,0,0,0,0,0,0,0,0,0,0,0,0,0,"",0,null,0,null,0,null,206,"New Salem                    ",0,0,0,0,null,0]
[207,"Newton                       ",1,143592665.22735,118463949,25128716,null,25128716,140792530.04910001,116153837,24638693,0,{"$f":"ROUND(100-'Townwide Contributions'!L216,2)","v":17.5},12831,12113,0,363390,363390,25128716,25492106,0,25492106,0,0,25492106,18.106149517385532,141645943,100.60614931104823,-2800135.178249985,363390,853413.24140749872,0.60614951738553202,11623.26,null,0,null,30,null,207,"Newton                       ",1,140792530.04910001,116153837,25492106,null,25492106]
[208,"Norfolk                      ",1,9555961.1148400009,7883668,3461385,null,3461385,10190816.706399998,8337473,1853344,0,{"$f":"ROUND(100-'Townwide Contributions'!L217,2)","v":17.5},944,968,0,29040,29040,3461385,3490425,0,3490425,0,0,3490425,34.250689621450618,11827898,116.0642796427875,634855.59155999683,29040,1707032.0763800004,16.750689621450618,10527.7,null,0,null,30,null,208,"Norfolk                      ",1,10190816.706399998,8337473,3490425,null,3490425]
[209,"North Adams                  ",1,18178355.150000002,5057245,13809703,null,13809703,17897202.07,5027520,12869682,0,{"$f":"ROUND(100-'Townwide Contributions'!L218,2)","v":71.83},1424,1308,0,39240,39240,13809703,13848943,0,13848943,0,0,13848943,77.380491910599531,18876463,105.47158671042484,-281153.08000000194,39240,993382.75311900117,5.5504919105995327,13682.88,null,0,null,30,null,209,"North Adams                  ",1,17897202.07,5027520,13848943,null,13848943]
[210,"Northampton                  ",1,31063338.950000003,25627255,7558369,null,7558369,30678559.000000004,25309811,5368748,0,{"$f":"ROUND(100-'Townwide Contributions'!L219,2)","v":17.5},2745,2656,0,79680,79680,7558369,7638049,0,7638049,0,0,7638049,24.897026617188896,32947860,107.39702604675792,-384779.94999999925,79680,2269301.1749999998,7.3970266171888959,11550.66,null,0,null,30,null,210,"Northampton                  ",1,30678559.000000004,25309811,7638049,null,7638049]
[211,"North Andover                ",1,50577443.990000002,41726391,9160097,null,9160097,51229167.579999998,42264063,8965105,0,{"$f":"ROUND(100-'Townwide Contributions'!L220,2)","v":17.5},4704,4600,0,138000,138000,9160097,9298097,0,9298097,0,0,9298097,18.150006020456992,51562160,100.65000552562171,651723.58999999613,138000,332992.67350000143,0.65000602045699196,11136.78,null,0,null,30,null,211,"North Andover                ",1,51229167.579999998,42264063,9298097,null,9298097]
[212,"North Attleborough           ",1,45073173.739999995,28270188,20682041,null,20682041,45683012.360000007,29002278,16680734,0,{"$f":"ROUND(100-'Townwide Contributions'!L221,2)","v":36.51},4170,4093,0,122790,122790,20682041,20804831,0,20804831,0,0,20804831,45.54172311591406,49807109,109.02763724839443,609838.62000001222,122790,4125963.187363999,9.0317231159140619,11161.25,null,0,null,30,null,212,"North Attleborough           ",1,45683012.360000007,29002278,20804831,null,20804831]
[213,"Northborough                 ",1,15653167.560000001,12913864,3993500,null,3993500,16551243.649999999,13451109,3100135,0,{"$f":"ROUND(100-'Townwide Contributions'!L222,2)","v":17.5},1540,1567,0,47010,47010,3993500,4040510,0,4040510,0,0,4040510,24.412123254556768,17491619,105.68159934011969,898076.08999999799,47010,1144042.3612500005,6.9121232545567679,10562.38,null,0,null,30,null,213,"Northborough                 ",1,16551243.649999999,13451109,4040510,null,4040510]
[214,"Northbridge                  ",1,23651358.309999999,12499433,15603931,null,15603931,24066339.760000002,12899827,11166513,0,{"$f":"ROUND(100-'Townwide Contributions'!L223,2)","v":44.76},2074,2023,0,60690,60690,15603931,15664621,0,15664621,0,0,15664621,65.08933704175378,28564448,118.69045432274741,414981.45000000298,60690,4892527.3234239984,20.329337041753782,11896.36,null,0,null,30,null,214,"Northbridge                  ",1,24066339.760000002,12899827,15664621,null,15664621]
[215,"North Brookfield             ",1,6921441.0200000014,2970928,4290838,null,4290838,6863578.7700000005,3115388,3748191,0,{"$f":"ROUND(100-'Townwide Contributions'!L224,2)","v":54.61},609,573,0,17190,17190,4290838,4308028,0,4308028,0,0,4308028,62.766497542505796,7423416,108.15663735727767,-57862.250000000931,17190,559827.63370299945,8.1564975425057966,11978.32,null,0,null,30,null,215,"North Brookfield             ",1,6863578.7700000005,3115388,4308028,null,4308028]
[216,"Northfield                   ",0,14657.8,10697,3986,null,3986,14952.78,11661,3292,0,{"$f":"ROUND(100-'Townwide Contributions'!L225,2)","v":22.01},1,1,0,0,0,3986,4016,30,4016,0,0,4016,0,15677,104.84338029450042,294.98000000000138,30,724.89312199999949,"",14952.78,null,0,null,30,null,216,"Northfield                   ",0,14952.78,11661,4016,null,4016]
[217,"North Reading                ",1,25345400.252699994,20909956,7153937,null,7153937,25122867.634200003,20726365,4396503,0,{"$f":"ROUND(100-'Townwide Contributions'!L226,2)","v":17.5},2320,2243,0,67290,67290,7153937,7221227,0,7221227,0,0,7221227,28.743641470966768,27947592,111.24363829372199,-222532.61849999055,67290,2824725.1640149998,11.243641470966768,11200.57,null,0,null,30,null,217,"North Reading                ",1,25122867.634200003,20726365,7221227,null,7221227]
[218,"Norton                       ",1,26443914.049999997,18367335,12827390,null,12827390,26330388.290000003,18951479,7378909,0,{"$f":"ROUND(100-'Townwide Contributions'!L227,2)","v":27.97},2400,2301,0,69030,69030,12827390,12896420,0,12896420,0,0,12896420,48.979224529316653,31847899,120.95491585323673,-113525.75999999419,69030,5531810.3952869987,21.009224529316654,11443.02,null,0,null,30,null,218,"Norton                       ",1,26330388.290000003,18951479,12896420,null,12896420]
[219,"Norwell                      ",1,22887277.58972,18882004,4011711,null,4011711,23347458.345409997,19261653,4085805,74094,{"$f":"ROUND(100-'Townwide Contributions'!L228,2)","v":17.5},2153,2138,1,64140,0,4028245,4092385,6580,4092385,0,0,4092385,17.528182037872845,23354038,100.02818145980886,460180.75568999723,80674,6579.7895532506518,2.8182037872845456E-2,10920.23,null,0,null,37.733395696913,null,219,"Norwell                      ",1,23347458.345409997,19261653,4092385,null,4092385]
[220,"Norwood                      ",1,42697305.215410002,33534173,9166992,null,9166992,43678902.616409995,34547211,9131692,0,{"$f":"ROUND(100-'Townwide Contributions'!L229,2)","v":17.5},3531,3494,0,104820,104820,9166992,9271812,0,9271812,0,0,9271812,21.227209120671947,43819023,100.32079648342027,981597.40099999309,104820,1628004.0421282519,3.7272091206719473,12501.12,null,0,null,30,null,220,"Norwood                      ",1,43678902.616409995,34547211,9271812,null,9271812]
[221,"Oak Bluffs                   ",1,5068644.3499999996,3984819,1083825,null,1083825,5250477.3999999994,4061903,1188574,104749,{"$f":"ROUND(100-'Townwide Contributions'!L230,2)","v":17.5},447,438,1,13140,0,1097426,1110566,0,1188574,0,1560,1190134,22.667157847398794,5252037,100.02970396558608,181833.04999999981,106309,271300.45500000019,5.1671578473987942,11987.39,null,0,null,242.71461187214612,null,221,"Oak Bluffs                   ",1,5250477.3999999994,4061903,1190134,null,1190134]
[222,"Oakham                       ",0,14657.8,8004,6654,null,6654,44858.340000000004,24647,20211,13557,{"$f":"ROUND(100-'Townwide Contributions'!L231,2)","v":43.75},1,3,0,0,0,20209,20299,88,20299,0,0,20299,0,44946,100.19541516694554,30200.540000000005,13645,673.47624999999971,"",14952.78,null,0,null,4548.333333333333,null,222,"Oakham                       ",0,44858.340000000004,24647,20299,null,20299]
[223,"Orange                       ",1,7238630.1499999985,2020501,5432046,null,5432046,6806427.04,1964703,4841724,0,{"$f":"ROUND(100-'Townwide Contributions'!L232,2)","v":69.78},595,532,0,15960,15960,5432046,5448006,0,5448006,0,0,5448006,80.042083283684178,7412709,108.90749223398713,-432203.10999999847,15960,698481.21148800012,10.262083283684177,12794.04,null,0,null,30,null,223,"Orange                       ",1,6806427.04,1964703,5448006,null,5448006]
[224,"Orleans                      ",1,2333514.6599999997,1925150,429984,null,429984,2121258.23,1750038,371220,0,{"$f":"ROUND(100-'Townwide Contributions'!L233,2)","v":17.5},204,183,0,5490,5490,429984,435474,0,435474,0,0,435474,20.529042331635409,2185512,103.02904045774757,-212256.4299999997,5490,64253.809750000015,3.0290423316354094,11591.58,null,0,null,30,null,224,"Orleans                      ",1,2121258.23,1750038,435474,null,435474]
[225,"Otis                         ",0,0,0,0,null,0,0,0,0,0,{"$f":"ROUND(100-'Townwide Contributions'!L234,2)","v":17.5},0,0,0,0,0,0,0,0,0,0,0,0,0,0,0,0,0,0,"",0,null,0,null,0,null,225,"Otis                         ",0,0,0,0,null,0]
[226,"Oxford                       ",1,19171590.48,9891135,10566894,null,10566894,18679880.199999996,10080418,8599462,0,{"$f":"ROUND(100-'Townwide Contributions'!L235,2)","v":45.65},1655,1563,0,46890,46890,10566894,10613784,0,10613784,0,0,10613784,56.819336560841563,20694202,110.78337643728574,-491710.28000000492,46890,2086418.6887000035,11.169336560841565,11951.3,null,0,null,30,null,226,"Oxford                       ",1,18679880.199999996,10080418,10613784,null,10613784]
[227,"Palmer                       ",1,17071234.920000002,6857027,10915640,null,10915640,16709438.479999997,6791117,9918321,0,{"$f":"ROUND(100-'Townwide Contributions'!L236,2)","v":58.15},1413,1318,0,39540,39540,10915640,10955180,0,10955180,0,0,10955180,65.562825543853947,17746297,106.20522659238998,-361796.44000000507,39540,1238641.5238800012,7.4128255438539483,12677.87,null,0,null,30,null,227,"Palmer                       ",1,16709438.479999997,6791117,10955180,null,10955180]
[228,"Paxton                       ",0,14657.8,9737,5026,null,5026,0,0,0,0,{"$f":"ROUND(100-'Townwide Contributions'!L237,2)","v":32.020000000000003},1,0,0,0,0,0,0,0,5026,5026,0,0,0,0,0,-14657.8,-5026,0,"",0,null,0,null,0,null,228,"Paxton                       ",0,0,0,0,null,0]
[229,"Peabody                      ",1,72290192.479999989,50135481,22171771,null,22171771,74033830.659999996,50930549,23103282,931511,{"$f":"ROUND(100-'Townwide Contributions'!L238,2)","v":29},5983,5877,1,176310,0,22588124,22764434,0,23103282,0,0,23103282,31.20638469472383,74033831,100.00000045924951,1743638.1800000072,931511,1633471.1086000018,2.2063846947238304,12597.21,null,0,null,158.50110600646587,null,229,"Peabody                      ",1,74033830.659999996,50930549,23103282,null,23103282]
[230,"Pelham                       ",1,928975.21,690492,238483,null,238483,782638.4700000002,645677,136961,0,{"$f":"ROUND(100-'Townwide Contributions'!L239,2)","v":17.5},84,70,0,2100,2100,238483,240583,0,240583,0,0,240583,30.739991608130374,886260,113.24002511657774,-146336.73999999976,2100,103621.26774999997,13.239991608130374,11180.55,null,0,null,30,null,230,"Pelham                       ",1,782638.4700000002,645677,240583,null,240583]
[231,"Pembroke                     ",1,31797805.646810003,21249366,13608752,null,13608752,31570380.367049992,21759351,9811029,0,{"$f":"ROUND(100-'Townwide Contributions'!L240,2)","v":30.65},2854,2740,0,82200,82200,13608752,13690952,0,13690952,0,0,13690952,43.366446146113738,35450303,112.28975573889342,-227425.27976001054,82200,4014630.4174991772,12.716446146113739,11522.04,null,0,null,30,null,231,"Pembroke                     ",1,31570380.367049992,21759351,13690952,null,13690952]
[232,"Pepperell                    ",0,0,0,0,null,0,0,0,0,0,{"$f":"ROUND(100-'Townwide Contributions'!L241,2)","v":34.78},0,0,0,0,0,0,0,0,0,0,0,0,0,0,0,0,0,0,"",0,null,0,null,0,null,232,"Pepperell                    ",0,0,0,0,null,0]
[233,"Peru                         ",0,117262.39999999999,58074,89842,null,89842,134575.02000000002,64606,69969,0,{"$f":"ROUND(100-'Townwide Contributions'!L242,2)","v":51.99},8,9,0,0,0,89842,90112,270,90112,0,0,90112,0,154718,114.9678447010448,17312.620000000024,270,20146.447101999991,"",14952.78,null,0,null,30,null,233,"Peru                         ",0,134575.02000000002,64606,90112,null,90112]
[234,"Petersham                    ",1,932984.68,640821,435523,null,435523,859319.13,588398,270921,0,{"$f":"ROUND(100-'Townwide Contributions'!L243,2)","v":31.53},79,67,0,2010,2010,435523,437533,0,437533,0,0,437533,50.916241094271932,1025931,119.38882356779372,-73665.550000000047,2010,166589.678311,19.386241094271931,12825.66,null,0,null,30,null,234,"Petersham                    ",1,859319.13,588398,437533,null,437533]
[235,"Phillipston                  ",0,0,0,0,null,0,0,0,0,0,{"$f":"ROUND(100-'Townwide Contributions'!L244,2)","v":37.36},0,0,0,0,0,0,0,0,0,0,0,0,0,0,0,0,0,0,"",0,null,0,null,0,null,235,"Phillipston                  ",0,0,0,0,null,0]
[236,"Pittsfield                   ",1,76463876.149999991,28300807,48163069,null,48163069,79110404.659999996,29449820,49660585,1497516,{"$f":"ROUND(100-'Townwide Contributions'!L245,2)","v":62.22},5920,5707,1,171210,0,48163069,48334279,0,49660585,0,0,49660585,62.773771937371357,79110405,100.00000042977912,2646528.5100000054,1497516,438091.22054800391,0.55377193737135855,13861.99,null,0,null,262.39985982127212,null,236,"Pittsfield                   ",1,79110404.659999996,29449820,49660585,null,49660585]
[237,"Plainfield                   ",0,43973.400000000009,31321,27674,null,27674,59811.12,47653,12158,0,{"$f":"ROUND(100-'Townwide Contributions'!L246,2)","v":20.329999999999998},3,4,0,0,0,27674,27794,120,27794,0,0,27794,0,75447,126.14209531605493,15837.719999999994,120,15634.399304,"",14952.78,null,0,null,30,null,237,"Plainfield                   ",0,59811.12,47653,27794,null,27794]
[238,"Plainville                   ",1,7517996.1499999994,5427402,2927801,null,2927801,7127762.9100000001,5273871,1853892,0,{"$f":"ROUND(100-'Townwide Contributions'!L247,2)","v":23.7},716,658,0,19740,19740,2927801,2947541,0,2947541,0,0,2947541,41.352960770688711,8221412,115.34351105401737,-390233.23999999929,19740,1258261.1903300001,17.652960770688711,10832.47,null,0,null,30,null,238,"Plainville                   ",1,7127762.9100000001,5273871,2947541,null,2947541]
[239,"Plymouth                     ",1,94027629.56190002,71603127,26369547,null,26369547,96767564.539159998,74471293,22296272,0,{"$f":"ROUND(100-'Townwide Contributions'!L248,2)","v":23.04},7951,7708,0,231240,231240,26369547,26600787,0,26600787,0,0,26600787,27.489362914817562,101072080,104.44830401730121,2739934.9772599787,231240,4305540.1301775388,4.4493629148175629,12554.17,null,0,null,30,null,239,"Plymouth                     ",1,96767564.539159998,74471293,26600787,null,26600787]
[240,"Plympton                     ",1,2429975.0922999997,1772432,740470,null,740470,2366031.9386399998,1783978,582054,0,{"$f":"ROUND(100-'Townwide Contributions'!L249,2)","v":24.6},227,214,0,6420,6420,740470,746890,0,746890,0,0,746890,31.567198557315923,2530868,106.96677245425302,-63943.153659999836,6420,164846.14309456002,6.9671985573159212,11056.22,null,0,null,30,null,240,"Plympton                     ",1,2366031.9386399998,1783978,746890,null,746890]
[241,"Princeton                    ",0,0,0,0,null,0,14952.78,12336,2617,2617,{"$f":"ROUND(100-'Townwide Contributions'!L250,2)","v":17.5},0,1,0,0,0,2601,2631,14,2631,0,0,2631,0,14967,100.09509937282566,14952.78,2631,14.263500000000022,"",14952.78,null,0,null,2631,null,241,"Princeton                    ",0,14952.78,12336,2631,null,2631]
[242,"Provincetown                 ",1,1297760.2800000003,1070652,290781,null,290781,1357829.1199999996,1120209,237620,0,{"$f":"ROUND(100-'Townwide Contributions'!L251,2)","v":17.5},97,99,0,2970,2970,290781,293751,0,293751,0,0,293751,21.633870983706704,1413960,104.13386921617945,60068.839999999385,2970,56130.904000000068,4.1338709837067036,13715.45,null,0,null,30,null,242,"Provincetown                 ",1,1357829.1199999996,1120209,293751,null,293751]
[243,"Quincy                       ",1,129336079.22404,101589945,28647763,null,28647763,138447528.00444001,106595521,31852007,3204244,{"$f":"ROUND(100-'Townwide Contributions'!L252,2)","v":18.86},9657,9549,1,286470,0,28647763,28934233,0,31852007,0,20325,31872332,23.021235885828062,138467853,100.01468064894546,9111448.780400008,3224569,5761128.2183626145,4.1612358858280629,14498.64,null,0,null,337.68656403811917,null,243,"Quincy                       ",1,138447528.00444001,106595521,31872332,null,31872332]
[244,"Randolph                     ",1,42468258.92028001,23490641,18986721,null,18986721,44771562.799199991,24106610,20664953,1678232,{"$f":"ROUND(100-'Townwide Contributions'!L253,2)","v":43.86},3286,3265,1,97950,0,19522408,19620358,0,20664953,0,2348,20667301,46.161669836482226,44773911,100.00524484885761,2303303.8789199814,1680580,1030493.5562708862,2.3016698364822261,13712.58,null,0,null,514.72588055130166,null,244,"Randolph                     ",1,44771562.799199991,24106610,20667301,null,20667301]
[245,"Raynham                      ",0,0,0,0,null,0,0,0,0,0,{"$f":"ROUND(100-'Townwide Contributions'!L254,2)","v":38.25},0,0,0,0,0,0,0,0,0,0,0,0,0,0,0,0,0,0,"",0,null,0,null,0,null,245,"Raynham                      ",0,0,0,0,null,0]
[246,"Reading                      ",1,42488891.059600003,35053335,10834809,null,10834809,42274011.335760005,34876059,7397952,0,{"$f":"ROUND(100-'Townwide Contributions'!L255,2)","v":17.5},3975,3835,0,115050,115050,10834809,10949859,0,10949859,0,0,10949859,25.902105463877295,45825918,108.40210463120968,-214879.72383999825,115050,3551907.0162419993,8.4021054638772945,11023.21,null,0,null,30,null,246,"Reading                      ",1,42274011.335760005,34876059,10949859,null,10949859]
[247,"Rehoboth                     ",0,0,0,0,null,0,0,0,0,0,{"$f":"ROUND(100-'Townwide Contributions'!L256,2)","v":17.5},0,0,0,0,0,0,0,0,0,0,0,0,0,0,0,0,0,0,"",0,null,0,null,0,null,247,"Rehoboth                     ",0,0,0,0,null,0]
[248,"Revere                       ",1,107222329.50896001,36927909,70298333,null,70298333,119408964.46437,38458098,80950866,10652533,{"$f":"ROUND(100-'Townwide Contributions'!L257,2)","v":62.72},7979,7766,1,232980,0,70298333,70531313,0,80950866,0,0,80950866,67.792955380795235,119408964,99.999999611109601,12186634.955409989,10652533,6057563.4879471362,5.0729553807952357,15375.86,null,0,null,1371.6885140355396,null,248,"Revere                       ",1,119408964.46437,38458098,80950866,null,80950866]
[249,"Richmond                     ",1,1449827.3,1196108,364649,null,364649,1294266.8799999999,1067770,226497,0,{"$f":"ROUND(100-'Townwide Contributions'!L258,2)","v":17.5},125,112,0,3360,3360,364649,368009,0,368009,0,0,368009,28.433780210770752,1435779,110.93376661233889,-155560.42000000016,3360,141512.29600000003,10.933780210770752,11555.95,null,0,null,30,null,249,"Richmond                     ",1,1294266.8799999999,1067770,368009,null,368009]
[250,"Rochester                    ",1,5386708.8799999999,3382851,2057549,null,2057549,5247585.0799999991,3517393,1730192,0,{"$f":"ROUND(100-'Townwide Contributions'!L259,2)","v":31.79},514,483,0,14490,14490,2057549,2072039,0,2072039,0,0,2072039,39.485572285375895,5589432,106.51436641404585,-139123.80000000075,14490,403831.70306800026,7.6955722853758957,10864.57,null,0,null,30,null,250,"Rochester                    ",1,5247585.0799999991,3517393,2072039,null,2072039]
[251,"Rockland                     ",1,29202100.0068,14473503,14728597,null,14728597,29636842.031679999,14836781,14800061,71464,{"$f":"ROUND(100-'Townwide Contributions'!L260,2)","v":49.63},2326,2251,1,67530,0,14728597,14796127,0,14800061,0,0,14800061,49.93805002631396,29636842,99.999999893106022,434742.02487999946,71464,91296.299677215517,0.30805002631395695,13166.08,null,0,null,31.747667703243003,null,251,"Rockland                     ",1,29636842.031679999,14836781,14800061,null,14800061]
[252,"Rockport                     ",1,7619056.3994999984,6285722,1502126,null,1502126,6998375.1413199985,5773659,1224716,0,{"$f":"ROUND(100-'Townwide Contributions'!L261,2)","v":17.5},665,594,0,17820,17820,1502126,1519946,0,1519946,0,0,1519946,21.718555654810402,7293605,104.21854863047992,-620681.25817999989,17820,295230.35026900028,4.2185556548104017,11781.78,null,0,null,30,null,252,"Rockport                     ",1,6998375.1413199985,5773659,1519946,null,1519946]
[253,"Rowe                         ",1,643874.47,531196,139775,null,139775,580639.88,479028,101612,0,{"$f":"ROUND(100-'Townwide Contributions'!L262,2)","v":17.5},50,43,0,1290,1290,139775,141065,0,141065,0,0,141065,24.294748752014762,620093,106.79476580216983,-63234.589999999967,1290,39453.021000000008,6.7947487520147618,13503.25,null,0,null,30,null,253,"Rowe                         ",1,580639.88,479028,141065,null,141065]
[254,"Rowley                       ",0,105768.04224000001,87259,25266,null,25266,107793.08546999999,88929,18864,0,{"$f":"ROUND(100-'Townwide Contributions'!L263,2)","v":17.5},7,7,0,0,0,25266,25476,210,25476,0,0,25476,0,114405,106.13389486085374,2025.0432299999811,210,6612.2100427500045,"",15399.01,null,0,null,30,null,254,"Rowley                       ",0,{"$f":"I263","v":107793.08546999999},{"$f":"J263","v":88929},25476,null,25476]
[255,"Royalston                    ",0,0,0,0,null,0,0,0,0,0,{"$f":"ROUND(100-'Townwide Contributions'!L264,2)","v":45.63},0,0,0,0,0,0,0,0,0,0,0,0,0,0,0,0,0,0,"",0,null,0,null,0,null,255,"Royalston                    ",0,0,0,{"$f":"Y264","v":0},null,0]
[256,"Russell                      ",0,335521.82,128757,206765,null,206765,357110.16,152804,204306,0,{"$f":"ROUND(100-'Townwide Contributions'!L265,2)","v":56.53},21,22,0,0,0,206765,207425,660,207425,0,0,207425,0,360229,100.87335515741138,21588.339999999967,660,5550.6265520000015,"",16232.28,null,0,null,30,null,256,"Russell                      ",0,357110.16,152804,207425,null,207425]
[257,"Rutland                      ",0,0,0,0,null,0,{"$f":"SUMIF(dist1755,A266,found1755)","v":0},{"$f":"SUMIF(dist1755,A266,prelcont1755)","v":0},{"$f":"ROUND(MAX(found-prelcont436,0),0)","v":0},{"$f":"IF(foundaid>priorc70,foundaid-priorc70,0)","v":0},{"$f":"ROUND(100-'Townwide Contributions'!L266,2)","v":53.51},0,{"$f":"SUMIF(dist1755,A266,enro1755)","v":0},{"$f":"IF(AND(C266=1,L266>0),1,0)","v":0},{"$f":"IF(nonop=1,enro*$Q$6,0)","v":0},{"$f":"IF((foundinc)<Q266,Q266-(foundinc),0)","v":0},0,{"$f":"S266+30*enro","v":0},{"$f":"IF(T266-priorc70-foundinc-minaid>0,T266-priorc70-foundinc-minaid,0)","v":0},{"$f":"priorc70+foundinc+minaidadjincrement+minaid","v":0},{"$f":"IF(AND(C266=0,V266>found),V266-found,0)","v":0},{"$f":"MAX(AT266-(priorc70+foundinc+minaidadjincrement+minaid-rednonop),0)","v":0},{"$f":"priorc70+foundinc+minaidadjincrement+minaid-rednonop+holdharmlessaid","v":0},{"$f":"IF(C266=1, Y266/I266*100, 0)","v":0},{"$f":"prelcont436+chapter70","v":0},{"$f":"IF(found>0,AA266*100/found,0)","v":0},{"$f":"I266-D266","v":0},{"$f":"Y266-F266","v":0},{"$f":"Y266-((M266/100)*I266)","v":0},{"$f":"IF(C266=1, (Y266/I266*100)-M266, \"\")","v":""},{"$f":"IFERROR(ROUND(I266/O266, 2), 0)","v":0},null,{"$f":"VLOOKUP(A266, disthist, 37, FALSE)*$H$6","v":0},null,{"$f":"IFERROR(AD266/O266, 0)","v":0},null,{"$f":"A266","v":257},{"$f":"B266","v":"Rutland                      "},{"$f":"C266","v":0},0,0,0,null,0]
[258,"Salem                        ",1,59442159.61999999,35764101,25807152,null,{"$f":"F267+G267","v":25807152},59973101.910000004,36940239,23032863,0,{"$f":"ROUND(100-'Townwide Contributions'!L267,2)","v":32.93},4536,4315,0,129450,129450,25807152,25936602,0,25936602,0,0,25936602,43.24705772084684,62876841,104.84173570738021,530942.29000001401,129450,6187459.5410370007,10.31705772084684,13898.75,null,0,null,30,null,258,"Salem                        ",1,59973101.910000004,36940239,25936602,null,25936602]
[259,"Salisbury                    ",0,29315.599999999999,24185,14383,null,14383,29905.56,24672,5234,0,{"$f":"ROUND(100-'Townwide Contributions'!L268,2)","v":17.5},2,2,0,0,0,14383,14443,60,14443,0,0,14443,0,39115,130.7950762333158,589.96000000000276,60,9209.527,"",14952.78,null,0,null,30,null,259,"Salisbury                    ",0,29905.56,24672,14443,null,14443]
[260,"Sandisfield                  ",0,0,0,0,null,0,0,0,0,0,{"$f":"ROUND(100-'Townwide Contributions'!L269,2)","v":17.5},0,0,0,0,0,0,0,0,0,0,0,0,0,0,0,0,0,0,"",0,null,0,null,0,null,260,"Sandisfield                  ",0,0,0,0,null,0]
[261,"Sandwich                     ",1,28550950.060000002,23554534,7151788,null,7151788,27638904.289999999,22802096,4836808,0,{"$f":"ROUND(100-'Townwide Contributions'!L270,2)","v":17.5},2644,2480,0,74400,74400,7151788,7226188,0,7226188,0,0,7226188,26.144987240375151,30028284,108.64498709836518,-912045.77000000328,74400,2389379.7492500003,8.6449872403751513,11144.72,null,0,null,30,null,261,"Sandwich                     ",1,27638904.289999999,22802096,7226188,null,7226188]
[262,"Saugus                       ",1,33051187.879999995,26786282,6270812,null,6270812,31864908.979999997,26288549,5576360,0,{"$f":"ROUND(100-'Townwide Contributions'!L271,2)","v":17.5},2798,2612,0,78360,78360,6270812,6349172,0,6349172,0,0,6349172,19.925278945516702,32637721,102.42527609441802,-1186278.8999999985,78360,772812.92850000132,2.4252789455167019,12199.43,null,0,null,30,null,262,"Saugus                       ",1,31864908.979999997,26288549,6349172,null,6349172]
[263,"Savoy                        ",1,635304.58000000007,372887,515849,null,515849,542332.33000000007,447424,94908,0,{"$f":"ROUND(100-'Townwide Contributions'!L272,2)","v":17.5},50,45,0,1350,1350,515849,517199,0,517199,0,0,517199,95.365695790254648,964623,177.86566402928622,-92972.25,1350,422290.84224999999,77.865695790254648,12051.83,null,0,null,30,null,263,"Savoy                        ",1,542332.33000000007,447424,517199,null,517199]
[264,"Scituate                     ",1,32099035.583470002,26068183,6030853,null,6030853,30894315.612089995,25487810,5406506,0,{"$f":"ROUND(100-'Townwide Contributions'!L273,2)","v":17.5},2991,2790,0,83700,83700,6030853,6114553,0,6114553,0,0,6114553,19.791838332897616,31602363,102.29183710298125,-1204719.9713800065,83700,708047.76788425073,2.2918383328976155,11073.23,null,0,null,30,null,264,"Scituate                     ",1,30894315.612089995,25487810,6114553,null,6114553]
[265,"Seekonk                      ",1,22173871.389999997,15952238,6705263,null,6705263,22858887.199999999,16514693,6344194,0,{"$f":"ROUND(100-'Townwide Contributions'!L274,2)","v":27.75},2077,2048,0,61440,61440,6705263,6766703,0,6766703,0,0,6766703,29.602066543291748,23281396,101.84833494431872,685015.81000000238,61440,423361.80199999921,1.8520665432917482,11161.57,null,0,null,30,null,265,"Seekonk                      ",1,22858887.199999999,16514693,6766703,null,6766703]
[266,"Sharon                       ",1,38206192.104400009,30736571,7469972,null,7469972,38638373.186679997,31062235,7576138,106166,{"$f":"ROUND(100-'Townwide Contributions'!L275,2)","v":19.61},3535,3471,1,104130,0,8424406,8528536,952398,8528536,0,0,8528536,22.072709838984849,39590771,102.46490143029192,432181.08227998763,1058564,951551.01809205301,2.4627098389848499,11131.77,null,0,null,304.97378277153558,null,266,"Sharon                       ",1,38638373.186679997,31062235,8528536,null,8528536]
[267,"Sheffield                    ",0,0,0,0,null,0,0,0,0,0,{"$f":"ROUND(100-'Townwide Contributions'!L276,2)","v":17.5},0,0,0,0,0,0,0,0,0,0,0,0,0,0,0,0,0,0,"",0,null,0,null,0,null,267,"Sheffield                    ",0,0,0,0,null,0]
[268,"Shelburne                    ",0,14657.8,10057,4601,null,4601,0,0,0,0,{"$f":"ROUND(100-'Townwide Contributions'!L277,2)","v":25.85},1,0,0,0,0,0,0,0,4601,4601,0,0,0,0,0,-14657.8,-4601,0,"",0,null,0,null,0,null,268,"Shelburne                    ",0,0,0,0,null,0]
[269,"Sherborn                     ",1,4086891.646209999,3371686,715207,null,715207,4092250.4348000004,3376106,716144,937,{"$f":"ROUND(100-'Townwide Contributions'!L278,2)","v":17.5},400,387,1,11610,10673,715207,726817,0,726817,0,0,726817,17.760814289840049,4102923,100.26079941513945,5358.788590001408,11610,10673.173910000012,0.26081428984004873,10574.29,null,0,null,30,null,269,"Sherborn                     ",1,4092250.4348000004,3376106,726817,null,726817]
[270,"Shirley                      ",0,0,0,0,null,0,0,0,0,0,{"$f":"ROUND(100-'Townwide Contributions'!L279,2)","v":38.43},0,0,0,0,0,0,0,0,0,0,0,0,0,0,0,0,0,0,"",0,null,0,null,0,null,270,"Shirley                      ",0,0,0,0,null,0]
[271,"Shrewsbury                   ",1,66373147.319999993,50487975,20068648,null,20068648,67854307.580000013,52472153,15382155,0,{"$f":"ROUND(100-'Townwide Contributions'!L280,2)","v":18.14},6207,6144,0,184320,184320,20068648,20252968,0,20252968,0,0,20252968,29.847726286384713,72725121,107.17834076231242,1481160.2600000203,184320,7944196.6049879976,11.707726286384712,11044,null,0,null,30,null,271,"Shrewsbury                   ",1,67854307.580000013,52472153,20252968,null,20252968]
[272,"Shutesbury                   ",1,1221694.1099999999,712492,630386,null,630386,1167665.8499999999,713413,454253,0,{"$f":"ROUND(100-'Townwide Contributions'!L281,2)","v":38.9},105,98,0,2940,2940,630386,633326,0,633326,0,0,633326,54.23863342410845,1346739,115.33599274141658,-54028.260000000009,2940,179103.98435000004,15.338633424108451,11914.96,null,0,null,30,null,272,"Shutesbury                   ",1,1167665.8499999999,713413,633326,null,633326]
[273,"Somerset                     ",1,18501842.410000004,9406646,9096902,null,9096902,17923179.719999999,9348329,8574851,0,{"$f":"ROUND(100-'Townwide Contributions'!L282,2)","v":45.66},1758,1642,0,49260,49260,9096902,9146162,0,9146162,0,0,9146162,51.029795733142379,18494491,103.18755538316948,-578662.69000000507,49260,962438.1398480013,5.3697957331423822,10915.46,null,0,null,30,null,273,"Somerset                     ",1,17923179.719999999,9348329,9146162,null,9146162]
[274,"Somerville                   ",1,72325602.754360005,59668622,20486918,null,20486918,77023976.661080003,62371611,14652366,0,{"$f":"ROUND(100-'Townwide Contributions'!L283,2)","v":17.5},5282,5049,0,151470,151470,20486918,20638388,0,20638388,0,0,20638388,26.794757807445848,83009999,107.77163501341877,4698373.9067199975,151470,7159192.084311001,9.2947578074458477,15255.29,null,0,null,30,null,274,"Somerville                   ",1,77023976.661080003,62371611,20638388,null,20638388]
[275,"Southampton                  ",1,4972548.3299999991,3367625,2551486,null,2551486,5095671.4799999995,3512848,1582823,0,{"$f":"ROUND(100-'Townwide Contributions'!L284,2)","v":30.29},462,448,0,13440,13440,2551486,2564926,0,2564926,0,0,2564926,50.335387790737251,6077774,119.27326994792844,123123.15000000037,13440,1021447.108708,20.045387790737252,11374.27,null,0,null,30,null,275,"Southampton                  ",1,5095671.4799999995,3512848,2564926,null,2564926]
[276,"Southborough                 ",1,12497359.942009997,10310322,2986051,null,2986051,12226979.455160001,10087258,2139721,0,{"$f":"ROUND(100-'Townwide Contributions'!L285,2)","v":17.5},1225,1156,0,34680,34680,2986051,3020731,0,3020731,0,0,3020731,24.705455759355171,13107989,107.20545534627685,-270380.48684999533,34680,881009.59534699982,7.2054557593551714,10576.97,null,0,null,30,null,276,"Southborough                 ",1,12226979.455160001,10087258,3020731,null,3020731]
[277,"Southbridge                  ",1,29979243.07,8016911,22989832,null,22989832,31977786.810000002,8279716,23698071,708239,{"$f":"ROUND(100-'Townwide Contributions'!L286,2)","v":74.11},2231,2210,1,66300,0,22989832,23056132,0,23698071,0,0,23698071,74.107914787239764,31977787,100.00000059416244,1998543.7400000021,708239,-666.80489100143313,-2.0852127602353221E-3,14469.59,null,0,null,320.47013574660633,null,277,"Southbridge                  ",1,31977786.810000002,8279716,23698071,null,23698071]
[278,"South Hadley                 ",1,22558199.090000004,14027360,8530839,null,8530839,22281902.760000002,14084456,8197447,0,{"$f":"ROUND(100-'Townwide Contributions'!L287,2)","v":36.79},1941,1837,0,55110,55110,8530839,8585949,0,8585949,0,0,8585949,38.533284578430674,22670405,101.74357748610872,-276296.33000000194,55110,388436.97459599935,1.743284578430675,12129.51,null,0,null,30,null,278,"South Hadley                 ",1,22281902.760000002,14084456,8585949,null,8585949]
[279,"Southwick                    ",0,0,0,0,null,0,0,0,0,0,{"$f":"ROUND(100-'Townwide Contributions'!L288,2)","v":31.61},0,0,0,0,0,0,0,0,0,0,0,0,0,0,0,0,0,0,"",0,null,0,null,0,null,279,"Southwick                    ",0,0,0,0,null,0]
[280,"Spencer                      ",0,29315.599999999999,13937,29315.599999999999,null,29315.599999999999,59811.12,28819,30992,1676.4000000000015,{"$f":"ROUND(100-'Townwide Contributions'!L289,2)","v":50.25},2,4,0,0,0,30632,30752,0,30992,0,6,30998,0,59817,100.00983094782374,30495.520000000004,1682.4000000000015,942.91220000000249,"",14952.78,null,0,null,420.60000000000036,null,280,"Spencer                      ",0,59811.12,28819,30998,null,30998]
[281,"Springfield                  ",1,419043165.70000011,41873391,377169775,null,377169775,446524567.99999994,43175654,403348914,26179139,{"$f":"ROUND(100-'Townwide Contributions'!L290,2)","v":84.99},29551,29144,1,874320,0,377413815,378288135,0,403348914,0,0,403348914,90.330732708978303,446524568,100.00000000000001,27481402.299999833,26179139,23847683.656800032,5.3407327089783081,15321.32,null,0,null,898.26856299752956,null,281,"Springfield                  ",1,446524567.99999994,43175654,403348914,null,403348914]
[282,"Sterling                     ",0,0,0,0,null,0,29905.56,24672,5234,5234,{"$f":"ROUND(100-'Townwide Contributions'!L291,2)","v":17.5},0,2,0,0,0,5302,5362,128,5362,0,0,5362,0,30034,100.42948535322529,29905.56,5362,128.52700000000004,"",14952.78,null,0,null,2681,null,282,"Sterling                     ",0,29905.56,24672,5362,null,5362]
[283,"Stockbridge                  ",0,0,0,0,null,0,0,0,0,0,{"$f":"ROUND(100-'Townwide Contributions'!L292,2)","v":17.5},0,0,0,0,0,0,0,0,0,0,0,0,0,0,0,0,0,0,"",0,null,0,null,0,null,283,"Stockbridge                  ",0,0,0,0,null,0]
[284,"Stoneham                     ",1,27298622.593199998,22148293,5266351,null,5266351,27721100.205059998,22660313,5060787,0,{"$f":"ROUND(100-'Townwide Contributions'!L293,2)","v":17.5},2450,2376,0,71280,71280,5266351,5337631,0,5337631,0,0,5337631,19.254758867852257,27997944,100.99867535159903,422477.6118599996,71280,486438.46411450114,1.7547588678522565,11667.13,null,0,null,30,null,284,"Stoneham                     ",1,27721100.205059998,22660313,5337631,null,5337631]
[285,"Stoughton                    ",1,44058289.500399999,27084504,16973793,null,16973793,44927626.417459995,27845850,17081776,107983,{"$f":"ROUND(100-'Townwide Contributions'!L294,2)","v":36.99},3644,3540,1,106200,0,17128977,17235177,153401,17235177,0,0,17235177,38.362091154902366,45081027,100.34143932090832,869336.91705999523,261384,616447.98818154819,1.372091154902364,12691.42,null,0,null,73.837288135593226,null,285,"Stoughton                    ",1,44927626.417459995,27845850,17235177,null,17235177]
[286,"Stow                         ",0,15240.539360000001,12573,2668,null,2668,15555.7965,12834,2722,54,{"$f":"ROUND(100-'Townwide Contributions'!L295,2)","v":17.5},1,1,0,0,0,2706,2736,14,2736,0,0,2736,0,15570,100.0913068000086,315.25713999999971,68,13.735612500000116,"",15555.8,null,0,null,68,null,286,"Stow                         ",0,15555.7965,12834,2736,null,2736]
[287,"Sturbridge                   ",1,8866569.3900000006,5185477,3846634,null,3846634,8608625.4299999997,5070480,3538145,0,{"$f":"ROUND(100-'Townwide Contributions'!L296,2)","v":39.43},870,804,0,24120,24120,3846634,3870754,0,3870754,0,0,3870754,44.963670814517023,8941234,103.86366642043572,-257943.96000000089,24120,476372.99295100011,5.5336708145170235,10707.25,null,0,null,30,null,287,"Sturbridge                   ",1,8608625.4299999997,5070480,3870754,null,3870754]
[288,"Sudbury                      ",1,26639866.135919996,21977890,4990518,null,4990518,25581450.369169995,21104696,4476754,0,{"$f":"ROUND(100-'Townwide Contributions'!L297,2)","v":17.5},2690,2524,0,75720,75720,4990518,5066238,0,5066238,0,0,5066238,19.804342314013905,26170934,102.30434014617261,-1058415.7667500004,75720,589484.18539525103,2.3043423140139048,10135.280000000001,null,0,null,30,null,288,"Sudbury                      ",1,25581450.369169995,21104696,5066238,null,5066238]
[289,"Sunderland                   ",1,2034470.88,1662285,872838,null,872838,1721299.0999999999,1420072,301227,0,{"$f":"ROUND(100-'Townwide Contributions'!L298,2)","v":17.5},171,141,0,4230,4230,872838,877068,0,877068,0,0,877068,50.953840619564602,2297140,133.45385470776114,-313171.78000000003,4230,575840.65749999997,33.453840619564602,12207.8,null,0,null,30,null,289,"Sunderland                   ",1,1721299.0999999999,1420072,877068,null,877068]
[290,"Sutton                       ",1,13916186.880000001,10856059,5479815,null,5479815,13690363.949999999,11091587,2598777,0,{"$f":"ROUND(100-'Townwide Contributions'!L299,2)","v":17.5},1321,1257,0,37710,37710,5479815,5517525,0,5517525,0,0,5517525,40.302252154516317,16609112,121.3197257622943,-225822.93000000156,37710,3121711.3087500003,22.802252154516317,10891.3,null,0,null,30,null,290,"Sutton                       ",1,13690363.949999999,11091587,5517525,null,5517525]
[291,"Swampscott                   ",1,23409223.779999994,18964138,4447386,null,4447386,23502231.440000005,19389341,4112890,0,{"$f":"ROUND(100-'Townwide Contributions'!L300,2)","v":17.5},2155,2086,0,62580,62580,4447386,4509966,0,4509966,0,0,4509966,19.189522541779542,23899307,101.68952280558426,93007.660000011325,62580,397075.49799999921,1.6895225417795423,11266.65,null,0,null,30,null,291,"Swampscott                   ",1,23502231.440000005,19389341,4509966,null,4509966]
[292,"Swansea                      ",1,22877752.370000001,14533757,8449049,null,8449049,23940769.109999999,14745527,9195242,746193,{"$f":"ROUND(100-'Townwide Contributions'!L301,2)","v":38.409999999999997},2115,2044,1,61320,0,8561991,8623311,0,9195242,0,0,9195242,38.408298236998448,23940769,99.999999540532727,1063016.7399999984,746193,-407.41515099816024,-1.7017630015487839E-3,11712.71,null,0,null,365.0650684931507,null,292,"Swansea                      ",1,23940769.109999999,14745527,9195242,null,9195242]
[293,"Taunton                      ",1,103523189.69,36893138,66638377,null,66638377,{"$f":"SUMIF(dist1755,A302,found1755)","v":107043467.58},38153915,68889553,2251176,{"$f":"ROUND(100-'Townwide Contributions'!L302,2)","v":63.83},8113,7953,1,238590,0,66706935,66945525,0,68889553,0,7387,68896940,64.363516576580622,107050855,100.00690132725239,3520277.8900000006,2258563,571094.64368599653,0.53351657658062379,13459.51,null,0,null,283.98880925436941,null,293,"Taunton                      ",1,107043467.58,38153915,68896940,null,68896940]
[294,"Templeton                    ",0,0,0,0,null,0,0,0,0,0,{"$f":"ROUND(100-'Townwide Contributions'!L303,2)","v":60.18},0,0,0,0,0,0,0,0,0,0,0,0,0,0,0,0,0,0,"",0,null,0,null,0,null,294,"Templeton                    ",0,0,0,0,null,0]
[295,"Tewksbury                    ",1,35851430.130000003,29577430,13326215,null,13326215,35982818.319999993,29685825,6296993,0,{"$f":"ROUND(100-'Townwide Contributions'!L304,2)","v":17.5},3364,3256,0,97680,97680,13326215,13423895,0,13423895,0,0,13423895,37.306402407447678,43109720,119.80640209062982,131388.18999999017,97680,7126901.7940000016,19.806402407447678,11051.23,null,0,null,30,null,295,"Tewksbury                    ",1,35982818.319999993,29685825,13423895,null,13423895]
[296,"Tisbury                      ",1,4358704.2899999991,3499193,859511,null,859511,4207932.1499999994,3462684,745248,0,{"$f":"ROUND(100-'Townwide Contributions'!L305,2)","v":17.5},371,343,0,10290,10290,859511,869801,0,869801,0,0,869801,20.670509147824546,4332485,102.95995385762103,-150772.13999999966,10290,133412.87375000014,3.1705091478245464,12268.02,null,0,null,30,null,296,"Tisbury                      ",1,4207932.1499999994,3462684,869801,null,869801]
[297,"Tolland                      ",0,0,0,0,null,0,0,0,0,0,{"$f":"ROUND(100-'Townwide Contributions'!L306,2)","v":17.5},0,0,0,0,0,0,0,0,0,0,0,0,0,0,0,0,0,0,"",0,null,0,null,0,null,297,"Tolland                      ",0,0,0,0,null,0]
[298,"Topsfield                    ",1,6270046.2603099989,5031835,1239023,null,1239023,5583546.5710300002,4606426,977121,0,{"$f":"ROUND(100-'Townwide Contributions'!L307,2)","v":17.5},627,542,0,16260,16260,1239023,1255283,0,1255283,0,0,1255283,22.481821975175844,5861709,104.98182338826068,-686499.68927999865,16260,278162.35006974998,4.9818219751758441,10301.75,null,0,null,30,null,298,"Topsfield                    ",1,5583546.5710300002,4606426,1255283,null,1255283]
[299,"Townsend                     ",0,0,0,0,null,0,0,0,0,0,{"$f":"ROUND(100-'Townwide Contributions'!L308,2)","v":45.8},0,0,0,0,0,0,0,0,0,0,0,0,0,0,0,0,0,0,"",0,null,0,null,0,null,299,"Townsend                     ",0,0,0,0,null,0]
[300,"Truro                        ",1,2296768.69,1894834,402446,null,402446,2253510.1199999996,1859146,394364,0,{"$f":"ROUND(100-'Townwide Contributions'!L309,2)","v":17.5},213,199,0,5970,5970,402446,408416,0,408416,0,0,408416,18.123548519941863,2267562,100.6235552205996,-43258.570000000298,5970,14051.729000000108,0.62354851994186333,11324.17,null,0,null,30,null,300,"Truro                        ",1,2253510.1199999996,1859146,408416,null,408416]
[301,"Tyngsborough                 ",1,17653818.739999998,12650386,7409074,null,7409074,18200500.57,12713256,5487245,0,{"$f":"ROUND(100-'Townwide Contributions'!L310,2)","v":30.15},1645,1626,0,48780,48780,7409074,7457854,0,7457854,0,0,7457854,40.976092780067965,20171110,110.82722655028603,546681.83000000194,48780,1970403.0781450002,10.826092780067967,11193.42,null,0,null,30,null,301,"Tyngsborough                 ",1,18200500.57,12713256,7457854,null,7457854]
[302,"Tyringham                    ",0,321152.71999999997,264951,56202,null,56202,305094.65999999997,251703,53392,0,{"$f":"ROUND(100-'Townwide Contributions'!L311,2)","v":17.5},34,32,0,0,0,56202,57162,960,57162,0,0,57162,0,308865,101.23579350749699,-16058.059999999998,960,3770.4345000000103,"",9534.2099999999991,null,0,null,30,null,302,"Tyringham                    ",0,305094.65999999997,251703,57162,null,57162]
[303,"Upton                        ",0,87946.800000000017,63657,39799,null,39799,89716.680000000008,68168,21549,0,{"$f":"ROUND(100-'Townwide Contributions'!L312,2)","v":24.02},6,6,0,0,0,39799,39979,180,39979,0,0,39979,0,108147,120.54280207426311,1769.8799999999901,180,18429.053463999997,"",14952.78,null,0,null,30,null,303,"Upton                        ",0,89716.680000000008,68168,39979,null,39979]
[304,"Uxbridge                     ",1,19464063.84,12445154,9438614,null,9438614,19398107.32,12927160,6470947,0,{"$f":"ROUND(100-'Townwide Contributions'!L313,2)","v":33.36},1776,1693,0,50790,50790,9438614,9489404,0,9489404,0,0,9489404,48.919226208302057,22416564,115.56057315389674,-65956.519999999553,50790,3018195.3980479995,15.559226208302057,11457.83,null,0,null,30,null,304,"Uxbridge                     ",1,19398107.32,12927160,9489404,null,9489404]
[305,"Wakefield                    ",1,38545137.935350008,31799739,6745399,null,6745399,38638839.541639999,31877042,6761798,16399,{"$f":"ROUND(100-'Townwide Contributions'!L314,2)","v":17.5},3480,3384,1,101520,85121,6745399,6846919,0,6846919,0,0,6846919,17.720301854876531,38723961,100.22030024547779,93701.606289990246,101520,85122.080213000998,0.22030185487653142,11418.1,null,0,null,30,null,305,"Wakefield                    ",1,38638839.541639999,31877042,6846919,null,6846919]
[306,"Wales                        ",1,1614023.6,613294,1000730,null,1000730,1543003.67,564773,978231,0,{"$f":"ROUND(100-'Townwide Contributions'!L315,2)","v":63.4},145,130,0,3900,3900,1000730,1004630,0,1004630,0,0,1004630,65.108723947493914,1569403,101.71090519830067,-71019.930000000168,3900,26365.673219999997,1.7087239474939153,11869.26,null,0,null,30,null,306,"Wales                        ",1,1543003.67,564773,1004630,null,1004630]
[307,"Walpole                      ",1,39454988.392580003,32550365,8182871,null,8182871,40749021.079649992,33446471,7302550,0,{"$f":"ROUND(100-'Townwide Contributions'!L316,2)","v":17.5},3587,3573,0,107190,107190,8182871,8290061,0,8290061,0,0,8290061,20.344196695660123,41736532,102.42339789812317,1294032.6870699897,107190,1158982.3110612519,2.8441966956601235,11404.71,null,0,null,30,null,307,"Walpole                      ",1,40749021.079649992,33446471,8290061,null,8290061]
[308,"Waltham                      ",1,78968509.286119998,63760767,15541249,null,15541249,79126547.643249989,65279402,13847146,0,{"$f":"ROUND(100-'Townwide Contributions'!L317,2)","v":17.5},5746,5524,0,165720,165720,15541249,15706969,0,15706969,0,0,15706969,19.85044143568155,80986371,102.35044168126127,158038.35712999105,165720,1859823.1624312531,2.3504414356815495,14324.14,null,0,null,30,null,308,"Waltham                      ",1,79126547.643249989,65279402,15706969,null,15706969]
[309,"Ware                         ",1,15723620.550000001,5305670,10591234,null,10591234,16595927.159999996,5393117,11202810,611576,{"$f":"ROUND(100-'Townwide Contributions'!L318,2)","v":67.5},1289,1277,1,38310,0,10989199,11027509,0,11202810,0,0,11202810,67.503369302568103,16595927,99.999999035908061,872306.60999999568,611576,559.1670000012964,3.3693025681031941E-3,12996.03,null,0,null,478.91620986687548,null,309,"Ware                         ",1,16595927.159999996,5393117,11202810,null,11202810]
[310,"Wareham                      ",1,29995900.239999998,18760166,13381730,null,13381730,30246630.430000003,19008275,11238355,0,{"$f":"ROUND(100-'Townwide Contributions'!L319,2)","v":35.01},2403,2269,0,68070,68070,13381730,13449800,0,13449800,0,0,13449800,44.467101983895262,32458075,107.31137498148085,250730.19000000507,68070,2860454.6864570007,9.4571019838952637,13330.38,null,0,null,30,null,310,"Wareham                      ",1,30246630.430000003,19008275,13449800,null,13449800]
[311,"Warren                       ",0,0,0,0,null,0,0,0,0,0,{"$f":"ROUND(100-'Townwide Contributions'!L320,2)","v":68.459999999999994},0,0,0,0,0,0,0,0,0,0,0,0,0,0,0,0,0,0,"",0,null,0,null,0,null,311,"Warren                       ",0,0,0,0,null,0]
[312,"Warwick                      ",0,0,0,0,null,0,0,0,0,0,{"$f":"ROUND(100-'Townwide Contributions'!L321,2)","v":26.03},0,0,0,0,0,0,0,0,0,0,0,0,0,0,0,0,0,0,"",0,null,0,null,0,null,312,"Warwick                      ",0,0,0,0,null,0]
[313,"Washington                   ",0,14657.8,10895,7847,null,7847,0,0,0,0,{"$f":"ROUND(100-'Townwide Contributions'!L322,2)","v":26.09},1,0,0,0,0,0,0,0,7847,7847,0,0,0,0,0,-14657.8,-7847,0,"",0,null,0,null,0,null,313,"Washington                   ",0,0,0,0,null,0]
[314,"Watertown                    ",1,33148323.506280009,27347367,5858595,null,5858595,33614343.104620002,27731833,5882510,23915,{"$f":"ROUND(100-'Townwide Contributions'!L323,2)","v":17.5},2678,2607,1,78210,54295,5858595,5936805,0,5936805,0,0,5936805,17.661523182299039,33668638,100.16152299990219,466019.59833999351,78210,54294.956691499799,0.16152318229903884,12893.88,null,0,null,30,null,314,"Watertown                    ",1,33614343.104620002,27731833,5936805,null,5936805]
[315,"Wayland                      ",1,28213341.421039999,23276007,5299764,null,5299764,29175011.111419998,23897476,5277535,0,{"$f":"ROUND(100-'Townwide Contributions'!L324,2)","v":17.5},2653,2647,0,79410,79410,5299764,5379174,0,5379174,0,0,5379174,18.437607373847499,29276650,100.34837652054986,961669.69037999958,79410,273547.05550150108,0.93760737384749859,11021.92,null,0,null,30,null,315,"Wayland                      ",1,29175011.111419998,23897476,5379174,null,5379174]
[316,"Webster                      ",1,26082448.07,11471908,14610856,null,14610856,25360639.029999997,11546702,13813937,0,{"$f":"ROUND(100-'Townwide Contributions'!L325,2)","v":53.19},2023,1870,0,56100,56100,14610856,14666956,0,14666956,0,0,14666956,57.833542690505311,26213658,103.36355471560057,-721809.04000000283,56100,1177632.0999430027,4.6435426905053134,13561.84,null,0,null,30,null,316,"Webster                      ",1,25360639.029999997,11546702,14666956,null,14666956]
[317,"Wellesley                    ",1,52873250.972209997,43620433,9273504,null,9273504,49998663.731600001,41248897,8749767,0,{"$f":"ROUND(100-'Townwide Contributions'!L326,2)","v":17.5},4876,4466,0,133980,133980,9273504,9407484,0,9407484,0,0,9407484,18.815470850382567,50656381,101.31546969321164,-2874587.240609996,133980,657717.84696999937,1.3154708503825674,11195.4,null,0,null,30,null,317,"Wellesley                    ",1,49998663.731600001,41248897,9407484,null,9407484]
[318,"Wellfleet                    ",1,1257777.1000000001,1037666,220111,null,220111,1274233.2699999998,1051243,222990,2879,{"$f":"ROUND(100-'Townwide Contributions'!L327,2)","v":17.5},115,114,1,3420,541,220240,223660,129,223660,0,0,223660,17.552516110335123,1274903,100.05255945012331,16456.169999999693,3549,669.17775000006077,5.2516110335123045E-2,11177.48,null,0,null,31.131578947368421,null,318,"Wellfleet                    ",1,{"$f":"I327","v":1274233.2699999998},{"$f":"J327","v":1051243},223660,null,223660]
[319,"Wendell                      ",0,0,0,0,null,0,0,0,0,0,{"$f":"ROUND(100-'Townwide Contributions'!L328,2)","v":61.83},0,0,0,0,0,0,0,0,0,0,0,0,0,0,0,0,0,0,"",0,null,0,null,0,null,319,"Wendell                      ",0,0,0,{"$f":"Y328","v":0},null,0]
[320,"Wenham                       ",0,0,0,0,null,0,0,0,0,0,{"$f":"ROUND(100-'Townwide Contributions'!L329,2)","v":17.5},0,0,0,0,0,0,0,0,0,0,0,0,0,0,0,0,0,0,"",0,null,0,null,0,null,320,"Wenham                       ",0,0,0,0,null,0]
[321,"Westborough                  ",1,40523119.020000003,32212271,8310848,null,8310848,{"$f":"SUMIF(dist1755,A330,found1755)","v":42200577.130000003},{"$f":"SUMIF(dist1755,A330,prelcont1755)","v":31967462},{"$f":"ROUND(MAX(found-prelcont436,0),0)","v":10233115},{"$f":"IF(foundaid>priorc70,foundaid-priorc70,0)","v":1922267},{"$f":"ROUND(100-'Townwide Contributions'!L330,2)","v":24.25},3783,{"$f":"SUMIF(dist1755,A330,enro1755)","v":3821},{"$f":"IF(AND(C330=1,L330>0),1,0)","v":1},{"$f":"IF(nonop=1,enro*$Q$6,0)","v":114630},{"$f":"IF((foundinc)<Q330,Q330-(foundinc),0)","v":0},11075373,{"$f":"S330+30*enro","v":11190003},{"$f":"IF(T330-priorc70-foundinc-minaid>0,T330-priorc70-foundinc-minaid,0)","v":956888},{"$f":"priorc70+foundinc+minaidadjincrement+minaid","v":11190003},{"$f":"IF(AND(C330=0,V330>found),V330-found,0)","v":0},{"$f":"MAX(AT330-(priorc70+foundinc+minaidadjincrement+minaid-rednonop),0)","v":0},{"$f":"priorc70+foundinc+minaidadjincrement+minaid-rednonop+holdharmlessaid","v":11190003},{"$f":"IF(C330=1, Y330/I330*100, 0)","v":26.516232148979618},{"$f":"prelcont436+chapter70","v":43157465},{"$f":"IF(found>0,AA330*100/found,0)","v":102.2674757907985},{"$f":"I330-D330","v":1677458.1099999994},{"$f":"Y330-F330","v":2879155},{"$f":"Y330-((M330/100)*I330)","v":956363.04597499967},{"$f":"IF(C330=1, (Y330/I330*100)-M330, \"\")","v":2.2662321489796184},{"$f":"IFERROR(ROUND(I330/O330, 2), 0)","v":11044.38},null,{"$f":"VLOOKUP(A330, disthist, 37, FALSE)*$H$6","v":0},null,{"$f":"IFERROR(AD330/O330, 0)","v":753.50824391520541},null,{"$f":"A330","v":321},{"$f":"B330","v":"Westborough                  "},{"$f":"C330","v":1},42200577.130000003,31967462,11190003,null,11190003]
[322,"West Boylston                ",1,9693716.8899999987,7543146,3034005,null,{"$f":"F331+G331","v":3034005},9723140.6099999994,7800056,1923085,0,{"$f":"ROUND(100-'Townwide Contributions'!L331,2)","v":19.78},854,832,0,24960,24960,3034005,3058965,0,3058965,0,0,3058965,31.460668138995473,10859021,111.68223761807761,29423.720000000671,24960,1135727.7873420001,11.680668138995472,11686.47,null,0,null,30,null,322,"West Boylston                ",1,9723140.6099999994,7800056,3058965,null,3058965]
[323,"West Bridgewater             ",1,12165316.310000001,8009301,4157054,null,4157054,12509536.450000003,8120160,4389376,232322,{"$f":"ROUND(100-'Townwide Contributions'!L332,2)","v":35.090000000000003},1107,1100,1,33000,0,4536989,4569989,180613,4569989,0,0,4569989,36.532041121315885,12690149,101.44379890271631,344220.14000000246,412935,180392.65969499853,1.4420411213158815,11372.31,null,0,null,375.39545454545453,null,323,"West Bridgewater             ",1,12509536.450000003,8120160,4569989,null,4569989]
[324,"West Brookfield              ",0,656385.84,351215,327609,null,327609,609550.86,327849,281702,0,{"$f":"ROUND(100-'Townwide Contributions'!L333,2)","v":44.04},41,37,0,0,0,327609,328719,1110,328719,0,0,328719,0,656568,107.71340721264835,-46834.979999999981,1110,60272.801256000006,"",16474.349999999999,null,0,null,30,null,324,"West Brookfield              ",0,609550.86,327849,328719,null,328719]
[325,"Westfield                    ",1,65292799.700000003,27986427,37306373,null,37306373,64714818.569999993,28674517,36040302,0,{"$f":"ROUND(100-'Townwide Contributions'!L334,2)","v":55.69},5221,4980,0,149400,149400,37306373,37455773,0,37455773,0,0,37455773,57.878201357368042,66130290,102.18724468564945,-577981.13000001013,149400,1416090.5383670107,2.1882013573680439,12994.94,null,0,null,30,null,325,"Westfield                    ",1,64714818.569999993,28674517,37455773,null,37455773]
[326,"Westford                     ",1,49470077.997149989,38573963,17144235,null,17144235,49437144.66234,38453895,10983250,0,{"$f":"ROUND(100-'Townwide Contributions'!L335,2)","v":22.22},4715,4586,0,137580,137580,17144235,17281815,0,17281815,0,0,17281815,34.957146328001549,55735710,112.74055243416615,-32933.334809988737,137580,6296881.4560280535,12.73714632800155,10780.01,null,0,null,30,null,326,"Westford                     ",1,49437144.66234,38453895,17281815,null,17281815]
[327,"Westhampton                  ",1,1307846.49,960638,477140,null,477140,1221027.5199999998,977281,243747,0,{"$f":"ROUND(100-'Townwide Contributions'!L336,2)","v":17.5},116,103,0,3090,3090,477140,480230,0,480230,0,0,480230,39.329989876067664,1457511,119.36757985602161,-86818.970000000205,3090,266550.18400000001,21.829989876067664,11854.64,null,0,null,30,null,327,"Westhampton                  ",1,1221027.5199999998,977281,480230,null,480230]
[328,"Westminster                  ",0,0,0,0,null,0,0,0,0,0,{"$f":"ROUND(100-'Townwide Contributions'!L337,2)","v":43.75},0,0,0,0,0,0,0,0,0,0,0,0,0,0,0,0,0,0,"",0,null,0,null,0,null,328,"Westminster                  ",0,0,0,0,null,0]
[329,"West Newbury                 ",0,29315.599999999999,24185,5131,null,5131,29905.56,24672,5234,103,{"$f":"ROUND(100-'Townwide Contributions'!L338,2)","v":17.5},2,2,0,0,0,5203,5263,29,5263,0,0,5263,0,29935,100.09844323262965,589.96000000000276,132,29.527000000000044,"",14952.78,null,0,null,66,null,329,"West Newbury                 ",0,29905.56,24672,5263,null,5263]
[330,"Weston                       ",1,22266149.914000005,18369574,3949220,null,3949220,21554028.930860002,17782074,3771955,0,{"$f":"ROUND(100-'Townwide Contributions'!L339,2)","v":17.5},2057,1928,0,57840,57840,3949220,4007060,0,4007060,0,0,4007060,18.590770258561211,21789134,101.09077087116361,-712120.98314000294,57840,235104.93709950009,1.0907702585612107,11179.48,null,0,null,30,null,330,"Weston                       ",1,21554028.930860002,17782074,4007060,null,4007060]
[331,"Westport                     ",1,16658171.17,13742991,4559462,null,4559462,16990670.259999998,14017303,2973367,0,{"$f":"ROUND(100-'Townwide Contributions'!L340,2)","v":17.5},1505,1471,0,44130,44130,4559462,4603592,0,4603592,0,0,4603592,27.094822803064634,18620895,109.59482301200283,332499.08999999799,44130,1630224.7045000005,9.5948228030646341,11550.42,null,0,null,30,null,331,"Westport                     ",1,16990670.259999998,14017303,4603592,null,4603592]
[332,"West Springfield             ",1,52593244.399999991,20539659,32053585,null,32053585,53788012.660000004,20662897,33125116,1071531,{"$f":"ROUND(100-'Townwide Contributions'!L341,2)","v":60.21},4138,3995,1,119850,0,32053585,32173435,0,33125116,0,0,33125116,61.584569426997668,53788013,100.0000006321111,1194768.2600000128,1071531,739353.57741399854,1.3745694269976667,13463.83,null,0,null,268.21802252816019,null,332,"West Springfield             ",1,53788012.660000004,20662897,33125116,null,33125116]
[333,"West Stockbridge             ",0,0,0,0,null,0,0,0,0,0,{"$f":"ROUND(100-'Townwide Contributions'!L342,2)","v":17.5},0,0,0,0,0,0,0,0,0,0,0,0,0,0,0,0,0,0,"",0,null,0,null,0,null,333,"West Stockbridge             ",0,0,0,0,null,0]
[334,"West Tisbury                 ",0,0,0,0,null,0,0,0,0,0,{"$f":"ROUND(100-'Townwide Contributions'!L343,2)","v":17.5},0,0,0,0,0,0,0,0,0,0,0,0,0,0,0,0,0,0,"",0,null,0,null,0,null,334,"West Tisbury                 ",0,0,0,0,null,0]
[335,"Westwood                     ",1,32201274.010420009,26566051,5635223,null,5635223,32473679.60554,26790785,5682895,47672,{"$f":"ROUND(100-'Townwide Contributions'!L344,2)","v":17.5},3001,2941,1,88230,40558,5635223,5723453,0,5723453,0,0,5723453,17.624898285390426,32514238,100.12489620810658,272405.59511999041,88230,40559.069030500017,0.12489828539042591,11041.71,null,0,null,30,null,335,"Westwood                     ",1,32473679.60554,26790785,5723453,null,5723453]
[336,"Weymouth                     ",1,73265345.799600005,56687928,28433225,null,28433225,76134831.638579994,58393693,17741139,0,{"$f":"ROUND(100-'Townwide Contributions'!L345,2)","v":19.38},5921,5929,0,177870,177870,28433225,28611095,0,28611095,0,0,28611095,37.579507807700764,87004788,114.27724489235206,2869485.8389799893,177870,13856164.628443196,18.199507807700765,12841.09,null,0,null,30,null,336,"Weymouth                     ",1,76134831.638579994,58393693,28611095,null,28611095]
[337,"Whately                      ",1,904197.0199999999,739905,264770,null,264770,961185.17,774927,186258,0,{"$f":"ROUND(100-'Townwide Contributions'!L346,2)","v":19.38},79,81,0,2430,2430,264770,267200,0,267200,0,0,267200,27.799014002681709,1042127,108.42104440708339,56988.15000000014,2430,80922.314053999988,8.4190140026817097,11866.48,null,0,null,30,null,337,"Whately                      ",1,961185.17,774927,267200,null,267200]
[338,"Whitman                      ",0,203601.62000000002,93108,110494,null,110494,134575.02000000002,63660,70915,0,{"$f":"ROUND(100-'Townwide Contributions'!L347,2)","v":50.15},12,9,0,0,0,110494,110764,270,110764,0,0,110764,0,174424,129.61097832272287,-69026.600000000006,270,43274.627469999992,"",14952.78,null,0,null,30,null,338,"Whitman                      ",0,134575.02000000002,63660,110764,null,110764]
[339,"Wilbraham                    ",0,0,0,0,null,0,0,0,0,0,{"$f":"ROUND(100-'Townwide Contributions'!L348,2)","v":33.29},0,0,0,0,0,0,0,0,0,0,0,0,0,0,0,0,0,0,"",0,null,0,null,0,null,339,"Wilbraham                    ",0,0,0,0,null,0]
[340,"Williamsburg                 ",1,2006916.64,1291212,715705,null,715705,2025767.98,1285613,740155,24450,{"$f":"ROUND(100-'Townwide Contributions'!L349,2)","v":36.54},176,168,1,5040,0,780327,785367,45212,785367,0,0,785367,38.768852492179292,2070980,102.23184591949173,18851.340000000084,69662,45151.380108000012,2.2288524921792927,12058.14,null,0,null,414.65476190476193,null,340,"Williamsburg                 ",1,2025767.98,1285613,785367,null,785367]
[341,"Williamstown                 ",0,0,0,0,null,0,0,0,0,0,{"$f":"ROUND(100-'Townwide Contributions'!L350,2)","v":17.5},0,0,0,0,0,0,0,0,0,0,0,0,0,0,0,0,0,0,"",0,null,0,null,0,null,341,"Williamstown                 ",0,0,0,0,null,0]
[342,"Wilmington                   ",1,35336725.314499997,28856084,11469170,null,11469170,31976675.075399999,26380757,5595918,0,{"$f":"ROUND(100-'Townwide Contributions'!L351,2)","v":17.5},3220,2818,0,84540,84540,11469170,11553710,0,11553710,0,0,11553710,36.131680272438309,37934467,118.63168046881583,-3360050.239099998,84540,5957791.8618050003,18.631680272438309,11347.29,null,0,null,30,null,342,"Wilmington                   ",1,31976675.075399999,26380757,11553710,null,11553710]
[343,"Winchendon                   ",1,15745625.66,5282604,11491100,null,11491100,16192011.48,5511010,10681001,0,{"$f":"ROUND(100-'Townwide Contributions'!L352,2)","v":65.3},1322,1283,0,38490,38490,11491100,11529590,0,11529590,0,0,11529590,71.205421353863812,17040600,105.24078506890979,446385.8200000003,38490,956206.50355999917,5.9054213538638152,12620.43,null,0,null,30,null,343,"Winchendon                   ",1,16192011.48,5511010,11529590,null,11529590]
[344,"Winchester                   ",1,49895727.543140002,40278256,9617689,null,9617689,49628251.23258999,40943308,8684943,0,{"$f":"ROUND(100-'Townwide Contributions'!L353,2)","v":17.5},4685,4513,0,135390,135390,9617689,9753079,0,9753079,0,0,9753079,19.652272159038571,50696387,102.15227363624811,-267476.31055001169,135390,1068135.0342967529,2.1522721590385707,10996.73,null,0,null,30,null,344,"Winchester                   ",1,49628251.23258999,40943308,9753079,null,9753079]
[345,"Windsor                      ",0,58631.199999999997,48371,26342,null,26342,59811.12,49344,10467,0,{"$f":"ROUND(100-'Townwide Contributions'!L354,2)","v":17.5},4,4,0,0,0,26342,26462,120,26462,0,0,26462,0,75806,126.74231815087228,1179.9200000000055,120,15995.054,"",14952.78,null,0,null,30,null,345,"Windsor                      ",0,59811.12,49344,26462,null,26462]
[346,"Winthrop                     ",1,23537383.711800005,16793461,7340903,null,7340903,23441502.304000001,17313006,6128496,0,{"$f":"ROUND(100-'Townwide Contributions'!L355,2)","v":20.56},1986,1907,0,57210,57210,7340903,7398113,0,7398113,0,0,7398113,31.559892809163532,24711119,105.41610635502381,-95881.407800003886,57210,2578540.1262976006,10.999892809163534,12292.35,null,0,null,30,null,346,"Winthrop                     ",1,23441502.304000001,17313006,7398113,null,7398113]
[347,"Woburn",1,54604897.586800009,45049041,9555857,null,9555857,54858831.045920007,45258536,9600295,44438,{"$f":"ROUND(100-'Townwide Contributions'!L356,2)","v":17.5},4517,4384,1,131520,87082,9555857,9687377,0,9687377,0,0,9687377,17.658737554745027,54945913,100.15873826040351,253933.45911999792,131520,87081.566963998601,0.15873755474502715,12513.42,null,0,null,30,null,347,"Woburn",1,54858831.045920007,45258536,9687377,null,9687377]
[348,"Worcester                    ",1,382606983.73000002,105210987,277395997,null,277395997,400051102.55999994,108945977,291105126,13709129,{"$f":"ROUND(100-'Townwide Contributions'!L357,2)","v":71.39},27442,26540,1,796200,0,277395997,278192197,0,291105126,0,10521,291115647,72.769614965962575,400061624,100.00263002399761,17444118.829999924,13719650,5519164.8824160695,1.379614965962574,15073.52,null,0,null,516.94235116804828,null,348,"Worcester                    ",1,400051102.55999994,108945977,291115647,null,291115647]
[349,"Worthington                  ",1,1374749.7299999997,1018495,356255,null,356255,1188969.8699999999,980900,208070,0,{"$f":"ROUND(100-'Townwide Contributions'!L358,2)","v":17.5},123,102,0,3060,3060,356255,359315,0,359315,0,0,359315,30.220698527877754,1340215,112.72068652168622,-185779.85999999987,3060,151245.27275000003,12.720698527877754,11656.57,null,0,null,30,null,349,"Worthington                  ",1,1188969.8699999999,980900,359315,null,359315]
[350,"Wrentham                     ",1,9053868.8087499999,7469442,3793153,null,3793153,8698911.8334400002,7176602,1522310,0,{"$f":"ROUND(100-'Townwide Contributions'!L359,2)","v":17.5},874,822,0,24660,24660,3793153,3817813,0,3817813,0,0,3817813,43.88839745821678,10994415,126.38839443958635,-354956.97530999966,24660,2295503.4291479997,26.38839745821678,10582.62,null,0,null,30,null,350,"Wrentham                     ",1,8698911.8334400002,7176602,3817813,null,3817813]
[351,"Yarmouth                     ",0,0,0,0,null,0,0,0,0,0,{"$f":"ROUND(100-'Townwide Contributions'!L360,2)","v":17.5},0,0,0,0,0,0,0,0,0,0,0,0,0,0,0,0,0,0,"",0,null,0,null,0,null,351,"Yarmouth                     ",0,0,0,0,null,0]
[406,"Northampton Smith            ",1,2690854.48,2219955,913025,null,913025,3117227.3600000003,2571713,545514,0,{"$f":"ROUND(100-SUMIF(fraclea,A361,memeffpct),2)","v":17.5},113,116,0,3480,3480,913025,916505,0,916505,0,0,916505,29.401288201191711,3488218,111.90130193134195,426372.88000000035,3480,370990.21199999994,11.901288201191711,26872.65,null,0,null,30,null,406,"Northampton Smith            ",1,3117227.3600000003,2571713,916505,null,916505]
[600,"Acton Boxborough             ",1,57745972.612679996,46230356,15185311,null,15185311,57822927.827799991,46723042,11099886,0,19.2,5294.0000000000009,5120,0,153600,153600,15185311,15338911,0,15338911,0,0,15338911,26.527385547961458,62061953,107.33104554100765,76955.215119995177,153600,4236908.8570624013,7.3273855479614589,11293.54,null,0,null,30,null,600,"Acton Boxborough             ",1,57822927.827799991,46723042,15338911,null,15338911]
[603,"Hoosac Valley",1,15339849.779999997,5843907,10354753,null,10354753,15216793.440000001,5725567,9491226,0,62.37,1254,1178,0,35340,35340,10354753,10390093,0,10390093,0,0,10390093,68.280436617400781,16115660,105.90706947258133,-123056.33999999613,35340,899378.93147199973,5.9104366174007836,12917.48,null,0,null,30,null,603,"Hoosac Valley",1,15216793.440000001,5725567,10390093,null,10390093]
[605,"Amherst Pelham               ",1,16921238.979830787,12834959,9561457,null,9561457,16668696.930166688,12787466,3881231,0,23.29,1398.9999999860099,1330.0000000133,0,39900.000000398999,39900.000000398999,9561457,9601357.0000003986,0,9601357.0000003986,0,0,9601357.0000003986,57.601125272270373,22388823.000000399,134.31657611748605,-252542.04966409877,39900.000000398606,5719217.4849645775,34.311125272270374,12532.85,null,0,null,29.999999999999705,null,605,"Amherst Pelham               ",1,16668696.930166688,12787466,9601357.0000003986,null,9601357]
[610,"Ashburnham Westminster       ",1,24646397.09,12303561,12361170,null,12361170,24454471.870000005,12482932,11971540,0,47.73,2286,2184,0,65520,65520,12361170,12426690,0,12426690,0,0,12426690,50.815613872425033,24909622,101.86121431049328,-191925.21999999508,65520,754570.57644899935,3.0856138724250357,11197.1,null,0,null,30,null,610,"Ashburnham Westminster       ",1,24454471.870000005,12482932,12426690,null,12426690]
[615,"Athol Royalston              ",1,21729158.719999999,3616401,18112758,null,18112758,21516033.310000002,3826520,17689513,0,68.59,1770,1666,0,49980,49980,18112758,18162738,0,18162738,0,0,18162738,84.414899987901151,21989258,102.19940489579024,-213125.40999999642,49980,3404890.7526709978,15.824899987901148,12914.79,null,0,null,30,null,615,"Athol Royalston              ",1,21516033.310000002,3826520,18162738,null,18162738]
[616,"Ayer Shirley",1,19068236.100000005,12820462,8301431,null,8301431,19326736.270000003,13326540,6000196,0,30.88,1689,1642,0,49260,49260,8301431,8350691,0,8350691,0,0,8350691,43.207973055245702,21677231,112.16188132938183,258500.16999999806,49260,2382594.8398239994,12.327973055245703,11770.24,null,0,null,30,null,616,"Ayer Shirley",1,19326736.270000003,13326540,8350691,null,8350691]
[618,"Berkshire Hills              ",1,11846383.439999999,9773266,2933388,null,2933388,11959904.129880402,9866921,2092983,0,17.5,970,936.99999999062993,0,28109.999999718897,28109.999999718897,2933388,2961497.9999997187,0,2961497.9999997187,0,2.8125941753387451E-7,2961498,24.761887451932399,12828419,107.26188822826528,113520.68988040276,28110,868514.77727092966,7.2618874519323988,12764.04,null,0,null,30.000000000300002,null,618,"Berkshire Hills              ",1,11959904.129880402,9866921,2961498,null,2961498]
[620,"Berlin Boylston              ",1,10107518.1,8212670,2139724,null,2139724,10696909.850000001,8558303,2138607,0,17.5,950,977.00000000000011,0,29310.000000000004,29310.000000000004,2139724,2169034,0,2169034,0,0,2169034,20.277201831330753,10727337,100.28444803617747,589391.75000000186,29310,297074.77624999988,2.7772018313307534,10948.73,null,0,null,29.999999999999996,null,620,"Berlin Boylston              ",1,10696909.850000001,8558303,2169034,null,2169034]
[622,"Blackstone Millville         ",1,19305133.509999998,9159231,10985239,null,10985239,19313058.34,9358379,9954679,0,51.54,1737,1675,0,50250,50250,10985239,11035489,0,11035489,0,0,11035489,57.140038650139545,20393868,105.59626363143892,7924.8300000019372,50250,1081538.7315640002,5.6000386501395454,11530.18,null,0,null,30,null,622,"Blackstone Millville         ",1,19313058.34,9358379,11035489,null,11035489]
[625,"Bridgewater Raynham          ",1,59327586.659999996,36619588,22716693,null,22716693,60696669.610000007,37575602,23121068,404375,36.68,5506,5446,1,163380,0,23102852,23266232,145164,23266232,0,0,23266232,38.331974636326336,60841834,100.23916368218015,1369082.9500000104,549539,1002693.5870519951,1.6519746363263366,11145.18,null,0,null,100.90690414983474,null,625,"Bridgewater Raynham          ",1,60696669.610000007,37575602,23266232,null,23266232]
[632,"Chesterfield Goshen",1,1184019.3600000001,774310,751930,null,751930,1138617.54,808979,329639,0,28.95,112,100,0,3000,3000,751930,754930,0,754930,0,0,754930,66.302333617660594,1563909,137.35156407304245,-45401.820000000065,3000,425300.22217000002,37.352333617660591,11386.18,null,0,null,30,null,632,"Chesterfield Goshen",1,1138617.54,808979,754930,null,754930]
[635,"Central Berkshire            ",1,17769137.719999999,10821874,8773249,null,8773249,18403560.679815963,11139154,7264407,0,38.82,1532.0000000000002,1515.9999999848403,0,45479.999999545209,45479.999999545209,8773249,8818728.9999995455,3.0559021979570389E-10,8818728.9999995455,0,4.5448541641235352E-7,8818729,47.918602021791948,19957883,108.44576952920167,634422.9598159641,45480,1674466.7440954437,9.0986020217919474,12139.55,null,0,null,30.000000000299995,null,635,"Central Berkshire            ",1,18403560.679815963,11139154,8818729,null,8818729]
[640,"Concord Carlisle             ",1,15698387.201840004,12951170,2747217,null,2747217,16437449.391079996,13560896,2876553,129336,17.5,1323,1346,1,40380,0,2845502,2885882,9329,2885882,0,0,2885882,17.556750632893586,16446778,100.05675216816221,739062.18923999183,138665,9328.3565610009246,5.6750632893585617E-2,12212.07,null,0,null,103.02005943536405,null,640,"Concord Carlisle             ",1,16437449.391079996,13560896,2885882,null,2885882]
[645,"Dennis Yarmouth              ",1,40772315.190000005,32996593,7812700,null,7812700,40000864.339999996,32339804,7661060,0,17.5,3334,3140,0,94200,94200,7812700,7906900,0,7906900,0,0,7906900,19.766822868608045,40246704,100.61458586972124,-771450.85000000894,94200,906748.74050000124,2.2668228686080454,12739.13,null,0,null,30,null,645,"Dennis Yarmouth              ",1,40000864.339999996,32339804,7906900,null,7906900]
[650,"Dighton Rehoboth             ",1,31470516.579999998,20472580,12956936,null,12956936,30297677.200000003,20851154,9446523,0,31.08,2854,2665,0,79950,79950,12956936,13036886,0,13036886,0,0,13036886,43.029325033537553,33888040,111.85029062227912,-1172839.3799999952,79950,3620367.9262400009,11.949325033537555,11368.73,null,0,null,30,null,650,"Dighton Rehoboth             ",1,30297677.200000003,20851154,13036886,null,13036886]
[655,"Dover Sherborn               ",1,13502936.345999997,11139922,2363014,null,2363014,13732496.655719997,11329309,2403188,40174,17.5,1241,1229,1,36870,0,2376644,2413514,10326,2413514,0,0,2413514,17.575201804215979,13742823,100.07519640848193,229560.30972000025,50500,10327.085249000695,7.5201804215978996E-2,11173.72,null,0,null,41.090317331163547,null,655,"Dover Sherborn               ",1,13732496.655719997,11329309,2413514,null,2413514]
[658,"Dudley Charlton              ",1,39294595.160000004,17806070,24488263,null,24488263,38219798.009999998,18216746,20003052,0,50.11,3556,3338,0,100140,100140,24488263,24588403,0,24588403,0,0,24588403,64.334204470590294,42805149,111.99731874250165,-1074797.150000006,100140,5436462.2171890028,14.224204470590294,11449.91,null,0,null,30,null,658,"Dudley Charlton              ",1,38219798.009999998,18216746,24588403,null,24588403]
[660,"Nauset                       ",1,13928035.579999996,11407465,3526849,null,3526849,14255426.050142555,11760727,2494699,0,17.5,1196,1190.0000000119001,0,35700.000000357002,35700.000000357002,3526849,3562549.0000003572,1.6007106751203537E-10,3562549.0000003572,0,0,3562549.0000003572,24.990827965922012,15323276.000000358,107.49083153391354,327390.47014255822,35700.000000357162,1067849.4412254104,7.4908279659220121,11979.35,null,0,null,30.000000000000135,null,660,"Nauset                       ",1,14255426.050142555,11760727,3562549.0000003572,null,3562549]
[662,"Farmington River",1,2289345.04,1877720,494950,null,494950,2405493.8899999997,1931789,473705,0,17.5,208,210,0,6300,6300,494950,501250,0,501250,0,0,501250,20.837716615443163,2433039,101.14509166348373,116148.84999999963,6300,80288.569250000059,3.3377166154431634,11454.73,null,0,null,30,null,662,"Farmington River",1,2405493.8899999997,1931789,501250,null,501250]
[665,"Freetown Lakeville           ",1,30420774.669999998,20383874,11102173,null,11102173,30046775.879999999,21121724,8925052,0,29.03,2826,2715,0,81450,81450,11102173,11183623,0,11183623,0,0,11183623,37.220708952816942,32305347,107.51685015730214,-373998.78999999911,81450,2461043.9620360006,8.1907089528169408,11066.95,null,0,null,30,null,665,"Freetown Lakeville           ",1,30046775.879999999,21121724,11183623,null,11183623]
[670,"Frontier                     ",1,6668350.6099999994,5440174,2855535,null,2855535,6641609.6799999997,5465964,1175646,0,17.7,579,560,0,16800,16800,2855535,2872335,0,2872335,0,0,2872335,43.247573079302065,8338299,125.54635700904363,-26740.929999999702,16800,1696770.0866400001,25.547573079302065,11860.02,null,0,null,30,null,670,"Frontier                     ",1,6641609.6799999997,5465964,2872335,null,2872335]
[672,"Gateway                      ",1,10053035.289899468,5377560,5658699,null,5658699,9593037.4600000009,5218013,4375024,0,45.44,850.99999999148986,779.99999999999989,0,23399.999999999996,23399.999999999996,5658699,5682099,3.637978807091713E-12,5682099,0,0,5682099,59.231489751734998,10900112,113.62524169690879,-459997.82989946753,23400,1323022.7781759994,13.791489751735,12298.77,null,0,null,30.000000000000004,null,672,"Gateway                      ",1,9593037.4600000009,5218013,5682099,null,5682099]
[673,"Groton Dunstable             ",1,24034914.079999994,19807347,10920053,null,10920053,23977455.170000002,19781401,4196054,0,17.5,2317,2253,0,67590,67590,10920053,10987643,0,10987643,0,0,10987643,45.824892266913572,30769044,128.32489428860436,-57458.909999992698,67590,6791588.3452500002,28.324892266913572,10642.46,null,0,null,30,null,673,"Groton Dunstable             ",1,23977455.170000002,19781401,10987643,null,10987643]
[674,"Gill Montague                ",1,13224252.970000001,6123497,7100756,null,7100756,12355223.119999999,6065329,6289894,0,50.91,1074,970,0,29100,29100,7100756,7129856,0,7129856,0,0,7129856,57.707221721140399,13195185,106.79843554294308,-869029.85000000149,29100,839811.90960800089,6.7972217211404029,12737.34,null,0,null,30,null,674,"Gill Montague                ",1,12355223.119999999,6065329,7129856,null,7129856]
[675,"Hamilton Wenham              ",1,18910528.193439998,15169999,3742189,null,3742189,17836078.693319999,14714765,3121314,0,17.5,1780,1640,0,49200,49200,3742189,3791389,0,3791389,0,0,3791389,21.256852838510731,18506154,103.75685327588826,-1074449.5001199991,49200,670075.22866900032,3.7568528385107314,10875.66,null,0,null,30,null,675,"Hamilton Wenham              ",1,17836078.693319999,14714765,3791389,null,3791389]
[680,"Hampden Wilbraham            ",1,31697327.079999998,22048457,11920364,null,11920364,31633420.859999996,21974391,9659030,0,30.53,2919,2806,0,84180,84180,11920364,12004544,0,12004544,0,0,12004544,37.948927664600362,33978935,107.414671180776,-63906.220000002533,84180,2346860.6114420015,7.4189276646003606,11273.49,null,0,null,30,null,680,"Hampden Wilbraham            ",1,31633420.859999996,21974391,12004544,null,12004544]
[683,"Hampshire                    ",1,7581893.040000001,5141694,3271593,null,3271593,7385184.3199999994,5155929,2229255,0,29.41,672,638,0,19140,19140,3271593,3290733,0,3290733,0,0,3290733,44.558576433742957,8446662,114.37306956747696,-196708.7200000016,19140,1118750.2914880002,15.148576433742956,11575.52,null,0,null,30,null,683,"Hampshire                    ",1,7385184.3199999994,5155929,3290733,null,3290733]
[685,"Hawlemont                    ",1,1210178.3199999998,645856,636346,null,636346,1114456.54,626296,488161,0,43.34,93.000000000000014,79,0,2370,2370,636346,638716,0,638716,0,0,638716,57.31188046148484,1265012,113.50931638841654,-95721.779999999795,2370,155710.53556399996,13.971880461484837,14107.04,null,0,null,30,null,685,"Hawlemont                    ",1,1114456.54,626296,638716,null,638716]
[690,"King Philip                  ",1,22821189.415249996,18216801,7592980,null,7592980,23108672.780000001,18487068,4621605,0,19.149999999999999,2057,2024,0,60720,60720,7592980,7653700,0,7653700,0,0,7653700,33.12046551900675,26140768,113.12102710902637,287483.3647500053,60720,3228389.1626300002,13.970465519006751,11417.33,null,0,null,30,null,690,"King Philip                  ",1,23108672.780000001,18487068,7653700,null,7653700]
[695,"Lincoln Sudbury              ",1,17971715.490000002,14826665,3145998,null,3145998,18587999.26021,15335100,3252899,106901,17.5,1568,1586,1,47580,0,3217090,3264670,11771,3264670,0,0,3264670,17.563321120785954,18599770,100.06332440423105,616283.77020999789,118672,11770.129463250283,6.3321120785953866E-2,11720.05,null,0,null,74.824716267339213,null,695,"Lincoln Sudbury              ",1,{"$f":"I391","v":18587999.26021},{"$f":"J391","v":15335100},3264670,null,3264670]
[698,"Manchester Essex",1,14540612.442779997,11993491,3048668,null,3048668,13975373.452520002,11529683,2445690,0,17.5,1348,1253,0,37590,37590,3048668,3086258,0,3086258,0,0,3086258,22.083545820691427,14615941,104.58354511710378,-565238.99025999568,37590,640567.64580899989,4.5835458206914268,11153.53,null,0,null,30,null,698,"Manchester Essex",1,13975373.452520002,11529683,{"$f":"Y392","v":3086258},null,3086258]
[700,"Marthas Vineyard             ",1,10520255.699999999,8507902,2875680,null,2875680,11375989.939999998,9214998,2160992,0,{"$f":"ROUND(100-SUMIF(fraclea,A393,memeffpct),2)","v":17.5},711,737,0,22110,22110,2875680,2897790,0,2897790,0,0,2897790,25.472860078847791,12112788,106.47678192303326,855734.23999999836,22110,906991.76050000056,7.9728600788477912,15435.54,null,0,null,30,null,700,"Marthas Vineyard             ",1,11375989.939999998,9214998,2897790,null,2897790]
[705,"Masconomet                   ",1,19718785.499960002,16147421,5201349,null,5201349,{"$f":"SUMIF(dist1755,A394,found1755)","v":19942249.616000004},{"$f":"SUMIF(dist1755,A394,prelcont1755)","v":16452356},{"$f":"ROUND(MAX(found-prelcont436,0),0)","v":3489894},{"$f":"IF(foundaid>priorc70,foundaid-priorc70,0)","v":0},17.5,1776,{"$f":"SUMIF(dist1755,A394,enro1755)","v":1732.9999999999998},{"$f":"IF(AND(C394=1,L394>0),1,0)","v":0},{"$f":"IF(nonop=1,enro*$Q$6,0)","v":51989.999999999993},{"$f":"IF((foundinc)<Q394,Q394-(foundinc),0)","v":51989.999999999993},5201349,{"$f":"S394+30*enro","v":5253339},{"$f":"IF(T394-priorc70-foundinc-minaid>0,T394-priorc70-foundinc-minaid,0)","v":7.2759576141834259E-12},{"$f":"priorc70+foundinc+minaidadjincrement+minaid","v":5253339},{"$f":"IF(AND(C394=0,V394>found),V394-found,0)","v":0},{"$f":"MAX(AT394-(priorc70+foundinc+minaidadjincrement+minaid-rednonop),0)","v":0},{"$f":"priorc70+foundinc+minaidadjincrement+minaid-rednonop+holdharmlessaid","v":5253339},{"$f":"IF(C394=1, Y394/I394*100, 0)","v":26.342760225933375},{"$f":"prelcont436+chapter70","v":21705695},{"$f":"IF(found>0,AA394*100/found,0)","v":108.84276056090059},{"$f":"I394-D394","v":223464.11604000255},{"$f":"Y394-F394","v":51990},{"$f":"Y394-((M394/100)*I394)","v":1763445.3171999995},{"$f":"IF(C394=1, (Y394/I394*100)-M394, \"\")","v":8.8427602259333753},{"$f":"IFERROR(ROUND(I394/O394, 2), 0)","v":11507.36},null,{"$f":"VLOOKUP(A394, disthist, 37, FALSE)*$H$6","v":0},null,{"$f":"IFERROR(AD394/O394, 0)","v":30.000000000000004},null,{"$f":"A394","v":705},{"$f":"B394","v":"Masconomet                   "},{"$f":"C394","v":1},19942249.616000004,16452356,5253339,null,5253339]
[710,"Mendon Upton                 ",1,22739749.350000001,16799739,12448756,null,{"$f":"F395+G395","v":12448756},22629367.129999995,17240401,5388966,0,23.82,2177,2103,0,63090,63090,12448756,12511846,0,12511846,0,0,12511846,55.290304532701271,29752247,131.47626634488211,-110382.22000000626,63090,7121530.7496340014,31.47030453270127,10760.52,null,0,null,30,null,710,"Mendon Upton                 ",1,22629367.129999995,17240401,12511846,null,12511846]
[712,"Monomoy",1,21026943.91,17347229,3798314,null,3798314,20768967.640000001,17123821,3645147,0,17.5,1794,1732,0,51960,51960,3798314,3850274,0,3850274,0,0,3850274,18.53859116514084,20974095,100.98766276473431,-257976.26999999955,51960,215704.66300000018,1.0385911651408399,11991.32,null,0,null,30,null,712,"Monomoy",1,20768967.640000001,17123821,3850274,null,3850274]
[715,"Mount Greylock               ",1,11284468.84,8495288,3554057,null,3554057,11519400.35,8440595,3078805,0,26.73,1044,1014,0,30420,30420,3554057,3584477,0,3584477,0,0,3584477,31.116871461108651,12025072,104.38973934958342,234931.50999999978,30420,505341.28644500021,4.386871461108651,11360.36,null,0,null,30,null,715,"Mount Greylock               ",1,11519400.35,8440595,3584477,null,3584477]
[717,"Mohawk Trail                 ",1,10427668.720104279,6461323,6056894,null,6056894,9675020.5800967515,6376119,3298902,0,33.1,901.00000000900991,816.00000000816021,0,24480.000000244807,24480.000000244807,6056894,6081374.0000002449,1.3096723705530167E-10,6081374.0000002449,0,0,6081374.0000002449,62.856445106801317,12457493.000000246,128.75934368168205,-752648.14000752755,24480.000000244938,2878942.1879882202,29.756445106801316,11856.64,null,0,null,30.00000000000016,null,717,"Mohawk Trail                 ",1,9675020.5800967515,6376119,6081374.0000002449,null,6081374]
[720,"Narragansett                 ",1,15197160.489999998,5910692,9951444,null,9951444,14626287.25,6105079,8521208,0,56.93,1302,1234,0,37020,37020,9951444,9988464,0,9988464,0,0,9988464,68.291178952471341,16093543,110.0316349933576,-570873.23999999836,37020,1661718.668575,11.361178952471342,11852.74,null,0,null,30,null,720,"Narragansett                 ",1,14626287.25,6105079,9988464,null,9988464]
[725,"Nashoba                      ",1,33255128.344112549,26177398,7273744,null,7273744,34773057.486100003,26910918,7862139,588395,20.5,3083.0000000308301,3138,1,94140,0,7658531,7752671,0,7862139,0,4935,7867074,22.624050252540325,34777992,100.01419062416922,1517929.1419874541,593330,738597.21534950007,2.1240502525403251,11081.28,null,0,null,189.07903123008285,null,725,"Nashoba                      ",1,34773057.486100003,26910918,7867074,null,7867074]
[728,"New Salem Wendell            ",1,1245264.42,622259,688101,null,688101,1358881.8199999998,631626,727256,39155,53.52,109,106,1,3180,0,688101,691281,0,727256,0,0,727256,53.518708492251378,1358882,100.00001324618502,113617.39999999991,39155,-17.550063999951817,-1.29150774862552E-3,12819.64,null,0,null,369.38679245283021,null,728,"New Salem Wendell            ",1,1358881.8199999998,631626,727256,null,727256]
[730,"Northboro Southboro          ",1,16134802.42,13311213,3168064,null,3168064,16306106.100000001,13325314,2980792,0,17.5,1414,1384,0,41520,41520,3168064,3209584,0,3209584,0,0,3209584,19.683325867725095,16534898,101.40310567462822,171303.68000000156,41520,356015.43250000011,2.1833258677250953,11781.87,null,0,null,30,null,730,"Northboro Southboro          ",1,16306106.100000001,13325314,3209584,null,3209584]
[735,"North Middlesex              ",1,34146333.740000002,19126198,20393183,null,20393183,33474930.930334739,19920829,13554102,0,39.89,3158,2991.0000000299101,0,89730.0000008973,89730.0000008973,20393183,20482913.000000898,4.9476511776447296E-10,20482913.000000898,0,0,20482913.000000898,61.188813332067049,40403742.000000894,120.69850744154134,-671402.8096652627,89730.000000897795,7129763.0518903695,21.298813332067049,11191.89,null,0,null,30.000000000000163,null,735,"North Middlesex              ",1,33474930.930334739,19920829,20482913.000000898,null,20482913]
[740,"Old Rochester                ",1,12077635.709879227,9154169,3043394,null,3043394,12039903.340120399,9317336,2722567,0,22.22,1087.9999999891199,1050.0000000104999,0,31500.000000314998,31500.000000314998,3043394,3074894.0000003148,0,3074894.0000003148,0,0,3074894.0000003148,25.539191745451056,12392230.000000315,102.92632465499837,-37732.369758827612,31500.000000314787,399627.47782556247,3.3191917454510573,11466.57,null,0,null,29.999999999999801,null,740,"Old Rochester                ",1,12039903.340120399,9317336,3074894.0000003148,null,3074894]
[745,"Pentucket                    ",1,24591001.459999997,18039518,13182092,null,13182092,24481014.440000001,18526892,5954122,0,23.22,2337,2269,0,68070,68070,13182092,13250162,0,13250162,0,0,13250162,54.124235874598014,31777054,129.80284815354244,-109987.01999999583,68070,7565670.4470319999,30.904235874598015,10789.34,null,0,null,30,null,745,"Pentucket                    ",1,24481014.440000001,18526892,13250162,null,13250162]
[750,"Pioneer                      ",1,7480877.54,4952541,4170581,null,4170581,7287026.7699271282,4945385,2341642,0,31.88,664,617.9999999938201,0,18539.999999814601,18539.999999814601,4170581,4189120.9999998147,6.5483618527650833E-11,4189120.9999998147,0,1.8533319234848022E-7,4189121,57.487383157258421,9134506,125.35299084802658,-193850.77007287182,18540,1866016.8657472315,25.607383157258422,11791.31,null,0,null,30.000000000299995,null,750,"Pioneer                      ",1,7287026.7699271282,4945385,4189121,null,4189121]
[753,"Quabbin                      ",1,21987482.310000002,10612170,16646098,null,16646098,22572922.539774276,10987702,11585221,0,50,1941.0000000000002,1913.9999999808599,0,57419.999999425796,57419.999999425796,16646098,16703517.999999426,5.0931703299283981E-10,16703517.999999426,0,5.7369470596313477E-7,16703518,73.998030031635551,27691220,122.67450061553663,585440.22977427393,57420,5417056.7301128618,23.998030031635551,11793.59,null,0,null,30.000000000300002,null,753,"Quabbin                      ",1,22572922.539774276,10987702,16703518,null,16703518]
[755,"Ralph C Mahar                ",1,7840085.4000000013,2752972,5432010,null,5432010,8156581.7700000005,2902578,5254004,0,63.38,619,611,0,18330,18330,5432010,5450340,0,5450340,0,0,5450340,66.821373875591021,8352918,102.40708958159564,316496.36999999918,18330,280698.47417399939,3.4413738755910188,13349.56,null,0,null,30,null,755,"Ralph C Mahar                ",1,8156581.7700000005,2902578,5450340,null,5450340]
[760,"Silver Lake                  ",1,20918448.416320004,13276729,8215063,null,8215063,21627662.329539999,13837284,7790378,0,35.479999999999997,1722,1701,0,51030,51030,8215063,8266093,0,8266093,0,0,8266093,38.220002116039197,22103377,102.19956583014637,709213.9132199958,51030,592598.4054792095,2.7400021160392001,12714.68,null,0,null,30,null,760,"Silver Lake                  ",1,21627662.329539999,13837284,8266093,null,8266093]
[763,"Somerset Berkley",1,12334812.139999997,6312225,6024105,null,6024105,12639534.48,6636166,6003368,0,45.88,1027,1024,0,30720,30720,6024105,6054825,0,6054825,0,0,6054825,47.90386077573325,12690991,100.40710771493539,304722.34000000358,30720,255806.58057599887,2.0238607757332474,12343.3,null,0,null,30,null,763,"Somerset Berkley",1,12639534.48,6636166,6054825,null,6054825]
[765,"Southern Berkshire           ",1,7868392.9199999999,6306994,1986791,null,1986791,7970637.4099999983,6494543,1476094,0,17.5,671,670,0,20100,20100,1986791,2006891,0,2006891,0,0,2006891,25.178550933481748,8501434,106.65939952724561,102244.48999999836,20100,612029.45325000049,7.6785509334817483,11896.47,null,0,null,30,null,765,"Southern Berkshire           ",1,7970637.4099999983,6494543,2006891,null,2006891]
[766,"Southwick Tolland Granville",1,16651613.440000001,10981419,9846558,null,9846558,15958927.809999997,11074236,4884692,0,30.61,1414,1321.0000000000002,0,39630.000000000007,39630.000000000007,9846558,9886188,0,9886188,0,0,9886188,61.947695469900133,20960424,131.33980082838664,-692685.63000000454,39630,5001160.1973590013,31.337695469900133,12080.94,null,0,null,29.999999999999996,null,766,"Southwick Tolland Granville",1,15958927.809999997,11074236,9886188,null,9886188]
[767,"Spencer East Brookfield      ",1,18621361.77,8878789,13695254,null,13695254,18910770.789999999,9144752,9766019,0,49.98,1552,1516,0,45480,45480,13695254,13740734,0,13740734,0,0,13740734,72.660888086413109,22885486,121.01826125512466,289409.01999999955,45480,4289130.7591580003,22.680888086413113,12474.12,null,0,null,30,null,767,"Spencer East Brookfield      ",1,18910770.789999999,9144752,13740734,null,13740734]
[770,"Tantasqua                    ",1,20061782.279999997,10777102,9284680,null,9284680,20438009.030000001,11223460,9214549,0,43.99,1572,1549,0,46470,46470,9284680,9331150,0,9331150,0,0,9331150,45.65586592267006,20554610,100.57051041434049,376226.75000000373,46470,340469.82770299911,1.6658659226700578,13194.32,null,0,null,30,null,770,"Tantasqua                    ",1,20438009.030000001,11223460,9331150,null,9331150]
[773,"Triton                       ",1,26062844.622510001,21501846,8777631,null,8777631,24917419.660840005,20556872,4360548,0,17.5,2290,2127,0,63810,63810,8777631,8841441,0,8841441,0,0,8841441,35.482971833938052,29398313,117.98297496350365,-1145424.9616699964,63810,4480892.5593529996,17.982971833938052,11714.82,null,0,null,30,null,773,"Triton                       ",1,24917419.660840005,20556872,8841441,null,8841441]
[774,"Upisland",1,4423020.3299557688,3648991,879292,null,879292,4428346.7900442835,3653385,774962,0,17.5,400.99999999598992,393.00000000392998,0,11790.0000001179,11790.0000001179,879292,891082.00000011793,2.9103830456733704E-11,891082.00000011793,0,0,891082.00000011793,20.122227148140922,4544467.0000001183,102.62220226782811,5326.4600885147229,11790.000000117929,116121.31174236839,2.6222271481409223,11268.06,null,0,null,30.000000000000075,null,774,"Upisland",1,4428346.7900442835,3653385,891082.00000011793,null,891082]
[775,"Wachusett                    ",1,73935156.649260655,44374979,29560178,null,29560178,73176176.700000003,45202423,27973754,0,38.130000000000003,7025.9999999297406,6728,0,201840,201840,29560178,29762018,0,29762018,0,0,29762018,40.671731350512061,74964441,102.44377935640357,-758979.94926065207,201840,1859941.8242899962,2.5417313505120589,10876.36,null,0,null,30,null,775,"Wachusett                    ",1,73176176.700000003,45202423,29762018,null,29762018]
[778,"Quaboag",1,14111900.640000004,5557868,9158560,null,9158560,14365916.490000002,5833977,8531939,0,58.5,1175,1118,0,33540,33540,9158560,9192100,0,9192100,0,0,9192100,63.985475666648526,15026077,104.5953247080305,254015.84999999776,33540,788038.85334999859,5.4854756666485258,12849.66,null,0,null,30,null,778,"Quaboag",1,14365916.490000002,5833977,9192100,null,9192100]
[780,"Whitman Hanson               ",1,40183483.009999998,20355354,24776700,null,24776700,40067180.660000011,21155625,18911556,0,44.85,3659,3528,0,105840,105840,24776700,24882540,0,24882540,0,0,24882540,62.102048584718148,46038165,114.90243196961687,-116302.34999998659,105840,6912409.4739899933,17.252048584718146,11356.91,null,0,null,30,null,780,"Whitman Hanson               ",1,40067180.660000011,21155625,24882540,null,24882540]
[801,"Assabet Valley               ",1,16217721.547997823,10027775,6208186,null,6208186,17308906.848700002,10888732,6420175,211989,35.28,871.99999999127999,891,1,26730,0,6208186,6234916,0,6420175,0,897,6421072,37.096923890847904,17309804,100.00518317712286,1091185.3007021789,212886,314489.6637786394,1.8169238908479031,19426.38,null,0,null,238.92929292929293,null,801,"Assabet Valley               ",1,17308906.848700002,10888732,6421072,null,6421072]
[805,"Blackstone Valley            ",1,20447639.179795522,12329585,8264744,null,8264744,20972471.779999997,13049503,7922969,0,37.24,1241.9999999875804,1243,0,37290,37290,8264744,8302034,0,8302034,0,0,8302034,39.585386439366097,21351537,101.80744179311039,524832.60020447522,37290,491885.50912800059,2.345386439366095,16872.46,null,0,null,30,null,805,"Blackstone Valley            ",1,20972471.779999997,13049503,8302034,null,8302034]
[806,"Blue Hills                   ",1,15853872.642718541,10498516,5377315,null,5377315,16985563.998199999,11273090,5712474,335159,31.65,869.00000000868999,896,1,26880,0,5495494,5522374,0,5712474,0,853,5713327,33.636369099109423,16986417,100.00502192214572,1131691.3554814588,336012,337395.99456970021,1.9863690991094245,18957.099999999999,null,0,null,375.01339285714283,null,806,"Blue Hills                   ",1,16985563.998199999,11273090,5713327,null,5713327]
[810,"Bristol Plymouth             ",1,23238134.84,11152285,12133330,null,12133330,24404455.759999998,12064493,12339963,206633,50.06,1342,1355,1,40650,0,12257136,12297786,0,12339963,0,2002,12341965,50.572588552575048,24406458,100.00820440340769,1166320.9199999981,208635,125094.44654399902,0.51258855257504621,18010.669999999998,null,0,null,153.97416974169741,null,810,"Bristol Plymouth             ",1,24404455.759999998,12064493,12341965,null,12341965]
[815,"Cape Cod                     ",1,11419229.199999999,9275007,2184147,null,2184147,11917313.979880825,9759779,2157535,0,17.5,622.00000000000011,632.99999999366992,0,18989.999999810098,18989.999999810098,2184147,2203136.99999981,0,2203136.99999981,0,1.8998980522155762E-7,2203137,18.486858731081547,11962916,100.38265350897159,498084.77988082543,18990,117607.05352085573,0.98685873108154709,18826.72,null,0,null,30.000000000300005,null,815,"Cape Cod                     ",1,11917313.979880825,9759779,2203137,null,2203137]
[817,"Essex North Shore",1,19917637.840199184,14966372,4972500,null,4972500,22210361.840000004,16751014,5459348,486848,{"$f":"ROUND(100-SUMIF(fraclea,A425,memeffpct),2)","v":22.9},1165.0000000116499,1224.9999999999998,1,36749.999999999993,0,5108382,5145132,0,5459348,0,592,5459940,24.582850290024808,22210954,100.00266614296635,2292723.9998008199,487440,373767.13863999955,1.6828502900248097,18130.91,null,0,null,397.91020408163274,null,817,"Essex North Shore",1,22210361.840000004,16751014,5459940,null,5459940]
[818,"Franklin County              ",1,8790347.6998241916,4547736,4242612,null,4242612,10081677.069899183,5276878,4804799,562187,47.23,484.99999999029995,531.99999999468002,1,15959.9999998404,0,4242612,4258571.9999998407,0,4804799,0,424,4805223,47.662933127930991,10082101,100.00420495615836,1291329.3700749911,562611,43646.91988661699,0.43293312793099403,18950.52,null,0,null,1057.5394736947858,null,818,"Franklin County              ",1,10081677.069899183,5276878,4805223,null,4805223]
[821,"Greater Fall River           ",1,26716946.030000001,8563722,18196847,null,18196847,28548221.689714517,8806953,19741269,1544422,66.58,1498,1497.9999999850199,1,44939.9999995506,0,18619311,18664250.999999549,0,19741269,0,387,19741656,69.151964050750721,28548609,100.00135668795659,1831275.6597145163,1544809,734249.99898807704,2.5719640507507222,19057.560000000001,null,0,null,1031.2476635617145,null,821,"Greater Fall River           ",1,28548221.689714517,8806953,19741656,null,19741656]
[823,"Greater Lawrence             ",1,32861439.491759997,4907043,27954396,null,27954396,35868845.641520008,5883228,29985618,2031222,76.16,1594,1645,1,49350,0,28701251,28750601,0,29985618,0,0,29985618,83.597945413916875,35868846,100.00000099941882,3007406.1497600116,2031222,2667905.1594183631,7.4379454139168786,21804.77,null,0,null,1234.7854103343466,null,823,"Greater Lawrence             ",1,35868845.641520008,5883228,29985618,null,29985618]
[825,"Greater New Bedford          ",1,38691322.399999999,11380986,27384112,null,27384112,41130342.100000001,12175349,28954993,1570881,66.52,2128,2123,1,63690,0,27400729,27464419,0,28954993,0,1013,28956006,70.400596060201508,41131355,100.00246265882626,2439019.700000003,1571894,1596102.4350799993,3.8805960602015119,19373.689999999999,null,0,null,740.41168158266601,null,825,"Greater New Bedford          ",1,41130342.100000001,12175349,28956006,null,28956006]
[828,"Greater Lowell               ",1,43544496.41956456,14050785,29582555,null,29582555,46396730.020000003,14488947,31907783,2325228,66.55,2351.99999997648,2373,1,71190,0,30339460,30410650,0,31907783,0,0,31907783,68.771620297908214,46396730,99.999999956893504,2852233.6004354432,2325228,1030759.1716899984,2.2216202979082169,19551.93,null,0,null,979.86852085967132,null,828,"Greater Lowell               ",1,46396730.020000003,14488947,31907783,null,31905010]
[829,"South Middlesex              ",1,15367478.658029996,9170454,6197025,null,6197025,16551959.786334479,10013400,6538560,341535,38.31,798,816.99999999183001,1,24509.999999754902,0,6265093,6289602.9999997551,0,6538560,0,10392,6548952,39.566021694946976,16562352,100.06278539701444,1184481.1283044834,351927,207896.20585526153,1.2560216949469734,20259.439999999999,null,0,null,430.7552019626919,null,829,"South Middlesex              ",1,16551959.786334479,10013400,6548952,null,6548952]
[830,"Minuteman                    ",1,7604263.0698360428,5992288,1977748,null,1977748,9892046.4984500017,7861244,2030802,53054,18.899999999999999,409.00000000408994,491,1,14730,0,1977748,1992478,0,2030802,0,537,2031339,20.535073306805558,9892583,100.00542356478088,2287783.4286139589,53591,161742.21179295005,1.635073306805559,20146.73,null,0,null,109.14663951120163,null,830,"Minuteman                    ",1,9892046.4984500017,7861244,2031339,null,2031339]
[832,"Montachusett                 ",1,25382631.02025383,9937436,15445809,null,15445809,25893443.339741066,10458906,15434537,0,57.64,1470.0000000146999,1460.9999999853901,0,43829.999999561704,43829.999999561704,15445809,15489638.999999562,5.7480065152049065E-10,15489638.999999562,0,4.377216100692749E-7,15489639,59.82069976852641,25948545,100.21280159434943,510812.31948723644,43830,564658.2589732483,2.1806997685264093,17723.099999999999,null,0,null,30.000000000299998,null,832,"Montachusett                 ",1,25893443.339741066,10458906,15489639,null,15489639]
[851,"Northern Berkshire           ",1,8244375,3172855,5071520,null,5071520,8582446.4999999981,3268863,5313584,242064,61.25,461.00000000000006,462.99999999999994,1,13889.999999999998,0,5299065,5312955,0,5313584,0,2557,5316141,61.942023174860473,8585004,100.02979919536931,338071.49999999814,244621,59392.518750000745,0.69202317486047349,18536.599999999999,null,0,null,528.33909287257029,null,851,"Northern Berkshire           ",1,8582446.4999999981,3268863,5316141,null,5316141]
[852,"Nashoba Valley               ",1,11332310.899736676,8006848,3717284,null,3717284,11843081.30975157,8677220,3165861,0,26.54,653.99999999346005,666.99999999332999,0,20009.9999997999,20009.9999997999,3717284,3737293.9999997998,0,3737293.9999997998,0,2.0023435354232788E-7,3737294,31.556770592486931,12414514,104.82503391898452,510770.41001489386,20010,594140.22039193381,5.0167705924869317,17755.740000000002,null,0,null,30.000000000300002,null,852,"Nashoba Valley               ",1,11843081.30975157,8677220,3737294,null,3737294]
[853,"Northeast Metropolitan       ",1,23843254.848850004,13124735,10745350,null,10745350,25599015.769705985,14354270,11244746,499396,40.78,1271,1281.0000000128102,1,38430.000000384309,0,10745350,10783780.000000384,0,11244746,0,167,11244913,43.927130250481319,25599183,100.00065326845188,1755760.9208559804,499563,805634.36911389977,3.1471302504813181,19983.62,null,0,null,389.97892271272775,null,853,"Northeast Metropolitan       ",1,25599015.769705985,14354270,11244913,null,11244913]
[855,"Old Colony                   ",1,7921696.2200000016,4845112,3282354,null,3282354,8771732.7200877182,5624848,3146885,0,35.31,467,498.00000000498,0,14940.000000149399,14940.000000149399,3282354,3297294.0000001495,7.8216544352471828E-11,3297294.0000001495,0,0,3297294.0000001495,37.589996243834207,8922142.000000149,101.71470432025346,850036.50008771662,14940.000000149477,199995.17653717613,2.279996243834205,17613.919999999998,null,0,null,30.000000000000156,null,855,"Old Colony                   ",1,8771732.7200877182,5624848,3297294.0000001495,null,3297294]
[860,"Pathfinder                   ",1,10484384.559895158,4455062,6051178,null,6051178,10521613.089894783,4559455,5962158,0,56.13,577.99999999422005,560.9999999943899,0,16829.999999831696,16829.999999831696,6051178,6068007.9999998314,0,6068007.9999998314,0,1.6856938600540161E-7,6068008,57.671841267646165,10627463,101.00602359353888,37228.529999624938,16830,162226.57264205813,1.5418412676461628,18755.099999999999,null,0,null,30.000000000300005,null,860,"Pathfinder                   ",1,10521613.089894783,4559455,6068008,null,6068008]
[871,"Shawsheen Valley             ",1,21443569.573314432,17321815,6470511,null,6470511,22505083.522360001,18566695,3938389,0,17.5,1275.0000000127498,1315,0,39450,39450,6470511,6509961,0,6509961,0,0,6509961,28.926624482561934,25076656,111.42662934392136,1061513.9490455687,39450,2571571.383587,11.426624482561934,17114.13,null,0,null,30,null,871,"Shawsheen Valley             ",1,22505083.522360001,18566695,6509961,null,6509961]
[872,"Southeastern                 ",1,26978734.039999999,10323654,16871155,null,16871155,31199664.219999995,11824738,19374926,2503771,60.26,1516.9999999999998,1623.9999999999995,1,48719.999999999985,0,18112506,18161226,0,19374926,0,256,19375182,62.100610645610345,31199920,100.00081981651533,4220930.179999996,2504027,574264.34102800116,1.8406106456103473,19211.62,null,0,null,1541.8885467980299,null,872,"Southeastern                 ",1,31199664.219999995,11824738,19375182,null,19375182]
[873,"South Shore                  ",1,9696307.4090200011,5540283,4442848,null,4442848,10334881.008950002,6044013,4290868,0,40.369999999999997,544,561,0,16830,16830,4442848,4459678,0,4459678,0,0,4459678,43.151711143436685,10503691,101.63340043203021,638573.59993000142,16830,287486.5366868847,2.7817111434366879,18422.25,null,0,null,30,null,873,"South Shore                  ",1,10334881.008950002,6044013,4459678,null,4459678]
[876,"Southern Worcester           ",1,20163226.599596739,8939018,11243208,null,11243208,21417723.040214177,9831831,11585892,342684,53.19,1176.99999997646,1200.0000000119999,1,36000.00000036,0,11419626,11455626.000000359,0,11585892,0,648,11586540,54.097907505130081,21418371,100.00302534393879,1254496.4406174384,343332,194453.11491008103,0.90790750513008334,17848.099999999999,null,0,null,286.10999999713891,null,876,"Southern Worcester           ",1,21417723.040214177,9831831,11586540,null,11586540]
[878,"Tri County                   ",1,16446455.91653554,11583064,5716838,null,5716838,16893468.743349999,12199549,4693920,0,27.24,929.99999999069996,905,0,27150,27150,5716838,5743988,0,5743988,0,0,5743988,34.001234958102266,17943537,106.21582383466009,447012.82681445964,27150,1142207.1143114604,6.7612349581022677,18666.82,null,0,null,30,null,878,"Tri County                   ",1,16893468.743349999,12199549,5743988,null,5743988]
[879,"Upper Cape Cod               ",1,12856564.119999999,9721410,3262258,null,3262258,13571524.320135718,10320217,3251307,0,23.25,742,761.00000000760997,0,22830.000000228298,22830.000000228298,3262258,3285088.0000002282,0,3285088.0000002282,0,0,3285088.0000002282,24.205740803383659,13605305.000000227,100.24890851659447,714960.20013571903,22830.000000228174,129708.59556867369,0.95574080338365874,17833.8,null,0,null,29.999999999999837,null,879,"Upper Cape Cod               ",1,13571524.320135718,10320217,3285088.0000002282,null,3285088]
[885,"Whittier                     ",1,22219393.409999993,11408976,10835866,null,10835866,22987502.880689632,11920144,{"$f":"ROUND(MAX(found-prelcont436,0),0)","v":11067359},231493,46.34,1256.0000000000002,1244.0000000373198,1,37320.000001119595,0,10835866,10873186.000001119,0,11067359,0,481,11067840,48.14720440686667,22987984,100.00209296030485,768109.47068963945,231974,415431.16508842446,1.8072044068666671,18478.7,null,0,null,186.47427652173701,null,885,"Whittier                     ",1,22987502.880689632,11920144,11067840,null,11067840]
[910,"Bristol County               ",1,6594994.5600000005,3396297,3238896,null,3238896,6769003.2801353801,3495898,3273105,34209,47.01,378,382.00000000763993,1,11460.000000229198,0,3280301,3291761.0000002291,18656.000000229105,3291761.0000002291,0,13.999999770894647,3291775,48.630128598994624,6787673,100.27581194884938,174008.72013537958,52879,109666.55800835788,1.6201285989946257,17719.900000000001,null,0,null,138.42670156791212,null,910,"Bristol County               ",1,6769003.2801353801,3495898,3291775,null,3291775]
[915,"Norfolk County               ",1,4921619.8021892179,3697896,1291559,null,1291559,5268916.5291999988,3999047,1269870,0,22.6,274.00000000274008,284.00000000000006,0,8520.0000000000018,8520.0000000000018,1291559,1300079,0,1300079,0,0,1300079,24.674503625082032,5299126,100.57335261685363,347296.72701078095,8520,109303.86440080032,2.0745036250820306,18552.52,null,0,null,29.999999999999993,null,915,"Norfolk County               ",1,5268916.5291999988,3999047,1300079,null,1300079]
[999,"State total (excluding Devens)",null,11626531095.326303,6705321561,5283343073.4799995,{"$f":"SUM(G10:G447)","v":0},5283343073.4799995,11926225791.726231,6827673657,5098552128,199286644.40000001,41,938084.99999988743,{"$f":"SUM(O10:O447)","v":907506.00000004878},{"$f":"SUM(P10:P447)","v":80},null,{"$f":"SUM(R10:R447)","v":16714836.000000218},5298268259.8000002,{"$f":"SUM(T10:T447)","v":5325493439.8000011},3553119.000000231,5502897672.8800001,{"$f":"SUM(W10:W447)","v":31346.879999999997},93340.600002262174,5502959666.6000013,null,{"$f":"SUM(AA10:AA447)","v":12330633323.6},103.39090957136101,null,219616593.12000179,null,null,null,null,{"$f":"SUM(AI10:AI447)","v":0},null,242.00015550309308,null,{"$f":"A448","v":999},{"$f":"B448","v":"State total (excluding Devens)"},null,11926225791.726231,6827673657,5502959666.6000013,null,{"$f":"SUM(AT10:AT447)","v":5502937202}]
[352,"Devens",0,null,null,308558,null,null,null,null,null,null,null,null,null,null,null,null,null,null,null,null,null,null,308558,null,null,null,null,null,{"$f":"SUMIF(AE10:AE447, \">0\")","v":613176960.0129298},null,null,null,null,null,null,null,null,null,null,null,null,null,null,308558]
[null,null,null,null,null,{"$f":"F448+F449","v":5283651631.4799995},null,null,null,{"$f":"J441-E441","v":503730},null,null,null,null,null,null,null,null,null,null,null,null,null,null,{"$f":"Y448+Y449","v":5503268224.6000013},null,null,null,null,null,{"$f":"SUMIF(AE10:AE447, \"<0\")","v":-1771.9228420077125},null,null,null,null,null,null,null,null,null,null,null,null,null,null,5503245746]
[null,null,null,null,null,null,null,null,null,null,null,{"$f":"COUNTIF(L10:L447, \">0\")","v":94},null,null,null,null,null,null,null,null,{"$f":"COUNTIF(U10:U447, \">0.0001\")","v":66}]
[]
[null,null,null,null,null,null,null,null,null,null,null,null,null,null,null,null,null,null,null,null,{"$f":"COUNTIFS(U10:U447, \">0.0001\",C10:C447,\"=1\")","v":16}]
[null,null,null,null,null,null,null,null,null,null,null,null,null,null,null,null,null,null,null,null,{"$f":"SUMIF(C10:C447,\"=1\",U10:U447)","v":3531289.000000231}]

{"sheet":"ceyregionalcalc","index":14,"n_rows":813,"n_cols":8,"rows_kept":813,"cut":false,"hidden":false,"merged":[]}
[null,null,null,null,null,"Total CEY for town","FB for school district/town combo","CEY*% of town's fb"]
["Calculation of CEY as a % of Foundation"]
[]
[]
[]
[]
[null,null,null,null,null,{"$f":"CYr&\" Total\"","v":"FY22 Total"},{"$f":"CYr&\" Proportional\"","v":"FY22 Proportional"},{"$f":"CYr&\" Prop\"","v":"FY22 Prop"}]
[null,null,null,null,null,"CEY","Foundation","CEY"]
["Order","LEA","City or Town","LEA","School District","Members","Members","Members"]
[1,1,"Abington                     ",1,"Abington",{"$f":"VLOOKUP(B10, town351, 7)","v":17003062},{"$f":"VLOOKUP(A10, localcont!$D$10:$L$1764, 8)","v":26529795.66124},{"$f":"VLOOKUP(A10, localcont!$D$10:$L$1764, 9)*F10","v":16023889.244491164}]
[2,1,"Abington                     ",873,"South Shore",17003062,{"$f":"VLOOKUP(A11, localcont!$D$10:$L$1764, 8)","v":1621157.8053457548},{"$f":"VLOOKUP(A11, localcont!$D$10:$L$1764, 9)*F11","v":979172.75550883636}]
[6,2,"Acton                        ",2,"Acton",39951802,{"$f":"VLOOKUP(A12, localcont!$D$10:$L$1764, 8)","v":0},{"$f":"VLOOKUP(A12, localcont!$D$10:$L$1764, 9)*F12","v":0}]
[7,2,"Acton                        ",600,"Acton Boxborough",39951802,{"$f":"VLOOKUP(A13, localcont!$D$10:$L$1764, 8)","v":48416592.184061058},{"$f":"VLOOKUP(A13, localcont!$D$10:$L$1764, 9)*F13","v":38962814.961641267}]
[8,2,"Acton                        ",830,"Minuteman",39951802,{"$f":"VLOOKUP(A14, localcont!$D$10:$L$1764, 8)","v":1228950.7870177776},{"$f":"VLOOKUP(A14, localcont!$D$10:$L$1764, 9)*F14","v":988987.03835873201}]
[11,3,"Acushnet                     ",3,"Acushnet",9467763,{"$f":"VLOOKUP(A15, localcont!$D$10:$L$1764, 8)","v":13489100.060000001},{"$f":"VLOOKUP(A15, localcont!$D$10:$L$1764, 9)*F15","v":7882116.7439222056}]
[12,3,"Acushnet                     ",855,"Old Colony",9467763,{"$f":"VLOOKUP(A16, localcont!$D$10:$L$1764, 8)","v":2536404.6419625869},{"$f":"VLOOKUP(A16, localcont!$D$10:$L$1764, 9)*F16","v":1482103.1357799352}]
[13,3,"Acushnet                     ",910,"Bristol County",9467763,{"$f":"VLOOKUP(A17, localcont!$D$10:$L$1764, 8)","v":177199.03873530435},{"$f":"VLOOKUP(A17, localcont!$D$10:$L$1764, 9)*F17","v":103543.12029786083}]
[16,4,"Adams                        ",4,"Adams",4522027,{"$f":"VLOOKUP(A18, localcont!$D$10:$L$1764, 8)","v":0},{"$f":"VLOOKUP(A18, localcont!$D$10:$L$1764, 9)*F18","v":0}]
[17,4,"Adams                        ",603,"Hoosac Valley",4522027,{"$f":"VLOOKUP(A19, localcont!$D$10:$L$1764, 8)","v":11141094.777293742},{"$f":"VLOOKUP(A19, localcont!$D$10:$L$1764, 9)*F19","v":3677625.7570845936}]
[18,4,"Adams                        ",851,"Northern Berkshire",4522027,{"$f":"VLOOKUP(A20, localcont!$D$10:$L$1764, 8)","v":2558051.008660255},{"$f":"VLOOKUP(A20, localcont!$D$10:$L$1764, 9)*F20","v":844401.24291540636}]
[21,5,"Agawam                       ",5,"Agawam",23421246,{"$f":"VLOOKUP(A21, localcont!$D$10:$L$1764, 8)","v":42850725.390000008},{"$f":"VLOOKUP(A21, localcont!$D$10:$L$1764, 9)*F21","v":23421246}]
[26,6,"Alford                       ",6,"Alford",1199283,{"$f":"VLOOKUP(A22, localcont!$D$10:$L$1764, 8)","v":0},{"$f":"VLOOKUP(A22, localcont!$D$10:$L$1764, 9)*F22","v":0}]
[27,6,"Alford                       ",765,"Southern Berkshire",1199283,{"$f":"VLOOKUP(A23, localcont!$D$10:$L$1764, 8)","v":243289.80463418583},{"$f":"VLOOKUP(A23, localcont!$D$10:$L$1764, 9)*F23","v":1199283}]
[31,7,"Amesbury                     ",7,"Amesbury",19103129,{"$f":"VLOOKUP(A24, localcont!$D$10:$L$1764, 8)","v":22473928.549999997},{"$f":"VLOOKUP(A24, localcont!$D$10:$L$1764, 9)*F24","v":17571650.700765394}]
[32,7,"Amesbury                     ",885,"Whittier",19103129,{"$f":"VLOOKUP(A25, localcont!$D$10:$L$1764, 8)","v":1958742.2069216794},{"$f":"VLOOKUP(A25, localcont!$D$10:$L$1764, 9)*F25","v":1531478.2992346075}]
[36,8,"Amherst                      ",8,"Amherst",20364490,{"$f":"VLOOKUP(A26, localcont!$D$10:$L$1764, 8)","v":12765297.700000001},{"$f":"VLOOKUP(A26, localcont!$D$10:$L$1764, 9)*F26","v":9889673.3469457459}]
[37,8,"Amherst                      ",605,"Amherst Pelham",20364490,{"$f":"VLOOKUP(A27, localcont!$D$10:$L$1764, 8)","v":13520583.363903571},{"$f":"VLOOKUP(A27, localcont!$D$10:$L$1764, 9)*F27","v":10474816.653054254}]
[41,9,"Andover                      ",9,"Andover",76111010,{"$f":"VLOOKUP(A28, localcont!$D$10:$L$1764, 8)","v":64739542.478479996},{"$f":"VLOOKUP(A28, localcont!$D$10:$L$1764, 9)*F28","v":74949801.540841073}]
[42,9,"Andover                      ",823,"Greater Lawrence",76111010,{"$f":"VLOOKUP(A29, localcont!$D$10:$L$1764, 8)","v":1003019.3919476161},{"$f":"VLOOKUP(A29, localcont!$D$10:$L$1764, 9)*F29","v":1161208.4591589156}]
[46,10,"Arlington                    ",10,"Arlington",85078830,{"$f":"VLOOKUP(A30, localcont!$D$10:$L$1764, 8)","v":64412505.935059994},{"$f":"VLOOKUP(A30, localcont!$D$10:$L$1764, 9)*F30","v":80687558.546512485}]
[47,10,"Arlington                    ",830,"Minuteman",85078830,{"$f":"VLOOKUP(A31, localcont!$D$10:$L$1764, 8)","v":3505531.7530418648},{"$f":"VLOOKUP(A31, localcont!$D$10:$L$1764, 9)*F31","v":4391271.4534875145}]
[51,11,"Ashburnham                   ",11,"Ashburnham",5934022,{"$f":"VLOOKUP(A32, localcont!$D$10:$L$1764, 8)","v":0},{"$f":"VLOOKUP(A32, localcont!$D$10:$L$1764, 9)*F32","v":0}]
[52,11,"Ashburnham                   ",610,"Ashburnham Westminster",5934022,{"$f":"VLOOKUP(A33, localcont!$D$10:$L$1764, 8)","v":11231931.145298973},{"$f":"VLOOKUP(A33, localcont!$D$10:$L$1764, 9)*F33","v":5343777.9688368961}]
[53,11,"Ashburnham                   ",832,"Montachusett",5934022,{"$f":"VLOOKUP(A34, localcont!$D$10:$L$1764, 8)","v":1240616.7239000474},{"$f":"VLOOKUP(A34, localcont!$D$10:$L$1764, 9)*F34","v":590244.03116310353}]
[56,12,"Ashby                        ",12,"Ashby",2729185,{"$f":"VLOOKUP(A35, localcont!$D$10:$L$1764, 8)","v":0},{"$f":"VLOOKUP(A35, localcont!$D$10:$L$1764, 9)*F35","v":0}]
[57,12,"Ashby                        ",735,"North Middlesex",2729185,{"$f":"VLOOKUP(A36, localcont!$D$10:$L$1764, 8)","v":3906150.5175227756},{"$f":"VLOOKUP(A36, localcont!$D$10:$L$1764, 9)*F36","v":2336876.2025484592}]
[58,12,"Ashby                        ",832,"Montachusett",2729185,{"$f":"VLOOKUP(A37, localcont!$D$10:$L$1764, 8)","v":655754.55410214327},{"$f":"VLOOKUP(A37, localcont!$D$10:$L$1764, 9)*F37","v":392308.797451541}]
[61,13,"Ashfield                     ",13,"Ashfield",1575393,{"$f":"VLOOKUP(A38, localcont!$D$10:$L$1764, 8)","v":134575.02000000002},{"$f":"VLOOKUP(A38, localcont!$D$10:$L$1764, 9)*F38","v":120688.07181321947}]
[62,13,"Ashfield                     ",717,"Mohawk Trail",1575393,{"$f":"VLOOKUP(A39, localcont!$D$10:$L$1764, 8)","v":1622090.2518668906},{"$f":"VLOOKUP(A39, localcont!$D$10:$L$1764, 9)*F39","v":1454704.9281867805}]
[66,14,"Ashland                      ",14,"Ashland",24566415,{"$f":"VLOOKUP(A40, localcont!$D$10:$L$1764, 8)","v":30147061.930000003},{"$f":"VLOOKUP(A40, localcont!$D$10:$L$1764, 9)*F40","v":23567412.172541719}]
[67,14,"Ashland                      ",829,"South Middlesex",24566415,{"$f":"VLOOKUP(A41, localcont!$D$10:$L$1764, 8)","v":1277908.6599384502},{"$f":"VLOOKUP(A41, localcont!$D$10:$L$1764, 9)*F41","v":999002.82745828107}]
[71,15,"Athol                        ",15,"Athol",6518707,{"$f":"VLOOKUP(A42, localcont!$D$10:$L$1764, 8)","v":0},{"$f":"VLOOKUP(A42, localcont!$D$10:$L$1764, 9)*F42","v":0}]
[72,15,"Athol                        ",615,"Athol Royalston",6518707,{"$f":"VLOOKUP(A43, localcont!$D$10:$L$1764, 8)","v":19986457.482347284},{"$f":"VLOOKUP(A43, localcont!$D$10:$L$1764, 9)*F43","v":5925001.9929830581}]
[73,15,"Athol                        ",832,"Montachusett",6518707,{"$f":"VLOOKUP(A44, localcont!$D$10:$L$1764, 8)","v":2002709.8545880166},{"$f":"VLOOKUP(A44, localcont!$D$10:$L$1764, 9)*F44","v":593705.00701694202}]
[76,16,"Attleboro                    ",16,"Attleboro",39570601,{"$f":"VLOOKUP(A45, localcont!$D$10:$L$1764, 8)","v":80741145.670000002},{"$f":"VLOOKUP(A45, localcont!$D$10:$L$1764, 9)*F45","v":39397672.325122051}]
[77,16,"Attleboro                    ",910,"Bristol County",39570601,{"$f":"VLOOKUP(A46, localcont!$D$10:$L$1764, 8)","v":354398.0774706087},{"$f":"VLOOKUP(A46, localcont!$D$10:$L$1764, 9)*F46","v":172928.67487794542}]
[81,17,"Auburn                       ",17,"Auburn",16573467,{"$f":"VLOOKUP(A47, localcont!$D$10:$L$1764, 8)","v":27367440.740000006},{"$f":"VLOOKUP(A47, localcont!$D$10:$L$1764, 9)*F47","v":15568308.63082744}]
[82,17,"Auburn                       ",876,"Southern Worcester",16573467,{"$f":"VLOOKUP(A48, localcont!$D$10:$L$1764, 8)","v":1766962.1507999999},{"$f":"VLOOKUP(A48, localcont!$D$10:$L$1764, 9)*F48","v":1005158.369172559}]
[86,18,"Avon                         ",18,"Avon",5499598,{"$f":"VLOOKUP(A49, localcont!$D$10:$L$1764, 8)","v":7016240.1299999999},{"$f":"VLOOKUP(A49, localcont!$D$10:$L$1764, 9)*F49","v":4689958.3627555734}]
[87,18,"Avon                         ",806,"Blue Hills",5499598,{"$f":"VLOOKUP(A50, localcont!$D$10:$L$1764, 8)","v":1118469.0579899827},{"$f":"VLOOKUP(A50, localcont!$D$10:$L$1764, 9)*F50","v":747633.09333933343}]
[88,18,"Avon                         ",915,"Norfolk County",5499598,{"$f":"VLOOKUP(A51, localcont!$D$10:$L$1764, 8)","v":92762.614935862206},{"$f":"VLOOKUP(A51, localcont!$D$10:$L$1764, 9)*F51","v":62006.543905093225}]
[91,19,"Ayer                         ",19,"Ayer",8973265,{"$f":"VLOOKUP(A52, localcont!$D$10:$L$1764, 8)","v":0},{"$f":"VLOOKUP(A52, localcont!$D$10:$L$1764, 9)*F52","v":0}]
[92,19,"Ayer                         ",616,"Ayer Shirley",8973265,{"$f":"VLOOKUP(A53, localcont!$D$10:$L$1764, 8)","v":10929926.094392963},{"$f":"VLOOKUP(A53, localcont!$D$10:$L$1764, 9)*F53","v":8188436.6923889229}]
[93,19,"Ayer                         ",852,"Nashoba Valley",8973265,{"$f":"VLOOKUP(A54, localcont!$D$10:$L$1764, 8)","v":1047588.9014260611},{"$f":"VLOOKUP(A54, localcont!$D$10:$L$1764, 9)*F54","v":784828.30761107558}]
[96,20,"Barnstable                   ",20,"Barnstable",80424799,{"$f":"VLOOKUP(A55, localcont!$D$10:$L$1764, 8)","v":65238260.339999989},{"$f":"VLOOKUP(A55, localcont!$D$10:$L$1764, 9)*F55","v":76663731.105300829}]
[97,20,"Barnstable                   ",815,"Cape Cod",80424799,{"$f":"VLOOKUP(A56, localcont!$D$10:$L$1764, 8)","v":3200542.4590381682},{"$f":"VLOOKUP(A56, localcont!$D$10:$L$1764, 9)*F56","v":3761067.8946991744}]
[101,21,"Barre                        ",21,"Barre",3824732,{"$f":"VLOOKUP(A57, localcont!$D$10:$L$1764, 8)","v":0},{"$f":"VLOOKUP(A57, localcont!$D$10:$L$1764, 9)*F57","v":0}]
[102,21,"Barre                        ",753,"Quabbin",3824732,{"$f":"VLOOKUP(A58, localcont!$D$10:$L$1764, 8)","v":8480820.0998631455},{"$f":"VLOOKUP(A58, localcont!$D$10:$L$1764, 9)*F58","v":3476050.3908503945}]
[103,21,"Barre                        ",832,"Montachusett",3824732,{"$f":"VLOOKUP(A59, localcont!$D$10:$L$1764, 8)","v":850708.61087406753},{"$f":"VLOOKUP(A59, localcont!$D$10:$L$1764, 9)*F59","v":348681.60914960539}]
[106,22,"Becket                       ",22,"Becket",2621420,{"$f":"VLOOKUP(A60, localcont!$D$10:$L$1764, 8)","v":207582.36000000004},{"$f":"VLOOKUP(A60, localcont!$D$10:$L$1764, 9)*F60","v":211905.9002292153}]
[107,22,"Becket                       ",635,"Central Berkshire",2621420,{"$f":"VLOOKUP(A61, localcont!$D$10:$L$1764, 8)","v":2360352.5090271966},{"$f":"VLOOKUP(A61, localcont!$D$10:$L$1764, 9)*F61","v":2409514.0997707848}]
[111,23,"Bedford                      ",23,"Bedford",30200999,{"$f":"VLOOKUP(A62, localcont!$D$10:$L$1764, 8)","v":30729462.661080003},{"$f":"VLOOKUP(A62, localcont!$D$10:$L$1764, 9)*F62","v":29526781.718460668}]
[112,23,"Bedford                      ",871,"Shawsheen Valley",30200999,{"$f":"VLOOKUP(A63, localcont!$D$10:$L$1764, 8)","v":701679.41010530875},{"$f":"VLOOKUP(A63, localcont!$D$10:$L$1764, 9)*F63","v":674217.28153932968}]
[116,24,"Belchertown                  ",24,"Belchertown",13689135,{"$f":"VLOOKUP(A64, localcont!$D$10:$L$1764, 8)","v":24800115.190000001},{"$f":"VLOOKUP(A64, localcont!$D$10:$L$1764, 9)*F64","v":12871473.903764585}]
[117,24,"Belchertown                  ",860,"Pathfinder",13689135,{"$f":"VLOOKUP(A65, localcont!$D$10:$L$1764, 8)","v":1575428.697958912},{"$f":"VLOOKUP(A65, localcont!$D$10:$L$1764, 9)*F65","v":817661.0962354145}]
[121,25,"Bellingham                   ",25,"Bellingham",18524823,{"$f":"VLOOKUP(A66, localcont!$D$10:$L$1764, 8)","v":24805882.760000002},{"$f":"VLOOKUP(A66, localcont!$D$10:$L$1764, 9)*F66","v":17397230.507725019}]
[122,25,"Bellingham                   ",805,"Blackstone Valley",18524823,{"$f":"VLOOKUP(A67, localcont!$D$10:$L$1764, 8)","v":1181072.4252639951},{"$f":"VLOOKUP(A67, localcont!$D$10:$L$1764, 9)*F67","v":828327.27330988774}]
[123,25,"Bellingham                   ",915,"Norfolk County",18524823,{"$f":"VLOOKUP(A68, localcont!$D$10:$L$1764, 8)","v":426708.02875765529},{"$f":"VLOOKUP(A68, localcont!$D$10:$L$1764, 9)*F68","v":299265.21896509541}]
[126,26,"Belmont                      ",26,"Belmont",69418402,{"$f":"VLOOKUP(A69, localcont!$D$10:$L$1764, 8)","v":50694465.246789992},{"$f":"VLOOKUP(A69, localcont!$D$10:$L$1764, 9)*F69","v":69418402}]
[131,27,"Berkley                      ",27,"Berkley",7070903,{"$f":"VLOOKUP(A70, localcont!$D$10:$L$1764, 8)","v":7950531.7800000003},{"$f":"VLOOKUP(A70, localcont!$D$10:$L$1764, 9)*F70","v":4254136.1973371832}]
[132,27,"Berkley                      ",763,"Somerset Berkley",7070903,{"$f":"VLOOKUP(A71, localcont!$D$10:$L$1764, 8)","v":3388681.4554681033},{"$f":"VLOOKUP(A71, localcont!$D$10:$L$1764, 9)*F71","v":1813201.0335731416}]
[133,27,"Berkley                      ",810,"Bristol Plymouth",7070903,{"$f":"VLOOKUP(A72, localcont!$D$10:$L$1764, 8)","v":1716079.4204915462},{"$f":"VLOOKUP(A72, localcont!$D$10:$L$1764, 9)*F72","v":918232.3625927954}]
[134,27,"Berkley                      ",910,"Bristol County",{"$f":"VLOOKUP(B73, town351, 7)","v":7070903},{"$f":"VLOOKUP(A73, localcont!$D$10:$L$1764, 8)","v":159479.1348414669},{"$f":"VLOOKUP(A73, localcont!$D$10:$L$1764, 9)*F73","v":85333.406496879863}]
[136,28,"Berlin                       ",28,"Berlin",4774311,{"$f":"VLOOKUP(A74, localcont!$D$10:$L$1764, 8)","v":0},{"$f":"VLOOKUP(A74, localcont!$D$10:$L$1764, 9)*F74","v":0}]
[137,28,"Berlin                       ",620,"Berlin Boylston",4774311,{"$f":"VLOOKUP(A75, localcont!$D$10:$L$1764, 8)","v":3808665.7655362594},{"$f":"VLOOKUP(A75, localcont!$D$10:$L$1764, 9)*F75","v":4140710.897998197}]
[138,28,"Berlin                       ",801,"Assabet Valley",4774311,{"$f":"VLOOKUP(A76, localcont!$D$10:$L$1764, 8)","v":582791.47638662264},{"$f":"VLOOKUP(A76, localcont!$D$10:$L$1764, 9)*F76","v":633600.10200180253}]
[141,29,"Bernardston                  ",29,"Bernardston",1758860,{"$f":"VLOOKUP(A77, localcont!$D$10:$L$1764, 8)","v":0},{"$f":"VLOOKUP(A77, localcont!$D$10:$L$1764, 9)*F77","v":0}]
[142,29,"Bernardston                  ",750,"Pioneer",1758860,{"$f":"VLOOKUP(A78, localcont!$D$10:$L$1764, 8)","v":2729706.169472733},{"$f":"VLOOKUP(A78, localcont!$D$10:$L$1764, 9)*F78","v":1407173.6945734036}]
[143,29,"Bernardston                  ",818,"Franklin County",1758860,{"$f":"VLOOKUP(A79, localcont!$D$10:$L$1764, 8)","v":682218.74907424569},{"$f":"VLOOKUP(A79, localcont!$D$10:$L$1764, 9)*F79","v":351686.30542659637}]
[146,30,"Beverly                      ",30,"Beverly",56628332,{"$f":"VLOOKUP(A80, localcont!$D$10:$L$1764, 8)","v":53925726.18999999},{"$f":"VLOOKUP(A80, localcont!$D$10:$L$1764, 9)*F80","v":54502645.967389412}]
[147,30,"Beverly                      ",817,"Essex North Shore",56628332,{"$f":"VLOOKUP(A81, localcont!$D$10:$L$1764, 8)","v":2103185.2844181526},{"$f":"VLOOKUP(A81, localcont!$D$10:$L$1764, 9)*F81","v":2125686.032610585}]
[151,31,"Billerica                    ",31,"Billerica",51143672,{"$f":"VLOOKUP(A82, localcont!$D$10:$L$1764, 8)","v":52245953.957079992},{"$f":"VLOOKUP(A82, localcont!$D$10:$L$1764, 9)*F82","v":43859591.242765419}]
[152,31,"Billerica                    ",871,"Shawsheen Valley",51143672,{"$f":"VLOOKUP(A83, localcont!$D$10:$L$1764, 8)","v":8676864.9018110503},{"$f":"VLOOKUP(A83, localcont!$D$10:$L$1764, 9)*F83","v":7284080.7572345864}]
[156,32,"Blackstone                   ",32,"Blackstone",7923545,{"$f":"VLOOKUP(A84, localcont!$D$10:$L$1764, 8)","v":446826.83999999991},{"$f":"VLOOKUP(A84, localcont!$D$10:$L$1764, 9)*F84","v":218588.73194302901}]
[157,32,"Blackstone                   ",622,"Blackstone Millville",7923545,{"$f":"VLOOKUP(A85, localcont!$D$10:$L$1764, 8)","v":14467732.749324907},{"$f":"VLOOKUP(A85, localcont!$D$10:$L$1764, 9)*F85","v":7077648.593727191}]
[158,32,"Blackstone                   ",805,"Blackstone Valley",7923545,{"$f":"VLOOKUP(A86, localcont!$D$10:$L$1764, 8)","v":1282307.2046622194},{"$f":"VLOOKUP(A86, localcont!$D$10:$L$1764, 9)*F86","v":627307.67432978016}]
[161,33,"Blandford                    ",33,"Blandford",1169185,{"$f":"VLOOKUP(A87, localcont!$D$10:$L$1764, 8)","v":149527.79999999999},{"$f":"VLOOKUP(A87, localcont!$D$10:$L$1764, 9)*F87","v":132148.24648697142}]
[162,33,"Blandford                    ",672,"Gateway",1169185,{"$f":"VLOOKUP(A88, localcont!$D$10:$L$1764, 8)","v":1173423.2454399874},{"$f":"VLOOKUP(A88, localcont!$D$10:$L$1764, 9)*F88","v":1037036.7535130285}]
[166,34,"Bolton                       ",34,"Bolton",10322617,{"$f":"VLOOKUP(A89, localcont!$D$10:$L$1764, 8)","v":15459.313859999998},{"$f":"VLOOKUP(A89, localcont!$D$10:$L$1764, 9)*F89","v":13253.394750937918}]
[167,34,"Bolton                       ",725,"Nashoba",10322617,{"$f":"VLOOKUP(A90, localcont!$D$10:$L$1764, 8)","v":11682778.338350689},{"$f":"VLOOKUP(A90, localcont!$D$10:$L$1764, 9)*F90","v":10015740.317330504}]
[168,34,"Bolton                       ",830,"Minuteman",10322617,{"$f":"VLOOKUP(A91, localcont!$D$10:$L$1764, 8)","v":342494.48159060732},{"$f":"VLOOKUP(A91, localcont!$D$10:$L$1764, 9)*F91","v":293623.28791855957}]
[171,35,"Boston                       ",35,"Boston",1204854744,{"$f":"VLOOKUP(A92, localcont!$D$10:$L$1764, 8)","v":978880394.48934996},{"$f":"VLOOKUP(A92, localcont!$D$10:$L$1764, 9)*F92","v":1204854744}]
[176,36,"Bourne                       ",36,"Bourne",28274998,{"$f":"VLOOKUP(A93, localcont!$D$10:$L$1764, 8)","v":20951766.189999998},{"$f":"VLOOKUP(A93, localcont!$D$10:$L$1764, 9)*F93","v":24523728.132044226}]
[177,36,"Bourne                       ",879,"Upper Cape Cod",28274998,{"$f":"VLOOKUP(A94, localcont!$D$10:$L$1764, 8)","v":3204885.0307675474},{"$f":"VLOOKUP(A94, localcont!$D$10:$L$1764, 9)*F94","v":3751269.8679557731}]
[181,37,"Boxborough                   ",37,"Boxborough",9238872,{"$f":"VLOOKUP(A95, localcont!$D$10:$L$1764, 8)","v":144995.14512},{"$f":"VLOOKUP(A95, localcont!$D$10:$L$1764, 9)*F95","v":140251.82626358827}]
[182,37,"Boxborough                   ",600,"Acton Boxborough",9238872,{"$f":"VLOOKUP(A96, localcont!$D$10:$L$1764, 8)","v":9406335.6437389329},{"$f":"VLOOKUP(A96, localcont!$D$10:$L$1764, 9)*F96","v":9098620.1737364102}]
[186,38,"Boxford",38,"Boxford",18730911,{"$f":"VLOOKUP(A97, localcont!$D$10:$L$1764, 8)","v":7077684.451799999},{"$f":"VLOOKUP(A97, localcont!$D$10:$L$1764, 9)*F97","v":8979674.7918839399}]
[187,38,"Boxford",705,"Masconomet",18730911,{"$f":"VLOOKUP(A98, localcont!$D$10:$L$1764, 8)","v":7250679.1956658335},{"$f":"VLOOKUP(A98, localcont!$D$10:$L$1764, 9)*F98","v":9199158.5158616845}]
[188,38,"Boxford",817,"Essex North Shore",18730911,{"$f":"VLOOKUP(A99, localcont!$D$10:$L$1764, 8)","v":435141.78288350237},{"$f":"VLOOKUP(A99, localcont!$D$10:$L$1764, 9)*F99","v":552077.69225437578}]
[191,39,"Boylston                     ",39,"Boylston",7394359,{"$f":"VLOOKUP(A100, localcont!$D$10:$L$1764, 8)","v":579645.30000000005},{"$f":"VLOOKUP(A100, localcont!$D$10:$L$1764, 9)*F100","v":573937.99241048598}]
[192,39,"Boylston                     ",620,"Berlin Boylston",7394359,{"$f":"VLOOKUP(A101, localcont!$D$10:$L$1764, 8)","v":6888244.0844637426},{"$f":"VLOOKUP(A101, localcont!$D$10:$L$1764, 9)*F101","v":6820421.0075895144}]
[196,40,"Braintree                    ",40,"Braintree",51747871,{"$f":"VLOOKUP(A102, localcont!$D$10:$L$1764, 8)","v":63352380.463700004},{"$f":"VLOOKUP(A102, localcont!$D$10:$L$1764, 9)*F102","v":49531608.583296515}]
[197,40,"Braintree                    ",806,"Blue Hills",51747871,{"$f":"VLOOKUP(A103, localcont!$D$10:$L$1764, 8)","v":2426509.1426485302},{"$f":"VLOOKUP(A103, localcont!$D$10:$L$1764, 9)*F103","v":1897148.9342270873}]
[198,40,"Braintree                    ",915,"Norfolk County",51747871,{"$f":"VLOOKUP(A104, localcont!$D$10:$L$1764, 8)","v":408155.50577048282},{"$f":"VLOOKUP(A104, localcont!$D$10:$L$1764, 9)*F104","v":319113.48247639718}]
[201,41,"Brewster                     ",41,"Brewster",20010804,{"$f":"VLOOKUP(A105, localcont!$D$10:$L$1764, 8)","v":4895214.0599999996},{"$f":"VLOOKUP(A105, localcont!$D$10:$L$1764, 9)*F105","v":7802097.2289493931}]
[202,41,"Brewster                     ",660,"Nauset",20010804,{"$f":"VLOOKUP(A106, localcont!$D$10:$L$1764, 8)","v":6888126.0325498478},{"$f":"VLOOKUP(A106, localcont!$D$10:$L$1764, 9)*F106","v":10978443.102284141}]
[203,41,"Brewster                     ",815,"Cape Cod",20010804,{"$f":"VLOOKUP(A107, localcont!$D$10:$L$1764, 8)","v":771895.53425544128},{"$f":"VLOOKUP(A107, localcont!$D$10:$L$1764, 9)*F107","v":1230263.6687664667}]
[206,42,"Bridgewater                  ",42,"Bridgewater",25170133,{"$f":"VLOOKUP(A108, localcont!$D$10:$L$1764, 8)","v":104669.45999999999},{"$f":"VLOOKUP(A108, localcont!$D$10:$L$1764, 9)*F108","v":67378.497204526182}]
[207,42,"Bridgewater                  ",625,"Bridgewater Raynham",25170133,{"$f":"VLOOKUP(A109, localcont!$D$10:$L$1764, 8)","v":36448975.098660745},{"$f":"VLOOKUP(A109, localcont!$D$10:$L$1764, 9)*F109","v":23463168.40454663}]
[208,42,"Bridgewater                  ",810,"Bristol Plymouth",25170133,{"$f":"VLOOKUP(A110, localcont!$D$10:$L$1764, 8)","v":2547023.1401314968},{"$f":"VLOOKUP(A110, localcont!$D$10:$L$1764, 9)*F110","v":1639586.0982488447}]
[211,43,"Brimfield                    ",43,"Brimfield",3619975,{"$f":"VLOOKUP(A111, localcont!$D$10:$L$1764, 8)","v":2957057.94},{"$f":"VLOOKUP(A111, localcont!$D$10:$L$1764, 9)*F111","v":1767078.7519510216}]
[212,43,"Brimfield                    ",770,"Tantasqua",3619975,{"$f":"VLOOKUP(A112, localcont!$D$10:$L$1764, 8)","v":3100666.3150920542},{"$f":"VLOOKUP(A112, localcont!$D$10:$L$1764, 9)*F112","v":1852896.2480489782}]
[216,44,"Brockton                     ",44,"Brockton",60642760,{"$f":"VLOOKUP(A113, localcont!$D$10:$L$1764, 8)","v":261944926.60000005},{"$f":"VLOOKUP(A113, localcont!$D$10:$L$1764, 9)*F113","v":56449352.800730579}]
[217,44,"Brockton                     ",872,"Southeastern",60642760,{"$f":"VLOOKUP(A114, localcont!$D$10:$L$1764, 8)","v":19458889.898952443},{"$f":"VLOOKUP(A114, localcont!$D$10:$L$1764, 9)*F114","v":4193407.1992694167}]
[221,45,"Brookfield                   ",45,"Brookfield",2450578,{"$f":"VLOOKUP(A115, localcont!$D$10:$L$1764, 8)","v":2739833.1099999994},{"$f":"VLOOKUP(A115, localcont!$D$10:$L$1764, 9)*F115","v":1154806.814371038}]
[222,45,"Brookfield                   ",770,"Tantasqua",2450578,{"$f":"VLOOKUP(A116, localcont!$D$10:$L$1764, 8)","v":3074277.6654844987},{"$f":"VLOOKUP(A116, localcont!$D$10:$L$1764, 9)*F116","v":1295771.1856289618}]
[226,46,"Brookline                    ",46,"Brookline",173754218,{"$f":"VLOOKUP(A117, localcont!$D$10:$L$1764, 8)","v":77422819.851260006},{"$f":"VLOOKUP(A117, localcont!$D$10:$L$1764, 9)*F117","v":173712591.94115403}]
[227,46,"Brookline                    ",915,"Norfolk County",173754218,{"$f":"VLOOKUP(A118, localcont!$D$10:$L$1764, 8)","v":18552.52298717244},{"$f":"VLOOKUP(A118, localcont!$D$10:$L$1764, 9)*F118","v":41626.058845971071}]
[231,47,"Buckland                     ",47,"Buckland",1394741,{"$f":"VLOOKUP(A119, localcont!$D$10:$L$1764, 8)","v":29905.56},{"$f":"VLOOKUP(A119, localcont!$D$10:$L$1764, 9)*F119","v":18425.263208929431}]
[232,47,"Buckland                     ",717,"Mohawk Trail",1394741,{"$f":"VLOOKUP(A120, localcont!$D$10:$L$1764, 8)","v":2082257.699155611},{"$f":"VLOOKUP(A120, localcont!$D$10:$L$1764, 9)*F120","v":1282910.1403137718}]
[233,47,"Buckland                     ",818,"Franklin County",1394741,{"$f":"VLOOKUP(A121, localcont!$D$10:$L$1764, 8)","v":151604.16641613605},{"$f":"VLOOKUP(A121, localcont!$D$10:$L$1764, 9)*F121","v":93405.596477298735}]
[236,48,"Burlington                   ",48,"Burlington",46575326,{"$f":"VLOOKUP(A122, localcont!$D$10:$L$1764, 8)","v":40093789.187169999},{"$f":"VLOOKUP(A122, localcont!$D$10:$L$1764, 9)*F122","v":44037652.733071394}]
[237,48,"Burlington                   ",871,"Shawsheen Valley",46575326,{"$f":"VLOOKUP(A123, localcont!$D$10:$L$1764, 8)","v":2310407.8141236599},{"$f":"VLOOKUP(A123, localcont!$D$10:$L$1764, 9)*F123","v":2537673.2669286011}]
[241,49,"Cambridge                    ",49,"Cambridge",326037417,{"$f":"VLOOKUP(A124, localcont!$D$10:$L$1764, 8)","v":100848386.94927999},{"$f":"VLOOKUP(A124, localcont!$D$10:$L$1764, 9)*F124","v":326037417}]
[246,50,"Canton                       ",50,"Canton",39795174,{"$f":"VLOOKUP(A125, localcont!$D$10:$L$1764, 8)","v":37413396.475199997},{"$f":"VLOOKUP(A125, localcont!$D$10:$L$1764, 9)*F125","v":38322732.199699879}]
[247,50,"Canton                       ",806,"Blue Hills",39795174,{"$f":"VLOOKUP(A126, localcont!$D$10:$L$1764, 8)","v":1289082.9819577199},{"$f":"VLOOKUP(A126, localcont!$D$10:$L$1764, 9)*F126","v":1320414.2514433977}]
[248,50,"Canton                       ",915,"Norfolk County",39795174,{"$f":"VLOOKUP(A127, localcont!$D$10:$L$1764, 8)","v":148420.18389737952},{"$f":"VLOOKUP(A127, localcont!$D$10:$L$1764, 9)*F127","v":152027.54885672484}]
[251,51,"Carlisle                     ",51,"Carlisle",17093543,{"$f":"VLOOKUP(A128, localcont!$D$10:$L$1764, 8)","v":5777297.3325199997},{"$f":"VLOOKUP(A128, localcont!$D$10:$L$1764, 9)*F128","v":10355257.984510794}]
[252,51,"Carlisle                     ",640,"Concord Carlisle",17093543,{"$f":"VLOOKUP(A129, localcont!$D$10:$L$1764, 8)","v":3759353.5674316054},{"$f":"VLOOKUP(A129, localcont!$D$10:$L$1764, 9)*F129","v":6738285.0154892057}]
[256,52,"Carver                       ",52,"Carver",10572718,{"$f":"VLOOKUP(A130, localcont!$D$10:$L$1764, 8)","v":17600656.3972},{"$f":"VLOOKUP(A130, localcont!$D$10:$L$1764, 9)*F130","v":9646003.7483091019}]
[257,52,"Carver                       ",855,"Old Colony",10572718,{"$f":"VLOOKUP(A131, localcont!$D$10:$L$1764, 8)","v":1690936.4279750579},{"$f":"VLOOKUP(A131, localcont!$D$10:$L$1764, 9)*F131","v":926714.25169089774}]
[261,53,"Charlemont                   ",53,"Charlemont",883307,{"$f":"VLOOKUP(A132, localcont!$D$10:$L$1764, 8)","v":104669.45999999999},{"$f":"VLOOKUP(A132, localcont!$D$10:$L$1764, 9)*F132","v":54678.624620474373}]
[262,53,"Charlemont                   ",685,"Hawlemont",883307,{"$f":"VLOOKUP(A133, localcont!$D$10:$L$1764, 8)","v":941981.12309736095},{"$f":"VLOOKUP(A133, localcont!$D$10:$L$1764, 9)*F133","v":492084.62744924333}]
[263,53,"Charlemont                   ",717,"Mohawk Trail",883307,{"$f":"VLOOKUP(A134, localcont!$D$10:$L$1764, 8)","v":644234.42628160899},{"$f":"VLOOKUP(A134, localcont!$D$10:$L$1764, 9)*F134","v":336543.74793028238}]
[266,54,"Charlton                     ",54,"Charlton",13558786,{"$f":"VLOOKUP(A135, localcont!$D$10:$L$1764, 8)","v":14952.78},{"$f":"VLOOKUP(A135, localcont!$D$10:$L$1764, 9)*F135","v":8396.2878654023461}]
[267,54,"Charlton                     ",658,"Dudley Charlton",13558786,{"$f":"VLOOKUP(A136, localcont!$D$10:$L$1764, 8)","v":20240729.848520093},{"$f":"VLOOKUP(A136, localcont!$D$10:$L$1764, 9)*F136","v":11365578.468620304}]
[268,54,"Charlton                     ",876,"Southern Worcester",{"$f":"VLOOKUP(B137, town351, 7)","v":13558786},{"$f":"VLOOKUP(A137, localcont!$D$10:$L$1764, 8)","v":3890886.3523380589},{"$f":"VLOOKUP(A137, localcont!$D$10:$L$1764, 9)*F137","v":2184811.2435142919}]
[271,55,"Chatham                      ",55,"Chatham",33036963,{"$f":"VLOOKUP(A138, localcont!$D$10:$L$1764, 8)","v":0},{"$f":"VLOOKUP(A138, localcont!$D$10:$L$1764, 9)*F138","v":0}]
[272,55,"Chatham                      ",712,"Monomoy",33036963,{"$f":"VLOOKUP(A139, localcont!$D$10:$L$1764, 8)","v":4682848.1253936449},{"$f":"VLOOKUP(A139, localcont!$D$10:$L$1764, 9)*F139","v":31157970.610749051}]
[273,55,"Chatham                      ",815,"Cape Cod",33036963,{"$f":"VLOOKUP(A140, localcont!$D$10:$L$1764, 8)","v":282400.8051601788},{"$f":"VLOOKUP(A140, localcont!$D$10:$L$1764, 9)*F140","v":1878992.3892509465}]
[276,56,"Chelmsford                   ",56,"Chelmsford",50228591,{"$f":"VLOOKUP(A141, localcont!$D$10:$L$1764, 8)","v":54364865.709999993},{"$f":"VLOOKUP(A141, localcont!$D$10:$L$1764, 9)*F141","v":46975979.012406081}]
[277,56,"Chelmsford                   ",852,"Nashoba Valley",50228591,{"$f":"VLOOKUP(A142, localcont!$D$10:$L$1764, 8)","v":3764217.747661632},{"$f":"VLOOKUP(A142, localcont!$D$10:$L$1764, 9)*F142","v":3252611.9875939144}]
[281,57,"Chelsea                      ",57,"Chelsea",25721311,{"$f":"VLOOKUP(A143, localcont!$D$10:$L$1764, 8)","v":114106347.65687999},{"$f":"VLOOKUP(A143, localcont!$D$10:$L$1764, 9)*F143","v":24692111.605861492}]
[282,57,"Chelsea                      ",853,"Northeast Metropolitan",25721311,{"$f":"VLOOKUP(A144, localcont!$D$10:$L$1764, 8)","v":4756101.2905814387},{"$f":"VLOOKUP(A144, localcont!$D$10:$L$1764, 9)*F144","v":1029199.3941385073}]
[286,58,"Cheshire                     ",58,"Cheshire",2483908,{"$f":"VLOOKUP(A145, localcont!$D$10:$L$1764, 8)","v":14952.78},{"$f":"VLOOKUP(A145, localcont!$D$10:$L$1764, 9)*F145","v":7513.4153401643753}]
[287,58,"Cheshire                     ",603,"Hoosac Valley",2483908,{"$f":"VLOOKUP(A146, localcont!$D$10:$L$1764, 8)","v":4075698.6627062601},{"$f":"VLOOKUP(A146, localcont!$D$10:$L$1764, 9)*F146","v":2047941.3764038957}]
[288,58,"Cheshire                     ",851,"Northern Berkshire",2483908,{"$f":"VLOOKUP(A147, localcont!$D$10:$L$1764, 8)","v":852683.66958202654},{"$f":"VLOOKUP(A147, localcont!$D$10:$L$1764, 9)*F147","v":428453.20825593971}]
[291,59,"Chester                      ",59,"Chester",898017,{"$f":"VLOOKUP(A148, localcont!$D$10:$L$1764, 8)","v":134575.02000000002},{"$f":"VLOOKUP(A148, localcont!$D$10:$L$1764, 9)*F148","v":64399.959141521795}]
[292,59,"Chester                      ",672,"Gateway",898017,{"$f":"VLOOKUP(A149, localcont!$D$10:$L$1764, 8)","v":1741989.1478400028},{"$f":"VLOOKUP(A149, localcont!$D$10:$L$1764, 9)*F149","v":833617.04085847817}]
[296,60,"Chesterfield                 ",60,"Chesterfield",943484,{"$f":"VLOOKUP(A150, localcont!$D$10:$L$1764, 8)","v":267393.48},{"$f":"VLOOKUP(A150, localcont!$D$10:$L$1764, 9)*F150","v":209594.40909902364}]
[297,60,"Chesterfield                 ",632,"Chesterfield Goshen",943484,{"$f":"VLOOKUP(A151, localcont!$D$10:$L$1764, 8)","v":507304.84455964126},{"$f":"VLOOKUP(A151, localcont!$D$10:$L$1764, 9)*F151","v":397647.16450285196}]
[298,60,"Chesterfield                 ",683,"Hampshire",943484,{"$f":"VLOOKUP(A152, localcont!$D$10:$L$1764, 8)","v":428966.75013769325},{"$f":"VLOOKUP(A152, localcont!$D$10:$L$1764, 9)*F152","v":336242.42639812437}]
[301,61,"Chicopee                     ",61,"Chicopee",31307943,{"$f":"VLOOKUP(A153, localcont!$D$10:$L$1764, 8)","v":103803922.04000001},{"$f":"VLOOKUP(A153, localcont!$D$10:$L$1764, 9)*F153","v":31307943}]
[306,62,"Chilmark                     ",62,"Chilmark",13155976,{"$f":"VLOOKUP(A154, localcont!$D$10:$L$1764, 8)","v":0},{"$f":"VLOOKUP(A154, localcont!$D$10:$L$1764, 9)*F154","v":0}]
[307,62,"Chilmark                     ",700,"Marthas Vineyard",13155976,{"$f":"VLOOKUP(A155, localcont!$D$10:$L$1764, 8)","v":617421.43495183368},{"$f":"VLOOKUP(A155, localcont!$D$10:$L$1764, 9)*F155","v":5460787.2717757942}]
[308,62,"Chilmark                     ",774,"Upisland",13155976,{"$f":"VLOOKUP(A156, localcont!$D$10:$L$1764, 8)","v":870053.02172489325},{"$f":"VLOOKUP(A156, localcont!$D$10:$L$1764, 9)*F156","v":7695188.7282242067}]
[311,63,"Clarksburg                   ",63,"Clarksburg",1040228,{"$f":"VLOOKUP(A157, localcont!$D$10:$L$1764, 8)","v":2139256.1799999997},{"$f":"VLOOKUP(A157, localcont!$D$10:$L$1764, 9)*F157","v":753101.38960627187}]
[312,63,"Clarksburg                   ",851,"Northern Berkshire",1040228,{"$f":"VLOOKUP(A158, localcont!$D$10:$L$1764, 8)","v":815610.46653806348},{"$f":"VLOOKUP(A158, localcont!$D$10:$L$1764, 9)*F158","v":287126.61039372825}]
[316,64,"Clinton                      ",64,"Clinton",11982452,{"$f":"VLOOKUP(A159, localcont!$D$10:$L$1764, 8)","v":26864608.990000002},{"$f":"VLOOKUP(A159, localcont!$D$10:$L$1764, 9)*F159","v":11982452}]
[321,65,"Cohasset                     ",65,"Cohasset",26355529,{"$f":"VLOOKUP(A160, localcont!$D$10:$L$1764, 8)","v":15385213.724099997},{"$f":"VLOOKUP(A160, localcont!$D$10:$L$1764, 9)*F160","v":26136458.51673881}]
[322,65,"Cohasset                     ",873,"South Shore",26355529,{"$f":"VLOOKUP(A161, localcont!$D$10:$L$1764, 8)","v":128955.73451379075},{"$f":"VLOOKUP(A161, localcont!$D$10:$L$1764, 9)*F161","v":219070.48326118974}]
[323,65,"Cohasset                     ",915,"Norfolk County",26355529,{"$f":"VLOOKUP(A162, localcont!$D$10:$L$1764, 8)","v":0},{"$f":"VLOOKUP(A162, localcont!$D$10:$L$1764, 9)*F162","v":0}]
[326,66,"Colrain                      ",66,"Colrain",1386090,{"$f":"VLOOKUP(A163, localcont!$D$10:$L$1764, 8)","v":0},{"$f":"VLOOKUP(A163, localcont!$D$10:$L$1764, 9)*F163","v":0}]
[327,66,"Colrain                      ",717,"Mohawk Trail",1386090,{"$f":"VLOOKUP(A164, localcont!$D$10:$L$1764, 8)","v":1702619.5551037164},{"$f":"VLOOKUP(A164, localcont!$D$10:$L$1764, 9)*F164","v":1093885.6379104508}]
[328,66,"Colrain                      ",818,"Franklin County",1386090,{"$f":"VLOOKUP(A165, localcont!$D$10:$L$1764, 8)","v":454812.49934922491},{"$f":"VLOOKUP(A165, localcont!$D$10:$L$1764, 9)*F165","v":292204.36208954913}]
[331,67,"Concord                      ",67,"Concord",65207875,{"$f":"VLOOKUP(A166, localcont!$D$10:$L$1764, 8)","v":21236752.310529996},{"$f":"VLOOKUP(A166, localcont!$D$10:$L$1764, 9)*F166","v":40140274.747311264}]
[332,67,"Concord                      ",640,"Concord Carlisle",65207875,{"$f":"VLOOKUP(A167, localcont!$D$10:$L$1764, 8)","v":12678095.823648389},{"$f":"VLOOKUP(A167, localcont!$D$10:$L$1764, 9)*F167","v":23963280.363808382}]
[333,67,"Concord                      ",830,"Minuteman",65207875,{"$f":"VLOOKUP(A168, localcont!$D$10:$L$1764, 8)","v":584255.29220661765},{"$f":"VLOOKUP(A168, localcont!$D$10:$L$1764, 9)*F168","v":1104319.888880362}]
[336,68,"Conway                       ",68,"Conway",1898525,{"$f":"VLOOKUP(A169, localcont!$D$10:$L$1764, 8)","v":926021.78},{"$f":"VLOOKUP(A169, localcont!$D$10:$L$1764, 9)*F169","v":790712.88898568251}]
[337,68,"Conway                       ",670,"Frontier",1898525,{"$f":"VLOOKUP(A170, localcont!$D$10:$L$1764, 8)","v":1221581.7804380592},{"$f":"VLOOKUP(A170, localcont!$D$10:$L$1764, 9)*F170","v":1043086.112664058}]
[338,68,"Conway                       ",818,"Franklin County",1898525,{"$f":"VLOOKUP(A171, localcont!$D$10:$L$1764, 8)","v":75802.083208068027},{"$f":"VLOOKUP(A171, localcont!$D$10:$L$1764, 9)*F171","v":64725.99835025971}]
[341,69,"Cummington                   ",69,"Cummington",847081,{"$f":"VLOOKUP(A172, localcont!$D$10:$L$1764, 8)","v":59811.12},{"$f":"VLOOKUP(A172, localcont!$D$10:$L$1764, 9)*F172","v":69330.387561971656}]
[342,69,"Cummington                   ",635,"Central Berkshire",847081,{"$f":"VLOOKUP(A173, localcont!$D$10:$L$1764, 8)","v":670963.14973032149},{"$f":"VLOOKUP(A173, localcont!$D$10:$L$1764, 9)*F173","v":777750.61243802833}]
[346,70,"Dalton                       ",70,"Dalton",5477419,{"$f":"VLOOKUP(A174, localcont!$D$10:$L$1764, 8)","v":312251.82},{"$f":"VLOOKUP(A174, localcont!$D$10:$L$1764, 9)*F174","v":155488.64159204732}]
[347,70,"Dalton                       ",635,"Central Berkshire",5477419,{"$f":"VLOOKUP(A175, localcont!$D$10:$L$1764, 8)","v":10687484.457457177},{"$f":"VLOOKUP(A175, localcont!$D$10:$L$1764, 9)*F175","v":5321930.3584079528}]
[351,71,"Danvers                      ",71,"Danvers",39401170,{"$f":"VLOOKUP(A176, localcont!$D$10:$L$1764, 8)","v":37556776.830000006},{"$f":"VLOOKUP(A176, localcont!$D$10:$L$1764, 9)*F176","v":35884481.176870927}]
[352,71,"Danvers                      ",817,"Essex North Shore",39401170,{"$f":"VLOOKUP(A177, localcont!$D$10:$L$1764, 8)","v":3680574.2476762412},{"$f":"VLOOKUP(A177, localcont!$D$10:$L$1764, 9)*F177","v":3516688.8231290733}]
[356,72,"Dartmouth                    ",72,"Dartmouth",38636428,{"$f":"VLOOKUP(A178, localcont!$D$10:$L$1764, 8)","v":38413025.859999999},{"$f":"VLOOKUP(A178, localcont!$D$10:$L$1764, 9)*F178","v":32988496.892359469}]
[357,72,"Dartmouth                    ",825,"Greater New Bedford",38636428,{"$f":"VLOOKUP(A179, localcont!$D$10:$L$1764, 8)","v":6257701.600543227},{"$f":"VLOOKUP(A179, localcont!$D$10:$L$1764, 9)*F179","v":5374014.8082891265}]
[358,72,"Dartmouth                    ",910,"Bristol County",38636428,{"$f":"VLOOKUP(A180, localcont!$D$10:$L$1764, 8)","v":318958.26975062385},{"$f":"VLOOKUP(A180, localcont!$D$10:$L$1764, 9)*F180","v":273916.29935139947}]
[361,73,"Dedham                       ",73,"Dedham",41259762,{"$f":"VLOOKUP(A181, localcont!$D$10:$L$1764, 8)","v":30666508.900769994},{"$f":"VLOOKUP(A181, localcont!$D$10:$L$1764, 9)*F181","v":38750195.368614383}]
[362,73,"Dedham                       ",806,"Blue Hills",41259762,{"$f":"VLOOKUP(A182, localcont!$D$10:$L$1764, 8)","v":1781967.6516696701},{"$f":"VLOOKUP(A182, localcont!$D$10:$L$1764, 9)*F182","v":2251694.0179329282}]
[363,73,"Dedham                       ",915,"Norfolk County",41259762,{"$f":"VLOOKUP(A183, localcont!$D$10:$L$1764, 8)","v":204077.75291158599},{"$f":"VLOOKUP(A183, localcont!$D$10:$L$1764, 9)*F183","v":257872.61345269103}]
[366,74,"Deerfield                    ",74,"Deerfield",5751003,{"$f":"VLOOKUP(A184, localcont!$D$10:$L$1764, 8)","v":3195342.38},{"$f":"VLOOKUP(A184, localcont!$D$10:$L$1764, 9)*F184","v":2741491.0108918543}]
[367,74,"Deerfield                    ",670,"Frontier",5751003,{"$f":"VLOOKUP(A185, localcont!$D$10:$L$1764, 8)","v":3166624.6153141782},{"$f":"VLOOKUP(A185, localcont!$D$10:$L$1764, 9)*F185","v":2716852.1821291326}]
[368,74,"Deerfield                    ",818,"Franklin County",5751003,{"$f":"VLOOKUP(A186, localcont!$D$10:$L$1764, 8)","v":341109.3745875312},{"$f":"VLOOKUP(A186, localcont!$D$10:$L$1764, 9)*F186","v":292659.80697901273}]
[371,75,"Dennis                       ",75,"Dennis",34086359,{"$f":"VLOOKUP(A187, localcont!$D$10:$L$1764, 8)","v":0},{"$f":"VLOOKUP(A187, localcont!$D$10:$L$1764, 9)*F187","v":0}]
[372,75,"Dennis                       ",645,"Dennis Yarmouth",34086359,{"$f":"VLOOKUP(A188, localcont!$D$10:$L$1764, 8)","v":12282633.241545426},{"$f":"VLOOKUP(A188, localcont!$D$10:$L$1764, 9)*F188","v":30656128.13508771}]
[373,75,"Dennis                       ",815,"Cape Cod",34086359,{"$f":"VLOOKUP(A189, localcont!$D$10:$L$1764, 8)","v":1374350.5853671061},{"$f":"VLOOKUP(A189, localcont!$D$10:$L$1764, 9)*F189","v":3430230.8649122901}]
[376,76,"Dighton                      ",76,"Dighton",7972729,{"$f":"VLOOKUP(A190, localcont!$D$10:$L$1764, 8)","v":0},{"$f":"VLOOKUP(A190, localcont!$D$10:$L$1764, 9)*F190","v":0}]
[377,76,"Dighton                      ",650,"Dighton Rehoboth",7972729,{"$f":"VLOOKUP(A191, localcont!$D$10:$L$1764, 8)","v":13330977.968},{"$f":"VLOOKUP(A191, localcont!$D$10:$L$1764, 9)*F191","v":6883546.6693214243}]
[378,76,"Dighton                      ",810,"Bristol Plymouth",7972729,{"$f":"VLOOKUP(A192, localcont!$D$10:$L$1764, 8)","v":1896719.3594906563},{"$f":"VLOOKUP(A192, localcont!$D$10:$L$1764, 9)*F192","v":979384.72788715747}]
[379,76,"Dighton                      ",910,"Bristol County",7972729,{"$f":"VLOOKUP(A193, localcont!$D$10:$L$1764, 8)","v":212638.84652297923},{"$f":"VLOOKUP(A193, localcont!$D$10:$L$1764, 9)*F193","v":109797.60279141759}]
[381,77,"Douglas                      ",77,"Douglas",8743834,{"$f":"VLOOKUP(A194, localcont!$D$10:$L$1764, 8)","v":12319421.250000002},{"$f":"VLOOKUP(A194, localcont!$D$10:$L$1764, 9)*F194","v":7492002.3689962113}]
[382,77,"Douglas                      ",805,"Blackstone Valley",8743834,{"$f":"VLOOKUP(A195, localcont!$D$10:$L$1764, 8)","v":2058440.512543041},{"$f":"VLOOKUP(A195, localcont!$D$10:$L$1764, 9)*F195","v":1251831.6310037889}]
[386,78,"Dover                        ",78,"Dover",30363100,{"$f":"VLOOKUP(A196, localcont!$D$10:$L$1764, 8)","v":4983017.6314199995},{"$f":"VLOOKUP(A196, localcont!$D$10:$L$1764, 9)*F196","v":11876287.709615009}]
[387,78,"Dover                        ",655,"Dover Sherborn",30363100,{"$f":"VLOOKUP(A197, localcont!$D$10:$L$1764, 8)","v":7676055.0243657483},{"$f":"VLOOKUP(A197, localcont!$D$10:$L$1764, 9)*F197","v":18294745.210087676}]
[388,78,"Dover                        ",830,"Minuteman",30363100,{"$f":"VLOOKUP(A198, localcont!$D$10:$L$1764, 8)","v":80586.936839029935},{"$f":"VLOOKUP(A198, localcont!$D$10:$L$1764, 9)*F198","v":192067.08029731715}]
[389,78,"Dover                        ",915,"Norfolk County",30363100,{"$f":"VLOOKUP(A199, localcont!$D$10:$L$1764, 8)","v":0},{"$f":"VLOOKUP(A199, localcont!$D$10:$L$1764, 9)*F199","v":0}]
[391,79,"Dracut                       ",79,"Dracut",30230747,{"$f":"VLOOKUP(A200, localcont!$D$10:$L$1764, 8)","v":46058563.059999995},{"$f":"VLOOKUP(A200, localcont!$D$10:$L$1764, 9)*F200","v":25527687.670735285}]
[392,79,"Dracut                       ",828,"Greater Lowell",{"$f":"VLOOKUP(B201, town351, 7)","v":30230747},{"$f":"VLOOKUP(A201, localcont!$D$10:$L$1764, 8)","v":8485537.6439044625},{"$f":"VLOOKUP(A201, localcont!$D$10:$L$1764, 9)*F201","v":4703059.3292647144}]
[396,80,"Dudley                       ",80,"Dudley",8683132,{"$f":"VLOOKUP(A202, localcont!$D$10:$L$1764, 8)","v":0},{"$f":"VLOOKUP(A202, localcont!$D$10:$L$1764, 9)*F202","v":0}]
[397,80,"Dudley                       ",658,"Dudley Charlton",8683132,{"$f":"VLOOKUP(A203, localcont!$D$10:$L$1764, 8)","v":17979068.161479905},{"$f":"VLOOKUP(A203, localcont!$D$10:$L$1764, 9)*F203","v":7704180.2679004474}]
[398,80,"Dudley                       ",876,"Southern Worcester",8683132,{"$f":"VLOOKUP(A204, localcont!$D$10:$L$1764, 8)","v":2284557.1243380588},{"$f":"VLOOKUP(A204, localcont!$D$10:$L$1764, 9)*F204","v":978951.73209955206}]
[401,81,"Dunstable                    ",81,"Dunstable",4979422,{"$f":"VLOOKUP(A205, localcont!$D$10:$L$1764, 8)","v":0},{"$f":"VLOOKUP(A205, localcont!$D$10:$L$1764, 9)*F205","v":0}]
[402,81,"Dunstable                    ",673,"Groton Dunstable",4979422,{"$f":"VLOOKUP(A206, localcont!$D$10:$L$1764, 8)","v":5528480.5962749477},{"$f":"VLOOKUP(A206, localcont!$D$10:$L$1764, 9)*F206","v":4728576.9334929464}]
[403,81,"Dunstable                    ",828,"Greater Lowell",4979422,{"$f":"VLOOKUP(A207, localcont!$D$10:$L$1764, 8)","v":293278.95101648179},{"$f":"VLOOKUP(A207, localcont!$D$10:$L$1764, 9)*F207","v":250845.06650705339}]
[406,82,"Duxbury                      ",82,"Duxbury",35381364,{"$f":"VLOOKUP(A208, localcont!$D$10:$L$1764, 8)","v":29901986.556480002},{"$f":"VLOOKUP(A208, localcont!$D$10:$L$1764, 9)*F208","v":35381364}]
[411,83,"East Bridgewater             ",83,"East Bridgewater",14009825,{"$f":"VLOOKUP(A209, localcont!$D$10:$L$1764, 8)","v":23394636.07},{"$f":"VLOOKUP(A209, localcont!$D$10:$L$1764, 9)*F209","v":13043988.677208209}]
[412,83,"East Bridgewater             ",872,"Southeastern",14009825,{"$f":"VLOOKUP(A210, localcont!$D$10:$L$1764, 8)","v":1732245.3916555403},{"$f":"VLOOKUP(A210, localcont!$D$10:$L$1764, 9)*F210","v":965836.32279178977}]
[416,84,"East Brookfield              ",84,"East Brookfield",1988043,{"$f":"VLOOKUP(A211, localcont!$D$10:$L$1764, 8)","v":357110.16},{"$f":"VLOOKUP(A211, localcont!$D$10:$L$1764, 9)*F211","v":182803.50753915831}]
[417,84,"East Brookfield              ",767,"Spencer East Brookfield",1988043,{"$f":"VLOOKUP(A212, localcont!$D$10:$L$1764, 8)","v":3526569.9912946983},{"$f":"VLOOKUP(A212, localcont!$D$10:$L$1764, 9)*F212","v":1805239.4924608415}]
[421,85,"Eastham                      ",85,"Eastham",13500599,{"$f":"VLOOKUP(A213, localcont!$D$10:$L$1764, 8)","v":2320433.8899999997},{"$f":"VLOOKUP(A213, localcont!$D$10:$L$1764, 9)*F213","v":5601599.1390154781}]
[422,85,"Eastham                      ",660,"Nauset",13500599,{"$f":"VLOOKUP(A214, localcont!$D$10:$L$1764, 8)","v":2839105.8604416414},{"$f":"VLOOKUP(A214, localcont!$D$10:$L$1764, 9)*F214","v":6853689.3086937713}]
[423,85,"Eastham                      ",815,"Cape Cod",13500599,{"$f":"VLOOKUP(A215, localcont!$D$10:$L$1764, 8)","v":433014.56796788826},{"$f":"VLOOKUP(A215, localcont!$D$10:$L$1764, 9)*F215","v":1045310.5522907538}]
[426,86,"Easthampton                  ",86,"Easthampton",12976004,{"$f":"VLOOKUP(A216, localcont!$D$10:$L$1764, 8)","v":19817458.09},{"$f":"VLOOKUP(A216, localcont!$D$10:$L$1764, 9)*F216","v":12976004}]
[431,87,"East Longmeadow              ",87,"East Longmeadow",17190078,{"$f":"VLOOKUP(A217, localcont!$D$10:$L$1764, 8)","v":27993088.180000003},{"$f":"VLOOKUP(A217, localcont!$D$10:$L$1764, 9)*F217","v":17190078}]
[436,88,"Easton                       ",88,"Easton",32339973,{"$f":"VLOOKUP(A218, localcont!$D$10:$L$1764, 8)","v":37338104.880000003},{"$f":"VLOOKUP(A218, localcont!$D$10:$L$1764, 9)*F218","v":30870160.655712165}]
[437,88,"Easton                       ",872,"Southeastern",32339973,{"$f":"VLOOKUP(A219, localcont!$D$10:$L$1764, 8)","v":1636009.5365982323},{"$f":"VLOOKUP(A219, localcont!$D$10:$L$1764, 9)*F219","v":1352609.5497181173}]
[438,88,"Easton                       ",910,"Bristol County",32339973,{"$f":"VLOOKUP(A220, localcont!$D$10:$L$1764, 8)","v":141759.2310153195},{"$f":"VLOOKUP(A220, localcont!$D$10:$L$1764, 9)*F220","v":117202.79456971538}]
[441,89,"Edgartown                    ",89,"Edgartown",37801476,{"$f":"VLOOKUP(A221, localcont!$D$10:$L$1764, 8)","v":5243884.84},{"$f":"VLOOKUP(A221, localcont!$D$10:$L$1764, 9)*F221","v":23971531.880886894}]
[442,89,"Edgartown                    ",700,"Marthas Vineyard",37801476,{"$f":"VLOOKUP(A222, localcont!$D$10:$L$1764, 8)","v":3025365.0315142563},{"$f":"VLOOKUP(A222, localcont!$D$10:$L$1764, 9)*F222","v":13829944.119113108}]
[446,90,"Egremont                     ",90,"Egremont",2078233,{"$f":"VLOOKUP(A223, localcont!$D$10:$L$1764, 8)","v":0},{"$f":"VLOOKUP(A223, localcont!$D$10:$L$1764, 9)*F223","v":0}]
[447,90,"Egremont                     ",765,"Southern Berkshire",2078233,{"$f":"VLOOKUP(A224, localcont!$D$10:$L$1764, 8)","v":984744.44747307792},{"$f":"VLOOKUP(A224, localcont!$D$10:$L$1764, 9)*F224","v":2078233}]
[451,91,"Erving                       ",91,"Erving",3758951,{"$f":"VLOOKUP(A225, localcont!$D$10:$L$1764, 8)","v":2355746.09},{"$f":"VLOOKUP(A225, localcont!$D$10:$L$1764, 9)*F225","v":3088199.3338474585}]
[452,91,"Erving                       ",818,"Franklin County",3758951,{"$f":"VLOOKUP(A226, localcont!$D$10:$L$1764, 8)","v":511664.0618308885},{"$f":"VLOOKUP(A226, localcont!$D$10:$L$1764, 9)*F226","v":670751.66615254141}]
[456,92,"Essex                        ",92,"Essex",6940460,{"$f":"VLOOKUP(A227, localcont!$D$10:$L$1764, 8)","v":0},{"$f":"VLOOKUP(A227, localcont!$D$10:$L$1764, 9)*F227","v":0}]
[457,92,"Essex                        ",698,"Manchester Essex",6940460,{"$f":"VLOOKUP(A228, localcont!$D$10:$L$1764, 8)","v":5527987.2751451852},{"$f":"VLOOKUP(A228, localcont!$D$10:$L$1764, 9)*F228","v":6656635.0247223713}]
[458,92,"Essex                        ",817,"Essex North Shore",6940460,{"$f":"VLOOKUP(A229, localcont!$D$10:$L$1764, 8)","v":235701.79916369461},{"$f":"VLOOKUP(A229, localcont!$D$10:$L$1764, 9)*F229","v":283824.97527762857}]
[461,93,"Everett                      ",93,"Everett",38264666,{"$f":"VLOOKUP(A230, localcont!$D$10:$L$1764, 8)","v":120819748.25191998},{"$f":"VLOOKUP(A230, localcont!$D$10:$L$1764, 9)*F230","v":38264666}]
[466,94,"Fairhaven                    ",94,"Fairhaven",15413608,{"$f":"VLOOKUP(A231, localcont!$D$10:$L$1764, 8)","v":20710203.66},{"$f":"VLOOKUP(A231, localcont!$D$10:$L$1764, 9)*F231","v":13063671.521304838}]
[467,94,"Fairhaven                    ",825,"Greater New Bedford",15413608,{"$f":"VLOOKUP(A232, localcont!$D$10:$L$1764, 8)","v":3371021.9150996706},{"$f":"VLOOKUP(A232, localcont!$D$10:$L$1764, 9)*F232","v":2126387.7320065945}]
[468,94,"Fairhaven                    ",910,"Bristol County",15413608,{"$f":"VLOOKUP(A233, localcont!$D$10:$L$1764, 8)","v":354398.0774706087},{"$f":"VLOOKUP(A233, localcont!$D$10:$L$1764, 9)*F233","v":223548.74668856719}]
[471,95,"Fall River                   ",95,"Fall River",44888403,{"$f":"VLOOKUP(A234, localcont!$D$10:$L$1764, 8)","v":179465809.67000002},{"$f":"VLOOKUP(A234, localcont!$D$10:$L$1764, 9)*F234","v":40006834.364001222}]
[472,95,"Fall River                   ",821,"Greater Fall River",44888403,{"$f":"VLOOKUP(A235, localcont!$D$10:$L$1764, 8)","v":21153889.23628721},{"$f":"VLOOKUP(A235, localcont!$D$10:$L$1764, 9)*F235","v":4715662.2444505682}]
[473,95,"Fall River                   ",910,"Bristol County",44888403,{"$f":"VLOOKUP(A236, localcont!$D$10:$L$1764, 8)","v":744235.96272889222},{"$f":"VLOOKUP(A236, localcont!$D$10:$L$1764, 9)*F236","v":165906.39154821125}]
[476,96,"Falmouth                     ",96,"Falmouth",64725257,{"$f":"VLOOKUP(A237, localcont!$D$10:$L$1764, 8)","v":36995294.280000001},{"$f":"VLOOKUP(A237, localcont!$D$10:$L$1764, 9)*F237","v":59485674.136620358}]
[477,96,"Falmouth                     ",879,"Upper Cape Cod",64725257,{"$f":"VLOOKUP(A238, localcont!$D$10:$L$1764, 8)","v":3258598.1876911055},{"$f":"VLOOKUP(A238, localcont!$D$10:$L$1764, 9)*F238","v":5239582.8633796386}]
[481,97,"Fitchburg                    ",97,"Fitchburg",22383501,{"$f":"VLOOKUP(A239, localcont!$D$10:$L$1764, 8)","v":80948312.820000008},{"$f":"VLOOKUP(A239, localcont!$D$10:$L$1764, 9)*F239","v":20647571.833561476}]
[482,97,"Fitchburg                    ",832,"Montachusett",22383501,{"$f":"VLOOKUP(A240, localcont!$D$10:$L$1764, 8)","v":6805668.8859568024},{"$f":"VLOOKUP(A240, localcont!$D$10:$L$1764, 9)*F240","v":1735929.1664385227}]
[486,98,"Florida                      ",98,"Florida",805777,{"$f":"VLOOKUP(A241, localcont!$D$10:$L$1764, 8)","v":710252.54},{"$f":"VLOOKUP(A241, localcont!$D$10:$L$1764, 9)*F241","v":511874.40812849236}]
[487,98,"Florida                      ",851,"Northern Berkshire",805777,{"$f":"VLOOKUP(A242, localcont!$D$10:$L$1764, 8)","v":407805.23322611954},{"$f":"VLOOKUP(A242, localcont!$D$10:$L$1764, 9)*F242","v":293902.5918715077}]
[491,99,"Foxborough                   ",99,"Foxborough",26025856,{"$f":"VLOOKUP(A243, localcont!$D$10:$L$1764, 8)","v":29685008.984399997},{"$f":"VLOOKUP(A243, localcont!$D$10:$L$1764, 9)*F243","v":25058628.000009183}]
[492,99,"Foxborough                   ",872,"Southeastern",26025856,{"$f":"VLOOKUP(A244, localcont!$D$10:$L$1764, 8)","v":904617.03778829414},{"$f":"VLOOKUP(A244, localcont!$D$10:$L$1764, 9)*F244","v":763633.31553376978}]
[493,99,"Foxborough                   ",915,"Norfolk County",26025856,{"$f":"VLOOKUP(A245, localcont!$D$10:$L$1764, 8)","v":241182.79888593088},{"$f":"VLOOKUP(A245, localcont!$D$10:$L$1764, 9)*F245","v":203594.6844570486}]
[496,100,"Framingham                   ",100,"Framingham",75677063,{"$f":"VLOOKUP(A246, localcont!$D$10:$L$1764, 8)","v":124104569.45571999},{"$f":"VLOOKUP(A246, localcont!$D$10:$L$1764, 9)*F246","v":68897929.967099592}]
[497,100,"Framingham                   ",829,"South Middlesex",75677063,{"$f":"VLOOKUP(A247, localcont!$D$10:$L$1764, 8)","v":12211127.195445579},{"$f":"VLOOKUP(A247, localcont!$D$10:$L$1764, 9)*F247","v":6779133.0329004107}]
[501,101,"Franklin                     ",101,"Franklin",45052439,{"$f":"VLOOKUP(A248, localcont!$D$10:$L$1764, 8)","v":59769256.119000003},{"$f":"VLOOKUP(A248, localcont!$D$10:$L$1764, 9)*F248","v":42716440.137884721}]
[502,101,"Franklin                     ",878,"Tri County",45052439,{"$f":"VLOOKUP(A249, localcont!$D$10:$L$1764, 8)","v":3027369.3986468469},{"$f":"VLOOKUP(A249, localcont!$D$10:$L$1764, 9)*F249","v":2163628.1273953007}]
[503,101,"Franklin                     ",915,"Norfolk County",45052439,{"$f":"VLOOKUP(A250, localcont!$D$10:$L$1764, 8)","v":241182.79888593088},{"$f":"VLOOKUP(A250, localcont!$D$10:$L$1764, 9)*F250","v":172370.7347199744}]
[506,102,"Freetown                     ",102,"Freetown",10323067,{"$f":"VLOOKUP(A251, localcont!$D$10:$L$1764, 8)","v":1116188.82},{"$f":"VLOOKUP(A251, localcont!$D$10:$L$1764, 9)*F251","v":798958.09518774226}]
[507,102,"Freetown                     ",665,"Freetown Lakeville",10323067,{"$f":"VLOOKUP(A252, localcont!$D$10:$L$1764, 8)","v":13093070.106229845},{"$f":"VLOOKUP(A252, localcont!$D$10:$L$1764, 9)*F252","v":9371903.8972572479}]
[508,102,"Freetown                     ",910,"Bristol County",10323067,{"$f":"VLOOKUP(A253, localcont!$D$10:$L$1764, 8)","v":212638.84652297923},{"$f":"VLOOKUP(A253, localcont!$D$10:$L$1764, 9)*F253","v":152205.00755501044}]
[511,103,"Gardner                      ",103,"Gardner",11495465,{"$f":"VLOOKUP(A254, localcont!$D$10:$L$1764, 8)","v":30713287.02},{"$f":"VLOOKUP(A254, localcont!$D$10:$L$1764, 9)*F254","v":10424693.976304786}]
[512,103,"Gardner                      ",832,"Montachusett",11495465,{"$f":"VLOOKUP(A255, localcont!$D$10:$L$1764, 8)","v":3154711.0983019657},{"$f":"VLOOKUP(A255, localcont!$D$10:$L$1764, 9)*F255","v":1070771.0236952149}]
[516,104,"Aquinnah",104,"Aquinnah",2901839,{"$f":"VLOOKUP(A256, localcont!$D$10:$L$1764, 8)","v":0},{"$f":"VLOOKUP(A256, localcont!$D$10:$L$1764, 9)*F256","v":0}]
[517,104,"Aquinnah",700,"Marthas Vineyard",2901839,{"$f":"VLOOKUP(A257, localcont!$D$10:$L$1764, 8)","v":277839.64579658111},{"$f":"VLOOKUP(A257, localcont!$D$10:$L$1764, 9)*F257","v":1048926.926831166}]
[518,104,"Aquinnah",774,"Upisland",2901839,{"$f":"VLOOKUP(A258, localcont!$D$10:$L$1764, 8)","v":490799.14046700898},{"$f":"VLOOKUP(A258, localcont!$D$10:$L$1764, 9)*F258","v":1852912.073168834}]
[521,105,"Georgetown                   ",105,"Georgetown",11260588,{"$f":"VLOOKUP(A259, localcont!$D$10:$L$1764, 8)","v":13268519.02},{"$f":"VLOOKUP(A259, localcont!$D$10:$L$1764, 9)*F259","v":10680485.715728555}]
[522,105,"Georgetown                   ",885,"Whittier",11260588,{"$f":"VLOOKUP(A260, localcont!$D$10:$L$1764, 8)","v":720669.30262038915},{"$f":"VLOOKUP(A260, localcont!$D$10:$L$1764, 9)*F260","v":580102.28427144582}]
[526,106,"Gill                         ",106,"Gill",1129740,{"$f":"VLOOKUP(A261, localcont!$D$10:$L$1764, 8)","v":0},{"$f":"VLOOKUP(A261, localcont!$D$10:$L$1764, 9)*F261","v":0}]
[527,106,"Gill                         ",674,"Gill Montague",1129740,{"$f":"VLOOKUP(A262, localcont!$D$10:$L$1764, 8)","v":1403433.0521495845},{"$f":"VLOOKUP(A262, localcont!$D$10:$L$1764, 9)*F262","v":939457.86513156421}]
[528,106,"Gill                         ",818,"Franklin County",1129740,{"$f":"VLOOKUP(A263, localcont!$D$10:$L$1764, 8)","v":284257.81210586766},{"$f":"VLOOKUP(A263, localcont!$D$10:$L$1764, 9)*F263","v":190282.13486843582}]
[531,107,"Gloucester                   ",107,"Gloucester",42410396,{"$f":"VLOOKUP(A264, localcont!$D$10:$L$1764, 8)","v":39342679.288419999},{"$f":"VLOOKUP(A264, localcont!$D$10:$L$1764, 9)*F264","v":40595686.003589019}]
[532,107,"Gloucester                   ",817,"Essex North Shore",{"$f":"VLOOKUP(B265, town351, 7)","v":42410396},{"$f":"VLOOKUP(A265, localcont!$D$10:$L$1764, 8)","v":1758698.0395891082},{"$f":"VLOOKUP(A265, localcont!$D$10:$L$1764, 9)*F265","v":1814709.9964109804}]
[536,108,"Goshen                       ",108,"Goshen",786062,{"$f":"VLOOKUP(A266, localcont!$D$10:$L$1764, 8)","v":134575.02000000002},{"$f":"VLOOKUP(A266, localcont!$D$10:$L$1764, 9)*F266","v":87682.432404750813}]
[537,108,"Goshen                       ",632,"Chesterfield Goshen",786062,{"$f":"VLOOKUP(A267, localcont!$D$10:$L$1764, 8)","v":631312.69544035883},{"$f":"VLOOKUP(A267, localcont!$D$10:$L$1764, 9)*F267","v":411332.15320503234}]
[538,108,"Goshen                       ",683,"Hampshire",786062,{"$f":"VLOOKUP(A268, localcont!$D$10:$L$1764, 8)","v":440560.44606740063},{"$f":"VLOOKUP(A268, localcont!$D$10:$L$1764, 9)*F268","v":287047.41439021681}]
[541,109,"Gosnold                      ",109,"Gosnold",790518,{"$f":"VLOOKUP(A269, localcont!$D$10:$L$1764, 8)","v":41750.770000000004},{"$f":"VLOOKUP(A269, localcont!$D$10:$L$1764, 9)*F269","v":790518}]
[546,110,"Grafton                      ",110,"Grafton",23144866,{"$f":"VLOOKUP(A270, localcont!$D$10:$L$1764, 8)","v":33113667.029999997},{"$f":"VLOOKUP(A270, localcont!$D$10:$L$1764, 9)*F270","v":22380815.741474476}]
[547,110,"Grafton                      ",805,"Blackstone Valley",23144866,{"$f":"VLOOKUP(A271, localcont!$D$10:$L$1764, 8)","v":1130455.0355648827},{"$f":"VLOOKUP(A271, localcont!$D$10:$L$1764, 9)*F271","v":764050.25852552394}]
[551,111,"Granby                       ",111,"Granby",5381133,{"$f":"VLOOKUP(A272, localcont!$D$10:$L$1764, 8)","v":8293230.8600000022},{"$f":"VLOOKUP(A272, localcont!$D$10:$L$1764, 9)*F272","v":5148276.9077582574}]
[552,111,"Granby                       ",860,"Pathfinder",5381133,{"$f":"VLOOKUP(A273, localcont!$D$10:$L$1764, 8)","v":375102.07098769071},{"$f":"VLOOKUP(A273, localcont!$D$10:$L$1764, 9)*F273","v":232856.09224174256}]
[556,112,"Granville                    ",112,"Granville",1476110,{"$f":"VLOOKUP(A274, localcont!$D$10:$L$1764, 8)","v":0},{"$f":"VLOOKUP(A274, localcont!$D$10:$L$1764, 9)*F274","v":0}]
[557,112,"Granville                    ",766,"Southwick Tolland Granville",1476110,{"$f":"VLOOKUP(A275, localcont!$D$10:$L$1764, 8)","v":2022276.3484122918},{"$f":"VLOOKUP(A275, localcont!$D$10:$L$1764, 9)*F275","v":1476110}]
[561,113,"Great Barrington             ",113,"Great Barrington",9700295,{"$f":"VLOOKUP(A276, localcont!$D$10:$L$1764, 8)","v":0},{"$f":"VLOOKUP(A276, localcont!$D$10:$L$1764, 9)*F276","v":0}]
[562,113,"Great Barrington             ",618,"Berkshire Hills",9700295,{"$f":"VLOOKUP(A277, localcont!$D$10:$L$1764, 8)","v":8890660.4402124211},{"$f":"VLOOKUP(A277, localcont!$D$10:$L$1764, 9)*F277","v":9700295}]
[566,114,"Greenfield                   ",114,"Greenfield",11175980,{"$f":"VLOOKUP(A278, localcont!$D$10:$L$1764, 8)","v":23851070.390000001},{"$f":"VLOOKUP(A278, localcont!$D$10:$L$1764, 9)*F278","v":10181011.533793086}]
[567,114,"Greenfield                   ",818,"Franklin County",11175980,{"$f":"VLOOKUP(A279, localcont!$D$10:$L$1764, 8)","v":2330914.0594294216},{"$f":"VLOOKUP(A279, localcont!$D$10:$L$1764, 9)*F279","v":994968.46620691253}]
[571,115,"Groton                       ",115,"Groton",18167379,{"$f":"VLOOKUP(A280, localcont!$D$10:$L$1764, 8)","v":0},{"$f":"VLOOKUP(A280, localcont!$D$10:$L$1764, 9)*F280","v":0}]
[572,115,"Groton                       ",673,"Groton Dunstable",18167379,{"$f":"VLOOKUP(A281, localcont!$D$10:$L$1764, 8)","v":18448974.573725052},{"$f":"VLOOKUP(A281, localcont!$D$10:$L$1764, 9)*F281","v":17397179.349688698}]
[573,115,"Groton                       ",852,"Nashoba Valley",18167379,{"$f":"VLOOKUP(A282, localcont!$D$10:$L$1764, 8)","v":816764.22825056128},{"$f":"VLOOKUP(A282, localcont!$D$10:$L$1764, 9)*F282","v":770199.6503112996}]
[576,116,"Groveland                    ",116,"Groveland",7837482,{"$f":"VLOOKUP(A283, localcont!$D$10:$L$1764, 8)","v":134575.02000000002},{"$f":"VLOOKUP(A283, localcont!$D$10:$L$1764, 9)*F283","v":102106.33232532303}]
[577,116,"Groveland                    ",745,"Pentucket",7837482,{"$f":"VLOOKUP(A284, localcont!$D$10:$L$1764, 8)","v":9474470.5234593432},{"$f":"VLOOKUP(A284, localcont!$D$10:$L$1764, 9)*F284","v":7188581.0299327234}]
[578,116,"Groveland                    ",885,"Whittier",7837482,{"$f":"VLOOKUP(A285, localcont!$D$10:$L$1764, 8)","v":720669.30262038915},{"$f":"VLOOKUP(A285, localcont!$D$10:$L$1764, 9)*F285","v":546794.63774195418}]
[581,117,"Hadley                       ",117,"Hadley",6462408,{"$f":"VLOOKUP(A286, localcont!$D$10:$L$1764, 8)","v":5857373.9399999985},{"$f":"VLOOKUP(A286, localcont!$D$10:$L$1764, 9)*F286","v":6462408}]
[586,118,"Halifax                      ",118,"Halifax",7483222,{"$f":"VLOOKUP(A287, localcont!$D$10:$L$1764, 8)","v":6881455.87414},{"$f":"VLOOKUP(A287, localcont!$D$10:$L$1764, 9)*F287","v":3833817.2842687252}]
[587,118,"Halifax                      ",760,"Silver Lake",7483222,{"$f":"VLOOKUP(A288, localcont!$D$10:$L$1764, 8)","v":6550447.1538667446},{"$f":"VLOOKUP(A288, localcont!$D$10:$L$1764, 9)*F288","v":3649404.7157312757}]
[591,119,"Hamilton                     ",119,"Hamilton",14648245,{"$f":"VLOOKUP(A289, localcont!$D$10:$L$1764, 8)","v":0},{"$f":"VLOOKUP(A289, localcont!$D$10:$L$1764, 9)*F289","v":0}]
[592,119,"Hamilton                     ",675,"Hamilton Wenham",14648245,{"$f":"VLOOKUP(A290, localcont!$D$10:$L$1764, 8)","v":11714052.895583194},{"$f":"VLOOKUP(A290, localcont!$D$10:$L$1764, 9)*F290","v":14272695.417300925}]
[593,119,"Hamilton                     ",817,"Essex North Shore",14648245,{"$f":"VLOOKUP(A291, localcont!$D$10:$L$1764, 8)","v":308225.42960726109},{"$f":"VLOOKUP(A291, localcont!$D$10:$L$1764, 9)*F291","v":375549.5826990754}]
[596,120,"Hampden                      ",120,"Hampden",5212308,{"$f":"VLOOKUP(A292, localcont!$D$10:$L$1764, 8)","v":0},{"$f":"VLOOKUP(A292, localcont!$D$10:$L$1764, 9)*F292","v":0}]
[597,120,"Hampden                      ",680,"Hampden Wilbraham",5212308,{"$f":"VLOOKUP(A293, localcont!$D$10:$L$1764, 8)","v":6505214.9423783263},{"$f":"VLOOKUP(A293, localcont!$D$10:$L$1764, 9)*F293","v":5212308}]
[601,121,"Hancock                      ",121,"Hancock",1214753,{"$f":"VLOOKUP(A294, localcont!$D$10:$L$1764, 8)","v":936904.25999999989},{"$f":"VLOOKUP(A294, localcont!$D$10:$L$1764, 9)*F294","v":1214753}]
[606,122,"Hanover                      ",122,"Hanover",22318374,{"$f":"VLOOKUP(A295, localcont!$D$10:$L$1764, 8)","v":27986422.446649998},{"$f":"VLOOKUP(A295, localcont!$D$10:$L$1764, 9)*F295","v":21593458.127453007}]
[607,122,"Hanover                      ",873,"South Shore",22318374,{"$f":"VLOOKUP(A296, localcont!$D$10:$L$1764, 8)","v":939534.63718666811},{"$f":"VLOOKUP(A296, localcont!$D$10:$L$1764, 9)*F296","v":724915.87254699424}]
[611,123,"Hanson                       ",123,"Hanson",10972100,{"$f":"VLOOKUP(A297, localcont!$D$10:$L$1764, 8)","v":14952.78},{"$f":"VLOOKUP(A297, localcont!$D$10:$L$1764, 9)*F297","v":9468.7012359251476}]
[612,123,"Hanson                       ",780,"Whitman Hanson",10972100,{"$f":"VLOOKUP(A298, localcont!$D$10:$L$1764, 8)","v":15764495.091676069},{"$f":"VLOOKUP(A298, localcont!$D$10:$L$1764, 9)*F298","v":9982711.8541360945}]
[613,123,"Hanson                       ",873,"South Shore",10972100,{"$f":"VLOOKUP(A299, localcont!$D$10:$L$1764, 8)","v":1547468.814165489},{"$f":"VLOOKUP(A299, localcont!$D$10:$L$1764, 9)*F299","v":979919.44462798152}]
[616,124,"Hardwick                     ",124,"Hardwick",1818117,{"$f":"VLOOKUP(A300, localcont!$D$10:$L$1764, 8)","v":44858.340000000004},{"$f":"VLOOKUP(A300, localcont!$D$10:$L$1764, 9)*F300","v":17835.613043052523}]
[617,124,"Hardwick                     ",753,"Quabbin",1818117,{"$f":"VLOOKUP(A301, localcont!$D$10:$L$1764, 8)","v":4077764.1850598957},{"$f":"VLOOKUP(A301, localcont!$D$10:$L$1764, 9)*F301","v":1621313.3184497398}]
[618,124,"Hardwick                     ",860,"Pathfinder",1818117,{"$f":"VLOOKUP(A302, localcont!$D$10:$L$1764, 8)","v":450122.48510105594},{"$f":"VLOOKUP(A302, localcont!$D$10:$L$1764, 9)*F302","v":178968.06850720753}]
[621,125,"Harvard                      ",125,"Harvard",11055682,{"$f":"VLOOKUP(A303, localcont!$D$10:$L$1764, 8)","v":9395298.2599999998},{"$f":"VLOOKUP(A303, localcont!$D$10:$L$1764, 9)*F303","v":10972885.901068585}]
[622,125,"Harvard                      ",832,"Montachusett",11055682,{"$f":"VLOOKUP(A304, localcont!$D$10:$L$1764, 8)","v":70892.38430423924},{"$f":"VLOOKUP(A304, localcont!$D$10:$L$1764, 9)*F304","v":82796.098931416214}]
[626,126,"Harwich                      ",126,"Harwich",28419590,{"$f":"VLOOKUP(A305, localcont!$D$10:$L$1764, 8)","v":0},{"$f":"VLOOKUP(A305, localcont!$D$10:$L$1764, 9)*F305","v":0}]
[627,126,"Harwich                      ",712,"Monomoy",28419590,{"$f":"VLOOKUP(A306, localcont!$D$10:$L$1764, 8)","v":16086119.514606355},{"$f":"VLOOKUP(A306, localcont!$D$10:$L$1764, 9)*F306","v":26818805.09360401}]
[628,126,"Harwich                      ",815,"Cape Cod",28419590,{"$f":"VLOOKUP(A307, localcont!$D$10:$L$1764, 8)","v":960162.73773528496},{"$f":"VLOOKUP(A307, localcont!$D$10:$L$1764, 9)*F307","v":1600784.9063959895}]
[631,127,"Hatfield                     ",127,"Hatfield",3876330,{"$f":"VLOOKUP(A308, localcont!$D$10:$L$1764, 8)","v":3877179.38},{"$f":"VLOOKUP(A308, localcont!$D$10:$L$1764, 9)*F308","v":3876330}]
[636,128,"Haverhill                    ",128,"Haverhill",53751824,{"$f":"VLOOKUP(A309, localcont!$D$10:$L$1764, 8)","v":109839437.75000001},{"$f":"VLOOKUP(A309, localcont!$D$10:$L$1764, 9)*F309","v":46888993.423995018}]
[637,128,"Haverhill                    ",885,"Whittier",53751824,{"$f":"VLOOKUP(A310, localcont!$D$10:$L$1764, 8)","v":16076469.055873163},{"$f":"VLOOKUP(A310, localcont!$D$10:$L$1764, 9)*F310","v":6862830.5760049829}]
[641,129,"Hawley                       ",129,"Hawley",289854,{"$f":"VLOOKUP(A311, localcont!$D$10:$L$1764, 8)","v":59811.12},{"$f":"VLOOKUP(A311, localcont!$D$10:$L$1764, 9)*F311","v":48313.595550153943}]
[642,129,"Hawley                       ",685,"Hawlemont",289854,{"$f":"VLOOKUP(A312, localcont!$D$10:$L$1764, 8)","v":172475.41690263915},{"$f":"VLOOKUP(A312, localcont!$D$10:$L$1764, 9)*F312","v":139320.37277647186}]
[643,129,"Hawley                       ",717,"Mohawk Trail",289854,{"$f":"VLOOKUP(A313, localcont!$D$10:$L$1764, 8)","v":126546.04798504812},{"$f":"VLOOKUP(A313, localcont!$D$10:$L$1764, 9)*F313","v":102220.03167337424}]
[646,130,"Heath                        ",130,"Heath",453916,{"$f":"VLOOKUP(A314, localcont!$D$10:$L$1764, 8)","v":0},{"$f":"VLOOKUP(A314, localcont!$D$10:$L$1764, 9)*F314","v":0}]
[647,130,"Heath                        ",717,"Mohawk Trail",453916,{"$f":"VLOOKUP(A315, localcont!$D$10:$L$1764, 8)","v":966351.63942241343},{"$f":"VLOOKUP(A315, localcont!$D$10:$L$1764, 9)*F315","v":406129.84199044568}]
[648,130,"Heath                        ",818,"Franklin County",453916,{"$f":"VLOOKUP(A316, localcont!$D$10:$L$1764, 8)","v":113703.12486251042},{"$f":"VLOOKUP(A316, localcont!$D$10:$L$1764, 9)*F316","v":47786.158009554281}]
[651,131,"Hingham                      ",131,"Hingham",68848617,{"$f":"VLOOKUP(A317, localcont!$D$10:$L$1764, 8)","v":43233894.313900001},{"$f":"VLOOKUP(A317, localcont!$D$10:$L$1764, 9)*F317","v":68848617}]
[656,132,"Hinsdale                     ",132,"Hinsdale",2037370,{"$f":"VLOOKUP(A318, localcont!$D$10:$L$1764, 8)","v":119622.24},{"$f":"VLOOKUP(A318, localcont!$D$10:$L$1764, 9)*F318","v":104858.93787245188}]
[657,132,"Hinsdale                     ",635,"Central Berkshire",2037370,{"$f":"VLOOKUP(A319, localcont!$D$10:$L$1764, 8)","v":2204593.2065196787},{"$f":"VLOOKUP(A319, localcont!$D$10:$L$1764, 9)*F319","v":1932511.0621275478}]
[661,133,"Holbrook                     ",133,"Holbrook",9953732,{"$f":"VLOOKUP(A320, localcont!$D$10:$L$1764, 8)","v":17262299.148400001},{"$f":"VLOOKUP(A320, localcont!$D$10:$L$1764, 9)*F320","v":8795475.3065105043}]
[662,133,"Holbrook                     ",806,"Blue Hills",9953732,{"$f":"VLOOKUP(A321, localcont!$D$10:$L$1764, 8)","v":2199023.9104084545},{"$f":"VLOOKUP(A321, localcont!$D$10:$L$1764, 9)*F321","v":1120445.2162570965}]
[663,133,"Holbrook                     ",915,"Norfolk County",9953732,{"$f":"VLOOKUP(A322, localcont!$D$10:$L$1764, 8)","v":74210.091948689762},{"$f":"VLOOKUP(A322, localcont!$D$10:$L$1764, 9)*F322","v":37811.477232398276}]
[666,134,"Holden                       ",134,"Holden",21561325,{"$f":"VLOOKUP(A323, localcont!$D$10:$L$1764, 8)","v":14952.78},{"$f":"VLOOKUP(A323, localcont!$D$10:$L$1764, 9)*F323","v":8856.7511188961489}]
[667,134,"Holden                       ",775,"Wachusett",21561325,{"$f":"VLOOKUP(A324, localcont!$D$10:$L$1764, 8)","v":34827222.258734651},{"$f":"VLOOKUP(A324, localcont!$D$10:$L$1764, 9)*F324","v":20628675.049595661}]
[668,134,"Holden                       ",832,"Montachusett",21561325,{"$f":"VLOOKUP(A325, localcont!$D$10:$L$1764, 8)","v":1559632.4531396565},{"$f":"VLOOKUP(A325, localcont!$D$10:$L$1764, 9)*F325","v":923793.19928544376}]
[671,135,"Holland                      ",135,"Holland",2499051,{"$f":"VLOOKUP(A326, localcont!$D$10:$L$1764, 8)","v":1813558.83},{"$f":"VLOOKUP(A326, localcont!$D$10:$L$1764, 9)*F326","v":1199142.7856880983}]
[672,135,"Holland                      ",770,"Tantasqua",2499051,{"$f":"VLOOKUP(A327, localcont!$D$10:$L$1764, 8)","v":1965954.387076692},{"$f":"VLOOKUP(A327, localcont!$D$10:$L$1764, 9)*F327","v":1299908.2143119019}]
[676,136,"Holliston                    ",136,"Holliston",22487156,{"$f":"VLOOKUP(A328, localcont!$D$10:$L$1764, 8)","v":28327730.336479999},{"$f":"VLOOKUP(A328, localcont!$D$10:$L$1764, 9)*F328","v":21443053.751192153}]
[677,136,"Holliston                    ",829,"South Middlesex",{"$f":"VLOOKUP(B329, town351, 7)","v":22487156},{"$f":"VLOOKUP(A329, localcont!$D$10:$L$1764, 8)","v":1379329.98215316},{"$f":"VLOOKUP(A329, localcont!$D$10:$L$1764, 9)*F329","v":1044102.2488078501}]
[681,137,"Holyoke                      ",137,"Holyoke",18368797,{"$f":"VLOOKUP(A330, localcont!$D$10:$L$1764, 8)","v":94346220.059999973},{"$f":"VLOOKUP(A330, localcont!$D$10:$L$1764, 9)*F330","v":18368797}]
[686,138,"Hopedale                     ",138,"Hopedale",6618282,{"$f":"VLOOKUP(A331, localcont!$D$10:$L$1764, 8)","v":10312156.29149},{"$f":"VLOOKUP(A331, localcont!$D$10:$L$1764, 9)*F331","v":6099343.9984500064}]
[687,138,"Hopedale                     ",805,"Blackstone Valley",6618282,{"$f":"VLOOKUP(A332, localcont!$D$10:$L$1764, 8)","v":877368.0872790463},{"$f":"VLOOKUP(A332, localcont!$D$10:$L$1764, 9)*F332","v":518938.00154999347}]
[691,139,"Hopkinton                    ",139,"Hopkinton",37119120,{"$f":"VLOOKUP(A333, localcont!$D$10:$L$1764, 8)","v":43582814.802780002},{"$f":"VLOOKUP(A333, localcont!$D$10:$L$1764, 9)*F333","v":36658458.464940332}]
[692,139,"Hopkinton                    ",829,"South Middlesex",37119120,{"$f":"VLOOKUP(A334, localcont!$D$10:$L$1764, 8)","v":547675.13992633007},{"$f":"VLOOKUP(A334, localcont!$D$10:$L$1764, 9)*F334","v":460661.53505966568}]
[696,140,"Hubbardston                  ",140,"Hubbardston",4155280,{"$f":"VLOOKUP(A335, localcont!$D$10:$L$1764, 8)","v":0},{"$f":"VLOOKUP(A335, localcont!$D$10:$L$1764, 9)*F335","v":0}]
[697,140,"Hubbardston                  ",753,"Quabbin",4155280,{"$f":"VLOOKUP(A336, localcont!$D$10:$L$1764, 8)","v":5750693.0814310582},{"$f":"VLOOKUP(A336, localcont!$D$10:$L$1764, 9)*F336","v":3679062.0078158393}]
[698,140,"Hubbardston                  ",832,"Montachusett",4155280,{"$f":"VLOOKUP(A337, localcont!$D$10:$L$1764, 8)","v":744370.03428824153},{"$f":"VLOOKUP(A337, localcont!$D$10:$L$1764, 9)*F337","v":476217.99218416074}]
[701,141,"Hudson                       ",141,"Hudson",22147429,{"$f":"VLOOKUP(A338, localcont!$D$10:$L$1764, 8)","v":30183664.778300002},{"$f":"VLOOKUP(A338, localcont!$D$10:$L$1764, 9)*F338","v":19335050.791680541}]
[702,141,"Hudson                       ",801,"Assabet Valley",22147429,{"$f":"VLOOKUP(A339, localcont!$D$10:$L$1764, 8)","v":4390362.4554343512},{"$f":"VLOOKUP(A339, localcont!$D$10:$L$1764, 9)*F339","v":2812378.2083194577}]
[706,142,"Hull                         ",142,"Hull",15071942,{"$f":"VLOOKUP(A340, localcont!$D$10:$L$1764, 8)","v":10312532.869039997},{"$f":"VLOOKUP(A340, localcont!$D$10:$L$1764, 9)*F340","v":15071942}]
[711,143,"Huntington                   ",143,"Huntington",1657728,{"$f":"VLOOKUP(A341, localcont!$D$10:$L$1764, 8)","v":431874.06000000006},{"$f":"VLOOKUP(A341, localcont!$D$10:$L$1764, 9)*F341","v":198796.11424416924}]
[712,143,"Huntington                   ",672,"Gateway",1657728,{"$f":"VLOOKUP(A342, localcont!$D$10:$L$1764, 8)","v":3169452.4772800342},{"$f":"VLOOKUP(A342, localcont!$D$10:$L$1764, 9)*F342","v":1458931.8857558307}]
[716,144,"Ipswich                      ",144,"Ipswich",22776189,{"$f":"VLOOKUP(A343, localcont!$D$10:$L$1764, 8)","v":18360232.905999996},{"$f":"VLOOKUP(A343, localcont!$D$10:$L$1764, 9)*F343","v":22151932.768481702}]
[717,144,"Ipswich                      ",885,"Whittier",22776189,{"$f":"VLOOKUP(A344, localcont!$D$10:$L$1764, 8)","v":517403.60191077623},{"$f":"VLOOKUP(A344, localcont!$D$10:$L$1764, 9)*F344","v":624256.23151829687}]
[721,145,"Kingston                     ",145,"Kingston",16339437,{"$f":"VLOOKUP(A345, localcont!$D$10:$L$1764, 8)","v":11891965.326339999},{"$f":"VLOOKUP(A345, localcont!$D$10:$L$1764, 9)*F345","v":7956564.9050230188}]
[722,145,"Kingston                     ",760,"Silver Lake",16339437,{"$f":"VLOOKUP(A346, localcont!$D$10:$L$1764, 8)","v":12529128.521992618},{"$f":"VLOOKUP(A346, localcont!$D$10:$L$1764, 9)*F346","v":8382872.0949769812}]
[726,146,"Lakeville                    ",146,"Lakeville",13748636,{"$f":"VLOOKUP(A347, localcont!$D$10:$L$1764, 8)","v":134575.02000000002},{"$f":"VLOOKUP(A347, localcont!$D$10:$L$1764, 9)*F347","v":94876.475757763299}]
[727,146,"Lakeville                    ",665,"Freetown Lakeville",13748636,{"$f":"VLOOKUP(A348, localcont!$D$10:$L$1764, 8)","v":16953705.773770154},{"$f":"VLOOKUP(A348, localcont!$D$10:$L$1764, 9)*F348","v":11952499.46720688}]
[728,146,"Lakeville                    ",855,"Old Colony",13748636,{"$f":"VLOOKUP(A349, localcont!$D$10:$L$1764, 8)","v":2413107.194087578},{"$f":"VLOOKUP(A349, localcont!$D$10:$L$1764, 9)*F349","v":1701260.0570353568}]
[731,147,"Lancaster                    ",147,"Lancaster",8676404,{"$f":"VLOOKUP(A350, localcont!$D$10:$L$1764, 8)","v":14952.78},{"$f":"VLOOKUP(A350, localcont!$D$10:$L$1764, 9)*F350","v":10884.573899098494}]
[732,147,"Lancaster                    ",725,"Nashoba",8676404,{"$f":"VLOOKUP(A351, localcont!$D$10:$L$1764, 8)","v":10735823.638171408},{"$f":"VLOOKUP(A351, localcont!$D$10:$L$1764, 9)*F351","v":7814925.7701487709}]
[733,147,"Lancaster                    ",830,"Minuteman",8676404,{"$f":"VLOOKUP(A352, localcont!$D$10:$L$1764, 8)","v":1168510.5843143146},{"$f":"VLOOKUP(A352, localcont!$D$10:$L$1764, 9)*F352","v":850593.65595213184}]
[736,148,"Lanesborough                 ",148,"Lanesborough",2625816,{"$f":"VLOOKUP(A353, localcont!$D$10:$L$1764, 8)","v":14952.78},{"$f":"VLOOKUP(A353, localcont!$D$10:$L$1764, 9)*F353","v":8521.3237846225438}]
[737,148,"Lanesborough                 ",715,"Mount Greylock",2625816,{"$f":"VLOOKUP(A354, localcont!$D$10:$L$1764, 8)","v":4166352.032709213},{"$f":"VLOOKUP(A354, localcont!$D$10:$L$1764, 9)*F354","v":2374330.0357147963}]
[738,148,"Lanesborough                 ",851,"Northern Berkshire",2625816,{"$f":"VLOOKUP(A355, localcont!$D$10:$L$1764, 8)","v":426341.83479101327},{"$f":"VLOOKUP(A355, localcont!$D$10:$L$1764, 9)*F355","v":242964.64050058089}]
[741,149,"Lawrence                     ",149,"Lawrence",38098345,{"$f":"VLOOKUP(A356, localcont!$D$10:$L$1764, 8)","v":234592260.91},{"$f":"VLOOKUP(A356, localcont!$D$10:$L$1764, 9)*F356","v":34098588.327521354}]
[742,149,"Lawrence                     ",823,"Greater Lawrence",38098345,{"$f":"VLOOKUP(A357, localcont!$D$10:$L$1764, 8)","v":27517618.966334209},{"$f":"VLOOKUP(A357, localcont!$D$10:$L$1764, 9)*F357","v":3999756.6724786465}]
[746,150,"Lee                          ",150,"Lee",6127928,{"$f":"VLOOKUP(A358, localcont!$D$10:$L$1764, 8)","v":7363633.6299999999},{"$f":"VLOOKUP(A358, localcont!$D$10:$L$1764, 9)*F358","v":6127928}]
[751,151,"Leicester                    ",151,"Leicester",8874997,{"$f":"VLOOKUP(A359, localcont!$D$10:$L$1764, 8)","v":17918102.010000005},{"$f":"VLOOKUP(A359, localcont!$D$10:$L$1764, 9)*F359","v":8874997}]
[756,152,"Lenox                        ",152,"Lenox",8305532,{"$f":"VLOOKUP(A360, localcont!$D$10:$L$1764, 8)","v":5879254.1000000006},{"$f":"VLOOKUP(A360, localcont!$D$10:$L$1764, 9)*F360","v":8305532}]
[761,153,"Leominster                   ",153,"Leominster",32685622,{"$f":"VLOOKUP(A361, localcont!$D$10:$L$1764, 8)","v":81402160.149999991},{"$f":"VLOOKUP(A361, localcont!$D$10:$L$1764, 9)*F361","v":32685622}]
[766,154,"Leverett                     ",154,"Leverett",2209393,{"$f":"VLOOKUP(A362, localcont!$D$10:$L$1764, 8)","v":1142444.52},{"$f":"VLOOKUP(A362, localcont!$D$10:$L$1764, 9)*F362","v":1149413.9263485188}]
[767,154,"Leverett                     ",605,"Amherst Pelham",2209393,{"$f":"VLOOKUP(A363, localcont!$D$10:$L$1764, 8)","v":1053551.9504751749},{"$f":"VLOOKUP(A363, localcont!$D$10:$L$1764, 9)*F363","v":1059979.0736514812}]
[771,155,"Lexington                    ",155,"Lexington",137327876,{"$f":"VLOOKUP(A364, localcont!$D$10:$L$1764, 8)","v":80618068.692389995},{"$f":"VLOOKUP(A364, localcont!$D$10:$L$1764, 9)*F364","v":134768267.72513095}]
[772,155,"Lexington                    ",830,"Minuteman",137327876,{"$f":"VLOOKUP(A365, localcont!$D$10:$L$1764, 8)","v":1531151.8001394097},{"$f":"VLOOKUP(A365, localcont!$D$10:$L$1764, 9)*F365","v":2559608.2748690653}]
[776,156,"Leyden                       ",156,"Leyden",738129,{"$f":"VLOOKUP(A366, localcont!$D$10:$L$1764, 8)","v":0},{"$f":"VLOOKUP(A366, localcont!$D$10:$L$1764, 9)*F366","v":0}]
[777,156,"Leyden                       ",750,"Pioneer",738129,{"$f":"VLOOKUP(A367, localcont!$D$10:$L$1764, 8)","v":597489.33321815555},{"$f":"VLOOKUP(A367, localcont!$D$10:$L$1764, 9)*F367","v":715437.52589124406}]
[778,156,"Leyden                       ",818,"Franklin County",738129,{"$f":"VLOOKUP(A368, localcont!$D$10:$L$1764, 8)","v":18950.520827221197},{"$f":"VLOOKUP(A368, localcont!$D$10:$L$1764, 9)*F368","v":22691.474108755934}]
[781,157,"Lincoln                      ",157,"Lincoln",23274757,{"$f":"VLOOKUP(A369, localcont!$D$10:$L$1764, 8)","v":6357796.1330000004},{"$f":"VLOOKUP(A369, localcont!$D$10:$L$1764, 9)*F369","v":16970937.702067591}]
[782,157,"Lincoln                      ",695,"Lincoln Sudbury",23274757,{"$f":"VLOOKUP(A370, localcont!$D$10:$L$1764, 8)","v":2361590.0699843271},{"$f":"VLOOKUP(A370, localcont!$D$10:$L$1764, 9)*F370","v":6303819.2979324106}]
[786,158,"Littleton                    ",158,"Littleton",15279457,{"$f":"VLOOKUP(A371, localcont!$D$10:$L$1764, 8)","v":16227167.91492},{"$f":"VLOOKUP(A371, localcont!$D$10:$L$1764, 9)*F371","v":14684932.40888417}]
[787,158,"Littleton                    ",852,"Nashoba Valley",15279457,{"$f":"VLOOKUP(A372, localcont!$D$10:$L$1764, 8)","v":656962.53145497397},{"$f":"VLOOKUP(A372, localcont!$D$10:$L$1764, 9)*F372","v":594524.59111583023}]
[791,159,"Longmeadow                   ",159,"Longmeadow",25020712,{"$f":"VLOOKUP(A373, localcont!$D$10:$L$1764, 8)","v":29129978.330000002},{"$f":"VLOOKUP(A373, localcont!$D$10:$L$1764, 9)*F373","v":25020712}]
[796,160,"Lowell                       ",160,"Lowell",69523659,{"$f":"VLOOKUP(A374, localcont!$D$10:$L$1764, 8)","v":232660515.38},{"$f":"VLOOKUP(A374, localcont!$D$10:$L$1764, 9)*F374","v":60270125.671377845}]
[797,160,"Lowell                       ",828,"Greater Lowell",69523659,{"$f":"VLOOKUP(A375, localcont!$D$10:$L$1764, 8)","v":35721376.209866777},{"$f":"VLOOKUP(A375, localcont!$D$10:$L$1764, 9)*F375","v":9253533.3286221568}]
[801,161,"Ludlow                       ",161,"Ludlow",16677575,{"$f":"VLOOKUP(A376, localcont!$D$10:$L$1764, 8)","v":28842661.469999999},{"$f":"VLOOKUP(A376, localcont!$D$10:$L$1764, 9)*F376","v":16677575}]
[806,162,"Lunenburg                    ",162,"Lunenburg",12065703,{"$f":"VLOOKUP(A377, localcont!$D$10:$L$1764, 8)","v":18408485.399999999},{"$f":"VLOOKUP(A377, localcont!$D$10:$L$1764, 9)*F377","v":11172881.159304868}]
[807,162,"Lunenburg                    ",832,"Montachusett",12065703,{"$f":"VLOOKUP(A378, localcont!$D$10:$L$1764, 8)","v":1471016.972694624},{"$f":"VLOOKUP(A378, localcont!$D$10:$L$1764, 9)*F378","v":892821.84069513134}]
[811,163,"Lynn                         ",163,"Lynn",63570859,{"$f":"VLOOKUP(A379, localcont!$D$10:$L$1764, 8)","v":268344427.44},{"$f":"VLOOKUP(A379, localcont!$D$10:$L$1764, 9)*F379","v":63570859}]
[816,164,"Lynnfield                    ",164,"Lynnfield",27209045,{"$f":"VLOOKUP(A380, localcont!$D$10:$L$1764, 8)","v":23928671.94923},{"$f":"VLOOKUP(A380, localcont!$D$10:$L$1764, 9)*F380","v":26273391.71178925}]
[817,164,"Lynnfield                    ",817,"Essex North Shore",27209045,{"$f":"VLOOKUP(A381, localcont!$D$10:$L$1764, 8)","v":852152.65837821667},{"$f":"VLOOKUP(A381, localcont!$D$10:$L$1764, 9)*F381","v":935653.28821075114}]
[821,165,"Malden                       ",165,"Malden",57045571,{"$f":"VLOOKUP(A382, localcont!$D$10:$L$1764, 8)","v":97816216.363690004},{"$f":"VLOOKUP(A382, localcont!$D$10:$L$1764, 9)*F382","v":55327473.886702277}]
[822,165,"Malden                       ",853,"Northeast Metropolitan",57045571,{"$f":"VLOOKUP(A383, localcont!$D$10:$L$1764, 8)","v":3037510.0680053532},{"$f":"VLOOKUP(A383, localcont!$D$10:$L$1764, 9)*F383","v":1718097.1132977244}]
[826,166,"Manchester                   ",166,"Manchester",20406182,{"$f":"VLOOKUP(A384, localcont!$D$10:$L$1764, 8)","v":0},{"$f":"VLOOKUP(A384, localcont!$D$10:$L$1764, 9)*F384","v":0}]
[827,166,"Manchester                   ",698,"Manchester Essex",20406182,{"$f":"VLOOKUP(A385, localcont!$D$10:$L$1764, 8)","v":8447386.1773748174},{"$f":"VLOOKUP(A385, localcont!$D$10:$L$1764, 9)*F385","v":19935511.197272081}]
[828,166,"Manchester                   ",817,"Essex North Shore",20406182,{"$f":"VLOOKUP(A386, localcont!$D$10:$L$1764, 8)","v":199439.9839419114},{"$f":"VLOOKUP(A386, localcont!$D$10:$L$1764, 9)*F386","v":470670.80272791977}]
[831,167,"Mansfield                    ",167,"Mansfield",31401145,{"$f":"VLOOKUP(A387, localcont!$D$10:$L$1764, 8)","v":41585191.998259999},{"$f":"VLOOKUP(A387, localcont!$D$10:$L$1764, 9)*F387","v":29922569.279693827}]
[832,167,"Mansfield                    ",872,"Southeastern",31401145,{"$f":"VLOOKUP(A388, localcont!$D$10:$L$1764, 8)","v":2001705.786003201},{"$f":"VLOOKUP(A388, localcont!$D$10:$L$1764, 9)*F388","v":1440324.7209187092}]
[833,167,"Mansfield                    ",910,"Bristol County",31401145,{"$f":"VLOOKUP(A389, localcont!$D$10:$L$1764, 8)","v":53159.711613822299},{"$f":"VLOOKUP(A389, localcont!$D$10:$L$1764, 9)*F389","v":38250.99938746704}]
[836,168,"Marblehead                   ",168,"Marblehead",50848735,{"$f":"VLOOKUP(A390, localcont!$D$10:$L$1764, 8)","v":30235711.089999996},{"$f":"VLOOKUP(A390, localcont!$D$10:$L$1764, 9)*F390","v":49686739.453227662}]
[837,168,"Marblehead                   ",817,"Essex North Shore",50848735,{"$f":"VLOOKUP(A391, localcont!$D$10:$L$1764, 8)","v":707105.39726898028},{"$f":"VLOOKUP(A391, localcont!$D$10:$L$1764, 9)*F391","v":1161995.5467723338}]
[841,169,"Marion                       ",169,"Marion",11109995,{"$f":"VLOOKUP(A392, localcont!$D$10:$L$1764, 8)","v":4374312.4499999993},{"$f":"VLOOKUP(A392, localcont!$D$10:$L$1764, 9)*F392","v":5837627.9196542157}]
[842,169,"Marion                       ",740,"Old Rochester",{"$f":"VLOOKUP(B393, town351, 7)","v":11109995},{"$f":"VLOOKUP(A393, localcont!$D$10:$L$1764, 8)","v":3646370.725862971},{"$f":"VLOOKUP(A393, localcont!$D$10:$L$1764, 9)*F393","v":4866171.7236745385}]
[843,169,"Marion                       ",879,"Upper Cape Cod",11109995,{"$f":"VLOOKUP(A394, localcont!$D$10:$L$1764, 8)","v":304374.5559454012},{"$f":"VLOOKUP(A394, localcont!$D$10:$L$1764, 9)*F394","v":406195.35667124746}]
[846,170,"Marlborough                  ",170,"Marlborough",44546163,{"$f":"VLOOKUP(A395, localcont!$D$10:$L$1764, 8)","v":68784010.9164},{"$f":"VLOOKUP(A395, localcont!$D$10:$L$1764, 9)*F395","v":39702180.691129446}]
[847,170,"Marlborough                  ",801,"Assabet Valley",44546163,{"$f":"VLOOKUP(A396, localcont!$D$10:$L$1764, 8)","v":8392197.2600019835},{"$f":"VLOOKUP(A396, localcont!$D$10:$L$1764, 9)*F396","v":4843982.3088705475}]
[851,171,"Marshfield                   ",171,"Marshfield",37256755,{"$f":"VLOOKUP(A397, localcont!$D$10:$L$1764, 8)","v":43275872.179899998},{"$f":"VLOOKUP(A397, localcont!$D$10:$L$1764, 9)*F397","v":37256755}]
[856,172,"Mashpee                      ",172,"Mashpee",28527484,{"$f":"VLOOKUP(A398, localcont!$D$10:$L$1764, 8)","v":18231111.670000002},{"$f":"VLOOKUP(A398, localcont!$D$10:$L$1764, 9)*F398","v":27126830.905891977}]
[857,172,"Mashpee                      ",815,"Cape Cod",28527484,{"$f":"VLOOKUP(A399, localcont!$D$10:$L$1764, 8)","v":941336.01739921782},{"$f":"VLOOKUP(A399, localcont!$D$10:$L$1764, 9)*F399","v":1400653.0941080221}]
[861,173,"Mattapoisett                 ",173,"Mattapoisett",11959884,{"$f":"VLOOKUP(A400, localcont!$D$10:$L$1764, 8)","v":4252682.29},{"$f":"VLOOKUP(A400, localcont!$D$10:$L$1764, 9)*F400","v":5386552.703165438}]
[862,173,"Mattapoisett                 ",740,"Old Rochester",11959884,{"$f":"VLOOKUP(A401, localcont!$D$10:$L$1764, 8)","v":4414631.2247067997},{"$f":"VLOOKUP(A401, localcont!$D$10:$L$1764, 9)*F401","v":5591681.2344152238}]
[863,173,"Mattapoisett                 ",855,"Old Colony",11959884,{"$f":"VLOOKUP(A402, localcont!$D$10:$L$1764, 8)","v":775012.5294373997},{"$f":"VLOOKUP(A402, localcont!$D$10:$L$1764, 9)*F402","v":981650.06241933699}]
[866,174,"Maynard                      ",174,"Maynard",11984258,{"$f":"VLOOKUP(A403, localcont!$D$10:$L$1764, 8)","v":14868952.430520002},{"$f":"VLOOKUP(A403, localcont!$D$10:$L$1764, 9)*F403","v":10927747.237666605}]
[867,174,"Maynard                      ",801,"Assabet Valley",11984258,{"$f":"VLOOKUP(A404, localcont!$D$10:$L$1764, 8)","v":1437552.3084318752},{"$f":"VLOOKUP(A404, localcont!$D$10:$L$1764, 9)*F404","v":1056510.7623333952}]
[871,175,"Medfield                     ",175,"Medfield",28184806,{"$f":"VLOOKUP(A405, localcont!$D$10:$L$1764, 8)","v":26424181.490199994},{"$f":"VLOOKUP(A405, localcont!$D$10:$L$1764, 9)*F405","v":27889801.052046698}]
[872,175,"Medfield                     ",878,"Tri County",28184806,{"$f":"VLOOKUP(A406, localcont!$D$10:$L$1764, 8)","v":168187.18877617267},{"$f":"VLOOKUP(A406, localcont!$D$10:$L$1764, 9)*F406","v":177515.70606681352}]
[873,175,"Medfield                     ",915,"Norfolk County",28184806,{"$f":"VLOOKUP(A407, localcont!$D$10:$L$1764, 8)","v":111315.13792303464},{"$f":"VLOOKUP(A407, localcont!$D$10:$L$1764, 9)*F407","v":117489.24188648832}]
[876,176,"Medford                      ",176,"Medford",76502994,{"$f":"VLOOKUP(A408, localcont!$D$10:$L$1764, 8)","v":59164566.017499991},{"$f":"VLOOKUP(A408, localcont!$D$10:$L$1764, 9)*F408","v":76502994}]
[881,177,"Medway                       ",177,"Medway",18953709,{"$f":"VLOOKUP(A409, localcont!$D$10:$L$1764, 8)","v":23134189.308129996},{"$f":"VLOOKUP(A409, localcont!$D$10:$L$1764, 9)*F409","v":17831446.241292723}]
[882,177,"Medway                       ",878,"Tri County",18953709,{"$f":"VLOOKUP(A410, localcont!$D$10:$L$1764, 8)","v":1233372.7180298024},{"$f":"VLOOKUP(A410, localcont!$D$10:$L$1764, 9)*F410","v":950663.06513263565}]
[883,177,"Medway                       ",915,"Norfolk County",18953709,{"$f":"VLOOKUP(A411, localcont!$D$10:$L$1764, 8)","v":222630.27589875844},{"$f":"VLOOKUP(A411, localcont!$D$10:$L$1764, 9)*F411","v":171599.6935746425}]
[886,178,"Melrose                      ",178,"Melrose",43101403,{"$f":"VLOOKUP(A412, localcont!$D$10:$L$1764, 8)","v":44344391.455760002},{"$f":"VLOOKUP(A412, localcont!$D$10:$L$1764, 9)*F412","v":42263386.804517046}]
[887,178,"Melrose                      ",853,"Northeast Metropolitan",43101403,{"$f":"VLOOKUP(A413, localcont!$D$10:$L$1764, 8)","v":879279.23028617818},{"$f":"VLOOKUP(A413, localcont!$D$10:$L$1764, 9)*F413","v":838016.19548295299}]
[891,179,"Mendon                       ",179,"Mendon",8668562,{"$f":"VLOOKUP(A414, localcont!$D$10:$L$1764, 8)","v":89716.680000000008},{"$f":"VLOOKUP(A414, localcont!$D$10:$L$1764, 9)*F414","v":68580.854952036796}]
[892,179,"Mendon                       ",710,"Mendon Upton",8668562,{"$f":"VLOOKUP(A415, localcont!$D$10:$L$1764, 8)","v":10069323.285549274},{"$f":"VLOOKUP(A415, localcont!$D$10:$L$1764, 9)*F415","v":7697150.6269672634}]
[893,179,"Mendon                       ",805,"Blackstone Valley",8668562,{"$f":"VLOOKUP(A416, localcont!$D$10:$L$1764, 8)","v":1181072.4252639951},{"$f":"VLOOKUP(A416, localcont!$D$10:$L$1764, 9)*F416","v":902830.51808069996}]
[896,180,"Merrimac                     ",180,"Merrimac",7148704,{"$f":"VLOOKUP(A417, localcont!$D$10:$L$1764, 8)","v":134575.02000000002},{"$f":"VLOOKUP(A417, localcont!$D$10:$L$1764, 9)*F417","v":99006.09834421135}]
[897,180,"Merrimac                     ",745,"Pentucket",7148704,{"$f":"VLOOKUP(A418, localcont!$D$10:$L$1764, 8)","v":8658436.7088742796},{"$f":"VLOOKUP(A418, localcont!$D$10:$L$1764, 9)*F418","v":6369964.0268003419}]
[898,180,"Merrimac                     ",885,"Whittier",7148704,{"$f":"VLOOKUP(A419, localcont!$D$10:$L$1764, 8)","v":923935.00333000219},{"$f":"VLOOKUP(A419, localcont!$D$10:$L$1764, 9)*F419","v":679733.87485544814}]
[901,181,"Methuen                      ",181,"Methuen",45085926,{"$f":"VLOOKUP(A420, localcont!$D$10:$L$1764, 8)","v":89379134.690000013},{"$f":"VLOOKUP(A420, localcont!$D$10:$L$1764, 9)*F420","v":41992139.782303914}]
[902,181,"Methuen                      ",823,"Greater Lawrence",45085926,{"$f":"VLOOKUP(A421, localcont!$D$10:$L$1764, 8)","v":6585040.3548631016},{"$f":"VLOOKUP(A421, localcont!$D$10:$L$1764, 9)*F421","v":3093786.2176960791}]
[906,182,"Middleborough                ",182,"Middleborough",21075675,{"$f":"VLOOKUP(A422, localcont!$D$10:$L$1764, 8)","v":35767383},{"$f":"VLOOKUP(A422, localcont!$D$10:$L$1764, 9)*F422","v":19089620.641139839}]
[907,182,"Middleborough                ",810,"Bristol Plymouth",21075675,{"$f":"VLOOKUP(A423, localcont!$D$10:$L$1764, 8)","v":3721182.7436257126},{"$f":"VLOOKUP(A423, localcont!$D$10:$L$1764, 9)*F423","v":1986054.3588601598}]
[911,183,"Middlefield                  ",183,"Middlefield",373795,{"$f":"VLOOKUP(A424, localcont!$D$10:$L$1764, 8)","v":44858.340000000004},{"$f":"VLOOKUP(A424, localcont!$D$10:$L$1764, 9)*F424","v":46657.101623378978}]
[912,183,"Middlefield                  ",672,"Gateway",373795,{"$f":"VLOOKUP(A425, localcont!$D$10:$L$1764, 8)","v":314525.81839997153},{"$f":"VLOOKUP(A425, localcont!$D$10:$L$1764, 9)*F425","v":327137.89837662101}]
[916,184,"Middleton                    ",184,"Middleton",15842145,{"$f":"VLOOKUP(A426, localcont!$D$10:$L$1764, 8)","v":6927207.1538000004},{"$f":"VLOOKUP(A426, localcont!$D$10:$L$1764, 9)*F426","v":7379915.0426132213}]
[917,184,"Middleton                    ",705,"Masconomet",15842145,{"$f":"VLOOKUP(A427, localcont!$D$10:$L$1764, 8)","v":7054714.8929886445},{"$f":"VLOOKUP(A427, localcont!$D$10:$L$1764, 9)*F427","v":7515755.6868433692}]
[918,184,"Middleton                    ",817,"Essex North Shore",15842145,{"$f":"VLOOKUP(A428, localcont!$D$10:$L$1764, 8)","v":888414.47360000003},{"$f":"VLOOKUP(A428, localcont!$D$10:$L$1764, 9)*F428","v":946474.27054340998}]
[921,185,"Milford                      ",185,"Milford",27312924,{"$f":"VLOOKUP(A429, localcont!$D$10:$L$1764, 8)","v":58526188.083009996},{"$f":"VLOOKUP(A429, localcont!$D$10:$L$1764, 9)*F429","v":26166317.381851796}]
[922,185,"Milford                      ",805,"Blackstone Valley",27312924,{"$f":"VLOOKUP(A430, localcont!$D$10:$L$1764, 8)","v":2564614.4091147142},{"$f":"VLOOKUP(A430, localcont!$D$10:$L$1764, 9)*F430","v":1146606.6181482058}]
[926,186,"Millbury                     ",186,"Millbury",13483149,{"$f":"VLOOKUP(A431, localcont!$D$10:$L$1764, 8)","v":19104092.829999998},{"$f":"VLOOKUP(A431, localcont!$D$10:$L$1764, 9)*F431","v":12429318.821110621}]
[927,186,"Millbury                     ",805,"Blackstone Valley",13483149,{"$f":"VLOOKUP(A432, localcont!$D$10:$L$1764, 8)","v":1619756.468903518},{"$f":"VLOOKUP(A432, localcont!$D$10:$L$1764, 9)*F432","v":1053830.1788893777}]
[931,187,"Millis                       ",187,"Millis",10195945,{"$f":"VLOOKUP(A433, localcont!$D$10:$L$1764, 8)","v":11844886.359460002},{"$f":"VLOOKUP(A433, localcont!$D$10:$L$1764, 9)*F433","v":9182951.313885143}]
[932,187,"Millis                       ",878,"Tri County",10195945,{"$f":"VLOOKUP(A434, localcont!$D$10:$L$1764, 8)","v":1102560.4600927792},{"$f":"VLOOKUP(A434, localcont!$D$10:$L$1764, 9)*F434","v":854778.90782469045}]
[933,187,"Millis                       ",915,"Norfolk County",10195945,{"$f":"VLOOKUP(A435, localcont!$D$10:$L$1764, 8)","v":204077.75291158599},{"$f":"VLOOKUP(A435, localcont!$D$10:$L$1764, 9)*F435","v":158214.77829016602}]
[936,188,"Millville                    ",188,"Millville",2607065,{"$f":"VLOOKUP(A436, localcont!$D$10:$L$1764, 8)","v":119622.24},{"$f":"VLOOKUP(A436, localcont!$D$10:$L$1764, 9)*F436","v":56307.063712802526}]
[937,188,"Millville                    ",622,"Blackstone Millville",2607065,{"$f":"VLOOKUP(A437, localcont!$D$10:$L$1764, 8)","v":4845325.5906750923},{"$f":"VLOOKUP(A437, localcont!$D$10:$L$1764, 9)*F437","v":2280730.2115678065}]
[938,188,"Millville                    ",805,"Blackstone Valley",2607065,{"$f":"VLOOKUP(A438, localcont!$D$10:$L$1764, 8)","v":573663.74950382242},{"$f":"VLOOKUP(A438, localcont!$D$10:$L$1764, 9)*F438","v":270027.72471939091}]
[941,189,"Milton                       ",189,"Milton",52276725,{"$f":"VLOOKUP(A439, localcont!$D$10:$L$1764, 8)","v":48097215.820799999},{"$f":"VLOOKUP(A439, localcont!$D$10:$L$1764, 9)*F439","v":51347072.489859782}]
[942,189,"Milton                       ",806,"Blue Hills",52276725,{"$f":"VLOOKUP(A440, localcont!$D$10:$L$1764, 8)","v":815155.4151164525},{"$f":"VLOOKUP(A440, localcont!$D$10:$L$1764, 9)*F440","v":870234.24279759161}]
[943,189,"Milton                       ",915,"Norfolk County",52276725,{"$f":"VLOOKUP(A441, localcont!$D$10:$L$1764, 8)","v":55657.568961517318},{"$f":"VLOOKUP(A441, localcont!$D$10:$L$1764, 9)*F441","v":59418.267342628584}]
[946,190,"Monroe                       ",190,"Monroe",112026,{"$f":"VLOOKUP(A442, localcont!$D$10:$L$1764, 8)","v":147610.14000000001},{"$f":"VLOOKUP(A442, localcont!$D$10:$L$1764, 9)*F442","v":81370.820085849628}]
[947,190,"Monroe                       ",851,"Northern Berkshire",112026,{"$f":"VLOOKUP(A443, localcont!$D$10:$L$1764, 8)","v":55609.80452303226},{"$f":"VLOOKUP(A443, localcont!$D$10:$L$1764, 9)*F443","v":30655.179914150372}]
[951,191,"Monson                       ",191,"Monson",6787235,{"$f":"VLOOKUP(A444, localcont!$D$10:$L$1764, 8)","v":10403183.449999999},{"$f":"VLOOKUP(A444, localcont!$D$10:$L$1764, 9)*F444","v":6007448.4206105033}]
[952,191,"Monson                       ",860,"Pathfinder",6787235,{"$f":"VLOOKUP(A445, localcont!$D$10:$L$1764, 8)","v":1350367.4554083839},{"$f":"VLOOKUP(A445, localcont!$D$10:$L$1764, 9)*F445","v":779786.57938949647}]
[956,192,"Montague                     ",192,"Montague",6074918,{"$f":"VLOOKUP(A446, localcont!$D$10:$L$1764, 8)","v":0},{"$f":"VLOOKUP(A446, localcont!$D$10:$L$1764, 9)*F446","v":0}]
[957,192,"Montague                     ",674,"Gill Montague",6074918,{"$f":"VLOOKUP(A447, localcont!$D$10:$L$1764, 8)","v":10951790.067850415},{"$f":"VLOOKUP(A447, localcont!$D$10:$L$1764, 9)*F447","v":5125871.4259442613}]
[958,192,"Montague                     ",818,"Franklin County",6074918,{"$f":"VLOOKUP(A448, localcont!$D$10:$L$1764, 8)","v":2027705.7264963328},{"$f":"VLOOKUP(A448, localcont!$D$10:$L$1764, 9)*F448","v":949046.57405573863}]
[961,193,"Monterey                     ",193,"Monterey",2203072,{"$f":"VLOOKUP(A449, localcont!$D$10:$L$1764, 8)","v":0},{"$f":"VLOOKUP(A449, localcont!$D$10:$L$1764, 9)*F449","v":0}]
[962,193,"Monterey                     ",765,"Southern Berkshire",2203072,{"$f":"VLOOKUP(A450, localcont!$D$10:$L$1764, 8)","v":926818.30350876192},{"$f":"VLOOKUP(A450, localcont!$D$10:$L$1764, 9)*F450","v":2203072}]
[966,194,"Montgomery                   ",194,"Montgomery",862819,{"$f":"VLOOKUP(A451, localcont!$D$10:$L$1764, 8)","v":59811.12},{"$f":"VLOOKUP(A451, localcont!$D$10:$L$1764, 9)*F451","v":57691.837276503749}]
[967,194,"Montgomery                   ",672,"Gateway",862819,{"$f":"VLOOKUP(A452, localcont!$D$10:$L$1764, 8)","v":834703.13337597519},{"$f":"VLOOKUP(A452, localcont!$D$10:$L$1764, 9)*F452","v":805127.16272349621}]
[971,195,"Mount Washington             ",195,"Mount Washington",394778,{"$f":"VLOOKUP(A453, localcont!$D$10:$L$1764, 8)","v":43505.390000000007},{"$f":"VLOOKUP(A453, localcont!$D$10:$L$1764, 9)*F453","v":394778}]
[976,196,"Nahant                       ",196,"Nahant",7288642,{"$f":"VLOOKUP(A454, localcont!$D$10:$L$1764, 8)","v":2845521.7600000002},{"$f":"VLOOKUP(A454, localcont!$D$10:$L$1764, 9)*F454","v":6811247.9419858279}]
[977,196,"Nahant                       ",817,"Essex North Shore",7288642,{"$f":"VLOOKUP(A455, localcont!$D$10:$L$1764, 8)","v":199439.9839419114},{"$f":"VLOOKUP(A455, localcont!$D$10:$L$1764, 9)*F455","v":477394.05801417259}]
[981,197,"Nantucket                    ",197,"Nantucket",98154894,{"$f":"VLOOKUP(A456, localcont!$D$10:$L$1764, 8)","v":20100924.599999998},{"$f":"VLOOKUP(A456, localcont!$D$10:$L$1764, 9)*F456","v":98154894}]
[986,198,"Natick                       ",198,"Natick",{"$f":"VLOOKUP(B457, town351, 7)","v":64789368},{"$f":"VLOOKUP(A457, localcont!$D$10:$L$1764, 8)","v":57529966.215679981},{"$f":"VLOOKUP(A457, localcont!$D$10:$L$1764, 9)*F457","v":63534883.188337073}]
[987,198,"Natick                       ",829,"South Middlesex",64789368,{"$f":"VLOOKUP(A458, localcont!$D$10:$L$1764, 8)","v":1135918.80887096},{"$f":"VLOOKUP(A458, localcont!$D$10:$L$1764, 9)*F458","v":1254484.8116629196}]
[991,199,"Needham                      ",199,"Needham",93340459,{"$f":"VLOOKUP(A459, localcont!$D$10:$L$1764, 8)","v":62757965.939740002},{"$f":"VLOOKUP(A459, localcont!$D$10:$L$1764, 9)*F459","v":92454753.816417009}]
[992,199,"Needham                      ",830,"Minuteman",93340459,{"$f":"VLOOKUP(A460, localcont!$D$10:$L$1764, 8)","v":564108.55797213002},{"$f":"VLOOKUP(A460, localcont!$D$10:$L$1764, 9)*F460","v":831042.19635043445}]
[993,199,"Needham                      ",915,"Norfolk County",93340459,{"$f":"VLOOKUP(A461, localcont!$D$10:$L$1764, 8)","v":37105.045974344881},{"$f":"VLOOKUP(A461, localcont!$D$10:$L$1764, 9)*F461","v":54662.987232551204}]
[996,200,"New Ashford                  ",200,"New Ashford",231070,{"$f":"VLOOKUP(A462, localcont!$D$10:$L$1764, 8)","v":234545.27},{"$f":"VLOOKUP(A462, localcont!$D$10:$L$1764, 9)*F462","v":231070}]
[1001,201,"New Bedford                  ",201,"New Bedford",49114471,{"$f":"VLOOKUP(A463, localcont!$D$10:$L$1764, 8)","v":206188927.62000003},{"$f":"VLOOKUP(A463, localcont!$D$10:$L$1764, 9)*F463","v":42440702.495062009}]
[1002,201,"New Bedford                  ",825,"Greater New Bedford",49114471,{"$f":"VLOOKUP(A464, localcont!$D$10:$L$1764, 8)","v":31501618.584357105},{"$f":"VLOOKUP(A464, localcont!$D$10:$L$1764, 9)*F464","v":6484105.804728643}]
[1003,201,"New Bedford                  ",910,"Bristol County",49114471,{"$f":"VLOOKUP(A465, localcont!$D$10:$L$1764, 8)","v":921435.0014641966},{"$f":"VLOOKUP(A465, localcont!$D$10:$L$1764, 9)*F465","v":189662.70020934788}]
[1006,202,"New Braintree                ",202,"New Braintree",1001620,{"$f":"VLOOKUP(A466, localcont!$D$10:$L$1764, 8)","v":44858.340000000004},{"$f":"VLOOKUP(A466, localcont!$D$10:$L$1764, 9)*F466","v":28827.173610995724}]
[1007,202,"New Braintree                ",753,"Quabbin",1001620,{"$f":"VLOOKUP(A467, localcont!$D$10:$L$1764, 8)","v":1382489.8518042797},{"$f":"VLOOKUP(A467, localcont!$D$10:$L$1764, 9)*F467","v":888425.09494113503}]
[1008,202,"New Braintree                ",860,"Pathfinder",1001620,{"$f":"VLOOKUP(A468, localcont!$D$10:$L$1764, 8)","v":131285.72482990933},{"$f":"VLOOKUP(A468, localcont!$D$10:$L$1764, 9)*F468","v":84367.731447869184}]
[1011,203,"Newbury                      ",203,"Newbury",13191133,{"$f":"VLOOKUP(A469, localcont!$D$10:$L$1764, 8)","v":46160.855639999994},{"$f":"VLOOKUP(A469, localcont!$D$10:$L$1764, 9)*F469","v":80798.076983059669}]
[1012,203,"Newbury                      ",773,"Triton",13191133,{"$f":"VLOOKUP(A470, localcont!$D$10:$L$1764, 8)","v":7175944.7885182956},{"$f":"VLOOKUP(A470, localcont!$D$10:$L$1764, 9)*F470","v":12560480.766878763}]
[1013,203,"Newbury                      ",885,"Whittier",13191133,{"$f":"VLOOKUP(A471, localcont!$D$10:$L$1764, 8)","v":314137.90120116324},{"$f":"VLOOKUP(A471, localcont!$D$10:$L$1764, 9)*F471","v":549854.15613817645}]
[1016,204,"Newburyport                  ",204,"Newburyport",34783983,{"$f":"VLOOKUP(A472, localcont!$D$10:$L$1764, 8)","v":24047193.300000001},{"$f":"VLOOKUP(A472, localcont!$D$10:$L$1764, 9)*F472","v":33923733.160584584}]
[1017,204,"Newburyport                  ",885,"Whittier",34783983,{"$f":"VLOOKUP(A473, localcont!$D$10:$L$1764, 8)","v":609797.10212883889},{"$f":"VLOOKUP(A473, localcont!$D$10:$L$1764, 9)*F473","v":860249.83941541635}]
[1021,205,"New Marlborough              ",205,"New Marlborough",2665474,{"$f":"VLOOKUP(A474, localcont!$D$10:$L$1764, 8)","v":0},{"$f":"VLOOKUP(A474, localcont!$D$10:$L$1764, 9)*F474","v":0}]
[1022,205,"New Marlborough              ",765,"Southern Berkshire",2665474,{"$f":"VLOOKUP(A475, localcont!$D$10:$L$1764, 8)","v":1459738.8279645278},{"$f":"VLOOKUP(A475, localcont!$D$10:$L$1764, 9)*F475","v":2665474}]
[1026,206,"New Salem                    ",206,"New Salem",781841,{"$f":"VLOOKUP(A476, localcont!$D$10:$L$1764, 8)","v":0},{"$f":"VLOOKUP(A476, localcont!$D$10:$L$1764, 9)*F476","v":0}]
[1027,206,"New Salem                    ",728,"New Salem Wendell",781841,{"$f":"VLOOKUP(A477, localcont!$D$10:$L$1764, 8)","v":506492.31473097869},{"$f":"VLOOKUP(A477, localcont!$D$10:$L$1764, 9)*F477","v":306227.77812243393}]
[1028,206,"New Salem                    ",755,"Ralph C Mahar",781841,{"$f":"VLOOKUP(A478, localcont!$D$10:$L$1764, 8)","v":616096.48836983042},{"$f":"VLOOKUP(A478, localcont!$D$10:$L$1764, 9)*F478","v":372495.00783192774}]
[1029,206,"New Salem                    ",818,"Franklin County",781841,{"$f":"VLOOKUP(A479, localcont!$D$10:$L$1764, 8)","v":170554.68724335727},{"$f":"VLOOKUP(A479, localcont!$D$10:$L$1764, 9)*F479","v":103118.21404563842}]
[1031,207,"Newton                       ",207,"Newton",301821378,{"$f":"VLOOKUP(A480, localcont!$D$10:$L$1764, 8)","v":140792530.04910001},{"$f":"VLOOKUP(A480, localcont!$D$10:$L$1764, 9)*F480","v":301821378}]
[1036,208,"Norfolk                      ",208,"Norfolk",16495729,{"$f":"VLOOKUP(A481, localcont!$D$10:$L$1764, 8)","v":10190816.706399998},{"$f":"VLOOKUP(A481, localcont!$D$10:$L$1764, 9)*F481","v":9040828.6413866766}]
[1037,208,"Norfolk                      ",690,"King Philip",16495729,{"$f":"VLOOKUP(A482, localcont!$D$10:$L$1764, 8)","v":7676237.3249402447},{"$f":"VLOOKUP(A482, localcont!$D$10:$L$1764, 9)*F482","v":6810008.2912704311}]
[1038,208,"Norfolk                      ",878,"Tri County",16495729,{"$f":"VLOOKUP(A483, localcont!$D$10:$L$1764, 8)","v":467186.63565830322},{"$f":"VLOOKUP(A483, localcont!$D$10:$L$1764, 9)*F483","v":414466.71431938169}]
[1039,208,"Norfolk                      ",915,"Norfolk County",16495729,{"$f":"VLOOKUP(A484, localcont!$D$10:$L$1764, 8)","v":259735.32187310333},{"$f":"VLOOKUP(A484, localcont!$D$10:$L$1764, 9)*F484","v":230425.35302351363}]
[1041,209,"North Adams                  ",209,"North Adams",5903022,{"$f":"VLOOKUP(A485, localcont!$D$10:$L$1764, 8)","v":17897202.07},{"$f":"VLOOKUP(A485, localcont!$D$10:$L$1764, 9)*F485","v":5041462.1915370803}]
[1042,209,"North Adams                  ",851,"Northern Berkshire",5903022,{"$f":"VLOOKUP(A486, localcont!$D$10:$L$1764, 8)","v":3058539.24945337},{"$f":"VLOOKUP(A486, localcont!$D$10:$L$1764, 9)*F486","v":861559.80846291932}]
[1046,210,"Northampton                  ",210,"Northampton",28854199,{"$f":"VLOOKUP(A487, localcont!$D$10:$L$1764, 8)","v":30678559.000000004},{"$f":"VLOOKUP(A487, localcont!$D$10:$L$1764, 9)*F487","v":26192769.624882933}]
[1047,210,"Northampton                  ",406,"Northampton Smith",28854199,{"$f":"VLOOKUP(A488, localcont!$D$10:$L$1764, 8)","v":3117227.3600000003},{"$f":"VLOOKUP(A488, localcont!$D$10:$L$1764, 9)*F488","v":2661429.3751170649}]
[1051,211,"North Andover                ",211,"North Andover",45825606,{"$f":"VLOOKUP(A489, localcont!$D$10:$L$1764, 8)","v":51229167.579999998},{"$f":"VLOOKUP(A489, localcont!$D$10:$L$1764, 9)*F489","v":45152957.093144067}]
[1052,211,"North Andover                ",823,"Greater Lawrence",45825606,{"$f":"VLOOKUP(A490, localcont!$D$10:$L$1764, 8)","v":763166.92837508221},{"$f":"VLOOKUP(A490, localcont!$D$10:$L$1764, 9)*F490","v":672648.90685593756}]
[1056,212,"North Attleborough           ",212,"North Attleborough",32234368,{"$f":"VLOOKUP(A491, localcont!$D$10:$L$1764, 8)","v":45683012.360000007},{"$f":"VLOOKUP(A491, localcont!$D$10:$L$1764, 9)*F491","v":29002277.968737956}]
[1057,212,"North Attleborough           ",878,"Tri County",32234368,{"$f":"VLOOKUP(A492, localcont!$D$10:$L$1764, 8)","v":4896115.9411111251},{"$f":"VLOOKUP(A492, localcont!$D$10:$L$1764, 9)*F492","v":3108343.9588499558}]
[1058,212,"North Attleborough           ",910,"Bristol County",32234368,{"$f":"VLOOKUP(A493, localcont!$D$10:$L$1764, 8)","v":194918.94262914179},{"$f":"VLOOKUP(A493, localcont!$D$10:$L$1764, 9)*F493","v":123746.07241208767}]
[1061,213,"Northborough                 ",213,"Northborough",26837605,{"$f":"VLOOKUP(A494, localcont!$D$10:$L$1764, 8)","v":16551243.649999999},{"$f":"VLOOKUP(A494, localcont!$D$10:$L$1764, 9)*F494","v":15843527.473480046}]
[1062,213,"Northborough                 ",730,"Northboro Southboro",26837605,{"$f":"VLOOKUP(A495, localcont!$D$10:$L$1764, 8)","v":10339016.548839785},{"$f":"VLOOKUP(A495, localcont!$D$10:$L$1764, 9)*F495","v":9896929.5724377763}]
[1063,213,"Northborough                 ",801,"Assabet Valley",26837605,{"$f":"VLOOKUP(A496, localcont!$D$10:$L$1764, 8)","v":1146156.5701520194},{"$f":"VLOOKUP(A496, localcont!$D$10:$L$1764, 9)*F496","v":1097147.9540821803}]
[1066,214,"Northbridge                  ",214,"Northbridge",14868209,{"$f":"VLOOKUP(A497, localcont!$D$10:$L$1764, 8)","v":24066339.760000002},{"$f":"VLOOKUP(A497, localcont!$D$10:$L$1764, 9)*F497","v":13293194.649573417}]
[1067,214,"Northbridge                  ",805,"Blackstone Valley",14868209,{"$f":"VLOOKUP(A498, localcont!$D$10:$L$1764, 8)","v":2851446.2838666253},{"$f":"VLOOKUP(A498, localcont!$D$10:$L$1764, 9)*F498","v":1575014.3504265819}]
[1071,215,"North Brookfield             ",215,"North Brookfield",3463743,{"$f":"VLOOKUP(A499, localcont!$D$10:$L$1764, 8)","v":6863578.7700000005},{"$f":"VLOOKUP(A499, localcont!$D$10:$L$1764, 9)*F499","v":3115388.01455577}]
[1072,215,"North Brookfield             ",876,"Southern Worcester",3463743,{"$f":"VLOOKUP(A500, localcont!$D$10:$L$1764, 8)","v":767468.40886194096},{"$f":"VLOOKUP(A500, localcont!$D$10:$L$1764, 9)*F500","v":348354.98544423026}]
[1076,216,"Northfield                   ",216,"Northfield",3023800,{"$f":"VLOOKUP(A501, localcont!$D$10:$L$1764, 8)","v":14952.78},{"$f":"VLOOKUP(A501, localcont!$D$10:$L$1764, 9)*F501","v":11661.433828177482}]
[1077,216,"Northfield                   ",750,"Pioneer",3023800,{"$f":"VLOOKUP(A502, localcont!$D$10:$L$1764, 8)","v":3350626.456909019},{"$f":"VLOOKUP(A502, localcont!$D$10:$L$1764, 9)*F502","v":2613099.9526633369}]
[1078,216,"Northfield                   ",818,"Franklin County",3023800,{"$f":"VLOOKUP(A503, localcont!$D$10:$L$1764, 8)","v":511664.0618308885},{"$f":"VLOOKUP(A503, localcont!$D$10:$L$1764, 9)*F503","v":399038.6135084859}]
[1081,217,"North Reading                ",217,"North Reading",26457402,{"$f":"VLOOKUP(A504, localcont!$D$10:$L$1764, 8)","v":25122867.634200003},{"$f":"VLOOKUP(A504, localcont!$D$10:$L$1764, 9)*F504","v":25760708.672290336}]
[1082,217,"North Reading                ",853,"Northeast Metropolitan",26457402,{"$f":"VLOOKUP(A505, localcont!$D$10:$L$1764, 8)","v":679443.04158477404},{"$f":"VLOOKUP(A505, localcont!$D$10:$L$1764, 9)*F505","v":696693.32770966389}]
[1086,218,"Norton                       ",218,"Norton",20604977,{"$f":"VLOOKUP(A506, localcont!$D$10:$L$1764, 8)","v":26330388.290000003},{"$f":"VLOOKUP(A506, localcont!$D$10:$L$1764, 9)*F506","v":18965147.641441025}]
[1087,218,"Norton                       ",872,"Southeastern",20604977,{"$f":"VLOOKUP(A507, localcont!$D$10:$L$1764, 8)","v":2117188.811884773},{"$f":"VLOOKUP(A507, localcont!$D$10:$L$1764, 9)*F507","v":1524960.3598687309}]
[1088,218,"Norton                       ",910,"Bristol County",20604977,{"$f":"VLOOKUP(A508, localcont!$D$10:$L$1764, 8)","v":159479.1348414669},{"$f":"VLOOKUP(A508, localcont!$D$10:$L$1764, 9)*F508","v":114868.99869024682}]
[1091,219,"Norwell                      ",219,"Norwell",25791915,{"$f":"VLOOKUP(A509, localcont!$D$10:$L$1764, 8)","v":23347458.345409997},{"$f":"VLOOKUP(A509, localcont!$D$10:$L$1764, 9)*F509","v":25332184.321702372}]
[1092,219,"Norwell                      ",873,"South Shore",25791915,{"$f":"VLOOKUP(A510, localcont!$D$10:$L$1764, 8)","v":423711.69913150516},{"$f":"VLOOKUP(A510, localcont!$D$10:$L$1764, 9)*F510","v":459730.67829762946}]
[1096,220,"Norwood                      ",220,"Norwood",39373344,{"$f":"VLOOKUP(A511, localcont!$D$10:$L$1764, 8)","v":43678902.616409995},{"$f":"VLOOKUP(A511, localcont!$D$10:$L$1764, 9)*F511","v":37538259.054375261}]
[1097,220,"Norwood                      ",806,"Blue Hills",39373344,{"$f":"VLOOKUP(A512, localcont!$D$10:$L$1764, 8)","v":1819881.8569014699},{"$f":"VLOOKUP(A512, localcont!$D$10:$L$1764, 9)*F512","v":1564031.8895525346}]
[1098,220,"Norwood                      ",915,"Norfolk County",39373344,{"$f":"VLOOKUP(A513, localcont!$D$10:$L$1764, 8)","v":315392.89083462063},{"$f":"VLOOKUP(A513, localcont!$D$10:$L$1764, 9)*F513","v":271053.05607220787}]
[1101,221,"Oak Bluffs                   ",221,"Oak Bluffs",14019605,{"$f":"VLOOKUP(A514, localcont!$D$10:$L$1764, 8)","v":5250477.3999999994},{"$f":"VLOOKUP(A514, localcont!$D$10:$L$1764, 9)*F514","v":8715701.5189170521}]
[1102,221,"Oak Bluffs                   ",700,"Marthas Vineyard",14019605,{"$f":"VLOOKUP(A515, localcont!$D$10:$L$1764, 8)","v":3195155.926205643},{"$f":"VLOOKUP(A515, localcont!$D$10:$L$1764, 9)*F515","v":5303903.4810829479}]
[1106,222,"Oakham                       ",222,"Oakham",1751373,{"$f":"VLOOKUP(A516, localcont!$D$10:$L$1764, 8)","v":44858.340000000004},{"$f":"VLOOKUP(A516, localcont!$D$10:$L$1764, 9)*F516","v":25232.713351059167}]
[1107,222,"Oakham                       ",753,"Quabbin",1751373,{"$f":"VLOOKUP(A517, localcont!$D$10:$L$1764, 8)","v":2881155.3216158957},{"$f":"VLOOKUP(A517, localcont!$D$10:$L$1764, 9)*F517","v":1620643.2594298534}]
[1108,222,"Oakham                       ",860,"Pathfinder",1751373,{"$f":"VLOOKUP(A518, localcont!$D$10:$L$1764, 8)","v":187551.0354412373},{"$f":"VLOOKUP(A518, localcont!$D$10:$L$1764, 9)*F518","v":105497.02721908744}]
[1111,223,"Orange                       ",223,"Orange",4373993,{"$f":"VLOOKUP(A519, localcont!$D$10:$L$1764, 8)","v":6806427.04},{"$f":"VLOOKUP(A519, localcont!$D$10:$L$1764, 9)*F519","v":2056793.7823980446}]
[1112,223,"Orange                       ",755,"Ralph C Mahar",4373993,{"$f":"VLOOKUP(A520, localcont!$D$10:$L$1764, 8)","v":6227931.8933533709},{"$f":"VLOOKUP(A520, localcont!$D$10:$L$1764, 9)*F520","v":1881981.7681389113}]
[1113,223,"Orange                       ",818,"Franklin County",{"$f":"VLOOKUP(B521, town351, 7)","v":4373993},{"$f":"VLOOKUP(A521, localcont!$D$10:$L$1764, 8)","v":1440239.5814573762},{"$f":"VLOOKUP(A521, localcont!$D$10:$L$1764, 9)*F521","v":435217.44946304365}]
[1116,224,"Orleans                      ",224,"Orleans",19665032,{"$f":"VLOOKUP(A522, localcont!$D$10:$L$1764, 8)","v":2121258.23},{"$f":"VLOOKUP(A522, localcont!$D$10:$L$1764, 9)*F522","v":8222319.4995492753}]
[1117,224,"Orleans                      ",660,"Nauset",19665032,{"$f":"VLOOKUP(A523, localcont!$D$10:$L$1764, 8)","v":2707333.0145869302},{"$f":"VLOOKUP(A523, localcont!$D$10:$L$1764, 9)*F523","v":10494034.494617676}]
[1118,224,"Orleans                      ",815,"Cape Cod",19665032,{"$f":"VLOOKUP(A524, localcont!$D$10:$L$1764, 8)","v":244747.36448804472},{"$f":"VLOOKUP(A524, localcont!$D$10:$L$1764, 9)*F524","v":948678.00583304942}]
[1121,225,"Otis                         ",225,"Otis",2960277,{"$f":"VLOOKUP(A525, localcont!$D$10:$L$1764, 8)","v":0},{"$f":"VLOOKUP(A525, localcont!$D$10:$L$1764, 9)*F525","v":0}]
[1122,225,"Otis                         ",662,"Farmington River",2960277,{"$f":"VLOOKUP(A526, localcont!$D$10:$L$1764, 8)","v":1347522.0402430634},{"$f":"VLOOKUP(A526, localcont!$D$10:$L$1764, 9)*F526","v":2960277}]
[1126,226,"Oxford                       ",226,"Oxford",11453225,{"$f":"VLOOKUP(A527, localcont!$D$10:$L$1764, 8)","v":18679880.199999996},{"$f":"VLOOKUP(A527, localcont!$D$10:$L$1764, 9)*F527","v":10153268.990462834}]
[1127,226,"Oxford                       ",876,"Southern Worcester",11453225,{"$f":"VLOOKUP(A528, localcont!$D$10:$L$1764, 8)","v":2391645.7395380591},{"$f":"VLOOKUP(A528, localcont!$D$10:$L$1764, 9)*F528","v":1299956.0095371667}]
[1131,227,"Palmer                       ",227,"Palmer",8460900,{"$f":"VLOOKUP(A529, localcont!$D$10:$L$1764, 8)","v":16709438.479999997},{"$f":"VLOOKUP(A529, localcont!$D$10:$L$1764, 9)*F529","v":6993094.2111042887}]
[1132,227,"Palmer                       ",860,"Pathfinder",8460900,{"$f":"VLOOKUP(A530, localcont!$D$10:$L$1764, 8)","v":3507204.3632982611},{"$f":"VLOOKUP(A530, localcont!$D$10:$L$1764, 9)*F530","v":1467805.7888957125}]
[1136,228,"Paxton                       ",228,"Paxton",5028560,{"$f":"VLOOKUP(A531, localcont!$D$10:$L$1764, 8)","v":0},{"$f":"VLOOKUP(A531, localcont!$D$10:$L$1764, 9)*F531","v":0}]
[1137,228,"Paxton                       ",775,"Wachusett",5028560,{"$f":"VLOOKUP(A532, localcont!$D$10:$L$1764, 8)","v":7021792.1668371903},{"$f":"VLOOKUP(A532, localcont!$D$10:$L$1764, 9)*F532","v":4773746.3352353498}]
[1138,228,"Paxton                       ",876,"Southern Worcester",5028560,{"$f":"VLOOKUP(A533, localcont!$D$10:$L$1764, 8)","v":374810.1532},{"$f":"VLOOKUP(A533, localcont!$D$10:$L$1764, 9)*F533","v":254813.66476465043}]
[1141,229,"Peabody                      ",229,"Peabody",56512051,{"$f":"VLOOKUP(A534, localcont!$D$10:$L$1764, 8)","v":74033830.659999996},{"$f":"VLOOKUP(A534, localcont!$D$10:$L$1764, 9)*F534","v":52560334.164933339}]
[1142,229,"Peabody                      ",817,"Essex North Shore",56512051,{"$f":"VLOOKUP(A535, localcont!$D$10:$L$1764, 8)","v":5566188.6407636944},{"$f":"VLOOKUP(A535, localcont!$D$10:$L$1764, 9)*F535","v":3951716.8350666552}]
[1146,230,"Pelham                       ",230,"Pelham",1352729,{"$f":"VLOOKUP(A536, localcont!$D$10:$L$1764, 8)","v":782638.4700000002},{"$f":"VLOOKUP(A536, localcont!$D$10:$L$1764, 9)*F536","v":684037.95064071787}]
[1147,230,"Pelham                       ",605,"Amherst Pelham",1352729,{"$f":"VLOOKUP(A537, localcont!$D$10:$L$1764, 8)","v":765079.39257323812},{"$f":"VLOOKUP(A537, localcont!$D$10:$L$1764, 9)*F537","v":668691.04935928201}]
[1151,231,"Pembroke                     ",231,"Pembroke",21892564,{"$f":"VLOOKUP(A538, localcont!$D$10:$L$1764, 8)","v":31570380.367049992},{"$f":"VLOOKUP(A538, localcont!$D$10:$L$1764, 9)*F538","v":21892564}]
[1156,232,"Pepperell                    ",232,"Pepperell",11663036,{"$f":"VLOOKUP(A539, localcont!$D$10:$L$1764, 8)","v":0},{"$f":"VLOOKUP(A539, localcont!$D$10:$L$1764, 9)*F539","v":0}]
[1157,232,"Pepperell                    ",735,"North Middlesex",11663036,{"$f":"VLOOKUP(A540, localcont!$D$10:$L$1764, 8)","v":15947332.454494171},{"$f":"VLOOKUP(A540, localcont!$D$10:$L$1764, 9)*F540","v":10400790.903176589}]
[1158,232,"Pepperell                    ",852,"Nashoba Valley",11663036,{"$f":"VLOOKUP(A541, localcont!$D$10:$L$1764, 8)","v":1935376.1060565349},{"$f":"VLOOKUP(A541, localcont!$D$10:$L$1764, 9)*F541","v":1262245.096823412}]
[1161,233,"Peru                         ",233,"Peru",576534,{"$f":"VLOOKUP(A542, localcont!$D$10:$L$1764, 8)","v":134575.02000000002},{"$f":"VLOOKUP(A542, localcont!$D$10:$L$1764, 9)*F542","v":64605.978282361866}]
[1162,233,"Peru                         ",635,"Central Berkshire",576534,{"$f":"VLOOKUP(A543, localcont!$D$10:$L$1764, 8)","v":1066352.1487146965},{"$f":"VLOOKUP(A543, localcont!$D$10:$L$1764, 9)*F543","v":511928.02171763813}]
[1166,234,"Petersham                    ",234,"Petersham",1171811,{"$f":"VLOOKUP(A544, localcont!$D$10:$L$1764, 8)","v":859319.13},{"$f":"VLOOKUP(A544, localcont!$D$10:$L$1764, 9)*F544","v":588397.81230681075}]
[1167,234,"Petersham                    ",755,"Ralph C Mahar",1171811,{"$f":"VLOOKUP(A545, localcont!$D$10:$L$1764, 8)","v":763423.90948046849},{"$f":"VLOOKUP(A545, localcont!$D$10:$L$1764, 9)*F545","v":522735.89929392166}]
[1168,234,"Petersham                    ",832,"Montachusett",1171811,{"$f":"VLOOKUP(A546, localcont!$D$10:$L$1764, 8)","v":88615.480186098226},{"$f":"VLOOKUP(A546, localcont!$D$10:$L$1764, 9)*F546","v":60677.288399267607}]
[1171,235,"Phillipston                  ",235,"Phillipston",1504359,{"$f":"VLOOKUP(A547, localcont!$D$10:$L$1764, 8)","v":0},{"$f":"VLOOKUP(A547, localcont!$D$10:$L$1764, 9)*F547","v":0}]
[1172,235,"Phillipston                  ",720,"Narragansett",1504359,{"$f":"VLOOKUP(A548, localcont!$D$10:$L$1764, 8)","v":2082745.6501935776},{"$f":"VLOOKUP(A548, localcont!$D$10:$L$1764, 9)*F548","v":1304541.4047988323}]
[1173,235,"Phillipston                  ",832,"Montachusett",1504359,{"$f":"VLOOKUP(A549, localcont!$D$10:$L$1764, 8)","v":319015.72898067493},{"$f":"VLOOKUP(A549, localcont!$D$10:$L$1764, 9)*F549","v":199817.59520116777}]
[1176,236,"Pittsfield                   ",236,"Pittsfield",29889878,{"$f":"VLOOKUP(A550, localcont!$D$10:$L$1764, 8)","v":79110404.659999996},{"$f":"VLOOKUP(A550, localcont!$D$10:$L$1764, 9)*F550","v":29889878}]
[1181,237,"Plainfield                   ",237,"Plainfield",570092,{"$f":"VLOOKUP(A551, localcont!$D$10:$L$1764, 8)","v":59811.12},{"$f":"VLOOKUP(A551, localcont!$D$10:$L$1764, 9)*F551","v":47652.65009121615}]
[1182,237,"Plainfield                   ",717,"Mohawk Trail",570092,{"$f":"VLOOKUP(A552, localcont!$D$10:$L$1764, 8)","v":655738.61244447704},{"$f":"VLOOKUP(A552, localcont!$D$10:$L$1764, 9)*F552","v":522439.34990878386}]
[1186,238,"Plainville                   ",238,"Plainville",11499317,{"$f":"VLOOKUP(A553, localcont!$D$10:$L$1764, 8)","v":7127762.9100000001},{"$f":"VLOOKUP(A553, localcont!$D$10:$L$1764, 9)*F553","v":5438768.6040810551}]
[1187,238,"Plainville                   ",690,"King Philip",11499317,{"$f":"VLOOKUP(A554, localcont!$D$10:$L$1764, 8)","v":6168404.9931235043},{"$f":"VLOOKUP(A554, localcont!$D$10:$L$1764, 9)*F554","v":4706740.0862603793}]
[1188,238,"Plainville                   ",878,"Tri County",11499317,{"$f":"VLOOKUP(A555, localcont!$D$10:$L$1764, 8)","v":1625809.491840872},{"$f":"VLOOKUP(A555, localcont!$D$10:$L$1764, 9)*F555","v":1240557.7643492506}]
[1189,238,"Plainville                   ",915,"Norfolk County",11499317,{"$f":"VLOOKUP(A556, localcont!$D$10:$L$1764, 8)","v":148420.18389737952},{"$f":"VLOOKUP(A556, localcont!$D$10:$L$1764, 9)*F556","v":113250.54530931421}]
[1191,239,"Plymouth                     ",239,"Plymouth",74471293,{"$f":"VLOOKUP(A557, localcont!$D$10:$L$1764, 8)","v":96767564.539159998},{"$f":"VLOOKUP(A557, localcont!$D$10:$L$1764, 9)*F557","v":74471293}]
[1196,240,"Plympton                     ",240,"Plympton",3705224,{"$f":"VLOOKUP(A558, localcont!$D$10:$L$1764, 8)","v":2366031.9386399998},{"$f":"VLOOKUP(A558, localcont!$D$10:$L$1764, 9)*F558","v":1783977.7691802697}]
[1197,240,"Plympton                     ",760,"Silver Lake",3705224,{"$f":"VLOOKUP(A559, localcont!$D$10:$L$1764, 8)","v":2548086.6536806356},{"$f":"VLOOKUP(A559, localcont!$D$10:$L$1764, 9)*F559","v":1921246.2308197301}]
[1201,241,"Princeton                    ",241,"Princeton",4827897,{"$f":"VLOOKUP(A560, localcont!$D$10:$L$1764, 8)","v":14952.78},{"$f":"VLOOKUP(A560, localcont!$D$10:$L$1764, 9)*F560","v":14615.780772982174}]
[1202,241,"Princeton                    ",775,"Wachusett",4827897,{"$f":"VLOOKUP(A561, localcont!$D$10:$L$1764, 8)","v":4410292.3024059907},{"$f":"VLOOKUP(A561, localcont!$D$10:$L$1764, 9)*F561","v":4310895.0600983063}]
[1203,241,"Princeton                    ",832,"Montachusett",4827897,{"$f":"VLOOKUP(A562, localcont!$D$10:$L$1764, 8)","v":513969.78575259924},{"$f":"VLOOKUP(A562, localcont!$D$10:$L$1764, 9)*F562","v":502386.15912871098}]
[1206,242,"Provincetown                 ",242,"Provincetown",14619992,{"$f":"VLOOKUP(A563, localcont!$D$10:$L$1764, 8)","v":1357829.1199999996},{"$f":"VLOOKUP(A563, localcont!$D$10:$L$1764, 9)*F563","v":12685256.920596704}]
[1207,242,"Provincetown                 ",815,"Cape Cod",14619992,{"$f":"VLOOKUP(A564, localcont!$D$10:$L$1764, 8)","v":207093.92381591065},{"$f":"VLOOKUP(A564, localcont!$D$10:$L$1764, 9)*F564","v":1934735.0794032961}]
[1211,243,"Quincy                       ",243,"Quincy",112575235,{"$f":"VLOOKUP(A565, localcont!$D$10:$L$1764, 8)","v":138447528.00444001},{"$f":"VLOOKUP(A565, localcont!$D$10:$L$1764, 9)*F565","v":112334382.88787501}]
[1212,243,"Quincy                       ",915,"Norfolk County",112575235,{"$f":"VLOOKUP(A566, localcont!$D$10:$L$1764, 8)","v":296840.36784744821},{"$f":"VLOOKUP(A566, localcont!$D$10:$L$1764, 9)*F566","v":240852.11212498878}]
[1216,244,"Randolph                     ",244,"Randolph",28270950,{"$f":"VLOOKUP(A567, localcont!$D$10:$L$1764, 8)","v":44771562.799199991},{"$f":"VLOOKUP(A567, localcont!$D$10:$L$1764, 9)*F567","v":25133596.224677473}]
[1217,244,"Randolph                     ",806,"Blue Hills",28270950,{"$f":"VLOOKUP(A568, localcont!$D$10:$L$1764, 8)","v":5421731.3654726101},{"$f":"VLOOKUP(A568, localcont!$D$10:$L$1764, 9)*F568","v":3043619.6205528202}]
[1218,244,"Randolph                     ",915,"Norfolk County",28270950,{"$f":"VLOOKUP(A569, localcont!$D$10:$L$1764, 8)","v":166972.70693724114},{"$f":"VLOOKUP(A569, localcont!$D$10:$L$1764, 9)*F569","v":93734.154769710425}]
[1221,245,"Raynham                      ",245,"Raynham",17057456,{"$f":"VLOOKUP(A570, localcont!$D$10:$L$1764, 8)","v":0},{"$f":"VLOOKUP(A570, localcont!$D$10:$L$1764, 9)*F570","v":0}]
[1222,245,"Raynham                      ",625,"Bridgewater Raynham",17057456,{"$f":"VLOOKUP(A571, localcont!$D$10:$L$1764, 8)","v":24247694.511339262},{"$f":"VLOOKUP(A571, localcont!$D$10:$L$1764, 9)*F571","v":14973969.50601127}]
[1223,245,"Raynham                      ",810,"Bristol Plymouth",17057456,{"$f":"VLOOKUP(A572, localcont!$D$10:$L$1764, 8)","v":3161198.9327284712},{"$f":"VLOOKUP(A572, localcont!$D$10:$L$1764, 9)*F572","v":1952173.0776909657}]
[1224,245,"Raynham                      ",910,"Bristol County",17057456,{"$f":"VLOOKUP(A573, localcont!$D$10:$L$1764, 8)","v":212638.84652297923},{"$f":"VLOOKUP(A573, localcont!$D$10:$L$1764, 9)*F573","v":131313.41629776408}]
[1226,246,"Reading                      ",246,"Reading",43240988,{"$f":"VLOOKUP(A574, localcont!$D$10:$L$1764, 8)","v":42274011.335760005},{"$f":"VLOOKUP(A574, localcont!$D$10:$L$1764, 9)*F574","v":42576805.103186049}]
[1227,246,"Reading                      ",853,"Northeast Metropolitan",43240988,{"$f":"VLOOKUP(A575, localcont!$D$10:$L$1764, 8)","v":659459.4225866386},{"$f":"VLOOKUP(A575, localcont!$D$10:$L$1764, 9)*F575","v":664182.89681395178}]
[1231,247,"Rehoboth                     ",247,"Rehoboth",15987877,{"$f":"VLOOKUP(A576, localcont!$D$10:$L$1764, 8)","v":0},{"$f":"VLOOKUP(A576, localcont!$D$10:$L$1764, 9)*F576","v":0}]
[1232,247,"Rehoboth                     ",650,"Dighton Rehoboth",15987877,{"$f":"VLOOKUP(A577, localcont!$D$10:$L$1764, 8)","v":16966699.232000001},{"$f":"VLOOKUP(A577, localcont!$D$10:$L$1764, 9)*F577","v":14539282.676856788}]
[1233,247,"Rehoboth                     ",810,"Bristol Plymouth",15987877,{"$f":"VLOOKUP(A578, localcont!$D$10:$L$1764, 8)","v":1300607.5607935928},{"$f":"VLOOKUP(A578, localcont!$D$10:$L$1764, 9)*F578","v":1114530.3349499041}]
[1234,247,"Rehoboth                     ",910,"Bristol County",15987877,{"$f":"VLOOKUP(A579, localcont!$D$10:$L$1764, 8)","v":389837.88525828358},{"$f":"VLOOKUP(A579, localcont!$D$10:$L$1764, 9)*F579","v":334063.98819330742}]
[1236,248,"Revere                       ",248,"Revere",46367651,{"$f":"VLOOKUP(A580, localcont!$D$10:$L$1764, 8)","v":119408964.46437},{"$f":"VLOOKUP(A580, localcont!$D$10:$L$1764, 9)*F580","v":44519901.547977582}]
[1237,248,"Revere                       ",853,"Northeast Metropolitan",46367651,{"$f":"VLOOKUP(A581, localcont!$D$10:$L$1764, 8)","v":4955937.4792828429},{"$f":"VLOOKUP(A581, localcont!$D$10:$L$1764, 9)*F581","v":1847749.4520224205}]
[1241,249,"Richmond                     ",249,"Richmond",2477596,{"$f":"VLOOKUP(A582, localcont!$D$10:$L$1764, 8)","v":1294266.8799999999},{"$f":"VLOOKUP(A582, localcont!$D$10:$L$1764, 9)*F582","v":2477596}]
[1246,250,"Rochester                    ",250,"Rochester",7218853,{"$f":"VLOOKUP(A583, localcont!$D$10:$L$1764, 8)","v":5247585.0799999991},{"$f":"VLOOKUP(A583, localcont!$D$10:$L$1764, 9)*F583","v":3579553.069188694}]
[1247,250,"Rochester                    ",740,"Old Rochester",7218853,{"$f":"VLOOKUP(A584, localcont!$D$10:$L$1764, 8)","v":3978901.3895506281},{"$f":"VLOOKUP(A584, localcont!$D$10:$L$1764, 9)*F584","v":2714141.5458413325}]
[1248,250,"Rochester                    ",855,"Old Colony",{"$f":"VLOOKUP(B585, town351, 7)","v":7218853},{"$f":"VLOOKUP(A585, localcont!$D$10:$L$1764, 8)","v":1356271.926625096},{"$f":"VLOOKUP(A585, localcont!$D$10:$L$1764, 9)*F585","v":925158.38496997301}]
[1251,251,"Rockland                     ",251,"Rockland",16255887,{"$f":"VLOOKUP(A586, localcont!$D$10:$L$1764, 8)","v":29636842.031679999},{"$f":"VLOOKUP(A586, localcont!$D$10:$L$1764, 9)*F586","v":14928877.909510674}]
[1252,251,"Rockland                     ",873,"South Shore",16255887,{"$f":"VLOOKUP(A587, localcont!$D$10:$L$1764, 8)","v":2634381.4336093399},{"$f":"VLOOKUP(A587, localcont!$D$10:$L$1764, 9)*F587","v":1327009.090489327}]
[1256,252,"Rockport                     ",252,"Rockport",13372717,{"$f":"VLOOKUP(A588, localcont!$D$10:$L$1764, 8)","v":6998375.1413199985},{"$f":"VLOOKUP(A588, localcont!$D$10:$L$1764, 9)*F588","v":12651623.993753308}]
[1257,252,"Rockport                     ",817,"Essex North Shore",13372717,{"$f":"VLOOKUP(A589, localcont!$D$10:$L$1764, 8)","v":398879.96766171913},{"$f":"VLOOKUP(A589, localcont!$D$10:$L$1764, 9)*F589","v":721093.00624669122}]
[1261,253,"Rowe                         ",253,"Rowe",1892134,{"$f":"VLOOKUP(A590, localcont!$D$10:$L$1764, 8)","v":580639.88},{"$f":"VLOOKUP(A590, localcont!$D$10:$L$1764, 9)*F590","v":1892134}]
[1266,254,"Rowley                       ",254,"Rowley",8418936,{"$f":"VLOOKUP(A591, localcont!$D$10:$L$1764, 8)","v":107793.08546999999},{"$f":"VLOOKUP(A591, localcont!$D$10:$L$1764, 9)*F591","v":110496.06815442031}]
[1267,254,"Rowley                       ",773,"Triton",8418936,{"$f":"VLOOKUP(A592, localcont!$D$10:$L$1764, 8)","v":7754101.4776973072},{"$f":"VLOOKUP(A592, localcont!$D$10:$L$1764, 9)*F592","v":7948540.6844058586}]
[1268,254,"Rowley                       ",885,"Whittier",8418936,{"$f":"VLOOKUP(A593, localcont!$D$10:$L$1764, 8)","v":351095.30128838832},{"$f":"VLOOKUP(A593, localcont!$D$10:$L$1764, 9)*F593","v":359899.24743972067}]
[1271,255,"Royalston                    ",255,"Royalston",947176,{"$f":"VLOOKUP(A594, localcont!$D$10:$L$1764, 8)","v":0},{"$f":"VLOOKUP(A594, localcont!$D$10:$L$1764, 9)*F594","v":0}]
[1272,255,"Royalston                    ",615,"Athol Royalston",947176,{"$f":"VLOOKUP(A595, localcont!$D$10:$L$1764, 8)","v":1529575.8276527186},{"$f":"VLOOKUP(A595, localcont!$D$10:$L$1764, 9)*F595","v":831554.04554275377}]
[1273,255,"Royalston                    ",832,"Montachusett",947176,{"$f":"VLOOKUP(A596, localcont!$D$10:$L$1764, 8)","v":212677.15265378327},{"$f":"VLOOKUP(A596, localcont!$D$10:$L$1764, 9)*F596","v":115621.95445724619}]
[1276,256,"Russell                      ",256,"Russell",1180803,{"$f":"VLOOKUP(A597, localcont!$D$10:$L$1764, 8)","v":357110.16},{"$f":"VLOOKUP(A597, localcont!$D$10:$L$1764, 9)*F597","v":155253.45949375062}]
[1277,256,"Russell                      ",672,"Gateway",1180803,{"$f":"VLOOKUP(A598, localcont!$D$10:$L$1764, 8)","v":2358943.6376640298},{"$f":"VLOOKUP(A598, localcont!$D$10:$L$1764, 9)*F598","v":1025549.5405062494}]
[1281,257,"Rutland                      ",257,"Rutland",8221464,{"$f":"VLOOKUP(A599, localcont!$D$10:$L$1764, 8)","v":0},{"$f":"VLOOKUP(A599, localcont!$D$10:$L$1764, 9)*F599","v":0}]
[1282,257,"Rutland                      ",775,"Wachusett",8221464,{"$f":"VLOOKUP(A600, localcont!$D$10:$L$1764, 8)","v":16579231.5046867},{"$f":"VLOOKUP(A600, localcont!$D$10:$L$1764, 9)*F600","v":7707055.8374283388}]
[1283,257,"Rutland                      ",876,"Southern Worcester",8221464,{"$f":"VLOOKUP(A601, localcont!$D$10:$L$1764, 8)","v":1106582.3571380591},{"$f":"VLOOKUP(A601, localcont!$D$10:$L$1764, 9)*F601","v":514408.16257166152}]
[1286,258,"Salem                        ",258,"Salem",42658285,{"$f":"VLOOKUP(A602, localcont!$D$10:$L$1764, 8)","v":59973101.910000004},{"$f":"VLOOKUP(A602, localcont!$D$10:$L$1764, 9)*F602","v":40226077.015974753}]
[1287,258,"Salem                        ",817,"Essex North Shore",42658285,{"$f":"VLOOKUP(A603, localcont!$D$10:$L$1764, 8)","v":3626181.5248435666},{"$f":"VLOOKUP(A603, localcont!$D$10:$L$1764, 9)*F603","v":2432207.9840252511}]
[1291,259,"Salisbury                    ",259,"Salisbury",10901709,{"$f":"VLOOKUP(A604, localcont!$D$10:$L$1764, 8)","v":29905.56},{"$f":"VLOOKUP(A604, localcont!$D$10:$L$1764, 9)*F604","v":30625.150126054759}]
[1292,259,"Salisbury                    ",773,"Triton",10901709,{"$f":"VLOOKUP(A605, localcont!$D$10:$L$1764, 8)","v":9987373.3946244009},{"$f":"VLOOKUP(A605, localcont!$D$10:$L$1764, 9)*F605","v":10227690.421959575}]
[1293,259,"Salisbury                    ",885,"Whittier",10901709,{"$f":"VLOOKUP(A606, localcont!$D$10:$L$1764, 8)","v":628275.8021724514},{"$f":"VLOOKUP(A606, localcont!$D$10:$L$1764, 9)*F606","v":643393.42791436787}]
[1296,260,"Sandisfield                  ",260,"Sandisfield",1077416,{"$f":"VLOOKUP(A607, localcont!$D$10:$L$1764, 8)","v":0},{"$f":"VLOOKUP(A607, localcont!$D$10:$L$1764, 9)*F607","v":0}]
[1297,260,"Sandisfield                  ",662,"Farmington River",1077416,{"$f":"VLOOKUP(A608, localcont!$D$10:$L$1764, 8)","v":1057971.8497569363},{"$f":"VLOOKUP(A608, localcont!$D$10:$L$1764, 9)*F608","v":1077416}]
[1301,261,"Sandwich                     ",261,"Sandwich",29432427,{"$f":"VLOOKUP(A609, localcont!$D$10:$L$1764, 8)","v":27638904.289999999},{"$f":"VLOOKUP(A609, localcont!$D$10:$L$1764, 9)*F609","v":27130127.925535981}]
[1302,261,"Sandwich                     ",879,"Upper Cape Cod",29432427,{"$f":"VLOOKUP(A610, localcont!$D$10:$L$1764, 8)","v":2345474.5197191867},{"$f":"VLOOKUP(A610, localcont!$D$10:$L$1764, 9)*F610","v":2302299.0744640189}]
[1306,262,"Saugus                       ",262,"Saugus",32974071,{"$f":"VLOOKUP(A611, localcont!$D$10:$L$1764, 8)","v":31864908.979999997},{"$f":"VLOOKUP(A611, localcont!$D$10:$L$1764, 9)*F611","v":29797290.870246243}]
[1307,262,"Saugus                       ",853,"Northeast Metropolitan",32974071,{"$f":"VLOOKUP(A612, localcont!$D$10:$L$1764, 8)","v":3397215.2074118899},{"$f":"VLOOKUP(A612, localcont!$D$10:$L$1764, 9)*F612","v":3176780.1297537559}]
[1311,263,"Savoy                        ",263,"Savoy",531203,{"$f":"VLOOKUP(A613, localcont!$D$10:$L$1764, 8)","v":542332.33000000007},{"$f":"VLOOKUP(A613, localcont!$D$10:$L$1764, 9)*F613","v":453671.8149151731}]
[1312,263,"Savoy                        ",851,"Northern Berkshire",531203,{"$f":"VLOOKUP(A614, localcont!$D$10:$L$1764, 8)","v":92683.007566995249},{"$f":"VLOOKUP(A614, localcont!$D$10:$L$1764, 9)*F614","v":77531.185084826953}]
[1316,264,"Scituate                     ",264,"Scituate",36192682,{"$f":"VLOOKUP(A615, localcont!$D$10:$L$1764, 8)","v":30894315.612089995},{"$f":"VLOOKUP(A615, localcont!$D$10:$L$1764, 9)*F615","v":35556610.913352691}]
[1317,264,"Scituate                     ",873,"South Shore",36192682,{"$f":"VLOOKUP(A616, localcont!$D$10:$L$1764, 8)","v":552667.43364529591},{"$f":"VLOOKUP(A616, localcont!$D$10:$L$1764, 9)*F616","v":636071.08664730727}]
[1321,265,"Seekonk                      ",265,"Seekonk",17865711,{"$f":"VLOOKUP(A617, localcont!$D$10:$L$1764, 8)","v":22858887.199999999},{"$f":"VLOOKUP(A617, localcont!$D$10:$L$1764, 9)*F617","v":16514692.860309158}]
[1322,265,"Seekonk                      ",878,"Tri County",17865711,{"$f":"VLOOKUP(A618, localcont!$D$10:$L$1764, 8)","v":1551059.630162573},{"$f":"VLOOKUP(A618, localcont!$D$10:$L$1764, 9)*F618","v":1120582.6939886909}]
[1323,265,"Seekonk                      ",910,"Bristol County",17865711,{"$f":"VLOOKUP(A619, localcont!$D$10:$L$1764, 8)","v":318958.26975062385},{"$f":"VLOOKUP(A619, localcont!$D$10:$L$1764, 9)*F619","v":230435.44570215081}]
[1326,266,"Sharon                       ",266,"Sharon",31368907,{"$f":"VLOOKUP(A620, localcont!$D$10:$L$1764, 8)","v":38638373.186679997},{"$f":"VLOOKUP(A620, localcont!$D$10:$L$1764, 9)*F620","v":31062234.764271352}]
[1327,266,"Sharon                       ",872,"Southeastern",31368907,{"$f":"VLOOKUP(A621, localcont!$D$10:$L$1764, 8)","v":288707.56517192448},{"$f":"VLOOKUP(A621, localcont!$D$10:$L$1764, 9)*F621","v":232098.33717023677}]
[1328,266,"Sharon                       ",915,"Norfolk County",31368907,{"$f":"VLOOKUP(A622, localcont!$D$10:$L$1764, 8)","v":92762.614935862206},{"$f":"VLOOKUP(A622, localcont!$D$10:$L$1764, 9)*F622","v":74573.898558409812}]
[1331,267,"Sheffield                    ",267,"Sheffield",4063323,{"$f":"VLOOKUP(A623, localcont!$D$10:$L$1764, 8)","v":0},{"$f":"VLOOKUP(A623, localcont!$D$10:$L$1764, 9)*F623","v":0}]
[1332,267,"Sheffield                    ",765,"Southern Berkshire",4063323,{"$f":"VLOOKUP(A624, localcont!$D$10:$L$1764, 8)","v":4356046.0264194449},{"$f":"VLOOKUP(A624, localcont!$D$10:$L$1764, 9)*F624","v":4063323}]
[1336,268,"Shelburne                    ",268,"Shelburne",1629370,{"$f":"VLOOKUP(A625, localcont!$D$10:$L$1764, 8)","v":0},{"$f":"VLOOKUP(A625, localcont!$D$10:$L$1764, 9)*F625","v":0}]
[1337,268,"Shelburne                    ",717,"Mohawk Trail",1629370,{"$f":"VLOOKUP(A626, localcont!$D$10:$L$1764, 8)","v":1875182.3478369866},{"$f":"VLOOKUP(A626, localcont!$D$10:$L$1764, 9)*F626","v":1390483.125640268}]
[1338,268,"Shelburne                    ",818,"Franklin County",1629370,{"$f":"VLOOKUP(A627, localcont!$D$10:$L$1764, 8)","v":322158.85376031004},{"$f":"VLOOKUP(A627, localcont!$D$10:$L$1764, 9)*F627","v":238886.8743597322}]
[1341,269,"Sherborn                     ",269,"Sherborn",17692856,{"$f":"VLOOKUP(A628, localcont!$D$10:$L$1764, 8)","v":4092250.4348000004},{"$f":"VLOOKUP(A628, localcont!$D$10:$L$1764, 9)*F628","v":7108101.4566490706}]
[1342,269,"Sherborn                     ",655,"Dover Sherborn",17692856,{"$f":"VLOOKUP(A629, localcont!$D$10:$L$1764, 8)","v":6056441.6313542491},{"$f":"VLOOKUP(A629, localcont!$D$10:$L$1764, 9)*F629","v":10519835.54472838}]
[1343,269,"Sherborn                     ",878,"Tri County",17692856,{"$f":"VLOOKUP(A630, localcont!$D$10:$L$1764, 8)","v":37374.930839149485},{"$f":"VLOOKUP(A630, localcont!$D$10:$L$1764, 9)*F630","v":64918.998622551429}]
[1346,270,"Shirley                      ",270,"Shirley",5759952,{"$f":"VLOOKUP(A631, localcont!$D$10:$L$1764, 8)","v":0},{"$f":"VLOOKUP(A631, localcont!$D$10:$L$1764, 9)*F631","v":0}]
[1347,270,"Shirley                      ",616,"Ayer Shirley",5759952,{"$f":"VLOOKUP(A632, localcont!$D$10:$L$1764, 8)","v":8396810.1756070387},{"$f":"VLOOKUP(A632, localcont!$D$10:$L$1764, 9)*F632","v":5169643.670972432}]
[1348,270,"Shirley                      ",852,"Nashoba Valley",5759952,{"$f":"VLOOKUP(A633, localcont!$D$10:$L$1764, 8)","v":958810.18101038609},{"$f":"VLOOKUP(A633, localcont!$D$10:$L$1764, 9)*F633","v":590308.32902756846}]
[1351,271,"Shrewsbury                   ",271,"Shrewsbury",55543151,{"$f":"VLOOKUP(A634, localcont!$D$10:$L$1764, 8)","v":67854307.580000013},{"$f":"VLOOKUP(A634, localcont!$D$10:$L$1764, 9)*F634","v":55543151}]
[1356,272,"Shutesbury                   ",272,"Shutesbury",1525692,{"$f":"VLOOKUP(A635, localcont!$D$10:$L$1764, 8)","v":1167665.8499999999},{"$f":"VLOOKUP(A635, localcont!$D$10:$L$1764, 9)*F635","v":713413.21931493923}]
[1357,272,"Shutesbury                   ",605,"Amherst Pelham",1525692,{"$f":"VLOOKUP(A636, localcont!$D$10:$L$1764, 8)","v":1329482.2232147045},{"$f":"VLOOKUP(A636, localcont!$D$10:$L$1764, 9)*F636","v":812278.78068506077}]
[1361,273,"Somerset                     ",273,"Somerset",16430074,{"$f":"VLOOKUP(A637, localcont!$D$10:$L$1764, 8)","v":17923179.719999999},{"$f":"VLOOKUP(A637, localcont!$D$10:$L$1764, 9)*F637","v":9738943.9615440592}]
[1362,273,"Somerset                     ",763,"Somerset Berkley",16430074,{"$f":"VLOOKUP(A638, localcont!$D$10:$L$1764, 8)","v":9250853.0245318972},{"$f":"VLOOKUP(A638, localcont!$D$10:$L$1764, 9)*F638","v":5026649.3228243161}]
[1363,273,"Somerset                     ",821,"Greater Fall River",16430074,{"$f":"VLOOKUP(A639, localcont!$D$10:$L$1764, 8)","v":2744288.333221925},{"$f":"VLOOKUP(A639, localcont!$D$10:$L$1764, 9)*F639","v":1491167.9015160529}]
[1364,273,"Somerset                     ",910,"Bristol County",16430074,{"$f":"VLOOKUP(A640, localcont!$D$10:$L$1764, 8)","v":318958.26975062385},{"$f":"VLOOKUP(A640, localcont!$D$10:$L$1764, 9)*F640","v":173312.81411557365}]
[1366,274,"Somerville                   ",274,"Somerville",121035603,{"$f":"VLOOKUP(A641, localcont!$D$10:$L$1764, 8)","v":77023976.661080003},{"$f":"VLOOKUP(A641, localcont!$D$10:$L$1764, 9)*F641","v":121035603}]
[1371,275,"Southampton                  ",275,"Southampton",6461269,{"$f":"VLOOKUP(A642, localcont!$D$10:$L$1764, 8)","v":5095671.4799999995},{"$f":"VLOOKUP(A642, localcont!$D$10:$L$1764, 9)*F642","v":3551955.5727549721}]
[1372,275,"Southampton                  ",683,"Hampshire",6461269,{"$f":"VLOOKUP(A643, localcont!$D$10:$L$1764, 8)","v":4173730.541932154},{"$f":"VLOOKUP(A643, localcont!$D$10:$L$1764, 9)*F643","v":2909313.4272450283}]
[1376,276,"Southborough                 ",276,"Southborough",27114095,{"$f":"VLOOKUP(A644, localcont!$D$10:$L$1764, 8)","v":12226979.455160001},{"$f":"VLOOKUP(A644, localcont!$D$10:$L$1764, 9)*F644","v":17747767.654591739}]
[1377,276,"Southborough                 ",730,"Northboro Southboro",27114095,{"$f":"VLOOKUP(A645, localcont!$D$10:$L$1764, 8)","v":5967089.5511602163},{"$f":"VLOOKUP(A645, localcont!$D$10:$L$1764, 9)*F645","v":8661380.2956412826}]
[1378,276,"Southborough                 ",801,"Assabet Valley",27114095,{"$f":"VLOOKUP(A646, localcont!$D$10:$L$1764, 8)","v":485659.56362667074},{"$f":"VLOOKUP(A646, localcont!$D$10:$L$1764, 9)*F646","v":704947.04976698372}]
[1381,277,"Southbridge                  ",277,"Southbridge",9236314,{"$f":"VLOOKUP(A647, localcont!$D$10:$L$1764, 8)","v":31977786.810000002},{"$f":"VLOOKUP(A647, localcont!$D$10:$L$1764, 9)*F647","v":8279716.065683716}]
[1382,277,"Southbridge                  ",876,"Southern Worcester",9236314,{"$f":"VLOOKUP(A648, localcont!$D$10:$L$1764, 8)","v":3694557.2243999997},{"$f":"VLOOKUP(A648, localcont!$D$10:$L$1764, 9)*F648","v":956597.93431628402}]
[1386,278,"South Hadley                 ",278,"South Hadley",{"$f":"VLOOKUP(B649, town351, 7)","v":14084456},{"$f":"VLOOKUP(A649, localcont!$D$10:$L$1764, 8)","v":22281902.760000002},{"$f":"VLOOKUP(A649, localcont!$D$10:$L$1764, 9)*F649","v":14084456}]
[1391,279,"Southwick                    ",279,"Southwick",9206158,{"$f":"VLOOKUP(A650, localcont!$D$10:$L$1764, 8)","v":0},{"$f":"VLOOKUP(A650, localcont!$D$10:$L$1764, 9)*F650","v":0}]
[1392,279,"Southwick                    ",766,"Southwick Tolland",9206158,{"$f":"VLOOKUP(A651, localcont!$D$10:$L$1764, 8)","v":13461538.343522813},{"$f":"VLOOKUP(A651, localcont!$D$10:$L$1764, 9)*F651","v":9206158}]
[1396,280,"Spencer                      ",280,"Spencer",8998328,{"$f":"VLOOKUP(A652, localcont!$D$10:$L$1764, 8)","v":59811.12},{"$f":"VLOOKUP(A652, localcont!$D$10:$L$1764, 9)*F652","v":29758.59945848037}]
[1397,280,"Spencer                      ",767,"Spencer East Brookfield",8998328,{"$f":"VLOOKUP(A653, localcont!$D$10:$L$1764, 8)","v":15384200.7987053},{"$f":"VLOOKUP(A653, localcont!$D$10:$L$1764, 9)*F653","v":7654300.2297483282}]
[1398,280,"Spencer                      ",876,"Southern Worcester",8998328,{"$f":"VLOOKUP(A654, localcont!$D$10:$L$1764, 8)","v":2641519.174861941},{"$f":"VLOOKUP(A654, localcont!$D$10:$L$1764, 9)*F654","v":1314269.1707931915}]
[1401,281,"Springfield                  ",281,"Springfield",67030337,{"$f":"VLOOKUP(A655, localcont!$D$10:$L$1764, 8)","v":446524567.99999994},{"$f":"VLOOKUP(A655, localcont!$D$10:$L$1764, 9)*F655","v":67030337}]
[1406,282,"Sterling                     ",282,"Sterling",9754312,{"$f":"VLOOKUP(A656, localcont!$D$10:$L$1764, 8)","v":29905.56},{"$f":"VLOOKUP(A656, localcont!$D$10:$L$1764, 9)*F656","v":25361.908603585005}]
[1407,282,"Sterling                     ",775,"Wachusett",9754312,{"$f":"VLOOKUP(A657, localcont!$D$10:$L$1764, 8)","v":10337638.467335474},{"$f":"VLOOKUP(A657, localcont!$D$10:$L$1764, 9)*F657","v":8767006.6029683724}]
[1408,282,"Sterling                     ",832,"Montachusett",9754312,{"$f":"VLOOKUP(A658, localcont!$D$10:$L$1764, 8)","v":1134278.1475731556},{"$f":"VLOOKUP(A658, localcont!$D$10:$L$1764, 9)*F658","v":961943.48842804064}]
[1411,283,"Stockbridge                  ",283,"Stockbridge",4298157,{"$f":"VLOOKUP(A659, localcont!$D$10:$L$1764, 8)","v":0},{"$f":"VLOOKUP(A659, localcont!$D$10:$L$1764, 9)*F659","v":0}]
[1412,283,"Stockbridge                  ",618,"Berkshire Hills",4298157,{"$f":"VLOOKUP(A660, localcont!$D$10:$L$1764, 8)","v":1534621.8448339903},{"$f":"VLOOKUP(A660, localcont!$D$10:$L$1764, 9)*F660","v":4298157}]
[1416,284,"Stoneham                     ",284,"Stoneham",30850192,{"$f":"VLOOKUP(A661, localcont!$D$10:$L$1764, 8)","v":27721100.205059998},{"$f":"VLOOKUP(A661, localcont!$D$10:$L$1764, 9)*F661","v":29168055.8458056}]
[1417,284,"Stoneham                     ",853,"Northeast Metropolitan",30850192,{"$f":"VLOOKUP(A662, localcont!$D$10:$L$1764, 8)","v":1598689.5093552431},{"$f":"VLOOKUP(A662, localcont!$D$10:$L$1764, 9)*F662","v":1682136.1541944023}]
[1421,285,"Stoughton                    ",285,"Stoughton",29797119,{"$f":"VLOOKUP(A663, localcont!$D$10:$L$1764, 8)","v":44927626.417459995},{"$f":"VLOOKUP(A663, localcont!$D$10:$L$1764, 9)*F663","v":28310582.85066532}]
[1422,285,"Stoughton                    ",872,"Southeastern",29797119,{"$f":"VLOOKUP(A664, localcont!$D$10:$L$1764, 8)","v":2136435.9830210335},{"$f":"VLOOKUP(A664, localcont!$D$10:$L$1764, 9)*F664","v":1346248.4605898093}]
[1423,285,"Stoughton                    ",915,"Norfolk County",29797119,{"$f":"VLOOKUP(A665, localcont!$D$10:$L$1764, 8)","v":222630.27589875844},{"$f":"VLOOKUP(A665, localcont!$D$10:$L$1764, 9)*F665","v":140287.68874486673}]
[1426,286,"Stow                         ",286,"Stow",12144825,{"$f":"VLOOKUP(A666, localcont!$D$10:$L$1764, 8)","v":15555.7965},{"$f":"VLOOKUP(A666, localcont!$D$10:$L$1764, 9)*F666","v":14251.339932031327}]
[1427,286,"Stow                         ",725,"Nashoba",12144825,{"$f":"VLOOKUP(A667, localcont!$D$10:$L$1764, 8)","v":12354455.509577906},{"$f":"VLOOKUP(A667, localcont!$D$10:$L$1764, 9)*F667","v":11318452.587249523}]
[1428,286,"Stow                         ",830,"Minuteman",12144825,{"$f":"VLOOKUP(A668, localcont!$D$10:$L$1764, 8)","v":886456.30532824981},{"$f":"VLOOKUP(A668, localcont!$D$10:$L$1764, 9)*F668","v":812121.07281844702}]
[1431,287,"Sturbridge                   ",287,"Sturbridge",11528476,{"$f":"VLOOKUP(A669, localcont!$D$10:$L$1764, 8)","v":8608625.4299999997},{"$f":"VLOOKUP(A669, localcont!$D$10:$L$1764, 9)*F669","v":5214564.4864560608}]
[1432,287,"Sturbridge                   ",770,"Tantasqua",11528476,{"$f":"VLOOKUP(A670, localcont!$D$10:$L$1764, 8)","v":10423516.548589937},{"$f":"VLOOKUP(A670, localcont!$D$10:$L$1764, 9)*F670","v":6313911.5135439392}]
[1436,288,"Sudbury                      ",288,"Sudbury",50689867,{"$f":"VLOOKUP(A671, localcont!$D$10:$L$1764, 8)","v":25581450.369169995},{"$f":"VLOOKUP(A671, localcont!$D$10:$L$1764, 9)*F671","v":31016185.247132797}]
[1437,288,"Sudbury                      ",695,"Lincoln Sudbury",50689867,{"$f":"VLOOKUP(A672, localcont!$D$10:$L$1764, 8)","v":16226409.190225672},{"$f":"VLOOKUP(A672, localcont!$D$10:$L$1764, 9)*F672","v":19673681.752867196}]
[1441,289,"Sunderland                   ",289,"Sunderland",2883707,{"$f":"VLOOKUP(A673, localcont!$D$10:$L$1764, 8)","v":1721299.0999999999},{"$f":"VLOOKUP(A673, localcont!$D$10:$L$1764, 9)*F673","v":1453631.1386388985}]
[1442,289,"Sunderland                   ",670,"Frontier",2883707,{"$f":"VLOOKUP(A674, localcont!$D$10:$L$1764, 8)","v":1541802.247123881},{"$f":"VLOOKUP(A674, localcont!$D$10:$L$1764, 9)*F674","v":1302046.6669869865}]
[1443,289,"Sunderland                   ",818,"Franklin County",2883707,{"$f":"VLOOKUP(A675, localcont!$D$10:$L$1764, 8)","v":151604.16641613605},{"$f":"VLOOKUP(A675, localcont!$D$10:$L$1764, 9)*F675","v":128029.19437411484}]
[1446,290,"Sutton                       ",290,"Sutton",13187182,{"$f":"VLOOKUP(A676, localcont!$D$10:$L$1764, 8)","v":13690363.949999999},{"$f":"VLOOKUP(A676, localcont!$D$10:$L$1764, 9)*F676","v":11488172.898131913}]
[1447,290,"Sutton                       ",805,"Blackstone Valley",13187182,{"$f":"VLOOKUP(A677, localcont!$D$10:$L$1764, 8)","v":2024695.5860769665},{"$f":"VLOOKUP(A677, localcont!$D$10:$L$1764, 9)*F677","v":1699009.1018680858}]
[1451,291,"Swampscott                   ",291,"Swampscott",26880869,{"$f":"VLOOKUP(A678, localcont!$D$10:$L$1764, 8)","v":23502231.440000005},{"$f":"VLOOKUP(A678, localcont!$D$10:$L$1764, 9)*F678","v":26174143.170137804}]
[1452,291,"Swampscott                   ",817,"Essex North Shore",26880869,{"$f":"VLOOKUP(A679, localcont!$D$10:$L$1764, 8)","v":634581.7668254138},{"$f":"VLOOKUP(A679, localcont!$D$10:$L$1764, 9)*F679","v":706725.82986219542}]
[1456,292,"Swansea                      ",292,"Swansea",16420951,{"$f":"VLOOKUP(A680, localcont!$D$10:$L$1764, 8)","v":23940769.109999999},{"$f":"VLOOKUP(A680, localcont!$D$10:$L$1764, 9)*F680","v":14745527.032526938}]
[1457,292,"Swansea                      ",821,"Greater Fall River",16420951,{"$f":"VLOOKUP(A681, localcont!$D$10:$L$1764, 8)","v":2401252.2916048695},{"$f":"VLOOKUP(A681, localcont!$D$10:$L$1764, 9)*F681","v":1478972.1422519856}]
[1458,292,"Swansea                      ",910,"Bristol County",16420951,{"$f":"VLOOKUP(A682, localcont!$D$10:$L$1764, 8)","v":318958.26975062385},{"$f":"VLOOKUP(A682, localcont!$D$10:$L$1764, 9)*F682","v":196451.8252210755}]
[1461,293,"Taunton                      ",293,"Taunton",42611691,{"$f":"VLOOKUP(A683, localcont!$D$10:$L$1764, 8)","v":107043467.58},{"$f":"VLOOKUP(A683, localcont!$D$10:$L$1764, 9)*F683","v":38721992.831277378}]
[1462,293,"Taunton                      ",810,"Bristol Plymouth",42611691,{"$f":"VLOOKUP(A684, localcont!$D$10:$L$1764, 8)","v":10061644.602738522},{"$f":"VLOOKUP(A684, localcont!$D$10:$L$1764, 9)*F684","v":3639707.6719037076}]
[1463,293,"Taunton                      ",910,"Bristol County",42611691,{"$f":"VLOOKUP(A685, localcont!$D$10:$L$1764, 8)","v":691076.25111506996},{"$f":"VLOOKUP(A685, localcont!$D$10:$L$1764, 9)*F685","v":249990.49681891652}]
[1466,294,"Templeton                    ",294,"Templeton",5622703,{"$f":"VLOOKUP(A686, localcont!$D$10:$L$1764, 8)","v":0},{"$f":"VLOOKUP(A686, localcont!$D$10:$L$1764, 9)*F686","v":0}]
[1467,294,"Templeton                    ",720,"Narragansett",5622703,{"$f":"VLOOKUP(A687, localcont!$D$10:$L$1764, 8)","v":12543541.599806422},{"$f":"VLOOKUP(A687, localcont!$D$10:$L$1764, 9)*F687","v":4994626.6331746755}]
[1468,294,"Templeton                    ",832,"Montachusett",5622703,{"$f":"VLOOKUP(A688, localcont!$D$10:$L$1764, 8)","v":1577355.5490215158},{"$f":"VLOOKUP(A688, localcont!$D$10:$L$1764, 9)*F688","v":628076.36682532367}]
[1471,295,"Tewksbury                    ",295,"Tewksbury",37807616,{"$f":"VLOOKUP(A689, localcont!$D$10:$L$1764, 8)","v":35982818.319999993},{"$f":"VLOOKUP(A689, localcont!$D$10:$L$1764, 9)*F689","v":32319831.980743542}]
[1472,295,"Tewksbury                    ",871,"Shawsheen Valley",37807616,{"$f":"VLOOKUP(A690, localcont!$D$10:$L$1764, 8)","v":6109745.1082653003},{"$f":"VLOOKUP(A690, localcont!$D$10:$L$1764, 9)*F690","v":5487784.019256453}]
[1476,296,"Tisbury                      ",296,"Tisbury",12152412,{"$f":"VLOOKUP(A691, localcont!$D$10:$L$1764, 8)","v":4207932.1499999994},{"$f":"VLOOKUP(A691, localcont!$D$10:$L$1764, 9)*F691","v":7223752.7069816366}]
[1477,296,"Tisbury                      ",700,"Marthas Vineyard",12152412,{"$f":"VLOOKUP(A692, localcont!$D$10:$L$1764, 8)","v":2871009.6727762981},{"$f":"VLOOKUP(A692, localcont!$D$10:$L$1764, 9)*F692","v":4928659.2930183653}]
[1481,297,"Tolland                      ",297,"Tolland",843031,{"$f":"VLOOKUP(A693, localcont!$D$10:$L$1764, 8)","v":0},{"$f":"VLOOKUP(A693, localcont!$D$10:$L$1764, 9)*F693","v":0}]
[1482,297,"Tolland                      ",766,"Southwick Tolland",843031,{"$f":"VLOOKUP(A694, localcont!$D$10:$L$1764, 8)","v":475113.11806489067},{"$f":"VLOOKUP(A694, localcont!$D$10:$L$1764, 9)*F694","v":843031}]
[1486,298,"Topsfield                    ",298,"Topsfield",12672972,{"$f":"VLOOKUP(A695, localcont!$D$10:$L$1764, 8)","v":5583546.5710300002},{"$f":"VLOOKUP(A695, localcont!$D$10:$L$1764, 9)*F695","v":6061512.8169818511}]
[1487,298,"Topsfield                    ",705,"Masconomet",12672972,{"$f":"VLOOKUP(A696, localcont!$D$10:$L$1764, 8)","v":5636855.5273455251},{"$f":"VLOOKUP(A696, localcont!$D$10:$L$1764, 9)*F696","v":6119385.15991941}]
[1488,298,"Topsfield                    ",817,"Essex North Shore",12672972,{"$f":"VLOOKUP(A697, localcont!$D$10:$L$1764, 8)","v":453272.69071649766},{"$f":"VLOOKUP(A697, localcont!$D$10:$L$1764, 9)*F697","v":492074.02309873898}]
[1491,299,"Townsend                     ",299,"Townsend",8142346,{"$f":"VLOOKUP(A698, localcont!$D$10:$L$1764, 8)","v":0},{"$f":"VLOOKUP(A698, localcont!$D$10:$L$1764, 9)*F698","v":0}]
[1492,299,"Townsend                     ",735,"North Middlesex",8142346,{"$f":"VLOOKUP(A699, localcont!$D$10:$L$1764, 8)","v":13621447.958317794},{"$f":"VLOOKUP(A699, localcont!$D$10:$L$1764, 9)*F699","v":7382150.0344807552}]
[1493,299,"Townsend                     ",852,"Nashoba Valley",8142346,{"$f":"VLOOKUP(A700, localcont!$D$10:$L$1764, 8)","v":1402703.783325623},{"$f":"VLOOKUP(A700, localcont!$D$10:$L$1764, 9)*F700","v":760195.9655192442}]
[1496,300,"Truro                        ",300,"Truro",9682543,{"$f":"VLOOKUP(A701, localcont!$D$10:$L$1764, 8)","v":2253510.1199999996},{"$f":"VLOOKUP(A701, localcont!$D$10:$L$1764, 9)*F701","v":8867622.8475984707}]
[1497,300,"Truro                        ",815,"Cape Cod",9682543,{"$f":"VLOOKUP(A702, localcont!$D$10:$L$1764, 8)","v":207093.92381591065},{"$f":"VLOOKUP(A702, localcont!$D$10:$L$1764, 9)*F702","v":814920.15240152855}]
[1501,301,"Tyngsborough                 ",301,"Tyngsborough",14038009,{"$f":"VLOOKUP(A703, localcont!$D$10:$L$1764, 8)","v":18200500.57},{"$f":"VLOOKUP(A703, localcont!$D$10:$L$1764, 9)*F703","v":12713256.228943612}]
[1502,301,"Tyngsborough                 ",828,"Greater Lowell",14038009,{"$f":"VLOOKUP(A704, localcont!$D$10:$L$1764, 8)","v":1896537.2152122783},{"$f":"VLOOKUP(A704, localcont!$D$10:$L$1764, 9)*F704","v":1324752.771056388}]
[1506,302,"Tyringham                    ",302,"Tyringham",834110,{"$f":"VLOOKUP(A705, localcont!$D$10:$L$1764, 8)","v":305094.65999999997},{"$f":"VLOOKUP(A705, localcont!$D$10:$L$1764, 9)*F705","v":834110}]
[1511,303,"Upton                        ",303,"Upton",10713927,{"$f":"VLOOKUP(A706, localcont!$D$10:$L$1764, 8)","v":89716.680000000008},{"$f":"VLOOKUP(A706, localcont!$D$10:$L$1764, 9)*F706","v":68167.655801029687}]
[1512,303,"Upton                        ",710,"Mendon Upton",10713927,{"$f":"VLOOKUP(A707, localcont!$D$10:$L$1764, 8)","v":12560043.844450723},{"$f":"VLOOKUP(A707, localcont!$D$10:$L$1764, 9)*F707","v":9543250.4372025188}]
[1513,303,"Upton                        ",805,"Blackstone Valley",10713927,{"$f":"VLOOKUP(A708, localcont!$D$10:$L$1764, 8)","v":1451031.8367828687},{"$f":"VLOOKUP(A708, localcont!$D$10:$L$1764, 9)*F708","v":1102508.9069964522}]
[1516,304,"Uxbridge                     ",304,"Uxbridge",14377641,{"$f":"VLOOKUP(A709, localcont!$D$10:$L$1764, 8)","v":19398107.32},{"$f":"VLOOKUP(A709, localcont!$D$10:$L$1764, 9)*F709","v":12927160.232904855}]
[1517,304,"Uxbridge                     ",805,"Blackstone Valley",14377641,{"$f":"VLOOKUP(A710, localcont!$D$10:$L$1764, 8)","v":2176547.755174303},{"$f":"VLOOKUP(A710, localcont!$D$10:$L$1764, 9)*F710","v":1450480.7670951467}]
[1521,305,"Wakefield                    ",305,"Wakefield",38708644,{"$f":"VLOOKUP(A711, localcont!$D$10:$L$1764, 8)","v":38638839.541639999},{"$f":"VLOOKUP(A711, localcont!$D$10:$L$1764, 9)*F711","v":36805120.23018574}]
[1522,305,"Wakefield                    ",853,"Northeast Metropolitan",38708644,{"$f":"VLOOKUP(A712, localcont!$D$10:$L$1764, 8)","v":1998361.8867580513},{"$f":"VLOOKUP(A712, localcont!$D$10:$L$1764, 9)*F712","v":1903523.769814261}]
[1526,306,"Wales                        ",306,"Wales",{"$f":"VLOOKUP(B713, town351, 7)","v":1250549},{"$f":"VLOOKUP(A713, localcont!$D$10:$L$1764, 8)","v":1543003.67},{"$f":"VLOOKUP(A713, localcont!$D$10:$L$1764, 9)*F713","v":564772.85845250427}]
[1527,306,"Wales                        ",770,"Tantasqua",1250549,{"$f":"VLOOKUP(A714, localcont!$D$10:$L$1764, 8)","v":1873594.1137568199},{"$f":"VLOOKUP(A714, localcont!$D$10:$L$1764, 9)*F714","v":685776.14154749585}]
[1531,307,"Walpole                      ",307,"Walpole",38693207,{"$f":"VLOOKUP(A715, localcont!$D$10:$L$1764, 8)","v":40749021.079649992},{"$f":"VLOOKUP(A715, localcont!$D$10:$L$1764, 9)*F715","v":36918178.960220389}]
[1532,307,"Walpole                      ",878,"Tri County",38693207,{"$f":"VLOOKUP(A716, localcont!$D$10:$L$1764, 8)","v":1551059.630162573},{"$f":"VLOOKUP(A716, localcont!$D$10:$L$1764, 9)*F716","v":1405243.5000189941}]
[1533,307,"Walpole                      ",915,"Norfolk County",38693207,{"$f":"VLOOKUP(A717, localcont!$D$10:$L$1764, 8)","v":408155.50577048282},{"$f":"VLOOKUP(A717, localcont!$D$10:$L$1764, 9)*F717","v":369784.53976061451}]
[1536,308,"Waltham                      ",308,"Waltham",87254164,{"$f":"VLOOKUP(A718, localcont!$D$10:$L$1764, 8)","v":79126547.643249989},{"$f":"VLOOKUP(A718, localcont!$D$10:$L$1764, 9)*F718","v":87254164}]
[1541,309,"Ware                         ",309,"Ware",6087922,{"$f":"VLOOKUP(A719, localcont!$D$10:$L$1764, 8)","v":16595927.159999996},{"$f":"VLOOKUP(A719, localcont!$D$10:$L$1764, 9)*F719","v":5393117.418691433}]
[1542,309,"Ware                         ",860,"Pathfinder",6087922,{"$f":"VLOOKUP(A720, localcont!$D$10:$L$1764, 8)","v":2138081.80438784},{"$f":"VLOOKUP(A720, localcont!$D$10:$L$1764, 9)*F720","v":694804.58130856673}]
[1546,310,"Wareham                      ",310,"Wareham",22555178,{"$f":"VLOOKUP(A721, localcont!$D$10:$L$1764, 8)","v":30246630.430000003},{"$f":"VLOOKUP(A721, localcont!$D$10:$L$1764, 9)*F721","v":19657732.98836384}]
[1547,310,"Wareham                      ",879,"Upper Cape Cod",22555178,{"$f":"VLOOKUP(A722, localcont!$D$10:$L$1764, 8)","v":4458192.0260124784},{"$f":"VLOOKUP(A722, localcont!$D$10:$L$1764, 9)*F722","v":2897445.0116361636}]
[1551,311,"Warren                       ",311,"Warren",2937332,{"$f":"VLOOKUP(A723, localcont!$D$10:$L$1764, 8)","v":0},{"$f":"VLOOKUP(A723, localcont!$D$10:$L$1764, 9)*F723","v":0}]
[1552,311,"Warren                       ",778,"Quaboag",2937332,{"$f":"VLOOKUP(A724, localcont!$D$10:$L$1764, 8)","v":8507475.3681874163},{"$f":"VLOOKUP(A724, localcont!$D$10:$L$1764, 9)*F724","v":2682996.3156678868}]
[1553,311,"Warren                       ",860,"Pathfinder",2937332,{"$f":"VLOOKUP(A725, localcont!$D$10:$L$1764, 8)","v":806469.45248149324},{"$f":"VLOOKUP(A725, localcont!$D$10:$L$1764, 9)*F725","v":254335.68433211331}]
[1556,312,"Warwick                      ",312,"Warwick",534755,{"$f":"VLOOKUP(A726, localcont!$D$10:$L$1764, 8)","v":0},{"$f":"VLOOKUP(A726, localcont!$D$10:$L$1764, 9)*F726","v":0}]
[1557,312,"Warwick                      ",750,"Pioneer",534755,{"$f":"VLOOKUP(A727, localcont!$D$10:$L$1764, 8)","v":609204.81032722059},{"$f":"VLOOKUP(A727, localcont!$D$10:$L$1764, 9)*F727","v":450645.65277047543}]
[1558,312,"Warwick                      ",818,"Franklin County",534755,{"$f":"VLOOKUP(A728, localcont!$D$10:$L$1764, 8)","v":113703.12486251042},{"$f":"VLOOKUP(A728, localcont!$D$10:$L$1764, 9)*F728","v":84109.347229524632}]
[1561,313,"Washington                   ",313,"Washington",522494,{"$f":"VLOOKUP(A729, localcont!$D$10:$L$1764, 8)","v":0},{"$f":"VLOOKUP(A729, localcont!$D$10:$L$1764, 9)*F729","v":0}]
[1562,313,"Washington                   ",635,"Central Berkshire",522494,{"$f":"VLOOKUP(A730, localcont!$D$10:$L$1764, 8)","v":706907.6041834465},{"$f":"VLOOKUP(A730, localcont!$D$10:$L$1764, 9)*F730","v":522494}]
[1566,314,"Watertown                    ",314,"Watertown",57512735,{"$f":"VLOOKUP(A731, localcont!$D$10:$L$1764, 8)","v":33614343.104620002},{"$f":"VLOOKUP(A731, localcont!$D$10:$L$1764, 9)*F731","v":57512735}]
[1571,315,"Wayland                      ",315,"Wayland",43612960,{"$f":"VLOOKUP(A732, localcont!$D$10:$L$1764, 8)","v":29175011.111419998},{"$f":"VLOOKUP(A732, localcont!$D$10:$L$1764, 9)*F732","v":43612960}]
[1576,316,"Webster                      ",316,"Webster",13039686,{"$f":"VLOOKUP(A733, localcont!$D$10:$L$1764, 8)","v":25360639.029999997},{"$f":"VLOOKUP(A733, localcont!$D$10:$L$1764, 9)*F733","v":11870143.8522557}]
[1577,316,"Webster                      ",876,"Southern Worcester",13039686,{"$f":"VLOOKUP(A734, localcont!$D$10:$L$1764, 8)","v":2498734.354738059},{"$f":"VLOOKUP(A734, localcont!$D$10:$L$1764, 9)*F734","v":1169542.1477442987}]
[1581,317,"Wellesley                    ",317,"Wellesley",134711820,{"$f":"VLOOKUP(A735, localcont!$D$10:$L$1764, 8)","v":49998663.731600001},{"$f":"VLOOKUP(A735, localcont!$D$10:$L$1764, 9)*F735","v":134661852.32238132}]
[1582,317,"Wellesley                    ",915,"Norfolk County",134711820,{"$f":"VLOOKUP(A736, localcont!$D$10:$L$1764, 8)","v":18552.52298717244},{"$f":"VLOOKUP(A736, localcont!$D$10:$L$1764, 9)*F736","v":49967.677618696456}]
[1586,318,"Wellfleet                    ",318,"Wellfleet",10782106,{"$f":"VLOOKUP(A737, localcont!$D$10:$L$1764, 8)","v":1274233.2699999998},{"$f":"VLOOKUP(A737, localcont!$D$10:$L$1764, 9)*F737","v":4045234.3552657301}]
[1587,318,"Wellfleet                    ",660,"Nauset",10782106,{"$f":"VLOOKUP(A738, localcont!$D$10:$L$1764, 8)","v":1820861.142564134},{"$f":"VLOOKUP(A738, localcont!$D$10:$L$1764, 9)*F738","v":5780582.1143477494}]
[1588,318,"Wellfleet                    ",815,"Cape Cod",10782106,{"$f":"VLOOKUP(A739, localcont!$D$10:$L$1764, 8)","v":301227.52561541897},{"$f":"VLOOKUP(A739, localcont!$D$10:$L$1764, 9)*F739","v":956289.53038652078}]
[1591,319,"Wendell                      ",319,"Wendell",600136,{"$f":"VLOOKUP(A740, localcont!$D$10:$L$1764, 8)","v":0},{"$f":"VLOOKUP(A740, localcont!$D$10:$L$1764, 9)*F740","v":0}]
[1592,319,"Wendell                      ",728,"New Salem Wendell",600136,{"$f":"VLOOKUP(A741, localcont!$D$10:$L$1764, 8)","v":852389.50526902115},{"$f":"VLOOKUP(A741, localcont!$D$10:$L$1764, 9)*F741","v":325397.99976948771}]
[1593,319,"Wendell                      ",755,"Ralph C Mahar",600136,{"$f":"VLOOKUP(A742, localcont!$D$10:$L$1764, 8)","v":549129.47879633121},{"$f":"VLOOKUP(A742, localcont!$D$10:$L$1764, 9)*F742","v":209629.0873013422}]
[1594,319,"Wendell                      ",818,"Franklin County",600136,{"$f":"VLOOKUP(A743, localcont!$D$10:$L$1764, 8)","v":170554.68724335727},{"$f":"VLOOKUP(A743, localcont!$D$10:$L$1764, 9)*F743","v":65108.912929170037}]
[1596,320,"Wenham                       ",320,"Wenham",8912299,{"$f":"VLOOKUP(A744, localcont!$D$10:$L$1764, 8)","v":0},{"$f":"VLOOKUP(A744, localcont!$D$10:$L$1764, 9)*F744","v":0}]
[1597,320,"Wenham                       ",675,"Hamilton Wenham",8912299,{"$f":"VLOOKUP(A745, localcont!$D$10:$L$1764, 8)","v":6122025.7977368031},{"$f":"VLOOKUP(A745, localcont!$D$10:$L$1764, 9)*F745","v":8680915.4780542459}]
[1598,320,"Wenham                       ",817,"Essex North Shore",8912299,{"$f":"VLOOKUP(A746, localcont!$D$10:$L$1764, 8)","v":163178.16872012816},{"$f":"VLOOKUP(A746, localcont!$D$10:$L$1764, 9)*F746","v":231383.52194575433}]
[1601,321,"Westborough                  ",321,"Westborough",32629670,{"$f":"VLOOKUP(A747, localcont!$D$10:$L$1764, 8)","v":42200577.130000003},{"$f":"VLOOKUP(A747, localcont!$D$10:$L$1764, 9)*F747","v":31967462.306777455}]
[1602,321,"Westborough                  ",801,"Assabet Valley",32629670,{"$f":"VLOOKUP(A748, localcont!$D$10:$L$1764, 8)","v":874187.21466647857},{"$f":"VLOOKUP(A748, localcont!$D$10:$L$1764, 9)*F748","v":662207.69322254579}]
[1606,322,"West Boylston                ",322,"West Boylston",7800056,{"$f":"VLOOKUP(A749, localcont!$D$10:$L$1764, 8)","v":9723140.6099999994},{"$f":"VLOOKUP(A749, localcont!$D$10:$L$1764, 9)*F749","v":7800056}]
[1611,323,"West Bridgewater             ",323,"West Bridgewater",8719857,{"$f":"VLOOKUP(A750, localcont!$D$10:$L$1764, 8)","v":12509536.450000003},{"$f":"VLOOKUP(A750, localcont!$D$10:$L$1764, 9)*F750","v":8120160.4679168742}]
[1612,323,"West Bridgewater             ",872,"Southeastern",8719857,{"$f":"VLOOKUP(A751, localcont!$D$10:$L$1764, 8)","v":923864.2089245544},{"$f":"VLOOKUP(A751, localcont!$D$10:$L$1764, 9)*F751","v":599696.53208312602}]
[1616,324,"West Brookfield              ",324,"West Brookfield",3619215,{"$f":"VLOOKUP(A752, localcont!$D$10:$L$1764, 8)","v":609550.86},{"$f":"VLOOKUP(A752, localcont!$D$10:$L$1764, 9)*F752","v":341078.90392849012}]
[1617,324,"West Brookfield              ",778,"Quaboag",3619215,{"$f":"VLOOKUP(A753, localcont!$D$10:$L$1764, 8)","v":5858441.1218125867},{"$f":"VLOOKUP(A753, localcont!$D$10:$L$1764, 9)*F753","v":3278136.0960715096}]
[1621,325,"Westfield                    ",325,"Westfield",28674517,{"$f":"VLOOKUP(A754, localcont!$D$10:$L$1764, 8)","v":64714818.569999993},{"$f":"VLOOKUP(A754, localcont!$D$10:$L$1764, 9)*F754","v":28674517}]
[1626,326,"Westford                     ",326,"Westford",39434478,{"$f":"VLOOKUP(A755, localcont!$D$10:$L$1764, 8)","v":49437144.66234},{"$f":"VLOOKUP(A755, localcont!$D$10:$L$1764, 9)*F755","v":38453895.390094355}]
[1627,326,"Westford                     ",852,"Nashoba Valley",39434478,{"$f":"VLOOKUP(A756, localcont!$D$10:$L$1764, 8)","v":1260657.8305657981},{"$f":"VLOOKUP(A756, localcont!$D$10:$L$1764, 9)*F756","v":980582.60990564921}]
[1631,327,"Westhampton                  ",327,"Westhampton",1915734,{"$f":"VLOOKUP(A757, localcont!$D$10:$L$1764, 8)","v":1221027.5199999998},{"$f":"VLOOKUP(A757, localcont!$D$10:$L$1764, 9)*F757","v":1043676.5988519519}]
[1632,327,"Westhampton                  ",683,"Hampshire",1915734,{"$f":"VLOOKUP(A758, localcont!$D$10:$L$1764, 8)","v":1020245.2435866977},{"$f":"VLOOKUP(A758, localcont!$D$10:$L$1764, 9)*F758","v":872057.40114804788}]
[1636,328,"Westminster                  ",328,"Westminster",8244494,{"$f":"VLOOKUP(A759, localcont!$D$10:$L$1764, 8)","v":0},{"$f":"VLOOKUP(A759, localcont!$D$10:$L$1764, 9)*F759","v":0}]
[1637,328,"Westminster                  ",610,"Ashburnham Westminster",8244494,{"$f":"VLOOKUP(A760, localcont!$D$10:$L$1764, 8)","v":13222540.724701032},{"$f":"VLOOKUP(A760, localcont!$D$10:$L$1764, 9)*F760","v":7437053.3768687733}]
[1638,328,"Westminster                  ",832,"Montachusett",8244494,{"$f":"VLOOKUP(A761, localcont!$D$10:$L$1764, 8)","v":1435570.7806719716},{"$f":"VLOOKUP(A761, localcont!$D$10:$L$1764, 9)*F761","v":807440.6231312271}]
[1641,329,"West Newbury                 ",329,"West Newbury",8159508,{"$f":"VLOOKUP(A762, localcont!$D$10:$L$1764, 8)","v":29905.56},{"$f":"VLOOKUP(A762, localcont!$D$10:$L$1764, 9)*F762","v":37286.473801977736}]
[1642,329,"West Newbury                 ",745,"Pentucket",8159508,{"$f":"VLOOKUP(A763, localcont!$D$10:$L$1764, 8)","v":6348107.2076663785},{"$f":"VLOOKUP(A763, localcont!$D$10:$L$1764, 9)*F763","v":7914867.1046721227}]
[1643,329,"West Newbury                 ",885,"Whittier",8159508,{"$f":"VLOOKUP(A764, localcont!$D$10:$L$1764, 8)","v":166308.30062238791},{"$f":"VLOOKUP(A764, localcont!$D$10:$L$1764, 9)*F764","v":207354.42152590034}]
[1646,330,"Weston                       ",330,"Weston",83505985,{"$f":"VLOOKUP(A765, localcont!$D$10:$L$1764, 8)","v":21554028.930860002},{"$f":"VLOOKUP(A765, localcont!$D$10:$L$1764, 9)*F765","v":83505985}]
[1651,331,"Westport                     ",331,"Westport",22872949,{"$f":"VLOOKUP(A766, localcont!$D$10:$L$1764, 8)","v":16990670.259999998},{"$f":"VLOOKUP(A766, localcont!$D$10:$L$1764, 9)*F766","v":19673976.557143971}]
[1652,331,"Westport                     ",821,"Greater Fall River",22872949,{"$f":"VLOOKUP(A767, localcont!$D$10:$L$1764, 8)","v":2248791.8286005156},{"$f":"VLOOKUP(A767, localcont!$D$10:$L$1764, 9)*F767","v":2603939.5174386413}]
[1653,331,"Westport                     ",910,"Bristol County",22872949,{"$f":"VLOOKUP(A768, localcont!$D$10:$L$1764, 8)","v":513877.21237976564},{"$f":"VLOOKUP(A768, localcont!$D$10:$L$1764, 9)*F768","v":595032.92541738751}]
[1656,332,"West Springfield             ",332,"West Springfield",21399626,{"$f":"VLOOKUP(A769, localcont!$D$10:$L$1764, 8)","v":53788012.660000004},{"$f":"VLOOKUP(A769, localcont!$D$10:$L$1764, 9)*F769","v":21399626}]
[1661,333,"West Stockbridge             ",333,"West Stockbridge",2188779,{"$f":"VLOOKUP(A770, localcont!$D$10:$L$1764, 8)","v":0},{"$f":"VLOOKUP(A770, localcont!$D$10:$L$1764, 9)*F770","v":0}]
[1662,333,"West Stockbridge             ",618,"Berkshire Hills",2188779,{"$f":"VLOOKUP(A771, localcont!$D$10:$L$1764, 8)","v":1534621.8448339903},{"$f":"VLOOKUP(A771, localcont!$D$10:$L$1764, 9)*F771","v":2188779}]
[1666,334,"West Tisbury                 ",334,"West Tisbury",11715609,{"$f":"VLOOKUP(A772, localcont!$D$10:$L$1764, 8)","v":0},{"$f":"VLOOKUP(A772, localcont!$D$10:$L$1764, 9)*F772","v":0}]
[1667,334,"West Tisbury                 ",700,"Marthas Vineyard",11715609,{"$f":"VLOOKUP(A773, localcont!$D$10:$L$1764, 8)","v":1389198.2287553856},{"$f":"VLOOKUP(A773, localcont!$D$10:$L$1764, 9)*F773","v":3651879.0491608344}]
[1668,334,"West Tisbury                 ",774,"Upisland",11715609,{"$f":"VLOOKUP(A774, localcont!$D$10:$L$1764, 8)","v":3067494.6278523812},{"$f":"VLOOKUP(A774, localcont!$D$10:$L$1764, 9)*F774","v":8063729.9508391656}]
[1671,335,"Westwood                     ",335,"Westwood",44813368,{"$f":"VLOOKUP(A775, localcont!$D$10:$L$1764, 8)","v":32473679.60554},{"$f":"VLOOKUP(A775, localcont!$D$10:$L$1764, 9)*F775","v":44379029.797643125}]
[1672,335,"Westwood                     ",806,"Blue Hills",44813368,{"$f":"VLOOKUP(A776, localcont!$D$10:$L$1764, 8)","v":113742.61603510991},{"$f":"VLOOKUP(A776, localcont!$D$10:$L$1764, 9)*F776","v":155442.40774682252}]
[1673,335,"Westwood                     ",915,"Norfolk County",{"$f":"VLOOKUP(B777, town351, 7)","v":44813368},{"$f":"VLOOKUP(A777, localcont!$D$10:$L$1764, 8)","v":204077.75291158599},{"$f":"VLOOKUP(A777, localcont!$D$10:$L$1764, 9)*F777","v":278895.79461005219}]
[1676,336,"Weymouth                     ",336,"Weymouth",61754062,{"$f":"VLOOKUP(A778, localcont!$D$10:$L$1764, 8)","v":76134831.638579994},{"$f":"VLOOKUP(A778, localcont!$D$10:$L$1764, 9)*F778","v":61380134.478428163}]
[1677,336,"Weymouth                     ",915,"Norfolk County",61754062,{"$f":"VLOOKUP(A779, localcont!$D$10:$L$1764, 8)","v":463813.07473200018},{"$f":"VLOOKUP(A779, localcont!$D$10:$L$1764, 9)*F779","v":373927.52157183859}]
[1681,337,"Whately                      ",337,"Whately",1516695,{"$f":"VLOOKUP(A780, localcont!$D$10:$L$1764, 8)","v":961185.17},{"$f":"VLOOKUP(A780, localcont!$D$10:$L$1764, 9)*F780","v":774926.77230875264}]
[1682,337,"Whately                      ",670,"Frontier",1516695,{"$f":"VLOOKUP(A781, localcont!$D$10:$L$1764, 8)","v":711601.03712388116},{"$f":"VLOOKUP(A781, localcont!$D$10:$L$1764, 9)*F781","v":573707.03593977634}]
[1683,337,"Whately                      ",818,"Franklin County",1516695,{"$f":"VLOOKUP(A782, localcont!$D$10:$L$1764, 8)","v":208455.72889779962},{"$f":"VLOOKUP(A782, localcont!$D$10:$L$1764, 9)*F782","v":168061.19175147096}]
[1686,338,"Whitman                      ",338,"Whitman",13421419,{"$f":"VLOOKUP(A783, localcont!$D$10:$L$1764, 8)","v":134575.02000000002},{"$f":"VLOOKUP(A783, localcont!$D$10:$L$1764, 9)*F783","v":67084.014912784551}]
[1687,338,"Whitman                      ",780,"Whitman Hanson",13421419,{"$f":"VLOOKUP(A784, localcont!$D$10:$L$1764, 8)","v":24302685.56832394},{"$f":"VLOOKUP(A784, localcont!$D$10:$L$1764, 9)*F784","v":12114593.934937978}]
[1688,338,"Whitman                      ",873,"South Shore",13421419,{"$f":"VLOOKUP(A785, localcont!$D$10:$L$1764, 8)","v":2487003.4513521572},{"$f":"VLOOKUP(A785, localcont!$D$10:$L$1764, 9)*F785","v":1239741.0501492384}]
[1691,339,"Wilbraham                    ",339,"Wilbraham",16762083,{"$f":"VLOOKUP(A786, localcont!$D$10:$L$1764, 8)","v":0},{"$f":"VLOOKUP(A786, localcont!$D$10:$L$1764, 9)*F786","v":0}]
[1692,339,"Wilbraham                    ",680,"Hampden Wilbraham",16762083,{"$f":"VLOOKUP(A787, localcont!$D$10:$L$1764, 8)","v":25128205.917621668},{"$f":"VLOOKUP(A787, localcont!$D$10:$L$1764, 9)*F787","v":16762083}]
[1696,340,"Williamsburg                 ",340,"Williamsburg",2124391,{"$f":"VLOOKUP(A788, localcont!$D$10:$L$1764, 8)","v":2025767.98},{"$f":"VLOOKUP(A788, localcont!$D$10:$L$1764, 9)*F788","v":1285612.6727010484}]
[1697,340,"Williamsburg                 ",683,"Hampshire",2124391,{"$f":"VLOOKUP(A789, localcont!$D$10:$L$1764, 8)","v":1321681.3382760538},{"$f":"VLOOKUP(A789, localcont!$D$10:$L$1764, 9)*F789","v":838778.32729895168}]
[1701,341,"Williamstown                 ",341,"Williamstown",7636411,{"$f":"VLOOKUP(A790, localcont!$D$10:$L$1764, 8)","v":0},{"$f":"VLOOKUP(A790, localcont!$D$10:$L$1764, 9)*F790","v":0}]
[1702,341,"Williamstown                 ",715,"Mount Greylock",7636411,{"$f":"VLOOKUP(A791, localcont!$D$10:$L$1764, 8)","v":7353048.3172907867},{"$f":"VLOOKUP(A791, localcont!$D$10:$L$1764, 9)*F791","v":7322593.9276110381}]
[1703,341,"Williamstown                 ",851,"Northern Berkshire",7636411,{"$f":"VLOOKUP(A792, localcont!$D$10:$L$1764, 8)","v":315122.22565912426},{"$f":"VLOOKUP(A792, localcont!$D$10:$L$1764, 9)*F792","v":313817.07238896209}]
[1706,342,"Wilmington                   ",342,"Wilmington",35696261,{"$f":"VLOOKUP(A793, localcont!$D$10:$L$1764, 8)","v":31976675.075399999},{"$f":"VLOOKUP(A793, localcont!$D$10:$L$1764, 9)*F793","v":31116479.840497568}]
[1707,342,"Wilmington                   ",871,"Shawsheen Valley",35696261,{"$f":"VLOOKUP(A794, localcont!$D$10:$L$1764, 8)","v":4706386.2880546823},{"$f":"VLOOKUP(A794, localcont!$D$10:$L$1764, 9)*F794","v":4579781.1595024262}]
[1711,343,"Winchendon                   ",343,"Winchendon",6332447,{"$f":"VLOOKUP(A795, localcont!$D$10:$L$1764, 8)","v":16192011.48},{"$f":"VLOOKUP(A795, localcont!$D$10:$L$1764, 9)*F795","v":5619008.60983082}]
[1712,343,"Winchendon                   ",832,"Montachusett",6332447,{"$f":"VLOOKUP(A796, localcont!$D$10:$L$1764, 8)","v":2055879.1427514625},{"$f":"VLOOKUP(A796, localcont!$D$10:$L$1764, 9)*F796","v":713438.39016917953}]
[1716,344,"Winchester                   ",344,"Winchester",70070662,{"$f":"VLOOKUP(A797, localcont!$D$10:$L$1764, 8)","v":49628251.23258999},{"$f":"VLOOKUP(A797, localcont!$D$10:$L$1764, 9)*F797","v":69761664.698661864}]
[1717,344,"Winchester                   ",853,"Northeast Metropolitan",70070662,{"$f":"VLOOKUP(A798, localcont!$D$10:$L$1764, 8)","v":219819.80744354948},{"$f":"VLOOKUP(A798, localcont!$D$10:$L$1764, 9)*F798","v":308997.30133813573}]
[1721,345,"Windsor                      ",345,"Windsor",758048,{"$f":"VLOOKUP(A799, localcont!$D$10:$L$1764, 8)","v":59811.12},{"$f":"VLOOKUP(A799, localcont!$D$10:$L$1764, 9)*F799","v":59134.723678551956}]
[1722,345,"Windsor                      ",635,"Central Berkshire",758048,{"$f":"VLOOKUP(A800, localcont!$D$10:$L$1764, 8)","v":706907.6041834465},{"$f":"VLOOKUP(A800, localcont!$D$10:$L$1764, 9)*F800","v":698913.27632144804}]
[1726,346,"Winthrop                     ",346,"Winthrop",19526615,{"$f":"VLOOKUP(A801, localcont!$D$10:$L$1764, 8)","v":23441502.304000001},{"$f":"VLOOKUP(A801, localcont!$D$10:$L$1764, 9)*F801","v":18621749.494197026}]
[1727,346,"Winthrop                     ",853,"Northeast Metropolitan",19526615,{"$f":"VLOOKUP(A802, localcont!$D$10:$L$1764, 8)","v":1139066.2754700084},{"$f":"VLOOKUP(A802, localcont!$D$10:$L$1764, 9)*F802","v":904865.50580297306}]
[1731,347,"Woburn",347,"Woburn",55447434,{"$f":"VLOOKUP(A803, localcont!$D$10:$L$1764, 8)","v":54858831.045920007},{"$f":"VLOOKUP(A803, localcont!$D$10:$L$1764, 9)*F803","v":53236665.413262576}]
[1732,347,"Woburn",853,"Northeast Metropolitan",55447434,{"$f":"VLOOKUP(A804, localcont!$D$10:$L$1764, 8)","v":2278132.5509400168},{"$f":"VLOOKUP(A804, localcont!$D$10:$L$1764, 9)*F804","v":2210768.5867374297}]
[1736,348,"Worcester                    ",348,"Worcester",114457687,{"$f":"VLOOKUP(A805, localcont!$D$10:$L$1764, 8)","v":400051102.55999994},{"$f":"VLOOKUP(A805, localcont!$D$10:$L$1764, 9)*F805","v":114457687}]
[1741,349,"Worthington                  ",349,"Worthington",1108639,{"$f":"VLOOKUP(A806, localcont!$D$10:$L$1764, 8)","v":1188969.8699999999},{"$f":"VLOOKUP(A806, localcont!$D$10:$L$1764, 9)*F806","v":1108639}]
[1746,350,"Wrentham                     ",350,"Wrentham",17785828,{"$f":"VLOOKUP(A807, localcont!$D$10:$L$1764, 8)","v":8698911.8334400002},{"$f":"VLOOKUP(A807, localcont!$D$10:$L$1764, 9)*F807","v":7982593.3819658132}]
[1747,350,"Wrentham                     ",690,"King Philip",17785828,{"$f":"VLOOKUP(A808, localcont!$D$10:$L$1764, 8)","v":9264030.4619362541},{"$f":"VLOOKUP(A808, localcont!$D$10:$L$1764, 9)*F808","v":8501176.8910569567}]
[1748,350,"Wrentham                     ",878,"Tri County",17785828,{"$f":"VLOOKUP(A809, localcont!$D$10:$L$1764, 8)","v":1233372.7180298024},{"$f":"VLOOKUP(A809, localcont!$D$10:$L$1764, 9)*F809","v":1131809.7119451391}]
[1749,350,"Wrentham                     ",915,"Norfolk County",17785828,{"$f":"VLOOKUP(A810, localcont!$D$10:$L$1764, 8)","v":185525.22992441358},{"$f":"VLOOKUP(A810, localcont!$D$10:$L$1764, 9)*F810","v":170248.01503208897}]
[1751,351,"Yarmouth                     ",351,"Yarmouth",34622405,{"$f":"VLOOKUP(A811, localcont!$D$10:$L$1764, 8)","v":0},{"$f":"VLOOKUP(A811, localcont!$D$10:$L$1764, 9)*F811","v":0}]
[1752,351,"Yarmouth                     ",645,"Dennis Yarmouth",34622405,{"$f":"VLOOKUP(A812, localcont!$D$10:$L$1764, 8)","v":27718231.098454572},{"$f":"VLOOKUP(A812, localcont!$D$10:$L$1764, 9)*F812","v":31247780.467270922}]
[1753,351,"Yarmouth                     ",815,"Cape Cod",34622405,{"$f":"VLOOKUP(A813, localcont!$D$10:$L$1764, 8)","v":2993448.535222257},{"$f":"VLOOKUP(A813, localcont!$D$10:$L$1764, 9)*F813","v":3374624.5327290758}]

{"sheet":"disthist","index":15,"n_rows":448,"n_cols":55,"rows_kept":448,"cut":false,"hidden":false,"merged":[]}
[null,null,"c70fy21","c70fy07","c70fy06","c70fy07","c70fy07","c70fy07","c70fy07",null,null,null,"c70fy09 oct 15","c70fy09 oct 15","net of $412m cut",null,"c70fy10finalmay, reflecting weymouth and chelsea waiver, june 29, 2010",null,"c70fy10final, june30, 2010; reflects what weymouth chelsea and associated districts were ELIGIBLE for after June 30 waivers",null,"fy11 fb in localcont pivoted, total difffers because of regionalizers","pymincont pivoted dec 21, reflects raynham waiver and reallocated contributions for a/s, s/b oakhamfor comparison purposes","ayer, shirley, berkley, somerset, freetown, lakeville, ayer/shirley,  berk/som, f/l  adjusted based upon disaagregation file; oakham aid assigned to pathfindeer","ayer, shirley, berkley, somerset,freetown, lakeville,  ayer/shirley, berk/som, freetown/lakevilleadjusted based upon disaagregation file","ayer, shirley, berkley, somerset, freetown, lakeville, ayer/shirley, berk/som, freetown/lakeville  adjusted based upon disaagregation file","c70fy12, oct 14; monomoy, chatham harwich, granville, st","c70fy12, oct 14; monomoy, chatham harwich, granville, st","c70fy12, oct 14; monomoy, chatham harwich, granville, st","c70fy13; adjusts Lanesborough, Chesire, Berlin, Boylston, Ayer, N Berkshire, Nashoba Valley, Berlin Boylston","c70fy13; adjusts Lanesborough, Chesire, Berlin, Boylston, Ayer, N Berkshire, Nashoba Valley, Berlin Boylston","c70fy13; adjusts Lanesborough, Chesire, Berlin, Boylston, Ayer, N Berkshire, Nashoba Valley, Berlin Boylston; New Bedford","c70fy14; adjusts Acton Boxborough; removes Essex","c70fy14; adjusts Acton Boxborough; removes Essex","c70fy14; adjusts Acton Boxborough; removes Essex and allocates aid to sending districts","c70fy15","c70fy15","c70fy15; adjusts Gateway and Worthington; Peabody and ENS","c70fy16","c70fy16","c70fy16, $1M for Framingham (found reserve)","c70fy17","c70fy17","c70fy17\nMinuteman, Boxborough, Carlisle, Lincoln, Sudbury, Wayland, Weston","c70fy18","c70fy18","c70fy18\n","c70fy19\n","c70fy19\n","c70fy19\n","c70fy20","c70fy20","c70fy20","c70fy21","c70fy21","c70fy21"]
[]
[1,2,3,4,5,6,7,8,9,10,11,12,13,14,15,16,17,18,19,20,21,22,23,24,25,26,27,28,29,30,31,32,33,34,35,36,37,38,39,40,41,42,43,44,45,46,47,{"$f":"AU3+1","v":48},{"$f":"AV3+1","v":49},50,51,52,53,54,55]
[]
[]
[]
[null,null,"Prior Year",null,"required",null,"Foundation","Required","FY07","Foundation","Required","FY08","Foundation","Required","chapter 70",null,"Foundation","Required","chapter 70",null,"Foundation","Required",null,null,"edujobs","Foundation","Required",null,"Foundation","Required",null,"Foundation","Required",null,"Foundation","Required",null,"Foundation","Required",null,"Foundation","Required",null,"Foundation","Required",null,"Foundation","Required",null,"Foundation","Required",null,"Foundation","Required"]
[null,null,"Target Aid Share","foundation","contribution","Chapter 70","Budget","Contribution","chapter 70","Budget","Contribution","chapter 70","Budget","Contribution","aid","FY09 9c cut","Budget","Contribution","aid","FY10","Budget","Contribution","c70","sfsf","total","Budget","Contribution","c70","Budget","Contribution","c70","Budget","Contribution","c70","Budget","Contribution","c70","Budget","Contribution","c70","Budget","Contribution","c70","Budget","Contribution","c70","Budget","Contribution","c70","Budget","Contribution","c70","Budget","Contribution","c70"]
["LEA","District","FY21","FY06","FY06","FY06","FY07","FY07","aid","FY08","FY08","aid","FY09","FY09","FY09","stabilization aid","FY10","FY10","FY10","sfsf","FY11","FY11","FY11","FY11","FY11","FY12","FY12","FY12","FY13","FY13","FY13","FY14","FY14","FY14","FY15","FY15","FY15","FY16","FY16","FY16","FY17","FY17","FY17","FY18","FY18","FY18","FY19","FY19","FY19","FY20","FY20","FY20","FY21","FY21","FY21"]
[1,"Abington                     ",39.65,16523760,10191983,6869653,17243088.48,10835090,7152781,18063555.577898104,11492886,7448806,19020902.029999997,11903143,6987394,821183,19474318.639892824,12084604,7652405,0,18226050.298500001,11741657,7205352,38682,462271,17359608.879999999,12056554,7244034,18273059.900000002,12498017,7324394,18967492.810000002,13020494,7374594,18287521.510000002,12943494,7423394,18870910.490000002,13029356,7472269,19481152.105999999,12843377,7579849,19699144.432921756,12922903,7637749,21515960.214600004,13701008,7816931,23388476.609717574,14463601,8933994,25332546.714959998,15287069,10045478]
[2,"Acton                        ",20.34,16798342,14323943,2723714,17472326.599199999,14258025,3214302,18387597.604836155,14103803,4283795,19355313.269600004,14127172,4678327,549814,19717633.622768261,14236925,5123578,357131,19649104.540190399,14516319,5160527,27704,353078,19614092.674799997,14543128,5188231,20151482.417030003,14761130,5537500.2082832009,13308,9807,1699,0,0,0,0,0,0,0,0,0,0,0,0,0,0,0,0,0,0,0,0,0]
[3,"Acushnet                     ",43.46,10752617,4702995,6049622,10925643.810000001,5021780,6138021,10761756.058842914,5158813,6206921,11395406.830000002,5414309,5825831,684672,11223341.565244021,5326164,6380293,0,10323398.130179999,5401579,6007556,32251,371236,10560494.92,5591539,6039807,10945583.299999999,5840331,6088327,11227244.859999999,6098928,6118877,11538501.129999999,6393318,6150152,11701370.220000003,6720092,6181252,11862468.339999998,6851396,6250222,11736546.345857544,6867294,6286522,12395984.840000002,7125126,6323332,13443441.482329441,7498601,6361492,13990412.9,7889510,6361492]
[4,"Adams                        ",65.64,0,0,0,0,0,0,0,0,0,11943.49,2802,9141,0,12306.57500478469,3310,8958,39,0,0,0,0,0,0,0,0,12697.210000000001,3609,9088,0,0,0,0,0,0,0,0,0,0,0,0,0,0,0,0,0,0,0,0,0,0,0,0]
[5,"Agawam                       ",45.05,32319935,21493837,10826098,34566078.779999994,22041666,12524413,35551345.780867614,21602566,14029399,37698376.909999989,21211830,14752751,1733796,38739894.035965554,21200429,16156816,1382649,37851740.416679993,20906343,16620258,89225,936907,38691315.740000002,21196318,17494998,40065479.369999997,21799451,18531417.812022001,39705689.879999995,22317126,18633592.812022001,40513463.040000007,22228633,18827346.812022001,40806967.850000001,22728531,18927671.812022001,39809443.760000005,22702754,19138981.812022001,40549530.336503848,22135293,19253911.812022001,41326070.32,22474431,19367102,42227451.049391314,22951211,19477412,42427489.500000007,23256462,19477412]
[6,"Alford                       ",17.5,0,0,0,0,0,0,0,0,0,0,0,0,0,0,0,0,0,0,0,0,0,0,0,0,0,0,0,0,0,0,0,0,0,0,0,0,0,0,0,0,0,0,0,0,0,0,0,0,0,0,0,0]
[7,"Amesbury                     ",26.05,19460597,12406221,8455877,19548536.809999999,12809091,8583727,19781530.293151677,13167547,8706827,20756560.399999999,13536773,8124385,954806,21190912.030989472,13555005,8897607,0,21216914.582820002,13646574,8377810,44976,535896,21437478.949999999,13871392,8422786,21788085.690000001,14228051,8517266,22520782.300000004,14645774,{"$f":"8577441+84220","v":8661661},23277123.93,14710835,8807407,23284050.52,14749359,8867257,22775372.140000001,14489823,8995077,22137199.0502779,14640237,9061587,22830750.459999997,15155898,9127527,22996252.745490368,15621860,9190887,22553274.579999998,16118764,9190887]
[8,"Amherst                      ",22.91,11114274,5541487,5572787,11497553.710000001,5563556,5933998,11950170.523914317,5791375,6158796,12240957.26,6176229,5607673,659034,12789869.018824883,8287309,6141373,0,12104976.778860003,8244892,5782594,31044,361635,11778216.34,8330699,5813638,12123554.34,8560597,5864398,11999013.530000001,8782052,5895073,11927369.58,8808278,5925198,12222179.260000002,9033626,5954998,12153334.120000001,9054116,6020943,11871248.344619127,8817279,6055023,11969353.380000003,8946746,6088203,12803970.649125857,9508882,6122223,12512134.57,9645618,6122223]
[9,"Andover                      ",17.5,40445552,43398252,5235106,45421092.757479988,43984801,6105826,47430802.160358295,44443293,6764195,50839207.830960013,44963510,6682611,785364,52920927.943806164,46055668,7318616,0,52465302.435107633,46239193,6891063,36994,541909,53641152.655579992,47162432,6928057,55867173.864680015,48525635,7950343.1065797508,57208567.533579998,49906105,{"$f":"8465632.15952894+84220","v":8549852.1595289409},56905481.147259988,49453903,9042864.1595289409,57593754.781260006,49454967,9191614.1595289409,58523208.186840013,48754974,9768234,59213763.705395557,49146929,10066835,60546641.049729995,49950979,10595662,63835635.793936521,52178457,11668291,64237434.876240008,52995883,11668291]
[10,"Arlington                    ",17.5,31514908,29608395,5019276.8,34791436.82971999,30151702,5592669.7999999998,35888202.793767765,30613441,5814119.7999999998,38070505.063400008,31841211,5574195,655099,40248798.10830944,33205258,6104708,938832,39642105.945616916,33491571,6632057,35604,490929,41361535.892299995,34480956,6880580,43488849.24750001,35379353,8109496,46406615.112400003,36357635,10048980,47819420.315520003,37584838,10234582,50290292.382299997,39574733,10715559,51156059.770829991,41761139,11012669,54501493.562073596,43805119,11180879,58002940.646099992,46237018,11765923,62294073.096873432,48330137,13979327,64895656.34093,50343449,14566028]
[11,"Ashburnham                   ",54.84,0,0,0,0,0,0,0,0,0,0,0,0,0,0,0,0,0,12035.81568,5767,6269,0,0,0,0,0,0,0,0,0,0,0,0,0,0,0,0,0,0,0,0,0,0,0,0,0,0,0,0,0,0,0,0]
[12,"Ashby                        ",39.61,0,0,0,10849.66,3784,7066,0,0,0,0,0,0,0,0,0,0,0,36107.447039999999,17602,18505,0,0,0,0,0,0,0,0,0,0,0,0,0,0,0,0,0,0,0,0,0,0,0,0,0,0,0,0,0,0,0,0]
[13,"Ashfield                     ",17.5,88168,48246,66553,97646.94,58472,71328,158055.47,93913,98741,154299.47,98640,99291,0,171296.79213014356,113319,97305,0,227707.1532,147698,93413,0,0,244010.68,163790,93413,265614.51000000007,185836,93413,205261.50999999998,160515,93413,207026.65000000002,168768,93413,276131.65999999997,227950,93413,236011.40000000002,187511,93413,226884.18269824251,176931,93413,233861.83,163542,93413,100602.5807874735,74854,93413,117262.39999999999,96741,93413]
[14,"Ashland                      ",26.26,17600708,15268810,2710446,19209670.376520004,15739323,3470347,20160314.837740563,16316673,3843642,21548050.5513,16954069,4110859,483123,21943205.255612019,17161770,4502102,279333,21499028.046113763,17147082,4502104,24169,317887,22018866.611560002,17141832,4877035,22827562.789220002,17549961,5393484.5103722075,23024892.666360006,17849470,5455184.5103722075,23394153.285179999,18210677,5517159.5103722075,23999962.492609996,18808879,5579509.5103722075,24958578.790420003,19022776,5935803,24948345.559453651,19465664,6012213,26344731.796339996,20247938,6115970,29177890.758524973,21472389,7839520,30232498.719999995,22294876,7937623]
[15,"Athol                        ",72.400000000000006,0,0,0,0,0,0,0,0,0,0,0,0,0,0,0,0,0,0,0,0,0,0,0,0,0,0,0,0,0,0,0,0,0,0,0,0,0,26341.840000000004,3873,22469,26833.666687179095,4106,22728,13837.16,2099,13837.16,0,0,0,0,0,0]
[16,"Attleboro                    ",51.98,49581258,24133853,26883243.999999996,51622674.860000007,26137000,27866185.999999996,53454656.395922035,27572010,28728682.999999996,56616897.470000006,28727620,27069945.999999996,3181356,58918761.277305275,28533080,29646276,739405,57958272.469619997,29329457,28610552,153594,1774285,59072872.719999991,30079922,28992951,63511315.789999999,31014381,32496935,65997192.829999998,31917394,34079799,66876305.419999994,32678917,34235474,68325590.250000015,33083184,35242406,68466287.280000016,32806836,35659451,69495854.734565571,33973326,35846981,72980818.829999998,35206834,37773985,77760770.558410808,36638947,41121824,79207276.429999992,38037529,41169747]
[17,"Auburn                       ",44.37,16499311,14372371,3851160.4,17023458.98,14092633,4305255.4000000004,18480214.973095328,14055240,5071081.4000000004,19659678.48,13968259,5197030.4000000004,610773,20439500.344528228,14187753,5691647,560100,20652528.680219997,14065172,6460963,34685,91709,20662647.859999999,14287674,6495648,22131023.739999998,14570334,7942820.3625045,22143759.650000002,14877912,8141597.1613508752,22469656.549999997,14563293,8389817.1613508761,22643826.370000001,14394734,8448392.1613508761,23122124.420000002,14141768,8983238,24064548.393377755,13986014,10078534,25672129.779999997,14624535,11066959,26762943.249616574,15076760,11851108,27521289.789999999,15309359,12211931]
[18,"Avon                         ",34.729999999999997,4314744,5219399,598615.19999999995,4744879.2,5087039,689890.2,4908325.580745657,4879669,821450.2,4880185.91,4634153,787773.2,92582,5079184.7577110045,4655392,862748,0,5003299.8623400005,4683156,812346,4361,59766,5311469.62,4662241,816707,5330691.71,4889789,874133.94566824997,5277960.9499999993,4882181,902872.92975868739,5301350.57,4680844,946828.92975868739,5497208.8500000006,4485828,1011381,5736311.7000000011,4321841,1414471,5634205.6633891659,4254900,1430611,6193899.0300000012,4386495,1807404,6653932.0309206927,4537696,2116236,7045846.1099999985,4598969,2448769]
[19,"Ayer                         ",28.4,8246427,6215760,3640814,8871545.0322399996,6363490,3883672,9386273.5519316979,6352709,4095225,9764441.5805200022,6347229,3805903,447283,10086779.713210486,6445455,4168122,0,643993,415421.3758135406,253793,1362,16107,769483.96129999985,504740,264744,104146,557301,38995,0,0,0,0,0,0,0,0,0,0,0,0,0,0,0,0,0,0,0,0,0,0,0,0]
[20,"Barnstable                   ",17.5,47026157,46712289,6420888,47204345.670000002,46877880,6788862,48539833.542866066,45893085,7300545,49407513.479999997,45447325,6930189,814460,50897964.509274639,45599938,7589756,0,49664767.726020001,44936193,7146363,38365,542328,49571418,44732590,7184728,52647431.899999999,46300239,7401888,53905631.089999996,47284048,7909787.3601874998,53870372.68999999,46207751,8440922.3601875007,55521659.879999995,46784953,8736707,57300644.839999989,47453547,9847098,58000134.653313488,48045485,10011348,60393953.440000013,49825012,10568941,63524348.519651115,51296149,12228200,65773443.140000001,52762387,13011056]
[21,"Barre                        ",60.17,19593,9834,15043,21699.32,7253,16444,22710.54,6521,17100,23886.98,7013,17858,0,61532.87502392345,22041,17501,21991,0,0,0,0,0,12250.07,4767,7483,25394.420000000002,10406,14988,12894.02,5544,12894.02,0,0,0,0,0,0,0,0,0,0,0,0,0,0,0,0,0,0,0,0,0]
[22,"Becket                       ",17.5,48982,54219,48982,140168.19,87604,79274,146700.20000000001,105888,80981,95547.92,70485,81381,0,86146.025033492828,68508,79753,0,155492.25912,142385,76563,0,0,170510.26,161768,76563,227522.88,221631,76563,218155.53,210026,76563,246041.35,221437,76563,118799.64000000001,103997,76563,170156.80000000002,141158,76563,173216.84932388432,131694,76563,206187.50999999995,157270,76563,143717.97255353359,108529,76563,188943.82,155879,76563]
[23,"Bedford                      ",17.5,17469341,19992834,2053688,18847501.762400001,20198035,2302613,19936512.315641664,20143875,2658496,21540315.715160001,20229106,2707008,318137,22837847.15390702,20263035,2964642,0,22281982.144923359,20213672,2791448,14986,220883,22574959.842000004,20395123,2806434,24305160.20324,20957504,3729645.7841924857,25381920.618640006,21670472,{"$f":"3907693.36520986+16844","v":3924537.3652098598},25862895.333689999,21890571,4145009.3652098598,26053076.229189999,22187734,4209634.3652098598,25950850.370000001,21694256,4352414.3652098598,26915524.993783444,22291183,4624342,27912085.889699996,23027471,4884615,29672258.159568485,24098559,5595167,30502691.57316,25097492,5595167]
[24,"Belchertown                  ",49.78,18090392,8585608,9504784,19713838.600000001,9148930,10564909,20636641.406207636,9371626,11265015,22678130.579999998,9514031,11779707,1384393,23575322.127127279,9788345,12900818,886159,22816367.782979999,9964385,12981543,69691,802818,23483392.580000002,10232132,13251261,23567308.230000004,10469424,13355141,23833924.679999996,10829462,13419341,23327151.939999998,11128856,13481666,22973661.619999997,11383708,13541691,23089848.73,11282677,13673306,23338797.006631523,11231898,13744526,23863029.98,11563925,13814846,24514320.307211746,12048062,13884146,24726417.459999997,12418125,13884146]
[25,"Bellingham                   ",32.03,19213556,11849997,7674956.0000000019,19765781.870000005,12301746,7877733.0000000019,20737641.341686606,12839032,8236349,21635191.629999999,13286678,7660683,900310,22336539.266939711,13855656,8389773,91110,21918230.382779997,14070986,7985431,42869,516233,22005905.830000002,14331642,8028300,21897110.52,14719762,8123660,22859867.109999999,15024829,8184635,22925709.119999997,15265577,8245235,23462633.450000003,15314220,8305835,22360509.420000002,15180149,8433985,22943454.173670746,15348243,8503945,23842628.519999996,15794941,8573845,24541929.425553497,16455942,8642425,24676853.43,16772086,8642425]
[26,"Belmont                      ",17.5,25508704,25370522,3002919.2,26906930.229400001,25515369,3344078.2,28888243.350710981,25916568,3857487.2,31086767.443360008,26482952,4119658,484157,33630843.731472418,27745446,4511739,1373659,32919934.323621243,28127012,5541573,29750,410300,33178102.924880005,28699894,5571323,34247348.968879998,29351497,5724243,35925169.712800004,30375090,5864908.424935,37689370.076880001,31269266,6420104,39180121.943280004,32414023,6766099,40728661.169720002,33616892,7111769,42643514.599933475,34843282,7800233,45512607.460039996,36735671,9036713,47857221.466895089,38364680,9637942,50418107.66032999,40662179,9755929]
[27,"Berkley                      ",46.87,7643922,2828497,4920431,8272940.120000001,3113070,5258969,8560781.2362940945,3328896,5405595,8827170.8099999987,3585871,4954853,582312,9064946.7510200962,3849845,5426422,0,6358267,2943167.6275719707,3785929,19984,230000,6692981.5599999996,3181543,3805913,6718784.6800000006,3109727,3837513,6637699.4999999991,3087420,3856463,6578224.6799999988,3202757,3875013,6569709.3200000003,3390355,3893088,6930346.8399999989,3591123,3934448,7359719.0961112287,3696563,3957968,7541762.2899999991,3837447,3981188,7578024.2998736957,3944412,4003448,8014902.1800000006,4170576,4003448]
[28,"Berlin                       ",17.5,1495721,1260426,505156.8,1574409.8655099997,1380034,518927.8,1531631.5569803971,1426621,529127.80000000005,1559344.8398399998,1379744,482385.8,56692,1739191.978516578,1464517,528296,0,1521295.9949798398,1367714,497433,2670,32943,1493144.841,1321677,500103,1366340,1379734,428980,1449658.5541600001,1228268,433030,1474055.7653800002,1240618,437180,1394075.23704,1182830,440980,1517885.7034299998,1268093,449505,1603891.1351568666,1339179,454305,1639651.6628,1352713,0,0,0,0,0,0,0]
[29,"Bernardston                  ",46.3,0,0,0,0,0,0,0,0,0,0,0,0,0,24613.150009569381,12834,0,11779,24071.631359999999,12891,11308,0,0,12250.07,6787,11308,12697.210000000001,6666,11308,0,0,0,0,0,0,0,0,0,0,0,0,0,0,0,0,0,0,0,0,0,0,0,0]
[30,"Beverly                      ",17.5,34118143,32135174,6332869.2000000002,35715876.831259988,32889802,6612472.2000000002,37367798.212748706,33478649,6901558.2000000002,39386154.621250004,34043028,6491827.2000000002,762943,39194005.831609689,34064888,7109675,0,38562013.260270961,34027524,6694328,35938,485209,39163824.46955999,34390816,6730266,41449624.288350001,35366026,6901866,42458330.514560007,36512325,{"$f":"7033951.460012+193707","v":7227658.4600120001},43026226.781149998,36875947,7336283.4600120001,44949344.692879997,37443198,7506147,44666515.990000002,37114279,7750842,45588032.85854122,37741029,7884162,46490353.889999993,38354542,8135812,49446399.057018369,40188832,9257567,51866271.119999997,41749093,10125430]
[31,"Billerica                    ",21.33,44723745,33169789,13000488.000000002,47634963.546500005,33645086,14140521.000000002,48947057.0166407,33836479,15747049.000000002,51035401.591280006,33569444,15629163,1836795,52105541.174899884,33750443,17116639,1238459,48993356.292637311,33261644,17282794,92782,1127922,50875415.991750009,33909226,17375576,52527991.367600001,34773532,18204887.04653937,51957284.506579995,35443588,{"$f":"18343562.0465394+8422","v":18351984.0465394},50581059.937599994,35165450,18486609.0465394,51437518.584149994,35483899,18620584.0465394,49371895.506909996,34830635,18904494.0465394,49374269.014992416,35556235,19055514.0465394,50010476.058320001,37025362,19202874.0465394,51908631.204447828,39371685,19348854,52647471.612599999,41417136,19348854]
[32,"Blackstone                   ",51.71,78960,54427,38854,194416.49,79381,115035,192121.28,87676,115785,214016.92,93849,127344,0,208216.51714449763,92534,124797,0,84250.709759999998,38469,84250.709759999998,0,0,85750.49,40589,84251,88880.470000000016,43338,84251,116046.18,57626,84251,181016.85000000003,89793,91224,223331.82000000004,112108,111224,249182.32000000004,125734,125414,293968.34941619023,142085,151883,303047.63,146874,156507,357718.72900887078,174004,183898,408810.81999999995,197411,211400]
[33,"Blandford                    ",17.5,48982,35517,34879,65097.96,37532,43027,34065.81,19175,34065.81,59717.45,34567,45413.81,0,73839.450028708146,45404,44506,0,84250.709759999998,55481,42726,0,0,122500.7,81440,42726,88880.470000000016,61527,42726,128940.2,98474,42726,181016.85000000003,141333,43655,92399.719999999987,77583,43655,105367.36000000002,88144,43655,80501.000061537285,67637,43655,110697.28,91325,43655,114974.37804282685,91083,43655,102604.6,84649,43655]
[34,"Bolton                       ",17.5,9973,4632,5341,11170.821760000001,8623,5551,11756.7567,9885,5654,12414.87736,10106,5769,0,0,0,5654,0,0,0,0,0,0,0,0,0,0,0,0,0,0,0,0,0,0,13623.25469,11667,1956,27251.545720000002,22684,4568,13854.834543589546,11515,4568,14264.24656,11464,4568,14861.542035353355,12091,4568,15157.29088,12505,4568]
[35,"Boston                       ",17.5,586105185,399376878,203634716.00000003,619256557.27349997,422061485,210540147.00000003,645423775.69285941,450972697,215807608.00000003,674654547.49265981,485336817,198137070.00000003,23285769,698913738.66387761,510847386,216994382,0,680748415.44375777,527398841,204317586,1096867,13086129,706116381.62752008,551817407,205414453,724294011.71002996,579960095,207858813,750290537.27947998,604305866,{"$f":"209406563+8422","v":209414985},780383012.88296986,627463814,210991435,805600562.75407994,657393838,212596335,802914847.56588995,666445514,216128435,829896970.52937865,686260642,218066495,861999611.91060007,711149680,220001735,910864776.36300993,749907338,221915045,924506066.0076499,762717504,221915045]
[36,"Bourne                       ",17.5,17925620,14175597,4520605,19096415.879999999,14957841,4725494,19833297.543827865,15646627,4854448,20945577.219999999,16223237,4518112,530985,20772043.229703348,16779418,4948115,0,19969976.504640002,16817476,4659046,25012,321732,19955194.440000001,17178276,4684058,20413172.529999997,17508247,4771738,20231816.77,17624172,4825238,19753593.370000005,16968423,4877338,19473369.859999999,16682400,4927363,19315319.800000001,16178695,5034613,20067959.034898311,16608266,5094043,21368782.289999999,17629245,5155183,22123862.831195891,18252187,5215213,22664002.020000003,18697802,5215213]
[37,"Boxborough                   ",17.5,4097907,3155257,1318163,4120404.6616799999,3160718,1344663,4148265.2990540327,3153303,1370363,4158143.8214699994,3122645,1248173,146690,4221713.9749441538,3141987,1366966,0,3719555.6312304004,3019563,1287108,6910,83923,3688231.1508000009,3037911,1294018,3802586.1715900004,3281068,1310578,0,0,0,0,0,0,0,0,0,0,0,{"$f":"14864","v":14864},88385.021661537277,73448,14937,106694.35,87553,19141,127474.53052282683,104905,22674,143372.81232,117755,25618]
[38,"Boxford                      ",17.5,6071885,5163711,1491956.8,6289686.6546200002,5060226,1536106.8,6441226.7548756497,5155389,1579156.8,6868240.9885999989,5466446,1479954.8,173929,6715149.8644612292,5538616,1620806,0,6426161.3153402992,5556487,1526119,8193,106694,6278578.7740599988,5546995,1534312,6142159.6714999992,5438279,1563632,6321744.6236000005,5657134,{"$f":"1582232+25266","v":1607498},6315613.1311499998,5486948,1625748,6380974.8437599996,5508993,1643973,6361983.2980000013,5310704,1683463,6728318.9448366938,5579890,1705633,6655216.9083199995,5490554,1726753,7004474.1685977643,5765598,1747903,7419452.1552000009,6121048,1747903]
[39,"Boylston                     ",17.5,2456202,2401450,399441.2,2596679.29,2468253,424025.2,2637266.6833377071,2412440,441425.2,2748598.3,2379694,412437.2,48471,2995460.8425033498,2540646,451690,3125,2900472.82014,2577094,428244,2299,33097,2809495.56,2592747,430543,2762062,2804850,404281,2837168.6900000004,2524555,427336.88018750004,2701535.6,2336823,443237.88018750004,2619960.2999999998,2263384,450312.88018750004,2586705.9099999997,2165226,465437.88018750004,2629403.7758567845,2172204,473687.88018750004,2856144.64,2256220,72374,429577.71528563765,344845,84733,438126.42,353125,85001]
[40,"Braintree                    ",26.55,36257909,32433077,4903921.2,39382974.82124,33034864,6348111,41131026.449868038,33655897,7475129,44050195.07244999,34532907,8516409,1000879,46447721.11701142,34269687,9326942,2851092,45861987.164652348,35115999,11466594,61558,781482,47773435.682659999,35619436,12154000,49979205.223809995,36669696,13546898.562588248,51154368.228680007,37491319,13863900.583767677,53388255.002250001,38760993,14627262,55247735.783950001,39956696,15291040,56110509.381990001,39512030,16598479,58118969.896002591,40917885,17201085,60365199.038079999,42548094,17817105,63032117.839880839,44795946,18297651,64248920.529949985,46089277,18297651]
[41,"Brewster                     ",17.5,3745908,3609192,847877.2,3716661.11,3503455,872877.2,3870065.49,3592082,899723.2,4197809.6900000004,3789305,856428.2,100650,4216302.6441186611,3870397,937937,0,4075130.8498800001,3786992,883143,4741,62353,4135853.54,3959695,887884,4270180.41,4095847,906844,4270777.8100000005,4059699,918344,4371530.74,3934378,930169,4481450.93,3903212,942019,4710846.5600000005,3929503,968749,4863009.8651172351,4034625,983449,4845032.0600000005,3997151,997669,5028082.1512436774,4091479,1011979,5175998.03,4206025,1011979]
[42,"Bridgewater                  ",37.19,88168,50372,88168,97646.94,52590,91714,79486.89,42308,79486.89,95547.92,49903,85767.89,0,110759.17504306222,61737,84053,0,36107.447039999999,20964,36107.447039999999,0,0,49000.28,28706,36107,38091.630000000005,22925,36107,51576.08,31717,36107,78029.39999999998,48603,36107,131999.6,81574,50426,196498.64000000004,121288,76038,200050.51601106342,124537,76038,124534.43999999997,80047,76038,129346.17529818021,81640,76038,117262.39999999999,73653,76038]
[43,"Brimfield                    ",42.1,2082262,1222310,892997.6,2227974.4500000002,1181088,1046886,2430566.1536758002,1254545,1176021,2380996.33,1252428,1065723,125248,2416094.560888038,1320275,1167152,0,2491980.6652200003,1418885,1098967,5900,69910,2587336.7200000002,1412114,1175223,2627653.7399999998,1439707,1187947,2589280.4,1451989,1195297,2557047.06,1495359,1202422,2535170.4500000002,1464818,1209272,2386674.08,1412227,1223352,2534076.5705832485,1459687,1231392,2588960.9799999995,1544601,1239312,2714228.2124121352,1546449,1247172,3081860.73,1716855,1365006]
[44,"Brockton                     ",77.19,138977359,28667300,110310059,148050710.59000003,30752545,117298166,154658101.48941717,32078890,122579211,162730674.18000001,33821654,115352398,13556622,165249140.34832537,32323782,126330840,6594518,165226027.56366,32681998,130000851,697902,2623405,173663222.44,34080582,139582640,183049366.26000002,34969008,148088586,194125642.31999999,36202770,157922872,202656340.72,37791281,164865060,209479318.44,39438390,170040928,202933234.47,40436538,171012998,210658023.1896143,42271112,171549638,219005794.21000001,43627822,178296402.16310808,232535452.17106631,46034943,186500509,237304378.99000001,48074759,189236745]
[45,"Brookfield                   ",59.23,2025359,709065,1322058.3999999999,2063441.72,801638,1345037.4,2050160.4735631028,812205,1357887.4,2003095.25,823505,1225913.3999999999,144074,2262218.9634143542,963341,1342588,0,2318727.5348999999,997242,1296130,6958,46050,2344861.94,1042415,1303088,2462784.7700000005,1111388,1354889.719122,2368076.6400000006,1081418,1361089.719122,2293424.8199999998,1033581,1366889.719122,2475237.4299999997,1069272,1405965,2406993.0500000003,1047029,1419330,2393041.9473765823,1030082,1426350,2539081.3000000003,1093626,1445497,2740659.0357464454,1155170,1585489,2871199.0500000003,1170696,1700503]
[46,"Brookline                    ",17.5,43182454,61282406,5214247.2,46243374.585639991,59029263,5789916.2000000002,49807109.097208999,56651328,6667814.2000000002,52046875.491919994,53580843,6687235.2000000002,785907,55448797.678294986,53202974,7323679,0,55383764.102746435,52241986,6895830,37020,549129,57861961.59826,52548862,6932850,63110212.205569983,54160831,8949381,66334276.020650007,55964810,10369466,68558216.958700001,57398755,11159462,71400245.83788,59216726,12183520,73409265.273400009,60679638,12729627,75819883.374121532,62590117,13229766,79599261.272049993,64824584,14774677,83235896.760623336,68669614,15006787,83874467.613419995,69196436,15006787]
[47,"Buckland                     ",43.38,0,0,0,0,0,0,0,0,0,0,0,0,0,12306.57500478469,6213,0,6094,12035.81568,5834,6202,0,0,0,0,0,0,0,0,0,0,0,0,0,0,0,0,0,0,0,0,13416.833343589547,8460,4957,27674.32,17242,10478,28743.594510706713,15670,13074,29315.599999999999,16598,13074]
[48,"Burlington                   ",17.5,26346430,31715482,3726893.6,28476092.515739989,31274657,4099584.6,29703889.542099517,30286140,4663527.5999999996,32206347.779779997,29440791,4943419.5999999996,580968,33076725.604208447,30090020,5413900,0,32935307.252465941,30061628,5097620,27366,382764,33128199.854009997,30481205,5124986,33884514.180340007,31423998,5326186.995389875,34352845.412480004,32068110,5497577.2333384063,34467698.66996,30725441,5684571.2333384063,34239007.273680001,30149693,5771296.2333384063,34371376.749679998,28843485,5961486.2333384063,35700016.024699226,29571420,6128596,37486525.891100004,30926384,6560142,39132795.405252784,32284557,6851477,40012176.135040008,33010045,7002131]
[49,"Cambridge                    ",17.5,58192422,121371348,7122204.7999999998,59270960.026400015,88906440,7772247.7999999998,58586280.466038458,83184123,8516352.8000000007,62523713.757140018,76283365,8336916.8000000007,979784,65306358.733187631,75386475,9130367,0,63289437.868766032,70899052,8596971,46152,639119,65583156.403349996,70070141,8643123,68855555.119200006,68855555,8892163,72833197.092889979,69898977,9053613,75565946.828440011,67728118,10513263,79533780.825280011,68456380,11077401,80655732.60428001,67464934,13287462,84055799.773383468,69688258,{"$f":"14474654-107112","v":14367542},88309460.905200005,72855305,15454156,95754602.358881176,78997547,16757055,97837766.086960018,80716157,17121609]
[50,"Canton                       ",17.5,21297642,22689136,2658679.6,23120445.500109997,22714049,2977670.6,24474543.710445229,22506106,3369282.6,26022801.77039,22769714,3364793.6,395442,26782117.437980484,23032985,3685031,64101,26442324.635255523,23230516,3530108,18951,275998,27781523.257420003,23943285,3838238,29173938.351570003,24768223,4580646.0528811878,30084633.497920007,25615490,4751687.2551948912,30171279.553439993,25776936,4936587.2551948912,31710377.389359999,26583708,5126669,31711055.289259996,26390963,5320092,33816147.853070647,27788653,6027495,34875442.289380006,28772240,6127065,36127373.083982036,29805082,6327312,37234938.635360003,30718825,6516115]
[51,"Carlisle                     ",17.5,5380976,5527723,625736.4,5564262.385809999,5588855,695338.4,5581542.8067216659,5455408,779767.4,5703345.7581000021,5287388,762232.4,89580,5621329.9800242223,5264374,834776,0,5332769.3760069599,4994997,786008,4220,61148,5279778.722959999,5047262,790228,5237293.4315999998,5073775,815308,5211682.2159700003,5137653,839492.09694868745,5130124.3316099988,4617112,859890.09694868745,5330419.6237000003,4642180,875115.09694868745,5096190.4877600009,4276513,{"$f":"906850.096948687+7432","v":914282.09694868699},5148187.6529762335,4284734,931172.09694868699,5496906.7434400003,4534948,961959,5645404.4536545286,4644791,1009657,5783671.1796799991,4771528,1012143]
[52,"Carver                       ",47.26,14692519,5600310,9266231,15522693.041550003,5937552,9740177,16020593.808795983,6229859,10016064,16571482.380320001,6622023,9233907,1085201,17214969.206102479,7603064,10112726,0,16524123.59413152,7761924,9521941,51118,586792,16233062.765200002,8021055,9573059,16560679.89696,8171863,9644539,16614966.67595,8403720,9688439,16482096.760799997,8461514,9731289,16197468.462199999,8567837,9772714,16376740.850159999,8366875,9863519,16782096.605596974,8454008,9913049,16982947.176720001,8706167,9961139,17414154.77758931,9062138,10008599,18039221.234960001,9418559,10008599]
[53,"Charlemont                   ",48.52,78372,24481,66503,140168.19,52863,104458,180766.01,75004,130303,202073.43,86198,143418,0,183603.36713492827,78176,140550,0,96286.525439999998,48181,96286.525439999998,0,0,61250.35,31272,61250.35,63486.049999999996,33682,61250.35,77364.119999999981,42623,61250.35,65024.500000000007,36024,61250.35,65999.8,37958,61250.35,118538.28,62581,61250.35,186633.68266747385,94583,92051,178513.19,86258,92255,199628.95919998386,93353,106276,102604.6,52817,102604.6]
[54,"Charlton                     ",46.1,9796,3731,6065,0,1019,0,0,0,0,0,0,0,0,12306.57500478469,4735,0,7572,12035.81568,4895,7269,0,0,36750.21,15574,21176,38091.630000000005,16459,21633,25788.04,11686,21633,26009.8,11935,21633,26399.920000000002,12481,21633,26341.840000000004,13326,21633,40250.500030768642,20853,21633,41511.479999999996,21350,21633,0,0,0,14657.8,7900,6759]
[55,"Chatham                      ",17.5,4193476,7336875,477224.8,4300106.45,6443767,532283.80000000005,4585029.6806893088,6009057,613312.80000000005,4990261.8899999997,5494357,625585.80000000005,73521,4899882.2308746418,5453455,685125,0,4739534.5728599997,5103025,645100,3463,50262,0,0,0,0,0,0,0,0,0,0,0,0,0,0,0,0,0,0,0,0,0,0,0,0,0,0,0,0,0,0]
[56,"Chelmsford                   ",17.5,40243143,36260612,6876856,42592748.364599995,37179861,7440307,44064611.171122938,37500357,8365004,46153358.467759997,37130897,8440095,991910,47744450.184116684,37306579,9243365,1194506,45545882.214795649,37406417,9828091,52762,692768,45821656.65101999,38188765,9880853,47211208.199219994,38901400,10089893,46881673.41488,39656173,10218568,47335965.470179997,39489751,10346618,47241970.625249989,39434421,10473018,46800513.146480002,38219600,10746368,47405594.168949671,37968938,10894328,50869628.260760002,40222347,11047148,52945358.502223566,42445789,11199428,54223728,43879883,11199428]
[57,"Chelsea                      ",78.489999999999995,50386551,8453650,42000702,53256173.620359994,9142672,44127092,58311558.942627169,9794441,48517118,61064521.992660001,10267187,45455271,5342064,62117725.984426871,10206209,49781388,2130129,63694269.530000001,10946147,51355990,277725,1118615,64097834.562419996,11332640,52765195,67545521.032000005,11524290,56040644,73447858.946570009,11993753,61454106,77392158.150499985,12901270,64490888,84321341.850099981,13967161,70354181,83654803.231740028,14735937,71681078,87574481.054575801,16070465,{"$f":"73109660-1214292","v":71895368},94734546.746300012,17306968,77723604.353151083,100163293.24265932,18590816,81572477,105670798.9015,19903086,85769782]
[58,"Cheshire                     ",52.34,411606,147670,263936,421381.96,162084,269956,475084.72,183097,302591,499694.78,201075,316850,0,453352.7593033493,179424,310513,0,479485.93776,198341,298092,0,0,488021.36,199213,298092,38092,238032,21802,38682.05999999999,17166,21802,13004.9,5919,13004.9,13199.960000000001,6175,13004.9,0,0,0,0,0,0,0,0,0,0,0,0,14657.8,6986,7672]
[59,"Chester                      ",48.29,147024,57724,89300,108496.6,52566,89800,158055.47,67713,121002,178186.45,77758,133451,0,183603.36713492827,77294,130782,0,167528.0748,73335,125551,0,0,170510.26,80804,125551,214825.67,97804,125551,243943.57,117682,126262,220031.55,109806,126262,210131.86,99091,126262,131709.20000000001,66688,126262,93917.833405126818,48725,93917.833405126818,55348.639999999999,28255,55349,100602.5807874735,51760,55349,131920.19999999998,68221,63699]
[60,"Chesterfield                 ",28.02,147024,74106,85640,151017.85,79291,87945,226187.09,122154,128461,202073.43,103249,129211,0,183603.36713492827,91172,126627,0,179563.89048,95302,121562,0,0,170510.26,94294,121562,303706.14,170592,133114,256837.59,151126,133114,259046.25,153673,133114,289331.62,163969,133114,262353.24,155148,133114,267134.68272901117,162099,133114,261536.15000000002,168199,133114,300231.53998745733,197488,133114,276890.62,199297,133114]
[61,"Chicopee                     ",69.09,63096901,25483093,37613808,66358804.090000004,26441283,39917521,70099506.047638729,26325951,43773555,74549552.000000015,26468494,43024649,5056409,76114569.038086131,26127050,47119437,2868082,78296359.978620008,26109119,51185902,274789,726550,80257160.099999994,26628690,53628470,83403437.559999987,27382282,56021156,85269685.210000008,28420070,56849615,86339875.140000001,29088958,57250917,89726607.379999995,30214682,59511925,89575524.349999979,30016446,59936745,91782958.022283211,29420367,62362591,93898617.529999986,30063802,63834816,99336604.583217233,30513907,68822698,99981143.989999995,30903112,69078032]
[62,"Chilmark                     ",17.5,0,0,0,0,0,0,0,0,0,0,0,0,0,0,0,0,0,0,0,0,0,0,0,0,0,0,0,0,0,0,0,0,0,0,0,0,0,0,0,0,0,0,0,0,0,0,0,0,0,0,0,0]
[63,"Clarksburg                   ",64.239999999999995,1993186,524551,1478268,1972655.02,539994,1491068,2196793.9275769964,547599,1656057,2288928.2000000002,572047,1542133,181237,2376571.2172095692,528092,1688903,159576,2231781.7016399996,543566,1740491,9344,104994,2136484.0499999998,549697,1749835,2103294.87,569562,1758875,1986375.6900000002,576786,1764100,1905986.03,594708,1769100,1772262.85,585884,1773600,1783981.5799999998,612660,1783225,1862062.3235625066,641854,1788625,2064205.6799999997,709296,1794475,2056910.8702206635,685446,1799935,2005332.3699999996,683465,1799935]
[64,"Clinton                      ",55.6,15756067,6894665,8894104,17332015.639999997,7423486,9908530,18272407.502293319,7817673,10454735,19345443.02,8132725,10033541,1179177,19828374.571238272,8774199,10988464,65712,19382689.431299996,8846816,10408392,55877,640182,19545739.000000004,9048453,10497286,20163527.150000002,9343931,10857440.780578749,20693064.010000002,9644943,11124661.80557175,20886485.84,9674943,11251678.80557175,21129205.020000003,9800189,11329016,21580495.630000003,9661218,12016981,21918110.246938307,9770470,{"$f":"12209651-62011","v":12147640},22676410.390000004,10266561,12409849,24086138.195584625,10670037,13416101,25739349.560000002,11372125,14367225]
[65,"Cohasset                     ",17.5,10255772,9352895,1220622.8,11254255.086480001,9701624,1552631,11621501.817125602,10016645,1696971,11287341.726259999,10125783,1600696,188119,11947087.452460095,10452621,1753039,0,11786894.642872915,10479155,1650626,8861,129327,12238484.622929998,10714412,1659487,12695055.016299998,10974758,1720297,13558190.14047,11461151,2165950.0686455625,14009300.662070001,11815460,2265937.0686455625,14047813.289400002,11968705,2304762.0686455625,14622821.151839999,12122957,2499864,14375663.798876762,11992671,2545614,15141702.031119999,12491904,2649798,15680191.001538649,12936157,2748292,15514224.726079997,12799236,2748292]
[66,"Colrain                      ",44.34,0,0,0,0,0,0,0,0,0,0,0,0,0,0,0,0,0,0,0,0,0,0,0,0,0,0,0,0,0,0,0,13004.9,7860,5145,13199.960000000001,8241,5145,13170.920000000002,7776,5395,13416.833343589547,7440,5977,0,0,0,0,0,0,0,0,0]
[67,"Concord                      ",17.5,13711708,16586109,1639229.6,13626561.195820002,15556720,1788313.6000000001,13775795.201134795,14723944,1975048.6,14398286.772480002,14186610,1928177.6,226606,15022515.681104843,14230911,2111688,0,14880065.931155697,14212716,1988323,10674,157941,15431249.350580001,14620020,1998997,16485820.2147,15013137,2075197,17831572.198360004,15783717,2125997,18417417.455640003,15844185,2573232,18462886.786499996,15757030,2705857,18255708.435599998,15225394,3030314,18805576.707899675,15575689,3229888,19595700.444320001,16166453,3429247,20298530.027942974,16746287,3552455,21359034.911680002,17621204,3737831]
[68,"Conway                       ",17.5,900481,519131,563283.19999999995,887748.23,570221,569433.19999999995,1081794.7444083365,683924,619012.19999999995,1153948.4099999999,705236,571560.19999999995,67172,1145043.3689110049,908027,625958,0,1249385.60142,1005920,589390,3164,37129,1252208.6499999999,987728,592554,1423805.89,1108375,598954,1317133.4800000004,1067389,602704,1306815.92,1065116,606379,1311758.95,1106711,610004,1259226.5200000005,1022166,617374,1137791.5559876624,909237,620884,1045830.0300000001,858867,623884,982498.98211336427,810562,626464,894594.8200000003,738041,626464]
[69,"Cummington                   ",17.5,48982,82658,32727.599999999999,75947.62,69777,41165.599999999999,90842.16,76148,45639.6,166242.96,127944,70567.600000000006,0,208216.51714449763,147140,69156,0,203635.52184,157619,66390,0,0,268510.82,194827,73684,164036.83000000002,133703,73684,166579.44999999998,138227,73684,168011.94999999998,147058,73684,118799.64000000001,105143,73684,118538.28,100240,73684,120751.50009230593,96880,73684,110697.28,91325,73684,86230.783532120156,71140,73684,87946.800000000017,72556,73684]
[70,"Dalton                       ",50.67,166617,55122,142474,226965.47,100136,177549,271608.17,128312,203607,297621.34999999998,135954,218598,0,294362.54217799043,133527,214226,0,275850.41592,131098,205657,0,0,403261.59,190360,212902,531229.02000000014,258303,272926,513675.18,262243,272926,350080.55,180975,272926,289331.62,153272,272926,236011.40000000002,127014,236011.40000000002,240301.01604183207,128163,236011.40000000002,289210.46999999997,146665,236011.40000000002,285859.74273210397,144148,236011,379495.22,187215,236011]
[71,"Danvers                      ",17.5,26325457,27029911,3753262,27291804.810000006,27200094,3957823,28772437.490009252,27211346,4306061,29725451.43,27058817,4117771,483935,31202047.404463161,27175421,4509672,0,31223555.451959997,27353004,4246217,22796,332859,31951682.219999999,27692459,4269013,33482299.539999999,28151599,5786817.6029244997,34213600.439999998,29050571,{"$f":"6079019.44455637+101064","v":6180083.4445563704},34741461.949999996,29063843,6334657.4445563704,34881940.840000004,29397926,6426157.4445563704,35588532.009999998,29520671,6629052.4445563704,33833411.73052796,28261906,6732852.4445563704,35346165.090000004,29017711,6838332.4445563704,37107615.193679869,30032857,7108192,37325532.020000011,30589946,7108192]
[72,"Dartmouth                    ",17.5,30013625,21693435,8320190,31787364.080000002,22637645,9149719,33384729.905952133,24241171,9429258,34838597.450000003,25612050,8665307,1018378,34865610.348156936,25982767,9490011,0,33815804.735880002,26783708,8935606,47970,604210,34643308.829999998,27284947,8983576,35441243.159999996,28041617,9138016,35496365.130000003,28917668,9233066,35239525.229999997,29520834,9326041,36075718.260000005,30256260,9419066,36117171.75,29976096,9622951,36194408.009417139,30013628,9732331,37575677.390000001,30999934,9841531,38394448.348769426,31675420,9948121,38785092.380000003,31997701,9948121]
[73,"Dedham                       ",17.5,20084837,24834561,3188973.6,21999587.074999996,24648038,3524054.6,22956468.83366517,24204569,3691508.6,24352509.547620002,23678833,3521908.6,413907,25074340.33835483,23853832,3857099,0,25207774.047433194,23636066,3631768,19497,275484,25446765.917099997,23938734,3651265,26335982.540799998,24613424,3890647.9861599999,26535745.209500007,25162541,4078924.8425356252,27117828.372749999,24153827,4312267.8425356252,26929202.733199999,23751768,4379292.8425356252,26660498.619539998,22460566,4525097.8425356252,27026023.747824714,22421830,4604194,28479923.262210004,23238711,5241212,30327812.140098155,24319967,6066360,31069861.763470002,25205198,6066360]
[74,"Deerfield                    ",17.5,2642380,1930020,712360,2837157.02,1916205,920952,2894786.9036194519,1943673,951114,3308363.25,2201765,990223,116375,3364244.2070966512,2590037,1084466,0,3310478.6745599997,2602950,1021111,5482,67823,3402540.04,2702788,1026593,3431229.1799999997,2733958,1041993,3138146.3000000003,2712329,1050593,3182088.0800000005,2730251,1059343,3228031.8499999992,2757185,1067968,2985824.2499999995,2500490,1085623,3148595.0953759653,2614687,1095493,3139879.44,2590401,1104883,3354720.4057858582,2690443,1114363,3368724.2699999996,2732273,1114363]
[75,"Dennis                       ",17.5,0,0,0,0,0,0,0,0,0,0,0,0,0,0,0,0,0,0,0,0,0,0,0,0,0,0,0,0,0,0,0,0,0,0,0,0,0,0,0,0,0,0,0,0,0,0,0,0,0,0,0,0]
[76,"Dighton                      ",49.39,0,0,0,0,0,0,0,0,0,0,0,0,0,0,0,0,0,0,0,0,0,0,0,0,0,0,0,0,0,0,0,0,0,0,0,0,0,0,0,0,0,0,0,0,0,0,0,0,0,0,0,0]
[77,"Douglas                      ",43.59,10549229,3948825,6600404,11244182.879999999,4402719,6966367,11934136.084547279,4703853,7317967,13091381.120000001,5025155,7217947,848279,13862037.638614353,5156920,7904901,800217,13727725.332659999,5395470,8196565,44003,505400,13936065.529999997,5567549,8368517,14220617.059999999,5766202,8454415,14221466.569999998,5973388,8493140,13898746.319999997,6212332,8530840,13645814.699999997,6463272,8567140,13394369.66,6691646,8644415,12935870.449951056,6783425,8684255,12935309.570000002,6890730,8722775,12970126.823695926,7112759,8759585,13102757.229999999,7355911,8759585]
[78,"Dover                        ",17.5,4317253,5147915,363450,4498246.3891599998,4992151,448199,4612399.3686480699,4726827,555890,4778687.8410799997,4574431,580225,68190,4840708.6085977424,4416450,635447,0,4717531.5725570414,4342062,598324,3212,48386,4590181.74,4311579,601536,4512264.4704399994,4166423,622456,4653466.1436000001,4299403,635731,4528034.3919200003,4059051,690567,4322776.7936200006,3814498,702567,4235362.0299200006,3546655,728362,4468986.3633566014,3701130,767856,4640414.5082099997,3828342,812073,4873658.0694900909,4020768,853856,4983216.4504999993,4111154,872062]
[79,"Dracut                       ",44.26,29756497,15882927,14241936.999999998,31544589.330080003,16574636,15009207,33257290.873810038,17250683,16006608,35284541.199999996,17874077,15579505,1830959,36242185.987368427,17529513,17062255,1650418,34827941.444459997,17559786,17619480,94589,1101079,35260306.700000003,17528088,17732219,36135215.210000008,18026125,18109090,37152939.319999993,18540729,{"$f":"18612210+50532","v":18662742},37334953.579999998,19220889,18761667,37644250.119999997,20168359,18858492,37207996.850000001,20566818,19068977,37300000.771409988,20889283,19182047,39508798.249999993,21923341,19297217,41837070.949357763,23013126,19413857,44096709.129999995,23979412,20128364]
[80,"Dudley                       ",59.78,0,0,0,0,0,0,0,0,0,0,0,0,0,0,0,0,0,0,0,0,0,0,0,0,0,0,0,0,12894.02,3632,9262,13004.9,3770,9262,13199.960000000001,3905,9295,26341.840000000004,8192,18150,26833.666687179095,8759,18150,27674.32,9399,18275,14371.797255353356,4870,14383,0,0,0]
[81,"Dunstable                    ",17.5,0,0,0,0,0,0,0,0,0,0,0,0,0,12306.57500478469,8124,0,4183,12035.81568,7678,4358,0,0,12250.07,7858,4392,12697.210000000001,8271,4426,0,0,0,0,0,0,13199.960000000001,10239,2961,13170.920000000002,10950,2961,13416.833343589547,11048,2961,13837.16,10927,2961,0,0,0,0,0,0]
[82,"Duxbury                      ",17.5,22544989,21198757,2814514.4,24332599.68414,21799788,3127346.4,25877873.382828854,22471945,3547730.4,27351540.51557,23010054,3884918,456569,28050327.867297076,23415077,4254657,380594,26964189.833086807,23687032,4364460,23430,327711,26802911.094560001,23914065,4387890,27796890.404080003,24315649,4513610,28443468.301800001,24930173,4629609.23820375,28945039.577839997,24862384,4782129.23820375,29322453.03464001,24866076,4860479.23820375,29421665.884350002,24493520,5031584.23820375,29298212.848171137,24357911,5122424.23820375,30016424.79888,24763550,5252875,30413600.834905829,25091221,5340535,30754555.552399997,25372508,5382048]
[83,"East Bridgewater             ",45.65,17015111,7598854,9416257,18126132.039999999,8088898,10037234,18786648.513602465,8685044,10382618,19759944.039999999,9220450,9750332,1145894,19857784.98755981,9205039,10678301,0,19438423.617059994,9401494,10054475,53977,626999,19386079.859999999,9557760,10108452,19766953.350000001,9774113,10196332,20120825.100000001,10170405,10251257,20492729.260000002,10728557,10306507,20764631.130000003,11106385,10361132,20397715.370000001,11201362,10479107,21105299.528073356,11373002,10543697,22148437.780000001,11682386,10609367,23021485.869153682,12183037,10847253,23574021.350000001,12580578,10995125]
[84,"East Brookfield              ",49.29,176413,103434,72979,172717.17,67453,105264,102197.43,29983,102197.43,95547.92,28245,95547.92,0,86146.025033492828,25739,93637,0,60179.078399999999,19896,60179.078399999999,0,0,110250.63,34586,75665,202128.46000000002,61700,140428,218155.53,71512,146644,285056.05,99040,186016,276131.65999999997,108182,186016,275524.15999999997,112798,186016,253717.84938542161,113257,186016,247698.99,118843,186016,328975.13449816412,163597,186016,335521.82,162027,186016]
[85,"Eastham                      ",17.5,1507950,2243267,252703.6,1616181.59,1929935,271644.59999999998,1859265.36,2013378,314184.59999999998,2009843.22,2095073,304723.59999999998,35812,2013733.9113952154,2116114,333725,0,2017979.0678399999,2078576,314229,1687,23709,1921167.55,1979180,315916,1990036.0999999999,1895355,324556,1954308.02,1817599,329806,1871143.94,1673613,334856,1830657.57,1584800,339456,1797116.2700000003,1503602,349191,1861930.3816340552,1558793,354681,1784959.9300000002,1472592,359871,1859186.0779373366,1533829,364971,2151871.9300000002,1775294,376578]
[86,"Easthampton                  ",37.01,14379873,7394800,7061164,14811911.220000003,7910957,7246465,16177354.557884984,8342895,7856409,16862713.349999998,8754200,7300531,857984,17116009.975915793,9909425,7995345,0,16500250.305240002,9949274,7528257,40415,471948,16577826.099999998,10194026,7568672,17510302.93,10521254,7641192,17991276.290000003,10956834,7687117,17813516.280000001,11344349,7731667,18095294,11793004,7776017,18091522.210000005,11897561,7873092,18534768.099589158,11761853,7926222,18672296.820000004,12132351,7977702,19700559.137801927,12320207,8029692,20082994.249999996,12651233,8029692]
[87,"East Longmeadow              ",39,19356365,16081730,3415856.4,20729712.940000001,16113527,4616186,22100300.970615972,15537297,6563004,23422159.73,15098039,7448721,875400,24224414.35406699,15193256,8157639,873519,23669359.72518,14824125,8675518,46574,379066,24105912.68,14975127,9130786,24771812.159999996,15279722,9767174.2199039999,24746375.960000001,15736133,9834624.2199039999,25028520.540000003,15784772,9901624.2199039999,25486357.480000004,16206963,9967774.2199039999,26003641.129999999,15891476,10115944.219904,26517601.927612852,15918988,10598614,27763311.460000001,16509582,11253729,28769862.744360216,16848895,12102248,29030299.670000002,17494208,12102248]
[88,"Easton                       ",21.77,25936350,18495624,7668206.9999999991,27484649.059999999,19567354,8115511,29177633.708206084,20413260,8764374,30904576.539999995,21110331,8764241,1030005,32240256.071471777,22529505,9598361,112390,31588230.077280004,22880367,9143450,49086,613290,32076583.279999997,23438516,9192536,33281209.900000002,24208253,9343416,33673060.710000001,25085982,9437566,34368780.379999988,25617334,9531741,34281775.100000001,26279966,9624016,34160203.240000002,25837978,9823611,34946347.827118024,26650276,9933051,36092236.609999999,27619276,10041681,37265050.035474405,28602736,10148451,37563612.82,29384825,10148451]
[89,"Edgartown                    ",17.5,2906462,3581665,343128.4,3005078.93,3288955,379680.4,2849766.471590891,3031703,415389.4,3070457.61,3082373,407713.4,47916,3245618.0710277515,3016515,446517,0,3164477.4653399996,3012929,420431,2257,33529,3286331.37,3029696,422688,3631686.44,3207706,438768,3600508.11,3160574,448818,3756339.3899999997,3220458,535881,3949969.68,3348602,601368,4012060.0799999996,3327566,684494,4120509.4730720278,3417460,703049,4383670.7300000004,3563552,820119,4884680.5483374586,4029861,854820,5167542.74,4263223,904320]
[90,"Egremont                     ",17.5,0,0,0,0,0,0,0,0,0,0,0,0,0,0,0,0,0,0,0,0,0,0,0,0,0,0,0,0,0,0,0,0,0,0,0,0,0,0,0,0,0,0,0,0,0,0,0,0,0,0,0,0]
[91,"Erving                       ",17.5,1736037,1696174,257383.6,1886102.04,1693156,283644.59999999998,2063705.1585349285,1733353,330352,2321411.09,1908319,369649,43443,2466755.7200229666,2035074,404830,26852,2428316.4251399999,2032401,406463,2182,30012,2407929.63,2045398,408645,2354101.85,2051456,418845,2478101.1,2103316,425470,2387006.7599999998,2050836,431895,2412269.36,2019029,438270,2249261.63,1884292,451195,2174084.4728259463,1812979,457975,2317098.66,1911606,464995,2280809.0489276485,1881667,471505,2326189.63,1919106,471505]
[92,"Essex                        ",17.5,0,0,0,0,0,0,0,0,0,0,0,0,0,0,0,0,0,0,0,0,0,0,0,0,0,0,0,0,0,0,0,0,0,0,0,0,0,0,0,0,0,0,0,0,0,0,0,0,0,0,0,0]
[93,"Everett                      ",67.52,45371743,24514676,20857067,48207134.680500001,25038448,23168687,53450079.377155341,25416336,28033743,59682692.571389988,25762913,30352631,3567149,62892763.612918936,25931368,33241384,3720012,64793932.005067073,25957484,38091277,204491,540680,68020957.110019997,25027814,42993143,74288708.336989999,25279517,49378544.796454601,79707323.959860012,25001383,55042003.302143387,85328324.66643998,24693137,60635188,89667949.965919986,25666047,64001903,87583038.240480021,26203286,64492532,90558887.124926507,27455803,{"$f":"65650979-929397","v":64721582},96231897.969240025,28814865,68940060.192849353,105617503.49762131,30615794,75001709,109071464.1568,35431511,75001709]
[94,"Fairhaven                    ",39.51,15772369,8958998,6900863.9999999991,16146316.320000002,8999243,7147073,16755601.389419528,9196548,7559053,16953034.73,9303393,6852118,805285,17423766.603881337,9798899,7504255,120613,16843034.112059999,10187330,7179423,38542,454353,17104751.050000001,10317258,7217965,17453568.07,10832169,7292285,17879851.399999999,11242923,7338560,17736701.940000001,11371020,7383635,17707799.16,11597160,7428260,18309668.060000002,11486709,7526930,18758475.280269191,11557489,7580960,19508511.550000001,11713786,7794726,20489574.57642154,12333105,8156470,20977288.109999999,12688884,8291230]
[95,"Fall River                   ",77.349999999999994,102479194,13825097,88654097,104481870.5,14847016,90065583,106032214.10539405,15513206,91119662,109717451.8,16580407,83793405,9847697,113237307.34539331,19000896,91768280,2468131,110588545.43874,19582705,89259672,479186,4762753,113992339.77,20197065,93795275,117801266.98000002,21470723,96330544,122984522.46999998,22747952,100236570,126851512.44000001,23922480,102929032,130963260.19999999,25218449,105744811,133322500.97999999,26181193,107141308,140367627.0677751,27932437,112435190,149318107.95999998,29668942,119649166,162111258.55386746,31184570,130926689,169915017.67999995,32906432,137016364]
[96,"Falmouth                     ",17.5,30137881,32265939,4439705.5999999996,31282681.59,32702864,4646658.5999999996,32408337.333121564,31997640,4954098.5999999996,32989864.899999995,31420687,4674989.5999999996,549421,32976356.55624881,31044599,5119922,0,32249708.827199996,30294456,4820816,25880,366051,32627799.279999997,30223796,4846696,32919523.759999994,30639342,4988896,33718540.630000003,31562698,5077571,34334682.75,30535810,5403420,35910247.149999999,30727509,5492795,35716152.020000003,29797870,5918282,35776347.341015682,29665659,6110688,37204346.420000009,30580964,6623382,38230735.995907485,31450637,6780099,38101629.059999995,31433844,6780099]
[97,"Fitchburg                    ",74.91,48848791,12405593,36443198,52232259.629999988,13502431,38857303,53959279.694781937,14179903,40080379,55478399.75,14473238,36822755,4327540,55319139.938725367,14039877,40327289,951974,54357220.723620005,14307424,39281344,210880,1921789,55048365.490000002,14570762,40477603,58628763.059999995,14936099,43692664,59765864.699999996,15456359,44309506,61364752.100000001,15954871,45409881,62363310.040000007,16662973,45700337,64368039,16963311,47404728,66887262.052477211,17058113,49829149,70117764.530000001,17761102,52356663,75293069.019942045,18599162,56693907,77039272.929999992,19328344,57710929]
[98,"Florida                      ",36.04,741408,396558,420539.6,831136.1,382280,473569,875058.42915476626,374728,500454,898069.22,381234,462482,54353,938109.73427751218,382731,506498,48881,920526.84221999999,383625,526600,2827,28377,784588.89,384062,529427,794115.07999999984,388914,532667,872998.09999999986,415121,534842,924504.84,460528,537067,872994.29,469626,539192,894111.96999999986,487635,544087,837564.72544684017,470893,546637,718962.58,450463,548737,740254.54001652624,441172,550717,747149.5,475424,550717]
[99,"Foxborough                   ",17.5,21688050,15487944,6200106,23679618.058180004,16211628,7467990,24391941.818536025,16728189,7700920,25837985.804400004,17375190,7572812,889984,26373440.684976753,17554085,8293540,525816,25261529.643114474,17725290,8304130,44580,543071,25263537.016260002,18503444,8348710,25735907.438639998,19355356,8460190,26223593.931839999,20174842,8529165,26242664.986009996,20657534,8597390,26484573.869379997,21281099,8664640,26222277.008499999,21252070,8810280,26331117.517189495,21807366,8888190,27859184.160679996,22576625,8967870,28934003.214451049,23797381,9046950,29781054.52984,24569370,9046950]
[100,"Framingham                   ",45.8,63860283,61259855,8530320.4000000004,69363562.731240004,61627654,10628154.4,71074303.101445913,60232844,13996312.4,75064337.095980003,59230314,15333796.399999999,1802082,78471847.638417289,59169653,16793161,2509034,77781484.489536598,57763279,19634107,105405,278693,79535372.041889995,57510511,22024861,84912568.179920003,58401638,28083628.771975774,89880263.175519973,59388693,31805022.666226074,91598610.68881999,58137448,33596454.666226074,95619668.628199995,57889811,{"$f":"37729858+1000000","v":38729858},97409677.469920009,56417775,42091391,100719920.94220732,59331897,42363221,108226362.06195001,60883909,47636211.300379075,114246010.44154748,63283830,50962180,121857618.34246999,65102393,56755225]
[101,"Franklin                     ",31.61,44517161,21157822,23359339,48378503.32774999,22883906,25494597,50651137.614666902,24244322,26478420,54191343.764519997,25464638,25705683,3021023,56699650.475846313,28327955,28152172,219523,54564219.318353519,28507883,26714222,143414,1674609,55195445.872189999,29273443,26857636,57091389.563199997,30265045,27111396,57706781.893489994,31221709,27268946,57559562.145959996,32626068,27423796,57388919.031509995,34322367,27575946,56727033.490920007,35443923,27903911,57148940.326983534,36769474,28078451,57909532.281709999,38481997,28248881,59674983.513386771,40088811,28416161,60169866.394320011,41152523,28416161]
[102,"Freetown                     ",29.27,4190819,3370570,920190,4507080.37,3270816,1236264,4667891.46,3208836,1459055,4729864.9000000004,3182970,1384217,162678,4714528.3669741629,3198884,1515957,0,1175619,817563.31469409086,351185,1885,11299,1172043.8400000001,834757,353070,1240218.98,861891,378328,1272336.7400000002,903996,378328,1283278.0999999999,908860,388787,1342125.9200000004,945781,396345,1326002.28,873318,452684,1336875.3977878354,897676,452684,1281376.3199999998,845733,452684,1402131.3215247765,943415,459454,1444691.88,998607,459454]
[103,"Gardner                      ",67.510000000000005,23488604,5365218,18123386,24280379.689999998,5820028,18638594,24266064.215644144,6154419,18778744,24824626.379999999,6443188,17123527,2012418,25171808.228991386,6290979,18753226,127603,24334327.323839996,6408008,17777812,95439,1071628,24492666.370000005,6454822,18037844,25131322.549999997,6708647,18422676,26124799.240000002,7163394,18961405,26236297.479999997,7521101,19023155,27133681.380000003,8111579,19085780,27651776.550000001,8469172,19225095,28300931.482949637,8779067,19521864,28813726.650000002,9088523,19725204,30422248.530316565,9418789,21003460,30692122.609999999,9927325,21003460]
[104,"Aquinnah",17.5,0,0,0,0,0,0,0,0,0,0,0,0,0,0,0,0,0,0,0,0,0,0,0,0,0,0,0,0,0,0,0,0,0,0,0,0,0,0,0,0,0,0,0,0,0,0,0,0,0,0,0,0]
[105,"Georgetown                   ",21.47,9890177,6461877,3428300,11110810.230000002,7042873,4067937,11765704.999744495,7509511,4294072,12224355.249999996,7808142,3977475,467447,13336299.693443066,7954056,4356024,1026220,12957759.106319999,8151601,5067813,27206,326500,13112600.769999998,8111641,5095019,13510524.82,8329567,5180958,13168838.209999999,8562303,{"$f":"5218183+42110","v":5260293},13311710.359999999,8894215,5297543,12726852.809999999,9153957,5332268,12709129.820000002,9404745,5407948,12771696.514767833,9356963,5448358,13014006.640000001,9674567,5488348,13380030.102942491,10305171,5527768,13521537.540000001,10617926,5527768]
[106,"Gill                         ",33.85,0,0,0,0,0,0,0,0,0,0,0,0,0,0,0,0,0,0,0,0,0,0,0,0,0,0,0,0,0,0,0,0,0,0,0,0,0,0,0,0,0,0,0,0,0,0,0,0,0,0,0,0]
[107,"Gloucester                   ",17.5,31232007,26625347,5446301.5999999996,32559971.797839999,27559732,5678695.5999999996,34505025.028608091,28613858,6019080,34138942.174929991,29038790,5551677,652453,34553577.53120216,28958748,6080047,0,33723505.701047271,29373670,5724851,30734,413662,33676197.520679988,29773120,5755585,35226845.308150001,30509144,5893705,35681068.365740001,31184657,{"$f":"5981325.49100113+92942","v":6074267.4910011301},35333205.213599995,30916076,6157967.4910011301,34881817.403679989,30325627,6238892.4910011301,34761401.33839,29058004,6413737.4910011301,35423863.383190274,29347381,6509407.4910011301,36267476.233949997,29920668,6605077.4910011301,37845891.761949673,31169618,6699157,38460242.64918001,31729700,6730543]
[108,"Goshen                       ",39.56,127431,75115,71846.8,97646.94,63992,72296.800000000003,113552.7,67109,80208.800000000003,154299.47,77762,102158.8,0,158990.21712535885,82506,100116,0,167528.0748,89091,96111,0,0,110250.63,62127,96111,189431.25,104098,96111,192367.49000000002,104174,96111,168011.94999999998,107732,96111,105599.68000000001,71097,96111,105367.36000000002,68309,96111,107334.66674871638,72157,96111,138371.6,82071,96111,143717.97255353359,88003,96111,146578.00000000003,88586,96111]
[109,"Gosnold                      ",17.5,41274,33796,8396.4,51911.4,35263,16648,54330.509943651086,37234,17097,50519.31,38690,17447,0,38313.742821052641,38151,17098,0,28361.246939999997,34636,16414,0,0,39039.35,35217,16414,35111.69,34852,16414,31217.899999999998,31218,16414,22957.61,20662,16414,31484.75,22007,16414,21496.61,18430,16414,21755.78608038156,18105,16414,22611,18574,16414,28232.853971617853,23292,16414,8254.48,6810,8254.48]
[110,"Grafton                      ",31.99,17156243,11239997,5916246,18952992.459999997,12369492,6583500,21091974.376996525,13330299,7761675,22437094.370000001,14299322,7320485,860329,23677504.63712154,14635325,8017198,1024982,23187153.685799997,15109681,8513937,45707,552411,23744711.860000003,15535022,8559644,25114629.089999996,16118863,8995766,27387656.219999999,16893716,10493940,28066998.630000003,17847710,10571515,29002097.030000001,18689770,10650490,29937376.269999996,19574310,10827425,30005660.380291101,19822623,10921955,30766240.780000001,20470454,11015375,32167051.495621532,21474332,11108735,32659858.43,22211911,11108735]
[111,"Granby                       ",37.04,7544687,4071482,3480552,8086549.8600000003,4268438,3818112,8451939.3722802009,4295869,4156070,9035827.3699999992,4303354,4234786,497687,9050222.3941818178,4343476,4637824,68922,8636188.0120199993,4357208,4431778,23792,276151,8744249.379999999,4488653,4455570,8663530.7500000019,4623232,4493290,8574245.4499999993,4727723,4516215,8273052.5900000017,4695999,4537515,7978374.4699999979,4781695,4557815,7719354.0099999998,4716269,4600550,7516650.875846277,4649745,4622810,7333030.3400000008,4806929,4643750,7816401.3026422542,4990654,4664780,8181734.8699999992,5150983,4664780]
[112,"Granville                    ",24.32,2157167,1168273,1194161,2358065.48,1185776,1307669,2400533.1579714394,1206660,1331035,2341550.79,1228016,1203272,141413,2240177.4551578951,1250541,1317791,0,2244631.2231000001,1266515,1240805,6661,76800,0,0,0,0,0,0,0,0,0,0,0,0,0,0,0,0,0,0,0,0,0,0,0,0,0,0,0,0,0,0]
[113,"Great Barrington             ",17.5,0,0,0,0,0,0,0,0,0,0,0,0,0,0,0,0,0,0,0,0,0,0,0,0,0,0,0,0,0,0,0,0,0,0,0,0,0,0,0,0,0,0,0,0,0,0,0,0,0,0,0,0]
[114,"Greenfield                   ",57.54,17313166,9111371,8732668,17803363.970000003,9283824,9054173,18475981.23195523,9232071,9486783,18457057.809999999,9067762,8710983,1023745,18757500.666304301,8914962,9540033,302506,18168641.884320002,8874442,9267538,49752,572724,19123336.359999999,9165933,9957403,19845137.929999996,9446211,10481761.769687749,21688417.030000001,9832399,11932187.357180249,21246903.91,9761739,11983812.357180249,21378359.310000002,9879409,12035012.357180249,20360058.930000003,9575385,12140007.357180249,20807903.147397026,9604767,12197397.357180249,22188290.889999997,9949462,12256917.357180249,23758804.479078908,10147449,13611355,24159291.550000001,10256971,13902321]
[115,"Groton                       ",17.5,0,0,0,0,0,0,0,0,0,0,0,0,0,0,0,0,0,12362.3995134,9161,3201,0,0,12532.104200000002,9543,3201,13020.859919999999,10245,3201,0,0,0,0,0,0,0,0,0,0,0,0,0,0,0,0,0,0,0,0,0,0,0,0]
[116,"Groveland                    ",27.68,0,0,0,0,0,0,0,0,0,0,0,0,0,0,0,0,0,0,0,0,0,0,0,0,0,0,0,0,0,0,{"$f":"0+42110","v":42110},65024.500000000007,41295,42110,79199.760000000009,51428,42110,118538.28,77239,42110,134168.3334358955,90748,43420,206187.50999999995,141367,65200,185257.16194463047,131944,65200,117262.39999999999,84803,65200]
[117,"Hadley                       ",17.5,4520668,5166154,625061.19999999995,4764269,5245116,667691.19999999995,5019642.6810837509,5189433,730915.2,5205800.76,5053095,707232.2,83116,5406525.5920688985,4995543,774541,0,5658505.69092,4937924,729292,3915,57584,5783756.2999999998,5102966,733207,6074126.3499999996,5356386,815648.27781250002,6128452.2700000014,5607720,879855.99517187499,5981187.5199999996,5351851,938253.99517187499,5986156.3800000008,5261618,953528.99517187499,5790379.5499999998,4888340,985813.99517187499,5654945.3746561082,4724445,1002763.995171875,5888757.8200000003,4858225,1030533,6230653.9028760213,4968021,1279420,5921818.3199999994,4885500,1279420]
[118,"Halifax                      ",43.89,4947085,2594870,2352215,5102050.8600000003,2752876,2423716,5360750.4569571586,2911501,2541088,5579019.2300000014,2979985,2365166,277963,5830872.9364822973,3036721,2590266,203886,5481069.2047199989,3009340,2630918,14124,166110,5309028.63,2928688,2645042,5256094.54,2947000,2669842,5316163.6799999988,2900902,2684967,5366429.71,2903829,2699817,5540979.4299999988,2982219,2714617,5481688.6299299989,2891843,2746462,6142874.2903718846,3223996,{"$f":"2923648-4770","v":2918878},6353417.4649799988,3373628,2989257,6718564.0537173413,3664674,3063392,6764091.2584799994,3795461,3063392]
[119,"Hamilton                     ",17.5,0,0,0,0,0,0,0,0,0,0,0,0,0,0,0,0,0,0,0,0,0,0,0,0,0,0,0,0,0,0,{"$f":"0+16844","v":16844},39912.938879999994,35608,16844,0,0,0,0,0,0,0,0,0,0,0,0,0,0,0,0,0,0]
[120,"Hampden                      ",18.37,0,0,0,0,0,0,0,0,0,0,0,0,0,0,0,0,0,0,0,0,0,0,0,0,0,0,0,0,0,0,0,0,0,0,0,0,0,0,0,0,0,0,0,0,0,0,0,0,0,0,0,0]
[121,"Hancock                      ",17.5,853878,675229,178649,880073.22,741790,184299,762441.64943651087,762443,188899,856176.18,765743,183712,21591,853326.37133779912,779131,201197,0,790173.65255999996,768393,189443,1017,13112,776252.26,758287,190460,853060.55999999982,775699,194340,908416.76,820354,196865,806235.6399999999,725612,199115,700017.85,630016,200990,719680.2,604602,205060,672606.53356161958,562854,207160,715919.97,571860,209260,800339.26922275487,609145,211450,883632.04,673593,211450]
[122,"Hanover                      ",22.41,18966432,14270699,4695733,20142433.842250001,14796651,5345783,21096225.834211223,15271206,5825020,21748945.017949998,15848159,5373174,631474,22213294.657841306,15909369,5884555,419371,21774380.339327995,16297523,5935651,31865,401910,22331596.871920001,16434712,5967516,23401737.684919998,16986703,6460513.713344737,23673254.269769996,17673274,6526113.713344737,23675035.831840001,17821949,6590763.713344737,24041587.167499997,18466336,6654913.713344737,23962139.080309998,18266304,6795548.713344737,24249684.484178498,19005451,6871448.713344737,25234803.157349996,19689734,6947439,26655202.675033823,20506773,7023879,27226298.169830002,21124278,7023879]
[123,"Hanson                       ",39.72,29389,7918,28480,32548.98,8976,30063,22710.54,6659,22710.54,11943.49,3468,11943.49,0,36919.725014354073,12160,11705,13055,48143.262719999999,16555,31588,0,0,36750.21,13241,31588,63486.049999999996,23471,40015,64470.1,24990,40015,91034.3,38572,52462,105599.68000000001,47255,58345,105367.36000000002,49870,58345,120751.50009230593,61304,59448,83022.959999999992,44311,59448,43115.391766060078,23914,43148,14657.8,8507,14657.8]
[124,"Hardwick                     ",57.5,0,0,0,10849.66,2254,8596,0,0,0,0,0,0,0,0,0,0,0,0,0,0,0,0,0,0,0,0,0,0,0,0,0,13004.9,5113,7892,13199.960000000001,4892,8308,13170.920000000002,4778,8393,0,0,0,13837.16,5264,8588,14371.797255353356,5991,8588,29315.599999999999,11840,17476]
[125,"Harvard                      ",17.5,8751097,7733519,1207690,9436456.4439200014,8041734,1394722,9734129.4134850893,8255080,1487347,10286417.543199999,8498460,1599929,188029,10374344.582891179,8558834,1752199,63312,9724196.0291673597,8552465,1709449,9177,125810,9832645.2214000002,8627525,1718626,10074274.181770001,8807063,1763706,9949641.3842999991,8901871,1790806,9617698.6389000006,8555966,1816706,9693663.2637600005,8402066,1842181,9175786.1101999991,7758081,1896961,9274857.1529690847,7706220,1926361,9216263.0621200018,7603417,1954741,9480813.6788152698,7821672,1982671,9458347.1900000013,7803137,1982671]
[126,"Harwich                      ",17.5,11161455,11250796,1441301.6,11707485.16,11494628,1562803.6,12038269.950589731,11546692,1725971.6,12378598.029999999,11167921,1674475.6,196790,12611946.734974166,11483505,1833840,0,12195817.037459999,11202192,1726707,9270,133013,0,0,0,0,0,0,0,0,0,0,0,0,0,0,0,0,0,0,0,0,0,0,0,0,0,0,0,0,0,0]
[127,"Hatfield                     ",17.5,3541366,2921690,619676,3642953.19,2938353,707251,3688012.9120416823,2957523,790818,3648857.07,2998072,726623,85395,3508714.1457454548,3029964,795778,0,3258631.5302400002,3006599,749289,4022,51717,3188704,2995877,753311,3317758.7599999988,3073443,767671,3450986.7199999997,3186043,776846,3505759.1100000003,3095381,786221,3617908.4000000004,3106474,795746,3350319.81,2835513,814996,3456804.2799801859,2864170,825616,3557025.64,2934546,835846,3779440.8478222261,3053395,846256,3943217.63,3167592,846256]
[128,"Haverhill                    ",58.4,59731907,29319627,31984671,61978683.149999999,32052321,33057731,65881401.521652639,33678683,34988016,68099107.280000016,34744794,33819377,2258641,71235841.205159843,34829065,35356458,1050318,70567491.926159993,35268131,34622057,185867,1787452,71678180.060000002,35711436,35966744,77249638.609999985,36816955,40527259.019415751,81685330.230000004,37879800,{"$f":"44126723.07174+387413","v":44514136.071740001},83661746.030000001,38734196,45091781.071740001,85387258.689999998,38924761,46462498,87808524.019999996,38182889,49625635,91533733.132029355,39059148,52474585,95275049.070000008,40630210,54644839,100463268.08911894,42109344,58353924,107173075.29000002,43835110,63349956]
[129,"Hawley                       ",39.46,48982,21657,27325,32548.98,22929,27475,11355.27,7744,11355.27,11943.49,6852,11668.27,0,49226.300019138762,29178,11435,8613,60179.078399999999,31929,28250,0,0,49000.28,31936,28250,76183.260000000009,40981,35202,38682.05999999999,25218,35202,39014.69999999999,24838,35202,65999.8,34098,35202,39512.76,25830,35202,26833.666687179095,20424,26833.666687179095,13837.16,9530,13837.16,0,0,0,14657.8,8781,5877]
[130,"Heath                        ",57.13,0,0,0,0,0,0,0,0,0,0,0,0,0,0,0,0,0,0,0,0,0,0,0,0,0,0,0,0,0,0,0,0,0,0,0,0,0,0,0,0,0,0,0,0,0,0,0,0,0,0,0,0]
[131,"Hingham                      ",17.5,25403781,22762272,3340480.4,27560964.819960002,23564072,3996893,29139913.603763632,24642808,4497106,31044967.342000008,26194370,4340488,510109,32711413.88404119,26992341,4753585,965488,32995448.474696219,27678867,5384965,28909,403099,34007006.427199997,28453971,5553035,35828380.478589997,29594328,6234052,37036862.488399997,30669232,6396085.2338675,37371415.691150002,31288570,6499060.2338675,39001020.533249997,32512856,6603785.2338675,40329887.992679983,33379675,6950213,41440808.001251943,34293632,7147176,42815000.845129997,35322376,7492625,43961797.366181195,36268483,7695110,45460703.839160003,37505081,7955623]
[132,"Hinsdale                     ",17.5,88168,40638,75997,97646.94,51939,80464,158055.47,85670,107527,166242.96,90274,111270,0,123065.7500478469,72206,109045,0,179563.89048,109118,104683,0,0,231760.61,138940,104683,176734.04000000004,114460,104683,218155.53,163644,104683,259046.25,194505,104683,210131.86,161349,104683,222840.48,184676,104683,226884.18269824251,188237,104683,124534.43999999997,102741,104683,214000.75645533722,176551,104683,117262.39999999999,96741,104683]
[133,"Holbrook                     ",47.47,10315927,6313474,4191804,11106581.581619998,6669358,4533288,11701251.39486149,6808999,4892252,11345667.9342,6751013,4434897,521205,11124134.858732402,6628581,4856980,0,10564226.240915999,6698225,4573236,24551,288168,11116936.478390001,6800968,4597787,11381036.588100001,6914226,4644027,11961763.44396,7174489,4881727.8637754824,12460674.085960001,7150740,5309934,12443297.537840001,7047648,5395650,12499752.025560001,6931227,5617684,12628237.26938205,7152474,5652634,13757037.007840002,7518971,6238066,15200054.581420457,7861744,7338311,16096140.681580001,8273118,7826400]
[134,"Holden                       ",42.59,0,41626,0,0,10840,0,11355.27,8053,4441,0,0,0,0,0,0,0,0,0,0,0,0,0,0,0,0,0,0,0,0,0,0,0,0,0,13199.960000000001,7925,5275,13170.920000000002,7908,5318,13416.833343589547,7918,5499,13837.16,8242,5619,0,0,0,0,0,0]
[135,"Holland                      ",41.14,1359210,887960,664264.4,1587801.09,867451,792435,1588437.3443519876,838841,802385,1766981.09,954681,795938,93541,1972860.5563712921,1032537,871689,68635,1871122.0890599999,1073712,885390,4753,55456,1879808.57,1112638,890143,1763923.64,1024852,897623,1787430.03,1049519,902423,1736861.59,1013330,907048,1599126.75,961437,911123,1464807.0700000003,854286,919098,1612152.0989724461,930261,923658,1748738.7699999998,1013627,928518,1957811.3888900897,1087826,933678,1899540.24,1117998,933678]
[136,"Holliston                    ",24.15,20308343,15968390,5943728.7999999998,21289179.32736,16431845,6258871.7999999998,21897651.375525266,16494287,6476815.7999999998,23131552.826769996,16702590,6156408.7999999998,723523,23686855.094075777,16771102,6742333,173420,22575963.196708795,16700563,6511735,34958,435435,23040981.368379999,16787957,6546693,23796222.088170003,17016065,7025699.6612902638,24224596.215680003,17524292,7091024.6612902638,24025115.2018,17695327,7155224.6612902638,24361946.347450003,17968840,7219349.6612902638,24902897.913260002,17988443,7363119.6612902638,25340457.438654266,18649605,7441479.6612902638,26788678.931649998,19393070,7521070,27996289.160540704,20267619,7936216,28673820.518239997,21202129,7936216]
[137,"Holyoke                      ",80.39,67827362,6811798,61015564,72388532.229999989,7289305,65099227,73576060.433260515,7637734,66054475,75721641.38000001,7973794,60651347,7127961,76657779.796516746,8297090,66423722,1936968,73138531.001340002,8592467,64367063,345551,3815151,76399996.650000006,8863130,67536867,78653933.859999999,9198156,69455778,78916203.399999991,9463063,69621603,78698902.669999987,9692069,69785403,80596955.480000004,10055521,70541434,80344375.670000002,10380314,70897779,81981180.868534818,10580654,71400527,82326983.739999995,10886435,71590427,88111145.825201109,11074770,77036376,90161028.659999996,11207668,78953361]
[138,"Hopedale                     ",40.75,7472867,2486366,5057500,8292536.7375000007,2670563,5621974,8815309.2047224138,2839812,5975497,9235166.8740800004,2966673,5609272,659222,9728111.1448041964,4701926,6143124,0,9332695.0668703802,4752702,5784243,31052,355029,9580765.2985399999,4942015,5815295,10187944.10832,5093347,5859695,10400760.003870001,5244027,5887320,10475107.010799998,5458850,5914920,10396781.262500001,5558390,5941845,10041924.281359999,5468971,5999100,9875547.1322113276,5451538,6029670,10063593.190549999,5625392,6059280,9935233.2153440155,5786456,6087390,9927021.4951400012,5864081,6087390]
[139,"Hopkinton                    ",17.57,24098111,19256994,4841117,25867183.04544,20502679,5364504,26814198.336775228,21690292,5538660,28242723.701650001,22606527,5179893,608759,29889258.479898021,24108745,5672879,107634,29092218.3157188,24749829,5442815,29220,392928,29701471.955480002,25246689,5472035,31278850.639399998,26008119,5705503.4027372804,32117617.453449998,26860574,5789203.4027372804,32526014.474999998,27549192,5873878.4027372804,33687637.267440006,28536777,5961103.4027372804,33817637.171700001,28266492,6152833.4027372804,34051687.916279338,28376314,6256963.4027372804,37266306.274479993,30427150,6839156,39305559.544661731,32314609,7021215,41585309.188900001,34279876,7305433]
[140,"Hubbardston                  ",40.590000000000003,9796,1348,8448,0,362,0,11355.27,3159,8196,11943.49,3356,8587,0,12306.57500478469,4308,8415,0,0,0,0,0,0,24500.14,9683,14817,0,0,0,0,0,0,0,0,0,0,0,0,0,0,0,0,0,0,0,0,0,0,0,0,0,0,0]
[141,"Hudson                       ",39,19050737,14410446,5370695,20737185.89144,14946735,5923344,22500615.0596264,15356761,7143854,23936352.536320001,15521036,7530326,884991,25532071.962211221,16165733,8247011,1119328,25192997.510822278,16204219,8819158,47345,569311,25384240.533760004,16175387,9208854,26736601.318939991,16738223,10247974.530620005,26971069.026599996,17041341,10495017.737085393,27792860.269480001,16943537,10859646.737085393,28189612.605080001,16846912,11342701,27512651.906879999,16516841,11490541,28097682.163007021,16800420,11571901,29167889.792099994,17227184,11940706,29439397.279731382,17734729,12020446,30603552.288509995,18666759,12020446]
[142,"Hull                         ",17.5,11353848,8981808,3687093.2,11214367.350959999,9384311,3756143.2,11280495.442531671,9618212,3823493.2,11671069.35836,9831732,3482560.2,409283,11794688.48922978,9783137,3814006,0,11155892.276219161,9798290,3591192,19279,234235,10984440.041849999,9799215,3610471,10867343.796599999,9900725,3654871,10592145.907740001,9917428,3681846,10591221.700679999,9492718,3708196,10627740.812809998,9322055,3734246,10359200.878399998,8708283,3789356,10207764.981851343,8510548,3818486,10202468.317680001,8417036,3846626,10718331.726392865,8741934,3874466,10567859.950760001,8718484,3874466]
[143,"Huntington                   ",52.96,127431,66133,89877,216115.81,74385,144631,248897.63,92185,163818,345395.31,131667,218880,0,380508.56721148331,174361,214502,0,360101.12568,174095,205922,0,0,403261.59,188394,214868,493137.38999999996,235451,257686,474993.12,238640,257686,466072.9,251663,257686,328931.5,187234,257686,328207.83999999997,191008,257686,361052.51613413799,191170,257686,372233.43000000005,195413,257686,372090.52626422414,177377,257686,423468.62,191404,257686]
[144,"Ipswich                      ",17.5,14041498,12710447,2066540,14992137.828520002,13156596,2232902,15825233.977843994,13644898,2393856,16400242.809939997,14112689,2282723,268274,16957084.776921969,14253296,2499977,203812,16906352.002642978,14393705,2545833,13667,193189,17102812.789599996,14677975,2559500,17797548.09409,15205869,2722401.9791164375,18113898.173040003,15501270,{"$f":"2834284.52940783+109486","v":2943770.52940783},18277939.337160002,15616820,3032974.52940783,18118176.856480002,15505476,3079599.52940783,17848954.323200006,14939873,3178709.52940783,17585142.68474175,14661641,3231029.52940783,17790224.73598,14676936,3282240,18376694.040241551,15160772,3332340,18495911.746960003,15259127,3332340]
[145,"Kingston                     ",34.200000000000003,7998550,4971749,3291409,8273057.0684000002,5048628,3382518,8552328.663848212,5164589,3471243,9261013.0245499983,5370868,3481041,409104,10163781.091275636,6164282,3812342,187157,9993589.1704833005,6118107,3801121,20406,208222,10250129.685999997,6235286,4014844,10455362.598579997,6361939,4130764.5356259407,10405973.177240001,6503570,4159864.5356259407,10520096.445809999,6787210,4188864.5356259407,10093730.667000001,6547555,4216164.5356259402,10429935.11328,6471707,4276884.5356259402,10083448.835693419,6275524,4308264.5356259402,10631780.77052,6659009,4340125,11332153.547165975,7314667,4372585,11789935.42196,7692593,4372585]
[146,"Lakeville                    ",32,4799043,2658720,2146114,5190670.9800000004,2889584,2301087,5317162.33,3023826,2348711,5543481.6000000006,3105681,2181431,256370,5602857.9883483276,3253249,2389045,0,120358,71289.72480853874,48927,263,3142,122500.7,75884,49190,189431.25,117945,71486,192367.49000000002,118421,73946,130049.00000000001,82782,73946,196931.90000000002,131323,73946,105367.36000000002,69257,73946,107334.66674871638,71015,73946,192350.35000000003,123826,73946,242744.35096604392,156739,86148,203601.62000000002,133221,86148]
[147,"Lancaster                    ",29.82,0,0,0,0,0,0,0,0,0,0,0,0,0,0,0,0,0,0,0,0,0,0,0,0,0,0,0,0,12894.02,9530,3364,13004.9,9489,3597,26399.920000000002,18957,7443,26341.840000000004,17904,8468,13416.833343589547,9288,8468,13837.16,9663,8468,0,0,0,0,0,0]
[148,"Lanesborough                 ",38.35,1916314,1602997,511327.6,2000612.16,1636328,598919.6,2254707.4840702428,1643144,740945.6,2340403.35,1550747,771260.6,90641,2211537.9160803831,1508600,844664,0,2101664.4740400002,1386013,795318,4270,51076,2085248.98,1418502,799588,2003814,1493112,737198,1859232.2499999993,1282510,742373,1841661.51,1232284,747323,1924866.88,1307443,752323,1846691.1099999999,1231226,762663,1897447.2242952588,1143811,{"$f":"768543-768543","v":0},0,0,0,0,0,0,29315.599999999999,18020,11311]
[149,"Lawrence                     ",85.88,120547909,3240618,117307291,127369323.28,4587152,123087075,133779067.90829407,5310337,128507796,141941371.93000001,5886137,121747087,14308148,146793573.0315024,5813067,133334130,7646376,144327894.38892001,6144533,135531978,727596,5051357,152346056.93000001,6462722,145883335,158948561.05000004,6790964,152157597,166158253.06999999,7071945,{"$f":"159086308+320037","v":159406345},177176380.49999997,8004505,169171876,186136094.67000002,8507699,177628396,185788081.69999999,8809108,178458236,189722671.68810713,9390191,{"$f":"180602480-269999","v":180332481},196866060.98999995,10121526,188612758.94704434,210870986.66280565,10875618,199995369,218786376.44,11530073,207256303]
[150,"Lee                          ",19.670000000000002,5823545,5026681,1520616,6350292.3199999994,5174125,1676639,6681418.6652666908,5156036,1878003,7031845.7699999986,5144595,1850212,217444,6993248.0376650728,5210177,2026303,0,6834255.432719999,5256806,1907927,10242,126584,6866001.4999999991,5431263,1918169,7058725.3000000007,5598309,1947049,6795658.4500000011,5748371,1964149,6714728.879999999,5764466,1980674,6274000.4799999986,5563066,1995699,6504171.9400000004,5425885,2029359,6757761.9564577993,5587191,2047989,7003346.3699999992,5777761,2066619,7374237.8470487166,5858890,2085069,7515008.5899999989,6036549,2085069]
[151,"Leicester                    ",52.35,13764844,5533064,8584389,14951710.08,6005588,9273246,15396418.602011576,6321482,9525396,16077270.590000004,6607213,8869110,1042329,16403919.290181819,7103381,9713210,0,16141548.42372,7199987,9145765,49099,563921,16759773.840000002,7378547,9381227,16738311.800000001,7574816,9450987,16586640.989999998,7776403,9493437,16135346.720000001,7906856,9534162,16315414.450000001,8170911,9574112,15935660.719999999,7913187,9661287,16281458.222080152,7799077,9708447,17044107.479999997,8057611,9755847,17701915.196191557,8369468,9802497,18032789.120000001,8592877,9802497]
[152,"Lenox                        ",17.5,5379558,5779799,1111972.8,5557057.9500000002,5755763,1149222.8,5681111.1449849457,5626258,1185272.8,5690851.3399999999,5524370,1091138.8,128234,5746214.0793875596,5564115,1194985,0,5692629.6463799989,5437790,1125174,6041,80270,5550215.3299999982,5659278,1131215,5797767.8000000007,5640423,1156055,5519096.620000001,5519097,1170680,5600729.1799999997,5040656,1185105,5259228.0599999996,4733305,1198130,5241794.76,4408169,1226895,5339115.7336442946,4429745,1242525,5362646.540000001,4424183,1257705,5511981.8499129619,4547385,1272525,5736170.5799999991,4728371,1272525]
[153,"Leominster                   ",61.23,50087399,17364613,32722786,52403637.229999997,18470739,33951319,55214981.567387104,19608537,35606445,61199688.75,20722302,36220613,4256774,63052401.664000005,21186482,39667839,2198081,61830792.262439989,21870806,39420116,211625,2394129,64079292.579999998,22623162,41456131,66413236.799999997,23577860,42835377,67647235.61999999,24414874,43232362,68009798.659999996,25511102,43390737,68789894.089999989,26480524,43547587,69488787.129999995,27478840,43889797,69633698.04886961,27880085,44073487,72123478.449999988,28957291,44256877,77172702.956447005,30127166,47045537,79655609.189999998,30886014,48769595]
[154,"Leverett                     ",17.5,803815,973857,223181.2,852583.6,827268,239065.2,947175.22926746425,853066,261625.2,1053847.72,849640,257545.2,30268,1038637.2936880384,875032,282057,0,1122116.9748600002,937904,265580,1426,18126,1105463.82,928988,267006,1073636.7000000002,916296,271766,1092855.1200000001,934972,274716,934315.57,840884,277216,982131.53,843668,279816,997887.19000000006,837493,285371,1195068.007035923,990119,289061,1040580.59,858479,292151,1166005.2401467538,885170,295511,1203602.1499999999,992972,295511]
[155,"Lexington                    ",17.5,44428216,48013339,5197253.5999999996,48149485.159400001,48176671,5848475.5999999996,50405171.392957248,48167038,6740204.5999999996,53421979.384980008,48294113,6801697.5999999996,799359,55137317.164318644,49717650,7449035,0,53464106.958999999,49818987,7013863,37654,548918,56211262.726240009,51205216,7051517,59157960.380999997,52989430,7876798.51666875,62856513.067499988,55493228,{"$f":"8657571.33420469+8422","v":8665993.3342046905},64514813.130400017,56156903,9584428.3342046905,67063773.197500005,57095237,9968536,69116723.419239998,57485649,11631074,74054892.120399058,60055998,13998894,76234730.040079996,62875494,14217984,80260931.779566333,66088777,14438034,81400953.564800009,67155786,14438034]
[156,"Leyden                       ",17.5,0,0,0,0,0,0,0,0,0,0,0,0,0,0,0,0,0,0,0,0,0,0,0,0,0,0,0,0,0,0,0,0,0,0,0,0,0,0,0,0,0,0,0,0,0,0,0,0,0,0,0,0]
[157,"Lincoln                      ",17.5,5018892,5683798,493536.8,5151111.5048699994,5403675,575118.80000000005,5228858.1013507508,5190002,677097.8,5555855.546620002,5184708,693055.8,81450,5820338.6126000388,5207737,759016,0,5740716.07941732,5163138,714674,3837,57830,5352912.2345500002,5178637,718511,5424170.2317799991,5128408,743071,5868235.8212800017,5381474,759321,5682114.4160699993,5004725,841588,5601678.0140399989,4808245,857038,6043300.8275599992,5030628,{"$f":"1012673+19818","v":1032491},6203608.5789318336,5157876,1052081,6185737.5497599998,5103233,1082505,6701030.6023767004,5528351,1174169,6274212.1128000012,5176225,1174169]
[158,"Littleton                    ",17.5,11139291,10499232,1464107.2,12115413.634199999,10452829,1818491.2,12477893.258578453,10490580,2325579.2000000002,13440913.22665,10423513,2700077,317323,14231659.398570258,10530521,2957052,744086,13640184.029312642,10374233,3484917,18709,237937,13593606.621599995,10469428,3503626,14276865.484880002,10931785,3693487.508446292,14181867.184600001,11325231,3731912.508446292,14701467.741599999,11519536,3770462.508446292,15178691.897499997,11837909,3809412.508446292,14722352.576169997,11622810,3895817.508446292,15312226.682937402,12240112,3943487.508446292,15912198.077959999,12532062,3991548,16632291.76270235,13448982,4039908,16791308.800700001,13852830,4039908]
[159,"Longmeadow                   ",17.5,22710932,20812705,3547400,23361827.510000005,21048279,3906490,23686877.90819297,21094587,4239607,24733177.429999996,21260686,3963684,465826,25548586.481975123,21378942,4340920,0,24685139.268599994,21321759,4087324,21942,306429,24642877.109999999,21481517,4109266,25335232.990000002,21911262,4224986,24962248.150000006,22263076,4294961,24849640.570000004,21747129,4363911,25612986.450000003,21804274,4434186,25829656.509999998,21477556,4587691,26663231.188728545,22022317,4672411,27927235.790000003,22667571,5259665,29113308.339486767,23465469,5669282,29237892.870000001,24121262,5669282]
[160,"Lowell                       ",73.75,134573109,29664794,108399118,139116837.98003998,31162657,111660607,147723629.79585069,32819557,117869547,150534733.39768001,34088424,107274461,12607274,154968734.65788475,33789587,117484100,3695048,151465731.89643282,34730786,114495103,614660,6425960,157898864.58336002,36240147,121658718,163641193.22828004,37162840,126478353,168760616.72439998,38859325,{"$f":"129901292+25266","v":129926558},176078571.80969998,40949807,135128765,177537953.73000002,43089941,135511265,183238361.64999998,44649981,138588381,189897176.96033403,45829544,144067633,198336328.19000003,47400845,150935483,212748263.5454053,49724317,163023947,218744159.73000002,51808768,166954483]
[161,"Ludlow                       ",43.87,22679461,13063961,9615500,24089447.75,13513577,10575871,25130130.610954065,13594068,11536063,26252078.679999992,13563370,11354310,1334399,27121644.13746221,13598080,12434935,1088629,26588449.146960001,13600623,12738623,68387,790929,26899330.039999999,13801952,13097378,27321398.960000005,14243896,13211578,27755975.950000003,14764702,13282703,27236633.910000004,14951306,13351728,27187438.540000007,15433886,13418728,27123791.77,15449969,13564533,27107617.460779078,15438923,13642593,27633670.819999997,15760434,13719693,29028174.444039177,16193284,13795983,29294399.16,16443714,13795983]
[162,"Lunenburg                    ",41.88,11716392,8601526,3708907,12276374.15,8871625,3921700,13121501.42336395,8885020,4314259,13675383.389999999,9084809,4134848,485942,13799998.378687082,9022501,4528374,249123,13414483.32636,8836567,4498396,24149,295077,13457816.690000003,8981951,4522545,14298145.129999995,9188886,5219936.6884947494,14546535.939999999,9433283,5354695.9110325621,14945462.859999999,9374156,5605871.9110325621,15341249.750000002,9506767,5834483,15538424.619999999,9187168,6351257,16554528.397230644,9282023,7272505,17203377.800000001,9678671,7538072,17948505.284198701,10176765,7771740,18301715.41,10527777,7773938]
[163,"Lynn                         ",76.959999999999994,129974090,29799249,100174841,135144695.81999999,31653289,103751349,144686831.68873173,33225614,111461218,152073058.32999998,34465340,105239589,12368129,155276011.32322299,36436147,115255564,3584300,152859294.83544001,37505365,113140585,607389,5439440,156427178.34000003,38215898,118211280,165697522.48000002,39600037,126107787,173772185.64999998,40871553,{"$f":"132900633+471634","v":133372267},181764114.65000001,43133574,138630541,191949856.55000001,44587175,147362682,192172422.52999997,46018423,151448721,201554686.66682765,48112261,{"$f":"157028802-3586376","v":153442426},217113702.87999997,50739190,167691187.76438755,238010020.23206508,52164961,185845059,252551048.48000005,53396054,199154994]
[164,"Lynnfield                    ",17.5,14215391,13251512,1760537.6000000001,15771023.292079998,13495114,2275909,17356642.058858942,13944761,3411881,18585463.714159999,14489660,3665072,430732,19408007.987414353,16010874,4013888,0,19103918.4621954,16284477,3779396,20290,270977,19086223.734719999,16630403,3799686,19513606.067749999,17151894,3887366,19765823.121270001,17368045,{"$f":"3941766+42110","v":3983876},19490234.623029999,17091539,4036801,19743094.595660001,17067615,4089401,20021615.672320001,16786039,4206331,21073446.154188275,17422551,4272061,22155796.556120005,18211808,4338661,23010166.94368434,18762401,4404631,23513323.468790006,19317442,4404631]
[165,"Malden                       ",46.21,54185598,21722732,32462866,58405248.022889994,23530624,34874624,62297084.542392798,24505538,37791547,66974103.664699994,25736533,36900852,4336719,70256109.620756119,28341018,40412820,1502272,69445049.599893317,29256886,39466415,211873,2408479,74002031.259239987,29910919,44091112,78173570.110089988,31406125,46767445,79552182.518289998,32589651,{"$f":"46962532+101064","v":47063596},80737953.747600004,34410984,47246321,84059175.637440011,35620417,48438759,84148786.035580009,37450081,48846419,87320752.243724763,38872647,49072289,90460805.376449972,41267281,49297769,95060966.502866924,43854744,51206223,94879629.913439989,45560692,51206223]
[166,"Manchester                   ",17.5,0,0,0,0,0,0,0,0,0,0,0,0,0,0,0,0,0,0,0,0,0,0,0,0,0,0,0,0,0,0,0,0,0,0,0,0,0,0,0,0,0,0,0,0,0,0,0,0,0,0,0,0]
[167,"Mansfield                    ",28.71,34070637,22637801,11432836,37066064.086240001,23186796,13879268,38933172.153506003,23627132,15306040,41292178.534949996,24028768,15447917,1815494,43173220.767601192,24399237,16918143,1855841,42531299.518475883,24405336,17778173,95441,1022220,42752257.461410008,25008185,17873614,43053921.076990001,25772728,18060214,43496373.837260008,26613090,18175039,41985292.046640001,26566576,18283964,40931631.918399997,26810067,18388239,40048769.469539993,26489859,18610109,40453621.247440323,27314680,18728069,41538657.52544,27745189,18846329,42363212.754154898,28659688,18962339,41671720.92024,29709526,18962339]
[168,"Marblehead                   ",17.5,22442162,18815418,3626744,23820222.600000001,19829287,3990936,24883005.764629867,20408599,4474407,26084987.150000002,21181516,4387801,515670,27241689.681577034,22473658,4805402,0,26691563.970600002,22521401,4524671,24290,337066,27367247.329999998,23246510,4548961,28162380.189999998,24103028,4677641,29501925.989999995,24213134,{"$f":"5288792+8422","v":5297214},30687140.549999997,25404870,5381364,30592758.849999998,25878831,5464064,30713624.370000001,25564980,5644629,30825074.044045713,25552661,5741619,31517682.5,26002088,5837259,32505638.687593605,26599814,5952147,31915735.240000002,26330482,5952147]
[169,"Marion                       ",17.5,2842071,3116566,338668.4,2997167.17,2911376,375835.4,3025165.423394056,2851568,421906.4,3162483.16,2895625,416376.4,48934,3266374.1133779911,3033215,456004,0,3153015.2271000003,2931584,429364,2305,34185,3339019.88,3088812,431669,3695947.6200000006,3317639,449149,3724025.8699999996,3296965,459899,3955020.5,3359179,595842,4014302.5699999994,3344045,670258,4098862.3900000006,3406086,694733,4343663.5149533721,3510380,833284,4470718.4500000011,3641644,846844,4612923.7963335682,3799640,860344,4522671.7799999993,3731204,860344]
[170,"Marlborough                  ",43.92,37010306,32604757,6151638.0000000028,39489888.753479995,33387418,7207775.0000000028,41647924.173341915,33111874,9149845.0000000037,44383211.209059998,32757172,10403395,1222644,46013474.233912654,32958768,11393518,1661188,46421470.443365268,33104620,13061334,70119,185397,47531356.683839999,33125854,14405503,50561006.405809999,33652670,17545220.816238921,51938566.105600007,33591541,18678850.960200321,52135804.352599993,32592161,19543643,55409404.919719994,32493304,22916101,54854523.918049991,31931943,24140701,56761909.559497736,32073087,{"$f":"24972052-283229","v":24688823},60815717.02979999,33579775,27459350.453954868,64168256.450577833,35637847,28530409,67959735.832000002,36937156,31032674]
[171,"Marshfield                   ",17.5,32271473,20214215,12057258,34872556.111840002,21245140,13627416,36714948.679464169,22881016,14129652,38563639.171119995,24240148,13086402,1537960,40253567.818422206,26140832,14331875,0,39637274.173409283,27040077,13494608,72445,878947,39583756.739600003,27951328,13567053,41137358.67464,28739555,13747293,40558278.62376,29710952,13855893,40490934.449160002,31137078,13963368,40254049.280549996,32113539,14068193,40243211.142080009,32421451,14297323,41036767.216783047,33760457,14421163,41808529.701789998,34492037,14543473,43523657.528021462,35619824,14664853,43514601.597520001,35899546,14664853]
[172,"Mashpee                      ",17.5,15407543,12020189,4044754,15474024.460000001,12882004,4145104,17073801.756701652,13860224,4425065,17636286.130000006,14142204,4051695,476170,16283467.18671005,14193190,4437308,0,16336474.718640003,14184603,4178081,22430,283872,16170543.359999999,14364504,4200511,16786403.150000002,14863230,4271711,17312286.150000002,15116709,4316511,16847491.769999996,14820989,4359861,16578175.300000003,14402235,4402061,16891753.790000003,14087772,4493526,16431104.565356754,13722805,4541226,17705538.060000002,14379434,4590756,18627382.034490988,15124670,4640166,18424932.769999996,15200570,4640166]
[173,"Mattapoisett                 ",17.5,3297524,3310959,473897.6,3387984.92,3308386,497697.6,3488042.5977460435,3193722,531510.6,3669467.71,3252117,508287.6,59736,3955927.7226870819,3490891,556663,0,3799146.5653200001,3492437,524142,2814,41557,3951256.51,3548014,526956,4131578.0200000009,3667812,546236,4068140.6800000006,3673844,587658.15474999999,4564402.3699999992,3935161,661547.15474999999,4686148.55,3913634,772515,4517988.9499999983,3760023,799465,4222689.9150018794,3517981,812995,4347489.0200000014,3586679,826405,4426546.9809879502,3651901,839485,4546818.59,3751126,839485]
[174,"Maynard                      ",31.93,10044441,8591307,2211508,10644015.071359999,8569489,2382686,11391224.980435096,8539540,2851685,11937003.731199998,8673841,2919995,343168,12185553.479722442,8524586,3197900,463067,12064502.865547679,8480324,3515408,18872,160487,12168260.781569999,8664177,3534280,12727909.260160001,8836949,3990864.5528999842,12848218.426860001,9277415,4024014.5528999842,13617361.215549998,9450152,4180312.5528999842,13850824.283779997,9411919,4438905,14059518.789270002,9349998,4733058,14745073.193424072,9744969,5000104,15215994.512989998,9813974,5402021,15291603.711841691,10005157,5442941,14950228.72524,10176959,5442941]
[175,"Medfield                     ",17.5,21083357,16366654,4716703,22222544.690400001,17108794,5113751,23437455.400163922,17719122,5718333,24405492.276769999,18347283,5421102,637107,24887881.817815583,19908771,5937045,0,24403976.669405282,20304518,5590203,30011,389731,24263807.570240002,20679989,5620214,24324022.98694,21208313,5730534,24155267.42306,21603285,5797959,23366471.620039996,20811592,5862409,23395043.4848,20516702,5925859,23253777.20984,19507465,6063084,23865982.219953917,19763909,6137784,24827316.099710003,20482536,6213144,26032948.58113708,21176396,6288744,26552098.786160003,21905481,6288744]
[176,"Medford                      ",17.5,40248747,32874703,10251400.4,43002389.842659995,34340915,10733287.4,46366010.244539626,35851875,11321921.4,48419758.008079998,37389566,10452869.4,1228458,50459876.273372002,41624962,11447701,0,49632982.275670551,42205952,10778927,57866,741233,51296237.986520007,42820019,10836793,53745484.954950012,44080589,11047553,52242342.704740003,45112884,{"$f":"11173603+33688","v":11207291},52268719.305079997,45014043,11332041,52826959.864799984,45090390,11454441,53575422.423319995,44545699,11719376,54710623.722724512,45337673,11864786,55510529.107759997,45796187,12004766,58384769.501052216,48076837,12143306,59524340.664400004,49107581,12143306]
[177,"Medway                       ",28.52,19580722,13433801,6292863,20747660.14057,13372805,7374855,21605016.00124561,13383579,8221437,22347779.065000005,13117342,8860400,370037,23324796.46238941,12868279,9045828,1410689,22310016.342912722,12851891,9845648,52856,624313,22260938.035379998,13120301,9898504,22211260.904100001,13680191,9997944,22149987.50784,14085853,10058469,21554025.020479999,14114067,10117244,21958660.335269995,14480057,10175519,21801549.408149999,14412519,10301469,22011641.938089047,14975709,10368909,22271105.480700001,15492710,10434849,23515724.418579098,16195477,10501419,23623580.679760002,16885292,10501419]
[178,"Melrose                      ",17.5,24907341,20737665,5187289.5999999996,26011915.689749997,21369417,5380590.5999999996,27602185.703187775,21907581,5694605,30260569.438900001,22718830,6748618,793121,32562555.060026802,24854305,7390904,317346,32186376.980879758,25348596,7257935,38964,504526,33172689.346400008,25849124,7323565,34237368.45262,26657847,7672924,34787745.958120003,27402853,{"$f":"7765699+8422","v":7774121},35264711.847039998,28117748,7867296,36086251.428580001,29102972,7960596,36017412.116479993,29811821,8166076,37544107.266331017,31014280,8280046,39714034.698880002,32332045,8396206,42022188.056045689,33686027,8514496,43519030.447039999,35108451,8514496]
[179,"Mendon                       ",23.1,0,4125,0,11108.373639999998,4683,6425,23065.342200000003,9814,13251,48402.476480000005,20739,27663,0,49954.876631578947,22735,27110,110,36523.099191600006,17440,26131,0,0,24882.900699999998,12459,24882.900699999998,0,0,0,26487.781899999998,14438,12050,26544.465999999997,15491,12050,26877.483239999998,16445,12050,53506.747079999994,35758,17749,94454.384875126823,67071,27383,125950.56911999999,90115,35836,114974.37804282685,83426,35836,102604.6,77719,35836]
[180,"Merrimac                     ",31,0,0,0,0,0,0,0,0,0,0,0,0,0,0,0,0,0,0,0,0,0,0,0,0,0,0,0,0,0,0,{"$f":"0+50532","v":50532},39014.69999999999,23081,39014.69999999999,39599.880000000005,24335,39014.69999999999,52683.680000000008,33389,39014.69999999999,80501.000061537285,51057,39014.69999999999,96860.12,61806,39015,114974.37804282685,73617,41368,146578.00000000003,99096,47504]
[181,"Methuen                      ",53.97,56448568,25976682,30471886,60543616.070000008,27289639,33253977,64593404.869511366,28479615,36113790,66932258.720000006,29640305,33440001,3929987,70754596.227797136,29742140,36622588,4389868,67174266.656939983,30293532,38616511,207311,2370809,66167336.409999996,30557302,38823822,68082307.960000008,31301841,39110902,72821269.290000007,32658088,{"$f":"40240901.1178455+421101","v":40662002.117845498},73674473.939999998,33532493,40839452.117845498,75476679.289999992,34357316,41119363,76096298.539999992,34166160,42147523,76802334.286958128,35661626,42360163,81561883.420000002,37125698,44704725.328574821,86487500.831909508,38919879,47567622,88769466.079999998,40325303,48444163]
[182,"Middleborough                ",47.96,26467283,12717234,15072339.000000002,28711248.540000003,13593641,16271963.000000002,29349175.555037435,13995503,16591501.000000002,30535052.200000003,14305024,15378099,1807289,32049946.575188514,14608790,16841680,599477,31398532.903860003,14805660,16422246,88162,1020099,32141290.059999999,15132961,17008329,32752133.430000003,15459649,17292484,32588658.5,15715800,17376809,32073963.209999997,15945136,17459284,32000342.629999999,16053881,17539709,31055481.599999998,15735683,17709989,29289460.260108851,15577573,17796089,32018438.089999996,16144274,17887019,34113306.289279848,16968154,17978609,35057530.5,18220402,17978609]
[183,"Middlefield                  ",17.5,0,2821,0,0,746,0,0,0,0,35830.47,21223,17650,0,36919.725014354073,21121,17297,0,36107.447039999999,18057,18050,0,0,36750.21,21942,18050,38091.630000000005,24466,18050,51576.08,33824,18050,52019.6,39422,18050,13199.960000000001,11856,13199.960000000001,26341.840000000004,21863,13199.960000000001,53667.33337435819,44587,13199.960000000001,55348.639999999999,44006,13200,43115.391766060078,34267,13200,43973.400000000009,36278,13200]
[184,"Middleton                    ",17.5,5089625,4017323,1072302,5471810.5766400006,4145862,1325949,5832959.1376389088,4345126,1487833,6321846.7792799994,4793498,1430804,168153,6442872.8063946106,5100614,1566978,0,6158787.1565006413,5254874,1475435,7921,102722,6001241.5991799999,5162532,1483356,6436171.7904999992,5445815,1513276,6537210.6908500008,5536081,1531951,6500381.7589600012,5534548,1550526,6509297.9842300005,5617606,1568751,6306838.4600999998,5269521,1606481,6172360.6719304342,5171627,1626461,6287830.7335999999,5187460,1646051,6689182.2107968954,5513538,1666151,7013290.1260299999,5785964,1666151]
[185,"Milford                      ",55.06,30216135,22301521,9514224.4000000004,33490000.671320003,22721351,10882700,34771548.012968563,22716028,12145146,36857352.51055,22611874,12747364,1498115,38573246.502751864,22694316,13960569,1918362,37839983.058274925,22556065,14990659,80476,910271,39488612.219000004,22785673,16702939,41626385.357300006,23315453,18734609.200679597,42774603.567850001,23819112,19457577.302150823,43366941.909150004,23509175,20022624.302150823,44418717.093200006,23574280,20844437,45013216.029600002,22766643,22246573,46388900.526972406,23243232,23145669,48944312.482440002,24011188,24933124,52148898.387319937,24846959,27301939,56604613.875760004,25435714,31168900]
[186,"Millbury                     ",40.04,14287540,8778478,5889114,15323374.32,9000628,6392219,15891803.931504436,9533703,6643067,16607443.680000002,9835784,6225068,731592,17069156.465240195,10132004,6817527,119625,16354315.981439997,10084315,6531884,35066,416852,16266575.289999999,10291233,6566950,16716297.900000002,10391532,6638870,16935435.850000001,10537672,6745941.8450512495,17048501.060000002,10443623,6879057.8450512495,17130949.16,10531645,6922982.8450512495,17429845.489999998,10473626,7019397.8450512495,17780962.153000448,10630390,7150572,18494289.77,11140779,7371495,19134294.708830908,11458671,7675624,19675592.059999999,11797270,7878322]
[187,"Millis                       ",26.09,9097512,7264775,1884585.6,9483891.5441799983,7426472,2102687.6,10117122.766417645,7330284,2786839,11000973.682880001,7435813,3190233,374928,11653273.708027104,7440876,3493858,718540,11328953.966638198,7432660,3966310,21293,257445,11812388.784249999,7564328,4248061,12313171.274950001,7862256,4534410.8393613929,12451955.106319999,8164569,4592771.5320735266,12356473.845559999,8219727,4625471.5320735266,12205625.68949,8273796,4657396.5320735266,11856222.087119998,8128057,4725651.5320735266,11737004.51467457,8397650,4761621.5320735266,11946580.289849997,8451032,4796932,12179710.209867777,8612588,4831312,11739340.2481,8676571,4831312]
[188,"Millville                    ",53.97,0,3591,0,10849.66,3214,7636,22710.54,6563,16148,59717.45,16523,43194,0,49226.300019138762,15127,42330,0,60179.078399999999,19123,41056,0,0,85750.49,27251,58499,50788.840000000004,16406,50788.840000000004,77364.119999999981,26377,50987,26009.8,9583,26009.8,79199.760000000009,30473,48727,118538.28,48101,70899,93917.833405126818,39748,70899,124534.43999999997,52967,71567,114974.37804282685,48557,71567,73289.000000000015,33038,71567]
[189,"Milton                       ",17.5,25151267,24801774,3395206.4,27293508.643200006,25682096,3770098.4,29370007.727681536,26209746,4180994.4,31229186.953800008,26442315,4283464,503408,33226179.825447932,27411598,4691135,1123447,33177677.717974804,27962065,5474895,29392,405395,33445350.979459997,28316699,5504287,34576600.406800002,28905665,5765927.5177974999,35318011.521599993,29777694,5869608.6424181247,35082060.980719998,29715046,5964021.6424181247,36501504.885839999,30504862,6060521.6424181247,37238061.294160001,30828228,6409833,39699383.469837926,32142381,7557002,41890853.241980009,33540779,8350074,44445617.572931923,35446365,9033561,46912230.011340007,37346878,9567275]
[190,"Monroe                       ",42.45,156484,91583,84030,67149.83,77281,67149.83,56859.984915476627,50042,56859.984915476627,117805.94,70637,89563.984915476627,0,128295.88296267943,75685,87773,0,87282.108779999995,71027,84262,0,0,79783.97,68985,79783.97,75976.200000000012,45544,75976.200000000012,84306.74,69217,75976.200000000012,49377.140000000007,41572,49377.140000000007,57396.78,39279,49377.140000000007,64197.68,43424,49377.140000000007,70057.67309236154,39434,49377.140000000007,85324.37,62999,49377.140000000007,101469.77918132796,74699,49377,149215.03999999998,79783,69432]
[191,"Monson                       ",44.42,11167185,4551198,6615987,11949570.529999999,4838959,7111941,12159308.518842915,4984969,7241370,12797798,5089158,6897967,810673,12822835.034947371,5153721,7554467,114647,12214501.473179998,5102395,7221084,38766,444464,12125247.350000001,5200769,7259850,12141055.580000002,5290215,7312050,11640741.35,5397705,7342725,11227559.509999998,5516259,7372025,10642912.68,5415578,7399425,10115062.609999999,5426446,7455965,9765311.1307165027,5261486,7484975,9770916.2999999989,5525534,7512995,10353119.728939803,5746939,7541075,10603017.180000002,5893568,7541075]
[192,"Montague                     ",56.26,0,4422,0,0,1165,0,0,0,0,11943.49,5779,6507,0,12306.57500478469,5964,6377,0,0,0,0,0,0,0,0,0,0,0,0,0,0,0,0,0,0,0,0,0,0,0,0,0,0,0,0,0,0,0,0,0,0,0,0]
[193,"Monterey                     ",17.5,0,0,0,0,0,0,0,0,0,0,0,0,0,0,0,0,0,0,0,0,0,0,0,0,0,0,0,0,0,0,0,0,0,0,0,0,0,0,0,0,0,0,0,0,0,0,0,0,0,0,0,0]
[194,"Montgomery                   ",17.5,39186,23670,15516,32548.98,24028,15666,45421.08,32646,19296,35830.47,26083,19446,0,61532.87502392345,39614,19057,2862,36107.447039999999,25001,21042,0,0,36750.21,25778,21042,25394.420000000002,18584,21042,25788.04,20780,21042,26009.8,21585,21042,39599.880000000005,35467,21042,65854.600000000006,55442,21042,80501.000061537285,67534,21042,83022.959999999992,68494,21042,114974.37804282685,94854,21042,87946.800000000017,68444,21042]
[195,"Mount Washington             ",17.5,107132,88820,19858,144190.37,111238,32952,126517.21994365109,115279,33752,132726.99,118261,34839,0,129580.38256076556,116497,34142,0,126342.90066,112337,32776,0,0,120558.2,108747,32776,128118.72,110906,32776,91796.300000000017,91796,32776,92960.28,83664,32776,89843.44,79980,32776,57421.64,51679,32776,32643.359126604621,29379,32643.359126604621,25705.73,21207,25706,7755.8152895000003,6399,7771,17625.62,14541,7771]
[196,"Nahant                       ",17.5,2818535,2890705,384990,2885508.92,2876891,408985,2958071.3727178685,2848361,441588,3103459.42,2795562,425127,49962,3140215.3490373208,2769683,465587,0,3009436.1228999998,2673399,438388,2353,34021,2959458.31,2711123,440741,2836358.0599999996,2696296,454021,2809900.4000000004,2700890,{"$f":"462021+8422","v":470443},2670798.36,2403719,477893,2552657.5399999991,2291916,484943,2541982.4700000002,2138805,499903,2576635.3961993451,2132494,508003,2540955.2600000002,2096288,515803,2602347.1905727275,2146936,523513,2739284.95,2259910,523513]
[197,"Nantucket                    ",17.5,8624608,13225325,835167.6,9230081.2999999989,12823739,991186.6,10186787.557364723,12276662,1228636.6000000001,10648679.940000001,11576039,1286905.6000000001,151242,10683423.649684211,11534629,1409385,0,10295374.04874,10871032,1327049,7124,105962,11144212.01,10901757,1334173,11866373.959999999,11286314,1387053,12800411.420000002,11568827,1421503,13869821.479999997,11742876,2126945,15206451.73,12225508,2980944,15743715.589999998,12702303,3067074,16351990.158213655,13342499,3114564,17684068.190000005,14133709,3550359,19008236.734527193,15681795,3600249,19472349.760000002,16064689,3600249]
[198,"Natick                       ",17.5,33697813,33961720,4176645.6,36447202.92904,34581099,4657788.5999999996,37564403.525144182,34454333,5232583.5999999996,40487600.791560009,35263961,5229410.5999999996,614579,42629277.234462015,35169154,5727110,1733013,41207446.519019037,35490451,7024303,37710,518585,43072103.861760005,36948274,7062013,45906950.422800004,38397808,7640285.5809975006,47764102.86208,39466673,8312752.0002159998,49956678.079499997,41275438,8681240,51546022.215100005,42809644,8816665,52558195.004939988,43516697,9117845,53048542.559902228,43988233,9281825,55788455.043029986,46025476,9762979,57774437.098210081,47663911,10120767,58312471.325909987,48107789,10204682]
[199,"Needham                      ",17.5,34180438,33290098,3838947.6,37003280.957180008,33919990,4366272.5999999996,39386972.010866001,34874779,5124206.5999999996,42028556.259200007,35909710,5475362,643484,43829318.414363444,36829428,5996469,1003421,44582496.208305366,37987380,6590957,35383,500900,46025845.81216,39034126,6991720,48336042.998220004,40702053,7633990,49744211.758409992,42426414,7901801.7644304372,50670510.318260007,43099948,8239739.7644304372,51969545.140780009,44250723,8373789.7644304372,52228570.584080003,43661684,8671394.7644304372,54000176.557778552,44833817,9166360,56435153.947120003,46559002,9876152,59693731.68588265,49247329,10451715,63004475.701059997,51978693,11025783]
[200,"New Ashford                  ",17.5,314618,165062,149556,313210.37,163541,154825,331313.9947464299,168568,163915,321985.11,171991,166015,0,311594.91233684216,178509,162695,0,360381.76277999999,180785,179597,0,0,334159.74,188252,179597,346722.85000000003,196667,179597,273043.12,204082,179597,266775.95,209694,179597,217953.86999999997,196158,179597,232405.55000000002,193546,179597,288557.29529165302,204578,179597,269904.96999999997,214173,179597,289597.24013319105,220898,179597,278897.32,226155,179597]
[201,"New Bedford                  ",79.459999999999994,119985462,15908482,104076980,120904310.03999999,17009241,104762165,124529300.86950365,17999927,107414208,129350707.3,18772687,99286975,11668556,131101527.27395219,18393495,108736420,3971612,126977747.19852,18868260,106123637,569719,6333076,131413254.92999999,19608717,111804538,134200121.78,20555694,{"$f":"113644428+2452653","v":116097081},141486159.03000003,21429480,120056679,146174509.68000001,22672562,123501948,149495329.88,24366967,125128363,157744521.90000004,25358897,132385625,165003222.23219585,27078190,137925032,173832434.18000001,28522973,145309461,189742059.78296334,29911096,159830964,197388756.04999998,31307615,166091904]
[202,"New Braintree                ",39.33,0,0,0,0,0,0,0,0,0,0,0,0,0,0,0,0,0,0,0,0,0,0,0,0,0,0,0,0,0,0,0,13004.9,7410,5595,13199.960000000001,7496,5704,0,0,0,0,0,0,27674.32,14896,12778,28743.594510706713,16002,12778,43973.400000000009,26677,17296]
[203,"Newbury                      ",17.5,0,0,0,0,0,0,0,0,0,0,0,0,0,0,0,0,0,0,0,0,0,0,0,0,0,0,0,0,0,0,{"$f":"0+16844","v":16844},39848.778960000003,35337,16844,26986.020340000003,23796,16844,53983.259600000005,45708,16844,82603.405821537279,69230,16844,70871.668000000005,58469,16844,88469.616812120148,72987,16844,45293.483039999999,37367,16844]
[204,"Newburyport                  ",17.5,16302852,18514828,2908020,17369387.83083,18382676,3094664,18138185.240466557,18210192,3229204,19046240.388799995,17810116,3031805,356309,19278084.056310378,17751548,3320352,0,18957046.974179041,17434050,3126377,16784,232641,19604538.718400002,17669920,3143161,20981094.095319998,18161476,3236321,22075535.224889997,18717331,{"$f":"3484457.66608894+42110","v":3526567.6660889401},22313844.746979997,18921662,3658991.6660889401,22958152.764539998,19326232,3720116.6660889401,22075387.820000004,18475881,3851291.6660889401,22572192.428649735,18688498,3923141.6660889401,23394062.990000002,19300102,4093961,23879060.905683298,19700226,4182944,24204978.57,19969107,4235872]
[205,"New Marlborough              ",17.5,0,0,0,0,0,0,0,0,0,0,0,0,0,0,0,0,0,0,0,0,0,0,0,0,0,0,0,0,0,0,0,0,0,0,0,0,0,13170.920000000002,10884,2287,0,0,0,0,0,0,0,0,0,0,0,0]
[206,"New Salem                    ",35.01,0,0,0,0,0,0,0,0,0,0,0,0,0,0,0,0,0,0,0,0,0,0,0,0,0,0,0,0,0,0,0,0,0,0,0,0,0,0,0,0,13416.833343589547,7366,6051,13837.16,7670,6167,0,0,0,0,0,0]
[207,"Newton                       ",17.5,84474234,95571853,9687799.5999999996,91783004.913320005,95493364,10966834.6,96710790.081070766,94016028,12754100.6,102430485.62952003,93680526,12939868.6,1520739,106034164.82356572,94358670,14171395,0,105360168.87611745,93963930,13343503,71634,1051383,109411944.70578998,95907724,13504221,114655007.73854002,98481856,16173152,119052135.41824004,101648356,17403779,123275321.48661001,103657391,19617930,126316298.67331998,106090242,20226057,126430397.79993999,105306467,21180365,131452274.44548996,108662422,22789852,137300637.26189998,113273026,24027611,141578979.06415501,116802658,24814496,143592665.22735,118463949,25128716]
[208,"Norfolk                      ",17.5,7375598,4537885,3290521,7514189.6858999999,4696531,3342421,7568629.1283759158,4835814,3392371,7931793.3029600009,5010638,3120270,366705,8090406.3416947154,5856554,3417236,0,7969864.5064924797,6096820,3217602,17273,206986,7607426.2368400004,5982259,3234875,7567557.911940001,6205265,3270355,7354058.3719600011,6196881,3291530,7315213.0608799998,6240752,3312405,7167206.0455,6157870,3332480,7797859.3176300004,6475611,3380055,8254868.1418577991,6844844,3406815,8641112.9091999996,7128918,3433905,9114958.3381727356,7519840,3461385,9555961.1148400009,7883668,3461385]
[209,"North Adams                  ",71.69,15707349,2559119,13830276,15487886.440000003,2982732,13921926,16104425.472575067,3199929,14379275,16069533.560000001,3273841,12943553,1521172,15683925.830859331,4425733,14175431,0,15476062.162319999,4393858,13347304,71654,795823,15392110.870000001,4489714,13418958,15076472.880000003,4662123,13480318,15891428.520000001,4776899,13517943,16417451.109999998,4941966,13556793,16664714.390000004,5074150,13595418,16484834.819999997,5063315,13676653,17145309.629568465,5100302,13721833,17356231.859999999,5097649,13766383,17859474.703748006,5053318,13809703,18178355.150000002,5057245,13809703]
[210,"Northampton                  ",17.5,22339621,16647759,6574009.5999999996,23515503.420000002,17537821,6925715.5999999996,23897225.215249706,17925565,7068615.5999999996,25081306.799999997,18789705,6600629.5999999996,775729,25514471.712826792,19225734,7228831,0,24684605.485979997,19535341,6806523,36541,454267,25014294.639999997,20035749,6843064,26386688.750000007,20803896,6954104,26834026.780000009,21624168,7023429,27395100.530000001,22476877,7093554,27323757.340000004,22846792,7162729,27410585.139999997,22747409,7313539,27919380.14575414,23143930,7395919,28576804.530000001,23575863,7477309,30030364.251233194,24547028,7558369,31063338.950000003,25627255,7558369]
[211,"North Andover                ",17.5,30541004,28946886,4129740,33510013.210000001,29846221,4649317,34908316.443979926,30883606,5087208,37117714.300000004,31904083,4968107,583870,38689087.713684224,32219076,5440937,1029075,37806576.337559998,32564460,6092035,32705,458122,38936234,33092191,6124740,40712824.369999997,34010095,6808232.8161875,42340329.710000001,35385415,{"$f":"7068575.6748125+25266","v":7093841.6748125004},43286349.479999997,36224040,7262285.6748125004,45462873.919999987,37541377,7921497,44605186.620000005,37087784,8181977,46314260.801910989,38259940,8326307,48675062.219999999,39658845,9016217,50326384.478882119,41262379,9160097,50577443.990000002,41726391,9160097]
[212,"North Attleborough           ",37.28,33128817,14691852,18436965,34913727.249999993,15594284,19319443,37024105.29144422,16763755,20260350,38863802.869999997,17813103,18836919,2213781,39803852.803245947,20703716,20629686,0,39026226.24995999,21382362,19424502,104279,1217430,39843826.230000004,21810997,19528781,41161023.43,22566227,19712661,41797469,23207648,19827086,42114635.469999991,24223806,19941736,42858323.110000007,25023400,20055686,41721975.079999998,25316072,20297411,42205783.552439779,25945113,20427791,43299173.010000005,26709708,20556671,44126489.423501156,26972001,20682041,45073173.739999995,28270188,20682041]
[213,"Northborough                 ",17.5,12830969,10921083,2584464.4,13031020.219999999,10898179,2763949.4,13379613.142081046,10658966,3082735.4,13939628.030000001,10678879,2995439.4,352035,14512145.583586603,11014309,3280525,217312,14386023.880859999,11224364,3293494,17681,232062,14878106.429999998,11738874,3311175,15714470.859999999,12259650,3621985.0384160001,15886379.650000002,12722162,3668085.0384160001,15486011.710000001,13010542,3712560.0384160001,15526446.370000001,13153691,3756435.0384160001,15196910.26,12701763,3849770.0384160001,15015400.577264598,12501814,3899030.0384160001,15211638.35,12549602,3947270.0384160001,15348450.348561112,12662472,3993500,15653167.560000001,12913864,3993500]
[214,"Northbridge                  ",45.82,19224254,6253429,12970825,19859815.41,6987828,13322608,21326300.527729061,7490514,14114803,21595688.16,7937843,12757564,1499314,22343513.91142584,8072415,13971740,299359,22038684.843239997,8329249,13446387,72186,815376,22423099.34,8388993,14034106,23980196.999999996,8893916,15086281,24363998.650000002,9349395,15150056,24874347.920000002,9900452,15214206,24091597.779999997,10435707,15275081,23427188.930000003,10848805,15403891,23615219.37740108,11369969,15473041,23583382.150000002,11810469,15539941,23912162.03207574,12120372,15603931,23651358.309999999,12499433,15603931]
[215,"North Brookfield             ",57.08,6615681,2219735,4285292.8970251717,6571910.5099999998,2316586,4326992.8970251717,6609236.9636889221,2348384,4367042.8970251717,6747317.700000002,2443115,3983453.8970251717,468150,6520066.3495043078,2624892,4362572,0,6139849.1636400009,2611475,4107711,22052,250034,6001484.8899999997,2543410,4129763,6089693.8600000003,2658631,4155363,6187292.3999999994,2707976,4171238,6138607.5700000012,2853212,4187213,6330664.1299999999,2902390,4203088,6192391.8499999996,2909397,4236418,6199650.4699848695,2812304,4254298,6455723.8399999999,2876546,4272568,6861155.1426662346,2904011,4290838,6921441.0200000014,2970928,4290838]
[216,"Northfield                   ",27.02,0,0,0,0,0,0,0,0,0,0,0,0,0,0,0,0,0,0,0,0,0,0,0,0,0,0,0,0,0,0,0,0,0,0,26399.920000000002,17135,9265,13170.920000000002,9108,9265,0,0,0,0,0,0,0,0,0,14657.8,10697,3986]
[217,"North Reading                ",17.5,18601689,14816885,3784804,20183617.97724,15266492,4917126,21182764.789605197,15869112,5313653,22674352.994799998,16503487,5521911,648955,23612463.797106899,16789073,6047449,775942,22639942.1421276,17274696,6424769,34491,430556,22670246.940660004,17894010,6459260,23098274.900569998,18576477,6562100,23398817.806239996,19321117,{"$f":"6625625+50532","v":6676157},23706840.709970001,19832830,6739782,23928340.855640002,20127141,6802307,23635143.14844,19692373,6937937,23960205.841541711,19895201,7010717,24928075.440800004,20565663,7083527,25154643.367806662,20752580,7153937,25345400.252699994,20909956,7153937]
[218,"Norton                       ",30.54,22990850,11013370,11977480,23419989.289999999,11653397,12175056,24274093.506333459,12205403,12560940,25467467.109999999,12826588,11717531,1377086,25652702.988677517,13933589,12832725,0,24934930.297499999,14175872,12083038,64867,758645,25121296.479999997,14682739,12147905,25245341.509999998,15231907,12260025,25252431.439999998,15724845,12328675,24839826.120000001,15755447,12395800,24716889.330000006,15884891,12461075,24673640,15870288,12603140,24605799.037226401,16138030,12678650,25627290.710000001,16534896,12754400,25977850.920649342,17399530,12827390,26443914.049999997,18367335,12827390]
[219,"Norwell                      ",17.5,14440386,14597702,1917411.6,16098434.99767,14916801,2207570.6,17382511.444969099,15372590,2457881.6000000001,18475933.129799999,15697102,2486597,292234,19354658.580467265,16176665,2723254,454740,19154668.326163501,16412838,2992336,16064,226269,19420562.385559998,16745375,3008400,20138619.813699998,17114763,3148957.366849375,20549300.995200001,17494372,3260749.9436770314,20295768.49016,17370172,3362602.9436770314,20603272.396599997,17503826,3417652.9436770314,20258808.089429993,16921990,3535957.9436770314,20701123.007093545,17167966,3600307.9436770314,21451763.513980005,17697705,3754059,22329816.442800608,18350859,4011711,22887277.58972,18882004,4011711]
[220,"Norwood                      ",17.5,28041822,27289969,3544044,29886710.074549999,27700512,3933871,30207570.065640491,28071619,4534446,31869888.767040003,28472241,4638435,545125,32601763.614237398,28057436,5079889,0,31939204.05633672,28648256,4783122,25678,357914,32665738.414279997,29934115,4808800,34403459.751600005,30967635,5111751.3641325003,35162876.923280001,32031042,5372189.3884928748,35458013.178439997,31475235,5663726.3884928748,36030240.360470004,31220839,5751026.3884928748,36087087.065760002,30230754,5941876.3884928748,36598980.152771384,30391526,6207454,38062700.293799996,31401727,6660973,40452845.134236395,32400134,8052711,42697305.215410002,33534173,9166992]
[221,"Oak Bluffs                   ",17.5,3344833,2798198,546635,3068927.37,2724857,567385,3482507.5606329595,2861389,639762,3500874.88,2916146,591900,69562,3641145.0682794261,3042048,648233,0,3315880.6575599997,2896108,610364,3277,44592,3397147.27,2962918,613641,3454522.33,3045879,629001,3719346.8900000006,3186194,639201,3839529.9800000004,3213640,650652,4306524.25,3420717,885807,4345993.05,3494124,910282,4614741.4748551529,3814150,924052,4566695.8900000006,3767524,936832,4939842.5494836336,3951377,988466,5068644.3499999996,3984819,1083825]
[222,"Oakham                       ",45.39,88168,23979,64189,97646.94,23754,73893,102197.43,24731,77466,107491.41,27810,80415,0,183603.36713492827,66144,78807,38652,0,0,0,0,0,0,0,0,0,0,0,0,0,0,0,0,0,13199.960000000001,7320,5880,13170.920000000002,7638,5880,13416.833343589547,8143,5880,13837.16,7937,5900,14371.797255353356,8519,5900,14657.8,8004,6654]
[223,"Orange                       ",71.37,5726579,1106334,4911542,5794416.4100000001,1365123,4961898,5977476.5872389013,1437195,5097546,6544119.3700000001,1531082,4936583,580165,6699540.3565933015,1785567,5406413,0,6697536.4997399999,1819535,5090570,27329,306189,6427741.0799999991,1820190,5117899,6143522.4500000002,1791132,5142779,6178576.1000000006,1796299,5158204,6225638.2200000016,1814005,5173729,6497667.1399999978,1883340,5189379,6410831.3199999994,1858029,5222159,6801556.0005172687,1896835,5240609,6913169.459999999,1888769,5259029,7421674.387598698,1989628,5432046,7238630.1499999985,2020501,5432046]
[224,"Orleans                      ",17.5,1619773,2314304,225962.4,1599992.33,1928689,236862.4,1527004.24,1747368,246812.4,1489750.36,1601503,229223.4,26939,1586853.2817454548,1643573,251039,0,1471893.3349799998,1497065,236373,1269,17747,1548813.24,1556406,237642,1684181.3199999998,1657933,245322,1746797.08,1713633,250272,1909216.98,1715171,279616,2072439.67,1813057,285191,2091738.9399999997,1737899,353840,2186402.5084648258,1814388,372015,2345513.3400000003,1934693,410820,2457051.7958840481,2027068,429984,2333514.6599999997,1925150,429984]
[225,"Otis                         ",17.5,0,4865,0,0,1222,0,0,0,0,0,0,0,0,0,0,0,0,0,0,0,0,0,0,0,0,0,0,0,0,0,0,0,0,0,0,0,0,0,0,0,0,0,0,0,0,0,0,0,0,0,0,0]
[226,"Oxford                       ",48.41,15678123,7200883,8477240,16425478.989999998,7646890,8877524,17109033.364616748,8150080,9240150,17439260.300000004,8260539,8426242,990282,17832934.835016266,8214327,9228194,390414,17925538.693260003,8351513,9390325,50411,228497,18299262.16,8535109,9764153,19039445.560000002,8878897,10160549,18857808.949999999,9147593,10209599,18717632.59,9144757,10258149,19226330.559999999,9307209,10306499,18814492.639999997,9045951,10408194,18658337.210024625,8970216,10461744,19085189.02,9428164,10514754,19698237.275810093,9622553,10566894,19171590.48,9891135,10566894]
[227,"Palmer                       ",59.83,15382941,5150016,10232925,16293473.060000004,5491599,10828140,16630337.504335003,5686758,11045384,16912374.970000003,5850602,10045276,1180556,17367767.6769378,6255521,11001315,110932,16420213.2009,6331779,10463070,56170,638157,15673257.680000003,6390223,10519240,16134047.02,6470869,10585480,16198575.519999998,6747578,10626130,15478309.109999996,6819446,10664455,15466730.400000002,6815260,10701980,15564758.360000001,6592394,10784150,15937384.115527295,6595198,10829000,16355731.319999998,6739159,10873130,16594239.756346451,6825833,10915640,17071234.920000002,6857027,10915640]
[228,"Paxton                       ",32.79,196006,125093,0,0,0,0,0,0,0,0,0,0,0,0,0,0,0,0,0,0,0,0,0,0,0,0,0,0,0,0,0,0,0,0,0,0,0,0,0,0,0,0,0,13837.16,8832,5026,14371.797255353356,9461,5026,14657.8,9737,5026]
[229,"Peabody                      ",30.12,52895313,34167033,18728280,54951902.25,36075831,19286644,56602396.857231177,38043319,19741190,58044809.350000001,39953502,18002388,2115704,59750176.473661244,40112796,19715730,0,57582047.419799998,41285234,18563939,99659,1206582,59014857.119999997,42743764,18663598,60749406.699999996,44345547,18906718,{"$f":"62298319.99-2406437","v":59891882.990000002},{"$f":"45533417-1758848","v":43774569},{"$f":"19059168-736211","v":18322957},61102630.279999994,44118255,{"$f":"18472707+125260","v":18597967},62367587.499999993,45733796,18747217,62459203.560000002,44792470,19070452,63749465.754188508,45449042,19247212,65184413.379999995,46771496,19423672,69609817.438056916,48453163,21156654,72290192.479999989,50135481,22171771]
[230,"Pelham                       ",20.13,709807,760482,118052.8,749939.66,643809,164606.79999999999,733964.10943651071,561236,210786.8,674439.18,490547,208647.8,24521,670880.08917129191,496664,228505,0,663890.04804000002,481763,215156,1155,14219,580669.32999999996,480192,216311,560019.19999999995,482745,218831,655277.24,566477,220506,689081.27,620173,222256,696611.65,626950,224081,724220.01,609074,228151,830020.58176676114,620333,230581,859407.46,668413,233071,905329.72853302001,687532,235531,928975.21,690492,238483]
[231,"Pembroke                     ",33.17,22515538,14046314,8469224,24815140.279400006,14742688,10072452,26921544.8071214,15414393,11507152,28631944.000619993,16182768,11139968,1309208,29986707.348423712,16470418,12200192,1316097,29225596.232482802,16691260,12726668,68322,805499,29344771.673250001,17053741,12794990,30140603.210499994,17494279,12925750,30742484.871859998,17997108,13013732.304039083,30579313.617779996,18171451,13095032.304039083,30953452.00279,18734967,13174507.304039083,30278155.873739995,18592537,13344512.304039083,30076801.769575488,18988785,13434662.304039083,30098844.630960006,19889115,13521752,31408204.402095743,20722469,13608752,31797805.646810003,21249366,13608752]
[232,"Pepperell                    ",40.14,9796,2034,7762,10849.66,4054,8308,11355.27,4893,8571,11943.49,5146,8877,0,0,0,8699,0,0,0,0,0,0,0,0,0,0,0,0,0,0,0,0,0,0,0,0,0,0,0,0,0,0,0,0,0,0,0,0,0,0,0,0]
[233,"Peru                         ",43.51,48982,11961,37021,97646.94,29593,71992,79486.89,29514,72342,107491.41,39254,91528,0,98452.600038277524,35805,89697,0,84250.709759999998,35751,84250.709759999998,0,0,73500.42,33517,73500.42,76183.260000000009,35598,73500.42,103152.16,50799,73500.42,117044.1,56662,73500.42,105599.68000000001,54600,73500.42,170156.80000000002,80315,89842,107334.66674871638,47752,89842,110697.28,49777,89842,114974.37804282685,52709,89842,117262.39999999999,58074,89842]
[234,"Petersham                    ",29.49,794648,460434,334214,887913.94,484109,403805,910107.84943651082,464081,446027,884202.43,440655,403908,47469,727844.57486698567,387334,442349,0,686761.92768000008,379916,416507,2236,25481,656167.6,383839,418743,637666.18999999983,396428,421383,594228.81999999995,438845,422883,566086.55000000005,454106,424308,611232.30999999994,479273,425758,627194.55000000005,512362,429223,716629.18602344103,573272,431323,772220.59,581489,433423,825450.36454343062,571360,435523,932984.68,640821,435523]
[235,"Phillipston                  ",45.77,0,0,0,0,0,0,0,0,0,0,0,0,0,0,0,0,0,0,0,0,0,0,0,0,0,0,0,0,0,0,0,0,0,0,0,0,0,0,0,0,0,0,0,0,0,0,0,0,0,0,0,0]
[236,"Pittsfield                   ",61.2,52725657,24611444,28114213,57082753.469999999,25485280,31597473,59041738.979034342,25796426,33245313,61752172.609999992,25995833,31996051,3760289,63207565.231892832,25852192,35041213,2314160,62148014.552700013,25940936,35512358,190646,1809494,63704268.780000001,26794850,36909419,65754169.920000002,27822547,38017592.827607997,67796003.910000011,28757787,39290437.62740925,67481752.38000001,29005679,39447162.62740925,68905111.570000008,29086218,39818894,68494174.319999993,28442404,40155219,68570957.773763955,28025316,40545642,70785982.700000003,28120602,42665381,75857280.533894911,28171219,47686062,76463876.149999991,28300807,48163069]
[237,"Plainfield                   ",27.51,19593,16836,18987,43398.64,22879,30740,68131.62,37773,41615,95547.92,47108,54235,0,98452.600038277524,55480,53150,0,96286.525439999998,58428,51024,0,0,61250.35,41319,51024,63486.049999999996,42461,51024,51576.08,40855,51024,78029.39999999998,64254,51024,39599.880000000005,32922,39599.880000000005,39512.76,29669,39512.76,40250.500030768642,28875,39512.76,27674.32,19519,27674.32,28743.594510706713,19101,27674,43973.400000000009,31321,27674]
[238,"Plainville                   ",27.81,5675056,3322319,2374850,6041437.8299999991,3487590,2553848,6193164.1266190642,3616015,2618681,6360137.9900000002,3728363,2405042,282649,6513212.2174468907,3852023,2633937,27252,6313858.9432200007,3881974,2505722,13452,161615,6272346.2599999998,3923605,2519174,6913476.3999999994,4145967,2768880.59601,6826165.1400000006,4169061,2788255.59601,6579213.379999999,4253996,2806755.59601,6450343.1600000001,4374579,2824580.59601,6794336.419999999,4700337,2864950.59601,6634193.2430846673,4712959,2885980.59601,6762343.2399999993,4806288,2906741,7272815.8487452483,5127708,2927801,7517996.1499999994,5427402,2927801]
[239,"Plymouth                     ",23.85,65808603,50709654,16749442.999999998,70785947.548399985,52596289,18464636,72586825.799855381,54446578,19542986,77105661.264829993,55729593,19128070,2247998,79497521.622687668,56638333,20948547,1910642,78742171.183430165,56893637,21523756,115549,1428409,79081949.172639996,57303942,21778007,80478825.04377,59037999,22208459.478195209,83431824.025150001,60777692,23291787.509499453,83619257.170059979,61240645,23670916.509499453,84831859.535599992,62123870,23872516.509499453,84727196.122590005,61058495,24315046.509499453,88349686.529343486,62464730,25884957,89987228.589259982,64955484,26128197,93345303.481633395,68683929,26369547,94027629.56190002,71603127,26369547]
[240,"Plympton                     ",26.86,1607157,1349172,489958,1606594.6,1279333,506035,1709080.5840138937,1275953,543319,1853769.61,1327166,531833,62503,1908834.034465072,1361877,582449,0,2009833.57968,1434960,563844,3027,21828,1974807.62,1416646,566871,2018759.52,1484742,591347.62748400006,2207684.7599999998,1597361,652019.25887999998,2194273.0299999998,1544590,702595.25887999998,2074615.8599999996,1557980,708270.25887999998,2281485.7581900004,1667056,721030.25887999998,2208586.3887203764,1594867,727660.25887999998,2244246.1515200003,1618008,734170.25887999998,2239539.0976047828,1665166,740470,2429975.0922999997,1772432,740470]
[241,"Princeton                    ",17.5,0,0,0,0,0,0,0,0,0,0,0,0,0,12306.57500478469,10005,0,2302,0,0,0,0,0,0,0,0,0,0,0,0,0,0,0,0,0,0,0,0,0,0,0,0,0,0,0,0,0,0,0,0,0,0,0]
[242,"Provincetown                 ",17.5,1291811,4055956,255800.8,1285826.94,1956162,263550.8,1321743.9439575451,1727275,271200.8,1263192.58,1561249,248898.8,29252,1338933.845374163,1591643,272588,0,1375097.9072400001,1521466,256663,1378,18272,1289521.3,1431340,258041,1203806.04,1203806,262841,1231636.8800000001,1215446,265966,1414247.5399999998,1209208,269641,1284862.27,1156376,272866,1411461.41,1172251,280401,1300534.3107840288,1090154,283851,1343546.56,1102452,287481,1386868.4082193591,1144166,290781,1297760.2800000003,1070652,290781]
[243,"Quincy                       ",17.89,73098901,63941052,12561073.199999999,77782533.934249982,67709257,13380709.199999999,83528509.845593929,70748789,14388553.199999999,89488958.460700005,73362291,14430718,1695949,92909519.333574429,72784382,15804134,4321003,92692070.835875496,74238283,18949428,101729,1298455,96661211.859239995,75702194,20959018,102157664.34112,79182392,23565229.189149439,105786949.41116999,81483004,24789394.287227817,108294787.80678003,82452996,26024786.287227817,109837246.19363996,84853939,26257161.287227817,109074296.63971998,85429167,26763766.287227817,112465494.00668323,87353305,27043396.287227817,117829054.19366997,90433969,28364113.480534859,123682608.20704634,95726151,28647763,129336079.22404,101589945,28647763]
[244,"Randolph                     ",43.57,28415668,20365108,10420471,30652225.832729999,20844001,11313976,31690386.102510918,20566218,11852877,32016655.867279999,20344448,10904100,1281488,31481792.989716146,20147871,11941876,0,30820251.731979597,19924468,11244232,60364,716005,31980943.732399996,20085920,11895024,34252525.530859999,20607886,13913057.555152636,35279771.078940004,21206980,14424784.13735972,35955443.988719992,20964754,14990690,36417465.611719996,21159883,15257583,35981002.85723,20358913,15693730,37100685.939180903,20804157,16296529,39313342.30715999,21866831,17446511,41045165.956319869,22557750,18487416,42468258.92028001,23490641,18986721]
[245,"Raynham                      ",38.85,0,0,0,0,0,0,0,0,0,0,0,0,0,0,0,0,0,0,0,0,0,0,0,0,0,12697.210000000001,7860,4837,0,0,0,26009.8,16567,9443,0,0,0,0,0,0,0,0,0,0,0,0,0,0,0,0,0,0]
[246,"Reading                      ",17.5,29463124,23184689,6290156.9999999981,31463026.360140003,24343136,7119890,33194639.301516734,25152672,8041967,35385849.034999996,26121634,8289951,974264,36474849.126737088,26451786,9078931,944132,35612661.075852714,26779324,9437516,50665,641507,36437713.051029995,27264731,9488181,38136802.087369993,28233100,9903702,38817531.163199998,29008253,{"$f":"10011427+8422","v":10019849},38963364.685199998,30125539,10126574,39638139.190400004,31807445,10232699,39861932.613879994,32924851,10465569,40268620.860512272,33365588,10591299,40642299.144709997,33529896,10713609,42311533.287209027,34907015,10834809,42488891.059600003,35053335,10834809]
[247,"Rehoboth                     ",23.17,0,0,0,0,0,0,0,0,0,0,0,0,0,0,0,0,0,0,0,0,0,0,0,0,0,0,0,0,116046.18,81889,34157,91034.3,64373,34157,26399.920000000002,18518,26399.920000000002,0,0,0,0,0,0,0,0,0,0,0,0,0,0,0]
[248,"Revere                       ",62.94,46478555,22374964,24103591,51922904.798499994,24134938,27787967,56922955.069418222,25539984,31382971,60166072.687420011,26575341,30058188,3532544,64653955.409767158,26216203,32918917,5518835,65723577.218013175,27005010,37975657,203870,539040,68075146.155200005,27339812,40735334,74073065.5757,28043890,46214315.401124246,76694917.361529991,28826715,{"$f":"48007444.2055175+33688","v":48041132.205517501},79960501.103390008,29010426,50950075,84281832.122129992,30065688,54216144,82249270.676439986,30306709,56509506,88195564.570087463,31495119,{"$f":"60824236-4085080","v":56739156},96064542.993500009,32918306,65040589.077949196,104529856.46755695,34860627,69669229,107222329.50896001,36927909,70298333]
[249,"Richmond                     ",17.5,1762868,2078922,321695.2,1791554.66,2029927,333845.2,1666525.1984222305,1918538,344495.2,1733844.42,1800907,356276.2,0,1714724.0778717706,1779707,349151,0,1627120.605,1690989,328754,1765,23307,1432341.44,1629712,330519,1455405.7799999998,1455406,336919,1341137.6900000002,1341138,340519,1381559.82,1243404,344169,1238912.1900000002,1115021,347244,1203251.3800000001,1015683,353789,1268580.5002314509,1047475,357479,1277797.2200000002,1054183,361049,1333384.0206293394,1100042,364649,1449827.3,1196108,364649]
[250,"Rochester                    ",35.24,3680270,2350290,1329980,3824253.2,2478288,1395317,4020213.9527178695,2498485,1521729,4281470.25,2647282,1462330,171858,4601636.8752688998,2799668,1601504,200465,4449279.2438400006,2835130,1696698,9109,109987,4206398.72,2715486,1705807,4265135.9700000007,2781320,1725847,4306372.08,2817361,1738272,4252932.9000000004,2742703,1750422,4382165.5599999996,2807707,1762322,4400657.959999999,2745493,1788722,4319981.4040858541,2706641,1802732,4788761.0199999996,2933529,1855232,5204047.0350275449,3146498,2057549,5386708.8799999999,3382851,2057549]
[251,"Rockland                     ",50.44,19513418,11054067,8952545,20522022.761699997,11421237,9430825,21120295.814178336,11629129,9714945,21933698.112469997,11574215,9270036,1089447,22004828.13255582,11463450,10152293,389085,21074812.564186316,11539567,9925552,53285,619191,21774162.33845,11752002,10022160,22355995.259560004,12117742,10325639.588731904,22663493.787000004,12382935,10386793.067113128,23580543.138319999,12524805,11055738,25189073.019840002,12589951,12599122,25814155.980160002,12429362,13635665,25966055.368246898,12806197,13706495,25871093.227260001,13345423,13774895,27535663.693475917,13793841,13843235,29202100.0068,14473503,14728597]
[252,"Rockport                     ",17.5,7402784,7362604,1194220.8,7628241.0882799998,7471074,1244120.8,8076762.8806776693,7497665,1322611.8,8284122.9709999999,7446648,1226740.8,144171,8104260.50920715,7413825,1343494,0,7620062.4644836802,7138013,1265007,6791,93921,7319480.6514099985,7150187,1271798,7190513.3909999989,7094748,1304118,7275247.9357000012,7139271,{"$f":"1324168+33688","v":1357856},7619731.0979199996,6857758,1377981,7726823.8438600004,6690331,1397406,7673923.8114000009,6409651,1439096,7549140.3215470212,6289613,1461146,7350864.6990399994,6064463,1481756,7685699.8726646928,6224394,1502126,7619056.3994999984,6285722,1502126]
[253,"Rowe                         ",17.5,475150,699660,45294.8,409882.39,614824,50581.8,523549.62469008093,580213,70473.8,419120.95,513500,65254.8,7669,441524.18143540673,501807,71465,0,552009.03876000002,498355,67290,361,5289,560185.52,501042,67651,613859.06999999995,514712,99147,620119.16,527677,100747,618393.5,525865,103362,676330.15,545165,131165,642285.43000000005,535088,134795,637861.27157375612,530325,136715,598648,493885,138335,582531.02683389105,480588,139775,643874.47,531196,139775]
[254,"Rowley                       ",17.5,0,0,0,0,0,0,0,0,0,0,0,0,0,0,0,0,0,0,0,0,0,0,0,0,0,0,0,0,0,0,{"$f":"0+25266","v":25266},66468.098199999993,52584,25266,27029.435180000004,21899,25266,27164.907080000004,22563,25266,69109.922267947739,57514,25266,42624.152879999994,35165,25266,103785.9218574735,85623,25266,105768.04224000001,87259,25266]
[255,"Royalston                    ",50.38,0,0,0,0,0,0,0,0,0,0,0,0,0,0,0,0,0,0,0,0,0,0,0,0,0,0,0,0,0,0,0,0,0,0,0,0,0,0,0,0,0,0,0,0,0,0,0,0,0,0,0,0]
[256,"Russell                      ",60.34,244989,94511,150478,183566.83,77676,151228,226187.09,88946,178215,225960.41,85118,179065,0,232829.66715406702,86171,175484,0,191599.70616,75063,168465,0,0,207260.47,79133,168465,189431.25,72090,168465,205261.50999999998,81982,168465,220031.55,83474,168465,210131.86,84199,168465,236011.40000000002,100692,168465,240301.01604183207,93424,168465,289210.46999999997,105564,183646,314603.33724281075,115978,198625,335521.82,128757,206765]
[257,"Rutland                      ",54.74,9796,4598,8945.2000000000007,10849.66,4565,9555.2000000000007,11355.27,4214,9848.2000000000007,11943.49,4379,10197.200000000001,0,0,0,9993,0,0,0,0,0,0,0,0,0,0,0,0,0,0,0,0,0,0,13199.960000000001,5917,7283,0,0,0,0,0,0,0,0,0,0,0,0,0,0,0]
[258,"Salem                        ",37.630000000000003,39985833,29992288,10536329.999999998,42136154.640000001,30487993,11648162,42852484.075050555,30556126,12876914,44915008.079999983,30543822,12859851,1511335,47512497.335793309,30403931,14083762,3024804,47422424.260079995,30121364,16969097,91098,240865,49075889.510000005,30553623,18522267,51691291.730000004,31398532,20759584.19116275,51136476.850000001,31823721,{"$f":"20879459.1911628+134752","v":21014211.191162799},52070759.630000003,31881386,21231627.191162799,52542429.829999998,31669846,21348402.191162799,52561026.710000008,31386760,21600632.191162799,52768572.013673805,32317455,21736742.191162799,54862156.089999996,33573950,21872762,59983631.397195973,34176479,25807152,59442159.61999999,35764101,25807152]
[259,"Salisbury                    ",17.5,0,0,0,0,0,0,0,0,0,0,0,0,0,0,0,0,0,0,0,0,0,0,0,0,0,0,0,0,0,0,{"$f":"0+33688","v":33688},52019.6,44990,33688,79199.760000000009,67740,33688,79025.52,66069,33688,40250.500030768642,33612,33688,69185.8,57078,33688,14371.797255353356,11857,14383,29315.599999999999,24185,14383]
[260,"Sandisfield                  ",17.5,0,0,0,0,0,0,0,0,0,0,0,0,0,0,0,0,0,0,0,0,0,0,0,0,0,0,0,0,0,0,0,0,0,0,0,0,0,0,0,0,0,0,0,0,0,0,0,0,0,0,0,0]
[261,"Sandwich                     ",17.5,27631550,23236639,5651356.0000000019,28541824.359999999,23538127,6229598.0000000019,29371842.072332684,23681935,6694018.0000000019,29341477.619999997,23800113,6150491.0000000019,722827,30244193.036922485,24197825,6735852,0,29670856.676279996,24024554,6342344,34049,449184,28621462.630000006,24051894,6376393,29161934.479999997,24620229,6508793,28830810.450000003,24951122,6588268,28304004.249999989,24542435,6665593,27987804.329999994,24211459,6740018,27982398.590000007,23359532,6902818,28141702.856564838,23400169,6989398,27742486.25,22887551,7071628,28195096.030377951,23260955,7151788,28550950.060000002,23554534,7151788]
[262,"Saugus                       ",17.5,22412040,22359654,3538314.4,24160470.339740004,22578923,3844289.4,24646309.885408901,22714754,3997139.4,25756505.726459999,22756006,3750635.4,440788,26465118.450756904,22613204,4107595,0,25120399.373848077,22610471,3867629,20763,290803,25149470.265000004,22560247,3888392,26683232.319300003,22948688,4144389.7674957826,28162538.90636,23659244,{"$f":"4883463.0180176+202129","v":5085592.0180176003},28469688.994549997,23886601,5266627.0180176003,28704386.50144,24111062,5338002.0180176003,27795391.629999999,23261068,5488812.0180176003,27708148.930856943,23048854,5569152.0180176003,28856877.780000001,23763905,5649702.0180176003,31417986.972791355,25343552,6136490,33051187.879999995,26786282,6270812]
[263,"Savoy                        ",41.31,759317,298094,461223,819788.07,322710,499459,805305.56435198744,325832,504459,842480.55,336900,471826,55451,868256.36446315795,341085,516731,10440,771221.57736,360142,496374,2665,30432,690277.05,333540,499039,695640.89999999991,312586,502079,593525.96,291675,503704,600300.83000000007,298627,505329,592852.67000000004,321122,506879,644284.77,314279,510509,634366.34950279677,316323,512309,668959.30000000005,357593,514049,751434.40349266853,362123,515849,635304.58000000007,372887,515849]
[264,"Scituate                     ",17.5,21888018,18307200,3580818,23195983.650910005,19230638,3965346,24538930.345499434,20008979,4529951,26018135.560409993,20809421,4660944,547771,26573232.383127034,21922917,5104541,0,26489575.520701922,22264352,4806334,25802,351455,26874930.164800003,22799362,4832136,27918935.093200006,23462809,4957576,28025063.522399995,24028869,5034826,27783603.550999999,23886438,5110701,28197733.99712,24057987,5185901,27740691.55742,23172735,5346391,28537003.198598668,23614603,5434351,29192076.879900001,24083464,5521321,30755855.729239803,24906358,5863240,32099035.583470002,26068183,6030853]
[265,"Seekonk                      ",28.06,16068884,14714809,3044575.2,16695154.580000002,14553529,3620014.2,17298382.43925048,14521219,4210223.2,17542753.499999996,14157726,4120766.2,484287,18026023.068662196,14305874,4512952,0,17708321.343119998,14225007,4249306,22812,293384,18141473.569999997,14541315,4272118,18781878.59,14551240,4595356.15655425,18801442.079999998,14822067,4787529.9737716876,18854298.620000001,14466350,4931239.9737716876,18460114.679999996,14348947,4979514.9737716876,18466575.149999999,14127909,5086214.9737716876,18642353.387814865,14172922,5143574.9737716876,20162615.929999996,14723649,5454099,21995792.007408068,15294251,6705263,22173871.389999997,15952238,6705263]
[266,"Sharon                       ",18.260000000000002,24896987,18670749,6270630.0000000009,26202037.429339994,19586419,6615618,27015017.202182684,20567259,6785118,28024961.712149993,21309075,6231888,732394,28860669.078239046,22028864,6824996,6809,28790563.702690437,22591942,6432692,34533,448580,29804844.627760001,23242013,6562832,30203331.846320003,24076220,6695952,31456583.212149996,24940038,6780652,31433647.07305,25641123,6865177,32275546.17168,26573303,6950527,32581200.061299995,26421487,7138517,33110463.782192025,27317316,7240547,34930860.248220004,28416519,7344287,37027112.382259734,29719389,7449437,38206192.104400009,30736571,7469972]
[267,"Sheffield                    ",17.5,19593,10223,9370,43398.64,32920,14036,45421.08,40042,14610,35830.47,28711,14760,0,36919.725014354073,30951,14465,0,24071.631359999999,20857,13886,0,0,24500.14,21717,13886,50788.840000000004,46205,13886,64470.1,62545,13886,78029.39999999998,70226,13886,92399.719999999987,80706,13886,105367.36000000002,88541,16826,93917.833405126818,79039,16826,96860.12,79910,16950,0,0,0,0,0,0]
[268,"Shelburne                    ",31.39,0,0,0,0,0,0,0,0,0,0,0,0,0,0,0,0,0,12035.81568,7620,4416,0,0,12250.07,7587,4663,12697.210000000001,8809,4663,12894.02,9180,4663,13004.9,10008,4663,0,0,0,0,0,0,0,0,0,13837.16,10789,3071,14371.797255353356,10195,4177,14657.8,10057,4601]
[269,"Sherborn                     ",17.5,3380552,3318579,340731.2,3421487.44172,3345012,392337.2,3609943.9431416788,3395988,464158.2,3944872.97248,3531728,482139.2,56663,4018165.4634094238,3568870,528026,0,3616285.1801423398,3274399,497179,2669,39428,3544554.8176799999,3168291,499848,3322207.8539100001,3024786,515408,3446195.4454399999,3128611,525258,3327431.3505500001,2944257,545223,3380505.0839999993,2917753,554673,3478451.7794499998,2909277,575738,3806638.9460125784,3143918,662721,3863587.5212599998,3181825,681763,3922730.1411090656,3236252,693583,4086891.646209999,3371686,715207]
[270,"Shirley                      ",38.36,6819383,2858481,3995219,7141364.7989100004,3138806,4154632,7495917.7602271345,3284354,4330455,7800802.5329999998,3435489,4012957,471617,7655204.9791285908,3754395,4394883,0,12461,6250.1276655997626,6812,37,420,0,0,0,0,0,0,0,0,0,0,0,0,0,0,0,0,0,0,0,0,0,0,0,0,0,0,0,0,0,0]
[271,"Shrewsbury                   ",23.93,39662058,25861451,13800607,43006922.329999998,27107973,15898949,46216469.143160932,28796799,17419670,49163922.700000003,30297112,16882697,1984114,50640024.753362693,31084837,18489475,1065713,49767093.421020001,32455678,18412775,98848,1189765,51780005.259999998,33692240,18511623,53574891.730000004,35083729,18748463,55072809.080000006,36553737,18897238,55423621.549999997,38578814,19045813,57096131.690000013,40658212,19195638,56301993.68999999,42573214,19524868,58194036.86341849,44655044,19706038,60487338.449999981,47137864,19887358,63259403.708104163,49749302,20068648,66373147.319999993,50487975,20068648]
[272,"Shutesbury                   ",41.68,980949,744787,465653.2,1097675.33,693858,532129.19999999995,1087472.3443519874,671283,540635.19999999995,1238144.68,732474,551624.19999999995,64829,1224192.060937799,728091,604124,0,1121281.2738600001,660237,568831,3054,35764,1133132.5,652599,571885,1250486.46,696787,584974.46020800003,1178320.1300000001,657620,588274.46020800003,1268845.75,689268,593590.46020800003,1336733.0899999999,723367,613366,1115064.6000000001,624029,619856,1157848.556575418,680124,623336,1166902.03,669164,626876,1321150.8039989388,730491,630386,1221694.1099999999,712492,630386]
[273,"Somerset                     ",45.52,18801260,18110659,2685723.2,19720957.539999995,17515386,3559416.2,20657264.747334611,16992794,4521167.2,21503415.919999998,16475983,4807347.2,564976,21570952.204983734,16298338,5264877,7737,14275069,10715794.64921918,3499899,19110,75402,14571529.510000002,10467269,4104261,15524516.379999997,10738045,5022377.9989644997,15769354.82,11107578,5109544.062146375,16069095.370000001,11192906,5217678.062146375,16337259.259999998,11103046,5262728.062146375,16558627.16,10170448,6388179,17125371.876508925,9582995,7542377,17732666.670000002,9557082,8175585,18329520.115415696,9423790,8920409,18501842.410000004,9406646,9096902]
[274,"Somerville                   ",17.5,51199725,35731948,19725438.800000001,52325941.29772,38065244,19994838.800000001,53650930.251636975,40215930,20255638.800000001,55603076.77403,42134230,18431168.800000001,2166096,57459406.133968234,47404010,20185320,0,56711003.467927195,48121353,19006095,102033,1205842,58313543.709569983,48819464,19108128,60645451.388249993,50545090,19316888,61833356.366640002,51800992,19448713,62767269.546019986,52703692,19582488,64208758.285060003,54026428,19717388,62011654.562320009,51954315,20010098,64130648.10950844,53229236,20170688,65998570.132249989,54448820,20329028,68863033.368161425,56812003,20486918,72325602.754360005,59668622,20486918]
[275,"Southampton                  ",32.28,3817595,1937134,2294612,4033879.67,2117278,2404074,4219769.7429432645,2252330,2496629,4454454.5199999996,2332152,2339180,274909,4552925.5780440187,2372375,2561807,0,4426092.5655599991,2463679,2412147,12949,149736,4394778.41,2552882,2425096,4300263.7899999991,2555321,2444176,4418126.47,2686385,2456276,4598039.57,2840365,2468676,4683286.6400000006,2974492,2480926,4702769.24,3078158,2507986,4863203.5231375461,3146804,2522746,4914639.3900000006,3298766,2537146,5018160.4177704034,3476888,2551486,4972548.3299999991,3367625,2551486]
[276,"Southborough                 ",17.5,10775916,8618521,2581627,11112363.866560001,8827786,2657427,11560282.354900939,9325599,2735813,12278597.972959999,9676623,2560589,300929,12791303.833687706,10552826,2804288,0,12125426.22289644,10423982,2640461,14175,186952,12100378.3814,10488914,2654636,12191121.0648,10539005,2710636,12056861.715160001,10683506,2744686,11801364.191059999,10384154,2777761,11574099.806239998,10152043,2809611,11260409.134279998,9485040,2877481,11409894.389389778,9486965,2914531,11677611.934810001,9634030,2950921,11760311.474915259,9702257,2986051,12497359.942009997,10310322,2986051]
[277,"Southbridge                  ",73.239999999999995,20428362,5691750,14736612,20103131.259999998,5866161,14851612,21509239.16868699,5955255,15829982,22155409.049999997,6064486,14570274,1712350,22728459.686706219,6844242,15956972,0,22931317.140119996,6910142,15713770,84358,223047,24396090.530000005,7165928,17230163,25154189.23,7503317,17682899.236941002,26268571.68,7736324,18620961.75948,26907889.430000003,7788520,19119369,27590853.959999993,7902804,19688050,27951569.609999992,7518500,20433070,28503932.0841102,7316033,21187899,28731938.279999997,7510318,21257319,30836388.956011005,7846557,22989832,29979243.07,8016911,22989832]
[278,"South Hadley                 ",37.82,16765667,11233847,5531820,17331909.950000003,11613713,5867471,18060956.990095712,11637991,6422966,19336375.739999998,11671079,6859182,806115,19536753.464956939,11564704,7511991,460058,18934829.861939996,11597234,7506322,40297,478280,18784553.009999998,11810114,7546619,19235881.489999998,12212647,7627179,19156845.539999999,12497985,7676404,19070528.080000002,12680992,7724754,19296183.16,12948752,7772779,19049378.099999998,12973564,7876784,19637074.331034068,12896757,7933784,20537051.940000001,13237650,7991294,22011471.953325644,13763185,8248287,22558199.090000004,14027360,8530839]
[279,"Southwick                    ",35.99,0,0,0,0,0,0,0,0,0,0,0,0,0,0,0,0,0,0,0,0,0,0,0,0,0,0,0,0,0,0,0,0,0,0,0,0,0,0,0,0,0,0,0,0,0,0,0,0,0,0,0,0]
[280,"Spencer                      ",50.27,637001,478936,10778.186440677964,54248.3,12811,41437,45421.08,12291,41637,0,0,0,0,0,0,0,0,12035.81568,3941,8095,0,0,12250.07,4119,8131,12697.210000000001,4307,8390,25788.04,8782,17006,52019.6,18303,33717,79199.760000000009,29599,49601,65854.600000000006,27190,49601,53667.33337435819,23403,49601,41511.479999999996,18504,41511.479999999996,43115.391766060078,19467,41511,29315.599999999999,13937,29315.599999999999]
[281,"Springfield                  ",84.71,253464385,28100362,225364023,262628553.05000001,30283760,232799829,286041159.20882511,31670757,254370402,296198428.4600001,33567836,235104590,27630323,305615195.21157515,33218730,257480215,14916250,302574194.31083989,34730182,262704775,1410316,8988999,309609750.70000011,34205756,275403995,320618386.81000006,34766731,285851656,330986295.45999998,35173501,295812794,337653427.27999997,36066908,301586519,345592031.43000001,36405937,309186094,356553651.79000002,36682622,319871030,370375982.61382222,37357582,333018401,383693957.99999988,38246693,345447265,411555995.64407492,40832170,370723826,419043165.70000011,41873391,377169775]
[282,"Sterling                     ",22.19,0,0,0,0,0,0,0,0,0,0,0,0,0,0,0,0,0,0,0,0,0,0,0,0,0,0,0,0,0,0,0,0,0,0,0,0,0,0,0,0,0,0,0,0,0,0,0,0,0,0,0,0]
[283,"Stockbridge                  ",17.5,0,0,0,0,0,0,0,0,0,0,0,0,0,0,0,0,0,0,0,0,0,0,0,0,0,0,0,0,0,0,0,0,0,0,0,0,0,0,0,0,0,0,0,0,0,0,0,0,0,0,0,0]
[284,"Stoneham                     ",17.5,20419437,19045680,2769263.2,21921969.618560001,19522076,3032206.2,22673086.945864055,19670018,3312881.2,22727888.293199997,19736135,3160708.2,371458,23370068.911074977,19854576,3461523,53970,22707298.597098894,19664269,3310118,17770,252255,22408566.778700002,19761522,3327888,22578725.166379999,20034480,3483735.226029125,22242673.456560001,20042778,{"$f":"3585918.38324634+84220","v":3670138.3832463399},22756236.458160002,19732979,3779409.3832463399,23623782.041999996,19986407,3838859.3832463399,23858093.313949995,19851817,4059406,24538424.857372392,20290210,{"$f":"4269807-21592","v":4248215},25266909.403280001,20845200,4421709,26898862.887115043,21654643,5266351,27298622.593199998,22148293,5266351]
[285,"Stoughton                    ",38.53,30205157,21534491,8780857,31850504.109099995,21895939,9954565,33770063.061032131,22305523,11464540,35164976.446949996,22405193,11417910,1341873,35727786.25349389,22804647,12504587,418552,34710176.447902016,22865525,12168170,65324,784845,35682635.053249992,22821888,12860747,37103273.115960002,23411556,14019928.662023555,37422637.886239998,23911700,14304924.148446621,37491590.603239998,23503750,14600824.148446621,38474628.719349995,23660828,14813801,38325837.797450006,22995806,15330032,38830414.515473194,23973760,15439562,41181928.998719998,25335924,15846005,42580952.190584734,26370325,16210627,44058289.500399999,27084504,16973793]
[286,"Stow                         ",17.5,0,0,0,0,0,0,0,0,0,0,0,0,0,0,0,0,0,0,0,0,0,0,0,0,0,0,0,0,0,0,0,0,0,0,13655.815820000002,11465,2191,13669.092180000001,11412,2257,27906.769627179092,23174,4733,28685.840799999998,23666,5020,0,0,0,15240.539360000001,12573,2668]
[287,"Sturbridge                   ",40.71,5388381,4493704,1078308.3999999999,5516983.2500000009,4220516,1296467,5996978.0763373207,4176875,1820103,6345206.4400000004,4283593,1844805,216808,6820126.4317856468,4456964,2020381,342781,6646558.3768799985,4437863,2225107,11945,146635,6992372.2599999998,4640856,2351516,7793154.3099999987,5063140,2770520.3911102498,7764309.5599999996,4966483,2865678.1422669999,8029576.1899999995,4960281,3069295,8483866.0799999982,4983525,3500341,8568351.209999999,4799267,3769084,8170415.9676968697,4697967,3795214,8423098.5899999999,4848123,3821314,8568656.4989129324,4956813,3846634,8866569.3900000006,5185477,3846634]
[288,"Sudbury                      ",17.5,21263672,18207063,3502825,22258494.250949997,18693151,3676919,23679206.276443515,19595273,4083933,24596035.436999999,20228054,3908626,459355,25394888.37452016,20950783,4280621,163484,24480270.235956777,21160359,4184481,22464,312735,24225298.832720004,21111921,4206945,25075914.117840003,21703788,4325145,24959360.853349999,21986344,4397070,24443508.479559995,21216573,4466220,24450575.494369991,21153252,4534395,25153175.96328,20930012,{"$f":"4688560+56978","v":4745538},25474395.707632355,21173624,4829178,25690225.098839991,21194436,4910568,25917962.070728827,21382319,4990518,26639866.135919996,21977890,4990518]
[289,"Sunderland                   ",18.29,1491367,811746,843699,1434832.39,731500,853199,1506338.8093238133,728448,877325,1550511.91,767335,797608,93738,1651251.6745186604,1124871,873519,0,1426674.3802799999,1068529,822488,4415,50791,1427166.29,1106475,826903,1450167.1600000001,1171657,833063,1488182.91,1281235,836963,1659835.8300000003,1346071,841288,1744222.4,1440699,845663,1863761.3099999998,1490797,855618,2030461.9982605327,1547169,861528,2072735.7500000005,1562671,867288,2147362.3185696225,1649338,872838,2034470.88,1662285,872838]
[290,"Sutton                       ",20.28,11351923,6730648,4751948,12029949.919999998,7218489,5011361,12654100.683758389,7579591,5245542,13334009.530000001,8022384,4918279,578013,13738054.398713876,8347934,5386366,3754,13180445.080379996,8462731,5075229,27246,327595,13280919.139999997,8832665,5102475,13287888.290000001,9081755,5163355,13559813.799999999,9456038,5201455,13581958.960000001,9692460,5239230,13719822.630000001,9853703,5276480,13322264.810000002,9795149,5355735,13414412.031556375,9713548,5398395,13539897.419999996,9968231,5440035,13566435.924644973,10402774,5479815,13916186.880000001,10856059,5479815]
[291,"Swampscott                   ",17.5,15093910,15315544,2051980.4,16210766.109999999,15382522,2247430.4,17414723.955687378,15557542,2487474.4,17927585.210000001,15655737,2417779.4,284146,18487892.611490913,15778863,2647887,61143,18190629.378119998,16021305,2550769,13694,198667,18506840.309999999,16211795,2564463,19282648.440000001,16709525,2773458.11925,19665111.27,17029285,{"$f":"2940442.2075+16844","v":2957286.2075},19890269.34,16959906,3140515.2075,20062283.009999998,17079677,3193515.2075,20368467.029999997,16975480,3392987,20655963.815009337,17159833,3496131,21383228.149999999,17641164,3742064,22677171.816726971,18340193,4351751,23409223.779999994,18964138,4447386]
[292,"Swansea                      ",36.229999999999997,14565457,11774730,4075230.8,15460786.719999999,11848674,4383582.8,16127292.304335002,12243842,4579268.8,16666358.550000001,12395050,4237389.8,497993,17381654.481270812,12399806,4640675,341173,17156168.303639997,12593443,4690809,25182,316157,17312134.07,12740418,4715991,18589115.77,13137149,5657431.8930937499,19231862.370000001,13411309,6098205.5495370002,19734625.710000001,13253165,6481461,20558168.07,13514200,7043968,19920849.289999999,12860612,7327857,20221515.14252951,12930499,{"$f":"7716864-327537","v":7389327},21190611.529999997,13387790,8081352.9380667778,22235382.677427534,13936344,8449049,22877752.370000001,14533757,8449049]
[293,"Taunton                      ",64.36,64458276,23828389,40629887,66658595.349999994,25423363,41894411,69472944.332918555,26621725,43477482,72404300.269999996,27417594,40398788,4747808,74169525.406621993,27604965,44243664,2320896,72854522.334359989,28606446,43844262,235375,2681198,75257775.25999999,29692749,45565026,78583025.370000005,30952805,47630220,79522976.520000011,32366269,47822170,83736224.63000001,33362611,50373614,86795145.73999998,33623458,53171688,89152710,33343214,55809496,91224275.812842891,33052858,58171418,94602367.189999998,34133205,60469162,100148666.35428402,35674642,64474024,103523189.69,36893138,66638377]
[294,"Templeton                    ",62.52,0,0,0,0,0,0,0,0,0,0,0,0,0,0,0,0,0,0,0,0,0,0,0,0,0,0,0,0,0,0,0,0,0,0,0,0,0,13170.920000000002,4915,8256,13416.833343589547,5085,8332,13837.16,5212,8632,0,0,0,0,0,0]
[295,"Tewksbury                    ",17.5,33347082,21518968,11930760,35015994.193659998,22768638,12514712,36101824.202872381,23213156,12918858,36695412.811939992,23595558,11758059,1381849,36766196.446410596,23754317,12877110,134769,34573601.27935721,23683428,12251726,65773,796855,34519814.968239993,23924435,12317499,35261727.251350001,24776381,12472939,34626787.82553,25513488,{"$f":"12566614+67376","v":12633990},35271376.15231999,26187077,12727415,34761232.521389998,26940200,12818290,33549032.422599997,26824591,13012055,34900617.062578723,27764062,13119905,34817273.780000009,28182890,13224155,35772861.621506803,29512611,13326215,35851430.130000003,29577430,13326215]
[296,"Tisbury                      ",17.5,2394089,3644342,300736.40000000002,2565498.85,3203874,330733.40000000002,2664557.161478193,3032752,371402.4,2795073.49,2902213,367111.4,43144,2952272.706204785,2990763,402050,0,2875847.00508,2872767,378562,2032,29731,3137805.37,3040803,380594,3467659.8899999997,3144657,395514,3400472.2900000005,3151771,404664,3448541.2399999993,3079391,474255,3757350.99,3164190,593161,3769019.7499999991,3133723,635297,3760490.3019716195,3062266,698224,3990246.73,3288715,709444,3863980.926163726,3187784,719854,4358704.2899999991,3499193,859511]
[297,"Tolland                      ",17.5,0,0,0,0,0,0,0,0,0,0,0,0,0,0,0,0,0,0,0,0,0,0,0,0,0,0,0,0,0,0,0,0,0,0,0,0,0,0,0,0,0,0,0,0,0,0,0,0,0,0,0,0]
[298,"Topsfield                    ",17.5,4607578,3944399,663179,4657195.6704799999,3710245,946951,4725499.3510903148,3656031,1069468,4933644.223199999,3831911,989593,116300,5003494.1629533703,4127543,1083775,0,4814774.8945071595,4174269,1020461,5478,72911,4836646.4862000002,4219482,1025939,4821533.5831799991,4339766,1048739,4793485.8869399996,4387064,{"$f":"1062714+16844","v":1079558},4950981.2964300001,4373961,1093858,4876256.0624799998,4295264,1107808,5219302.4780799998,4362303,1140038,5307497.2466114936,4411689,1157318,5459714.7223999994,4504265,1174628,5789256.4546096604,4709771,1192358,6270046.2603099989,5031835,1239023]
[299,"Townsend                     ",48.56,9892,2331,7561,10849.66,4644,8090,11355.27,5441,8370,11943.49,5490,8704,0,0,0,8530,0,0,0,0,0,0,0,0,0,0,0,0,0,0,0,0,0,0,0,0,0,0,0,0,0,0,0,0,0,0,0,0,0,0,0,0]
[300,"Truro                        ",17.5,1704648,2280388,221476.8,1722060.76,2234440,237453.8,1600608.8736194517,2062541,250249.8,1678407.63,1925541,236768.8,27826,1755899.2957244022,1970181,259303,0,1611078.6274799998,1832624,244155,1311,18512,1679937.99,1758607,245466,1835519.57,1798100,253586,1792085.3099999998,1792085,258486,1788414.01,1609573,277556,1879850.1199999996,1621100,282481,1912666.2499999995,1596786,315880,2003679.8419243183,1618203,{"$f":"394659-9182","v":385477},1934442.0499999998,1595915,391237,2296521.4702778542,1894630,402446,2296768.69,1894834,402446]
[301,"Tyngsborough                 ",28.34,14979885,8412477,6567408,15541436.869999997,8616640,6924797,16038143.446318682,8917341,7143646,16743697.889999999,9241021,6713664,789013,16627737.4536268,9341709,7352623,0,16055926.01182,9486124,6923083,37166,441174,15581685.049999999,9652634,6960249,16365479.893119998,10162808,7034649,16473614.73,10531483,7080574,16424708.550000001,10954033,7125624,16310112.57,11087277,7169374,15994837.789999999,11008609,7262434,16426722.369211081,11396682,7312774,16125261.67,11397568,7361014,16876605.054087967,12035384,7409074,17653818.739999998,12650386,7409074]
[302,"Tyringham                    ",17.5,221575,466915,30873.599999999999,217685.02,326528,32323.599999999999,242227.8797746044,303598,36618.6,211474.7,266822,37968.6,0,221493.48244210528,260037,37209,0,250239.19739999998,250313,35721,0,0,241848.72,244240,35721,258128.17,247395,35721,251901.56999999998,248608,35721,249461.65000000002,224515,38498,249733.64,219336,38498,225957.46000000002,192376,38498,234931.13370609152,194462,40469,251821.94999999995,202533,49289,295787.37665969401,244025,51836,321152.71999999997,264951,56202]
[303,"Upton                        ",25.55,9988,4028,6880,11197.585239999999,4809,7349,46690.898399999998,20600,26091,24535.137620000001,10563,24535.137620000001,0,25382.203100478469,11203,24044,0,49251.668457600004,23544,25708,0,0,12582.467449999998,6272,12582.467449999998,26250.526239999996,13295,12956,39954.317999999999,20706,19248,40041.258719999991,21792,19248,27007.727760000002,15988,19248,52683.680000000008,34232,19248,53667.33337435819,35821,19248,110697.28,75315,35382,129346.17529818021,89703,39799,87946.800000000017,63657,39799]
[304,"Uxbridge                     ",36.06,15694459,7254008,8978422,16305919.27,7699224,9271984,16540051.93015206,8083909,9377789,17120711.660000004,8646597,8631945,1014457,17477190.309787564,9596633,9453474,0,17147339.203259997,9663507,8901203,47786,554635,16877042.539999999,9962236,8948989,17330083.23,10285734,9025989,17729556.77,10515859,9074414,18066543.430000003,10926419,9122764,18526071.940000001,11067180,9171114,18410939.780000005,10786060,9275834,18455125.454438496,11060991,9331904,18397204.830000002,11363380,9385304,19102321.172340635,11756863,9438614,19464063.84,12445154,9438614]
[305,"Wakefield                    ",17.5,24912170,24531402,4066920,26617789.348280001,24791745,4365403,28230853.006573763,24914208,4647689,29490621.523280002,25175571,4356193,511955,30299105.328824647,25233915,4770785,294405,29492136.843027599,25278570,4769282,25604,354054,30243376.094500005,25690110,4794886,31226177.075480007,26692542,4962309.7470522504,31777096.588499997,27531423,{"$f":"5111980.28603606+58954","v":5170934.2860360602},31933215.629270006,27532408,5317017.2860360602,32600249.418120001,27898292,5401367.2860360602,34230683.749200001,28386107,5844577,35673992.74237927,29443005,6230988,36359382.278080001,29996491,6362891,37851806.805738397,31170923,6720549,38545137.935350008,31799739,6745399]
[306,"Wales                        ",62,1057649,551254,600096.4,1097738.68,542623,623689.4,1214081.5491547664,568369,692029.4,1083615.01,511611,625113.4,73466,1237788.8446468899,562473,684608,0,1290629.74896,586443,690675,3708,9804,1324350.96,599347,725004,1325356.92,604836,730684,1277849.4100000001,602399,734009,1356194.98,645271,737534,1467392.6599999997,661118,806275,1585577.72,646690,938888,1580013.0996064784,594640,985373,1631406.07,654753,990083,1548538.4556649411,599075,994373,1614023.6,613294,1000730]
[307,"Walpole                      ",17.5,26410304,22394550,4500224.4000000004,28924699.423300002,23409707,5514992,31050181.709740832,24570828,6479354,32983538.436549999,25479114,6715227,789197,33992625.661692321,26485132,7354336,153158,32863427.944973391,26734779,7068906,37949,496139,33583986.553500004,27739862,7106855,35385662.980499998,28681277,7325008.0005256878,36597932.707249992,29680601,7446255.7103260532,36833859.746200003,30016055,7542980.7103260532,37317617.441239998,30729479,7638830.7103260532,36843723.371769994,30659945,7848820.7103260532,36969856.911350518,30718767,7961140.7103260532,38230557.63222,31540211,8073101,39185793.937174484,32328280,8182871,39454988.392580003,32550365,8182871]
[308,"Waltham                      ",17.5,38879439,61572349,5965643.2000000002,42761499.772249997,59697543,6645004.2000000002,46074539.537751034,56268437,7224786.2000000002,48110738.181689993,52317305,6817755.2000000002,801247,49403220.555879377,50761236,7466622,0,47912898.078373261,48460847,7030422,37743,519232,50081563.292000003,48664297,7068165,54877131.504830003,50008834,7701998.2533363122,57878574.668200001,51531811,8308686.3317359835,58974377.85684,51151815,9012826.3317359835,62218743.565559998,52507147,9711597,62274785.537900016,51887299,10863166,65721454.701030053,54285104,{"$f":"12031585-595234","v":11436351},70511885.580779999,57308784,13203102,75037559.479823217,60191416,14846143,78968509.286119998,63760767,15541249]
[309,"Ware                         ",66.260000000000005,10543852,4213722,7097968,11341610.789999999,4490738,7590105,11984338.616012348,4670870,7988468,12279413.380000001,4853748,7307532,858807,12947330.615364594,4961196,8003012,0,13334594.007599998,5116642,8060271,43271,114410,13217323.799999999,5226096,8103542,13610889.48,5398699,8212190,14182968.479999997,5508648,8674320,14311776.950000001,5575059,8736718,14379106.989999996,5507809,8871298,14839037.079999998,5469680,9369357,14617553.305294422,5149596,9467957,14793547.390000001,5213248,9588570,15862338.797222899,5271105,10591234,15723620.550000001,5305670,10591234]
[310,"Wareham                      ",37.46,26787120,16030344,11226580.000000002,27620251.569999997,16502182,11620568.000000002,28330642.11136163,17161382,11916801.000000002,29713674.899999999,17701346,11178168.000000002,1313698,30323433.981795222,17409106,12242029,672299,29157976.018979996,17518457,12159874,65280,765499,28986212.199999999,17900064,12225154,30086115.449999996,18383155,12345207.138633749,29686081.27,18523807,12416757.138633749,29801464.629999995,18563068,12488232.138633749,30579432.949999999,18285648,12558607.138633749,29850414.400000002,17354464,12708042.138633749,30448305.403478537,17216125,13232180,30391882.289999999,17563012,13308860,30196685.358659841,18151699,13381730,29995900.239999998,18760166,13381730]
[311,"Warren                       ",69.75,538960,185240,353720,702595.73,196083,506513,158055.47,44646,137959,71660.94,20366,71660.94,0,24613.150009569381,7172,70228,0,0,0,0,0,0,0,0,0,0,0,0,0,0,0,0,0,0,0,0,0,0,0,0,0,0,0,0,0,0,0,0,0,0,0,0]
[312,"Warwick                      ",33.479999999999997,0,0,0,0,0,0,0,0,0,0,0,0,0,0,0,0,0,0,0,0,0,0,0,0,0,0,0,0,0,0,0,0,0,0,0,0,0,0,0,0,0,0,0,0,0,0,0,0,0,0,0,0]
[313,"Washington                   ",23.06,29389,10836,18553,32548.98,18105,20004,34065.81,20948,20700,11943.49,6978,11943.49,0,24613.150009569381,16085,11705,0,24071.631359999999,16378,11237,0,0,12250.07,9358,11237,25394.420000000002,19302,11237,0,0,0,13004.9,10244,2761,13199.960000000001,10149,3051,13170.920000000002,10882,3051,26833.666687179095,22444,4390,27674.32,22157,5517,28743.594510706713,20897,7847,14657.8,10895,7847]
[314,"Watertown                    ",17.5,19464616,27494743,2500103.6,21408022.994499996,26660901,2840199.6,22755172.082941681,25584736,3182786.6,23442917.806000002,24228635,3119661.6,366634,24506187.214984823,24010035,3416570,0,24666914.422698718,23332261,3216974,17270,246976,25827066.428560004,23433118,3234244,26990163.684909999,23875646,3341524,28042729.455369998,24440387,3928625.9136724374,28744449.526519999,24409669,4334781,26987815.659180008,23909715,4399531,27574866.376769997,23092613,4540881,28658582.599711496,23755394,4903189,29636571.161200002,24450171,5186400,31550834.623976581,25692240,5858595,33148323.506280009,27347367,5858595]
[315,"Wayland                      ",17.5,20528254,22426179,2433825.2000000002,21706401.2687,22177863,2706784.2,22348945.189632639,21508290,3068068.2,23105602.879149996,21557416,3033452.2,356502,23487595.690153036,21787470,3322155,0,22901223.710748963,21497031,3128075,16793,244512,22873243.606079999,21683970,3144868,23638559.356320001,22212916,3250268,24223145.583800003,22634976,3316668,24309849.451349992,21783923,3644813,24601190.323630001,21539908,3710313,24640382.589680005,20643819,{"$f":"4042462+17341","v":4059803},25043290.042167287,20778238,4265052,26378777.201239996,21731959,4646818,27841232.66770371,22568639,5299764,28213341.421039999,23276007,5299764]
[316,"Webster                      ",56.02,15041385,7642041,7399344,16432266.58,8269809,8162458,17755144.59782863,8781928,8973217,18280915.910000004,9216413,8231908,967443,19369599.058311965,9323234,9015364,1031001,19122110.4267,9432847,9503351,51018,541696,19221499.239999998,9741513,9554369,19780303.73,9875242,9905062,20497532.719999999,10176657,10320876,20776506.130000003,10261282,10515224,21401884.859999996,10346397,11055488,22136766.249999996,10147763,11989003,22425991.213709842,10170354,12255637,23346664.300000001,10636864,12709800,24776507.500713076,11062493,13714015,26082448.07,11471908,14610856]
[317,"Wellesley                    ",17.5,31887905,31509960,3170547.2,35128683.6228,32249496,3765942.2,37728351.069279179,33113521,4616898.2,41021667.78360001,34503446,5832738,685484,43474466.332122765,35866435,6387858,1220173,42176324.226688981,36405114,7163571,38457,528228,42989228.138499998,37498680,7202028,45335499.620400004,38747883,7402108,46194904.987919994,39997992,7526408,47297420.926149994,40402136,7789132,48641677.772080004,41171516,7916157,49005990.891000003,40807164,8198827,49446876.963866338,41046916,8399961,51173115.289380006,42217820,8955295,52951270.696678318,43684798,9273504,52873250.972209997,43620433,9273504]
[318,"Wellfleet                    ",17.5,1043179,1587533,123912.4,1024829.69,1362731,134999.4,1014001.08,1199684,147734.39999999999,1017218.98,1111542,141139.4,16587,1114134.5932248805,1172923,154572,0,1206261.3075600001,1220593,145542,781,11899,1181905.93,1149462,146323,1149133.73,1123089,151483,1232950.69,1194924,154808,1240792.6900000002,1116713,176624,1150249.74,993135,179724,1067714.3400000001,892056,185664,1107735.4422992696,917147,190588,1136908.3900000001,937949,198959,1139476.1400684477,940068,202109,1257777.1000000001,1037666,220111]
[319,"Wendell                      ",58.96,0,0,0,0,0,0,0,0,0,0,0,0,0,0,0,0,0,0,0,0,0,0,0,0,0,0,0,0,0,0,0,0,0,0,0,0,0,0,0,0,0,0,0,0,0,0,0,0,0,0,0,0]
[320,"Wenham                       ",17.5,0,0,0,0,0,0,0,0,0,0,0,0,0,0,0,0,0,0,0,0,0,0,0,0,0,0,0,0,0,0,{"$f":"0+8422","v":8422},13282.92632,11679,8422,0,0,0,0,0,0,0,0,0,0,0,0,0,0,0,0,0,0]
[321,"Westborough                  ",20.51,24595216,23154460,2766040.8,26156767.179999996,24071950,3129365.8,27284907.908756465,24682401,3731061.8,28924388.270000003,24976329,3966523.8,466160,29970816.824099522,25527660,4344030,99127,29700461.313299999,25642790,4183588,22459,325510,29045979.329999998,26179724,4206047,30072174.120000001,26844072,4475455.4982209997,31092026.789999999,27788304,4736300.3124719998,31788292.559999999,27852628,5025628.3124719998,32643542.910000004,27945222,5113078.3124719998,33283538.019999992,27451731,5881737,36606246.041138574,28766772,{"$f":"7878155-38681","v":7839474},37382713.520000003,29912840,7951974,39131440.051199019,31441549,8064504,40523119.020000003,32212271,8310848]
[322,"West Boylston                ",21.92,7463040,5272275,2604355,7862835.5099999998,5529064,2737047,8303886.0469139311,5698232,2880036,8764535.4300000016,6056904,2705190,317924,8721965.5391540695,6143068,2962652,0,8556984.7309199981,6224632,2789574,14976,182302,8200894.7400000002,6360524,2804550,8653273.7799999993,6565606,2841510,8616496.2100000009,6706677,2864560,8413020.9400000013,6777592,2886885,8930152.6600000001,6857750,2909285,8692760.0099999998,6831386,2957025,8877321.1119815204,6760095,2982885,9051419.8800000027,6981458,3008415,9510996.4243331663,7267000,3034005,9693716.8899999987,7543146,3034005]
[323,"West Bridgewater             ",33.64,7087351,6483027,1620335.6,7481921.1700000018,6519525,1739646.6,8080095.9730690857,6637938,1930659.6,8849560.0699999984,6740361,1992175.6,234128,9332740.0692976061,6973221,2181778,177741,9121055.2676399983,6925166,2221676,11927,152991,9407934.3300000001,6966042,2441892,9384522.75,7101110,2550273.4426500001,9746407.75,7107926,2817296.2266937499,9789063.1500000022,6918340,3006077.2266937499,9864782.7299999986,6849766,3031677.2266937499,10285489.059999999,6653790,3631699,10346624.462660685,6795040,3663259,10778968.260000002,7138403,3694909,11563083.632389149,7525433,4058306,12165316.310000001,8009301,4157054]
[324,"West Brookfield              ",46.49,254785,111031,143754,388832.98,151067,237766,328384.52,139713,239116,214016.92,95359,214016.92,0,245136.2421588517,105919,209737,0,251778.78455999997,114004,201348,0,0,231760.61,101090,201348,303706.14,139106,201348,321307.69,147913,201348,233036.45,115505,201348,355331.41999999993,184172,201348,354549.68000000005,186072,201348,507435.69877084321,254467,252969,675281.05999999994,347672,327609,657950.26899632823,345483,327609,656385.84,351215,327609]
[325,"Westfield                    ",56.57,49973231,20368440,29644636,53649787.230000004,21748478,31901309,55203857.608358152,22572618,32840745,57201000.020000011,23301263,30462915,3580110,58064880.787414365,23683434,33362165,1019282,56542890.625020012,24024402,32372885,173792,1986845,56348311.590000004,24659576,32546677,58680126.160000004,25776861,32927874.488096002,59626032.379999988,26817278,33072499.488096002,59091820.839999996,27452394,33214624.488096002,59194723.68,27572737,33353974.488096002,59795241.399999999,26781337,33656694.488095999,60917916.743617475,26596469,34321448,61979381.029999994,27249072,34730309,65007737.903743565,27712077,37295661,65292799.700000003,27986427,37306373]
[326,"Westford                     ",21.93,35723685,24675698,11305202,38818431.875120007,25842739,12975693,40555313.116589576,26531707,14023606,42911329.967289984,27280805,13986752,1643773,44563082.297898509,27807520,15317915,1437647,42723467.157275043,28681127,15776704,84696,1021312,43881686.305879995,29241053,15861400,45585175.226279989,30308996,16064000,45685221.157399982,31603683,16189875,45600413.679659985,32229875,16313850,45124999.36552,33597365,16436625,45233495.410999998,33677123,16706565,46319271.278671294,35059135,16853055,47840867.455200009,36197500,16998615,50292113.17611514,37292159,17144235,49470077.997149989,38573963,17144235]
[327,"Westhampton                  ",25.35,1143015,871506,286065.2,1161647.67,830817,341741.2,1170704.509380162,836402,392663.2,1157514.8700000001,778624,376209.2,44213,1296948.5063349283,829588,412014,55347,1232065.9646999999,806088,440058,2362,28516,1193876.6000000001,823754,442420,1195530.31,868868,447620,1215188.8099999998,921372,450895,1314694.2799999998,956723,454345,1294416.6200000001,964619,457770,1360673,968330,465470,1297572.8942240474,918872,469400,1357190.3900000001,952974,473330,1392808.786186093,993885,477140,1307846.49,960638,477140]
[328,"Westminster                  ",46.1,0,0,0,0,0,0,0,0,0,0,0,0,0,0,0,0,0,0,0,0,0,0,0,0,0,0,0,0,0,0,0,0,0,0,0,0,0,0,0,0,0,0,0,0,0,0,0,0,0,0,0,0]
[329,"West Newbury                 ",17.5,0,0,0,0,0,0,0,0,0,0,0,0,0,0,0,0,0,0,0,0,0,0,0,0,0,0,0,0,0,0,{"$f":"0+33688","v":33688},13004.9,10405,13004.900000000001,13199.960000000001,11094,13004.900000000001,0,0,0,13416.833343589547,11105,2312,13837.16,11416,2421,0,0,0,29315.599999999999,24185,5131]
[330,"Weston                       ",17.5,16162814,20181705,1480949.6,17307605.129800003,19912849,1790525.6,18370485.452483337,19288255,2217818.6,19437327.17588,18964744,2334128.6,274315,20595641.906424958,19452416,2556275,0,20090660.412545517,19197587,2406938,12921,195391,20217500.017579999,19394331,2419859,21125018.31106,19897050,2512979,21575268.311200004,20375359,2571779,21506483.175400004,19355835,2988929,21219806.953260001,18857119,3045154,20900052.866529997,17600265,{"$f":"3299788+17341","v":3317129},21251738.294267315,17672626,3579112,21305867.837200001,17577341,3728527,22508837.582984712,18569791,3949220,22266149.914000005,18369574,3949220]
[331,"Westport                     ",17.5,12968630,9738097,4035010,13865149.07,10429878,4191901,14462425.445800073,11075177,4296424,15502132.710000001,11580866,4007408,470965,15990008.832857417,11793167,4388806,0,15747912.792959997,12196747,4132413,22184,279609,15633780.250000004,12313381,4154597,15649507.84,12625582,4221997,15457275.029999999,12949560,4262947,15286780.110000001,12928118,4303047,14995933.330000002,12876991,4341772,14911266.000000002,12467729,4425482,14885291.294271678,12354601,4470212,15341227.09,12656512,4514672,16245198.777909063,13146344,4559462,16658171.17,13742991,4559462]
[332,"West Springfield             ",58.78,31130339,18106441,13445170,33870575.43,18598514,15272061,35265587.219952904,18707901,16557686,36643826.119999997,18919840,15860056,1863930,38205385.345714822,19265177,17369506,1570702,37738816.076999992,19240559,18143323,97401,797859,38457480.989999995,19599705,18857776,39534882.329999998,20240555,19563826.466162249,40948666.769999996,20335136,20717957.063267998,41551686.519999996,20188627,21363060,42891023.810000002,20277457,22613567,44295065.429999992,20212569,24082496,46379224.347272687,20257037,26122187,48360495.230000004,20291474,28069021,51872243.869854257,20465981,31406263,52593244.399999991,20539659,32053585]
[333,"West Stockbridge             ",17.5,0,0,0,0,0,0,0,0,0,0,0,0,0,0,0,0,0,0,0,0,0,0,0,0,0,0,0,0,0,0,0,0,0,0,0,0,0,0,0,0,0,0,0,0,0,0,0,0,0,0,0,0]
[334,"West Tisbury                 ",17.5,0,0,0,0,0,0,0,0,0,0,0,0,0,0,0,0,0,0,0,0,0,0,0,0,0,0,0,0,0,0,0,0,0,0,0,0,0,0,0,0,0,0,0,0,0,0,0,0,0,0,0,0]
[335,"Westwood                     ",17.5,20567480,21740599,2250702.4,22498088.821120001,21936416,2588559.4,24472148.293146249,22175336,3096779.4,25508214.087440003,22412158,3174824.4,373117,26986270.471055556,22996257,3476983,513030,25931255.131285079,23233856,3756916,20169,287878,26758357.153839998,23390650,3777085,28328703.767000001,24138538,4382005.2898062505,28396775.81552,24768521,4528862.9092836883,29096356.715499997,24830260,4725912.9092836883,29539997.822689999,25123982,4803412.9092836883,29301469.672719996,24485112,4971877.9092836883,30014821.710917722,24903789,5111033,30492581.964960001,25156380,5336202,31407909.177556276,25911525,5496384,32201274.010420009,26566051,5635223]
[336,"Weymouth                     ",20.62,51107904,31463668,19644236,54069183.504560001,33009395,21059789,57436766.066748992,35313488,22123278,61362559.405040011,37036094,21768190,2558275,62237990.731232964,37337725,23839936,1060330,62823242.56985008,38124103,22447209,130052,2523813,64565174.840659991,39054922,25510253,67376255.928720012,40341671,27034585,68036042.431139991,41955039,27200610,68999976.990219995,43802418,27366185,69769188.724899977,45695271,27530085,69159899.607649997,47454854,27883625,69172635.260738254,49020130,28071515,69340075.166419998,51161839,28253945,71911345.754917458,54222905,28433225,73265345.799600005,56687928,28433225]
[337,"Whately                      ",18.170000000000002,905765,834822,131052.8,847599.61,747909,172887.8,801658.09440833644,665132,207744.8,828878.44,601232,220473.8,25911,831398.74939712929,581336,241457,8606,770958.84743999992,548156,235454,1264,15670,778131.94,571400,236718,871685.15,643358,240518,1002641.6199999999,761189,247640.0875275,973888.2100000002,773751,250115.0875275,877253.83999999985,745655,252340.0875275,852415.71000000008,714075,256850.0875275,869184.11954740097,720991,259340.0875275,981559.89999999991,785698,262160.0875275,968969.2611512969,792219,264770,904197.0199999999,739905,264770]
[338,"Whitman                      ",52.11,97965,35557,87102,172717.17,52188,126825,180766.01,61318,131107,119434.9,40958,119434.9,0,110759.17504306222,40065,117046,0,167528.0748,60734,112364,0,0,158260.19,58829,112364,189431.25,70715,118716,192367.49000000002,71155,121212,78029.39999999998,29915,78029.39999999998,118799.64000000001,47836,78029.39999999998,118538.28,48874,78029.39999999998,120751.50009230593,51831,78029.39999999998,124534.43999999997,54467,78029.39999999998,143717.97255353359,64098,80336,203601.62000000002,93108,110494]
[339,"Wilbraham                    ",17.5,0,0,0,0,0,0,0,0,0,0,0,0,0,0,0,0,0,0,0,0,0,0,0,0,0,0,0,0,0,0,0,0,0,0,0,0,0,0,0,0,0,0,0,0,0,0,0,0,0,0,0,0]
[340,"Williamsburg                 ",35.659999999999997,1353554,1305103,359184.4,1431625.05,1223519,401047.4,1303227.8492111149,1103460,410847.4,1358267.99,1050677,386941.4,45475,1529284.0745033494,1098680,423768,6836,1588795.8168000001,1185579,405448,2177,27379,1626834.23,1211055,415779,1690611.6400000001,1270564,434689.03882100002,1847447.82,1352484,509920.14508649998,1740594.9700000002,1393645,514620.14508649998,1731396.01,1404042,519245.14508649998,1665309.4700000002,1295778,528925.14508649998,1640814.868103652,1224301,534055.14508649998,1888347.0699999998,1281224,608437,1900770.6075914244,1235134,665637,2006916.64,1291212,715705]
[341,"Williamstown                 ",17.5,2838804,2951735,900860.4,2993564.97,3003582,927943.4,2947485.2032250096,2967122,946993.4,2926746.36,2854443,863644.4,101499,3169486.7944727275,2914408,945841,0,2954221.7637,2820665,890585,4781,59525,2930427.46,2765115,895366,3160940.25,2913200,909926,3339446.0000000005,3057274,919376,3344865.7700000005,2917285,928776,3691422.7599999993,3123894,938701,3780882.2300000004,3127725,960921,3766818.1625702963,3122141,{"$f":"972741-972741","v":0},0,0,0,0,0,0,0,0,0]
[342,"Wilmington                   ",18.34,26946504,24426636,3493482.8,28589474.265000004,24012970,4787472.8,30225618.082184222,23520068,6758866.7999999998,32940341.795039997,22982850,8910320,1047172,33354631.307536971,23083400,9758342,512889,33071492.365163159,22741572,10131715,54392,180399,33089929.46198,23047600,10186107,33475095.871219996,23350005,10653175.75580658,33711449.013840005,24229668,{"$f":"10743100.7558066+58954","v":10802054.755806601},33711949.045720004,24256928,10891329.755806601,33895541.813259996,24840882,10978729.755806601,33396838.325240005,24739359,11167159.755806601,34239954.195590727,25512508,11270329.755806601,34794527.347199991,26550382,11371910,34910848.030844986,27323352,11469170,35336725.314499997,28856084,11469170]
[343,"Winchendon                   ",66.319999999999993,13575447,4042511,9746972,14428042.68,4236403,10353509,14745121.603420299,4352216,10575115,15156933.289999999,4512742,9718917,1142201,16219065.234373206,4477183,10643896,1097986,15672163.269959999,4664700,11055922,59353,669132,15461197.040000001,4686612,11115275,15336037.73,4744751,11177635,14932867.66,4859333,11215085,14667673.109999999,4914309,11251885,14868534.459999999,4931923,11288335,14883842.210000001,4860783,11366930,14578929.593496464,4751326,11408120,15435431.700000001,4871517,11450030,15998737.235770881,5085773,11491100,15745625.66,5282604,11491100]
[344,"Winchester                   ",17.5,25105213,24915091,3131320.8,27686227.761740003,25368782,3582998.8,30248338.701930307,26104922,4143417,32130973.606599998,26921385,4661726,547863,33869183.152500734,27942076,5105397,821710,34209062.642022774,28412977,5684874,30519,312514,35352719.397000007,29111601,6241118,37274561.601149991,30107863,7166699,38667213.748349994,31202716,7464498,39564443.627320006,32332932,7572048,40749515.511779994,33648454,7680548,41694755.431160003,34474073,7924363,43175541.000589445,35662566,8058883,46376139.481770001,37332874,9043265,48242100.959599502,38833443,9421254,49895727.543140002,40278256,9617689]
[345,"Windsor                      ",17.5,19593,9317,18987,43398.64,22696,30997,79486.89,46037,50091,59717.45,33889,50341,0,49226.300019138762,30072,49334,0,48143.262719999999,30554,47361,0,0,98000.56,57428,47361,88880.470000000016,53746,47361,90258.14,59063,47361,91034.3,66927,47361,39599.880000000005,33367,39599.880000000005,26341.840000000004,22244,26341.840000000004,26833.666687179095,22290,26341.840000000004,41511.479999999996,34247,26342,71858.986276766795,59284,26342,58631.199999999997,48371,26342]
[346,"Winthrop                     ",26.48,14203032,10524171,4649575,15189263.146560002,10737357,4843961,16040450.497654758,11241167,5042458,16653713.865099998,11482366,4639322,545229,17547573.530765843,12509487,5080860,0,16947233.724507775,12482874,4784037,25683,318165,17937168.698699996,12779319,5157850,18416072.0348,13141365,5274707,19449615.869399998,13466250,{"$f":"6026961.59606301+25266","v":6052227.5960630104},19874501.94588,13576177,6298325,19501001.633919992,13757564,6346975,19355380.740320001,13740113,6450815,20873787.706656512,14619405,6509855,22361612.680800002,15285867,7075746,23351887.112957381,16010984,7340903,23537383.711800005,16793461,7340903]
[347,"Woburn",17.5,34930602,37657788,4733852.8,37332334.363359995,38094517,5154155.8,40314036.275784098,38276911,5788495.7999999998,42494196.208999999,37749504,6002692.7999999998,705458,43397769.300633483,37761424,6573988,0,43013306.744314127,37654434,6189936,33230,468697,44725938.827559993,38469627,6256312,46091897.869999997,39862499,6819375.0867005,47182460.705740005,40697687,{"$f":"7323850.03757165+16844","v":7340694.03757165},48695159.223999999,40727571,8202269.03757165,49230530.561499998,41631275,8321994.03757165,49930543.991250016,41567504,8583684.03757165,50380963.059562519,41884963,8724234.03757165,51790238.039180018,42726946,9063292,53841305.779622279,44419077,9422229,54604897.586800009,45049041,9555857]
[348,"Worcester                    ",71.73,233243474,72184115,161059359,242782324.40000004,77309187,167480913,252522466.45670471,80540711,174025314,262175701.59,83762339,161512435,18981512,274595072.36176842,81810677,176884068,15900327,275818706.70521998,84305903,187838166,1008399,4578055,286908104.64000005,85772826,201135279,298950312.13000005,88586175,210364137,311832464.69999999,91934732,219897733,314854112.86000001,96374700,220569583,329468506.71999997,97927769,231540738,332590291.94999999,97188059,235402233,342886580.84977067,97679398,245207183,353662082.21999997,100450297,253211785,379530589.18986362,104076553,275454036,382606983.73000002,105210987,277395997]
[349,"Worthington                  ",17.5,156820,105031,69958,108496.6,89804,70458,113552.7,89058,72331,95547.92,69044,72731,0,73839.450028708146,58793,71276,0,60179.078399999999,50743,60179.078399999999,0,0,49000.28,61740,49000.28,101577.68000000001,101578,49000.28,103152.16,103152,49000.28,181016.85000000003,161882,{"$f":"49000.28+144899","v":193899.28},1164871.5999999999,939802,225070,1206120.8500000003,969030,237091,1160346.2789760442,967158,240361,1138991.4000000001,939668,243571,1201024.652987523,968704,246841,1374749.7299999997,1018495,356255]
[350,"Wrentham                     ",17.5,8108218,4773537,3446005,8536881.8352199998,4905786,3631096,8611109.7637538575,5032071,3688296,9026427.3732400015,5280507,3413547,401172,9476432.1319100633,5747185,3738425,0,9107308.40131188,5781211,3520026,18897,227952,8997163.6104499996,5880789,3538923,8996680.8980999999,5899004,3581123,8892422.6601499971,6253155,3606873,9069999.5540800001,6555043,3632823,8534196.4301100001,6762850,3656773,8711771.7903999984,6915585,3709903,8596118.8600556906,7106012,3737593,9153991.6259199996,7552043,3765913,9200581.1460926738,7590479,3793153,9053868.8087499999,7469442,3793153]
[351,"Yarmouth                     ",17.5,0,0,0,0,0,0,0,0,0,11943.49,9336,2607,0,24613.150009569381,19848,2555,2210,12035.81568,10055,4574,0,0,12250.07,10608,4574,12697.210000000001,10850,4574,0,0,0,0,0,0,0,0,0,0,0,0,0,0,0,0,0,0,0,0,0,0,0,0]
[406,"Northampton Smith            ",17.5,1567616,1276116,738533.6,2025133,1468568,875376.6,2278216,1708914,947960.6,2111565,1581883,854264.6,100396,2146693.9467942584,1617583,935567,0,2230337.8020000001,1765084,880911,4729,53277,2070902,1658734,885640,2229442,1757745,890560,2020055,1627859,893210,1764814,1447978,895485,1980086,1655651,897910,2177668,1807196,903575,2248554.7171424888,1863952,906755,2391969.2199999997,1973375,909905,2535730.135235467,2072723,913025,2690854.48,2219955,913025]
[600,"Acton Boxborough             ",19.88,20024105,16885593,3138512,22506705,17791669,4715036,23994743,18369316,5625427,25793437,18940607,6132157,720673,26931634.808038283,19569628,6715773,646234,26278547.039999999,19800807,6931919,37214,467099,26873147,20359612,6969133,27636880,20909979,7124121.5619999999,{"$f":"28337812+3710701+20514396","v":52562909},{"$f":"21701014+3337251+15117599","v":40155864},{"$f":"7198421.562+1320503+5594326","v":14113250.561999999},52422543,40290368,14254475.561999999,52599957,41315952,14393075.561999999,52547574,40653492,14696070.561999999,53421566.907991789,42045809,14859360.561999999,55170323.107940018,43056913,15022441,57507919.285240643,45085137,15185311,57745972.612679996,46230356,15185311]
[603,"Adams Cheshire               ",61.9,13106574,3602054,9630920,13377962,3796726,9810525,14106031,3891220,10299351,14355783,4039739,9363751,1100461,14762561.506602872,4503688,10254928,3946,14205800.124,4515273,9659551,51857,585716,14489416,4653780,9835636,14848664,4798921,10049743,14525980,4882095,10085868,14419594,4988650,10121468,14523439,5160616,10156418,15296780,5502583,10234243,15055572.515187521,5538278,10275553,15232490.400000002,5717786,10316023,15617632.338179186,5891351,10354753,15339849.779999997,5843907,10354753]
[605,"Amherst Pelham               ",23.88,15073351,7265229,9343785,15860056,8312731,9689857,16118464,8736670,9793582,16270720,8932603,8844227,1039405,16430082.97033493,10908954,9685959,0,15978763.512,10987020,9120106,48961,560042,15588078,11132046,9169067,15882762,11359856,9233467,15889254,11667688,9272992,15504219,11484398,9311217,15834018,11664726,9349517,15535447,11457106,9431797,15847416.836753655,11645169,9476496.999999553,16044645.359999998,11852511,9519487,16548734.048677344,12082979,9561457,16921238.979830787,12834959,9561457]
[610,"Ashburnham Westminster       ",50.08,16693060,7990286,8905601,17725876,8610748,9391438,18827304,8914333,9934552,19657064,9471071,9246935,1086732,20747434.319617227,10251619,10126994,368821,20412503.039999999,10455439,9882650,53054,619686,20584849,10676599,9935704,20759601,10923476,10026904,20785812,11067299,10083104,20944478,11060794,10138704,21651624,11097471,10554153,21190453,11043254,10675483,21596182.828853481,11367955,10741723,22810309.799999997,11550868,11259442,23747271.339990951,12136491,11669561,24646397.09,12303561,12361170]
[615,"Athol Royalston              ",70.8,17339154,518662,16820492,17708359,623845,17084514,18516080,678872,17837208,19014821,720901,16370053,1923867,18226670.661818184,2067242,17928042,0,17923395.240000002,2103961,16880687,90623,1004932,17935653,2172893,16971310,17818204,2286653,17043590,17517520,2367862,17086740,17539155,2500939,17129715,17879139,2687482,17172640,18244828,2897520,17267570,18603786.772762485,3090653,17319440,19486246.010000002,3220286,17371580,20420115.158179153,3408285,17423570,21729158.719999999,3616401,18112758]
[616,"Ayer Shirley",32.69,null,null,null,null,null,null,null,null,null,null,null,null,null,0,null,null,null,16872486,9799433.7010924481,7802151,41885,487764,16879384,9899773,7844036,17419519,10045000,7915436,17689265,10457924,7959611,18020997,10736761,8003886,17776166,10841421,8047361,17539418,10906245,8144051,17859764.734966867,11291639,8197181,18209773.010000002,11893424,8249321,19201202.775432397,12571064,8301431,19068236.100000005,12820462,8301431]
[618,"Berkshire Hills              ",17.5,8878410,10098842,2672816.7999999998,9250332,10102954,2737902.8,9395655,9910102,2793902.8,9799535,9631380,2563329.7999999998,301252,9958320.0275598094,9695771,2807290,0,9969549.1140000001,9487659,2643288,14190,177387,9915801,9513236,2657478,10178607,9534109,2700038,10635683,9671358,2726838,10662018,9324675,2753513,10878643,9349872,2780663,11414759,9456019,2839128,11592012.389038036,9603359,2871498,11863555.439999999,9773550,2903088,12066016.316021007,9920455,2933388,11846383.439999999,9773266,2933388]
[620,"Berlin Boylston              ",17.5,2881502,2980030,790482,3230183,3023460,851501,3463889,3187414,892400,3734852,3255818,840984,98835,3848242.2752153119,3256016,921023,0,3748889.16,3345125,867217,4656,59925,3766444,3420481,871873,{"$f":"3871973+250741+384591","v":4507305},3391112,{"$f":"888833+78723+56292","v":1023848},4631328,4040189,1036398,4817370,4122172,1049323,5052434,4334259,1062648,5023757,4202073,1091688,5247616.0529560801,4352079,1107888,5654505.5700000003,4534769,2111104,9927446.3516566418,8048259,2139724,10107518.1,8212670,2139724]
[622,"Blackstone Millville         ",52.3,15426759,5876193,10378194,15675653,6231925,10509983,16290966,6659559,10845267,17163606,6723921,10139052,1191577,17821603.166315794,7213787,11104016,0,17631668.597999997,7334869,10455320,56129,643892,17725268,7567852,10511449,18008630,7894508,10589769,17925439,8081231,10637619,17804636,8183978,10684594,17580139,8234791,10729594,17055908,8133559,10826779,17728142.592629228,8280761,10880269,18045228.880000003,8455406,10932919,18718435.629910786,8774546,10985239,19305133.509999998,9159231,10985239]
[625,"Bridgewater Raynham          ",37.86,40912576,21884965,19283254,41935929,23349196,19665067,44782550,24739437,20734543,47098996,25851193,19340030,2272909,48428019.06526316,27952831,21180680,0,47983788.083999999,28495798,19943306,107065,1272209,48390610,29073200,20050371,49427213,30075604,20269571,49488995,30660371,20403671,49690981,31221396,20536596,51489038,31846579,20671771,51178987,31816877,20968661,52866849.261870295,32583398,21132011,54041579.230000004,34169692,21293351,57734650.603288382,35678127,22061362,59327586.659999996,36619588,22716693]
[632,"Chesterfield Goshen",34.6,1195209,674787,646741,1312143,731037,711347,1277283,717531,719547,1377086,699752,691531,81271,1450752.9125358853,732969,757346,0,1401680.358,744562,713102,3828,44616,1350534,753143,716930,1413142,785219,723330,1413824,797176,727230,1269753,783121,730880,1290268,795911,734280,1239669,767824,741100,1195139.8127151553,763068,744760,1273267,786037,748510,1171005.0238210852,742974,751930,1184019.3600000001,774310,751930]
[635,"Central Berkshire            ",38.590000000000003,16411075,9277515,7747832.0000000009,17068928,9492361,8092876.0000000009,17956787,9547848,8550035,18638347,9708028,7991169,939150,18841797.769186605,10035980,8751713,54105,17732901.377999999,10045858,8291382,44512,520024,17880776,10085382,8335894,17613394,10334614,8410334,17159555,10602338,8454734,16974405,10521566,8498034,16927679,10815311,8540559,16389265,10548832,8629219,16770478.528573444,10582972,8677909,17387170.660173871,10650195,8726209.0000004824,17917236.795122694,10887646,8773249,17769137.719999999,10821874,8773249]
[640,"Concord Carlisle             ",17.5,9779664,11276561,1482929.2,11043068,11833214,1704025.2,11535486,12039761,1798430.2,12261008,11881005,1722913.2,202483,12736972.591770336,12027622,1886888,0,12226662.599999998,11610510,1776656,9538,132844,12055418,11452179,1786194,12584072,11667076,1836274,12876490,11748056,1867899,13172186,11470046,2020931,13659882,11719574,2053456,14101517,11779839,2321678,14235386.188628448,11805585,2429801,14677154.57313,12108652,2568503,15326809.636647012,12636179,2700821,15698387.201840004,12951170,2747217]
[645,"Dennis Yarmouth              ",17.5,31552699,26916269,6323844,31921636,27640649,6521044,32866009,28181902,6712794,33929083,28230096,6176777,725917,34720683.78947369,29362682,6764640,0,33550155.035999998,29272877,6369450,34194,452946,33188220,29829472,6403644,34159114,30421379,6543564,34997479,31287824,6631289,34668834,30189585,6718014,35460503,30284637,6803239,36706251,30483143,6993814,36833288.857110716,30597193,7095664,38305323.740000002,31508282,7197874,40299027.11670664,32486327,7812700,40772315.190000005,32996593,7812700]
[650,"Dighton Rehoboth             ",34.409999999999997,23502323,12171196,11331127,25227557,13220377,12078498,26488176,14032590,12595982,27834400,14867498,11760784,1382169,28579093.545645937,15934995,12880094,0,27227094.57,16519761,12127640,65106,766523,27435686,16943069,12192746,28588235,17614915,12315946,28145868,17936311,12390171,28150365,18051150,12463021,28723483,18028977,12536246,29000399,17773340,12696956,28781591.615531329,18150262,12783266,30099135.230000004,18922107,12870026,31540121.095252328,19831231,12956936,31470516.579999998,20472580,12956936]
[655,"Dover Sherborn               ",17.5,7739997,8275872,1191754.3999999999,8206331,8468634,1273362.3999999999,8844812,8708826,1385096.4,9304310,8639071,1311389.3999999999,154119,9990853.0587559827,9006852,1436198,0,10131211.535999998,9255639,1352295,7260,106168,10389452,9537204,1359555,11120543,10202046,1408555,11227795,10290387,1438730,11333898,10098983,1629376,11580014,10114738,1659576,11702650,9794356,1908294,11848628.162153138,9800905,2047723,12427515.957589999,10244725,2182791,13018705.445376281,10740432,2282394,13502936.345999997,11139922,2363014]
[658,"Dudley Charlton              ",52.62,30449329,9274397,21174932,32233347,10252229,22188433,33797564,11029311,23069087,36110116,11697527,21845257,2567332,36777726.03406699,11966621,23924337,886768,35729459.82,12287043,23361642,125416,1429447,35694097,12669036,23487058,36205278,13079319,23647098,36078034,13510547,23744648,36713400,14006333,23842023,37460711,14629068,23938773,37500027,15535167,24151183,37720695.5316194,16113609,24265243,38840211.679999992,16771540,24378193,39553020.497260436,17196696,24488263,39294595.160000004,17806070,24488263]
[660,"Nauset                       ",17.5,13094670,13143058,3212073.2,13492342,13864524,3298923.2,13240289,13643131,3379473.2,12973291,12791886,3090604.2,363219,12824763.657799043,12606630,3384747,0,12466861.355999999,12161887,3187010,17109,216203,11987364,11783104,3204119,12271544,11841626,3256279,12583436,12006085,3289004,12650853,11365672,3321529,12867301,11188533,3353354,12935106,10790864,3421279,12490516.601979394,10380459,3456769.0000003548,12759247.84,10525994,3491269.0000003548,13781730.292193582,11296893,3526849,13928035.579999996,11407465,3526849]
[662,"Farmington River",17.5,2207961,2145103,375505.6,2244629,2179857,389405.6,2032717,2125018,401955.6,2101262,2056801,370690.6,43565,2272476.6989473687,2094866,405970,0,2284470.102,2094019,382253,2052,28215,2507654,2157223,384305,2477293,2210649,394745,2381535,2239793,400995,2333265,2082363,407070,2496034,2114411,413420,2464478,2057324,427060,2368941.0110670594,1978521,434200,2470961.3200000003,1982431,488530,2310316.8825038802,1903782,494950,2289345.04,1877720,494950]
[665,"Freetown Lakeville           ",30.84,13524454,7948805,6460005.0000000009,14519330,8906388,6832785.0000000009,15553549,9668371,7200036.0000000009,16583275,10105484,6769499.0000000009,795575,17047222.562296651,10617731,7413773,0,25704555.482000001,16324122.86063578,10304430,55318,621851,25567244,16827381,10359748,26403268,17241340,10478788,26716909,17493884,10552138,26295108,17518350,10623488,25836232,17647952,10692488,27153763,17863322,10849513,26949047.128918782,17944798,10933153,28557208.850000001,18586174,11018173,29471189.782152213,19374781,11102173,30420774.669999998,20383874,11102173]
[670,"Frontier                     ",17.739999999999998,5418605,3086349,2650507,5733999,3534975,2746608,5983480,3789925,2814392,6338406,3919060,2608966,306615,6166668.8979904307,4548404,2857269,0,5993205.5159999998,4594579,2690347,14443,168829,5922687,4614585,2704790,5890106,4643352,2729670,5648702,4748410,2744045,5716411,4750289,2758445,5662972,4785017,2772595,5886720,4852262,2804715,5732224.0889145313,4635171,2821244.9999998347,6131417.1100000003,4934660,2838225,6490224.3564851899,5195546,2855535,6668350.6099999994,5440174,2855535]
[672,"Gateway                      ",45.19,10512746,5273227,5377752,11307523,5576855,5817025,11430685,5636748,5921631,11453179,5658310,5356783,629548,11448115.732822968,5871665,5866604,0,11136859.595999999,5975739,5523878,29655,343896,10684938,5977311,5553533,10913250,6024049,5598773,10501988,6111205,5625873,10475106,6121175,{"$f":"5652523-144899","v":5507624},9565466,5566378,5531374,9151021,5435268,5580489,9186465.9257388338,5185242,5606889,9373307.580093734,5155696,5632899.0000002598,9819284.5359783657,5242416,5658699,10053035.289899468,5377560,5658699]
[673,"Groton Dunstable             ",17.5,19963557,10573496,9690045,22069166,11478206,10590960,22567813,12305992,10757109,23533501,13095797,9914811,1165224,23587738.32880383,16063245,10858434,0,22939192.446000002,16429914,10224085,54888,648086,23308786,17069512,10278973,23452027,17673118,10384573,23574679,18322278,10449473,23421974,18828192,10513273,23366261,19288600,10575673,21908747,18375113,10706573,22374529.724943254,18540836,10778123,23046297.120000005,18825814,10849343,23962885.117804695,19528829,10920053,24034914.079999994,19807347,10920053]
[674,"Gill Montague                ",53.69,9776132,4890426,5898325.9999999991,10362291,5144962,6225636.9999999991,10629600,5170843,6375222.9999999991,10694903,5178227,5756498.9999999991,676524,10705697.249377992,5206242,6304363,0,10709037.408,5230945,5936062,31867,364384,10890170,5322669,5967929,10709407,5432442,6010369,11221184,5642595,6037994,11383341,5825645,6065444,11391876,6028359,6092669,11388880,6051487,6152674,11605184.313327502,6037197,6185014,12227502.840000002,6132607,6217984,12729673.495022506,6160944,6568729,13224252.970000001,6123497,7100756]
[675,"Hamilton Wenham              ",17.5,14468765,11376222,3164291,15069063,11961487,3269343,15863562,12603727,3408380,16231350,12979612,3137455,368725,16539445.386411486,13759009,3436056,0,16099995.413999999,13883368,3235322,17369,231115,15671050,13956082,3252691,16304849,14293365,3325691,16257548,14512213,3370416,15726746,13965278,3413341,16707535,14120458,3457966,16651753,13827676,3554656,16696408.934955347,13868580,3606706,17608636.820320003,14365369,3659746,17895419.978166122,14618380,3711406,18910528.193439998,15169999,3742189]
[680,"Hampden Wilbraham            ",17.68,27186575,17817946,9591950,28628962,18371310,10257652,29666356,18507813,11187984,30302280,18629304,10514180,1235664,30835123.285741627,19103251,11514847,217025,29974196.813999999,18956605,11046497,59302,714898,30318463,19431538,11105799,30471568,19904990,11241439,30267610,20416003,11323964,30372595,20400941,11405264,29954423,20917022,11483814,29402188,20490243,11651894,29683317.843047649,20807570,11742374,30100033.420000002,20633481,11831384,31472652.18943473,21135655,11920364,31697327.079999998,22048457,11920364]
[683,"Hampshire                    ",32.020000000000003,6298064,3937642,2426572,6805484,4138583,2676375,6739463,4154095,2812809,7281652,4261680,2743722,322452,7552394.2032535886,4295649,3004851,251894,7104748.4820000008,4238418,3066486,16462,194072,7166323,4430064,3082948,7159285,4518959,3114108,7221048,4622819,3133233,7159547,4689344,3151983,7223607,4822063,3170333,7226816,4870971,3210153,7135055.1371439751,4768992,3231273.0000002114,7177310.4399999985,4802721,3251703.0000002114,7292664.1560150869,4957708,3271593,7581893.040000001,5141694,3271593]
[685,"Hawlemont                    ",46.49,1068768,490624,613734.80000000005,1007233,489631,620084.80000000005,935837,424000,625634.80000000005,977501,437137,582347.80000000005,68440,1015177.688803828,455789,637772,0,943708.38599999994,475782,600513,3224,36635,852740,451986,603737,880128,468192,607377,950613,539883,609827,933646,531341,612202,950854,532283,614527,966196,536672,619422,948610.29681259417,528435,621882,1319629.0000000005,686073,633556,1194591.6655308905,597682,636346,1210178.3199999998,645856,636346]
[690,"King Philip                  ",20.18,14979166,8734642,6244524,16295851,9507703,6788148,17396805,10500808,7139022,18770909,11301852,6776559,796405,19266152.972248808,12421086,7421505,0,18766472.316,12655997,6987941,37514,450050,19491490,13489687,7025455,20106153,14008919,7113575,20756038,15085093,7169225,20668060,15441355,7224100,20796265,16339640,7278450,21464344,16747910,7399780,21686949.863603115,17288364,7465059.9999993471,22108494.793599997,17573207,7529320,22968588.71954523,18207740,7592980,22821189.415249996,18216801,7592980]
[695,"Lincoln Sudbury              ",17.5,11315184,11075410,1787678.4,13657169,11726968,2197526,14669142,12512472,2374621,15512737,13029848,2256999,265251,16180111.874449763,13524542,2471805,183765,15640388.226,13606478,2500432,13423,182915,15881721,14058638,2513855,16550937,14522938,2609494.7437499999,16660368,14759478,2686012.1578124999,17538177,15255513,2820121.1578124999,17586404,15195939,2862021.1578124999,17527242,14585219,2953706.1578124999,17315388.091420949,14392659,3002696.1578124999,17438816.760160003,14387024,3051793,17865441.864525706,14738989,3127363,17971715.490000002,14826665,3145998]
[698,"Manchester Essex",17.5,8366673,9103515,1375984,9141258,9202986,1511536,9630975,9237772,1597236,10323403,9323664,1537696,180715,10893473.5984689,9499354,1684043,0,11219611.109999999,9669672,1585661,8513,123169,12153403,10046472,2106931,13132240,10490205,2642035,13658346,10881653,2776693,13572189,11221647,2813718,13636380,11449215,2850168,13222782,11043112,2926838,13044522.634690613,10860009,2967368,13504654.921019997,11094289,3007748,14371784.479899097,11738511,3048668,14540612.442779997,11993491,3048668]
[700,"Marthas Vineyard             ",17.5,7093516,6601054,2673935,7932850,7970360,2820735,8068434,8233407,2861785,7978454,7784419,2596397,305138,8027782.3081339709,7579454,2843504,0,7689159.2280000001,7354264,2677387,14373,170469,7459791,6982300,2691760,7821993,7071878,2720400,8027352,7261038,2738625,8168795,7068505,2756975,8315537,6895864,2775225,8366347,6863098,2814000,8775465.4854839947,7160292,2835120,8807318.8500000015,7199058,2855370,9542318.3659465611,7809437,2875680,10520255.699999999,8507902,2875680]
[705,"Masconomet                   ",17.5,15318665,11142823,4419317,17202789,12854203,4773155,18048378,13991386,4933394,18669125,14530501,4520949,531318,19727906.272153113,16061599,4951222,0,18612164.453999996,16036618,4661972,25027,317398,18928100,16514464,4686999,19357735,16963367,4770799,19715478,17420377,4823099,19907859,17251458,4875399,19398726,16836310,4925724,19430987,16230896,5034459,18987857.036568414,15814213,5090919,19183372.217599999,15826282,5146299,19848020.362871911,16294823,5201349,19718785.499960002,16147421,5201349]
[710,"Mendon Upton                 ",24.46,17625772,7917147,9708625,19301063,8448890,10852173,20644958,8956960,11687998,21996366,9449432,11227445,1319489,22672457.180478469,10147020,12295995,229442,22132247.579999998,10574513,11793702,63314,734621,22155000,11066163,11857016,22015006,11315699,11954456,22375411,11860177,12014831,21900366,12299101,12074206,21475634,12907063,12131581,20452434,13459709,12253186,20207384.356621977,13867755,12317476,21244024.41,14784122,12382726,22449446.899046388,15888903,12448756,22739749.350000001,16799739,12448756]
[712,"Monomoy",17.5,0,0,0,0,0,0,0,0,0,0,0,0,0,0,0,0,0,0,0,0,0,0,17110771.399999999,16296303,2384540,17569657,16140983,2460460,17319106,16031006,2506360,17618966,15518373,2708296,18464076,15720020,2755146,19086298,15841935,3244363,19283171.949603103,15996456,3300373,20057741.48,16512901,3544840,20829711.826521438,17031398,3798314,21026943.91,17347229,3798314]
[715,"Mount Greylock               ",24.65,4676875,4597031,1666950,4791177,4533455,1699377,4697972,4234702,1727227,4870291,4171647,1590024,186865,5038820.6667942591,4176618,1741351,0,4954695.6780000003,4130699,1639621,8802,106828,4795752,4018167,1648423,4847655,3957893,1668783,4713594,3902934,1680908,5049227,3998439,1693808,4887694,3824463,1705983,4960436,3813364,1733153,5175933.9315482499,3845508,{"$f":"1748153+972741+768543","v":3489437},10983817.570000002,8251697,3521567,11569192.327752113,8401578,3554057,11284468.84,8495288,3554057]
[717,"Mohawk Trail                 ",37.6,10399815,5552327,5972084,10269301,5648614,6034784,10605776,5769493,6204233,10359333,5721445,5603580,658553,10590789.40784689,5820331,6136890,0,10304179.638,5807577,5778373,31021,355446,10123559,5977059,5809394,9875049,6107017,5850194,9444879,6294792,5874244,9300413,6365060,5897844,9310511,6523226,5921294,9915353,6433157,5973434,9838051.3509327304,6364738,6001454,10008929.639999999,6399727,6028994,10650334.810213417,6438287,6056894,10427668.720104279,6461323,6056894]
[720,"Narragansett                 ",59.99,11727704,2977580,8750124,12694975,3200990,9493985,13440494,3363034,10077460,13890162,3558412,9267025,1089094,14047951.990813399,4510425,10148997,0,13273695.708000001,4548674,9556093,51301,579303,13213993,4564055,9607394,13537728,4721311,9664194,13335812,4863858,9698544,12841231,4967494,9731269,13170587,5169393,9764044,13256830,5303181,9834774,13504485.349651586,5366791,9873894,13898169.749999998,5553556,9912744,14647552.849426208,5831335,9951444,15197160.489999998,5910692,9951444]
[725,"Nashoba                      ",21.26,21474489,17977668,5332822.8,23697784,19133543,5871971.7999999998,25411849,20274365,6289003.7999999998,26805348,21157439,5911057.7999999998,694688,28088852.89033493,22132725,6473631,0,27791843.604000002,22306466,6095442,32723,426391,28345672,22733730,6128165,29407907,23699381,6330455.0653249994,29650929,24483221,6411680.0653249994,29833754,24514579,6492305.0653249994,30925691,25002991,6574230.0653249994,31260414,24600261,6756060.0653249994,31083245.77955449,24524720,6852150.0653249994,31883434.353059992,24892165,6991269,32964566.540986888,25692699,7273744,33255128.344112549,26177398,7273744]
[728,"New Salem Wendell            ",50.03,1009815,579782,602215.19999999995,1068078,538560,635233.19999999995,1119947,538342,663419.19999999995,1108280,538661,599333.19999999995,70436,1124015.5376076559,570244,656374,0,1039961.19,627734,618029,3318,37952,1102692,649363,621347,1136073,642537,626107,1171083,681574,629007,1217420,707520,631982,1255062,711713,635007,1416772,739591,677181,1424931.186973576,745274,{"$f":"694961-13670","v":681291},1262167.6700000002,672920,684861,1230159.2284731646,644109,688101,1245264.42,622259,688101]
[730,"Northboro Southboro          ",17.5,9277131,7604912,1700728,11057753,8704773,2352980,12033372,9631771,2591421,12946742,10026161,2613440,307141,13338720.275598086,10464106,2862169,12445,13069614.491999999,10623654,2706679,14531,189279,13569441,11147301,2721210,14179585,11573173,2838863.6458749999,14882231,12443854,2876913.6458749999,14903362,12767292,2914613.6458749999,15041278,12932868,2951913.6458749999,15182003,12730046,3034083.6458749999,15250791.830538824,12690623,3078273.6458749999,16210848.68,13373950,3123514,16651310.611277679,13737332,3168064,16134802.42,13311213,3168064]
[735,"North Middlesex              ",43.51,32397974,13915496,19063721,33499786,15279377,19658038,34412577,15653174,20148846,36029257,16080023,18814143,2211105,36456713.541818187,16064311,20604743,0,34774968.005999997,16111990,19401015,104153,1203025,34052825,16450543,19505168,34577589,16881292,19659168,33991777,17328829,19751668,32881223,17183613,19840443,32371795,17231131,19925993,31685058,17154907,20107493,31435627.826777488,17200693,20203733.000000961,32197040.990000002,17771448,20298593.000000961,33435820.144966502,18529976,20393183,34146333.740000002,19126198,20393183]
[740,"Old Rochester                ",23.54,8705281,7603741,1530510,9257160,7909870,1701522,9923961,8215414,1954417,10120297,8156604,1890481,222176,10028263.973971292,8036971,2070404,0,9726308.7780000009,7998372,1949451,10466,138637,10036210,8109683,1959917,10099046,8089994,2124850.6151999999,10378205,8357878,2238124.4918999998,10659228,8277118,2382613.4918999998,11419777,8704098,2715679,11377043,8557549,2819494,11640017.384192124,8739091,2900926,11899255.350000001,8889101,3010154,11988191.8913587,8962996,3043394,12077635.709879227,9154169,3043394]
[745,"Pentucket                    ",26.15,22757511,10704624,12362390,24589511,11578381,13099037,24625431,12223789,13258787,25233854,12938684,12077530,1419394,26043317.600765556,14358256,13226986,0,25398255.107999999,14404858,12454267,66860,782234,24895122,14749468,12521127,25088106,15200680,12635127,24540719,15640639,12703677,24290785,16086295,12770527,23602673,16203424,12834852,22548383,15627476,12968282,22740652.535892259,15945385,13040102.000000719,23352744.289999999,16491919,13111292.000000719,24330802.105539996,17437199,13182092,24591001.459999997,18039518,13182092]
[750,"Pioneer                      ",33.630000000000003,7285294,3967896,3857345,7629462,4135816,4031666,7722039,4259679,4078816,8137059,4327512,3981402,300027,8250102.2009569379,4422230,4195800,0,8263519.067999999,4563544,3950682,21209,247084,8098758,4668314,3971891,8564268,4778263,4007811,7994487,4761551,4028736,7816227,4803095,4048786,7481050,4776255,4067561,7219392,4777146,4107161,7406666.4166055983,4744769,4128880.999999783,7354252.5499999998,4872782,4149941,7528912.3458293099,4812665,4170581,7480877.54,4952541,4170581]
[753,"Quabbin                      ",51.38,21479251,5822139,15657112,22828423,6355417,16510059,23457369,6739031,16898056,24154885,7104683,15503658,1822045,24370491.302583735,9043482,16979189,0,23447229.215999998,9241790.7475171536,15987266,85827,973446,22899542,9371400,16073093,22525878,9626834,16170613,22333577,9850748,16229913,21722178,9941651,16286563,22051647,10090036,16342038,22002910,10064723,16463038,21204474.702048939,9931036,16525257.999999378,21914160.40978086,10117115,16587418,21665640.411876366,10317745,16646098,21987482.310000002,10612170,16646098]
[755,"Ralph C Mahar                ",64.17,6412185,2094096,4365173,6917262,2152974,4764288,7718288,2334381,5383907,8079301,2414941,5068672,595688,8102223.5314832535,2701871,5551073,0,7695444.8340000007,2655320,5226780,28060,316133,7780312,2783833,5254840,8048219,2944041,5286040,7625909,2829128,5304190,7705540,2887638,5322215,7640717,2842068,5339690,7427448,2738987,5375880,7313027.7024783818,2601573,5394990,7595605.8999999985,2666288,5413830,7772179.2052953094,2691122,5432010,7840085.4000000013,2752972,5432010]
[760,"Silver Lake                  ",36.19,13321046,7724834,5693535.0000000009,14290967,8518476,6060844,15151746,9152272,6377611,16633749,9695605,6223582,731417,17042793.321339712,10087324,6815899,139570,17072736.708000001,10313024,6630012,35593,335739,17435883,10508810,6927073,18150262,11017327,7202389.2436499996,19039526,11580385,7571134.5369499996,18899966,11622559,7617506.5369499996,19669150,12263148,7663956.5369499996,20069649,12089575,7980074,20138841.102995191,12153382,8035064,20786645.581067868,12641731,8163253,20683221.322407395,12966860,8215063,20918448.416320004,13276729,8215063]
[763,"Somerset Berkley",45.9,null,null,null,null,null,null,null,null,null,null,null,null,null,0,null,null,null,8934024,6024631.0156340012,3020271,16235,120381,9240084,6119915,3120169,9949356,6253551,3771017.8262999998,10006703,6377384,3795642.8262999998,10050573,6394899,3820117.8262999998,9594365,6056531,3843167.8262999998,10019595,5882456,4137139,10632804.845514916,5777303,4855502,11100397.199999999,5893170,5210007,11820562.719098523,6097432,5723131,12334812.139999997,6312225,6024105]
[765,"Southern Berkshire           ",17.5,6853294,6969793,1733974,7077639,7054068,1779274,7434729,7019446,1862619,7749803,6862924,1735164,203923,7701585.2769377995,6957008,1900305,0,7684458.96,6952302,1789290,9606,123334,7591122,6997774,1798896,7425917,6948964,1830896,7307651,7007679,1850096,7132076,6413209,1869396,7553559,6368170,1888246,7411694,6160497,1927571,7039960.838086525,5901594,1947431.0000001986,7011413.5700000003,5742395,1966751.0000001986,7823768.9358960092,6244537,1986791,7868392.9199999999,6306994,1986791]
[766,"Southwick Tolland Granville",34.049999999999997,12815911,5574268,7241643,13803858,5990969,7812889,14257212,6442013,8037753,14939371,6703364,7499327,881347,15526560.214354068,6881234,8213061,432265,14765244.486,7056511,8140267,43700,503859,16668383,8578921,9431433,16707052,8956864,9503073,16783207,9329641,9546823,16539210,9831214,9588623,16275297,10235762,9628898,16154792,10380318,9715578,15643746.01680854,10452364,9760098.0000004452,15797808.300000001,10650508,9803658.0000004452,16378978.109002503,10967956,9846558,16651613.440000001,10981419,9846558]
[767,"Spencer East Brookfield      ",50.09,16645826,4067456,12578370,17597929,4757111,13106216,18350163,5038864,13522201,19528044,5259510,12767994,1500540,19758448.511387561,5909466,13983163,0,18373741.745999999,6026675,13166267,70682,795214,18885409,6269918,13236949,19620951,6527063,13315389,19752991,6679987,13363889,19886690,6981057,13412164,19202300,7237563,13457639,18292027,7540396,13553834,17851020.249539986,7818739,13601594,17809206.539999999,8048938,13648634,18497944.461317483,8498469,13695254,18621361.77,8878789,13695254]
[770,"Tantasqua                    ",45.53,13580390,7605305,6707029,15046973,8686343,7420522,15970260,9193635,7855113,16430281,9386267,7217816,848263,16633736.353684211,9400405,7904757,0,15980906.310000001,9314281,7442962,39957,462563,16224252,9446479,7482919,16427458,9458186,7547159,17338059,10016205,7602665.309475,17582598,10044332,7701145.309475,18183142,10066601,8116541,18521079,9975508,8545571,18792623.115065213,10112568,8680055,18681754.369813181,10189936,8727575,19884199.797400139,10661347,9222853,20061782.279999997,10777102,9284680]
[773,"Triton                       ",17.5,24298847,17072630,7792907.9999999981,25952449,18085444,8297753,26566548,19085868,8463498,27588090,19936190,7824273,919536,27881099.599617224,20765902,8568933,0,27238757.220000003,21107766,8068337,43314,535182,26824765,21271799,8111651,26774026,21942837,8226571,26448890,22380186,8295596,25789437,21866153,8362546,25722812,21834988,8428221,24821868,20787254,8564841,24376762.312073089,20355041,8636541,25305209.704000004,20876797,8708421,25527954.966463432,21060563,8777631,26062844.622510001,21501846,8777631]
[774,"Upisland",17.5,2818004,3631100,787574.4,2663328,3211483,806324.4,2717737,2976843,824474.4,2781909,2936509,753921.4,88603,2963440.2602870818,3058634,825674,0,2883583.122,2954241,777438,4174,53162,2947159,2938229,781612,2938330,2789900,795572,2924404,2799531,804072,3060576,2703741,812797,3393222,2857444,821922,3590852,2932767,842602,3842627.4814848243,3031561,854362,4032194.76,3211065,866452,4538258.3027917985,3744064,879292,4423020.3299557688,3648991,879292]
[775,"Wachusett                    ",39.909999999999997,48282346,33777538,14580116,51403850,35230245,16173605,54801725,35455524,19346201,58236852,36308065,19622662,2306125,59911476.039043061,37367519,21490211,1053746,59254110.450000003,37595289,21243244,114043,1365920,60601665,38212334,22389331,63034725,39189250,24301041.254999999,63737669,39961275,24731803.504425,63713837,39643665,24988919.504425,65656785,40218460,25438325,65958496,39859181,26385616,67325906.778581902,40480754,26845153,68658655.170000017,40985980,27699197,71271709.733221024,42635066,28647835,73935156.649260655,44374979,29560178]
[778,"Quaboag",60.61,11141894,3567006,7574888,11791190,3881276,7991217,12254851,4136812,8281608,12617536,4373441,8157632,347753,12703713.843444977,4409832,8335277,0,12453350.286,4490234,7848331,42133,479238,13025123,4631357,8393766,12911828,4742222,8447086,13046235,4894859,8479786,13203478,5067470,8512186,13357209,5095756,8544111,13599319,5113624,8615171,14168290.710392267,5082901,9085390,13641132.549999999,5096479,9122230,14192752.457797423,5363869,9158560,14111900.640000004,5557868,9158560]
[780,"Whitman Hanson               ",47.15,30538240,9106058,21432182,32259424,9879380,22380044,33351647,10636667,22947017,35222900,11243141,21457945,2521814,36937606.644976079,12830981,23500164,606462,36853531.943999998,13057622,23339328,125296,749752,36625906,13430108,23464624,37691613,14011112,23680501,38579785,14560975,24018810,38173063,15278470,24120485,38322360,16147370,24219585,38333512,16774824,24436230,38233603.852514476,17627386,24552030,38780823.010000005,18467197,24665460,39870087.686414868,19523939,24776700,40183483.009999998,20355354,24776700]
[801,"Assabet Valley               ",37.32,8391985,7333682,2477600.4,9303432,7595626,2733990.4,9764859,7625516,2878463.4,9921868,7323853,2679432.4,314896,10283013.364976078,7403603,2934442,0,9970968.1919999998,7231682,2763012,14833,173097,10706516,7640401,3066115,11638299,8079707,3688749.9498749999,11645533,8015009,3773901.0669062501,11767240,7930239,3884226.0669062501,12473207,8071058,4402149,12802558,8119414,4744172,13483457.122205222,8363523,5119934,14604237.100950003,8891580,5712657,15341279.497413153,9400672,5955175,16217721.547997823,10027775,6208186]
[805,"Blackstone Valley            ",39.08,9538740,4657490,4881250,11634064,5661661,5972403,13058784,6650789,6607116,14423992,7306124,6462753,759526,15755118.710813399,8124101,7077833,553185,16047786.84,8574515,7329879,39350,290739,16495490,8881138,7614352,17182760,9269607,7913153,17574009,9547590,8026419,17695720,9764199,8056069,18218330,10300542,8086169,18149119,10436837,8153324,18527694.600344807,10824531,8190134.0000003679,19306561.990193069,11314851,8227334.0000007395,20173355.695973717,11937858,8264744,20447639.179795522,12329585,8264744]
[806,"Blue Hills                   ",32.39,8736268,7619162,3073959.2,10491975,8307024,3600320.2,11368895,8741919,3875673.2,12148540,8967009,3684433.2,433008,12332269.926889954,8910498,4035092,0,12217671.845999999,9020653,3799362,20397,236383,12473226,9088881,3819759,12759498,9108222,3898019.6005500001,13021004,9407988,3973984.1981125004,13656513,9688001,4130304.1981125004,14060446,9823319,4237127,14501647,9816982,4689160,14512296.336987162,9777318,4734978,14654739.316559998,9802331,4852408,15320678.136437576,10064969,5255709,15853872.642718541,10498516,5377315]
[810,"Bristol Plymouth             ",51.75,11388476,4427094,6961382,13514890,5510850,8086042,14637445,6248486,8665617,15904781,6720290,8345601,980805,17087281.950622011,7152445,9139878,794959,17171584.145999998,7555546.2191998027,9422839,50586,492612,17835184,7974320,9860864,18840987,8467645,10373342,19809952,9275499,10562802.050000001,19738678,9454533,10595527.050000001,20776046,10001847,10774199,20622505,9983312,10847624,21211911.426807255,10210686,11001225,21504737.259999998,10229317,11289055,22657735.468634516,10614555,12043180,23238134.84,11152285,12133330]
[815,"Cape Cod                     ",17.5,8147786,7106299,1812921.2,8939780,8238693,1951441.2,8959018,8344063,1986191.2,10056493,8988695,1949175.2,229074,10128081.632153112,9004924,2134684,0,9662450.2679999992,8722672,2009976,10791,131042,9969203,9140927,2020767,10009944,9018171,2047487,9858315,8884266,2063837,10012278,8734661,2080187,10180996,8693872,2096487,9867056,8195699,2130477,10216575.999388266,8480852,2149167,9979923.8499999996,8211309,2166897,10322933.41173223,8376084,2184147,11419229.199999999,9275007,2184147]
[817,"Essex North Shore",23.94,5267177,4108620,1440224,5871980,4830228,1577696,6088638,5073417,1627614,6185029,5030466,1476268,173496,6597337.6428708136,5303791,1616769,0,6438150.5279999999,5257509,1522317,8173,97479,6657128,5422037,1530490,7032311,5606831,1578772.356525,{"$f":"7223671+2406437","v":9630108},{"$f":"5744390+1758848","v":7503238},{"$f":"1633572.19536875+736211+279092","v":2648875.19536875},10537063,8095297,{"$f":"2685804.19536875+374740","v":3060544.19536875},12253746,9478745,3080269.19536875,14380155,10925830,3454325,16129989.412692271,12242834,3887155,17744843.639999997,13488298,4256546,18580518.657194056,13828438,4752081,19917637.840199184,14966372,4972500]
[818,"Franklin County              ",48.01,5609534,2938885,2670649,6238167,3104015,3134152,6391771,3127422,3264349,6770398,3246800,3153041,370557,6937473.1758851679,3512111,3453126,0,6832233.6720000003,3565201,3251395,17455,196151,6816703,3635743,3268850,7147655,3823257,3344405.5191250001,7343776,3944755,3416932.8843999999,7425790,4056096,3437610.8843999999,7597275,4196134,3449560.8843999999,7510077,4120671,3475025.8843999999,7241932.8547982732,3955977,3488135.8844003933,7536848.149849263,4066594,3501516,8190176.2362149609,4215767,3974409,8790347.6998241916,4547736,4242612]
[821,"Greater Fall River           ",65.22,14786630,3199554,11587076,17060238,4544760,12983299,18611314,5287988,13901536,19717271,5629515,13024771,1530717,20071537.276937805,5932617,14264378,0,19949613.684,6306552.870136939,13431054,72104,796545,20383237,6467055,13916182,20957230,6715829,14241401,21919605,7123557,14796048,22550978,7369160,15181818,23275199,7579429,15695770,23332972,7431313,15901659,23441355.209892597,7581869,15945069,24261247.829999998,7936940,16324308,25634449.811339363,8117565,17516885,26716946.030000001,8563722,18196847]
[823,"Greater Lawrence             ",77.95,20801927,3447460,17354467,23397863,2950685,20447178,24270329,2925720,21344609,22243985,2764043,19164616,2252293,21086064.186794262,2952089,20988571,0,21516841.079999998,3448145,19762420,106093,1154758,22406284,3637418,19868513,23647271,3930189,19925633,24165774,3918941,20246833,25639135,4446591,21192544,25953903,4514175,21439728,27130809,4613664,22517145,28198339.274539281,4675584,23522755,29226821.741229992,4527429,24699393,31698687.99088544,4601974,27096714,32861439.491759997,4907043,27954396]
[825,"Greater New Bedford          ",66.97,22363849,4239109,18124740,25632190,5757999,20279884,27124010,6752296,21235693,28611071,7172648,19857283,2333698,30517951.37531101,7763883,21747161,1006907,30298830.222000003,8132720,21740799,116714,949205,31299153,8624602,22674551,32530714,8972206,23558508,33301712,9217036,24084676,33725633,9588800,24138401,34323634,9854302,24469332,34911179,10102835,24808344,35334771.991298027,10506130,24873053.999999352,36428065.790000007,10914841,25513225,38180025.886437774,11239871,26940155,38691322.399999999,11380986,27384112]
[828,"Greater Lowell               ",65.53,24208574,6905055,17303519,27036778,7606125,19430653,27800682,7909037,19937045,29465237,8510997,18820473,2211849,29630457.502009567,8466385,20611676,552397,30423897.84,9232155,20785128,111584,319986,31597336,9860549,21736787,33772319,10353219,23419100,34324570,10693693,23630877,34545660,10980189,23685627,34992565,11434404,23740502,35531900,11891870,23860787,37509502.791465104,12482002,25027501,40339926.969999999,13264027,27075900,42372428.797708727,13540919,28831510,43544496.41956456,14050785,29582555]
[829,"South Middlesex              ",39.61,8446819,8588762,2167094,9208715,8268805,2366025,9654723,8165281,2493762,9715858,7715501,2327422,273527,9614405.0465071779,7341351,2548930,0,9792459.7200000007,7492557,2400022,12884,152274,10544997,7892246,2652751,10989581,7883290,3269602.165025,11813873,8259858,3686820.5708499998,11573926,7868569,3818290.5708499998,11914131,7823272,4090859,11942604,7592237,4386161,12170547.123704944,7850604,4407641.0000002151,12903118.393199999,8092298,4810820,13895820.049220048,8568391,5327429,15367478.658029996,9170454,6197025]
[830,"Minuteman                    ",19.440000000000001,6066584,5495202,2078300.4,6914249,6039013,2248003.4,6679422,5830500,2272053.4,6716739,5664903,2053740.4,241363,6448437.4476555018,5389510,2249201,0,6278768.8019999992,5380998,2117803,11369,130554,6529848,5563357,2129172,6720937,5635287,2146052,6466600,5367418,2155902,7154168,5853666,2166677,7012158,5684556,2177027,6744963,5436063,{"$f":"2198257-133774","v":2064483},6331977.4709823718,5038148,2074863,6123549.9733787654,4836180,2085122.9999998973,6695949.827739303,5244391,1977748,7604263.0698360428,5992288,1977748]
[832,"Montachusett                 ",59.61,13742072,4888977,8853095,15840334,5296832,10543502,17251828,5727859,11523969,18210278,5909892,11006825,1293561,19239467.091291867,6487260,12054378,697829,19087950.695999995,6671879,12177840,65376,543116,19926696,7025474,12901222,21362521,7634846,13727675,21644238,8117570,13764000,22098279,8502935,13800675,22705864,8952868,13837825,22983366,9077316,13920325,23339671.662662312,9194861,14144811,24114937.890482295,9381190,14733748,25030257.115778331,9604460,15425797,25382631.02025383,9937436,15445809]
[851,"Northern Berkshire           ",61.14,4866072,1480368,3385704,5410246,1532260,3877986,5840580,1651415,4189165,6022166,1628309,3931780,462077,6405552.1010526326,1973265,4305980,126307,6194470.0919999992,1959117,4173354,22404,247404,6032835,2076564,4195758,{"$f":"5901249+265615+518532","v":6685396},2057940,{"$f":"4211358+97719+296789","v":4605866},7074072,2680139,4617441,7193835,2748884,4629241,7377904,2797399,4641116,7221555,2766472,4666196,7333874.6106536184,2825783,4679876,7476126.9300747626,2937807,4693196.0000001332,7897883.8046400165,3067978,4829906,8244375,3172855,5071520]
[852,"Nashoba Valley               ",28.77,5158946,3321776,1931065.2,5389599,3394928,2023465,6238440,3743767,2494673,7033183,4130123,2597762,305298,7866987.6486124406,4598216,2844999,423773,8233340.9220000003,5083135.795428413,3080894,16540,185963,8193934,5151981,3097434,{"$f":"8811361+786722","v":9598083},5561630,{"$f":"3273055.84085+294572","v":3567627.8408499998},9643398,6347664,3583552.8408499998,10305011,6808953,3602853.8408499998,10872297,7267551,3620453.8408499998,10716963,7187884,3658183.8408499998,10765279.843473723,7259409,3678433.8408499998,10686139.044199999,7286534,3698114,10895286.797909893,7517024,3717284,11332310.899736676,8006848,3717284]
[853,"Northeast Metropolitan       ",42.78,13805435,8368989,5436446,15298678,8834989,6463689,16448129,9382830,7065299,17520203,9753752,6949698,816753,18195495.392153114,9906992,7611122,677381,18075511.403999995,10403784,7787386,41897,489726,18846605,10860660,7985945,19273753,10987834,8285919,19964083,11419748,8564871.3160750009,20104161,11494298,8609863,20386925,11746592,8640688,20458840,11667126,8818904,21001845.715027004,11813188,9188658,21695597.037383042,11983464,9712133,22663144.184447043,12097696,10565448,23843254.848850004,13124735,10745350]
[855,"Old Colony                   ",37.65,4989253,2641742,2546991,5820992,2972628,2935912,6621083,3475932,3292273,6827603,3546608,3028077,355870,7042233.7959808633,3704307,3316268,21659,6779947.8360000001,3833931.4919956997,3142926,16873,190453,6636605,3861415,3159799,6993936,4108774,3179079,7318581,4348047,3191479,7268292,4341070,3203704,7329579,4522220,3215679,7070588,4320680,3240924,7132027.5606843857,4376933,3254694,7339792.9800000004,4416012,3268404,7752983.70072567,4672558,3282354,7921696.2200000016,4845112,3282354]
[860,"Pathfinder                   ",57.42,6096738,2786084,3310654,6802165,2722408,4079757,7765674,2973205,4792469,8192718,3079140,4575812,537766,7922637.1368421055,3002367,5011306,0,8264011.2758400002,3272693.2524828459,{"$f":"4773477+124459","v":4897936},25626,226728,8310204,3406888,4923562,9047750,3742148,5305602,9290876,3937256,5362159.7480999995,8740342,3869273,5376309.7480999995,9330426,4172839,5391009.7480999995,9305841,4136686,5422744.7480999995,9526647.0681404825,4148472,5440054.748100346,9675019.1999999993,4221512,5459444,10638203.377264135,4587025,6051178,10484384.559895158,4455062,6051178]
[871,"Shawsheen Valley             ",19.22,13777348,11493572,3136056.8,15354177,11614893,3739284,16399600,11925006,4474594,17333155,11848099,4908224,576832,18045396.186028711,12240655,5375355,429386,17891209.259999998,12538270,5465628,29342,342521,18725824,13125229,5600595,19899113,13950931,6159525.7945499998,20418808,14772092,6206185.7275124993,20894661,15270792,6241110.7275124993,20905729,15410372,6275835.7275124993,20610764,15409506,6350690.7275124993,20779974.22357462,15673209,6391250.7275124993,21319072.907946814,16426446,6431361,21756421.654655538,17141547,6470511,21443569.573314432,17321815,6470511]
[872,"Southeastern                 ",60.07,14936857,5393902,9542955,16539295,5950716,10588579,17132435,6118865,11013570,18651251,6606221,10778323,1266707,19547466.962679427,6794855,11804129,948483,18976858.698000003,6830054,12007606,64462,713969,19791640,7163181,12628459,20139028,7253938,12885090,20816397,7493594,13322803,21227292,7726584,13500708,22565360,8283596,14281764,23532615,8586706,14945909,24658561.658426791,9068356,15590206,25369687.710253701,9264693,16104995,26705365.084122326,9834210,16871155,26978734.039999999,10323654,16871155]
[873,"South Shore                  ",41.93,5603587,3304900,2298687,6624462,3491969,3132493,7292760,3896693,3409503,8002552,4267730,3342052,392770,8068943.0905263163,4326150,3660126,82667,8159816.8379999995,4585112,3524139,18919,214385,8361233,4747142,3614091,8898769,5090951,3814659,8843168,4991245,3851923,8975128,5135646,3866773,9246000,5264595,3981405,9836290,5547660,4288630,10085090.357912248,5811066,4307229.9999998137,10179751.535079999,5849405,4342636,10278115.468662532,5835267,4442848,9696307.4090200011,5540283,4442848]
[876,"Southern Worcester           ",54.89,9571032,4238701,5725706.91653415,12372691,5102480,7282028,13883285,5546098,8337187,15012157,5773697,8266904,971556,15581392.28478469,6076724,9053691,450977,15894028.614,6360940,9350174,50196,132719,15689978,6367969,9400370,16052759,6598237,9454522,16721381,6992891,9728490,17132815,7280728,9852087,17642332,7557770,10084562,17712277,7652484,10147042,18134754.555626247,7810739,10324016,18654311.879813455,8130478,10527326,19584275.952675201,8498663,11085613,20163226.599596739,8939018,11243208]
[878,"Tri County                   ",29.57,9016173,5636406,3446914,10212901,5924588,4288313,11290959,6500818,4790141,12442959,7015291,4856871,570797,12923675.155598087,7663565,5319115,0,13370766.120000003,8194447,5076999,27256,238385,13542704,8344586,5198118,14397568,8892150,5505418,14698799,9224159,5529518,15102844,9768353,5553893,15108183,10085613,5577743,15221337,10205482,5630378,15811834.242360983,10767622,5659267.9999997113,15797799.39597,10833554,5687408,17150334.906830095,11677869,5716838,16446455.91653554,11583064,5716838]
[879,"Upper Cape Cod               ",24.39,7297579,5382948,2593253,7871760,6175413,2762062,8334135,6672582,2884730,9055851,7109422,2747270,322869,9359958.3663157895,7254471,3008736,0,9469840.0140000004,7444031,2832966,15209,177786,9659521,7711247,2848175,9618705,7624553,2874735,10084443,8024477,2891885,10314759,8119608,2909460,11054587,8517332,2927510,11535664,8638647,2968265,11636066.279966651,8609575,3026491,12366494.259999998,9126256,3240238,12375568.23018039,9213425,3262258,12856564.119999999,9721410,3262258]
[885,"Whittier                     ",47.91,11536179,7149342,4829933,11990774,6974949,5032319,12092901,6752086,5340815,12653763,7029551,5032746,591466,14137619.469473682,7657177,5511728,968714,14275034.699999999,7892558,6260014,33606,212122,15261656,8442171,6819485,16269465,8729868,7563919.4677499998,16875591,9062382,7879914.9927000003,17494788,9523686,8010858.9927000003,18310028,10028034,8281994,19322789,10384757,8938032,19762413.323503122,10544137,9218276,20237272.480202377,10694772,9542746,21419842.533375792,11214984,10204859,22219393.409999993,11408976,10835866]
[910,"Bristol County               ",47.16,4169889,2377115,1792774,4678752,2165472,2513280,4979099,2115459,2863640,5282006,2203905,2754395,323706,5380792.1852631588,2265291,3016539,98962,5285460.1679999996,2485563.5502734138,2933494,15748,175709,5518473,2608341,2949242,5541328,2713112,2964202,5650536,2907343,2973677,5797631,3091923,2983352,5839373,3169711,2992952,6281807,3336386,3015502,6434258.3084468814,3461793,3027862,6272468.1098745503,3267780,3039532,6469200.7539703678,3230305,3238896,6594994.5600000005,3396297,3238896]
[915,"Norfolk County               ",23.91,2581809,2385271,605727.6,3153664,2376238,777426,3314326,2403121,911205,3538156,2513756,916670,107730,3601674.9504306214,2554390,1003912,43373,3636172.7040000004,2694070,968927,5294,79925,3894722,2866575,1028147,4009287,2928531,1097231.0205000001,4057136,3005158,1109762.7805750002,3937649,2863375,1119500.7805750002,4240624,3129643,1126275.7805750002,4615273,3398333,1216940,4595770.9606507998,3415991,1225309.999999749,4801803.415529999,3550450,1251353,4971875.5058426186,3680317,1291559,4921619.8021892179,3697896,1291559]
[999,"State Total",41,7551933454,4743946672,3288603061.8000002,8014672861.3798904,4876428772,3505192038.9270248,8406096436.3857374,4997705374,3725343326.8219399,8811314229.2926865,5110365426,3536496064.2495604,411999998,9088557473.2006893,5250106061,3869526145,173630555,8921047970,5302200670.3241692,3850884455.5488005,20667814,200480583,9119340580.3732376,5413602268,3990504093.3881507,9467117140.6663704,5582113529,4173223954.2949104,9711217584.8007889,5748475145,4300854366.3566036,9866011313.0677662,5817618237,4400335961.8829308,10090177272.100754,5943909029,4511521973.6381674,10128238382.975546,5926185567,4627705061.1446953,10379173843.167685,6046916786,4745645155.949439,10777588551.40456,6246842886,{"$f":"SUM(AW10:AW447)","v":4906614765.8021221},11359048511.850758,6513607368,5175694094,11626531095.326303,6705321561,5283343073.4799995]

{"sheet":"dist435","index":16,"n_rows":448,"n_cols":46,"rows_kept":448,"cut":false,"hidden":false,"merged":[[5,41,5,45],[6,39,8,39],[2,17,2,18],[2,20,2,21],[5,34,5,39],[6,35,8,37],[6,34,8,34],[6,38,8,38]]}
[]
[null,"source: found22_SOA_one_sixth"]
[null,"2021-03-05"]
[null,null,"Foundation Enrollment",null,null,null,null,null,null,null,null,null,null,null,null,null,null,null,null,null,"Foundation Categories"]
[1,2,3,4,5,6,7,8,9,10,11,12,13,14,15,16,17,18,19,20,21,22,23,24,25,26,27,28,29,30,31,32,33,34,{"$f":"AH5+1","v":35},36,37,38,39,40,41,42,43,44,45,46]
[null,null,null,null,null,null,null,null,null,null,null,null,null,null,null,null,null,null,null,null,null,null,null,null,null,null,null,null,null,null,null,null,null,null,"Low-income group assignment",null,null,null,null,null,null,"Low-income enrollment determination"]
[null,null,null,null,null,null,null,null,null,null,null,null,null,null,null,null,null,null,null,null,null,null,null,null,null,null,null,null,null,null,null,null,null,null,"Total \nLow-Income Enrollment","Total Enrollment of Students Attending School in the District Plus the Total Resident Students Attending Charter Schools",null,null,"Low-Income % \nfor Group Assignment","Low-Income\nGroup",null,null,null,"Estimated","FY22"]
[null,null,null,null,null,null,null,null,null,null,null,null,null,null,null,null,null,"Low-Income","Low-Income",null,null,null,null,null,null,null,null,null,null,null,null,null,null,null,null,null,null,null,null,null,null,null,"FY16 total","Low-Income Enrollment","Low-Income Enrollment","Greater #"]
["LEA","District Name","PK","K Half","K Full","Elem","Jr/Middle","High School","Vocational","Assumed Special Education In-District","Assumed Special Education Tuition","EL PK-5","EL 6-8","EL high school/voc","Low-Income","Total Foundation Enrollment","WAF","Group","Percentage",null,"Administration","Instructional Leadership","Classroom & Specialist Teachers","Other Teaching Services","Professional Development","Instructional Materials, Equipment & Technology","Guidance & Psychological Services","Pupil Services","Operations & Maintenance","Employee Benefits & Fixed Charges","Special Education Tuition","Total Foundation Budget",null,null,null,null,null,null,null,null,null,"FY16 Low-Income %","Foundation Enrollment"," Based on FY16 %","Identified through Direct Certification","for Ch.70"]
[1,"Abington                     ",51,0,177,801,520,661,8,83,22,101,29,34,670,2193,1.0329999999999999,6,0.31569999999999998,null,1284224.9078899997,1884603.8570999997,11019216.09182,2349975.6460599997,452503.24310999986,1330485.5,831227.05405000004,1060143.7691199998,2509132.9620899996,3179425.83,628856.80000000005,26529795.66124,null,null,{"$f":"O10","v":670},null,2122.5,null,{"$f":"S10","v":0.31569999999999998},{"$f":"R10","v":6},null,0.25217391304347825,1955,{"$f":"ROUND(AP10*P10,0)","v":553},670,{"$f":"O10","v":670}]
[2,"Acton                        ",0,0,0,0,0,0,0,0,0,0,0,0,0,0,1.06,0,0,null,0,0,0,0,0,0,0,0,0,0,0,0,null,null,{"$f":"O11","v":0},null,0,null,{"$f":"S11","v":0},{"$f":"R11","v":0},null,0,0,{"$f":"ROUND(AP11*P11,0)","v":0},0,{"$f":"O11","v":0}]
[3,"Acushnet                     ",28,0,87,489,324,293,0,46,12,6,0,0,279,1207,1,6,0.31030000000000002,null,671570.37000000011,964731.85999999987,5423778.1199999992,1258041.1599999999,224632.95999999996,696291.64999999979,418945.94,483679.25,1310017.8000000003,1694398.1500000001,343012.80000000005,13489100.060000001,null,null,279,null,899,null,0.31030000000000002,6,null,0.19774919614147909,1244,239,279,279]
[4,"Adams                        ",0,0,0,0,0,0,0,0,0,0,0,0,0,0,1,0,0,null,0,0,0,0,0,0,0,0,0,0,0,0,null,null,0,null,0,null,0,0,null,0,0,0,0,0]
[5,"Agawam                       ",57,0,228,1272,871,1059,57,134,34,145,20,18,1321,3516,1,7,0.376,null,2002819.99,2998174.1499999994,18021899.34,3618618.3399999994,744487.07,2169069.2499999995,1327139.9100000001,1844221.16,3918086.91,5234339.67,971869.60000000009,42850725.390000008,null,null,1321,null,3513,null,0.376,7,null,0.33316720657861948,4013,1171,1321,1321]
[6,"Alford                       ",0,0,0,0,0,0,0,0,0,0,0,0,0,0,1,0,0,null,0,0,0,0,0,0,0,0,0,0,0,0,null,null,0,null,0,null,0,0,null,0,0,0,0,0]
[7,"Amesbury                     ",21,1,141,701,498,562,16,74,19,22,7,9,579,1930,1,6,0.30859999999999999,null,1084816.43,1584642.29,9242896.4499999993,1986288.97,380614.77999999997,1160389.5900000003,700539.17000000016,894998.76,2120446.5399999996,2775191.97,543103.6,22473928.549999997,null,null,579,null,1876.5,null,0.30859999999999999,6,null,0.27401837928153716,2394,529,579,579]
[8,"Amherst                      ",33,0,133,748,147,0,0,39,10,125,13,0,459,1045,1,8,0.4219,null,605800.76000000013,929912.44,5356227.99,1223543.6500000001,231674.06,549460.17000000004,356657.23,453831.82000000007,1146613.73,1625731.8499999999,285844,12765297.700000001,null,null,459,null,1088,null,0.4219,8,null,0.43959731543624159,1192,459,368,459]
[9,"Andover                      ",56,0,315,2076,1404,1796,9,214,56,134,24,11,605,5628,1.0880000000000001,2,0.1089,null,3369506.6022399999,4679460.5171200009,25891650.177919999,6266451.4694400001,1035711.0572799998,3380381.0999999996,2099799.3632000005,2152436.3027200005,6710027.6985600004,7553391.790000001,1600726.4000000001,64739542.478479996,null,null,605,null,5553.5,null,0.1089,2,null,7.5798319327731095E-2,5950,427,605,605]
[10,"Arlington                    ",48,0,457,2473,1395,1486,1,223,58,189,32,15,663,5836,1.0389999999999999,2,0.11559999999999999,null,3347597.9873600001,4653694.5381699987,25418906.773259997,6378833.78431,1029330.0685599997,3396592.6099999994,2027751.0404099999,1978765.4528699995,6634766.2801200002,7888372.200000002,1657895.2000000002,64412505.935059994,null,null,663,null,5734.5,null,0.11559999999999999,2,null,0.1135765325310267,5318,663,578,663]
[11,"Ashburnham                   ",0,0,0,0,0,0,0,0,0,0,0,0,0,0,1,0,0,null,0,0,0,0,0,0,0,0,0,0,0,0,null,null,0,null,0,null,0,0,null,0,0,0,0,0]
[12,"Ashby                        ",0,0,0,0,0,0,0,0,0,0,0,0,0,0,1,0,0,null,0,0,0,0,0,0,0,0,0,0,0,0,null,null,0,null,0,null,0,0,null,0,0,0,0,0]
[13,"Ashfield                     ",0,0,0,0,0,0,9,0,0,0,0,0,0,9,1,0,0,null,3648.33,6589.17,66468.69,4643.82,2077.7400000000002,12244.23,3668.4,4941.3599999999997,16505.46,13787.82,0,134575.02000000002,null,null,0,null,0,null,0,0,null,0,19,0,0,0]
[14,"Ashland                      ",22,0,192,1021,675,793,2,103,27,100,37,26,544,2694,1,4,0.20080000000000001,null,1506954.95,2141557.31,12090891.699999999,2798491.52,491939.58999999991,1611559.35,947621.12000000011,1061711.78,2972072.8999999994,3752482.91,771778.8,30147061.930000003,null,null,544,null,2709,null,0.20080000000000001,4,null,0.15437048917401763,2494,416,544,544]
[15,"Athol                        ",0,0,0,0,0,0,0,0,0,0,0,0,0,0,1,0,0,null,0,0,0,0,0,0,0,0,0,0,0,0,null,null,0,null,0,null,0,0,null,0,0,0,0,0]
[16,"Attleboro                    ",105,0,361,2285,1497,805,1187,247,49,249,43,65,2277,6188,1,7,0.37690000000000001,null,3523665.8899999997,5267971.21,35066608.730000004,6469052.0500000007,1408958.8,4466480.1500000004,2333896.9800000004,3226984.6399999997,7866629.1200000001,9710262.5,1400635.6,80741145.670000002,null,null,2277,null,6041,null,0.37690000000000001,7,null,0.36792752701843612,6292,2277,2137,2277]
[17,"Auburn                       ",32,0,161,947,611,685,1,92,24,33,14,11,615,2421,1,5,0.2467,null,1351066.31,1945752.0299999998,11075780.83,2504119.4900000002,454422.06,1431398.8199999998,855835.11999999988,1014940.69,2642290.6900000004,3405809.1000000006,686025.60000000009,27367440.740000006,null,null,615,null,2493,null,0.2467,5,null,0.25053350405463082,2343,607,615,615]
[18,"Avon                         ",11,0,43,236,147,128,0,21,6,23,8,3,274,560,1,7,0.39400000000000002,null,324112.54999999993,497035.65,2976883.1399999997,589071.53,126520.95000000001,327319.80000000005,212774.14,313094.57,614550.96999999986,863370.42999999993,171506.40000000002,7016240.1299999999,null,null,274,null,695.5,null,0.39400000000000002,7,null,0.4896421845574388,531,274,274,274]
[19,"Ayer                         ",0,0,0,0,0,0,0,0,0,0,0,0,0,0,1,0,0,null,0,0,0,0,0,0,0,0,0,0,0,0,null,null,0,null,0,null,0,0,null,0,0,0,0,0]
[20,"Barnstable                   ",124,0,330,1838,1244,1621,52,196,50,368,97,135,2239,5147,1,8,0.4521,null,2987885.5400000005,4560056.3,27854309.759999998,5344433.42,1157540.0699999998,3215733.6899999995,2015557.0100000002,2959073.1100000003,5800992.4000000004,7913459.04,1429220,65238260.339999989,null,null,2239,null,4952,null,0.4521,8,null,0.34213401310997815,5492,1761,2239,2239]
[21,"Barre                        ",0,0,0,0,0,0,0,0,0,0,0,0,0,0,1,0,0,null,0,0,0,0,0,0,0,0,0,0,0,0,null,null,0,null,0,null,0,0,null,0,0,0,0,0]
[22,"Becket                       ",0,0,0,0,0,0,12,1,0,0,0,0,0,12,1,0,0,null,7662.1500000000005,8785.56,97856.65,14811.300000000001,3215.65,16714.34,4891.2000000000007,6588.48,25132.449999999997,21924.58,0,207582.36000000004,null,null,0,null,0,null,0,0,null,0,9,0,0,0]
[23,"Bedford                      ",21,0,161,994,619,863,1,101,26,94,10,10,348,2649,1.0820000000000001,3,0.13370000000000001,null,1584162.3673999999,2215121.9248399995,12371858.153760003,2946952.3172400007,494898.54434000002,1598571.8499999996,991998.51506000012,1048978.2688800001,3145959.9895600001,3587766.33,743194.4,30729462.661080003,null,null,348,null,2602,null,0.13370000000000001,3,null,0.13152804642166344,2585,348,304,348]
[24,"Belchertown                  ",35,0,138,779,556,707,6,83,22,29,2,1,521,2204,1,4,0.2389,null,1223461.26,1754764.1800000002,10028406.700000001,2238870.7499999995,407311.79,1327968.79,784740.74000000022,933019.67000000016,2405349.79,3067364.72,628856.80000000005,24800115.190000001,null,null,521,null,2180.5,null,0.2389,4,null,0.2182423990004165,2401,481,521,521]
[25,"Bellingham                   ",27,0,148,813,573,619,17,83,22,46,6,7,554,2184,1,5,0.2646,null,1220257.32,1755799.6999999997,10052664.709999999,2248542.9999999995,411916.29000000004,1306192.2800000003,776161.34,924078.12,2401346.79,3080066.41,628856.80000000005,24805882.760000002,null,null,554,null,2093.5,null,0.2646,5,null,0.24917491749174916,2424,544,554,554]
[26,"Belmont                      ",31,18,235,1760,1104,1361,49,173,45,283,37,18,410,4534,1.0409999999999999,2,9.3399999999999997E-2,null,2614114.2392099993,3621249.5827200003,20106206.786879998,4892772.1829400007,802254.14519999991,2757305,1617083.3517899998,1602067.9990199998,5266248.0990299983,6128865.8599999994,1286298,50694465.246789992,null,null,410,null,4390,null,9.3399999999999997E-2,2,null,7.3869104908565936E-2,4156,335,410,410]
[27,"Berkley                      ",10,0,66,400,262,0,0,28,7,7,3,0,194,733,1,4,0.22950000000000001,null,408214.22,589052.83000000007,3120510,811280.26,137271.84,371928.66,235401.88000000003,231995.94,794247.17,1050538.1800000002,200090.80000000002,7950531.7800000003,null,null,194,null,845.5,null,0.22950000000000001,4,null,0.2033195020746888,723,149,194,194]
[28,"Berlin                       ",0,0,0,0,0,0,0,0,0,0,0,0,0,0,1.026,0,0,null,0,0,0,0,0,0,0,0,0,0,0,0,null,null,0,null,0,null,0,0,null,0.14473684210526316,152,0,0,0]
[29,"Bernardston                  ",0,0,0,0,0,0,0,0,0,0,0,0,0,0,1,0,0,null,0,0,0,0,0,0,0,0,0,0,0,0,null,null,0,null,0,null,0,0,null,0,0,0,0,0]
[30,"Beverly                      ",86,0,368,1783,1096,1303,20,175,46,130,24,38,1413,4613,1,6,0.307,null,2601637.2699999991,3814256.4899999998,22205261.52,4793041.17,914797.7,2758724.78,1670979.5400000003,2124438.4000000004,5067293.7299999995,6660413.1900000004,1314882.4000000001,53925726.18999999,null,null,1413,null,4603,null,0.307,6,null,0.27745142340713963,4426,1280,1413,1413]
[31,"Billerica                    ",80,0,372,1873,1205,1199,5,178,46,51,14,13,1074,4694,1.0009999999999999,4,0.23269999999999999,null,2608505.2493499992,3733978.518269999,20971359.619209997,4889660.1153399982,862446.74515999982,2733454.0100000002,1627931.2149099996,1841367.0375099997,5115407.6273299986,6546961.4200000009,1314882.4000000001,52245953.957079992,null,null,1074,null,4614.5,null,0.23269999999999999,4,null,0.21552528456801642,5359,1012,1074,1074]
[32,"Blackstone                   ",0,0,0,0,0,0,28,1,0,0,0,0,0,28,1,0,0,null,14148.07,20499.64,216023.21,23066.980000000003,6909.41,38481.86,11412.800000000001,15373.119999999999,54475.49,46436.26,0,446826.83999999991,null,null,0,null,0,null,0,0,null,0,15,0,0,0]
[33,"Blandford                    ",0,0,0,0,0,0,10,0,0,0,0,0,0,10,1,0,0,null,4053.7,7321.3,73854.100000000006,5159.8,2308.6000000000004,13604.7,4076,5490.4,18339.400000000001,15319.8,0,149527.79999999999,null,null,0,null,0,null,0,0,null,0,7,0,0,0]
[34,"Bolton                       ",0,0,0,0,0,0,1,0,0,0,0,0,0,1,1.042,0,0,null,422.39554000000004,762.87945999999999,7695.5972200000006,537.65116,240.55612000000002,1360.47,424.71920000000006,572.09968000000003,1910.9654800000001,1531.98,0,15459.313859999998,null,null,0,null,0,null,0,0,null,0,1,0,0,0]
[35,"Boston                       ",3074,0,3942,21708,14261,17480,1776,2284,574,8848,2639,3886,46859,60704,1.085,11,0.77949999999999997,null,40739101.482450008,68348536.980499998,453186018.08829999,69886542.404699996,19363302.3794,39992823.739999995,29690349.576650001,55293712.234599993,77676721.242749989,108295840.76000001,16407445.600000001,978880394.48934996,null,null,46859,null,60114.5,null,0.77949999999999997,11,null,0.77193283070596297,64196,46859,40545,46859]
[36,"Bourne                       ",36,0,90,679,456,546,0,68,18,9,3,5,585,1789,1,6,0.33139999999999997,null,1006653.75,1480405.13,8646775.9299999997,1831695.4400000002,357025.32999999996,1069028.4300000002,654840.72999999986,862987.57000000007,1946771,2581063.6800000002,514519.2,20951766.189999998,null,null,585,null,1765.5,null,0.33139999999999997,6,null,0.28335832083958024,2001,507,585,585]
[37,"Boxborough                   ",0,0,0,0,0,0,9,0,0,0,0,0,0,9,1.0960000000000001,0,0,null,3998.5696800000001,7221.7303200000006,72849.684240000002,5089.6267200000002,2277.2030400000003,12244.23,4020.5664000000006,5415.73056,18089.98416,13787.82,0,144995.14512,null,null,0,null,0,null,0,0,null,0,0,0,0,0]
[38,"Boxford                      ",29,0,80,483,95,0,0,25,7,8,0,0,56,673,1.0449999999999999,2,8.4000000000000005E-2,null,383898.36869999999,530646.90359999996,2714011.4880999997,808050.87934999994,113480.82405,338452.62,201960.32614999998,137286.69735,746928.48450000002,902877.06,200090.80000000002,7077684.451799999,null,null,56,null,666.5,null,8.4000000000000005E-2,2,null,2.0576131687242798E-2,729,14,56,56]
[39,"Boylston                     ",0,0,0,0,0,0,35,2,0,0,0,0,3,35,1,0,0,null,19783.370000000003,25624.55,276952.81,35298.380000000005,8970.76,48393.850000000006,14266,19216.399999999998,70438.240000000005,60700.94,0,579645.30000000005,null,null,3,null,0,null,0,0,null,7.7738515901060068E-2,283,3,0,3]
[40,"Braintree                    ",79,314,1,2039,1428,1718,0,205,53,226,32,36,1274,5383,1.046,5,0.24179999999999999,null,3152972.88332,4527434.8954400001,25870257.414819997,5768881.3761600005,1054791.4940199999,3255134.86,2025136.97086,2409011.61748,6208448.9015999995,7565336.8499999996,1514973.2000000002,63352380.463700004,null,null,1274,null,5268,null,0.24179999999999999,5,null,0.23673322540025185,5559,1274,1270,1274]
[41,"Brewster                     ",12,0,70,355,0,0,0,16,4,18,0,0,139,431,1,6,0.3382,null,241648.47,358424.1,2004857.6,512184.59,84124.010000000009,220670.59999999998,132866.26,141479.66,456911.4,627709.77,114337.60000000001,4895214.0599999996,null,null,139,null,411,null,0.3382,6,null,0.25105485232067509,474,108,139,139]
[42,"Bridgewater                  ",0,0,0,0,0,0,7,0,0,0,0,0,0,7,1,0,0,null,2837.59,5124.91,51697.869999999995,3611.86,1616.02,9523.2900000000009,2853.2000000000003,3843.2799999999997,12837.58,10723.86,0,104669.45999999999,null,null,0,null,0,null,0,0,null,0,10,0,0,0]
[43,"Brimfield                    ",2,0,32,186,49,0,1,10,3,3,0,0,73,269,1,5,0.27339999999999998,null,150439.00000000003,216870.71999999997,1172796.6499999999,306279.51999999996,50178.22,137232.58999999997,83621.250000000015,82514.17,287612.90000000002,383759.72000000003,85753.200000000012,2957057.94,null,null,73,null,267,null,0.27339999999999998,5,null,0.21532846715328466,274,58,73,73]
[44,"Brockton                     ",216,0,1225,6292,4354,4759,354,654,166,2139,818,1156,13861,17092,1,12,0.83040000000000003,null,10671783.400000002,18064216.659999996,120114825.12,18218822.060000002,5179956.8999999994,11090131.610000003,7812990.2700000005,15007561.27,20016632.16,31022996.75,4745010.4000000004,261944926.60000005,null,null,13861,null,16692.5,null,0.83040000000000003,12,null,0.8109528653780943,17694,13861,11558,13861]
[45,"Brookfield                   ",4,0,28,171,28,0,1,9,2,1,0,0,102,230,1,7,0.38200000000000001,null,130952.71999999999,198983.77,1146140.7,268767.44,49431.28,118455.63,75930.740000000005,97580.66,245915.09000000003,350506.27999999997,57168.800000000003,2739833.1099999994,null,null,102,null,267,null,0.38200000000000001,7,null,0.44176706827309237,249,102,89,102]
[46,"Brookline                    ",42,0,491,2598,1660,2087,1,262,68,527,74,39,817,6858,1.042,2,0.1198,null,3982525.5838400004,5557180.4997200007,30833819.655500006,7452202.5461200019,1238340.8818999999,4134307.99,2471317.7457800005,2509219.2453800002,7945094.0230200011,9355072.4800000004,1943739.2000000002,77422819.851260006,null,null,817,null,6817.5,null,0.1198,2,null,0.10772163965681601,7343,739,817,817]
[47,"Buckland                     ",0,0,0,0,0,0,2,0,0,0,0,0,0,2,1,0,0,null,810.74,1464.26,14770.82,1031.96,461.72,2720.94,815.2,1098.08,3667.88,3063.96,0,29905.56,null,null,0,null,0,null,0,0,null,0,0,0,0,0]
[48,"Burlington                   ",25,0,260,1432,776,931,8,130,34,124,11,35,554,3420,1.087,3,0.16489999999999999,null,2063253.0376899999,2906104.5330100004,16197236.54833,3894672.2480500001,655702.18356000003,2020617.3,1271488.8575199998,1338730.0687999998,4080646.7302100002,4693468.08,971869.60000000009,40093789.187169999,null,null,554,null,3359.5,null,0.16489999999999999,3,null,0.12972038051311618,3469,444,554,554]
[49,"Cambridge                    ",463,0,641,2770,1458,1486,573,271,64,304,56,77,3314,7160,1.1080000000000001,8,0.47460000000000002,null,4554752.3505600011,7024583.7381600011,44592964.819120005,8324419.3347200025,1840289.8533600001,4644283.4100000011,3041045.4528799998,4525667.7162000006,9247531.8842800017,11223446.790000003,1829401.6000000001,100848386.94927999,null,null,3314,null,6982,null,0.47460000000000002,8,null,0.46283391405342622,6888,3314,2569,3314]
[50,"Canton                       ",25,0,220,1222,788,991,0,123,32,52,8,12,604,3234,1.06,4,0.19040000000000001,null,1898792.2782000001,2689302.5846000002,15132159.447200002,3525132.1734000002,612710.13580000005,1927764.56,1194768.9830000002,1333953.1522000001,3739715.7008000002,4444396.66,914700.80000000005,37413396.475199997,null,null,604,null,3171.5,null,0.19040000000000001,4,null,0.17338709677419356,3224,561,604,604]
[51,"Carlisle                     ",7,51,2,308,212,0,4,21,5,10,1,0,28,556,1.0529999999999999,1,5.1400000000000001E-2,null,317265.17238,437090.40179999993,2177751.2936399998,640667.04974999989,94393.183949999991,283144.28999999998,176384.5551,121156.53732000002,638520.09858000011,748002.75,142922,5777297.3325199997,null,null,28,null,545,null,5.1400000000000001E-2,1,null,1.1494252873563218E-2,609,6,28,28]
[52,"Carver                       ",35,0,93,605,358,420,7,57,15,12,7,2,427,1501,1.032,5,0.28010000000000002,null,865726.25495999982,1254628.46832,7219966.1183999991,1603507.0900800005,296270.13071999996,890560.8,550135.98,673423.99416,1689748.1205600002,2127923.44,428766,17600656.3972,null,null,427,null,1524.5,null,0.28010000000000002,5,null,0.24683162341581172,1657,370,427,427]
[53,"Charlemont                   ",0,0,0,0,0,0,7,0,0,0,0,0,0,7,1,0,0,null,2837.59,5124.91,51697.869999999995,3611.86,1616.02,9523.2900000000009,2853.2000000000003,3843.2799999999997,12837.58,10723.86,0,104669.45999999999,null,null,0,null,0,null,0,0,null,0,5,0,0,0]
[54,"Charlton                     ",0,0,0,0,0,0,1,0,0,0,0,0,0,1,1,0,0,null,405.37,732.13,7385.41,515.98,230.86,1360.47,407.6,549.04,1833.94,1531.98,0,14952.78,null,null,0,null,0,null,0,0,null,0,2,0,0,0]
[55,"Chatham                      ",0,0,0,0,0,0,0,0,0,0,0,0,0,0,1,0,0,null,0,0,0,0,0,0,0,0,0,0,0,0,null,null,0,null,0,null,0,0,null,0,0,0,0,0]
[56,"Chelmsford                   ",77,0,350,1881,1198,1486,2,188,49,167,26,14,806,4956,1,3,0.1646,null,2745626.1299999994,3869363.9999999991,21624214.699999996,5121496.8,873521.27,2955465.5799999996,1715572.0099999998,1844010.5499999998,5432668.6499999994,6782290.4199999999,1400635.6,54364865.709999993,null,null,806,null,4896,null,0.1646,3,null,0.12124208860759493,5056,601,806,806]
[57,"Chelsea                      ",62,0,500,2714,1766,2082,4,270,71,1395,298,570,5979,7097,1.0389999999999999,12,0.86550000000000005,null,4676936.8330999995,7969004.8420600006,52788747.129759997,7963876.0887000002,2285289.3418899998,4580456.42,3434999.2595900004,6637503.1723600002,8659516.1794199999,13080525.99,2029492.4000000001,114106347.65687999,null,null,5979,null,6908,null,0.86550000000000005,12,null,0.84243212016175617,6924,5979,5114,5979]
[58,"Cheshire                     ",0,0,0,0,0,0,1,0,0,0,0,0,0,1,1,0,0,null,405.37,732.13,7385.41,515.98,230.86,1360.47,407.6,549.04,1833.94,1531.98,0,14952.78,null,null,0,null,0,null,0,0,null,0,1,0,0,0]
[59,"Chester                      ",0,0,0,0,0,0,9,0,0,0,0,0,0,9,1,0,0,null,3648.33,6589.17,66468.69,4643.82,2077.7400000000002,12244.23,3668.4,4941.3599999999997,16505.46,13787.82,0,134575.02000000002,null,null,0,null,0,null,0,0,null,0,14,0,0,0]
[60,"Chesterfield                 ",0,0,0,0,0,0,16,1,0,0,0,0,0,16,1,0,0,null,9283.630000000001,11714.08,127398.29,16875.22,4139.09,22156.22,6521.6,8784.64,32468.21,28052.5,0,267393.48,null,null,0,null,0,null,0,0,null,0,20,0,0,0]
[61,"Chicopee                     ",115,0,423,2618,1803,1774,593,282,66,224,83,96,4905,7269,1,10,0.69059999999999999,null,4316071.6399999997,7018350.79,46799643.609999999,7506555.5999999996,1972666.6900000002,4842755.120000001,3076405.5500000003,5516146.1799999997,8531129.8000000007,12337626.660000002,1886570.4000000001,103803922.04000001,null,null,4905,null,7103,null,0.69059999999999999,10,null,0.67473255221599593,7852,4905,4392,4905]
[62,"Chilmark                     ",0,0,0,0,0,0,0,0,0,0,0,0,0,0,1,0,0,null,0,0,0,0,0,0,0,0,0,0,0,0,null,null,0,null,0,null,0,0,null,0,0,0,0,0]
[63,"Clarksburg                   ",0,0,17,74,62,27,0,7,2,0,0,0,72,180,1,7,0.375,null,103104.97,153261.72,880234.19,191139.73000000004,38077.379999999997,99611.93,64788.4,86142.75,195822.13,269904.18,57168.800000000003,2139256.1799999997,null,null,72,null,192,null,0.375,7,null,0.35,180,63,72,72]
[64,"Clinton                      ",29,0,147,728,507,554,99,79,19,152,45,50,960,2050,1,9,0.50649999999999995,null,1197307.18,1849373.53,11644430.460000001,2139495.41,484162.67000000004,1326030.4000000001,814860.61,1239974.7799999998,2382549.1100000003,3243321.24,543103.6,26864608.990000002,null,null,960,null,1895.5,null,0.50649999999999995,9,null,0.46841839312784234,1979,960,899,960]
[65,"Cohasset                     ",25,100,0,524,364,468,0,54,14,1,0,0,105,1419,1.0349999999999999,2,7.5300000000000006E-2,null,801009.45629999985,1102425.8512499998,6039484.3813499985,1488673.2267,240436.6893,848699.37999999989,498077.88345000002,497243.82869999995,1596218.0170499997,1872763.4100000004,400181.60000000003,15385213.724099997,null,null,105,null,1393.5,null,7.5300000000000006E-2,2,null,4.0566645202833228E-2,1553,58,105,105]
[66,"Colrain                      ",0,0,0,0,0,0,0,0,0,0,0,0,0,0,1,0,0,null,0,0,0,0,0,0,0,0,0,0,0,0,null,null,{"$f":"O75","v":0},null,0,null,{"$f":"S75","v":0},{"$f":"R75","v":0},null,0,1,{"$f":"ROUND(AP75*P75,0)","v":0},0,{"$f":"O75","v":0}]
[67,"Concord                      ",15,0,175,1116,699,0,0,76,20,39,8,0,187,1998,1.0569999999999999,2,9.4200000000000006E-2,null,1159544.0728199997,1603917.87619,8076226.601379998,2341412.0596299991,350474.05624000006,1009156.1999999998,640415.46652999998,470083.63716999994,2291480.8805699996,2722353.4599999995,571688,21236752.310529996,null,null,187,null,1984.5,null,9.4200000000000006E-2,2,null,5.5882352941176473E-2,2040,112,187,187]
[68,"Conway                       ",3,0,9,50,15,0,2,3,1,0,0,0,35,78,1,5,0.28810000000000002,null,44785.91,66055.31,380812.69,88324.63,16406.72,41247.919999999998,25796.880000000001,32112.15,84600.82,117294.35000000002,28584.400000000001,926021.78,null,null,35,null,121.5,null,0.28810000000000002,5,null,0.20689655172413793,145,16,35,35]
[69,"Cummington                   ",0,0,0,0,0,0,4,0,0,0,0,0,0,4,1,0,0,null,1621.48,2928.52,29541.64,2063.92,923.44,5441.88,1630.4,2196.16,7335.76,6127.92,0,59811.12,null,null,0,null,0,null,0,0,null,0,9,0,0,0]
[70,"Dalton                       ",0,0,0,0,0,0,19,1,0,0,0,0,0,19,1,0,0,null,10499.74,13910.47,149554.52000000002,18423.160000000003,4831.67,26237.63,7744.4000000000005,10431.759999999998,37970.03,32648.44,0,312251.82,null,null,0,null,0,null,0,0,null,0,20,0,0,0]
[71,"Danvers                      ",90,0,266,1325,812,936,0,128,33,36,3,7,740,3384,1,4,0.22589999999999999,null,1874376.2800000005,2678530.8900000006,15080112.370000001,3507224.7,615753.80999999994,1986321.6100000003,1173779.6900000002,1329017.73,3675871.14,4692503.41,943285.20000000007,37556776.830000006,null,null,740,null,3275.5,null,0.22589999999999999,4,null,0.21010928961748634,3660,711,740,740]
[72,"Dartmouth                    ",83,0,214,1234,895,984,0,127,33,43,5,6,957,3369,1,5,0.2823,null,1879003.2399999998,2729808.3699999996,15640380.6,3450041.0500000003,643902.78999999992,1997812.8099999996,1206673.7,1482510.06,3669432.2499999995,4770175.790000001,943285.20000000007,38413025.859999999,null,null,957,null,3389.5,null,0.2823,5,null,0.25557645794141359,3721,861,957,957]
[73,"Dedham                       ",23,0,207,961,681,725,0,99,26,95,23,21,724,2586,1.0409999999999999,5,0.28339999999999999,null,1516865.9590799999,2195030.9784299997,12571910.834729999,2799483.30828,518324.10179999989,1536498.2799999998,965399.24879999983,1166540.1965699999,2963672.7430799995,3689588.8499999996,743194.4,30666508.900769994,null,null,724,null,2555,null,0.28339999999999999,5,null,0.28011935844834018,2681,724,703,724]
[74,"Deerfield                    ",6,0,27,221,41,0,1,11,3,5,0,0,74,293,1,4,0.23569999999999999,null,163137.79999999999,234689.75,1267321.31,337825.45999999996,53777.88,149514.29,89640.640000000014,85292.75,313053.58999999997,415335.71,85753.200000000012,3195342.38,null,null,74,null,314,null,0.23569999999999999,4,null,0.25217391304347825,345,74,73,74]
[75,"Dennis                       ",0,0,0,0,0,0,0,0,0,0,0,0,0,0,1,0,0,null,0,0,0,0,0,0,0,0,0,0,0,0,null,null,0,null,0,null,0,0,null,0,0,0,0,0]
[76,"Dighton                      ",0,0,0,0,0,0,0,0,0,0,0,0,0,0,1,0,0,null,0,0,0,0,0,0,0,0,0,0,0,0,null,null,0,null,0,null,0,0,null,0,0,0,0,0]
[77,"Douglas                      ",31,0,58,427,267,328,10,41,11,7,1,0,238,1106,1,4,0.20899999999999999,null,609855.22,872923.75,4962957.1000000006,1126068.5199999998,201157.79,662928.85999999987,387175.51,446515.81000000006,1206575.1699999997,1528835.12,314428.40000000002,12319421.250000002,null,null,238,null,1138.5,null,0.20899999999999999,4,null,0.18663911845730027,1452,206,238,238]
[78,"Dover                        ",8,0,61,411,0,0,0,18,5,11,0,0,16,476,1.0509999999999999,1,3.4000000000000002E-2,null,273520.61647000001,372346.02034999989,1908104.4677899997,595970.89527999994,77402.723740000001,239873.49000000002,136901.01086000001,78414.973369999992,528774.45355999994,628786.98,142922,4983017.6314199995,null,null,16,null,471,null,3.4000000000000002E-2,1,null,3.3333333333333333E-2,480,16,12,16]
[79,"Dracut                       ",48,0,307,1599,1040,1011,1,152,40,57,16,18,1209,3982,1,6,0.30940000000000001,null,2241634.27,3277213.06,18845238.219999999,4155495.2900000005,783816.2799999998,2325385.1100000008,1424227.0200000003,1783167.07,4343397.3199999994,5735613.4199999999,1143376,46058563.059999995,null,null,1209,null,3908,null,0.30940000000000001,6,null,0.28479215078750325,3873,1134,1209,1209]
[80,"Dudley                       ",0,0,0,0,0,0,0,0,0,0,0,0,0,0,1,0,0,null,0,0,0,0,0,0,0,0,0,0,0,0,null,null,0,null,0,null,0,0,null,0,1,0,0,0]
[81,"Dunstable                    ",0,0,0,0,0,0,0,0,0,0,0,0,0,0,1,0,0,null,0,0,0,0,0,0,0,0,0,0,0,0,null,null,0,null,0,null,0,0,null,0,1,0,0,0]
[82,"Duxbury                      ",15,185,0,956,675,984,14,105,27,7,0,2,202,2730,1.036,2,7.51E-2,null,1546625.1614800002,2124149.73288,11803805.27984,2849304.54256,465584.26376,1670656.08,971948.96848000004,997110.77703999996,3094659.2104400005,3606363.7400000007,771778.8,29901986.556480002,null,null,202,null,2691,null,7.51E-2,2,null,6.0944479897894067E-2,3134,166,202,202]
[83,"East Bridgewater             ",15,0,135,763,500,652,9,79,21,9,5,4,506,2067,1,5,0.2457,null,1152058.95,1650588.5799999998,9480582.7200000007,2115486.6700000004,385231.22999999992,1244644.9100000001,735318.57000000007,884079.0199999999,2256797.35,2889575.67,600272.4,23394636.07,null,null,506,null,2059.5,null,0.2457,5,null,0.19496567505720824,2185,403,506,506]
[84,"East Brookfield              ",0,0,0,0,0,0,22,1,0,0,0,0,0,22,1,0,0,null,11715.849999999999,16106.86,171710.75,19971.100000000002,5524.25,30319.040000000001,8967.2000000000007,12078.88,43471.85,37244.379999999997,0,357110.16,null,null,0,null,0,null,0,0,null,0,19,0,0,0]
[85,"Eastham                      ",11,0,24,166,0,0,0,7,2,9,0,0,79,196,1,8,0.43169999999999997,null,110873.67,169093.3,970221.55,230252.48,41102.939999999995,100557.79999999999,62847.170000000006,77530.31,206686.58000000002,294099.28999999998,57168.800000000003,2320433.8899999997,null,null,79,null,183,null,0.43169999999999997,8,null,0.40217391304347827,184,79,75,79]
[86,"Easthampton                  ",22,0,119,617,382,427,74,63,15,26,17,6,572,1630,1,7,0.36809999999999998,null,922863.68999999983,1372198.4900000002,8342381.1500000004,1690357.9700000002,342166.07000000007,1023932.27,604300.76,820254.97,1847470.24,2422766.4800000004,428766,19817458.09,null,null,572,null,1554,null,0.36809999999999998,7,null,0.32243517474633598,1774,526,572,572]
[87,"East Longmeadow              ",13,0,144,876,582,823,25,94,24,31,2,8,601,2457,1,5,0.24970000000000001,null,1368620.51,1965137.4,11401505.119999999,2500145.7000000002,460408.39,1508319.56,883211.94000000006,1075991.26,2702648.4499999997,3441074.25,686025.60000000009,27993088.180000003,null,null,601,null,2407,null,0.24970000000000001,5,null,0.20559334845049132,2646,505,601,601]
[88,"Easton                       ",24,132,14,1231,887,1163,0,129,34,34,7,10,614,3373,1,4,0.18410000000000001,null,1869241.0100000002,2638355.8700000006,14930496.58,3410821.9700000011,601751.3899999999,2045734.13,1194732.8999999999,1368980.52,3686851.68,4619269.2299999995,971869.60000000009,37338104.880000003,null,null,614,null,3334.5,null,0.18410000000000001,4,null,0.12164725006773232,3691,410,614,614]
[89,"Edgartown                    ",7,0,40,233,151,0,0,16,4,64,21,0,184,428,1,8,0.4526,null,250305.36000000002,384278.90000000008,2178431.5,484065.96,96678.3,228295.89,153713.53,193233.65,484890.7,675653.45000000019,114337.60000000001,5243884.84,null,null,184,null,406.5,null,0.4526,8,null,0.33004926108374383,406,141,184,184]
[90,"Egremont                     ",0,0,0,0,0,0,0,0,0,0,0,0,0,0,1,0,0,null,0,0,0,0,0,0,0,0,0,0,0,0,null,null,0,null,0,null,0,0,null,0,0,0,0,0]
[91,"Erving                       ",14,0,14,80,52,54,0,8,2,1,1,0,51,207,1,8,0.46150000000000002,null,115842.84,167686.01999999999,957690.40999999992,216443.61000000002,39586.249999999993,120821.91,73018.78,88221.64,225205.06999999998,294060.76000000007,57168.800000000003,2355746.09,null,null,51,null,110.5,null,0.46150000000000002,8,null,0.24705882352941178,255,51,35,51]
[92,"Essex                        ",0,0,0,0,0,0,0,0,0,0,0,0,0,0,1.0369999999999999,0,0,null,0,0,0,0,0,0,0,0,0,0,0,0,null,null,0,null,0,null,0,0,null,0,0,0,0,0]
[93,"Everett                      ",253,0,402,2858,1763,1488,867,291,65,1142,369,448,5839,7505,1.042,11,0.78979999999999995,null,4853037.1000799993,8142181.2165799988,56150892.245839998,8394855.640279999,2375229.8199800001,5326233.41,3532534.6328000007,6596896.6337000001,9844176.9726600014,13745724.579999998,1857986,120819748.25191998,null,null,5839,null,7393,null,0.78979999999999995,11,null,0.77797062750333779,7490,5839,4776,5839]
[94,"Fairhaven                    ",17,0,116,657,466,479,0,66,17,18,3,6,687,1727,1,6,0.35909999999999997,null,979829.9,1465560.4100000001,8645544.7599999998,1782948.8900000001,361818.66999999993,1021651.0499999998,641689.43000000017,887330.27,1882668.6199999999,2555226.86,485934.80000000005,20710203.66,null,null,687,null,1913,null,0.35909999999999997,6,null,0.34733893557422968,1785,600,687,687]
[95,"Fall River                   ",231,0,832,4857,3119,1915,1055,462,107,1144,423,484,9167,11894,1,11,0.78539999999999999,null,7290498.6300000008,12181355.190000001,82056705.930000007,12787223.410000002,3518874.4299999997,7907677.8600000003,5203045.34,9665100.0499999989,14395450.620000001,21401347.41,3058530.8000000003,179465809.67000002,null,null,9167,null,11672.5,null,0.78539999999999999,11,null,0.77069894848458076,11317,9167,8723,9167]
[96,"Falmouth                     ",43,1,185,1137,752,797,143,117,29,83,20,19,1100,3037,1,6,0.35470000000000002,null,1723471.68,2558514.65,15554066.490000002,3138272.66,638473.14999999991,1915354.97,1130461.17,1532169.5999999999,3456275.1800000006,4519287.1300000008,828947.60000000009,36995294.280000001,null,null,1100,null,3101.5,null,0.35470000000000002,6,null,0.30965034965034965,3575,940,1100,1100]
[97,"Fitchburg                    ",103,0,323,2247,1381,1641,0,214,56,549,105,152,4030,5644,1,11,0.76170000000000004,null,3421772.9699999997,5643312.3099999996,36374576.869999997,5939391.0200000005,1562558.77,3498390.9299999997,2439396.0900000003,4445398.5399999991,6343246.1999999983,9679542.7200000007,1600726.4000000001,80948312.820000008,null,null,4030,null,5290.5,null,0.76170000000000004,11,null,0.71407758149699507,5491,4030,3732,4030]
[98,"Florida                      ",0,0,5,19,27,7,0,2,1,0,0,0,29,58,1,6,0.35799999999999998,null,33873.759999999995,50784.509999999995,290432.17999999993,58295.77,12885.23,31603.8,21666.9,30618.809999999998,62769.180000000008,88738,28584.400000000001,710252.54,null,null,29,null,81,null,0.35799999999999998,6,null,0.4823529411764706,85,28,29,29]
[99,"Foxborough                   ",38,22,155,921,627,810,0,97,25,49,13,6,518,2543,1.06,4,0.20580000000000001,null,1497298.7600000002,2129047.5028000004,12063435.480599998,2763842.304,488546.7708,1527376.7299999997,950277.27999999991,1087551.6365999999,2947791.7996000005,3515230.72,714610,29685008.984399997,null,null,518,null,2516.5,null,0.20580000000000001,4,null,0.18587360594795538,2690,473,518,518]
[100,"Framingham                   ",150,0,664,3639,2335,2579,11,354,92,1555,368,384,4330,9303,1.022,9,0.48060000000000003,null,5671458.194219999,8770533.7116599977,53535350.024520002,10208884.176120002,2253805.9303200003,5791966.8399999989,3811646.0491200001,5610998.2991999993,10983224.980559999,14836936.449999999,2629764.8000000003,124104569.45571999,null,null,4330,null,9010.5,null,0.48060000000000003,9,null,0.44786483045943759,8641,4166,4330,4330]
[101,"Franklin                     ",77,1,296,1837,1304,1814,1,201,53,58,18,12,659,5292,1.0549999999999999,3,0.1278,null,3070842.5581999994,4280599.6431000009,23885769.721100003,5659430.7325999998,953362.85084999981,3201385.58,1935792.77685,2064462.9400499999,6092759.7762499992,7109876.3400000017,1514973.2000000002,59769256.119000003,null,null,659,null,5158.5,null,0.1278,3,null,9.5957936247124551E-2,6086,508,659,659]
[102,"Freetown                     ",0,0,0,0,0,0,69,3,0,0,0,0,0,69,1,0,0,null,36363.660000000003,50516.97,537288.48,61461.240000000005,17265.330000000002,95038.530000000013,28124.400000000001,37883.759999999995,135917.37,116329.08,0,1116188.82,null,null,0,null,0,null,0,0,null,0,94,0,0,0]
[103,"Gardner                      ",32,0,158,855,622,634,0,87,23,73,26,14,1387,2285,1,10,0.62619999999999998,null,1346973.8000000003,2152819.6199999996,13482188.41,2368364.1900000004,577296.35,1375800.98,934326.06,1587562.64,2513180.2499999995,3717333.5200000005,657441.20000000007,30713287.02,null,null,1387,null,2215,null,0.62619999999999998,10,null,0.60678642714570863,2505,1387,1342,1387]
[104,"Aquinnah",0,0,0,0,0,0,0,0,0,0,0,0,0,0,1,0,0,null,0,0,0,0,0,0,0,0,0,0,0,0,null,null,0,null,0,null,0,0,null,0,0,0,0,0]
[105,"Georgetown                   ",17,0,83,505,285,348,9,47,12,0,0,0,148,1239,1,3,0.1222,null,677688.04,944731.56,5227406.92,1280110.3299999998,209880.78000000003,732125.95999999985,416616.27000000008,424397.07999999996,1348477.8199999998,1664071.46,343012.80000000005,13268519.02,null,null,148,null,1211.5,null,0.1222,3,null,0.10367170626349892,1389,128,148,148]
[106,"Gill                         ",0,0,0,0,0,0,0,0,0,0,0,0,0,0,1,0,0,null,0,0,0,0,0,0,0,0,0,0,0,0,null,null,0,null,0,null,0,0,null,0,0,0,0,0]
[107,"Gloucester                   ",67,0,230,1128,689,808,128,115,29,128,36,55,1257,3017,1.0409999999999999,8,0.45939999999999998,null,1805585.5081500001,2741550.2425199999,16942050.133589998,3265094.7094800002,699829.74920999992,1911745.4499999997,1203664.93194,1741279.4924399997,3581853.5310900002,4621077.9399999995,828947.60000000009,39342679.288419999,null,null,1257,null,2736,null,0.45939999999999998,8,null,0.41674389867160949,3237,1257,1208,1257]
[108,"Goshen                       ",0,0,0,0,0,0,9,0,0,0,0,0,0,9,1,0,0,null,3648.33,6589.17,66468.69,4643.82,2077.7400000000002,12244.23,3668.4,4941.3599999999997,16505.46,13787.82,0,134575.02000000002,null,null,0,null,0,null,0,0,null,0,8,0,0,0]
[109,"Gosnold                      ",0,0,0,3,2,0,0,0,0,0,0,0,0,5,1,0,0,null,2026.8500000000001,3660.6499999999996,15979.289999999999,3822.6299999999997,686.56999999999994,2429.4499999999998,1478.4,913.48,4817.84,5935.6100000000006,0,41750.770000000004,null,null,0,null,4,null,0,0,null,0,4,0,0,0]
[110,"Grafton                      ",50,0,198,1123,782,889,4,115,30,45,5,13,525,3021,1,3,0.16930000000000001,null,1671007.18,2356827.4899999998,13169576.409999998,3107305.2600000002,534470.58999999985,1792389.0799999996,1046217.8800000001,1140115.8599999999,3300574.6099999994,4137650.6700000004,857532,33113667.029999997,null,null,525,null,3101,null,0.16930000000000001,3,null,0.11902500791389681,3159,360,525,525]
[111,"Granby                       ",24,0,49,248,141,233,2,26,7,25,3,9,255,685,1,6,0.35120000000000001,null,390382.58999999997,580707.17000000004,3477337.1,705159.89000000025,142302.82,422235.5,257720.01000000004,355821.52,754125.02000000014,1007348.4400000001,200090.80000000002,8293230.8600000022,null,null,255,null,726,null,0.35120000000000001,6,null,0.27216748768472904,812,186,255,255]
[112,"Granville                    ",0,0,0,0,0,0,0,0,0,0,0,0,0,0,1,0,0,null,0,0,0,0,0,0,0,0,0,0,0,0,null,null,0,null,0,null,0,0,null,0,0,0,0,0]
[113,"Great Barrington             ",0,0,0,0,0,0,0,0,0,0,0,0,0,0,1,0,0,null,0,0,0,0,0,0,0,0,0,0,0,0,null,null,0,null,0,null,0,0,null,0,0,0,0,0]
[114,"Greenfield                   ",45,0,129,743,467,496,1,70,18,47,17,20,924,1859,1,10,0.57110000000000005,null,1076125.99,1681641.7499999998,10286100.890000001,1934042.3800000001,436169.93,1107859.8400000001,727254.8899999999,1140039.18,2036070.1399999994,2911246.2,514519.2,23851070.390000001,null,null,924,null,1618,null,0.57110000000000005,10,null,0.49658203125,2048,923,924,924]
[115,"Groton                       ",0,0,0,0,0,0,0,0,0,0,0,0,0,0,1,0,0,null,0,0,0,0,0,0,0,0,0,0,0,0,null,null,0,null,0,null,0,0,null,0,0,0,0,0]
[116,"Groveland                    ",0,0,0,0,0,0,9,0,0,0,0,0,0,9,1,0,0,null,3648.33,6589.17,66468.69,4643.82,2077.7400000000002,12244.23,3668.4,4941.3599999999997,16505.46,13787.82,0,134575.02000000002,null,null,0,null,0,null,0,0,null,0,6,0,0,0]
[117,"Hadley                       ",3,0,29,137,124,184,22,19,5,13,2,5,130,498,1,4,0.2394,null,278916.81,401479.01,2420426.2899999996,494628.47000000003,96369.79,326794.32,185486.84000000008,235829.43,567077.05000000005,707443.92999999982,142922,5857373.9399999985,null,null,130,null,543,null,0.2394,4,null,0.20949263502454993,611,104,130,130]
[118,"Halifax                      ",0,0,71,438,89,12,5,23,6,9,0,0,155,615,1.0269999999999999,5,0.27100000000000002,null,350489.58932000003,506320.89000999997,2758738.4813299999,721169.40298000001,116537.73637999997,319697.05999999994,195716.67374999999,191246.64597999997,677622.37439000013,872410.62000000011,171506.40000000002,6881455.87414,null,null,155,null,572,null,0.27100000000000002,5,null,0.2516891891891892,592,155,134,155]
[119,"Hamilton                     ",0,0,0,0,0,0,0,0,0,0,0,0,0,0,1.036,0,0,null,0,0,0,0,0,0,0,0,0,0,0,0,null,null,0,null,0,null,0,0,null,0,0,0,0,0]
[120,"Hampden                      ",0,0,0,0,0,0,0,0,0,0,0,0,0,0,1,0,0,null,0,0,0,0,0,0,0,0,0,0,0,0,null,null,0,null,0,null,0,0,null,0,0,0,0,0]
[121,"Hancock                      ",1,0,6,26,19,21,8,3,1,0,0,0,15,81,1,5,0.27779999999999999,null,44878.61,62928.71,382213.42999999993,80627.039999999994,15059.710000000001,53688.810000000005,28518.220000000005,33067.879999999997,94123.22,113214.23000000001,28584.400000000001,936904.25999999989,null,null,15,null,54,null,0.27779999999999999,5,null,0,75,0,15,15]
[122,"Hanover                      ",27,192,4,1013,625,790,6,97,25,20,6,0,269,2548,1.0349999999999999,2,0.1067,null,1444994.3015999999,2005049.2581,11066224.139999999,2700975.7543499996,442872.57734999998,1519107.51,896203.38464999991,915311.13029999973,2874740.0102999997,3406334.38,714610,27986422.446649998,null,null,269,null,2522,null,0.1067,2,null,9.6648480124707711E-2,2566,246,269,269]
[123,"Hanson                       ",0,0,0,0,0,0,1,0,0,0,0,0,0,1,1,0,0,null,405.37,732.13,7385.41,515.98,230.86,1360.47,407.6,549.04,1833.94,1531.98,0,14952.78,null,null,0,null,0,null,0,0,null,0,8,0,0,0]
[124,"Hardwick                     ",0,0,0,0,0,0,3,0,0,0,0,0,0,3,1,0,0,null,1216.1100000000001,2196.39,22156.23,1547.94,692.58,4081.41,1222.8000000000002,1647.12,5501.82,4595.9400000000005,0,44858.340000000004,null,null,0,null,0,null,0,0,null,0,1,0,0,0]
[125,"Harvard                      ",12,39,4,308,215,323,0,33,9,6,0,0,87,876,1,2,8.6999999999999994E-2,null,479518.6,663895.96000000008,3696944.8,876365,146262.1,534691.46,303704.11000000004,321455.51999999996,953249.74,1161951.3700000003,257259.6,9395298.2599999998,null,null,87,null,1000,null,8.6999999999999994E-2,2,null,3.8272816486751716E-2,1019,34,87,87]
[126,"Harwich                      ",0,0,0,0,0,0,0,0,0,0,0,0,0,0,1,0,0,null,0,0,0,0,0,0,0,0,0,0,0,0,null,null,0,null,0,null,0,0,null,0,0,0,0,0]
[127,"Hatfield                     ",6,0,15,111,91,86,28,13,3,1,0,0,75,334,1,4,0.18609999999999999,null,185028.52000000002,264303.41000000003,1594854.47,338651.98,63837.65,218442.4,119539.9,142481.29999999999,388754.2300000001,475532.32000000007,85753.200000000012,3877179.38,null,null,75,null,403,null,0.18609999999999999,4,null,0.13385826771653545,381,45,75,75]
[128,"Haverhill                    ",186,1,515,3345,2240,1952,130,314,81,483,143,143,4543,8276,1,10,0.5645,null,4868191.8,7695852.8900000006,47859426.229999997,8703629.5700000003,2041714.25,5025987.209999999,3315275.6000000006,5343581.6099999994,9298993.6500000004,13371448.540000003,2315336.4,109839437.75000001,null,null,4543,null,8047.5,null,0.5645,10,null,0.49673041332510798,8105,4111,4543,4543]
[129,"Hawley                       ",0,0,0,0,0,0,4,0,0,0,0,0,0,4,1,0,0,null,1621.48,2928.52,29541.64,2063.92,923.44,5441.88,1630.4,2196.16,7335.76,6127.92,0,59811.12,null,null,0,null,0,null,0,0,null,0,5,0,0,0]
[130,"Heath                        ",0,0,0,0,0,0,0,0,0,0,0,0,0,0,1,0,0,null,0,0,0,0,0,0,0,0,0,0,0,0,null,null,{"$f":"O139","v":0},null,0,null,{"$f":"S139","v":0},{"$f":"R139","v":0},null,0,0,{"$f":"ROUND(AP139*P139,0)","v":0},0,{"$f":"O139","v":0}]
[131,"Hingham                      ",27,0,215,1447,941,1321,9,150,39,7,1,4,285,3947,1.0449999999999999,2,7.3200000000000001E-2,null,2250019.1779999998,3096431.6625000001,17043001.453499999,4189165.0157499998,675069.8014499998,2375449.3899999997,1398051.3376499997,1395241.0609499998,4489264.5940999994,5207409.2200000007,1114791.6000000001,43233894.313900001,null,null,285,null,3893.5,null,7.3200000000000001E-2,2,null,6.68417283361184E-2,4189,264,285,285]
[132,"Hinsdale                     ",0,0,0,0,0,0,8,0,0,0,0,0,0,8,1,0,0,null,3242.96,5857.04,59083.28,4127.84,1846.88,10883.76,3260.8,4392.32,14671.52,12255.84,0,119622.24,null,null,0,null,0,null,0,0,null,0,14,0,0,0]
[133,"Holbrook                     ",17,0,90,573,301,342,0,50,13,47,17,9,637,1315,1.04,9,0.49209999999999998,null,792466.12639999995,1226209.7848,7459174.4551999997,1440299.0160000003,315021.92800000001,781356.08,527348.07840000011,805343.19839999999,1500049.7511999998,2043433.5300000003,371597.2,17262299.148400001,null,null,637,null,1294.5,null,0.49209999999999998,9,null,0.4845890410958904,1168,637,498,637]
[134,"Holden                       ",0,0,0,0,0,0,1,0,0,0,0,0,0,1,1,0,0,null,405.37,732.13,7385.41,515.98,230.86,1360.47,407.6,549.04,1833.94,1531.98,0,14952.78,null,null,0,null,0,null,0,0,null,0,1,0,0,0]
[135,"Holland                      ",3,0,21,109,20,0,0,6,2,0,0,0,68,152,1,6,0.35139999999999999,null,88339.19,130428.92000000001,746384.6399999999,177427.99000000002,32261.24,77360.960000000006,49771.61,62913.020000000004,161547.75,229954.71000000005,57168.800000000003,1813558.83,null,null,68,null,193.5,null,0.35139999999999999,6,null,0.3987730061349693,163,61,68,68]
[136,"Holliston                    ",18,163,12,1015,672,800,14,100,26,43,13,7,261,2604,1.018,2,9.8299999999999998E-2,null,1459092.1111199998,2018008.8860000002,11151032.35076,2720411.7123400006,446736.32050000003,1561604.09,904421.59748000011,917611.63006000023,2912430.59822,3493186.64,743194.4,28327730.336479999,null,null,261,null,2656,null,9.8299999999999998E-2,2,null,7.0175438596491224E-2,2565,183,261,261]
[137,"Holyoke                      ",266,0,404,2293,1406,1588,335,234,57,455,310,353,4947,6159,1,12,0.85750000000000004,null,3794900.62,6433156.0399999991,43463694.929999992,6502689.5499999989,1858549.8599999999,4096420.87,2783481.0400000005,5379580.8899999997,7274114.4699999997,11130320.99,1629310.8,94346220.059999973,null,null,4947,null,5769,null,0.85750000000000004,12,null,0.80328362705226686,6639,4947,4801,4947]
[138,"Hopedale                     ",15,0,70,326,225,284,1,35,9,28,6,8,203,914,1.0029999999999999,4,0.19040000000000001,null,511997.22749000002,730957.26284999994,4162334.1635299996,945757.24537999998,169091.90844999996,549917.91999999981,325130.74481000006,376211.09751999995,1007888.4414599999,1275610.6800000002,257259.6,10312156.29149,null,null,203,null,1066,null,0.19040000000000001,4,null,0.14020427112349118,1077,128,203,203]
[139,"Hopkinton                    ",33,1,270,1475,940,1227,5,150,39,228,15,14,282,3935,1.046,2,7.22E-2,null,2271027.1676799995,3131595.3106199997,17192126.04016,4260100.3911200007,684673.24318000011,2367481.0299999998,1399498.2104000002,1354720.45664,4545790.0929800002,5261011.26,1114791.6000000001,43582814.802780002,null,null,282,null,3905.5,null,7.22E-2,2,null,3.2387503582688451E-2,3489,127,282,282]
[140,"Hubbardston                  ",0,0,0,0,0,0,0,0,0,0,0,0,0,0,1,0,0,null,0,0,0,0,0,0,0,0,0,0,0,0,null,null,0,null,0,null,0,0,null,0,0,0,0,0]
[141,"Hudson                       ",25,0,157,964,654,723,1,96,25,204,45,60,801,2512,1.01,6,0.31019999999999998,null,1453854.6909,2140551.5597999999,12494508.111100003,2660624.2645,517174.42889999994,1522232.96,941453.53209999995,1201436.8947999999,2843114.2662,3694104.0700000003,714610,30183664.778300002,null,null,801,null,2582,null,0.31019999999999998,6,null,0.29249728162377675,2759,735,801,801]
[142,"Hull                         ",31,0,43,287,201,279,11,32,8,4,3,3,304,837,1.0269999999999999,7,0.3765,null,485545.6659299999,723780.43751000008,4353557.384279999,872462.16473000008,178708.75268999999,517597.94,323666.03359999997,453017.78248999995,946473.98780999985,1229047.52,228675.20000000001,10312532.869039997,null,null,304,null,807.5,null,0.3765,7,null,0.3637236084452975,1042,304,280,304]
[143,"Huntington                   ",0,0,0,0,0,0,27,1,0,0,0,0,0,27,1,0,0,null,13742.7,19767.509999999998,208637.80000000002,22551,6678.55,37121.39,11005.2,14824.079999999998,52641.55,44904.28,0,431874.06000000006,null,null,0,null,0,null,0,0,null,0,23,0,0,0]
[144,"Ipswich                      ",16,0,89,568,373,537,10,60,16,20,8,6,292,1585,1.052,4,0.185,null,923516.43116000004,1306984.7804400001,7447619.5665599992,1693224.9182800001,298591.89519999997,968313.36,588713.78072000016,672173.03300000005,1828975.4506399997,2174769.2899999996,457350.40000000002,18360232.905999996,null,null,292,null,1578.5,null,0.185,4,null,0.14423592493297588,1865,229,292,292]
[145,"Kingston                     ",0,0,133,762,160,16,5,41,11,26,2,0,228,1076,1.0289999999999999,4,0.21609999999999999,null,616628.23970999999,876755.14877999993,4709378.80791,1275123.4435799997,198751.63811999996,555456.23999999976,337931.04996000003,305318.20179000002,1190561.0364899999,1511633.12,314428.40000000002,11891965.326339999,null,null,228,null,1055,null,0.21609999999999999,4,null,0.16483516483516483,1092,177,228,228]
[146,"Lakeville                    ",0,0,0,0,0,0,9,0,0,0,0,0,0,9,1,0,0,null,3648.33,6589.17,66468.69,4643.82,2077.7400000000002,12244.23,3668.4,4941.3599999999997,16505.46,13787.82,0,134575.02000000002,null,null,0,null,0,null,0,0,null,0,13,0,0,0]
[147,"Lancaster                    ",0,0,0,0,0,0,1,0,0,0,0,0,0,1,1,0,0,null,405.37,732.13,7385.41,515.98,230.86,1360.47,407.6,549.04,1833.94,1531.98,0,14952.78,null,null,0,null,0,null,0,0,null,0,2,0,0,0]
[148,"Lanesborough                 ",0,0,0,0,0,0,1,0,0,0,0,0,0,1,1,0,0,null,405.37,732.13,7385.41,515.98,230.86,1360.47,407.6,549.04,1833.94,1531.98,0,14952.78,null,null,0,null,0,null,0,0,null,0.35,200,0,0,0]
[149,"Lawrence                     ",474,0,905,6097,3876,3605,26,556,145,2610,999,1227,13472,14746,1,12,0.92479999999999996,null,9423397.5199999996,16330310.969999999,108573981.02999999,16100429.769999998,4748934.5,9365038.8599999994,6942092.9699999988,13769078.060000001,17341840.399999999,27852418.830000002,4144738,234592260.91,null,null,13472,null,14567,null,0.92479999999999996,12,null,0.91360463584880813,15186,13472,11962,13472]
[150,"Lee                          ",11,0,34,211,117,207,4,22,6,18,7,4,278,579,1,7,0.41060000000000002,null,334374.95000000007,511283.31,3161751.9699999997,591793.0199999999,130404.82,362944.85,227489.65000000002,349331.85,638943.16,883809.65000000014,171506.40000000002,7363633.6299999999,null,null,278,null,677,null,0.41060000000000002,7,null,0.44592346089850249,601,258,278,278]
[151,"Leicester                    ",17,0,81,511,339,445,73,57,14,35,6,10,513,1458,1,7,0.37080000000000002,null,829525.41999999981,1228480.3900000001,7568382.5500000007,1494751.7000000002,307837.07999999996,941003.75,550526.91,763836.47,1664798.7199999997,2168777.42,400181.60000000003,17918102.010000005,null,null,513,null,1383.5,null,0.37080000000000002,7,null,0.35168961201501875,1598,513,479,513]
[152,"Lenox                        ",15,0,28,163,113,177,7,18,5,11,3,6,172,496,1,4,0.23100000000000001,null,277621.11,410986.10999999993,2448699.89,494522.89999999997,99215.6,311065.96999999997,185489.45,247957.62999999995,547351.62000000011,713421.82000000007,142922,5879254.1000000006,null,null,172,null,744.5,null,0.23100000000000001,4,null,0.34740882917466409,521,172,156,172]
[153,"Leominster                   ",76,0,353,2162,1442,1296,699,235,53,451,111,128,2952,5990,1,9,0.49919999999999998,null,3510154.5100000002,5446870.7299999986,35840021.950000003,6262902.709999999,1475145.94,4140913.78,2407235.34,3754880.87,7318218.2000000011,9730842.9200000018,1514973.2000000002,81402160.149999991,null,null,2952,null,5913.5,null,0.49919999999999998,9,null,0.46110934013388588,6274,2762,2952,2952]
[154,"Leverett                     ",1,0,11,69,24,0,0,4,1,0,0,0,29,105,1,5,0.2437,null,58191.579999999994,84225.930000000008,453411.85,118710.64000000001,19587.169999999998,52890.58,32749.920000000002,32743.510000000002,111797.67000000001,149551.26999999999,28584.400000000001,1142444.52,null,null,29,null,119,null,0.2437,5,null,0.27884615384615385,104,29,23,29]
[155,"Lexington                    ",36,0,309,2495,1816,2344,0,267,70,403,85,63,511,6982,1.093,2,7.4300000000000005E-2,null,4227044.7114300001,5827637.8243699996,32114591.120939996,7826677.1795499986,1278476.3398899999,4254173.0600000005,2638670.3547899993,2614756.7389499997,8474885.6824699976,9360247.6799999997,2000908,80618068.692389995,null,null,511,null,6877.5,null,7.4300000000000005E-2,2,null,6.2344867863921738E-2,6849,435,511,511]
[156,"Leyden                       ",0,0,0,0,0,0,0,0,0,0,0,0,0,0,1,0,0,null,0,0,0,0,0,0,0,0,0,0,0,0,null,null,0,null,0,null,0,0,null,0,0,0,0,0]
[157,"Lincoln                      ",16,0,44,325,193,0,8,22,6,17,7,0,93,578,1.0489999999999999,2,9.1999999999999998E-2,null,336914.94574,472733.01438999997,2470384.85617,673778.17578000005,106761.57637999998,300985.63000000006,189277.11223999999,158898.64919,668062.35310999979,808493.42,171506.40000000002,6357796.1330000004,null,null,93,null,1010.5,null,9.1999999999999998E-2,2,null,6.7961165048543687E-2,618,39,93,93]
[158,"Littleton                    ",34,80,10,583,399,465,1,57,15,20,2,3,162,1515,1.004,2,0.105,null,833056.35963999992,1158732.0222399998,6367123.8974799998,1549704.3207999999,255882.14075999998,900623.71999999986,518686.61051999999,528871.34715999989,1658469.0263199999,2027252.4700000002,428766,16227167.91492,null,null,162,null,1542.5,null,0.105,2,null,0.10718870346598203,1558,162,149,162]
[159,"Longmeadow                   ",27,0,148,966,671,889,17,103,27,6,3,1,314,2705,1,2,0.1153,null,1483428.5600000003,2060826.4099999997,11489731.190000001,2744878.2,458292.57999999996,1635100.5800000003,929788.26000000013,976425.74000000011,2956248.1999999997,3623479.8100000005,771778.8,29129978.330000002,null,null,314,null,2722.5,null,0.1153,2,null,5.2650302383493421E-2,2811,142,314,314]
[160,"Lowell                       ",491,0,1175,6687,4303,3326,310,608,155,2497,816,676,11207,16047,1,11,0.70930000000000004,null,9858574.9399999995,16242430.289999999,104333059.52000001,17430703.890000001,4508114.7600000007,10023072.279999999,6905469.6800000016,12105404.18,18764228.450000003,28058875.390000001,4430582,232660515.38,null,null,11207,null,15800.5,null,0.70930000000000004,11,null,0.69836601307189539,15300,11207,10501,11207]
[161,"Ludlow                       ",34,0,135,783,577,794,75,92,23,62,15,12,822,2381,1,6,0.34489999999999998,null,1350017.51,1993787.6,12101467.119999999,2419840.2900000005,492364.78999999992,1517375.05,898942.53999999992,1229960.17,2683086.7500000005,3498378.45,657441.20000000007,28842661.469999999,null,null,822,null,2383.5,null,0.34489999999999998,6,null,0.34477611940298508,2680,821,822,822]
[162,"Lunenburg                    ",34,0,108,600,418,513,0,63,16,14,1,2,353,1656,1,4,0.21970000000000001,null,916795.29999999981,1307487.3799999999,7399343.3800000008,1694575.28,300705.42000000004,987378.19,582098.74000000011,670731.03,1802663.04,2289357.2400000002,457350.40000000002,18408485.399999999,null,null,353,null,1606.5,null,0.21970000000000001,4,null,0.14754098360655737,1647,244,353,353]
[163,"Lynn                         ",183,1068,144,6593,4100,4617,1076,664,160,2933,601,1257,13791,17156,1,12,0.81940000000000002,null,10764670.74,18195320.000000004,123815184.55999997,18329806.23,5279328.54,11791158.670000002,7930560.1100000003,15219614.74,20918739.490000006,31526540.360000003,4573504,268344427.44,null,null,13791,null,16830,null,0.81940000000000002,12,null,0.80387877276128705,16036,13791,11666,13791]
[164,"Lynnfield                    ",11,0,170,872,509,618,0,83,22,39,6,5,217,2175,1.0409999999999999,2,0.10050000000000001,null,1245238.2454800003,1722824.3529600003,9434390.4878699984,2353678.3061999991,378899.26583999995,1278880.06,759539.31270000001,747581.43938999984,2467223.2887899997,2911560.3899999997,628856.80000000005,23928671.94923,null,null,217,null,2158.5,null,0.10050000000000001,2,null,8.8878326996197715E-2,2104,193,217,217]
[165,"Malden                       ",216,0,427,2600,1712,2064,10,261,68,788,171,221,4151,6921,1.0369999999999999,10,0.60870000000000002,null,4295932.9239000008,6886887.4931699997,43410766.677140005,7546645.9532299992,1844596.5503099998,4313557.41,2998925.96575,5018732.9783199988,8131946.0918699987,11424485.120000001,1943739.2000000002,97816216.363690004,null,null,4151,null,6819.5,null,0.60870000000000002,10,null,0.59972954699121028,7395,4151,3689,4151]
[166,"Manchester                   ",0,0,0,0,0,0,0,0,0,0,0,0,0,0,1.038,0,0,null,0,0,0,0,0,0,0,0,0,0,0,0,null,null,0,null,0,null,0,0,null,0,0,0,0,0]
[167,"Mansfield                    ",92,0,233,1233,841,1246,0,136,36,46,10,6,663,3599,1.054,4,0.18729999999999999,null,2097733.7027200004,2970747.4629200008,16856372.613060001,3847329.181760001,676200.57208000007,2184764.27,1338345.1266399999,1526877.8588800002,4134890.8002000004,4922892.0100000016,1029038.4,41585191.998259999,null,null,663,null,3539.5,null,0.18729999999999999,4,null,0.14409014624790217,4171,519,663,663]
[168,"Marblehead                   ",28,131,6,979,729,978,0,106,28,73,22,26,347,2772,1,3,0.127,null,1534497.0699999998,2138047.5300000003,11963050.550000001,2807846.43,478032.62999999989,1693629.9899999998,973446.1,1047330.4199999999,3052762.79,3746704.38,800363.20000000007,30235711.089999996,null,null,347,null,2732,null,0.127,3,null,0.10761789600967352,3308,298,347,347]
[169,"Marion                       ",13,0,41,287,62,2,4,15,4,1,0,0,97,403,1,5,0.249,null,222713.2,320665.08,1735965.6299999997,459174.46,73522.559999999998,207475.33,123448.38,117558.45000000001,430937.60000000003,568514.16,114337.60000000001,4374312.4499999993,null,null,97,null,389.5,null,0.249,5,null,0.1958997722095672,439,79,97,97]
[170,"Marlborough                  ",82,0,386,2034,1334,1408,4,198,52,739,178,182,2394,5207,1.03,8,0.46949999999999997,null,3173760.0428999998,4876921.9607000006,29543562.872499995,5731598.8421,1243900.5532,3204275.21,2117678.3725999999,3069005.3657999993,6137644.5666000005,8199274.3300000019,1486388.8,68784010.9164,null,null,2394,null,5098.5,null,0.46949999999999997,8,null,0.45980707395498394,4976,2394,2332,2394]
[171,"Marshfield                   ",48,0,244,1298,925,1167,133,145,36,29,8,9,593,3791,1.0349999999999999,3,0.1583,null,2160311.2848,3038020.5959999994,17511357.116700001,3986290.75275,697316.79104999988,2371364.8399999994,1371397.7079,1514169.4788000002,4396920.4719000002,5199684.7400000012,1029038.4,43275872.179899998,null,null,593,null,3745,null,0.1583,3,null,0.14977343191032674,4193,568,593,593]
[172,"Mashpee                      ",56,0,93,517,379,493,0,57,15,51,8,4,561,1510,1,7,0.3755,null,858045.8,1283345.54,7636377.8000000007,1541087.1200000003,315811.42,919208.23999999987,570422.66,793283.03999999992,1656955.31,2227808.7400000002,428766,18231111.670000002,null,null,561,null,1494,null,0.3755,7,null,0.3009478672985782,1688,454,561,561]
[173,"Mattapoisett                 ",21,0,45,279,52,5,4,15,4,1,1,0,81,396,1,4,0.20580000000000001,null,218995.78,311072.51000000007,1675362.5899999999,454699.00000000006,70352.62,204736.78000000003,119549.95000000001,106924.79000000001,424070.69,552579.98,114337.60000000001,4252682.29,null,null,81,null,393.5,null,0.20580000000000001,4,null,0.16666666666666666,510,66,81,81]
[174,"Maynard                      ",33,1,79,485,305,343,26,47,12,40,10,9,261,1256,1.0669999999999999,4,0.2107,null,742983.38444000005,1063584.7143900001,6083750.5834599985,1381872.0841199998,246513.84350999998,762710.58,469689.69750999997,530060.06668999989,1490843.5564000001,1753931.12,343012.80000000005,14868952.430520002,null,null,261,null,1239,null,0.2107,4,null,0.20303468208092484,1384,255,261,261]
[175,"Medfield                     ",18,158,6,982,565,792,0,93,24,15,4,2,173,2433,1.0349999999999999,2,7.1599999999999997E-2,null,1376451.2713499998,1892342.2499999998,10381473.480599999,2578703.7730499995,411883.46639999986,1454869.23,849313.03049999988,840066.88904999988,2739395.0992499995,3213657.4,686025.60000000009,26424181.490199994,null,null,173,null,2416,null,7.1599999999999997E-2,2,null,2.9944838455476755E-2,2538,73,173,173]
[176,"Medford                      ",67,0,318,1684,997,798,583,173,38,268,68,112,1662,4414,1.05,7,0.38009999999999999,null,2660701.7009999999,3990304.7100000004,25725632.625,4881728.7015000004,1042422.36,3042551.8,1755977.1285000003,2419290.3104999997,5693560.5510000009,6866188.9300000006,1086207.2,59164566.017499991,null,null,1662,null,4372,null,0.38009999999999999,7,null,0.3764297385620915,4896,1662,1635,1662]
[177,"Medway                       ",27,0,146,777,515,637,0,79,21,27,2,4,260,2089,1.0369999999999999,3,0.1246,null,1190527.8085199997,1660474.4522600002,9178906.1761399992,2220797.6992599997,369035.91449,1239923.8700000001,739497.29955,766315.61283,2358016.50508,2810421.5700000003,600272.4,23134189.308129996,null,null,260,null,2086.5,null,0.1246,3,null,9.3951093951093953E-2,2331,196,260,260]
[178,"Melrose                      ",17,0,348,1657,887,1009,4,149,39,153,33,17,706,3914,1.034,4,0.18090000000000001,null,2253011.7277799998,3188340.5923599997,17791086.43048,4266236.6427999996,724265.64121999999,2294607.0699999989,1385073.5857200001,1475987.76688,4438934.8885199996,5412055.5100000007,1114791.6000000001,44344391.455760002,null,null,706,null,3902,null,0.18090000000000001,4,null,0.18033226152197213,3732,706,571,706]
[179,"Mendon                       ",0,0,0,0,0,0,6,0,0,0,0,0,0,6,1,0,0,null,2432.2200000000003,4392.78,44312.46,3095.88,1385.16,8162.82,2445.6000000000004,3294.24,11003.64,9191.880000000001,0,89716.680000000008,null,null,0,null,0,null,0,0,null,0,2,0,0,0]
[180,"Merrimac                     ",0,0,0,0,0,0,9,0,0,0,0,0,0,9,1,0,0,null,3648.33,6589.17,66468.69,4643.82,2077.7400000000002,12244.23,3668.4,4941.3599999999997,16505.46,13787.82,0,134575.02000000002,null,null,0,null,0,null,0,0,null,0,3,0,0,0]
[181,"Methuen                      ",88,0,380,2560,1744,1490,549,263,62,444,116,143,3167,6767,1,9,0.48509999999999998,null,3946249.23,6086727.8900000006,38860119.599999994,7087601.5999999987,1614077.53,4461115.2699999996,2670623.9100000006,4054236.71,8031078.0799999991,10795072.070000002,1772232.8,89379134.690000013,null,null,3167,null,6529,null,0.48509999999999998,9,null,0.46794150731158607,7112,3167,3022,3167]
[182,"Middleborough                ",50,0,203,1097,771,906,19,115,30,24,8,11,1047,3021,1,6,0.35499999999999998,null,1704107.15,2519218.65,14845496.1,3095650.0600000005,613441.96,1820153.1199999999,1113999.2300000002,1491559.46,3308447.76,4397777.51,857532,35767383,null,null,1047,null,2949.5,null,0.35499999999999998,6,null,0.34317687286291576,3217,1037,1047,1047]
[183,"Middlefield                  ",0,0,0,0,0,0,3,0,0,0,0,0,0,3,1,0,0,null,1216.1100000000001,2196.39,22156.23,1547.94,692.58,4081.41,1222.8000000000002,1647.12,5501.82,4595.9400000000005,0,44858.340000000004,null,null,0,null,0,null,0,0,null,0,1,0,0,0]
[184,"Middleton                    ",61,0,99,435,92,0,1,24,6,9,1,0,65,658,1.044,2,9.98E-2,null,371822.27040000004,521397.00647999992,2680275.1165200002,785498.14584000001,112115.18088000001,332058.1399999999,198580.69116000005,138142.15307999999,729659.17944000009,886152.87000000023,171506.40000000002,6927207.1538000004,null,null,65,null,651,null,9.98E-2,2,null,7.5445816186556922E-2,729,50,65,65]
[185,"Milford                      ",49,0,318,1663,1092,1301,23,169,44,623,141,175,2112,4422,1.0089999999999999,9,0.49320000000000003,null,2652687.4055299996,4106336.1186599992,25266763.609809998,4742234.4049099991,1060666.5109399997,2773007.17,1795900.6958399999,2701653.4793199995,5128860.0079999985,7040365.0800000001,1257713.6000000001,58526188.083009996,null,null,2112,null,4282,null,0.49320000000000003,9,null,0.32812129827055198,4221,1451,2112,2112]
[186,"Millbury                     ",55,0,95,594,421,493,2,61,16,50,16,10,507,1633,1,6,0.3226,null,918506.57000000007,1353284.68,7877003.9400000004,1672395.7399999998,324773.70999999996,981965.74999999988,598713.77,771107.91999999993,1792401.6799999997,2356588.67,457350.40000000002,19104092.829999998,null,null,507,null,1571.5,null,0.3226,6,null,0.28514513375071143,1757,466,507,507]
[187,"Millis                       ",8,72,7,411,264,329,0,40,10,20,5,2,180,1051,1.034,3,0.16300000000000001,null,600113.49903999991,848055.43878000008,4754812.6445599999,1114100.4023600002,192099.49792000005,628699.80999999994,378549.28188000008,417229.45374000003,1187919.4511800001,1437462.8800000001,285844,11844886.359460002,null,null,180,null,1104,null,0.16300000000000001,3,null,0.16366483946750196,1277,172,180,180]
[188,"Millville                    ",0,0,0,0,0,0,8,0,0,0,0,0,0,8,1,0,0,null,3242.96,5857.04,59083.28,4127.84,1846.88,10883.76,3260.8,4392.32,14671.52,12255.84,0,119622.24,null,null,0,null,0,null,0,0,null,0,6,0,0,0]
[189,"Milton                       ",42,0,312,1880,972,1155,0,165,43,64,10,13,560,4340,1.04,3,0.1298,null,2484470.9552000007,3468944.4711999996,19078741.749600001,4724051.7064000005,770542.10479999986,2530294.29,1513337.2696,1528034.6120000002,4905990.7520000003,5863678.71,1229129.2,48097215.820799999,null,null,560,null,4313.5,null,0.1298,3,null,0.12901554404145077,3860,560,548,560]
[190,"Monroe                       ",0,0,3,8,2,1,0,1,0,0,0,0,0,14,1,0,0,null,8472.89,10249.82,56411.39,19846.230000000003,2334.2799999999997,7482.69,4035.7599999999998,2482.89,16380.51,19913.68,0,147610.14000000001,null,null,0,null,0,null,0,0,null,0,8,0,0,0]
[191,"Monson                       ",32,0,63,349,218,237,0,33,9,2,1,1,318,883,1,6,0.35949999999999999,null,496995.73,738371.64999999991,4310364.46,911431.47000000009,179439.46999999997,518053.79999999993,321236.45,428086.12,955790.71,1286153.99,257259.6,10403183.449999999,null,null,318,null,884.5,null,0.35949999999999999,6,null,0.26551094890510951,1096,234,318,318]
[192,"Montague                     ",0,0,0,0,0,0,0,0,0,0,0,0,0,0,1,0,0,null,0,0,0,0,0,0,0,0,0,0,0,0,null,null,0,null,0,null,0,0,null,0,0,0,0,0]
[193,"Monterey                     ",0,0,0,0,0,0,0,0,0,0,0,0,0,0,1,0,0,null,0,0,0,0,0,0,0,0,0,0,0,0,null,null,0,null,0,null,0,0,null,0,0,0,0,0]
[194,"Montgomery                   ",0,0,0,0,0,0,4,0,0,0,0,0,0,4,1,0,0,null,1621.48,2928.52,29541.64,2063.92,923.44,5441.88,1630.4,2196.16,7335.76,6127.92,0,59811.12,null,null,{"$f":"O203","v":0},null,0,null,{"$f":"S203","v":0},{"$f":"R203","v":0},null,0,3,{"$f":"ROUND(AP203*P203,0)","v":0},0,{"$f":"O203","v":0}]
[195,"Mount Washington             ",0,0,1,2,1,1,0,0,0,0,0,0,0,5,1,0,0,null,2026.85,3660.65,17369.5,3718.81,682.18,2720.98,1549.88,1175.8499999999999,4787.12,5813.57,0,43505.390000000007,null,null,0,null,0,null,0,0,null,0,11,0,0,0]
[196,"Nahant                       ",13,0,28,92,58,78,0,10,3,0,0,0,36,263,1,5,0.2424,null,145440.83000000002,201765.46,1120711.1200000001,271445.77999999997,45039.98,154867.91999999998,89068.27,93078.41,284223.29000000004,354127.50000000006,85753.200000000012,2845521.7600000002,null,null,36,null,148.5,null,0.2424,5,null,4.2553191489361701E-2,282,11,36,36]
[197,"Nantucket                    ",49,0,114,562,426,536,0,63,16,176,33,57,550,1663,1,6,0.33510000000000001,null,956564.69000000006,1418557.7999999998,8365794.209999999,1731084.1300000001,344492.41000000003,1031122.1799999999,630956.92000000004,821467.7,1880348.8599999999,2463185.2999999998,457350.40000000002,20100924.599999998,null,null,550,null,1641.5,null,0.33510000000000001,6,null,0.21134020618556701,1552,351,550,550]
[198,"Natick                       ",46,0,334,2050,1272,1587,4,201,52,117,25,15,630,5270,1.016,3,0.1205,null,2950685.9350399994,4110842.8425599998,22736665.81944,5529835.0871200003,913407.23591999989,3135289.1500000004,1826711.8050400005,1875302.1066399997,5856837.0239199996,7108000.4099999992,1486388.8,57529966.215679981,null,null,630,null,5230,null,0.1205,3,null,0.10134760937788444,5417,534,630,630]
[199,"Needham                      ",37,0,333,2162,1325,1722,0,212,55,145,21,10,456,5561,1.077,2,8.3500000000000005E-2,null,3288878.378490001,4539740.0178300012,24896527.419449996,6174495.9700800003,993390.09905999992,3315461.3,2025438.6284700001,1992862.4479199997,6550604.4884400005,7408425.1900000004,1572142,62757965.939740002,null,null,456,null,5461,null,8.3500000000000005E-2,2,null,8.2058933233867953E-2,5362,456,405,456]
[200,"New Ashford                  ",0,0,0,7,4,10,1,1,0,0,0,0,0,22,1,0,0,null,11715.850000000002,16106.859999999999,95376.01,22801.59,3578.5799999999995,14868.16,7709.1200000000008,8012.1599999999989,25325.989999999998,29050.95,0,234545.27,null,null,0,null,0,null,0,0,null,0,26,0,0,0]
[201,"New Bedford                  ",290,0,1062,5947,3699,3140,17,531,138,2175,557,823,10563,14010,1,11,0.77,null,8676063.7300000004,14454326.830000002,92976491.290000007,15246995.359999998,4040269.1799999997,8622347.8600000013,6130987.4000000004,11106348.550000001,16173169.810000001,24817280.410000004,3944647.2,206188927.62000003,null,null,10563,null,13718,null,0.77,11,null,0.75225191128604951,13211,10539,10563,10563]
[202,"New Braintree                ",0,0,0,0,0,0,3,0,0,0,0,0,0,3,1,0,0,null,1216.1100000000001,2196.39,22156.23,1547.94,692.58,4081.41,1222.8000000000002,1647.12,5501.82,4595.9400000000005,0,44858.340000000004,null,null,0,null,0,null,0,0,null,0,1,0,0,0]
[203,"Newbury                      ",0,0,0,0,0,0,3,0,0,0,0,0,0,3,1.036,0,0,null,1259.8899600000002,2275.4600399999999,22953.85428,1603.6658400000001,717.51288000000011,4081.41,1266.8208000000002,1706.41632,5699.8855199999998,4595.9400000000005,0,46160.855639999994,null,null,0,null,0,null,0,0,null,0,2,0,0,0]
[204,"Newburyport                  ",45,94,28,758,542,808,5,84,22,24,9,11,276,2211,1,3,0.1255,null,1216385.5299999998,1696429.5299999998,9537724.9700000007,2224281.63,378704.9800000001,1356935.49,774541.48,841924.43999999983,2421062.65,2970345.8000000003,628856.80000000005,24047193.300000001,null,null,276,null,2199.5,null,0.1255,3,null,8.6298568507157461E-2,2445,191,276,276]
[205,"New Marlborough              ",0,0,0,0,0,0,0,0,0,0,0,0,0,0,1,0,0,null,0,0,0,0,0,0,0,0,0,0,0,0,null,null,0,null,0,null,0,0,null,0,0,0,0,0]
[206,"New Salem                    ",0,0,0,0,0,0,0,0,0,0,0,0,0,0,1,0,0,null,0,0,0,0,0,0,0,0,0,0,0,0,null,null,0,null,0,null,0,0,null,0,0,0,0,0]
[207,"Newton                       ",89,0,678,4405,2946,3586,453,467,116,481,82,90,1553,12113,1.0589999999999999,3,0.1298,null,7107518.4243000001,9927439.752869999,56971453.51527001,13198598.895209998,2264479.3444499997,7614419.3500000006,4467023.0315399999,4728962.0431200005,14557112.762340002,16639732.529999999,3315790.4000000004,140792530.04910001,null,null,1553,null,11966.5,null,0.1298,3,null,0.12823538667296042,12711,1553,1406,1553]
[208,"Norfolk                      ",25,0,164,677,114,0,0,37,10,25,0,0,66,968,1.0449999999999999,2,6.7799999999999999E-2,null,555629.00800000003,761930.85979999986,3903035.0078499992,1179876.5720499998,162330.34179999999,488656.24000000005,288444.79785000003,185722.28014999998,1080112.4389000002,1299235.1600000001,285844,10190816.706399998,null,null,66,null,973,null,6.7799999999999999E-2,2,null,5.9775840597758409E-2,803,58,66,66]
[209,"North Adams                  ",77,0,81,512,358,318,0,49,13,10,0,0,874,1308,1,11,0.70740000000000003,null,770326.89,1258013.8299999998,7942769.4199999999,1354314.7300000002,343796.13999999996,769951.29000000015,538582.25,960665.59999999998,1418078.76,2169105.96,371597.2,17897202.07,null,null,874,null,1235.5,null,0.70740000000000003,11,null,0.62977346278317148,1545,824,874,874]
[210,"Northampton                  ",52,0,156,962,671,841,0,101,26,68,16,24,780,2656,1,5,0.28539999999999999,null,1491436.49,2169836.38,12559116.120000001,2724291.28,514397.58,1602671.85,965393.8,1208363.7,2914647.0100000002,3785210.3899999997,743194.4,30678559.000000004,null,null,780,null,2733,null,0.28539999999999999,5,null,0.29237441272135889,2767,777,780,780]
[211,"North Andover                ",61,0,285,1701,1123,1442,18,175,46,67,14,9,929,4600,1,4,0.20710000000000001,null,2552376.29,3625217.87,20575193.939999998,4711063.34,832342.52999999991,2767302.0300000003,1616836.2400000002,1848545.16,5033243.6499999994,6352164.1300000008,1314882.4000000001,51229167.579999998,null,null,929,null,4485,null,0.20710000000000001,4,null,0.1679768307819611,4834,773,929,929]
[212,"North Attleborough           ",141,0,279,1544,1049,1150,0,154,40,109,11,22,913,4093,1,4,0.22739999999999999,null,2273960.86,3258254.44,18366363.359999999,4226462.0699999994,751480.92999999993,2417625.9,1434504.6099999999,1633751.9300000002,4473443.2,5703789.0600000005,1143376,45683012.360000007,null,null,913,null,4015.5,null,0.22739999999999999,4,null,0.17792891619131199,4558,728,913,913]
[213,"Northborough                 ",24,2,146,871,525,12,0,60,16,77,19,0,249,1567,1,3,0.16300000000000001,null,873949.00999999989,1227283.3700000001,6351436.0599999987,1752457.38,275709.05,804365.9800000001,490311.31000000006,407584.53,1717647.99,2193148.5700000003,457350.40000000002,16551243.649999999,null,null,249,null,1528,null,0.16300000000000001,3,null,0.10541310541310542,1755,165,249,249]
[214,"Northbridge                  ",36,0,149,727,540,575,14,77,20,35,5,8,700,2023,1,7,0.36870000000000003,null,1144282.5200000003,1697809.02,10002344.440000001,2080864.21,415495.12999999995,1213558.46,747743.34,1004208.75,2222408.3199999998,2965937.5700000003,571688,24066339.760000002,null,null,700,null,1898.5,null,0.36870000000000003,7,null,0.32936344969199177,2435,666,700,700]
[215,"North Brookfield             ",25,0,48,212,138,162,0,21,6,5,0,0,213,573,1,8,0.42299999999999999,null,323286.93,485939.62,2869862.91,585863.64,119524.73999999999,338946.57999999996,212073.47,294195.13,619287.78000000014,843091.57,171506.40000000002,6863578.7700000005,null,null,213,null,503.5,null,0.42299999999999999,8,null,0.37165354330708661,635,213,198,213]
[216,"Northfield                   ",0,0,0,0,0,0,1,0,0,0,0,0,0,1,1,0,0,null,405.37,732.13,7385.41,515.98,230.86,1360.47,407.6,549.04,1833.94,1531.98,0,14952.78,null,null,0,null,0,null,0,0,null,0,2,0,0,0]
[217,"North Reading                ",40,172,3,887,555,683,9,85,22,6,3,2,225,2243,1.0649999999999999,2,0.10199999999999999,null,1306000.9267500001,1811218.7152499997,9976474.9791000001,2443221.2286000005,399275.89109999989,1335292.3400000001,808798.36019999988,818616.78689999995,2602760.9762999997,2992350.6300000004,628856.80000000005,25122867.634200003,null,null,225,null,2205,null,0.10199999999999999,2,null,9.076369452219113E-2,2501,204,225,225]
[218,"Norton                       ",48,0,162,805,589,667,54,88,22,27,8,11,582,2301,1,5,0.24179999999999999,null,1282187.0999999999,1847067.4600000002,10740551.299999997,2357412.54,436780.62,1410543.54,822617.79,990762.19000000018,2559627.37,3253981.58,628856.80000000005,26330388.290000003,null,null,582,null,2406.5,null,0.24179999999999999,5,null,0.18805055534278053,2611,433,582,582]
[219,"Norwell                      ",36,157,1,860,514,666,0,81,21,4,1,1,117,2138,1.0569999999999999,1,5.5599999999999997E-2,null,1229277.0370299998,1685743.7237200001,9156916.2122200001,2311418.4373699999,363892.77693999989,1267038.5099999998,754043.74870999996,721314.79013999994,2451702.0292799999,2805838.6799999997,600272.4,23347458.345409997,null,null,117,null,2105,null,5.5599999999999997E-2,1,null,5.4495912806539509E-2,2202,117,108,117]
[220,"Norwood                      ",61,0,279,1402,752,1030,0,133,35,342,49,51,1117,3494,1.0569999999999999,6,0.32740000000000002,null,2117204.3377799992,3119495.8780999999,18296364.178189997,3902710.1631699987,751921.21871999977,2124888.38,1364072.1141600001,1741675.6714699999,4128282.89482,5131833.78,1000454,43678902.616409995,null,null,1117,null,3412,null,0.32740000000000002,6,null,0.29037800687285226,3492,1015,1117,1117]
[221,"Oak Bluffs                   ",7,0,49,218,167,0,0,17,4,71,15,0,169,438,1,7,0.38279999999999997,null,255836.73999999996,385147.2,2151473.4700000002,497551.81,95552.53,233148.38000000003,154931.87000000002,182256.78999999998,498790.67000000004,681450.34,114337.60000000001,5250477.3999999994,null,null,169,null,441.5,null,0.38279999999999997,7,null,0.37327188940092165,434,163,169,169]
[222,"Oakham                       ",0,0,0,0,0,0,3,0,0,0,0,0,0,3,1,0,0,null,1216.1100000000001,2196.39,22156.23,1547.94,692.58,4081.41,1222.8000000000002,1647.12,5501.82,4595.9400000000005,0,44858.340000000004,null,null,0,null,0,null,0,0,null,0,1,0,0,0]
[223,"Orange                       ",11,0,62,395,68,0,1,20,5,4,1,0,306,532,1,10,0.66020000000000001,null,308413.51999999996,491699.59999999992,2944496.5499999993,614339.8899999999,128791.15000000001,274885.69,188121.09000000003,289956.37,565641.69999999995,857159.4800000001,142922,6806427.04,null,null,306,null,463.5,null,0.66020000000000001,10,null,0.5718849840255591,626,304,306,306]
[224,"Orleans                      ",1,0,17,165,0,0,0,7,2,15,0,0,62,183,1,6,0.3543,null,104765.15,153897.43,868391.38,220057.12,36499.11,94468.529999999984,57142.330000000009,62647.92,196278,269942.46000000002,57168.800000000003,2121258.23,null,null,62,null,175,null,0.3543,6,null,0.24663677130044842,223,45,62,62]
[225,"Otis                         ",0,0,0,0,0,0,0,0,0,0,0,0,0,0,1,0,0,null,0,0,0,0,0,0,0,0,0,0,0,0,null,null,0,null,0,null,0,0,null,0,0,0,0,0]
[226,"Oxford                       ",11,0,69,622,404,460,2,60,16,6,2,0,574,1563,1,7,0.39129999999999998,null,886332.32,1316530.07,7779662.3700000001,1607730.5599999998,323603.67,931772.94999999984,579530.45000000007,799662.96,1701809.11,2295895.3400000003,457350.40000000002,18679880.199999996,null,null,574,null,1467,null,0.39129999999999998,7,null,0.36039296794208892,1934,563,574,574]
[227,"Palmer                       ",16,0,93,525,353,338,1,50,13,32,15,3,643,1318,1,9,0.53490000000000004,null,761672.9,1179793.2,7155766.2999999989,1372665.0100000002,303864.68999999994,780231.2899999998,510251.26999999996,781771.15999999992,1443989.6599999997,2047835.7999999998,371597.2,16709438.479999997,null,null,643,null,1202,null,0.53490000000000004,9,null,0.45502998001332445,1501,600,643,643]
[228,"Paxton                       ",0,0,0,0,0,0,0,0,0,0,0,0,0,0,1,0,0,null,0,0,0,0,0,0,0,0,0,0,0,0,null,null,0,null,0,null,0,0,null,0,0,0,0,0]
[229,"Peabody                      ",158,0,413,2293,1474,1227,391,226,54,326,103,110,2375,5877,1,7,0.41160000000000002,null,3377434.31,5099915.8499999996,31545335.379999995,6185553.2000000002,1305373.0999999999,3757883.9000000004,2221396.5999999996,3089302.5199999996,6863583.4699999997,9044494.7300000004,1543557.6,74033830.659999996,null,null,2375,null,5770.5,null,0.41160000000000002,7,null,0.37102177554438859,5970,2180,2375,2375]
[230,"Pelham                       ",0,0,10,49,11,0,0,3,1,2,0,0,18,70,1,3,0.16819999999999999,null,40944.749999999993,56201.880000000005,305683.16000000003,83854.540000000008,13041.31,35751.42,21520.780000000002,20270.900000000001,76062.169999999984,100723.16,28584.400000000001,782638.4700000002,null,null,18,null,107,null,0.16819999999999999,3,null,0.26027397260273971,73,18,15,18]
[231,"Pembroke                     ",19,0,168,950,658,872,82,105,26,29,4,3,488,2740,1.0369999999999999,4,0.1857,null,1568858.8517699998,2218359.6189299994,12837196.894529998,2886053.9807400005,512406.61910999997,1711365.38,1001729.36934,1139726.7547599999,3172470.7778699994,3779017.7199999997,743194.4,31570380.367049992,null,null,488,null,2628.5,null,0.1857,4,null,0.17804340987731992,3179,488,456,488]
[232,"Pepperell                    ",0,0,0,0,0,0,0,0,0,0,0,0,0,0,1,0,0,null,0,0,0,0,0,0,0,0,0,0,0,0,null,null,0,null,0,null,0,0,null,0,0,0,0,0]
[233,"Peru                         ",0,0,0,0,0,0,9,0,0,0,0,0,0,9,1,0,0,null,3648.33,6589.17,66468.69,4643.82,2077.7400000000002,12244.23,3668.4,4941.3599999999997,16505.46,13787.82,0,134575.02000000002,null,null,0,null,0,null,0,0,null,0,8,0,0,0]
[234,"Petersham                    ",0,0,10,46,11,0,0,3,1,2,0,0,39,67,1,6,0.31709999999999999,null,41115.42,60575.520000000004,359748.31999999995,81271.510000000009,15753.82,34770.6,23311.540000000005,33328.520000000004,73265.569999999992,107593.91,28584.400000000001,859319.13,null,null,39,null,123,null,0.31709999999999999,6,null,0.56896551724137934,58,38,39,39]
[235,"Phillipston                  ",0,0,0,0,0,0,0,0,0,0,0,0,0,0,1,0,0,null,0,0,0,0,0,0,0,0,0,0,0,0,null,null,0,null,0,null,0,0,null,0,0,0,0,0]
[236,"Pittsfield                   ",63,0,378,2052,1356,1487,402,221,53,155,37,56,3465,5707,1,10,0.6694,null,3357462.4199999995,5370511.0399999991,35268156.419999994,5882503.6099999985,1478319.7200000002,3756388.92,2359975.1700000004,4070883.0100000002,6619690.8899999997,9431540.2599999998,1514973.2000000002,79110404.659999996,null,null,3465,null,5176,null,0.6694,10,null,0.60723514211886309,6192,3465,3201,3465]
[237,"Plainfield                   ",0,0,0,0,0,0,4,0,0,0,0,0,0,4,1,0,0,null,1621.48,2928.52,29541.64,2063.92,923.44,5441.88,1630.4,2196.16,7335.76,6127.92,0,59811.12,null,null,0,null,0,null,0,0,null,0,3,0,0,0]
[238,"Plainville                   ",22,0,80,474,93,0,0,25,6,26,2,0,152,658,1,4,0.2321,null,365795.96000000008,526148.21,2822829.63,764548.61999999988,119737.79999999999,335655.05000000005,200795.94000000003,182361.36,706819.67000000016,931564.27,171506.40000000002,7127762.9100000001,null,null,152,null,655,null,0.2321,4,null,0.17110799438990182,713,113,152,152]
[239,"Plymouth                     ",149,0,466,2566,1873,2065,663,299,70,113,42,43,2411,7708,1.038,6,0.32040000000000002,null,4501054.5502800001,6609212.8386600008,41074368.123599999,8154780.7945200009,1654465.5842399998,5116562.2299999995,2972500.0268400004,3940135.5845999997,9361139.2564199995,11382437.550000001,2000908,96767564.539159998,null,null,2411,null,7524,null,0.32040000000000002,6,null,0.31274801587301587,8064,2411,2186,2411]
[240,"Plympton                     ",0,0,30,162,17,3,2,8,2,1,0,0,37,214,1.056,3,0.17699999999999999,null,123817.52064,175654.24800000002,940151.04479999992,261513.10944,39012.483840000001,110522.23999999999,66709.558080000017,55812.757440000009,240828.0864,294842.09000000003,57168.800000000003,2366031.9386399998,null,null,37,null,209,null,0.17699999999999999,3,null,0.17180616740088106,227,37,36,37]
[241,"Princeton                    ",0,0,0,0,0,0,1,0,0,0,0,0,0,1,1,0,0,null,405.37,732.13,7385.41,515.98,230.86,1360.47,407.6,549.04,1833.94,1531.98,0,14952.78,null,null,0,null,0,null,0,0,null,0,0,0,0,0]
[242,"Provincetown                 ",15,0,8,31,25,27,0,3,1,15,10,0,63,99,1,9,0.504,null,58025.95,96584.01999999999,602097.27,99609.060000000012,25674.69,61395.179999999993,41717.19,68955.709999999992,111716.16,163469.49000000002,28584.400000000001,1357829.1199999996,null,null,63,null,125,null,0.504,9,null,0.33333333333333331,129,33,63,63]
[243,"Quincy                       ",275,0,681,3640,2130,1675,1285,373,81,1056,181,235,5058,9549,1.052,9,0.53849999999999998,null,5932662.2235200005,9317800.3949200008,62089643.637599997,10675230.500519998,2560646.1846400006,6687721.6600000001,4067442.6166400001,6430682.7581199994,12506279.348480001,15864082.280000001,2315336.4,138447528.00444001,null,null,5058,null,9393,null,0.53849999999999998,9,null,0.5296395911780527,9295,5058,4040,5058]
[244,"Randolph                     ",53,0,163,1300,859,916,0,124,32,298,68,93,1761,3265,1.038,10,0.56710000000000005,null,2006694.04788,3166814.95548,19623262.865759999,3563656.8252000003,834048.74645999994,1997776.63,1376474.673,2209564.8056999999,3810460.56972,5268107.88,914700.80000000005,44771562.799199991,null,null,1761,null,3105,null,0.56710000000000005,10,null,0.53566009104704093,3295,1749,1761,1761]
[245,"Raynham                      ",0,0,0,0,0,0,0,0,0,0,0,0,0,0,1,0,0,null,0,0,0,0,0,0,0,0,0,0,0,0,null,null,0,null,0,null,0,0,null,0,0,0,0,0]
[246,"Reading                      ",44,217,21,1509,905,1260,9,146,38,31,7,5,383,3835,1.038,2,0.1009,null,2181568.0773,3021588.6349800001,16740650.587199999,4061412.4736400009,666076.74234,2307188.7199999997,1358569.4428799998,1397250.7204799999,4341127.8869399996,5112370.8499999996,1086207.2,42274011.335760005,null,null,383,null,3796,null,0.1009,2,null,9.1166077738515899E-2,4245,350,383,383]
[247,"Rehoboth                     ",0,0,0,0,0,0,0,0,0,0,0,0,0,0,1,0,0,null,0,0,0,0,0,0,0,0,0,0,0,0,null,null,0,null,0,null,0,0,null,0,2,0,0,0]
[248,"Revere                       ",64,0,518,3004,1897,2306,9,296,77,1162,216,331,6094,7766,1.0269999999999999,12,0.80169999999999997,null,4951280.9764600005,8330231.4846399995,54692212.356079988,8488986.6954100002,2359225.5605099993,4924726.5100000007,3598978.0178300007,6839646.7348299995,9153036.2686099987,13869641.060000004,2200998.8000000003,119408964.46437,null,null,6094,null,7601,null,0.80169999999999997,12,null,0.78472319551506653,7135,6094,4578,6094]
[249,"Richmond                     ",1,0,8,47,29,26,1,4,1,0,0,0,41,112,1,5,0.28079999999999999,null,61703.210000000006,92544.639999999999,535773.80999999994,114215.84999999999,22360.129999999997,64978.01,39980.239999999998,51820.08,120857.10999999999,161449.40000000002,28584.400000000001,1294266.8799999999,null,null,41,null,146,null,0.28079999999999999,5,null,0.28455284552845528,123,32,41,41]
[250,"Rochester                    ",20,0,51,339,68,3,12,19,5,2,0,0,97,483,1,4,0.2082,null,269545.00999999995,379308,2070605.1699999997,558623.55000000005,86685.84,255518.18,146624.46000000002,131898.79999999999,526497.61,679356.46,142922,5247585.0799999991,null,null,97,null,466,null,0.2082,4,null,0.1953781512605042,476,94,97,97]
[251,"Rockland                     ",37,0,133,888,605,599,7,85,22,113,30,36,1010,2251,1.0640000000000001,8,0.44750000000000001,null,1382301.9308,2117228.1810400006,12741338.958320001,2495916.0167200002,537189.64936000004,1351018.0399999998,921370.47016000003,1348740.5937599998,2656100.6315200003,3456780.76,628856.80000000005,29636842.031679999,null,null,1010,null,2257,null,0.44750000000000001,8,null,0.44883920894239038,2326,1010,991,1010]
[252,"Rockport                     ",6,0,38,211,148,194,0,23,6,2,0,3,181,594,1.026,4,0.23880000000000001,null,342308.41218000004,495540.55799999996,2878630.0603199997,623923.84565999999,117740.26134,358109.87999999995,221182.48422000004,280910.92032000003,664650.26928000012,843872.04999999993,171506.40000000002,6998375.1413199985,null,null,181,null,758,null,0.23880000000000001,4,null,0.28056628056628058,777,167,181,181]
[253,"Rowe                         ",0,0,1,16,11,10,5,1,0,0,0,0,30,43,1,8,0.46879999999999999,null,22189.42,40772.29,269862.40999999997,37814.210000000006,11238.669999999998,29244.870000000003,18052.16,32367.649999999998,49058.09,70040.11,0,580639.88,null,null,30,null,64,null,0.46879999999999999,8,null,0.2,70,9,30,30]
[254,"Rowley                       ",0,0,0,0,0,0,7,0,0,0,0,0,0,7,1.0369999999999999,0,0,null,2942.5808299999999,5314.5316699999994,53610.69118999999,3745.4988199999998,1675.8127399999998,9523.2900000000009,2958.7683999999999,3985.4813599999993,13312.570459999999,10723.86,0,107793.08546999999,null,null,0,null,0,null,0,0,null,0,2,0,0,0]
[255,"Royalston                    ",0,0,0,0,0,0,0,0,0,0,0,0,0,0,1,0,0,null,0,0,0,0,0,0,0,0,0,0,0,0,null,null,0,null,0,null,0,0,null,0,0,0,0,0]
[256,"Russell                      ",0,0,0,0,0,0,22,1,0,0,0,0,0,22,1,0,0,null,11715.849999999999,16106.86,171710.75,19971.100000000002,5524.25,30319.040000000001,8967.2000000000007,12078.88,43471.85,37244.379999999997,0,357110.16,null,null,0,null,0,null,0,0,null,0,14,0,0,0]
[257,"Rutland                      ",0,0,0,0,0,0,0,0,0,0,0,0,0,0,1,0,0,null,0,0,0,0,0,0,0,0,0,0,0,0,null,null,0,null,0,null,0,0,null,0,1,0,0,0]
[258,"Salem                        ",49,0,297,1716,1039,861,377,168,39,325,82,127,2478,4315,1,10,0.58889999999999998,null,2560233,4070027.8500000006,26639048.990000002,4574356.2400000012,1117515.08,2864651.2499999995,1764477.24,2913133.91,5159361.92,7195504.8300000001,1114791.6000000001,59973101.910000004,null,null,{"$f":"O267","v":2478},null,4208,null,{"$f":"S267","v":0.58889999999999998},{"$f":"R267","v":10},null,0.5741811175337187,4671,{"$f":"ROUND(AP267*P267,0)","v":2478},2395,{"$f":"O267","v":2478}]
[259,"Salisbury                    ",0,0,0,0,0,0,2,0,0,0,0,0,0,2,1,0,0,null,810.74,1464.26,14770.82,1031.96,461.72,2720.94,815.2,1098.08,3667.88,3063.96,0,29905.56,null,null,0,null,0,null,0,0,null,0,6,0,0,0]
[260,"Sandisfield                  ",0,0,0,0,0,0,0,0,0,0,0,0,0,0,1,0,0,null,0,0,0,0,0,0,0,0,0,0,0,0,null,null,0,null,0,null,0,0,null,0,0,0,0,0]
[261,"Sandwich                     ",61,0,137,834,626,852,0,94,24,16,3,1,522,2480,1,4,0.20830000000000001,null,1371059.49,1955106.55,11135926.109999998,2504585.38,449609.79,1501974.3900000001,882181.3600000001,1035438.6900000001,2700603.8299999996,3416393.1,686025.60000000009,27638904.289999999,null,null,522,null,2505.5,null,0.20830000000000001,4,null,0.16593886462882096,2977,412,522,522]
[262,"Saugus                       ",30,0,80,979,717,802,19,100,26,89,36,43,996,2612,1,7,0.39650000000000002,null,1495318.8399999999,2236978.98,13364398.18,2683429.02,555426.22,1599680.6099999999,993493.23,1387644.5699999998,2906246.7499999995,3899098.1799999997,743194.4,31864908.979999997,null,null,996,null,2512,null,0.39650000000000002,7,null,0.32084063047285466,2855,838,996,996]
[263,"Savoy                        ",3,0,2,20,13,7,1,2,0,0,0,0,20,45,1,8,0.44440000000000002,null,24941.600000000002,38773.570000000007,234016.47999999998,49658.010000000009,10026.329999999998,25764.58,16393.650000000001,23465.309999999998,49988.37000000001,69304.430000000008,0,542332.33000000007,null,null,20,null,45,null,0.44440000000000002,8,null,0.27419354838709675,62,12,20,20]
[264,"Scituate                     ",53,175,8,1069,645,951,2,106,28,7,1,2,343,2790,1.0329999999999999,3,0.1245,null,1581471.2673599999,2201931.7675599996,12291991.785529999,2927064.4223200004,489364.50520999992,1682906.3199999998,992495.99768999976,1059395.8048099997,3131779.3316099993,3735551.2100000004,800363.20000000007,30894315.612089995,null,null,343,null,2755,null,0.1245,3,null,0.10472074468085106,3008,292,343,343]
[265,"Seekonk                      ",19,0,149,794,483,612,0,78,20,44,9,4,442,2048,1,4,0.21820000000000001,null,1138236.4599999995,1624067.74,9197564.4800000004,2117987.2599999998,373722.78,1218760.5100000002,717495.57000000007,820840.05999999994,2235777.36,2842746.98,571688,22858887.199999999,null,null,442,null,2026,null,0.21820000000000001,4,null,0.21595028482651477,1931,442,345,442]
[266,"Sharon                       ",14,174,20,1288,896,1173,0,133,35,86,9,11,373,3471,1.0409999999999999,2,0.10979999999999999,null,1992845.2310099995,2761479.2610300002,15320552.900159998,3678112.1361300005,611919.0689099998,2099521.4700000002,1249902.3522900001,1303022.6772599998,3963678.5898899999,4656885.5000000009,1000454,38638373.186679997,null,null,373,null,3398.5,null,0.10979999999999999,2,null,7.7621558289396597E-2,3414,269,373,373]
[267,"Sheffield                    ",0,0,0,0,0,0,0,0,0,0,0,0,0,0,1,0,0,null,0,0,0,0,0,0,0,0,0,0,0,0,null,null,0,null,0,null,0,0,null,0,7,0,0,0]
[268,"Shelburne                    ",0,0,0,0,0,0,0,0,0,0,0,0,0,0,1,0,0,null,0,0,0,0,0,0,0,0,0,0,0,0,null,null,0,null,0,null,0,0,null,0,0,0,0,0]
[269,"Sherborn                     ",10,0,55,325,0,0,2,15,4,12,0,0,24,387,1.04,2,6.2399999999999997E-2,null,221835.0056,303031.10240000003,1579428.9576000003,482552.67840000003,64189.892,197483,111818.03360000001,69686.354399999997,429377.28079999995,518510.52999999997,114337.60000000001,4092250.4348000004,null,null,24,null,384.5,null,6.2399999999999997E-2,2,null,3.7037037037037035E-2,378,14,24,24]
[270,"Shirley                      ",0,0,0,0,0,0,0,0,0,0,0,0,0,0,1,0,0,null,0,0,0,0,0,0,0,0,0,0,0,0,null,null,0,null,0,null,0,0,null,0,0,0,0,0]
[271,"Shrewsbury                   ",85,0,294,2245,1500,1949,113,234,60,94,27,39,954,6144,1,3,0.1603,null,3392341.7100000004,4768910.5500000007,27132965.130000003,6262276.1600000011,1084872.49,3779533.34,2146380.92,2355924.54,6815663.5299999993,8400375.209999999,1715064,67854307.580000013,null,null,954,null,5950,null,0.1603,3,null,0.15534790589020525,5993,954,914,954]
[272,"Shutesbury                   ",4,0,11,64,21,0,0,4,1,0,0,0,43,98,1,7,0.39090000000000003,null,56635.039999999994,84576.05,482672.92,113837.66,21109.62,50103.380000000005,32820.480000000003,41940.36,105503.14000000001,149882.80000000002,28584.400000000001,1167665.8499999999,null,null,43,null,110,null,0.39090000000000003,7,null,0.26027397260273971,146,26,43,43]
[273,"Somerset                     ",37,0,132,852,639,0,0,62,16,15,4,0,464,1642,1,5,0.29060000000000002,null,914930.7300000001,1328477.74,7053364.7699999996,1797554.42,312210.05,832932.54,534357.97000000009,545079.99,1779550.9300000002,2367370.1800000002,457350.40000000002,17923179.719999999,null,null,464,null,1596.5,null,0.29060000000000002,5,null,0.19866814650388456,1802,326,464,464]
[274,"Somerville                   ",228,0,418,1980,1120,815,602,195,43,617,121,170,3358,5049,1.052,10,0.67700000000000005,null,3200848.3590399995,5220189.1850399999,35211548.471359998,5702044.4456800008,1479076.83164,3480794.0399999996,2245295.7190400003,3891768.8841600004,6566014.4051200012,8797267.1199999992,1229129.2,77023976.661080003,null,null,3358,null,4960,null,0.67700000000000005,10,null,0.66512231282431433,5396,3358,2465,3358]
[275,"Southampton                  ",19,0,55,280,52,0,51,17,4,9,0,0,89,448,1,4,0.20050000000000001,null,246772.02,352390,2081292.0099999998,503374.80999999994,84044.45,271405.12999999995,140678.29000000004,135465.71,522919.33999999997,642992.12000000023,114337.60000000001,5095671.4799999995,null,null,89,null,444,null,0.20050000000000001,4,null,0.16938775510204082,490,76,89,89]
[276,"Southborough                 ",9,0,104,651,387,8,1,44,12,67,12,0,98,1156,1.0369999999999999,2,8.3400000000000002E-2,null,664102.58787000005,916607.43173999991,4640479.0256500002,1339276.9447499996,200189.07531999995,593001.62000000011,366342.45217,264565.83828999999,1315939.5293700001,1583462.1500000004,343012.80000000005,12226979.455160001,null,null,98,null,1175,null,8.3400000000000002E-2,2,null,3.453689167974882E-2,1274,40,98,98]
[277,"Southbridge                  ",57,0,163,850,541,627,0,84,22,164,101,110,1564,2210,1,12,0.80349999999999999,null,1348192.27,2229539.23,14397509.07,2342042.66,619478.53999999992,1372839.27,961198.17000000016,1755050.98,2499826.36,3823253.4599999995,628856.80000000005,31977786.810000002,null,null,1564,null,1946.5,null,0.80349999999999999,12,null,0.68814115716044322,2437,1521,1564,1564]
[278,"South Hadley                 ",65,0,92,697,433,472,110,70,17,45,15,20,617,1837,1,6,0.33200000000000002,null,1036336.03,1534695.58,9365982.2199999988,1893245.48,381547.07999999996,1175562.33,679111.83,901839.14999999991,2108871.46,2718776.8,485934.80000000005,22281902.760000002,null,null,617,null,1858.5,null,0.33200000000000002,6,null,0.33576262363352422,1921,617,615,617]
[279,"Southwick                    ",0,0,0,0,0,0,0,0,0,0,0,0,0,0,1,0,0,null,0,0,0,0,0,0,0,0,0,0,0,0,null,null,0,null,0,null,0,0,null,0,0,0,0,0]
[280,"Spencer                      ",0,0,0,0,0,0,4,0,0,0,0,0,0,4,1,0,0,null,1621.48,2928.52,29541.64,2063.92,923.44,5441.88,1630.4,2196.16,7335.76,6127.92,0,59811.12,null,null,0,null,0,null,0,0,null,0,6,0,0,0]
[281,"Springfield                  ",1228,0,1841,10754,6927,7600,1408,1107,271,2325,803,1182,24045,29144,1,12,0.8569,null,17915759.720000003,30504510.780000001,205986335.60999998,30572860.729999997,8840820.8599999994,19155400.73,13196654.010000002,25885333.149999999,34010150.5,52710369.509999998,7746372.4000000004,446524567.99999994,null,null,24045,null,28060.5,null,0.8569,12,null,0.82502588885053507,28970,24045,23177,24045]
[282,"Sterling                     ",0,0,0,0,0,0,2,0,0,0,0,0,0,2,1,0,0,null,810.74,1464.26,14770.82,1031.96,461.72,2720.94,815.2,1098.08,3667.88,3063.96,0,29905.56,null,null,0,null,0,null,0,0,null,0,0,0,0,0]
[283,"Stockbridge                  ",0,0,0,0,0,0,0,0,0,0,0,0,0,0,1,0,0,null,0,0,0,0,0,0,0,0,0,0,0,0,null,null,0,null,0,null,0,0,null,0,0,0,0,0]
[284,"Stoneham                     ",31,0,187,940,567,658,8,90,24,55,10,17,577,2376,1.0409999999999999,5,0.24640000000000001,null,1381508.21643,1984339.2095999999,11297060.501039997,2570309.6670900001,462006.76172999991,1408786.2599999998,869777.49633000034,1014682.2499799998,2708488.85286,3338115.39,686025.60000000009,27721100.205059998,null,null,577,null,2341.5,null,0.24640000000000001,5,null,0.2426408746846089,2378,577,503,577]
[285,"Stoughton                    ",54,0,245,1299,864,1105,0,135,35,154,49,59,1412,3540,1.0429999999999999,7,0.40460000000000002,null,2118911.3539299998,3187378.4726699996,19072288.279239997,3824239.3833699999,791974.50436999986,2155973.46,1405863.4235100001,1981213.5656600001,4084483.9247099999,5304846.0500000007,1000454,44927626.417459995,null,null,1412,null,3489.5,null,0.40460000000000002,7,null,0.36305048335123524,3724,1285,1412,1412]
[286,"Stow                         ",0,0,0,0,0,0,1,0,0,0,0,0,0,1,1.05,0,0,null,425.63850000000002,768.73649999999998,7754.6805000000004,541.779,242.40300000000002,1360.47,427.98,576.49199999999996,1925.6370000000002,1531.98,0,15555.7965,null,null,0,null,0,null,0,0,null,0,1,0,0,0]
[287,"Sturbridge                   ",39,0,93,573,116,0,2,30,8,24,6,0,160,804,1,4,0.2041,null,445437.94999999995,635130.65999999992,3379202.5599999996,927143.45,142840.95999999999,410458.11999999994,242706.21000000002,209803.06,862315.93,1124911.33,228675.20000000001,8608625.4299999997,null,null,160,null,784,null,0.2041,4,null,0.18950749464668093,934,152,160,160]
[288,"Sudbury                      ",21,0,199,1380,920,0,14,97,25,49,7,0,174,2524,1.0029999999999999,2,6.9400000000000003E-2,null,1388355.5387899997,1906439.9933399998,9574805.0396199971,2801008.0905999998,414757.57105999993,1285966.0699999998,765700.07955000014,541249.25107999984,2764650.8551299996,3423907.8800000008,714610,25581450.369169995,null,null,174,null,2508.5,null,6.9400000000000003E-2,2,null,5.0238357169050236E-2,2727,127,174,174]
[289,"Sunderland                   ",8,0,14,113,10,0,0,5,1,19,0,0,67,141,1,7,0.37640000000000001,null,80179.91,126376.19000000002,732689.88,165293.01,31437.72,74161.42,47818.020000000004,62106.789999999994,153265.71000000002,219386.05000000002,28584.400000000001,1721299.0999999999,null,null,67,null,178,null,0.37640000000000001,7,null,0.38857142857142857,175,55,67,67]
[290,"Sutton                       ",36,0,84,476,328,346,5,47,12,18,3,5,210,1257,1,3,0.16639999999999999,null,690984.35000000009,978457.15,5439320.7199999988,1292004,221168.28999999998,741236.75,431772.23000000004,461432.09,1372708.1500000001,1718267.4200000002,343012.80000000005,13690363.949999999,null,null,210,null,1262,null,0.16639999999999999,3,null,0.11409395973154363,1490,143,210,210]
[291,"Swampscott                   ",27,0,131,785,509,647,0,79,21,110,14,9,451,2086,1,4,0.20810000000000001,null,1167143.95,1666838.8499999999,9469591.3200000003,2153621.0600000005,384457.41000000003,1256984.5600000003,740649.11999999988,850207.01999999979,2299629.35,2912836.4000000008,600272.4,23502231.440000005,null,null,451,null,2167,null,0.20810000000000001,4,null,0.18207547169811319,2120,380,451,451]
[292,"Swansea                      ",38,0,133,770,549,573,0,78,20,6,2,0,696,2044,1,6,0.34770000000000001,null,1149930.17,1697523.87,9885265.1199999992,2104368.3699999996,411251.6,1205984.02,745361.78,982710.99,2221874.2600000002,2964810.9300000006,571688,23940769.109999999,null,null,696,null,2001.5,null,0.34770000000000001,6,null,0.34055876685934489,2076,696,516,696]
[293,"Taunton                      ",177,0,533,3019,2064,1591,657,308,72,257,78,95,4208,7953,1,10,0.5444,null,4637791.2000000011,7291866.0700000003,47077023.060000002,8302435.540000001,1974584.9,5174194.97,3171587.24,5109777.01,9327110.459999999,12919020.330000002,2058076.8,107043467.58,null,null,4208,null,7730,null,0.5444,10,null,0.52779181404749875,7916,4198,4208,4208]
[294,"Templeton                    ",0,0,0,0,0,0,0,0,0,0,0,0,0,0,1,0,0,null,0,0,0,0,0,0,0,0,0,0,0,0,null,null,0,null,0,null,0,0,null,0,0,0,0,0]
[295,"Tewksbury                    ",47,0,262,1265,796,902,7,124,32,47,8,4,648,3256,1,4,0.20380000000000001,null,1804296.0999999999,2562655.1900000004,14393876.969999997,3377489.09,586432.92999999993,1918402.79,1125879.55,1250083.6499999999,3550879.25,4498122.0000000009,914700.80000000005,35982818.319999993,null,null,648,null,3179.5,null,0.20380000000000001,4,null,0.19889958734525448,3635,648,625,648]
[296,"Tisbury                      ",16,0,39,182,114,0,0,13,3,69,13,0,141,343,1,8,0.45119999999999999,null,201513.64,308530.78999999998,1748013.71,393764.23,77234.509999999995,184700.4,123006.00000000001,149896.09,392871.86000000004,542647.72000000009,85753.200000000012,4207932.1499999994,null,null,141,null,312.5,null,0.45119999999999999,8,null,0.35449735449735448,378,122,141,141]
[297,"Tolland                      ",0,0,0,0,0,0,0,0,0,0,0,0,0,0,1,0,0,null,0,0,0,0,0,0,0,0,0,0,0,0,null,null,0,null,0,null,0,0,null,0,0,0,0,0]
[298,"Topsfield                    ",37,65,2,401,87,0,0,20,5,1,0,0,24,542,1.0489999999999999,1,4.48E-2,null,305951.51833000005,421887.50185,2124016.6056599999,647869.35486999992,88747.665840000001,271189.28999999998,161185.77340000003,101252.35425999998,602054.85681999999,716469.65000000014,142922,5583546.5710300002,null,null,24,null,535.5,null,4.48E-2,1,null,3.4050179211469536E-2,558,18,24,24]
[299,"Townsend                     ",0,0,0,0,0,0,0,0,0,0,0,0,0,0,1,0,0,null,0,0,0,0,0,0,0,0,0,0,0,0,null,null,0,null,0,null,0,0,null,0,0,0,0,0]
[300,"Truro                        ",18,0,12,65,49,64,0,7,2,1,0,0,47,199,1,8,0.44130000000000003,null,109440.9,160415.47999999998,919368.91999999993,198034.54,37475.800000000003,119246.62,71491.020000000019,88241.799999999988,214564.57,278061.67,57168.800000000003,2253510.1199999996,null,null,47,null,106.5,null,0.44130000000000003,8,null,0.23857868020304568,197,47,37,47]
[301,"Tyngsborough                 ",22,0,99,621,409,486,0,62,16,55,8,5,350,1626,1,4,0.21529999999999999,null,906522.44000000006,1293229.48,7318141.8999999994,1680102.4900000002,298045.62999999989,970548.33,573009.57000000007,654969.78,1784131.9700000002,2264448.5799999996,457350.40000000002,18200500.57,null,null,350,null,1626,null,0.21529999999999999,4,null,0.14228571428571429,1750,231,350,350]
[302,"Tyringham                    ",1,0,0,17,6,8,0,1,0,0,0,0,0,32,1,0,0,null,15566.869999999999,23062.09,120458.68,31533.84,4751.34,18026.47,9980.11,8347.41,33341.600000000006,40026.250000000007,0,305094.65999999997,null,null,0,null,0,null,0,0,null,0,28,0,0,0]
[303,"Upton                        ",0,0,0,0,0,0,6,0,0,0,0,0,0,6,1,0,0,null,2432.2200000000003,4392.78,44312.46,3095.88,1385.16,8162.82,2445.6000000000004,3294.24,11003.64,9191.880000000001,0,89716.680000000008,null,null,0,null,0,null,0,0,null,0,2,0,0,0]
[304,"Uxbridge                     ",20,0,108,616,426,512,21,65,17,24,5,7,446,1693,1,5,0.27579999999999999,null,947754.89,1364113.1099999999,7902142.4600000009,1737999.3300000003,322055.20999999996,1028347.4299999998,607136.53000000014,739993.79,1868254.9300000002,2394374.84,485934.80000000005,19398107.32,null,null,446,null,1617,null,0.27579999999999999,5,null,0.22854188210961737,1934,387,446,446]
[305,"Wakefield                    ",44,0,280,1313,821,938,10,128,34,59,8,15,518,3384,1.0629999999999999,3,0.155,null,1985674.6349700002,2789254.5235899994,15487423.900729999,3727790.1602999996,627051.53928000003,1995473.42,1227415.1348100002,1288070.36127,3928635.0066900002,4610181.2600000007,971869.60000000009,38638839.541639999,null,null,518,null,3343,null,0.155,3,null,0.12803793716656786,3374,433,518,518]
[306,"Wales                        ",7,0,16,91,18,0,1,5,1,1,0,0,56,130,1,8,0.44090000000000001,null,73249.81,112319.71,648129.6399999999,150123.83999999997,27990,67118.990000000005,43078.030000000013,55640.51,138944.13999999998,197824.6,28584.400000000001,1543003.67,null,null,56,null,127,null,0.44090000000000001,8,null,0.35761589403973509,151,46,56,56]
[307,"Walpole                      ",38,299,10,1417,837,1140,0,136,36,75,18,27,602,3573,1.0449999999999999,3,0.1714,null,2070046.1847999999,2915257.2432499998,16388553.24315,3839648.7563500004,659437.92859999987,2146314.54,1300240.1423000002,1430897.1402,4084944.5010000002,4884643,1029038.4,40749021.079649992,null,null,602,null,3512.5,null,0.1714,3,null,0.16849243609806991,3834,602,536,602]
[308,"Waltham                      ",55,0,414,2185,1223,1308,366,214,51,780,167,296,2532,5524,1.095,8,0.46300000000000002,null,3583892.7768000006,5509305.9338999996,34896237.252899989,6497083.5886499994,1442038.5033000002,3670538.4699999997,2404920.8293500002,3516464.5054500001,7286771.4729000004,8861489.9100000001,1457804.4000000001,79126547.643249989,null,null,2532,null,5468.5,null,0.46300000000000002,8,null,0.4582861457153643,5298,2532,2427,2532]
[309,"Ware                         ",37,0,71,453,361,370,3,48,13,11,3,2,683,1277,1,10,0.60629999999999995,null,740325.6,1164287.1100000001,7195510.9899999984,1300294.67,306087.19999999995,767768.38000000012,510051.29000000004,832259.02,1393173.76,2014571.9400000002,371597.2,16595927.159999996,null,null,683,null,1126.5,null,0.60629999999999995,10,null,0.51127272727272732,1375,653,683,683]
[310,"Wareham                      ",48,1,166,833,632,478,135,88,21,25,2,1,1246,2269,1,10,0.60299999999999998,null,1319096.5,2079738.0299999998,13265339.140000001,2353393.8600000003,561596.72999999986,1427270.38,903065.94000000006,1478506.1,2591789.7800000003,3666561.5700000003,600272.4,30246630.430000003,null,null,1246,null,2066.5,null,0.60299999999999998,10,null,0.51047957371225572,2815,1158,1246,1246]
[311,"Warren                       ",0,0,0,0,0,0,0,0,0,0,0,0,0,0,1,0,0,null,0,0,0,0,0,0,0,0,0,0,0,0,null,null,0,null,0,null,0,0,null,0,0,0,0,0]
[312,"Warwick                      ",0,0,0,0,0,0,0,0,0,0,0,0,0,0,1,0,0,null,0,0,0,0,0,0,0,0,0,0,0,0,null,null,0,null,0,null,0,0,null,0,0,0,0,0]
[313,"Washington                   ",0,0,0,0,0,0,0,0,0,0,0,0,0,0,1,0,0,null,0,0,0,0,0,0,0,0,0,0,0,0,null,null,0,null,0,null,0,0,null,0,1,0,0,0]
[314,"Watertown                    ",59,0,190,1009,594,729,55,100,25,242,54,60,885,2607,1.0740000000000001,6,0.35439999999999999,null,1609665.3616799999,2385249.8434799998,14246380.658040002,2955880.61766,585099.78809999989,1626308.97,1046997.6531000002,1364247.9522600002,3193889.0703000003,3886013.19,714610,33614343.104620002,null,null,885,null,2497,null,0.35439999999999999,6,null,0.27335907335907333,2590,713,885,885]
[315,"Wayland                      ",24,202,0,1024,645,855,10,101,26,65,12,13,222,2647,1.0389999999999999,2,8.5400000000000004E-2,null,1510867.0865599995,2087072.6622899994,11525582.447679998,2817438.0239899997,458550.82617999986,1598081.9099999995,938608.46403000003,941058.09354999999,3022475.1671399996,3532082.03,743194.4,29175011.111419998,null,null,222,null,2599,null,8.5400000000000004E-2,2,null,8.3969465648854963E-2,2620,222,186,222]
[316,"Webster                      ",45,0,99,776,470,458,44,71,18,116,31,38,1103,1870,1,10,0.65480000000000005,null,1105439.75,1765824.5899999999,11164015.85,1966303.3200000005,474998.51,1156312.7,761754.07000000018,1270003.2,2115135.5700000003,3066332.2700000005,514519.2,25360639.029999997,null,null,1103,null,1684.5,null,0.65480000000000005,10,null,0.56432160804020104,1990,1055,1103,1103]
[317,"Wellesley                    ",67,0,222,1593,1110,1506,1,170,44,68,14,3,327,4466,1.07,2,7.4300000000000005E-2,null,2614828.0471000005,3601526.9741999996,19803020.559500001,4856391.5589999994,786157.64389999991,2691863.5600000005,1629314.8726000001,1626366.7979000001,5219619.2374000018,5911860.8800000018,1257713.6000000001,49998663.731600001,null,null,327,null,4401,null,7.4300000000000005E-2,2,null,6.1208423538673493E-2,5081,273,327,327]
[318,"Wellfleet                    ",0,0,15,99,0,0,0,4,1,1,0,0,36,114,1,6,0.34949999999999998,null,62688.83,93958.569999999992,521623.14999999991,132845.55999999997,21865.100000000002,57814.89,34788.46,37128.81,119056.50000000001,163879,28584.400000000001,1274233.2699999998,null,null,36,null,103,null,0.34949999999999998,6,null,0.28225806451612906,124,32,36,36]
[319,"Wendell                      ",0,0,0,0,0,0,0,0,0,0,0,0,0,0,1,0,0,null,0,0,0,0,0,0,0,0,0,0,0,0,null,null,0,null,0,null,0,0,null,0,0,0,0,0]
[320,"Wenham                       ",0,0,0,0,0,0,0,0,0,0,0,0,0,0,1.03,0,0,null,0,0,0,0,0,0,0,0,0,0,0,0,null,null,0,null,0,null,0,0,null,0,0,0,0,0]
[321,"Westborough                  ",52,0,242,1418,927,1208,0,145,38,312,58,36,522,3821,1,3,0.1376,null,2135788.38,2998866.15,16764761.089999998,3968512.1599999997,673451.0199999999,2322990.4699999997,1338883.3800000001,1401538.66,4260959.25,5248619.370000002,1086207.2,42200577.130000003,null,null,522,null,3793,null,0.1376,3,null,0.10634648370497427,3498,406,522,522]
[322,"West Boylston                ",24,0,43,312,195,246,24,31,8,26,5,7,242,832,1,5,0.27379999999999999,null,465244.78,679787.1,4012700.32,849986.33000000019,162821.99,518153.30000000005,302353.41000000009,378683.82,931847.03,1192887.3300000003,228675.20000000001,9723140.6099999994,null,null,{"$f":"O331","v":242},null,884,null,{"$f":"S331","v":0.27379999999999999},{"$f":"R331","v":5},null,0.234375,896,{"$f":"ROUND(AP331*P331,0)","v":195},242,{"$f":"O331","v":242}]
[323,"West Bridgewater             ",13,0,97,409,268,314,5,42,11,14,1,5,297,1100,1,4,0.21890000000000001,null,614569.31999999995,885868.24,5081640.4000000004,1137750.6199999999,208083.68999999997,654434.81000000006,389909.38000000006,468568.14000000007,1202289.8700000001,1551993.58,314428.40000000002,12509536.450000003,null,null,297,null,1357,null,0.21890000000000001,4,null,0.2470703125,1024,272,297,297]
[324,"West Brookfield              ",0,0,0,0,0,0,37,2,0,0,0,0,0,37,1,0,0,null,20594.11,27088.81,291723.63,36330.340000000004,9432.48,51114.79,15081.2,20314.48,74106.12,63764.9,0,609550.86,null,null,0,null,0,null,0,0,null,0,25,0,0,0]
[325,"Westfield                    ",105,47,259,1775,1179,1222,468,194,45,157,39,56,2199,4980,1,8,0.44669999999999999,null,2863910.2099999995,4367602.41,28059537.369999997,5135059.12,1149497.72,3339172.9199999995,1939037.1200000003,2904608.0700000003,5891299.7499999981,7778795.879999999,1286298,64714818.569999993,null,null,2199,null,4923,null,0.44669999999999999,8,null,0.41478292070326517,5574,2066,2199,2199]
[326,"Westford                     ",50,271,4,1625,1130,1666,0,175,46,60,10,13,358,4586,1.0129999999999999,2,7.8399999999999997E-2,null,2546445.2922899993,3506042.3229700001,19424193.179989997,4685102.6734800003,767497.2011399999,2798072.1399999997,1601814.59712,1644918.0915399999,5078202.8038099986,6069973.96,1314882.4000000001,49437144.66234,null,null,358,null,4567.5,null,7.8399999999999997E-2,2,null,5.5385868458562408E-2,4911,254,358,358]
[327,"Westhampton                  ",3,0,7,59,18,0,17,4,1,0,0,0,25,103,1,5,0.24149999999999999,null,57156.17,81697.06,507205.2,112570.34000000001,20416.47,66709.37000000001,33748.18,36712.61,124792.35,151435.37000000002,28584.400000000001,1221027.5199999998,null,null,25,null,103.5,null,0.24149999999999999,5,null,0.10948905109489052,137,11,25,25]
[328,"Westminster                  ",0,0,0,0,0,0,0,0,0,0,0,0,0,0,1,0,0,null,0,0,0,0,0,0,0,0,0,0,0,0,null,null,0,null,0,null,0,0,null,0,0,0,0,0]
[329,"West Newbury                 ",0,0,0,0,0,0,2,0,0,0,0,0,0,2,1,0,0,null,810.74,1464.26,14770.82,1031.96,461.72,2720.94,815.2,1098.08,3667.88,3063.96,0,29905.56,null,null,0,null,0,null,0,0,null,0,1,0,0,0]
[330,"Weston                       ",27,0,116,673,471,652,2,73,19,51,17,13,138,1928,1.0620000000000001,2,7.2900000000000006E-2,null,1123364.4415200003,1549828.03266,8538248.7070200015,2085595.25508,338510.23793999996,1168849.31,700936.43975999998,695851.56251999992,2249065.1343599996,2560676.2100000004,543103.6,21554028.930860002,null,null,138,null,1892.5,null,7.2900000000000006E-2,2,null,4.7132058692752332E-2,2249,91,138,138]
[331,"Westport                     ",41,0,102,557,388,403,0,56,15,13,3,2,441,1471,1,6,0.32300000000000001,null,826341.23,1206118.7999999998,6951162.7299999986,1519847.82,288133.03000000003,865073.28,528570.01000000013,667073.37,1600578.2200000002,2109005.7699999996,428766,16990670.259999998,null,null,441,null,1365.5,null,0.32300000000000001,6,null,0.29954809554551326,1549,441,418,441]
[332,"West Springfield             ",83,1,263,1491,951,1163,84,152,39,263,47,84,2234,3995,1,10,0.56589999999999996,null,2355355.92,3731384.9699999997,23616719.609999999,4155735.78,995209.06999999983,2512266.4899999998,1631800.9800000002,2692831.0300000003,4514671.67,6467245.54,1114791.6000000001,53788012.660000004,null,null,2234,null,3948,null,0.56589999999999996,10,null,0.55916708989334685,3938,2234,2121,2234]
[333,"West Stockbridge             ",0,0,0,0,0,0,0,0,0,0,0,0,0,0,1,0,0,null,0,0,0,0,0,0,0,0,0,0,0,0,null,null,0,null,0,null,0,0,null,0,0,0,0,0]
[334,"West Tisbury                 ",0,0,0,0,0,0,0,0,0,0,0,0,0,0,1,0,0,null,0,0,0,0,0,0,0,0,0,0,0,0,null,null,0,null,0,null,0,0,null,0,0,0,0,0]
[335,"Westwood                     ",11,0,203,1035,684,1013,0,112,29,21,2,2,192,2941,1.0569999999999999,2,6.5500000000000003E-2,null,1696717.04321,2331046.3248799997,12822486.998440001,3158485.1728499997,506431.99627999996,1774083.0899999999,1054729.82825,1046549.6312599998,3382623.4603699995,3871578.46,828947.60000000009,32473679.60554,null,null,192,null,2931.5,null,6.5500000000000003E-2,2,null,6.1290322580645158E-2,3100,180,192,192]
[336,"Weymouth                     ",69,0,392,2118,1417,1540,427,230,55,213,49,55,2126,5929,1.042,7,0.36599999999999999,null,3517783.9036600008,5237995.7370200008,32564317.4564,6378373.4578200011,1326902.5250600001,3875752.2500000005,2328734.4983200002,3206950.83348,7194477.7568199998,8931401.2200000007,1572142,76134831.638579994,null,null,2126,null,5808,null,0.36599999999999999,7,null,0.32321537522879806,6556,1916,2126,2126]
[337,"Whately                      ",0,0,13,53,15,0,0,3,1,3,0,0,35,81,1,6,0.31109999999999999,null,46643.37,69843.89,395094.95,92527.08,17162.28,41608.49,26960.800000000003,33259.130000000005,86915.069999999992,122585.71000000002,28584.400000000001,961185.17,null,null,35,null,112.5,null,0.31109999999999999,6,null,0.42696629213483145,89,35,29,35]
[338,"Whitman                      ",0,0,0,0,0,0,9,0,0,0,0,0,0,9,1,0,0,null,3648.33,6589.17,66468.69,4643.82,2077.7400000000002,12244.23,3668.4,4941.3599999999997,16505.46,13787.82,0,134575.02000000002,null,null,0,null,0,null,0,0,null,0,9,0,0,0]
[339,"Wilbraham                    ",0,0,0,0,0,0,0,0,0,0,0,0,0,0,1,0,0,null,0,0,0,0,0,0,0,0,0,0,0,0,null,null,0,null,0,null,0,0,null,0,0,0,0,0]
[340,"Williamsburg                 ",2,0,9,101,23,0,34,7,1,1,0,0,38,168,1,5,0.29920000000000002,null,92926.25,133277.80000000002,856192.33999999985,187919.83999999997,33862.26,114939.04000000001,55486.3,60635.250000000007,211233.65,250710.84999999998,28584.400000000001,2025767.98,null,null,38,null,127,null,0.29920000000000002,5,null,0.2,185,34,38,38]
[341,"Williamstown                 ",0,0,0,0,0,0,0,0,0,0,0,0,0,0,1,0,0,null,0,0,0,0,0,0,0,0,0,0,0,0,null,null,0,null,0,null,0,0,null,0.23677581863979849,397,0,0,0]
[342,"Wilmington                   ",18,195,2,1164,729,803,13,108,28,18,2,2,363,2818,1.0680000000000001,3,0.13300000000000001,null,1655748.8835599998,2306444.6725200005,12753990.200519999,3101841.8377200002,515228.29799999995,1665809.4400000004,1023113.8610400002,1061272.58256,3286696.9594800002,3806165.14,800363.20000000007,31976675.075399999,null,null,363,null,2729,null,0.13300000000000001,3,null,0.12128146453089245,3496,342,363,363]
[343,"Winchendon                   ",56,0,91,489,315,360,0,48,13,4,4,2,622,1283,1,9,0.53069999999999995,null,736622.21,1140698.27,6939898,1320482.83,292834.56999999995,762692.2699999999,495652.38,765943.49,1390748.08,1974842.1800000002,371597.2,16192011.48,null,null,622,null,1172,null,0.53069999999999995,9,null,0.44170096021947874,1458,567,622,622]
[344,"Winchester                   ",23,0,236,1725,1099,1436,5,172,45,112,12,8,314,4513,1.0469999999999999,2,7.0199999999999999E-2,null,2591472.3757199994,3564788.6513700006,19534099.121279992,4847168.9303099997,777198.9469199999,2703842.63,1599250.1697900004,1564168.1942100001,5173064.8929900005,5986899.3200000012,1286298,49628251.23258999,null,null,314,null,4472,null,7.0199999999999999E-2,2,null,6.9585253456221199E-2,4340,314,283,314]
[345,"Windsor                      ",0,0,0,0,0,0,4,0,0,0,0,0,0,4,1,0,0,null,1621.48,2928.52,29541.64,2063.92,923.44,5441.88,1630.4,2196.16,7335.76,6127.92,0,59811.12,null,null,0,null,0,null,0,0,null,0,3,0,0,0]
[346,"Winthrop                     ",15,0,126,725,465,578,5,73,19,94,21,27,674,1907,1.03,6,0.35820000000000002,null,1121085.6191999998,1660921.9989000002,9814687.3913000003,2041098.9541000002,405451.41449999996,1158317.1100000001,732406.63199999987,978522.82479999994,2177365.0391999995,2808541.7199999997,543103.6,23441502.304000001,null,null,674,null,1881.5,null,0.35820000000000002,6,null,0.27697841726618705,1946,528,674,674]
[347,"Woburn",110,0,290,1649,1079,1285,26,166,43,196,72,78,1502,4384,1.0580000000000001,6,0.35199999999999998,null,2639158.2001000009,3911951.3498999998,23057498.433240004,4815759.7523999996,952181.54848,2663924.7800000007,1721993.8595200004,2268279.7597599998,5154985.3825199995,6443968.7800000012,1229129.2,54858831.045920007,null,null,1502,null,4267,null,0.35199999999999998,6,null,0.29400709960325744,4789,1289,1502,1502]
[348,"Worcester                    ",801,0,1703,10078,6115,6215,2028,1021,241,4658,1115,1567,18998,26540,1,11,0.74350000000000005,null,16400785.379999999,27136045.509999998,182257555.82999998,28547695.170000002,7712675.209999999,18209736.260000002,11774647.439999998,21181266.09,32600213.199999999,47341642.07,6888840.4000000004,400051102.55999994,null,null,18998,null,25552,null,0.74350000000000005,11,null,0.71583126912428963,27452,18998,17358,18998]
[349,"Worthington                  ",3,0,6,48,14,25,7,4,1,0,0,0,23,102,1,7,0.371,null,56794.630000000005,81172.31,491882.61,107498.72,19526.84,64781.110000000008,35374.97,42721.259999999995,115721.57,144911.45000000001,28584.400000000001,1188969.8699999999,null,null,23,null,62,null,0.371,7,null,0.14782608695652175,115,15,23,23]
[350,"Wrentham                     ",12,94,15,617,137,0,0,31,8,21,1,0,103,822,1.0269999999999999,3,0.12280000000000001,null,463899.36098999996,648976.4585200001,3362593.88998,971483.36857000005,141829.63456999997,415989.20999999996,248681.19991,188956.18949999998,903943.01139999996,1123884.31,228675.20000000001,8698911.8334400002,null,null,103,null,838.5,null,0.12280000000000001,3,null,0.10020876826722339,958,82,103,103]
[351,"Yarmouth                     ",0,0,0,0,0,0,0,0,0,0,0,0,0,0,1,0,0,null,0,0,0,0,0,0,0,0,0,0,0,0,null,null,0,null,0,null,0,0,null,0,0,0,0,0]
[406,"Northampton Smith            ",0,0,0,0,0,0,116,6,0,0,0,18,244,116,1,8,0.46210000000000001,null,81299.98,163191.79999999999,1668657.92,114271.28000000001,66010.7,167562.98000000001,78309.3,219287.66,236117.12,322518.62,0,3117227.3600000003,null,null,244,null,528,null,0.46210000000000001,8,null,2.1030927835051547,97,244,209,244]
[600,"Acton Boxborough             ",40,281,4,1861,1277,1817,0,195,51,200,28,19,472,5120,1.06,2,9.3299999999999994E-2,null,2992291.861,4142533.159,23016502.390000001,5508972.1418000003,913264.5074,3130931.61,1885417.23,1949352.5079999999,5977232.950600001,6848625.0700000022,1457804.4000000001,57822927.827799991,null,null,472,null,5060.5,null,9.3299999999999994E-2,2,null,6.8001443001443007E-2,5544,348,472,472]
[603,"Hoosac Valley",27,0,81,445,352,286,0,45,12,9,1,2,630,1178,1,10,0.57820000000000005,null,684681.41999999993,1073503.93,6567295.5899999999,1220656.7399999998,282094.79000000004,689620.46,463501.41000000003,745379.68,1282923.4899999998,1864123.13,343012.80000000005,15216793.440000001,null,null,630,null,1089.5,null,0.57820000000000005,10,null,0.48927038626609443,1398,576,630,630]
[605,"Amherst Pelham               ",0,0,0,0,416,882,32,52,13,0,29,70,433,1330,1,6,0.31509999999999999,null,758879.87,1113541.8700000001,7098805.7199999997,1193824.75,276899.24,971700.92,568155,858288.98,1532572.33,1924431.0500000003,371597.2,16668696.930000002,null,null,433,null,1374,null,0.31509999999999999,6,null,0.27088772845953002,1532,360,433,433]
[610,"Ashburnham Westminster       ",30,0,137,821,571,640,0,83,22,28,2,3,511,2184,1,4,0.23219999999999999,null,1215081.25,1738007.3399999999,9841997.7100000009,2243783.9399999995,402645.99,1293619.7200000002,769397.43,896942.73000000021,2379971.1199999996,3044167.8400000003,628856.80000000005,24454471.870000005,null,null,511,null,2200.5,null,0.23219999999999999,4,null,0.2339103417665335,2253,511,488,511]
[615,"Athol Royalston              ",48,0,107,650,427,458,0,63,16,27,5,8,868,1666,1,10,0.61780000000000002,null,964430.47000000009,1514866.6700000002,9317524.6600000001,1723751.4400000002,395796.31,993142.25999999989,656959.17999999993,1054281.31,1816513.78,2621416.83,457350.40000000002,21516033.310000002,null,null,868,null,1405,null,0.61780000000000002,10,null,0.48806057076295867,1717,813,868,868]
[616,"Ayer Shirley",8,5,114,644,419,458,0,63,16,43,9,8,550,1642,1,6,0.33550000000000002,null,928818.73,1369525.0799999998,7985505.5899999999,1707946.1,331480.71999999997,974140.2699999999,599584.81000000006,782370.49,1798805.5300000003,2391208.5500000003,457350.40000000002,19326736.27,null,null,550,null,1639.5,null,0.33550000000000002,6,null,0.33525014376078205,1739,550,475,550]
[618,"Berkshire Hills              ",16,0,67,292,197,345,28,36,9,26,11,14,426,937,1,7,0.36870000000000003,null,539234.74,821431.01,5150880.13,949614.14000000013,210365.06,609525.59,370680.93999999994,563772.23,1057437.1499999999,1429703.54,257259.6,11959904.130000001,null,null,426,null,1155.5,null,0.36870000000000003,7,null,0.28176795580110497,1086,264,426,426]
[620,"Berlin Boylston              ",13,0,72,367,236,295,0,37,10,15,0,7,164,977,1,3,0.15790000000000001,null,540374.6100000001,760564.59000000008,4251610.3499999996,1004993.7300000002,171790.02,580443.03,337440.96000000008,366253.54000000004,1064578.83,1333016.1900000004,285844,10696909.850000001,null,null,164,null,1038.5,null,0.15790000000000001,3,null,0.10881801125703565,533,106,164,164]
[622,"Blackstone Millville         ",47,0,110,667,422,452,0,63,17,16,7,6,496,1675,1,6,0.31290000000000001,null,939000.1,1373052.2100000004,7901931.9299999997,1732612.6900000004,327050.48,983630.34000000008,599494.11,751845.90999999992,1820708.6300000001,2397797.14,485934.80000000005,19313058.34,null,null,496,null,1585,null,0.31290000000000001,6,null,0.2961111111111111,1800,496,492,496]
[625,"Bridgewater Raynham          ",93,0,394,2141,1382,1482,0,207,54,101,25,25,1210,5446,1,4,0.23050000000000001,null,3030134.2899999996,4328031.32,24360189.009999998,5655581.8899999997,998018.91999999981,3199179.94,1897998.7,2150882.5199999996,5944978.0800000001,7588117.3400000008,1543557.6,60696669.610000007,null,null,1210,null,5249.5,null,0.23050000000000001,4,null,0.20750878490845201,5407,1130,1210,1210]
[632,"Chesterfield Goshen",2,0,12,71,16,0,0,4,1,0,0,0,34,100,1,6,0.33660000000000001,null,56797.530000000006,82968.61,461414.14999999997,116765.76000000001,19864.47,50852.01,31806.660000000003,35460.22,106975.41999999998,147128.31,28584.400000000001,1138617.54,null,null,34,null,101,null,0.33660000000000001,6,null,0.33823529411764708,136,34,28,34]
[635,"Central Berkshire            ",40,0,83,526,364,523,0,57,15,5,1,2,605,1516,1,7,0.39739999999999998,null,858007.33,1291692.54,7756115.3399999999,1530349.1700000002,320241.90000000002,925272.27000000014,576448.32000000007,831396.02,1647081.22,2238190.5700000003,428766,18403560.68,null,null,605,null,1522.5,null,0.39739999999999998,7,null,0.33627278071722516,1701,510,605,605]
[640,"Concord Carlisle             ",0,0,0,0,0,1346,0,52,13,0,0,4,115,1346,1.0569999999999999,2,8.7300000000000003E-2,null,778698.07287999988,1072876.3091199999,6991576.3903999999,1209126.7272700004,237831.17287999994,1069151.6700000002,592277.75221999991,844125.38986999984,1566984.4464399999,1703204.26,371597.2,16437449.391079996,null,null,115,null,1317,null,8.7300000000000003E-2,2,null,4.7655649500384319E-2,1301,64,115,115]
[645,"Dennis Yarmouth              ",38,0,209,1188,815,909,0,120,31,201,59,52,1445,3140,1,9,0.50980000000000003,null,1829290.2799999998,2814378.4,17107752.909999996,3280652.69,720298.41999999993,1907825.2899999998,1230437,1848790.37,3497733.3299999996,4877589.25,886116.4,40000864.339999996,null,null,1445,null,2834.5,null,0.50980000000000003,9,null,0.45086535640950426,3409,1416,1445,1445]
[650,"Dighton Rehoboth             ",40,1,191,1006,687,547,213,103,24,9,2,0,509,2665,1,4,0.19570000000000001,null,1469664.3800000004,2085663.74,12328803.76,2756988.71,495645.96,1691421.4000000001,921247.79000000015,1021605.6300000001,3080941.08,3759669.1500000008,686025.60000000009,30297677.199999999,null,null,509,null,2601.5,null,0.19570000000000001,4,null,0.18675315807442813,2929,498,509,509]
[655,"Dover Sherborn               ",0,0,0,0,519,710,0,47,12,0,1,2,53,1229,1.0509999999999999,1,4.4699999999999997E-2,null,702967.7400799999,959945.14359999995,5447115.6321799997,1149969.5380199999,211415.98598,823703.92,493154.81287000002,567929.78436999989,1437702.4386199999,1595578.86,343012.80000000005,13732496.655719997,null,null,53,null,1185,null,4.4699999999999997E-2,1,null,4.3046357615894038E-2,1208,53,51,53]
[658,"Dudley Charlton              ",57,0,225,1260,903,921,0,127,33,98,12,9,959,3338,1,5,0.28050000000000003,null,1872730.6400000001,2718462.72,15551807.930000003,3453975.29,642789.5199999999,1972148.8299999996,1194980.1500000001,1456060.56,3656700.2299999995,4756856.9399999995,943285.20000000007,38219798.009999998,null,null,959,null,3418.5,null,0.28050000000000003,5,null,0.26175710594315243,3870,874,959,959]
[660,"Nauset                       ",0,0,0,0,566,624,0,46,12,0,7,28,408,1190,1,5,0.2722,null,673229.1100000001,985247.5,5905592.8699999992,1075252.6400000001,242108.11999999994,789760.30999999994,489836.28,701189.83999999985,1336523.6700000002,1713672.9100000001,343012.80000000005,14255426.049999999,null,null,408,null,1499,null,0.2722,5,null,0.30141287284144425,1274,359,408,408]
[662,"Farmington River",13,0,14,66,50,60,13,8,2,0,0,0,40,210,1,7,0.40820000000000001,null,115846.44,165313.56999999998,985096.09,212182.01,39284.579999999994,134631.22999999998,74521.75,88107.15,238803.01,294539.26,57168.800000000003,2405493.8899999997,null,null,40,null,98,null,0.40820000000000001,7,null,0.1889763779527559,254,40,40,40]
[665,"Freetown Lakeville           ",18,0,201,1076,660,769,0,104,27,12,3,0,566,2715,1,4,0.20960000000000001,null,1505494.6500000004,2138210.3199999998,12029749.15,2813308.5000000005,490380.57,1596344.68,940427.54,1060878.67,2948698.1300000004,3751504.87,771778.8,30046775.879999999,null,null,566,null,2700.5,null,0.20960000000000001,4,null,0.16739130434782609,2760,454,566,566]
[670,"Frontier                     ",0,0,0,0,201,359,0,21,6,0,2,3,158,560,1,4,0.22800000000000001,null,312996.67,452095.08,2756064.9899999998,491902.4,108219.09999999998,388490.24000000005,230558.87,329915.77,621917.82000000007,777942.33999999985,171506.40000000002,6641609.6799999997,null,null,158,null,693,null,0.22800000000000001,4,null,0.24204946996466431,566,136,158,158]
[672,"Gateway                      ",26,0,45,305,204,177,36,30,7,12,0,6,312,780,1,7,0.41880000000000001,null,442492.47,667029.35,4061850.35,810692.67000000016,168894.18,482566.57999999996,290964.28000000003,407202.79,882737.83999999985,1178516.1500000001,200090.80000000002,9593037.4600000009,null,null,312,null,745,null,0.41880000000000001,7,null,0.33333333333333331,951,260,312,312]
[673,"Groton Dunstable             ",13,112,16,841,582,751,0,86,22,19,4,2,202,2253,1,2,9.06E-2,null,1233052.0799999998,1704172.1299999994,9388497.8499999996,2286371.6699999995,374422.00999999995,1353498.1199999999,770713.42999999993,786240.80999999982,2457137.27,2994493,628856.80000000005,23977455.169999998,null,null,202,null,2228.5,null,9.06E-2,2,null,6.7708333333333329E-2,2496,153,202,202]
[674,"Gill Montague                ",34,0,63,407,240,243,0,36,10,42,10,8,477,970,1,9,0.53480000000000005,null,562034,873251.78999999992,5296458.0999999996,1014140.54,224591.66,574359.58999999985,375378.78,573659.85000000009,1064175.6600000001,1511329.1500000001,285844,12355223.119999999,null,null,477,null,892,null,0.53480000000000005,9,null,0.49127640036730946,1089,477,471,477]
[675,"Hamilton Wenham              ",18,0,122,628,390,491,0,62,16,8,2,3,144,1640,1.036,2,8.5999999999999993E-2,null,927541.17035999999,1283709.8066800002,7018458.871199999,1746542.13328,280712.48799999995,968254.92999999993,570244.37147999997,561024.26156000001,1844311.9707599999,2177928.29,457350.40000000002,17836078.693319995,null,null,144,null,1674.5,null,8.5999999999999993E-2,2,null,8.4033613445378158E-2,1785,138,144,144]
[680,"Hampden Wilbraham            ",86,0,158,974,641,963,27,106,27,34,1,1,626,2806,1,4,0.22109999999999999,null,1553265.52,2223976.9299999997,12838987.160000002,2840688.3500000006,515526.48999999987,1725117.0799999998,1001974.91,1194659.9099999999,3077818.74,3889626.97,771778.8,31633420.859999996,null,null,626,null,2831.5,null,0.22109999999999999,4,null,0.17854869509866328,3142,501,626,626]
[683,"Hampshire                    ",0,0,0,0,236,402,0,24,6,0,4,6,142,638,1,4,0.2014,null,352582.80000000005,505818.16000000003,3038727.66,562440.65999999992,118847.41999999998,440358.89999999991,258539.06,353381.00000000006,710171.26,872811.00000000012,171506.40000000002,7385184.3199999994,null,null,142,null,705,null,0.2014,4,null,0.17029972752043596,734,109,142,142]
[685,"Hawlemont                    ",10,0,9,53,12,0,0,3,1,4,1,0,62,79,1,10,0.55610000000000004,null,48258.48,79290.540000000008,495159.72,91869.53,21966.25,41647.829999999994,30545.54,54401.45,85400.04,137332.76,28584.400000000001,1114456.54,null,null,62,null,111.5,null,0.55610000000000004,10,null,0.58064516129032262,93,46,62,62]
[690,"King Philip                  ",0,0,0,0,760,1264,0,78,20,0,3,5,255,2024,1.0269999999999999,3,0.12959999999999999,null,1143507.5631200003,1590369.8670599998,9350146.7354099993,1846304.5523000001,361558.13316999993,1387917.2000000002,818599.66058000003,1036826.5824799999,2313432.9758799993,2688321.51,571688,23108672.780000001,null,null,255,null,1968,null,0.12959999999999999,3,null,6.3477460901563934E-2,2174,128,255,255]
[695,"Lincoln Sudbury              ",0,0,0,0,0,1586,0,61,16,0,0,12,133,1586,1.0029999999999999,2,8.6900000000000005E-2,null,872458.49685,1200055.8393199998,7816320.3545899997,1350712.3169000002,265813.10414999997,1260417.19,662450.62766,942680.35230999987,1753086.3384299998,2006654.2400000002,457350.40000000002,18587999.26021,null,null,133,null,1530,null,8.6900000000000005E-2,2,null,5.0715990453460619E-2,1676,80,133,133]
[698,"Manchester Essex",12,0,55,380,341,471,0,48,12,8,0,0,154,1253,1.038,3,0.12239999999999999,null,713571.74022000004,994629.98297999997,5576433.9267600002,1297192.3056600001,222070.42584000001,768608.9,458067.71844000008,500825.17014000006,1421585.5924799999,1679374.8900000001,343012.80000000005,13975373.452520002,null,null,154,null,1258,null,0.12239999999999999,3,null,9.1220850480109736E-2,1458,114,154,154]
[700,"Marthas Vineyard             ",0,0,0,0,0,420,317,31,4,0,0,83,276,737,1,7,0.38169999999999998,null,422020.98000000004,634365.03,5342871.5099999988,660118.62,188187.31000000003,784706.69999999984,338283.19,575540.16999999993,1111142.3600000001,1204416.4700000002,114337.60000000001,11375989.939999998,null,null,276,null,723,null,0.38169999999999998,7,null,0.21369863013698631,730,157,276,276]
[705,"Masconomet                   ",0,0,0,0,582,1151,0,66,17,0,1,2,155,1733,1.0489999999999999,2,9.1800000000000007E-2,null,993245.79685999989,1372413.7807499999,8091426.0438000001,1599476.18769,306896.99251999991,1206426.6399999999,713747.78220000002,892487.11248999974,2017353.7296899997,2262840.75,485934.80000000005,19942249.616000004,null,null,155,null,1688,null,9.1800000000000007E-2,2,null,2.9309488325881768E-2,2013,51,155,155]
[710,"Mendon Upton                 ",46,0,135,739,555,651,0,80,21,36,6,4,256,2103,1,2,0.11890000000000001,null,1157510,1611799.9199999997,8900520.7899999991,2150380.37,358346.15,1252843.05,721699.8600000001,746210.33000000007,2298092.9200000004,2831691.34,600272.4,22629367.129999999,null,null,{"$f":"O395","v":256},null,2153.5,null,{"$f":"S395","v":0.11890000000000001},{"$f":"R395","v":2},null,0.10631808278867103,2295,{"$f":"ROUND(AP395*P395,0)","v":224},256,{"$f":"O395","v":256}]
[712,"Monomoy",22,0,97,602,466,556,0,66,17,47,17,14,637,1732,1,6,0.35070000000000001,null,983870.4099999998,1463708.67,8659258.4799999986,1769585.1300000004,358697.58999999997,1051777.74,651819.28,891727.71,1905984.7499999998,2546603.0800000005,485934.80000000005,20768967.640000001,null,null,637,null,1816.5,null,0.35070000000000001,6,null,0.2902881536819637,1874,503,637,637]
[715,"Mount Greylock               ",18,0,58,386,235,326,0,38,10,5,0,1,271,1014,1,5,0.24840000000000001,null,563247.49,815487.75,4692977.57,1032883.53,190906.51999999996,608438.36999999988,362528.27999999997,446008.39999999991,1099668.6099999999,1421409.8299999998,285844,11519400.35,null,null,271,null,1091,null,0.24840000000000001,5,null,0.26694045174537989,487,271,241,271]
[717,"Mohawk Trail                 ",50,0,45,343,198,205,0,30,8,3,1,2,304,816,1,7,0.40610000000000002,null,458494.75000000006,689077.64,4030993.2300000004,844020.37000000023,168591.24,475190.62,297355.53999999998,402909.82999999996,881405.37000000011,1198306.79,228675.20000000001,9675020.5800000019,null,null,304,null,748.5,null,0.40610000000000002,7,null,0.33972310969116082,939,277,304,304]
[720,"Narragansett                 ",19,0,84,494,330,316,0,47,12,4,2,0,470,1234,1,6,0.3574,null,696686.98,1038953.8799999998,6077365.1300000008,1280111.55,254780.33,720252.27999999991,451336.21,610306.03,1339442.78,1814039.2800000003,343012.80000000005,14626287.25,null,null,470,null,1315,null,0.3574,6,null,0.35011441647597252,1311,432,470,470]
[725,"Nashoba                      ",40,0,219,1125,808,966,0,119,31,50,29,13,344,3138,1.042,2,0.1114,null,1797828.2668400002,2500197.4530799999,13769447.678300001,3351211.3258199999,553170.44750000001,1869837.0199999998,1117738.8641000004,1135959.0572799998,3577040.9431799999,4214510.0300000012,886116.4,34773057.486100003,null,null,344,null,3088,null,0.1114,2,null,8.9411046689044857E-2,3277,281,344,344]
[728,"New Salem Wendell            ",9,0,14,74,13,0,0,4,1,0,0,0,65,106,1,9,0.52210000000000001,null,61373.11,98109.87000000001,589584.80999999994,122224.84,25825.289999999997,54331.3,37475.870000000003,58546.83,111867.32999999999,170958.17,28584.400000000001,1358881.8199999998,null,null,65,null,124.5,null,0.52210000000000001,9,null,0.61157024793388426,121,65,46,65]
[730,"Northboro Southboro          ",0,0,0,0,0,1384,0,53,14,0,0,18,145,1384,1,2,0.10639999999999999,null,760713.72999999986,1052499.58,6877346.1299999999,1174296.1600000004,234937.12999999998,1101131.1300000001,579714.72,835293.15,1526444.67,1763548.0999999999,400181.60000000003,16306106.100000001,null,null,145,null,1363,null,0.10639999999999999,2,null,7.1045576407506708E-2,1492,98,145,145]
[735,"North Middlesex              ",36,0,226,1084,788,875,0,114,30,28,8,6,698,2991,1,4,0.23830000000000001,null,1664202.05,2379218.27,13469582.15,3074266.3400000003,551257.05999999994,1770911.62,1053483.7400000002,1225534.74,3259932.06,4169010.9,857532,33474930.929999992,null,null,698,null,2929,null,0.23830000000000001,4,null,0.19549970777323203,3422,585,698,698]
[740,"Old Rochester                ",0,0,0,0,402,629,19,40,10,0,1,0,196,1050,1,3,0.17249999999999999,null,578370.47,819220.5,4922078.2700000005,928930.86,191802.76,729500.12,419208.04000000004,554856.16,1182777.51,1427314.6500000004,285844,12039903.34,null,null,196,null,1136,null,0.17249999999999999,3,null,0.15254237288135594,1180,160,196,196]
[745,"Pentucket                    ",85,1,139,831,559,696,0,85,22,5,3,0,328,2269,1,3,0.14810000000000001,null,1241961.3800000004,1746016.96,9691706.1699999999,2312820.31,390376.7,1345024.5099999998,777656.28000000026,827167.85000000009,2459229.52,3060197.9600000004,628856.80000000005,24481014.440000001,null,null,328,null,2215,null,0.14810000000000001,3,null,0.11076564321803342,2573,251,328,328]
[750,"Pioneer                      ",8,0,48,235,162,169,0,24,6,0,0,1,221,618,1,6,0.35049999999999998,null,349197.06,516017.85,3017849.92,642012.8899999999,125815.67,363587.92999999993,225588.51000000004,300937.23,672126.27,902387.04,171506.40000000002,7287026.7699999986,null,null,221,null,630.5,null,0.35049999999999998,6,null,0.35818908122503329,751,221,211,221]
[753,"Quabbin                      ",69,0,134,692,474,579,0,72,19,6,3,1,674,1914,1,6,0.3251,null,1076085.8900000001,1595993.0300000003,9368576.3899999987,1956588.1800000002,387548.44,1141765.8799999999,703715.72000000009,945461.78000000014,2076432.83,2777650.8000000003,543103.6,22572922.540000003,null,null,674,null,2073.5,null,0.3251,6,null,0.34520054078413698,2219,661,674,674]
[755,"Ralph C Mahar                ",0,0,0,0,245,366,0,23,6,0,2,1,336,611,1,9,0.53249999999999997,null,353148.38,555713.77,3582754.7199999997,539724.49999999988,147868.14000000001,420707.75999999995,274390.17000000004,480946.49,678980.4,950841.04,171506.40000000002,8156581.7700000005,null,null,336,null,631,null,0.53249999999999997,9,null,0.54935622317596566,699,336,311,336]
[760,"Silver Lake                  ",79,0,0,0,545,831,285,67,14,1,7,7,363,1701,1.0289999999999999,4,0.21060000000000001,null,967618.42127999978,1381245.1705499999,9281111.8152899966,1572544.4305200002,350932.74278999999,1352447.25,707168.43708000006,968897.6637899999,2200154.8682399997,2445359.9300000002,400181.60000000003,21627662.329539999,null,null,363,null,1723.5,null,0.21060000000000001,4,null,0.16639741518578352,1857,283,363,363]
[763,"Somerset Berkley",0,0,0,0,0,978,46,39,10,0,0,1,199,1024,1,4,0.19719999999999999,null,565380.5199999999,801871.73,5457401.25,865135.50000000012,189236.39999999997,841941.85000000009,438011.35,669091.44000000006,1164842.2399999998,1360778.2000000002,285844,12639534.48,null,null,199,null,1009,null,0.19719999999999999,4,null,0.10954446854663774,922,112,199,199]
[765,"Southern Berkshire           ",37,0,58,227,158,206,2,25,6,10,1,2,239,670,1,7,0.38669999999999999,null,375670.82,563594.39999999991,3337054.2199999997,684470.12,137808.09999999998,403528.33999999991,248542.85000000003,339094.41999999993,729921.61,979446.12999999989,171506.40000000002,7970637.4099999992,null,null,239,null,618,null,0.38669999999999999,7,null,0.35059760956175301,753,235,239,239]
[766,"Southwick Tolland Granville",19,0,76,454,335,367,79,51,12,36,16,0,422,1321,1,6,0.30449999999999999,null,744676.35,1096643.27,6692853.7299999986,1351204.3499999999,271961.27999999997,852586.58,490990.73000000004,649084.28999999992,1520420.9,1945493.53,343012.80000000005,15958927.809999997,null,null,422,null,1386,null,0.30449999999999999,6,null,0.25450031036623216,1611,336,422,422]
[767,"Spencer East Brookfield      ",47,0,88,603,402,340,59,58,14,32,9,11,647,1516,1,8,0.47110000000000002,null,865924.41999999993,1318455.5499999998,8050203.1299999999,1579347.08,337073.18,930283.87,572619.78,826302.28,1709600.03,2320779.87,400181.60000000003,18910770.789999999,null,null,647,null,1373.5,null,0.47110000000000002,8,null,0.40516767454645408,1819,614,647,647]
[770,"Tantasqua                    ",0,0,0,0,519,660,370,63,12,0,6,7,467,1549,1,5,0.26340000000000002,null,867732.07000000007,1260459.8800000001,8942701.4900000002,1398816.96,339842.47000000003,1303657.3400000001,644306.66,944689.09999999986,2050286.54,2342503.7199999997,343012.80000000005,20438009.030000001,null,null,467,null,1773,null,0.26340000000000002,5,null,0.3016759776536313,1611,467,449,467]
[773,"Triton                       ",25,119,6,809,558,681,0,81,21,11,2,9,576,2127,1.036,5,0.27200000000000002,null,1228722.4180000001,1775018.8414,10208308.02012,2241511.9879600005,417475.24168000004,1276666.5500000003,793158.44019999995,981766.11484000005,2400710.6166400001,2993809.03,600272.4,24917419.660840005,null,null,576,null,2118,null,0.27200000000000002,5,null,0.23334602207841645,2627,496,576,576]
[774,"Upisland",8,0,48,216,125,0,0,15,4,13,8,0,130,393,1,5,0.29749999999999999,null,222654.69,325885.82,1770097.46,441261.89000000007,77687.039999999994,201838.9,129234.6,137878.6,429136.07000000007,578334.12,114337.60000000001,4428346.79,null,null,130,null,437,null,0.29749999999999999,5,null,0.21917808219178081,365,86,130,130]
[775,"Wachusett                    ",55,0,438,2452,1725,2085,0,257,67,88,16,7,1010,6728,1,3,0.15329999999999999,null,3713121.52,5203128.5199999986,28980489.649999999,6893749.6799999997,1169659.54,4008583.7399999998,2324046.7399999998,2493257.54,7340947.8500000006,9134037.1199999992,1915154.8,73176176.700000003,null,null,1010,null,6586.5,null,0.15329999999999999,3,null,0.13600907672670542,7051,915,1010,1010]
[778,"Quaboag",37,0,64,395,283,357,0,42,11,14,3,0,579,1118,1,9,0.50549999999999995,null,644490.54,1006912.35,6212391.9000000004,1136118.49,261600.59999999998,678916.86,443657.55000000005,711240.05,1217101.58,1739058.1700000002,314428.40000000002,14365916.490000002,null,null,579,null,1145.5,null,0.50549999999999995,9,null,0.51761942051683629,1277,579,514,579]
[780,"Whitman Hanson               ",81,198,11,1317,926,1134,0,134,35,43,10,14,909,3528,1,5,0.2601,null,1967552.15,2835514.6199999996,16264177.680000003,3590209.2100000004,664045.02999999991,2122072.5300000003,1268158.26,1548190.51,3852671.13,4954135.54,1000454,40067180.660000011,null,null,909,null,3495,null,0.2601,5,null,0.25756811301715438,3964,909,890,909]
[801,"Assabet Valley               ",0,0,0,0,0,0,891,43,0,0,0,57,482,891,1.03,7,0.41949999999999998,null,532220.52879999997,828804.32170000009,8694072.6262999997,864097.4262000001,304246.99290000001,1245440.5400000003,436383.77710000006,809334.49949999992,1836573.9862000002,1757732.1500000001,0,17308906.848700002,null,null,482,null,1149,null,0.41949999999999998,7,null,0.54104979811574694,743,482,424,482]
[805,"Blackstone Valley            ",0,0,0,0,0,0,1243,60,0,0,0,5,172,1243,1,3,0.13969999999999999,null,681483.35,954936.64999999991,10170190.68,1159285.6400000001,334803.12,1718128.04,524421.09000000008,773247.42999999993,2468383.4700000002,2187592.31,0,20972471.779999997,null,null,172,null,1231,null,0.13969999999999999,3,null,0.13870431893687707,1204,172,152,172]
[806,"Blue Hills                   ",0,0,0,0,0,0,896,43,0,0,0,13,335,896,1.06,7,0.37640000000000001,null,536062.15060000005,803344.94539999997,8483702.6541999988,885003.07360000012,290318.8738,1244344.2700000003,429881.48420000006,739339.06079999998,1887791.9056000002,1685775.58,0,16985563.998199999,null,null,335,null,890,null,0.37640000000000001,7,null,0.37356321839080459,870,335,319,335]
[810,"Bristol Plymouth             ",0,0,0,0,0,0,1355,65,0,0,0,4,497,1355,1,7,0.37709999999999999,null,762761.5,1140896.3,12058802.089999998,1260023.08,412149.35000000009,1879895.9700000002,611161.4,1048571.6699999999,2689153.43,2541040.9700000002,0,24404455.759999998,null,null,497,null,1318,null,0.37709999999999999,7,null,0.36701337295690933,1346,497,443,497]
[815,"Cape Cod                     ",0,0,0,0,0,2,631,30,0,0,0,14,318,633,1,9,0.50800000000000001,null,363281.45,567642.01,5957252.4700000007,587301.82000000007,208266.96000000002,880585.09,299271.42000000004,557563.34000000008,1256531.4200000002,1239618,0,11917313.98,null,null,318,null,626,null,0.50800000000000001,9,null,0.43098159509202455,652,273,318,318]
[817,"Essex North Shore",0,0,0,0,0,0,1225,59,0,0,0,5,498,1225,1,6,0.31840000000000002,null,692230.62,1040500.49,10991932.83,1141378.4600000002,376960.50999999995,1700418.1400000001,556114.61,966182.43,2432247.38,2312396.3699999996,0,22210361.84,null,null,498,null,1564,null,0.31840000000000002,6,null,0.40684410646387831,789,498,336,498]
[818,"Franklin County              ",0,0,0,0,0,0,532,26,0,0,0,1,279,532,1,9,0.50819999999999999,null,307390.84999999998,479224.5,5044591.26,498759.42000000004,176863.69999999998,740486.88,252318.17,476111.20999999996,1057167.67,1048763.4099999999,0,10081677.07,null,null,279,null,549,null,0.50819999999999999,9,null,0.52510460251046021,478,279,248,279]
[821,"Greater Fall River           ",0,0,0,0,0,1,1497,72,0,0,0,25,788,1498,1,10,0.54269999999999996,null,866116.34,1362459.72,14308646.630000001,1397295.4200000002,502942.92000000004,2087088.48,715751.01,1361107.1099999999,2977829.5700000003,2968984.49,0,28548221.690000005,null,null,788,null,1452,null,0.54269999999999996,10,null,0.52578018995929443,1474,788,644,788]
[823,"Greater Lawrence             ",0,0,0,0,0,0,1645,79,0,0,0,153,1181,1645,1.0880000000000001,11,0.7228,null,1073063.4246400001,1775025.1289600004,18478919.662080001,1689319.9961600001,666843.92576000001,2314410.44,914020.35712000006,1889418.7436800001,3593736.6131200003,3474087.3499999996,0,35868845.641520008,null,null,1181,null,1634,null,0.7228,11,null,0.71812080536912748,1490,1181,1097,1181]
[825,"Greater New Bedford          ",0,0,0,0,0,0,2123,103,0,0,0,88,1218,2123,1,10,0.57640000000000002,null,1241775.0600000003,1972450.03,20675447.460000001,1996439.9200000002,731530.55,2967145.6300000004,1031061.8800000001,1999245.6,4237978.09,4277267.88,0,41130342.100000001,null,null,1218,null,2113,null,0.57640000000000002,10,null,0.57349510032664486,2143,1218,998,1218]
[828,"Greater Lowell               ",0,0,0,0,0,0,2373,115,0,0,0,232,1388,2373,1,10,0.60450000000000004,null,1400962.6600000001,2233603.61,23335518.479999997,2250472.2800000003,827527.85,3331460.9299999997,1164561.04,2255681.12,4770997.6100000003,4825944.4399999995,0,46396730.019999996,null,null,1388,null,2296,null,0.60450000000000004,10,null,0.58496583143507974,2195,1388,1209,1388]
[829,"South Middlesex              ",0,0,0,0,0,14,803,40,0,0,0,149,515,817,1.022,10,0.63039999999999996,null,502829.64143999998,809137.93197999999,8368584.7193200011,806041.42527999997,299059.30586000002,1147286.74,419295.6436200001,821117.67290000001,1685990.8961000002,1692615.81,0,16551959.786499999,null,null,515,null,817,null,0.63039999999999996,10,null,0.62978723404255321,705,515,451,515]
[830,"Minuteman                    ",0,0,0,0,0,0,491,24,0,0,0,6,250,491,1.093,7,0.39369999999999999,null,308702.58079000004,475404.12085000001,5008258.1109100003,503998.97918000002,174461.75262000001,683377.47000000009,251387.09261999998,462223.92895999993,1067873.7225200001,956358.74000000011,0,9892046.4984500017,null,null,250,null,635,null,0.39369999999999999,7,null,0.50966183574879231,414,250,130,250]
[832,"Montachusett                 ",0,0,0,0,0,0,1461,71,0,0,0,15,452,1461,1,6,0.31900000000000001,null,819541.9,1201584.5900000001,12727326.629999999,1368084.4200000002,430965.55000000005,2026266.7799999998,647733.78999999992,1068859.6099999999,2905130.9599999995,2697949.1100000003,0,25893443.34,null,null,452,null,1417,null,0.31900000000000001,6,null,0.30955585464333785,1486,452,437,452]
[851,"Northern Berkshire           ",0,0,0,0,0,0,463,22,0,0,0,0,216,463,1,8,0.46250000000000002,null,263353.69,405869.23,4275551.93,428528.62,148366.16,643306.85,215161.52000000002,391607.44,917867.96,892833.1,0,8582446.5,null,null,216,null,467,null,0.46250000000000002,8,null,0.3936842105263158,475,182,216,216]
[852,"Nashoba Valley               ",0,0,0,0,0,0,667,32,0,0,0,2,203,667,1.0129999999999999,5,0.27960000000000002,null,376311.73197999998,549713.76959999988,5825775.6827599993,628347.67174000002,196428.85464999996,924008.15,297169.03032999998,483434.60792999994,1340966.6108799998,1220925.2000000002,0,11843081.309870001,null,null,203,null,726,null,0.27960000000000002,5,null,0.30397727272727271,704,203,194,203]
[853,"Northeast Metropolitan       ",0,0,0,0,0,0,1281,62,0,0,0,64,661,1281,1.0629999999999999,9,0.51600000000000001,null,789829.23951999983,1232754.3924699998,12938916.107679999,1280897.07782,453472.41966000007,1789126.98,648583.36964000005,1212480.3993799998,2720744.8432800001,2532210.9400000004,0,25599015.769449994,null,null,661,null,1281,null,0.51600000000000001,9,null,0.51581508515815089,1233,661,571,661]
[855,"Old Colony                   ",0,0,0,0,0,0,498,24,0,0,0,0,157,498,1,5,0.27889999999999998,null,277837.99000000005,406386.29,4307408.3899999997,463827,145446.05000000002,689876.10000000009,219502.77000000002,359252.25,988306.2,913889.68,0,8771732.7200000007,null,null,157,null,563,null,0.27889999999999998,5,null,0.31524008350730687,479,157,119,157]
[860,"Pathfinder                   ",0,0,0,0,0,7,554,27,0,0,0,1,292,561,1,8,0.47870000000000001,null,322121.57999999996,501304.43,5255005.7300000004,522342.38,183768.32999999996,776311.45,264474.53000000003,493779.91000000003,1107498.82,1095005.9300000002,0,10521613.09,null,null,292,null,610,null,0.47870000000000001,8,null,0.52040816326530615,588,292,262,292]
[871,"Shawsheen Valley             ",0,0,0,0,0,0,1315,64,0,0,0,1,251,1315,1.0009999999999999,4,0.19189999999999999,null,726774.42837999994,1029543.3948799999,10955168.59437,1231544.5942800001,363564.39118999994,1818765.98,562558.62662999996,857640.26347999985,2614511.0491499994,2345012.2000000002,0,22505083.522360001,null,null,251,null,1308,null,0.19189999999999999,4,null,0.19078473722102232,1389,251,245,251]
[872,"Southeastern                 ",0,0,0,0,0,0,1624,78,0,0,0,58,889,1624,1,10,0.58220000000000005,null,943895.15,1493237.2199999997,15660082.16,1518976.8,552111.31000000006,2267397.0400000005,782503.6,1499964.2199999997,3236997.68,3244499.04,0,31199664.219999999,null,null,889,null,1527,null,0.58220000000000005,10,null,0.54731638418079098,1416,889,657,889]
[873,"South Shore                  ",0,0,0,0,0,0,561,27,0,0,0,5,199,561,1.0349999999999999,6,0.308,null,326470.85729999992,484974.19349999994,5128544.2319999998,541245.44609999994,174698.46764999998,778399.49000000011,260360.07704999999,440290.27305000002,1153513.4823000003,1046384.4900000001,0,10334881.008950001,null,null,199,null,646,null,0.308,6,null,0.35544217687074831,588,199,180,199]
[876,"Southern Worcester           ",0,0,0,0,0,0,1200,58,0,0,0,10,408,1200,1,6,0.34839999999999999,null,674276.85999999987,997123.6399999999,10551229,1120609.52,358728.77999999997,1664678.74,536038.26,899521.18,2384559.56,2230957.5,0,21417723.039999999,null,null,408,null,1171,null,0.34839999999999999,6,null,0.33972125435540068,1148,408,337,408]
[878,"Tri County                   ",0,0,0,0,0,0,905,44,0,0,0,16,305,905,1.0549999999999999,6,0.32,null,537840.48754999996,793878.65909999993,8398949.3803000003,895296.18889999995,285537.83890000003,1256395.7,426747.22569999995,714212.71840000001,1900411.4844999998,1684199.0599999998,0,16893468.743349999,null,null,305,null,953,null,0.32,6,null,0.33647798742138363,954,305,216,305]
[879,"Upper Cape Cod               ",0,0,0,0,0,0,761,37,0,0,0,0,258,761,1,6,0.35730000000000001,null,427626.32,631178.87000000011,6684521.2799999993,711583.76,227218.71000000002,1055073.71,339445.96,569874.31999999995,1511259.6300000001,1413741.76,0,13571524.320000004,null,null,258,null,722,null,0.35730000000000001,6,null,0.32686980609418281,722,249,258,258]
[885,"Whittier                     ",0,0,0,0,0,0,1244,60,0,0,0,16,553,1244,1,8,0.44280000000000003,null,709658.48,1084428.6099999999,11429979.35,1161451.8400000001,395703.91000000003,1729898.0499999998,575781.30000000005,1035123,2473046.2800000003,2392432.0600000005,0,22987502.880000003,null,null,553,null,1249,null,0.44280000000000003,8,null,0.44482463644140291,1169,553,482,553]
[910,"Bristol County               ",0,0,0,0,0,0,382,18,0,0,0,0,133,382,1,5,0.2969,null,212680.72999999998,315071.61,3332954.37,352256.08000000007,112969.11,529265.70000000007,169696.13,282443.05,756818.14000000013,704848.36,0,6769003.2800000003,null,null,133,null,448,null,0.2969,5,null,0.29166666666666669,384,111,133,133]
[915,"Norfolk County               ",0,0,0,0,0,0,284,14,0,0,0,1,108,284,1.0449999999999999,4,0.1837,null,167552.26950000002,246941.04489999998,2616008.0963499998,279393.18550000002,89047.793999999994,393972.27,132697.66344999999,223566.66254999998,590266.69295000006,529470.85,0,5268916.5291999998,null,null,108,null,588,null,0.1837,4,null,0.27306273062730629,271,78,108,108]
[999,"State Total",18250,5614,51995,331070,215709,243607,53107,34922,8455,57109,15241,20891,382088,907506,null,null,null,null,538123213.4658705,821425906.43780994,5160127620.0566359,965989315.19317043,212764612.58303007,591793638.0200007,363074452.90623021,535371665.22751039,1082587155.5053005,1413287110.3299997,241681102.00000039,11926225791.725563,null,null,382088,null,null,null,null,null,null,null,942121,367440,353630]

{"sheet":"leas","index":17,"n_rows":537,"n_cols":18,"rows_kept":537,"cut":false,"hidden":true,"merged":[[1,0,1,4],[1,11,1,16]]}
[]
["leas",null,null,null,null,null,null,null,null,null,null,"regdetail"]
[{"$f":"Index!C4","v":999},{"$f":"'Regional District Members'!G4","v":1}]
["lea_order","reg_order","lea_list and reg_list ","LEA","District","org4code","org4code",null,"regcount",null,null,null,"Record"]
[null,null,null,null,"Select a district",999,"0999"]
[1,null,{"$f":"PROPER(D6&\" \"&E6)","v":"1 Abington"},1,"Abington",1,"0001",null,406,1,null,"code","Number","fraclea","District","memlea","Town"]
[2,null,"2 Acton",2,"Acton",2,"0002",null,600,2,null,40601,1,406,"NORTHAMPTON SMITH",210,{"$f":"VLOOKUP(P7,'Townwide Contributions'!$A$9:$B$361,2,0)","v":"Northampton"},"NORTHAMPTON                  "]
[355,null,"600 Acton Boxborough",600,"Acton Boxborough",600,"0600",null,603,2,null,60001,1,600,"ACTON BOXBOROUGH",2,{"$f":"VLOOKUP(P8,'Townwide Contributions'!$A$9:$B$361,2,0)","v":"Acton"},"ACTON                        "]
[3,null,"3 Acushnet",3,"Acushnet",3,"0003",null,605,4,null,60002,2,600,"ACTON BOXBOROUGH",37,{"$f":"VLOOKUP(P9,'Townwide Contributions'!$A$9:$B$361,2,0)","v":"Boxborough"},"BOXBOROUGH                   "]
[4,null,"4 Adams",4,"Adams",4,"0004",null,610,2,null,60301,1,603,"HOOSAC VALLEY",4,{"$f":"VLOOKUP(P10,'Townwide Contributions'!$A$9:$B$361,2,0)","v":"Adams"},"ADAMS                        "]
[5,null,"5 Agawam",5,"Agawam",5,"0005",null,615,2,null,60302,2,603,"HOOSAC VALLEY",58,{"$f":"VLOOKUP(P11,'Townwide Contributions'!$A$9:$B$361,2,0)","v":"Cheshire"},"CHESHIRE                     "]
[6,null,"6 Alford",6,"Alford",6,"0006",null,616,2,null,60501,1,605,"AMHERST PELHAM",8,{"$f":"VLOOKUP(P12,'Townwide Contributions'!$A$9:$B$361,2,0)","v":"Amherst"},"AMHERST                      "]
[7,null,"7 Amesbury",7,"Amesbury",7,"0007",null,618,3,null,60502,2,605,"AMHERST PELHAM",154,{"$f":"VLOOKUP(P13,'Townwide Contributions'!$A$9:$B$361,2,0)","v":"Leverett"},"LEVERETT                     "]
[8,null,"8 Amherst",8,"Amherst",8,"0008",null,620,2,null,60503,3,605,"AMHERST PELHAM",230,{"$f":"VLOOKUP(P14,'Townwide Contributions'!$A$9:$B$361,2,0)","v":"Pelham"},"PELHAM                       "]
[357,null,"605 Amherst Pelham",605,"Amherst Pelham",605,"0605",null,622,2,null,60504,4,605,"AMHERST PELHAM",272,{"$f":"VLOOKUP(P15,'Townwide Contributions'!$A$9:$B$361,2,0)","v":"Shutesbury"},"SHUTESBURY                   "]
[9,null,"9 Andover",9,"Andover",9,"0009",null,625,2,null,61001,1,610,"ASHBURNHAM WESTMINSTER",11,{"$f":"VLOOKUP(P16,'Townwide Contributions'!$A$9:$B$361,2,0)","v":"Ashburnham"},"ASHBURNHAM                   "]
[104,null,"104 Aquinnah",104,"Aquinnah",104,"0104",null,632,2,null,61002,2,610,"ASHBURNHAM WESTMINSTER",328,{"$f":"VLOOKUP(P17,'Townwide Contributions'!$A$9:$B$361,2,0)","v":"Westminster"},"WESTMINSTER                  "]
[10,null,"10 Arlington",10,"Arlington",10,"0010",null,635,7,null,61501,1,615,"ATHOL ROYALSTON",15,{"$f":"VLOOKUP(P18,'Townwide Contributions'!$A$9:$B$361,2,0)","v":"Athol"},"ATHOL                        "]
[11,null,"11 Ashburnham",11,"Ashburnham",11,"0011",null,640,2,null,61502,2,615,"ATHOL ROYALSTON",255,{"$f":"VLOOKUP(P19,'Townwide Contributions'!$A$9:$B$361,2,0)","v":"Royalston"},"ROYALSTON                    "]
[358,null,"610 Ashburnham Westminster",610,"Ashburnham Westminster",610,"0610",null,645,2,null,61601,1,616,"AYER SHIRLEY",19,{"$f":"VLOOKUP(P20,'Townwide Contributions'!$A$9:$B$361,2,0)","v":"Ayer"},"AYER                         "]
[12,null,"12 Ashby",12,"Ashby",12,"0012",null,650,2,null,61602,2,616,"AYER SHIRLEY",270,{"$f":"VLOOKUP(P21,'Townwide Contributions'!$A$9:$B$361,2,0)","v":"Shirley"},"SHIRLEY                      "]
[13,null,"13 Ashfield",13,"Ashfield",13,"0013",null,655,2,null,61801,1,618,"BERKSHIRE HILLS",113,{"$f":"VLOOKUP(P22,'Townwide Contributions'!$A$9:$B$361,2,0)","v":"Great Barrington"},"GREAT BARRINGTON             "]
[14,null,"14 Ashland",14,"Ashland",14,"0014",null,658,2,null,61802,2,618,"BERKSHIRE HILLS",283,{"$f":"VLOOKUP(P23,'Townwide Contributions'!$A$9:$B$361,2,0)","v":"Stockbridge"},"STOCKBRIDGE                  "]
[413,null,"801 Assabet Valley",801,"Assabet Valley",801,"0801",null,660,4,null,61803,3,618,"BERKSHIRE HILLS",333,{"$f":"VLOOKUP(P24,'Townwide Contributions'!$A$9:$B$361,2,0)","v":"West Stockbridge"},"WEST STOCKBRIDGE             "]
[15,null,"15 Athol",15,"Athol",15,"0015",null,662,2,null,62001,1,620,"BERLIN BOYLSTON",28,{"$f":"VLOOKUP(P25,'Townwide Contributions'!$A$9:$B$361,2,0)","v":"Berlin"},"BERLIN                       "]
[359,null,"615 Athol Royalston",615,"Athol Royalston",615,"0615",null,665,2,null,62002,2,620,"BERLIN BOYLSTON",39,{"$f":"VLOOKUP(P26,'Townwide Contributions'!$A$9:$B$361,2,0)","v":"Boylston"},"BOYLSTON                     "]
[16,null,"16 Attleboro",16,"Attleboro",16,"0016",null,670,4,null,62201,1,622,"BLACKSTONE MILLVILLE",32,{"$f":"VLOOKUP(P27,'Townwide Contributions'!$A$9:$B$361,2,0)","v":"Blackstone"},"BLACKSTONE                   "]
[17,null,"17 Auburn",17,"Auburn",17,"0017",null,672,6,null,62202,2,622,"BLACKSTONE MILLVILLE",188,{"$f":"VLOOKUP(P28,'Townwide Contributions'!$A$9:$B$361,2,0)","v":"Millville"},"MILLVILLE                    "]
[18,null,"18 Avon",18,"Avon",18,"0018",null,673,2,null,62501,1,625,"BRIDGEWATER RAYNHAM",42,{"$f":"VLOOKUP(P29,'Townwide Contributions'!$A$9:$B$361,2,0)","v":"Bridgewater"},"BRIDGEWATER                  "]
[19,null,"19 Ayer",19,"Ayer",19,"0019",null,674,2,null,62502,2,625,"BRIDGEWATER RAYNHAM",245,{"$f":"VLOOKUP(P30,'Townwide Contributions'!$A$9:$B$361,2,0)","v":"Raynham"},"RAYNHAM                      "]
[360,null,"616 Ayer Shirley",616,"Ayer Shirley",616,"0616",null,675,2,null,63201,1,632,"CHESTERFIELD GOSHEN",60,{"$f":"VLOOKUP(P31,'Townwide Contributions'!$A$9:$B$361,2,0)","v":"Chesterfield"},"CHESTERFIELD                 "]
[20,null,"20 Barnstable",20,"Barnstable",20,"0020",null,680,2,null,63202,2,632,"CHESTERFIELD GOSHEN",108,{"$f":"VLOOKUP(P32,'Townwide Contributions'!$A$9:$B$361,2,0)","v":"Goshen"},"GOSHEN                       "]
[21,null,"21 Barre",21,"Barre",21,"0021",null,683,5,null,63501,1,635,"CENTRAL BERKSHIRE",22,{"$f":"VLOOKUP(P33,'Townwide Contributions'!$A$9:$B$361,2,0)","v":"Becket"},"BECKET                       "]
[22,null,"22 Becket",22,"Becket",22,"0022",null,685,2,null,63502,2,635,"CENTRAL BERKSHIRE",69,{"$f":"VLOOKUP(P34,'Townwide Contributions'!$A$9:$B$361,2,0)","v":"Cummington"},"CUMMINGTON                   "]
[23,null,"23 Bedford",23,"Bedford",23,"0023",null,690,3,null,63503,3,635,"CENTRAL BERKSHIRE",70,{"$f":"VLOOKUP(P35,'Townwide Contributions'!$A$9:$B$361,2,0)","v":"Dalton"},"DALTON                       "]
[24,null,"24 Belchertown",24,"Belchertown",24,"0024",null,695,2,null,63504,4,635,"CENTRAL BERKSHIRE",132,{"$f":"VLOOKUP(P36,'Townwide Contributions'!$A$9:$B$361,2,0)","v":"Hinsdale"},"HINSDALE                     "]
[25,null,"25 Bellingham",25,"Bellingham",25,"0025",null,698,2,null,63505,5,635,"CENTRAL BERKSHIRE",233,{"$f":"VLOOKUP(P37,'Townwide Contributions'!$A$9:$B$361,2,0)","v":"Peru"},"PERU                         "]
[26,null,"26 Belmont",26,"Belmont",26,"0026",null,700,6,null,63506,6,635,"CENTRAL BERKSHIRE",313,{"$f":"VLOOKUP(P38,'Townwide Contributions'!$A$9:$B$361,2,0)","v":"Washington"},"WASHINGTON                   "]
[27,null,"27 Berkley",27,"Berkley",27,"0027",null,705,3,null,63507,7,635,"CENTRAL BERKSHIRE",345,{"$f":"VLOOKUP(P39,'Townwide Contributions'!$A$9:$B$361,2,0)","v":"Windsor"},"WINDSOR                      "]
[361,null,"618 Berkshire Hills",618,"Berkshire Hills",618,"0618",null,710,2,null,64001,1,640,"CONCORD CARLISLE",51,{"$f":"VLOOKUP(P40,'Townwide Contributions'!$A$9:$B$361,2,0)","v":"Carlisle"},"CARLISLE                     "]
[28,null,"28 Berlin",28,"Berlin",28,"0028",null,712,2,null,64002,2,640,"CONCORD CARLISLE",67,{"$f":"VLOOKUP(P41,'Townwide Contributions'!$A$9:$B$361,2,0)","v":"Concord"},"CONCORD                      "]
[362,null,"620 Berlin Boylston",620,"Berlin Boylston",620,"0620",null,715,2,null,64501,1,645,"DENNIS YARMOUTH",75,{"$f":"VLOOKUP(P42,'Townwide Contributions'!$A$9:$B$361,2,0)","v":"Dennis"},"DENNIS                       "]
[29,null,"29 Bernardston",29,"Bernardston",29,"0029",null,717,8,null,64502,2,645,"DENNIS YARMOUTH",351,{"$f":"VLOOKUP(P43,'Townwide Contributions'!$A$9:$B$361,2,0)","v":"Yarmouth"},"YARMOUTH                     "]
[30,null,"30 Beverly",30,"Beverly",30,"0030",null,720,2,null,65001,1,650,"DIGHTON REHOBOTH",76,{"$f":"VLOOKUP(P44,'Townwide Contributions'!$A$9:$B$361,2,0)","v":"Dighton"},"DIGHTON                      "]
[31,null,"31 Billerica",31,"Billerica",31,"0031",null,725,3,null,65002,2,650,"DIGHTON REHOBOTH",247,{"$f":"VLOOKUP(P45,'Townwide Contributions'!$A$9:$B$361,2,0)","v":"Rehoboth"},"REHOBOTH                     "]
[32,null,"32 Blackstone",32,"Blackstone",32,"0032",null,728,2,null,65501,1,655,"DOVER SHERBORN",78,{"$f":"VLOOKUP(P46,'Townwide Contributions'!$A$9:$B$361,2,0)","v":"Dover"},"DOVER                        "]
[363,null,"622 Blackstone Millville",622,"Blackstone Millville",622,"0622",null,730,2,null,65502,2,655,"DOVER SHERBORN",269,{"$f":"VLOOKUP(P47,'Townwide Contributions'!$A$9:$B$361,2,0)","v":"Sherborn"},"SHERBORN                     "]
[414,null,"805 Blackstone Valley",805,"Blackstone Valley",805,"0805",null,735,3,null,65801,1,658,"DUDLEY CHARLTON",54,{"$f":"VLOOKUP(P48,'Townwide Contributions'!$A$9:$B$361,2,0)","v":"Charlton"},"CHARLTON                     "]
[33,null,"33 Blandford",33,"Blandford",33,"0033",null,740,3,null,65802,2,658,"DUDLEY CHARLTON",80,{"$f":"VLOOKUP(P49,'Townwide Contributions'!$A$9:$B$361,2,0)","v":"Dudley"},"DUDLEY                       "]
[415,null,"806 Blue Hills",806,"Blue Hills",806,"0806",null,745,3,null,66001,1,660,"NAUSET",41,{"$f":"VLOOKUP(P50,'Townwide Contributions'!$A$9:$B$361,2,0)","v":"Brewster"},"BREWSTER                     "]
[34,null,"34 Bolton",34,"Bolton",34,"0034",null,750,4,null,66002,2,660,"NAUSET",85,{"$f":"VLOOKUP(P51,'Townwide Contributions'!$A$9:$B$361,2,0)","v":"Eastham"},"EASTHAM                      "]
[35,null,"35 Boston",35,"Boston",35,"0035",null,753,5,null,66003,3,660,"NAUSET",224,{"$f":"VLOOKUP(P52,'Townwide Contributions'!$A$9:$B$361,2,0)","v":"Orleans"},"ORLEANS                      "]
[36,null,"36 Bourne",36,"Bourne",36,"0036",null,755,4,null,66004,4,660,"NAUSET",318,{"$f":"VLOOKUP(P53,'Townwide Contributions'!$A$9:$B$361,2,0)","v":"Wellfleet"},"WELLFLEET                    "]
[37,null,"37 Boxborough",37,"Boxborough",37,"0037",null,760,3,null,66201,1,662,"FARMINGTON RIVER",225,{"$f":"VLOOKUP(P54,'Townwide Contributions'!$A$9:$B$361,2,0)","v":"Otis"},"OTIS                         "]
[38,null,"38 Boxford",38,"Boxford",38,"0038",null,763,2,null,66202,2,662,"FARMINGTON RIVER",260,{"$f":"VLOOKUP(P55,'Townwide Contributions'!$A$9:$B$361,2,0)","v":"Sandisfield"},"SANDISFIELD                  "]
[39,null,"39 Boylston",39,"Boylston",39,"0039",null,765,5,null,66501,1,665,"FREETOWN LAKEVILLE",102,{"$f":"VLOOKUP(P56,'Townwide Contributions'!$A$9:$B$361,2,0)","v":"Freetown"},"FREETOWN                     "]
[40,null,"40 Braintree",40,"Braintree",40,"0040",null,766,3,null,66502,2,665,"FREETOWN LAKEVILLE",146,{"$f":"VLOOKUP(P57,'Townwide Contributions'!$A$9:$B$361,2,0)","v":"Lakeville"},"LAKEVILLE                    "]
[41,null,"41 Brewster",41,"Brewster",41,"0041",null,767,2,null,67001,1,670,"FRONTIER",68,{"$f":"VLOOKUP(P58,'Townwide Contributions'!$A$9:$B$361,2,0)","v":"Conway"},"CONWAY                       "]
[42,null,"42 Bridgewater",42,"Bridgewater",42,"0042",null,770,5,null,67002,2,670,"FRONTIER",74,{"$f":"VLOOKUP(P59,'Townwide Contributions'!$A$9:$B$361,2,0)","v":"Deerfield"},"DEERFIELD                    "]
[364,null,"625 Bridgewater Raynham",625,"Bridgewater Raynham",625,"0625",null,773,3,null,67003,3,670,"FRONTIER",289,{"$f":"VLOOKUP(P60,'Townwide Contributions'!$A$9:$B$361,2,0)","v":"Sunderland"},"SUNDERLAND                   "]
[43,null,"43 Brimfield",43,"Brimfield",43,"0043",null,774,3,null,67004,4,670,"FRONTIER",337,{"$f":"VLOOKUP(P61,'Townwide Contributions'!$A$9:$B$361,2,0)","v":"Whately"},"WHATELY                      "]
[439,null,"910 Bristol County",910,"Bristol County",910,"0910",null,775,5,null,67201,1,672,"GATEWAY",33,{"$f":"VLOOKUP(P62,'Townwide Contributions'!$A$9:$B$361,2,0)","v":"Blandford"},"BLANDFORD                    "]
[416,null,"810 Bristol Plymouth",810,"Bristol Plymouth",810,"0810",null,778,2,null,67202,2,672,"GATEWAY",59,{"$f":"VLOOKUP(P63,'Townwide Contributions'!$A$9:$B$361,2,0)","v":"Chester"},"CHESTER                      "]
[44,null,"44 Brockton",44,"Brockton",44,"0044",null,780,2,null,67203,3,672,"GATEWAY",143,{"$f":"VLOOKUP(P64,'Townwide Contributions'!$A$9:$B$361,2,0)","v":"Huntington"},"HUNTINGTON                   "]
[45,null,"45 Brookfield",45,"Brookfield",45,"0045",null,801,7,null,67204,4,672,"GATEWAY",183,{"$f":"VLOOKUP(P65,'Townwide Contributions'!$A$9:$B$361,2,0)","v":"Middlefield"},"MIDDLEFIELD                  "]
[46,null,"46 Brookline",46,"Brookline",46,"0046",null,805,13,null,67205,5,672,"GATEWAY",194,{"$f":"VLOOKUP(P66,'Townwide Contributions'!$A$9:$B$361,2,0)","v":"Montgomery"},"MONTGOMERY                   "]
[47,null,"47 Buckland",47,"Buckland",47,"0047",null,806,9,null,67206,6,672,"GATEWAY",256,{"$f":"VLOOKUP(P67,'Townwide Contributions'!$A$9:$B$361,2,0)","v":"Russell"},"RUSSELL                      "]
[48,null,"48 Burlington",48,"Burlington",48,"0048",null,810,7,null,67301,1,673,"GROTON DUNSTABLE",81,{"$f":"VLOOKUP(P68,'Townwide Contributions'!$A$9:$B$361,2,0)","v":"Dunstable"},"DUNSTABLE                    "]
[49,null,"49 Cambridge",49,"Cambridge",49,"0049",null,815,12,null,67302,2,673,"GROTON DUNSTABLE",115,{"$f":"VLOOKUP(P69,'Townwide Contributions'!$A$9:$B$361,2,0)","v":"Groton"},"GROTON                       "]
[50,null,{"$f":"PROPER(D70&\" \"&E70)","v":"50 Canton"},50,"Canton",50,"0050",null,817,17,null,67401,1,674,"GILL MONTAGUE",106,{"$f":"VLOOKUP(P70,'Townwide Contributions'!$A$9:$B$361,2,0)","v":"Gill"},"GILL                         "]
[417,null,"815 Cape Cod",815,"Cape Cod",815,"0815",null,818,19,null,67402,2,674,"GILL MONTAGUE",192,{"$f":"VLOOKUP(P71,'Townwide Contributions'!$A$9:$B$361,2,0)","v":"Montague"},"MONTAGUE                     "]
[51,null,"51 Carlisle",51,"Carlisle",51,"0051",null,821,4,null,67501,1,675,"HAMILTON WENHAM",119,{"$f":"VLOOKUP(P72,'Townwide Contributions'!$A$9:$B$361,2,0)","v":"Hamilton"},"HAMILTON                     "]
[52,null,"52 Carver",52,"Carver",52,"0052",null,823,4,null,67502,2,675,"HAMILTON WENHAM",320,{"$f":"VLOOKUP(P73,'Townwide Contributions'!$A$9:$B$361,2,0)","v":"Wenham"},"WENHAM                       "]
[366,null,"635 Central Berkshire",635,"Central Berkshire",635,"0635",null,825,3,null,68001,1,680,"HAMPDEN WILBRAHAM",120,{"$f":"VLOOKUP(P74,'Townwide Contributions'!$A$9:$B$361,2,0)","v":"Hampden"},"HAMPDEN                      "]
[53,null,"53 Charlemont",53,"Charlemont",53,"0053",null,828,4,null,68002,2,680,"HAMPDEN WILBRAHAM",339,{"$f":"VLOOKUP(P75,'Townwide Contributions'!$A$9:$B$361,2,0)","v":"Wilbraham"},"WILBRAHAM                    "]
[54,null,"54 Charlton",54,"Charlton",54,"0054",null,829,5,null,68301,1,683,"HAMPSHIRE",60,{"$f":"VLOOKUP(P76,'Townwide Contributions'!$A$9:$B$361,2,0)","v":"Chesterfield"},"CHESTERFIELD                 "]
[55,null,"55 Chatham",55,"Chatham",55,"0055",null,830,9,null,68302,2,683,"HAMPSHIRE",108,{"$f":"VLOOKUP(P77,'Townwide Contributions'!$A$9:$B$361,2,0)","v":"Goshen"},"GOSHEN                       "]
[56,null,"56 Chelmsford",56,"Chelmsford",56,"0056",null,832,18,null,68303,3,683,"HAMPSHIRE",275,{"$f":"VLOOKUP(P78,'Townwide Contributions'!$A$9:$B$361,2,0)","v":"Southampton"},"SOUTHAMPTON                  "]
[57,null,"57 Chelsea",57,"Chelsea",57,"0057",null,851,9,null,68304,4,683,"HAMPSHIRE",327,{"$f":"VLOOKUP(P79,'Townwide Contributions'!$A$9:$B$361,2,0)","v":"Westhampton"},"WESTHAMPTON                  "]
[58,null,"58 Cheshire",58,"Cheshire",58,"0058",null,852,8,null,68305,5,683,"HAMPSHIRE",340,{"$f":"VLOOKUP(P80,'Townwide Contributions'!$A$9:$B$361,2,0)","v":"Williamsburg"},"WILLIAMSBURG                 "]
[59,null,"59 Chester",59,"Chester",59,"0059",null,853,12,null,68501,1,685,"HAWLEMONT",53,{"$f":"VLOOKUP(P81,'Townwide Contributions'!$A$9:$B$361,2,0)","v":"Charlemont"},"CHARLEMONT                   "]
[60,null,"60 Chesterfield",60,"Chesterfield",60,"0060",null,855,5,null,68502,2,685,"HAWLEMONT",129,{"$f":"VLOOKUP(P82,'Townwide Contributions'!$A$9:$B$361,2,0)","v":"Hawley"},"HAWLEY                       "]
[365,null,"632 Chesterfield Goshen",632,"Chesterfield Goshen",632,"0632",null,860,9,null,69001,1,690,"KING PHILIP",208,{"$f":"VLOOKUP(P83,'Townwide Contributions'!$A$9:$B$361,2,0)","v":"Norfolk"},"NORFOLK                      "]
[61,null,"61 Chicopee",61,"Chicopee",61,"0061",null,871,5,null,69002,2,690,"KING PHILIP",238,{"$f":"VLOOKUP(P84,'Townwide Contributions'!$A$9:$B$361,2,0)","v":"Plainville"},"PLAINVILLE                   "]
[62,null,"62 Chilmark",62,"Chilmark",62,"0062",null,872,9,null,69003,3,690,"KING PHILIP",350,{"$f":"VLOOKUP(P85,'Townwide Contributions'!$A$9:$B$361,2,0)","v":"Wrentham"},"WRENTHAM                     "]
[63,null,"63 Clarksburg",63,"Clarksburg",63,"0063",null,873,8,null,69501,1,695,"LINCOLN SUDBURY",157,{"$f":"VLOOKUP(P86,'Townwide Contributions'!$A$9:$B$361,2,0)","v":"Lincoln"},"LINCOLN                      "]
[64,null,"64 Clinton",64,"Clinton",64,"0064",null,876,10,null,69502,2,695,"LINCOLN SUDBURY",288,{"$f":"VLOOKUP(P87,'Townwide Contributions'!$A$9:$B$361,2,0)","v":"Sudbury"},"SUDBURY                      "]
[65,null,"65 Cohasset",65,"Cohasset",65,"0065",null,878,11,null,69801,1,698,"MANCHESTER ESSEX",92,{"$f":"VLOOKUP(P88,'Townwide Contributions'!$A$9:$B$361,2,0)","v":"Essex"},"ESSEX                        "]
[66,null,"66 Colrain",66,"Colrain",66,"0066",null,879,5,null,69802,2,698,"MANCHESTER ESSEX",166,{"$f":"VLOOKUP(P89,'Townwide Contributions'!$A$9:$B$361,2,0)","v":"Manchester"},"MANCHESTER                   "]
[67,null,"67 Concord",67,"Concord",67,"0067",null,885,11,null,70001,1,700,"MARTHAS VINEYARD",62,{"$f":"VLOOKUP(P90,'Townwide Contributions'!$A$9:$B$361,2,0)","v":"Chilmark"},"CHILMARK                     "]
[367,null,"640 Concord Carlisle",640,"Concord Carlisle",640,"0640",null,910,20,null,70002,2,700,"MARTHAS VINEYARD",89,{"$f":"VLOOKUP(P91,'Townwide Contributions'!$A$9:$B$361,2,0)","v":"Edgartown"},"EDGARTOWN                    "]
[68,null,"68 Conway",68,"Conway",68,"0068",null,915,28,null,70003,3,700,"MARTHAS VINEYARD",104,{"$f":"VLOOKUP(P92,'Townwide Contributions'!$A$9:$B$361,2,0)","v":"Aquinnah"},"AQUINNAH"]
[69,null,"69 Cummington",69,"Cummington",69,"0069",null,999,0,null,70004,4,700,"MARTHAS VINEYARD",221,{"$f":"VLOOKUP(P93,'Townwide Contributions'!$A$9:$B$361,2,0)","v":"Oak Bluffs"},"OAK BLUFFS                   "]
[70,null,"70 Dalton",70,"Dalton",70,"0070",null,null,null,null,70005,5,700,"MARTHAS VINEYARD",296,{"$f":"VLOOKUP(P94,'Townwide Contributions'!$A$9:$B$361,2,0)","v":"Tisbury"},"TISBURY                      "]
[71,null,"71 Danvers",71,"Danvers",71,"0071",null,null,null,null,70006,6,700,"MARTHAS VINEYARD",334,{"$f":"VLOOKUP(P95,'Townwide Contributions'!$A$9:$B$361,2,0)","v":"West Tisbury"},"WEST TISBURY                 "]
[72,null,"72 Dartmouth",72,"Dartmouth",72,"0072",null,null,null,null,70501,1,705,"MASCONOMET",38,{"$f":"VLOOKUP(P96,'Townwide Contributions'!$A$9:$B$361,2,0)","v":"Boxford"},"BOXFORD                      "]
[73,null,"73 Dedham",73,"Dedham",73,"0073",null,null,null,null,70502,2,705,"MASCONOMET",184,{"$f":"VLOOKUP(P97,'Townwide Contributions'!$A$9:$B$361,2,0)","v":"Middleton"},"MIDDLETON                    "]
[74,null,"74 Deerfield",74,"Deerfield",74,"0074",null,null,null,null,70503,3,705,"MASCONOMET",298,{"$f":"VLOOKUP(P98,'Townwide Contributions'!$A$9:$B$361,2,0)","v":"Topsfield"},"TOPSFIELD                    "]
[75,null,"75 Dennis",75,"Dennis",75,"0075",null,null,null,null,71001,1,710,"MENDON UPTON",179,{"$f":"VLOOKUP(P99,'Townwide Contributions'!$A$9:$B$361,2,0)","v":"Mendon"},"MENDON                       "]
[368,null,"645 Dennis Yarmouth",645,"Dennis Yarmouth",645,"0645",null,null,null,null,71002,2,710,"MENDON UPTON",303,{"$f":"VLOOKUP(P100,'Townwide Contributions'!$A$9:$B$361,2,0)","v":"Upton"},"UPTON                        "]
[352,null,"352 Devens",352,"Devens",352,"0352",null,null,null,null,71201,1,712,"MONOMOY",55,{"$f":"VLOOKUP(P101,'Townwide Contributions'!$A$9:$B$361,2,0)","v":"Chatham"},"CHATHAM                      "]
[76,null,"76 Dighton",76,"Dighton",76,"0076",null,null,null,null,71202,2,712,"MONOMOY",126,{"$f":"VLOOKUP(P102,'Townwide Contributions'!$A$9:$B$361,2,0)","v":"Harwich"},"HARWICH                      "]
[369,null,"650 Dighton Rehoboth",650,"Dighton Rehoboth",650,"0650",null,null,null,null,71501,1,715,"MOUNT GREYLOCK",148,{"$f":"VLOOKUP(P103,'Townwide Contributions'!$A$9:$B$361,2,0)","v":"Lanesborough"},"LANESBOROUGH                 "]
[77,null,"77 Douglas",77,"Douglas",77,"0077",null,null,null,null,71502,2,715,"MOUNT GREYLOCK",341,{"$f":"VLOOKUP(P104,'Townwide Contributions'!$A$9:$B$361,2,0)","v":"Williamstown"},"WILLIAMSTOWN                 "]
[78,null,"78 Dover",78,"Dover",78,"0078",null,null,null,null,71701,1,717,"MOHAWK TRAIL",13,{"$f":"VLOOKUP(P105,'Townwide Contributions'!$A$9:$B$361,2,0)","v":"Ashfield"},"ASHFIELD                     "]
[370,null,"655 Dover Sherborn",655,"Dover Sherborn",655,"0655",null,null,null,null,71702,2,717,"MOHAWK TRAIL",47,{"$f":"VLOOKUP(P106,'Townwide Contributions'!$A$9:$B$361,2,0)","v":"Buckland"},"BUCKLAND                     "]
[79,null,"79 Dracut",79,"Dracut",79,"0079",null,null,null,null,71703,3,717,"MOHAWK TRAIL",53,{"$f":"VLOOKUP(P107,'Townwide Contributions'!$A$9:$B$361,2,0)","v":"Charlemont"},"CHARLEMONT                   "]
[80,null,"80 Dudley",80,"Dudley",80,"0080",null,null,null,null,71704,4,717,"MOHAWK TRAIL",66,{"$f":"VLOOKUP(P108,'Townwide Contributions'!$A$9:$B$361,2,0)","v":"Colrain"},"COLRAIN                      "]
[371,null,"658 Dudley Charlton",658,"Dudley Charlton",658,"0658",null,null,null,null,71705,5,717,"MOHAWK TRAIL",129,{"$f":"VLOOKUP(P109,'Townwide Contributions'!$A$9:$B$361,2,0)","v":"Hawley"},"HAWLEY                       "]
[81,null,"81 Dunstable",81,"Dunstable",81,"0081",null,null,null,null,71706,6,717,"MOHAWK TRAIL",130,{"$f":"VLOOKUP(P110,'Townwide Contributions'!$A$9:$B$361,2,0)","v":"Heath"},"HEATH                        "]
[82,null,"82 Duxbury",82,"Duxbury",82,"0082",null,null,null,null,71707,7,717,"MOHAWK TRAIL",237,{"$f":"VLOOKUP(P111,'Townwide Contributions'!$A$9:$B$361,2,0)","v":"Plainfield"},"PLAINFIELD                   "]
[83,null,"83 East Bridgewater",83,"East Bridgewater",83,"0083",null,null,null,null,71708,8,717,"MOHAWK TRAIL",268,{"$f":"VLOOKUP(P112,'Townwide Contributions'!$A$9:$B$361,2,0)","v":"Shelburne"},"SHELBURNE                    "]
[84,null,"84 East Brookfield",84,"East Brookfield",84,"0084",null,null,null,null,72001,1,720,"NARRAGANSETT",235,{"$f":"VLOOKUP(P113,'Townwide Contributions'!$A$9:$B$361,2,0)","v":"Phillipston"},"PHILLIPSTON                  "]
[87,null,"87 East Longmeadow",87,"East Longmeadow",87,"0087",null,null,null,null,72002,2,720,"NARRAGANSETT",294,{"$f":"VLOOKUP(P114,'Townwide Contributions'!$A$9:$B$361,2,0)","v":"Templeton"},"TEMPLETON                    "]
[85,null,"85 Eastham",85,"Eastham",85,"0085",null,null,null,null,72501,1,725,"NASHOBA",34,{"$f":"VLOOKUP(P115,'Townwide Contributions'!$A$9:$B$361,2,0)","v":"Bolton"},"BOLTON                       "]
[86,null,"86 Easthampton",86,"Easthampton",86,"0086",null,null,null,null,72502,2,725,"NASHOBA",147,{"$f":"VLOOKUP(P116,'Townwide Contributions'!$A$9:$B$361,2,0)","v":"Lancaster"},"LANCASTER                    "]
[88,null,"88 Easton",88,"Easton",88,"0088",null,null,null,null,72503,3,725,"NASHOBA",286,{"$f":"VLOOKUP(P117,'Townwide Contributions'!$A$9:$B$361,2,0)","v":"Stow"},"STOW                         "]
[89,null,"89 Edgartown",89,"Edgartown",89,"0089",null,null,null,null,72801,1,728,"NEW SALEM WENDELL",206,{"$f":"VLOOKUP(P118,'Townwide Contributions'!$A$9:$B$361,2,0)","v":"New Salem"},"NEW SALEM                    "]
[90,null,"90 Egremont",90,"Egremont",90,"0090",null,null,null,null,72802,2,728,"NEW SALEM WENDELL",319,{"$f":"VLOOKUP(P119,'Townwide Contributions'!$A$9:$B$361,2,0)","v":"Wendell"},"WENDELL                      "]
[91,null,"91 Erving",91,"Erving",91,"0091",null,null,null,null,73001,1,730,"NORTHBORO SOUTHBORO",213,{"$f":"VLOOKUP(P120,'Townwide Contributions'!$A$9:$B$361,2,0)","v":"Northborough"},"NORTHBOROUGH                 "]
[92,null,"92 Essex",92,"Essex",92,"0092",null,null,null,null,73002,2,730,"NORTHBORO SOUTHBORO",276,{"$f":"VLOOKUP(P121,'Townwide Contributions'!$A$9:$B$361,2,0)","v":"Southborough"},"SOUTHBOROUGH                 "]
[418,null,"817 Essex North Shore",817,"Essex North Shore",817,"0817",null,null,null,null,73501,1,735,"NORTH MIDDLESEX",12,{"$f":"VLOOKUP(P122,'Townwide Contributions'!$A$9:$B$361,2,0)","v":"Ashby"},"ASHBY                        "]
[93,null,"93 Everett",93,"Everett",93,"0093",null,null,null,null,73502,2,735,"NORTH MIDDLESEX",232,{"$f":"VLOOKUP(P123,'Townwide Contributions'!$A$9:$B$361,2,0)","v":"Pepperell"},"PEPPERELL                    "]
[94,null,"94 Fairhaven",94,"Fairhaven",94,"0094",null,null,null,null,73503,3,735,"NORTH MIDDLESEX",299,{"$f":"VLOOKUP(P124,'Townwide Contributions'!$A$9:$B$361,2,0)","v":"Townsend"},"TOWNSEND                     "]
[95,null,"95 Fall River",95,"Fall River",95,"0095",null,null,null,null,74001,1,740,"OLD ROCHESTER",169,{"$f":"VLOOKUP(P125,'Townwide Contributions'!$A$9:$B$361,2,0)","v":"Marion"},"MARION                       "]
[96,null,"96 Falmouth",96,"Falmouth",96,"0096",null,null,null,null,74002,2,740,"OLD ROCHESTER",173,{"$f":"VLOOKUP(P126,'Townwide Contributions'!$A$9:$B$361,2,0)","v":"Mattapoisett"},"MATTAPOISETT                 "]
[373,null,"662 Farmington River",662,"Farmington River",662,"0662",null,null,null,null,74003,3,740,"OLD ROCHESTER",250,{"$f":"VLOOKUP(P127,'Townwide Contributions'!$A$9:$B$361,2,0)","v":"Rochester"},"ROCHESTER                    "]
[97,null,"97 Fitchburg",97,"Fitchburg",97,"0097",null,null,null,null,74501,1,745,"PENTUCKET",116,{"$f":"VLOOKUP(P128,'Townwide Contributions'!$A$9:$B$361,2,0)","v":"Groveland"},"GROVELAND                    "]
[98,null,"98 Florida",98,"Florida",98,"0098",null,null,null,null,74502,2,745,"PENTUCKET",180,{"$f":"VLOOKUP(P129,'Townwide Contributions'!$A$9:$B$361,2,0)","v":"Merrimac"},"MERRIMAC                     "]
[99,null,"99 Foxborough",99,"Foxborough",99,"0099",null,null,null,null,74503,3,745,"PENTUCKET",329,{"$f":"VLOOKUP(P130,'Townwide Contributions'!$A$9:$B$361,2,0)","v":"West Newbury"},"WEST NEWBURY                 "]
[100,null,"100 Framingham",100,"Framingham",100,"0100",null,null,null,null,75001,1,750,"PIONEER",29,{"$f":"VLOOKUP(P131,'Townwide Contributions'!$A$9:$B$361,2,0)","v":"Bernardston"},"BERNARDSTON                  "]
[101,null,"101 Franklin",101,"Franklin",101,"0101",null,null,null,null,75002,2,750,"PIONEER",156,{"$f":"VLOOKUP(P132,'Townwide Contributions'!$A$9:$B$361,2,0)","v":"Leyden"},"LEYDEN                       "]
[419,null,"818 Franklin County",818,"Franklin County",818,"0818",null,null,null,null,75003,3,750,"PIONEER",216,{"$f":"VLOOKUP(P133,'Townwide Contributions'!$A$9:$B$361,2,0)","v":"Northfield"},"NORTHFIELD                   "]
[102,null,{"$f":"PROPER(D134&\" \"&E134)","v":"102 Freetown"},102,"Freetown",102,"0102",null,null,null,null,75004,4,750,"PIONEER",312,{"$f":"VLOOKUP(P134,'Townwide Contributions'!$A$9:$B$361,2,0)","v":"Warwick"},"WARWICK                      "]
[374,null,"665 Freetown Lakeville",665,"Freetown Lakeville",665,"0665",null,null,null,null,75301,1,753,"QUABBIN",21,{"$f":"VLOOKUP(P135,'Townwide Contributions'!$A$9:$B$361,2,0)","v":"Barre"},"BARRE                        "]
[375,null,"670 Frontier",670,"Frontier",670,"0670",null,null,null,null,75302,2,753,"QUABBIN",124,{"$f":"VLOOKUP(P136,'Townwide Contributions'!$A$9:$B$361,2,0)","v":"Hardwick"},"HARDWICK                     "]
[103,null,"103 Gardner",103,"Gardner",103,"0103",null,null,null,null,75303,3,753,"QUABBIN",140,{"$f":"VLOOKUP(P137,'Townwide Contributions'!$A$9:$B$361,2,0)","v":"Hubbardston"},"HUBBARDSTON                  "]
[376,null,"672 Gateway",672,"Gateway",672,"0672",null,null,null,null,75304,4,753,"QUABBIN",202,{"$f":"VLOOKUP(P138,'Townwide Contributions'!$A$9:$B$361,2,0)","v":"New Braintree"},"NEW BRAINTREE                "]
[105,null,"105 Georgetown",105,"Georgetown",105,"0105",null,null,null,null,75305,5,753,"QUABBIN",222,{"$f":"VLOOKUP(P139,'Townwide Contributions'!$A$9:$B$361,2,0)","v":"Oakham"},"OAKHAM                       "]
[106,null,"106 Gill",106,"Gill",106,"0106",null,null,null,null,75501,1,755,"RALPH C MAHAR",206,{"$f":"VLOOKUP(P140,'Townwide Contributions'!$A$9:$B$361,2,0)","v":"New Salem"},"NEW SALEM                    "]
[378,null,"674 Gill Montague",674,"Gill Montague",674,"0674",null,null,null,null,75502,2,755,"RALPH C MAHAR",223,{"$f":"VLOOKUP(P141,'Townwide Contributions'!$A$9:$B$361,2,0)","v":"Orange"},"ORANGE                       "]
[107,null,"107 Gloucester",107,"Gloucester",107,"0107",null,null,null,null,75503,3,755,"RALPH C MAHAR",234,{"$f":"VLOOKUP(P142,'Townwide Contributions'!$A$9:$B$361,2,0)","v":"Petersham"},"PETERSHAM                    "]
[108,null,"108 Goshen",108,"Goshen",108,"0108",null,null,null,null,75504,4,755,"RALPH C MAHAR",319,{"$f":"VLOOKUP(P143,'Townwide Contributions'!$A$9:$B$361,2,0)","v":"Wendell"},"WENDELL                      "]
[109,null,"109 Gosnold",109,"Gosnold",109,"0109",null,null,null,null,76001,1,760,"SILVER LAKE",118,{"$f":"VLOOKUP(P144,'Townwide Contributions'!$A$9:$B$361,2,0)","v":"Halifax"},"HALIFAX                      "]
[110,null,"110 Grafton",110,"Grafton",110,"0110",null,null,null,null,76002,2,760,"SILVER LAKE",145,{"$f":"VLOOKUP(P145,'Townwide Contributions'!$A$9:$B$361,2,0)","v":"Kingston"},"KINGSTON                     "]
[111,null,"111 Granby",111,"Granby",111,"0111",null,null,null,null,76003,3,760,"SILVER LAKE",240,{"$f":"VLOOKUP(P146,'Townwide Contributions'!$A$9:$B$361,2,0)","v":"Plympton"},"PLYMPTON                     "]
[112,null,"112 Granville",112,"Granville",112,"0112",null,null,null,null,76301,1,763,"SOMERSET BERKLEY",27,{"$f":"VLOOKUP(P147,'Townwide Contributions'!$A$9:$B$361,2,0)","v":"Berkley"},"BERKLEY                      "]
[113,null,"113 Great Barrington",113,"Great Barrington",113,"0113",null,null,null,null,76302,2,763,"SOMERSET BERKLEY",273,{"$f":"VLOOKUP(P148,'Townwide Contributions'!$A$9:$B$361,2,0)","v":"Somerset"},"SOMERSET                     "]
[420,null,"821 Greater Fall River",821,"Greater Fall River",821,"0821",null,null,null,null,76501,1,765,"SOUTHERN BERKSHIRE",6,{"$f":"VLOOKUP(P149,'Townwide Contributions'!$A$9:$B$361,2,0)","v":"Alford"},"ALFORD                       "]
[421,null,"823 Greater Lawrence",823,"Greater Lawrence",823,"0823",null,null,null,null,76502,2,765,"SOUTHERN BERKSHIRE",90,{"$f":"VLOOKUP(P150,'Townwide Contributions'!$A$9:$B$361,2,0)","v":"Egremont"},"EGREMONT                     "]
[423,null,"828 Greater Lowell",828,"Greater Lowell",828,"0828",null,null,null,null,76503,3,765,"SOUTHERN BERKSHIRE",193,{"$f":"VLOOKUP(P151,'Townwide Contributions'!$A$9:$B$361,2,0)","v":"Monterey"},"MONTEREY                     "]
[422,null,"825 Greater New Bedford",825,"Greater New Bedford",825,"0825",null,null,null,null,76504,4,765,"SOUTHERN BERKSHIRE",205,{"$f":"VLOOKUP(P152,'Townwide Contributions'!$A$9:$B$361,2,0)","v":"New Marlborough"},"NEW MARLBOROUGH              "]
[114,null,"114 Greenfield",114,"Greenfield",114,"0114",null,null,null,null,76505,5,765,"SOUTHERN BERKSHIRE",267,{"$f":"VLOOKUP(P153,'Townwide Contributions'!$A$9:$B$361,2,0)","v":"Sheffield"},"SHEFFIELD                    "]
[115,null,"115 Groton",115,"Groton",115,"0115",null,null,null,null,76601,1,766,"SOUTHWICK TOLLAND GRANVILLE",112,{"$f":"VLOOKUP(P154,'Townwide Contributions'!$A$9:$B$361,2,0)","v":"Granville"},"GRANVILLE                    "]
[377,null,"673 Groton Dunstable",673,"Groton Dunstable",673,"0673",null,null,null,null,76602,2,766,"SOUTHWICK TOLLAND GRANVILLE",279,{"$f":"VLOOKUP(P155,'Townwide Contributions'!$A$9:$B$361,2,0)","v":"Southwick"},"SOUTHWICK                    "]
[116,null,"116 Groveland",116,"Groveland",116,"0116",null,null,null,null,76603,3,766,"SOUTHWICK TOLLAND GRANVILLE",297,{"$f":"VLOOKUP(P156,'Townwide Contributions'!$A$9:$B$361,2,0)","v":"Tolland"},"TOLLAND                      "]
[117,null,"117 Hadley",117,"Hadley",117,"0117",null,null,null,null,76701,1,767,"SPENCER EAST BROOKFIELD",84,{"$f":"VLOOKUP(P157,'Townwide Contributions'!$A$9:$B$361,2,0)","v":"East Brookfield"},"EAST BROOKFIELD              "]
[118,null,"118 Halifax",118,"Halifax",118,"0118",null,null,null,null,76702,2,767,"SPENCER EAST BROOKFIELD",280,{"$f":"VLOOKUP(P158,'Townwide Contributions'!$A$9:$B$361,2,0)","v":"Spencer"},"SPENCER                      "]
[119,null,"119 Hamilton",119,"Hamilton",119,"0119",null,null,null,null,77001,1,770,"TANTASQUA",43,{"$f":"VLOOKUP(P159,'Townwide Contributions'!$A$9:$B$361,2,0)","v":"Brimfield"},"BRIMFIELD                    "]
[379,null,"675 Hamilton Wenham",675,"Hamilton Wenham",675,"0675",null,null,null,null,77002,2,770,"TANTASQUA",45,{"$f":"VLOOKUP(P160,'Townwide Contributions'!$A$9:$B$361,2,0)","v":"Brookfield"},"BROOKFIELD                   "]
[120,null,"120 Hampden",120,"Hampden",120,"0120",null,null,null,null,77003,3,770,"TANTASQUA",135,{"$f":"VLOOKUP(P161,'Townwide Contributions'!$A$9:$B$361,2,0)","v":"Holland"},"HOLLAND                      "]
[380,null,"680 Hampden Wilbraham",680,"Hampden Wilbraham",680,"0680",null,null,null,null,77004,4,770,"TANTASQUA",287,{"$f":"VLOOKUP(P162,'Townwide Contributions'!$A$9:$B$361,2,0)","v":"Sturbridge"},"STURBRIDGE                   "]
[381,null,"683 Hampshire",683,"Hampshire",683,"0683",null,null,null,null,77005,5,770,"TANTASQUA",306,{"$f":"VLOOKUP(P163,'Townwide Contributions'!$A$9:$B$361,2,0)","v":"Wales"},"WALES                        "]
[121,null,"121 Hancock",121,"Hancock",121,"0121",null,null,null,null,77301,1,773,"TRITON",203,{"$f":"VLOOKUP(P164,'Townwide Contributions'!$A$9:$B$361,2,0)","v":"Newbury"},"NEWBURY                      "]
[122,null,"122 Hanover",122,"Hanover",122,"0122",null,null,null,null,77302,2,773,"TRITON",254,{"$f":"VLOOKUP(P165,'Townwide Contributions'!$A$9:$B$361,2,0)","v":"Rowley"},"ROWLEY                       "]
[123,null,"123 Hanson",123,"Hanson",123,"0123",null,null,null,null,77303,3,773,"TRITON",259,{"$f":"VLOOKUP(P166,'Townwide Contributions'!$A$9:$B$361,2,0)","v":"Salisbury"},"SALISBURY                    "]
[124,null,"124 Hardwick",124,"Hardwick",124,"0124",null,null,null,null,77401,1,774,"UPISLAND",62,{"$f":"VLOOKUP(P167,'Townwide Contributions'!$A$9:$B$361,2,0)","v":"Chilmark"},"CHILMARK                     "]
[125,null,"125 Harvard",125,"Harvard",125,"0125",null,null,null,null,77402,2,774,"UPISLAND",104,{"$f":"VLOOKUP(P168,'Townwide Contributions'!$A$9:$B$361,2,0)","v":"Aquinnah"},"AQUINNAH"]
[126,null,"126 Harwich",126,"Harwich",126,"0126",null,null,null,null,77403,3,774,"UPISLAND",334,{"$f":"VLOOKUP(P169,'Townwide Contributions'!$A$9:$B$361,2,0)","v":"West Tisbury"},"WEST TISBURY                 "]
[127,null,"127 Hatfield",127,"Hatfield",127,"0127",null,null,null,null,77501,1,775,"WACHUSETT",134,{"$f":"VLOOKUP(P170,'Townwide Contributions'!$A$9:$B$361,2,0)","v":"Holden"},"HOLDEN                       "]
[128,null,"128 Haverhill",128,"Haverhill",128,"0128",null,null,null,null,77502,2,775,"WACHUSETT",228,{"$f":"VLOOKUP(P171,'Townwide Contributions'!$A$9:$B$361,2,0)","v":"Paxton"},"PAXTON                       "]
[382,null,"685 Hawlemont",685,"Hawlemont",685,"0685",null,null,null,null,77503,3,775,"WACHUSETT",241,{"$f":"VLOOKUP(P172,'Townwide Contributions'!$A$9:$B$361,2,0)","v":"Princeton"},"PRINCETON                    "]
[129,null,"129 Hawley",129,"Hawley",129,"0129",null,null,null,null,77504,4,775,"WACHUSETT",257,{"$f":"VLOOKUP(P173,'Townwide Contributions'!$A$9:$B$361,2,0)","v":"Rutland"},"RUTLAND                      "]
[130,null,"130 Heath",130,"Heath",130,"0130",null,null,null,null,77505,5,775,"WACHUSETT",282,{"$f":"VLOOKUP(P174,'Townwide Contributions'!$A$9:$B$361,2,0)","v":"Sterling"},"STERLING                     "]
[131,null,"131 Hingham",131,"Hingham",131,"0131",null,null,null,null,77801,1,778,"QUABOAG",311,{"$f":"VLOOKUP(P175,'Townwide Contributions'!$A$9:$B$361,2,0)","v":"Warren"},"WARREN                       "]
[132,null,"132 Hinsdale",132,"Hinsdale",132,"0132",null,null,null,null,77802,2,778,"QUABOAG",324,{"$f":"VLOOKUP(P176,'Townwide Contributions'!$A$9:$B$361,2,0)","v":"West Brookfield"},"WEST BROOKFIELD              "]
[133,null,"133 Holbrook",133,"Holbrook",133,"0133",null,null,null,null,78001,1,780,"WHITMAN HANSON",123,{"$f":"VLOOKUP(P177,'Townwide Contributions'!$A$9:$B$361,2,0)","v":"Hanson"},"HANSON                       "]
[134,null,"134 Holden",134,"Holden",134,"0134",null,null,null,null,78002,2,780,"WHITMAN HANSON",338,{"$f":"VLOOKUP(P178,'Townwide Contributions'!$A$9:$B$361,2,0)","v":"Whitman"},"WHITMAN                      "]
[135,null,"135 Holland",135,"Holland",135,"0135",null,null,null,null,80101,1,801,"ASSABET VALLEY",28,{"$f":"VLOOKUP(P179,'Townwide Contributions'!$A$9:$B$361,2,0)","v":"Berlin"},"BERLIN                       "]
[136,null,"136 Holliston",136,"Holliston",136,"0136",null,null,null,null,80102,2,801,"ASSABET VALLEY",141,{"$f":"VLOOKUP(P180,'Townwide Contributions'!$A$9:$B$361,2,0)","v":"Hudson"},"HUDSON                       "]
[137,null,"137 Holyoke",137,"Holyoke",137,"0137",null,null,null,null,80103,3,801,"ASSABET VALLEY",170,{"$f":"VLOOKUP(P181,'Townwide Contributions'!$A$9:$B$361,2,0)","v":"Marlborough"},"MARLBOROUGH                  "]
[356,null,"603 Hoosac Valley",603,"Hoosac Valley",603,"0603",null,null,null,null,80104,4,801,"ASSABET VALLEY",174,{"$f":"VLOOKUP(P182,'Townwide Contributions'!$A$9:$B$361,2,0)","v":"Maynard"},"MAYNARD                      "]
[138,null,"138 Hopedale",138,"Hopedale",138,"0138",null,null,null,null,80105,5,801,"ASSABET VALLEY",213,{"$f":"VLOOKUP(P183,'Townwide Contributions'!$A$9:$B$361,2,0)","v":"Northborough"},"NORTHBOROUGH                 "]
[139,null,"139 Hopkinton",139,"Hopkinton",139,"0139",null,null,null,null,80106,6,801,"ASSABET VALLEY",276,{"$f":"VLOOKUP(P184,'Townwide Contributions'!$A$9:$B$361,2,0)","v":"Southborough"},"SOUTHBOROUGH                 "]
[140,null,"140 Hubbardston",140,"Hubbardston",140,"0140",null,null,null,null,80107,7,801,"ASSABET VALLEY",321,{"$f":"VLOOKUP(P185,'Townwide Contributions'!$A$9:$B$361,2,0)","v":"Westborough"},"WESTBOROUGH                  "]
[141,null,"141 Hudson",141,"Hudson",141,"0141",null,null,null,null,80501,1,805,"BLACKSTONE VALLEY",25,{"$f":"VLOOKUP(P186,'Townwide Contributions'!$A$9:$B$361,2,0)","v":"Bellingham"},"BELLINGHAM                   "]
[142,null,"142 Hull",142,"Hull",142,"0142",null,null,null,null,80502,2,805,"BLACKSTONE VALLEY",32,{"$f":"VLOOKUP(P187,'Townwide Contributions'!$A$9:$B$361,2,0)","v":"Blackstone"},"BLACKSTONE                   "]
[143,null,"143 Huntington",143,"Huntington",143,"0143",null,null,null,null,80503,3,805,"BLACKSTONE VALLEY",77,{"$f":"VLOOKUP(P188,'Townwide Contributions'!$A$9:$B$361,2,0)","v":"Douglas"},"DOUGLAS                      "]
[144,null,"144 Ipswich",144,"Ipswich",144,"0144",null,null,null,null,80504,4,805,"BLACKSTONE VALLEY",110,{"$f":"VLOOKUP(P189,'Townwide Contributions'!$A$9:$B$361,2,0)","v":"Grafton"},"GRAFTON                      "]
[383,null,"690 King Philip",690,"King Philip",690,"0690",null,null,null,null,80505,5,805,"BLACKSTONE VALLEY",138,{"$f":"VLOOKUP(P190,'Townwide Contributions'!$A$9:$B$361,2,0)","v":"Hopedale"},"HOPEDALE                     "]
[145,null,"145 Kingston",145,"Kingston",145,"0145",null,null,null,null,80506,6,805,"BLACKSTONE VALLEY",179,{"$f":"VLOOKUP(P191,'Townwide Contributions'!$A$9:$B$361,2,0)","v":"Mendon"},"MENDON                       "]
[146,null,"146 Lakeville",146,"Lakeville",146,"0146",null,null,null,null,80507,7,805,"BLACKSTONE VALLEY",185,{"$f":"VLOOKUP(P192,'Townwide Contributions'!$A$9:$B$361,2,0)","v":"Milford"},"MILFORD                      "]
[147,null,"147 Lancaster",147,"Lancaster",147,"0147",null,null,null,null,80508,8,805,"BLACKSTONE VALLEY",186,{"$f":"VLOOKUP(P193,'Townwide Contributions'!$A$9:$B$361,2,0)","v":"Millbury"},"MILLBURY                     "]
[148,null,"148 Lanesborough",148,"Lanesborough",148,"0148",null,null,null,null,80509,9,805,"BLACKSTONE VALLEY",188,{"$f":"VLOOKUP(P194,'Townwide Contributions'!$A$9:$B$361,2,0)","v":"Millville"},"MILLVILLE                    "]
[149,null,"149 Lawrence",149,"Lawrence",149,"0149",null,null,null,null,80510,10,805,"BLACKSTONE VALLEY",214,{"$f":"VLOOKUP(P195,'Townwide Contributions'!$A$9:$B$361,2,0)","v":"Northbridge"},"NORTHBRIDGE                  "]
[150,null,"150 Lee",150,"Lee",150,"0150",null,null,null,null,80511,11,805,"BLACKSTONE VALLEY",290,{"$f":"VLOOKUP(P196,'Townwide Contributions'!$A$9:$B$361,2,0)","v":"Sutton"},"SUTTON                       "]
[151,null,"151 Leicester",151,"Leicester",151,"0151",null,null,null,null,80512,12,805,"BLACKSTONE VALLEY",303,{"$f":"VLOOKUP(P197,'Townwide Contributions'!$A$9:$B$361,2,0)","v":"Upton"},"UPTON                        "]
[152,null,{"$f":"PROPER(D198&\" \"&E198)","v":"152 Lenox"},152,"Lenox",152,"0152",null,null,null,null,80513,13,805,"BLACKSTONE VALLEY",304,{"$f":"VLOOKUP(P198,'Townwide Contributions'!$A$9:$B$361,2,0)","v":"Uxbridge"},"UXBRIDGE                     "]
[153,null,"153 Leominster",153,"Leominster",153,"0153",null,null,null,null,80601,1,806,"BLUE HILLS",18,{"$f":"VLOOKUP(P199,'Townwide Contributions'!$A$9:$B$361,2,0)","v":"Avon"},"AVON                         "]
[154,null,"154 Leverett",154,"Leverett",154,"0154",null,null,null,null,80602,2,806,"BLUE HILLS",40,{"$f":"VLOOKUP(P200,'Townwide Contributions'!$A$9:$B$361,2,0)","v":"Braintree"},"BRAINTREE                    "]
[155,null,"155 Lexington",155,"Lexington",155,"0155",null,null,null,null,80603,3,806,"BLUE HILLS",50,{"$f":"VLOOKUP(P201,'Townwide Contributions'!$A$9:$B$361,2,0)","v":"Canton"},"CANTON                       "]
[156,null,"156 Leyden",156,"Leyden",156,"0156",null,null,null,null,80604,4,806,"BLUE HILLS",73,{"$f":"VLOOKUP(P202,'Townwide Contributions'!$A$9:$B$361,2,0)","v":"Dedham"},"DEDHAM                       "]
[157,null,"157 Lincoln",157,"Lincoln",157,"0157",null,null,null,null,80605,5,806,"BLUE HILLS",133,{"$f":"VLOOKUP(P203,'Townwide Contributions'!$A$9:$B$361,2,0)","v":"Holbrook"},"HOLBROOK                     "]
[384,null,"695 Lincoln Sudbury",695,"Lincoln Sudbury",695,"0695",null,null,null,null,80606,6,806,"BLUE HILLS",189,{"$f":"VLOOKUP(P204,'Townwide Contributions'!$A$9:$B$361,2,0)","v":"Milton"},"MILTON                       "]
[158,null,"158 Littleton",158,"Littleton",158,"0158",null,null,null,null,80607,7,806,"BLUE HILLS",220,{"$f":"VLOOKUP(P205,'Townwide Contributions'!$A$9:$B$361,2,0)","v":"Norwood"},"NORWOOD                      "]
[159,null,"159 Longmeadow",159,"Longmeadow",159,"0159",null,null,null,null,80608,8,806,"BLUE HILLS",244,{"$f":"VLOOKUP(P206,'Townwide Contributions'!$A$9:$B$361,2,0)","v":"Randolph"},"RANDOLPH                     "]
[160,null,"160 Lowell",160,"Lowell",160,"0160",null,null,null,null,80609,9,806,"BLUE HILLS",335,{"$f":"VLOOKUP(P207,'Townwide Contributions'!$A$9:$B$361,2,0)","v":"Westwood"},"WESTWOOD                     "]
[161,null,"161 Ludlow",161,"Ludlow",161,"0161",null,null,null,null,81001,1,810,"BRISTOL PLYMOUTH",27,{"$f":"VLOOKUP(P208,'Townwide Contributions'!$A$9:$B$361,2,0)","v":"Berkley"},"BERKLEY                      "]
[162,null,"162 Lunenburg",162,"Lunenburg",162,"0162",null,null,null,null,81002,2,810,"BRISTOL PLYMOUTH",42,{"$f":"VLOOKUP(P209,'Townwide Contributions'!$A$9:$B$361,2,0)","v":"Bridgewater"},"BRIDGEWATER                  "]
[163,null,"163 Lynn",163,"Lynn",163,"0163",null,null,null,null,81003,3,810,"BRISTOL PLYMOUTH",76,{"$f":"VLOOKUP(P210,'Townwide Contributions'!$A$9:$B$361,2,0)","v":"Dighton"},"DIGHTON                      "]
[164,null,"164 Lynnfield",164,"Lynnfield",164,"0164",null,null,null,null,81004,4,810,"BRISTOL PLYMOUTH",182,{"$f":"VLOOKUP(P211,'Townwide Contributions'!$A$9:$B$361,2,0)","v":"Middleborough"},"MIDDLEBOROUGH                "]
[165,null,"165 Malden",165,"Malden",165,"0165",null,null,null,null,81005,5,810,"BRISTOL PLYMOUTH",245,{"$f":"VLOOKUP(P212,'Townwide Contributions'!$A$9:$B$361,2,0)","v":"Raynham"},"RAYNHAM                      "]
[166,null,"166 Manchester",166,"Manchester",166,"0166",null,null,null,null,81006,6,810,"BRISTOL PLYMOUTH",247,{"$f":"VLOOKUP(P213,'Townwide Contributions'!$A$9:$B$361,2,0)","v":"Rehoboth"},"REHOBOTH                     "]
[385,null,"698 Manchester Essex",698,"Manchester Essex",698,"0698",null,null,null,null,81007,7,810,"BRISTOL PLYMOUTH",293,{"$f":"VLOOKUP(P214,'Townwide Contributions'!$A$9:$B$361,2,0)","v":"Taunton"},"TAUNTON                      "]
[167,null,"167 Mansfield",167,"Mansfield",167,"0167",null,null,null,null,81501,1,815,"CAPE COD",20,{"$f":"VLOOKUP(P215,'Townwide Contributions'!$A$9:$B$361,2,0)","v":"Barnstable"},"BARNSTABLE                   "]
[168,null,"168 Marblehead",168,"Marblehead",168,"0168",null,null,null,null,81502,2,815,"CAPE COD",41,{"$f":"VLOOKUP(P216,'Townwide Contributions'!$A$9:$B$361,2,0)","v":"Brewster"},"BREWSTER                     "]
[169,null,"169 Marion",169,"Marion",169,"0169",null,null,null,null,81503,3,815,"CAPE COD",55,{"$f":"VLOOKUP(P217,'Townwide Contributions'!$A$9:$B$361,2,0)","v":"Chatham"},"CHATHAM                      "]
[170,null,"170 Marlborough",170,"Marlborough",170,"0170",null,null,null,null,81504,4,815,"CAPE COD",75,{"$f":"VLOOKUP(P218,'Townwide Contributions'!$A$9:$B$361,2,0)","v":"Dennis"},"DENNIS                       "]
[171,null,"171 Marshfield",171,"Marshfield",171,"0171",null,null,null,null,81505,5,815,"CAPE COD",85,{"$f":"VLOOKUP(P219,'Townwide Contributions'!$A$9:$B$361,2,0)","v":"Eastham"},"EASTHAM                      "]
[386,null,"700 Marthas Vineyard",700,"Marthas Vineyard",700,"0700",null,null,null,null,81506,6,815,"CAPE COD",126,{"$f":"VLOOKUP(P220,'Townwide Contributions'!$A$9:$B$361,2,0)","v":"Harwich"},"HARWICH                      "]
[387,null,"705 Masconomet",705,"Masconomet",705,"0705",null,null,null,null,81507,7,815,"CAPE COD",172,{"$f":"VLOOKUP(P221,'Townwide Contributions'!$A$9:$B$361,2,0)","v":"Mashpee"},"MASHPEE                      "]
[172,null,"172 Mashpee",172,"Mashpee",172,"0172",null,null,null,null,81508,8,815,"CAPE COD",224,{"$f":"VLOOKUP(P222,'Townwide Contributions'!$A$9:$B$361,2,0)","v":"Orleans"},"ORLEANS                      "]
[173,null,"173 Mattapoisett",173,"Mattapoisett",173,"0173",null,null,null,null,81509,9,815,"CAPE COD",242,{"$f":"VLOOKUP(P223,'Townwide Contributions'!$A$9:$B$361,2,0)","v":"Provincetown"},"PROVINCETOWN                 "]
[174,null,"174 Maynard",174,"Maynard",174,"0174",null,null,null,null,81510,10,815,"CAPE COD",300,{"$f":"VLOOKUP(P224,'Townwide Contributions'!$A$9:$B$361,2,0)","v":"Truro"},"TRURO                        "]
[175,null,"175 Medfield",175,"Medfield",175,"0175",null,null,null,null,81511,11,815,"CAPE COD",318,{"$f":"VLOOKUP(P225,'Townwide Contributions'!$A$9:$B$361,2,0)","v":"Wellfleet"},"WELLFLEET                    "]
[176,null,"176 Medford",176,"Medford",176,"0176",null,null,null,null,81512,12,815,"CAPE COD",351,{"$f":"VLOOKUP(P226,'Townwide Contributions'!$A$9:$B$361,2,0)","v":"Yarmouth"},"YARMOUTH                     "]
[177,null,"177 Medway",177,"Medway",177,"0177",null,null,null,null,81701,1,817,"ESSEX NORTH SHORE",30,{"$f":"VLOOKUP(P227,'Townwide Contributions'!$A$9:$B$361,2,0)","v":"Beverly"},"BEVERLY                      "]
[178,null,"178 Melrose",178,"Melrose",178,"0178",null,null,null,null,81702,2,817,"ESSEX NORTH SHORE",38,{"$f":"VLOOKUP(P228,'Townwide Contributions'!$A$9:$B$361,2,0)","v":"Boxford"},"BOXFORD                      "]
[179,null,"179 Mendon",179,"Mendon",179,"0179",null,null,null,null,81703,3,817,"ESSEX NORTH SHORE",71,{"$f":"VLOOKUP(P229,'Townwide Contributions'!$A$9:$B$361,2,0)","v":"Danvers"},"DANVERS                      "]
[388,null,"710 Mendon Upton",710,"Mendon Upton",710,"0710",null,null,null,null,81704,4,817,"ESSEX NORTH SHORE",92,{"$f":"VLOOKUP(P230,'Townwide Contributions'!$A$9:$B$361,2,0)","v":"Essex"},"ESSEX                        "]
[180,null,"180 Merrimac",180,"Merrimac",180,"0180",null,null,null,null,81705,5,817,"ESSEX NORTH SHORE",107,{"$f":"VLOOKUP(P231,'Townwide Contributions'!$A$9:$B$361,2,0)","v":"Gloucester"},"GLOUCESTER                   "]
[181,null,"181 Methuen",181,"Methuen",181,"0181",null,null,null,null,81706,6,817,"ESSEX NORTH SHORE",119,{"$f":"VLOOKUP(P232,'Townwide Contributions'!$A$9:$B$361,2,0)","v":"Hamilton"},"HAMILTON                     "]
[182,null,"182 Middleborough",182,"Middleborough",182,"0182",null,null,null,null,81707,7,817,"ESSEX NORTH SHORE",164,{"$f":"VLOOKUP(P233,'Townwide Contributions'!$A$9:$B$361,2,0)","v":"Lynnfield"},"LYNNFIELD                    "]
[183,null,"183 Middlefield",183,"Middlefield",183,"0183",null,null,null,null,81708,8,817,"ESSEX NORTH SHORE",166,{"$f":"VLOOKUP(P234,'Townwide Contributions'!$A$9:$B$361,2,0)","v":"Manchester"},"MANCHESTER                   "]
[184,null,"184 Middleton",184,"Middleton",184,"0184",null,null,null,null,81709,9,817,"ESSEX NORTH SHORE",168,{"$f":"VLOOKUP(P235,'Townwide Contributions'!$A$9:$B$361,2,0)","v":"Marblehead"},"MARBLEHEAD                   "]
[185,null,"185 Milford",185,"Milford",185,"0185",null,null,null,null,81710,10,817,"ESSEX NORTH SHORE",184,{"$f":"VLOOKUP(P236,'Townwide Contributions'!$A$9:$B$361,2,0)","v":"Middleton"},"MIDDLETON                    "]
[186,null,"186 Millbury",186,"Millbury",186,"0186",null,null,null,null,81711,11,817,"ESSEX NORTH SHORE",196,{"$f":"VLOOKUP(P237,'Townwide Contributions'!$A$9:$B$361,2,0)","v":"Nahant"},"NAHANT                       "]
[187,null,"187 Millis",187,"Millis",187,"0187",null,null,null,null,81712,12,817,"ESSEX NORTH SHORE",229,{"$f":"VLOOKUP(P238,'Townwide Contributions'!$A$9:$B$361,2,0)","v":"Peabody"},"PEABODY"]
[188,null,"188 Millville",188,"Millville",188,"0188",null,null,null,null,81713,13,817,"ESSEX NORTH SHORE",252,{"$f":"VLOOKUP(P239,'Townwide Contributions'!$A$9:$B$361,2,0)","v":"Rockport"},"ROCKPORT                     "]
[189,null,"189 Milton",189,"Milton",189,"0189",null,null,null,null,81714,14,817,"ESSEX NORTH SHORE",258,{"$f":"VLOOKUP(P240,'Townwide Contributions'!$A$9:$B$361,2,0)","v":"Salem"},"SALEM                        "]
[425,null,"830 Minuteman",830,"Minuteman",830,"0830",null,null,null,null,81715,15,817,"ESSEX NORTH SHORE",291,{"$f":"VLOOKUP(P241,'Townwide Contributions'!$A$9:$B$361,2,0)","v":"Swampscott"},"SWAMPSCOTT                   "]
[391,null,"717 Mohawk Trail",717,"Mohawk Trail",717,"0717",null,null,null,null,81716,16,817,"ESSEX NORTH SHORE",298,{"$f":"VLOOKUP(P242,'Townwide Contributions'!$A$9:$B$361,2,0)","v":"Topsfield"},"TOPSFIELD                    "]
[389,null,"712 Monomoy",712,"Monomoy",712,"0712",null,null,null,null,81717,17,817,"ESSEX NORTH SHORE",320,{"$f":"VLOOKUP(P243,'Townwide Contributions'!$A$9:$B$361,2,0)","v":"Wenham"},"WENHAM                       "]
[190,null,"190 Monroe",190,"Monroe",190,"0190",null,null,null,null,81801,1,818,"FRANKLIN COUNTY",29,{"$f":"VLOOKUP(P244,'Townwide Contributions'!$A$9:$B$361,2,0)","v":"Bernardston"},"BERNARDSTON                  "]
[191,null,"191 Monson",191,"Monson",191,"0191",null,null,null,null,81802,2,818,"FRANKLIN COUNTY",47,{"$f":"VLOOKUP(P245,'Townwide Contributions'!$A$9:$B$361,2,0)","v":"Buckland"},"BUCKLAND                     "]
[426,null,"832 Montachusett",832,"Montachusett",832,"0832",null,null,null,null,81803,3,818,"FRANKLIN COUNTY",66,{"$f":"VLOOKUP(P246,'Townwide Contributions'!$A$9:$B$361,2,0)","v":"Colrain"},"COLRAIN                      "]
[192,null,"192 Montague",192,"Montague",192,"0192",null,null,null,null,81804,4,818,"FRANKLIN COUNTY",68,{"$f":"VLOOKUP(P247,'Townwide Contributions'!$A$9:$B$361,2,0)","v":"Conway"},"CONWAY                       "]
[193,null,"193 Monterey",193,"Monterey",193,"0193",null,null,null,null,81805,5,818,"FRANKLIN COUNTY",74,{"$f":"VLOOKUP(P248,'Townwide Contributions'!$A$9:$B$361,2,0)","v":"Deerfield"},"DEERFIELD                    "]
[194,null,"194 Montgomery",194,"Montgomery",194,"0194",null,null,null,null,81806,6,818,"FRANKLIN COUNTY",91,{"$f":"VLOOKUP(P249,'Townwide Contributions'!$A$9:$B$361,2,0)","v":"Erving"},"ERVING                       "]
[390,null,"715 Mount Greylock",715,"Mount Greylock",715,"0715",null,null,null,null,81807,7,818,"FRANKLIN COUNTY",106,{"$f":"VLOOKUP(P250,'Townwide Contributions'!$A$9:$B$361,2,0)","v":"Gill"},"GILL                         "]
[195,null,"195 Mount Washington",195,"Mount Washington",195,"0195",null,null,null,null,81808,8,818,"FRANKLIN COUNTY",114,{"$f":"VLOOKUP(P251,'Townwide Contributions'!$A$9:$B$361,2,0)","v":"Greenfield"},"GREENFIELD                   "]
[196,null,"196 Nahant",196,"Nahant",196,"0196",null,null,null,null,81809,9,818,"FRANKLIN COUNTY",130,{"$f":"VLOOKUP(P252,'Townwide Contributions'!$A$9:$B$361,2,0)","v":"Heath"},"HEATH                        "]
[197,null,"197 Nantucket",197,"Nantucket",197,"0197",null,null,null,null,81810,10,818,"FRANKLIN COUNTY",156,{"$f":"VLOOKUP(P253,'Townwide Contributions'!$A$9:$B$361,2,0)","v":"Leyden"},"LEYDEN                       "]
[392,null,"720 Narragansett",720,"Narragansett",720,"0720",null,null,null,null,81811,11,818,"FRANKLIN COUNTY",192,{"$f":"VLOOKUP(P254,'Townwide Contributions'!$A$9:$B$361,2,0)","v":"Montague"},"MONTAGUE                     "]
[393,null,"725 Nashoba",725,"Nashoba",725,"0725",null,null,null,null,81812,12,818,"FRANKLIN COUNTY",206,{"$f":"VLOOKUP(P255,'Townwide Contributions'!$A$9:$B$361,2,0)","v":"New Salem"},"NEW SALEM                    "]
[428,null,"852 Nashoba Valley",852,"Nashoba Valley",852,"0852",null,null,null,null,81813,13,818,"FRANKLIN COUNTY",216,{"$f":"VLOOKUP(P256,'Townwide Contributions'!$A$9:$B$361,2,0)","v":"Northfield"},"NORTHFIELD                   "]
[198,null,"198 Natick",198,"Natick",198,"0198",null,null,null,null,81814,14,818,"FRANKLIN COUNTY",223,{"$f":"VLOOKUP(P257,'Townwide Contributions'!$A$9:$B$361,2,0)","v":"Orange"},"ORANGE                       "]
[372,null,"660 Nauset",660,"Nauset",660,"0660",null,null,null,null,81815,15,818,"FRANKLIN COUNTY",268,{"$f":"VLOOKUP(P258,'Townwide Contributions'!$A$9:$B$361,2,0)","v":"Shelburne"},"SHELBURNE                    "]
[199,null,"199 Needham",199,"Needham",199,"0199",null,null,null,null,81816,16,818,"FRANKLIN COUNTY",289,{"$f":"VLOOKUP(P259,'Townwide Contributions'!$A$9:$B$361,2,0)","v":"Sunderland"},"SUNDERLAND                   "]
[200,null,"200 New Ashford",200,"New Ashford",200,"0200",null,null,null,null,81817,17,818,"FRANKLIN COUNTY",312,{"$f":"VLOOKUP(P260,'Townwide Contributions'!$A$9:$B$361,2,0)","v":"Warwick"},"WARWICK                      "]
[201,null,"201 New Bedford",201,"New Bedford",201,"0201",null,null,null,null,81818,18,818,"FRANKLIN COUNTY",319,{"$f":"VLOOKUP(P261,'Townwide Contributions'!$A$9:$B$361,2,0)","v":"Wendell"},"WENDELL                      "]
[202,null,{"$f":"PROPER(D262&\" \"&E262)","v":"202 New Braintree"},202,"New Braintree",202,"0202",null,null,null,null,81819,19,818,"FRANKLIN COUNTY",337,{"$f":"VLOOKUP(P262,'Townwide Contributions'!$A$9:$B$361,2,0)","v":"Whately"},"WHATELY                      "]
[205,null,"205 New Marlborough",205,"New Marlborough",205,"0205",null,null,null,null,82101,1,821,"GREATER FALL RIVER",95,{"$f":"VLOOKUP(P263,'Townwide Contributions'!$A$9:$B$361,2,0)","v":"Fall River"},"FALL RIVER                   "]
[206,null,"206 New Salem",206,"New Salem",206,"0206",null,null,null,null,82102,2,821,"GREATER FALL RIVER",273,{"$f":"VLOOKUP(P264,'Townwide Contributions'!$A$9:$B$361,2,0)","v":"Somerset"},"SOMERSET                     "]
[394,null,"728 New Salem Wendell",728,"New Salem Wendell",728,"0728",null,null,null,null,82103,3,821,"GREATER FALL RIVER",292,{"$f":"VLOOKUP(P265,'Townwide Contributions'!$A$9:$B$361,2,0)","v":"Swansea"},"SWANSEA                      "]
[203,null,"203 Newbury",203,"Newbury",203,"0203",null,null,null,null,82104,4,821,"GREATER FALL RIVER",331,{"$f":"VLOOKUP(P266,'Townwide Contributions'!$A$9:$B$361,2,0)","v":"Westport"},"WESTPORT                     "]
[204,null,"204 Newburyport",204,"Newburyport",204,"0204",null,null,null,null,82301,1,823,"GREATER LAWRENCE",9,{"$f":"VLOOKUP(P267,'Townwide Contributions'!$A$9:$B$361,2,0)","v":"Andover"},"ANDOVER                      "]
[207,null,"207 Newton",207,"Newton",207,"0207",null,null,null,null,82302,2,823,"GREATER LAWRENCE",149,{"$f":"VLOOKUP(P268,'Townwide Contributions'!$A$9:$B$361,2,0)","v":"Lawrence"},"LAWRENCE                     "]
[208,null,"208 Norfolk",208,"Norfolk",208,"0208",null,null,null,null,82303,3,823,"GREATER LAWRENCE",181,{"$f":"VLOOKUP(P269,'Townwide Contributions'!$A$9:$B$361,2,0)","v":"Methuen"},"METHUEN                      "]
[440,null,"915 Norfolk County",915,"Norfolk County",915,"0915",null,null,null,null,82304,4,823,"GREATER LAWRENCE",211,{"$f":"VLOOKUP(P270,'Townwide Contributions'!$A$9:$B$361,2,0)","v":"North Andover"},"NORTH ANDOVER                "]
[209,null,"209 North Adams",209,"North Adams",209,"0209",null,null,null,null,82501,1,825,"GREATER NEW BEDFORD",72,{"$f":"VLOOKUP(P271,'Townwide Contributions'!$A$9:$B$361,2,0)","v":"Dartmouth"},"DARTMOUTH                    "]
[211,null,"211 North Andover",211,"North Andover",211,"0211",null,null,null,null,82502,2,825,"GREATER NEW BEDFORD",94,{"$f":"VLOOKUP(P272,'Townwide Contributions'!$A$9:$B$361,2,0)","v":"Fairhaven"},"FAIRHAVEN                    "]
[212,null,"212 North Attleborough",212,"North Attleborough",212,"0212",null,null,null,null,82503,3,825,"GREATER NEW BEDFORD",201,{"$f":"VLOOKUP(P273,'Townwide Contributions'!$A$9:$B$361,2,0)","v":"New Bedford"},"NEW BEDFORD                  "]
[215,null,"215 North Brookfield",215,"North Brookfield",215,"0215",null,null,null,null,82801,1,828,"GREATER LOWELL",79,{"$f":"VLOOKUP(P274,'Townwide Contributions'!$A$9:$B$361,2,0)","v":"Dracut"},"DRACUT                       "]
[396,null,"735 North Middlesex",735,"North Middlesex",735,"0735",null,null,null,null,82802,2,828,"GREATER LOWELL",81,{"$f":"VLOOKUP(P275,'Townwide Contributions'!$A$9:$B$361,2,0)","v":"Dunstable"},"DUNSTABLE                    "]
[217,null,"217 North Reading",217,"North Reading",217,"0217",null,null,null,null,82803,3,828,"GREATER LOWELL",160,{"$f":"VLOOKUP(P276,'Townwide Contributions'!$A$9:$B$361,2,0)","v":"Lowell"},"LOWELL                       "]
[210,null,"210 Northampton",210,"Northampton",210,"0210",null,null,null,null,82804,4,828,"GREATER LOWELL",301,{"$f":"VLOOKUP(P277,'Townwide Contributions'!$A$9:$B$361,2,0)","v":"Tyngsborough"},"TYNGSBOROUGH                 "]
[354,null,"406 Northampton Smith",406,"Northampton Smith",406,"0406",null,null,null,null,82901,1,829,"SOUTH MIDDLESEX",14,{"$f":"VLOOKUP(P278,'Townwide Contributions'!$A$9:$B$361,2,0)","v":"Ashland"},"ASHLAND                      "]
[395,null,"730 Northboro Southboro",730,"Northboro Southboro",730,"0730",null,null,null,null,82902,2,829,"SOUTH MIDDLESEX",100,{"$f":"VLOOKUP(P279,'Townwide Contributions'!$A$9:$B$361,2,0)","v":"Framingham"},"FRAMINGHAM                   "]
[213,null,"213 Northborough",213,"Northborough",213,"0213",null,null,null,null,82903,3,829,"SOUTH MIDDLESEX",136,{"$f":"VLOOKUP(P280,'Townwide Contributions'!$A$9:$B$361,2,0)","v":"Holliston"},"HOLLISTON                    "]
[214,null,"214 Northbridge",214,"Northbridge",214,"0214",null,null,null,null,82904,4,829,"SOUTH MIDDLESEX",139,{"$f":"VLOOKUP(P281,'Townwide Contributions'!$A$9:$B$361,2,0)","v":"Hopkinton"},"HOPKINTON                    "]
[429,null,"853 Northeast Metropolitan",853,"Northeast Metropolitan",853,"0853",null,null,null,null,82905,5,829,"SOUTH MIDDLESEX",198,{"$f":"VLOOKUP(P282,'Townwide Contributions'!$A$9:$B$361,2,0)","v":"Natick"},"NATICK                       "]
[427,null,"851 Northern Berkshire",851,"Northern Berkshire",851,"0851",null,null,null,null,83001,1,830,"MINUTEMAN",2,{"$f":"VLOOKUP(P283,'Townwide Contributions'!$A$9:$B$361,2,0)","v":"Acton"},"ACTON                        "]
[216,null,"216 Northfield",216,"Northfield",216,"0216",null,null,null,null,83002,2,830,"MINUTEMAN",10,{"$f":"VLOOKUP(P284,'Townwide Contributions'!$A$9:$B$361,2,0)","v":"Arlington"},"ARLINGTON                    "]
[218,null,"218 Norton",218,"Norton",218,"0218",null,null,null,null,83003,3,830,"MINUTEMAN",34,{"$f":"VLOOKUP(P285,'Townwide Contributions'!$A$9:$B$361,2,0)","v":"Bolton"},"BOLTON                       "]
[219,null,"219 Norwell",219,"Norwell",219,"0219",null,null,null,null,83004,4,830,"MINUTEMAN",67,{"$f":"VLOOKUP(P286,'Townwide Contributions'!$A$9:$B$361,2,0)","v":"Concord"},"CONCORD                      "]
[220,null,"220 Norwood",220,"Norwood",220,"0220",null,null,null,null,83005,5,830,"MINUTEMAN",78,{"$f":"VLOOKUP(P287,'Townwide Contributions'!$A$9:$B$361,2,0)","v":"Dover"},"DOVER                        "]
[221,null,"221 Oak Bluffs",221,"Oak Bluffs",221,"0221",null,null,null,null,83006,6,830,"MINUTEMAN",147,{"$f":"VLOOKUP(P288,'Townwide Contributions'!$A$9:$B$361,2,0)","v":"Lancaster"},"LANCASTER                    "]
[222,null,"222 Oakham",222,"Oakham",222,"0222",null,null,null,null,83007,7,830,"MINUTEMAN",155,{"$f":"VLOOKUP(P289,'Townwide Contributions'!$A$9:$B$361,2,0)","v":"Lexington"},"LEXINGTON                    "]
[430,null,"855 Old Colony",855,"Old Colony",855,"0855",null,null,null,null,83008,8,830,"MINUTEMAN",199,{"$f":"VLOOKUP(P290,'Townwide Contributions'!$A$9:$B$361,2,0)","v":"Needham"},"NEEDHAM                      "]
[397,null,"740 Old Rochester",740,"Old Rochester",740,"0740",null,null,null,null,83009,9,830,"MINUTEMAN",286,{"$f":"VLOOKUP(P291,'Townwide Contributions'!$A$9:$B$361,2,0)","v":"Stow"},"STOW                         "]
[223,null,"223 Orange",223,"Orange",223,"0223",null,null,null,null,83201,1,832,"MONTACHUSETT",11,{"$f":"VLOOKUP(P292,'Townwide Contributions'!$A$9:$B$361,2,0)","v":"Ashburnham"},"ASHBURNHAM                   "]
[224,null,"224 Orleans",224,"Orleans",224,"0224",null,null,null,null,83202,2,832,"MONTACHUSETT",12,{"$f":"VLOOKUP(P293,'Townwide Contributions'!$A$9:$B$361,2,0)","v":"Ashby"},"ASHBY                        "]
[225,null,"225 Otis",225,"Otis",225,"0225",null,null,null,null,83203,3,832,"MONTACHUSETT",15,{"$f":"VLOOKUP(P294,'Townwide Contributions'!$A$9:$B$361,2,0)","v":"Athol"},"ATHOL                        "]
[226,null,"226 Oxford",226,"Oxford",226,"0226",null,null,null,null,83204,4,832,"MONTACHUSETT",21,{"$f":"VLOOKUP(P295,'Townwide Contributions'!$A$9:$B$361,2,0)","v":"Barre"},"BARRE                        "]
[227,null,"227 Palmer",227,"Palmer",227,"0227",null,null,null,null,83205,5,832,"MONTACHUSETT",97,{"$f":"VLOOKUP(P296,'Townwide Contributions'!$A$9:$B$361,2,0)","v":"Fitchburg"},"FITCHBURG                    "]
[431,null,"860 Pathfinder",860,"Pathfinder",860,"0860",null,null,null,null,83206,6,832,"MONTACHUSETT",103,{"$f":"VLOOKUP(P297,'Townwide Contributions'!$A$9:$B$361,2,0)","v":"Gardner"},"GARDNER                      "]
[228,null,"228 Paxton",228,"Paxton",228,"0228",null,null,null,null,83207,7,832,"MONTACHUSETT",125,{"$f":"VLOOKUP(P298,'Townwide Contributions'!$A$9:$B$361,2,0)","v":"Harvard"},"HARVARD                      "]
[229,null,"229 Peabody",229,"Peabody",229,"0229",null,null,null,null,83208,8,832,"MONTACHUSETT",134,{"$f":"VLOOKUP(P299,'Townwide Contributions'!$A$9:$B$361,2,0)","v":"Holden"},"HOLDEN                       "]
[230,null,"230 Pelham",230,"Pelham",230,"0230",null,null,null,null,83209,9,832,"MONTACHUSETT",140,{"$f":"VLOOKUP(P300,'Townwide Contributions'!$A$9:$B$361,2,0)","v":"Hubbardston"},"HUBBARDSTON                  "]
[231,null,"231 Pembroke",231,"Pembroke",231,"0231",null,null,null,null,83210,10,832,"MONTACHUSETT",162,{"$f":"VLOOKUP(P301,'Townwide Contributions'!$A$9:$B$361,2,0)","v":"Lunenburg"},"LUNENBURG                    "]
[398,null,"745 Pentucket",745,"Pentucket",745,"0745",null,null,null,null,83211,11,832,"MONTACHUSETT",234,{"$f":"VLOOKUP(P302,'Townwide Contributions'!$A$9:$B$361,2,0)","v":"Petersham"},"PETERSHAM                    "]
[232,null,"232 Pepperell",232,"Pepperell",232,"0232",null,null,null,null,83212,12,832,"MONTACHUSETT",235,{"$f":"VLOOKUP(P303,'Townwide Contributions'!$A$9:$B$361,2,0)","v":"Phillipston"},"PHILLIPSTON                  "]
[233,null,"233 Peru",233,"Peru",233,"0233",null,null,null,null,83213,13,832,"MONTACHUSETT",241,{"$f":"VLOOKUP(P304,'Townwide Contributions'!$A$9:$B$361,2,0)","v":"Princeton"},"PRINCETON                    "]
[234,null,"234 Petersham",234,"Petersham",234,"0234",null,null,null,null,83214,14,832,"MONTACHUSETT",255,{"$f":"VLOOKUP(P305,'Townwide Contributions'!$A$9:$B$361,2,0)","v":"Royalston"},"ROYALSTON                    "]
[235,null,"235 Phillipston",235,"Phillipston",235,"0235",null,null,null,null,83215,15,832,"MONTACHUSETT",282,{"$f":"VLOOKUP(P306,'Townwide Contributions'!$A$9:$B$361,2,0)","v":"Sterling"},"STERLING                     "]
[399,null,"750 Pioneer",750,"Pioneer",750,"0750",null,null,null,null,83216,16,832,"MONTACHUSETT",294,{"$f":"VLOOKUP(P307,'Townwide Contributions'!$A$9:$B$361,2,0)","v":"Templeton"},"TEMPLETON                    "]
[236,null,"236 Pittsfield",236,"Pittsfield",236,"0236",null,null,null,null,83217,17,832,"MONTACHUSETT",328,{"$f":"VLOOKUP(P308,'Townwide Contributions'!$A$9:$B$361,2,0)","v":"Westminster"},"WESTMINSTER                  "]
[237,null,"237 Plainfield",237,"Plainfield",237,"0237",null,null,null,null,83218,18,832,"MONTACHUSETT",343,{"$f":"VLOOKUP(P309,'Townwide Contributions'!$A$9:$B$361,2,0)","v":"Winchendon"},"WINCHENDON                   "]
[238,null,"238 Plainville",238,"Plainville",238,"0238",null,null,null,null,85101,1,851,"NORTHERN BERKSHIRE",4,{"$f":"VLOOKUP(P310,'Townwide Contributions'!$A$9:$B$361,2,0)","v":"Adams"},"ADAMS                        "]
[239,null,"239 Plymouth",239,"Plymouth",239,"0239",null,null,null,null,85102,2,851,"NORTHERN BERKSHIRE",58,{"$f":"VLOOKUP(P311,'Townwide Contributions'!$A$9:$B$361,2,0)","v":"Cheshire"},"CHESHIRE"]
[240,null,"240 Plympton",240,"Plympton",240,"0240",null,null,null,null,85103,3,851,"NORTHERN BERKSHIRE",63,{"$f":"VLOOKUP(P312,'Townwide Contributions'!$A$9:$B$361,2,0)","v":"Clarksburg"},"CLARKSBURG                   "]
[241,null,"241 Princeton",241,"Princeton",241,"0241",null,null,null,null,85104,4,851,"NORTHERN BERKSHIRE",98,{"$f":"VLOOKUP(P313,'Townwide Contributions'!$A$9:$B$361,2,0)","v":"Florida"},"FLORIDA                      "]
[242,null,"242 Provincetown",242,"Provincetown",242,"0242",null,null,null,null,85105,5,851,"NORTHERN BERKSHIRE",148,{"$f":"VLOOKUP(P314,'Townwide Contributions'!$A$9:$B$361,2,0)","v":"Lanesborough"},"LANESBOROUGH                 "]
[400,null,"753 Quabbin",753,"Quabbin",753,"0753",null,null,null,null,85106,6,851,"NORTHERN BERKSHIRE",190,{"$f":"VLOOKUP(P315,'Townwide Contributions'!$A$9:$B$361,2,0)","v":"Monroe"},"MONROE                       "]
[411,null,"778 Quaboag",778,"Quaboag",778,"0778",null,null,null,null,85107,7,851,"NORTHERN BERKSHIRE",209,{"$f":"VLOOKUP(P316,'Townwide Contributions'!$A$9:$B$361,2,0)","v":"North Adams"},"NORTH ADAMS                  "]
[243,null,"243 Quincy",243,"Quincy",243,"0243",null,null,null,null,85108,8,851,"NORTHERN BERKSHIRE",263,{"$f":"VLOOKUP(P317,'Townwide Contributions'!$A$9:$B$361,2,0)","v":"Savoy"},"SAVOY                        "]
[401,null,"755 Ralph C Mahar",755,"Ralph C Mahar",755,"0755",null,null,null,null,85109,9,851,"NORTHERN BERKSHIRE",341,{"$f":"VLOOKUP(P318,'Townwide Contributions'!$A$9:$B$361,2,0)","v":"Williamstown"},"WILLIAMSTOWN                 "]
[244,null,"244 Randolph",244,"Randolph",244,"0244",null,null,null,null,85201,1,852,"NASHOBA VALLEY",19,{"$f":"VLOOKUP(P319,'Townwide Contributions'!$A$9:$B$361,2,0)","v":"Ayer"},"AYER"]
[245,null,"245 Raynham",245,"Raynham",245,"0245",null,null,null,null,85202,2,852,"NASHOBA VALLEY",56,{"$f":"VLOOKUP(P320,'Townwide Contributions'!$A$9:$B$361,2,0)","v":"Chelmsford"},"CHELMSFORD                   "]
[246,null,"246 Reading",246,"Reading",246,"0246",null,null,null,null,85203,3,852,"NASHOBA VALLEY",115,{"$f":"VLOOKUP(P321,'Townwide Contributions'!$A$9:$B$361,2,0)","v":"Groton"},"GROTON                       "]
[247,null,"247 Rehoboth",247,"Rehoboth",247,"0247",null,null,null,null,85204,4,852,"NASHOBA VALLEY",158,{"$f":"VLOOKUP(P322,'Townwide Contributions'!$A$9:$B$361,2,0)","v":"Littleton"},"LITTLETON                    "]
[248,null,"248 Revere",248,"Revere",248,"0248",null,null,null,null,85205,5,852,"NASHOBA VALLEY",232,{"$f":"VLOOKUP(P323,'Townwide Contributions'!$A$9:$B$361,2,0)","v":"Pepperell"},"PEPPERELL                    "]
[249,null,"249 Richmond",249,"Richmond",249,"0249",null,null,null,null,85206,6,852,"NASHOBA VALLEY",270,{"$f":"VLOOKUP(P324,'Townwide Contributions'!$A$9:$B$361,2,0)","v":"Shirley"},"SHIRLEY                      "]
[250,null,"250 Rochester",250,"Rochester",250,"0250",null,null,null,null,85207,7,852,"NASHOBA VALLEY",299,{"$f":"VLOOKUP(P325,'Townwide Contributions'!$A$9:$B$361,2,0)","v":"Townsend"},"TOWNSEND                     "]
[251,null,{"$f":"PROPER(D326&\" \"&E326)","v":"251 Rockland"},251,"Rockland",251,"0251",null,null,null,null,85208,8,852,"NASHOBA VALLEY",326,{"$f":"VLOOKUP(P326,'Townwide Contributions'!$A$9:$B$361,2,0)","v":"Westford"},"WESTFORD                     "]
[252,null,"252 Rockport",252,"Rockport",252,"0252",null,null,null,null,85301,1,853,"NORTHEAST METROPOLITAN",57,{"$f":"VLOOKUP(P327,'Townwide Contributions'!$A$9:$B$361,2,0)","v":"Chelsea"},"CHELSEA                      "]
[253,null,"253 Rowe",253,"Rowe",253,"0253",null,null,null,null,85302,2,853,"NORTHEAST METROPOLITAN",165,{"$f":"VLOOKUP(P328,'Townwide Contributions'!$A$9:$B$361,2,0)","v":"Malden"},"MALDEN                       "]
[254,null,"254 Rowley",254,"Rowley",254,"0254",null,null,null,null,85303,3,853,"NORTHEAST METROPOLITAN",178,{"$f":"VLOOKUP(P329,'Townwide Contributions'!$A$9:$B$361,2,0)","v":"Melrose"},"MELROSE                      "]
[255,null,"255 Royalston",255,"Royalston",255,"0255",null,null,null,null,85304,4,853,"NORTHEAST METROPOLITAN",217,{"$f":"VLOOKUP(P330,'Townwide Contributions'!$A$9:$B$361,2,0)","v":"North Reading"},"NORTH READING                "]
[256,null,"256 Russell",256,"Russell",256,"0256",null,null,null,null,85305,5,853,"NORTHEAST METROPOLITAN",246,{"$f":"VLOOKUP(P331,'Townwide Contributions'!$A$9:$B$361,2,0)","v":"Reading"},"READING                      "]
[257,null,"257 Rutland",257,"Rutland",257,"0257",null,null,null,null,85306,6,853,"NORTHEAST METROPOLITAN",248,{"$f":"VLOOKUP(P332,'Townwide Contributions'!$A$9:$B$361,2,0)","v":"Revere"},"REVERE                       "]
[258,null,"258 Salem",258,"Salem",258,"0258",null,null,null,null,85307,7,853,"NORTHEAST METROPOLITAN",262,{"$f":"VLOOKUP(P333,'Townwide Contributions'!$A$9:$B$361,2,0)","v":"Saugus"},"SAUGUS                       "]
[259,null,"259 Salisbury",259,"Salisbury",259,"0259",null,null,null,null,85308,8,853,"NORTHEAST METROPOLITAN",284,{"$f":"VLOOKUP(P334,'Townwide Contributions'!$A$9:$B$361,2,0)","v":"Stoneham"},"STONEHAM                     "]
[260,null,"260 Sandisfield",260,"Sandisfield",260,"0260",null,null,null,null,85309,9,853,"NORTHEAST METROPOLITAN",305,{"$f":"VLOOKUP(P335,'Townwide Contributions'!$A$9:$B$361,2,0)","v":"Wakefield"},"WAKEFIELD                    "]
[261,null,"261 Sandwich",261,"Sandwich",261,"0261",null,null,null,null,85310,10,853,"NORTHEAST METROPOLITAN",344,{"$f":"VLOOKUP(P336,'Townwide Contributions'!$A$9:$B$361,2,0)","v":"Winchester"},"WINCHESTER                   "]
[262,null,"262 Saugus",262,"Saugus",262,"0262",null,null,null,null,85311,11,853,"NORTHEAST METROPOLITAN",346,{"$f":"VLOOKUP(P337,'Townwide Contributions'!$A$9:$B$361,2,0)","v":"Winthrop"},"WINTHROP                     "]
[263,null,"263 Savoy",263,"Savoy",263,"0263",null,null,null,null,85312,12,853,"NORTHEAST METROPOLITAN",347,{"$f":"VLOOKUP(P338,'Townwide Contributions'!$A$9:$B$361,2,0)","v":"Woburn"},"WOBURN"]
[264,null,"264 Scituate",264,"Scituate",264,"0264",null,null,null,null,85501,1,855,"OLD COLONY",3,{"$f":"VLOOKUP(P339,'Townwide Contributions'!$A$9:$B$361,2,0)","v":"Acushnet"},"ACUSHNET                     "]
[265,null,"265 Seekonk",265,"Seekonk",265,"0265",null,null,null,null,85502,2,855,"OLD COLONY",52,{"$f":"VLOOKUP(P340,'Townwide Contributions'!$A$9:$B$361,2,0)","v":"Carver"},"CARVER                       "]
[266,null,{"$f":"PROPER(D341&\" \"&E341)","v":"266 Sharon"},266,"Sharon",266,"0266",null,null,null,null,85503,3,855,"OLD COLONY",146,{"$f":"VLOOKUP(P341,'Townwide Contributions'!$A$9:$B$361,2,0)","v":"Lakeville"},"LAKEVILLE                    "]
[432,null,"871 Shawsheen Valley",871,"Shawsheen Valley",871,"0871",null,null,null,null,85504,4,855,"OLD COLONY",173,{"$f":"VLOOKUP(P342,'Townwide Contributions'!$A$9:$B$361,2,0)","v":"Mattapoisett"},"MATTAPOISETT                 "]
[267,null,"267 Sheffield",267,"Sheffield",267,"0267",null,null,null,null,85505,5,855,"OLD COLONY",250,{"$f":"VLOOKUP(P343,'Townwide Contributions'!$A$9:$B$361,2,0)","v":"Rochester"},"ROCHESTER                    "]
[268,null,"268 Shelburne",268,"Shelburne",268,"0268",null,null,null,null,86001,1,860,"PATHFINDER",24,{"$f":"VLOOKUP(P344,'Townwide Contributions'!$A$9:$B$361,2,0)","v":"Belchertown"},"BELCHERTOWN                  "]
[269,null,"269 Sherborn",269,"Sherborn",269,"0269",null,null,null,null,86002,2,860,"PATHFINDER",111,{"$f":"VLOOKUP(P345,'Townwide Contributions'!$A$9:$B$361,2,0)","v":"Granby"},"GRANBY                       "]
[270,null,"270 Shirley",270,"Shirley",270,"0270",null,null,null,null,86003,3,860,"PATHFINDER",124,{"$f":"VLOOKUP(P346,'Townwide Contributions'!$A$9:$B$361,2,0)","v":"Hardwick"},"HARDWICK                     "]
[271,null,"271 Shrewsbury",271,"Shrewsbury",271,"0271",null,null,null,null,86004,4,860,"PATHFINDER",191,{"$f":"VLOOKUP(P347,'Townwide Contributions'!$A$9:$B$361,2,0)","v":"Monson"},"MONSON                       "]
[272,null,"272 Shutesbury",272,"Shutesbury",272,"0272",null,null,null,null,86005,5,860,"PATHFINDER",202,{"$f":"VLOOKUP(P348,'Townwide Contributions'!$A$9:$B$361,2,0)","v":"New Braintree"},"NEW BRAINTREE                "]
[402,null,"760 Silver Lake",760,"Silver Lake",760,"0760",null,null,null,null,86006,6,860,"PATHFINDER",222,{"$f":"VLOOKUP(P349,'Townwide Contributions'!$A$9:$B$361,2,0)","v":"Oakham"},"OAKHAM                       "]
[273,null,"273 Somerset",273,"Somerset",273,"0273",null,null,null,null,86007,7,860,"PATHFINDER",227,{"$f":"VLOOKUP(P350,'Townwide Contributions'!$A$9:$B$361,2,0)","v":"Palmer"},"PALMER                       "]
[403,null,"763 Somerset Berkley",763,"Somerset Berkley",763,"0763",null,null,null,null,86008,8,860,"PATHFINDER",309,{"$f":"VLOOKUP(P351,'Townwide Contributions'!$A$9:$B$361,2,0)","v":"Ware"},"WARE                         "]
[274,null,"274 Somerville",274,"Somerville",274,"0274",null,null,null,null,86009,9,860,"PATHFINDER",311,{"$f":"VLOOKUP(P352,'Townwide Contributions'!$A$9:$B$361,2,0)","v":"Warren"},"WARREN                       "]
[278,null,"278 South Hadley",278,"South Hadley",278,"0278",null,null,null,null,87101,1,871,"SHAWSHEEN VALLEY",23,{"$f":"VLOOKUP(P353,'Townwide Contributions'!$A$9:$B$361,2,0)","v":"Bedford"},"BEDFORD                      "]
[424,null,"829 South Middlesex",829,"South Middlesex",829,"0829",null,null,null,null,87102,2,871,"SHAWSHEEN VALLEY",31,{"$f":"VLOOKUP(P354,'Townwide Contributions'!$A$9:$B$361,2,0)","v":"Billerica"},"BILLERICA                    "]
[434,null,"873 South Shore",873,"South Shore",873,"0873",null,null,null,null,87103,3,871,"SHAWSHEEN VALLEY",48,{"$f":"VLOOKUP(P355,'Townwide Contributions'!$A$9:$B$361,2,0)","v":"Burlington"},"BURLINGTON                   "]
[275,null,"275 Southampton",275,"Southampton",275,"0275",null,null,null,null,87104,4,871,"SHAWSHEEN VALLEY",295,{"$f":"VLOOKUP(P356,'Townwide Contributions'!$A$9:$B$361,2,0)","v":"Tewksbury"},"TEWKSBURY                    "]
[276,null,"276 Southborough",276,"Southborough",276,"0276",88,null,null,null,87105,5,871,"SHAWSHEEN VALLEY",342,{"$f":"VLOOKUP(P357,'Townwide Contributions'!$A$9:$B$361,2,0)","v":"Wilmington"},"WILMINGTON                   "]
[277,null,"277 Southbridge",277,"Southbridge",277,"0277",{"$f":"B358","v":0},null,null,null,87201,1,872,"SOUTHEASTERN",44,{"$f":"VLOOKUP(P358,'Townwide Contributions'!$A$9:$B$361,2,0)","v":"Brockton"},"BROCKTON                     "]
[433,null,"872 Southeastern",872,"Southeastern",872,"0872",{"$f":"B359","v":0},null,null,null,87202,2,872,"SOUTHEASTERN",83,{"$f":"VLOOKUP(P359,'Townwide Contributions'!$A$9:$B$361,2,0)","v":"East Bridgewater"},"EAST BRIDGEWATER             "]
[404,null,"765 Southern Berkshire",765,"Southern Berkshire",765,"0765",0,null,null,null,87203,3,872,"SOUTHEASTERN",88,{"$f":"VLOOKUP(P360,'Townwide Contributions'!$A$9:$B$361,2,0)","v":"Easton"},"EASTON                       "]
[435,null,"876 Southern Worcester",876,"Southern Worcester",876,"0876",0,null,null,null,87204,4,872,"SOUTHEASTERN",99,{"$f":"VLOOKUP(P361,'Townwide Contributions'!$A$9:$B$361,2,0)","v":"Foxborough"},"FOXBOROUGH                   "]
[279,null,"279 Southwick",279,"Southwick",279,"0279",0,null,null,null,87205,5,872,"SOUTHEASTERN",167,{"$f":"VLOOKUP(P362,'Townwide Contributions'!$A$9:$B$361,2,0)","v":"Mansfield"},"MANSFIELD                    "]
[405,null,"766 Southwick Tolland Granville",766,"Southwick Tolland Granville",766,"0766",0,null,null,null,87206,6,872,"SOUTHEASTERN",218,{"$f":"VLOOKUP(P363,'Townwide Contributions'!$A$9:$B$361,2,0)","v":"Norton"},"NORTON                       "]
[280,null,"280 Spencer",280,"Spencer",280,"0280",0,null,null,null,87207,7,872,"SOUTHEASTERN",266,{"$f":"VLOOKUP(P364,'Townwide Contributions'!$A$9:$B$361,2,0)","v":"Sharon"},"SHARON                       "]
[406,null,"767 Spencer East Brookfield",767,"Spencer East Brookfield",767,"0767",0,null,null,null,87208,8,872,"SOUTHEASTERN",285,{"$f":"VLOOKUP(P365,'Townwide Contributions'!$A$9:$B$361,2,0)","v":"Stoughton"},"STOUGHTON                    "]
[281,null,"281 Springfield",281,"Springfield",281,"0281",0,null,null,null,87209,9,872,"SOUTHEASTERN",323,{"$f":"VLOOKUP(P366,'Townwide Contributions'!$A$9:$B$361,2,0)","v":"West Bridgewater"},"WEST BRIDGEWATER             "]
[282,null,"282 Sterling",282,"Sterling",282,"0282",0,null,null,null,87301,1,873,"SOUTH SHORE",1,{"$f":"VLOOKUP(P367,'Townwide Contributions'!$A$9:$B$361,2,0)","v":"Abington"},"ABINGTON                     "]
[283,null,"283 Stockbridge",283,"Stockbridge",283,"0283",0,null,null,null,87302,2,873,"SOUTH SHORE",65,{"$f":"VLOOKUP(P368,'Townwide Contributions'!$A$9:$B$361,2,0)","v":"Cohasset"},"COHASSET                     "]
[284,null,"284 Stoneham",284,"Stoneham",284,"0284",0,null,null,null,87303,3,873,"SOUTH SHORE",122,{"$f":"VLOOKUP(P369,'Townwide Contributions'!$A$9:$B$361,2,0)","v":"Hanover"},"HANOVER                      "]
[285,null,"285 Stoughton",285,"Stoughton",285,"0285",0,null,null,null,87304,4,873,"SOUTH SHORE",123,{"$f":"VLOOKUP(P370,'Townwide Contributions'!$A$9:$B$361,2,0)","v":"Hanson"},"HANSON                       "]
[286,null,"286 Stow",286,"Stow",286,"0286",0,null,null,null,87305,5,873,"SOUTH SHORE",219,{"$f":"VLOOKUP(P371,'Townwide Contributions'!$A$9:$B$361,2,0)","v":"Norwell"},"NORWELL                      "]
[287,null,"287 Sturbridge",287,"Sturbridge",287,"0287",0,null,null,null,87306,6,873,"SOUTH SHORE",251,{"$f":"VLOOKUP(P372,'Townwide Contributions'!$A$9:$B$361,2,0)","v":"Rockland"},"ROCKLAND                     "]
[288,null,{"$f":"PROPER(D373&\" \"&E373)","v":"288 Sudbury"},288,"Sudbury",288,"0288",0,null,null,null,87307,7,873,"SOUTH SHORE",264,{"$f":"VLOOKUP(P373,'Townwide Contributions'!$A$9:$B$361,2,0)","v":"Scituate"},"SCITUATE                     "]
[289,null,"289 Sunderland",289,"Sunderland",289,"0289",0,null,null,null,87308,8,873,"SOUTH SHORE",338,{"$f":"VLOOKUP(P374,'Townwide Contributions'!$A$9:$B$361,2,0)","v":"Whitman"},"WHITMAN                      "]
[290,null,"290 Sutton",290,"Sutton",290,"0290",0,null,null,null,87601,1,876,"SOUTHERN WORCESTER",17,{"$f":"VLOOKUP(P375,'Townwide Contributions'!$A$9:$B$361,2,0)","v":"Auburn"},"AUBURN                       "]
[291,null,"291 Swampscott",291,"Swampscott",291,"0291",0,null,null,null,87602,2,876,"SOUTHERN WORCESTER",54,{"$f":"VLOOKUP(P376,'Townwide Contributions'!$A$9:$B$361,2,0)","v":"Charlton"},"CHARLTON                     "]
[292,null,"292 Swansea",292,"Swansea",292,"0292",0,null,null,null,87603,3,876,"SOUTHERN WORCESTER",80,{"$f":"VLOOKUP(P377,'Townwide Contributions'!$A$9:$B$361,2,0)","v":"Dudley"},"DUDLEY                       "]
[407,null,"770 Tantasqua",770,"Tantasqua",770,"0770",0,null,null,null,87604,4,876,"SOUTHERN WORCESTER",215,{"$f":"VLOOKUP(P378,'Townwide Contributions'!$A$9:$B$361,2,0)","v":"North Brookfield"},"NORTH BROOKFIELD             "]
[293,null,"293 Taunton",293,"Taunton",293,"0293",0,null,null,null,87605,5,876,"SOUTHERN WORCESTER",226,{"$f":"VLOOKUP(P379,'Townwide Contributions'!$A$9:$B$361,2,0)","v":"Oxford"},"OXFORD                       "]
[294,null,"294 Templeton",294,"Templeton",294,"0294",0,null,null,null,87606,6,876,"SOUTHERN WORCESTER",228,{"$f":"VLOOKUP(P380,'Townwide Contributions'!$A$9:$B$361,2,0)","v":"Paxton"},"PAXTON                       "]
[295,null,"295 Tewksbury",295,"Tewksbury",295,"0295",0,null,null,null,87607,7,876,"SOUTHERN WORCESTER",257,{"$f":"VLOOKUP(P381,'Townwide Contributions'!$A$9:$B$361,2,0)","v":"Rutland"},"RUTLAND                      "]
[296,null,"296 Tisbury",296,"Tisbury",296,"0296",0,null,null,null,87608,8,876,"SOUTHERN WORCESTER",277,{"$f":"VLOOKUP(P382,'Townwide Contributions'!$A$9:$B$361,2,0)","v":"Southbridge"},"SOUTHBRIDGE                  "]
[297,null,"297 Tolland",297,"Tolland",297,"0297",0,null,null,null,87609,9,876,"SOUTHERN WORCESTER",280,{"$f":"VLOOKUP(P383,'Townwide Contributions'!$A$9:$B$361,2,0)","v":"Spencer"},"SPENCER                      "]
[298,null,"298 Topsfield",298,"Topsfield",298,"0298",0,null,null,null,87610,10,876,"SOUTHERN WORCESTER",316,{"$f":"VLOOKUP(P384,'Townwide Contributions'!$A$9:$B$361,2,0)","v":"Webster"},"WEBSTER                      "]
[299,null,"299 Townsend",299,"Townsend",299,"0299",0,null,null,null,87801,1,878,"TRI COUNTY",101,{"$f":"VLOOKUP(P385,'Townwide Contributions'!$A$9:$B$361,2,0)","v":"Franklin"},"FRANKLIN                     "]
[436,null,"878 Tri County",878,"Tri County",878,"0878",0,null,null,null,87802,2,878,"TRI COUNTY",175,{"$f":"VLOOKUP(P386,'Townwide Contributions'!$A$9:$B$361,2,0)","v":"Medfield"},"MEDFIELD                     "]
[408,null,"773 Triton",773,"Triton",773,"0773",0,null,null,null,87803,3,878,"TRI COUNTY",177,{"$f":"VLOOKUP(P387,'Townwide Contributions'!$A$9:$B$361,2,0)","v":"Medway"},"MEDWAY                       "]
[300,null,"300 Truro",300,"Truro",300,"0300",0,null,null,null,87804,4,878,"TRI COUNTY",187,{"$f":"VLOOKUP(P388,'Townwide Contributions'!$A$9:$B$361,2,0)","v":"Millis"},"MILLIS                       "]
[301,null,"301 Tyngsborough",301,"Tyngsborough",301,"0301",0,null,null,null,87805,5,878,"TRI COUNTY",208,{"$f":"VLOOKUP(P389,'Townwide Contributions'!$A$9:$B$361,2,0)","v":"Norfolk"},"NORFOLK                      "]
[302,null,"302 Tyringham",302,"Tyringham",302,"0302",0,null,null,null,87806,6,878,"TRI COUNTY",212,{"$f":"VLOOKUP(P390,'Townwide Contributions'!$A$9:$B$361,2,0)","v":"North Attleborough"},"NORTH ATTLEBOROUGH           "]
[409,null,"774 Upisland",774,"Upisland",774,"0774",0,null,null,null,87807,7,878,"TRI COUNTY",238,{"$f":"VLOOKUP(P391,'Townwide Contributions'!$A$9:$B$361,2,0)","v":"Plainville"},"PLAINVILLE                   "]
[437,null,"879 Upper Cape Cod",879,"Upper Cape Cod",879,"0879",0,null,null,null,87808,8,878,"TRI COUNTY",265,{"$f":"VLOOKUP(P392,'Townwide Contributions'!$A$9:$B$361,2,0)","v":"Seekonk"},"SEEKONK                      "]
[303,null,"303 Upton",303,"Upton",303,"0303",0,null,null,null,87809,9,878,"TRI COUNTY",269,{"$f":"VLOOKUP(P393,'Townwide Contributions'!$A$9:$B$361,2,0)","v":"Sherborn"},"SHERBORN                     "]
[304,null,"304 Uxbridge",304,"Uxbridge",304,"0304",0,null,null,null,87810,10,878,"TRI COUNTY",307,{"$f":"VLOOKUP(P394,'Townwide Contributions'!$A$9:$B$361,2,0)","v":"Walpole"},"WALPOLE                      "]
[410,null,"775 Wachusett",775,"Wachusett",775,"0775",0,null,null,null,87811,11,878,"TRI COUNTY",350,{"$f":"VLOOKUP(P395,'Townwide Contributions'!$A$9:$B$361,2,0)","v":"Wrentham"},"WRENTHAM                     "]
[305,null,"305 Wakefield",305,"Wakefield",305,"0305",0,null,null,null,87901,1,879,"UPPER CAPE COD",36,{"$f":"VLOOKUP(P396,'Townwide Contributions'!$A$9:$B$361,2,0)","v":"Bourne"},"BOURNE                       "]
[306,null,"306 Wales",306,"Wales",306,"0306",0,null,null,null,87902,2,879,"UPPER CAPE COD",96,{"$f":"VLOOKUP(P397,'Townwide Contributions'!$A$9:$B$361,2,0)","v":"Falmouth"},"FALMOUTH                     "]
[307,null,"307 Walpole",307,"Walpole",307,"0307",0,null,null,null,87903,3,879,"UPPER CAPE COD",169,{"$f":"VLOOKUP(P398,'Townwide Contributions'!$A$9:$B$361,2,0)","v":"Marion"},"MARION                       "]
[308,null,"308 Waltham",308,"Waltham",308,"0308",0,null,null,null,87904,4,879,"UPPER CAPE COD",261,{"$f":"VLOOKUP(P399,'Townwide Contributions'!$A$9:$B$361,2,0)","v":"Sandwich"},"SANDWICH                     "]
[309,null,"309 Ware",309,"Ware",309,"0309",0,null,null,null,87905,5,879,"UPPER CAPE COD",310,{"$f":"VLOOKUP(P400,'Townwide Contributions'!$A$9:$B$361,2,0)","v":"Wareham"},"WAREHAM                      "]
[310,null,"310 Wareham",310,"Wareham",310,"0310",0,null,null,null,88501,1,885,"WHITTIER",7,{"$f":"VLOOKUP(P401,'Townwide Contributions'!$A$9:$B$361,2,0)","v":"Amesbury"},"AMESBURY                     "]
[311,null,"311 Warren",311,"Warren",311,"0311",0,null,null,null,88502,2,885,"WHITTIER",105,{"$f":"VLOOKUP(P402,'Townwide Contributions'!$A$9:$B$361,2,0)","v":"Georgetown"},"GEORGETOWN                   "]
[312,null,"312 Warwick",312,"Warwick",312,"0312",0,null,null,null,88503,3,885,"WHITTIER",116,{"$f":"VLOOKUP(P403,'Townwide Contributions'!$A$9:$B$361,2,0)","v":"Groveland"},"GROVELAND                    "]
[313,null,"313 Washington",313,"Washington",313,"0313",0,null,null,null,88504,4,885,"WHITTIER",128,{"$f":"VLOOKUP(P404,'Townwide Contributions'!$A$9:$B$361,2,0)","v":"Haverhill"},"HAVERHILL                    "]
[314,null,{"$f":"PROPER(D405&\" \"&E405)","v":"314 Watertown"},314,"Watertown",314,"0314",0,null,null,null,88505,5,885,"WHITTIER",144,{"$f":"VLOOKUP(P405,'Townwide Contributions'!$A$9:$B$361,2,0)","v":"Ipswich"},"IPSWICH                      "]
[315,null,"315 Wayland",315,"Wayland",315,"0315",0,null,null,null,88506,6,885,"WHITTIER",180,{"$f":"VLOOKUP(P406,'Townwide Contributions'!$A$9:$B$361,2,0)","v":"Merrimac"},"MERRIMAC                     "]
[316,null,"316 Webster",316,"Webster",316,"0316",0,null,null,null,88507,7,885,"WHITTIER",203,{"$f":"VLOOKUP(P407,'Townwide Contributions'!$A$9:$B$361,2,0)","v":"Newbury"},"NEWBURY                      "]
[317,null,"317 Wellesley",317,"Wellesley",317,"0317",0,null,null,null,88508,8,885,"WHITTIER",204,{"$f":"VLOOKUP(P408,'Townwide Contributions'!$A$9:$B$361,2,0)","v":"Newburyport"},"NEWBURYPORT                  "]
[318,null,"318 Wellfleet",318,"Wellfleet",318,"0318",0,null,null,null,88509,9,885,"WHITTIER",254,{"$f":"VLOOKUP(P409,'Townwide Contributions'!$A$9:$B$361,2,0)","v":"Rowley"},"ROWLEY                       "]
[319,null,"319 Wendell",319,"Wendell",319,"0319",0,null,null,null,88510,10,885,"WHITTIER",259,{"$f":"VLOOKUP(P410,'Townwide Contributions'!$A$9:$B$361,2,0)","v":"Salisbury"},"SALISBURY                    "]
[320,null,"320 Wenham",320,"Wenham",320,"0320",0,null,null,null,88511,11,885,"WHITTIER",329,{"$f":"VLOOKUP(P411,'Townwide Contributions'!$A$9:$B$361,2,0)","v":"West Newbury"},"WEST NEWBURY                 "]
[322,null,"322 West Boylston",322,"West Boylston",322,"0322",0,null,null,null,91001,1,910,"BRISTOL COUNTY",3,{"$f":"VLOOKUP(P412,'Townwide Contributions'!$A$9:$B$361,2,0)","v":"Acushnet"},"ACUSHNET                     "]
[323,null,"323 West Bridgewater",323,"West Bridgewater",323,"0323",0,null,null,null,91002,2,910,"BRISTOL COUNTY",16,{"$f":"VLOOKUP(P413,'Townwide Contributions'!$A$9:$B$361,2,0)","v":"Attleboro"},"ATTLEBORO                    "]
[324,null,"324 West Brookfield",324,"West Brookfield",324,"0324",0,null,null,null,91003,3,910,"BRISTOL COUNTY",27,{"$f":"VLOOKUP(P414,'Townwide Contributions'!$A$9:$B$361,2,0)","v":"Berkley"},"BERKLEY                      "]
[329,null,"329 West Newbury",329,"West Newbury",329,"0329",0,null,null,null,91004,4,910,"BRISTOL COUNTY",72,{"$f":"VLOOKUP(P415,'Townwide Contributions'!$A$9:$B$361,2,0)","v":"Dartmouth"},"DARTMOUTH                    "]
[332,null,"332 West Springfield",332,"West Springfield",332,"0332",0,null,null,null,91005,5,910,"BRISTOL COUNTY",76,{"$f":"VLOOKUP(P416,'Townwide Contributions'!$A$9:$B$361,2,0)","v":"Dighton"},"DIGHTON                      "]
[333,null,"333 West Stockbridge",333,"West Stockbridge",333,"0333",0,null,null,null,91006,6,910,"BRISTOL COUNTY",88,{"$f":"VLOOKUP(P417,'Townwide Contributions'!$A$9:$B$361,2,0)","v":"Easton"},"EASTON                       "]
[334,null,"334 West Tisbury",334,"West Tisbury",334,"0334",0,null,null,null,91007,7,910,"BRISTOL COUNTY",94,{"$f":"VLOOKUP(P418,'Townwide Contributions'!$A$9:$B$361,2,0)","v":"Fairhaven"},"FAIRHAVEN                    "]
[321,null,"321 Westborough",321,"Westborough",321,"0321",0,null,null,null,91008,8,910,"BRISTOL COUNTY",95,{"$f":"VLOOKUP(P419,'Townwide Contributions'!$A$9:$B$361,2,0)","v":"Fall River"},"FALL RIVER                   "]
[325,null,"325 Westfield",325,"Westfield",325,"0325",0,null,null,null,91009,9,910,"BRISTOL COUNTY",102,{"$f":"VLOOKUP(P420,'Townwide Contributions'!$A$9:$B$361,2,0)","v":"Freetown"},"FREETOWN                     "]
[326,null,"326 Westford",326,"Westford",326,"0326",0,null,null,null,91010,10,910,"BRISTOL COUNTY",167,{"$f":"VLOOKUP(P421,'Townwide Contributions'!$A$9:$B$361,2,0)","v":"Mansfield"},"MANSFIELD                    "]
[327,null,"327 Westhampton",327,"Westhampton",327,"0327",0,null,null,null,91011,11,910,"BRISTOL COUNTY",201,{"$f":"VLOOKUP(P422,'Townwide Contributions'!$A$9:$B$361,2,0)","v":"New Bedford"},"NEW BEDFORD                  "]
[328,null,"328 Westminster",328,"Westminster",328,"0328",{"$f":"B423","v":0},null,null,null,91012,12,910,"BRISTOL COUNTY",212,{"$f":"VLOOKUP(P423,'Townwide Contributions'!$A$9:$B$361,2,0)","v":"North Attleborough"},"NORTH ATTLEBOROUGH           "]
[330,null,"330 Weston",330,"Weston",330,"0330",0,null,null,null,91013,13,910,"BRISTOL COUNTY",218,{"$f":"VLOOKUP(P424,'Townwide Contributions'!$A$9:$B$361,2,0)","v":"Norton"},"NORTON                       "]
[331,null,"331 Westport",331,"Westport",331,"0331",0,null,null,null,91014,14,910,"BRISTOL COUNTY",245,{"$f":"VLOOKUP(P425,'Townwide Contributions'!$A$9:$B$361,2,0)","v":"Raynham"},"RAYNHAM                      "]
[335,null,"335 Westwood",335,"Westwood",335,"0335",0,null,null,null,91015,15,910,"BRISTOL COUNTY",247,{"$f":"VLOOKUP(P426,'Townwide Contributions'!$A$9:$B$361,2,0)","v":"Rehoboth"},"REHOBOTH                     "]
[336,null,"336 Weymouth",336,"Weymouth",336,"0336",0,null,null,null,91016,16,910,"BRISTOL COUNTY",265,{"$f":"VLOOKUP(P427,'Townwide Contributions'!$A$9:$B$361,2,0)","v":"Seekonk"},"SEEKONK                      "]
[337,null,"337 Whately",337,"Whately",337,"0337",0,null,null,null,91017,17,910,"BRISTOL COUNTY",273,{"$f":"VLOOKUP(P428,'Townwide Contributions'!$A$9:$B$361,2,0)","v":"Somerset"},"SOMERSET                     "]
[338,null,"338 Whitman",338,"Whitman",338,"0338",0,null,null,null,91018,18,910,"BRISTOL COUNTY",292,{"$f":"VLOOKUP(P429,'Townwide Contributions'!$A$9:$B$361,2,0)","v":"Swansea"},"SWANSEA                      "]
[412,null,"780 Whitman Hanson",780,"Whitman Hanson",780,"0780",0,null,null,null,91019,19,910,"BRISTOL COUNTY",293,{"$f":"VLOOKUP(P430,'Townwide Contributions'!$A$9:$B$361,2,0)","v":"Taunton"},"TAUNTON                      "]
[438,null,"885 Whittier",885,"Whittier",885,"0885",0,null,null,null,91020,20,910,"BRISTOL COUNTY",331,{"$f":"VLOOKUP(P431,'Townwide Contributions'!$A$9:$B$361,2,0)","v":"Westport"},"WESTPORT                     "]
[339,null,"339 Wilbraham",339,"Wilbraham",339,"0339",0,null,null,null,91501,1,915,"NORFOLK COUNTY",18,{"$f":"VLOOKUP(P432,'Townwide Contributions'!$A$9:$B$361,2,0)","v":"Avon"},"AVON                         "]
[340,null,"340 Williamsburg",340,"Williamsburg",340,"0340",0,null,null,null,91502,2,915,"NORFOLK COUNTY",25,{"$f":"VLOOKUP(P433,'Townwide Contributions'!$A$9:$B$361,2,0)","v":"Bellingham"},"BELLINGHAM                   "]
[341,null,"341 Williamstown",341,"Williamstown",341,"0341",0,null,null,null,91503,3,915,"NORFOLK COUNTY",40,{"$f":"VLOOKUP(P434,'Townwide Contributions'!$A$9:$B$361,2,0)","v":"Braintree"},"BRAINTREE                    "]
[342,null,"342 Wilmington",342,"Wilmington",342,"0342",0,null,null,null,91504,4,915,"NORFOLK COUNTY",46,{"$f":"VLOOKUP(P435,'Townwide Contributions'!$A$9:$B$361,2,0)","v":"Brookline"},"BROOKLINE                    "]
[343,null,"343 Winchendon",343,"Winchendon",343,"0343",0,null,null,null,91505,5,915,"NORFOLK COUNTY",50,{"$f":"VLOOKUP(P436,'Townwide Contributions'!$A$9:$B$361,2,0)","v":"Canton"},"CANTON                       "]
[344,null,{"$f":"PROPER(D437&\" \"&E437)","v":"344 Winchester"},344,"Winchester",344,"0344",0,null,null,null,91506,6,915,"NORFOLK COUNTY",65,{"$f":"VLOOKUP(P437,'Townwide Contributions'!$A$9:$B$361,2,0)","v":"Cohasset"},"COHASSET                     "]
[345,null,"345 Windsor",345,"Windsor",345,"0345",0,null,null,null,91507,7,915,"NORFOLK COUNTY",73,{"$f":"VLOOKUP(P438,'Townwide Contributions'!$A$9:$B$361,2,0)","v":"Dedham"},"DEDHAM                       "]
[346,null,"346 Winthrop",346,"Winthrop",346,"0346",0,null,null,null,91508,8,915,"NORFOLK COUNTY",78,{"$f":"VLOOKUP(P439,'Townwide Contributions'!$A$9:$B$361,2,0)","v":"Dover"},"DOVER                        "]
[347,null,"347 Woburn",347,"Woburn",347,"0347",0,null,null,null,91509,9,915,"NORFOLK COUNTY",99,{"$f":"VLOOKUP(P440,'Townwide Contributions'!$A$9:$B$361,2,0)","v":"Foxborough"},"FOXBOROUGH                   "]
[348,null,"348 Worcester",348,"Worcester",348,"0348",0,null,null,null,91510,10,915,"NORFOLK COUNTY",101,{"$f":"VLOOKUP(P441,'Townwide Contributions'!$A$9:$B$361,2,0)","v":"Franklin"},"FRANKLIN                     "]
[349,null,"349 Worthington",349,"Worthington",349,"0349",0,null,null,null,91511,11,915,"NORFOLK COUNTY",133,{"$f":"VLOOKUP(P442,'Townwide Contributions'!$A$9:$B$361,2,0)","v":"Holbrook"},"HOLBROOK                     "]
[350,null,"350 Wrentham",350,"Wrentham",350,"0350",0,null,null,null,91512,12,915,"NORFOLK COUNTY",175,{"$f":"VLOOKUP(P443,'Townwide Contributions'!$A$9:$B$361,2,0)","v":"Medfield"},"MEDFIELD                     "]
[351,null,"351 Yarmouth",351,"Yarmouth",351,"0351",0,null,null,null,91513,13,915,"NORFOLK COUNTY",177,{"$f":"VLOOKUP(P444,'Townwide Contributions'!$A$9:$B$361,2,0)","v":"Medway"},"MEDWAY                       "]
[441,null,{"$f":"PROPER(D445&\" \"&E445)","v":"999 State Total"},999,"State Total",999,"0999",88,null,null,null,91514,14,915,"NORFOLK COUNTY",187,{"$f":"VLOOKUP(P445,'Townwide Contributions'!$A$9:$B$361,2,0)","v":"Millis"},"MILLIS                       "]
[null,null,null,null,null,null,null,null,null,null,null,91515,15,915,"NORFOLK COUNTY",189,{"$f":"VLOOKUP(P446,'Townwide Contributions'!$A$9:$B$361,2,0)","v":"Milton"},"MILTON                       "]
[null,null,null,null,null,null,null,null,null,null,null,91516,16,915,"NORFOLK COUNTY",199,{"$f":"VLOOKUP(P447,'Townwide Contributions'!$A$9:$B$361,2,0)","v":"Needham"},"NEEDHAM                      "]
[null,null,null,null,null,null,null,null,null,null,null,91517,17,915,"NORFOLK COUNTY",208,{"$f":"VLOOKUP(P448,'Townwide Contributions'!$A$9:$B$361,2,0)","v":"Norfolk"},"NORFOLK                      "]
[null,88,"Select a regional district",null,"Select a regional district",999,"0999",88,null,null,null,91518,18,915,"NORFOLK COUNTY",220,{"$f":"VLOOKUP(P449,'Townwide Contributions'!$A$9:$B$361,2,0)","v":"Norwood"},"NORWOOD                      "]
[null,1,{"$f":"PROPER(D450&\" \"&E450)","v":"600 Acton Boxborough"},600,"Acton Boxborough",{"$f":"D450","v":600},{"$f":"TEXT(D450,\"0000\")","v":"0600"},{"$f":"B450","v":1},null,null,null,91519,19,915,"NORFOLK COUNTY",238,{"$f":"VLOOKUP(P450,'Townwide Contributions'!$A$9:$B$361,2,0)","v":"Plainville"},"PLAINVILLE                   "]
[null,{"$f":"B450+1","v":2},"605 Amherst Pelham",605,"Amherst Pelham",{"$f":"D451","v":605},{"$f":"TEXT(D451,\"0000\")","v":"0605"},2,null,null,null,91520,20,915,"NORFOLK COUNTY",243,{"$f":"VLOOKUP(P451,'Townwide Contributions'!$A$9:$B$361,2,0)","v":"Quincy"},"QUINCY                       "]
[null,{"$f":"B451+1","v":3},"610 Ashburnham Westminster",610,"Ashburnham Westminster",610,"0610",3,null,null,null,91521,21,915,"NORFOLK COUNTY",244,{"$f":"VLOOKUP(P452,'Townwide Contributions'!$A$9:$B$361,2,0)","v":"Randolph"},"RANDOLPH                     "]
[null,4,"801 Assabet Valley",801,"Assabet Valley",801,"0801",4,null,null,null,91522,22,915,"NORFOLK COUNTY",266,{"$f":"VLOOKUP(P453,'Townwide Contributions'!$A$9:$B$361,2,0)","v":"Sharon"},"SHARON                       "]
[null,5,"615 Athol Royalston",615,"Athol Royalston",615,"0615",5,null,null,null,91523,23,915,"NORFOLK COUNTY",285,{"$f":"VLOOKUP(P454,'Townwide Contributions'!$A$9:$B$361,2,0)","v":"Stoughton"},"STOUGHTON                    "]
[null,6,"616 Ayer Shirley",616,"Ayer Shirley",616,"0616",6,null,null,null,91524,24,915,"NORFOLK COUNTY",307,{"$f":"VLOOKUP(P455,'Townwide Contributions'!$A$9:$B$361,2,0)","v":"Walpole"},"WALPOLE                      "]
[null,7,"618 Berkshire Hills",618,"Berkshire Hills",618,"0618",7,null,null,null,91525,25,915,"NORFOLK COUNTY",317,{"$f":"VLOOKUP(P456,'Townwide Contributions'!$A$9:$B$361,2,0)","v":"Wellesley"},"WELLESLEY                    "]
[null,8,"620 Berlin Boylston",620,"Berlin Boylston",620,"0620",8,null,null,null,91526,26,915,"NORFOLK COUNTY",335,{"$f":"VLOOKUP(P457,'Townwide Contributions'!$A$9:$B$361,2,0)","v":"Westwood"},"WESTWOOD                     "]
[null,9,"622 Blackstone Millville",622,"Blackstone Millville",622,"0622",9,null,null,null,91527,27,915,"NORFOLK COUNTY",336,{"$f":"VLOOKUP(P458,'Townwide Contributions'!$A$9:$B$361,2,0)","v":"Weymouth"},"WEYMOUTH                     "]
[null,10,"805 Blackstone Valley",805,"Blackstone Valley",805,"0805",10,null,null,null,91528,28,915,"NORFOLK COUNTY",350,{"$f":"VLOOKUP(P459,'Townwide Contributions'!$A$9:$B$361,2,0)","v":"Wrentham"},"WRENTHAM                     "]
[null,11,"806 Blue Hills",806,"Blue Hills",806,"0806",11,null,null,null,99901,1,999," "," "," "]
[null,12,"625 Bridgewater Raynham",625,"Bridgewater Raynham",625,"0625",12]
[null,13,"910 Bristol County",910,"Bristol County",910,"0910",13]
[null,14,"810 Bristol Plymouth",810,"Bristol Plymouth",810,"0810",14]
[null,15,"815 Cape Cod",815,"Cape Cod",815,"0815",15]
[null,16,"635 Central Berkshire",635,"Central Berkshire",635,"0635",16]
[null,17,"632 Chesterfield Goshen",632,"Chesterfield Goshen",632,"0632",17]
[null,18,"640 Concord Carlisle",640,"Concord Carlisle",640,"0640",18]
[null,19,"645 Dennis Yarmouth",645,"Dennis Yarmouth",645,"0645",19]
[null,20,"650 Dighton Rehoboth",650,"Dighton Rehoboth",650,"0650",20]
[null,21,"655 Dover Sherborn",655,"Dover Sherborn",655,"0655",21]
[null,22,"658 Dudley Charlton",658,"Dudley Charlton",658,"0658",22]
[null,23,"817 Essex North Shore",817,"Essex North Shore",817,"0817",23]
[null,24,"662 Farmington River",662,"Farmington River",662,"0662",24]
[null,25,"818 Franklin County",818,"Franklin County",818,"0818",25]
[null,26,"665 Freetown Lakeville",665,"Freetown Lakeville",665,"0665",26]
[null,27,"670 Frontier",670,"Frontier",670,"0670",27]
[null,28,"672 Gateway",672,"Gateway",672,"0672",28]
[null,29,"674 Gill Montague",674,"Gill Montague",674,"0674",29]
[null,30,"821 Greater Fall River",821,"Greater Fall River",821,"0821",30]
[null,31,"823 Greater Lawrence",823,"Greater Lawrence",823,"0823",31]
[null,32,"828 Greater Lowell",828,"Greater Lowell",828,"0828",32]
[null,33,{"$f":"PROPER(D482&\" \"&E482)","v":"825 Greater New Bedford"},825,"Greater New Bedford",825,"0825",33]
[null,34,"673 Groton Dunstable",673,"Groton Dunstable",673,"0673",34]
[null,35,"675 Hamilton Wenham",675,"Hamilton Wenham",675,"0675",35]
[null,36,"680 Hampden Wilbraham",680,"Hampden Wilbraham",680,"0680",36]
[null,37,"683 Hampshire",683,"Hampshire",683,"0683",37]
[null,38,"685 Hawlemont",685,"Hawlemont",685,"0685",38]
[null,39,"603 Hoosac Valley",603,"Hoosac Valley",603,"0603",39]
[null,40,"690 King Philip",690,"King Philip",690,"0690",40]
[null,41,"695 Lincoln Sudbury",695,"Lincoln Sudbury",695,"0695",41]
[null,42,"698 Manchester Essex",698,"Manchester Essex",698,"0698",42]
[null,43,"700 Marthas Vineyard",700,"Marthas Vineyard",700,"0700",43]
[null,44,"705 Masconomet",705,"Masconomet",705,"0705",44]
[null,45,"710 Mendon Upton",710,"Mendon Upton",710,"0710",45]
[null,46,"830 Minuteman",830,"Minuteman",830,"0830",46]
[null,47,"717 Mohawk Trail",717,"Mohawk Trail",717,"0717",47]
[null,48,"712 Monomoy",712,"Monomoy",712,"0712",48]
[null,49,"832 Montachusett",832,"Montachusett",832,"0832",49]
[null,50,"715 Mount Greylock",715,"Mount Greylock",715,"0715",50]
[null,51,"720 Narragansett",720,"Narragansett",720,"0720",51]
[null,52,"725 Nashoba",725,"Nashoba",725,"0725",52]
[null,53,"852 Nashoba Valley",852,"Nashoba Valley",852,"0852",53]
[null,54,"660 Nauset",660,"Nauset",660,"0660",54]
[null,55,"728 New Salem Wendell",728,"New Salem Wendell",728,"0728",55]
[null,56,"915 Norfolk County",915,"Norfolk County",915,"0915",56]
[null,57,"735 North Middlesex",735,"North Middlesex",735,"0735",57]
[null,58,"406 Northampton Smith",406,"Northampton Smith",406,"0406",58]
[null,59,"730 Northboro Southboro",730,"Northboro Southboro",730,"0730",59]
[null,60,"853 Northeast Metropolitan",853,"Northeast Metropolitan",853,"0853",60]
[null,61,"851 Northern Berkshire",851,"Northern Berkshire",851,"0851",61]
[null,62,"855 Old Colony",855,"Old Colony",855,"0855",62]
[null,63,"740 Old Rochester",740,"Old Rochester",740,"0740",63]
[null,64,"860 Pathfinder",860,"Pathfinder",860,"0860",64]
[null,65,{"$f":"PROPER(D514&\" \"&E514)","v":"745 Pentucket"},745,"Pentucket",745,"0745",{"$f":"B514","v":65}]
[null,66,"750 Pioneer",750,"Pioneer",{"$f":"D515","v":750},{"$f":"TEXT(D515,\"0000\")","v":"0750"},66]
[null,{"$f":"B515+1","v":67},"753 Quabbin",753,"Quabbin",753,"0753",67]
[null,68,"778 Quaboag",778,"Quaboag",778,"0778",68]
[null,69,"755 Ralph C Mahar",755,"Ralph C Mahar",755,"0755",69]
[null,70,"871 Shawsheen Valley",871,"Shawsheen Valley",871,"0871",70]
[null,71,"760 Silver Lake",760,"Silver Lake",760,"0760",71]
[null,72,"763 Somerset Berkley",763,"Somerset Berkley",763,"0763",72]
[null,73,"829 South Middlesex",829,"South Middlesex",829,"0829",73]
[null,74,"873 South Shore",873,"South Shore",873,"0873",74]
[null,75,"872 Southeastern",872,"Southeastern",872,"0872",75]
[null,76,"765 Southern Berkshire",765,"Southern Berkshire",765,"0765",76]
[null,77,"876 Southern Worcester",876,"Southern Worcester",876,"0876",77]
[null,78,"766 Southwick Tolland Granville",766,"Southwick Tolland Granville",766,"0766",78]
[null,79,"767 Spencer East Brookfield",767,"Spencer East Brookfield",767,"0767",79]
[null,80,{"$f":"PROPER(D529&\" \"&E529)","v":"770 Tantasqua"},770,"Tantasqua",770,"0770",80]
[null,81,"878 Tri County",878,"Tri County",878,"0878",81]
[null,82,"773 Triton",773,"Triton",773,"0773",82]
[null,83,"774 Upisland",774,"Upisland",774,"0774",83]
[null,84,"879 Upper Cape Cod",879,"Upper Cape Cod",879,"0879",84]
[null,85,"775 Wachusett",775,"Wachusett",775,"0775",85]
[null,86,"780 Whitman Hanson",780,"Whitman Hanson",780,"0780",86]
[null,87,"885 Whittier",885,"Whittier",885,"0885",87]
[null,null,"999 State Total",999,"State Total",999,"0999"]

{"sheet":"frac","index":18,"n_rows":462,"n_cols":11,"rows_kept":462,"cut":false,"hidden":true,"merged":[[0,6,0,10],[1,6,1,10]]}
[]
[null,null,null,null,null,null,"2021-01-20"]
[]
["fraclea","regorder",null,null,"memlea",null,null,null,null,null,"memeffpct"]
[null,null,null,null,null,null,"distfrac22_prelim","distfrac22_prelim","distfrac22_prelim"]
[]
[null,null,null,null,null,null,null,"FY22","FY22","town ","weighted"]
[null,"Record",null,null,null,null,"Foundation","Reg'l Total","Member","effort ","effort goal"]
["fraclea","Number","fraconcat","District","memlea","Town","Percentage","Enrollment","Enrollment","goal pct","percentage"]
[406,1,{"$f":"A10*1000+E10","v":406210},"NORTHAMPTON SMITH            ",210,"NORTHAMPTON                  ",1,116,116,{"$f":"ROUND(VLOOKUP(E10,town351,12),2)","v":82.5},{"$f":"G10*J10","v":82.5}]
[600,2,600002,"ACTON BOXBOROUGH             ",2,"ACTON                        ",0.83732515807999996,5219,4370,80.47,{"$f":"G11*J11","v":67.379555470697596}]
[600,3,600037,"ACTON BOXBOROUGH             ",37,"BOXBOROUGH                   ",0.16267484192000001,5219,849,82.5,13.420674458400001]
[603,4,603004,"HOOSAC VALLEY",4,"ADAMS                        ",0.73215785055000004,1191,872,33.01,24.168530646655501]
[603,5,603058,"HOOSAC VALLEY",58,"CHESHIRE                     ",0.26784214945000001,1191,319,50.25,13.4590680098625]
[605,6,605008,"AMHERST PELHAM               ",8,"AMHERST                      ",0.81113619263000003,1329,1078,77.47,62.838720843046104]
[605,7,605154,"AMHERST PELHAM               ",154,"LEVERETT                     ",6.3205417609999995E-2,1329,84,82.5,5.2144469528249999]
[605,8,605230,"AMHERST PELHAM               ",230,"PELHAM                       ",4.589917231E-2,1329,61,82.5,3.7866817155749999]
[605,9,605272,"AMHERST PELHAM               ",272,"SHUTESBURY                   ",7.9759217460000004E-2,1329,106,61.1,4.8732881868060005]
[610,10,610011,"ASHBURNHAM WESTMINSTER       ",11,"ASHBURNHAM                   ",0.45929968167000002,2199,1010,47.58,21.853478853858601]
[610,11,610328,"ASHBURNHAM WESTMINSTER       ",328,"WESTMINSTER                  ",0.54070031832999998,2199,1189,56.25,30.414392906062499]
[615,12,615015,"ATHOL ROYALSTON              ",15,"ATHOL                        ",0.92890995260999998,1688,1568,29.65,27.542180094886497]
[615,13,615255,"ATHOL ROYALSTON              ",255,"ROYALSTON                    ",7.1090047389999994E-2,1688,120,54.37,3.8651658765942996]
[616,14,616019,"AYER SHIRLEY",19,"AYER",0.56553398058000004,1648,932,74.92,42.369805825053604]
[616,15,616270,"AYER SHIRLEY",270,"SHIRLEY",0.43446601942000002,1648,716,61.57,26.7500728156894]
[618,16,618113,"BERKSHIRE HILLS              ",113,"GREAT BARRINGTON             ",0.74337221632999995,943,701,82.5,61.328207847224995]
[618,17,618283,"BERKSHIRE HILLS              ",283,"STOCKBRIDGE                  ",0.12831389183,943,121,82.5,10.585896075975]
[618,18,618333,"BERKSHIRE HILLS              ",333,"WEST STOCKBRIDGE             ",0.12831389183,943,121,82.5,10.585896075975]
[620,19,620028,"BERLIN BOYLSTON              ",28,"BERLIN                       ",0.35605289929,983,350,82.5,29.374364191424998]
[620,20,620039,"BERLIN BOYLSTON              ",39,"BOYLSTON                     ",0.64394710071000005,983,633,82.5,53.125635808575005]
[622,21,622032,"BLACKSTONE MILLVILLE         ",32,"BLACKSTONE                   ",0.74911660777,1698,1272,48.92,36.646784452108399]
[622,22,622188,"BLACKSTONE MILLVILLE         ",188,"MILLVILLE                    ",0.25088339223,1698,426,47.07,11.8090812722661]
[625,23,625042,"BRIDGEWATER RAYNHAM          ",42,"BRIDGEWATER                  ",0.60051029707000003,5487,3295,64.37,38.654847822395908]
[625,24,625245,"BRIDGEWATER RAYNHAM          ",245,"RAYNHAM                      ",0.39948970293000002,5487,2192,61.75,24.668489155927503]
[632,25,632060,"CHESTERFIELD GOSHEN",60,"CHESTERFIELD                 ",0.44554455446000002,101,45,78.38,34.921782178574801]
[632,26,632108,"CHESTERFIELD GOSHEN",108,"GOSHEN                       ",0.55445544554000004,101,56,65.16,36.1283168313864]
[635,27,635022,"CENTRAL BERKSHIRE            ",22,"BECKET                       ",0.12825520833000001,1536,197,82.5,10.581054687225]
[635,28,635069,"CENTRAL BERKSHIRE            ",69,"CUMMINGTON                   ",3.6458333330000002E-2,1536,56,82.5,3.007812499725]
[635,29,635070,"CENTRAL BERKSHIRE            ",70,"DALTON                       ",0.58072916666999996,1536,892,49.8,28.920312500165995]
[635,30,635132,"CENTRAL BERKSHIRE            ",132,"HINSDALE                     ",0.11979166667,1536,184,82.5,9.8828125002749996]
[635,31,635233,"CENTRAL BERKSHIRE            ",233,"PERU                         ",5.7942708330000002E-2,1536,89,48.01,2.7818294269232999]
[635,32,635313,"CENTRAL BERKSHIRE            ",313,"WASHINGTON                   ",3.8411458330000002E-2,1536,59,73.91,2.8389908851703001]
[635,33,635345,"CENTRAL BERKSHIRE            ",345,"WINDSOR                      ",3.8411458330000002E-2,1536,59,82.5,3.168945312225]
[640,34,640051,"CONCORD CARLISLE             ",51,"CARLISLE                     ",0.22870662460999999,1268,290,82.5,18.868296530325001]
[640,35,640067,"CONCORD CARLISLE             ",67,"CONCORD                      ",0.77129337538999998,1268,978,82.5,63.631703469674996]
[645,36,645075,"DENNIS YARMOUTH              ",75,"DENNIS                       ",0.30705919594999997,3159,970,82.5,25.332383665875]
[645,37,645351,"DENNIS YARMOUTH              ",351,"YARMOUTH                     ",0.69294080405000003,3159,2189,82.5,57.167616334125]
[650,38,650076,"DIGHTON REHOBOTH             ",76,"DIGHTON                      ",0.44,2675,1177,51.64,22.721599999999999]
[650,39,650247,"DIGHTON REHOBOTH             ",247,"REHOBOTH                     ",0.56000000000000005,2675,1498,82.5,46.2]
[655,40,655078,"DOVER SHERBORN               ",78,"DOVER                        ",0.55897009967,1204,673,82.5,46.115033222774997]
[655,41,655269,"DOVER SHERBORN               ",269,"SHERBORN                     ",0.44102990033,1204,531,82.5,36.384966777225003]
[658,42,658054,"DUDLEY CHARLTON              ",54,"CHARLTON                     ",0.52958756724,3346,1772,56.15,29.736341900526]
[658,43,658080,"DUDLEY CHARLTON              ",80,"DUDLEY                       ",0.47041243276,3346,1574,42.85,20.157172743766001]
[660,44,660041,"NAUSET                       ",41,"BREWSTER                     ",0.48319327731,1190,575,82.5,39.863445378074999]
[660,45,660085,"NAUSET                       ",85,"EASTHAM                      ",0.19915966387,1190,237,82.5,16.430672269275]
[660,46,660224,"NAUSET                       ",224,"ORLEANS                      ",0.18991596639,1190,226,82.5,15.668067227174999]
[660,47,660318,"NAUSET                       ",318,"WELLFLEET                    ",0.12773109244,1190,152,82.5,10.5378151263]
[662,48,662225,"FARMINGTON RIVER",225,"OTIS                         ",0.56018518519000005,216,121,82.5,46.215277778175]
[662,49,662260,"FARMINGTON RIVER",260,"SANDISFIELD                  ",0.43981481481000001,216,95,82.5,36.284722221825]
[665,50,665102,"FREETOWN LAKEVILLE           ",102,"FREETOWN                     ",0.43575624081999997,2724,1187,71.58,31.191431717895597]
[665,51,665146,"FREETOWN LAKEVILLE           ",146,"LAKEVILLE                    ",0.56424375918000003,2724,1537,70.5,39.779185022189999]
[670,52,670068,"FRONTIER                     ",68,"CONWAY                       ",0.18392857142999999,560,103,82.5,15.174107142975]
[670,53,670074,"FRONTIER                     ",74,"DEERFIELD                    ",0.47678571429,560,267,82.5,39.334821428924997]
[670,54,670289,"FRONTIER                     ",289,"SUNDERLAND                   ",0.23214285713999999,560,130,82.5,19.15178571405]
[670,55,670337,"FRONTIER                     ",337,"WHATELY                      ",0.10714285714000001,560,60,80.62,8.6378571426268014]
[672,56,672033,"GATEWAY                      ",33,"BLANDFORD                    ",0.12232030265,793,97,82.5,10.091424968625001]
[672,57,672059,"GATEWAY                      ",59,"CHESTER                      ",0.18158890289999999,793,144,47.85,8.6890290037650004]
[672,58,672143,"GATEWAY                      ",143,"HUNTINGTON                   ",0.33039092055000002,793,262,46.03,15.207894072916501]
[672,59,672183,"GATEWAY                      ",183,"MIDDLEFIELD                  ",3.2786885250000002E-2,793,26,82.5,2.7049180331250002]
[672,60,672194,"GATEWAY                      ",194,"MONTGOMERY                   ",8.701134931E-2,793,69,82.5,7.1784363180749997]
[672,61,672256,"GATEWAY                      ",256,"RUSSELL                      ",0.24590163934000001,793,195,43.47,10.689344262109801]
[673,62,673081,"GROTON DUNSTABLE             ",81,"DUNSTABLE                    ",0.23056994819000001,2316,534,82.5,19.022020725675002]
[673,63,673115,"GROTON DUNSTABLE             ",115,"GROTON                       ",0.76943005181000002,2316,1782,82.5,63.477979274325001]
[674,64,{"$f":"A73*1000+E73","v":674106},"GILL MONTAGUE                ",106,"GILL                         ",0.11359026369,986,112,66.94,7.6037322514085997]
[674,65,674192,"GILL MONTAGUE                ",192,"MONTAGUE                     ",0.88640973630999997,986,874,{"$f":"ROUND(VLOOKUP(E74,town351,12),2)","v":46.8},41.483975659307994]
[675,66,675119,"HAMILTON WENHAM              ",119,"HAMILTON                     ",0.65676167374000005,1649,1083,82.5,{"$f":"G75*J75","v":54.182838083550003}]
[675,67,675320,"HAMILTON WENHAM              ",320,"WENHAM                       ",0.34323832626,1649,566,82.5,28.317161916450001]
[680,68,680120,"HAMPDEN WILBRAHAM            ",120,"HAMPDEN                      ",0.20564373897999999,2835,583,80.13,16.4782328044674]
[680,69,680339,"HAMPDEN WILBRAHAM            ",339,"WILBRAHAM                    ",0.79435626102000001,2835,2252,66.709999999999994,52.991506172644193]
[683,70,683060,"HAMPSHIRE                    ",60,"CHESTERFIELD                 ",5.8084772370000003E-2,637,37,78.38,4.5526844583606003]
[683,71,683108,"HAMPSHIRE                    ",108,"GOSHEN                       ",5.9654631079999999E-2,637,38,65.16,3.8870957611727999]
[683,72,683275,"HAMPSHIRE                    ",275,"SOUTHAMPTON                  ",0.56514913657999999,637,360,69.709999999999994,39.396546310991795]
[683,73,683327,"HAMPSHIRE                    ",327,"WESTHAMPTON                  ",0.13814756672,637,88,82.5,11.397174254399999]
[683,74,683340,"HAMPSHIRE                    ",340,"WILLIAMSBURG                 ",0.17896389325000001,637,114,63.46,11.357048665645001]
[685,75,685053,"HAWLEMONT                    ",53,"CHARLEMONT                   ",0.84523809524000004,84,71,52.24,44.155238095337602]
[685,76,685129,"HAWLEMONT                    ",129,"HAWLEY                       ",0.15476190476000001,84,13,80.78,12.501666666512801]
[690,77,690208,"KING PHILIP                  ",208,"NORFOLK                      ",0.33217993080000002,2023,672,82.5,27.404844291000003]
[690,78,690238,"KING PHILIP                  ",238,"PLAINVILLE                   ",0.26693030153000002,2023,540,76.3,20.366782006739001]
[690,79,690350,"KING PHILIP                  ",350,"WRENTHAM                     ",0.40088976767000001,2023,811,82.5,33.073405832775002]
[695,80,695157,"LINCOLN SUDBURY              ",157,"LINCOLN                      ",0.12704918033000001,1464,186,82.5,10.481557377225]
[695,81,695288,"LINCOLN SUDBURY              ",288,"SUDBURY                      ",0.87295081966999999,1464,1278,82.5,72.018442622774998]
[698,82,698092,"MANCHESTER ESSEX",92,"ESSEX",0.39555202542000001,1259,498,82.5,32.633042097150003]
[698,83,698166,"MANCHESTER ESSEX",166,"MANCHESTER",0.60444797457999999,1259,761,82.5,49.866957902849997]
[700,84,700062,"MARTHAS VINEYARD             ",62,"CHILMARK                     ",5.4274084120000003E-2,737,40,82.5,4.4776119399000001]
[700,85,700089,"MARTHAS VINEYARD             ",89,"EDGARTOWN                    ",0.26594301221,737,196,82.5,21.940298507325]
[700,86,700104,"MARTHAS VINEYARD             ",104,"GAY HEAD                     ",2.4423337860000002E-2,737,18,82.5,2.0149253734500001]
[700,87,700221,"MARTHAS VINEYARD             ",221,"OAK BLUFFS                   ",0.28086838535000003,737,207,82.5,23.171641791375002]
[700,88,700296,"MARTHAS VINEYARD             ",296,"TISBURY                      ",0.25237449117999999,737,186,82.5,20.82089552235]
[700,89,700334,"MARTHAS VINEYARD             ",334,"WEST TISBURY                 ",0.12211668928,737,90,82.5,10.074626865599999]
[705,90,705038,"MASCONOMET                   ",38,"BOXFORD                      ",0.36358381502999998,1730,629,82.5,29.995664739974998]
[705,91,705184,"MASCONOMET                   ",184,"MIDDLETON                    ",0.35375722542999999,1730,612,82.5,29.184971097974998]
[705,92,705298,"MASCONOMET                   ",298,"TOPSFIELD                    ",0.28265895953999998,1730,489,82.5,23.319364162049997]
[710,93,710179,"MENDON UPTON                 ",179,"MENDON                       ",0.44496707431999999,2126,946,76.44,34.013283161020802]
[710,94,710303,"MENDON UPTON                 ",303,"UPTON                        ",0.55503292567999996,2126,1180,75.98,42.171401693166402]
[712,95,712055,"MONOMOY",55,"CHATHAM                      ",0.22547332185999999,1743,393,82.5,18.60154905345]
[712,96,712126,"MONOMOY",126,"HARWICH                      ",0.77452667813999998,1743,1350,82.5,63.89845094655]
[715,97,715148,"MOUNT GREYLOCK               ",148,"LANESBOROUGH                 ",0.36168132941999998,1023,370,56.99,20.612218963645798]
[715,98,715341,"MOUNT GREYLOCK               ",341,"WILLIAMSTOWN                 ",0.63831867058000002,1023,653,82.5,52.66129032285]
[717,99,717013,"MOHAWK TRAIL                 ",13,"ASHFIELD                     ",0.16765755054000001,841,141,82.5,13.831747919550001]
[717,100,717047,"MOHAWK TRAIL                 ",47,"BUCKLAND                     ",0.21521997622,841,181,61.61,13.2597027349142]
[717,101,717053,"MOHAWK TRAIL                 ",53,"CHARLEMONT                   ",6.6587395960000004E-2,841,56,52.24,3.4785255649504001]
[717,102,717066,"MOHAWK TRAIL                 ",66,"COLRAIN                      ",0.17598097502999999,841,148,64.25,11.306777645677499]
[717,103,717129,"MOHAWK TRAIL                 ",129,"HAWLEY                       ",1.3079667059999999E-2,841,11,80.78,1.0565755051068]
[717,104,717130,"MOHAWK TRAIL                 ",130,"HEATH                        ",9.9881093939999999E-2,841,84,42.03,4.1980023782981997]
[717,105,717237,"MOHAWK TRAIL                 ",237,"PLAINFIELD                   ",6.7776456600000007E-2,841,57,79.67,5.3997502973220008]
[717,106,717268,"MOHAWK TRAIL                 ",268,"SHELBURNE                    ",0.19381688465999999,841,163,74.150000000000006,14.371521997539]
[720,107,720235,"NARRAGANSETT                 ",235,"PHILLIPSTON                  ",0.14239742557999999,1243,177,62.64,8.9197747383311992]
[720,108,720294,"NARRAGANSETT                 ",294,"TEMPLETON                    ",0.85760257441999999,1243,1066,39.82,34.149734513404397]
[725,109,725034,"NASHOBA                      ",34,"BOLTON                       ",0.33597213426,3158,1061,82.5,27.717701076449998]
[725,110,725147,"NASHOBA                      ",147,"LANCASTER                    ",0.30873970868,3158,975,72.790000000000006,22.473163394817202]
[725,111,725286,"NASHOBA                      ",286,"STOW                         ",0.35528815706,3158,1122,82.5,29.311272957450001]
[728,112,728206,"NEW SALEM WENDELL            ",206,"NEW SALEM                    ",0.37272727273,110,41,60.46,22.5350909092558]
[728,113,728319,"NEW SALEM WENDELL            ",319,"WENDELL                      ",0.62727272727000005,110,69,38.17,23.942999999895903]
[730,114,730213,"NORTHBORO SOUTHBORO          ",213,"NORTHBOROUGH                 ",0.63405797101000005,1380,875,82.5,52.309782608325001]
[730,115,730276,"NORTHBORO SOUTHBORO          ",276,"SOUTHBOROUGH                 ",0.36594202899,1380,505,82.5,30.190217391674999]
[735,116,735012,"NORTH MIDDLESEX              ",12,"ASHBY                        ",0.11668882979,3008,351,59.83,6.9814926863356996]
[735,117,735232,"NORTH MIDDLESEX              ",232,"PEPPERELL                    ",0.4763962766,3008,1433,65.22,31.070565159851999]
[735,118,735299,"NORTH MIDDLESEX              ",299,"TOWNSEND                     ",0.40691489362,3008,1224,54.2,22.054787234203999]
[740,119,740169,"OLD ROCHESTER                ",169,"MARION                       ",0.30285714285999998,1050,318,82.5,24.985714285949999]
[740,120,740173,"OLD ROCHESTER                ",173,"MATTAPOISETT                 ",0.36666666666999997,1050,385,82.5,30.250000000274998]
[740,121,740250,"OLD ROCHESTER                ",250,"ROCHESTER                    ",0.33047619047999999,1050,347,68.209999999999994,22.541780952640796]
[745,122,745116,"PENTUCKET                    ",116,"GROVELAND                    ",0.38701298700999998,2310,894,75.87,29.362675324448698]
[745,123,745180,"PENTUCKET                    ",180,"MERRIMAC                     ",0.35367965367999998,2310,817,73.569999999999993,26.020212121237595]
[745,124,745329,"PENTUCKET                    ",329,"WEST NEWBURY                 ",0.25930735930999999,2310,599,82.5,21.392857143074998]
[750,125,750029,"PIONEER                      ",29,"BERNARDSTON                  ",0.37459807074000001,622,233,51.55,19.310530546646998]
[750,126,750156,"PIONEER                      ",156,"LEYDEN                       ",8.1993569129999999E-2,622,51,82.5,6.7644694532249998]
[750,127,750216,"PIONEER                      ",216,"NORTHFIELD                   ",0.45980707394999998,622,286,77.989999999999995,35.860353697360495]
[750,128,{"$f":"A137*1000+E137","v":750312},"PIONEER                      ",312,"WARWICK                      ",8.3601286169999997E-2,622,52,73.97,6.1839871379949001]
[753,129,753021,"QUABBIN                      ",21,"BARRE                        ",0.37570766854999998,1943,730,{"$f":"ROUND(VLOOKUP(E138,town351,12),2)","v":40.99},15.4002573338645]
[753,130,753124,"QUABBIN                      ",124,"HARDWICK                     ",0.18064848173,1943,351,39.76,{"$f":"G139*J139","v":7.1825836335847999}]
[753,131,753140,"QUABBIN                      ",140,"HUBBARDSTON                  ",0.25476067936000002,1943,495,63.98,16.299588265452801]
[753,132,753202,"QUABBIN                      ",202,"NEW BRAINTREE                ",6.1245496650000002E-2,1943,119,64.260000000000005,3.9356356147290006]
[753,133,753222,"QUABBIN                      ",222,"OAKHAM                       ",0.12763767370000001,1943,248,56.25,7.1796191456250007]
[755,134,755206,"RALPH C MAHAR                ",206,"NEW SALEM                    ",7.5533661739999994E-2,609,46,60.46,4.5667651888003995]
[755,135,755223,"RALPH C MAHAR                ",223,"ORANGE                       ",0.76354679803000003,609,465,30.22,23.074384236466599]
[755,136,755234,"RALPH C MAHAR                ",234,"PETERSHAM                    ",9.3596059110000004E-2,609,57,68.47,6.4085221672617001]
[755,137,755319,"RALPH C MAHAR                ",319,"WENDELL                      ",6.7323481120000001E-2,609,41,38.17,2.5697372743504001]
[760,138,760118,"SILVER LAKE                  ",118,"HALIFAX                      ",0.30287356321999997,1740,527,55.71,16.873086206986198]
[760,139,760145,"SILVER LAKE                  ",145,"KINGSTON                     ",0.57931034482999999,1740,1008,66.91,38.761655172575296]
[760,140,760240,"SILVER LAKE                  ",240,"PLYMPTON                     ",0.11781609194999999,1740,205,75.400000000000006,8.8833333330300004]
[763,141,763027,"SOMERSET BERKLEY",27,"BERKLEY                      ",0.26810176125000001,1022,274,53.51,14.346125244487499]
[763,142,763273,"SOMERSET BERKLEY",273,"SOMERSET                     ",0.73189823875000004,1022,748,54.34,39.771350293675006]
[765,143,765006,"SOUTHERN BERKSHIRE           ",6,"ALFORD                       ",3.052325581E-2,688,21,82.5,2.518168604325]
[765,144,765090,"SOUTHERN BERKSHIRE           ",90,"EGREMONT                     ",0.12354651162999999,688,85,82.5,10.192587209474999]
[765,145,765193,"SOUTHERN BERKSHIRE           ",193,"MONTEREY                     ",0.11627906976999999,688,80,82.5,9.5930232560249991]
[765,146,765205,"SOUTHERN BERKSHIRE           ",205,"NEW MARLBOROUGH              ",0.18313953488000001,688,126,82.5,15.109011627600001]
[765,147,765267,"SOUTHERN BERKSHIRE           ",267,"SHEFFIELD                    ",0.54651162790999996,688,376,82.5,45.087209302574998]
[766,148,766112,"SOUTHWICK TOLLAND",112,"GRANVILLE",0.12671755725,1310,166,72.989999999999995,9.2491145036775002]
[766,149,766279,"SOUTHWICK TOLLAND",279,"SOUTHWICK                    ",0.84351145037999997,1310,1105,68.39,57.687748091488196]
[766,150,766297,"SOUTHWICK TOLLAND",297,"TOLLAND                      ",2.9770992369999999E-2,1310,39,82.5,2.4561068705249998]
[767,151,767084,"SPENCER EAST BROOKFIELD      ",84,"EAST BROOKFIELD              ",0.18648473033999999,1539,287,51.19,9.5461533461045995]
[767,152,767280,"SPENCER EAST BROOKFIELD      ",280,"SPENCER                      ",0.81351526965999998,1539,1252,49.75,40.472384665584997]
[770,153,770043,"TANTASQUA                    ",43,"BRIMFIELD                    ",0.15171078115,1549,235,59.76,9.0662362815240005]
[770,154,770045,"TANTASQUA                    ",45,"BROOKFIELD                   ",0.15041962555999999,1549,233,42.15,6.340187217353999]
[770,155,770135,"TANTASQUA                    ",135,"HOLLAND                      ",9.6191091029999995E-2,1549,149,66.12,6.3601549389035998]
[770,156,770287,"TANTASQUA                    ",287,"STURBRIDGE                   ",0.51000645578000003,1549,790,60.57,30.891091026594601]
[770,157,770306,"TANTASQUA                    ",306,"WALES                        ",9.1672046480000005E-2,1549,142,36.6,3.3551969011680005]
[773,158,773203,"TRITON                       ",203,"NEWBURY                      ",0.28798908097999998,2198,633,82.5,23.759099180849997]
[773,159,773254,"TRITON                       ",254,"ROWLEY                       ",0.31119199271999998,2198,684,82.5,25.6733393994]
[773,160,773259,"TRITON                       ",259,"SALISBURY                    ",0.40081892629999999,2198,881,82.5,33.06756141975]
[774,161,774062,"UPISLAND",62,"CHILMARK                     ",0.19647355163999999,397,78,82.5,16.209068010300001]
[774,162,774104,"UPISLAND",104,"AQUINNAH",0.11083123425999999,397,44,82.5,9.1435768264499995]
[774,163,774334,"UPISLAND",334,"WEST TISBURY                 ",0.69269521411000001,397,275,82.5,57.147355164075002]
[775,164,775134,"WACHUSETT                    ",134,"HOLDEN                       ",0.47593662075999998,6753,3214,59.23,28.189726047614798]
[775,165,775228,"WACHUSETT                    ",228,"PAXTON                       ",9.5957352290000006E-2,6753,648,67.98,6.5231808086742005]
[775,166,775241,"WACHUSETT                    ",241,"PRINCETON                    ",6.026950985E-2,6753,407,82.5,4.9722345626250002]
[775,167,775257,"WACHUSETT                    ",257,"RUTLAND                      ",0.22656597068000001,6753,1530,46.49,10.533051976913201]
[775,168,775282,"WACHUSETT                    ",282,"STERLING                     ",0.14127054642,6753,954,82.5,11.654820079649999]
[778,169,778311,"QUABOAG",311,"WARREN                       ",0.59219858156000005,1128,668,31.54,18.677943262402401]
[778,170,778324,"QUABOAG",324,"WEST BROOKFIELD              ",0.40780141844000001,1128,460,55.96,22.820567375902399]
[780,171,780123,"WHITMAN HANSON               ",123,"HANSON                       ",0.39345156888999999,3665,1442,63.32,24.913353342114799]
[780,172,780338,"WHITMAN HANSON               ",338,"WHITMAN                      ",0.60654843111000001,3665,2223,49.85,30.236439290833502]
[801,173,801028,"ASSABET VALLEY               ",28,"BERLIN                       ",3.3670033670000002E-2,891,30,82.5,2.7777777777750003]
[801,174,801141,"ASSABET VALLEY               ",141,"HUDSON                       ",0.25364758698000001,891,226,64.06,16.248664421938802]
[801,175,801170,"ASSABET VALLEY               ",170,"MARLBOROUGH                  ",0.48484848484999998,891,432,57.72,27.985454545541998]
[801,176,801174,"ASSABET VALLEY               ",174,"MAYNARD                      ",8.3052749719999999E-2,891,74,73.489999999999995,6.1035465769227999]
[801,177,801213,"ASSABET VALLEY               ",213,"NORTHBOROUGH                 ",6.6217732880000005E-2,891,59,82.5,5.4629629626000007]
[801,178,801276,"ASSABET VALLEY               ",276,"SOUTHBOROUGH                 ",2.8058361390000001E-2,891,25,82.5,2.3148148146750001]
[801,179,801321,"ASSABET VALLEY               ",321,"WESTBOROUGH                  ",5.0505050510000003E-2,891,45,75.75,3.8257575761325002]
[805,180,805025,"BLACKSTONE VALLEY            ",25,"BELLINGHAM                   ",5.6315366050000003E-2,1243,70,70.13,3.9493966210865001]
[805,181,805032,"BLACKSTONE VALLEY            ",32,"BLACKSTONE                   ",6.1142397430000002E-2,1243,76,48.92,2.9910860822756002]
[805,182,805077,"BLACKSTONE VALLEY            ",77,"DOUGLAS                      ",9.8149637969999995E-2,1243,122,60.81,5.9684794849556999]
[805,183,805110,"BLACKSTONE VALLEY            ",110,"GRAFTON                      ",5.3901850360000003E-2,1243,67,67.59,3.6432260658324003]
[805,184,805138,"BLACKSTONE VALLEY            ",138,"HOPEDALE                     ",4.1834271919999999E-2,1243,52,59.15,2.4744971840679999]
[805,185,805179,"BLACKSTONE VALLEY            ",179,"MENDON                       ",5.6315366050000003E-2,1243,70,76.44,4.304746580862]
[805,186,805185,"BLACKSTONE VALLEY            ",185,"MILFORD                      ",0.12228479485,1243,152,44.71,5.4673531777435]
[805,187,805186,"BLACKSTONE VALLEY            ",186,"MILLBURY                     ",7.7232502009999995E-2,1243,96,65.06,5.0247465807706]
[805,188,805188,"BLACKSTONE VALLEY            ",188,"MILLVILLE                    ",2.73531778E-2,1243,34,47.07,1.287514079046]
[805,189,805214,"BLACKSTONE VALLEY            ",214,"NORTHBRIDGE                  ",0.13596138375,1243,169,55.24,7.5105068383500004]
[805,190,805290,"BLACKSTONE VALLEY            ",290,"SUTTON                       ",9.6540627510000004E-2,1243,120,82.5,7.9646017695750002]
[805,191,805303,"BLACKSTONE VALLEY            ",303,"UPTON                        ",6.9187449720000002E-2,1243,86,75.98,5.2568624297256008]
[805,192,{"$f":"A201*1000+E201","v":805304},"BLACKSTONE VALLEY            ",304,"UXBRIDGE                     ",0.10378117458,1243,129,66.64,6.9159774740111999]
[806,193,806018,"BLUE HILLS                   ",18,"AVON                         ",6.5848214289999998E-2,896,59,{"$f":"ROUND(VLOOKUP(E202,town351,12),2)","v":66.84},4.4012946431435997]
[806,194,806040,"BLUE HILLS                   ",40,"BRAINTREE                    ",0.14285714286000001,896,128,78.180000000000007,{"$f":"G203*J203","v":11.168571428794802}]
[806,195,806050,"BLUE HILLS                   ",50,"CANTON                       ",7.5892857140000006E-2,896,68,82.5,6.2611607140500007]
[806,196,806073,"BLUE HILLS                   ",73,"DEDHAM                       ",0.10491071429,896,94,82.5,8.6551339289250002]
[806,197,806133,"BLUE HILLS                   ",133,"HOLBROOK                     ",0.12946428570999999,896,116,50.95,6.5962053569245001]
[806,198,806189,"BLUE HILLS                   ",189,"MILTON                       ",4.7991071429999997E-2,896,43,82.5,3.9592633929749996]
[806,199,806220,"BLUE HILLS                   ",220,"NORWOOD                      ",0.10714285714000001,896,96,82.5,8.8392857140499999]
[806,200,806244,"BLUE HILLS                   ",244,"RANDOLPH                     ",0.31919642857000002,896,286,56.14,17.919687499919803]
[806,201,806335,"BLUE HILLS                   ",335,"WESTWOOD                     ",6.6964285700000003E-3,896,6,82.5,0.55245535702500004]
[810,202,810027,"BRISTOL PLYMOUTH             ",27,"BERKLEY                      ",7.0318282750000002E-2,1351,95,53.51,3.7627313099525002]
[810,203,810042,"BRISTOL PLYMOUTH             ",42,"BRIDGEWATER                  ",0.10436713546,1351,141,64.37,6.7181125095601999]
[810,204,810076,"BRISTOL PLYMOUTH             ",76,"DIGHTON",7.7720207250000006E-2,1351,105,51.64,4.0134715023900007]
[810,205,810182,"BRISTOL PLYMOUTH             ",182,"MIDDLEBOROUGH                ",0.15247964471,1351,206,53.37,8.137838638172699]
[810,206,810245,"BRISTOL PLYMOUTH             ",245,"RAYNHAM                      ",0.12953367875999999,1351,175,61.75,7.9987046634299999]
[810,207,810247,"BRISTOL PLYMOUTH             ",247,"REHOBOTH                     ",5.3293856399999999E-2,1351,72,82.5,4.3967431530000001]
[810,208,810293,"BRISTOL PLYMOUTH             ",293,"TAUNTON                      ",0.41228719467000002,1351,557,36.17,14.912427831213902]
[815,209,815020,"CAPE COD                     ",20,"BARNSTABLE                   ",0.26856240126000003,633,170,82.5,22.156398103950004]
[815,210,815041,"CAPE COD                     ",41,"BREWSTER                     ",6.4770932069999995E-2,633,41,82.5,5.3436018957749996]
[815,211,815055,"CAPE COD                     ",55,"CHATHAM                      ",2.369668246E-2,633,15,82.5,1.95497630295]
[815,212,815075,"CAPE COD                     ",75,"DENNIS                       ",0.11532385466,633,73,82.5,9.5142180094499995]
[815,213,815085,"CAPE COD                     ",85,"EASTHAM                      ",3.6334913109999999E-2,633,23,82.5,2.9976303315749999]
[815,214,815126,"CAPE COD                     ",126,"HARWICH                      ",8.056872038E-2,633,51,82.5,6.6469194313499997]
[815,215,815172,"CAPE COD                     ",172,"MASHPEE                      ",7.8988941549999997E-2,633,50,82.5,6.516587677875]
[815,216,815224,"CAPE COD                     ",224,"ORLEANS                      ",2.0537124800000001E-2,633,13,82.5,1.694312796]
[815,217,815242,"CAPE COD                     ",242,"PROVINCETOWN                 ",1.7377567140000001E-2,633,11,82.5,1.4336492890500001]
[815,218,815300,"CAPE COD                     ",300,"TRURO                        ",1.7377567140000001E-2,633,11,82.5,1.4336492890500001]
[815,219,815318,"CAPE COD                     ",318,"WELLFLEET                    ",2.5276461300000001E-2,633,16,82.5,2.0853080572500002]
[815,220,815351,"CAPE COD                     ",351,"YARMOUTH                     ",0.25118483411999998,633,159,82.5,20.722748814899997]
[817,221,817030,"ESSEX NORTH SHORE                  ",30,"BEVERLY                      ",9.469387755E-2,1225,116,82.5,7.8122448978749999]
[817,222,817038,"ESSEX NORTH SHORE                  ",38,"BOXFORD                      ",1.9591836729999999E-2,1225,24,82.5,1.6163265302249998]
[817,223,817071,"ESSEX NORTH SHORE                  ",71,"DANVERS                      ",0.16571428570999999,1225,203,82.5,13.671428571074999]
[817,224,817092,"ESSEX NORTH SHORE                  ",92,"ESSEX                        ",1.06122449E-2,1225,13,82.5,0.87551020424999992]
[817,225,817107,"ESSEX NORTH SHORE                  ",107,"GLOUCESTER                   ",7.9183673469999993E-2,1225,97,82.5,6.5326530612749991]
[817,226,817119,"ESSEX NORTH SHORE                  ",119,"HAMILTON                     ",1.387755102E-2,1225,17,82.5,1.1448979591499999]
[817,227,817164,"ESSEX NORTH SHORE                  ",164,"LYNNFIELD                    ",3.8367346939999998E-2,1225,47,82.5,3.1653061225499997]
[817,228,817166,"ESSEX NORTH SHORE                  ",166,"MANCHESTER                   ",8.9795918400000004E-3,1225,11,82.5,0.74081632679999998]
[817,229,817168,"ESSEX NORTH SHORE                  ",168,"MARBLEHEAD                   ",3.183673469E-2,1225,39,82.5,2.6265306119249998]
[817,230,817184,"ESSEX NORTH SHORE                  ",184,"MIDDLETON                    ",0.04,1225,49,82.5,3.3000000000000003]
[817,231,817196,"ESSEX NORTH SHORE                  ",196,"NAHANT                       ",8.9795918400000004E-3,1225,11,82.5,0.74081632679999998]
[817,232,817229,"ESSEX NORTH SHORE                  ",229,"PEABODY",0.2506122449,1225,307,71,17.7934693879]
[817,233,817252,"ESSEX NORTH SHORE                  ",252,"ROCKPORT                     ",1.795918367E-2,1225,22,82.5,1.4816326527749999]
[817,234,817258,"ESSEX NORTH SHORE                  ",258,"SALEM                        ",0.16326530612000001,1225,200,67.069999999999993,10.950204081468399]
[817,235,817291,"ESSEX NORTH SHORE                  ",291,"SWAMPSCOTT                   ",2.8571428570000001E-2,1225,35,82.5,2.3571428570249999]
[817,236,817298,"ESSEX NORTH SHORE                  ",298,"TOPSFIELD                    ",2.0408163270000002E-2,1225,25,82.5,1.6836734697750002]
[817,237,817320,"ESSEX NORTH SHORE                  ",320,"WENHAM                       ",7.3469387800000003E-3,1225,9,82.5,0.60612244935000004]
[818,238,818029,"FRANKLIN COUNTY              ",29,"BERNARDSTON                  ",6.7669172929999993E-2,532,36,51.55,3.4883458645414995]
[818,239,818047,"FRANKLIN COUNTY              ",47,"BUCKLAND                     ",1.503759398E-2,532,8,61.61,0.9264661651078]
[818,240,818066,"FRANKLIN COUNTY              ",66,"COLRAIN                      ",4.511278195E-2,532,24,64.25,2.8984962402874999]
[818,241,818068,"FRANKLIN COUNTY              ",68,"CONWAY                       ",7.5187969899999998E-3,532,4,82.5,0.62030075167499998]
[818,242,818074,"FRANKLIN COUNTY              ",74,"DEERFIELD                    ",3.3834586469999997E-2,532,18,82.5,2.7913533837749998]
[818,243,818091,"FRANKLIN COUNTY              ",91,"ERVING                       ",5.0751879700000002E-2,532,27,82.5,4.18703007525]
[818,244,818106,"FRANKLIN COUNTY              ",106,"GILL                         ",2.8195488719999998E-2,532,15,66.94,1.8874060149167997]
[818,245,818114,"FRANKLIN COUNTY              ",114,"GREENFIELD                   ",0.23120300752,532,123,42.69,9.8700563910288004]
[818,246,818130,"FRANKLIN COUNTY              ",130,"HEATH                        ",1.127819549E-2,532,6,42.03,0.47402255644470004]
[818,247,818156,"FRANKLIN COUNTY              ",156,"LEYDEN                       ",1.87969925E-3,532,1,82.5,0.15507518812499999]
[818,248,818192,"FRANKLIN COUNTY              ",192,"MONTAGUE                     ",0.20112781955,532,107,46.8,9.4127819549399998]
[818,249,818206,"FRANKLIN COUNTY              ",206,"NEW SALEM                    ",1.6917293230000002E-2,532,9,60.46,1.0228195486858001]
[818,250,818216,"FRANKLIN COUNTY              ",216,"NORTHFIELD                   ",5.0751879700000002E-2,532,27,77.989999999999995,3.958139097803]
[818,251,818223,"FRANKLIN COUNTY              ",223,"ORANGE                       ",0.14285714286000001,532,76,30.22,4.3171428572292001]
[818,252,818268,"FRANKLIN COUNTY              ",268,"SHELBURNE                    ",3.1954887219999999E-2,532,17,74.150000000000006,2.3694548873630001]
[818,253,818289,"FRANKLIN COUNTY              ",289,"SUNDERLAND                   ",1.503759398E-2,532,8,82.5,1.24060150335]
[818,254,818312,"FRANKLIN COUNTY              ",312,"WARWICK                      ",1.127819549E-2,532,6,73.97,0.83424812039530005]
[818,255,818319,"FRANKLIN COUNTY              ",319,"WENDELL                      ",1.6917293230000002E-2,532,9,38.17,0.64573308258910012]
[818,256,{"$f":"A265*1000+E265","v":818337},"FRANKLIN COUNTY              ",337,"WHATELY                      ",2.0676691729999998E-2,532,11,80.62,1.6669548872725999]
[821,257,821095,"GREATER FALL RIVER           ",95,"FALL RIVER                   ",0.74098798397999999,1498,1110,{"$f":"ROUND(VLOOKUP(E266,town351,12),2)","v":22.29},16.516622162914199]
[821,258,821273,"GREATER FALL RIVER           ",273,"SOMERSET                     ",9.6128170890000003E-2,1498,144,54.34,{"$f":"G267*J267","v":5.2236048061626006}]
[821,259,821292,"GREATER FALL RIVER           ",292,"SWANSEA                      ",8.4112149529999999E-2,1498,126,61.59,5.1804672895527002]
[821,260,821331,"GREATER FALL RIVER           ",331,"WESTPORT                     ",7.8771695589999996E-2,1498,118,82.5,6.4986648861749998]
[823,261,823009,"GREATER LAWRENCE             ",9,"ANDOVER                      ",2.796352584E-2,1645,46,82.5,2.3069908818]
[823,262,823149,"GREATER LAWRENCE             ",149,"LAWRENCE                     ",0.76717325228,1645,1262,14.54,11.154699088151199]
[823,263,823181,"GREATER LAWRENCE             ",181,"METHUEN                      ",0.18358662613999999,1645,302,46.98,8.6248996960571986]
[823,264,823211,"GREATER LAWRENCE             ",211,"NORTH ANDOVER                ",2.1276595740000001E-2,1645,35,82.5,1.7553191485500002]
[825,265,825072,"GREATER NEW BEDFORD          ",72,"DARTMOUTH                    ",0.15214319359,2123,323,82.5,12.551813471175]
[825,266,825094,"GREATER NEW BEDFORD          ",94,"FAIRHAVEN                    ",8.1959491290000006E-2,2123,174,63.08,5.1700047105731999]
[825,267,825201,"GREATER NEW BEDFORD          ",201,"NEW BEDFORD                  ",0.76589731512000003,2123,1626,20.58,15.762166745169599]
[828,268,828079,"GREATER LOWELL               ",79,"DRACUT                       ",0.18289085546,2373,434,55.42,10.1358112095932]
[828,269,828081,"GREATER LOWELL               ",81,"DUNSTABLE                    ",6.3211125199999999E-3,2373,15,82.5,0.52149178289999998]
[828,270,828160,"GREATER LOWELL               ",160,"LOWELL                       ",0.76991150442,2373,1827,25.9,19.940707964477998]
[828,271,828301,"GREATER LOWELL               ",301,"TYNGSBOROUGH                 ",4.0876527599999997E-2,2373,97,69.849999999999994,2.8552254528599996]
[829,272,829014,"SOUTH MIDDLESEX              ",14,"ASHLAND                      ",7.7205882350000005E-2,816,63,78.17,6.0351838232995005]
[829,273,829100,"SOUTH MIDDLESEX              ",100,"FRAMINGHAM                   ",0.73774509803999999,816,602,55.52,40.959607843180805]
[829,274,829136,"SOUTH MIDDLESEX              ",136,"HOLLISTON                    ",8.3333333329999995E-2,816,68,75.7,6.3083333330810003]
[829,275,829139,"SOUTH MIDDLESEX              ",139,"HOPKINTON                    ",3.3088235289999997E-2,816,27,82.5,2.7297794114249996]
[829,276,829198,"SOUTH MIDDLESEX              ",198,"NATICK                       ",6.8627450980000004E-2,816,56,82.5,5.6617647058500005]
[830,277,830002,"MINUTEMAN                    ",2,"ACTON                        ",0.12423625255,491,61,80.47,9.9972912426985001]
[830,278,830010,"MINUTEMAN                    ",10,"ARLINGTON                    ",0.35437881873999999,491,174,82.5,29.23625254605]
[830,280,830034,"MINUTEMAN                    ",34,"BOLTON                       ",3.4623217919999998E-2,491,17,82.5,2.8564154783999998]
[830,281,830067,"MINUTEMAN                    ",67,"CONCORD                      ",5.9063136459999999E-2,491,29,82.5,4.8727087579499999]
[830,282,830078,"MINUTEMAN                    ",78,"DOVER                        ",8.1466395099999995E-3,491,4,82.5,0.67209775957499995]
[830,283,830147,"MINUTEMAN                    ",147,"LANCASTER                    ",0.11812627291,491,58,72.790000000000006,8.5984114051189007]
[830,284,830155,"MINUTEMAN                    ",155,"LEXINGTON                    ",0.15478615070999999,491,76,82.5,12.769857433574998]
[830,285,830199,"MINUTEMAN                    ",199,"NEEDHAM                      ",5.7026476579999999E-2,491,28,82.5,4.70468431785]
[830,286,830286,"MINUTEMAN                    ",286,"STOW                         ",8.9613034620000004E-2,491,44,82.5,7.3930753561500007]
[832,287,832011,"MONTACHUSETT                 ",11,"ASHBURNHAM                   ",4.7912388770000001E-2,1461,70,47.58,2.2796714576766002]
[832,288,832012,"MONTACHUSETT                 ",12,"ASHBY                        ",2.5325119779999999E-2,1461,37,59.83,1.5152019164374]
[832,289,832015,"MONTACHUSETT                 ",15,"ATHOL                        ",7.7344284740000005E-2,1461,113,29.65,2.2932580425409999]
[832,290,832021,"MONTACHUSETT                 ",21,"BARRE                        ",3.2854209449999998E-2,1461,48,40.99,1.3466940453555001]
[832,291,832097,"MONTACHUSETT                 ",97,"FITCHBURG                    ",0.26283367555999998,1461,384,25.51,6.7048870635356002]
[832,292,832103,"MONTACHUSETT                 ",103,"GARDNER                      ",0.12183436003000001,1461,178,33.94,4.1350581794182002]
[832,293,832125,"MONTACHUSETT                 ",125,"HARVARD                      ",2.7378507899999999E-3,1461,4,82.5,0.225872690175]
[832,294,832134,"MONTACHUSETT                 ",134,"HOLDEN",6.0232717319999997E-2,1461,88,59.23,3.5675838468635996]
[832,295,832140,"MONTACHUSETT                 ",140,"HUBBARDSTON                  ",2.874743326E-2,1461,42,63.98,1.8392607799748]
[832,296,832162,"MONTACHUSETT                 ",162,"LUNENBURG                    ",5.6810403830000002E-2,1461,83,60.69,3.4478234084427002]
[832,297,832234,"MONTACHUSETT                 ",234,"PETERSHAM                    ",3.42231348E-3,1461,5,68.47,0.23432580397559999]
[832,298,832235,"MONTACHUSETT                 ",235,"PHILLIPSTON                  ",1.232032854E-2,1461,18,62.64,0.77174537974559998]
[832,299,832241,"MONTACHUSETT                 ",241,"PRINCETON                    ",1.9849418210000001E-2,1461,29,82.5,1.637577002325]
[832,300,832255,"MONTACHUSETT                 ",255,"ROYALSTON                    ",8.2135523599999993E-3,1461,12,54.37,0.44657084181319995]
[832,301,832282,"MONTACHUSETT                 ",282,"STERLING                     ",4.3805612590000001E-2,1461,64,82.5,3.6139630386750001]
[832,302,832294,"MONTACHUSETT                 ",294,"TEMPLETON                    ",6.0917180010000002E-2,1461,89,39.82,2.4257221079982001]
[832,303,832328,"MONTACHUSETT                 ",328,"WESTMINSTER                  ",5.5441478439999997E-2,1461,81,56.25,3.1185831622499998]
[832,304,832343,"MONTACHUSETT                 ",343,"WINCHENDON                   ",7.9397672830000002E-2,1461,116,34.700000000000003,2.7550992472010001]
[851,305,851004,"NORTHERN BERKSHIRE           ",4,"ADAMS                        ",0.29805615550999998,463,138,33.01,9.8388336933850979]
[851,306,851058,"NORTHERN BERKSHIRE           ",58,"CHESIRE",9.9352051839999997E-2,463,46,50.25,4.9924406049599996]
[851,307,851063,"NORTHERN BERKSHIRE           ",63,"CLARKSBURG                   ",9.5032397409999997E-2,463,44,35.200000000000003,3.3451403888320002]
[851,308,851098,"NORTHERN BERKSHIRE           ",98,"FLORIDA                      ",4.7516198699999998E-2,463,22,72.069999999999993,3.4244924403089994]
[851,309,851148,"NORTHERN BERKSHIRE           ",148,"LANESBOROUGH                 ",4.9676025919999998E-2,463,23,56.99,2.8310367171808002]
[851,310,851190,"NORTHERN BERKSHIRE           ",190,"MONROE                       ",6.4794816399999997E-3,463,3,55.13,0.35721382281320002]
[851,311,851209,"NORTHERN BERKSHIRE           ",209,"NORTH ADAMS                  ",0.35637149027999998,463,165,28.17,10.0389848811876]
[851,312,851263,"NORTHERN BERKSHIRE           ",263,"SAVOY                        ",1.079913607E-2,463,5,82.5,0.89092872577499993]
[851,313,851341,"NORTHERN BERKSHIRE           ",341,"WILLIAMSTOWN                 ",3.6717062629999998E-2,463,17,82.5,3.0291576669749998]
[852,314,{"$f":"A322*1000+E322","v":852019},"NASHOBA VALLEY               ",19,"AYER",8.8455772109999997E-2,667,59,74.92,6.6271064464812]
[852,315,852056,"NASHOBA VALLEY               ",56,"CHELMSFORD                   ",0.31784107946000001,667,212,82.5,26.221889055449999]
[852,316,852115,"NASHOBA VALLEY               ",115,"GROTON                       ",6.8965517239999996E-2,667,46,82.5,5.6896551722999993]
[852,317,852158,"NASHOBA VALLEY               ",158,"LITTLETON                    ",5.5472263870000003E-2,667,37,82.5,4.5764617692750003]
[852,318,852232,"NASHOBA VALLEY               ",232,"PEPPERELL                    ",0.16341829085000001,667,109,65.22,10.658140929237]
[852,319,852270,"NASHOBA VALLEY               ",270,"SHIRLEY                      ",8.0959520239999999E-2,667,54,61.57,4.9846776611768]
[852,320,852299,"NASHOBA VALLEY               ",299,"TOWNSEND                     ",0.11844077961,667,79,54.2,6.4194902548620005]
[852,321,852326,"NASHOBA VALLEY               ",326,"WESTFORD                     ",0.10644677661,667,71,{"$f":"ROUND(VLOOKUP(E329,town351,12),2)","v":77.78},8.2794302847257999]
[853,322,853057,"NORTHEAST METROPOLITAN       ",57,"CHELSEA                      ",0.18579234973,1281,238,21.64,4.0205464481571997]
[853,323,853165,"NORTHEAST METROPOLITAN       ",165,"MALDEN                       ",0.11865729899000001,1281,152,56.56,{"$f":"G331*J331","v":6.7112568308744009}]
[853,324,853178,"NORTHEAST METROPOLITAN       ",178,"MELROSE                      ",3.43481655E-2,1281,44,82.5,2.8337236537499999]
[853,325,853217,"NORTHEAST METROPOLITAN       ",217,"NORTH READING                ",2.6541764249999999E-2,1281,34,82.5,2.1896955506249998]
[853,326,853246,"NORTHEAST METROPOLITAN       ",246,"READING                      ",2.5761124119999999E-2,1281,33,82.5,2.1252927398999999]
[853,327,853248,"NORTHEAST METROPOLITAN       ",248,"REVERE                       ",0.19359875098000001,1281,248,37.28,7.217361436534401]
[853,328,853262,"NORTHEAST METROPOLITAN       ",262,"SAUGUS                       ",0.13270882123,1281,170,82.5,10.948477751475]
[853,329,853284,"NORTHEAST METROPOLITAN       ",284,"STONEHAM                     ",6.2451209989999999E-2,1281,80,82.5,5.1522248241749997]
[853,330,853305,"NORTHEAST METROPOLITAN       ",305,"WAKEFIELD                    ",7.8064012490000001E-2,1281,100,82.5,6.440281030425]
[853,331,853344,"NORTHEAST METROPOLITAN       ",344,"WINCHESTER                   ",8.5870413699999995E-3,1281,11,82.5,0.70843091302499994]
[853,332,853346,"NORTHEAST METROPOLITAN       ",346,"WINTHROP                     ",4.4496487119999997E-2,1281,57,79.44,3.5348009368127995]
[853,333,853347,"NORTHEAST METROPOLITAN       ",347,"WOBURN",8.8992974239999995E-2,1281,114,82.5,7.3419203747999999]
[855,334,855003,"OLD COLONY                   ",3,"ACUSHNET                     ",0.28915662651000001,498,144,58.43,16.895421686979301]
[855,335,855052,"OLD COLONY                   ",52,"CARVER                       ",0.19277108434000001,498,96,54.8,10.563855421832001]
[855,336,855146,"OLD COLONY                   ",146,"LAKEVILLE                    ",0.27510040160999999,498,137,70.5,19.394578313505001]
[855,337,855173,"OLD COLONY                   ",173,"MATTAPOISETT                 ",8.8353413650000004E-2,498,44,82.5,7.289156626125]
[855,338,855250,"OLD COLONY                   ",250,"ROCHESTER                    ",0.1546184739,498,77,68.209999999999994,10.546526104718998]
[860,339,860024,"PATHFINDER                   ",24,"BELCHERTOWN                  ",0.14973262032000001,561,84,51.9,7.7711229946080005]
[860,340,860111,"PATHFINDER                   ",111,"GRANBY                       ",3.5650623889999997E-2,561,20,62.08,2.2131907310911996]
[860,341,860124,"PATHFINDER                   ",124,"HARDWICK",4.2780748659999999E-2,561,24,39.76,1.7009625667216]
[860,342,860191,"PATHFINDER                   ",191,"MONSON                       ",0.12834224598999999,561,72,57.75,7.4117647059224998]
[860,343,860202,"PATHFINDER                   ",202,"NEW BRAINTREE                ",1.2477718360000001E-2,561,7,64.260000000000005,0.80181818181360009]
[860,344,860222,"PATHFINDER                   ",222,"OAKHAM",1.7825311940000001E-2,561,10,56.25,1.0026737966250001]
[860,345,860227,"PATHFINDER                   ",227,"PALMER                       ",0.33333333332999998,561,187,41.85,13.9499999998605]
[860,346,860309,"PATHFINDER                   ",309,"WARE                         ",0.20320855615,561,114,32.5,6.6042780748750003]
[860,347,860311,"PATHFINDER                   ",311,"WARREN                       ",7.6648841349999997E-2,561,43,31.54,2.417504456179]
[871,348,871023,"SHAWSHEEN VALLEY             ",23,"BEDFORD                      ",3.1178707220000001E-2,1315,41,82.5,2.57224334565]
[871,349,871031,"SHAWSHEEN VALLEY             ",31,"BILLERICA                    ",0.38555133079999998,1315,507,82.5,31.807984790999999]
[871,350,871048,"SHAWSHEEN VALLEY             ",48,"BURLINGTON                   ",0.10266159696,1315,135,82.5,8.4695817491999996]
[871,351,871295,"SHAWSHEEN VALLEY             ",295,"TEWKSBURY                    ",0.27148288973000001,1315,357,82.5,22.397338402725001]
[871,352,871342,"SHAWSHEEN VALLEY             ",342,"WILMINGTON                   ",0.20912547529,1315,275,82.5,17.252851711424999]
[872,353,872044,"SOUTHEASTERN                 ",44,"BROCKTON                     ",0.62368908080999996,1621,1011,21.55,13.4404996914555]
[872,354,872083,"SOUTHEASTERN                 ",83,"EAST BRIDGEWATER             ",5.5521283159999997E-2,1621,90,55.76,3.0958667490015999]
[872,355,872088,"SOUTHEASTERN                 ",88,"EASTON                       ",5.2436767430000003E-2,1621,85,82.5,4.3260333129750004]
[872,356,872099,"SOUTHEASTERN                 ",99,"FOXBOROUGH                   ",2.8994447869999999E-2,1621,47,82.5,2.3920419492749998]
[872,357,872167,"SOUTHEASTERN                 ",167,"MANSFIELD                    ",6.4157927209999993E-2,1621,104,71.95,4.6161628627594995]
[872,358,872218,"SOUTHEASTERN                 ",218,"NORTON                       ",6.7859346079999994E-2,1621,110,72.03,4.8879086981423994]
[872,359,872266,"SOUTHEASTERN                 ",266,"SHARON                       ",9.2535471899999992E-3,1621,15,80.39,0.74389265860409992]
[872,360,872285,"SOUTHEASTERN                 ",285,"STOUGHTON                    ",6.8476249229999994E-2,1621,111,63.01,4.3146884639822991]
[872,361,872323,"SOUTHEASTERN                 ",323,"WEST BRIDGEWATER             ",2.9611351019999999E-2,1621,48,64.91,1.9220727947081999]
[873,362,873001,"SOUTH SHORE                  ",1,"ABINGTON                     ",0.15686274510000001,561,88,60.4,9.4745098040400002]
[873,363,873065,"SOUTH SHORE                  ",65,"COHASSET                     ",1.2477718360000001E-2,561,7,82.5,1.0294117647000001]
[873,364,873122,"SOUTH SHORE                  ",122,"HANOVER                      ",9.0909090910000004E-2,561,51,77.16,7.0145454546156003]
[873,365,873123,"SOUTH SHORE                  ",123,"HANSON                       ",0.14973262032000001,561,84,63.32,9.4810695186623999]
[873,366,873219,"SOUTH SHORE                  ",219,"NORWELL                      ",4.0998217470000001E-2,561,23,82.5,3.3823529412750002]
[873,367,873251,"SOUTH SHORE                  ",251,"ROCKLAND                     ",0.25490196077999999,561,143,50.37,12.839411764488599]
[873,368,873264,"SOUTH SHORE                  ",264,"SCITUATE                     ",5.3475935830000002E-2,561,30,82.5,4.411764705975]
[873,369,873338,"SOUTH SHORE                  ",338,"WHITMAN                      ",0.24064171123,561,135,49.85,11.995989304815501]
[876,370,876017,"SOUTHERN WORCESTER           ",17,"AUBURN                       ",8.2500000000000004E-2,1200,99,56.89,4.6934250000000004]
[876,371,876054,"SOUTHERN WORCESTER           ",54,"CHARLTON                     ",0.18166666667,1200,218,56.15,10.2005833335205]
[876,372,876080,"SOUTHERN WORCESTER           ",80,"DUDLEY                       ",0.10666666666999999,1200,128,42.85,4.5706666668095002]
[876,373,876215,"SOUTHERN WORCESTER           ",215,"NORTH BROOKFIELD",3.5833333330000001E-2,1200,43,45.39,1.6264749998487]
[876,374,876226,"SOUTHERN WORCESTER           ",226,"OXFORD                       ",0.11166666667,1200,134,54.35,6.0690833335145005]
[876,375,876228,"SOUTHERN WORCESTER           ",228,"PAXTON                       ",1.7500000000000002E-2,1200,21,67.98,1.1896500000000001]
[876,376,876257,"SOUTHERN WORCESTER           ",257,"RUTLAND",5.166666667E-2,1200,62,46.49,2.4019833334883001]
[876,377,876277,"SOUTHERN WORCESTER           ",277,"SOUTHBRIDGE                  ",0.17249999999999999,1200,207,25.89,4.4660250000000001]
[876,378,{"$f":"A386*1000+E386","v":876280},"SOUTHERN WORCESTER           ",280,"SPENCER                      ",0.12333333333,1200,148,49.75,6.1358333331675006]
[876,379,876316,"SOUTHERN WORCESTER           ",316,"WEBSTER                      ",0.11666666667,1200,140,46.81,5.4611666668227006]
[878,380,878101,"TRI COUNTY                   ",101,"FRANKLIN                     ",0.17920353982000001,904,162,71.47,12.8076769909354]
[878,381,878175,"TRI COUNTY                   ",175,"MEDFIELD                     ",9.95575221E-3,904,9,82.5,0.82134955732500003]
[878,382,878177,"TRI COUNTY                   ",177,"MEDWAY                       ",7.3008849560000005E-2,904,66,77.08,5.6275221240848001]
[878,383,878187,"TRI COUNTY                   ",187,"MILLIS                       ",6.5265486730000002E-2,904,59,77.53,5.0600331861769003]
[878,384,878208,"TRI COUNTY                   ",208,"NORFOLK                      ",2.765486726E-2,904,25,82.5,2.2815265489500001]
[878,385,878212,"TRI COUNTY                   ",212,"NORTH ATTLEBOROUGH           ",0.28982300885000001,904,262,{"$f":"ROUND(VLOOKUP(E393,town351,12),2)","v":63.49},18.400862831886503]
[878,386,878238,"TRI COUNTY                   ",238,"PLAINVILLE                   ",9.623893805E-2,904,87,76.3,7.3430309732149999]
[878,387,878265,"TRI COUNTY                   ",265,"SEEKONK                      ",9.1814159290000003E-2,904,83,72.25,{"$f":"G395*J395","v":6.6335730087025002}]
[878,388,878269,"TRI COUNTY                   ",269,"SHERBORN                     ",2.2123893800000002E-3,904,2,82.5,0.18252212385000002]
[878,389,878307,"TRI COUNTY                   ",307,"WALPOLE                      ",9.1814159290000003E-2,904,83,82.5,7.5746681414250006]
[878,390,878350,"TRI COUNTY                   ",350,"WRENTHAM                     ",7.3008849560000005E-2,904,66,82.5,6.0232300887000001]
[879,391,879036,"UPPER CAPE COD               ",36,"BOURNE                       ",0.23614775726000001,758,179,82.5,19.48218997395]
[879,392,879096,"UPPER CAPE COD               ",96,"FALMOUTH                     ",0.2401055409,758,182,82.5,19.808707124249999]
[879,393,879169,"UPPER CAPE COD               ",169,"MARION                       ",2.242744063E-2,758,17,82.5,1.8502638519750001]
[879,394,879261,"UPPER CAPE COD               ",261,"SANDWICH                     ",0.172823219,758,131,82.5,14.2579155675]
[879,395,879310,"UPPER CAPE COD               ",310,"WAREHAM                      ",0.32849604222000001,758,249,64.989999999999995,21.3489577838778]
[885,396,885007,"WHITTIER                     ",7,"AMESBURY                     ",8.5209003219999996E-2,1244,106,78.19,6.6624919617717993]
[885,397,885105,"WHITTIER                     ",105,"GEORGETOWN                   ",3.1350482319999998E-2,1244,39,80.489999999999995,2.5234003219367995]
[885,398,885116,"WHITTIER                     ",116,"GROVELAND                    ",3.1350482319999998E-2,1244,39,75.87,2.3785610936184001]
[885,399,885128,"WHITTIER                     ",128,"HAVERHILL                    ",0.69935691318000004,1244,870,42.69,29.855546623654199]
[885,400,885144,"WHITTIER                     ",144,"IPSWICH                      ",2.2508038590000001E-2,1244,28,82.5,1.8569131836750001]
[885,401,885180,"WHITTIER                     ",180,"MERRIMAC                     ",4.0192926050000001E-2,1244,50,73.569999999999993,2.9569935694984997]
[885,402,885203,"WHITTIER                     ",203,"NEWBURY                      ",1.366559486E-2,1244,17,82.5,1.1274115759500001]
[885,403,885204,"WHITTIER                     ",204,"NEWBURYPORT                  ",2.652733119E-2,1244,33,82.5,2.1885048231750002]
[885,404,885254,"WHITTIER                     ",254,"ROWLEY                       ",1.5273311899999999E-2,1244,19,82.5,1.2600482317499999]
[885,405,885259,"WHITTIER                     ",259,"SALISBURY                    ",2.7331189709999999E-2,1244,34,82.5,2.2548231510750001]
[885,406,885329,"WHITTIER                     ",329,"WEST NEWBURY                 ",7.2347266900000002E-3,1244,9,82.5,0.596864951925]
[910,407,910003,"BRISTOL COUNTY               ",3,"ACUSHNET                     ",2.6178010469999999E-2,382,10,58.43,1.5295811517620999]
[910,408,910016,"BRISTOL COUNTY               ",16,"ATTLEBORO                    ",5.2356020939999998E-2,382,20,48.8,2.5549738218719997]
[910,409,910027,"BRISTOL COUNTY               ",27,"BERKLEY                      ",2.3560209419999999E-2,382,9,53.51,1.2607068060641999]
[910,410,910072,"BRISTOL COUNTY               ",72,"DARTMOUTH                    ",4.7120418849999998E-2,382,18,82.5,3.887434555125]
[910,411,910076,"BRISTOL COUNTY               ",76,"DIGHTON                      ",3.1413612569999999E-2,382,12,51.64,1.6221989531148]
[910,412,910088,"BRISTOL COUNTY               ",88,"EASTON                       ",2.0942408379999999E-2,382,8,82.5,1.72774869135]
[910,413,910094,"BRISTOL COUNTY               ",94,"FAIRHAVEN                    ",5.2356020939999998E-2,382,20,63.08,3.3026178008951996]
[910,414,910095,"BRISTOL COUNTY               ",95,"FALL RIVER                   ",0.10994764398,382,42,22.29,2.4507329843141998]
[910,415,910102,"BRISTOL COUNTY               ",102,"FREETOWN                     ",3.1413612569999999E-2,382,12,71.58,2.2485863877606]
[910,416,910167,"BRISTOL COUNTY               ",167,"MANSFIELD                    ",7.8534031399999996E-3,382,3,71.95,0.56505235592299996]
[910,417,910201,"BRISTOL COUNTY               ",201,"NEW BEDFORD                  ",0.13612565444999999,382,52,20.58,2.8014659685809997]
[910,418,910212,"BRISTOL COUNTY               ",212,"NORTH ATTLEBOROUGH           ",2.8795811519999999E-2,382,11,63.49,1.8282460734048001]
[910,419,910218,"BRISTOL COUNTY               ",218,"NORTON                       ",2.3560209419999999E-2,382,9,72.03,1.6970418845225999]
[910,420,910245,"BRISTOL COUNTY               ",245,"RAYNHAM                      ",3.1413612569999999E-2,382,12,61.75,1.9397905761974998]
[910,421,910247,"BRISTOL COUNTY               ",247,"REHOBOTH                     ",5.7591623039999998E-2,382,22,82.5,4.7513089007999998]
[910,422,910265,"BRISTOL COUNTY               ",265,"SEEKONK                      ",4.7120418849999998E-2,382,18,72.25,3.4044502619124999]
[910,423,910273,"BRISTOL COUNTY               ",273,"SOMERSET                     ",4.7120418849999998E-2,382,18,54.34,2.560523560309]
[910,424,910292,"BRISTOL COUNTY               ",292,"SWANSEA                      ",4.7120418849999998E-2,382,18,61.59,2.9021465969714999]
[910,425,910293,"BRISTOL COUNTY               ",293,"TAUNTON                      ",0.10209424084,382,39,36.17,3.6927486911828002]
[910,426,910331,"BRISTOL COUNTY               ",331,"WESTPORT                     ",7.5916230370000004E-2,382,29,82.5,6.2630890055249999]
[915,427,915018,"NORFOLK COUNTY               ",18,"AVON                         ",1.7605633799999999E-2,284,5,66.84,1.176760563192]
[915,428,915025,"NORFOLK COUNTY               ",25,"BELLINGHAM                   ",8.0985915490000004E-2,284,23,70.13,5.6795422533137003]
[915,429,915040,"NORFOLK COUNTY               ",40,"BRAINTREE                    ",7.7464788729999998E-2,284,22,78.180000000000007,6.0561971829114007]
[915,430,915046,"NORFOLK COUNTY               ",46,"BROOKLINE                    ",3.5211267599999999E-3,284,1,82.5,0.2904929577]
[915,431,915050,"NORFOLK COUNTY               ",50,"CANTON                       ",2.8169014079999999E-2,284,8,82.5,2.3239436616]
[915,432,915065,"NORFOLK COUNTY               ",65,"COHASSET                     ",0,284,0,82.5,0]
[915,433,915073,"NORFOLK COUNTY               ",73,"DEDHAM                       ",3.8732394369999999E-2,284,11,82.5,3.1954225355250001]
[915,434,915078,"NORFOLK COUNTY               ",78,"DOVER                        ",0,284,0,82.5,0]
[915,435,915099,"NORFOLK COUNTY               ",99,"FOXBOROUGH                   ",4.5774647889999999E-2,284,13,82.5,3.776408450925]
[915,436,915101,"NORFOLK COUNTY               ",101,"FRANKLIN                     ",4.5774647889999999E-2,284,13,71.47,3.2715140846982997]
[915,437,915133,"NORFOLK COUNTY               ",133,"HOLBROOK                     ",1.4084507039999999E-2,284,4,50.95,0.71760563368800001]
[915,438,915175,"NORFOLK COUNTY               ",175,"MEDFIELD                     ",2.1126760559999999E-2,284,6,82.5,1.7429577461999999]
[915,439,915177,"NORFOLK COUNTY               ",177,"MEDWAY                       ",4.2253521129999999E-2,284,12,77.08,3.2569014087003998]
[915,440,915187,"NORFOLK COUNTY               ",187,"MILLIS                       ",3.8732394369999999E-2,284,11,77.53,3.0029225355060998]
[915,441,915189,"NORFOLK COUNTY               ",189,"MILTON                       ",1.056338028E-2,284,3,82.5,0.87147887309999994]
[915,442,{"$f":"A450*1000+E450","v":915199},"NORFOLK COUNTY               ",199,"NEEDHAM                      ",7.0422535199999997E-3,284,2,82.5,0.5809859154]
[915,443,915208,"NORFOLK COUNTY               ",208,"NORFOLK                      ",4.9295774649999999E-2,284,14,82.5,4.0669014086250002]
[915,444,915220,"NORFOLK COUNTY               ",220,"NORWOOD                      ",5.9859154929999998E-2,284,17,82.5,4.9383802817250002]
[915,445,915238,"NORFOLK COUNTY               ",238,"PLAINVILLE                   ",2.8169014079999999E-2,284,8,76.3,2.149295774304]
[915,446,915243,"NORFOLK COUNTY               ",243,"QUINCY                       ",5.6338028169999999E-2,284,16,81.14,4.5712676057137998]
[915,447,915244,"NORFOLK COUNTY               ",244,"RANDOLPH                     ",3.169014085E-2,284,9,56.14,1.779084507319]
[915,448,915266,"NORFOLK COUNTY               ",266,"SHARON                       ",1.7605633799999999E-2,284,5,80.39,1.4153169011819999]
[915,449,915285,"NORFOLK COUNTY               ",285,"STOUGHTON                    ",4.2253521129999999E-2,284,12,{"$f":"ROUND(VLOOKUP(E457,town351,12),2)","v":63.01},2.6623943664012999]
[915,450,915307,"NORFOLK COUNTY               ",307,"WALPOLE                      ",7.7464788729999998E-2,284,22,82.5,6.3908450702249997]
[915,451,915317,"NORFOLK COUNTY               ",317,"WELLESLEY",3.5211267599999999E-3,284,1,82.5,{"$f":"G459*J459","v":0.2904929577}]
[915,452,915335,"NORFOLK COUNTY               ",335,"WESTWOOD                     ",3.8732394369999999E-2,284,11,82.5,3.1954225355250001]
[915,453,915336,"NORFOLK COUNTY               ",336,"WEYMOUTH                     ",8.8028169010000004E-2,284,25,80.62,7.0968309855862008]
[915,454,915350,"NORFOLK COUNTY               ",350,"WRENTHAM                     ",3.5211267609999999E-2,284,10,82.5,2.9049295778249999]