{"text_format":"1","workbook":"xlsx","n_sheets":19,"sheets":["notes","parameters","Index","MoreAboutData","localcont","Foundation Budget","Municipal Contribution","Regional Allocation","Summary","Regional District Members","Comparison to FY21","Rates","Townwide Contributions","Aid436","ceyregionalcalc","disthist","dist435","leas","frac"],"not_rendered":{"charts":6,"images":4,"macros":1,"external_links":0,"defined_names":153,"comments":1,"pivot_tables":0},"unopened":[],"bounds":{"document_bytes":16777216,"sheet_cells":100000,"rows_first":2000,"rows_last":500,"rows_between":2000,"halvings":0,"cell_chars":16384,"cell_head_chars":4096},"cells_cut":0,"cells_raw":0,"read":"whole","date_system":"1900"}

{"sheet":"notes","index":0,"n_rows":28,"n_cols":4,"rows_kept":28,"cut":false,"hidden":true,"merged":[]}
["FY21 Chapter 70"]
[]
["Tabs","What happens on this sheet","Data source (if any)","Notes"]
["Parameters","Allows the user to adjust all of the policy levers in Chapter 70, except for changes to foundation.  Foundation budget scenarios can be changed, but they must 1st be run separately and dropped into localcont (all the way to the right).  Up to 11 alternatives can be included.",null,"Updated table for graph re: \"additional increments toward target\" to include 175%CEY increment"]
["Index","Controls the district being viewed for all reports except regional dist members","Dropdown box reads LEAs","Changed LEA 603 label to \"Hoosac Valley\""]
["Rates","CY and PY foundation budget rates\nUsed to calculate foundation budget report","Copied in from found file","Copied in FY21 rates"]
["Foundation Budget","1 district report showing build-up of foundation budget","Rates, dist435","labels"]
["Municipal Contribution","1 city/town report showing build-up of required local contribution (municipal level)","townwide contributions","labels"]
["Regional Allocation","1 city/town report showing allocation of total municipal required local contribution based on proportion of foundation budget at each district to which it belongs","localcont","labels"]
["Summary","1 district report summarizing C70 calculation and comparison to PY","aid436, disthist","labels"]
["Regional Dist Members","1 regional district report summarizing enrollment and local contribution for each member town\nChanged in FY18 to vlookup on localcont","localcont, leas","Updated sheet to present foundation enrollment and local contribution for each town-to-regional-district combination"]
["LocalCont","Results from distfrac get copied into the far right (up to 11 versions of foundation budget can be entered).  Toggle is on parameters sheet.\nData is organized in 5 row format for each city/town (municipality and its districts, blanks are 998 and total is 999).\nUsed to calculate each municipal-district combination's RLC.","found file, distfrac (allocate sheet)","Copied in FY20 foundation budget, %s, RLCs and enro."]
[]
["Comparison to FY19","2 year comparison for operating districts","aid436, disthist, localcont"]
["Townwide Contributions","Calculates municipal required local contributions","DOR (EQV, Income, MRGFs), PY file (RLCs), parameters","Copied FY20 RLCs into PY RLC column"]
["Aid436","Calculates district Ch 70 aid","disthist, localcont, frac, parameters\nStarting w/ LEA 406, in col J (target aid %), formula changes to pull from frac tab.","updated base aid for Belmont & Minuteman as Belmont will no longer be a member of Minuteman in FY21"]
["Frac","Calculates target aid percentage for regional districts"]
["DistHist","***Don't forget to copy in target aid %s from PY\nHistorical C70 data used in summary report, and other places",null,"Copied in FY20 FB, RLC and Aid\nCopied in target aid %s from FY20\n\nupdated FY20 aid values for Belmont & Minuteman to match base aid adjustments on aid436\n"]
["Dist435","Data source for foundation budget report, shows detailed enrollment and budget columns","found20"]
[]
["Data","Source","Year","Notes"]
["Inflation","BEA website","Q3 2018 to Q3 2019 as of Dec 2018 (1.99%)","Table 1.1.9. Implicit Price Deflators for Gross Domestic Product"]
["Wage Adjustment Factor Inputs","EOLWD","Calendar Year 2017","wagesense21"]
["EQV","DOR","2018 EQV","DOR file Dec. 2018"]
["Income","DOR","2017 Income","DOR file Dec. 2019"]
["Enrollment","DESE","FY21","found21"]
["Postgrad Enrollment","DESE-CVTE office","FY21","FY21"]
["MRGFs","DOR/ANF","FY21","DOR 1/8/2020"]

{"sheet":"parameters","index":1,"n_rows":50,"n_cols":27,"rows_kept":50,"cut":false,"hidden":true,"merged":[[4,10,4,29]]}
["Cyr","FY22",22]
["Pyr","FY21",21]
["As of","2021-01-27"]
[]
["Parameters",null,null,"Base",null,null,null,null,null,null,"Analysis of Aggregate Wealth Model Implementation"]
[null,"Which version of foundation budget? ",1,1,null,null,"FY21 C70 including Devens",5283651631.4799995]
[null,"Effort reduction",1,0,null,null,null,null,null,null,"Progress Towards Target Local Share"]
[null,"Pct downpayment on target aid share",0,0,null,null,"FY21 foundation aid increase",{"$f":"'Aid436'!L448","v":176740387.40000001}]
[null,null,null,0,null,null,null,null,null,null,null,"FY07","FY08","FY09","FY10","FY11","FY12","FY13","FY14","FY15","FY16","FY17","FY18","FY19","FY20","FY21","FY22"]
[null,null,null,null,null,null,"Minimum per pupil aid increase",{"$f":"'Aid436'!Y448","v":17246617.000000212},null,null,"excess effort before effort reduction",621.084157,494.05891200000002,372.382091,228.110232,366,293.3,229.8,234.5,307.90301399999998,235.358789,299.86437000000001,151.670894,68.664220999999998,21.435137000000001,104.649236,{"$f":"'Townwide Contributions'!V361/1000000","v":102.126903}]
[null,null,null,null,null,null,"Min aid adjustment increase",{"$f":"'Aid436'!AJ448","v":3697393.000000231},null,null,"effort reduction",124.21683139999998,123.51472800000001,122.88609003000001,34.216535,109.8,58.7,34.5,35.200000000000003,153.95150699999999,117.6793945,254.88471449999989,128.92025990000005,68.664220999999998,21.435137000000001,104.649236,{"$f":"'Townwide Contributions'!V361/1000000","v":102.126903}]
[null,null,null,null,null,null,"Non-op reduction",{"$f":"'Aid436'!AL448","v":31386.199999999997},null,null,"net excess after effort reduction",496.86732560000002,370.54418399999997,249.49600097000001,193.893697,256.2,{"$f":"Q10-Q11","v":234.60000000000002},{"$f":"R10-R11","v":195.3},199.3,152.08069825743701,117.482913201,44.978793475999993,22.749214023213945,0,0,0,{"$f":"'Townwide Contributions'!AC361/1000000","v":0}]
[null,null,null,null,null,null,"FY22 Chapter 70",{"$f":"'Aid436'!AM448","v":5480996084.6800003},null,null,"shortfall below target before increment",-321.45232199999998,-352.17487499999999,-359.19356299999998,-427.2,-228,-211,-200,-180.2,-162.97221500000001,-132.627218,-96.928090999999995,-103.17317,-117.254713,-207.485209,-163.71,{"$f":"'Townwide Contributions'!AA361/1000000","v":-212.872356}]
[null,"Per pupil guaranteed increase",30,0,null,null,"Devens",{"$f":"308558","v":308558},null,null,"additional increments toward target",0,-19.739149000000001,-21.387588000000001,-121.2,-10.6,-10,-4.2,-3.9,-7.5630930000000003,-5.8487390000000001,-2.4742150000000001,-3.6281780000000001,-5.3203490000000002,-19.253945000000002,-9.3782169999999994,{"$f":"('Townwide Contributions'!T361/1000000*-1)+('Townwide Contributions'!W361/1000000*-1)","v":-11.780052}]
[null,"Which version of mrgf? ",1,1,null,null,null,null,null,null,"net shortfall below target after increment",-321.45232199999998,-332.43572599999999,-337.80597499999999,-306,-217.4,-200.9,-195.7,-176.3,-155.409122,-126.778479,-94.453875999999994,-99.544991999999993,-111.934364,-188.23126400000001,-154.331783,{"$f":"'Townwide Contributions'!AB361/1000000","v":-201.09230400000001}]
[null,"Below effort threshold 1",2.5,2.5,null,null,"Change in C70 Appropriation",{"$f":"H13+H14-H6","v":197653011.20000076},null,null,"n of municipalities with effort too high",232,218,214,193,282,257,249,255,279,278,303,291,0,0,0,{"$f":"'Townwide Contributions'!AC364","v":0}]
[null,"Below effort threshold 2",7.5,7.5,null,null,"Percent Change",{"$f":"H16/H6","v":3.7408410884317962E-2}]
[null,"Below effort contribution increment, 5-10% under",0.01,0.01]
[null,"Below effort contribution increment, >10% under",0.02,0.02,null,null,"N of Foundation Aid Districts",{"$f":"'Aid436'!P448","v":76}]
[null,"Maximum local contribution pct of foundation",0.82499999999999996,0.82499999999999996,null,null,"N of Districts with an Aid Increase",{"$f":"'Comparison to FY21'!N331","v":318}]
[null,"Statewide target for local contribution % of foundation",0.59,0.59,null,null,"Total C70 Including Devens",{"$f":"H13+H14","v":5481304642.6800003}]
[null,"Cap contributions at fixed percentage of foundation",0.9,0.9]
[null,"Percentage cut to base aid",0,0]
["Eqv/income percentages"]
[]
[null,"Target effort",{"$f":"C21*localcont!K1765","v":7011299095.2524147}]
[null,"Effort based upon following percentages",{"$f":"'Townwide Contributions'!K361","v":7011299098}]
[null,"Difference  from target",{"$f":"IF(ABS(C27-C26)<10,0,C27-C26)","v":0}]
[null,"           Percentage of EQV ",3.3108570937612999E-3]
[null,"           Percentage of INCOME",{"$f":"C29*1/C34","v":1.4134795090869274E-2}]
[]
[null,"Total EQV",{"$f":"'Townwide Contributions'!C361","v":1420130860400}]
[null,"Total Income",{"$f":"'Townwide Contributions'!E361","v":332643685529.04999}]
[null,"State Average % of EQV",{"$f":"C33/C32","v":0.23423453063709648}]
[]
[]
["See Progress Towards Targets"]
[]
[]
[]
[]
[null,null,null,null,null,null,null,null,null,null,"Progress Towards Target Aid Share"]
[]
[null,null,null,null,null,null,null,null,null,null,null,"FY07","FY08","FY09","FY10","FY11","FY12","FY13","FY14","FY15","FY16","FY17","FY18","FY19","FY20","FY21","FY22"]
[null,null,null,null,null,null,null,null,null,null,"aid above target",394.9,421,440.4,413.59914561056684,489.29058672761249,360.5802896250691,372.91397258755205,385.3,404.65393358144092,419.07307786449184,488.13621374028867,497.40384494550671,487.80696944632837,518.44879540449108,516.49432754833651,{"$f":"'Aid436'!BI449/1000000","v":608.75156937864006}]
[null,null,null,null,null,null,null,null,null,null,"aid below target",-176.3,-143,-105.5,-97.823632622684812,-75.730739773442338,-110.4290612110001,-84.706296922117531,-66.900000000000006,-49.399214270156875,-44.487988876901781,-13.013026762936654,-7.2026888360463408,-1.8096836867057722E-2,-1.1899810261307884E-3,-1.2838879272505514E-2,{"$f":"'Aid436'!BI450/1000000","v":-5.9537543275094357E-3}]
[]
[]
[]
[null,null,{"$f":"TEXT(effortred,\"0%\")","v":"100%"}]

{"sheet":"Index","index":2,"n_rows":464,"n_cols":10,"rows_kept":464,"cut":false,"hidden":false,"merged":[]}
["Massachusetts Department of Elementary and Secondary Education",null,null,null,null,null,null,null,null,"2021-01-27"]
[{"$f":"parameters!B1& \" Chapter 70 and Net School Spending Formula Spreadsheet\"","v":"FY22 Chapter 70 and Net School Spending Formula Spreadsheet"},null,null,null,null,null,null,null,null,""]
[null,"Select or type full district name below","LEA code"]
[{"$f":"C4","v":999},"Select a district",{"$f":"VLOOKUP(B4,leas!$E$4:$F$445,2,FALSE)","v":999}]
[]
[null,"Use the drop-down menu to select a municipal or regional district  and then go to any of the first four links below.  "]
[null,"Only municipal district selections will activate the Municipal Contribution Requirement and Regional Allocation reports."]
[null,"A list of LEAs by code begins on row 26 of this sheet."]
[]
[null,"We recommend that you save this workbook to your computer before proceeding, then leave this browser, and open the workbook using Excel or My Computer."]
[]
[null,"Summary"]
[null,"Foundation Budget"]
[null,"Municipal Contribution Requirement"]
[null,"Regional Allocation"]
[]
[null,"Regional District Detail",null,"(go to this sheet to see any particular regional district's comparison of enrollment and minimum contributions to the prior year)"]
[]
[null,"There are also a number of \"hidden\" sheets which contain the underlying spreadsheet calculations."]
[null,"They can be accessed by right-clicking on any of the tabs below and choosing a sheet to unhide."]
[]
[null,"Questions or comments about Chapter 70 may be directed to:"]
[null,"Rob Hanna",null,"Robert.Hanna@mass.gov",null,null,"781-338-6525"]
[null,"Rob O'Donnell",null,"Robert.F.O'Donnell@mass.gov",null,null,"781-338-6512"]
[]
[null,"District",null,"LEA Number"]
[null,"Abington                     ",null,1]
[null,"Acton                        ",null,2]
[null,"Acton Boxborough             ",null,600]
[null,"Acushnet                     ",null,3]
[null,"Adams                        ",null,4]
[null,"Agawam                       ",null,5]
[null,"Alford                       ",null,6]
[null,"Amesbury                     ",null,7]
[null,"Amherst                      ",null,8]
[null,"Amherst Pelham               ",null,605]
[null,"Andover                      ",null,9]
[null,"Arlington                    ",null,10]
[null,"Ashburnham                   ",null,11]
[null,"Ashburnham Westminster       ",null,610]
[null,"Ashby                        ",null,12]
[null,"Ashfield                     ",null,13]
[null,"Ashland                      ",null,14]
[null,"Assabet Valley               ",null,801]
[null,"Athol                        ",null,15]
[null,"Athol Royalston              ",null,615]
[null,"Attleboro                    ",null,16]
[null,"Auburn                       ",null,17]
[null,"Avon                         ",null,18]
[null,"Ayer                         ",null,19]
[null,"Ayer Shirley",null,616]
[null,"Barnstable                   ",null,20]
[null,"Barre                        ",null,21]
[null,"Becket                       ",null,22]
[null,"Bedford                      ",null,23]
[null,"Belchertown                  ",null,24]
[null,"Bellingham                   ",null,25]
[null,"Belmont                      ",null,26]
[null,"Berkley                      ",null,27]
[null,"Berkshire Hills              ",null,618]
[null,"Berlin                       ",null,28]
[null,"Berlin Boylston              ",null,620]
[null,"Bernardston                  ",null,29]
[null,"Beverly                      ",null,30]
[null,"Billerica                    ",null,31]
[null,"Blackstone                   ",null,32]
[null,"Blackstone Millville         ",null,622]
[null,"Blackstone Valley            ",null,805]
[null,"Blandford                    ",null,33]
[null,"Blue Hills                   ",null,806]
[null,"Bolton                       ",null,34]
[null,"Boston                       ",null,35]
[null,"Bourne                       ",null,36]
[null,"Boxborough                   ",null,37]
[null,"Boxford                      ",null,38]
[null,"Boylston                     ",null,39]
[null,"Braintree                    ",null,40]
[null,"Brewster                     ",null,41]
[null,"Bridgewater                  ",null,42]
[null,"Bridgewater Raynham          ",null,625]
[null,"Brimfield                    ",null,43]
[null,"Bristol County               ",null,910]
[null,"Bristol Plymouth             ",null,810]
[null,"Brockton                     ",null,44]
[null,"Brookfield                   ",null,45]
[null,"Brookline                    ",null,46]
[null,"Buckland                     ",null,47]
[null,"Burlington                   ",null,48]
[null,"Cambridge                    ",null,49]
[null,"Canton                       ",null,50]
[null,"Cape Cod                     ",null,815]
[null,"Carlisle                     ",null,51]
[null,"Carver                       ",null,52]
[null,"Central Berkshire            ",null,635]
[null,"Charlemont                   ",null,53]
[null,"Charlton                     ",null,54]
[null,"Chatham                      ",null,55]
[null,"Chelmsford                   ",null,56]
[null,"Chelsea                      ",null,57]
[null,"Cheshire                     ",null,58]
[null,"Chester                      ",null,59]
[null,"Chesterfield                 ",null,60]
[null,"Chesterfield Goshen",null,632]
[null,"Chicopee                     ",null,61]
[null,"Chilmark                     ",null,62]
[null,"Clarksburg                   ",null,63]
[null,"Clinton                      ",null,64]
[null,"Cohasset                     ",null,65]
[null,"Colrain                      ",null,66]
[null,"Concord                      ",null,67]
[null,"Concord Carlisle             ",null,640]
[null,"Conway                       ",null,68]
[null,"Cummington                   ",null,69]
[null,"Dalton                       ",null,70]
[null,"Danvers                      ",null,71]
[null,"Dartmouth                    ",null,72]
[null,"Dedham                       ",null,73]
[null,"Deerfield                    ",null,74]
[null,"Dennis                       ",null,75]
[null,"Dennis Yarmouth              ",null,645]
[null,"Dighton                      ",null,76]
[null,"Dighton Rehoboth             ",null,650]
[null,"Douglas                      ",null,77]
[null,"Dover                        ",null,78]
[null,"Dover Sherborn               ",null,655]
[null,"Dracut                       ",null,79]
[null,"Dudley                       ",null,80]
[null,"Dudley Charlton              ",null,658]
[null,"Dunstable                    ",null,81]
[null,"Duxbury                      ",null,82]
[null,"East Bridgewater             ",null,83]
[null,"East Brookfield              ",null,84]
[null,"East Longmeadow              ",null,87]
[null,"Eastham                      ",null,85]
[null,"Easthampton                  ",null,86]
[null,"Easton                       ",null,88]
[null,"Edgartown                    ",null,89]
[null,"Egremont                     ",null,90]
[null,"Erving                       ",null,91]
[null,"Essex                        ",null,92]
[null,"Essex North Shore",null,817]
[null,"Everett                      ",null,93]
[null,"Fairhaven                    ",null,94]
[null,"Fall River                   ",null,95]
[null,"Falmouth                     ",null,96]
[null,"Farmington River",null,662]
[null,"Fitchburg                    ",null,97]
[null,"Florida                      ",null,98]
[null,"Foxborough                   ",null,99]
[null,"Framingham                   ",null,100]
[null,"Franklin                     ",null,101]
[null,"Franklin County              ",null,818]
[null,"Freetown                     ",null,102]
[null,"Freetown Lakeville           ",null,665]
[null,"Frontier                     ",null,670]
[null,"Gardner                      ",null,103]
[null,"Gateway                      ",null,672]
[null,"Gay Head                     ",null,104]
[null,"Georgetown                   ",null,105]
[null,"Gill                         ",null,106]
[null,"Gill Montague                ",null,674]
[null,"Gloucester                   ",null,107]
[null,"Goshen                       ",null,108]
[null,"Gosnold                      ",null,109]
[null,"Grafton                      ",null,110]
[null,"Granby                       ",null,111]
[null,"Granville                    ",null,112]
[null,"Great Barrington             ",null,113]
[null,"Greater Fall River           ",null,821]
[null,"Greater Lawrence             ",null,823]
[null,"Greater Lowell               ",null,828]
[null,"Greater New Bedford          ",null,825]
[null,"Greenfield                   ",null,114]
[null,"Groton                       ",null,115]
[null,"Groton Dunstable             ",null,673]
[null,"Groveland                    ",null,116]
[null,"Hadley                       ",null,117]
[null,"Halifax                      ",null,118]
[null,"Hamilton                     ",null,119]
[null,"Hamilton Wenham              ",null,675]
[null,"Hampden                      ",null,120]
[null,"Hampden Wilbraham            ",null,680]
[null,"Hampshire                    ",null,683]
[null,"Hancock                      ",null,121]
[null,"Hanover                      ",null,122]
[null,"Hanson                       ",null,123]
[null,"Hardwick                     ",null,124]
[null,"Harvard                      ",null,125]
[null,"Harwich                      ",null,126]
[null,"Hatfield                     ",null,127]
[null,"Haverhill                    ",null,128]
[null,"Hawlemont                    ",null,685]
[null,"Hawley                       ",null,129]
[null,"Heath                        ",null,130]
[null,"Hingham                      ",null,131]
[null,"Hinsdale                     ",null,132]
[null,"Holbrook                     ",null,133]
[null,"Holden                       ",null,134]
[null,"Holland                      ",null,135]
[null,"Holliston                    ",null,136]
[null,"Holyoke                      ",null,137]
[null,"Hoosac Valley",null,603]
[null,"Hopedale                     ",null,138]
[null,"Hopkinton                    ",null,139]
[null,"Hubbardston                  ",null,140]
[null,"Hudson                       ",null,141]
[null,"Hull                         ",null,142]
[null,"Huntington                   ",null,143]
[null,"Ipswich                      ",null,144]
[null,"King Philip                  ",null,690]
[null,"Kingston                     ",null,145]
[null,"Lakeville                    ",null,146]
[null,"Lancaster                    ",null,147]
[null,"Lanesborough                 ",null,148]
[null,"Lawrence                     ",null,149]
[null,"Lee                          ",null,150]
[null,"Leicester                    ",null,151]
[null,"Lenox                        ",null,152]
[null,"Leominster                   ",null,153]
[null,"Leverett                     ",null,154]
[null,"Lexington                    ",null,155]
[null,"Leyden                       ",null,156]
[null,"Lincoln                      ",null,157]
[null,"Lincoln Sudbury              ",null,695]
[null,"Littleton                    ",null,158]
[null,"Longmeadow                   ",null,159]
[null,"Lowell                       ",null,160]
[null,"Ludlow                       ",null,161]
[null,"Lunenburg                    ",null,162]
[null,"Lynn                         ",null,163]
[null,"Lynnfield                    ",null,164]
[null,"Malden                       ",null,165]
[null,"Manchester                   ",null,166]
[null,"Manchester Essex",null,698]
[null,"Mansfield                    ",null,167]
[null,"Marblehead                   ",null,168]
[null,"Marion                       ",null,169]
[null,"Marlborough                  ",null,170]
[null,"Marshfield                   ",null,171]
[null,"Marthas Vineyard             ",null,700]
[null,"Masconomet                   ",null,705]
[null,"Mashpee                      ",null,172]
[null,"Mattapoisett                 ",null,173]
[null,"Maynard                      ",null,174]
[null,"Medfield                     ",null,175]
[null,"Medford                      ",null,176]
[null,"Medway                       ",null,177]
[null,"Melrose                      ",null,178]
[null,"Mendon                       ",null,179]
[null,"Mendon Upton                 ",null,710]
[null,"Merrimac                     ",null,180]
[null,"Methuen                      ",null,181]
[null,"Middleborough                ",null,182]
[null,"Middlefield                  ",null,183]
[null,"Middleton                    ",null,184]
[null,"Milford                      ",null,185]
[null,"Millbury                     ",null,186]
[null,"Millis                       ",null,187]
[null,"Millville                    ",null,188]
[null,"Milton                       ",null,189]
[null,"Minuteman                    ",null,830]
[null,"Mohawk Trail                 ",null,717]
[null,"Monomoy",null,712]
[null,"Monroe                       ",null,190]
[null,"Monson                       ",null,191]
[null,"Montachusett                 ",null,832]
[null,"Montague                     ",null,192]
[null,"Monterey                     ",null,193]
[null,"Montgomery                   ",null,194]
[null,"Mount Greylock               ",null,715]
[null,"Mount Washington             ",null,195]
[null,"Nahant                       ",null,196]
[null,"Nantucket                    ",null,197]
[null,"Narragansett                 ",null,720]
[null,"Nashoba                      ",null,725]
[null,"Nashoba Valley               ",null,852]
[null,"Natick                       ",null,198]
[null,"Nauset                       ",null,660]
[null,"Needham                      ",null,199]
[null,"New Ashford                  ",null,200]
[null,"New Bedford                  ",null,201]
[null,"New Braintree                ",null,202]
[null,"New Marlborough              ",null,205]
[null,"New Salem                    ",null,206]
[null,"New Salem Wendell            ",null,728]
[null,"Newbury                      ",null,203]
[null,"Newburyport                  ",null,204]
[null,"Newton                       ",null,207]
[null,"Norfolk                      ",null,208]
[null,"Norfolk County               ",null,915]
[null,"North Adams                  ",null,209]
[null,"North Andover                ",null,211]
[null,"North Attleborough           ",null,212]
[null,"North Brookfield             ",null,215]
[null,"North Middlesex              ",null,735]
[null,"North Reading                ",null,217]
[null,"Northampton                  ",null,210]
[null,"Northampton Smith            ",null,406]
[null,"Northboro Southboro          ",null,730]
[null,"Northborough                 ",null,213]
[null,"Northbridge                  ",null,214]
[null,"Northeast Metropolitan       ",null,853]
[null,"Northern Berkshire           ",null,851]
[null,"Northfield                   ",null,216]
[null,"Norton                       ",null,218]
[null,"Norwell                      ",null,219]
[null,"Norwood                      ",null,220]
[null,"Oak Bluffs                   ",null,221]
[null,"Oakham                       ",null,222]
[null,"Old Colony                   ",null,855]
[null,"Old Rochester                ",null,740]
[null,"Orange                       ",null,223]
[null,"Orleans                      ",null,224]
[null,"Otis                         ",null,225]
[null,"Oxford                       ",null,226]
[null,"Palmer                       ",null,227]
[null,"Pathfinder                   ",null,860]
[null,"Paxton                       ",null,228]
[null,"Peabody                      ",null,229]
[null,"Pelham                       ",null,230]
[null,"Pembroke                     ",null,231]
[null,"Pentucket                    ",null,745]
[null,"Pepperell                    ",null,232]
[null,"Peru                         ",null,233]
[null,"Petersham                    ",null,234]
[null,"Phillipston                  ",null,235]
[null,"Pioneer                      ",null,750]
[null,"Pittsfield                   ",null,236]
[null,"Plainfield                   ",null,237]
[null,"Plainville                   ",null,238]
[null,"Plymouth                     ",null,239]
[null,"Plympton                     ",null,240]
[null,"Princeton                    ",null,241]
[null,"Provincetown                 ",null,242]
[null,"Quabbin                      ",null,753]
[null,"Quaboag",null,778]
[null,"Quincy                       ",null,243]
[null,"Ralph C Mahar                ",null,755]
[null,"Randolph                     ",null,244]
[null,"Raynham                      ",null,245]
[null,"Reading                      ",null,246]
[null,"Rehoboth                     ",null,247]
[null,"Revere                       ",null,248]
[null,"Richmond                     ",null,249]
[null,"Rochester                    ",null,250]
[null,"Rockland                     ",null,251]
[null,"Rockport                     ",null,252]
[null,"Rowe                         ",null,253]
[null,"Rowley                       ",null,254]
[null,"Royalston                    ",null,255]
[null,"Russell                      ",null,256]
[null,"Rutland                      ",null,257]
[null,"Salem                        ",null,258]
[null,"Salisbury                    ",null,259]
[null,"Sandisfield                  ",null,260]
[null,"Sandwich                     ",null,261]
[null,"Saugus                       ",null,262]
[null,"Savoy                        ",null,263]
[null,"Scituate                     ",null,264]
[null,"Seekonk                      ",null,265]
[null,"Sharon                       ",null,266]
[null,"Shawsheen Valley             ",null,871]
[null,"Sheffield                    ",null,267]
[null,"Shelburne                    ",null,268]
[null,"Sherborn                     ",null,269]
[null,"Shirley                      ",null,270]
[null,"Shrewsbury                   ",null,271]
[null,"Shutesbury                   ",null,272]
[null,"Silver Lake                  ",null,760]
[null,"Somerset                     ",null,273]
[null,"Somerset Berkley",null,763]
[null,"Somerville                   ",null,274]
[null,"South Hadley                 ",null,278]
[null,"South Middlesex              ",null,829]
[null,"South Shore                  ",null,873]
[null,"Southampton                  ",null,275]
[null,"Southborough                 ",null,276]
[null,"Southbridge                  ",null,277]
[null,"Southeastern                 ",null,872]
[null,"Southern Berkshire           ",null,765]
[null,"Southern Worcester           ",null,876]
[null,"Southwick                    ",null,279]
[null,"Southwick Tolland Granville",null,766]
[null,"Spencer                      ",null,280]
[null,"Spencer East Brookfield      ",null,767]
[null,"Springfield                  ",null,281]
[null,"Sterling                     ",null,282]
[null,"Stockbridge                  ",null,283]
[null,"Stoneham                     ",null,284]
[null,"Stoughton                    ",null,285]
[null,"Stow                         ",null,286]
[null,"Sturbridge                   ",null,287]
[null,"Sudbury                      ",null,288]
[null,"Sunderland                   ",null,289]
[null,"Sutton                       ",null,290]
[null,"Swampscott                   ",null,291]
[null,"Swansea                      ",null,292]
[null,"Tantasqua                    ",null,770]
[null,"Taunton                      ",null,293]
[null,"Templeton                    ",null,294]
[null,"Tewksbury                    ",null,295]
[null,"Tisbury                      ",null,296]
[null,"Tolland                      ",null,297]
[null,"Topsfield                    ",null,298]
[null,"Townsend                     ",null,299]
[null,"Tri County                   ",null,878]
[null,"Triton                       ",null,773]
[null,"Truro                        ",null,300]
[null,"Tyngsborough                 ",null,301]
[null,"Tyringham                    ",null,302]
[null,"Upisland",null,774]
[null,"Upper Cape Cod               ",null,879]
[null,"Upton                        ",null,303]
[null,"Uxbridge                     ",null,304]
[null,"Wachusett                    ",null,775]
[null,"Wakefield                    ",null,305]
[null,"Wales                        ",null,306]
[null,"Walpole                      ",null,307]
[null,"Waltham                      ",null,308]
[null,"Ware                         ",null,309]
[null,"Wareham                      ",null,310]
[null,"Warren                       ",null,311]
[null,"Warwick                      ",null,312]
[null,"Washington                   ",null,313]
[null,"Watertown                    ",null,314]
[null,"Wayland                      ",null,315]
[null,"Webster                      ",null,316]
[null,"Wellesley                    ",null,317]
[null,"Wellfleet                    ",null,318]
[null,"Wendell                      ",null,319]
[null,"Wenham                       ",null,320]
[null,"West Boylston                ",null,322]
[null,"West Bridgewater             ",null,323]
[null,"West Brookfield              ",null,324]
[null,"West Newbury                 ",null,329]
[null,"West Springfield             ",null,332]
[null,"West Stockbridge             ",null,333]
[null,"West Tisbury                 ",null,334]
[null,"Westborough                  ",null,321]
[null,"Westfield                    ",null,325]
[null,"Westford                     ",null,326]
[null,"Westhampton                  ",null,327]
[null,"Westminster                  ",null,328]
[null,"Weston                       ",null,330]
[null,"Westport                     ",null,331]
[null,"Westwood                     ",null,335]
[null,"Weymouth                     ",null,336]
[null,"Whately                      ",null,337]
[null,"Whitman                      ",null,338]
[null,"Whitman Hanson               ",null,780]
[null,"Whittier                     ",null,885]
[null,"Wilbraham                    ",null,339]
[null,"Williamsburg                 ",null,340]
[null,"Williamstown                 ",null,341]
[null,"Wilmington                   ",null,342]
[null,"Winchendon                   ",null,343]
[null,"Winchester                   ",null,344]
[null,"Windsor                      ",null,345]
[null,"Winthrop                     ",null,346]
[null,"Woburn",null,347]
[null,"Worcester                    ",null,348]
[null,"Worthington                  ",null,349]
[null,"Wrentham                     ",null,350]
[null,"Yarmouth                     ",null,351]

{"sheet":"MoreAboutData","index":3,"n_rows":34,"n_cols":7,"rows_kept":34,"cut":false,"hidden":false,"merged":[[0,1,0,5],[1,1,1,5],[2,0,2,5],[3,4,3,5],[33,0,33,5],[16,0,16,5],[5,4,5,5],[10,4,10,5],[15,4,15,5],[17,4,17,5],[21,4,21,5],[6,0,7,5],[11,0,12,5],[18,0,18,5],[9,0,9,5],[32,4,32,5],[26,0,27,5],[28,4,28,5],[29,0,29,5],[31,0,31,5],[14,0,14,5],[20,0,20,5],[24,0,24,5],[25,4,25,5],[30,4,30,5]]}
[null,{"$f":"CYr&\" Chapter 70 and Net School Spending Formula\"","v":"FY22 Chapter 70 and Net School Spending Formula"},"FY18 Chapter 70 and Net School Spending Formula Spreadsheet","FY18 Chapter 70 and Net School Spending Formula Spreadsheet","FY18 Chapter 70 and Net School Spending Formula Spreadsheet","FY18 Chapter 70 and Net School Spending Formula Spreadsheet","Return to Index"]
[null,"More about the data"]
["TABLE OF CONTENTS\n"]
["Index",null,null,null,"Back to the top"]
["Select the district you're interested in from the dropdown list on this sheet."]
["Foundation Budget",null,null,null,"Back to the top"]
["This report displays the foundation enrollment and foundation budget for a single district. A district’s foundation budget is updated each year and it is derived by multiplying the number of pupils in thirteen enrollment categories by cost rates in eleven functional areas. "]
[]
["Key Terms"]
["Foundation Enrollment: A count of the students for whom a school district is financially responsible on October 1st of any given year.\nInflation: Foundation budget rates are adjusted each year by a statutorily defined inflationary factor.  It affects all districts in the same way. \nWage Adjustment Factor (WAF): Gives a district credit for having higher school costs if it is located in a geographic area where average wages are higher than in other areas of the state. Calculated using the latest available average wage data supplied by the state’s Executive Office of Labor and Workforce Development (EOLWD).  \nLow Income Group: Determined based on the relative concentration of low income students served in the district. Corresponds to a foundation budget rate for low income students."]
["Municipal Contribution",null,null,null,"Back to the top"]
["This report displays the required local contribution for a single municipality. Each municipality has a target local share of its foundation budget, based on local ability to pay. The required local contribution for each municipality is based on the previous year's required contribution, and includes some transition factors so that the shift toward the target levels occurs over a period of several years."]
[]
["Key Terms"]
["Equalized Valuation (EQV): Calculated by DOR every two years. Full and fair cash value of all taxable property for each municipality.\nIncome: Derived annually by DOR from state income tax returns. Includes all forms of wage, pension, interest, business, investment, and capital gains income.\nCombined Effort Yield (CEY): Sum of property and income effort. Based on DESE-calculated property and income percentages, which, when applied to all municipalities in the Commonwealth, yields 59% of statewide foundation coming from local revenue.\nTarget Local Contribution/Share: Calculated for each municipality as an equitable share of its foundation budget based on property wealth and income.\nMunicipal Revenue Growth Factor (MRGF): Calculated each year by DOR and quantifies the most recent annual percentage change in each community's local revenues (such as the annual increase in the Proposition 2½ levy limit) that should be available for schools. "]
["Regional Allocation",null,null,null,"Back to the top"]
["This report displays the allocation of a municipality's required local contribution across the districts to which it belongs. The municipality's required contribution is allocated in direct proportion to the district's share of the municipality's foundation budget."]
["Summary",null,null,null,"Back to the top"]
["This report displays the Chapter 70 aid calculation for a single district. The aid calculation begins with each district's prior year Chapter 70 amount. The difference between each district's foundation budget and its required contribution equals foundation aid. On the right-hand side, there is a comparison to the prior year."]
["Key Terms"]
["Foundation Aid: The amount of aid needed by a district to reach its foundation budget, after factoring in this year's required local contribution. Foundation budget - Required Local Contribution = Foundation Aid\nMinimum Aid: A guaranteed per pupil aid increase over the prior year.\nRequired Net School Spending (NSS): The sum of this year's required local contribution and Chapter 70 aid. A district must spend this amount to be in compliance."]
["Regional District Members",null,null,null,"Back to the top"]
["This report displays relevant data for municipal members of a single regional district."]
["Key Terms"]
["Foundation Enrollment: Foundation enrollment for the selected district, in total and by member.\nRequired Minimum Contribution: Total required minimum contribution for the selected district, in total and by member."]
[{"$f":"\"Comparison to \"&PYr","v":"Comparison to FY21"},null,null,null,"Back to the top"]
["This report displays prior year and current year foundation enrollment, foundation budget, required local contribution and Chapter 70 aid for all operating districts."]
[]
["Rates",null,null,null,"Back to the top"]
["This sheet displays the FY22 foundation budget rates."]
["Townwide Contributions",null,null,null,"Back to the top"]
["This sheet calculates FY22 required local contributions for each municipality."]
["Aid436",null,null,null,"Back to the top"]
["This sheet calculates FY22 Chapter 70 aid for each district."]

{"sheet":"localcont","index":4,"n_rows":1766,"n_cols":102,"rows_kept":562,"cut":true,"hidden":true,"merged":[[5,95,5,99],[4,95,4,99],[4,61,4,65],[5,61,5,65],[4,67,4,71],[5,67,5,71],[4,85,4,89],[5,85,5,89],[4,73,4,77],[5,73,5,77],[4,79,4,83],[5,79,5,83],[4,55,4,59],[5,55,5,59],[5,19,5,23],[4,43,4,47],[5,43,5,47],[4,49,4,53],[5,49,5,53],[5,25,5,29],[4,31,4,35],[5,31,5,35],[4,37,4,41],[5,37,5,41],[4,25,4,29]],"bounds":{"rows_first":250,"rows_last":62,"rows_between":250,"halvings":3}}
[null,null,null,null,null,null,null,null,"c70fy21","c70fy21",null,null,null,null,"c70fy21",null,null,"c70fy21",null,null,null,null,null,null,null,"2021-01-14",null,null,null,null,null,null,null,null,null,null,null,null,null,null,null,null,null,null,null,null,null,null,null,null,null,null,null,null,null,null,null,null,null,null,null,null,null,null,null,null,null,null,null,null,null,null,null,null,null,null,null,null,null,null,null,null,null,null,null,null,null,null,null,null,"Lookup table for foundation budget scenarios",1,2]
[null,null,null,null,null,null,null,null,null,null,null,null,null,null,null,null,null,null,null,null,null,null,null,null,null,null,null,null,null,null,null,null,null,null,null,null,null,null,null,null,null,null,null,null,null,null,null,null,null,null,null,null,null,null,null,null,null,null,null,null,null,null,null,null,null,null,null,null,null,null,null,null,null,null,null,null,null,null,null,null,null,null,null,null,null,null,null,null,null,null,null,2,8]
[null,null,null,1,2,3,4,5,6,7,8,9,10,11,12,13,14,15,16,17,18,19,20,21,1,2,3,4,5,6,7,8,9,10,11,12,13,14,15,16,17,18,19,20,21,22,23,24,25,26,27,28,29,30,31,32,33,34,35,36,37,38,39,40,41,42,43,44,45,46,47,48,49,50,51,52,53,54,55,56,57,58,59,60,61,62,63,64,65,66,null,3,14,null,null,62,63,64,65,66]
[null,null,null,null,null,null,"lea1755",null,null,null,"found1755",null,null,"prelcont1755","pynetmin",null,null,"pyenro",null,null,null,null,"enro1755",null,null,null,null,null,null,null,null,null,null,null,null,null,null,null,null,null,null,null,null,null,null,null,null,null,null,null,null,null,null,null,null,null,null,null,null,null,null,null,null,null,null,null,null,null,null,null,null,null,null,null,null,null,null,null,null,null,null,null,null,null,null,null,null,null,null,null,null,4,20]
[null,null,null,null,null,null,null,null,"Updated 12/18/20","Updated 12/18/20",null,null,null,null,"Updated 12/18/20",null,null,"Updated 12/18/20",null,null,null,null,null,null,null,1,null,null,null,null,null,2,null,null,null,null,null,3,null,null,null,null,null,4,null,null,null,null,null,5,null,null,null,null,null,6,null,null,null,null,null,7,null,null,null,null,null,8,null,null,null,null,null,9,null,null,null,null,null,10,null,null,null,null,null,11,null,null,null,null,null,5,26,null,null,"FY19"]
[null,null,null,null,null,null,null,null,null,null,null,null,null,null,null,null,null,null,null,{"$f":"parameters!$C$6","v":1},null,null,null,null,null,"FY22 - SOA Year One",null,null,null,null,null,null,null,null,null,null,null,null,null,null,null,null,null,null,null,null,null,null,null,null,null,null,null,null,null,null,null,null,null,null,null,null,null,null,null,null,null,null,null,null,null,null,null,null,null,null,null,null,null,null,null,null,null,null,null,null,null,null,null,null,null,6,32,null,null,"FY19"]
[null,null,null,null,null,null,null,null,{"$f":"PYr","v":"FY21"},{"$f":"PYr","v":"FY21"},{"$f":"CYr","v":"FY22"},{"$f":"CYr","v":"FY22"},{"$f":"CYr","v":"FY22"},{"$f":"CYr","v":"FY22"},{"$f":"PYr","v":"FY21"},null,null,null,null,null,null,null,null,null,null,null,null,null,null,null,null,null,null,null,null,null,null,null,null,null,null,null,null,null,null,null,null,null,null,null,null,null,null,null,null,null,null,null,null,null,null,null,null,null,null,null,null,null,null,null,null,null,null,null,null,null,null,null,null,null,null,null,null,null,null,null,null,null,null,null,null,7,38,null,null,null,null,null,null,null,"FY19","FY19"]
[null,null,null,null,null,null,null,null,"Foundation","Share of Total","Foundation","Share of Total","Townwide","Net Minimum","Net Minimum",{"$f":"PYr&\" to \"&CYr","v":"FY21 to FY22"},"Percent",{"$f":"PYr","v":"FY21"},{"$f":"CYr","v":"FY22"},null,null,null,"final","foundation",null,null,null,null,"final","foundation",null,null,null,null,"final","foundation",null,null,null,null,"final","foundation",null,null,null,null,"final","foundation",null,null,null,null,"final","foundation",null,null,null,null,"final","foundation",null,null,null,null,"final","foundation",null,null,null,null,"final","foundation",null,null,null,null,"final","foundation",null,null,null,null,"final","foundation",null,null,null,null,"final","foundation",null,8,44,null,null,null,null,null,"final","foundation","Share of Total","Net Minimum"]
["TownLEA","Town","LEA","Order","Town","City or Town","LEA","School District","Budget","Foundation","Budget","Foundation","Contribution","Contribution","Contribution","Change","Change","Enrollment","Enrollment","Town","LEA","Order","enrollment","budget",null,"Town","LEA","Order","enrollment","budget",null,"Town","LEA","Order","enrollment","budget",null,"Town","LEA","Order","enrollment","budget",null,"Town","LEA","Order","enrollment","budget",null,"Town","LEA","Order","enrollment","budget",null,"Town","LEA","Order","enrollment","budget",null,"Town","LEA","Order","enrollment","budget",null,"Town","LEA","Order","enrollment","budget",null,"Town","LEA","Order","enrollment","budget",null,"Town","LEA","Order","enrollment","budget",null,"Town","LEA","Order","enrollment","budget",null,9,50,null,null,"Town","LEA","Order","enrollment","budget","Foundation","Contribution"]
[{"$f":"B10&C10","v":"00010001"},"0001","0001",1,1,"Abington                     ",1,"Abington",25332546.714959998,0.94390333228259982,{"$f":"X10","v":26452103.926830001},{"$f":"IF(K14>0, K10/K14, 0)","v":0.94230222143198339},null,{"$f":"ROUND(M14*L10,0)","v":15764755},15287069,{"$f":"N10-O10","v":477686},{"$f":"IF(O10>0,P10*100/O10,IF(P10>0,100,0))","v":3.1247716615918986},2197,{"$f":"W10","v":2193},{"$f":"VLOOKUP($D10, foundoptions, VLOOKUP($T$6, foundoptcell, 2, FALSE), FALSE)","v":1},{"$f":"VLOOKUP($D10, foundoptions, VLOOKUP($T$6, foundoptcell, 2, FALSE)+1, FALSE)","v":1},{"$f":"VLOOKUP($D10, foundoptions, VLOOKUP($T$6, foundoptcell, 2, FALSE)+2, FALSE)","v":1},{"$f":"VLOOKUP($D10, foundoptions, VLOOKUP($T$6, foundoptcell, 2, FALSE)+3, FALSE)","v":2193},{"$f":"VLOOKUP($D10, foundoptions, VLOOKUP($T$6, foundoptcell, 2, FALSE)+4, FALSE)","v":26452103.926830001},{"$f":"D10","v":1},1,1,1,2193,26452103.926830001,null,null,null,null,null,null,null,null,null,null,null,null,null,null,null,null,null,null,null,null,null,null,null,null,null,null,null,null,null,null,null,null,null,null,null,null,null,null,null,null,null,null,null,null,null,null,null,null,null,null,null,null,null,null,null,null,null,null,null,null,null,10,56,null,null,1,1,1,2024,21515960.214600004,0.91773712298248644,13701008]
["00010873","0001","0873",2,1,"Abington                     ",873,"South Shore",1505526.4738478158,5.6096667717400073E-2,{"$f":"X11","v":1619679.5468751478},{"$f":"IF(K14>0, K11/K14, 0)","v":5.7697778568016611E-2},null,{"$f":"ROUND(M14*L11,0)","v":965286},908518,{"$f":"N11-O11","v":56768},6.2484177528678577,84.465804065919997,{"$f":"W11","v":88.000000001100005},1,873,2,88.000000001100005,1619679.5468751478,{"$f":"D11","v":2},1,873,2,88.000000001100005,1619679.5468751478,null,null,null,null,null,null,null,null,null,null,null,null,null,null,null,null,null,null,null,null,null,null,null,null,null,null,null,null,null,null,null,null,null,null,null,null,null,null,null,null,null,null,null,null,null,null,null,null,null,null,null,null,null,null,null,null,null,null,null,null,null,11,62,null,null,1,873,2,115.00000000068999,1928618.4951255748,8.2262877017513683E-2,1228112]
["00010998","0001","0998",3,1,"",998,"",0,0,{"$f":"X12","v":0},{"$f":"IF(K14>0, K12/K14, 0)","v":0},null,{"$f":"ROUND(M14*L12,0)","v":0},0,{"$f":"N12-O12","v":0},0,0,0,1,998,3,0,0,3,1,998,3,0,0,null,null,null,null,null,null,null,null,null,null,null,null,null,null,null,null,null,null,null,null,null,null,null,null,null,null,null,null,null,null,null,null,null,null,null,null,null,null,null,null,null,null,null,null,null,null,null,null,null,null,null,null,null,null,null,null,null,null,null,null,null,null,null,null,null,1,998,3,0,0,0,0]
["00010998","0001","0998",4,1,"",998,"",0,0,{"$f":"X13","v":0},{"$f":"IF(K14>0, K13/K14, 0)","v":0},null,{"$f":"ROUND(M14*L13,0)","v":0},0,{"$f":"N13-O13","v":0},0,0,0,1,998,4,0,0,4,1,998,4,0,0,null,null,null,null,null,null,null,null,null,null,null,null,null,null,null,null,null,null,null,null,null,null,null,null,null,null,null,null,null,null,null,null,null,null,null,null,null,null,null,null,null,null,null,null,null,null,null,null,null,null,null,null,null,null,null,null,null,null,null,null,null,null,null,null,null,1,998,4,0,0,0,0]
["00010999","0001","0999",5,1,"Abington                     ",999,"Total",26838073.188807815,0.99999999999999989,{"$f":"SUM(K10:K13)","v":28071783.47370515},{"$f":"SUM(L10:L13)","v":1},{"$f":"VLOOKUP(E14,town351,24)","v":16730041},{"$f":"SUM(N10:N13)","v":16730041},16195587,{"$f":"SUM(P10:P13)","v":534454},3.2999977092525268,2281.4658040659201,2281.0000000011,1,999,5,2281.0000000011,28071783.47370515,5,1,999,5,2281.0000000011,28071783.47370515,null,null,null,null,null,null,null,null,null,null,null,null,null,null,null,null,null,null,null,null,null,null,null,null,null,null,null,null,null,null,null,null,null,null,null,null,null,null,null,null,null,null,null,null,null,null,null,null,null,null,null,null,null,null,null,null,null,null,null,null,null,null,null,null,null,1,999,5,2139.0000000006899,23444578.709725577,1.0000000000000002,14929120]
["00020002","0002","0002",6,2,"Acton                        ",2,"Acton",0,0,{"$f":"X15","v":0},{"$f":"IF(K19>0, K15/K19, 0)","v":0},null,{"$f":"ROUND(M19*L15,0)","v":0},0,{"$f":"N15-O15","v":0},0,0,0,2,2,6,0,0,6,2,2,6,0,0,null,null,null,null,null,null,null,null,null,null,null,null,null,null,null,null,null,null,null,null,null,null,null,null,null,null,null,null,null,null,null,null,null,null,null,null,null,null,null,null,null,null,null,null,null,null,null,null,null,null,null,null,null,null,null,null,null,null,null,null,null,null,null,null,null,2,2,6,0,0,0,0]
["00020600","0002","0600",7,2,"Acton                        ",600,"Acton Boxborough",48408644.57233873,0.98449723163101666,48349121.190506063,{"$f":"IF(K19>0, K16/K19, 0)","v":0.97524316246522746},null,{"$f":"ROUND(M19*L16,0)","v":38787229},38561442,{"$f":"N16-O16","v":225787},0.58552530271041214,4437.9781441188807,4287.1048093695999,2,600,7,4287.1048093695999,48349121.190506063,7,2,600,7,4287.1048093695999,48349121.190506063,null,null,null,null,null,null,null,null,null,null,null,null,null,null,null,null,null,null,null,null,null,null,null,null,null,null,null,null,null,null,null,null,null,null,null,null,null,null,null,null,null,null,null,null,null,null,null,null,null,null,null,null,null,null,null,null,null,null,null,null,null,null,null,null,null,2,600,7,4587.5392895375999,46559239.307240434,0.98668050972294941,35990717]
["00020830","0002","0830",8,2,"Acton                        ",830,"Minuteman",762285.54001935537,1.5502768368983341E-2,1227356.8114404122,{"$f":"IF(K19>0, K17/K19, 0)","v":2.4756837534772508E-2},null,{"$f":"ROUND(M19*L17,0)","v":984625},607223,{"$f":"N17-O17","v":377402},62.152125331220986,41.000000001019998,61.000000002050001,2,830,8,61.000000002050001,1227356.8114404122,8,2,830,8,61.000000002050001,1227356.8114404122,null,null,null,null,null,null,null,null,null,null,null,null,null,null,null,null,null,null,null,null,null,null,null,null,null,null,null,null,null,null,null,null,null,null,null,null,null,null,null,null,null,null,null,null,null,null,null,null,null,null,null,null,null,null,null,null,null,null,null,null,null,null,null,null,null,2,830,8,35.102639296980001,628516.85945817502,1.3319490277050565E-2,485849]
["00020998","0002","0998",9,2,"",998,"",0,0,0,{"$f":"IF(K19>0, K18/K19, 0)","v":0},null,{"$f":"ROUND(M19*L18,0)","v":0},0,{"$f":"N18-O18","v":0},0,0,0,2,998,9,0,0,9,2,998,9,0,0,null,null,null,null,null,null,null,null,null,null,null,null,null,null,null,null,null,null,null,null,null,null,null,null,null,null,null,null,null,null,null,null,null,null,null,null,null,null,null,null,null,null,null,null,null,null,null,null,null,null,null,null,null,null,null,null,null,null,null,null,null,null,null,null,null,2,998,9,0,0,0,0]
["00020999","0002","0999",10,2,"Acton                        ",999,"Total",49170930.112358086,1,{"$f":"SUM(K15:K18)","v":49576478.001946479},{"$f":"SUM(L15:L18)","v":1},{"$f":"VLOOKUP(E19,town351,24)","v":39771854},{"$f":"SUM(N15:N18)","v":39771854},39168665,{"$f":"SUM(P15:P18)","v":603189},{"$f":"IF(O19>0,P19*100/O19,IF(P19>0,100,0))","v":1.5399784496101667},4478.9781441199011,4348.1048093716499,2,999,10,4348.1048093716499,49576478.001946479,10,2,999,10,4348.1048093716499,49576478.001946479,null,null,null,null,null,null,null,null,null,null,null,null,null,null,null,null,null,null,null,null,null,null,null,null,null,null,null,null,null,null,null,null,null,null,null,null,null,null,null,null,null,null,null,null,null,null,null,null,null,null,null,null,null,null,null,null,null,null,null,null,null,null,null,null,null,2,999,10,4622.6419288345796,47187756.166698612,1,36476566]
["00030003","0003","0003",11,3,"Acushnet                     ",3,"Acushnet",13990412.9,0.85591938803263901,{"$f":"X20","v":13465052.850000001},{"$f":"IF(K24>0, K20/K24, 0)","v":0.83238019976353494},null,{"$f":"ROUND(M24*L20,0)","v":7845282},7889510,{"$f":"N20-O20","v":-44228},-0.56059248292986508,1292,1207,3,3,11,1207,13465052.850000001,11,3,3,11,1207,13465052.850000001,null,null,null,null,null,null,null,null,null,null,null,null,null,null,null,null,null,null,null,null,null,null,null,null,null,null,null,null,null,null,null,null,null,null,null,null,null,null,null,null,null,null,null,null,null,null,null,null,null,null,null,null,null,null,null,null,null,null,null,null,null,null,null,null,null,3,3,11,1227,12395984.840000002,0.84087931544356453,7125126]
["00030855","0003","0855",12,3,"Acushnet                     ",855,"Old Colony",2180595.9486971111,0.13340666664350437,2534453.0313601503,{"$f":"IF(K24>0, K21/K24, 0)","v":0.15667435872966948},null,{"$f":"ROUND(M24*L21,0)","v":1476674},1229687,{"$f":"N21-O21","v":246987},20.085355053765714,128.55053763239999,144.00000000198,3,855,12,144.00000000198,2534453.0313601503,12,3,855,12,144.00000000198,2534453.0313601503,null,null,null,null,null,null,null,null,null,null,null,null,null,null,null,null,null,null,null,null,null,null,null,null,null,null,null,null,null,null,null,null,null,null,null,null,null,null,null,null,null,null,null,null,null,null,null,null,null,null,null,null,null,null,null,null,null,null,null,null,null,null,null,null,null,3,855,12,133.00000000022999,2136088.5477936282,0.14490116751349172,1227809]
["00030910","0003","0910",13,3,"Acushnet                     ",910,"Bristol County",174470.75558835606,1.0673945323856586E-2,177059.65182431601,{"$f":"IF(K24>0, K22/K24, 0)","v":1.0945441506795578E-2},null,{"$f":"ROUND(M24*L22,0)","v":103162},98388,{"$f":"N22-O22","v":4774},4.8522177501321302,10.00000000188,9.99999999954,3,910,13,9.99999999954,177059.65182431601,13,3,910,13,9.99999999954,177059.65182431601,null,null,null,null,null,null,null,null,null,null,null,null,null,null,null,null,null,null,null,null,null,null,null,null,null,null,null,null,null,null,null,null,null,null,null,null,null,null,null,null,null,null,null,null,null,null,null,null,null,null,null,null,null,null,null,null,null,null,null,null,null,null,null,null,null,3,910,13,13.000000001459998,209619.75691300206,1.4219517042943686E-2,120488]
["00030998","0003","0998",14,3,"",998,"",0,0,0,{"$f":"IF(K24>0, K23/K24, 0)","v":0},null,{"$f":"ROUND(M24*L23,0)","v":0},0,{"$f":"N23-O23","v":0},0,0,0,3,998,14,0,0,14,3,998,14,0,0,null,null,null,null,null,null,null,null,null,null,null,null,null,null,null,null,null,null,null,null,null,null,null,null,null,null,null,null,null,null,null,null,null,null,null,null,null,null,null,null,null,null,null,null,null,null,null,null,null,null,null,null,null,null,null,null,null,null,null,null,null,null,null,null,null,3,998,14,0,0,0,0]
["00030999","0003","0999",15,3,"Acushnet                     ",999,"Total",16345479.604285467,0.99999999999999989,{"$f":"SUM(K20:K23)","v":16176565.533184467},{"$f":"SUM(L20:L23)","v":1},{"$f":"VLOOKUP(E24,town351,24)","v":9425119},{"$f":"SUM(N20:N23)","v":9425118},9217585,{"$f":"SUM(P20:P23)","v":207533},2.2514899510012656,1430.5505376342799,1361.00000000152,3,999,15,1361.00000000152,16176565.533184467,15,3,999,15,1361.00000000152,16176565.533184467,null,null,null,null,null,null,null,null,null,null,null,null,null,null,null,null,null,null,null,null,null,null,null,null,null,null,null,null,null,null,null,null,null,null,null,null,null,null,null,null,null,null,null,null,null,null,null,null,null,null,null,null,null,null,null,null,null,null,null,null,null,null,null,null,null,3,999,15,1373.0000000016901,14741693.144706633,0.99999999999999989,8473423]
["00040004","0004","0004",16,4,"Adams                        ",4,"Adams",0,0,{"$f":"X25","v":0},{"$f":"IF(K29>0, K25/K29, 0)","v":0},null,{"$f":"ROUND(M29*L25,0)","v":0},0,{"$f":"N25-O25","v":0},0,0,0,4,4,16,0,0,16,4,4,16,0,0,null,null,null,null,null,null,null,null,null,null,null,null,null,null,null,null,null,null,null,null,null,null,null,null,null,null,null,null,null,null,null,null,null,null,null,null,null,null,null,null,null,null,null,null,null,null,null,null,null,null,null,null,null,null,null,null,null,null,null,null,null,null,null,null,null,4,4,16,0,0,0,0]
["00040603","0004","0603",17,4,"Adams                        ",603,"Hoosac Valley",11030366.690055666,0.8139311601323026,11078986.690777849,{"$f":"IF(K29>0, K26/K29, 0)","v":0.81265038507089582},null,{"$f":"ROUND(M29*L26,0)","v":3658276},3790093,{"$f":"N26-O26","v":-131817},-3.4779357656922931,901.70894941643996,862.48194794790004,4,603,17,862.48194794790004,11078986.690777849,17,4,603,17,862.48194794790004,11078986.690777849,null,null,null,null,null,null,null,null,null,null,null,null,null,null,null,null,null,null,null,null,null,null,null,null,null,null,null,null,null,null,null,null,null,null,null,null,null,null,null,null,null,null,null,null,null,null,null,null,null,null,null,null,null,null,null,null,null,null,null,null,null,null,null,null,null,4,603,17,975.20436363758995,11011705.787359305,0.83524370462523978,3713168]
["00040851","0004","0851",18,4,"Adams                        ",851,"Northern Berkshire",2521598.4273170433,0.18606883986769737,2554165.8854204821,{"$f":"IF(K29>0, K27/K29, 0)","v":0.18734961492910418},null,{"$f":"ROUND(M29*L27,0)","v":843384},866435,{"$f":"N27-O27","v":-23051},-2.6604419258224796,140.99999999917,138.00000000112999,4,851,18,138.00000000112999,2554165.8854204821,18,4,851,18,138.00000000112999,2554165.8854204821,null,null,null,null,null,null,null,null,null,null,null,null,null,null,null,null,null,null,null,null,null,null,null,null,null,null,null,null,null,null,null,null,null,null,null,null,null,null,null,null,null,null,null,null,null,null,null,null,null,null,null,null,null,null,null,null,null,null,null,null,null,null,null,null,null,4,851,18,128.99999999976001,2172117.9593878514,0.16475629537476014,732442]
["00040998","0004","0998",19,4,"",998,"",0,0,0,{"$f":"IF(K29>0, K28/K29, 0)","v":0},null,{"$f":"ROUND(M29*L28,0)","v":0},0,{"$f":"N28-O28","v":0},0,0,0,4,998,19,0,0,19,4,998,19,0,0,null,null,null,null,null,null,null,null,null,null,null,null,null,null,null,null,null,null,null,null,null,null,null,null,null,null,null,null,null,null,null,null,null,null,null,null,null,null,null,null,null,null,null,null,null,null,null,null,null,null,null,null,null,null,null,null,null,null,null,null,null,null,null,null,null,4,998,19,0,0,0,0]
["00040999","0004","0999",20,4,"Adams                        ",999,"Total",13551965.11737271,1,{"$f":"SUM(K25:K28)","v":13633152.576198332},{"$f":"SUM(L25:L28)","v":1},{"$f":"VLOOKUP(E29,town351,24)","v":4501660},{"$f":"SUM(N25:N28)","v":4501660},4656528,{"$f":"SUM(P25:P28)","v":-154868},-3.3258255936611998,1042.70894941561,1000.48194794903,4,999,20,1000.48194794903,13633152.576198332,20,4,999,20,1000.48194794903,13633152.576198332,null,null,null,null,null,null,null,null,null,null,null,null,null,null,null,null,null,null,null,null,null,null,null,null,null,null,null,null,null,null,null,null,null,null,null,null,null,null,null,null,null,null,null,null,null,null,null,null,null,null,null,null,null,null,null,null,null,null,null,null,null,null,null,null,null,4,999,20,1104.2043636373501,13183823.746747157,0.99999999999999989,4445610]
["00050005","0005","0005",21,5,"Agawam                       ",5,"Agawam",42427489.500000007,1,{"$f":"X30","v":42757064.969999991},{"$f":"IF(K34>0, K30/K34, 0)","v":1},null,{"$f":"ROUND(M34*L30,0)","v":23315754},23256462,{"$f":"N30-O30","v":59292},0.25494849560522148,3623,3516,5,5,21,3516,42757064.969999991,21,5,5,21,3516,42757064.969999991,null,null,null,null,null,null,null,null,null,null,null,null,null,null,null,null,null,null,null,null,null,null,null,null,null,null,null,null,null,null,null,null,null,null,null,null,null,null,null,null,null,null,null,null,null,null,null,null,null,null,null,null,null,null,null,null,null,null,null,null,null,null,null,null,null,5,5,21,3773,41326070.32,1,22474431]
["00050998","0005","0998",22,5,"",998,"",0,0,0,{"$f":"IF(K34>0, K31/K34, 0)","v":0},null,{"$f":"ROUND(M34*L31,0)","v":0},0,{"$f":"N31-O31","v":0},0,0,0,5,998,22,0,0,22,5,998,22,0,0,null,null,null,null,null,null,null,null,null,null,null,null,null,null,null,null,null,null,null,null,null,null,null,null,null,null,null,null,null,null,null,null,null,null,null,null,null,null,null,null,null,null,null,null,null,null,null,null,null,null,null,null,null,null,null,null,null,null,null,null,null,null,null,null,null,5,998,22,0,0,0,0]
["00050998","0005","0998",23,5,"",998,"",0,0,0,{"$f":"IF(K34>0, K32/K34, 0)","v":0},null,{"$f":"ROUND(M34*L32,0)","v":0},0,{"$f":"N32-O32","v":0},0,0,0,5,998,23,0,0,23,5,998,23,0,0,null,null,null,null,null,null,null,null,null,null,null,null,null,null,null,null,null,null,null,null,null,null,null,null,null,null,null,null,null,null,null,null,null,null,null,null,null,null,null,null,null,null,null,null,null,null,null,null,null,null,null,null,null,null,null,null,null,null,null,null,null,null,null,null,null,5,998,23,0,0,0,0]
["00050998","0005","0998",24,5,"",998,"",0,0,0,{"$f":"IF(K34>0, K33/K34, 0)","v":0},null,{"$f":"ROUND(M34*L33,0)","v":0},0,{"$f":"N33-O33","v":0},0,0,0,5,998,24,0,0,24,5,998,24,0,0,null,null,null,null,null,null,null,null,null,null,null,null,null,null,null,null,null,null,null,null,null,null,null,null,null,null,null,null,null,null,null,null,null,null,null,null,null,null,null,null,null,null,null,null,null,null,null,null,null,null,null,null,null,null,null,null,null,null,null,null,null,null,null,null,null,5,998,24,0,0,0,0]
["00050999","0005","0999",25,5,"Agawam                       ",999,"Total",42427489.500000007,1,{"$f":"SUM(K30:K33)","v":42757064.969999991},{"$f":"SUM(L30:L33)","v":1},{"$f":"VLOOKUP(E34,town351,24)","v":23315754},{"$f":"SUM(N30:N33)","v":23315754},23256462,{"$f":"SUM(P30:P33)","v":59292},0.25494849560522148,3623,3516,5,999,25,3516,42757064.969999991,25,5,999,25,3516,42757064.969999991,null,null,null,null,null,null,null,null,null,null,null,null,null,null,null,null,null,null,null,null,null,null,null,null,null,null,null,null,null,null,null,null,null,null,null,null,null,null,null,null,null,null,null,null,null,null,null,null,null,null,null,null,null,null,null,null,null,null,null,null,null,null,null,null,null,5,999,25,3773,41326070.32,1,22474431]
["00060006","0006","0006",26,6,"Alford                       ",6,"Alford",0,0,{"$f":"X35","v":0},{"$f":"IF(K39>0, K35/K39, 0)","v":0},null,{"$f":"ROUND(M39*L35,0)","v":0},0,{"$f":"N35-O35","v":0},0,0,0,6,6,26,0,0,26,6,6,26,0,0,null,null,null,null,null,null,null,null,null,null,null,null,null,null,null,null,null,null,null,null,null,null,null,null,null,null,null,null,null,null,null,null,null,null,null,null,null,null,null,null,null,null,null,null,null,null,null,null,null,null,null,null,null,null,null,null,null,null,null,null,null,null,null,null,null,6,6,26,0,0,0,0]
["00060765","0006","0765",27,6,"Alford                       ",765,"Southern Berkshire",249430.32307747169,1,242763.68473599819,{"$f":"IF(K39>0, K36/K39, 0)","v":1},null,{"$f":"ROUND(M39*L36,0)","v":200280},205780,{"$f":"N36-O36","v":-5500},-2.6727573136359219,21.270893368780001,20.450581392699998,6,765,27,20.450581392699998,242763.68473599819,27,6,765,27,20.450581392699998,242763.68473599819,null,null,null,null,null,null,null,null,null,null,null,null,null,null,null,null,null,null,null,null,null,null,null,null,null,null,null,null,null,null,null,null,null,null,null,null,null,null,null,null,null,null,null,null,null,null,null,null,null,null,null,null,null,null,null,null,null,null,null,null,null,null,null,null,null,6,765,27,25.331316190039999,275789.33863479376,1,185505]
["00060998","0006","0998",28,6,"",998,"",0,0,0,{"$f":"IF(K39>0, K37/K39, 0)","v":0},null,{"$f":"ROUND(M39*L37,0)","v":0},0,{"$f":"N37-O37","v":0},0,0,0,6,998,28,0,0,28,6,998,28,0,0,null,null,null,null,null,null,null,null,null,null,null,null,null,null,null,null,null,null,null,null,null,null,null,null,null,null,null,null,null,null,null,null,null,null,null,null,null,null,null,null,null,null,null,null,null,null,null,null,null,null,null,null,null,null,null,null,null,null,null,null,null,null,null,null,null,6,998,28,0,0,0,0]
["00060998","0006","0998",29,6,"",998,"",0,0,0,{"$f":"IF(K39>0, K38/K39, 0)","v":0},null,{"$f":"ROUND(M39*L38,0)","v":0},0,{"$f":"N38-O38","v":0},0,0,0,6,998,29,0,0,29,6,998,29,0,0,null,null,null,null,null,null,null,null,null,null,null,null,null,null,null,null,null,null,null,null,null,null,null,null,null,null,null,null,null,null,null,null,null,null,null,null,null,null,null,null,null,null,null,null,null,null,null,null,null,null,null,null,null,null,null,null,null,null,null,null,null,null,null,null,null,6,998,29,0,0,0,0]
["00060999","0006","0999",30,6,"Alford                       ",999,"Total",249430.32307747169,1,{"$f":"SUM(K35:K38)","v":242763.68473599819},{"$f":"SUM(L35:L38)","v":1},{"$f":"VLOOKUP(E39,town351,24)","v":200280},{"$f":"SUM(N35:N38)","v":200280},205780,{"$f":"SUM(P35:P38)","v":-5500},-2.6727573136359219,21.270893368780001,20.450581392699998,6,999,30,20.450581392699998,242763.68473599819,30,6,999,30,20.450581392699998,242763.68473599819,null,null,null,null,null,null,null,null,null,null,null,null,null,null,null,null,null,null,null,null,null,null,null,null,null,null,null,null,null,null,null,null,null,null,null,null,null,null,null,null,null,null,null,null,null,null,null,null,null,null,null,null,null,null,null,null,null,null,null,null,null,null,null,null,null,6,999,30,25.331316190039999,275789.33863479376,1,185505]
["00070007","0007","0007",31,7,"Amesbury                     ",7,"Amesbury",22553274.579999998,0.93065052409463411,{"$f":"X40","v":22433070.579999998},{"$f":"IF(K44>0, K40/K44, 0)","v":0.91980760424944552},null,{"$f":"ROUND(M44*L40,0)","v":16512446},16118764,{"$f":"N40-O40","v":393682},2.442383299364641,2036,1930,7,7,31,1930,22433070.579999998,31,7,7,31,1930,22433070.579999998,null,null,null,null,null,null,null,null,null,null,null,null,null,null,null,null,null,null,null,null,null,null,null,null,null,null,null,null,null,null,null,null,null,null,null,null,null,null,null,null,null,null,null,null,null,null,null,null,null,null,null,null,null,null,null,null,null,null,null,null,null,null,null,null,null,7,7,31,2198,22830750.459999997,0.9490965242425955,15155898]
["00070885","0007","0885",32,7,"Amesbury                     ",885,"Whittier",1680606.9857365394,6.9349475905366012E-2,1955802.1324681451,{"$f":"IF(K44>0, K41/K44, 0)","v":8.0192395750554507E-2},null,{"$f":"ROUND(M44*L41,0)","v":1439619},1201125,{"$f":"N41-O41","v":238494},19.855885107711522,95.000000006080001,106.00000000567999,7,885,32,106.00000000567999,1955802.1324681451,32,7,885,32,106.00000000567999,1955802.1324681451,null,null,null,null,null,null,null,null,null,null,null,null,null,null,null,null,null,null,null,null,null,null,null,null,null,null,null,null,null,null,null,null,null,null,null,null,null,null,null,null,null,null,null,null,null,null,null,null,null,null,null,null,null,null,null,null,null,null,null,null,null,null,null,null,null,7,885,32,73.999999996759996,1224495.6365122087,5.0903475757404518E-2,812866]
["00070998","0007","0998",33,7,"",998,null,0,0,0,{"$f":"IF(K44>0, K42/K44, 0)","v":0},null,{"$f":"ROUND(M44*L42,0)","v":0},0,{"$f":"N42-O42","v":0},0,0,0,7,998,33,0,0,33,7,998,33,0,0,null,null,null,null,null,null,null,null,null,null,null,null,null,null,null,null,null,null,null,null,null,null,null,null,null,null,null,null,null,null,null,null,null,null,null,null,null,null,null,null,null,null,null,null,null,null,null,null,null,null,null,null,null,null,null,null,null,null,null,null,null,null,null,null,null,7,998,33,0,0,0,0]
["00070998","0007","0998",34,7,"",998,"",0,0,0,{"$f":"IF(K44>0, K43/K44, 0)","v":0},null,{"$f":"ROUND(M44*L43,0)","v":0},0,{"$f":"N43-O43","v":0},0,0,0,7,998,34,0,0,34,7,998,34,0,0,null,null,null,null,null,null,null,null,null,null,null,null,null,null,null,null,null,null,null,null,null,null,null,null,null,null,null,null,null,null,null,null,null,null,null,null,null,null,null,null,null,null,null,null,null,null,null,null,null,null,null,null,null,null,null,null,null,null,null,null,null,null,null,null,null,7,998,34,0,0,0,0]
["00070999","0007","0999",35,7,"Amesbury                     ",999,"Total",24233881.565736536,1.0000000000000002,{"$f":"SUM(K40:K43)","v":24388872.712468144},{"$f":"SUM(L40:L43)","v":1},{"$f":"VLOOKUP(E44,town351,24)","v":17952065},{"$f":"SUM(N40:N43)","v":17952065},17319889,{"$f":"SUM(P40:P43)","v":632176},3.6500002973460166,2131.00000000608,2036.00000000568,7,999,35,2036.00000000568,24388872.712468144,35,7,999,35,2036.00000000568,24388872.712468144,null,null,null,null,null,null,null,null,null,null,null,null,null,null,null,null,null,null,null,null,null,null,null,null,null,null,null,null,null,null,null,null,null,null,null,null,null,null,null,null,null,null,null,null,null,null,null,null,null,null,null,null,null,null,null,null,null,null,null,null,null,null,null,null,null,7,999,35,2271.9999999967599,24055246.096512206,1,15968764]
["00080008","0008","0008",36,8,"Amherst                      ",8,"Amherst",12512134.57,0.47771099693016389,{"$f":"X45","v":12729208.74},{"$f":"IF(K49>0, K45/K49, 0)","v":0.48536557992877832},null,{"$f":"ROUND(M49*L45,0)","v":9839703},9645618,{"$f":"N45-O45","v":194085},2.0121572303609785,1097,1045,8,8,36,1045,12729208.74,36,8,8,36,1045,12729208.74,null,null,null,null,null,null,null,null,null,null,null,null,null,null,null,null,null,null,null,null,null,null,null,null,null,null,null,null,null,null,null,null,null,null,null,null,null,null,null,null,null,null,null,null,null,null,null,null,null,null,null,null,null,null,null,null,null,null,null,null,null,null,null,null,null,8,8,36,1106,11969353.380000003,0.48131992666945855,8946746]
["00080605","0008","0605",37,8,"Amherst                      ",605,"Amherst Pelham",13679715.000984726,0.52228900306983606,13496814.007364701,{"$f":"IF(K49>0, K46/K49, 0)","v":0.51463442007122173},null,{"$f":"ROUND(M49*L46,0)","v":10433063},10545708,{"$f":"N46-O46","v":-112645},-1.0681596721623621,1130.9999999998599,1078.8111361978999,8,605,37,1078.8111361978999,13496814.007364701,37,8,605,37,1078.8111361978999,13496814.007364701,null,null,null,null,null,null,null,null,null,null,null,null,null,null,null,null,null,null,null,null,null,null,null,null,null,null,null,null,null,null,null,null,null,null,null,null,null,null,null,null,null,null,null,null,null,null,null,null,null,null,null,null,null,null,null,null,null,null,null,null,null,null,null,null,null,8,605,37,1151.9999999931501,12898416.925757216,0.51868007333054156,9641195]
["00080998","0008","0998",38,8,"",998,"",0,0,0,{"$f":"IF(K49>0, K47/K49, 0)","v":0},null,{"$f":"ROUND(M49*L47,0)","v":0},0,{"$f":"N47-O47","v":0},0,0,0,8,998,38,0,0,38,8,998,38,0,0,null,null,null,null,null,null,null,null,null,null,null,null,null,null,null,null,null,null,null,null,null,null,null,null,null,null,null,null,null,null,null,null,null,null,null,null,null,null,null,null,null,null,null,null,null,null,null,null,null,null,null,null,null,null,null,null,null,null,null,null,null,null,null,null,null,8,998,38,0,0,0,0]
["00080998","0008","0998",39,8,"",998,"",0,0,0,{"$f":"IF(K49>0, K48/K49, 0)","v":0},null,{"$f":"ROUND(M49*L48,0)","v":0},0,{"$f":"N48-O48","v":0},0,0,0,8,998,39,0,0,39,8,998,39,0,0,null,null,null,null,null,null,null,null,null,null,null,null,null,null,null,null,null,null,null,null,null,null,null,null,null,null,null,null,null,null,null,null,null,null,null,null,null,null,null,null,null,null,null,null,null,null,null,null,null,null,null,null,null,null,null,null,null,null,null,null,null,null,null,null,null,8,998,39,0,0,0,0]
["00080999","0008","0999",40,8,"Amherst                      ",999,"Total",26191849.570984729,1,{"$f":"SUM(K45:K48)","v":26226022.7473647},{"$f":"SUM(L45:L48)","v":1},{"$f":"VLOOKUP(E49,town351,24)","v":20272766},{"$f":"SUM(N45:N48)","v":20272766},20191326,{"$f":"SUM(P45:P48)","v":81440},0.40334151407391472,2227.9999999998599,2123.8111361978999,8,999,40,2123.8111361978999,26226022.7473647,40,8,999,40,2123.8111361978999,26226022.7473647,null,null,null,null,null,null,null,null,null,null,null,null,null,null,null,null,null,null,null,null,null,null,null,null,null,null,null,null,null,null,null,null,null,null,null,null,null,null,null,null,null,null,null,null,null,null,null,null,null,null,null,null,null,null,null,null,null,null,null,null,null,null,null,null,null,8,999,40,2257.9999999931501,24867770.305757217,1,18587941]
["00090009","0009","0009",41,9,"Andover                      ",9,"Andover",64237434.876240008,0.98983464140633148,{"$f":"X50","v":64651081.727839999},{"$f":"IF(K54>0, K50/K54, 0)","v":0.98477565382671417},null,{"$f":"ROUND(M54*L50,0)","v":53337142},52995883,{"$f":"N50-O50","v":341259},0.64393492603944347,5740,5628,9,9,41,5628,64651081.727839999,41,9,9,41,5628,64651081.727839999,null,null,null,null,null,null,null,null,null,null,null,null,null,null,null,null,null,null,null,null,null,null,null,null,null,null,null,null,null,null,null,null,null,null,null,null,null,null,null,null,null,null,null,null,null,null,null,null,null,null,null,null,null,null,null,null,null,null,null,null,null,null,null,null,null,9,9,41,5805,60546641.049729995,0.99100913933031998,49950979]
["00090823","0009","0823",42,9,"Andover                      ",823,"Greater Lawrence",659702.67491006502,1.0165358593668421E-2,999486.98455052229,{"$f":"IF(K54>0, K51/K54, 0)","v":1.5224346173285849E-2},null,{"$f":"ROUND(M54*L51,0)","v":824577},544255,{"$f":"N51-O51","v":280322},51.505636144821821,32.000000002139998,46.000000006800001,9,823,42,46.000000006800001,999486.98455052229,42,9,823,42,46.000000006800001,999486.98455052229,null,null,null,null,null,null,null,null,null,null,null,null,null,null,null,null,null,null,null,null,null,null,null,null,null,null,null,null,null,null,null,null,null,null,null,null,null,null,null,null,null,null,null,null,null,null,null,null,null,null,null,null,null,null,null,null,null,null,null,null,null,null,null,null,null,9,823,42,29.000000000579998,549305.13967117388,8.9908606696800196E-3,453177]
["00090998","0009","0998",43,9,"",998,null,0,0,0,{"$f":"IF(K54>0, K52/K54, 0)","v":0},null,{"$f":"ROUND(M54*L52,0)","v":0},0,{"$f":"N52-O52","v":0},0,0,0,9,998,43,0,0,43,9,998,43,0,0,null,null,null,null,null,null,null,null,null,null,null,null,null,null,null,null,null,null,null,null,null,null,null,null,null,null,null,null,null,null,null,null,null,null,null,null,null,null,null,null,null,null,null,null,null,null,null,null,null,null,null,null,null,null,null,null,null,null,null,null,null,null,null,null,null,9,998,43,0,0,0,0]
["00090998","0009","0998",44,9,"",998,"",0,0,0,{"$f":"IF(K54>0, K53/K54, 0)","v":0},null,{"$f":"ROUND(M54*L53,0)","v":0},0,{"$f":"N53-O53","v":0},0,0,0,9,998,44,0,0,44,9,998,44,0,0,null,null,null,null,null,null,null,null,null,null,null,null,null,null,null,null,null,null,null,null,null,null,null,null,null,null,null,null,null,null,null,null,null,null,null,null,null,null,null,null,null,null,null,null,null,null,null,null,null,null,null,null,null,null,null,null,null,null,null,null,null,null,null,null,null,9,998,44,0,0,0,0]
["00090999","0009","0999",45,9,"Andover                      ",999,"Total",64897137.551150076,0.99999999999999989,{"$f":"SUM(K50:K53)","v":65650568.71239052},{"$f":"SUM(L50:L53)","v":1},{"$f":"VLOOKUP(E54,town351,24)","v":54161719},{"$f":"SUM(N50:N53)","v":54161719},53540138,{"$f":"SUM(P50:P53)","v":621581},1.1609626407761593,5772.00000000214,5674.0000000068003,9,999,45,5674.0000000068003,65650568.71239052,45,9,999,45,5674.0000000068003,65650568.71239052,null,null,null,null,null,null,null,null,null,null,null,null,null,null,null,null,null,null,null,null,null,null,null,null,null,null,null,null,null,null,null,null,null,null,null,null,null,null,null,null,null,null,null,null,null,null,null,null,null,null,null,null,null,null,null,null,null,null,null,null,null,null,null,null,null,9,999,45,5834.0000000005803,61095946.189401172,1,50404156]
["00100010","0010","0010",46,10,"Arlington                    ",10,"Arlington",64895656.34093,0.96011501266618249,{"$f":"X55","v":64290460.96402999},{"$f":"IF(K59>0, K55/K59, 0)","v":0.94835653742014403},null,{"$f":"ROUND(M59*L55,0)","v":51218702},50343449,{"$f":"N55-O55","v":875253},1.7385638397559928,6092,5836,10,10,46,5836,64290460.96402999,46,10,10,46,5836,64290460.96402999,null,null,null,null,null,null,null,null,null,null,null,null,null,null,null,null,null,null,null,null,null,null,null,null,null,null,null,null,null,null,null,null,null,null,null,null,null,null,null,null,null,null,null,null,null,null,null,null,null,null,null,null,null,null,null,null,null,null,null,null,null,null,null,null,null,10,10,46,5785,58002940.646099992,0.96562022201027209,46237018]
["00100830","0010","0830",47,10,"Arlington                    ",830,"Minuteman",2695887.8853378613,3.9884987333817533E-2,3500985.0030344157,{"$f":"IF(K59>0, K56/K59, 0)","v":5.1643462579855921E-2},null,{"$f":"ROUND(M59*L56,0)","v":2789153},2091362,{"$f":"N56-O56","v":697791},33.365385810777859,144.99999999841998,174.00000000134,10,830,47,174.00000000134,3500985.0030344157,47,10,830,47,174.00000000134,3500985.0030344157,null,null,null,null,null,null,null,null,null,null,null,null,null,null,null,null,null,null,null,null,null,null,null,null,null,null,null,null,null,null,null,null,null,null,null,null,null,null,null,null,null,null,null,null,null,null,null,null,null,null,null,null,null,null,null,null,null,null,null,null,null,null,null,null,null,10,830,47,115.33724340192001,2065126.8238902639,3.4379777989727939E-2,1646215]
["00100998","0010","0998",48,10,"",998,"",0,0,0,{"$f":"IF(K59>0, K57/K59, 0)","v":0},null,{"$f":"ROUND(M59*L57,0)","v":0},0,{"$f":"N57-O57","v":0},0,0,0,10,998,48,0,0,48,10,998,48,0,0,null,null,null,null,null,null,null,null,null,null,null,null,null,null,null,null,null,null,null,null,null,null,null,null,null,null,null,null,null,null,null,null,null,null,null,null,null,null,null,null,null,null,null,null,null,null,null,null,null,null,null,null,null,null,null,null,null,null,null,null,null,null,null,null,null,10,998,48,0,0,0,0]
["00100998","0010","0998",49,10,"",998,"",0,0,0,{"$f":"IF(K59>0, K58/K59, 0)","v":0},null,{"$f":"ROUND(M59*L58,0)","v":0},0,{"$f":"N58-O58","v":0},0,0,0,10,998,49,0,0,49,10,998,49,0,0,null,null,null,null,null,null,null,null,null,null,null,null,null,null,null,null,null,null,null,null,null,null,null,null,null,null,null,null,null,null,null,null,null,null,null,null,null,null,null,null,null,null,null,null,null,null,null,null,null,null,null,null,null,null,null,null,null,null,null,null,null,null,null,null,null,10,998,49,0,0,0,0]
["00100999","0010","0999",50,10,"Arlington                    ",999,"Total",67591544.226267859,1,{"$f":"SUM(K55:K58)","v":67791445.96706441},{"$f":"SUM(L55:L58)","v":1},{"$f":"VLOOKUP(E59,town351,24)","v":54007855},{"$f":"SUM(N55:N58)","v":54007855},52434811,{"$f":"SUM(P55:P58)","v":1573044},2.9999993706471071,6236.9999999984202,6010.0000000013397,10,999,50,6010.0000000013397,67791445.96706441,50,10,999,50,6010.0000000013397,67791445.96706441,null,null,null,null,null,null,null,null,null,null,null,null,null,null,null,null,null,null,null,null,null,null,null,null,null,null,null,null,null,null,null,null,null,null,null,null,null,null,null,null,null,null,null,null,null,null,null,null,null,null,null,null,null,null,null,null,null,null,null,null,null,null,null,null,null,10,999,50,5900.3372434019202,60068067.469990253,1,47883233]
["00110011","0011","0011",51,11,"Ashburnham                   ",11,"Ashburnham",0,0,{"$f":"X60","v":0},{"$f":"IF(K64>0, K60/K64, 0)","v":0},null,{"$f":"ROUND(M64*L60,0)","v":0},0,{"$f":"N60-O60","v":0},0,0,0,11,11,51,0,0,51,11,11,51,0,0,null,null,null,null,null,null,null,null,null,null,null,null,null,null,null,null,null,null,null,null,null,null,null,null,null,null,null,null,null,null,null,null,null,null,null,null,null,null,null,null,null,null,null,null,null,null,null,null,null,null,null,null,null,null,null,null,null,null,null,null,null,null,null,null,null,11,11,51,0,0,0,0]
["00110610","0011","0610",52,11,"Ashburnham                   ",610,"Ashburnham Westminster",11216451.870728679,0.90650101387235082,11214469.572675183,{"$f":"IF(K64>0, K61/K64, 0)","v":0.90057031825308309},null,{"$f":"ROUND(M64*L61,0)","v":5100543},5065245,{"$f":"N61-O61","v":35298},0.69686658789456379,1040.3471502489599,1003.1105047672801,11,610,52,1003.1105047672801,11214469.572675183,52,11,610,52,1003.1105047672801,11214469.572675183,null,null,null,null,null,null,null,null,null,null,null,null,null,null,null,null,null,null,null,null,null,null,null,null,null,null,null,null,null,null,null,null,null,null,null,null,null,null,null,null,null,null,null,null,null,null,null,null,null,null,null,null,null,null,null,null,null,null,null,null,null,null,null,null,null,11,610,52,1076.2843436621999,10862999.695497543,0.91273460452460298,4717731]
["00110832","0011","0832",53,11,"Ashburnham                   ",832,"Montachusett",1156895.4273782887,9.3498986127649161E-2,1238161.1052144624,{"$f":"IF(K64>0, K62/K64, 0)","v":9.9429681746916979E-2},null,{"$f":"ROUND(M64*L62,0)","v":563138},522443,{"$f":"N62-O62","v":40695},7.7893664954837174,66.999999996300005,69.999999992970004,11,832,53,69.999999992970004,1238161.1052144624,53,11,832,53,69.999999992970004,1238161.1052144624,null,null,null,null,null,null,null,null,null,null,null,null,null,null,null,null,null,null,null,null,null,null,null,null,null,null,null,null,null,null,null,null,null,null,null,null,null,null,null,null,null,null,null,null,null,null,null,null,null,null,null,null,null,null,null,null,null,null,null,null,null,null,null,null,null,11,832,53,64.043068646549997,1038597.594281479,8.7265395475396954E-2,451056]
["00110998","0011","0998",54,11,"",998,"",0,0,0,{"$f":"IF(K64>0, K63/K64, 0)","v":0},null,{"$f":"ROUND(M64*L63,0)","v":0},0,{"$f":"N63-O63","v":0},0,0,0,11,998,54,0,0,54,11,998,54,0,0,null,null,null,null,null,null,null,null,null,null,null,null,null,null,null,null,null,null,null,null,null,null,null,null,null,null,null,null,null,null,null,null,null,null,null,null,null,null,null,null,null,null,null,null,null,null,null,null,null,null,null,null,null,null,null,null,null,null,null,null,null,null,null,null,null,11,998,54,0,0,0,0]
["00110999","0011","0999",55,11,"Ashburnham                   ",999,"Total",12373347.298106968,1,{"$f":"SUM(K60:K63)","v":12452630.677889645},{"$f":"SUM(L60:L63)","v":1},{"$f":"VLOOKUP(E64,town351,24)","v":5663681},{"$f":"SUM(N60:N63)","v":5663681},5587688,{"$f":"SUM(P60:P63)","v":75993},1.3600079317241764,1107.3471502452599,1073.11050476025,11,999,55,1073.11050476025,12452630.677889645,55,11,999,55,1073.11050476025,12452630.677889645,null,null,null,null,null,null,null,null,null,null,null,null,null,null,null,null,null,null,null,null,null,null,null,null,null,null,null,null,null,null,null,null,null,null,null,null,null,null,null,null,null,null,null,null,null,null,null,null,null,null,null,null,null,null,null,null,null,null,null,null,null,null,null,null,null,11,999,55,1140.3274123087499,11901597.289779022,0.99999999999999989,5168787]
["00120012","0012","0012",56,12,"Ashby                        ",12,"Ashby",0,0,{"$f":"X65","v":0},{"$f":"IF(K69>0, K65/K69, 0)","v":0},null,{"$f":"ROUND(M69*L65,0)","v":0},0,{"$f":"N65-O65","v":0},0,0,0,12,12,56,0,0,56,12,12,56,0,0,null,null,null,null,null,null,null,null,null,null,null,null,null,null,null,null,null,null,null,null,null,null,null,null,null,null,null,null,null,null,null,null,null,null,null,null,null,null,null,null,null,null,null,null,null,null,null,null,null,null,null,null,null,null,null,null,null,null,null,null,null,null,null,null,null,12,12,56,0,0,0,0]
["00120735","0012","0735",57,12,"Ashby                        ",735,"North Middlesex",3861597.2551470348,0.86467628358438919,3900073.2489122599,{"$f":"IF(K69>0, K66/K69, 0)","v":0.85630644474787954},null,{"$f":"ROUND(M69*L66,0)","v":2310581},2247102,{"$f":"N66-O66","v":63479},2.824927395374131,357.13714463783998,349.01628990188999,12,735,57,349.01628990188999,3900073.2489122599,57,12,735,57,349.01628990188999,3900073.2489122599,null,null,null,null,null,null,null,null,null,null,null,null,null,null,null,null,null,null,null,null,null,null,null,null,null,null,null,null,null,null,null,null,null,null,null,null,null,null,null,null,null,null,null,null,null,null,null,null,null,null,null,null,null,null,null,null,null,null,null,null,null,null,null,null,null,12,735,57,370.72404116435996,3774894.7341389456,0.88915003949168281,2175126]
["00120832","0012","0832",58,12,"Ashby                        ",832,"Montachusett",604348.35763113457,0.13532371641561089,654456.58422539639,{"$f":"IF(K69>0, K67/K69, 0)","v":0.14369355525212035},null,{"$f":"ROUND(M69*L67,0)","v":387730},351676,{"$f":"N67-O67","v":36054},10.252050182554397,35.000000000699998,36.999999998580002,12,832,58,36.999999998580002,654456.58422539639,58,12,832,58,36.999999998580002,654456.58422539639,null,null,null,null,null,null,null,null,null,null,null,null,null,null,null,null,null,null,null,null,null,null,null,null,null,null,null,null,null,null,null,null,null,null,null,null,null,null,null,null,null,null,null,null,null,null,null,null,null,null,null,null,null,null,null,null,null,null,null,null,null,null,null,null,null,12,832,58,29.019515473729999,470614.53479952441,0.1108499605083173,271172]
["00120998","0012","0998",59,12,"",998,"",0,0,0,{"$f":"IF(K69>0, K68/K69, 0)","v":0},null,{"$f":"ROUND(M69*L68,0)","v":0},0,{"$f":"N68-O68","v":0},0,0,0,12,998,59,0,0,59,12,998,59,0,0,null,null,null,null,null,null,null,null,null,null,null,null,null,null,null,null,null,null,null,null,null,null,null,null,null,null,null,null,null,null,null,null,null,null,null,null,null,null,null,null,null,null,null,null,null,null,null,null,null,null,null,null,null,null,null,null,null,null,null,null,null,null,null,null,null,12,998,59,0,0,0,0]
["00120999","0012","0999",60,12,"Ashby                        ",999,"Total",4465945.6127781691,1,{"$f":"SUM(K65:K68)","v":4554529.8331376566},{"$f":"SUM(L65:L68)","v":0.99999999999999989},{"$f":"VLOOKUP(E69,town351,24)","v":2698311},{"$f":"SUM(N65:N68)","v":2698311},2598778,{"$f":"SUM(P65:P68)","v":99533},3.8299924041222453,392.13714463854001,386.01628990046999,12,999,60,386.01628990046999,4554529.8331376566,60,12,999,60,386.01628990046999,4554529.8331376566,null,null,null,null,null,null,null,null,null,null,null,null,null,null,null,null,null,null,null,null,null,null,null,null,null,null,null,null,null,null,null,null,null,null,null,null,null,null,null,null,null,null,null,null,null,null,null,null,null,null,null,null,null,null,null,null,null,null,null,null,null,null,null,null,null,12,999,60,399.74355663808996,4245509.2689384697,1,2446298]
["00130013","0013","0013",61,13,"Ashfield                     ",13,"Ashfield",117262.39999999999,6.3207172137195927E-2,{"$f":"X70","v":134486.55000000002},{"$f":"IF(K74>0, K70/K74, 0)","v":7.6719768341339326E-2},null,{"$f":"ROUND(M74*L70,0)","v":110951},96741,{"$f":"N70-O70","v":14210},14.688704892444775,8,9,13,13,61,9,134486.55000000002,61,13,13,61,9,134486.55000000002,null,null,null,null,null,null,null,null,null,null,null,null,null,null,null,null,null,null,null,null,null,null,null,null,null,null,null,null,null,null,null,null,null,null,null,null,null,null,null,null,null,null,null,null,null,null,null,null,null,null,null,null,null,null,null,null,null,null,null,null,null,null,null,null,null,13,13,61,15,233861.83,0.10663739066697786,163542]
["00130717","0013","0717",62,13,"Ashfield                     ",717,"Mohawk Trail",1737944.7867014259,0.93679282786280416,1618471.6888941326,{"$f":"IF(K74>0, K71/K74, 0)","v":0.92328023165866069},null,{"$f":"ROUND(M74*L71,0)","v":1335240},1433805,{"$f":"N71-O71","v":-98565},-6.8743657610344506,150.16666666966998,136.80856124064002,13,717,62,136.80856124064002,1618471.6888941326,62,13,717,62,136.80856124064002,1618471.6888941326,null,null,null,null,null,null,null,null,null,null,null,null,null,null,null,null,null,null,null,null,null,null,null,null,null,null,null,null,null,null,null,null,null,null,null,null,null,null,null,null,null,null,null,null,null,null,null,null,null,null,null,null,null,null,null,null,null,null,null,null,null,null,null,null,null,13,717,62,179.6936170203,1959194.7380319051,0.89336260933302214,1370082]
["00130998","0013","0998",63,13,"",998,"",0,0,0,{"$f":"IF(K74>0, K72/K74, 0)","v":0},null,{"$f":"ROUND(M74*L72,0)","v":0},0,{"$f":"N72-O72","v":0},0,0,0,13,998,63,0,0,63,13,998,63,0,0,null,null,null,null,null,null,null,null,null,null,null,null,null,null,null,null,null,null,null,null,null,null,null,null,null,null,null,null,null,null,null,null,null,null,null,null,null,null,null,null,null,null,null,null,null,null,null,null,null,null,null,null,null,null,null,null,null,null,null,null,null,null,null,null,null,13,998,63,0,0,0,0]
["00130998","0013","0998",64,13,"",998,"",0,0,0,{"$f":"IF(K74>0, K73/K74, 0)","v":0},null,{"$f":"ROUND(M74*L73,0)","v":0},0,{"$f":"N73-O73","v":0},0,0,0,13,998,64,0,0,64,13,998,64,0,0,null,null,null,null,null,null,null,null,null,null,null,null,null,null,null,null,null,null,null,null,null,null,null,null,null,null,null,null,null,null,null,null,null,null,null,null,null,null,null,null,null,null,null,null,null,null,null,null,null,null,null,null,null,null,null,null,null,null,null,null,null,null,null,null,null,13,998,64,0,0,0,0]
[{"$f":"B74&C74","v":"00130999"},"0013","0999",65,13,"Ashfield                     ",999,"Total",1855207.1867014258,1,{"$f":"SUM(K70:K73)","v":1752958.2388941327},{"$f":"SUM(L70:L73)","v":1},{"$f":"VLOOKUP(E74,town351,24)","v":1446191},{"$f":"SUM(N70:N73)","v":1446191},1530546,{"$f":"SUM(P70:P73)","v":-84355},-5.5114318681045846,158.16666666966998,145.80856124064002,{"$f":"VLOOKUP($D74, foundoptions, VLOOKUP($T$6, foundoptcell, 2, FALSE), FALSE)","v":13},{"$f":"VLOOKUP($D74, foundoptions, VLOOKUP($T$6, foundoptcell, 2, FALSE)+1, FALSE)","v":999},{"$f":"VLOOKUP($D74, foundoptions, VLOOKUP($T$6, foundoptcell, 2, FALSE)+2, FALSE)","v":65},{"$f":"VLOOKUP($D74, foundoptions, VLOOKUP($T$6, foundoptcell, 2, FALSE)+3, FALSE)","v":145.80856124064002},{"$f":"VLOOKUP($D74, foundoptions, VLOOKUP($T$6, foundoptcell, 2, FALSE)+4, FALSE)","v":1752958.2388941327},65,13,999,65,145.80856124064002,1752958.2388941327,null,null,null,null,null,null,null,null,null,null,null,null,null,null,null,null,null,null,null,null,null,null,null,null,null,null,null,null,null,null,null,null,null,null,null,null,null,null,null,null,null,null,null,null,null,null,null,null,null,null,null,null,null,null,null,null,null,null,null,null,null,null,null,null,null,13,999,65,194.6936170203,2193056.5680319052,1,1533624]
["00140014","0014","0014",66,14,"Ashland                      ",14,"Ashland",30232498.719999995,0.96730294529912642,{"$f":"X75","v":30071220.670000002},{"$f":"IF(K79>0, K75/K79, 0)","v":0.95934255155552728},null,{"$f":"ROUND(M79*L75,0)","v":22834444},22294876,{"$f":"N75-O75","v":539568},2.4201435343260038,2786,{"$f":"W75","v":2694},14,14,66,2694,30071220.670000002,{"$f":"D75","v":66},14,14,66,2694,30071220.670000002,null,null,null,null,null,null,null,null,null,null,null,null,null,null,null,null,null,null,null,null,null,null,null,null,null,null,null,null,null,null,null,null,null,null,null,null,null,null,null,null,null,null,null,null,null,null,null,null,null,null,null,null,null,null,null,null,null,null,null,null,null,null,null,null,null,14,14,66,2581,26344731.796339996,0.9575405389385544,20247938]
["00140829","0014","0829",67,14,"Ashland                      ",829,"South Middlesex",1021927.6899712586,3.2697054700873605E-2,1274434.353058215,{"$f":"IF(K79>0, K76/K79, 0)","v":4.0657448444472659E-2},null,{"$f":"ROUND(M79*L76,0)","v":967736},753618,{"$f":"N76-O76","v":214118},28.412007144203031,53.066499374700001,63.077205879950007,14,829,67,63.077205879950007,1274434.353058215,67,14,829,67,63.077205879950007,1274434.353058215,null,null,null,null,null,null,null,null,null,null,null,null,null,null,null,null,null,null,null,null,null,null,null,null,null,null,null,null,null,null,null,null,null,null,null,null,null,null,null,null,null,null,null,null,null,null,null,null,null,null,null,null,null,null,null,null,null,null,null,null,null,null,null,null,null,14,829,67,65.999999997179998,1168183.5581821853,4.2459461061445672E-2,897838]
["00140998","0014","0998",68,14,"",998,"",0,0,0,{"$f":"IF(K79>0, K77/K79, 0)","v":0},null,{"$f":"ROUND(M79*L77,0)","v":0},0,{"$f":"N77-O77","v":0},0,0,0,14,998,68,0,0,68,14,998,68,0,0,null,null,null,null,null,null,null,null,null,null,null,null,null,null,null,null,null,null,null,null,null,null,null,null,null,null,null,null,null,null,null,null,null,null,null,null,null,null,null,null,null,null,null,null,null,null,null,null,null,null,null,null,null,null,null,null,null,null,null,null,null,null,null,null,null,14,998,68,0,0,0,0]
["00140998","0014","0998",69,14,"",998,"",0,0,0,{"$f":"IF(K79>0, K78/K79, 0)","v":0},null,{"$f":"ROUND(M79*L78,0)","v":0},0,{"$f":"N78-O78","v":0},0,0,0,14,998,69,0,0,69,14,998,69,0,0,null,null,null,null,null,null,null,null,null,null,null,null,null,null,null,null,null,null,null,null,null,null,null,null,null,null,null,null,null,null,null,null,null,null,null,null,null,null,null,null,null,null,null,null,null,null,null,null,null,null,null,null,null,null,null,null,null,null,null,null,null,null,null,null,null,14,998,69,0,0,0,0]
["00140999","0014","0999",70,14,"Ashland                      ",999,"Total",31254426.409971252,1,{"$f":"SUM(K75:K78)","v":31345655.023058217},{"$f":"SUM(L75:L78)","v":0.99999999999999989},{"$f":"VLOOKUP(E79,town351,24)","v":23802180},{"$f":"SUM(N75:N78)","v":23802180},23048494,{"$f":"SUM(P75:P78)","v":753686},3.2700010681825891,2839.0664993747,2757.0772058799498,14,999,70,2757.0772058799498,31345655.023058217,70,14,999,70,2757.0772058799498,31345655.023058217,null,null,null,null,null,null,null,null,null,null,null,null,null,null,null,null,null,null,null,null,null,null,null,null,null,null,null,null,null,null,null,null,null,null,null,null,null,null,null,null,null,null,null,null,null,null,null,null,null,null,null,null,null,null,null,null,null,null,null,null,null,null,null,null,null,14,999,70,2646.9999999971801,27512915.35452218,1,21145776]
["00150015","0015","0015",71,15,"Athol                        ",15,"Athol",0,0,{"$f":"X80","v":0},{"$f":"IF(K84>0, K80/K84, 0)","v":0},null,{"$f":"ROUND(M84*L80,0)","v":0},0,{"$f":"N80-O80","v":0},{"$f":"IF(O80>0,P80*100/O80,IF(P80>0,100,0))","v":0},0,0,15,15,71,0,0,71,15,15,71,0,0,null,null,null,null,null,null,null,null,null,null,null,null,null,null,null,null,null,null,null,null,null,null,null,null,null,null,null,null,null,null,null,null,null,null,null,null,null,null,null,null,null,null,null,null,null,null,null,null,null,null,null,null,null,null,null,null,null,null,null,null,null,null,null,null,null,15,15,71,1,13837.16,7.0164485174822975E-4,2099]
["00150615","0015","0615",72,15,"Athol                        ",615,"Athol Royalston",20152139.444374729,0.91529965194686191,19913335.03779725,{"$f":"IF(K84>0, K81/K84, 0)","v":0.90878338754589383},null,{"$f":"ROUND(M84*L81,0)","v":3257637},3085382,{"$f":"N81-O81","v":172255},{"$f":"IF(O81>0,P81*100/O81,IF(P81>0,100,0))","v":5.5829391628005869},1641.5401661967001,1547.5639810482601,15,615,72,1547.5639810482601,19913335.03779725,72,15,615,72,1547.5639810482601,19913335.03779725,null,null,null,null,null,null,null,null,null,null,null,null,null,null,null,null,null,null,null,null,null,null,null,null,null,null,null,null,null,null,null,null,null,null,null,null,null,null,null,null,null,null,null,null,null,null,null,null,null,null,null,null,null,null,null,null,null,null,null,null,null,null,null,null,null,15,615,72,1628.88789237372,18262894.242522851,0.92606183084451899,2770441]
["00150832","0015","0832",73,15,"Athol                        ",832,"Montachusett",1864846.3607773844,8.4700348053138072E-2,1998745.7844235655,{"$f":"IF(K84>0, K82/K84, 0)","v":9.1216612454106033E-2},null,{"$f":"ROUND(M84*L82,0)","v":326976},285516,{"$f":"N82-O82","v":41460},{"$f":"IF(O82>0,P82*100/O82,IF(P82>0,100,0))","v":14.521077627873744},108.0000000072,113.00000000514001,15,832,73,113.00000000514001,1998745.7844235655,73,15,832,73,113.00000000514001,1998745.7844235655,null,null,null,null,null,null,null,null,null,null,null,null,null,null,null,null,null,null,null,null,null,null,null,null,null,null,null,null,null,null,null,null,null,null,null,null,null,null,null,null,null,null,null,null,null,null,null,null,null,null,null,null,null,null,null,null,null,null,null,null,null,null,null,null,null,15,832,73,89.059892330799997,1444299.7794534829,7.3236524303732842E-2,219097]
["00150998","0015","0998",74,15,"",998,"",0,0,0,{"$f":"IF(K84>0, K83/K84, 0)","v":0},null,{"$f":"ROUND(M84*L83,0)","v":0},0,{"$f":"N83-O83","v":0},{"$f":"IF(O83>0,P83*100/O83,IF(P83>0,100,0))","v":0},0,0,15,998,74,0,0,74,15,998,74,0,0,null,null,null,null,null,null,null,null,null,null,null,null,null,null,null,null,null,null,null,null,null,null,null,null,null,null,null,null,null,null,null,null,null,null,null,null,null,null,null,null,null,null,null,null,null,null,null,null,null,null,null,null,null,null,null,null,null,null,null,null,null,null,null,null,null,15,998,74,0,0,0,0]
["00150999","0015","0999",75,15,"Athol                        ",999,"Total",22016985.805152114,1,{"$f":"SUM(K80:K83)","v":21912080.822220817},{"$f":"SUM(L80:L83)","v":0.99999999999999989},{"$f":"VLOOKUP(E84,town351,24)","v":3584613},{"$f":"SUM(N80:N83)","v":3584613},3370898,{"$f":"SUM(P80:P83)","v":213715},{"$f":"IF(O84>0,P84*100/O84,IF(P84>0,100,0))","v":6.3400019816677933},1749.5401662039001,1660.5639810534001,15,999,75,1660.5639810534001,21912080.822220817,75,15,999,75,1660.5639810534001,21912080.822220817,null,null,null,null,null,null,null,null,null,null,null,null,null,null,null,null,null,null,null,null,null,null,null,null,null,null,null,null,null,null,null,null,null,null,null,null,null,null,null,null,null,null,null,null,null,null,null,null,null,null,null,null,null,null,null,null,null,null,null,null,null,null,null,null,null,15,999,75,1718.94778470452,19721031.181976333,1,2991637]
["00160016","0016","0016",76,16,"Attleboro                    ",16,"Attleboro",79207276.429999992,0.99474129329003169,{"$f":"X85","v":80551906.579999998},{"$f":"IF(K89>0, K85/K89, 0)","v":0.99562307875364076},null,{"$f":"ROUND(M89*L85,0)","v":39217192},38037529,{"$f":"N85-O85","v":1179663},3.1013134423111448,6383,6188,16,16,76,6188,80551906.579999998,76,16,16,76,6188,80551906.579999998,null,null,null,null,null,null,null,null,null,null,null,null,null,null,null,null,null,null,null,null,null,null,null,null,null,null,null,null,null,null,null,null,null,null,null,null,null,null,null,null,null,null,null,null,null,null,null,null,null,null,null,null,null,null,null,null,null,null,null,null,null,null,null,null,null,16,16,76,6311,72980818.829999998,0.99276165857121146,35206834]
["00160910","0016","0910",77,16,"Attleboro                    ",910,"Bristol County",418729.81331972458,5.2587067099683178E-3,354119.30364863202,{"$f":"IF(K89>0, K86/K89, 0)","v":4.3769212463592366E-3},null,{"$f":"ROUND(M89*L86,0)","v":172405},201086,{"$f":"N86-O86","v":-28681},-14.263051629650995,23.999999999220002,19.99999999908,16,910,77,19.99999999908,354119.30364863202,77,16,910,77,19.99999999908,354119.30364863202,null,null,null,null,null,null,null,null,null,null,null,null,null,null,null,null,null,null,null,null,null,null,null,null,null,null,null,null,null,null,null,null,null,null,null,null,null,null,null,null,null,null,null,null,null,null,null,null,null,null,null,null,null,null,null,null,null,null,null,null,null,null,null,null,null,16,910,77,32.99999999832,532111.69053846342,7.2383414287884905E-3,256697]
["00160998","0016","0998",78,16,"",998,"",0,0,0,{"$f":"IF(K89>0, K87/K89, 0)","v":0},null,{"$f":"ROUND(M89*L87,0)","v":0},0,{"$f":"N87-O87","v":0},0,0,0,16,998,78,0,0,78,16,998,78,0,0,null,null,null,null,null,null,null,null,null,null,null,null,null,null,null,null,null,null,null,null,null,null,null,null,null,null,null,null,null,null,null,null,null,null,null,null,null,null,null,null,null,null,null,null,null,null,null,null,null,null,null,null,null,null,null,null,null,null,null,null,null,null,null,null,null,16,998,78,0,0,0,0]
["00160998","0016","0998",79,16,"",998,"",0,0,0,{"$f":"IF(K89>0, K88/K89, 0)","v":0},null,{"$f":"ROUND(M89*L88,0)","v":0},0,{"$f":"N88-O88","v":0},0,0,0,16,998,79,0,0,79,16,998,79,0,0,null,null,null,null,null,null,null,null,null,null,null,null,null,null,null,null,null,null,null,null,null,null,null,null,null,null,null,null,null,null,null,null,null,null,null,null,null,null,null,null,null,null,null,null,null,null,null,null,null,null,null,null,null,null,null,null,null,null,null,null,null,null,null,null,null,16,998,79,0,0,0,0]
["00160999","0016","0999",80,16,"Attleboro                    ",999,"Total",79626006.24331972,1,{"$f":"SUM(K85:K88)","v":80906025.883648634},{"$f":"SUM(L85:L88)","v":1},{"$f":"VLOOKUP(E89,town351,24)","v":39389597},{"$f":"SUM(N85:N88)","v":39389597},38238615,{"$f":"SUM(P85:P88)","v":1150982},3.0099991853784451,6406.9999999992197,6207.9999999990796,16,999,80,6207.9999999990796,80906025.883648634,80,16,999,80,6207.9999999990796,80906025.883648634,null,null,null,null,null,null,null,null,null,null,null,null,null,null,null,null,null,null,null,null,null,null,null,null,null,null,null,null,null,null,null,null,null,null,null,null,null,null,null,null,null,null,null,null,null,null,null,null,null,null,null,null,null,null,null,null,null,null,null,null,null,null,null,null,null,16,999,80,6343.9999999983202,73512930.520538464,1,35463531]
["00170017","0017","0017",81,17,"Auburn                       ",17,"Auburn",27521289.789999999,0.9469501209624348,{"$f":"X90","v":27321855.580000002},{"$f":"IF(K94>0, K90/K94, 0)","v":0.93930842165880191},null,{"$f":"ROUND(M94*L90,0)","v":15497480},15309359,{"$f":"N90-O90","v":188121},1.2287973650627697,2511,2421,17,17,81,2421,27321855.580000002,81,17,17,81,2421,27321855.580000002,null,null,null,null,null,null,null,null,null,null,null,null,null,null,null,null,null,null,null,null,null,null,null,null,null,null,null,null,null,null,null,null,null,null,null,null,null,null,null,null,null,null,null,null,null,null,null,null,null,null,null,null,null,null,null,null,null,null,null,null,null,null,null,null,null,17,17,81,2495,25672129.779999997,0.9495990137933209,14624535]
["00170876","0017","0876",82,17,"Auburn                       ",876,"Southern Worcester",1541793.0279510429,5.3049879037565216E-2,1765348.31385,{"$f":"IF(K94>0, K91/K94, 0)","v":6.0691578341198107E-2},null,{"$f":"ROUND(M94*L91,0)","v":1001339},857658,{"$f":"N91-O91","v":143681},16.752714951647395,89.999999994959992,99,17,876,82,99,1765348.31385,82,17,876,82,99,1765348.31385,null,null,null,null,null,null,null,null,null,null,null,null,null,null,null,null,null,null,null,null,null,null,null,null,null,null,null,null,null,null,null,null,null,null,null,null,null,null,null,null,null,null,null,null,null,null,null,null,null,null,null,null,null,null,null,null,null,null,null,null,null,null,null,null,null,17,876,82,83.999999998999996,1362575.8242620397,5.0400986206679044E-2,776213]
["00170998","0017","0998",83,17,"",998,"",0,0,0,{"$f":"IF(K94>0, K92/K94, 0)","v":0},null,{"$f":"ROUND(M94*L92,0)","v":0},0,{"$f":"N92-O92","v":0},0,0,0,17,998,83,0,0,83,17,998,83,0,0,null,null,null,null,null,null,null,null,null,null,null,null,null,null,null,null,null,null,null,null,null,null,null,null,null,null,null,null,null,null,null,null,null,null,null,null,null,null,null,null,null,null,null,null,null,null,null,null,null,null,null,null,null,null,null,null,null,null,null,null,null,null,null,null,null,17,998,83,0,0,0,0]
["00170998","0017","0998",84,17,"",998,"",0,0,0,{"$f":"IF(K94>0, K93/K94, 0)","v":0},null,{"$f":"ROUND(M94*L93,0)","v":0},0,{"$f":"N93-O93","v":0},0,0,0,17,998,84,0,0,84,17,998,84,0,0,null,null,null,null,null,null,null,null,null,null,null,null,null,null,null,null,null,null,null,null,null,null,null,null,null,null,null,null,null,null,null,null,null,null,null,null,null,null,null,null,null,null,null,null,null,null,null,null,null,null,null,null,null,null,null,null,null,null,null,null,null,null,null,null,null,17,998,84,0,0,0,0]
["00170999","0017","0999",85,17,"Auburn                       ",999,"Total",29063082.817951042,1,{"$f":"SUM(K90:K93)","v":29087203.893850002},{"$f":"SUM(L90:L93)","v":1},{"$f":"VLOOKUP(E94,town351,24)","v":16498819},{"$f":"SUM(N90:N93)","v":16498819},16167017,{"$f":"SUM(P90:P93)","v":331802},2.0523390307562615,2600.99999999496,2520,17,999,85,2520,29087203.893850002,85,17,999,85,2520,29087203.893850002,null,null,null,null,null,null,null,null,null,null,null,null,null,null,null,null,null,null,null,null,null,null,null,null,null,null,null,null,null,null,null,null,null,null,null,null,null,null,null,null,null,null,null,null,null,null,null,null,null,null,null,null,null,null,null,null,null,null,null,null,null,null,null,null,null,17,999,85,2578.999999999,27034705.604262039,1,15400748]
["00180018","0018","0018",86,18,"Avon                         ",18,"Avon",7045846.1099999985,0.85228008510575048,{"$f":"X95","v":6999174.9000000004},{"$f":"IF(K99>0, K95/K99, 0)","v":0.85261557519721864},null,{"$f":"ROUND(M99*L95,0)","v":4667923},4598969,{"$f":"N95-O95","v":68954},1.4993360468400636,586,560,18,18,86,560,6999174.9000000004,86,18,18,86,560,6999174.9000000004,null,null,null,null,null,null,null,null,null,null,null,null,null,null,null,null,null,null,null,null,null,null,null,null,null,null,null,null,null,null,null,null,null,null,null,null,null,null,null,null,null,null,null,null,null,null,null,null,null,null,null,null,null,null,null,null,null,null,null,null,null,null,null,null,null,18,18,86,561,6193899.0300000012,0.85466578055348863,4386495]
["00180806","0018","0806",87,18,"Avon                         ",806,"Blue Hills",1149360.1570550108,0.13902897638960832,1117189.8328566407,{"$f":"IF(K99>0, K96/K99, 0)","v":0.13609224880857732},null,{"$f":"ROUND(M99*L96,0)","v":745082},750211,{"$f":"N96-O96","v":-5129},-0.68367432628953717,62.999999999969994,59.00000000384,18,806,87,59.00000000384,1117189.8328566407,87,18,806,87,59.00000000384,1117189.8328566407,null,null,null,null,null,null,null,null,null,null,null,null,null,null,null,null,null,null,null,null,null,null,null,null,null,null,null,null,null,null,null,null,null,null,null,null,null,null,null,null,null,null,null,null,null,null,null,null,null,null,null,null,null,null,null,null,null,null,null,null,null,null,null,null,null,18,806,87,57.999999999370004,984907.16147305619,0.1359025137245562,697507]
["00180915","0018","0915",88,18,"Avon                         ",915,"Norfolk County",71848.464284575864,8.6909385046412546E-3,92698.183195555597,{"$f":"IF(K99>0, K97/K99, 0)","v":1.1292175994204085E-2},null,{"$f":"ROUND(M99*L97,0)","v":61823},46897,{"$f":"N97-O97","v":14926},31.827195769452203,4.0000000011000001,4.9999999991999999,18,915,88,4.9999999991999999,92698.183195555597,88,18,915,88,4.9999999991999999,92698.183195555597,null,null,null,null,null,null,null,null,null,null,null,null,null,null,null,null,null,null,null,null,null,null,null,null,null,null,null,null,null,null,null,null,null,null,null,null,null,null,null,null,null,null,null,null,null,null,null,null,null,null,null,null,null,null,null,null,null,null,null,null,null,null,null,null,null,18,915,88,3.9999999986399999,68353.0735074361,9.4317057219550533E-3,48407]
["00180998","0018","0998",89,18,"",998,"",0,0,0,{"$f":"IF(K99>0, K98/K99, 0)","v":0},null,{"$f":"ROUND(M99*L98,0)","v":0},0,{"$f":"N98-O98","v":0},0,0,0,18,998,89,0,0,89,18,998,89,0,0,null,null,null,null,null,null,null,null,null,null,null,null,null,null,null,null,null,null,null,null,null,null,null,null,null,null,null,null,null,null,null,null,null,null,null,null,null,null,null,null,null,null,null,null,null,null,null,null,null,null,null,null,null,null,null,null,null,null,null,null,null,null,null,null,null,18,998,89,0,0,0,0]
["00180999","0018","0999",90,18,"Avon                         ",999,"Total",8267054.731339585,1,{"$f":"SUM(K95:K98)","v":8209062.9160521962},{"$f":"SUM(L95:L98)","v":1},{"$f":"VLOOKUP(E99,town351,24)","v":5474827},{"$f":"SUM(N95:N98)","v":5474828},5396077,{"$f":"SUM(P95:P98)","v":78751},1.4594120877074215,653.00000000107002,624.00000000303999,18,999,90,624.00000000303999,8209062.9160521962,90,18,999,90,624.00000000303999,8209062.9160521962,null,null,null,null,null,null,null,null,null,null,null,null,null,null,null,null,null,null,null,null,null,null,null,null,null,null,null,null,null,null,null,null,null,null,null,null,null,null,null,null,null,null,null,null,null,null,null,null,null,null,null,null,null,null,null,null,null,null,null,null,null,null,null,null,null,18,999,90,622.99999999800991,7247159.264980494,0.99999999999999989,5132409]
["00190019","0019","0019",91,19,"Ayer                         ",19,"Ayer",0,0,{"$f":"X100","v":0},{"$f":"IF(K104>0, K100/K104, 0)","v":0},null,{"$f":"ROUND(M104*L100,0)","v":0},0,{"$f":"N100-O100","v":0},0,0,0,19,19,91,0,0,91,19,19,91,0,0,null,null,null,null,null,null,null,null,null,null,null,null,null,null,null,null,null,null,null,null,null,null,null,null,null,null,null,null,null,null,null,null,null,null,null,null,null,null,null,null,null,null,null,null,null,null,null,null,null,null,null,null,null,null,null,null,null,null,null,null,null,null,null,null,null,19,19,91,0,0,0,0]
["00190616","0019","0616",92,19,"Ayer                         ",616,"Ayer Shirley",10850922.736254763,0.91926232955203591,10909506.047912473,{"$f":"IF(K104>0, K101/K104, 0)","v":0.91244877561767568},null,{"$f":"ROUND(M104*L101,0)","v":8150767},7768754,{"$f":"N101-O101","v":382013},4.9173007666351642,961.13811500027998,928.60679611236003,19,616,92,928.60679611236003,10909506.047912473,92,19,616,92,928.60679611236003,10909506.047912473,null,null,null,null,null,null,null,null,null,null,null,null,null,null,null,null,null,null,null,null,null,null,null,null,null,null,null,null,null,null,null,null,null,null,null,null,null,null,null,null,null,null,null,null,null,null,null,null,null,null,null,null,null,null,null,null,null,null,null,null,null,null,null,null,null,19,616,92,953.35439403314001,9988703.7476579864,0.92740316924910204,7215157]
["00190852","0019","0852",93,19,"Ayer                         ",852,"Nashoba Valley",953023.08793941094,8.073767044796408E-2,1046788.2005261417,{"$f":"IF(K104>0, K102/K104, 0)","v":8.7551224382324211E-2},null,{"$f":"ROUND(M104*L102,0)","v":782082},682320,{"$f":"N102-O102","v":99762},14.620998944776645,55.000000001819998,58.999999997369997,19,852,93,58.999999997369997,1046788.2005261417,93,19,852,93,58.999999997369997,1046788.2005261417,null,null,null,null,null,null,null,null,null,null,null,null,null,null,null,null,null,null,null,null,null,null,null,null,null,null,null,null,null,null,null,null,null,null,null,null,null,null,null,null,null,null,null,null,null,null,null,null,null,null,null,null,null,null,null,null,null,null,null,null,null,null,null,null,null,19,852,93,48.000000001760007,781912.61301891401,7.2596830750898012E-2,564800]
["00190998","0019","0998",94,19,"",998,"",0,0,0,{"$f":"IF(K104>0, K103/K104, 0)","v":0},null,{"$f":"ROUND(M104*L103,0)","v":0},0,{"$f":"N103-O103","v":0},0,0,0,19,998,94,0,0,94,19,998,94,0,0,null,null,null,null,null,null,null,null,null,null,null,null,null,null,null,null,null,null,null,null,null,null,null,null,null,null,null,null,null,null,null,null,null,null,null,null,null,null,null,null,null,null,null,null,null,null,null,null,null,null,null,null,null,null,null,null,null,null,null,null,null,null,null,null,null,19,998,94,0,0,0,0]
["00190999","0019","0999",95,19,"Ayer                         ",999,"Total",11803945.824194174,1,{"$f":"SUM(K100:K103)","v":11956294.248438615},{"$f":"SUM(L100:L103)","v":0.99999999999999989},{"$f":"VLOOKUP(E104,town351,24)","v":8932849},{"$f":"SUM(N100:N103)","v":8932849},8451074,{"$f":"SUM(P100:P103)","v":481775},5.7007547206426068,1016.1381150021,987.60679610973,19,999,95,987.60679610973,11956294.248438615,95,19,999,95,987.60679610973,11956294.248438615,null,null,null,null,null,null,null,null,null,null,null,null,null,null,null,null,null,null,null,null,null,null,null,null,null,null,null,null,null,null,null,null,null,null,null,null,null,null,null,null,null,null,null,null,null,null,null,null,null,null,null,null,null,null,null,null,null,null,null,null,null,null,null,null,null,19,999,95,1001.3543940349,10770616.3606769,1,7779957]
["00200020","0020","0020",96,20,"Barnstable                   ",20,"Barnstable",65773443.140000001,0.94838058322615382,{"$f":"X105","v":65035356.480000012},{"$f":"IF(K109>0, K105/K109, 0)","v":0.95318052672349707},null,{"$f":"ROUND(M109*L105,0)","v":53654169},52762387,{"$f":"N105-O105","v":891782},1.6901850934075442,5405,5147,20,20,96,5147,65035356.480000012,96,20,20,96,5147,65035356.480000012,null,null,null,null,null,null,null,null,null,null,null,null,null,null,null,null,null,null,null,null,null,null,null,null,null,null,null,null,null,null,null,null,null,null,null,null,null,null,null,null,null,null,null,null,null,null,null,null,null,null,null,null,null,null,null,null,null,null,null,null,null,null,null,null,null,20,20,96,5480,60393953.440000013,0.95233610100326682,49825012]
["00200815","0020","0815",97,20,"Barnstable                   ",815,"Cape Cod",3579983.4308553161,5.1619416773846148E-2,3194485.2516132938,{"$f":"IF(K109>0, K106/K109, 0)","v":4.6819473276502932E-2},null,{"$f":"ROUND(M109*L106,0)","v":2635450},2871805,{"$f":"N106-O106","v":-236355},-8.2301897238844557,194.9999999993,169.99999999758001,20,815,97,169.99999999758001,3194485.2516132938,97,20,815,97,169.99999999758001,3194485.2516132938,null,null,null,null,null,null,null,null,null,null,null,null,null,null,null,null,null,null,null,null,null,null,null,null,null,null,null,null,null,null,null,null,null,null,null,null,null,null,null,null,null,null,null,null,null,null,null,null,null,null,null,null,null,null,null,null,null,null,null,null,null,null,null,null,null,20,815,97,178.99999999913999,3022684.2117452067,4.7663898996733116E-2,2493714]
["00200998","0020","0998",98,20,"",998,"",0,0,0,{"$f":"IF(K109>0, K107/K109, 0)","v":0},null,{"$f":"ROUND(M109*L107,0)","v":0},0,{"$f":"N107-O107","v":0},0,0,0,20,998,98,0,0,98,20,998,98,0,0,null,null,null,null,null,null,null,null,null,null,null,null,null,null,null,null,null,null,null,null,null,null,null,null,null,null,null,null,null,null,null,null,null,null,null,null,null,null,null,null,null,null,null,null,null,null,null,null,null,null,null,null,null,null,null,null,null,null,null,null,null,null,null,null,null,20,998,98,0,0,0,0]
["00200998","0020","0998",99,20,"",998,"",0,0,0,{"$f":"IF(K109>0, K108/K109, 0)","v":0},null,{"$f":"ROUND(M109*L108,0)","v":0},0,{"$f":"N108-O108","v":0},0,0,0,20,998,99,0,0,99,20,998,99,0,0,null,null,null,null,null,null,null,null,null,null,null,null,null,null,null,null,null,null,null,null,null,null,null,null,null,null,null,null,null,null,null,null,null,null,null,null,null,null,null,null,null,null,null,null,null,null,null,null,null,null,null,null,null,null,null,null,null,null,null,null,null,null,null,null,null,20,998,99,0,0,0,0]
["00200999","0020","0999",100,20,"Barnstable                   ",999,"Total",69353426.570855319,1,{"$f":"SUM(K105:K108)","v":68229841.731613308},{"$f":"SUM(L105:L108)","v":1},{"$f":"VLOOKUP(E109,town351,24)","v":56289619},{"$f":"SUM(N105:N108)","v":56289619},55634192,{"$f":"SUM(P105:P108)","v":655427},1.1781010498004536,5599.9999999992997,5316.9999999975798,20,999,100,5316.9999999975798,68229841.731613308,100,20,999,100,5316.9999999975798,68229841.731613308,null,null,null,null,null,null,null,null,null,null,null,null,null,null,null,null,null,null,null,null,null,null,null,null,null,null,null,null,null,null,null,null,null,null,null,null,null,null,null,null,null,null,null,null,null,null,null,null,null,null,null,null,null,null,null,null,null,null,null,null,null,null,null,null,null,20,999,100,5658.9999999991396,63416637.651745223,0.99999999999999989,52318726]
["00210021","0021","0021",101,21,"Barre                        ",21,"Barre",0,0,{"$f":"X110","v":0},{"$f":"IF(K114>0, K110/K114, 0)","v":0},null,{"$f":"ROUND(M114*L110,0)","v":0},0,{"$f":"N110-O110","v":0},0,0,0,21,21,101,0,0,101,21,21,101,0,0,null,null,null,null,null,null,null,null,null,null,null,null,null,null,null,null,null,null,null,null,null,null,null,null,null,null,null,null,null,null,null,null,null,null,null,null,null,null,null,null,null,null,null,null,null,null,null,null,null,null,null,null,null,null,null,null,null,null,null,null,null,null,null,null,null,21,21,101,0,0,0,0]
["00210753","0021","0753",102,21,"Barre                        ",753,"Quabbin",8321416.3819046365,0.89923931854318706,8465059.3059363849,{"$f":"IF(K114>0, K111/K114, 0)","v":0.90884506171223611},null,{"$f":"ROUND(M114*L111,0)","v":3433540},3314067,{"$f":"N111-O111","v":119473},3.6050266937874218,734.59384615086003,719.10447760469992,21,753,102,719.10447760469992,8465059.3059363849,102,21,753,102,719.10447760469992,8465059.3059363849,null,null,null,null,null,null,null,null,null,null,null,null,null,null,null,null,null,null,null,null,null,null,null,null,null,null,null,null,null,null,null,null,null,null,null,null,null,null,null,null,null,null,null,null,null,null,null,null,null,null,null,null,null,null,null,null,null,null,null,null,null,null,null,null,null,21,753,102,790.17784118112002,8357183.3803429389,0.92128557053975568,3282113]
["00210832","0021","0832",103,21,"Barre                        ",832,"Montachusett",932423.18038869218,0.10076068145681304,849024.75806069956,{"$f":"IF(K114>0, K112/K114, 0)","v":9.1154938287763915E-2},null,{"$f":"ROUND(M114*L112,0)","v":344376},371345,{"$f":"N112-O112","v":-26969},-7.2625186820880856,54.0000000036,48.000000006449994,21,832,103,48.000000006449994,849024.75806069956,103,21,832,103,48.000000006449994,849024.75806069956,null,null,null,null,null,null,null,null,null,null,null,null,null,null,null,null,null,null,null,null,null,null,null,null,null,null,null,null,null,null,null,null,null,null,null,null,null,null,null,null,null,null,null,null,null,null,null,null,null,null,null,null,null,null,null,null,null,null,null,null,null,null,null,null,null,21,832,103,44.029609684279997,714035.84590272664,7.8714429460244331E-2,280423]
["00210998","0021","0998",104,21,"",998,"",0,0,0,{"$f":"IF(K114>0, K113/K114, 0)","v":0},null,{"$f":"ROUND(M114*L113,0)","v":0},0,{"$f":"N113-O113","v":0},0,0,0,21,998,104,0,0,104,21,998,104,0,0,null,null,null,null,null,null,null,null,null,null,null,null,null,null,null,null,null,null,null,null,null,null,null,null,null,null,null,null,null,null,null,null,null,null,null,null,null,null,null,null,null,null,null,null,null,null,null,null,null,null,null,null,null,null,null,null,null,null,null,null,null,null,null,null,null,21,998,104,0,0,0,0]
["00210999","0021","0999",105,21,"Barre                        ",999,"Total",9253839.5622933283,1,{"$f":"SUM(K110:K113)","v":9314084.0639970843},{"$f":"SUM(L110:L113)","v":1},{"$f":"VLOOKUP(E114,town351,24)","v":3777916},{"$f":"SUM(N110:N113)","v":3777916},3685412,{"$f":"SUM(P110:P113)","v":92504},2.5100043088805268,788.59384615446004,767.10447761114995,21,999,105,767.10447761114995,9314084.0639970843,105,21,999,105,767.10447761114995,9314084.0639970843,null,null,null,null,null,null,null,null,null,null,null,null,null,null,null,null,null,null,null,null,null,null,null,null,null,null,null,null,null,null,null,null,null,null,null,null,null,null,null,null,null,null,null,null,null,null,null,null,null,null,null,null,null,null,null,null,null,null,null,null,null,null,null,null,null,21,999,105,834.20745086540001,9071219.2262456659,1,3562536]
["00220022","0022","0022",106,22,"Becket                       ",22,"Becket",188943.82,8.0114183853096682E-2,{"$f":"X115","v":207463.95000000004},{"$f":"IF(K119>0, K115/K119, 0)","v":8.0958556088768008E-2},null,{"$f":"ROUND(M119*L115,0)","v":164090},155879,{"$f":"N115-O115","v":8211},5.2675472642241736,11,12,22,22,106,12,207463.95000000004,106,22,22,106,12,207463.95000000004,null,null,null,null,null,null,null,null,null,null,null,null,null,null,null,null,null,null,null,null,null,null,null,null,null,null,null,null,null,null,null,null,null,null,null,null,null,null,null,null,null,null,null,null,null,null,null,null,null,null,null,null,null,null,null,null,null,null,null,null,null,null,null,null,null,22,22,106,13,206187.50999999995,8.5171800846464016E-2,157270]
["00220635","0022","0635",107,22,"Becket                       ",635,"Central Berkshire",2169487.7449581032,0.91988581614690335,2355130.5430703014,{"$f":"IF(K119>0, K116/K119, 0)","v":0.91904144391123188},null,{"$f":"ROUND(M119*L116,0)","v":1862752},1789827,{"$f":"N116-O116","v":72925},4.0744161307210138,187.04651163432001,194.43489582828002,22,635,107,194.43489582828002,2355130.5430703014,107,22,635,107,194.43489582828002,2355130.5430703014,null,null,null,null,null,null,null,null,null,null,null,null,null,null,null,null,null,null,null,null,null,null,null,null,null,null,null,null,null,null,null,null,null,null,null,null,null,null,null,null,null,null,null,null,null,null,null,null,null,null,null,null,null,null,null,null,null,null,null,null,null,null,null,null,null,22,635,107,205.07042253249998,2214654.9278825382,0.91482819915353608,1689234]
["00220998","0022","0998",108,22,"",998,"",0,0,0,{"$f":"IF(K119>0, K117/K119, 0)","v":0},null,{"$f":"ROUND(M119*L117,0)","v":0},0,{"$f":"N117-O117","v":0},0,0,0,22,998,108,0,0,108,22,998,108,0,0,null,null,null,null,null,null,null,null,null,null,null,null,null,null,null,null,null,null,null,null,null,null,null,null,null,null,null,null,null,null,null,null,null,null,null,null,null,null,null,null,null,null,null,null,null,null,null,null,null,null,null,null,null,null,null,null,null,null,null,null,null,null,null,null,null,22,998,108,0,0,0,0]
["00220998","0022","0998",109,22,"",998,"",0,0,0,{"$f":"IF(K119>0, K118/K119, 0)","v":0},null,{"$f":"ROUND(M119*L118,0)","v":0},0,{"$f":"N118-O118","v":0},0,0,0,22,998,109,0,0,109,22,998,109,0,0,null,null,null,null,null,null,null,null,null,null,null,null,null,null,null,null,null,null,null,null,null,null,null,null,null,null,null,null,null,null,null,null,null,null,null,null,null,null,null,null,null,null,null,null,null,null,null,null,null,null,null,null,null,null,null,null,null,null,null,null,null,null,null,null,null,22,998,109,0,0,0,0]
["00220999","0022","0999",110,22,"Becket                       ",999,"Total",2358431.564958103,1,{"$f":"SUM(K115:K118)","v":2562594.4930703016},{"$f":"SUM(L115:L118)","v":0.99999999999999989},{"$f":"VLOOKUP(E119,town351,24)","v":2026842},{"$f":"SUM(N115:N118)","v":2026842},1945706,{"$f":"SUM(P115:P118)","v":81136},4.1700030734345273,198.04651163432001,206.43489582828002,22,999,110,206.43489582828002,2562594.4930703016,110,22,999,110,206.43489582828002,2562594.4930703016,null,null,null,null,null,null,null,null,null,null,null,null,null,null,null,null,null,null,null,null,null,null,null,null,null,null,null,null,null,null,null,null,null,null,null,null,null,null,null,null,null,null,null,null,null,null,null,null,null,null,null,null,null,null,null,null,null,null,null,null,null,null,null,null,null,22,999,110,218.07042253249998,2420842.437882538,1,1846504]
["00230023","0023","0023",111,23,"Bedford                      ",23,"Bedford",30502691.57316,0.98159815436346853,{"$f":"X120","v":30686041.444819998},{"$f":"IF(K124>0, K120/K124, 0)","v":0.97768654935003263},null,{"$f":"ROUND(M124*L120,0)","v":25315984},25097492,{"$f":"N120-O120","v":218492},0.87057304371289368,2707,2649,23,23,111,2649,30686041.444819998,111,23,23,111,2649,30686041.444819998,null,null,null,null,null,null,null,null,null,null,null,null,null,null,null,null,null,null,null,null,null,null,null,null,null,null,null,null,null,null,null,null,null,null,null,null,null,null,null,null,null,null,null,null,null,null,null,null,null,null,null,null,null,null,null,null,null,null,null,null,null,null,null,null,null,23,23,111,2661,27912085.889699996,0.98926233892926507,23027471]
["00230871","0023","0871",112,23,"Bedford                      ",871,"Shawsheen Valley",571828.52202081191,1.8401845636531449E-2,700338.43861004256,{"$f":"IF(K124>0, K121/K124, 0)","v":2.2313450649967297E-2},null,{"$f":"ROUND(M124*L121,0)","v":577779},470498,{"$f":"N121-O121","v":107281},22.801584703866965,34.000000004249998,40.999999994299998,23,871,112,40.999999994299998,700338.43861004256,112,23,871,112,40.999999994299998,700338.43861004256,null,null,null,null,null,null,null,null,null,null,null,null,null,null,null,null,null,null,null,null,null,null,null,null,null,null,null,null,null,null,null,null,null,null,null,null,null,null,null,null,null,null,null,null,null,null,null,null,null,null,null,null,null,null,null,null,null,null,null,null,null,null,null,null,null,23,871,112,18.999999999890001,302963.6389324569,1.0737661070735011E-2,249945]
["00230998","0023","0998",113,23,"",998,null,0,0,0,{"$f":"IF(K124>0, K122/K124, 0)","v":0},null,{"$f":"ROUND(M124*L122,0)","v":0},0,{"$f":"N122-O122","v":0},0,0,0,23,998,113,0,0,113,23,998,113,0,0,null,null,null,null,null,null,null,null,null,null,null,null,null,null,null,null,null,null,null,null,null,null,null,null,null,null,null,null,null,null,null,null,null,null,null,null,null,null,null,null,null,null,null,null,null,null,null,null,null,null,null,null,null,null,null,null,null,null,null,null,null,null,null,null,null,23,998,113,0,0,0,0]
["00230998","0023","0998",114,23,"",998,"",0,0,0,{"$f":"IF(K124>0, K123/K124, 0)","v":0},null,{"$f":"ROUND(M124*L123,0)","v":0},0,{"$f":"N123-O123","v":0},0,0,0,23,998,114,0,0,114,23,998,114,0,0,null,null,null,null,null,null,null,null,null,null,null,null,null,null,null,null,null,null,null,null,null,null,null,null,null,null,null,null,null,null,null,null,null,null,null,null,null,null,null,null,null,null,null,null,null,null,null,null,null,null,null,null,null,null,null,null,null,null,null,null,null,null,null,null,null,23,998,114,0,0,0,0]
["00230999","0023","0999",115,23,"Bedford                      ",999,"Total",31074520.095180813,1,{"$f":"SUM(K120:K123)","v":31386379.883430041},{"$f":"SUM(L120:L123)","v":0.99999999999999989},{"$f":"VLOOKUP(E124,town351,24)","v":25893763},{"$f":"SUM(N120:N123)","v":25893763},25567990,{"$f":"SUM(P120:P123)","v":325773},1.2741439589111228,2741.0000000042501,2689.9999999943002,23,999,115,2689.9999999943002,31386379.883430041,115,23,999,115,2689.9999999943002,31386379.883430041,null,null,null,null,null,null,null,null,null,null,null,null,null,null,null,null,null,null,null,null,null,null,null,null,null,null,null,null,null,null,null,null,null,null,null,null,null,null,null,null,null,null,null,null,null,null,null,null,null,null,null,null,null,null,null,null,null,null,null,null,null,null,null,null,null,23,999,115,2679.99999999989,28215049.528632451,1,23277416]
["00240024","0024","0024",116,24,"Belchertown                  ",24,"Belchertown",24726417.459999997,0.94195518471343975,{"$f":"X125","v":24762062.589999996},{"$f":"IF(K129>0, K125/K129, 0)","v":0.94027405911115614},null,{"$f":"ROUND(M129*L125,0)","v":12813563},12418125,{"$f":"N125-O125","v":395438},3.1843615682721826,2278,2204,24,24,116,2204,24762062.589999996,116,24,24,116,2204,24762062.589999996,null,null,null,null,null,null,null,null,null,null,null,null,null,null,null,null,null,null,null,null,null,null,null,null,null,null,null,null,null,null,null,null,null,null,null,null,null,null,null,null,null,null,null,null,null,null,null,null,null,null,null,null,null,null,null,null,null,null,null,null,null,null,null,null,null,24,24,116,2344,23863029.98,0.9302301329373136,11563925]
["00240860","0024","0860",117,24,"Belchertown                  ",860,"Pathfinder",1523682.1851569356,5.8044815286560282E-2,1572879.1751781779,{"$f":"IF(K129>0, K126/K129, 0)","v":5.9725940888843893E-2},null,{"$f":"ROUND(M129*L126,0)","v":813914},765225,{"$f":"N126-O126","v":48689},6.362703779934006,83.999999998159993,83.99999999952,24,860,117,83.99999999952,1572879.1751781779,117,24,860,117,83.99999999952,1572879.1751781779,null,null,null,null,null,null,null,null,null,null,null,null,null,null,null,null,null,null,null,null,null,null,null,null,null,null,null,null,null,null,null,null,null,null,null,null,null,null,null,null,null,null,null,null,null,null,null,null,null,null,null,null,null,null,null,null,null,null,null,null,null,null,null,null,null,24,860,117,106.00000000200001,1789794.1277824608,6.9769867062686466E-2,867327]
["00240998","0024","0998",118,24,"",998,"",0,0,0,{"$f":"IF(K129>0, K127/K129, 0)","v":0},null,{"$f":"ROUND(M129*L127,0)","v":0},0,{"$f":"N127-O127","v":0},0,0,0,24,998,118,0,0,118,24,998,118,0,0,null,null,null,null,null,null,null,null,null,null,null,null,null,null,null,null,null,null,null,null,null,null,null,null,null,null,null,null,null,null,null,null,null,null,null,null,null,null,null,null,null,null,null,null,null,null,null,null,null,null,null,null,null,null,null,null,null,null,null,null,null,null,null,null,null,24,998,118,0,0,0,0]
["00240998","0024","0998",119,24,"",998,"",0,0,0,{"$f":"IF(K129>0, K128/K129, 0)","v":0},null,{"$f":"ROUND(M129*L128,0)","v":0},0,{"$f":"N128-O128","v":0},0,0,0,24,998,119,0,0,119,24,998,119,0,0,null,null,null,null,null,null,null,null,null,null,null,null,null,null,null,null,null,null,null,null,null,null,null,null,null,null,null,null,null,null,null,null,null,null,null,null,null,null,null,null,null,null,null,null,null,null,null,null,null,null,null,null,null,null,null,null,null,null,null,null,null,null,null,null,null,24,998,119,0,0,0,0]
["00240999","0024","0999",120,24,"Belchertown                  ",999,"Total",26250099.645156931,1,{"$f":"SUM(K125:K128)","v":26334941.765178174},{"$f":"SUM(L125:L128)","v":1},{"$f":"VLOOKUP(E129,town351,24)","v":13627477},{"$f":"SUM(N125:N128)","v":13627477},13183350,{"$f":"SUM(P125:P128)","v":444127},3.3688478269938975,2361.9999999981601,2287.9999999995198,24,999,120,2287.9999999995198,26334941.765178174,120,24,999,120,2287.9999999995198,26334941.765178174,null,null,null,null,null,null,null,null,null,null,null,null,null,null,null,null,null,null,null,null,null,null,null,null,null,null,null,null,null,null,null,null,null,null,null,null,null,null,null,null,null,null,null,null,null,null,null,null,null,null,null,null,null,null,null,null,null,null,null,null,null,null,null,null,null,24,999,120,2450.000000002,25652824.107782461,1,12431252]
["00250025","0025","0025",121,25,"Bellingham                   ",25,"Bellingham",24676853.43,0.93959150737064046,{"$f":"X130","v":24764847.16},{"$f":"IF(K134>0, K130/K134, 0)","v":0.93907250756976224},null,{"$f":"ROUND(M134*L130,0)","v":17317798},16772086,{"$f":"N130-O130","v":545712},3.2536918782791835,2247,2184,25,25,121,2184,24764847.16,121,25,25,121,2184,24764847.16,null,null,null,null,null,null,null,null,null,null,null,null,null,null,null,null,null,null,null,null,null,null,null,null,null,null,null,null,null,null,null,null,null,null,null,null,null,null,null,null,null,null,null,null,null,null,null,null,null,null,null,null,null,null,null,null,null,null,null,null,null,null,null,null,null,25,25,121,2330,23842628.519999996,0.94405038572867028,15794941]
["00250805","0025","0805",122,25,"Bellingham                   ",805,"Blackstone Valley",1119516.4769155812,4.2626511400865409E-2,1180343.9865672921,{"$f":"IF(K134>0, K131/K134, 0)","v":4.4758143674351547E-2},null,{"$f":"ROUND(M134*L131,0)","v":825402},760900,{"$f":"N131-O131","v":64502},8.477066631620449,68.000000004360004,70.00000000015001,25,805,122,70.00000000015001,1180343.9865672921,122,25,805,122,70.00000000015001,1180343.9865672921,null,null,null,null,null,null,null,null,null,null,null,null,null,null,null,null,null,null,null,null,null,null,null,null,null,null,null,null,null,null,null,null,null,null,null,null,null,null,null,null,null,null,null,null,null,null,null,null,null,null,null,null,null,null,null,null,null,null,null,null,null,null,null,null,null,25,805,122,71.0000000048,1105456.3720827997,4.377061503917537E-2,732328]
["00250915","0025","0915",123,25,"Bellingham                   ",915,"Norfolk County",467015.01772670267,1.7781981228494045E-2,426411.64275220834,{"$f":"IF(K134>0, K132/K134, 0)","v":1.6169348755886201E-2},null,{"$f":"ROUND(M134*L132,0)","v":298185},317416,{"$f":"N132-O132","v":-19231},-6.058610782065176,26.000000000300002,22.99999999916,25,915,123,22.99999999916,426411.64275220834,123,25,915,123,22.99999999916,426411.64275220834,null,null,null,null,null,null,null,null,null,null,null,null,null,null,null,null,null,null,null,null,null,null,null,null,null,null,null,null,null,null,null,null,null,null,null,null,null,null,null,null,null,null,null,null,null,null,null,null,null,null,null,null,null,null,null,null,null,null,null,null,null,null,null,null,null,25,915,123,17.999999999500002,307588.83087949856,1.2178999232154349E-2,203767]
["00250998","0025","0998",124,25,"",998,"",0,0,0,{"$f":"IF(K134>0, K133/K134, 0)","v":0},null,{"$f":"ROUND(M134*L133,0)","v":0},0,{"$f":"N133-O133","v":0},0,0,0,25,998,124,0,0,124,25,998,124,0,0,null,null,null,null,null,null,null,null,null,null,null,null,null,null,null,null,null,null,null,null,null,null,null,null,null,null,null,null,null,null,null,null,null,null,null,null,null,null,null,null,null,null,null,null,null,null,null,null,null,null,null,null,null,null,null,null,null,null,null,null,null,null,null,null,null,25,998,124,0,0,0,0]
["00250999","0025","0999",125,25,"Bellingham                   ",999,"Total",26263384.924642287,0.99999999999999989,{"$f":"SUM(K130:K133)","v":26371602.7893195},{"$f":"SUM(L130:L133)","v":0.99999999999999989},{"$f":"VLOOKUP(E134,town351,24)","v":18441385},{"$f":"SUM(N130:N133)","v":18441385},17850402,{"$f":"SUM(P130:P133)","v":590983},3.310754570121166,2341.0000000046603,2276.9999999993101,25,999,125,2276.9999999993101,26371602.7893195,125,25,999,125,2276.9999999993101,26371602.7893195,null,null,null,null,null,null,null,null,null,null,null,null,null,null,null,null,null,null,null,null,null,null,null,null,null,null,null,null,null,null,null,null,null,null,null,null,null,null,null,null,null,null,null,null,null,null,null,null,null,null,null,null,null,null,null,null,null,null,null,null,null,null,null,null,null,25,999,125,2419.0000000042996,25255673.722962294,1,16731036]
["00260026","0026","0026",126,26,"Belmont                      ",26,"Belmont",50418107.66032999,1,{"$f":"X135","v":50621827.421319984},{"$f":"IF(K139>0, K135/K139, 0)","v":1},null,{"$f":"ROUND(M139*L135,0)","v":40824828},40662179,{"$f":"N135-O135","v":162649},0.40000069843773006,4638,4534,26,26,126,4534,50621827.421319984,126,26,26,126,4534,50621827.421319984,null,null,null,null,null,null,null,null,null,null,null,null,null,null,null,null,null,null,null,null,null,null,null,null,null,null,null,null,null,null,null,null,null,null,null,null,null,null,null,null,null,null,null,null,null,null,null,null,null,null,null,null,null,null,null,null,null,null,null,null,null,null,null,null,null,26,26,126,4488,45512607.460039996,0.99139429869875051,36735671]
["00260830","0026","0830",127,26,null,998,null,0,0,0,{"$f":"IF(K139>0, K136/K139, 0)","v":0},null,{"$f":"ROUND(M139*L136,0)","v":0},0,{"$f":"N136-O136","v":0},0,0,0,26,830,127,0,0,127,26,830,127,0,0,null,null,null,null,null,null,null,null,null,null,null,null,null,null,null,null,null,null,null,null,null,null,null,null,null,null,null,null,null,null,null,null,null,null,null,null,null,null,null,null,null,null,null,null,null,null,null,null,null,null,null,null,null,null,null,null,null,null,null,null,null,null,null,null,null,26,830,127,22.064516128259999,395067.74020810821,8.6057013012493626E-3,318880]
["00260998","0026","0998",128,26,"",998,"",0,0,0,{"$f":"IF(K139>0, K137/K139, 0)","v":0},null,{"$f":"ROUND(M139*L137,0)","v":0},0,{"$f":"N137-O137","v":0},0,0,0,26,998,128,0,0,128,26,998,128,0,0,null,null,null,null,null,null,null,null,null,null,null,null,null,null,null,null,null,null,null,null,null,null,null,null,null,null,null,null,null,null,null,null,null,null,null,null,null,null,null,null,null,null,null,null,null,null,null,null,null,null,null,null,null,null,null,null,null,null,null,null,null,null,null,null,null,26,998,128,0,0,0,0]
[{"$f":"B138&C138","v":"00260998"},"0026","0998",129,26,"",998,"",0,0,0,{"$f":"IF(K139>0, K138/K139, 0)","v":0},null,{"$f":"ROUND(M139*L138,0)","v":0},0,{"$f":"N138-O138","v":0},0,0,0,{"$f":"VLOOKUP($D138, foundoptions, VLOOKUP($T$6, foundoptcell, 2, FALSE), FALSE)","v":26},{"$f":"VLOOKUP($D138, foundoptions, VLOOKUP($T$6, foundoptcell, 2, FALSE)+1, FALSE)","v":998},{"$f":"VLOOKUP($D138, foundoptions, VLOOKUP($T$6, foundoptcell, 2, FALSE)+2, FALSE)","v":129},{"$f":"VLOOKUP($D138, foundoptions, VLOOKUP($T$6, foundoptcell, 2, FALSE)+3, FALSE)","v":0},{"$f":"VLOOKUP($D138, foundoptions, VLOOKUP($T$6, foundoptcell, 2, FALSE)+4, FALSE)","v":0},129,26,998,129,0,0,null,null,null,null,null,null,null,null,null,null,null,null,null,null,null,null,null,null,null,null,null,null,null,null,null,null,null,null,null,null,null,null,null,null,null,null,null,null,null,null,null,null,null,null,null,null,null,null,null,null,null,null,null,null,null,null,null,null,null,null,null,null,null,null,null,26,998,129,0,0,0,0]
["00260999","0026","0999",130,26,"Belmont                      ",999,"Total",50418107.66032999,1,{"$f":"SUM(K135:K138)","v":50621827.421319984},{"$f":"SUM(L135:L138)","v":1},{"$f":"VLOOKUP(E139,town351,24)","v":40824828},{"$f":"SUM(N135:N138)","v":40824828},40662179,{"$f":"SUM(P135:P138)","v":162649},0.40000069843773006,4638,{"$f":"W139","v":4534},26,999,130,4534,50621827.421319984,{"$f":"D139","v":130},26,999,130,4534,50621827.421319984,null,null,null,null,null,null,null,null,null,null,null,null,null,null,null,null,null,null,null,null,null,null,null,null,null,null,null,null,null,null,null,null,null,null,null,null,null,null,null,null,null,null,null,null,null,null,null,null,null,null,null,null,null,null,null,null,null,null,null,null,null,null,null,null,null,26,999,130,4510.06451612826,45907675.200248107,0.99999999999999989,37054551]
["00270027","0027","0027",131,27,"Berkley                      ",27,"Berkley",8014902.1800000006,0.61500311305205979,{"$f":"X140","v":7936943.7699999996},{"$f":"IF(K144>0, K140/K144, 0)","v":0.60150430259949195},null,{"$f":"ROUND(M144*L140,0)","v":4234022},4170576,{"$f":"N140-O140","v":63446},1.5212766773702242,764,733,27,27,131,733,7936943.7699999996,131,27,27,131,733,7936943.7699999996,null,null,null,null,null,null,null,null,null,null,null,null,null,null,null,null,null,null,null,null,null,null,null,null,null,null,null,null,null,null,null,null,null,null,null,null,null,null,null,null,null,null,null,null,null,null,null,null,null,null,null,null,null,null,null,null,null,null,null,null,null,null,null,null,null,27,27,131,774,7541762.2899999991,0.61734776765051458,3837447]
["00270763","0027","0763",132,27,"Berkley                      ",763,"Somerset Berkley",3435010.9757180614,0.26357682177408698,3384731.3084622677,{"$f":"IF(K144>0, K141/K144, 0)","v":0.25651314966834676},null,{"$f":"ROUND(M144*L141,0)","v":1805610},1787417,{"$f":"N141-O141","v":18193},1.0178374716140666,286.00000000182001,274.53620352000002,27,763,132,274.53620352000002,3384731.3084622677,132,27,763,132,274.53620352000002,3384731.3084622677,null,null,null,null,null,null,null,null,null,null,null,null,null,null,null,null,null,null,null,null,null,null,null,null,null,null,null,null,null,null,null,null,null,null,null,null,null,null,null,null,null,null,null,null,null,null,null,null,null,null,null,null,null,null,null,null,null,null,null,null,null,null,null,null,null,27,763,132,265.00000000054001,2968320.1392593281,0.24297846327954351,1510359]
["00270810","0027","0810",133,27,"Berkley                      ",810,"Bristol Plymouth",1390464.3136397963,0.10669373902156226,1714128.3363687715,{"$f":"IF(K144>0, K142/K144, 0)","v":0.12990586797788609},null,{"$f":"ROUND(M144*L142,0)","v":914415},723532,{"$f":"N142-O142","v":190883},26.382108877008896,80.299177268419996,95.281273126249999,27,810,133,95.281273126249999,1714128.3363687715,133,27,810,133,95.281273126249999,1714128.3363687715,null,null,null,null,null,null,null,null,null,null,null,null,null,null,null,null,null,null,null,null,null,null,null,null,null,null,null,null,null,null,null,null,null,null,null,null,null,null,null,null,null,null,null,null,null,null,null,null,null,null,null,null,null,null,null,null,null,null,null,null,null,null,null,null,null,27,810,133,93.211043872999994,1512814.3458258095,0.12383479130648085,769760]
["00270910","0027","0910",134,27,"Berkley                      ",910,"Bristol County",191917.83110762169,1.4726326152290829E-2,159353.68662159337,{"$f":"IF(K144>0, K143/K144, 0)","v":1.207667975427518E-2},null,{"$f":"ROUND(M144*L143,0)","v":85008},99865,{"$f":"N143-O143","v":-14857},-14.877084063485706,10.9999999998,8.9999999984399999,27,910,134,8.9999999984399999,159353.68662159337,134,27,910,134,8.9999999984399999,159353.68662159337,null,null,null,null,null,null,null,null,null,null,null,null,null,null,null,null,null,null,null,null,null,null,null,null,null,null,null,null,null,null,null,null,null,null,null,null,null,null,null,null,null,null,null,null,null,null,null,null,null,null,null,null,null,null,null,null,null,null,null,null,null,null,null,null,null,27,910,134,12.000000000450001,193495.16021291161,1.5838977763461125E-2,98455]
["00270999","0027","0999",135,27,"Berkley                      ",999,"Total",13032295.300465481,0.99999999999999989,{"$f":"SUM(K140:K143)","v":13195157.101452632},{"$f":"SUM(L140:L143)","v":1},{"$f":"VLOOKUP(E144,town351,24)","v":7039055},{"$f":"SUM(N140:N143)","v":7039055},6781390,{"$f":"SUM(P140:P143)","v":257665},{"$f":"IF(O144>0,P144*100/O144,IF(P144>0,100,0))","v":3.7995897596215524},1141.2991772700398,1111.81747664469,27,999,135,1111.81747664469,13195157.101452632,135,27,999,135,1111.81747664469,13195157.101452632,null,null,null,null,null,null,null,null,null,null,null,null,null,null,null,null,null,null,null,null,null,null,null,null,null,null,null,null,null,null,null,null,null,null,null,null,null,null,null,null,null,null,null,null,null,null,null,null,null,null,null,null,null,null,null,null,null,null,null,null,null,null,null,null,null,27,999,135,1144.2110438739899,12216391.935298048,1.0000000000000002,6216021]
["00280028","0028","0028",136,28,"Berlin                       ",28,"Berlin",0,0,{"$f":"X145","v":0},{"$f":"IF(K149>0, K145/K149, 0)","v":0},null,{"$f":"ROUND(M149*L145,0)","v":0},0,{"$f":"N145-O145","v":0},0,0,0,28,28,136,0,0,136,28,28,136,0,0,null,null,null,null,null,null,null,null,null,null,null,null,null,null,null,null,null,null,null,null,null,null,null,null,null,null,null,null,null,null,null,null,null,null,null,null,null,null,null,null,null,null,null,null,null,null,null,null,null,null,null,null,null,null,null,null,null,null,null,null,null,null,null,null,null,28,28,136,159,1639651.6628,0.409965726972017,1352713]
["00280620","0028","0620",137,28,"Berlin                       ",620,"Berlin Boylston",3478424.1159614702,0.86575882464117315,3802966.4303378533,{"$f":"IF(K149>0, K146/K149, 0)","v":0.86728374601206004},null,{"$f":"ROUND(M149*L146,0)","v":3018493},2869700,{"$f":"N146-O146","v":148793},5.1849670697285433,326.93514643949999,347.86368260633003,28,620,137,347.86368260633003,3802966.4303378533,137,28,620,137,347.86368260633003,3802966.4303378533,null,null,null,null,null,null,null,null,null,null,null,null,null,null,null,null,null,null,null,null,null,null,null,null,null,null,null,null,null,null,null,null,null,null,null,null,null,null,null,null,null,null,null,null,null,null,null,null,null,null,null,null,null,null,null,null,null,null,null,null,null,null,null,null,null,28,620,137,189.68602540601,1939567.2463100273,0.48495428278146069,1600143]
["00280801","0028","0801",138,28,"Berlin                       ",801,"Assabet Valley",539350.83123950812,0.13424117535882693,581949.63412736426,{"$f":"IF(K149>0, K147/K149, 0)","v":0.13271625398794004},null,{"$f":"ROUND(M149*L147,0)","v":461905},444964,{"$f":"N147-O147","v":16941},3.8072742963475696,28.99999999656,29.999999999970001,28,801,138,29.999999999970001,581949.63412736426,138,28,801,138,29.999999999970001,581949.63412736426,null,null,null,null,null,null,null,null,null,null,null,null,null,null,null,null,null,null,null,null,null,null,null,null,null,null,null,null,null,null,null,null,null,null,null,null,null,null,null,null,null,null,null,null,null,null,null,null,null,null,null,null,null,null,null,null,null,null,null,null,null,null,null,null,null,28,801,138,24.00000000228,420265.81589460158,0.10507999024652237,346719]
["00280998","0028","0998",139,28,"",998,"",0,0,0,{"$f":"IF(K149>0, K148/K149, 0)","v":0},null,{"$f":"ROUND(M149*L148,0)","v":0},0,{"$f":"N148-O148","v":0},0,0,0,28,998,139,0,0,139,28,998,139,0,0,null,null,null,null,null,null,null,null,null,null,null,null,null,null,null,null,null,null,null,null,null,null,null,null,null,null,null,null,null,null,null,null,null,null,null,null,null,null,null,null,null,null,null,null,null,null,null,null,null,null,null,null,null,null,null,null,null,null,null,null,null,null,null,null,null,28,998,139,0,0,0,0]
["00280999","0028","0999",140,28,"Berlin                       ",999,"Total",4017774.9472009782,1,{"$f":"SUM(K145:K148)","v":4384916.0644652173},{"$f":"SUM(L145:L148)","v":1},{"$f":"VLOOKUP(E149,town351,24)","v":3480398},{"$f":"SUM(N145:N148)","v":3480398},3314664,{"$f":"SUM(P145:P148)","v":165734},5.0000241351762957,355.93514643605999,377.86368260630002,28,999,140,377.86368260630002,4384916.0644652173,140,28,999,140,377.86368260630002,4384916.0644652173,null,null,null,null,null,null,null,null,null,null,null,null,null,null,null,null,null,null,null,null,null,null,null,null,null,null,null,null,null,null,null,null,null,null,null,null,null,null,null,null,null,null,null,null,null,null,null,null,null,null,null,null,null,null,null,null,null,null,null,null,null,null,null,null,null,28,999,140,372.68602540828999,3999484.7250046288,1,3299575]
["00290029","0029","0029",141,29,"Bernardston                  ",29,"Bernardston",0,0,{"$f":"X150","v":0},{"$f":"IF(K154>0, K150/K154, 0)","v":0},null,{"$f":"ROUND(M154*L150,0)","v":0},0,{"$f":"N150-O150","v":0},0,0,0,29,29,141,0,0,141,29,29,141,0,0,null,null,null,null,null,null,null,null,null,null,null,null,null,null,null,null,null,null,null,null,null,null,null,null,null,null,null,null,null,null,null,null,null,null,null,null,null,null,null,null,null,null,null,null,null,null,null,null,null,null,null,null,null,null,null,null,null,null,null,null,null,null,null,null,null,29,29,141,0,0,0,0]
["00290750","0029","0750",142,29,"Bernardston                  ",750,"Pioneer",2656656.3626554338,0.83961394432714598,2714047.3557749656,{"$f":"IF(K154>0, K151/K154, 0)","v":0.81370373900617987},null,{"$f":"ROUND(M154*L151,0)","v":1419867},1426701,{"$f":"N151-O151","v":-6834},-0.47900716407992983,235.80386329960001,231.50160771732001,29,750,142,231.50160771732001,2714047.3557749656,142,29,750,142,231.50160771732001,2714047.3557749656,null,null,null,null,null,null,null,null,null,null,null,null,null,null,null,null,null,null,null,null,null,null,null,null,null,null,null,null,null,null,null,null,null,null,null,null,null,null,null,null,null,null,null,null,null,null,null,null,null,null,null,null,null,null,null,null,null,null,null,null,null,null,null,null,null,29,750,142,239.63456090574002,2510445.9837737447,0.84620465233210007,1412356]
["00290818","0029","0818",143,29,"Bernardston                  ",818,"Franklin County",507483.99090246082,0.16038605567285413,621377.10606882244,{"$f":"IF(K154>0, K152/K154, 0)","v":0.18629626099382013},null,{"$f":"ROUND(M154*L152,0)","v":325076},272533,{"$f":"N152-O152","v":52543},19.279500097235932,27.9999999986,35.999999998759996,29,818,143,35.999999998759996,621377.10606882244,143,29,818,143,35.999999998759996,621377.10606882244,null,null,null,null,null,null,null,null,null,null,null,null,null,null,null,null,null,null,null,null,null,null,null,null,null,null,null,null,null,null,null,null,null,null,null,null,null,null,null,null,null,null,null,null,null,null,null,null,null,null,null,null,null,null,null,null,null,null,null,null,null,null,null,null,null,29,818,143,26.999999999140002,456266.59202582581,0.15379534766789993,256692]
["00290998","0029","0998",144,29,"",998,"",0,0,0,{"$f":"IF(K154>0, K153/K154, 0)","v":0},null,{"$f":"ROUND(M154*L153,0)","v":0},0,{"$f":"N153-O153","v":0},0,0,0,29,998,144,0,0,144,29,998,144,0,0,null,null,null,null,null,null,null,null,null,null,null,null,null,null,null,null,null,null,null,null,null,null,null,null,null,null,null,null,null,null,null,null,null,null,null,null,null,null,null,null,null,null,null,null,null,null,null,null,null,null,null,null,null,null,null,null,null,null,null,null,null,null,null,null,null,29,998,144,0,0,0,0]
["00290999","0029","0999",145,29,"Bernardston                  ",999,"Total",3164140.3535578945,1,{"$f":"SUM(K150:K153)","v":3335424.4618437882},{"$f":"SUM(L150:L153)","v":1},{"$f":"VLOOKUP(E154,town351,24)","v":1744943},{"$f":"SUM(N150:N153)","v":1744943},1699234,{"$f":"SUM(P150:P153)","v":45709},2.6899767777716312,263.80386329819999,267.50160771608,29,999,145,267.50160771608,3335424.4618437882,145,29,999,145,267.50160771608,3335424.4618437882,null,null,null,null,null,null,null,null,null,null,null,null,null,null,null,null,null,null,null,null,null,null,null,null,null,null,null,null,null,null,null,null,null,null,null,null,null,null,null,null,null,null,null,null,null,null,null,null,null,null,null,null,null,null,null,null,null,null,null,null,null,null,null,null,null,29,999,145,266.63456090488,2966712.5757995704,1,1669048]
["00300030","0030","0030",146,30,"Beverly                      ",30,"Beverly",51866271.119999997,0.96164457185662555,{"$f":"X155","v":53826076.489999995},{"$f":"IF(K159>0, K155/K159, 0)","v":0.96243027044342155},null,{"$f":"ROUND(M159*L155,0)","v":43333361},41749093,{"$f":"N155-O155","v":1584268},3.7947363311581404,4570,4613,30,30,146,4613,53826076.489999995,146,30,30,146,4613,53826076.489999995,null,null,null,null,null,null,null,null,null,null,null,null,null,null,null,null,null,null,null,null,null,null,null,null,null,null,null,null,null,null,null,null,null,null,null,null,null,null,null,null,null,null,null,null,null,null,null,null,null,null,null,null,null,null,null,null,null,null,null,null,null,null,null,null,null,30,30,146,4398,46490353.889999993,0.95728819937552478,38354542]
["00300817","0030","0817",147,30,"Beverly                      ",817,"Essex North Shore",2068698.8657016344,3.8355428143374407E-2,2101171.5850222562,{"$f":"IF(K159>0, K156/K159, 0)","v":3.7569729556578405E-2},null,{"$f":"ROUND(M159*L156,0)","v":1691575},1665173,{"$f":"N156-O156","v":26402},1.5855409618099741,120.9999999951,115.99999999875,30,817,147,115.99999999875,2101171.5850222562,147,30,817,147,115.99999999875,2101171.5850222562,null,null,null,null,null,null,null,null,null,null,null,null,null,null,null,null,null,null,null,null,null,null,null,null,null,null,null,null,null,null,null,null,null,null,null,null,null,null,null,null,null,null,null,null,null,null,null,null,null,null,null,null,null,null,null,null,null,null,null,null,null,null,null,null,null,30,817,147,128.00000000115,2074283.0921830197,4.2711800624475285E-2,1711284]
["00300998","0030","0998",148,30,"",998,null,0,0,0,{"$f":"IF(K159>0, K157/K159, 0)","v":0},null,{"$f":"ROUND(M159*L157,0)","v":0},0,{"$f":"N157-O157","v":0},0,0,0,30,998,148,0,0,148,30,998,148,0,0,null,null,null,null,null,null,null,null,null,null,null,null,null,null,null,null,null,null,null,null,null,null,null,null,null,null,null,null,null,null,null,null,null,null,null,null,null,null,null,null,null,null,null,null,null,null,null,null,null,null,null,null,null,null,null,null,null,null,null,null,null,null,null,null,null,30,998,148,0,0,0,0]
["00300998","0030","0998",149,30,"",998,"",0,0,0,{"$f":"IF(K159>0, K158/K159, 0)","v":0},null,{"$f":"ROUND(M159*L158,0)","v":0},0,{"$f":"N158-O158","v":0},0,0,0,30,998,149,0,0,149,30,998,149,0,0,null,null,null,null,null,null,null,null,null,null,null,null,null,null,null,null,null,null,null,null,null,null,null,null,null,null,null,null,null,null,null,null,null,null,null,null,null,null,null,null,null,null,null,null,null,null,null,null,null,null,null,null,null,null,null,null,null,null,null,null,null,null,null,null,null,30,998,149,0,0,0,0]
["00300999","0030","0999",150,30,"Beverly                      ",999,"Total",53934969.985701635,1,{"$f":"SUM(K155:K158)","v":55927248.07502225},{"$f":"SUM(L155:L158)","v":1},{"$f":"VLOOKUP(E159,town351,24)","v":45024936},{"$f":"SUM(N155:N158)","v":45024936},43414266,{"$f":"SUM(P155:P158)","v":1610670},3.7100016846996793,4690.9999999950996,4728.9999999987504,30,999,150,4728.9999999987504,55927248.07502225,150,30,999,150,4728.9999999987504,55927248.07502225,null,null,null,null,null,null,null,null,null,null,null,null,null,null,null,null,null,null,null,null,null,null,null,null,null,null,null,null,null,null,null,null,null,null,null,null,null,null,null,null,null,null,null,null,null,null,null,null,null,null,null,null,null,null,null,null,null,null,null,null,null,null,null,null,null,30,999,150,4526.0000000011496,48564636.982183009,1,40065826]
["00310031","0031","0031",151,31,"Billerica                    ",31,"Billerica",52647471.612599999,0.85825261494674787,{"$f":"X160","v":52163794.354139991},{"$f":"IF(K164>0, K160/K164, 0)","v":0.85761752464034613},null,{"$f":"ROUND(M164*L160,0)","v":43035131},41417136,{"$f":"N160-O160","v":1617995},3.9065834972268485,4866,4694,31,31,151,4694,52163794.354139991,151,31,31,151,4694,52163794.354139991,null,null,null,null,null,null,null,null,null,null,null,null,null,null,null,null,null,null,null,null,null,null,null,null,null,null,null,null,null,null,null,null,null,null,null,null,null,null,null,null,null,null,null,null,null,null,null,null,null,null,null,null,null,null,null,null,null,null,null,null,null,null,null,null,null,31,31,151,4912,50010476.058320001,0.83272915895715727,37025362]
["00310871","0031","0871",152,31,"Billerica                    ",871,"Shawsheen Valley",8695157.2308514398,0.1417473850532521,8660282.6445379462,{"$f":"IF(K164>0, K161/K164, 0)","v":0.14238247535965379},null,{"$f":"ROUND(M164*L161,0)","v":7144733},6840376,{"$f":"N161-O161","v":304357},4.4494191547365229,517.00000000199998,507.00000000199998,31,871,152,507.00000000199998,8660282.6445379462,152,31,871,152,507.00000000199998,8660282.6445379462,null,null,null,null,null,null,null,null,null,null,null,null,null,null,null,null,null,null,null,null,null,null,null,null,null,null,null,null,null,null,null,null,null,null,null,null,null,null,null,null,null,null,null,null,null,null,null,null,null,null,null,null,null,null,null,null,null,null,null,null,null,null,null,null,null,31,871,152,629.99999999776003,10045636.448835487,0.16727084104284276,7437308]
["00310998","0031","0998",153,31,"",998,null,0,0,0,{"$f":"IF(K164>0, K162/K164, 0)","v":0},null,{"$f":"ROUND(M164*L162,0)","v":0},0,{"$f":"N162-O162","v":0},0,0,0,31,998,153,0,0,153,31,998,153,0,0,null,null,null,null,null,null,null,null,null,null,null,null,null,null,null,null,null,null,null,null,null,null,null,null,null,null,null,null,null,null,null,null,null,null,null,null,null,null,null,null,null,null,null,null,null,null,null,null,null,null,null,null,null,null,null,null,null,null,null,null,null,null,null,null,null,31,998,153,0,0,0,0]
["00310998","0031","0998",154,31,"",998,"",0,0,0,{"$f":"IF(K164>0, K163/K164, 0)","v":0},null,{"$f":"ROUND(M164*L163,0)","v":0},0,{"$f":"N163-O163","v":0},0,0,0,31,998,154,0,0,154,31,998,154,0,0,null,null,null,null,null,null,null,null,null,null,null,null,null,null,null,null,null,null,null,null,null,null,null,null,null,null,null,null,null,null,null,null,null,null,null,null,null,null,null,null,null,null,null,null,null,null,null,null,null,null,null,null,null,null,null,null,null,null,null,null,null,null,null,null,null,31,998,154,0,0,0,0]
["00310999","0031","0999",155,31,"Billerica                    ",999,"Total",61342628.84345144,1,{"$f":"SUM(K160:K163)","v":60824076.998677939},{"$f":"SUM(L160:L163)","v":0.99999999999999989},{"$f":"VLOOKUP(E164,town351,24)","v":50179864},{"$f":"SUM(N160:N163)","v":50179864},48257512,{"$f":"SUM(P160:P163)","v":1922352},3.9835290306719502,5383.000000002,5201.000000002,31,999,155,5201.000000002,60824076.998677939,155,31,999,155,5201.000000002,60824076.998677939,null,null,null,null,null,null,null,null,null,null,null,null,null,null,null,null,null,null,null,null,null,null,null,null,null,null,null,null,null,null,null,null,null,null,null,null,null,null,null,null,null,null,null,null,null,null,null,null,null,null,null,null,null,null,null,null,null,null,null,null,null,null,null,null,null,31,999,155,5541.9999999977599,60056112.507155485,1,44462670]
["00320032","0032","0032",156,32,"Blackstone                   ",32,"Blackstone",408810.81999999995,2.5445762434576431E-2,{"$f":"X165","v":446551.14999999991},{"$f":"IF(K169>0, K165/K169, 0)","v":2.7617440267986473E-2},null,{"$f":"ROUND(M169*L165,0)","v":217842},197411,{"$f":"N165-O165","v":20431},10.34947394015531,26,28,32,32,156,28,446551.14999999991,156,32,32,156,28,446551.14999999991,null,null,null,null,null,null,null,null,null,null,null,null,null,null,null,null,null,null,null,null,null,null,null,null,null,null,null,null,null,null,null,null,null,null,null,null,null,null,null,null,null,null,null,null,null,null,null,null,null,null,null,null,null,null,null,null,null,null,null,null,null,null,null,null,null,32,32,156,20,303047.63,2.0484019443217615E-2,146874]
["00320622","0032","0622",157,32,"Blackstone                   ",622,"Blackstone Millville",14224835.217833772,0.88540165748057864,14441104.815190768,{"$f":"IF(K169>0, K166/K169, 0)","v":0.89312579227992805},null,{"$f":"ROUND(M169*L166,0)","v":7044849},6869052,{"$f":"N166-O166","v":175797},2.5592614526720716,1279.89473683662,1254.77031801475,32,622,157,1254.77031801475,14441104.815190768,157,32,622,157,1254.77031801475,14441104.815190768,null,null,null,null,null,null,null,null,null,null,null,null,null,null,null,null,null,null,null,null,null,null,null,null,null,null,null,null,null,null,null,null,null,null,null,null,null,null,null,null,null,null,null,null,null,null,null,null,null,null,null,null,null,null,null,null,null,null,null,null,null,null,null,null,null,32,622,157,1279.1344537881,13152292.87002852,0.88900818288054784,6374329]
["00320805","0032","0805",158,32,"Blackstone                   ",805,"Blackstone Valley",1432322.5512817218,8.9152580084844904E-2,1281516.3283628866,{"$f":"IF(K169>0, K167/K169, 0)","v":7.9256767452085541E-2},null,{"$f":"ROUND(M169*L167,0)","v":625166},691656,{"$f":"N167-O167","v":-66490},-9.6131602993395564,87.000000001560011,76.000000005490008,32,805,158,76.000000005490008,1281516.3283628866,158,32,805,158,76.000000005490008,1281516.3283628866,null,null,null,null,null,null,null,null,null,null,null,null,null,null,null,null,null,null,null,null,null,null,null,null,null,null,null,null,null,null,null,null,null,null,null,null,null,null,null,null,null,null,null,null,null,null,null,null,null,null,null,null,null,null,null,null,null,null,null,null,null,null,null,null,null,32,805,158,86.000000000400007,1339003.4928610669,9.0507797676234569E-2,648955]
["00320998","0032","0998",159,32,"",998,"",0,0,0,{"$f":"IF(K169>0, K168/K169, 0)","v":0},null,{"$f":"ROUND(M169*L168,0)","v":0},0,{"$f":"N168-O168","v":0},0,0,0,32,998,159,0,0,159,32,998,159,0,0,null,null,null,null,null,null,null,null,null,null,null,null,null,null,null,null,null,null,null,null,null,null,null,null,null,null,null,null,null,null,null,null,null,null,null,null,null,null,null,null,null,null,null,null,null,null,null,null,null,null,null,null,null,null,null,null,null,null,null,null,null,null,null,null,null,32,998,159,0,0,0,0]
["00320999","0032","0999",160,32,"Blackstone                   ",999,"Total",16065968.589115495,1,{"$f":"SUM(K165:K168)","v":16169172.293553654},{"$f":"SUM(L165:L168)","v":1},{"$f":"VLOOKUP(E169,town351,24)","v":7887857},{"$f":"SUM(N165:N168)","v":7887857},7758119,{"$f":"SUM(P165:P168)","v":129738},1.6722868004473765,1392.8947368381801,1358.77031802024,32,999,160,1358.77031802024,16169172.293553654,160,32,999,160,1358.77031802024,16169172.293553654,null,null,null,null,null,null,null,null,null,null,null,null,null,null,null,null,null,null,null,null,null,null,null,null,null,null,null,null,null,null,null,null,null,null,null,null,null,null,null,null,null,null,null,null,null,null,null,null,null,null,null,null,null,null,null,null,null,null,null,null,null,null,null,null,null,32,999,160,1385.1344537885,14794343.992889587,1,7170158]
["00330033","0033","0033",161,33,"Blandford                    ",33,"Blandford",102604.6,7.2954906933033331E-2,{"$f":"X170","v":149429.5},{"$f":"IF(K174>0, K170/K174, 0)","v":0.11318213340618079},null,{"$f":"ROUND(M174*L170,0)","v":123279},84649,{"$f":"N170-O170","v":38630},45.635506621460387,7,10,33,33,161,10,149429.5,161,33,33,161,10,149429.5,null,null,null,null,null,null,null,null,null,null,null,null,null,null,null,null,null,null,null,null,null,null,null,null,null,null,null,null,null,null,null,null,null,null,null,null,null,null,null,null,null,null,null,null,null,null,null,null,null,null,null,null,null,null,null,null,null,null,null,null,null,null,null,null,null,33,33,161,8,110697.28,8.659184341056983E-2,91325]
["00330672","0033","0672",162,33,"Blandford                    ",672,"Gateway",1303806.6245963478,0.92704509306696659,1170827.4655030002,{"$f":"IF(K174>0, K171/K174, 0)","v":0.88681786659381923},null,{"$f":"ROUND(M174*L171,0)","v":965933},1075640,{"$f":"N171-O171","v":-109707},-10.19923022572608,110.36860067875999,95.409836067000001,33,672,162,95.409836067000001,1170827.4655030002,162,33,672,162,95.409836067000001,1170827.4655030002,null,null,null,null,null,null,null,null,null,null,null,null,null,null,null,null,null,null,null,null,null,null,null,null,null,null,null,null,null,null,null,null,null,null,null,null,null,null,null,null,null,null,null,null,null,null,null,null,null,null,null,null,null,null,null,null,null,null,null,null,null,null,null,null,null,33,672,162,108.00679501848001,1167682.7110014127,0.9134081565894302,963338]
["00330998","0033","0998",163,33,"",998,"",0,0,0,{"$f":"IF(K174>0, K172/K174, 0)","v":0},null,{"$f":"ROUND(M174*L172,0)","v":0},0,{"$f":"N172-O172","v":0},0,0,0,33,998,163,0,0,163,33,998,163,0,0,null,null,null,null,null,null,null,null,null,null,null,null,null,null,null,null,null,null,null,null,null,null,null,null,null,null,null,null,null,null,null,null,null,null,null,null,null,null,null,null,null,null,null,null,null,null,null,null,null,null,null,null,null,null,null,null,null,null,null,null,null,null,null,null,null,33,998,163,0,0,0,0]
["00330998","0033","0998",164,33,"",998,"",0,0,0,{"$f":"IF(K174>0, K173/K174, 0)","v":0},null,{"$f":"ROUND(M174*L173,0)","v":0},0,{"$f":"N173-O173","v":0},0,0,0,33,998,164,0,0,164,33,998,164,0,0,null,null,null,null,null,null,null,null,null,null,null,null,null,null,null,null,null,null,null,null,null,null,null,null,null,null,null,null,null,null,null,null,null,null,null,null,null,null,null,null,null,null,null,null,null,null,null,null,null,null,null,null,null,null,null,null,null,null,null,null,null,null,null,null,null,33,998,164,0,0,0,0]
["00330999","0033","0999",165,33,"Blandford                    ",999,"Total",1406411.2245963479,0.99999999999999989,{"$f":"SUM(K170:K173)","v":1320256.9655030002},{"$f":"SUM(L170:L173)","v":1},{"$f":"VLOOKUP(E174,town351,24)","v":1089212},{"$f":"SUM(N170:N173)","v":1089212},1160289,{"$f":"SUM(P170:P173)","v":-71077},-6.1258014167160075,117.36860067875999,105.409836067,33,999,165,105.409836067,1320256.9655030002,165,33,999,165,105.409836067,1320256.9655030002,null,null,null,null,null,null,null,null,null,null,null,null,null,null,null,null,null,null,null,null,null,null,null,null,null,null,null,null,null,null,null,null,null,null,null,null,null,null,null,null,null,null,null,null,null,null,null,null,null,null,null,null,null,null,null,null,null,null,null,null,null,null,null,null,null,33,999,165,116.00679501848001,1278379.9910014127,1,1054663]
["00340034","0034","0034",166,34,"Bolton                       ",34,"Bolton",15157.29088,1.3646536367394515E-3,{"$f":"X175","v":15449.483859999998},{"$f":"IF(K179>0, K175/K179, 0)","v":1.284919247303982E-3},null,{"$f":"ROUND(M179*L175,0)","v":12379},12505,{"$f":"N175-O175","v":-126},-1.0075969612155138,1,1,34,34,166,1,15449.483859999998,166,34,34,166,1,15449.483859999998,null,null,null,null,null,null,null,null,null,null,null,null,null,null,null,null,null,null,null,null,null,null,null,null,null,null,null,null,null,null,null,null,null,null,null,null,null,null,null,null,null,null,null,null,null,null,null,null,null,null,null,null,null,null,null,null,null,null,null,null,null,null,null,null,null,34,34,166,1,14264.24656,1.335325678275541E-3,11464]
["00340725","0034","0725",167,34,"Bolton                       ",725,"Nashoba",10831610.860645892,0.97520046753413991,11666200.495547229,{"$f":"IF(K179>0, K176/K179, 0)","v":0.97026707788255451},null,{"$f":"ROUND(M179*L176,0)","v":9347864},8936079,{"$f":"N176-O176","v":411785},4.6081172738065543,1004.1716254454701,1054.2805573078799,34,725,167,1054.2805573078799,11666200.495547229,167,34,725,167,1054.2805573078799,11666200.495547229,null,null,null,null,null,null,null,null,null,null,null,null,null,null,null,null,null,null,null,null,null,null,null,null,null,null,null,null,null,null,null,null,null,null,null,null,null,null,null,null,null,null,null,null,null,null,null,null,null,null,null,null,null,null,null,null,null,null,null,null,null,null,null,null,null,34,725,167,1037.2661167173198,10452467.174149854,0.97849176682869132,8400729]
["00340830","0034","0830",168,34,"Bolton                       ",830,"Minuteman",260292.62340826041,2.3434878829120619E-2,342050.25888876698,{"$f":"IF(K179>0, K177/K179, 0)","v":2.8448002870141625E-2},null,{"$f":"ROUND(M179*L177,0)","v":274077},214741,{"$f":"N177-O177","v":59336},27.631425764059962,13.999999999649999,16.99999999872,34,830,168,16.99999999872,342050.25888876698,168,34,830,168,16.99999999872,342050.25888876698,null,null,null,null,null,null,null,null,null,null,null,null,null,null,null,null,null,null,null,null,null,null,null,null,null,null,null,null,null,null,null,null,null,null,null,null,null,null,null,null,null,null,null,null,null,null,null,null,null,null,null,null,null,null,null,null,null,null,null,null,null,null,null,null,null,34,830,168,12.035190617280001,215491.49469236931,2.0172907493033281E-2,173192]
["00340998","0034","0998",169,34,"",998,"",0,0,0,{"$f":"IF(K179>0, K178/K179, 0)","v":0},null,{"$f":"ROUND(M179*L178,0)","v":0},0,{"$f":"N178-O178","v":0},0,0,0,34,998,169,0,0,169,34,998,169,0,0,null,null,null,null,null,null,null,null,null,null,null,null,null,null,null,null,null,null,null,null,null,null,null,null,null,null,null,null,null,null,null,null,null,null,null,null,null,null,null,null,null,null,null,null,null,null,null,null,null,null,null,null,null,null,null,null,null,null,null,null,null,null,null,null,null,34,998,169,0,0,0,0]
["00340999","0034","0999",170,34,"Bolton                       ",999,"Total",11107060.774934152,1,{"$f":"SUM(K175:K178)","v":12023700.238295995},{"$f":"SUM(L175:L178)","v":1.0000000000000002},{"$f":"VLOOKUP(E179,town351,24)","v":9634320},{"$f":"SUM(N175:N178)","v":9634320},9163325,{"$f":"SUM(P175:P178)","v":470995},5.1400010367415758,1019.1716254451201,1072.2805573065998,34,999,170,1072.2805573065998,12023700.238295995,170,34,999,170,1072.2805573065998,12023700.238295995,null,null,null,null,null,null,null,null,null,null,null,null,null,null,null,null,null,null,null,null,null,null,null,null,null,null,null,null,null,null,null,null,null,null,null,null,null,null,null,null,null,null,null,null,null,null,null,null,null,null,null,null,null,null,null,null,null,null,null,null,null,null,null,null,null,34,999,170,1050.3013073345999,10682222.915402222,1.0000000000000002,8585385]
["00350035","0035","0035",171,35,"Boston                       ",35,"Boston",924506066.0076499,1,{"$f":"X180","v":973396859.42095006},{"$f":"IF(K184>0, K180/K184, 0)","v":1},null,{"$f":"ROUND(M184*L180,0)","v":780870181},762717504,{"$f":"N180-O180","v":18152677},2.3800000530733851,62890,60704,35,35,171,60704,973396859.42095006,171,35,35,171,60704,973396859.42095006,null,null,null,null,null,null,null,null,null,null,null,null,null,null,null,null,null,null,null,null,null,null,null,null,null,null,null,null,null,null,null,null,null,null,null,null,null,null,null,null,null,null,null,null,null,null,null,null,null,null,null,null,null,null,null,null,null,null,null,null,null,null,null,null,null,35,35,171,64508,861999611.91060007,1,711149680]
["00350998","0035","0998",172,35,"",998,null,0,0,0,{"$f":"IF(K184>0, K181/K184, 0)","v":0},null,{"$f":"ROUND(M184*L181,0)","v":0},0,{"$f":"N181-O181","v":0},0,0,0,35,998,172,0,0,172,35,998,172,0,0,null,null,null,null,null,null,null,null,null,null,null,null,null,null,null,null,null,null,null,null,null,null,null,null,null,null,null,null,null,null,null,null,null,null,null,null,null,null,null,null,null,null,null,null,null,null,null,null,null,null,null,null,null,null,null,null,null,null,null,null,null,null,null,null,null,35,998,172,0,0,0,0]
["00350998","0035","0998",173,35,"",998,"",0,0,0,{"$f":"IF(K184>0, K182/K184, 0)","v":0},null,{"$f":"ROUND(M184*L182,0)","v":0},0,{"$f":"N182-O182","v":0},0,0,0,35,998,173,0,0,173,35,998,173,0,0,null,null,null,null,null,null,null,null,null,null,null,null,null,null,null,null,null,null,null,null,null,null,null,null,null,null,null,null,null,null,null,null,null,null,null,null,null,null,null,null,null,null,null,null,null,null,null,null,null,null,null,null,null,null,null,null,null,null,null,null,null,null,null,null,null,35,998,173,0,0,0,0]
["00350998","0035","0998",174,35,"",998,"",0,0,0,{"$f":"IF(K184>0, K183/K184, 0)","v":0},null,{"$f":"ROUND(M184*L183,0)","v":0},0,{"$f":"N183-O183","v":0},0,0,0,35,998,174,0,0,174,35,998,174,0,0,null,null,null,null,null,null,null,null,null,null,null,null,null,null,null,null,null,null,null,null,null,null,null,null,null,null,null,null,null,null,null,null,null,null,null,null,null,null,null,null,null,null,null,null,null,null,null,null,null,null,null,null,null,null,null,null,null,null,null,null,null,null,null,null,null,35,998,174,0,0,0,0]
["00350999","0035","0999",175,35,"Boston                       ",999,"Total",924506066.0076499,1,{"$f":"SUM(K180:K183)","v":973396859.42095006},{"$f":"SUM(L180:L183)","v":1},{"$f":"VLOOKUP(E184,town351,24)","v":780870181},{"$f":"SUM(N180:N183)","v":780870181},762717504,{"$f":"SUM(P180:P183)","v":18152677},2.3800000530733851,62890,60704,35,999,175,60704,973396859.42095006,175,35,999,175,60704,973396859.42095006,null,null,null,null,null,null,null,null,null,null,null,null,null,null,null,null,null,null,null,null,null,null,null,null,null,null,null,null,null,null,null,null,null,null,null,null,null,null,null,null,null,null,null,null,null,null,null,null,null,null,null,null,null,null,null,null,null,null,null,null,null,null,null,null,null,35,999,175,64508,861999611.91060007,1,711149680]
["00360036","0036","0036",176,36,"Bourne                       ",36,"Bourne",22664002.020000003,0.8760903726327447,{"$f":"X185","v":20913172.689999998},{"$f":"IF(K189>0, K185/K189, 0)","v":0.86722014312462903},null,{"$f":"ROUND(M189*L185,0)","v":17253367},18697802,{"$f":"N185-O185","v":-1444435},-7.7251593529549627,2012,1789,36,36,176,1789,20913172.689999998,176,36,36,176,1789,20913172.689999998,null,null,null,null,null,null,null,null,null,null,null,null,null,null,null,null,null,null,null,null,null,null,null,null,null,null,null,null,null,null,null,null,null,null,null,null,null,null,null,null,null,null,null,null,null,null,null,null,null,null,null,null,null,null,null,null,null,null,null,null,null,null,null,null,null,36,36,176,2038,21368782.289999999,0.88295566148134563,17629245]
["00360879","0036","0879",177,36,"Bourne                       ",879,"Upper Cape Cod",3205477.5770560275,0.12390962736725533,3202010.5835907161,{"$f":"IF(K189>0, K186/K189, 0)","v":0.13277985687537103},null,{"$f":"ROUND(M189*L186,0)","v":2641659},2644519,{"$f":"N186-O186","v":-2860},-0.10814821145168554,184.99999999809998,179.70844327486,36,879,177,179.70844327486,3202010.5835907161,177,36,879,177,179.70844327486,3202010.5835907161,null,null,null,null,null,null,null,null,null,null,null,null,null,null,null,null,null,null,null,null,null,null,null,null,null,null,null,null,null,null,null,null,null,null,null,null,null,null,null,null,null,null,null,null,null,null,null,null,null,null,null,null,null,null,null,null,null,null,null,null,null,null,null,null,null,36,879,177,174.99999999767999,2832639.3919781535,0.11704433851865442,2336928]
["00360998","0036","0998",178,36,"",998,"",0,0,0,{"$f":"IF(K189>0, K187/K189, 0)","v":0},null,{"$f":"ROUND(M189*L187,0)","v":0},0,{"$f":"N187-O187","v":0},0,0,0,36,998,178,0,0,178,36,998,178,0,0,null,null,null,null,null,null,null,null,null,null,null,null,null,null,null,null,null,null,null,null,null,null,null,null,null,null,null,null,null,null,null,null,null,null,null,null,null,null,null,null,null,null,null,null,null,null,null,null,null,null,null,null,null,null,null,null,null,null,null,null,null,null,null,null,null,36,998,178,0,0,0,0]
["00360998","0036","0998",179,36,"",998,"",0,0,0,{"$f":"IF(K189>0, K188/K189, 0)","v":0},null,{"$f":"ROUND(M189*L188,0)","v":0},0,{"$f":"N188-O188","v":0},0,0,0,36,998,179,0,0,179,36,998,179,0,0,null,null,null,null,null,null,null,null,null,null,null,null,null,null,null,null,null,null,null,null,null,null,null,null,null,null,null,null,null,null,null,null,null,null,null,null,null,null,null,null,null,null,null,null,null,null,null,null,null,null,null,null,null,null,null,null,null,null,null,null,null,null,null,null,null,36,998,179,0,0,0,0]
["00360999","0036","0999",180,36,"Bourne                       ",999,"Total",25869479.597056031,1,{"$f":"SUM(K185:K188)","v":24115183.273590714},{"$f":"SUM(L185:L188)","v":1},{"$f":"VLOOKUP(E189,town351,24)","v":19895026},{"$f":"SUM(N185:N188)","v":19895026},21342321,{"$f":"SUM(P185:P188)","v":-1447295},-6.7813383558423661,2196.9999999981001,1968.70844327486,36,999,180,1968.70844327486,24115183.273590714,180,36,999,180,1968.70844327486,24115183.273590714,null,null,null,null,null,null,null,null,null,null,null,null,null,null,null,null,null,null,null,null,null,null,null,null,null,null,null,null,null,null,null,null,null,null,null,null,null,null,null,null,null,null,null,null,null,null,null,null,null,null,null,null,null,null,null,null,null,null,null,null,null,null,null,null,null,36,999,180,2212.9999999976799,24201421.681978151,1,19966173]
["00370037","0037","0037",181,37,"Boxborough                   ",37,"Boxborough",143372.81232,1.5122596372161111E-2,{"$f":"X190","v":144906.67512},{"$f":"IF(K194>0, K190/K194, 0)","v":1.5192350354028173E-2},null,{"$f":"ROUND(M194*L190,0)","v":119548},117755,{"$f":"N190-O190","v":1793},1.5226529659037833,9,9,37,37,181,9,144906.67512,181,37,37,181,9,144906.67512,null,null,null,null,null,null,null,null,null,null,null,null,null,null,null,null,null,null,null,null,null,null,null,null,null,null,null,null,null,null,null,null,null,null,null,null,null,null,null,null,null,null,null,null,null,null,null,null,null,null,null,null,null,null,null,null,null,null,null,null,null,null,null,null,null,37,37,181,7,106694.35,1.2238709009983006E-2,87553]
["00370600","0037","0600",182,37,"Boxborough                   ",600,"Acton Boxborough",9337328.0403412655,0.98487740362783893,9393227.43469394,{"$f":"IF(K194>0, K191/K194, 0)","v":0.98480764964597189},null,{"$f":"ROUND(M194*L191,0)","v":7749413},7668914,{"$f":"N191-O191","v":80499},1.0496792635828227,856.02185588112002,832.89519063040007,37,600,182,832.89519063040007,9393227.43469394,182,37,600,182,832.89519063040007,9393227.43469394,null,null,null,null,null,null,null,null,null,null,null,null,null,null,null,null,null,null,null,null,null,null,null,null,null,null,null,null,null,null,null,null,null,null,null,null,null,null,null,null,null,null,null,null,null,null,null,null,null,null,null,null,null,null,null,null,null,null,null,null,null,null,null,null,null,37,600,182,848.46071046240002,8611083.800699586,0.98776129099001708,7066196]
["00370830","0037","0830",183,37,null,998,null,0,0,0,{"$f":"IF(K194>0, K192/K194, 0)","v":0},null,{"$f":"ROUND(M194*L192,0)","v":0},0,{"$f":"N192-O192","v":0},0,0,0,37,998,183,0,0,183,37,998,183,0,0,null,null,null,null,null,null,null,null,null,null,null,null,null,null,null,null,null,null,null,null,null,null,null,null,null,null,null,null,null,null,null,null,null,null,null,null,null,null,null,null,null,null,null,null,null,null,null,null,null,null,null,null,null,null,null,null,null,null,null,null,null,null,null,null,null,37,830,183,0,0,0,0]
["00370998","0037","0998",184,37,"",998,"",0,0,0,{"$f":"IF(K194>0, K193/K194, 0)","v":0},null,{"$f":"ROUND(M194*L193,0)","v":0},0,{"$f":"N193-O193","v":0},0,0,0,37,998,184,0,0,184,37,998,184,0,0,null,null,null,null,null,null,null,null,null,null,null,null,null,null,null,null,null,null,null,null,null,null,null,null,null,null,null,null,null,null,null,null,null,null,null,null,null,null,null,null,null,null,null,null,null,null,null,null,null,null,null,null,null,null,null,null,null,null,null,null,null,null,null,null,null,37,998,184,0,0,0,0]
["00370999","0037","0999",185,37,"Boxborough",999,"Total",9480700.8526612651,1,{"$f":"SUM(K190:K193)","v":9538134.1098139398},{"$f":"SUM(L190:L193)","v":1},{"$f":"VLOOKUP(E194,town351,24)","v":7868961},{"$f":"SUM(N190:N193)","v":7868961},7786669,{"$f":"SUM(P190:P193)","v":82292},1.0568318750931882,865.02185588112002,841.89519063040007,37,999,185,841.89519063040007,9538134.1098139398,185,37,999,185,841.89519063040007,9538134.1098139398,null,null,null,null,null,null,null,null,null,null,null,null,null,null,null,null,null,null,null,null,null,null,null,null,null,null,null,null,null,null,null,null,null,null,null,null,null,null,null,null,null,null,null,null,null,null,null,null,null,null,null,null,null,null,null,null,null,null,null,null,null,null,null,null,null,37,999,185,855.46071046240002,8717778.1506995857,1,7153749]
["00380038","0038","0038",186,38,"Boxford",38,"Boxford",7419452.1552000009,0.49049391915090373,{"$f":"X195","v":7066465.0981000001},{"$f":"IF(K199>0, K195/K199, 0)","v":0.47931237906588592},null,{"$f":"ROUND(M199*L195,0)","v":5829834},6121048,{"$f":"N195-O195","v":-291214},-4.7575839954203918,729,673,38,38,186,673,7066465.0981000001,186,38,38,186,673,7066465.0981000001,null,null,null,null,null,null,null,null,null,null,null,null,null,null,null,null,null,null,null,null,null,null,null,null,null,null,null,null,null,null,null,null,null,null,null,null,null,null,null,null,null,null,null,null,null,null,null,null,null,null,null,null,null,null,null,null,null,null,null,null,null,null,null,null,null,38,38,186,704,6655216.9083199995,0.46771861635760403,5490554]
["00380705","0038","0705",187,38,"Boxford",705,"Masconomet",7433492.502237807,0.49142211502045807,7241731.9131689379,{"$f":"IF(K199>0, K196/K199, 0)","v":0.49120057959270669},null,{"$f":"ROUND(M199*L196,0)","v":5974429},6132632,{"$f":"N196-O196","v":-158203},-2.5796917212707364,669.50790067680009,630.09075144699,38,705,187,630.09075144699,7241731.9131689379,187,38,705,187,630.09075144699,7241731.9131689379,null,null,null,null,null,null,null,null,null,null,null,null,null,null,null,null,null,null,null,null,null,null,null,null,null,null,null,null,null,null,null,null,null,null,null,null,null,null,null,null,null,null,null,null,null,null,null,null,null,null,null,null,null,null,null,null,null,null,null,null,null,null,null,null,null,38,705,187,700.75921909162003,7282191.1889215894,0.51178142408490401,6007808]
["00380817","0038","0817",188,38,"Boxford",817,"Essex North Shore",273546.9574711952,1.80839658286381E-2,434725.15542237775,{"$f":"IF(K199>0, K197/K199, 0)","v":2.9487041341407356E-2},null,{"$f":"ROUND(M199*L197,0)","v":358648},225676,{"$f":"N197-O197","v":132972},58.921639873092396,16.000000000700002,23.99999999425,38,817,188,23.99999999425,434725.15542237775,188,38,817,188,23.99999999425,434725.15542237775,null,null,null,null,null,null,null,null,null,null,null,null,null,null,null,null,null,null,null,null,null,null,null,null,null,null,null,null,null,null,null,null,null,null,null,null,null,null,null,null,null,null,null,null,null,null,null,null,null,null,null,null,null,null,null,null,null,null,null,null,null,null,null,null,null,38,817,188,17.9999999952,291696.05975783087,2.0499959557492106E-2,240649]
["00380998","0038","0998",189,38,"",998,null,0,0,0,{"$f":"IF(K199>0, K198/K199, 0)","v":0},null,{"$f":"ROUND(M199*L198,0)","v":0},0,{"$f":"N198-O198","v":0},0,0,0,38,998,189,0,0,189,38,998,189,0,0,null,null,null,null,null,null,null,null,null,null,null,null,null,null,null,null,null,null,null,null,null,null,null,null,null,null,null,null,null,null,null,null,null,null,null,null,null,null,null,null,null,null,null,null,null,null,null,null,null,null,null,null,null,null,null,null,null,null,null,null,null,null,null,null,null,38,998,189,0,0,0,0]
["00380999","0038","0999",190,38,"Boxford                      ",999,"Total",15126491.614909004,0.99999999999999989,{"$f":"SUM(K195:K198)","v":14742922.166691316},{"$f":"SUM(L195:L198)","v":0.99999999999999989},{"$f":"VLOOKUP(E199,town351,24)","v":12162911},{"$f":"SUM(N195:N198)","v":12162911},12479356,{"$f":"SUM(P195:P198)","v":-316445},-2.5357478382698595,1414.5079006775002,1327.0907514412399,38,999,190,1327.0907514412399,14742922.166691316,190,38,999,190,1327.0907514412399,14742922.166691316,null,null,null,null,null,null,null,null,null,null,null,null,null,null,null,null,null,null,null,null,null,null,null,null,null,null,null,null,null,null,null,null,null,null,null,null,null,null,null,null,null,null,null,null,null,null,null,null,null,null,null,null,null,null,null,null,null,null,null,null,null,null,null,null,null,38,999,190,1422.7592190868199,14229104.156999419,1.0000000000000002,11739011]
["00390039","0039","0039",191,39,"Boylston                     ",39,"Boylston",438126.42,6.199416389357755E-2,{"$f":"X200","v":579300.35},{"$f":"IF(K204>0, K200/K204, 0)","v":7.7682976565784378E-2},null,{"$f":"ROUND(M204*L200,0)","v":466561},353125,{"$f":"N200-O200","v":113436},32.123469026548669,28,35,39,39,191,35,579300.35,191,39,39,191,35,579300.35,null,null,null,null,null,null,null,null,null,null,null,null,null,null,null,null,null,null,null,null,null,null,null,null,null,null,null,null,null,null,null,null,null,null,null,null,null,null,null,null,null,null,null,null,null,null,null,null,null,null,null,null,null,null,null,null,null,null,null,null,null,null,null,null,null,39,39,191,286,2856144.64,0.43465356559676427,2256220]
["00390620","0039","0620",192,39,"Boylston                     ",620,"Berlin Boylston",6629093.9840385299,0.93800583610642241,6877936.4296621485,{"$f":"IF(K204>0, K201/K204, 0)","v":0.92231702343421562},null,{"$f":"ROUND(M204*L201,0)","v":5539402},5342970,{"$f":"N201-O201","v":196432},3.6764571015745924,623.06485356050007,629.13631739367008,39,620,192,629.13631739367008,6877936.4296621485,192,39,620,192,629.13631739367008,6877936.4296621485,null,null,null,null,null,null,null,null,null,null,null,null,null,null,null,null,null,null,null,null,null,null,null,null,null,null,null,null,null,null,null,null,null,null,null,null,null,null,null,null,null,null,null,null,null,null,null,null,null,null,null,null,null,null,null,null,null,null,null,null,null,null,null,null,null,39,620,192,363.31397459399,3714938.323689973,0.56534643440323562,2934626]
[{"$f":"B202&C202","v":"00390998"},"0039","0998",193,39,"",998,"",0,0,0,{"$f":"IF(K204>0, K202/K204, 0)","v":0},null,{"$f":"ROUND(M204*L202,0)","v":0},0,{"$f":"N202-O202","v":0},0,0,0,{"$f":"VLOOKUP($D202, foundoptions, VLOOKUP($T$6, foundoptcell, 2, FALSE), FALSE)","v":39},{"$f":"VLOOKUP($D202, foundoptions, VLOOKUP($T$6, foundoptcell, 2, FALSE)+1, FALSE)","v":998},{"$f":"VLOOKUP($D202, foundoptions, VLOOKUP($T$6, foundoptcell, 2, FALSE)+2, FALSE)","v":193},{"$f":"VLOOKUP($D202, foundoptions, VLOOKUP($T$6, foundoptcell, 2, FALSE)+3, FALSE)","v":0},{"$f":"VLOOKUP($D202, foundoptions, VLOOKUP($T$6, foundoptcell, 2, FALSE)+4, FALSE)","v":0},193,39,998,193,0,0,null,null,null,null,null,null,null,null,null,null,null,null,null,null,null,null,null,null,null,null,null,null,null,null,null,null,null,null,null,null,null,null,null,null,null,null,null,null,null,null,null,null,null,null,null,null,null,null,null,null,null,null,null,null,null,null,null,null,null,null,null,null,null,null,null,39,998,193,0,0,0,0]
["00390998","0039","0998",194,39,"",998,"",0,0,0,{"$f":"IF(K204>0, K203/K204, 0)","v":0},null,{"$f":"ROUND(M204*L203,0)","v":0},0,{"$f":"N203-O203","v":0},0,0,{"$f":"W203","v":0},39,998,194,0,0,{"$f":"D203","v":194},39,998,194,0,0,null,null,null,null,null,null,null,null,null,null,null,null,null,null,null,null,null,null,null,null,null,null,null,null,null,null,null,null,null,null,null,null,null,null,null,null,null,null,null,null,null,null,null,null,null,null,null,null,null,null,null,null,null,null,null,null,null,null,null,null,null,null,null,null,null,39,998,194,0,0,0,0]
["00390999","0039","0999",195,39,"Boylston                     ",999,"Total",7067220.4040385298,1,{"$f":"SUM(K200:K203)","v":7457236.7796621481},{"$f":"SUM(L200:L203)","v":1},{"$f":"VLOOKUP(E204,town351,24)","v":6005963},{"$f":"SUM(N200:N203)","v":6005963},5696095,{"$f":"SUM(P200:P203)","v":309868},5.4400075841431716,651.06485356050007,664.13631739367008,39,999,195,664.13631739367008,7457236.7796621481,195,39,999,195,664.13631739367008,7457236.7796621481,null,null,null,null,null,null,null,null,null,null,null,null,null,null,null,null,null,null,null,null,null,null,null,null,null,null,null,null,null,null,null,null,null,null,null,null,null,null,null,null,null,null,null,null,null,null,null,null,null,null,null,null,null,null,null,null,null,null,null,null,null,null,null,null,null,39,999,195,649.31397459399,6571082.9636899736,0.99999999999999989,5190846]
["00400040","0040","0040",196,40,"Braintree                    ",40,"Braintree",64248920.529949985,0.95869312710716215,{"$f":"X205","v":63220937.939339995},{"$f":"IF(K209>0, K205/K209, 0)","v":0.95713100939168072},null,{"$f":"ROUND(M209*L205,0)","v":47031091},46089277,{"$f":"N205-O205","v":941814},2.0434557912461937,5666,5383,40,40,196,5383,63220937.939339995,196,40,40,196,5383,63220937.939339995,null,null,null,null,null,null,null,null,null,null,null,null,null,null,null,null,null,null,null,null,null,null,null,null,null,null,null,null,null,null,null,null,null,null,null,null,null,null,null,null,null,null,null,null,null,null,null,null,null,null,null,null,null,null,null,null,null,null,null,null,null,null,null,null,null,40,40,196,5678,60365199.038079999,0.95331404401183428,42548094]
["00400806","0040","0806",197,40,"Braintree                    ",806,"Blue Hills",2462914.6223286828,3.6750490149909422E-2,2423733.8745627608,{"$f":"IF(K209>0, K206/K209, 0)","v":3.6694027729910053E-2},null,{"$f":"ROUND(M209*L206,0)","v":1803055},1766784,{"$f":"N206-O206","v":36271},2.0529391255524163,135.00000000366001,128.00000000256,40,806,197,128.00000000256,2423733.8745627608,197,40,806,197,128.00000000256,2423733.8745627608,null,null,null,null,null,null,null,null,null,null,null,null,null,null,null,null,null,null,null,null,null,null,null,null,null,null,null,null,null,null,null,null,null,null,null,null,null,null,null,null,null,null,null,null,null,null,null,null,null,null,null,null,null,null,null,null,null,null,null,null,null,null,null,null,null,40,806,197,159.99999999975,2716985.2730543874,4.2907838613141083E-2,1915053]
["00400915","0040","0915",198,40,"Braintree                    ",915,"Norfolk County",305355.9731233191,4.5563827429284474E-3,407872.00611309719,{"$f":"IF(K209>0, K207/K209, 0)","v":6.1749628784092342E-3},null,{"$f":"ROUND(M209*L207,0)","v":303423},219049,{"$f":"N207-O207","v":84374},38.518322384489316,16.99999999988,21.99999999932,40,915,198,21.99999999932,407872.00611309719,198,40,915,198,21.99999999932,407872.00611309719,null,null,null,null,null,null,null,null,null,null,null,null,null,null,null,null,null,null,null,null,null,null,null,null,null,null,null,null,null,null,null,null,null,null,null,null,null,null,null,null,null,null,null,null,null,null,null,null,null,null,null,null,null,null,null,null,null,null,null,null,null,null,null,null,null,40,915,198,14.00000000086,239235.75737206239,3.7781173750247076E-3,168624]
["00400998","0040","0998",199,40,"",998,"",0,0,0,{"$f":"IF(K209>0, K208/K209, 0)","v":0},null,{"$f":"ROUND(M209*L208,0)","v":0},0,{"$f":"N208-O208","v":0},{"$f":"IF(O208>0,P208*100/O208,IF(P208>0,100,0))","v":0},0,0,40,998,199,0,0,199,40,998,199,0,0,null,null,null,null,null,null,null,null,null,null,null,null,null,null,null,null,null,null,null,null,null,null,null,null,null,null,null,null,null,null,null,null,null,null,null,null,null,null,null,null,null,null,null,null,null,null,null,null,null,null,null,null,null,null,null,null,null,null,null,null,null,null,null,null,null,40,998,199,0,0,0,0]
["00400999","0040","0999",200,40,"Braintree                    ",999,"Total",67017191.125401989,1,{"$f":"SUM(K205:K208)","v":66052543.820015855},{"$f":"SUM(L205:L208)","v":1},{"$f":"VLOOKUP(E209,town351,24)","v":49137569},{"$f":"SUM(N205:N208)","v":49137569},48075110,{"$f":"SUM(P205:P208)","v":1062459},{"$f":"IF(O209>0,P209*100/O209,IF(P209>0,100,0))","v":2.2099980634469687},5818.0000000035398,5533.0000000018799,40,999,200,5533.0000000018799,66052543.820015855,200,40,999,200,5533.0000000018799,66052543.820015855,null,null,null,null,null,null,null,null,null,null,null,null,null,null,null,null,null,null,null,null,null,null,null,null,null,null,null,null,null,null,null,null,null,null,null,null,null,null,null,null,null,null,null,null,null,null,null,null,null,null,null,null,null,null,null,null,null,null,null,null,null,null,null,null,null,40,999,200,5852.0000000006103,63321420.068506442,1,44631771]
["00410041","0041","0041",201,41,"Brewster                     ",41,"Brewster",5175998.03,0.41687382116532051,{"$f":"X210","v":4885534.8500000015},{"$f":"IF(K214>0, K210/K214, 0)","v":0.39024461954606593},null,{"$f":"ROUND(M214*L210,0)","v":4030566},4206025,{"$f":"N210-O210","v":-175459},-4.1716109628449667,468,431,41,41,201,431,4885534.8500000015,201,41,41,201,431,4885534.8500000015,null,null,null,null,null,null,null,null,null,null,null,null,null,null,null,null,null,null,null,null,null,null,null,null,null,null,null,null,null,null,null,null,null,null,null,null,null,null,null,null,null,null,null,null,null,null,null,null,null,null,null,null,null,null,null,null,null,null,null,null,null,null,null,null,null,41,41,201,474,4845032.0600000005,0.42106958969845321,3997151]
["00410660","0041","0660",202,41,"Brewster                     ",660,"Nauset",6707816.4666141532,0.5402461642963764,6863190.5197347701,{"$f":"IF(K214>0, K211/K214, 0)","v":0.54821493561673418},null,{"$f":"ROUND(M214*L211,0)","v":5662132},5450784,{"$f":"N211-O211","v":211348},3.8773871795323389,575.99999999931993,574.99999999889997,41,660,202,574.99999999889997,6863190.5197347701,202,41,660,202,574.99999999889997,6863190.5197347701,null,null,null,null,null,null,null,null,null,null,null,null,null,null,null,null,null,null,null,null,null,null,null,null,null,null,null,null,null,null,null,null,null,null,null,null,null,null,null,null,null,null,null,null,null,null,null,null,null,null,null,null,null,null,null,null,null,null,null,null,null,null,null,null,null,41,660,202,538.00000000399996,5969108.9895400321,0.51876029755125497,4924515]
["00410815","0041","0815",203,41,"Brewster                     ",815,"Cape Cod",532407.79225762293,4.2880014538302945E-2,770434.67834705743,{"$f":"IF(K214>0, K212/K214, 0)","v":6.1540444837199969E-2},null,{"$f":"ROUND(M214*L212,0)","v":635609},432636,{"$f":"N212-O212","v":202973},46.915420815651032,28.999999998619998,41.000000000309996,41,815,203,41.000000000309996,770434.67834705743,203,41,815,203,41.000000000309996,770434.67834705743,null,null,null,null,null,null,null,null,null,null,null,null,null,null,null,null,null,null,null,null,null,null,null,null,null,null,null,null,null,null,null,null,null,null,null,null,null,null,null,null,null,null,null,null,null,null,null,null,null,null,null,null,null,null,null,null,null,null,null,null,null,null,null,null,null,41,815,203,40.999999999770004,692346.66302488092,6.0170112750292062E-2,571186]
["00410998","0041","0998",204,41,"",998,"",0,0,0,{"$f":"IF(K214>0, K213/K214, 0)","v":0},null,{"$f":"ROUND(M214*L213,0)","v":0},0,{"$f":"N213-O213","v":0},0,0,0,41,998,204,0,0,204,41,998,204,0,0,null,null,null,null,null,null,null,null,null,null,null,null,null,null,null,null,null,null,null,null,null,null,null,null,null,null,null,null,null,null,null,null,null,null,null,null,null,null,null,null,null,null,null,null,null,null,null,null,null,null,null,null,null,null,null,null,null,null,null,null,null,null,null,null,null,41,998,204,0,0,0,0]
["00410999","0041","0999",205,41,"Brewster                     ",999,"Total",12416222.288871778,0.99999999999999989,{"$f":"SUM(K210:K213)","v":12519160.048081828},{"$f":"SUM(L210:L213)","v":1},{"$f":"VLOOKUP(E214,town351,24)","v":10328307},{"$f":"SUM(N210:N213)","v":10328307},10089445,{"$f":"SUM(P210:P213)","v":238862},2.3674443936212546,1072.99999999794,1046.9999999992099,41,999,205,1046.9999999992099,12519160.048081828,205,41,999,205,1046.9999999992099,12519160.048081828,null,null,null,null,null,null,null,null,null,null,null,null,null,null,null,null,null,null,null,null,null,null,null,null,null,null,null,null,null,null,null,null,null,null,null,null,null,null,null,null,null,null,null,null,null,null,null,null,null,null,null,null,null,null,null,null,null,null,null,null,null,null,null,null,null,41,999,205,1053.0000000037699,11506487.712564912,1.0000000000000002,9492852]
["00420042","0042","0042",206,42,"Bridgewater                  ",42,"Bridgewater",117262.39999999999,3.0940215737473554E-3,{"$f":"X215","v":104600.65},{"$f":"IF(K219>0, K215/K219, 0)","v":2.6804575332015569E-3},null,{"$f":"ROUND(M219*L215,0)","v":65193},73653,{"$f":"N215-O215","v":-8460},-11.486293837318236,8,7,42,42,206,7,104600.65,206,42,42,206,7,104600.65,null,null,null,null,null,null,null,null,null,null,null,null,null,null,null,null,null,null,null,null,null,null,null,null,null,null,null,null,null,null,null,null,null,null,null,null,null,null,null,null,null,null,null,null,null,null,null,null,null,null,null,null,null,null,null,null,null,null,null,null,null,null,null,null,null,42,42,206,9,124534.43999999997,3.6297525957805221E-3,80047]
["00420625","0042","0625",207,42,"Bridgewater                  ",625,"Bridgewater Raynham",35488142.575867906,0.93637072703575353,36374703.180435322,{"$f":"IF(K219>0, K216/K219, 0)","v":0.93212467759969464},null,{"$f":"ROUND(M219*L216,0)","v":22670654},22290226,{"$f":"N216-O216","v":380428},1.7067031980743488,3293.5388749677604,3270.3790778432203,42,625,207,3270.3790778432203,36374703.180435322,207,42,625,207,3270.3790778432203,36374703.180435322,null,null,null,null,null,null,null,null,null,null,null,null,null,null,null,null,null,null,null,null,null,null,null,null,null,null,null,null,null,null,null,null,null,null,null,null,null,null,null,null,null,null,null,null,null,null,null,null,null,null,null,null,null,null,null,null,null,null,null,null,null,null,null,null,null,42,625,207,3214.1528569008196,32297860.965700362,0.94137207890772467,20760059]
["00420810","0042","0810",208,42,"Bridgewater                  ",810,"Bristol Plymouth",2294266.1172384256,6.0535251390499159E-2,2544127.3205384701,{"$f":"IF(K219>0, K217/K219, 0)","v":6.5194864867103922E-2},null,{"$f":"ROUND(M219*L217,0)","v":1585636},1441037,{"$f":"N217-O217","v":144599},10.034371081380979,132.49364247745999,141.41746854830001,42,810,208,141.41746854830001,2544127.3205384701,208,42,810,208,141.41746854830001,2544127.3205384701,null,null,null,null,null,null,null,null,null,null,null,null,null,null,null,null,null,null,null,null,null,null,null,null,null,null,null,null,null,null,null,null,null,null,null,null,null,null,null,null,null,null,null,null,null,null,null,null,null,null,null,null,null,null,null,null,null,null,null,null,null,null,null,null,null,42,810,208,116.263237523,1886951.2271162928,5.4998168496494679E-2,1212873]
["00420998","0042","0998",209,42,"",998,"",0,0,0,{"$f":"IF(K219>0, K218/K219, 0)","v":0},null,{"$f":"ROUND(M219*L218,0)","v":0},0,{"$f":"N218-O218","v":0},0,0,0,42,998,209,0,0,209,42,998,209,0,0,null,null,null,null,null,null,null,null,null,null,null,null,null,null,null,null,null,null,null,null,null,null,null,null,null,null,null,null,null,null,null,null,null,null,null,null,null,null,null,null,null,null,null,null,null,null,null,null,null,null,null,null,null,null,null,null,null,null,null,null,null,null,null,null,null,42,998,209,0,0,0,0]
["00420999","0042","0999",210,42,"Bridgewater                  ",999,"Total",37899671.093106329,1,{"$f":"SUM(K215:K218)","v":39023431.150973789},{"$f":"SUM(L215:L218)","v":1.0000000000000002},{"$f":"VLOOKUP(E219,town351,24)","v":24321482},{"$f":"SUM(N215:N218)","v":24321483},23804916,{"$f":"SUM(P215:P218)","v":516567},2.1700013560224285,3434.0325174452205,3418.7965463915202,42,999,210,3418.7965463915202,39023431.150973789,210,42,999,210,3418.7965463915202,39023431.150973789,null,null,null,null,null,null,null,null,null,null,null,null,null,null,null,null,null,null,null,null,null,null,null,null,null,null,null,null,null,null,null,null,null,null,null,null,null,null,null,null,null,null,null,null,null,null,null,null,null,null,null,null,null,null,null,null,null,null,null,null,null,null,null,null,null,42,999,210,3339.4160944238197,34309346.632816657,0.99999999999999978,22052979]
["00430043","0043","0043",211,43,"Brimfield                    ",43,"Brimfield",3081860.73,0.49002504387803947,{"$f":"X220","v":2951690.97},{"$f":"IF(K224>0, K220/K224, 0)","v":0.4880201140855332},null,{"$f":"ROUND(M224*L220,0)","v":1753602},1716855,{"$f":"N220-O220","v":36747},2.1403671247717484,283,269,43,43,211,269,2951690.97,211,43,43,211,269,2951690.97,null,null,null,null,null,null,null,null,null,null,null,null,null,null,null,null,null,null,null,null,null,null,null,null,null,null,null,null,null,null,null,null,null,null,null,null,null,null,null,null,null,null,null,null,null,null,null,null,null,null,null,null,null,null,null,null,null,null,null,null,null,null,null,null,null,43,43,211,264,2588960.9799999995,0.46358548464623306,1544601]
["00430770","0043","0770",212,43,"Brimfield                    ",770,"Tantasqua",3207329.5236455528,0.50997495612196064,3096606.80463367,{"$f":"IF(K224>0, K221/K224, 0)","v":0.51197988591446686},null,{"$f":"ROUND(M224*L221,0)","v":1839697},1786752,{"$f":"N221-O221","v":52945},2.9631980263629201,251.31974521512001,235.00000000135,43,770,212,235.00000000135,3096606.80463367,212,43,770,212,235.00000000135,3096606.80463367,null,null,null,null,null,null,null,null,null,null,null,null,null,null,null,null,null,null,null,null,null,null,null,null,null,null,null,null,null,null,null,null,null,null,null,null,null,null,null,null,null,null,null,null,null,null,null,null,null,null,null,null,null,null,null,null,null,null,null,null,null,null,null,null,null,43,770,212,253.99999999439999,2995685.3597698119,0.53641451535376694,1787257]
["00430998","0043","0998",213,43,"",998,"",0,0,0,{"$f":"IF(K224>0, K222/K224, 0)","v":0},null,{"$f":"ROUND(M224*L222,0)","v":0},0,{"$f":"N222-O222","v":0},0,0,0,43,998,213,0,0,213,43,998,213,0,0,null,null,null,null,null,null,null,null,null,null,null,null,null,null,null,null,null,null,null,null,null,null,null,null,null,null,null,null,null,null,null,null,null,null,null,null,null,null,null,null,null,null,null,null,null,null,null,null,null,null,null,null,null,null,null,null,null,null,null,null,null,null,null,null,null,43,998,213,0,0,0,0]
["00430998","0043","0998",214,43,"",998,"",0,0,0,{"$f":"IF(K224>0, K223/K224, 0)","v":0},null,{"$f":"ROUND(M224*L223,0)","v":0},0,{"$f":"N223-O223","v":0},0,0,0,43,998,214,0,0,214,43,998,214,0,0,null,null,null,null,null,null,null,null,null,null,null,null,null,null,null,null,null,null,null,null,null,null,null,null,null,null,null,null,null,null,null,null,null,null,null,null,null,null,null,null,null,null,null,null,null,null,null,null,null,null,null,null,null,null,null,null,null,null,null,null,null,null,null,null,null,43,998,214,0,0,0,0]
["00430999","0043","0999",215,43,"Brimfield                    ",999,"Total",6289190.2536455523,1,{"$f":"SUM(K220:K223)","v":6048297.7746336702},{"$f":"SUM(L220:L223)","v":1},{"$f":"VLOOKUP(E224,town351,24)","v":3593299},{"$f":"SUM(N220:N223)","v":3593299},3503607,{"$f":"SUM(P220:P223)","v":89692},2.5599903185488557,534.31974521512007,504.00000000135003,43,999,215,504.00000000135003,6048297.7746336702,215,43,999,215,504.00000000135003,6048297.7746336702,null,null,null,null,null,null,null,null,null,null,null,null,null,null,null,null,null,null,null,null,null,null,null,null,null,null,null,null,null,null,null,null,null,null,null,null,null,null,null,null,null,null,null,null,null,null,null,null,null,null,null,null,null,null,null,null,null,null,null,null,null,null,null,null,null,43,999,215,517.99999999440001,5584646.3397698114,1,3331858]
["00440044","0044","0044",216,44,"Brockton                     ",44,"Brockton",237304378.99000001,0.93384680655864039,{"$f":"X225","v":260127523.13000005},{"$f":"IF(K229>0, K225/K229, 0)","v":0.93054984152922282},null,{"$f":"ROUND(M229*L225,0)","v":49543381},48074759,{"$f":"N225-O225","v":1468622},3.0548712683094261,17491,17092,44,44,216,17092,260127523.13000005,216,44,44,216,17092,260127523.13000005,null,null,null,null,null,null,null,null,null,null,null,null,null,null,null,null,null,null,null,null,null,null,null,null,null,null,null,null,null,null,null,null,null,null,null,null,null,null,null,null,null,null,null,null,null,null,null,null,null,null,null,null,null,null,null,null,null,null,null,null,null,null,null,null,null,44,44,216,17828,219005794.21000001,0.93101125730823808,43627822]
["00440872","0044","0872",217,44,"Brockton                     ",872,"Southeastern",16810511.507404741,6.6153193441359642E-2,19414218.237145226,{"$f":"IF(K229>0, K226/K229, 0)","v":6.9450158470777096E-2},null,{"$f":"ROUND(M229*L226,0)","v":3697594},3405589,{"$f":"N226-O226","v":292005},8.5742877370111312,945.24620461890993,1012.8710672354399,44,872,217,1012.8710672354399,19414218.237145226,217,44,872,217,1012.8710672354399,19414218.237145226,null,null,null,null,null,null,null,null,null,null,null,null,null,null,null,null,null,null,null,null,null,null,null,null,null,null,null,null,null,null,null,null,null,null,null,null,null,null,null,null,null,null,null,null,null,null,null,null,null,null,null,null,null,null,null,null,null,null,null,null,null,null,null,null,null,44,872,217,965.27936297760004,16228519.543836612,6.8988742691761862E-2,3232859]
["00440998","0044","0998",218,44,"",998,"",0,0,0,{"$f":"IF(K229>0, K227/K229, 0)","v":0},null,{"$f":"ROUND(M229*L227,0)","v":0},0,{"$f":"N227-O227","v":0},0,0,0,44,998,218,0,0,218,44,998,218,0,0,null,null,null,null,null,null,null,null,null,null,null,null,null,null,null,null,null,null,null,null,null,null,null,null,null,null,null,null,null,null,null,null,null,null,null,null,null,null,null,null,null,null,null,null,null,null,null,null,null,null,null,null,null,null,null,null,null,null,null,null,null,null,null,null,null,44,998,218,0,0,0,0]
["00440998","0044","0998",219,44,"",998,"",0,0,0,{"$f":"IF(K229>0, K228/K229, 0)","v":0},null,{"$f":"ROUND(M229*L228,0)","v":0},0,{"$f":"N228-O228","v":0},0,0,0,44,998,219,0,0,219,44,998,219,0,0,null,null,null,null,null,null,null,null,null,null,null,null,null,null,null,null,null,null,null,null,null,null,null,null,null,null,null,null,null,null,null,null,null,null,null,null,null,null,null,null,null,null,null,null,null,null,null,null,null,null,null,null,null,null,null,null,null,null,null,null,null,null,null,null,null,44,998,219,0,0,0,0]
["00440999","0044","0999",220,44,"Brockton                     ",999,"Total",254114890.49740475,1,{"$f":"SUM(K225:K228)","v":279541741.3671453},{"$f":"SUM(L225:L228)","v":0.99999999999999989},{"$f":"VLOOKUP(E229,town351,24)","v":53240975},{"$f":"SUM(N225:N228)","v":53240975},51480348,{"$f":"SUM(P225:P228)","v":1760627},3.4199982486520875,18436.24620461891,18104.871067235439,44,999,220,18104.871067235439,279541741.3671453,220,44,999,220,18104.871067235439,279541741.3671453,null,null,null,null,null,null,null,null,null,null,null,null,null,null,null,null,null,null,null,null,null,null,null,null,null,null,null,null,null,null,null,null,null,null,null,null,null,null,null,null,null,null,null,null,null,null,null,null,null,null,null,null,null,null,null,null,null,null,null,null,null,null,null,null,null,44,999,220,18793.279362977599,235234313.75383663,1,46860681]
["00450045","0045","0045",221,45,"Brookfield                   ",45,"Brookfield",2871199.0500000003,0.48879150010895872,{"$f":"X230","v":2733160.0899999994},{"$f":"IF(K234>0, K230/K234, 0)","v":0.47095738093997291},null,{"$f":"ROUND(M234*L230,0)","v":1148919},1170696,{"$f":"N230-O230","v":-21777},-1.8601754853523031,253,230,45,45,221,230,2733160.0899999994,221,45,45,221,230,2733160.0899999994,null,null,null,null,null,null,null,null,null,null,null,null,null,null,null,null,null,null,null,null,null,null,null,null,null,null,null,null,null,null,null,null,null,null,null,null,null,null,null,null,null,null,null,null,null,null,null,null,null,null,null,null,null,null,null,null,null,null,null,null,null,null,null,null,null,45,45,221,245,2539081.3000000003,0.48131524942331566,1093626]
["00450770","0045","0770",222,45,"Brookfield                   ",770,"Tantasqua",3002878.2393144998,0.51120849989104133,3070252.7040514462,{"$f":"IF(K234>0, K231/K234, 0)","v":0.52904261906002703},null,{"$f":"ROUND(M234*L231,0)","v":1290621},1224386,{"$f":"N231-O231","v":66235},5.4096502246840457,235.29936305352001,232.99999999244,45,770,222,232.99999999244,3070252.7040514462,222,45,770,222,232.99999999244,3070252.7040514462,null,null,null,null,null,null,null,null,null,null,null,null,null,null,null,null,null,null,null,null,null,null,null,null,null,null,null,null,null,null,null,null,null,null,null,null,null,null,null,null,null,null,null,null,null,null,null,null,null,null,null,null,null,null,null,null,null,null,null,null,null,null,null,null,null,45,770,222,231.99999999263997,2736216.5490546101,0.51868475057668439,1178536]
["00450998","0045","0998",223,45,"",998,"",0,0,0,{"$f":"IF(K234>0, K232/K234, 0)","v":0},null,{"$f":"ROUND(M234*L232,0)","v":0},0,{"$f":"N232-O232","v":0},0,0,0,45,998,223,0,0,223,45,998,223,0,0,null,null,null,null,null,null,null,null,null,null,null,null,null,null,null,null,null,null,null,null,null,null,null,null,null,null,null,null,null,null,null,null,null,null,null,null,null,null,null,null,null,null,null,null,null,null,null,null,null,null,null,null,null,null,null,null,null,null,null,null,null,null,null,null,null,45,998,223,0,0,0,0]
["00450998","0045","0998",224,45,"",998,"",0,0,0,{"$f":"IF(K234>0, K233/K234, 0)","v":0},null,{"$f":"ROUND(M234*L233,0)","v":0},0,{"$f":"N233-O233","v":0},0,0,0,45,998,224,0,0,224,45,998,224,0,0,null,null,null,null,null,null,null,null,null,null,null,null,null,null,null,null,null,null,null,null,null,null,null,null,null,null,null,null,null,null,null,null,null,null,null,null,null,null,null,null,null,null,null,null,null,null,null,null,null,null,null,null,null,null,null,null,null,null,null,null,null,null,null,null,null,45,998,224,0,0,0,0]
["00450999","0045","0999",225,45,"Brookfield                   ",999,"Total",5874077.2893145001,1,{"$f":"SUM(K230:K233)","v":5803412.794051446},{"$f":"SUM(L230:L233)","v":1},{"$f":"VLOOKUP(E234,town351,24)","v":2439540},{"$f":"SUM(N230:N233)","v":2439540},2395082,{"$f":"SUM(P230:P233)","v":44458},1.8562203715780921,488.29936305351998,462.99999999244,45,999,225,462.99999999244,5803412.794051446,225,45,999,225,462.99999999244,5803412.794051446,null,null,null,null,null,null,null,null,null,null,null,null,null,null,null,null,null,null,null,null,null,null,null,null,null,null,null,null,null,null,null,null,null,null,null,null,null,null,null,null,null,null,null,null,null,null,null,null,null,null,null,null,null,null,null,null,null,null,null,null,null,null,null,null,null,45,999,225,476.99999999263997,5275297.8490546104,1,2272162]
["00460046","0046","0046",226,46,"Brookline                    ",46,"Brookline",83874467.613419995,0.99978589109719007,{"$f":"X235","v":77282551.571720004},{"$f":"IF(K239>0, K235/K239, 0)","v":0.99976016332564899},null,{"$f":"ROUND(M239*L235,0)","v":63758105},69196436,{"$f":"N235-O235","v":-5438331},-7.8592646014312066,7648,6858,46,46,226,6858,77282551.571720004,226,46,46,226,6858,77282551.571720004,null,null,null,null,null,null,null,null,null,null,null,null,null,null,null,null,null,null,null,null,null,null,null,null,null,null,null,null,null,null,null,null,null,null,null,null,null,null,null,null,null,null,null,null,null,null,null,null,null,null,null,null,null,null,null,null,null,null,null,null,null,null,null,null,null,46,46,226,7664,79599261.272049993,1,64824584]
["00460915","0046","0915",227,46,"Brookline                    ",915,"Norfolk County",17962.116083448014,2.1410890280998819E-4,18539.636639111119,{"$f":"IF(K239>0, K236/K239, 0)","v":2.3983667435093458E-4},null,{"$f":"ROUND(M239*L236,0)","v":15295},14819,{"$f":"N236-O236","v":476},3.2120925838450636,1.0000000009599999,0.99999999983999999,46,915,227,0.99999999983999999,18539.636639111119,227,46,915,227,0.99999999983999999,18539.636639111119,null,null,null,null,null,null,null,null,null,null,null,null,null,null,null,null,null,null,null,null,null,null,null,null,null,null,null,null,null,null,null,null,null,null,null,null,null,null,null,null,null,null,null,null,null,null,null,null,null,null,null,null,null,null,null,null,null,null,null,null,null,null,null,null,null,46,915,227,0,0,0,0]
["00460998","0046","0998",228,46,"",998,"",0,0,0,{"$f":"IF(K239>0, K237/K239, 0)","v":0},null,{"$f":"ROUND(M239*L237,0)","v":0},0,{"$f":"N237-O237","v":0},0,0,0,46,998,228,0,0,228,46,998,228,0,0,null,null,null,null,null,null,null,null,null,null,null,null,null,null,null,null,null,null,null,null,null,null,null,null,null,null,null,null,null,null,null,null,null,null,null,null,null,null,null,null,null,null,null,null,null,null,null,null,null,null,null,null,null,null,null,null,null,null,null,null,null,null,null,null,null,46,998,228,0,0,0,0]
["00460998","0046","0998",229,46,"",998,"",0,0,0,{"$f":"IF(K239>0, K238/K239, 0)","v":0},null,{"$f":"ROUND(M239*L238,0)","v":0},0,{"$f":"N238-O238","v":0},0,0,0,46,998,229,0,0,229,46,998,229,0,0,null,null,null,null,null,null,null,null,null,null,null,null,null,null,null,null,null,null,null,null,null,null,null,null,null,null,null,null,null,null,null,null,null,null,null,null,null,null,null,null,null,null,null,null,null,null,null,null,null,null,null,null,null,null,null,null,null,null,null,null,null,null,null,null,null,46,998,229,0,0,0,0]
["00460999","0046","0999",230,46,"Brookline                    ",999,"Total",83892429.729503438,1,{"$f":"SUM(K235:K238)","v":77301091.208359122},{"$f":"SUM(L235:L238)","v":0.99999999999999989},{"$f":"VLOOKUP(E239,town351,24)","v":63773400},{"$f":"SUM(N235:N238)","v":63773400},69211255,{"$f":"SUM(P235:P238)","v":-5437855},-7.8568940846398467,7649.0000000009604,6858.9999999998399,46,999,230,6858.9999999998399,77301091.208359122,230,46,999,230,6858.9999999998399,77301091.208359122,null,null,null,null,null,null,null,null,null,null,null,null,null,null,null,null,null,null,null,null,null,null,null,null,null,null,null,null,null,null,null,null,null,null,null,null,null,null,null,null,null,null,null,null,null,null,null,null,null,null,null,null,null,null,null,null,null,null,null,null,null,null,null,null,null,46,999,230,7664,79599261.272049993,1,64824584]
["00470047","0047","0047",231,47,"Buckland                     ",47,"Buckland",29315.599999999999,1.2164727731895858E-2,{"$f":"X240","v":29885.9},{"$f":"IF(K244>0, K240/K244, 0)","v":1.3308752954260154E-2},null,{"$f":"ROUND(M244*L240,0)","v":18479},16598,{"$f":"N240-O240","v":1881},11.332690685624774,2,2,47,47,231,2,29885.9,231,47,47,231,2,29885.9,null,null,null,null,null,null,null,null,null,null,null,null,null,null,null,null,null,null,null,null,null,null,null,null,null,null,null,null,null,null,null,null,null,null,null,null,null,null,null,null,null,null,null,null,null,null,null,null,null,null,null,null,null,null,null,null,null,null,null,null,null,null,null,null,null,47,47,231,2,27674.32,1.257357497360783E-2,17242]
["00470717","0047","0717",232,47,"Buckland                     ",717,"Mohawk Trail",2271823.2505730605,0.94271006898074416,2077612.593495656,{"$f":"IF(K244>0, K241/K244, 0)","v":0.92519993513641585},null,{"$f":"ROUND(M244*L241,0)","v":1284602},1286236,{"$f":"N241-O241","v":-1634},-0.12703733995938538,196.29629629875001,175.61950059552001,47,717,232,175.61950059552001,2077612.593495656,232,47,717,232,175.61950059552001,2077612.593495656,null,null,null,null,null,null,null,null,null,null,null,null,null,null,null,null,null,null,null,null,null,null,null,null,null,null,null,null,null,null,null,null,null,null,null,null,null,null,null,null,null,null,null,null,null,null,null,null,null,null,null,null,null,null,null,null,null,null,null,null,null,null,null,null,null,47,717,232,188.48297872692001,2055024.9154851404,0.93368183382589021,1280353]
["00470818","0047","0818",233,47,"Buckland                     ",818,"Franklin County",108746.56947909875,4.5125203287360048E-2,138083.8013078158,{"$f":"IF(K244>0, K242/K244, 0)","v":6.1491311909323977E-2},null,{"$f":"ROUND(M244*L242,0)","v":85378},61569,{"$f":"N242-O242","v":23809},38.670434796732124,5.9999999997,7.9999999973599998,47,818,233,7.9999999973599998,138083.8013078158,233,47,818,233,7.9999999973599998,138083.8013078158,null,null,null,null,null,null,null,null,null,null,null,null,null,null,null,null,null,null,null,null,null,null,null,null,null,null,null,null,null,null,null,null,null,null,null,null,null,null,null,null,null,null,null,null,null,null,null,null,null,null,null,null,null,null,null,null,null,null,null,null,null,null,null,null,null,47,818,233,6.9999999979600007,118291.33864265657,5.3744591200501964E-2,73700]
["00470998","0047","0998",234,47,"",998,"",0,0,0,{"$f":"IF(K244>0, K243/K244, 0)","v":0},null,{"$f":"ROUND(M244*L243,0)","v":0},0,{"$f":"N243-O243","v":0},0,0,0,47,998,234,0,0,234,47,998,234,0,0,null,null,null,null,null,null,null,null,null,null,null,null,null,null,null,null,null,null,null,null,null,null,null,null,null,null,null,null,null,null,null,null,null,null,null,null,null,null,null,null,null,null,null,null,null,null,null,null,null,null,null,null,null,null,null,null,null,null,null,null,null,null,null,null,null,47,998,234,0,0,0,0]
["00470999","0047","0999",235,47,"Buckland                     ",999,"Total",2409885.4200521591,1,{"$f":"SUM(K240:K243)","v":2245582.2948034718},{"$f":"SUM(L240:L243)","v":1},{"$f":"VLOOKUP(E244,town351,24)","v":1388459},{"$f":"SUM(N240:N243)","v":1388459},1364403,{"$f":"SUM(P240:P243)","v":24056},1.7631154431645195,204.29629629845002,185.61950059288,47,999,235,185.61950059288,2245582.2948034718,235,47,999,235,185.61950059288,2245582.2948034718,null,null,null,null,null,null,null,null,null,null,null,null,null,null,null,null,null,null,null,null,null,null,null,null,null,null,null,null,null,null,null,null,null,null,null,null,null,null,null,null,null,null,null,null,null,null,null,null,null,null,null,null,null,null,null,null,null,null,null,null,null,null,null,null,null,47,999,235,197.48297872488001,2200990.574127797,1,1371295]
["00480048","0048","0048",236,48,"Burlington                   ",48,"Burlington",40012176.135040008,0.94932282817548352,{"$f":"X245","v":40035800.596980006},{"$f":"IF(K249>0, K245/K249, 0)","v":0.94553862139846445},null,{"$f":"ROUND(M249*L245,0)","v":33029535},33010045,{"$f":"N245-O245","v":19490},5.9042633840699098E-2,3518,3420,48,48,236,3420,40035800.596980006,236,48,48,236,3420,40035800.596980006,null,null,null,null,null,null,null,null,null,null,null,null,null,null,null,null,null,null,null,null,null,null,null,null,null,null,null,null,null,null,null,null,null,null,null,null,null,null,null,null,null,null,null,null,null,null,null,null,null,null,null,null,null,null,null,null,null,null,null,null,null,null,null,null,null,48,48,236,3519,37486525.891100004,0.95105024246281056,30926384]
["00480871","0048","0871",237,48,"Burlington                   ",871,"Shawsheen Valley",2135947.7143990216,5.0677171824516448E-2,2305992.4201751393,{"$f":"IF(K249>0, K246/K249, 0)","v":5.4461378601535514E-2},null,{"$f":"ROUND(M249*L246,0)","v":1902444},1762157,{"$f":"N246-O246","v":140287},7.9610954075034179,127.00000000350001,135.00000000240001,48,871,237,135.00000000240001,2305992.4201751393,237,48,871,237,135.00000000240001,2305992.4201751393,null,null,null,null,null,null,null,null,null,null,null,null,null,null,null,null,null,null,null,null,null,null,null,null,null,null,null,null,null,null,null,null,null,null,null,null,null,null,null,null,null,null,null,null,null,null,null,null,null,null,null,null,null,null,null,null,null,null,null,null,null,null,null,null,null,48,871,237,120.99999999366999,1929400.0162695665,4.8949757537189505E-2,1591755]
["00480998","0048","0998",238,48,"",998,"",0,0,0,{"$f":"IF(K249>0, K247/K249, 0)","v":0},null,{"$f":"ROUND(M249*L247,0)","v":0},0,{"$f":"N247-O247","v":0},0,0,0,48,998,238,0,0,238,48,998,238,0,0,null,null,null,null,null,null,null,null,null,null,null,null,null,null,null,null,null,null,null,null,null,null,null,null,null,null,null,null,null,null,null,null,null,null,null,null,null,null,null,null,null,null,null,null,null,null,null,null,null,null,null,null,null,null,null,null,null,null,null,null,null,null,null,null,null,48,998,238,0,0,0,0]
["00480998","0048","0998",239,48,"",998,"",0,0,0,{"$f":"IF(K249>0, K248/K249, 0)","v":0},null,{"$f":"ROUND(M249*L248,0)","v":0},0,{"$f":"N248-O248","v":0},0,0,0,48,998,239,0,0,239,48,998,239,0,0,null,null,null,null,null,null,null,null,null,null,null,null,null,null,null,null,null,null,null,null,null,null,null,null,null,null,null,null,null,null,null,null,null,null,null,null,null,null,null,null,null,null,null,null,null,null,null,null,null,null,null,null,null,null,null,null,null,null,null,null,null,null,null,null,null,48,998,239,0,0,0,0]
["00480999","0048","0999",240,48,"Burlington                   ",999,"Total",42148123.849439032,1,{"$f":"SUM(K245:K248)","v":42341793.017155148},{"$f":"SUM(L245:L248)","v":1},{"$f":"VLOOKUP(E249,town351,24)","v":34931979},{"$f":"SUM(N245:N248)","v":34931979},34772202,{"$f":"SUM(P245:P248)","v":159777},0.4594963528625538,3645.0000000035002,3555.0000000024002,48,999,240,3555.0000000024002,42341793.017155148,240,48,999,240,3555.0000000024002,42341793.017155148,null,null,null,null,null,null,null,null,null,null,null,null,null,null,null,null,null,null,null,null,null,null,null,null,null,null,null,null,null,null,null,null,null,null,null,null,null,null,null,null,null,null,null,null,null,null,null,null,null,null,null,null,null,null,null,null,null,null,null,null,null,null,null,null,null,48,999,240,3639.9999999936699,39415925.907369569,1,32518139]
["00490049","0049","0049",241,49,"Cambridge                    ",49,"Cambridge",97837766.086960018,1,{"$f":"X250","v":100589415.79484001},{"$f":"IF(K254>0, K250/K254, 0)","v":1},null,{"$f":"ROUND(M254*L250,0)","v":82986268},80716157,{"$f":"N250-O250","v":2270111},2.8124616983437405,7519,7160,49,49,241,7160,100589415.79484001,241,49,49,241,7160,100589415.79484001,null,null,null,null,null,null,null,null,null,null,null,null,null,null,null,null,null,null,null,null,null,null,null,null,null,null,null,null,null,null,null,null,null,null,null,null,null,null,null,null,null,null,null,null,null,null,null,null,null,null,null,null,null,null,null,null,null,null,null,null,null,null,null,null,null,49,49,241,7319,88309460.905200005,1,72855305]
["00490998","0049","0998",242,49,"",998,"",0,0,0,{"$f":"IF(K254>0, K251/K254, 0)","v":0},null,{"$f":"ROUND(M254*L251,0)","v":0},0,{"$f":"N251-O251","v":0},0,0,0,49,998,242,0,0,242,49,998,242,0,0,null,null,null,null,null,null,null,null,null,null,null,null,null,null,null,null,null,null,null,null,null,null,null,null,null,null,null,null,null,null,null,null,null,null,null,null,null,null,null,null,null,null,null,null,null,null,null,null,null,null,null,null,null,null,null,null,null,null,null,null,null,null,null,null,null,49,998,242,0,0,0,0]
["00510051","0051","0051",251,51,"Carlisle                     ",51,"Carlisle",5783671.1796799991,0.60493456790125877,{"$f":"X260","v":5768217.8704799991},{"$f":"IF(K264>0, K260/K264, 0)","v":0.60610724325068477},null,{"$f":"ROUND(M264*L260,0)","v":4758779},4771528,{"$f":"N260-O260","v":-12749},-0.26718904300676849,570,556,51,51,251,556,5768217.8704799991,251,51,51,251,556,5768217.8704799991,null,null,null,null,null,null,null,null,null,null,null,null,null,null,null,null,null,null,null,null,null,null,null,null,null,null,null,null,null,null,null,null,null,null,null,null,null,null,null,null,null,null,null,null,null,null,null,null,null,null,null,null,null,null,null,null,null,null,null,null,null,null,null,null,null,51,51,251,575,5496906.7434400003,0.60689023130422926,4534948]
["00510998","0051","0998",254,51,"",998,"",0,0,0,{"$f":"IF(K264>0, K263/K264, 0)","v":0},null,{"$f":"ROUND(M264*L263,0)","v":0},0,{"$f":"N263-O263","v":0},0,0,0,51,998,254,0,0,254,51,998,254,0,0,null,null,null,null,null,null,null,null,null,null,null,null,null,null,null,null,null,null,null,null,null,null,null,null,null,null,null,null,null,null,null,null,null,null,null,null,null,null,null,null,null,null,null,null,null,null,null,null,null,null,null,null,null,null,null,null,null,null,null,null,null,null,null,null,null,51,998,254,0,0,0,0]
["00530053","0053","0053",261,53,"Charlemont                   ",53,"Charlemont",102604.6,5.878654955191262E-2,{"$f":"X270","v":104600.65},{"$f":"IF(K274>0, K270/K274, 0)","v":6.2075426655630803E-2},null,{"$f":"ROUND(M274*L270,0)","v":54585},52817,{"$f":"N270-O270","v":1768},3.3474070848401083,7,7,53,53,261,7,104600.65,261,53,53,261,7,104600.65,null,null,null,null,null,null,null,null,null,null,null,null,null,null,null,null,null,null,null,null,null,null,null,null,null,null,null,null,null,null,null,null,null,null,null,null,null,null,null,null,null,null,null,null,null,null,null,null,null,null,null,null,null,null,null,null,null,null,null,null,null,null,null,null,null,53,53,261,11,178513.19,9.2847103990850902E-2,86258]
["00540999","0054","0999",270,54,"Charlton                     ",999,"Total",24269056.997210871,0.99999999999999989,{"$f":"SUM(K275:K278)","v":24094044.808610417},{"$f":"SUM(L275:L278)","v":1},{"$f":"VLOOKUP(E279,town351,24)","v":13497716},{"$f":"SUM(N275:N278)","v":13497716},13080033,{"$f":"SUM(P275:P278)","v":417683},3.193287050575484,2077.0615384697999,1986.76329945112,54,999,270,1986.76329945112,24094044.808610417,270,54,999,270,1986.76329945112,24094044.808610417,null,null,null,null,null,null,null,null,null,null,null,null,null,null,null,null,null,null,null,null,null,null,null,null,null,null,null,null,null,null,null,null,null,null,null,null,null,null,null,null,null,null,null,null,null,null,null,null,null,null,null,null,null,null,null,null,null,null,null,null,null,null,null,null,null,54,999,270,2179.72317882065,23618813.435177591,1,12147658]
["00550815","0055","0815",273,55,"Chatham                      ",815,"Cape Cod",183588.89391344026,3.4882497412290693E-2,281866.34568160633,{"$f":"IF(K284>0, K282/K284, 0)","v":5.6875100758119745E-2},null,{"$f":"ROUND(M284*L282,0)","v":232540},151461,{"$f":"N282-O282","v":81079},53.531272076640192,10.000000001239998,14.99999999718,55,815,273,14.99999999718,281866.34568160633,273,55,815,273,14.99999999718,281866.34568160633,null,null,null,null,null,null,null,null,null,null,null,null,null,null,null,null,null,null,null,null,null,null,null,null,null,null,null,null,null,null,null,null,null,null,null,null,null,null,null,null,null,null,null,null,null,null,null,null,null,null,null,null,null,null,null,null,null,null,null,null,null,null,null,null,null,55,815,273,6.9999999992399999,118205.52782134562,2.2112809310034558E-2,97520]
["00560998","0056","0998",279,56,"",998,"",0,0,0,{"$f":"IF(K289>0, K288/K289, 0)","v":0},null,{"$f":"ROUND(M289*L288,0)","v":0},0,{"$f":"N288-O288","v":0},0,0,0,56,998,279,0,0,279,56,998,279,0,0,null,null,null,null,null,null,null,null,null,null,null,null,null,null,null,null,null,null,null,null,null,null,null,null,null,null,null,null,null,null,null,null,null,null,null,null,null,null,null,null,null,null,null,null,null,null,null,null,null,null,null,null,null,null,null,null,null,null,null,null,null,null,null,null,null,56,998,279,0,0,0,0]
["00570853","0057","0853",282,57,"Chelsea                      ",853,"Northeast Metropolitan",4802417.9711184371,4.3471332754398594E-2,4746864.9470985467,{"$f":"IF(K294>0, K291/K294, 0)","v":4.0204210318910964E-2},null,{"$f":"ROUND(M294*L291,0)","v":796316},904535,{"$f":"N291-O291","v":-108219},-11.964047825678387,255.99999999940999,238.00000000412999,57,853,282,238.00000000412999,4746864.9470985467,282,57,853,282,238.00000000412999,4746864.9470985467,null,null,null,null,null,null,null,null,null,null,null,null,null,null,null,null,null,null,null,null,null,null,null,null,null,null,null,null,null,null,null,null,null,null,null,null,null,null,null,null,null,null,null,null,null,null,null,null,null,null,null,null,null,null,null,null,null,null,null,null,null,null,null,null,null,57,853,282,238.99999999643998,4195184.216754986,4.2405697214739871E-2,766414]
["00580998","0058","0998",289,58,"",998,"",0,0,0,{"$f":"IF(K299>0, K298/K299, 0)","v":0},null,{"$f":"ROUND(M299*L298,0)","v":0},0,{"$f":"N298-O298","v":0},0,0,0,58,998,289,0,0,289,58,998,289,0,0,null,null,null,null,null,null,null,null,null,null,null,null,null,null,null,null,null,null,null,null,null,null,null,null,null,null,null,null,null,null,null,null,null,null,null,null,null,null,null,null,null,null,null,null,null,null,null,null,null,null,null,null,null,null,null,null,null,null,null,null,null,null,null,null,null,58,998,289,0,0,0,0]
["00600683","0060","0683",298,60,"Chesterfield                 ",683,"Hampshire",543180.39685931033,0.40871619437615703,428361.68222561048,{"$f":"IF(K309>0, K307/K309, 0)","v":0.35640612690590029},null,{"$f":"ROUND(M309*L307,0)","v":334749},390964,{"$f":"N307-O307","v":-56215},-14.378561709006457,48.143283578880002,37.058084772059999,60,683,298,37.058084772059999,428361.68222561048,298,60,683,298,37.058084772059999,428361.68222561048,null,null,null,null,null,null,null,null,null,null,null,null,null,null,null,null,null,null,null,null,null,null,null,null,null,null,null,null,null,null,null,null,null,null,null,null,null,null,null,null,null,null,null,null,null,null,null,null,null,null,null,null,null,null,null,null,null,null,null,null,null,null,null,null,null,60,683,298,57.167893958850001,602513.542061185,0.40688699615682006,387489]
["00610998","0061","0998",304,61,"",998,"",0,0,0,{"$f":"IF(K314>0, K313/K314, 0)","v":0},null,{"$f":"ROUND(M314*L313,0)","v":0},0,{"$f":"N313-O313","v":0},0,0,0,61,998,304,0,0,304,61,998,304,0,0,null,null,null,null,null,null,null,null,null,null,null,null,null,null,null,null,null,null,null,null,null,null,null,null,null,null,null,null,null,null,null,null,null,null,null,null,null,null,null,null,null,null,null,null,null,null,null,null,null,null,null,null,null,null,null,null,null,null,null,null,null,null,null,null,null,61,998,304,0,0,0,0]
["00620700","0062","0700",307,62,"Chilmark                     ",700,"Marthas Vineyard",547467.59616776009,0.39124151475756347,616370.76683795161,{"$f":"IF(K319>0, K316/K319, 0)","v":0.4151166914169786},null,{"$f":"ROUND(M319*L316,0)","v":508506},451661,{"$f":"N316-O316","v":56845},12.585766758697341,36.999999997650001,39.999999996440003,62,700,307,39.999999996440003,616370.76683795161,307,62,700,307,39.999999996440003,616370.76683795161,null,null,null,null,null,null,null,null,null,null,null,null,null,null,null,null,null,null,null,null,null,null,null,null,null,null,null,null,null,null,null,null,null,null,null,null,null,null,null,null,null,null,null,null,null,null,null,null,null,null,null,null,null,null,null,null,null,null,null,null,null,null,null,null,null,62,700,307,27.999999999,365340.63376472995,0.30968293169561034,301179]
["00640064","0064","0064",316,64,"Clinton                      ",64,"Clinton",25739349.560000002,1,{"$f":"X325","v":26782472.620000001},{"$f":"IF(K329>0, K325/K329, 0)","v":1},null,{"$f":"ROUND(M329*L325,0)","v":11925947},11372125,{"$f":"N325-O325","v":553822},4.869995713202238,2086,2050,64,64,316,2050,26782472.620000001,316,64,64,316,2050,26782472.620000001,null,null,null,null,null,null,null,null,null,null,null,null,null,null,null,null,null,null,null,null,null,null,null,null,null,null,null,null,null,null,null,null,null,null,null,null,null,null,null,null,null,null,null,null,null,null,null,null,null,null,null,null,null,null,null,null,null,null,null,null,null,null,null,null,null,64,64,316,2016,22676410.390000004,1,10266561]
["00640998","0064","0998",319,64,"",998,"",0,0,0,{"$f":"IF(K329>0, K328/K329, 0)","v":0},null,{"$f":"ROUND(M329*L328,0)","v":0},0,{"$f":"N328-O328","v":0},0,0,0,64,998,319,0,0,319,64,998,319,0,0,null,null,null,null,null,null,null,null,null,null,null,null,null,null,null,null,null,null,null,null,null,null,null,null,null,null,null,null,null,null,null,null,null,null,null,null,null,null,null,null,null,null,null,null,null,null,null,null,null,null,null,null,null,null,null,null,null,null,null,null,null,null,null,null,null,64,998,319,0,0,0,0]
["00660066","0066","0066",326,66,"Colrain                      ",66,"Colrain",0,0,{"$f":"X335","v":0},{"$f":"IF(K339>0, K335/K339, 0)","v":0},null,{"$f":"ROUND(M339*L335,0)","v":0},0,{"$f":"N335-O335","v":0},0,0,0,66,66,326,0,0,326,66,66,326,0,0,null,null,null,null,null,null,null,null,null,null,null,null,null,null,null,null,null,null,null,null,null,null,null,null,null,null,null,null,null,null,null,null,null,null,null,null,null,null,null,null,null,null,null,null,null,null,null,null,null,null,null,null,null,null,null,null,null,null,null,null,null,null,null,null,null,66,66,326,0,0,0,0]
["00660998","0066","0998",329,66,"",998,"",0,0,0,{"$f":"IF(K339>0, K338/K339, 0)","v":0},null,{"$f":"ROUND(M339*L338,0)","v":0},0,{"$f":"N338-O338","v":0},{"$f":"IF(O338>0,P338*100/O338,IF(P338>0,100,0))","v":0},0,0,66,998,329,0,0,329,66,998,329,0,0,null,null,null,null,null,null,null,null,null,null,null,null,null,null,null,null,null,null,null,null,null,null,null,null,null,null,null,null,null,null,null,null,null,null,null,null,null,null,null,null,null,null,null,null,null,null,null,null,null,null,null,null,null,null,null,null,null,null,null,null,null,null,null,null,null,66,998,329,0,0,0,0]
["00680670","0068","0670",337,68,"Conway                       ",670,"Frontier",1271262.6812583415,0.56338318206806282,1219853.3337594746,{"$f":"IF(K349>0, K346/K349, 0)","v":0.55117232672671612},null,{"$f":"ROUND(M349*L346,0)","v":1006379},1048792,{"$f":"N346-O346","v":-42413},-4.0439858427600512,110.38128249357,103.0000000008,68,670,337,103.0000000008,1219853.3337594746,337,68,670,337,103.0000000008,1219853.3337594746,null,null,null,null,null,null,null,null,null,null,null,null,null,null,null,null,null,null,null,null,null,null,null,null,null,null,null,null,null,null,null,null,null,null,null,null,null,null,null,null,null,null,null,null,null,null,null,null,null,null,null,null,null,null,null,null,null,null,null,null,null,null,null,null,null,68,670,337,100.17699114903999,1085206.5681264,0.47531622160599718,891204]
["00690998","0069","0998",344,69,"",998,"",0,0,0,{"$f":"IF(K354>0, K353/K354, 0)","v":0},null,{"$f":"ROUND(M354*L353,0)","v":0},0,{"$f":"N353-O353","v":0},0,0,0,69,998,344,0,0,344,69,998,344,0,0,null,null,null,null,null,null,null,null,null,null,null,null,null,null,null,null,null,null,null,null,null,null,null,null,null,null,null,null,null,null,null,null,null,null,null,null,null,null,null,null,null,null,null,null,null,null,null,null,null,null,null,null,null,null,null,null,null,null,null,null,null,null,null,null,null,69,998,344,0,0,0,0]
["00700635","0070","0635",347,70,"Dalton                       ",635,"Central Berkshire",10365330.336607436,0.96468111855323391,10663839.819722669,{"$f":"IF(K359>0, K356/K359, 0)","v":0.97156821086750278},null,{"$f":"ROUND(M359*L356,0)","v":5297717},5113499,{"$f":"N356-O356","v":184218},3.6025821066944572,893.66666666156004,880.3854166717199,70,635,347,880.3854166717199,10663839.819722669,347,70,635,347,880.3854166717199,10663839.819722669,null,null,null,null,null,null,null,null,null,null,null,null,null,null,null,null,null,null,null,null,null,null,null,null,null,null,null,null,null,null,null,null,null,null,null,null,null,null,null,null,null,null,null,null,null,null,null,null,null,null,null,null,null,null,null,null,null,null,null,null,null,null,null,null,null,70,635,347,911.97183099049994,9848826.0015804339,0.97147273332358464,4994544]
["00710998","0071","0998",354,71,"",998,"",0,0,0,{"$f":"IF(K364>0, K363/K364, 0)","v":0},null,{"$f":"ROUND(M364*L363,0)","v":0},0,{"$f":"N363-O363","v":0},0,0,0,71,998,354,0,0,354,71,998,354,0,0,null,null,null,null,null,null,null,null,null,null,null,null,null,null,null,null,null,null,null,null,null,null,null,null,null,null,null,null,null,null,null,null,null,null,null,null,null,null,null,null,null,null,null,null,null,null,null,null,null,null,null,null,null,null,null,null,null,null,null,null,null,null,null,null,null,71,998,354,0,0,0,0]
["00730915","0073","0915",363,73,"Dedham                       ",915,"Norfolk County",251469.6249221912,7.6161360452225504E-3,203936.0030828749,{"$f":"IF(K374>0, K372/K374, 0)","v":6.2614110506516519E-3},null,{"$f":"ROUND(M374*L372,0)","v":168247},204003,{"$f":"N372-O372","v":-35756},-17.527193227550576,13.99999999974,11.00000000108,73,915,363,11.00000000108,203936.0030828749,363,73,915,363,11.00000000108,203936.0030828749,null,null,null,null,null,null,null,null,null,null,null,null,null,null,null,null,null,null,null,null,null,null,null,null,null,null,null,null,null,null,null,null,null,null,null,null,null,null,null,null,null,null,null,null,null,null,null,null,null,null,null,null,null,null,null,null,null,null,null,null,null,null,null,null,null,73,915,363,19.999999998820002,341765.36763321655,1.1311436536407531E-2,278870]
["00740818","0074","0818",368,74,"Deerfield                    ",818,"Franklin County",308115.28019077977,4.4571827709259715E-2,310688.55308032408,{"$f":"IF(K379>0, K377/K379, 0)","v":4.6630638440043157E-2},null,{"$f":"ROUND(M379*L377,0)","v":256318},249903,{"$f":"N377-O377","v":6415},2.5669959944458451,16.999999999149999,18.00000000204,74,818,368,18.00000000204,310688.55308032408,368,74,818,368,18.00000000204,310688.55308032408,null,null,null,null,null,null,null,null,null,null,null,null,null,null,null,null,null,null,null,null,null,null,null,null,null,null,null,null,null,null,null,null,null,null,null,null,null,null,null,null,null,null,null,null,null,null,null,null,null,null,null,null,null,null,null,null,null,null,null,null,null,null,null,null,null,74,818,368,14.000000000380002,236582.67736068161,3.7773984067273204E-2,195181]
["00750645","0075","0645",372,75,"Dennis                       ",645,"Dennis Yarmouth",12789171.252545364,0.9051480067045935,12235827.49285884,{"$f":"IF(K384>0, K381/K384, 0)","v":0.89919222614033889},null,{"$f":"ROUND(M384*L381,0)","v":10094558},10551066,{"$f":"N381-O381","v":-456508},-4.3266528709042289,1045.7855227815,964.16587528299988,75,645,372,964.16587528299988,12235827.49285884,372,75,645,372,964.16587528299988,12235827.49285884,null,null,null,null,null,null,null,null,null,null,null,null,null,null,null,null,null,null,null,null,null,null,null,null,null,null,null,null,null,null,null,null,null,null,null,null,null,null,null,null,null,null,null,null,null,null,null,null,null,null,null,null,null,null,null,null,null,null,null,null,null,null,null,null,null,75,645,372,1124.7276707395799,12645452.758149615,0.92467737775489156,10432499]
["00750999","0075","0999",375,75,"Dennis                       ",999,"Total",14129370.17793077,1,{"$f":"SUM(K380:K383)","v":13607577.042096412},{"$f":"SUM(L380:L383)","v":1},{"$f":"VLOOKUP(E384,town351,24)","v":11226251},{"$f":"SUM(N380:N383)","v":11226251},11656730,{"$f":"SUM(P380:P383)","v":-430479},-3.6929653513463898,1118.7855227806001,1037.1658752827798,75,999,375,1037.1658752827798,13607577.042096412,375,75,999,375,1037.1658752827798,13607577.042096412,null,null,null,null,null,null,null,null,null,null,null,null,null,null,null,null,null,null,null,null,null,null,null,null,null,null,null,null,null,null,null,null,null,null,null,null,null,null,null,null,null,null,null,null,null,null,null,null,null,null,null,null,null,null,null,null,null,null,null,null,null,null,null,null,null,75,999,375,1185.7276707413998,13675529.500735339,1,11282312]
["00770805","0077","0805",382,77,"Douglas                      ",805,"Blackstone Valley",1975617.3121197706,0.13102322843892109,2057170.947957396,{"$f":"IF(K394>0, K391/K394, 0)","v":0.14328005700295371},null,{"$f":"ROUND(M394*L391,0)","v":1247174},1109115,{"$f":"N391-O391","v":138059},12.447672243184881,120.00000000257999,121.99999999670999,77,805,382,121.99999999670999,2057170.947957396,382,77,805,382,121.99999999670999,2057170.947957396,null,null,null,null,null,null,null,null,null,null,null,null,null,null,null,null,null,null,null,null,null,null,null,null,null,null,null,null,null,null,null,null,null,null,null,null,null,null,null,null,null,null,null,null,null,null,null,null,null,null,null,null,null,null,null,null,null,null,null,null,null,null,null,null,null,77,805,382,112.00000000599999,1743818.5024159995,0.11879578227080545,928944]
["00790079","0079","0079",391,79,"Dracut                       ",79,"Dracut",44096709.129999995,0.83695425257453027,{"$f":"X400","v":45944951.039999999},{"$f":"IF(K404>0, K400/K404, 0)","v":0.84450979460591868},null,{"$f":"ROUND(M404*L400,0)","v":25066936},23979412,{"$f":"N400-O400","v":1087524},{"$f":"IF(O400>0,P400*100/O400,IF(P400>0,100,0))","v":4.5352404804588202},3964,3982,79,79,391,3982,45944951.039999999,391,79,79,391,3982,45944951.039999999,null,null,null,null,null,null,null,null,null,null,null,null,null,null,null,null,null,null,null,null,null,null,null,null,null,null,null,null,null,null,null,null,null,null,null,null,null,null,null,null,null,null,null,null,null,null,null,null,null,null,null,null,null,null,null,null,null,null,null,null,null,null,null,null,null,79,79,391,3839,39508798.249999993,0.82874517354412369,21923341]
["00790998","0079","0998",394,79,"",998,"",0,0,0,{"$f":"IF(K404>0, K403/K404, 0)","v":0},null,{"$f":"ROUND(M404*L403,0)","v":0},0,{"$f":"N403-O403","v":0},{"$f":"IF(O403>0,P403*100/O403,IF(P403>0,100,0))","v":0},0,0,79,998,394,0,0,394,79,998,394,0,0,null,null,null,null,null,null,null,null,null,null,null,null,null,null,null,null,null,null,null,null,null,null,null,null,null,null,null,null,null,null,null,null,null,null,null,null,null,null,null,null,null,null,null,null,null,null,null,null,null,null,null,null,null,null,null,null,null,null,null,null,null,null,null,null,null,79,998,394,0,0,0,0]
["00800999","0080","0999",400,80,"Dudley                       ",999,"Total",20950402.570136432,1,{"$f":"SUM(K405:K408)","v":20218048.839432228},{"$f":"SUM(L405:L408)","v":1},{"$f":"VLOOKUP(E409,town351,24)","v":7721730},{"$f":"SUM(N405:N408)","v":7721730},7521654,{"$f":"SUM(P405:P408)","v":200076},2.6600000478618133,1824.93846152265,1698.2367005568799,80,999,400,1698.2367005568799,20218048.839432228,400,80,999,400,1698.2367005568799,20218048.839432228,null,null,null,null,null,null,null,null,null,null,null,null,null,null,null,null,null,null,null,null,null,null,null,null,null,null,null,null,null,null,null,null,null,null,null,null,null,null,null,null,null,null,null,null,null,null,null,null,null,null,null,null,null,null,null,null,null,null,null,null,null,null,null,null,null,80,999,400,1887.2768211733498,20108262.851994645,1,6829251]
["00820998","0082","0998",409,82,"",998,"",0,0,0,{"$f":"IF(K419>0, K418/K419, 0)","v":0},null,{"$f":"ROUND(M419*L418,0)","v":0},0,{"$f":"N418-O418","v":0},0,0,0,82,998,409,0,0,409,82,998,409,0,0,null,null,null,null,null,null,null,null,null,null,null,null,null,null,null,null,null,null,null,null,null,null,null,null,null,null,null,null,null,null,null,null,null,null,null,null,null,null,null,null,null,null,null,null,null,null,null,null,null,null,null,null,null,null,null,null,null,null,null,null,null,null,null,null,null,82,998,409,0,0,0,0]
["00820999","0082","0999",410,82,"Duxbury                      ",999,"Total",30754555.552399997,1,{"$f":"SUM(K415:K418)","v":29831320.215240002},{"$f":"SUM(L415:L418)","v":1},{"$f":"VLOOKUP(E419,town351,24)","v":24610839},{"$f":"SUM(N415:N418)","v":24610839},25372508,{"$f":"SUM(P415:P418)","v":-761669},-3.0019460433316247,2888,2730,82,999,410,2730,29831320.215240002,410,82,999,410,2730,29831320.215240002,null,null,null,null,null,null,null,null,null,null,null,null,null,null,null,null,null,null,null,null,null,null,null,null,null,null,null,null,null,null,null,null,null,null,null,null,null,null,null,null,null,null,null,null,null,null,null,null,null,null,null,null,null,null,null,null,null,null,null,null,null,null,null,null,null,82,999,410,3003,30016424.79888,1,24763550]
["00840998","0084","0998",419,84,"",998,"",0,0,0,{"$f":"IF(K429>0, K428/K429, 0)","v":0},null,{"$f":"ROUND(M429*L428,0)","v":0},0,{"$f":"N428-O428","v":0},0,0,0,84,998,419,0,0,419,84,998,419,0,0,null,null,null,null,null,null,null,null,null,null,null,null,null,null,null,null,null,null,null,null,null,null,null,null,null,null,null,null,null,null,null,null,null,null,null,null,null,null,null,null,null,null,null,null,null,null,null,null,null,null,null,null,null,null,null,null,null,null,null,null,null,null,null,null,null,84,998,419,0,0,0,0]
["00850660","0085","0660",422,85,"Eastham                      ",660,"Nauset",2701759.4101620996,0.51388408620519277,2828828.0925506558,{"$f":"IF(K434>0, K431/K434, 0)","v":0.50740642156342541},null,{"$f":"ROUND(M434*L431,0)","v":2333783},2228952,{"$f":"N431-O431","v":104831},4.7031519745602415,231.99999999956,237.0000000053,85,660,422,237.0000000053,2828828.0925506558,422,85,660,422,237.0000000053,2828828.0925506558,null,null,null,null,null,null,null,null,null,null,null,null,null,null,null,null,null,null,null,null,null,null,null,null,null,null,null,null,null,null,null,null,null,null,null,null,null,null,null,null,null,null,null,null,null,null,null,null,null,null,null,null,null,null,null,null,null,null,null,null,null,null,null,null,null,85,660,422,238.00000000100002,2640609.5529850083,0.55046270703721678,2178503]
["00870087","0087","0087",431,87,"East Longmeadow              ",87,"East Longmeadow",29030299.670000002,1,{"$f":"X440","v":27947960.879999999},{"$f":"IF(K444>0, K440/K444, 0)","v":1},null,{"$f":"ROUND(M444*L440,0)","v":17112651},17494208,{"$f":"N440-O440","v":-381557},-2.181047578718625,2643,2457,87,87,431,2457,27947960.879999999,431,87,87,431,2457,27947960.879999999,null,null,null,null,null,null,null,null,null,null,null,null,null,null,null,null,null,null,null,null,null,null,null,null,null,null,null,null,null,null,null,null,null,null,null,null,null,null,null,null,null,null,null,null,null,null,null,null,null,null,null,null,null,null,null,null,null,null,null,null,null,null,null,null,null,87,87,431,2707,27763311.460000001,1,16509582]
["00880872","0088","0872",437,88,"Easton                       ",872,"Southeastern",1460235.1097219409,3.7302302931776013E-2,1632253.7588991029,{"$f":"IF(K449>0, K446/K449, 0)","v":4.1823850950204758E-2},null,{"$f":"ROUND(M449*L446,0)","v":1321358},1142296,{"$f":"N446-O446","v":179062},15.675621730269562,82.108250823180001,85.157310306319999,88,872,437,85.157310306319999,1632253.7588991029,437,88,872,437,85.157310306319999,1632253.7588991029,null,null,null,null,null,null,null,null,null,null,null,null,null,null,null,null,null,null,null,null,null,null,null,null,null,null,null,null,null,null,null,null,null,null,null,null,null,null,null,null,null,null,null,null,null,null,null,null,null,null,null,null,null,null,null,null,null,null,null,null,null,null,null,null,null,88,872,437,84.111479765040002,1414103.3627999001,3.7638323352476466E-2,1082131]
["00880999","0088","0999",440,88,"Easton                       ",999,"Total",39145977.4586206,1,{"$f":"SUM(K445:K448)","v":39026864.380385607},{"$f":"SUM(L445:L448)","v":1.0000000000000002},{"$f":"VLOOKUP(E449,town351,24)","v":31593397},{"$f":"SUM(N445:N448)","v":31593397},30622659,{"$f":"SUM(P445:P448)","v":970738},3.1699990520091674,3605.1082508237396,3466.1573103074802,88,999,440,3466.1573103074802,39026864.380385607,440,88,999,440,3466.1573103074802,39026864.380385607,null,null,null,null,null,null,null,null,null,null,null,null,null,null,null,null,null,null,null,null,null,null,null,null,null,null,null,null,null,null,null,null,null,null,null,null,null,null,null,null,null,null,null,null,null,null,null,null,null,null,null,null,null,null,null,null,null,null,null,null,null,null,null,null,null,88,999,440,3709.1114797651899,37570838.359537534,1,28750764]
["00900765","0090","0765",447,90,"Egremont                     ",765,"Southern Berkshire",884343.87288658565,1,982614.91455153027,{"$f":"IF(K459>0, K456/K459, 0)","v":1},null,{"$f":"ROUND(M459*L456,0)","v":810657},729584,{"$f":"N456-O456","v":81073},11.112222855764381,75.414985593639997,82.776162792099996,90,765,447,82.776162792099996,982614.91455153027,447,90,765,447,82.776162792099996,982614.91455153027,null,null,null,null,null,null,null,null,null,null,null,null,null,null,null,null,null,null,null,null,null,null,null,null,null,null,null,null,null,null,null,null,null,null,null,null,null,null,null,null,null,null,null,null,null,null,null,null,null,null,null,null,null,null,null,null,null,null,null,null,null,null,null,null,null,90,765,447,75.993948563680007,827368.01583426702,1,682579]
["00920092","0092","0092",456,92,"Essex                        ",92,"Essex",0,0,{"$f":"X465","v":0},{"$f":"IF(K469>0, K465/K469, 0)","v":0},null,{"$f":"ROUND(M469*L465,0)","v":0},0,{"$f":"N465-O465","v":0},0,0,0,92,92,456,0,0,456,92,92,456,0,0,null,null,null,null,null,null,null,null,null,null,null,null,null,null,null,null,null,null,null,null,null,null,null,null,null,null,null,null,null,null,null,null,null,null,null,null,null,null,null,null,null,null,null,null,null,null,null,null,null,null,null,null,null,null,null,null,null,null,null,null,null,null,null,null,null,92,92,456,0,0,0,0]
["00920698","0092","0698",457,92,"Essex                        ",698,"Manchester Essex",5616499.488641195,0.95912575253928334,5520216.8539830595,{"$f":"IF(K469>0, K466/K469, 0)","v":0.95908813642836077},null,{"$f":"ROUND(M469*L466,0)","v":4554179},4631098,{"$f":"N466-O466","v":-76919},-1.6609236081810403,520.68242245516001,495.62668785125999,92,698,457,495.62668785125999,5520216.8539830595,457,92,698,457,495.62668785125999,5520216.8539830595,null,null,null,null,null,null,null,null,null,null,null,null,null,null,null,null,null,null,null,null,null,null,null,null,null,null,null,null,null,null,null,null,null,null,null,null,null,null,null,null,null,null,null,null,null,null,null,null,null,null,null,null,null,null,null,null,null,null,null,null,null,null,null,null,null,92,698,457,519.07179866861998,5207938.7223275481,0.94141285791759199,4249498]
["00930998","0093","0998",463,93,"",998,"",0,0,0,{"$f":"IF(K474>0, K472/K474, 0)","v":0},null,{"$f":"ROUND(M474*L472,0)","v":0},0,{"$f":"N472-O472","v":0},0,0,0,93,998,463,0,0,463,93,998,463,0,0,null,null,null,null,null,null,null,null,null,null,null,null,null,null,null,null,null,null,null,null,null,null,null,null,null,null,null,null,null,null,null,null,null,null,null,null,null,null,null,null,null,null,null,null,null,null,null,null,null,null,null,null,null,null,null,null,null,null,null,null,null,null,null,null,null,93,998,463,0,0,0,0]
["00940910","0094","0910",468,94,"Fairhaven                    ",910,"Bristol County",383835.66221524338,1.5803232134028407E-2,354119.30364863202,{"$f":"IF(K479>0, K477/K479, 0)","v":1.4521788873098926E-2},null,{"$f":"ROUND(M479*L477,0)","v":216337},232177,{"$f":"N477-O477","v":-15840},-6.8223812005495805,21.9999999996,19.99999999908,94,910,468,19.99999999908,354119.30364863202,468,94,910,468,19.99999999908,354119.30364863202,null,null,null,null,null,null,null,null,null,null,null,null,null,null,null,null,null,null,null,null,null,null,null,null,null,null,null,null,null,null,null,null,null,null,null,null,null,null,null,null,null,null,null,null,null,null,null,null,null,null,null,null,null,null,null,null,null,null,null,null,null,null,null,null,null,94,910,468,17.999999998730001,290242.74028800509,1.2688844717012928E-2,174275]
["00950999","0095","0999",475,95,"Fall River                   ",999,"Total",190051583.12223056,1,{"$f":"SUM(K480:K483)","v":200326303.48057196},{"$f":"SUM(L480:L483)","v":1},{"$f":"VLOOKUP(E484,town351,24)","v":38466119},{"$f":"SUM(N480:N483)","v":38466119},36806161,{"$f":"SUM(P480:P483)","v":1659958},4.5100003773824717,13224.99999999488,13046.000000002401,95,999,475,13046.000000002401,200326303.48057196,475,95,999,475,13046.000000002401,200326303.48057196,null,null,null,null,null,null,null,null,null,null,null,null,null,null,null,null,null,null,null,null,null,null,null,null,null,null,null,null,null,null,null,null,null,null,null,null,null,null,null,null,null,null,null,null,null,null,null,null,null,null,null,null,null,null,null,null,null,null,null,null,null,null,null,null,null,95,999,475,12930.99999999723,167809670.97643116,0.99999999999999989,33343146]
["00970998","0097","0998",484,97,"",998,"",0,0,0,{"$f":"IF(K494>0, K493/K494, 0)","v":0},null,{"$f":"ROUND(M494*L493,0)","v":0},0,{"$f":"N493-O493","v":0},0,0,0,97,998,484,0,0,484,97,998,484,0,0,null,null,null,null,null,null,null,null,null,null,null,null,null,null,null,null,null,null,null,null,null,null,null,null,null,null,null,null,null,null,null,null,null,null,null,null,null,null,null,null,null,null,null,null,null,null,null,null,null,null,null,null,null,null,null,null,null,null,null,null,null,null,null,null,null,97,998,484,0,0,0,0]
["00990099","0099","0099",491,99,"Foxborough                   ",99,"Foxborough",29781054.52984,0.96866204028148672,{"$f":"X500","v":29611209.107200004},{"$f":"IF(K504>0, K500/K504, 0)","v":0.96281696181815268},null,{"$f":"ROUND(M504*L500,0)","v":24429248},24569370,{"$f":"N500-O500","v":-140122},-0.57031173367489685,2639,2543,99,99,491,2543,29611209.107200004,491,99,99,491,2543,29611209.107200004,null,null,null,null,null,null,null,null,null,null,null,null,null,null,null,null,null,null,null,null,null,null,null,null,null,null,null,null,null,null,null,null,null,null,null,null,null,null,null,null,null,null,null,null,null,null,null,null,null,null,null,null,null,null,null,null,null,null,null,null,null,null,null,null,null,99,99,491,2656,27859184.160679996,0.97398826401170202,22576625]
["00990998","0099","0998",494,99,"",998,"",0,0,0,{"$f":"IF(K504>0, K503/K504, 0)","v":0},null,{"$f":"ROUND(M504*L503,0)","v":0},0,{"$f":"N503-O503","v":0},0,0,0,99,998,494,0,0,494,99,998,494,0,0,null,null,null,null,null,null,null,null,null,null,null,null,null,null,null,null,null,null,null,null,null,null,null,null,null,null,null,null,null,null,null,null,null,null,null,null,null,null,null,null,null,null,null,null,null,null,null,null,null,null,null,null,null,null,null,null,null,null,null,null,null,null,null,null,null,99,998,494,0,0,0,0]
["01010878","0101","0878",502,101,"Franklin                     ",878,"Tri County",3147816.2936950736,4.9517984417961874E-2,3024628.5639066272,{"$f":"IF(K514>0, K511/K514, 0)","v":4.804813081585569E-2},null,{"$f":"ROUND(M514*L511,0)","v":2150635},2152915,{"$f":"N511-O511","v":-2280},-0.10590292696181688,177.99999999779999,162.17920353709999,101,878,502,162.17920353709999,3024628.5639066272,502,101,878,502,162.17920353709999,3024628.5639066272,null,null,null,null,null,null,null,null,null,null,null,null,null,null,null,null,null,null,null,null,null,null,null,null,null,null,null,null,null,null,null,null,null,null,null,null,null,null,null,null,null,null,null,null,null,null,null,null,null,null,null,null,null,null,null,null,null,null,null,null,null,null,null,null,null,101,878,502,185.00000000061999,3115770.6697913059,5.0829298090608488E-2,2070489]
["01010915","0101","0915",503,101,"Franklin                     ",915,"Norfolk County",251469.6249221912,3.955843609243997E-3,241015.27636109712,{"$f":"IF(K514>0, K512/K514, 0)","v":3.8286795494189146E-3},null,{"$f":"ROUND(M514*L512,0)","v":171372},171990,{"$f":"N512-O512","v":-618},-0.35932321646607362,13.99999999974,13.00000000076,101,915,503,13.00000000076,241015.27636109712,503,101,915,503,13.00000000076,241015.27636109712,null,null,null,null,null,null,null,null,null,null,null,null,null,null,null,null,null,null,null,null,null,null,null,null,null,null,null,null,null,null,null,null,null,null,null,null,null,null,null,null,null,null,null,null,null,null,null,null,null,null,null,null,null,null,null,null,null,null,null,null,null,null,null,null,null,101,915,503,16.000000000179998,273412.29412578046,4.460326664762931E-3,181688]
["01030832","0103","0832",512,103,"Gardner                      ",832,"Montachusett",3263481.1311065964,9.6110237237685497E-2,3148466.8107864312,{"$f":"IF(K524>0, K521/K524, 0)","v":9.3312038152219876E-2},null,{"$f":"ROUND(M524*L521,0)","v":1063063},1055568,{"$f":"N521-O521","v":7495},0.71004426053082326,188.99999999790001,178.00000000383,103,832,512,178.00000000383,3148466.8107864312,512,103,832,512,178.00000000383,3148466.8107864312,null,null,null,null,null,null,null,null,null,null,null,null,null,null,null,null,null,null,null,null,null,null,null,null,null,null,null,null,null,null,null,null,null,null,null,null,null,null,null,null,null,null,null,null,null,null,null,null,null,null,null,null,null,null,null,null,null,null,null,null,null,null,null,null,null,103,832,512,179.12045760896999,2904827.6463138456,9.1581338139721843E-2,916250]
["01030999","0103","0999",515,103,"Gardner                      ",999,"Total",33955603.7411066,0.99999999999999989,{"$f":"SUM(K520:K523)","v":33741271.47078643},{"$f":"SUM(L520:L523)","v":1},{"$f":"VLOOKUP(E524,town351,24)","v":11392555},{"$f":"SUM(N520:N523)","v":11392555},10982893,{"$f":"SUM(P520:P523)","v":409662},3.7300008294717975,2606.9999999979,2463.0000000038299,103,999,515,2463.0000000038299,33741271.47078643,515,103,999,515,2463.0000000038299,33741271.47078643,null,null,null,null,null,null,null,null,null,null,null,null,null,null,null,null,null,null,null,null,null,null,null,null,null,null,null,null,null,null,null,null,null,null,null,null,null,null,null,null,null,null,null,null,null,null,null,null,null,null,null,null,null,null,null,null,null,null,null,null,null,null,null,null,null,103,999,515,2691.1204576089699,31718554.296313848,0.99999999999999989,10004773]
["01050999","0105","0999",525,105,"Georgetown                   ",999,"Total",14105327.335000886,1,{"$f":"SUM(K530:K533)","v":13968488.877113789},{"$f":"SUM(L530:L533)","v":1},{"$f":"VLOOKUP(E534,town351,24)","v":11209869},{"$f":"SUM(N530:N533)","v":11209869},11076353,{"$f":"SUM(P530:P533)","v":133516},1.2054148147860582,1335.9999999996,1278.00000000608,105,999,525,1278.00000000608,13968488.877113789,525,105,999,525,1278.00000000608,13968488.877113789,null,null,null,null,null,null,null,null,null,null,null,null,null,null,null,null,null,null,null,null,null,null,null,null,null,null,null,null,null,null,null,null,null,null,null,null,null,null,null,null,null,null,null,null,null,null,null,null,null,null,null,null,null,null,null,null,null,null,null,null,null,null,null,null,null,105,999,525,1379.9999999966201,13791726.841546688,0.99999999999999989,10252722]
["01060999","0106","0999",530,106,"Gill                         ",999,"Total",1731258.3598981227,1,{"$f":"SUM(K535:K538)","v":1657837.8943968413},{"$f":"SUM(L535:L538)","v":1},{"$f":"VLOOKUP(E539,town351,24)","v":1124651},{"$f":"SUM(N535:N538)","v":1124651},1145145,{"$f":"SUM(P535:P538)","v":-20494},-1.7896423597011732,134.93956044018,125.18255577834,106,999,530,125.18255577834,1657837.8943968413,530,106,999,530,125.18255577834,1657837.8943968413,null,null,null,null,null,null,null,null,null,null,null,null,null,null,null,null,null,null,null,null,null,null,null,null,null,null,null,null,null,null,null,null,null,null,null,null,null,null,null,null,null,null,null,null,null,null,null,null,null,null,null,null,null,null,null,null,null,null,null,null,null,null,null,null,null,106,999,530,159.41681574117001,1831403.0396101936,1,1122301]
["01080632","0108","0632",537,108,"Goshen                       ",632,"Chesterfield Goshen",675098.75789889134,0.53451541481506637,630055.49544036924,{"$f":"IF(K549>0, K546/K549, 0)","v":0.52309289943965287},null,{"$f":"ROUND(M549*L546,0)","v":409332},408005,{"$f":"N546-O546","v":1327},0.32524111224127156,63.859649123200001,55.445544554000001,108,632,537,55.445544554000001,630055.49544036924,537,108,632,537,55.445544554000001,630055.49544036924,null,null,null,null,null,null,null,null,null,null,null,null,null,null,null,null,null,null,null,null,null,null,null,null,null,null,null,null,null,null,null,null,null,null,null,null,null,null,null,null,null,null,null,null,null,null,null,null,null,null,null,null,null,null,null,null,null,null,null,null,null,null,null,null,null,108,632,537,64.453125,656528.296875,0.5210550021194551,389400]
["01080999","0108","0999",540,108,"Goshen                       ",999,"Total",1263010.8303470809,1,{"$f":"SUM(K545:K548)","v":1204481.0704089021},{"$f":"SUM(L545:L548)","v":1},{"$f":"VLOOKUP(E549,town351,24)","v":782522},{"$f":"SUM(N545:N548)","v":782523},763317,{"$f":"SUM(P545:P548)","v":19206},2.5161237074505087,112.97606703104,102.50519918304001,108,999,540,102.50519918304001,1204481.0704089021,540,108,999,540,102.50519918304001,1204481.0704089021,null,null,null,null,null,null,null,null,null,null,null,null,null,null,null,null,null,null,null,null,null,null,null,null,null,null,null,null,null,null,null,null,null,null,null,null,null,null,null,null,null,null,null,null,null,null,null,null,null,null,null,null,null,null,null,null,null,null,null,null,null,null,null,null,null,108,999,540,118.5827273542,1259998.0696941603,1,747330]
["01100998","0110","0998",549,110,"",998,"",0,0,0,{"$f":"IF(K559>0, K558/K559, 0)","v":0},null,{"$f":"ROUND(M559*L558,0)","v":0},0,{"$f":"N558-O558","v":0},0,0,0,110,998,549,0,0,549,110,998,549,0,0,null,null,null,null,null,null,null,null,null,null,null,null,null,null,null,null,null,null,null,null,null,null,null,null,null,null,null,null,null,null,null,null,null,null,null,null,null,null,null,null,null,null,null,null,null,null,null,null,null,null,null,null,null,null,null,null,null,null,null,null,null,null,null,null,null,110,998,549,0,0,0,0]
["01100999","0110","0999",550,110,"Grafton                      ",999,"Total",33647667.085957646,1,{"$f":"SUM(K555:K558)","v":34166049.645669498},{"$f":"SUM(L555:L558)","v":1.0000000000000002},{"$f":"VLOOKUP(E559,town351,24)","v":23040619},{"$f":"SUM(N555:N558)","v":23040619},22883718,{"$f":"SUM(P555:P558)","v":156901},0.68564470161710611,3138.9999999950801,3087.9999999974798,110,999,550,3087.9999999974798,34166049.645669498,550,110,999,550,3087.9999999974798,34166049.645669498,null,null,null,null,null,null,null,null,null,null,null,null,null,null,null,null,null,null,null,null,null,null,null,null,null,null,null,null,null,null,null,null,null,null,null,null,null,null,null,null,null,null,null,null,null,null,null,null,null,null,null,null,null,null,null,null,null,null,null,null,null,null,null,null,null,110,999,550,3173.9999999948,31700429.263306133,1,21092020]
["01120766","0112","0766",557,112,"Granville                    ",766,"Southwick Tolland Granville",1958315.1942929483,1,2018727.7638779946,{"$f":"IF(K569>0, K566/K569, 0)","v":1},null,{"$f":"ROUND(M569*L566,0)","v":1469462},1482039,{"$f":"N566-O566","v":-12577},-0.84862814001520881,166.29365645004,167.39389312725001,112,766,557,167.39389312725001,2018727.7638779946,557,112,766,557,167.39389312725001,2018727.7638779946,null,null,null,null,null,null,null,null,null,null,null,null,null,null,null,null,null,null,null,null,null,null,null,null,null,null,null,null,null,null,null,null,null,null,null,null,null,null,null,null,null,null,null,null,null,null,null,null,null,null,null,null,null,null,null,null,null,null,null,null,null,null,null,null,null,112,766,557,171.59087767668001,1866914.4570006477,1,1493226]
["01130999","0113","0999",565,113,"Great Barrington             ",999,"Total",8703465.3844777085,1,{"$f":"SUM(K570:K573)","v":8849612.5860873349},{"$f":"SUM(L570:L573)","v":1},{"$f":"VLOOKUP(E574,town351,24)","v":7300930},{"$f":"SUM(N570:N573)","v":7300930},7180359,{"$f":"SUM(P570:P573)","v":120571},1.6791778795461341,712.6530612235,696.53976670120994,113,999,565,696.53976670120994,8849612.5860873349,565,113,999,565,696.53976670120994,8849612.5860873349,null,null,null,null,null,null,null,null,null,null,null,null,null,null,null,null,null,null,null,null,null,null,null,null,null,null,null,null,null,null,null,null,null,null,null,null,null,null,null,null,null,null,null,null,null,null,null,null,null,null,null,null,null,null,null,null,null,null,null,null,null,null,null,null,null,113,999,565,775.31852551959003,8735075.3192409407,1,7192554]
["01140998","0114","0998",568,114,"",998,"",0,0,0,{"$f":"IF(K579>0, K577/K579, 0)","v":0},null,{"$f":"ROUND(M579*L577,0)","v":0},0,{"$f":"N577-O577","v":0},0,0,0,114,998,568,0,0,568,114,998,568,0,0,null,null,null,null,null,null,null,null,null,null,null,null,null,null,null,null,null,null,null,null,null,null,null,null,null,null,null,null,null,null,null,null,null,null,null,null,null,null,null,null,null,null,null,null,null,null,null,null,null,null,null,null,null,null,null,null,null,null,null,null,null,null,null,null,null,114,998,568,0,0,0,0]
[{"$f":"B586&C586","v":"01160745"},"0116","0745",577,116,"Groveland                    ",745,"Pentucket",9381827.5113975797,0.90816357627868327,9460519.1696932148,{"$f":"IF(K589>0, K586/K589, 0)","v":0.91719749848225451},null,{"$f":"ROUND(M589*L586,0)","v":7075721},6784843,{"$f":"N586-O586","v":290878},4.2871736309889554,891.59975569925996,878.13246752568989,{"$f":"VLOOKUP($D586, foundoptions, VLOOKUP($T$6, foundoptcell, 2, FALSE), FALSE)","v":116},{"$f":"VLOOKUP($D586, foundoptions, VLOOKUP($T$6, foundoptcell, 2, FALSE)+1, FALSE)","v":745},{"$f":"VLOOKUP($D586, foundoptions, VLOOKUP($T$6, foundoptcell, 2, FALSE)+2, FALSE)","v":577},{"$f":"VLOOKUP($D586, foundoptions, VLOOKUP($T$6, foundoptcell, 2, FALSE)+3, FALSE)","v":878.13246752568989},{"$f":"VLOOKUP($D586, foundoptions, VLOOKUP($T$6, foundoptcell, 2, FALSE)+4, FALSE)","v":9460519.1696932148},577,116,745,577,878.13246752568989,9460519.1696932148,null,null,null,null,null,null,null,null,null,null,null,null,null,null,null,null,null,null,null,null,null,null,null,null,null,null,null,null,null,null,null,null,null,null,null,null,null,null,null,null,null,null,null,null,null,null,null,null,null,null,null,null,null,null,null,null,null,null,null,null,null,null,null,null,null,116,745,577,907.63198071651004,8932025.9397803918,0.88309115509474412,6124006]
["01170998","0117","0998",584,117,"",998,"",0,0,0,{"$f":"IF(K594>0, K593/K594, 0)","v":0},null,{"$f":"ROUND(M594*L593,0)","v":0},0,{"$f":"N593-O593","v":0},{"$f":"IF(O593>0,P593*100/O593,IF(P593>0,100,0))","v":0},0,0,117,998,584,0,0,584,117,998,584,0,0,null,null,null,null,null,null,null,null,null,null,null,null,null,null,null,null,null,null,null,null,null,null,null,null,null,null,null,null,null,null,null,null,null,null,null,null,null,null,null,null,null,null,null,null,null,null,null,null,null,null,null,null,null,null,null,null,null,null,null,null,null,null,null,null,null,117,998,584,0,0,0,0]
["01180998","0118","0998",588,118,"",998,"",0,0,0,{"$f":"IF(K599>0, K597/K599, 0)","v":0},null,{"$f":"ROUND(M599*L597,0)","v":0},0,{"$f":"N597-O597","v":0},0,0,0,118,998,588,0,0,588,118,998,588,0,0,null,null,null,null,null,null,null,null,null,null,null,null,null,null,null,null,null,null,null,null,null,null,null,null,null,null,null,null,null,null,null,null,null,null,null,null,null,null,null,null,null,null,null,null,null,null,null,null,null,null,null,null,null,null,null,null,null,null,null,null,null,null,null,null,null,118,998,588,0,0,0,0]
["01190999","0119","0999",595,119,"Hamilton                     ",999,"Total",12349040.688137377,1,{"$f":"SUM(K600:K603)","v":12005263.822006235},{"$f":"SUM(L600:L603)","v":0.99999999999999989},{"$f":"VLOOKUP(E604,town351,24)","v":9904343},{"$f":"SUM(N600:N603)","v":9904343},9956066,{"$f":"SUM(P600:P603)","v":-51723},-0.51951242589191349,1153.2448295178001,1094.0891449331,119,999,595,1094.0891449331,12005263.822006235,595,119,999,595,1094.0891449331,12005263.822006235,null,null,null,null,null,null,null,null,null,null,null,null,null,null,null,null,null,null,null,null,null,null,null,null,null,null,null,null,null,null,null,null,null,null,null,null,null,null,null,null,null,null,null,null,null,null,null,null,null,null,null,null,null,null,null,null,null,null,null,null,null,null,null,null,null,119,999,595,1143.1645997702799,11466697.648353731,1,9460026]
["01200120","0120","0120",596,120,"Hampden                      ",120,"Hampden",0,0,{"$f":"X605","v":0},{"$f":"IF(K609>0, K605/K609, 0)","v":0},null,{"$f":"ROUND(M609*L605,0)","v":0},0,{"$f":"N605-O605","v":0},0,0,0,120,120,596,0,0,596,120,120,596,0,0,null,null,null,null,null,null,null,null,null,null,null,null,null,null,null,null,null,null,null,null,null,null,null,null,null,null,null,null,null,null,null,null,null,null,null,null,null,null,null,null,null,null,null,null,null,null,null,null,null,null,null,null,null,null,null,null,null,null,null,null,null,null,null,null,null,120,120,596,0,0,0,0]
["01210999","0121","0999",605,121,"Hancock                      ",999,"Total",883632.04,1,{"$f":"SUM(K610:K613)","v":935475.98},{"$f":"SUM(L610:L613)","v":1},{"$f":"VLOOKUP(E614,town351,24)","v":689759},{"$f":"SUM(N610:N613)","v":689759},673593,{"$f":"SUM(P610:P613)","v":16166},2.3999655578368539,77,81,121,999,605,81,935475.98,605,121,999,605,81,935475.98,null,null,null,null,null,null,null,null,null,null,null,null,null,null,null,null,null,null,null,null,null,null,null,null,null,null,null,null,null,null,null,null,null,null,null,null,null,null,null,null,null,null,null,null,null,null,null,null,null,null,null,null,null,null,null,null,null,null,null,null,null,null,null,null,null,121,999,605,70,715919.97,1,571860]
["01230780","0123","0780",612,123,"Hanson                       ",780,"Whitman Hanson",16085993.198815178,0.91739178674305766,15727476.236860706,{"$f":"IF(K624>0, K621/K624, 0)","v":0.90970860504199735},null,{"$f":"ROUND(M624*L621,0)","v":9656227},9335424,{"$f":"N621-O621","v":320803},3.4364052452250697,1464.7473216748599,1388.0971350439199,123,780,612,1388.0971350439199,15727476.236860706,612,123,780,612,1388.0971350439199,15727476.236860706,null,null,null,null,null,null,null,null,null,null,null,null,null,null,null,null,null,null,null,null,null,null,null,null,null,null,null,null,null,null,null,null,null,null,null,null,null,null,null,null,null,null,null,null,null,null,null,null,null,null,null,null,null,null,null,null,null,null,null,null,null,null,null,null,null,123,780,612,1523.6723092518901,15627946.614740953,0.91645443100560031,8341004]
["01230999","0123","0999",615,123,"Hanson                       ",999,"Total",17534485.735831566,1.0000000000000002,{"$f":"SUM(K620:K623)","v":17288476.936122458},{"$f":"SUM(L620:L623)","v":1},{"$f":"VLOOKUP(E624,town351,24)","v":10614637},{"$f":"SUM(N620:N623)","v":10614638},10176050,{"$f":"SUM(P620:P623)","v":438588},4.3100024076139567,1546.1909445958199,1473.0971350434399,123,999,615,1473.0971350434399,17288476.936122458,615,123,999,615,1473.0971350434399,17288476.936122458,null,null,null,null,null,null,null,null,null,null,null,null,null,null,null,null,null,null,null,null,null,null,null,null,null,null,null,null,null,null,null,null,null,null,null,null,null,null,null,null,null,null,null,null,null,null,null,null,null,null,null,null,null,null,null,null,null,null,null,null,null,null,null,null,null,123,999,615,1609.67230925237,17052617.223523963,1,9101384]
["01240999","0124","0999",620,124,"Hardwick                     ",999,"Total",4174336.2800631612,0.99999999999999989,{"$f":"SUM(K625:K628)","v":4564408.9499186389},{"$f":"SUM(L625:L628)","v":1},{"$f":"VLOOKUP(E629,town351,24)","v":1706878},{"$f":"SUM(N625:N628)","v":1706878},1685971,{"$f":"SUM(P625:P628)","v":20907},1.2400569167559821,353.48153846582005,372.76119402948001,124,999,620,372.76119402948001,4564408.9499186389,620,124,999,620,372.76119402948001,4564408.9499186389,null,null,null,null,null,null,null,null,null,null,null,null,null,null,null,null,null,null,null,null,null,null,null,null,null,null,null,null,null,null,null,null,null,null,null,null,null,null,null,null,null,null,null,null,null,null,null,null,null,null,null,null,null,null,null,null,null,null,null,null,null,null,null,null,null,124,999,620,378.63433189942003,4127685.1633090861,1,1570304]
["01260999","0126","0999",630,126,"Harwich                      ",999,"Total",17012282.165172737,0.99999999999999989,{"$f":"SUM(K635:K638)","v":17014128.018685602},{"$f":"SUM(L635:L638)","v":1},{"$f":"VLOOKUP(E639,town351,24)","v":14036656},{"$f":"SUM(N635:N638)","v":14036656},14035133,{"$f":"SUM(P635:P638)","v":1523},1.0851339990864354E-2,1418.6235489140799,1392.4802065390199,126,999,630,1392.4802065390199,17014128.018685602,630,126,999,630,1392.4802065390199,17014128.018685602,null,null,null,null,null,null,null,null,null,null,null,null,null,null,null,null,null,null,null,null,null,null,null,null,null,null,null,null,null,null,null,null,null,null,null,null,null,null,null,null,null,null,null,null,null,null,null,null,null,null,null,null,null,null,null,null,null,null,null,null,null,null,null,null,null,126,999,630,1461.8667728262999,16130639.724255774,1,13269997]
["01270998","0127","0998",633,127,"",998,"",0,0,0,{"$f":"IF(K644>0, K642/K644, 0)","v":0},null,{"$f":"ROUND(M644*L642,0)","v":0},0,{"$f":"N642-O642","v":0},0,0,0,127,998,633,0,0,633,127,998,633,0,0,null,null,null,null,null,null,null,null,null,null,null,null,null,null,null,null,null,null,null,null,null,null,null,null,null,null,null,null,null,null,null,null,null,null,null,null,null,null,null,null,null,null,null,null,null,null,null,null,null,null,null,null,null,null,null,null,null,null,null,null,null,null,null,null,null,127,998,633,0,0,0,0]
["01290685","0129","0685",642,129,"Hawley                       ",685,"Hawlemont",271672.68408360844,0.61000951146713067,171684.10999788699,{"$f":"IF(K654>0, K651/K654, 0)","v":0.47994038292637464},null,{"$f":"ROUND(M654*L651,0)","v":133921},162745,{"$f":"N651-O651","v":-28824},-17.711143199483857,20.877551020560002,{"$f":"W651","v":12.226190476040001},129,685,642,12.226190476040001,171684.10999788699,{"$f":"D651","v":642},129,685,642,12.226190476040001,171684.10999788699,null,null,null,null,null,null,null,null,null,null,null,null,null,null,null,null,null,null,null,null,null,null,null,null,null,null,null,null,null,null,null,null,null,null,null,null,null,null,null,null,null,null,null,null,null,null,null,null,null,null,null,null,null,null,null,null,null,null,null,null,null,null,null,null,null,129,685,642,18.92857142842,235648.03571240057,0.60748659127988014,162289]
["01290717","0129","0717",643,129,"Hawley                       ",717,"Mohawk Trail",159027.62751404507,0.35707809821529468,126263.74874611211,{"$f":"IF(K654>0, K652/K654, 0)","v":0.35296843676257766},null,{"$f":"ROUND(M654*L652,0)","v":98491},95265,{"$f":"N652-O652","v":3226},3.3863433580013647,13.74074073866,10.673008320959999,129,717,643,10.673008320959999,126263.74874611211,643,129,717,643,10.673008320959999,126263.74874611211,null,null,null,null,null,null,null,null,null,null,null,null,null,null,null,null,null,null,null,null,null,null,null,null,null,null,null,null,null,null,null,null,null,null,null,null,null,null,null,null,null,null,null,null,null,null,null,null,null,null,null,null,null,null,null,null,null,null,null,null,null,null,null,null,null,129,717,643,12.69574467714,138421.36732124048,0.35684203494447175,95330]
["01310131","0131","0131",651,131,"Hingham                      ",131,"Hingham",45460703.839160003,1,{"$f":"X660","v":43173159.772249997},{"$f":"IF(K664>0, K660/K664, 0)","v":1},null,{"$f":"ROUND(M664*L660,0)","v":35617857},37505081,{"$f":"N660-O660","v":-1887224},-5.0319155423234525,4289,3947,131,131,651,3947,43173159.772249997,651,131,131,651,3947,43173159.772249997,null,null,null,null,null,null,null,null,null,null,null,null,null,null,null,null,null,null,null,null,null,null,null,null,null,null,null,null,null,null,null,null,null,null,null,null,null,null,null,null,null,null,null,null,null,null,null,null,null,null,null,null,null,null,null,null,null,null,null,null,null,null,null,null,null,131,131,651,4319,42815000.845129997,1,35322376]
["01320998","0132","0998",658,132,"",998,"",0,0,0,{"$f":"IF(K669>0, K667/K669, 0)","v":0},null,{"$f":"ROUND(M669*L667,0)","v":0},0,{"$f":"N667-O667","v":0},0,0,0,132,998,658,0,0,658,132,998,658,0,0,null,null,null,null,null,null,null,null,null,null,null,null,null,null,null,null,null,null,null,null,null,null,null,null,null,null,null,null,null,null,null,null,null,null,null,null,null,null,null,null,null,null,null,null,null,null,null,null,null,null,null,null,null,null,null,null,null,null,null,null,null,null,null,null,null,132,998,658,0,0,0,0]
["01330133","0133","0133",661,133,"Holbrook                     ",133,"Holbrook",16096140.681580001,0.88472737889404629,{"$f":"X670","v":17208016.089600001},{"$f":"IF(K674>0, K670/K674, 0)","v":0.88342808820004537},null,{"$f":"ROUND(M674*L670,0)","v":8484015},8273118,{"$f":"N670-O670","v":210897},2.5491839956833688,1346,1315,133,133,661,1315,17208016.089600001,661,133,133,661,1315,17208016.089600001,null,null,null,null,null,null,null,null,null,null,null,null,null,null,null,null,null,null,null,null,null,null,null,null,null,null,null,null,null,null,null,null,null,null,null,null,null,null,null,null,null,null,null,null,null,null,null,null,null,null,null,null,null,null,null,null,null,null,null,null,null,null,null,null,null,133,133,661,1231,13757037.007840002,0.85800814873961406,7518971]
["01340999","0134","0999",670,134,"Holden                       ",999,"Total",36328385.87518885,1,{"$f":"SUM(K675:K678)","v":36333885.322556496},{"$f":"SUM(L675:L678)","v":1},{"$f":"VLOOKUP(E679,town351,24)","v":21464211},{"$f":"SUM(N675:N678)","v":21464212},20855299,{"$f":"SUM(P675:P678)","v":608913},2.9197040042437177,3399.0651189322803,3291.1015844777999,134,999,670,3291.1015844777999,36333885.322556496,670,134,999,670,3291.1015844777999,36333885.322556496,null,null,null,null,null,null,null,null,null,null,null,null,null,null,null,null,null,null,null,null,null,null,null,null,null,null,null,null,null,null,null,null,null,null,null,null,null,null,null,null,null,null,null,null,null,null,null,null,null,null,null,null,null,null,null,null,null,null,null,null,null,null,null,null,null,134,999,670,3202.1673873866798,32088953.967864729,1,19112967]
["01360829","0136","0829",677,136,"Holliston                    ",829,"South Middlesex",1156899.2716597768,3.8782144038357572E-2,1375579.9366316434,{"$f":"IF(K689>0, K686/K689, 0)","v":4.6374050244786982E-2},null,{"$f":"ROUND(M689*L686,0)","v":1038124},855440,{"$f":"N686-O686","v":182684},21.355559711961096,60.075282310680002,68.083333330610003,136,829,677,68.083333330610003,1375579.9366316434,677,136,829,677,68.083333330610003,1375579.9366316434,null,null,null,null,null,null,null,null,null,null,null,null,null,null,null,null,null,null,null,null,null,null,null,null,null,null,null,null,null,null,null,null,null,null,null,null,null,null,null,null,null,null,null,null,null,null,null,null,null,null,null,null,null,null,null,null,null,null,null,null,null,null,null,null,null,136,829,677,59.00000000256,1044285.3021012784,3.7519729962320711E-2,755987]
["01360999","0136","0999",680,136,"Holliston                    ",999,"Total",29830719.789899774,1,{"$f":"SUM(K685:K688)","v":29662708.548651639},{"$f":"SUM(L685:L688)","v":1},{"$f":"VLOOKUP(E689,town351,24)","v":22385871},{"$f":"SUM(N685:N688)","v":22385871},22057569,{"$f":"SUM(P685:P688)","v":328302},1.4883870475481682,2766.07528231068,2672.08333333061,136,999,680,2672.08333333061,29662708.548651639,680,136,999,680,2672.08333333061,29662708.548651639,null,null,null,null,null,null,null,null,null,null,null,null,null,null,null,null,null,null,null,null,null,null,null,null,null,null,null,null,null,null,null,null,null,null,null,null,null,null,null,null,null,null,null,null,null,null,null,null,null,null,null,null,null,null,null,null,null,null,null,null,null,null,null,null,null,136,999,680,2712.0000000025602,27832964.233751275,1,20149057]
["01370998","0137","0998",684,137,"",998,"",0,0,0,{"$f":"IF(K694>0, K693/K694, 0)","v":0},null,{"$f":"ROUND(M694*L693,0)","v":0},0,{"$f":"N693-O693","v":0},0,0,0,137,998,684,0,0,684,137,998,684,0,0,null,null,null,null,null,null,null,null,null,null,null,null,null,null,null,null,null,null,null,null,null,null,null,null,null,null,null,null,null,null,null,null,null,null,null,null,null,null,null,null,null,null,null,null,null,null,null,null,null,null,null,null,null,null,null,null,null,null,null,null,null,null,null,null,null,137,998,684,0,0,0,0]
["01380998","0138","0998",689,138,"",998,"",0,0,0,{"$f":"IF(K699>0, K698/K699, 0)","v":0},null,{"$f":"ROUND(M699*L698,0)","v":0},0,{"$f":"N698-O698","v":0},0,0,0,138,998,689,0,0,689,138,998,689,0,0,null,null,null,null,null,null,null,null,null,null,null,null,null,null,null,null,null,null,null,null,null,null,null,null,null,null,null,null,null,null,null,null,null,null,null,null,null,null,null,null,null,null,null,null,null,null,null,null,null,null,null,null,null,null,null,null,null,null,null,null,null,null,null,null,null,138,998,689,0,0,0,0]
["01400832","0140","0832",698,140,"Hubbardston                  ",832,"Montachusett",880621.89250471164,0.1341687319970073,742896.66307699296,{"$f":"IF(K709>0, K707/K709, 0)","v":0.1145932162462944},null,{"$f":"ROUND(M709*L707,0)","v":455790},523136,{"$f":"N707-O707","v":-67346},-12.87351663812087,50.999999998500002,41.999999992859998,140,832,698,41.999999992859998,742896.66307699296,698,140,832,698,41.999999992859998,742896.66307699296,null,null,null,null,null,null,null,null,null,null,null,null,null,null,null,null,null,null,null,null,null,null,null,null,null,null,null,null,null,null,null,null,null,null,null,null,null,null,null,null,null,null,null,null,null,null,null,null,null,null,null,null,null,null,null,null,null,null,null,null,null,null,null,null,null,140,832,698,69.0464333834,1119738.0313158799,0.16673914163625891,611381]
[{"$f":"B714&C714","v":"01410999"},"0141","0999",705,141,"Hudson                       ",999,"Total",34732375.893607259,1,{"$f":"SUM(K710:K713)","v":34481749.822181284},{"$f":"SUM(L710:L713)","v":1},{"$f":"VLOOKUP(E714,town351,24)","v":21683002},{"$f":"SUM(N710:N713)","v":21683002},21185151,{"$f":"SUM(P710:P713)","v":497851},2.3499997710660643,2879.9999999971201,2737.9999999991801,{"$f":"VLOOKUP($D714, foundoptions, VLOOKUP($T$6, foundoptcell, 2, FALSE), FALSE)","v":141},{"$f":"VLOOKUP($D714, foundoptions, VLOOKUP($T$6, foundoptcell, 2, FALSE)+1, FALSE)","v":999},{"$f":"VLOOKUP($D714, foundoptions, VLOOKUP($T$6, foundoptcell, 2, FALSE)+2, FALSE)","v":705},{"$f":"VLOOKUP($D714, foundoptions, VLOOKUP($T$6, foundoptcell, 2, FALSE)+3, FALSE)","v":2737.9999999991801},{"$f":"VLOOKUP($D714, foundoptions, VLOOKUP($T$6, foundoptcell, 2, FALSE)+4, FALSE)","v":34481749.822181284},705,141,999,705,2737.9999999991801,34481749.822181284,null,null,null,null,null,null,null,null,null,null,null,null,null,null,null,null,null,null,null,null,null,null,null,null,null,null,null,null,null,null,null,null,null,null,null,null,null,null,null,null,null,null,null,null,null,null,null,null,null,null,null,null,null,null,null,null,null,null,null,null,null,null,null,null,null,141,999,705,2917.9999999998599,32985304.286110852,1,19481831]
["01420998","0142","0998",708,142,"",998,"",0,0,0,{"$f":"IF(K719>0, K717/K719, 0)","v":0},null,{"$f":"ROUND(M719*L717,0)","v":0},0,{"$f":"N717-O717","v":0},0,0,0,142,998,708,0,0,708,142,998,708,0,0,null,null,null,null,null,null,null,null,null,null,null,null,null,null,null,null,null,null,null,null,null,null,null,null,null,null,null,null,null,null,null,null,null,null,null,null,null,null,null,null,null,null,null,null,null,null,null,null,null,null,null,null,null,null,null,null,null,null,null,null,null,null,null,null,null,142,998,708,0,0,0,0]
["01430998","0143","0998",714,143,"",998,"",0,0,0,{"$f":"IF(K724>0, K723/K724, 0)","v":0},null,{"$f":"ROUND(M724*L723,0)","v":0},0,{"$f":"N723-O723","v":0},{"$f":"IF(O723>0,P723*100/O723,IF(P723>0,100,0))","v":0},0,0,143,998,714,0,0,714,143,998,714,0,0,null,null,null,null,null,null,null,null,null,null,null,null,null,null,null,null,null,null,null,null,null,null,null,null,null,null,null,null,null,null,null,null,null,null,null,null,null,null,null,null,null,null,null,null,null,null,null,null,null,null,null,null,null,null,null,null,null,null,null,null,null,null,null,null,null,143,998,714,0,0,0,0]
["01450998","0145","0998",723,145,"",998,"",0,0,0,{"$f":"IF(K734>0, K732/K734, 0)","v":0},null,{"$f":"ROUND(M734*L732,0)","v":0},0,{"$f":"N732-O732","v":0},0,0,0,145,998,723,0,0,723,145,998,723,0,0,null,null,null,null,null,null,null,null,null,null,null,null,null,null,null,null,null,null,null,null,null,null,null,null,null,null,null,null,null,null,null,null,null,null,null,null,null,null,null,null,null,null,null,null,null,null,null,null,null,null,null,null,null,null,null,null,null,null,null,null,null,null,null,null,null,145,998,723,0,0,0,0]
["01460146","0146","0146",726,146,"Lakeville                    ",146,"Lakeville",203601.62000000002,1.0276841658977865E-2,{"$f":"X735","v":134486.55000000002},{"$f":"IF(K739>0, K735/K739, 0)","v":6.9118729822737462E-3},null,{"$f":"ROUND(M739*L735,0)","v":93417},133221,{"$f":"N735-O735","v":-39804},-29.87817236021348,12,9,146,146,726,9,134486.55000000002,726,146,146,726,9,134486.55000000002,null,null,null,null,null,null,null,null,null,null,null,null,null,null,null,null,null,null,null,null,null,null,null,null,null,null,null,null,null,null,null,null,null,null,null,null,null,null,null,null,null,null,null,null,null,null,null,null,null,null,null,null,null,null,null,null,null,null,null,null,null,null,null,null,null,146,146,726,12,192350.35000000003,1.0530152698409278E-2,123826]
["01470830","0147","0830",733,147,"Lancaster                    ",830,"Minuteman",1022578.1634276159,9.1573084134887822E-2,1166995.0009785411,{"$f":"IF(K744>0, K742/K744, 0)","v":9.80459825511385E-2},null,{"$f":"ROUND(M744*L742,0)","v":801781},716807,{"$f":"N742-O742","v":84974},11.854515929671445,55.000000000669999,57.999999998809997,147,830,733,57.999999998809997,1166995.0009785411,733,147,830,733,57.999999998809997,1166995.0009785411,null,null,null,null,null,null,null,null,null,null,null,null,null,null,null,null,null,null,null,null,null,null,null,null,null,null,null,null,null,null,null,null,null,null,null,null,null,null,null,null,null,null,null,null,null,null,null,null,null,null,null,null,null,null,null,null,null,null,null,null,null,null,null,null,null,147,830,733,50.146627565160003,897881.22776240122,8.7152808768889978E-2,627056]
["01480148","0148","0148",736,148,"Lanesborough                 ",148,"Lanesborough",29315.599999999999,6.7970761119592145E-3,{"$f":"X745","v":14942.95},{"$f":"IF(K749>0, K745/K749, 0)","v":3.2483517532191086E-3},null,{"$f":"ROUND(M749*L745,0)","v":8491},18020,{"$f":"N745-O745","v":-9529},-52.880133185349614,2,1,148,148,736,1,14942.95,736,148,148,736,1,14942.95,null,null,null,null,null,null,null,null,null,null,null,null,null,null,null,null,null,null,null,null,null,null,null,null,null,null,null,null,null,null,null,null,null,null,null,null,null,null,null,null,null,null,null,null,null,null,null,null,null,null,null,null,null,null,null,null,null,null,null,null,null,null,null,null,null,148,148,736,0,0,0,0]
["01490999","0149","0999",745,149,"Lawrence                     ",999,"Total",244844632.09714019,1,{"$f":"SUM(K750:K753)","v":260261641.05732384},{"$f":"SUM(L750:L753)","v":1},{"$f":"VLOOKUP(E754,town351,24)","v":13462062},{"$f":"SUM(N750:N753)","v":13462062},12903347,{"$f":"SUM(P750:P753)","v":558715},4.3300005804695481,16630.99999999686,16008.0000000006,149,999,745,16008.0000000006,260261641.05732384,745,149,999,745,16008.0000000006,260261641.05732384,null,null,null,null,null,null,null,null,null,null,null,null,null,null,null,null,null,null,null,null,null,null,null,null,null,null,null,null,null,null,null,null,null,null,null,null,null,null,null,null,null,null,null,null,null,null,null,null,null,null,null,null,null,null,null,null,null,null,null,null,null,null,null,null,null,149,999,745,16568.999999993121,219576987.28133741,1,11289169]
["01510151","0151","0151",751,151,"Leicester                    ",151,"Leicester",18032789.120000001,1,{"$f":"X760","v":17880645.889999997},{"$f":"IF(K764>0, K760/K764, 0)","v":1},null,{"$f":"ROUND(M764*L760,0)","v":8835023},8592877,{"$f":"N760-O760","v":242146},2.817985175395854,1539,1458,151,151,751,1458,17880645.889999997,751,151,151,751,1458,17880645.889999997,null,null,null,null,null,null,null,null,null,null,null,null,null,null,null,null,null,null,null,null,null,null,null,null,null,null,null,null,null,null,null,null,null,null,null,null,null,null,null,null,null,null,null,null,null,null,null,null,null,null,null,null,null,null,null,null,null,null,null,null,null,null,null,null,null,151,151,751,1580,17044107.479999997,1,8057611]
["01510998","0151","0998",754,151,"",998,"",0,0,0,{"$f":"IF(K764>0, K763/K764, 0)","v":0},null,{"$f":"ROUND(M764*L763,0)","v":0},0,{"$f":"N763-O763","v":0},0,0,0,151,998,754,0,0,754,151,998,754,0,0,null,null,null,null,null,null,null,null,null,null,null,null,null,null,null,null,null,null,null,null,null,null,null,null,null,null,null,null,null,null,null,null,null,null,null,null,null,null,null,null,null,null,null,null,null,null,null,null,null,null,null,null,null,null,null,null,null,null,null,null,null,null,null,null,null,151,998,754,0,0,0,0]
["01530998","0153","0998",763,153,"",998,"",0,0,0,{"$f":"IF(K774>0, K772/K774, 0)","v":0},null,{"$f":"ROUND(M774*L772,0)","v":0},0,{"$f":"N772-O772","v":0},0,0,0,153,998,763,0,0,763,153,998,763,0,0,null,null,null,null,null,null,null,null,null,null,null,null,null,null,null,null,null,null,null,null,null,null,null,null,null,null,null,null,null,null,null,null,null,null,null,null,null,null,null,null,null,null,null,null,null,null,null,null,null,null,null,null,null,null,null,null,null,null,null,null,null,null,null,null,null,153,998,763,0,0,0,0]
["01540999","0154","0999",770,154,"Leverett                     ",999,"Total",2316364.1129202861,1,{"$f":"SUM(K775:K778)","v":2192083.6428227234},{"$f":"SUM(L775:L778)","v":1},{"$f":"VLOOKUP(E779,town351,24)","v":1808469},{"$f":"SUM(N775:N778)","v":1808469},1911000,{"$f":"SUM(P775:P778)","v":-102531},-5.3653061224489793,207.99999999796,{"$f":"W779","v":189.06320542129998},154,999,770,189.06320542129998,2192083.6428227234,{"$f":"D779","v":770},154,999,770,189.06320542129998,2192083.6428227234,null,null,null,null,null,null,null,null,null,null,null,null,null,null,null,null,null,null,null,null,null,null,null,null,null,null,null,null,null,null,null,null,null,null,null,null,null,null,null,null,null,null,null,null,null,null,null,null,null,null,null,null,null,null,null,null,null,null,null,null,null,null,null,null,null,154,999,770,197.99999999997002,2104252.1246821485,0.99999999999999989,1736008]
["01550998","0155","0998",773,155,"",998,null,0,0,0,{"$f":"IF(K784>0, K782/K784, 0)","v":0},null,{"$f":"ROUND(M784*L782,0)","v":0},0,{"$f":"N782-O782","v":0},0,0,0,155,998,773,0,0,773,155,998,773,0,0,null,null,null,null,null,null,null,null,null,null,null,null,null,null,null,null,null,null,null,null,null,null,null,null,null,null,null,null,null,null,null,null,null,null,null,null,null,null,null,null,null,null,null,null,null,null,null,null,null,null,null,null,null,null,null,null,null,null,null,null,null,null,null,null,null,155,998,773,0,0,0,0]
["01560818","0156","0818",778,156,"Leyden                       ",818,"Franklin County",54373.284739549374,7.7777802127118045E-2,17260.475186433407,{"$f":"IF(K789>0, K787/K789, 0)","v":2.8234654583235277E-2},null,{"$f":"ROUND(M789*L787,0)","v":14240},44858,{"$f":"N787-O787","v":-30618},-68.255383655089389,2.99999999985,1.0000000010000001,156,818,778,1.0000000010000001,17260.475186433407,778,156,818,778,1.0000000010000001,17260.475186433407,null,null,null,null,null,null,null,null,null,null,null,null,null,null,null,null,null,null,null,null,null,null,null,null,null,null,null,null,null,null,null,null,null,null,null,null,null,null,null,null,null,null,null,null,null,null,null,null,null,null,null,null,null,null,null,null,null,null,null,null,null,null,null,null,null,156,818,778,6.9999999979600007,118291.33864265657,0.17113545087707557,97590]
["01570695","0157","0695",782,157,"Lincoln                      ",695,"Lincoln Sudbury",2152153.1281621228,0.2554070547167962,2358932.1596477251,{"$f":"IF(K794>0, K791/K794, 0)","v":0.27183836111215781},null,{"$f":"ROUND(M794*L791,0)","v":1946119},1775526,{"$f":"N791-O791","v":170593},9.608026015952456,187.771507224,201.50000000338002,157,695,782,201.50000000338002,2358932.1596477251,782,157,695,782,201.50000000338002,2358932.1596477251,null,null,null,null,null,null,null,null,null,null,null,null,null,null,null,null,null,null,null,null,null,null,null,null,null,null,null,null,null,null,null,null,null,null,null,null,null,null,null,null,null,null,null,null,null,null,null,null,null,null,null,null,null,null,null,null,null,null,null,null,null,null,null,null,null,157,695,782,203.06630581472001,2229997.5423586373,0.26497953155001719,1839748]
["01590159","0159","0159",791,159,"Longmeadow                   ",159,"Longmeadow",29237892.870000001,1,{"$f":"X800","v":29088744.440000001},{"$f":"IF(K804>0, K800/K804, 0)","v":1},null,{"$f":"ROUND(M804*L800,0)","v":23998214},24121262,{"$f":"N800-O800","v":-123048},-0.51012256323902128,2808,2705,159,159,791,2705,29088744.440000001,791,159,159,791,2705,29088744.440000001,null,null,null,null,null,null,null,null,null,null,null,null,null,null,null,null,null,null,null,null,null,null,null,null,null,null,null,null,null,null,null,null,null,null,null,null,null,null,null,null,null,null,null,null,null,null,null,null,null,null,null,null,null,null,null,null,null,null,null,null,null,null,null,null,null,159,159,791,2856,27927235.790000003,1,22667571]
["01600998","0160","0998",798,160,"",998,null,0,0,0,{"$f":"IF(K809>0, K807/K809, 0)","v":0},null,{"$f":"ROUND(M809*L807,0)","v":0},0,{"$f":"N807-O807","v":0},0,0,0,160,998,798,0,0,798,160,998,798,0,0,null,null,null,null,null,null,null,null,null,null,null,null,null,null,null,null,null,null,null,null,null,null,null,null,null,null,null,null,null,null,null,null,null,null,null,null,null,null,null,null,null,null,null,null,null,null,null,null,null,null,null,null,null,null,null,null,null,null,null,null,null,null,null,null,null,160,998,798,0,0,0,0]
["01610161","0161","0161",801,161,"Ludlow                       ",161,"Ludlow",29294399.16,1,{"$f":"X810","v":28762531.389999997},{"$f":"IF(K814>0, K810/K814, 0)","v":1},null,{"$f":"ROUND(M814*L810,0)","v":16602458},16443714,{"$f":"N810-O810","v":158744},0.96537801618296204,2509,2381,161,161,801,2381,28762531.389999997,801,161,161,801,2381,28762531.389999997,null,null,null,null,null,null,null,null,null,null,null,null,null,null,null,null,null,null,null,null,null,null,null,null,null,null,null,null,null,null,null,null,null,null,null,null,null,null,null,null,null,null,null,null,null,null,null,null,null,null,null,null,null,null,null,null,null,null,null,null,null,null,null,null,null,161,161,801,2570,27633670.819999997,1,15760434]
["01620998","0162","0998",809,162,"",998,"",0,0,0,{"$f":"IF(K819>0, K818/K819, 0)","v":0},null,{"$f":"ROUND(M819*L818,0)","v":0},0,{"$f":"N818-O818","v":0},0,0,0,162,998,809,0,0,809,162,998,809,0,0,null,null,null,null,null,null,null,null,null,null,null,null,null,null,null,null,null,null,null,null,null,null,null,null,null,null,null,null,null,null,null,null,null,null,null,null,null,null,null,null,null,null,null,null,null,null,null,null,null,null,null,null,null,null,null,null,null,null,null,null,null,null,null,null,null,162,998,809,0,0,0,0]
["01640164","0164","0164",816,164,"Lynnfield                    ",164,"Lynnfield",23513323.468790006,0.9738018745247502,{"$f":"X825","v":23894429.729009997},{"$f":"IF(K829>0, K825/K829, 0)","v":0.96559667031488117},null,{"$f":"ROUND(M829*L825,0)","v":19712904},19317442,{"$f":"N825-O825","v":395462},2.0471758113729552,2205,2175,164,164,816,2175,23894429.729009997,816,164,164,816,2175,23894429.729009997,null,null,null,null,null,null,null,null,null,null,null,null,null,null,null,null,null,null,null,null,null,null,null,null,null,null,null,null,null,null,null,null,null,null,null,null,null,null,null,null,null,null,null,null,null,null,null,null,null,null,null,null,null,null,null,null,null,null,null,null,null,null,null,null,null,164,164,816,2220,22155796.556120005,0.98345551528834785,18211808]
["01640998","0164","0998",819,164,"",998,"",0,0,0,{"$f":"IF(K829>0, K828/K829, 0)","v":0},null,{"$f":"ROUND(M829*L828,0)","v":0},0,{"$f":"N828-O828","v":0},0,0,0,164,998,819,0,0,819,164,998,819,0,0,null,null,null,null,null,null,null,null,null,null,null,null,null,null,null,null,null,null,null,null,null,null,null,null,null,null,null,null,null,null,null,null,null,null,null,null,null,null,null,null,null,null,null,null,null,null,null,null,null,null,null,null,null,null,null,null,null,null,null,null,null,null,null,null,null,164,998,819,0,0,0,0]
["01660166","0166","0166",826,166,"Manchester                   ",166,"Manchester",0,0,{"$f":"X835","v":0},{"$f":"IF(K839>0, K835/K839, 0)","v":0},null,{"$f":"ROUND(M839*L835,0)","v":0},0,{"$f":"N835-O835","v":0},0,0,0,166,166,826,0,0,826,166,166,826,0,0,null,null,null,null,null,null,null,null,null,null,null,null,null,null,null,null,null,null,null,null,null,null,null,null,null,null,null,null,null,null,null,null,null,null,null,null,null,null,null,null,null,null,null,null,null,null,null,null,null,null,null,null,null,null,null,null,null,null,null,null,null,null,null,null,null,166,166,826,0,0,0,0]
["01660998","0166","0998",829,166,"",998,"",0,0,0,{"$f":"IF(K839>0, K838/K839, 0)","v":0},null,{"$f":"ROUND(M839*L838,0)","v":0},0,{"$f":"N838-O838","v":0},0,0,0,166,998,829,0,0,829,166,998,829,0,0,null,null,null,null,null,null,null,null,null,null,null,null,null,null,null,null,null,null,null,null,null,null,null,null,null,null,null,null,null,null,null,null,null,null,null,null,null,null,null,null,null,null,null,null,null,null,null,null,null,null,null,null,null,null,null,null,null,null,null,null,null,null,null,null,null,166,998,829,0,0,0,0]
["01680998","0168","0998",838,168,"",998,null,0,0,0,{"$f":"IF(K849>0, K847/K849, 0)","v":0},null,{"$f":"ROUND(M849*L847,0)","v":0},0,{"$f":"N847-O847","v":0},0,0,0,168,998,838,0,0,838,168,998,838,0,0,null,null,null,null,null,null,null,null,null,null,null,null,null,null,null,null,null,null,null,null,null,null,null,null,null,null,null,null,null,null,null,null,null,null,null,null,null,null,null,null,null,null,null,null,null,null,null,null,null,null,null,null,null,null,null,null,null,null,null,null,null,null,null,null,null,168,998,838,0,0,0,0]
["01690169","0169","0169",841,169,"Marion                       ",169,"Marion",4522671.7799999993,0.54354056450077415,{"$f":"X850","v":4366552.4799999986},{"$f":"IF(K854>0, K850/K854, 0)","v":0.52531348161270308},null,{"$f":"ROUND(M854*L850,0)","v":3602406},3731204,{"$f":"N850-O850","v":-128798},-3.4519152530925674,432,403,169,169,841,403,4366552.4799999986,841,169,169,841,403,4366552.4799999986,null,null,null,null,null,null,null,null,null,null,null,null,null,null,null,null,null,null,null,null,null,null,null,null,null,null,null,null,null,null,null,null,null,null,null,null,null,null,null,null,null,null,null,null,null,null,null,null,null,null,null,null,null,null,null,null,null,null,null,null,null,null,null,null,null,169,169,841,452,4470718.4500000011,0.54199114889415445,3641644]
["01700801","0170","0801",847,170,"Marlborough                  ",801,"Assabet Valley",7941476.0332889827,0.10462910720560925,8380074.7314686114,{"$f":"IF(K859>0, K856/K859, 0)","v":0.10891095975552936},null,{"$f":"ROUND(M859*L856,0)","v":4660542},4316314,{"$f":"N856-O856","v":344228},7.975045374363404,426.99999999776003,432.00000000134997,170,801,847,432.00000000134997,8380074.7314686114,847,170,801,847,432.00000000134997,8380074.7314686114,null,null,null,null,null,null,null,null,null,null,null,null,null,null,null,null,null,null,null,null,null,null,null,null,null,null,null,null,null,null,null,null,null,null,null,null,null,null,null,null,null,null,null,null,null,null,null,null,null,null,null,null,null,null,null,null,null,null,null,null,null,null,null,null,null,170,801,847,426.00000000294006,7459718.2314719874,0.1092591823534427,4118930]
["01710998","0171","0998",854,171,"",998,"",0,0,0,{"$f":"IF(K864>0, K863/K864, 0)","v":0},null,{"$f":"ROUND(M864*L863,0)","v":0},0,{"$f":"N863-O863","v":0},0,0,0,171,998,854,0,0,854,171,998,854,0,0,null,null,null,null,null,null,null,null,null,null,null,null,null,null,null,null,null,null,null,null,null,null,null,null,null,null,null,null,null,null,null,null,null,null,null,null,null,null,null,null,null,null,null,null,null,null,null,null,null,null,null,null,null,null,null,null,null,null,null,null,null,null,null,null,null,171,998,854,0,0,0,0]
["01730855","0173","0855",863,173,"Mattapoisett                 ",855,"Old Colony",613292.61059086677,6.4077075568105255E-2,774416.20397558343,{"$f":"IF(K874>0, K872/K874, 0)","v":8.213239681073578E-2},null,{"$f":"ROUND(M874*L872,0)","v":638893},505966,{"$f":"N872-O872","v":132927},26.271923409873391,36.154838710279996,43.999999997700002,173,855,863,43.999999997700002,774416.20397558343,863,173,855,863,43.999999997700002,774416.20397558343,null,null,null,null,null,null,null,null,null,null,null,null,null,null,null,null,null,null,null,null,null,null,null,null,null,null,null,null,null,null,null,null,null,null,null,null,null,null,null,null,null,null,null,null,null,null,null,null,null,null,null,null,null,null,null,null,null,null,null,null,null,null,null,null,null,173,855,863,25.999999998429999,417581.21984349348,4.6099308622332677E-2,344505]
["01740174","0174","0174",866,174,"Maynard                      ",174,"Maynard",14950228.72524,0.91362154308923871,{"$f":"X875","v":14846690.595790001},{"$f":"IF(K879>0, K875/K879, 0)","v":0.91183754468198974},null,{"$f":"ROUND(M879*L875,0)","v":10602983},10176959,{"$f":"N875-O875","v":426024},4.1861620941972939,1305,1256,174,174,866,1256,14846690.595790001,866,174,174,866,1256,14846690.595790001,null,null,null,null,null,null,null,null,null,null,null,null,null,null,null,null,null,null,null,null,null,null,null,null,null,null,null,null,null,null,null,null,null,null,null,null,null,null,null,null,null,null,null,null,null,null,null,null,null,null,null,null,null,null,null,null,null,null,null,null,null,null,null,null,null,174,174,866,1412,15215994.512989998,0.92841386703359019,9813974]
["01750878","0175","0878",872,175,"Medfield                     ",878,"Tri County",265265.41804312222,9.8651240299793136E-3,168034.92017952781,{"$f":"IF(K884>0, K881/K884, 0)","v":6.3014968996355008E-3},null,{"$f":"ROUND(M884*L881,0)","v":138629},218844,{"$f":"N881-O881","v":-80215},-36.653963553947101,15.000000001799998,9.0099557500500005,175,878,872,9.0099557500500005,168034.92017952781,872,175,878,872,9.0099557500500005,168034.92017952781,null,null,null,null,null,null,null,null,null,null,null,null,null,null,null,null,null,null,null,null,null,null,null,null,null,null,null,null,null,null,null,null,null,null,null,null,null,null,null,null,null,null,null,null,null,null,null,null,null,null,null,null,null,null,null,null,null,null,null,null,null,null,null,null,null,175,878,872,11.99999999786,202104.04340920335,8.0526683249856814E-3,166736]
["01750999","0175","0999",875,175,"Medfield                     ",999,"Total",26889212.668487702,0.99999999999999989,{"$f":"SUM(K880:K883)","v":26665873.657614194},{"$f":"SUM(L880:L883)","v":1},{"$f":"VLOOKUP(E884,town351,24)","v":21999346},{"$f":"SUM(N880:N883)","v":21999346},22183600,{"$f":"SUM(P880:P883)","v":-184254},-0.83058655944030724,2532.0000000028999,2448.0099557490898,175,999,875,2448.0099557490898,26665873.657614194,875,175,999,875,2448.0099557490898,26665873.657614194,null,null,null,null,null,null,null,null,null,null,null,null,null,null,null,null,null,null,null,null,null,null,null,null,null,null,null,null,null,null,null,null,null,null,null,null,null,null,null,null,null,null,null,null,null,null,null,null,null,null,null,null,null,null,null,null,null,null,null,null,null,null,null,null,null,175,999,875,2527.9999999964998,25097773.21662664,1,20705663]
["01770878","0177","0878",882,177,"Medway                       ",878,"Tri County",1008008.5884322928,4.0627142771761583E-2,1232256.0816541007,{"$f":"IF(K894>0, K891/K894, 0)","v":5.0183023764762795E-2},null,{"$f":"ROUND(M894*L891,0)","v":929290},720489,{"$f":"N891-O891","v":208801},28.980456328965467,56.999999999400004,66.073008851800012,177,878,882,66.073008851800012,1232256.0816541007,882,177,878,882,66.073008851800012,1232256.0816541007,null,null,null,null,null,null,null,null,null,null,null,null,null,null,null,null,null,null,null,null,null,null,null,null,null,null,null,null,null,null,null,null,null,null,null,null,null,null,null,null,null,null,null,null,null,null,null,null,null,null,null,null,null,null,null,null,null,null,null,null,null,null,null,null,null,177,878,882,59.999999998680003,1010520.2172039947,4.3119355757937579E-2,702960]
["01790179","0179","0179",891,179,"Mendon                       ",179,"Mendon",102604.6,8.9836131807422316E-3,{"$f":"X900","v":89657.700000000012},{"$f":"IF(K904>0, K900/K904, 0)","v":7.9256886876774325E-3},null,{"$f":"ROUND(M904*L900,0)","v":68395},77719,{"$f":"N900-O900","v":-9324},-11.997066354430705,7,6,179,179,891,6,89657.700000000012,891,179,179,891,6,89657.700000000012,null,null,null,null,null,null,null,null,null,null,null,null,null,null,null,null,null,null,null,null,null,null,null,null,null,null,null,null,null,null,null,null,null,null,null,null,null,null,null,null,null,null,null,null,null,null,null,null,null,null,null,null,null,null,null,null,null,null,null,null,null,null,null,null,null,179,179,891,9,125950.56911999999,1.1598758015111576E-2,90115]
["01790998","0179","0998",894,179,"",998,"",0,0,0,{"$f":"IF(K904>0, K903/K904, 0)","v":0},null,{"$f":"ROUND(M904*L903,0)","v":0},0,{"$f":"N903-O903","v":0},0,0,0,179,998,894,0,0,894,179,998,894,0,0,null,null,null,null,null,null,null,null,null,null,null,null,null,null,null,null,null,null,null,null,null,null,null,null,null,null,null,null,null,null,null,null,null,null,null,null,null,null,null,null,null,null,null,null,null,null,null,null,null,null,null,null,null,null,null,null,null,null,null,null,null,null,null,null,null,179,998,894,0,0,0,0]
["01810181","0181","0181",901,181,"Methuen                      ",181,"Methuen",88769466.079999998,0.9405842909658183,{"$f":"X910","v":89081373.360000014},{"$f":"IF(K914>0, K910/K914, 0)","v":0.93139242752730833},null,{"$f":"ROUND(M914*L910,0)","v":40893567},40325303,{"$f":"N910-O910","v":568264},1.4091995787359615,7124,6767,181,181,901,6767,89081373.360000014,901,181,181,901,6767,89081373.360000014,null,null,null,null,null,null,null,null,null,null,null,null,null,null,null,null,null,null,null,null,null,null,null,null,null,null,null,null,null,null,null,null,null,null,null,null,null,null,null,null,null,null,null,null,null,null,null,null,null,null,null,null,null,null,null,null,null,null,null,null,null,null,null,null,null,181,181,901,7169,81561883.420000002,0.93751327795627548,37125698]
["01820998","0182","0998",909,182,"",998,"",0,0,0,{"$f":"IF(K919>0, K918/K919, 0)","v":0},null,{"$f":"ROUND(M919*L918,0)","v":0},0,{"$f":"N918-O918","v":0},0,0,0,182,998,909,0,0,909,182,998,909,0,0,null,null,null,null,null,null,null,null,null,null,null,null,null,null,null,null,null,null,null,null,null,null,null,null,null,null,null,null,null,null,null,null,null,null,null,null,null,null,null,null,null,null,null,null,null,null,null,null,null,null,null,null,null,null,null,null,null,null,null,null,null,null,null,null,null,182,998,909,0,0,0,0]
["01830672","0183","0672",912,183,"Middlefield                  ",672,"Gateway",400291.50754974666,0.9010198661818094,313830.04233431071,{"$f":"IF(K924>0, K921/K924, 0)","v":0.87500979075624197},null,{"$f":"ROUND(M924*L921,0)","v":258910},330241,{"$f":"N921-O921","v":-71331},-21.599680233526424,33.885096699470004,25.573770495000002,183,672,912,25.573770495000002,313830.04233431071,912,183,672,912,25.573770495000002,313830.04233431071,null,null,null,null,null,null,null,null,null,null,null,null,null,null,null,null,null,null,null,null,null,null,null,null,null,null,null,null,null,null,null,null,null,null,null,null,null,null,null,null,null,null,null,null,null,null,null,null,null,null,null,null,null,null,null,null,null,null,null,null,null,null,null,null,null,183,672,912,38.293318234140003,413996.59754027304,0.88207265020932335,329159]
["01840998","0184","0998",919,184,"",998,"",0,0,0,{"$f":"IF(K929>0, K928/K929, 0)","v":0},null,{"$f":"ROUND(M929*L928,0)","v":0},0,{"$f":"N928-O928","v":0},0,0,0,184,998,919,0,0,919,184,998,919,0,0,null,null,null,null,null,null,null,null,null,null,null,null,null,null,null,null,null,null,null,null,null,null,null,null,null,null,null,null,null,null,null,null,null,null,null,null,null,null,null,null,null,null,null,null,null,null,null,null,null,null,null,null,null,null,null,null,null,null,null,null,null,null,null,null,null,184,998,919,0,0,0,0]
["01850805","0185","0805",922,185,"Milford                      ",805,"Blackstone Valley",2469521.6400985937,4.1803771117998746E-2,2563032.656516178,{"$f":"IF(K934>0, K931/K934, 0)","v":4.2103259533231581E-2},null,{"$f":"ROUND(M934*L931,0)","v":1144784},1109698,{"$f":"N931-O931","v":35086},3.1617611278023392,150.00000000012,151.99999999855001,185,805,922,151.99999999855001,2563032.656516178,922,185,805,922,151.99999999855001,2563032.656516178,null,null,null,null,null,null,null,null,null,null,null,null,null,null,null,null,null,null,null,null,null,null,null,null,null,null,null,null,null,null,null,null,null,null,null,null,null,null,null,null,null,null,null,null,null,null,null,null,null,null,null,null,null,null,null,null,null,null,null,null,null,null,null,null,null,185,805,922,162.99999999599999,2537878.7131393338,4.9296245054877459E-2,1245037]
["01860998","0186","0998",929,186,"",998,"",0,0,0,{"$f":"IF(K939>0, K938/K939, 0)","v":0},null,{"$f":"ROUND(M939*L938,0)","v":0},0,{"$f":"N938-O938","v":0},0,0,0,186,998,929,0,0,929,186,998,929,0,0,null,null,null,null,null,null,null,null,null,null,null,null,null,null,null,null,null,null,null,null,null,null,null,null,null,null,null,null,null,null,null,null,null,null,null,null,null,null,null,null,null,null,null,null,null,null,null,null,null,null,null,null,null,null,null,null,null,null,null,null,null,null,null,null,null,186,998,929,0,0,0,0]
["01870999","0187","0999",935,187,"Millis                       ",999,"Total",13174828.808803014,1,{"$f":"SUM(K940:K943)","v":13133337.591130678},{"$f":"SUM(L940:L943)","v":1},{"$f":"VLOOKUP(E944,town351,24)","v":10098807},{"$f":"SUM(N940:N943)","v":10098806},9737543,{"$f":"SUM(P940:P943)","v":361263},3.7100015886964504,1168.9999999956001,1121.0652654917301,187,999,935,1121.0652654917301,13133337.591130678,935,187,999,935,1121.0652654917301,13133337.591130678,null,null,null,null,null,null,null,null,null,null,null,null,null,null,null,null,null,null,null,null,null,null,null,null,null,null,null,null,null,null,null,null,null,null,null,null,null,null,null,null,null,null,null,null,null,null,null,null,null,null,null,null,null,null,null,null,null,null,null,null,null,null,null,null,null,187,999,935,1229.0000000028901,12823595.801972833,1,9071434]
["01880999","0188","0999",940,188,"Millville                    ",999,"Total",5696882.0530042751,1,{"$f":"SUM(K945:K948)","v":5529261.2812317414},{"$f":"SUM(L945:L948)","v":1.0000000000000002},{"$f":"VLOOKUP(E949,town351,24)","v":2595322},{"$f":"SUM(N945:N948)","v":2595322},2568132,{"$f":"SUM(P945:P948)","v":27190},1.0587462015192366,495.10526316440001,462.22968199065002,188,999,940,462.22968199065002,5529261.2812317414,940,188,999,940,462.22968199065002,5529261.2812317414,null,null,null,null,null,null,null,null,null,null,null,null,null,null,null,null,null,null,null,null,null,null,null,null,null,null,null,null,null,null,null,null,null,null,null,null,null,null,null,null,null,null,null,null,null,null,null,null,null,null,null,null,null,null,null,null,null,null,null,null,null,null,null,null,null,188,999,940,528.86554621469998,5702542.0044989502,1,2425421]
["01900851","0190","0851",947,190,"Monroe                       ",851,"Northern Berkshire",35767.353546806247,0.19335544784026165,55525.345322187466,{"$f":"IF(K959>0, K956/K959, 0)","v":0.27361679676889061},null,{"$f":"ROUND(M959*L956,0)","v":27163},19124,{"$f":"N956-O956","v":8039},42.03618489855679,1.9999999981900001,2.9999999993199999,190,851,947,2.9999999993199999,55525.345322187466,947,190,851,947,2.9999999993199999,55525.345322187466,null,null,null,null,null,null,null,null,null,null,null,null,null,null,null,null,null,null,null,null,null,null,null,null,null,null,null,null,null,null,null,null,null,null,null,null,null,null,null,null,null,null,null,null,null,null,null,null,null,null,null,null,null,null,null,null,null,null,null,null,null,null,null,null,null,190,851,947,3.0000000014399997,50514.371172895553,0.3718701361388565,37297]
["01920192","0192","0192",956,192,"Montague                     ",192,"Montague",0,0,{"$f":"X965","v":0},{"$f":"IF(K969>0, K965/K969, 0)","v":0},null,{"$f":"ROUND(M969*L965,0)","v":0},0,{"$f":"N965-O965","v":0},0,0,0,192,192,956,0,0,956,192,192,956,0,0,null,null,null,null,null,null,null,null,null,null,null,null,null,null,null,null,null,null,null,null,null,null,null,null,null,null,null,null,null,null,null,null,null,null,null,null,null,null,null,null,null,null,null,null,null,null,null,null,null,null,null,null,null,null,null,null,null,null,null,null,null,null,null,null,null,192,192,956,0,0,0,0]
["01920998","0192","0998",959,192,"",998,"",0,0,0,{"$f":"IF(K969>0, K968/K969, 0)","v":0},null,{"$f":"ROUND(M969*L968,0)","v":0},0,{"$f":"N968-O968","v":0},0,0,0,192,998,959,0,0,959,192,998,959,0,0,null,null,null,null,null,null,null,null,null,null,null,null,null,null,null,null,null,null,null,null,null,null,null,null,null,null,null,null,null,null,null,null,null,null,null,null,null,null,null,null,null,null,null,null,null,null,null,null,null,null,null,null,null,null,null,null,null,null,null,null,null,null,null,null,null,192,998,959,0,0,0,0]
["01940194","0194","0194",966,194,"Montgomery                   ",194,"Montgomery",87946.800000000017,9.6495996391604111E-2,{"$f":"X975","v":59771.8},{"$f":"IF(K979>0, K975/K979, 0)","v":6.6961567212456427E-2},null,{"$f":"ROUND(M979*L975,0)","v":49312},68444,{"$f":"N975-O975","v":-19132},-27.952778914148794,6,4,194,194,966,4,59771.8,966,194,194,966,4,59771.8,null,null,null,null,null,null,null,null,null,null,null,null,null,null,null,null,null,null,null,null,null,null,null,null,null,null,null,null,null,null,null,null,null,null,null,null,null,null,null,null,null,null,null,null,null,null,null,null,null,null,null,null,null,null,null,null,null,null,null,null,null,null,null,null,null,194,194,966,6,83022.959999999992,0.10180889154589118,68494]
["01950998","0195","0998",972,195,"",998,"",0,0,0,{"$f":"IF(K984>0, K981/K984, 0)","v":0},null,{"$f":"ROUND(M984*L981,0)","v":0},0,{"$f":"N981-O981","v":0},0,0,0,195,998,972,0,0,972,195,998,972,0,0,null,null,null,null,null,null,null,null,null,null,null,null,null,null,null,null,null,null,null,null,null,null,null,null,null,null,null,null,null,null,null,null,null,null,null,null,null,null,null,null,null,null,null,null,null,null,null,null,null,null,null,null,null,null,null,null,null,null,null,null,null,null,null,null,null,195,998,972,0,0,0,0]
["01950999","0195","0999",975,195,"Mount Washington             ",999,"Total",17625.62,1,{"$f":"SUM(K980:K983)","v":43434.66},{"$f":"SUM(L980:L983)","v":1},{"$f":"VLOOKUP(E984,town351,24)","v":35834},{"$f":"SUM(N980:N983)","v":35834},14541,{"$f":"SUM(P980:P983)","v":21293},146.43422048002202,2,5,195,999,975,5,43434.66,975,195,999,975,5,43434.66,null,null,null,null,null,null,null,null,null,null,null,null,null,null,null,null,null,null,null,null,null,null,null,null,null,null,null,null,null,null,null,null,null,null,null,null,null,null,null,null,null,null,null,null,null,null,null,null,null,null,null,null,null,null,null,null,null,null,null,null,null,null,null,null,null,195,999,975,3,25705.73,1,21207]
["01970998","0197","0998",984,197,"",998,"",0,0,0,{"$f":"IF(K994>0, K993/K994, 0)","v":0},null,{"$f":"ROUND(M994*L993,0)","v":0},0,{"$f":"N993-O993","v":0},0,0,0,197,998,984,0,0,984,197,998,984,0,0,null,null,null,null,null,null,null,null,null,null,null,null,null,null,null,null,null,null,null,null,null,null,null,null,null,null,null,null,null,null,null,null,null,null,null,null,null,null,null,null,null,null,null,null,null,null,null,null,null,null,null,null,null,null,null,null,null,null,null,null,null,null,null,null,null,197,998,984,0,0,0,0]
["01980829","0198","0829",987,198,"Natick                       ",829,"South Middlesex",1176180.9261208472,1.9771517450720099E-2,1132830.5360884287,{"$f":"IF(K999>0, K996/K999, 0)","v":1.9348387696217096E-2},null,{"$f":"ROUND(M999*L996,0)","v":934585},970349,{"$f":"N996-O996","v":-35764},-3.6856842228930002,61.076537012399996,56.068627450660003,198,829,987,56.068627450660003,1132830.5360884287,987,198,829,987,56.068627450660003,1132830.5360884287,null,null,null,null,null,null,null,null,null,null,null,null,null,null,null,null,null,null,null,null,null,null,null,null,null,null,null,null,null,null,null,null,null,null,null,null,null,null,null,null,null,null,null,null,null,null,null,null,null,null,null,null,null,null,null,null,null,null,null,null,null,null,null,null,null,198,829,987,72.000000000900002,1274382.0635418554,2.233296008682132E-2,1051365]
["01990998","0199","0998",994,199,"",998,"",0,0,0,{"$f":"IF(K1004>0, K1003/K1004, 0)","v":0},null,{"$f":"ROUND(M1004*L1003,0)","v":0},0,{"$f":"N1003-O1003","v":0},0,0,0,199,998,994,0,0,994,199,998,994,0,0,null,null,null,null,null,null,null,null,null,null,null,null,null,null,null,null,null,null,null,null,null,null,null,null,null,null,null,null,null,null,null,null,null,null,null,null,null,null,null,null,null,null,null,null,null,null,null,null,null,null,null,null,null,null,null,null,null,null,null,null,null,null,null,null,null,199,998,994,0,0,0,0]
["02000998","0200","0998",998,200,"",998,"",0,0,0,{"$f":"IF(K1009>0, K1007/K1009, 0)","v":0},null,{"$f":"ROUND(M1009*L1007,0)","v":0},0,{"$f":"N1007-O1007","v":0},0,0,0,200,998,998,0,0,998,200,998,998,0,0,null,null,null,null,null,null,null,null,null,null,null,null,null,null,null,null,null,null,null,null,null,null,null,null,null,null,null,null,null,null,null,null,null,null,null,null,null,null,null,null,null,null,null,null,null,null,null,null,null,null,null,null,null,null,null,null,null,null,null,null,null,null,null,null,null,200,998,998,0,0,0,0]
["02010910","0201","0910",1003,201,"New Bedford                  ",910,"Bristol County",820012.55112018355,3.5955427896829997E-3,920710.18952702533,{"$f":"IF(K1014>0, K1012/K1014, 0)","v":3.8790708118704546E-3},null,{"$f":"ROUND(M1014*L1012,0)","v":145635},130061,{"$f":"N1012-O1012","v":15574},11.974381251874121,47.000000000519996,51.999999999899998,201,910,1003,51.999999999899998,920710.18952702533,1003,201,910,1003,51.999999999899998,920710.18952702533,null,null,null,null,null,null,null,null,null,null,null,null,null,null,null,null,null,null,null,null,null,null,null,null,null,null,null,null,null,null,null,null,null,null,null,null,null,null,null,null,null,null,null,null,null,null,null,null,null,null,null,null,null,null,null,null,null,null,null,null,null,null,null,null,null,201,910,1003,31.000000000189999,499862.49720100709,2.4715726577556451E-3,82019]
["02030773","0203","0773",1012,203,"Newbury                      ",773,"Triton",7479573.7525953092,0.94089297071911915,7164327.8597879587,{"$f":"IF(K1024>0, K1021/K1024, 0)","v":0.95218078959033536},null,{"$f":"ROUND(M1024*L1021,0)","v":5910571},6170648,{"$f":"N1021-O1021","v":-260077},-4.2147437351798382,657.18934911079998,612.55277524446001,203,773,1012,612.55277524446001,7164327.8597879587,1012,203,773,1012,612.55277524446001,7164327.8597879587,null,null,null,null,null,null,null,null,null,null,null,null,null,null,null,null,null,null,null,null,null,null,null,null,null,null,null,null,null,null,null,null,null,null,null,null,null,null,null,null,null,null,null,null,null,null,null,null,null,null,null,null,null,null,null,null,null,null,null,null,null,null,null,null,null,203,773,1012,704.81151195529992,7446932.4057712611,0.93500634874726452,6143719]
["02030999","0203","0999",1015,203,"Newbury                      ",999,"Total",7949441.6318985922,1,{"$f":"SUM(K1020:K1023)","v":7524125.6052543623},{"$f":"SUM(L1020:L1023)","v":1},{"$f":"VLOOKUP(E1024,town351,24)","v":6207404},{"$f":"SUM(N1020:N1023)","v":6207404},6558289,{"$f":"SUM(P1020:P1023)","v":-350885},-5.3502521770541067,684.18934910479993,632.55277525029999,203,999,1015,632.55277525029999,7524125.6052543623,1015,203,999,1015,632.55277525029999,7524125.6052543623,null,null,null,null,null,null,null,null,null,null,null,null,null,null,null,null,null,null,null,null,null,null,null,null,null,null,null,null,null,null,null,null,null,null,null,null,null,null,null,null,null,null,null,null,null,null,null,null,null,null,null,null,null,null,null,null,null,null,null,null,null,null,null,null,null,203,999,1015,736.81151195543987,7964579.5087367827,1,6570778]
["02050765","0205","0765",1022,205,"New Marlborough              ",765,"Southern Berkshire",1700661.293946086,1,1456582.1085750572,{"$f":"IF(K1034>0, K1031/K1034, 0)","v":1},null,{"$f":"ROUND(M1034*L1031,0)","v":1201680},1290475,{"$f":"N1031-O1031","v":-88795},-6.880799705534784,145.02881844363,122.70348836960001,205,765,1022,122.70348836960001,1456582.1085750572,1022,205,765,1022,122.70348836960001,1456582.1085750572,null,null,null,null,null,null,null,null,null,null,null,null,null,null,null,null,null,null,null,null,null,null,null,null,null,null,null,null,null,null,null,null,null,null,null,null,null,null,null,null,null,null,null,null,null,null,null,null,null,null,null,null,null,null,null,null,null,null,null,null,null,null,null,null,null,205,765,1022,131.52798789619999,1431983.1043015721,1,1181386]
["02060818","0206","0818",1029,206,"New Salem                    ",818,"Franklin County",126870.99772561521,0.10675551451532481,155344.27649424921,{"$f":"IF(K1039>0, K1038/K1039, 0)","v":0.12192039230361093},null,{"$f":"ROUND(M1039*L1038,0)","v":94893},82456,{"$f":"N1038-O1038","v":12437},15.08319588629087,6.99999999965,8.9999999983600016,206,818,1029,8.9999999983600016,155344.27649424921,1029,206,818,1029,8.9999999983600016,155344.27649424921,null,null,null,null,null,null,null,null,null,null,null,null,null,null,null,null,null,null,null,null,null,null,null,null,null,null,null,null,null,null,null,null,null,null,null,null,null,null,null,null,null,null,null,null,null,null,null,null,null,null,null,null,null,null,null,null,null,null,null,null,null,null,null,null,null,206,818,1029,3.0000000004,50696.288011243807,3.7725911627524727E-2,28101]
["02070998","0207","0998",1033,207,"",998,"",0,0,0,{"$f":"IF(K1044>0, K1042/K1044, 0)","v":0},null,{"$f":"ROUND(M1044*L1042,0)","v":0},0,{"$f":"N1042-O1042","v":0},{"$f":"IF(O1042>0,P1042*100/O1042,IF(P1042>0,100,0))","v":0},0,0,207,998,1033,0,0,1033,207,998,1033,0,0,null,null,null,null,null,null,null,null,null,null,null,null,null,null,null,null,null,null,null,null,null,null,null,null,null,null,null,null,null,null,null,null,null,null,null,null,null,null,null,null,null,null,null,null,null,null,null,null,null,null,null,null,null,null,null,null,null,null,null,null,null,null,null,null,null,207,998,1033,0,0,0,0]
["02080999","0208","0999",1040,208,"Norfolk                      ",999,"Total",17781362.784510035,1,{"$f":"SUM(K1045:K1048)","v":18528297.177173197},{"$f":"SUM(L1045:L1048)","v":1},{"$f":"VLOOKUP(E1049,town351,24)","v":15207999},{"$f":"SUM(N1045:N1048)","v":15207999},14669624,{"$f":"SUM(P1045:P1048)","v":538375},3.6699986311850936,1667.99999999386,1679.3598348101002,208,999,1040,1679.3598348101002,18528297.177173197,1040,208,999,1040,1679.3598348101002,18528297.177173197,null,null,null,null,null,null,null,null,null,null,null,null,null,null,null,null,null,null,null,null,null,null,null,null,null,null,null,null,null,null,null,null,null,null,null,null,null,null,null,null,null,null,null,null,null,null,null,null,null,null,null,null,null,null,null,null,null,null,null,null,null,null,null,null,null,208,999,1040,1692.9999999981499,17051558.464975089,0.99999999999999989,14067536]
["02100998","0210","0998",1049,210,"",998,"",0,0,0,{"$f":"IF(K1059>0, K1058/K1059, 0)","v":0},null,{"$f":"ROUND(M1059*L1058,0)","v":0},0,{"$f":"N1058-O1058","v":0},0,0,0,210,998,1049,0,0,1049,210,998,1049,0,0,null,null,null,null,null,null,null,null,null,null,null,null,null,null,null,null,null,null,null,null,null,null,null,null,null,null,null,null,null,null,null,null,null,null,null,null,null,null,null,null,null,null,null,null,null,null,null,null,null,null,null,null,null,null,null,null,null,null,null,null,null,null,null,null,null,210,998,1049,0,0,0,0]
["02100999","0210","0999",1050,210,"Northampton                  ",999,"Total",33754193.43,1,{"$f":"SUM(K1055:K1058)","v":33704785.090000004},{"$f":"SUM(L1055:L1058)","v":1},{"$f":"VLOOKUP(E1059,town351,24)","v":27806448},{"$f":"SUM(N1055:N1058)","v":27806448},27847210,{"$f":"SUM(P1055:P1058)","v":-40762},-0.14637732110326312,2858,2772,210,999,1050,2772,33704785.090000004,1050,210,999,1050,2772,33704785.090000004,null,null,null,null,null,null,null,null,null,null,null,null,null,null,null,null,null,null,null,null,null,null,null,null,null,null,null,null,null,null,null,null,null,null,null,null,null,null,null,null,null,null,null,null,null,null,null,null,null,null,null,null,null,null,null,null,null,null,null,null,null,null,null,null,null,210,999,1050,2818,30968773.75,1,25549238]
["02120998","0212","0998",1059,212,"",998,"",0,0,0,{"$f":"IF(K1069>0, K1068/K1069, 0)","v":0},null,{"$f":"ROUND(M1069*L1068,0)","v":0},0,{"$f":"N1068-O1068","v":0},0,0,0,212,998,1059,0,0,1059,212,998,1059,0,0,null,null,null,null,null,null,null,null,null,null,null,null,null,null,null,null,null,null,null,null,null,null,null,null,null,null,null,null,null,null,null,null,null,null,null,null,null,null,null,null,null,null,null,null,null,null,null,null,null,null,null,null,null,null,null,null,null,null,null,null,null,null,null,null,null,212,998,1059,0,0,0,0]
["02140214","0214","0214",1066,214,"Northbridge                  ",214,"Northbridge",23651358.309999999,0.89585902617360103,{"$f":"X1075","v":24014322.349999998},{"$f":"IF(K1079>0, K1075/K1079, 0)","v":0.89392173292787258},null,{"$f":"ROUND(M1079*L1075,0)","v":12896464},12499433,{"$f":"N1075-O1075","v":397031},3.1763920811448005,2074,2023,214,214,1066,2023,24014322.349999998,1066,214,214,1066,2023,24014322.349999998,null,null,null,null,null,null,null,null,null,null,null,null,null,null,null,null,null,null,null,null,null,null,null,null,null,null,null,null,null,null,null,null,null,null,null,null,null,null,null,null,null,null,null,null,null,null,null,null,null,null,null,null,null,null,null,null,null,null,null,null,null,null,null,null,null,214,214,1066,2230,23583382.150000002,0.9023045849191863,11810469]
["02140998","0214","0998",1068,214,"",998,"",0,0,0,{"$f":"IF(K1079>0, K1077/K1079, 0)","v":0},null,{"$f":"ROUND(M1079*L1077,0)","v":0},0,{"$f":"N1077-O1077","v":0},0,0,0,214,998,1068,0,0,1068,214,998,1068,0,0,null,null,null,null,null,null,null,null,null,null,null,null,null,null,null,null,null,null,null,null,null,null,null,null,null,null,null,null,null,null,null,null,null,null,null,null,null,null,null,null,null,null,null,null,null,null,null,null,null,null,null,null,null,null,null,null,null,null,null,null,null,null,null,null,null,214,998,1068,0,0,0,0]
["02160750","0216","0750",1077,216,"Northfield                   ",750,"Pioneer",3501450.8545496203,0.87416767895175695,3331405.7671343083,{"$f":"IF(K1089>0, K1086/K1089, 0)","v":0.87383849867026397},null,{"$f":"ROUND(M1089*L1086,0)","v":2630412},2555341,{"$f":"N1086-O1086","v":75071},2.9378075176659397,310.78751857511998,284.16077170109997,216,750,1077,284.16077170109997,3331405.7671343083,1077,216,750,1077,284.16077170109997,3331405.7671343083,null,null,null,null,null,null,null,null,null,null,null,null,null,null,null,null,null,null,null,null,null,null,null,null,null,null,null,null,null,null,null,null,null,null,null,null,null,null,null,null,null,null,null,null,null,null,null,null,null,null,null,null,null,null,null,null,null,null,null,null,null,null,null,null,null,216,750,1077,333.10198300157998,3489624.0853268183,0.87315104502150853,2564886]
["02170998","0217","0998",1084,217,"",998,"",0,0,0,{"$f":"IF(K1094>0, K1093/K1094, 0)","v":0},null,{"$f":"ROUND(M1094*L1093,0)","v":0},0,{"$f":"N1093-O1093","v":0},0,0,0,217,998,1084,0,0,1084,217,998,1084,0,0,null,null,null,null,null,null,null,null,null,null,null,null,null,null,null,null,null,null,null,null,null,null,null,null,null,null,null,null,null,null,null,null,null,null,null,null,null,null,null,null,null,null,null,null,null,null,null,null,null,null,null,null,null,null,null,null,null,null,null,null,null,null,null,null,null,217,998,1084,0,0,0,0]
["02180872","0218","0872",1087,218,"Norton                       ",872,"Southeastern",1887620.9955468578,6.6299518570051785E-2,2112328.3936863211,{"$f":"IF(K1099>0, K1096/K1099, 0)","v":7.3962949037042397E-2},null,{"$f":"ROUND(M1099*L1096,0)","v":1517141},1311098,{"$f":"N1096-O1096","v":206043},15.715301220808819,106.13993399390002,110.20357803392,218,872,1087,110.20357803392,2112328.3936863211,1087,218,872,1087,110.20357803392,2112328.3936863211,null,null,null,null,null,null,null,null,null,null,null,null,null,null,null,null,null,null,null,null,null,null,null,null,null,null,null,null,null,null,null,null,null,null,null,null,null,null,null,null,null,null,null,null,null,null,null,null,null,null,null,null,null,null,null,null,null,null,null,null,null,null,null,null,null,218,872,1087,92.122096880489991,1548779.873458182,5.6654422192833467E-2,999283]
["02190873","0219","0873",1092,219,"Norwell                      ",873,"South Shore",358458.68425409723,1.5420405704913171E-2,423325.33612213557,{"$f":"IF(K1104>0, K1101/K1104, 0)","v":1.7833105643878945E-2},null,{"$f":"ROUND(M1104*L1101,0)","v":349243},295728,{"$f":"N1101-O1101","v":53515},18.096020667640534,20.110905730239999,23.000000000669999,219,873,1092,23.000000000669999,423325.33612213557,1092,219,873,1092,23.000000000669999,423325.33612213557,null,null,null,null,null,null,null,null,null,null,null,null,null,null,null,null,null,null,null,null,null,null,null,null,null,null,null,null,null,null,null,null,null,null,null,null,null,null,null,null,null,null,null,null,null,null,null,null,null,null,null,null,null,null,null,null,null,null,null,null,null,null,null,null,null,219,873,1092,16.000000001309999,268329.52977696125,1.2353976994315296E-2,221372]
["02200220","0220","0220",1096,220,"Norwood                      ",220,"Norwood",42697305.215410002,0.96226846352151485,{"$f":"X1105","v":43568844.49052},{"$f":"IF(K1109>0, K1105/K1109, 0)","v":0.95332846069307087},null,{"$f":"ROUND(M1109*L1105,0)","v":34544883},33534173,{"$f":"N1105-O1105","v":1010710},3.0139702565499378,3531,3494,220,220,1096,3494,43568844.49052,1096,220,220,1096,3494,43568844.49052,null,null,null,null,null,null,null,null,null,null,null,null,null,null,null,null,null,null,null,null,null,null,null,null,null,null,null,null,null,null,null,null,null,null,null,null,null,null,null,null,null,null,null,null,null,null,null,null,null,null,null,null,null,null,null,null,null,null,null,null,null,null,null,null,null,220,220,1096,3431,38062700.293799996,0.97178913273396095,31401727]
["02210999","0221","0999",1105,221,"Oak Bluffs                   ",999,"Total",7983539.389268619,1,{"$f":"SUM(K1110:K1113)","v":8427572.8587157428},{"$f":"SUM(L1110:L1113)","v":0.99999999999999989},{"$f":"VLOOKUP(E1114,town351,24)","v":6531247},{"$f":"SUM(N1110:N1113)","v":6531247},6276424,{"$f":"SUM(P1110:P1113)","v":254823},4.0600029570978631,644.00000000189993,645.00000000295006,221,999,1105,645.00000000295006,8427572.8587157428,1105,221,999,1105,645.00000000295006,8427572.8587157428,null,null,null,null,null,null,null,null,null,null,null,null,null,null,null,null,null,null,null,null,null,null,null,null,null,null,null,null,null,null,null,null,null,null,null,null,null,null,null,null,null,null,null,null,null,null,null,null,null,null,null,null,null,null,null,null,null,null,null,null,null,null,null,null,null,221,999,1105,606.00000000124999,6928362.1297940891,0.99999999999999989,5715899]
["02220860","0222","0860",1108,222,"Oakham                       ",860,"Pathfinder",217668.88354891486,7.2137708818871077E-2,187247.52082453191,{"$f":"IF(K1119>0, K1117/K1119, 0)","v":6.0249327855563889E-2},null,{"$f":"ROUND(M1119*L1117,0)","v":102800},118865,{"$f":"N1117-O1117","v":-16065},-13.515332520085812,11.99999999726,9.9999999983400016,222,860,1108,9.9999999983400016,187247.52082453191,1108,222,860,1108,9.9999999983400016,187247.52082453191,null,null,null,null,null,null,null,null,null,null,null,null,null,null,null,null,null,null,null,null,null,null,null,null,null,null,null,null,null,null,null,null,null,null,null,null,null,null,null,null,null,null,null,null,null,null,null,null,null,null,null,null,null,null,null,null,null,null,null,null,null,null,null,null,null,222,860,1108,16.000000000410001,270157.60419540445,9.2508224529709374E-2,154959]
["02230999","0223","0999",1115,223,"Orange                       ",999,"Total",14508684.912251147,1,{"$f":"SUM(K1120:K1123)","v":14299377.94781309},{"$f":"SUM(L1120:L1123)","v":1.0000000000000002},{"$f":"VLOOKUP(E1124,town351,24)","v":4176127},{"$f":"SUM(N1120:N1123)","v":4176126},4049774,{"$f":"SUM(P1120:P1123)","v":126352},3.1199765715321397,1140.54943274062,1074.5270935978501,223,999,1115,1074.5270935978501,14299377.94781309,1115,223,999,1115,1074.5270935978501,14299377.94781309,null,null,null,null,null,null,null,null,null,null,null,null,null,null,null,null,null,null,null,null,null,null,null,null,null,null,null,null,null,null,null,null,null,null,null,null,null,null,null,null,null,null,null,null,null,null,null,null,null,null,null,null,null,null,null,null,null,null,null,null,null,null,null,null,null,223,999,1115,1164.9999999967999,13880109.468562521,1,3792229]
["02250998","0225","0998",1124,225,"",998,"",0,0,0,{"$f":"IF(K1134>0, K1133/K1134, 0)","v":0},null,{"$f":"ROUND(M1134*L1133,0)","v":0},0,{"$f":"N1133-O1133","v":0},0,0,0,225,998,1124,0,0,1124,225,998,1124,0,0,null,null,null,null,null,null,null,null,null,null,null,null,null,null,null,null,null,null,null,null,null,null,null,null,null,null,null,null,null,null,null,null,null,null,null,null,null,null,null,null,null,null,null,null,null,null,null,null,null,null,null,null,null,null,null,null,null,null,null,null,null,null,null,null,null,225,998,1124,0,0,0,0]
["02260999","0226","0999",1130,226,"Oxford                       ",999,"Total",21381493.820103489,1,{"$f":"SUM(K1135:K1138)","v":21000348.02417133},{"$f":"SUM(L1135:L1138)","v":0.99999999999999989},{"$f":"VLOOKUP(E1139,town351,24)","v":11371047},{"$f":"SUM(N1135:N1138)","v":11371047},11031283,{"$f":"SUM(P1135:P1138)","v":339764},3.0800043838962341,1783.9999999951301,1697.000000004,226,999,1130,1697.000000004,21000348.02417133,1130,226,999,1130,1697.000000004,21000348.02417133,null,null,null,null,null,null,null,null,null,null,null,null,null,null,null,null,null,null,null,null,null,null,null,null,null,null,null,null,null,null,null,null,null,null,null,null,null,null,null,null,null,null,null,null,null,null,null,null,null,null,null,null,null,null,null,null,null,null,null,null,null,null,null,null,null,226,999,1130,1933.9999999950001,21794119.527710199,0.99999999999999989,10766387]
["02270998","0227","0998",1133,227,"",998,"",0,0,0,{"$f":"IF(K1144>0, K1142/K1144, 0)","v":0},null,{"$f":"ROUND(M1144*L1142,0)","v":0},0,{"$f":"N1142-O1142","v":0},0,0,0,227,998,1133,0,0,1133,227,998,1133,0,0,null,null,null,null,null,null,null,null,null,null,null,null,null,null,null,null,null,null,null,null,null,null,null,null,null,null,null,null,null,null,null,null,null,null,null,null,null,null,null,null,null,null,null,null,null,null,null,null,null,null,null,null,null,null,null,null,null,null,null,null,null,null,null,null,null,227,998,1133,0,0,0,0]
["02290817","0229","0817",1142,229,"Peabody                      ",817,"Essex North Shore",5111908.7676184755,6.6043539971413379E-2,5560859.2811554894,{"$f":"IF(K1154>0, K1151/K1154, 0)","v":7.0009994827084684E-2},null,{"$f":"ROUND(M1154*L1151,0)","v":3833728},3545267,{"$f":"N1151-O1151","v":288461},8.1365098876896997,299.00000000580002,307.00000000250003,229,817,1142,307.00000000250003,5560859.2811554894,1142,229,817,1142,307.00000000250003,5560859.2811554894,null,null,null,null,null,null,null,null,null,null,null,null,null,null,null,null,null,null,null,null,null,null,null,null,null,null,null,null,null,null,null,null,null,null,null,null,null,null,null,null,null,null,null,null,null,null,null,null,null,null,null,null,null,null,null,null,null,null,null,null,null,null,null,null,null,229,817,1142,285.99999999795,4634726.2840215741,6.6381887636032991E-2,3325535]
["02290998","0229","0998",1143,229,"",998,"",0,0,0,{"$f":"IF(K1154>0, K1152/K1154, 0)","v":0},null,{"$f":"ROUND(M1154*L1152,0)","v":0},0,{"$f":"N1152-O1152","v":0},0,0,0,229,998,1143,0,0,1143,229,998,1143,0,0,null,null,null,null,null,null,null,null,null,null,null,null,null,null,null,null,null,null,null,null,null,null,null,null,null,null,null,null,null,null,null,null,null,null,null,null,null,null,null,null,null,null,null,null,null,null,null,null,null,null,null,null,null,null,null,null,null,null,null,null,null,null,null,null,null,229,998,1143,0,0,0,0]
["02310998","0231","0998",1152,231,"",998,"",0,0,0,{"$f":"IF(K1164>0, K1161/K1164, 0)","v":0},null,{"$f":"ROUND(M1164*L1161,0)","v":0},0,{"$f":"N1161-O1161","v":0},0,0,0,231,998,1152,0,0,1152,231,998,1152,0,0,null,null,null,null,null,null,null,null,null,null,null,null,null,null,null,null,null,null,null,null,null,null,null,null,null,null,null,null,null,null,null,null,null,null,null,null,null,null,null,null,null,null,null,null,null,null,null,null,null,null,null,null,null,null,null,null,null,null,null,null,null,null,null,null,null,231,998,1152,0,0,0,0]
["02310999","0231","0999",1155,231,"Pembroke                     ",999,"Total",31797805.646810003,1,{"$f":"SUM(K1160:K1163)","v":31524469.692919996},{"$f":"SUM(L1160:L1163)","v":1},{"$f":"VLOOKUP(E1164,town351,24)","v":21759351},{"$f":"SUM(N1160:N1163)","v":21759351},21249366,{"$f":"SUM(P1160:P1163)","v":509985},2.4000010165009158,2854,2740,231,999,1155,2740,31524469.692919996,1155,231,999,1155,2740,31524469.692919996,null,null,null,null,null,null,null,null,null,null,null,null,null,null,null,null,null,null,null,null,null,null,null,null,null,null,null,null,null,null,null,null,null,null,null,null,null,null,null,null,null,null,null,null,null,null,null,null,null,null,null,null,null,null,null,null,null,null,null,null,null,null,null,null,null,231,999,1155,2902,30098844.630960006,1,19889115]
["02330233","0233","0233",1161,233,"Peru                         ",233,"Peru",117262.39999999999,0.1009290017587763,{"$f":"X1170","v":134486.55000000002},{"$f":"IF(K1174>0, K1170/K1174, 0)","v":0.11221430647088178},null,{"$f":"ROUND(M1174*L1170,0)","v":64404},58074,{"$f":"N1170-O1170","v":6330},10.899886351895857,8,9,233,233,1161,9,134486.55000000002,1161,233,233,1161,9,134486.55000000002,null,null,null,null,null,null,null,null,null,null,null,null,null,null,null,null,null,null,null,null,null,null,null,null,null,null,null,null,null,null,null,null,null,null,null,null,null,null,null,null,null,null,null,null,null,null,null,null,null,null,null,null,null,null,null,null,null,null,null,null,null,null,null,null,null,233,233,1161,8,110697.28,9.1684077623400431E-2,49777]
["02340999","0234","0999",1170,234,"Petersham                    ",999,"Total",1670952.2751829268,0.99999999999999989,{"$f":"SUM(K1175:K1178)","v":1706902.1310415093},{"$f":"SUM(L1175:L1178)","v":1},{"$f":"VLOOKUP(E1179,town351,24)","v":1166533},{"$f":"SUM(N1175:N1178)","v":1166533},1147695,{"$f":"SUM(P1175:P1178)","v":18838},1.6413768466360836,136.17504052417999,129.18719211049,234,999,1170,129.18719211049,1706902.1310415093,1170,234,999,1170,129.18719211049,1706902.1310415093,null,null,null,null,null,null,null,null,null,null,null,null,null,null,null,null,null,null,null,null,null,null,null,null,null,null,null,null,null,null,null,null,null,null,null,null,null,null,null,null,null,null,null,null,null,null,null,null,null,null,null,null,null,null,null,null,null,null,null,null,null,null,null,null,null,234,999,1170,127.00201884431,1474030.2003364211,1,1109958]
["02360998","0236","0998",1177,236,"",998,"",0,0,0,{"$f":"IF(K1189>0, K1186/K1189, 0)","v":0},null,{"$f":"ROUND(M1189*L1186,0)","v":0},0,{"$f":"N1186-O1186","v":0},0,0,0,236,998,1177,0,0,1177,236,998,1177,0,0,null,null,null,null,null,null,null,null,null,null,null,null,null,null,null,null,null,null,null,null,null,null,null,null,null,null,null,null,null,null,null,null,null,null,null,null,null,null,null,null,null,null,null,null,null,null,null,null,null,null,null,null,null,null,null,null,null,null,null,null,null,null,null,null,null,236,998,1177,0,0,0,0]
["02360999","0236","0999",1180,236,"Pittsfield                   ",999,"Total",76463876.149999991,1,{"$f":"SUM(K1185:K1188)","v":78783436.899999991},{"$f":"SUM(L1185:L1188)","v":1},{"$f":"VLOOKUP(E1189,town351,24)","v":29449820},{"$f":"SUM(N1185:N1188)","v":29449820},28300807,{"$f":"SUM(P1185:P1188)","v":1149013},4.0600008331917881,5920,5707,236,999,1180,5707,78783436.899999991,1180,236,999,1180,5707,78783436.899999991,null,null,null,null,null,null,null,null,null,null,null,null,null,null,null,null,null,null,null,null,null,null,null,null,null,null,null,null,null,null,null,null,null,null,null,null,null,null,null,null,null,null,null,null,null,null,null,null,null,null,null,null,null,null,null,null,null,null,null,null,null,null,null,null,null,236,999,1180,6009,70785982.700000003,1,28120602]
["02380915","0238","0915",1189,238,"Plainville                   ",915,"Norfolk County",125734.8124857037,8.2746924431235623E-3,148317.09311288895,{"$f":"IF(K1199>0, K1198/K1199, 0)","v":9.8608491785307749E-3},null,{"$f":"ROUND(M1199*L1198,0)","v":109944},90771,{"$f":"N1198-O1198","v":19173},21.12238490266715,7.0000000012400001,7.9999999987199999,238,915,1189,7.9999999987199999,148317.09311288895,1189,238,915,1189,7.9999999987199999,148317.09311288895,null,null,null,null,null,null,null,null,null,null,null,null,null,null,null,null,null,null,null,null,null,null,null,null,null,null,null,null,null,null,null,null,null,null,null,null,null,null,null,null,null,null,null,null,null,null,null,null,null,null,null,null,null,null,null,null,null,null,null,null,null,null,null,null,null,238,915,1189,8.9999999997500009,153794.41543974928,1.0782357720713029E-2,109308]
["02390998","0239","0998",1193,239,"",998,"",0,0,0,{"$f":"IF(K1204>0, K1202/K1204, 0)","v":0},null,{"$f":"ROUND(M1204*L1202,0)","v":0},0,{"$f":"N1202-O1202","v":0},0,0,0,239,998,1193,0,0,1193,239,998,1193,0,0,null,null,null,null,null,null,null,null,null,null,null,null,null,null,null,null,null,null,null,null,null,null,null,null,null,null,null,null,null,null,null,null,null,null,null,null,null,null,null,null,null,null,null,null,null,null,null,null,null,null,null,null,null,null,null,null,null,null,null,null,null,null,null,null,null,239,998,1193,0,0,0,0]
["02400998","0240","0998",1198,240,"",998,"",0,0,0,{"$f":"IF(K1209>0, K1207/K1209, 0)","v":0},null,{"$f":"ROUND(M1209*L1207,0)","v":0},0,{"$f":"N1207-O1207","v":0},0,0,0,240,998,1198,0,0,1198,240,998,1198,0,0,null,null,null,null,null,null,null,null,null,null,null,null,null,null,null,null,null,null,null,null,null,null,null,null,null,null,null,null,null,null,null,null,null,null,null,null,null,null,null,null,null,null,null,null,null,null,null,null,null,null,null,null,null,null,null,null,null,null,null,null,null,null,null,null,null,240,998,1198,0,0,0,0]
["02410999","0241","0999",1205,241,"Princeton                    ",999,"Total",4942195.6638710462,1,{"$f":"SUM(K1210:K1213)","v":4929978.6602420667},{"$f":"SUM(L1210:L1213)","v":0.99999999999999989},{"$f":"VLOOKUP(E1214,town351,24)","v":4067232},{"$f":"SUM(N1210:N1213)","v":4067232},4077311,{"$f":"SUM(P1210:P1213)","v":-10079},-0.24719723366699278,451.70838049325999,435.49326227560999,241,999,1205,435.49326227560999,4929978.6602420667,1205,241,999,1205,435.49326227560999,4929978.6602420667,null,null,null,null,null,null,null,null,null,null,null,null,null,null,null,null,null,null,null,null,null,null,null,null,null,null,null,null,null,null,null,null,null,null,null,null,null,null,null,null,null,null,null,null,null,null,null,null,null,null,null,null,null,null,null,null,null,null,null,null,null,null,null,null,null,241,999,1205,462.83334301445996,4720162.3667393876,1,3794852]
["02420998","0242","0998",1208,242,"",998,"",0,0,0,{"$f":"IF(K1219>0, K1217/K1219, 0)","v":0},null,{"$f":"ROUND(M1219*L1217,0)","v":0},0,{"$f":"N1217-O1217","v":0},0,0,0,242,998,1208,0,0,1208,242,998,1208,0,0,null,null,null,null,null,null,null,null,null,null,null,null,null,null,null,null,null,null,null,null,null,null,null,null,null,null,null,null,null,null,null,null,null,null,null,null,null,null,null,null,null,null,null,null,null,null,null,null,null,null,null,null,null,null,null,null,null,null,null,null,null,null,null,null,null,242,998,1208,0,0,0,0]
[{"$f":"B1226&C1226","v":"02440806"},"0244","0806",1217,244,"Randolph                     ",806,"Blue Hills",5090023.5527174883,0.10662436272402974,5415530.3758436209,{"$f":"IF(K1229>0, K1226/K1229, 0)","v":0.10790657388803887},null,{"$f":"ROUND(M1229*L1226,0)","v":2925685},2815465,{"$f":"N1226-O1226","v":110220},3.9148062575808971,279.00000000235002,285.99999999872,{"$f":"VLOOKUP($D1226, foundoptions, VLOOKUP($T$6, foundoptcell, 2, FALSE), FALSE)","v":244},{"$f":"VLOOKUP($D1226, foundoptions, VLOOKUP($T$6, foundoptcell, 2, FALSE)+1, FALSE)","v":806},{"$f":"VLOOKUP($D1226, foundoptions, VLOOKUP($T$6, foundoptcell, 2, FALSE)+2, FALSE)","v":1217},{"$f":"VLOOKUP($D1226, foundoptions, VLOOKUP($T$6, foundoptcell, 2, FALSE)+3, FALSE)","v":285.99999999872},{"$f":"VLOOKUP($D1226, foundoptions, VLOOKUP($T$6, foundoptcell, 2, FALSE)+4, FALSE)","v":5415530.3758436209},1217,244,806,1217,285.99999999872,5415530.3758436209,null,null,null,null,null,null,null,null,null,null,null,null,null,null,null,null,null,null,null,null,null,null,null,null,null,null,null,null,null,null,null,null,null,null,null,null,null,null,null,null,null,null,null,null,null,null,null,null,null,null,null,null,null,null,null,null,null,null,null,null,null,null,null,null,null,244,806,1217,269.99999999796,4584912.6482518008,0.10391819644049996,2550216]
["02440998","0244","0998",1219,244,"",998,"",0,0,0,{"$f":"IF(K1229>0, K1228/K1229, 0)","v":0},null,{"$f":"ROUND(M1229*L1228,0)","v":0},0,{"$f":"N1228-O1228","v":0},0,0,0,244,998,1219,0,0,1219,244,998,1219,0,0,null,null,null,null,null,null,null,null,null,null,null,null,null,null,null,null,null,null,null,null,null,null,null,null,null,null,null,null,null,null,null,null,null,null,null,null,null,null,null,null,null,null,null,null,null,null,null,null,null,null,null,null,null,null,null,null,null,null,null,null,null,null,null,null,null,244,998,1219,0,0,0,0]
["02460246","0246","0246",1226,246,"Reading                      ",246,"Reading",42488891.059600003,0.98865091329874255,{"$f":"X1235","v":42185788.899420001},{"$f":"IF(K1239>0, K1235/K1239, 0)","v":0.98463777308278},null,{"$f":"ROUND(M1239*L1235,0)","v":34803276},35053335,{"$f":"N1235-O1235","v":-250059},-0.71336721598672426,3975,3835,246,246,1226,3835,42185788.899420001,1226,246,246,1226,3835,42185788.899420001,null,null,null,null,null,null,null,null,null,null,null,null,null,null,null,null,null,null,null,null,null,null,null,null,null,null,null,null,null,null,null,null,null,null,null,null,null,null,null,null,null,null,null,null,null,null,null,null,null,null,null,null,null,null,null,null,null,null,null,null,null,null,null,null,null,246,246,1226,4077,40642299.144709997,0.99143613903203631,33529896]
["02470999","0247","0999",1235,247,"Rehoboth                     ",999,"Total",19389607.084840715,1,{"$f":"SUM(K1240:K1243)","v":18630428.060059886},{"$f":"SUM(L1240:L1243)","v":0.99999999999999989},{"$f":"VLOOKUP(E1244,town351,24)","v":15370103},{"$f":"SUM(N1240:N1243)","v":15370102},14760789,{"$f":"SUM(P1240:P1243)","v":609313},4.1279161974336196,1711.7804766160998,1586.6131754232802,247,999,1235,1586.6131754232802,18630428.060059886,1235,247,999,1235,1586.6131754232802,18630428.060059886,null,null,null,null,null,null,null,null,null,null,null,null,null,null,null,null,null,null,null,null,null,null,null,null,null,null,null,null,null,null,null,null,null,null,null,null,null,null,null,null,null,null,null,null,null,null,null,null,null,null,null,null,null,null,null,null,null,null,null,null,null,null,null,null,null,247,999,1235,1729.4955029514099,18427784.595025487,1,13731596]
["02480248","0248","0248",1236,248,"Revere                       ",248,"Revere",107222329.50896001,0.95569039808097234,{"$f":"X1245","v":118591270.69321999},{"$f":"IF(K1249>0, K1245/K1249, 0)","v":0.9599610668745443},null,{"$f":"ROUND(M1249*L1245,0)","v":38450529},36927909,{"$f":"N1245-O1245","v":1522620},4.12322289897324,7979,7766,248,248,1236,7766,118591270.69321999,1236,248,248,1236,7766,118591270.69321999,null,null,null,null,null,null,null,null,null,null,null,null,null,null,null,null,null,null,null,null,null,null,null,null,null,null,null,null,null,null,null,null,null,null,null,null,null,null,null,null,null,null,null,null,null,null,null,null,null,null,null,null,null,null,null,null,null,null,null,null,null,null,null,null,null,248,248,1236,7848,96064542.993500009,0.95631512980617406,32918306]
["02490999","0249","0999",1245,249,"Richmond                     ",999,"Total",1449827.3,1,{"$f":"SUM(K1250:K1253)","v":1292054.5900000001},{"$f":"SUM(L1250:L1253)","v":1},{"$f":"VLOOKUP(E1254,town351,24)","v":1065945},{"$f":"SUM(N1250:N1253)","v":1065945},1196108,{"$f":"SUM(P1250:P1253)","v":-130163},-10.882211305333632,125,112,249,999,1245,112,1292054.5900000001,1245,249,999,1245,112,1292054.5900000001,null,null,null,null,null,null,null,null,null,null,null,null,null,null,null,null,null,null,null,null,null,null,null,null,null,null,null,null,null,null,null,null,null,null,null,null,null,null,null,null,null,null,null,null,null,null,null,null,null,null,null,null,null,null,null,null,null,null,null,null,null,null,null,null,null,249,999,1245,119,1277797.2200000002,1,1054183]
["02500999","0250","0999",1250,250,"Rochester                    ",999,"Total",10877680.006947547,0.99999999999999989,{"$f":"SUM(K1255:K1258)","v":10567878.75338883},{"$f":"SUM(L1255:L1258)","v":1},{"$f":"VLOOKUP(E1259,town351,24)","v":7090763},{"$f":"SUM(N1255:N1258)","v":7090763},6831179,{"$f":"SUM(P1255:P1258)","v":259584},3.7999882597132939,965.68877347764999,907.00000000619991,250,999,1250,907.00000000619991,10567878.75338883,1250,250,999,1250,907.00000000619991,10567878.75338883,null,null,null,null,null,null,null,null,null,null,null,null,null,null,null,null,null,null,null,null,null,null,null,null,null,null,null,null,null,null,null,null,null,null,null,null,null,null,null,null,null,null,null,null,null,null,null,null,null,null,null,null,null,null,null,null,null,null,null,null,null,null,null,null,null,250,999,1250,986.00000000598004,10322153.016662948,1,6323209]
["02510998","0251","0998",1254,251,"",998,"",0,0,0,{"$f":"IF(K1264>0, K1263/K1264, 0)","v":0},null,{"$f":"ROUND(M1264*L1263,0)","v":0},0,{"$f":"N1263-O1263","v":0},0,0,0,251,998,1254,0,0,1254,251,998,1254,0,0,null,null,null,null,null,null,null,null,null,null,null,null,null,null,null,null,null,null,null,null,null,null,null,null,null,null,null,null,null,null,null,null,null,null,null,null,null,null,null,null,null,null,null,null,null,null,null,null,null,null,null,null,null,null,null,null,null,null,null,null,null,null,null,null,null,251,998,1254,0,0,0,0]
["02530998","0253","0998",1263,253,"",998,"",0,0,0,{"$f":"IF(K1274>0, K1272/K1274, 0)","v":0},null,{"$f":"ROUND(M1274*L1272,0)","v":0},0,{"$f":"N1272-O1272","v":0},0,0,0,253,998,1263,0,0,1263,253,998,1263,0,0,null,null,null,null,null,null,null,null,null,null,null,null,null,null,null,null,null,null,null,null,null,null,null,null,null,null,null,null,null,null,null,null,null,null,null,null,null,null,null,null,null,null,null,null,null,null,null,null,null,null,null,null,null,null,null,null,null,null,null,null,null,null,null,null,null,253,998,1263,0,0,0,0]
["02540999","0254","0999",1270,254,"Rowley                       ",999,"Total",8858115.2764928173,1,{"$f":"SUM(K1275:K1278)","v":8199841.1701651346},{"$f":"SUM(L1275:L1278)","v":1},{"$f":"VLOOKUP(E1279,town351,24)","v":6764869},{"$f":"SUM(N1275:N1278)","v":6764870},7307945,{"$f":"SUM(P1275:P1278)","v":-543075},-7.4312956651972613,762.71597632780004,687.90536851903994,254,999,1270,687.90536851903994,8199841.1701651346,1270,254,999,1270,687.90536851903994,8199841.1701651346,null,null,null,null,null,null,null,null,null,null,null,null,null,null,null,null,null,null,null,null,null,null,null,null,null,null,null,null,null,null,null,null,null,null,null,null,null,null,null,null,null,null,null,null,null,null,null,null,null,null,null,null,null,null,null,null,null,null,null,null,null,null,null,null,null,254,999,1270,809.38913660330002,8688419.6238105074,1.0000000000000002,7167946]
["02550832","0255","0832",1273,255,"Royalston                    ",832,"Montachusett",224472.24698959643,0.12460355442793028,212256.18945056942,{"$f":"IF(K1284>0, K1282/K1284, 0)","v":0.12225077711268528},null,{"$f":"ROUND(M1284*L1282,0)","v":78481},75585,{"$f":"N1282-O1282","v":2896},3.8314480386320038,12.999999992699999,11.999999997959998,255,832,1273,11.999999997959998,212256.18945056942,1273,255,832,1273,11.999999997959998,212256.18945056942,null,null,null,null,null,null,null,null,null,null,null,null,null,null,null,null,null,null,null,null,null,null,null,null,null,null,null,null,null,null,null,null,null,null,null,null,null,null,null,null,null,null,null,null,null,null,null,null,null,null,null,null,null,null,null,null,null,null,null,null,null,null,null,null,null,255,832,1273,18.012113052660002,292105.57332384272,0.19275077262778667,107412]
["02570775","0257","0775",1282,257,"Rutland                      ",775,"Wachusett",16777754.262218516,0.9505035926034423,16548371.930319708,{"$f":"IF(K1294>0, K1291/K1294, 0)","v":0.93737537083411637},null,{"$f":"ROUND(M1294*L1291,0)","v":7671887},7592895,{"$f":"N1291-O1291","v":78992},1.0403410030034657,1594.37684029506,{"$f":"W1291","v":1524.3358507350401},257,775,1282,1524.3358507350401,16548371.930319708,{"$f":"D1291","v":1282},257,775,1282,1524.3358507350401,16548371.930319708,null,null,null,null,null,null,null,null,null,null,null,null,null,null,null,null,null,null,null,null,null,null,null,null,null,null,null,null,null,null,null,null,null,null,null,null,null,null,null,null,null,null,null,null,null,null,null,null,null,null,null,null,null,null,null,null,null,null,null,null,null,null,null,null,null,257,775,1282,1608.6727602666899,15875996.597459069,0.96167914409512656,6967469]
["02580817","0258","0817",1287,258,"Salem                        ",817,"Essex North Shore",3162886.6955864155,5.0521273950387136E-2,3622709.6293334155,{"$f":"IF(K1299>0, K1296/K1299, 0)","v":5.7189971613212355E-2},null,{"$f":"ROUND(M1299*L1296,0)","v":2240347},1902989,{"$f":"N1296-O1296","v":337358},{"$f":"IF(O1296>0,P1296*100/O1296,IF(P1296>0,100,0))","v":17.727795588939294},184.99999999790001,199.999999997,258,817,1287,199.999999997,3622709.6293334155,1287,258,817,1287,199.999999997,3622709.6293334155,null,null,null,null,null,null,null,null,null,null,null,null,null,null,null,null,null,null,null,null,null,null,null,null,null,null,null,null,null,null,null,null,null,null,null,null,null,null,null,null,null,null,null,null,null,null,null,null,null,null,null,null,null,null,null,null,null,null,null,null,null,null,null,null,null,258,817,1287,183.99999999959999,2981781.944979819,5.1548736933793374E-2,1824759]
["02590259","0259","0259",1291,259,"Salisbury                    ",259,"Salisbury",29315.599999999999,2.7149501391535522E-3,{"$f":"X1300","v":29885.9},{"$f":"IF(K1304>0, K1300/K1304, 0)","v":2.8118844905068358E-3},null,{"$f":"ROUND(M1304*L1300,0)","v":24656},24185,{"$f":"N1300-O1300","v":471},1.9474881124664047,2,2,259,259,1291,2,29885.9,1291,259,259,1291,2,29885.9,null,null,null,null,null,null,null,null,null,null,null,null,null,null,null,null,null,null,null,null,null,null,null,null,null,null,null,null,null,null,null,null,null,null,null,null,null,null,null,null,null,null,null,null,null,null,null,null,null,null,null,null,null,null,null,null,null,null,null,null,null,null,null,null,null,259,259,1291,5,69185.8,6.8439606095900534E-3,57078]
["02600998","0260","0998",1298,260,"",998,"",0,0,0,{"$f":"IF(K1309>0, K1307/K1309, 0)","v":0},null,{"$f":"ROUND(M1309*L1307,0)","v":0},0,{"$f":"N1307-O1307","v":0},0,0,0,260,998,1298,0,0,1298,260,998,1298,0,0,null,null,null,null,null,null,null,null,null,null,null,null,null,null,null,null,null,null,null,null,null,null,null,null,null,null,null,null,null,null,null,null,null,null,null,null,null,null,null,null,null,null,null,null,null,null,null,null,null,null,null,null,null,null,null,null,null,null,null,null,null,null,null,null,null,260,998,1298,0,0,0,0]
["02610261","0261","0261",1301,261,"Sandwich                     ",261,"Sandwich",28550950.060000002,0.9347621823271608,{"$f":"X1310","v":27596949.41},{"$f":"IF(K1314>0, K1310/K1314, 0)","v":0.92173193700701073},null,{"$f":"ROUND(M1314*L1310,0)","v":22767483},23554534,{"$f":"N1310-O1310","v":-787051},-3.3413991548293844,2644,2480,261,261,1301,2480,27596949.41,1301,261,261,1301,2480,27596949.41,null,null,null,null,null,null,null,null,null,null,null,null,null,null,null,null,null,null,null,null,null,null,null,null,null,null,null,null,null,null,null,null,null,null,null,null,null,null,null,null,null,null,null,null,null,null,null,null,null,null,null,null,null,null,null,null,null,null,null,null,null,null,null,null,null,261,261,1301,2740,27742486.25,0.92849118543875597,22887551]
["02620999","0262","0999",1310,262,"Saugus                       ",999,"Total",36409128.570868701,1,{"$f":"SUM(K1315:K1318)","v":35156082.189210109},{"$f":"SUM(L1315:L1318)","v":0.99999999999999989},{"$f":"VLOOKUP(E1319,town351,24)","v":29003768},{"$f":"SUM(N1315:N1318)","v":29003768},29507720,{"$f":"SUM(P1315:P1318)","v":-503952},-1.707864924840008,2977.0000000062901,2781.9999999956299,262,999,1310,2781.9999999956299,35156082.189210109,1310,262,999,1310,2781.9999999956299,35156082.189210109,null,null,null,null,null,null,null,null,null,null,null,null,null,null,null,null,null,null,null,null,null,null,null,null,null,null,null,null,null,null,null,null,null,null,null,null,null,null,null,null,null,null,null,null,null,null,null,null,null,null,null,null,null,null,null,null,null,null,null,null,null,null,null,null,null,262,999,1310,2899.9999999941601,32630788.26782953,1,26871755]
["02630998","0263","0998",1313,263,"",998,"",0,0,0,{"$f":"IF(K1324>0, K1322/K1324, 0)","v":0},null,{"$f":"ROUND(M1324*L1322,0)","v":0},0,{"$f":"N1322-O1322","v":0},0,0,0,263,998,1313,0,0,1313,263,998,1313,0,0,null,null,null,null,null,null,null,null,null,null,null,null,null,null,null,null,null,null,null,null,null,null,null,null,null,null,null,null,null,null,null,null,null,null,null,null,null,null,null,null,null,null,null,null,null,null,null,null,null,null,null,null,null,null,null,null,null,null,null,null,null,null,null,null,null,263,998,1313,0,0,0,0]
["02640998","0264","0998",1319,264,"",998,"",0,0,0,{"$f":"IF(K1329>0, K1328/K1329, 0)","v":0},null,{"$f":"ROUND(M1329*L1328,0)","v":0},0,{"$f":"N1328-O1328","v":0},0,0,0,264,998,1319,0,0,1319,264,998,1319,0,0,null,null,null,null,null,null,null,null,null,null,null,null,null,null,null,null,null,null,null,null,null,null,null,null,null,null,null,null,null,null,null,null,null,null,null,null,null,null,null,null,null,null,null,null,null,null,null,null,null,null,null,null,null,null,null,null,null,null,null,null,null,null,null,null,null,264,998,1319,0,0,0,0]
["02660266","0266","0266",1326,266,"Sharon                       ",266,"Sharon",38206192.104400009,0.99211479935666225,{"$f":"X1335","v":38555018.653469995},{"$f":"IF(K1339>0, K1335/K1339, 0)","v":0.99022125294972052},null,{"$f":"ROUND(M1339*L1335,0)","v":30922251},30736571,{"$f":"N1335-O1335","v":185680},0.60410121870783828,3535,3471,266,266,1326,3471,38555018.653469995,1326,266,266,1326,3471,38555018.653469995,null,null,null,null,null,null,null,null,null,null,null,null,null,null,null,null,null,null,null,null,null,null,null,null,null,null,null,null,null,null,null,null,null,null,null,null,null,null,null,null,null,null,null,null,null,null,null,null,null,null,null,null,null,null,null,null,null,null,null,null,null,null,null,null,null,266,266,1326,3458,34930860.248220004,0.99042472858719222,28416519]
["02660998","0266","0998",1329,266,"",998,"",0,0,0,{"$f":"IF(K1339>0, K1338/K1339, 0)","v":0},null,{"$f":"ROUND(M1339*L1338,0)","v":0},0,{"$f":"N1338-O1338","v":0},0,0,0,266,998,1329,0,0,1329,266,998,1329,0,0,null,null,null,null,null,null,null,null,null,null,null,null,null,null,null,null,null,null,null,null,null,null,null,null,null,null,null,null,null,null,null,null,null,null,null,null,null,null,null,null,null,null,null,null,null,null,null,null,null,null,null,null,null,null,null,null,null,null,null,null,null,null,null,null,null,266,998,1329,0,0,0,0]
["02680818","0268","0818",1338,268,"Shelburne                    ",818,"Franklin County",253741.99545123041,0.11779965322802062,293428.07789389073,{"$f":"IF(K1349>0, K1347/K1349, 0)","v":0.13556846318486312},null,{"$f":"ROUND(M1349*L1347,0)","v":211548},174089,{"$f":"N1347-O1347","v":37459},21.517155018410122,13.9999999993,17.00000000104,268,818,1338,17.00000000104,293428.07789389073,1338,268,818,1338,17.00000000104,293428.07789389073,null,null,null,null,null,null,null,null,null,null,null,null,null,null,null,null,null,null,null,null,null,null,null,null,null,null,null,null,null,null,null,null,null,null,null,null,null,null,null,null,null,null,null,null,null,null,null,null,null,null,null,null,null,null,null,null,null,null,null,null,null,null,null,null,null,268,818,1338,6.0000000008000001,101392.57602248761,5.4782494357494022E-2,79060]
[{"$f":"B1354&C1354","v":"02690999"},"0269","0999",1345,269,"Sherborn                     ",999,"Total",10033273.723612251,0.99999999999999978,{"$f":"SUM(K1350:K1353)","v":10171735.821210582},{"$f":"SUM(L1350:L1353)","v":1},{"$f":"VLOOKUP(E1354,town351,24)","v":8391682},{"$f":"SUM(N1350:N1353)","v":8391682},8277451,{"$f":"SUM(P1350:P1353)","v":114231},1.3800262907022947,945.25721351441996,931.02795989447009,{"$f":"VLOOKUP($D1354, foundoptions, VLOOKUP($T$6, foundoptcell, 2, FALSE), FALSE)","v":269},{"$f":"VLOOKUP($D1354, foundoptions, VLOOKUP($T$6, foundoptcell, 2, FALSE)+1, FALSE)","v":999},{"$f":"VLOOKUP($D1354, foundoptions, VLOOKUP($T$6, foundoptcell, 2, FALSE)+2, FALSE)","v":1345},{"$f":"VLOOKUP($D1354, foundoptions, VLOOKUP($T$6, foundoptcell, 2, FALSE)+3, FALSE)","v":931.02795989447009},{"$f":"VLOOKUP($D1354, foundoptions, VLOOKUP($T$6, foundoptcell, 2, FALSE)+4, FALSE)","v":10171735.821210582},1345,269,999,1345,931.02795989447009,10171735.821210582,null,null,null,null,null,null,null,null,null,null,null,null,null,null,null,null,null,null,null,null,null,null,null,null,null,null,null,null,null,null,null,null,null,null,null,null,null,null,null,null,null,null,null,null,null,null,null,null,null,null,null,null,null,null,null,null,null,null,null,null,null,null,null,null,null,269,999,1345,942.12,9331694.5425995998,1,7685038]
["02700999","0270","0999",1350,270,"Shirley                      ",999,"Total",9135681.0666192248,1,{"$f":"SUM(K1355:K1358)","v":9339200.0082064327},{"$f":"SUM(L1355:L1358)","v":1},{"$f":"VLOOKUP(E1359,town351,24)","v":5734008},{"$f":"SUM(N1355:N1358)","v":5734008},5616287,{"$f":"SUM(P1355:P1358)","v":117721},2.0960645351635341,780.86188499861998,767.39320388772001,270,999,1350,767.39320388772001,9339200.0082064327,1350,270,999,1350,767.39320388772001,9339200.0082064327,null,null,null,null,null,null,null,null,null,null,null,null,null,null,null,null,null,null,null,null,null,null,null,null,null,null,null,null,null,null,null,null,null,null,null,null,null,null,null,null,null,null,null,null,null,null,null,null,null,null,null,null,null,null,null,null,null,null,null,null,null,null,null,null,null,270,999,1350,838.64560596638,9100720.9519482218,0.99999999999999989,5178840]
["02720272","0272","0272",1356,272,"Shutesbury                   ",272,"Shutesbury",1221694.1099999999,0.48096770641411446,{"$f":"X1365","v":1164808.83},{"$f":"IF(K1369>0, K1365/K1369, 0)","v":0.46742793822665135},null,{"$f":"ROUND(M1369*L1365,0)","v":709939},712492,{"$f":"N1365-O1365","v":-2553},-0.35831981271368663,105,98,272,272,1356,98,1164808.83,1356,272,272,1356,98,1164808.83,null,null,null,null,null,null,null,null,null,null,null,null,null,null,null,null,null,null,null,null,null,null,null,null,null,null,null,null,null,null,null,null,null,null,null,null,null,null,null,null,null,null,null,null,null,null,null,null,null,null,null,null,null,null,null,null,null,null,null,null,null,null,null,null,null,272,272,1356,118,1166902.03,0.45467202159766301,669164]
["02730821","0273","0821",1363,273,"Somerset                     ",821,"Greater Fall River",2354230.2243618956,7.8201118330696928E-2,2738217.8363463762,{"$f":"IF(K1374>0, K1372/K1374, 0)","v":9.0707164475777521E-2},null,{"$f":"ROUND(M1374*L1372,0)","v":1430551},1196930,{"$f":"N1372-O1372","v":233621},19.518351114935712,132.00000000502001,143.99999999322,273,821,1363,143.99999999322,2738217.8363463762,1363,273,821,1363,143.99999999322,2738217.8363463762,null,null,null,null,null,null,null,null,null,null,null,null,null,null,null,null,null,null,null,null,null,null,null,null,null,null,null,null,null,null,null,null,null,null,null,null,null,null,null,null,null,null,null,null,null,null,null,null,null,null,null,null,null,null,null,null,null,null,null,null,null,null,null,null,null,273,821,1363,115.00000000023999,1918874.4844950635,6.8311693536743379E-2,1034184]
["02740274","0274","0274",1366,274,"Somerville                   ",274,"Somerville",72325602.754360005,1,{"$f":"X1375","v":76723652.080639988},{"$f":"IF(K1379>0, K1375/K1379, 0)","v":1},null,{"$f":"ROUND(M1379*L1375,0)","v":62371611},59668622,{"$f":"N1375-O1375","v":2702989},4.5300007095856847,5282,5049,274,274,1366,5049,76723652.080639988,1366,274,274,1366,5049,76723652.080639988,null,null,null,null,null,null,null,null,null,null,null,null,null,null,null,null,null,null,null,null,null,null,null,null,null,null,null,null,null,null,null,null,null,null,null,null,null,null,null,null,null,null,null,null,null,null,null,null,null,null,null,null,null,null,null,null,null,null,null,null,null,null,null,null,null,274,274,1366,5278,65998570.132249989,1,54448820]
["02750998","0275","0998",1373,275,"",998,"",0,0,0,{"$f":"IF(K1384>0, K1382/K1384, 0)","v":0},null,{"$f":"ROUND(M1384*L1382,0)","v":0},0,{"$f":"N1382-O1382","v":0},0,0,0,275,998,1373,0,0,1373,275,998,1373,0,0,null,null,null,null,null,null,null,null,null,null,null,null,null,null,null,null,null,null,null,null,null,null,null,null,null,null,null,null,null,null,null,null,null,null,null,null,null,null,null,null,null,null,null,null,null,null,null,null,null,null,null,null,null,null,null,null,null,null,null,null,null,null,null,null,null,275,998,1373,0,0,0,0]
["02760276","0276","0276",1376,276,"Southborough                 ",276,"Southborough",12497359.942009997,0.66325130949846178,{"$f":"X1385","v":12207265.0513},{"$f":"IF(K1389>0, K1385/K1389, 0)","v":0.65445556116998105},null,{"$f":"ROUND(M1389*L1385,0)","v":10070994},10310322,{"$f":"N1385-O1385","v":-239328},-2.32124661092059,1225,1156,276,276,1376,1156,12207265.0513,1376,276,276,1376,1156,12207265.0513,null,null,null,null,null,null,null,null,null,null,null,null,null,null,null,null,null,null,null,null,null,null,null,null,null,null,null,null,null,null,null,null,null,null,null,null,null,null,null,null,null,null,null,null,null,null,null,null,null,null,null,null,null,null,null,null,null,null,null,null,null,null,null,null,null,276,276,1376,1213,11677611.934810001,0.62815199556891754,9634030]
["02770998","0277","0998",1384,277,"",998,"",0,0,0,{"$f":"IF(K1394>0, K1393/K1394, 0)","v":0},null,{"$f":"ROUND(M1394*L1393,0)","v":0},0,{"$f":"N1393-O1393","v":0},0,0,0,277,998,1384,0,0,1384,277,998,1384,0,0,null,null,null,null,null,null,null,null,null,null,null,null,null,null,null,null,null,null,null,null,null,null,null,null,null,null,null,null,null,null,null,null,null,null,null,null,null,null,null,null,null,null,null,null,null,null,null,null,null,null,null,null,null,null,null,null,null,null,null,null,null,null,null,null,null,277,998,1384,0,0,0,0]
["02790279","0279","0279",1391,279,"Southwick                    ",279,"Southwick",0,0,{"$f":"X1400","v":0},{"$f":"IF(K1404>0, K1400/K1404, 0)","v":0},null,{"$f":"ROUND(M1404*L1400,0)","v":0},0,{"$f":"N1400-O1400","v":0},0,0,0,279,279,1391,0,0,1391,279,279,1391,0,0,null,null,null,null,null,null,null,null,null,null,null,null,null,null,null,null,null,null,null,null,null,null,null,null,null,null,null,null,null,null,null,null,null,null,null,null,null,null,null,null,null,null,null,null,null,null,null,null,null,null,null,null,null,null,null,null,null,null,null,null,null,null,null,null,null,279,279,1391,0,0,0,0]
["02790998","0279","0998",1394,279,"",998,"",0,0,0,{"$f":"IF(K1404>0, K1403/K1404, 0)","v":0},null,{"$f":"ROUND(M1404*L1403,0)","v":0},0,{"$f":"N1403-O1403","v":0},0,0,0,279,998,1394,0,0,1394,279,998,1394,0,0,null,null,null,null,null,null,null,null,null,null,null,null,null,null,null,null,null,null,null,null,null,null,null,null,null,null,null,null,null,null,null,null,null,null,null,null,null,null,null,null,null,null,null,null,null,null,null,null,null,null,null,null,null,null,null,null,null,null,null,null,null,null,null,null,null,279,998,1394,0,0,0,0]
["02810281","0281","0281",1401,281,"Springfield                  ",281,"Springfield",419043165.70000011,1,{"$f":"X1410","v":443439917.51999992},{"$f":"IF(K1414>0, K1410/K1414, 0)","v":1},null,{"$f":"ROUND(M1414*L1410,0)","v":43175654},41873391,{"$f":"N1410-O1410","v":1302263},3.1100012893629754,29551,29144,281,281,1401,29144,443439917.51999992,1401,281,281,1401,29144,443439917.51999992,null,null,null,null,null,null,null,null,null,null,null,null,null,null,null,null,null,null,null,null,null,null,null,null,null,null,null,null,null,null,null,null,null,null,null,null,null,null,null,null,null,null,null,null,null,null,null,null,null,null,null,null,null,null,null,null,null,null,null,null,null,null,null,null,null,281,281,1401,29670,383693957.99999988,1,38246693]
["02820999","0282","0999",1410,282,"Sterling                     ",999,"Total",12008022.957127042,1,{"$f":"SUM(K1415:K1418)","v":11480315.525572836},{"$f":"SUM(L1415:L1418)","v":1},{"$f":"VLOOKUP(E1419,town351,24)","v":9471260},{"$f":"SUM(N1415:N1418)","v":9471260},9343087,{"$f":"SUM(P1415:P1418)","v":128173},1.3718485121673383,1101.37853905308,{"$f":"W1419","v":1016.46823630775},282,999,1410,1016.46823630775,11480315.525572836,{"$f":"D1419","v":1410},282,999,1410,1016.46823630775,11480315.525572836,null,null,null,null,null,null,null,null,null,null,null,null,null,null,null,null,null,null,null,null,null,null,null,null,null,null,null,null,null,null,null,null,null,null,null,null,null,null,null,null,null,null,null,null,null,null,null,null,null,null,null,null,null,null,null,null,null,null,null,null,null,null,null,null,null,282,999,1410,1176.6790782600801,12031910.804615913,1,8696774]
["02830998","0283","0998",1413,283,"",998,"",0,0,0,{"$f":"IF(K1424>0, K1422/K1424, 0)","v":0},null,{"$f":"ROUND(M1424*L1422,0)","v":0},0,{"$f":"N1422-O1422","v":0},0,0,0,283,998,1413,0,0,1413,283,998,1413,0,0,null,null,null,null,null,null,null,null,null,null,null,null,null,null,null,null,null,null,null,null,null,null,null,null,null,null,null,null,null,null,null,null,null,null,null,null,null,null,null,null,null,null,null,null,null,null,null,null,null,null,null,null,null,null,null,null,null,null,null,null,null,null,null,null,null,283,998,1413,0,0,0,0]
["02840998","0284","0998",1419,284,"",998,"",0,0,0,{"$f":"IF(K1429>0, K1428/K1429, 0)","v":0},null,{"$f":"ROUND(M1429*L1428,0)","v":0},0,{"$f":"N1428-O1428","v":0},0,0,0,284,998,1419,0,0,1419,284,998,1419,0,0,null,null,null,null,null,null,null,null,null,null,null,null,null,null,null,null,null,null,null,null,null,null,null,null,null,null,null,null,null,null,null,null,null,null,null,null,null,null,null,null,null,null,null,null,null,null,null,null,null,null,null,null,null,null,null,null,null,null,null,null,null,null,null,null,null,284,998,1419,0,0,0,0]
["02850872","0285","0872",1422,285,"Stoughton                    ",872,"Southeastern",1941044.2312749722,4.2016748237164794E-2,2131531.3792023221,{"$f":"IF(K1434>0, K1431/K1434, 0)","v":4.5205728812136865E-2},null,{"$f":"ROUND(M1434*L1431,0)","v":1324889},1193242,{"$f":"N1431-O1431","v":131647},11.032715911776489,109.14389439023999,111.20542874952,285,872,1422,111.20542874952,2131531.3792023221,1422,285,872,1422,111.20542874952,2131531.3792023221,null,null,null,null,null,null,null,null,null,null,null,null,null,null,null,null,null,null,null,null,null,null,null,null,null,null,null,null,null,null,null,null,null,null,null,null,null,null,null,null,null,null,null,null,null,null,null,null,null,null,null,null,null,null,null,null,null,null,null,null,null,null,null,null,null,285,872,1422,111.14731254666,1868636.5865570107,4.3182792429717301E-2,1149622]
["02870287","0287","0287",1431,287,"Sturbridge                   ",287,"Sturbridge",8866569.3900000006,0.46919369805928096,{"$f":"X1440","v":8593995.6400000006},{"$f":"IF(K1444>0, K1440/K1444, 0)","v":0.45222356050415091},null,{"$f":"ROUND(M1444*L1440,0)","v":5067895},5185477,{"$f":"N1440-O1440","v":-117582},-2.2675252440614431,870,804,287,287,1431,804,8593995.6400000006,1431,287,287,1431,804,8593995.6400000006,null,null,null,null,null,null,null,null,null,null,null,null,null,null,null,null,null,null,null,null,null,null,null,null,null,null,null,null,null,null,null,null,null,null,null,null,null,null,null,null,null,null,null,null,null,null,null,null,null,null,null,null,null,null,null,null,null,null,null,null,null,null,null,null,null,287,287,1431,870,8423098.5899999999,0.47291150098862028,4848123]
["02880830","0288","0830",1438,288,null,998,null,0,0,0,{"$f":"IF(K1449>0, K1447/K1449, 0)","v":0},null,{"$f":"ROUND(M1449*L1447,0)","v":0},0,{"$f":"N1447-O1447","v":0},0,0,0,288,998,1438,0,0,1438,288,998,1438,0,0,null,null,null,null,null,null,null,null,null,null,null,null,null,null,null,null,null,null,null,null,null,null,null,null,null,null,null,null,null,null,null,null,null,null,null,null,null,null,null,null,null,null,null,null,null,null,null,null,null,null,null,null,null,null,null,null,null,null,null,null,null,null,null,null,null,288,830,1438,0,0,0,0]
["02890998","0289","0998",1444,289,"",998,"",0,0,0,{"$f":"IF(K1454>0, K1453/K1454, 0)","v":0},null,{"$f":"ROUND(M1454*L1453,0)","v":0},0,{"$f":"N1453-O1453","v":0},0,0,0,289,998,1444,0,0,1444,289,998,1444,0,0,null,null,null,null,null,null,null,null,null,null,null,null,null,null,null,null,null,null,null,null,null,null,null,null,null,null,null,null,null,null,null,null,null,null,null,null,null,null,null,null,null,null,null,null,null,null,null,null,null,null,null,null,null,null,null,null,null,null,null,null,null,null,null,null,null,289,998,1444,0,0,0,0]
["02900805","0290","0805",1447,290,"Sutton                       ",805,"Blackstone Valley",1860372.9687815784,0.1179200653763092,2023446.8340255315,{"$f":"IF(K1459>0, K1456/K1459, 0)","v":0.12893633563122131},null,{"$f":"ROUND(M1459*L1456,0)","v":1640817},1451282,{"$f":"N1456-O1456","v":189535},13.059832616955216,112.99999999446001,119.99999999493001,290,805,1447,119.99999999493001,2023446.8340255315,1447,290,805,1447,119.99999999493001,2023446.8340255315,null,null,null,null,null,null,null,null,null,null,null,null,null,null,null,null,null,null,null,null,null,null,null,null,null,null,null,null,null,null,null,null,null,null,null,null,null,null,null,null,null,null,null,null,null,null,null,null,null,null,null,null,null,null,null,null,null,null,null,null,null,null,null,null,null,290,805,1447,107.99999999560001,1681539.2700282673,0.11047178425213061,1237969]
["02920292","0292","0292",1456,292,"Swansea                      ",292,"Swansea",22877752.370000001,0.88684166055614855,{"$f":"X1465","v":23868174.949999999},{"$f":"IF(K1469>0, K1465/K1469, 0)","v":0.89787961996050358},null,{"$f":"ROUND(M1469*L1465,0)","v":14677628},14533757,{"$f":"N1465-O1465","v":143871},0.98990921617858341,2115,2044,292,292,1456,2044,23868174.949999999,1456,292,292,1456,2044,23868174.949999999,null,null,null,null,null,null,null,null,null,null,null,null,null,null,null,null,null,null,null,null,null,null,null,null,null,null,null,null,null,null,null,null,null,null,null,null,null,null,null,null,null,null,null,null,null,null,null,null,null,null,null,null,null,null,null,null,null,null,null,null,null,null,null,null,null,292,292,1456,2080,21190611.529999997,0.88413538223781674,13387790]
["02920998","0292","0998",1459,292,"",998,"",0,0,0,{"$f":"IF(K1469>0, K1468/K1469, 0)","v":0},null,{"$f":"ROUND(M1469*L1468,0)","v":0},0,{"$f":"N1468-O1468","v":0},0,0,0,292,998,1459,0,0,1459,292,998,1459,0,0,null,null,null,null,null,null,null,null,null,null,null,null,null,null,null,null,null,null,null,null,null,null,null,null,null,null,null,null,null,null,null,null,null,null,null,null,null,null,null,null,null,null,null,null,null,null,null,null,null,null,null,null,null,null,null,null,null,null,null,null,null,null,null,null,null,292,998,1459,0,0,0,0]
["02940294","0294","0294",1466,294,"Templeton                    ",294,"Templeton",0,0,{"$f":"X1475","v":0},{"$f":"IF(K1479>0, K1475/K1479, 0)","v":0},null,{"$f":"ROUND(M1479*L1475,0)","v":0},0,{"$f":"N1475-O1475","v":0},0,0,0,294,294,1466,0,0,1466,294,294,1466,0,0,null,null,null,null,null,null,null,null,null,null,null,null,null,null,null,null,null,null,null,null,null,null,null,null,null,null,null,null,null,null,null,null,null,null,null,null,null,null,null,null,null,null,null,null,null,null,null,null,null,null,null,null,null,null,null,null,null,null,null,null,null,null,null,null,null,294,294,1466,1,13837.16,1.0368940368441122E-3,5212]
["02940999","0294","0999",1470,294,"Templeton                    ",999,"Total",14417934.773932779,1,{"$f":"SUM(K1475:K1478)","v":14093910.815544995},{"$f":"SUM(L1475:L1478)","v":1},{"$f":"VLOOKUP(E1479,town351,24)","v":5407462},{"$f":"SUM(N1475:N1478)","v":5407462},5213519,{"$f":"SUM(P1475:P1478)","v":193943},3.7200017876601197,1193.0588235342,1147.2815768288901,294,999,1470,1147.2815768288901,14093910.815544995,1470,294,999,1470,1147.2815768288901,14093910.815544995,null,null,null,null,null,null,null,null,null,null,null,null,null,null,null,null,null,null,null,null,null,null,null,null,null,null,null,null,null,null,null,null,null,null,null,null,null,null,null,null,null,null,null,null,null,null,null,null,null,null,null,null,null,null,null,null,null,null,null,null,null,null,null,null,null,294,999,1470,1191.4966486786898,13344815.871556887,1,5026176]
["02960700","0296","0700",1477,296,"Tisbury                      ",700,"Marthas Vineyard",2618966.6088678618,0.3753353585782892,2866124.0660463208,{"$f":"IF(K1489>0, K1486/K1489, 0)","v":0.40583087048258248},null,{"$f":"ROUND(M1489*L1486,0)","v":2363828},2102521,{"$f":"N1486-O1486","v":261307},12.428270633206518,177.00000000048001,185.99999999965999,296,700,1477,185.99999999965999,2866124.0660463208,1477,296,700,1477,185.99999999965999,2866124.0660463208,null,null,null,null,null,null,null,null,null,null,null,null,null,null,null,null,null,null,null,null,null,null,null,null,null,null,null,null,null,null,null,null,null,null,null,null,null,null,null,null,null,null,null,null,null,null,null,null,null,null,null,null,null,null,null,null,null,null,null,null,null,null,null,null,null,296,700,1477,168.99999999975,2205091.6824411829,0.35592755966534823,1817411]
["02970998","0297","0998",1484,297,"",998,"",0,0,0,{"$f":"IF(K1494>0, K1493/K1494, 0)","v":0},null,{"$f":"ROUND(M1494*L1493,0)","v":0},0,{"$f":"N1493-O1493","v":0},0,0,0,297,998,1484,0,0,1484,297,998,1484,0,0,null,null,null,null,null,null,null,null,null,null,null,null,null,null,null,null,null,null,null,null,null,null,null,null,null,null,null,null,null,null,null,null,null,null,null,null,null,null,null,null,null,null,null,null,null,null,null,null,null,null,null,null,null,null,null,null,null,null,null,null,null,null,null,null,null,297,998,1484,0,0,0,0]
["02980705","0298","0705",1487,298,"Topsfield                    ",705,"Masconomet",5363687.7038049744,0.4466069748970557,5629899.690873337,{"$f":"IF(K1499>0, K1496/K1499, 0)","v":0.48294350105388734},null,{"$f":"ROUND(M1499*L1496,0)","v":4644667},4304465,{"$f":"N1496-O1496","v":340202},7.9034676783293625,483.08803612559996,489.84797688281998,298,705,1487,489.84797688281998,5629899.690873337,1487,298,705,1487,489.84797688281998,5629899.690873337,null,null,null,null,null,null,null,null,null,null,null,null,null,null,null,null,null,null,null,null,null,null,null,null,null,null,null,null,null,null,null,null,null,null,null,null,null,null,null,null,null,null,null,null,null,null,null,null,null,null,null,null,null,null,null,null,null,null,null,null,null,null,null,null,null,298,705,1487,501.54338394861998,5211968.2652010005,0.47680755142492243,4299874]
["02990998","0299","0998",1494,299,"",998,"",0,0,0,{"$f":"IF(K1504>0, K1503/K1504, 0)","v":0},null,{"$f":"ROUND(M1504*L1503,0)","v":0},0,{"$f":"N1503-O1503","v":0},0,0,0,299,998,1494,0,0,1494,299,998,1494,0,0,null,null,null,null,null,null,null,null,null,null,null,null,null,null,null,null,null,null,null,null,null,null,null,null,null,null,null,null,null,null,null,null,null,null,null,null,null,null,null,null,null,null,null,null,null,null,null,null,null,null,null,null,null,null,null,null,null,null,null,null,null,null,null,null,null,299,998,1494,0,0,0,0]
["03010998","0301","0998",1503,301,"",998,"",0,0,0,{"$f":"IF(K1514>0, K1512/K1514, 0)","v":0},null,{"$f":"ROUND(M1514*L1512,0)","v":0},0,{"$f":"N1512-O1512","v":0},0,0,0,301,998,1503,0,0,1503,301,998,1503,0,0,null,null,null,null,null,null,null,null,null,null,null,null,null,null,null,null,null,null,null,null,null,null,null,null,null,null,null,null,null,null,null,null,null,null,null,null,null,null,null,null,null,null,null,null,null,null,null,null,null,null,null,null,null,null,null,null,null,null,null,null,null,null,null,null,null,301,998,1503,0,0,0,0]
["03020998","0302","0998",1507,302,"",998,"",0,0,0,{"$f":"IF(K1519>0, K1516/K1519, 0)","v":0},null,{"$f":"ROUND(M1519*L1516,0)","v":0},0,{"$f":"N1516-O1516","v":0},0,0,0,302,998,1507,0,0,1507,302,998,1507,0,0,null,null,null,null,null,null,null,null,null,null,null,null,null,null,null,null,null,null,null,null,null,null,null,null,null,null,null,null,null,null,null,null,null,null,null,null,null,null,null,null,null,null,null,null,null,null,null,null,null,null,null,null,null,null,null,null,null,null,null,null,null,null,null,null,null,302,998,1507,0,0,0,0]
["03030710","0303","0710",1512,303,"Upton                        ",710,"Mendon Upton",12622881.271920269,0.88631807293284015,12526323.324130999,{"$f":"IF(K1524>0, K1521/K1524, 0)","v":0.8905316586738915},null,{"$f":"ROUND(M1524*L1521,0)","v":9498117},9136616,{"$f":"N1521-O1521","v":361501},3.9566180739127046,1208.45714286514,1167.2342427050398,303,710,1512,1167.2342427050398,12526323.324130999,1512,303,710,1512,1167.2342427050398,12526323.324130999,null,null,null,null,null,null,null,null,null,null,null,null,null,null,null,null,null,null,null,null,null,null,null,null,null,null,null,null,null,null,null,null,null,null,null,null,null,null,null,null,null,null,null,null,null,null,null,null,null,null,null,null,null,null,null,null,null,null,null,null,null,null,null,null,null,303,710,1512,1211.6302864957499,11834438.336648738,0.87447088143442753,8051747]
["03030999","0303","0999",1515,303,"Upton                        ",999,"Total",14241931.488715965,1,{"$f":"SUM(K1520:K1523)","v":14066117.921943614},{"$f":"SUM(L1520:L1523)","v":1},{"$f":"VLOOKUP(E1524,town351,24)","v":10665670},{"$f":"SUM(N1520:N1523)","v":10665670},10308507,{"$f":"SUM(P1520:P1523)","v":357163},3.4647403353366304,1307.4571428612401,1259.2342427069998,303,999,1515,1259.2342427069998,14066117.921943614,1515,303,999,1515,1259.2342427069998,14066117.921943614,null,null,null,null,null,null,null,null,null,null,null,null,null,null,null,null,null,null,null,null,null,null,null,null,null,null,null,null,null,null,null,null,null,null,null,null,null,null,null,null,null,null,null,null,null,null,null,null,null,null,null,null,null,null,null,null,null,null,null,null,null,null,null,null,null,303,999,1515,1321.63028650055,13533256.038481537,1,9207565]
["03050853","0305","0853",1522,305,"Wakefield                    ",853,"Northeast Metropolitan",1538274.5063235799,3.8376835020270866E-2,1994481.0701686805,{"$f":"IF(K1534>0, K1531/K1534, 0)","v":4.9152428113448554E-2},null,{"$f":"ROUND(M1534*L1531,0)","v":1645447},1269076,{"$f":"N1531-O1531","v":376371},29.657089094742947,81.99999999712999,99.999999999690004,305,853,1522,99.999999999690004,1994481.0701686805,1522,305,853,1522,99.999999999690004,1994481.0701686805,null,null,null,null,null,null,null,null,null,null,null,null,null,null,null,null,null,null,null,null,null,null,null,null,null,null,null,null,null,null,null,null,null,null,null,null,null,null,null,null,null,null,null,null,null,null,null,null,null,null,null,null,null,null,null,null,null,null,null,null,null,null,null,null,null,305,853,1522,68.000000000279996,1193608.8985136528,3.1784655792149404E-2,984727]
["03070307","0307","0307",1531,307,"Walpole                      ",307,"Walpole",39454988.392580003,0.961062140496179,{"$f":"X1540","v":40689968.803000003},{"$f":"IF(K1544>0, K1540/K1544, 0)","v":0.95409982867519749},null,{"$f":"ROUND(M1544*L1540,0)","v":33442336},32550365,{"$f":"N1540-O1540","v":891971},2.7402795636853843,3587,3573,307,307,1531,3573,40689968.803000003,1531,307,307,1531,3573,40689968.803000003,null,null,null,null,null,null,null,null,null,null,null,null,null,null,null,null,null,null,null,null,null,null,null,null,null,null,null,null,null,null,null,null,null,null,null,null,null,null,null,null,null,null,null,null,null,null,null,null,null,null,null,null,null,null,null,null,null,null,null,null,null,null,null,null,null,307,307,1531,3732,38230557.63222,0.97119650333541452,31540211]
["03070915","0307","0915",1533,307,"Walpole                      ",915,"Norfolk County",449052.90164325462,1.0938230130881195E-2,407872.00611309719,{"$f":"IF(K1544>0, K1542/K1544, 0)","v":9.563797235578703E-3},null,{"$f":"ROUND(M1544*L1542,0)","v":335222},370469,{"$f":"N1542-O1542","v":-35247},-9.5141563801559652,24.999999999340002,21.99999999932,307,915,1533,21.99999999932,407872.00611309719,1533,307,915,1533,21.99999999932,407872.00611309719,null,null,null,null,null,null,null,null,null,null,null,null,null,null,null,null,null,null,null,null,null,null,null,null,null,null,null,null,null,null,null,null,null,null,null,null,null,null,null,null,null,null,null,null,null,null,null,null,null,null,null,null,null,null,null,null,null,null,null,null,null,null,null,null,null,307,915,1533,22.000000000949999,375941.90443495259,9.5503044071941993E-3,310152]
["03080999","0308","0999",1540,308,"Waltham                      ",999,"Total",78968509.286119998,1,{"$f":"SUM(K1545:K1548)","v":78915319.908700004},{"$f":"SUM(L1545:L1548)","v":1},{"$f":"VLOOKUP(E1549,town351,24)","v":65105139},{"$f":"SUM(N1545:N1548)","v":65105139},63760767,{"$f":"SUM(P1545:P1548)","v":1344372},2.1084627165793033,5746,5524,308,999,1540,5524,78915319.908700004,1540,308,999,1540,5524,78915319.908700004,null,null,null,null,null,null,null,null,null,null,null,null,null,null,null,null,null,null,null,null,null,null,null,null,null,null,null,null,null,null,null,null,null,null,null,null,null,null,null,null,null,null,null,null,null,null,null,null,null,null,null,null,null,null,null,null,null,null,null,null,null,null,null,null,null,308,999,1540,5605,70511885.580779999,1,57308784]
["03100998","0310","0998",1549,310,"",998,"",0,0,0,{"$f":"IF(K1559>0, K1558/K1559, 0)","v":0},null,{"$f":"ROUND(M1559*L1558,0)","v":0},0,{"$f":"N1558-O1558","v":0},0,0,0,310,998,1549,0,0,1549,310,998,1549,0,0,null,null,null,null,null,null,null,null,null,null,null,null,null,null,null,null,null,null,null,null,null,null,null,null,null,null,null,null,null,null,null,null,null,null,null,null,null,null,null,null,null,null,null,null,null,null,null,null,null,null,null,null,null,null,null,null,null,null,null,null,null,null,null,null,null,310,998,1549,0,0,0,0]
["03110778","0311","0778",1552,311,"Warren                       ",778,"Quaboag",8569211.3221667744,0.9025633950873222,8480134.8032938093,{"$f":"IF(K1564>0, K1561/K1564, 0)","v":0.91328611741678045},null,{"$f":"ROUND(M1564*L1561,0)","v":2670542},2592121,{"$f":"N1561-O1561","v":78421},3.0253603130409421,713.49873843399996,662.07801418408008,311,778,1552,662.07801418408008,8480134.8032938093,1552,311,778,1552,662.07801418408008,8480134.8032938093,null,null,null,null,null,null,null,null,null,null,null,null,null,null,null,null,null,null,null,null,null,null,null,null,null,null,null,null,null,null,null,null,null,null,null,null,null,null,null,null,null,null,null,null,null,null,null,null,null,null,null,null,null,null,null,null,null,null,null,null,null,null,null,null,null,311,778,1552,757.57701516888005,8415479.2188534625,0.89737202835150121,2406026]
["03120998","0312","0998",1559,312,"",998,"",0,0,0,{"$f":"IF(K1569>0, K1568/K1569, 0)","v":0},null,{"$f":"ROUND(M1569*L1568,0)","v":0},0,{"$f":"N1568-O1568","v":0},0,0,0,312,998,1559,0,0,1559,312,998,1559,0,0,null,null,null,null,null,null,null,null,null,null,null,null,null,null,null,null,null,null,null,null,null,null,null,null,null,null,null,null,null,null,null,null,null,null,null,null,null,null,null,null,null,null,null,null,null,null,null,null,null,null,null,null,null,null,null,null,null,null,null,null,null,null,null,null,null,312,998,1559,0,0,0,0]
["03130635","0313","0635",1562,313,"Washington                   ",635,"Central Berkshire",677247.49707229773,0.97881530888400115,705343.66514061356,{"$f":"IF(K1574>0, K1571/K1574, 0)","v":1},null,{"$f":"ROUND(M1574*L1571,0)","v":520140},503408,{"$f":"N1571-O1571","v":16732},3.3237453516829292,58.390180877879992,58.231770828280006,313,635,1562,58.231770828280006,705343.66514061356,1562,313,635,1562,58.231770828280006,705343.66514061356,null,null,null,null,null,null,null,null,null,null,null,null,null,null,null,null,null,null,null,null,null,null,null,null,null,null,null,null,null,null,null,null,null,null,null,null,null,null,null,null,null,null,null,null,null,null,null,null,null,null,null,null,null,null,null,null,null,null,null,null,null,null,null,null,null,313,635,1562,53.239436626599996,574958.49097450241,0.95407764148246677,460328]
["03150315","0315","0315",1571,315,"Wayland                      ",315,"Wayland",28213341.421039999,1,{"$f":"X1580","v":29104320.959789999},{"$f":"IF(K1584>0, K1580/K1584, 0)","v":1},null,{"$f":"ROUND(M1584*L1580,0)","v":23895149},23276007,{"$f":"N1580-O1580","v":619142},2.6600009185424285,2653,2647,315,315,1571,2647,29104320.959789999,1571,315,315,1571,2647,29104320.959789999,null,null,null,null,null,null,null,null,null,null,null,null,null,null,null,null,null,null,null,null,null,null,null,null,null,null,null,null,null,null,null,null,null,null,null,null,null,null,null,null,null,null,null,null,null,null,null,null,null,null,null,null,null,null,null,null,null,null,null,null,null,null,null,null,null,315,315,1571,2647,26378777.201239996,1,21731959]
["03160876","0316","0876",1577,316,"Webster                      ",876,"Southern Worcester",2141379.2056891918,7.5871326194434485E-2,2496452.161071327,{"$f":"IF(K1589>0, K1586/K1589, 0)","v":8.9932335216499446E-2},null,{"$f":"ROUND(M1589*L1586,0)","v":1140624},941848,{"$f":"N1586-O1586","v":198776},21.104891659800732,125.00000000477,140.00000000400001,316,876,1577,140.00000000400001,2496452.161071327,1577,316,876,1577,140.00000000400001,2496452.161071327,null,null,null,null,null,null,null,null,null,null,null,null,null,null,null,null,null,null,null,null,null,null,null,null,null,null,null,null,null,null,null,null,null,null,null,null,null,null,null,null,null,null,null,null,null,null,null,null,null,null,null,null,null,null,null,null,null,null,null,null,null,null,null,null,null,316,876,1577,147.99999999550002,2400728.8331791786,9.3241627249847595E-2,1093785]
["03160999","0316","0999",1580,316,"Webster                      ",999,"Total",28223827.275689192,1,{"$f":"SUM(K1585:K1588)","v":27759227.59107133},{"$f":"SUM(L1585:L1588)","v":1},{"$f":"VLOOKUP(E1589,town351,24)","v":12683135},{"$f":"SUM(N1585:N1588)","v":12683135},12413756,{"$f":"SUM(P1585:P1588)","v":269379},2.1700039859008022,2148.0000000047698,2010.000000004,316,999,1580,2010.000000004,27759227.59107133,1580,316,999,1580,2010.000000004,27759227.59107133,null,null,null,null,null,null,null,null,null,null,null,null,null,null,null,null,null,null,null,null,null,null,null,null,null,null,null,null,null,null,null,null,null,null,null,null,null,null,null,null,null,null,null,null,null,null,null,null,null,null,null,null,null,null,null,null,null,null,null,null,null,null,null,null,null,316,999,1580,2153.9999999954998,25747393.13317918,1,11730649]
["03180660","0318","0660",1587,318,"Wellfleet                    ",660,"Nauset",1805054.7783812811,0.54673820318408473,1814269.4939589361,{"$f":"IF(K1599>0, K1596/K1599, 0)","v":0.53571243642364408},null,{"$f":"ROUND(M1599*L1596,0)","v":1496773},1489170,{"$f":"N1596-O1596","v":7603},0.51055285830361874,155.00000000315998,152.00000000360001,318,660,1587,152.00000000360001,1814269.4939589361,1587,318,660,1587,152.00000000360001,1814269.4939589361,null,null,null,null,null,null,null,null,null,null,null,null,null,null,null,null,null,null,null,null,null,null,null,null,null,null,null,null,null,null,null,null,null,null,null,null,null,null,null,null,null,null,null,null,null,null,null,null,null,null,null,null,null,null,null,null,null,null,null,null,null,null,null,null,null,318,660,1587,143.999999995,1597679.7294749599,0.54083236060801343,1318086]
["03200320","0320","0320",1596,320,"Wenham                       ",320,"Wenham",0,0,{"$f":"X1605","v":0},{"$f":"IF(K1609>0, K1605/K1609, 0)","v":0},null,{"$f":"ROUND(M1609*L1605,0)","v":0},0,{"$f":"N1605-O1605","v":0},0,0,0,320,320,1596,0,0,1596,320,320,1596,0,0,null,null,null,null,null,null,null,null,null,null,null,null,null,null,null,null,null,null,null,null,null,null,null,null,null,null,null,null,null,null,null,null,null,null,null,null,null,null,null,null,null,null,null,null,null,null,null,null,null,null,null,null,null,null,null,null,null,null,null,null,null,null,null,null,null,320,320,1596,0,0,0,0]
[{"$f":"B1610&C1610","v":"03210321"},"0321","0321",1601,321,"Westborough                  ",321,"Westborough",40523119.020000003,0.98020568921155093,{"$f":"X1610","v":42136254.929999992},{"$f":"IF(K1614>0, K1610/K1614, 0)","v":0.9797037640839652},null,{"$f":"ROUND(M1614*L1610,0)","v":31823425},32212271,{"$f":"N1610-O1610","v":-388846},-1.2071362494125297,3783,3821,{"$f":"VLOOKUP($D1610, foundoptions, VLOOKUP($T$6, foundoptcell, 2, FALSE), FALSE)","v":321},{"$f":"VLOOKUP($D1610, foundoptions, VLOOKUP($T$6, foundoptcell, 2, FALSE)+1, FALSE)","v":321},{"$f":"VLOOKUP($D1610, foundoptions, VLOOKUP($T$6, foundoptcell, 2, FALSE)+2, FALSE)","v":1601},{"$f":"VLOOKUP($D1610, foundoptions, VLOOKUP($T$6, foundoptcell, 2, FALSE)+3, FALSE)","v":3821},{"$f":"VLOOKUP($D1610, foundoptions, VLOOKUP($T$6, foundoptcell, 2, FALSE)+4, FALSE)","v":42136254.929999992},1601,321,321,1601,3821,42136254.929999992,null,null,null,null,null,null,null,null,null,null,null,null,null,null,null,null,null,null,null,null,null,null,null,null,null,null,null,null,null,null,null,null,null,null,null,null,null,null,null,null,null,null,null,null,null,null,null,null,null,null,null,null,null,null,null,null,null,null,null,null,null,null,null,null,null,321,321,1601,3749,37382713.520000003,0.98341628226076039,29912840]
["03210999","0321","0999",1605,321,"Westborough                  ",999,"Total",41341444.419278599,1,{"$f":"SUM(K1610:K1613)","v":43009179.381277457},{"$f":"SUM(L1610:L1613)","v":1},{"$f":"VLOOKUP(E1614,town351,24)","v":32482702},{"$f":"SUM(N1610:N1613)","v":32482702},32862767,{"$f":"SUM(P1610:P1613)","v":-380065},-1.1565216039172843,3827.0000000032001,3866.0000000044101,321,999,1605,3866.0000000044101,43009179.381277457,1605,321,999,1605,3866.0000000044101,43009179.381277457,null,null,null,null,null,null,null,null,null,null,null,null,null,null,null,null,null,null,null,null,null,null,null,null,null,null,null,null,null,null,null,null,null,null,null,null,null,null,null,null,null,null,null,null,null,null,null,null,null,null,null,null,null,null,null,null,null,null,null,null,null,null,null,null,null,321,999,1605,3785.0000000034202,38013112.243841909,0.99999999999999989,30417271]
["03220998","0322","0998",1608,322,"",998,"",0,0,0,{"$f":"IF(K1619>0, K1617/K1619, 0)","v":0},null,{"$f":"ROUND(M1619*L1617,0)","v":0},0,{"$f":"N1617-O1617","v":0},{"$f":"IF(O1617>0,P1617*100/O1617,IF(P1617>0,100,0))","v":0},0,0,322,998,1608,0,0,1608,322,998,1608,0,0,null,null,null,null,null,null,null,null,null,null,null,null,null,null,null,null,null,null,null,null,null,null,null,null,null,null,null,null,null,null,null,null,null,null,null,null,null,null,null,null,null,null,null,null,null,null,null,null,null,null,null,null,null,null,null,null,null,null,null,null,null,null,null,null,null,322,998,1608,0,0,0,0]
["03230999","0323","0999",1615,323,"West Bridgewater             ",999,"Total",12913241.610193605,1,{"$f":"SUM(K1620:K1623)","v":13411742.619164994},{"$f":"SUM(L1620:L1623)","v":1},{"$f":"VLOOKUP(E1624,town351,24)","v":8680582},{"$f":"SUM(N1620:N1623)","v":8680582},8501714,{"$f":"SUM(P1620:P1623)","v":178868},2.1039051654760441,1149.05544554876,1148.08883405648,323,999,1615,1148.08883405648,13411742.619164994,1615,323,999,1615,1148.08883405648,13411742.619164994,null,null,null,null,null,null,null,null,null,null,null,null,null,null,null,null,null,null,null,null,null,null,null,null,null,null,null,null,null,null,null,null,null,null,null,null,null,null,null,null,null,null,null,null,null,null,null,null,null,null,null,null,null,null,null,null,null,null,null,null,null,null,null,null,null,323,999,1615,1102.0623755777899,11570192.760529665,1,7662394]
["03250998","0325","0998",1624,325,"",998,"",0,0,0,{"$f":"IF(K1634>0, K1633/K1634, 0)","v":0},null,{"$f":"ROUND(M1634*L1633,0)","v":0},0,{"$f":"N1633-O1633","v":0},0,0,0,325,998,1624,0,0,1624,325,998,1624,0,0,null,null,null,null,null,null,null,null,null,null,null,null,null,null,null,null,null,null,null,null,null,null,null,null,null,null,null,null,null,null,null,null,null,null,null,null,null,null,null,null,null,null,null,null,null,null,null,null,null,null,null,null,null,null,null,null,null,null,null,null,null,null,null,null,null,325,998,1624,0,0,0,0]
["03260852","0326","0852",1627,326,"Westford                     ",852,"Nashoba Valley",1108972.3205071937,2.192552674560698E-2,1259694.2752455287,{"$f":"IF(K1639>0, K1636/K1639, 0)","v":2.4896273060806277E-2},null,{"$f":"ROUND(M1639*L1636,0)","v":977350},864714,{"$f":"N1636-O1636","v":112636},13.025809689677743,64.000000001879997,70.999999998869995,326,852,1627,70.999999998869995,1259694.2752455287,1627,326,852,1627,70.999999998869995,1259694.2752455287,null,null,null,null,null,null,null,null,null,null,null,null,null,null,null,null,null,null,null,null,null,null,null,null,null,null,null,null,null,null,null,null,null,null,null,null,null,null,null,null,null,null,null,null,null,null,null,null,null,null,null,null,null,null,null,null,null,null,null,null,null,null,null,null,null,326,852,1627,56.00000000096,912231.38183758943,1.8711249204626346E-2,690215]
["03270998","0327","0998",1634,327,"",998,"",0,0,0,{"$f":"IF(K1644>0, K1643/K1644, 0)","v":0},null,{"$f":"ROUND(M1644*L1643,0)","v":0},0,{"$f":"N1643-O1643","v":0},0,0,0,327,998,1634,0,0,1634,327,998,1634,0,0,null,null,null,null,null,null,null,null,null,null,null,null,null,null,null,null,null,null,null,null,null,null,null,null,null,null,null,null,null,null,null,null,null,null,null,null,null,null,null,null,null,null,null,null,null,null,null,null,null,null,null,null,null,null,null,null,null,null,null,null,null,null,null,null,null,327,998,1634,0,0,0,0]
["03290745","0329","0745",1642,329,"West Newbury                 ",745,"Pentucket",6528230.0291952752,0.96937811571018717,6338759.4885320831,{"$f":"IF(K1654>0, K1651/K1654, 0)","v":0.97001477498377153},null,{"$f":"ROUND(M1654*L1651,0)","v":5229477},5385790,{"$f":"N1651-O1651","v":-156313},-2.902322593342852,620.40879477989995,588.36839827438996,329,745,1642,588.36839827438996,6338759.4885320831,1642,329,745,1642,588.36839827438996,6338759.4885320831,null,null,null,null,null,null,null,null,null,null,null,null,null,null,null,null,null,null,null,null,null,null,null,null,null,null,null,null,null,null,null,null,null,null,null,null,null,null,null,null,null,null,null,null,null,null,null,null,null,null,null,null,null,null,null,null,null,null,null,null,null,null,null,null,null,329,745,1642,634.00763358996005,6239282.8255939111,0.95483301127098474,5147408]
["03290885","0329","0885",1643,329,"West Newbury                 ",885,"Whittier",176905.9984985831,2.6268805283432214E-2,166058.67165929987,{"$f":"IF(K1654>0, K1652/K1654, 0)","v":2.541181209274785E-2},null,{"$f":"ROUND(M1654*L1652,0)","v":136998},145947,{"$f":"N1652-O1652","v":-8949},-6.1316779378815598,10.00000000064,9.0000000023600002,329,885,1643,9.0000000023600002,166058.67165929987,1643,329,885,1643,9.0000000023600002,166058.67165929987,null,null,null,null,null,null,null,null,null,null,null,null,null,null,null,null,null,null,null,null,null,null,null,null,null,null,null,null,null,null,null,null,null,null,null,null,null,null,null,null,null,null,null,null,null,null,null,null,null,null,null,null,null,null,null,null,null,null,null,null,null,null,null,null,null,329,885,1643,17.000000001900002,281303.05167493934,4.3049409270036136E-2,232075]
["03310821","0331","0821",1652,331,"Westport                     ",821,"Greater Fall River",2336395.1467001829,0.12045851357860728,2243817.3936608559,{"$f":"IF(K1664>0, K1661/K1664, 0)","v":0.11396503012469844},null,{"$f":"ROUND(M1664*L1661,0)","v":1851149},1927526,{"$f":"N1661-O1661","v":-76377},-3.9624368231608806,130.99999999351999,117.99999999382,331,821,1652,117.99999999382,2243817.3936608559,1652,331,821,1652,117.99999999382,2243817.3936608559,null,null,null,null,null,null,null,null,null,null,null,null,null,null,null,null,null,null,null,null,null,null,null,null,null,null,null,null,null,null,null,null,null,null,null,null,null,null,null,null,null,null,null,null,null,null,null,null,null,null,null,null,null,null,null,null,null,null,null,null,null,null,null,null,null,331,821,1652,132.00000000507998,2202534.1909788493,0.12228573563952624,1817091]
["03310999","0331","0999",1655,331,"Westport                     ",999,"Total",19395849.054500643,0.99999999999999989,{"$f":"SUM(K1660:K1663)","v":19688648.273998719},{"$f":"SUM(L1660:L1663)","v":1},{"$f":"VLOOKUP(E1664,town351,24)","v":16243135},{"$f":"SUM(N1660:N1663)","v":16243134},16001575,{"$f":"SUM(P1660:P1663)","v":241559},1.5095951492274979,1658.99999999482,1617.9999999951599,331,999,1655,1617.9999999951599,19688648.273998719,1655,331,999,1655,1617.9999999951599,19688648.273998719,null,null,null,null,null,null,null,null,null,null,null,null,null,null,null,null,null,null,null,null,null,null,null,null,null,null,null,null,null,null,null,null,null,null,null,null,null,null,null,null,null,null,null,null,null,null,null,null,null,null,null,null,null,null,null,null,null,null,null,null,null,null,null,null,null,331,999,1655,1643.0000000032501,18011374.584779676,0.99999999999999989,14859384]
[{"$f":"B1674&C1674","v":"03330999"},"0333","0999",1665,333,"West Stockbridge             ",999,"Total",1680252.3450152895,1,{"$f":"SUM(K1670:K1673)","v":1527536.5518968089},{"$f":"SUM(L1670:L1673)","v":1},{"$f":"VLOOKUP(E1674,town351,24)","v":1260218},{"$f":"SUM(N1670:N1673)","v":1260218},1386208,{"$f":"SUM(P1670:P1673)","v":-125990},-9.0888236108866778,137.58163264929999,120.23011664470999,{"$f":"VLOOKUP($D1674, foundoptions, VLOOKUP($T$6, foundoptcell, 2, FALSE), FALSE)","v":333},{"$f":"VLOOKUP($D1674, foundoptions, VLOOKUP($T$6, foundoptcell, 2, FALSE)+1, FALSE)","v":999},{"$f":"VLOOKUP($D1674, foundoptions, VLOOKUP($T$6, foundoptcell, 2, FALSE)+2, FALSE)","v":1665},{"$f":"VLOOKUP($D1674, foundoptions, VLOOKUP($T$6, foundoptcell, 2, FALSE)+3, FALSE)","v":120.23011664470999},{"$f":"VLOOKUP($D1674, foundoptions, VLOOKUP($T$6, foundoptcell, 2, FALSE)+4, FALSE)","v":1527536.5518968089},1665,333,999,1665,120.23011664470999,1527536.5518968089,null,null,null,null,null,null,null,null,null,null,null,null,null,null,null,null,null,null,null,null,null,null,null,null,null,null,null,null,null,null,null,null,null,null,null,null,null,null,null,null,null,null,null,null,null,null,null,null,null,null,null,null,null,null,null,null,null,null,null,null,null,null,null,null,null,333,999,1665,140.33364839207999,1581059.8459609763,1,1304374]
["03340999","0334","0999",1670,334,"West Tisbury                 ",999,"Total",4504769.6368440744,1,{"$f":"SUM(K1675:K1678)","v":4448650.699069187},{"$f":"SUM(L1675:L1678)","v":1},{"$f":"VLOOKUP(E1679,town351,24)","v":3670137},{"$f":"SUM(N1675:N1678)","v":3670137},3716435,{"$f":"SUM(P1675:P1678)","v":-46298},-1.2457637493996263,374.26419752926995,362.22921914458999,334,999,1670,362.22921914458999,4448650.699069187,1670,334,999,1670,362.22921914458999,4448650.699069187,null,null,null,null,null,null,null,null,null,null,null,null,null,null,null,null,null,null,null,null,null,null,null,null,null,null,null,null,null,null,null,null,null,null,null,null,null,null,null,null,null,null,null,null,null,null,null,null,null,null,null,null,null,null,null,null,null,null,null,null,null,null,null,null,null,334,999,1670,375.99753694718999,4087563.4809681084,1,3372240]
["03350915","0335","0915",1673,335,"Westwood                     ",915,"Norfolk County",89810.580318807682,2.7718846547789759E-3,203936.0030828749,{"$f":"IF(K1684>0, K1682/K1684, 0)","v":6.2278378174282995E-3},null,{"$f":"ROUND(M1684*L1682,0)","v":168247},74094,{"$f":"N1682-O1682","v":94153},{"$f":"IF(O1682>0,P1682*100/O1682,IF(P1682>0,100,0))","v":127.07236753313359},4.9999999993199999,11.00000000108,335,915,1673,11.00000000108,203936.0030828749,1673,335,915,1673,11.00000000108,203936.0030828749,null,null,null,null,null,null,null,null,null,null,null,null,null,null,null,null,null,null,null,null,null,null,null,null,null,null,null,null,null,null,null,null,null,null,null,null,null,null,null,null,null,null,null,null,null,null,null,null,null,null,null,null,null,null,null,null,null,null,null,null,null,null,null,null,null,335,915,1673,5.0000000011100001,85441.341932313153,2.7833874376384862E-3,70489]
["03360999","0336","0999",1680,336,"Weymouth                     ",999,"Total",73768285.049444392,1,{"$f":"SUM(K1685:K1688)","v":76440787.065010428},{"$f":"SUM(L1685:L1688)","v":0.99999999999999989},{"$f":"VLOOKUP(E1689,town351,24)","v":58749427},{"$f":"SUM(N1685:N1688)","v":58749427},57077069,{"$f":"SUM(P1685:P1688)","v":1672358},2.9299997867795207,5948.9999999994798,5953.9999999988404,336,999,1680,5953.9999999988404,76440787.065010428,1680,336,999,1680,5953.9999999988404,76440787.065010428,null,null,null,null,null,null,null,null,null,null,null,null,null,null,null,null,null,null,null,null,null,null,null,null,null,null,null,null,null,null,null,null,null,null,null,null,null,null,null,null,null,null,null,null,null,null,null,null,null,null,null,null,null,null,null,null,null,null,null,null,null,null,null,null,null,336,999,1680,6109.0000000013797,69835634.949540988,0.99999999999999989,51527483]
["03380998","0338","0998",1689,338,"",998,"",0,0,0,{"$f":"IF(K1699>0, K1698/K1699, 0)","v":0},null,{"$f":"ROUND(M1699*L1698,0)","v":0},0,{"$f":"N1698-O1698","v":0},0,0,0,338,998,1689,0,0,1689,338,998,1689,0,0,null,null,null,null,null,null,null,null,null,null,null,null,null,null,null,null,null,null,null,null,null,null,null,null,null,null,null,null,null,null,null,null,null,null,null,null,null,null,null,null,null,null,null,null,null,null,null,null,null,null,null,null,null,null,null,null,null,null,null,null,null,null,null,null,null,338,998,1689,0,0,0,0]
["03380999","0338","0999",1690,338,"Whitman                      ",999,"Total",26684841.681460023,1,{"$f":"SUM(K1695:K1698)","v":26864839.191610433},{"$f":"SUM(L1695:L1698)","v":1},{"$f":"VLOOKUP(E1699,town351,24)","v":12736419},{"$f":"SUM(N1695:N1698)","v":12736419},12203142,{"$f":"SUM(P1695:P1698)","v":533277},4.3699974973658424,2339.9902014304203,2283.9028649561101,338,999,1690,2283.9028649561101,26864839.191610433,1690,338,999,1690,2283.9028649561101,26864839.191610433,null,null,null,null,null,null,null,null,null,null,null,null,null,null,null,null,null,null,null,null,null,null,null,null,null,null,null,null,null,null,null,null,null,null,null,null,null,null,null,null,null,null,null,null,null,null,null,null,null,null,null,null,null,null,null,null,null,null,null,null,null,null,null,null,null,338,999,1690,2414.3276907465697,25759458.985466905,1,11266214]
["03400340","0340","0340",1696,340,"Williamsburg                 ",340,"Williamsburg",2006916.64,0.59844517533581454,{"$f":"X1705","v":2022824.2199999997},{"$f":"IF(K1709>0, K1705/K1709, 0)","v":0.60515743135175337},null,{"$f":"ROUND(M1709*L1705,0)","v":1279800},1291212,{"$f":"N1705-O1705","v":-11412},-0.88382078233473671,176,168,340,340,1696,168,2022824.2199999997,1696,340,340,1696,168,2022824.2199999997,null,null,null,null,null,null,null,null,null,null,null,null,null,null,null,null,null,null,null,null,null,null,null,null,null,null,null,null,null,null,null,null,null,null,null,null,null,null,null,null,null,null,null,null,null,null,null,null,null,null,null,null,null,null,null,null,null,null,null,null,null,null,null,null,null,340,340,1696,178,1888347.0699999998,0.61254209756471267,1281224]
["03400683","0340","0683",1697,340,"Williamsburg                 ",683,"Hampshire",1346634.7339814655,0.40155482466418541,1319817.0749793467,{"$f":"IF(K1709>0, K1706/K1709, 0)","v":0.39484256864824668},null,{"$f":"ROUND(M1709*L1706,0)","v":835022},866399,{"$f":"N1706-O1706","v":-31377},-3.6215415761098524,119.3552238816,114.1789638935,340,683,1697,114.1789638935,1319817.0749793467,1697,340,683,1697,114.1789638935,1319817.0749793467,null,null,null,null,null,null,null,null,null,null,null,null,null,null,null,null,null,null,null,null,null,null,null,null,null,null,null,null,null,null,null,null,null,null,null,null,null,null,null,null,null,null,null,null,null,null,null,null,null,null,null,null,null,null,null,null,null,null,null,null,null,null,null,null,null,340,683,1697,113.33284241646,1194456.6711755255,0.38745790243528733,810427]
["03400998","0340","0998",1698,340,"",998,"",0,0,0,{"$f":"IF(K1709>0, K1707/K1709, 0)","v":0},null,{"$f":"ROUND(M1709*L1707,0)","v":0},0,{"$f":"N1707-O1707","v":0},0,0,0,340,998,1698,0,0,1698,340,998,1698,0,0,null,null,null,null,null,null,null,null,null,null,null,null,null,null,null,null,null,null,null,null,null,null,null,null,null,null,null,null,null,null,null,null,null,null,null,null,null,null,null,null,null,null,null,null,null,null,null,null,null,null,null,null,null,null,null,null,null,null,null,null,null,null,null,null,null,340,998,1698,0,0,0,0]
["03400998","0340","0998",1699,340,"",998,"",0,0,0,{"$f":"IF(K1709>0, K1708/K1709, 0)","v":0},null,{"$f":"ROUND(M1709*L1708,0)","v":0},0,{"$f":"N1708-O1708","v":0},0,0,0,340,998,1699,0,0,1699,340,998,1699,0,0,null,null,null,null,null,null,null,null,null,null,null,null,null,null,null,null,null,null,null,null,null,null,null,null,null,null,null,null,null,null,null,null,null,null,null,null,null,null,null,null,null,null,null,null,null,null,null,null,null,null,null,null,null,null,null,null,null,null,null,null,null,null,null,null,null,340,998,1699,0,0,0,0]
["03400999","0340","0999",1700,340,"Williamsburg                 ",999,"Total",3353551.3739814656,1,{"$f":"SUM(K1705:K1708)","v":3342641.2949793465},{"$f":"SUM(L1705:L1708)","v":1},{"$f":"VLOOKUP(E1709,town351,24)","v":2114822},{"$f":"SUM(N1705:N1708)","v":2114822},2157611,{"$f":"SUM(P1705:P1708)","v":-42789},-1.9831656401455129,295.35522388160001,282.1789638935,340,999,1700,282.1789638935,3342641.2949793465,1700,340,999,1700,282.1789638935,3342641.2949793465,null,null,null,null,null,null,null,null,null,null,null,null,null,null,null,null,null,null,null,null,null,null,null,null,null,null,null,null,null,null,null,null,null,null,null,null,null,null,null,null,null,null,null,null,null,null,null,null,null,null,null,null,null,null,null,null,null,null,null,null,null,null,null,null,null,340,999,1700,291.33284241645998,3082803.7411755254,1,2091651]
["03410341","0341","0341",1701,341,"Williamstown                 ",341,"Williamstown",0,0,{"$f":"X1710","v":0},{"$f":"IF(K1714>0, K1710/K1714, 0)","v":0},null,{"$f":"ROUND(M1714*L1710,0)","v":0},0,{"$f":"N1710-O1710","v":0},0,0,0,341,341,1701,0,0,1701,341,341,1701,0,0,null,null,null,null,null,null,null,null,null,null,null,null,null,null,null,null,null,null,null,null,null,null,null,null,null,null,null,null,null,null,null,null,null,null,null,null,null,null,null,null,null,null,null,null,null,null,null,null,null,null,null,null,null,null,null,null,null,null,null,null,null,null,null,null,null,341,341,1701,0,0,0,0]
["03410715","0341","0715",1702,341,"Williamstown                 ",715,"Mount Greylock",7412136.8520855131,0.96283078958332502,7341002.1588352015,{"$f":"IF(K1714>0, K1711/K1714, 0)","v":0.95890044648537498},null,{"$f":"ROUND(M1714*L1711,0)","v":6056327},6115012,{"$f":"N1711-O1711","v":-58685},-0.95968740535586849,685.74524714424001,647.25513196812005,341,715,1702,647.25513196812005,7341002.1588352015,1702,341,715,1702,647.25513196812005,7341002.1588352015,null,null,null,null,null,null,null,null,null,null,null,null,null,null,null,null,null,null,null,null,null,null,null,null,null,null,null,null,null,null,null,null,null,null,null,null,null,null,null,null,null,null,null,null,null,null,null,null,null,null,null,null,null,null,null,null,null,null,null,null,null,null,null,null,null,341,715,1702,703.15193369861993,7211290.9091861611,0.96616070476232807,5949315]
["03410851","0341","0851",1703,341,"Williamstown                 ",851,"Northern Berkshire",286138.82862178126,3.716921041667498E-2,314643.62352096033,{"$f":"IF(K1714>0, K1712/K1714, 0)","v":4.1099553514625013E-2},null,{"$f":"ROUND(M1714*L1712,0)","v":259581},236065,{"$f":"N1712-O1712","v":23516},9.9616631012644827,15.999999999350001,16.999999997690001,341,851,1703,16.999999997690001,314643.62352096033,1703,341,851,1703,16.999999997690001,314643.62352096033,null,null,null,null,null,null,null,null,null,null,null,null,null,null,null,null,null,null,null,null,null,null,null,null,null,null,null,null,null,null,null,null,null,null,null,null,null,null,null,null,null,null,null,null,null,null,null,null,null,null,null,null,null,null,null,null,null,null,null,null,null,null,null,null,null,341,851,1703,14.99999999832,252571.85571495525,3.3839295237671936E-2,208372]
["03410998","0341","0998",1704,341,"",998,"",0,0,0,{"$f":"IF(K1714>0, K1713/K1714, 0)","v":0},null,{"$f":"ROUND(M1714*L1713,0)","v":0},0,{"$f":"N1713-O1713","v":0},0,0,0,341,998,1704,0,0,1704,341,998,1704,0,0,null,null,null,null,null,null,null,null,null,null,null,null,null,null,null,null,null,null,null,null,null,null,null,null,null,null,null,null,null,null,null,null,null,null,null,null,null,null,null,null,null,null,null,null,null,null,null,null,null,null,null,null,null,null,null,null,null,null,null,null,null,null,null,null,null,341,998,1704,0,0,0,0]
["03410999","0341","0999",1705,341,"Williamstown                 ",999,"Total",7698275.6807072945,1,{"$f":"SUM(K1710:K1713)","v":7655645.7823561616},{"$f":"SUM(L1710:L1713)","v":1},{"$f":"VLOOKUP(E1714,town351,24)","v":6315908},{"$f":"SUM(N1710:N1713)","v":6315908},6351077,{"$f":"SUM(P1710:P1713)","v":-35169},-0.55374860043422558,701.74524714359006,664.25513196581005,341,999,1705,664.25513196581005,7655645.7823561616,1705,341,999,1705,664.25513196581005,7655645.7823561616,null,null,null,null,null,null,null,null,null,null,null,null,null,null,null,null,null,null,null,null,null,null,null,null,null,null,null,null,null,null,null,null,null,null,null,null,null,null,null,null,null,null,null,null,null,null,null,null,null,null,null,null,null,null,null,null,null,null,null,null,null,null,null,null,null,341,999,1705,718.15193369693998,7463862.7649011165,1,6157687]
["03420342","0342","0342",1706,342,"Wilmington                   ",342,"Wilmington",35336725.314499997,0.89518822756699645,{"$f":"X1715","v":31931135.571399998},{"$f":"IF(K1719>0, K1715/K1719, 0)","v":0.87175591587410628},null,{"$f":"ROUND(M1719*L1715,0)","v":26343187},28856084,{"$f":"N1715-O1715","v":-2512897},-8.7083784480250337,3220,2818,342,342,1706,2818,31931135.571399998,1706,342,342,1706,2818,31931135.571399998,null,null,null,null,null,null,null,null,null,null,null,null,null,null,null,null,null,null,null,null,null,null,null,null,null,null,null,null,null,null,null,null,null,null,null,null,null,null,null,null,null,null,null,null,null,null,null,null,null,null,null,null,null,null,null,null,null,null,null,null,null,null,null,null,null,342,342,1706,3386,34794527.347199991,0.90427238985547731,26550382]
["03420871","0342","0871",1707,342,"Wilmington                   ",871,"Shawsheen Valley",4137347.54115021,0.10481177243300349,4697391.9670483898,{"$f":"IF(K1719>0, K1716/K1719, 0)","v":0.12824408412589372},null,{"$f":"ROUND(M1719*L1716,0)","v":3875348},3378571,{"$f":"N1716-O1716","v":496777},14.703760850371355,245.99999999925001,275.00000000634998,342,871,1707,275.00000000634998,4697391.9670483898,1707,342,871,1707,275.00000000634998,4697391.9670483898,null,null,null,null,null,null,null,null,null,null,null,null,null,null,null,null,null,null,null,null,null,null,null,null,null,null,null,null,null,null,null,null,null,null,null,null,null,null,null,null,null,null,null,null,null,null,null,null,null,null,null,null,null,null,null,null,null,null,null,null,null,null,null,null,null,342,871,1707,231.00000000007,3683400.0312538915,9.572761014452276E-2,2810663]
["03420998","0342","0998",1708,342,"",998,null,0,0,0,{"$f":"IF(K1719>0, K1717/K1719, 0)","v":0},null,{"$f":"ROUND(M1719*L1717,0)","v":0},0,{"$f":"N1717-O1717","v":0},0,0,0,342,998,1708,0,0,1708,342,998,1708,0,0,null,null,null,null,null,null,null,null,null,null,null,null,null,null,null,null,null,null,null,null,null,null,null,null,null,null,null,null,null,null,null,null,null,null,null,null,null,null,null,null,null,null,null,null,null,null,null,null,null,null,null,null,null,null,null,null,null,null,null,null,null,null,null,null,null,342,998,1708,0,0,0,0]
["03420998","0342","0998",1709,342,"",998,"",0,0,0,{"$f":"IF(K1719>0, K1718/K1719, 0)","v":0},null,{"$f":"ROUND(M1719*L1718,0)","v":0},0,{"$f":"N1718-O1718","v":0},0,0,0,342,998,1709,0,0,1709,342,998,1709,0,0,null,null,null,null,null,null,null,null,null,null,null,null,null,null,null,null,null,null,null,null,null,null,null,null,null,null,null,null,null,null,null,null,null,null,null,null,null,null,null,null,null,null,null,null,null,null,null,null,null,null,null,null,null,null,null,null,null,null,null,null,null,null,null,null,null,342,998,1709,0,0,0,0]
["03420999","0342","0999",1710,342,"Wilmington                   ",999,"Total",39474072.855650209,1,{"$f":"SUM(K1715:K1718)","v":36628527.538448386},{"$f":"SUM(L1715:L1718)","v":1},{"$f":"VLOOKUP(E1719,town351,24)","v":30218535},{"$f":"SUM(N1715:N1718)","v":30218535},32234655,{"$f":"SUM(P1715:P1718)","v":-2016120},-6.2545108672638188,3465.9999999992501,3093.0000000063501,342,999,1710,3093.0000000063501,36628527.538448386,1710,342,999,1710,3093.0000000063501,36628527.538448386,null,null,null,null,null,null,null,null,null,null,null,null,null,null,null,null,null,null,null,null,null,null,null,null,null,null,null,null,null,null,null,null,null,null,null,null,null,null,null,null,null,null,null,null,null,null,null,null,null,null,null,null,null,null,null,null,null,null,null,null,null,null,null,null,null,342,999,1710,3617.00000000007,38477927.378453881,1,29361045]
["03430343","0343","0343",1711,343,"Winchendon                   ",343,"Winchendon",15745625.66,0.87522629051983103,{"$f":"X1720","v":16140907.580000002},{"$f":"IF(K1724>0, K1720/K1724, 0)","v":0.88721806724393271},null,{"$f":"ROUND(M1724*L1720,0)","v":5507065},5282604,{"$f":"N1720-O1720","v":224461},4.249059744020184,1322,1283,343,343,1711,1283,16140907.580000002,1711,343,343,1711,1283,16140907.580000002,null,null,null,null,null,null,null,null,null,null,null,null,null,null,null,null,null,null,null,null,null,null,null,null,null,null,null,null,null,null,null,null,null,null,null,null,null,null,null,null,null,null,null,null,null,null,null,null,null,null,null,null,null,null,null,null,null,null,null,null,null,null,null,null,null,343,343,1711,1397,15435431.700000001,0.85600572945688924,4871517]
["03430832","0343","0832",1712,343,"Winchendon                   ",832,"Montachusett",2244722.4711650959,0.12477370948016907,2051809.8317862076,{"$f":"IF(K1724>0, K1721/K1724, 0)","v":0.11278193275606734},null,{"$f":"ROUND(M1724*L1721,0)","v":700050},753097,{"$f":"N1721-O1721","v":-53047},-7.043846941363463,130.00000000049999,116.00000000463,343,832,1712,116.00000000463,2051809.8317862076,1712,343,832,1712,116.00000000463,2051809.8317862076,null,null,null,null,null,null,null,null,null,null,null,null,null,null,null,null,null,null,null,null,null,null,null,null,null,null,null,null,null,null,null,null,null,null,null,null,null,null,null,null,null,null,null,null,null,null,null,null,null,null,null,null,null,null,null,null,null,null,null,null,null,null,null,null,null,343,832,1712,160.10767160894,2596493.9855831233,0.14399427054311068,819469]
["03430998","0343","0998",1713,343,"",998,"",0,0,0,{"$f":"IF(K1724>0, K1722/K1724, 0)","v":0},null,{"$f":"ROUND(M1724*L1722,0)","v":0},0,{"$f":"N1722-O1722","v":0},0,0,0,343,998,1713,0,0,1713,343,998,1713,0,0,null,null,null,null,null,null,null,null,null,null,null,null,null,null,null,null,null,null,null,null,null,null,null,null,null,null,null,null,null,null,null,null,null,null,null,null,null,null,null,null,null,null,null,null,null,null,null,null,null,null,null,null,null,null,null,null,null,null,null,null,null,null,null,null,null,343,998,1713,0,0,0,0]
["03430998","0343","0998",1714,343,"",998,"",0,0,0,{"$f":"IF(K1724>0, K1723/K1724, 0)","v":0},null,{"$f":"ROUND(M1724*L1723,0)","v":0},0,{"$f":"N1723-O1723","v":0},0,0,0,343,998,1714,0,0,1714,343,998,1714,0,0,null,null,null,null,null,null,null,null,null,null,null,null,null,null,null,null,null,null,null,null,null,null,null,null,null,null,null,null,null,null,null,null,null,null,null,null,null,null,null,null,null,null,null,null,null,null,null,null,null,null,null,null,null,null,null,null,null,null,null,null,null,null,null,null,null,343,998,1714,0,0,0,0]
["03430999","0343","0999",1715,343,"Winchendon                   ",999,"Total",17990348.131165095,1,{"$f":"SUM(K1720:K1723)","v":18192717.41178621},{"$f":"SUM(L1720:L1723)","v":1},{"$f":"VLOOKUP(E1724,town351,24)","v":6207115},{"$f":"SUM(N1720:N1723)","v":6207115},6035701,{"$f":"SUM(P1720:P1723)","v":171414},2.8400015176364768,1452.0000000005,1399.00000000463,343,999,1715,1399.00000000463,18192717.41178621,1715,343,999,1715,1399.00000000463,18192717.41178621,null,null,null,null,null,null,null,null,null,null,null,null,null,null,null,null,null,null,null,null,null,null,null,null,null,null,null,null,null,null,null,null,null,null,null,null,null,null,null,null,null,null,null,null,null,null,null,null,null,null,null,null,null,null,null,null,null,null,null,null,null,null,null,null,null,343,999,1715,1557.1076716089401,18031925.685583126,0.99999999999999989,5690986]
["03440344","0344","0344",1716,344,"Winchester                   ",344,"Winchester",49895727.543140002,0.99774923949083294,{"$f":"X1725","v":49557487.22226999},{"$f":"IF(K1729>0, K1725/K1729, 0)","v":0.99559247351376079},null,{"$f":"ROUND(M1729*L1725,0)","v":40884927},40278256,{"$f":"N1725-O1725","v":606671},1.5061997719067082,4685,4513,344,344,1716,4513,49557487.22226999,1716,344,344,1716,4513,49557487.22226999,null,null,null,null,null,null,null,null,null,null,null,null,null,null,null,null,null,null,null,null,null,null,null,null,null,null,null,null,null,null,null,null,null,null,null,null,null,null,null,null,null,null,null,null,null,null,null,null,null,null,null,null,null,null,null,null,null,null,null,null,null,null,null,null,null,344,344,1716,4650,46376139.481770001,0.99698119198715618,37332874]
["03440853","0344","0853",1717,344,"Winchester                   ",853,"Northeast Metropolitan",112556.67124093171,2.2507605091670727E-3,219392.91761891256,{"$f":"IF(K1729>0, K1726/K1729, 0)","v":4.4075264862391637E-3},null,{"$f":"ROUND(M1729*L1726,0)","v":180999},90861,{"$f":"N1726-O1726","v":90138},99.204279063624654,6.0000000022699993,10.999999994969999,344,853,1717,10.999999994969999,219392.91761891256,1717,344,853,1717,10.999999994969999,219392.91761891256,null,null,null,null,null,null,null,null,null,null,null,null,null,null,null,null,null,null,null,null,null,null,null,null,null,null,null,null,null,null,null,null,null,null,null,null,null,null,null,null,null,null,null,null,null,null,null,null,null,null,null,null,null,null,null,null,null,null,null,null,null,null,null,null,null,344,853,1717,8.0000000007600001,140424.57630848596,3.0188080128437291E-3,113042]
["03440998","0344","0998",1718,344,"",998,"",0,0,0,{"$f":"IF(K1729>0, K1727/K1729, 0)","v":0},null,{"$f":"ROUND(M1729*L1727,0)","v":0},0,{"$f":"N1727-O1727","v":0},0,0,0,344,998,1718,0,0,1718,344,998,1718,0,0,null,null,null,null,null,null,null,null,null,null,null,null,null,null,null,null,null,null,null,null,null,null,null,null,null,null,null,null,null,null,null,null,null,null,null,null,null,null,null,null,null,null,null,null,null,null,null,null,null,null,null,null,null,null,null,null,null,null,null,null,null,null,null,null,null,344,998,1718,0,0,0,0]
["03440998","0344","0998",1719,344,"",998,"",0,0,0,{"$f":"IF(K1729>0, K1728/K1729, 0)","v":0},null,{"$f":"ROUND(M1729*L1728,0)","v":0},0,{"$f":"N1728-O1728","v":0},0,0,0,344,998,1719,0,0,1719,344,998,1719,0,0,null,null,null,null,null,null,null,null,null,null,null,null,null,null,null,null,null,null,null,null,null,null,null,null,null,null,null,null,null,null,null,null,null,null,null,null,null,null,null,null,null,null,null,null,null,null,null,null,null,null,null,null,null,null,null,null,null,null,null,null,null,null,null,null,null,344,998,1719,0,0,0,0]
["03440999","0344","0999",1720,344,"Winchester                   ",999,"Total",50008284.214380935,1,{"$f":"SUM(K1725:K1728)","v":49776880.139888905},{"$f":"SUM(L1725:L1728)","v":1},{"$f":"VLOOKUP(E1729,town351,24)","v":41065926},{"$f":"SUM(N1725:N1728)","v":41065926},40369117,{"$f":"SUM(P1725:P1728)","v":696809},1.7260942318852306,4691.0000000022701,4523.9999999949696,344,999,1720,4523.9999999949696,49776880.139888905,1720,344,999,1720,4523.9999999949696,49776880.139888905,null,null,null,null,null,null,null,null,null,null,null,null,null,null,null,null,null,null,null,null,null,null,null,null,null,null,null,null,null,null,null,null,null,null,null,null,null,null,null,null,null,null,null,null,null,null,null,null,null,null,null,null,null,null,null,null,null,null,null,null,null,null,null,null,null,344,999,1720,4658.0000000007603,46516564.05807849,0.99999999999999989,37445916]
["03450345","0345","0345",1721,345,"Windsor                      ",345,"Windsor",58631.199999999997,7.2856295183470698E-2,{"$f":"X1730","v":59771.8},{"$f":"IF(K1734>0, K1730/K1734, 0)","v":7.8121280673649804E-2},null,{"$f":"ROUND(M1734*L1730,0)","v":49312},48371,{"$f":"N1730-O1730","v":941},1.9453804965785284,4,4,345,345,1721,4,59771.8,1721,345,345,1721,4,59771.8,null,null,null,null,null,null,null,null,null,null,null,null,null,null,null,null,null,null,null,null,null,null,null,null,null,null,null,null,null,null,null,null,null,null,null,null,null,null,null,null,null,null,null,null,null,null,null,null,null,null,null,null,null,null,null,null,null,null,null,null,null,null,null,null,null,345,345,1721,3,41511.479999999996,4.9414608371146709E-2,34247]
["03450635","0345","0635",1722,345,"Windsor                      ",635,"Central Berkshire",746120.12385405705,0.92714370481652941,705343.66514061356,{"$f":"IF(K1734>0, K1731/K1734, 0)","v":0.92187871932635013},null,{"$f":"ROUND(M1734*L1731,0)","v":581908},615549,{"$f":"N1731-O1731","v":-33641},-5.4652026077534037,64.328165370560001,58.231770828280006,345,635,1722,58.231770828280006,705343.66514061356,1722,345,635,1722,58.231770828280006,705343.66514061356,null,null,null,null,null,null,null,null,null,null,null,null,null,null,null,null,null,null,null,null,null,null,null,null,null,null,null,null,null,null,null,null,null,null,null,null,null,null,null,null,null,null,null,null,null,null,null,null,null,null,null,null,null,null,null,null,null,null,null,null,null,null,null,null,null,345,635,1722,73.943661979599995,798553.45966748975,0.95058539162885336,658807]
["03450998","0345","0998",1723,345,"",998,"",0,0,0,{"$f":"IF(K1734>0, K1732/K1734, 0)","v":0},null,{"$f":"ROUND(M1734*L1732,0)","v":0},0,{"$f":"N1732-O1732","v":0},0,0,0,345,998,1723,0,0,1723,345,998,1723,0,0,null,null,null,null,null,null,null,null,null,null,null,null,null,null,null,null,null,null,null,null,null,null,null,null,null,null,null,null,null,null,null,null,null,null,null,null,null,null,null,null,null,null,null,null,null,null,null,null,null,null,null,null,null,null,null,null,null,null,null,null,null,null,null,null,null,345,998,1723,0,0,0,0]
["03450998","0345","0998",1724,345,"",998,"",0,0,0,{"$f":"IF(K1734>0, K1733/K1734, 0)","v":0},null,{"$f":"ROUND(M1734*L1733,0)","v":0},0,{"$f":"N1733-O1733","v":0},0,0,0,345,998,1724,0,0,1724,345,998,1724,0,0,null,null,null,null,null,null,null,null,null,null,null,null,null,null,null,null,null,null,null,null,null,null,null,null,null,null,null,null,null,null,null,null,null,null,null,null,null,null,null,null,null,null,null,null,null,null,null,null,null,null,null,null,null,null,null,null,null,null,null,null,null,null,null,null,null,345,998,1724,0,0,0,0]
["03450999","0345","0999",1725,345,"Windsor                      ",999,"Total",804751.323854057,1,{"$f":"SUM(K1730:K1733)","v":765115.46514061361},{"$f":"SUM(L1730:L1733)","v":0.99999999999999989},{"$f":"VLOOKUP(E1734,town351,24)","v":631220},{"$f":"SUM(N1730:N1733)","v":631220},663920,{"$f":"SUM(P1730:P1733)","v":-32700},-4.9252922038799856,68.328165370560001,62.231770828280006,345,999,1725,62.231770828280006,765115.46514061361,1725,345,999,1725,62.231770828280006,765115.46514061361,null,null,null,null,null,null,null,null,null,null,null,null,null,null,null,null,null,null,null,null,null,null,null,null,null,null,null,null,null,null,null,null,null,null,null,null,null,null,null,null,null,null,null,null,null,null,null,null,null,null,null,null,null,null,null,null,null,null,null,null,null,null,null,null,null,345,999,1725,76.943661979599995,840064.93966748973,1,693054]
["03460346","0346","0346",1726,346,"Winthrop                     ",346,"Winthrop",23537383.711800005,0.96315331153545136,{"$f":"X1735","v":23368693.414199997},{"$f":"IF(K1739>0, K1735/K1739, 0)","v":0.95360829198974095},null,{"$f":"ROUND(M1739*L1735,0)","v":17312069},16793461,{"$f":"N1735-O1735","v":518608},3.0881543715140078,1986,1907,346,346,1726,1907,23368693.414199997,1726,346,346,1726,1907,23368693.414199997,null,null,null,null,null,null,null,null,null,null,null,null,null,null,null,null,null,null,null,null,null,null,null,null,null,null,null,null,null,null,null,null,null,null,null,null,null,null,null,null,null,null,null,null,null,null,null,null,null,null,null,null,null,null,null,null,null,null,null,null,null,null,null,null,null,346,346,1726,2027,22361612.680800002,0.96441935711352289,15285867]
["03460853","0346","0853",1727,346,"Winthrop                     ",853,"Northeast Metropolitan",900453.36968902114,3.6846688464548659E-2,1136854.2100140324,{"$f":"IF(K1739>0, K1736/K1739, 0)","v":4.6391708010258957E-2},null,{"$f":"ROUND(M1739*L1736,0)","v":842208},642456,{"$f":"N1736-O1736","v":199752},31.091934700586499,48.000000005449998,57.00000000072,346,853,1727,57.00000000072,1136854.2100140324,1727,346,853,1727,57.00000000072,1136854.2100140324,null,null,null,null,null,null,null,null,null,null,null,null,null,null,null,null,null,null,null,null,null,null,null,null,null,null,null,null,null,null,null,null,null,null,null,null,null,null,null,null,null,null,null,null,null,null,null,null,null,null,null,null,null,null,null,null,null,null,null,null,null,null,null,null,null,346,853,1727,47.000000002919997,824994.38578523544,3.5580642886477089E-2,563947]
["03460998","0346","0998",1728,346,"",998,null,0,0,0,{"$f":"IF(K1739>0, K1737/K1739, 0)","v":0},null,{"$f":"ROUND(M1739*L1737,0)","v":0},0,{"$f":"N1737-O1737","v":0},0,0,0,346,998,1728,0,0,1728,346,998,1728,0,0,null,null,null,null,null,null,null,null,null,null,null,null,null,null,null,null,null,null,null,null,null,null,null,null,null,null,null,null,null,null,null,null,null,null,null,null,null,null,null,null,null,null,null,null,null,null,null,null,null,null,null,null,null,null,null,null,null,null,null,null,null,null,null,null,null,346,998,1728,0,0,0,0]
[{"$f":"B1738&C1738","v":"03460998"},"0346","0998",1729,346,"",998,"",0,0,0,{"$f":"IF(K1739>0, K1738/K1739, 0)","v":0},null,{"$f":"ROUND(M1739*L1738,0)","v":0},0,{"$f":"N1738-O1738","v":0},0,0,0,{"$f":"VLOOKUP($D1738, foundoptions, VLOOKUP($T$6, foundoptcell, 2, FALSE), FALSE)","v":346},{"$f":"VLOOKUP($D1738, foundoptions, VLOOKUP($T$6, foundoptcell, 2, FALSE)+1, FALSE)","v":998},{"$f":"VLOOKUP($D1738, foundoptions, VLOOKUP($T$6, foundoptcell, 2, FALSE)+2, FALSE)","v":1729},{"$f":"VLOOKUP($D1738, foundoptions, VLOOKUP($T$6, foundoptcell, 2, FALSE)+3, FALSE)","v":0},{"$f":"VLOOKUP($D1738, foundoptions, VLOOKUP($T$6, foundoptcell, 2, FALSE)+4, FALSE)","v":0},1729,346,998,1729,0,0,null,null,null,null,null,null,null,null,null,null,null,null,null,null,null,null,null,null,null,null,null,null,null,null,null,null,null,null,null,null,null,null,null,null,null,null,null,null,null,null,null,null,null,null,null,null,null,null,null,null,null,null,null,null,null,null,null,null,null,null,null,null,null,null,null,346,998,1729,0,0,0,0]
["03460999","0346","0999",1730,346,"Winthrop                     ",999,"Total",24437837.081489027,1,{"$f":"SUM(K1735:K1738)","v":24505547.624214031},{"$f":"SUM(L1735:L1738)","v":0.99999999999999989},{"$f":"VLOOKUP(E1739,town351,24)","v":18154277},{"$f":"SUM(N1735:N1738)","v":18154277},17435917,{"$f":"SUM(P1735:P1738)","v":718360},4.1200012594691753,2034.0000000054499,{"$f":"W1739","v":1964.0000000007201},346,999,1730,1964.0000000007201,24505547.624214031,{"$f":"D1739","v":1730},346,999,1730,1964.0000000007201,24505547.624214031,null,null,null,null,null,null,null,null,null,null,null,null,null,null,null,null,null,null,null,null,null,null,null,null,null,null,null,null,null,null,null,null,null,null,null,null,null,null,null,null,null,null,null,null,null,null,null,null,null,null,null,null,null,null,null,null,null,null,null,null,null,null,null,null,null,346,999,1730,2074.0000000029199,23186607.066585239,1,15849814]
["03470347","0347","0347",1731,347,"Woburn",347,"Woburn",54604897.586800009,0.96326686511397341,{"$f":"X1740","v":54727485.960259996},{"$f":"IF(K1744>0, K1740/K1744, 0)","v":0.96011121442721292},null,{"$f":"ROUND(M1744*L1740,0)","v":45150176},45049041,{"$f":"N1740-O1740","v":101135},0.22449978457921002,4517,4384,347,347,1731,4384,54727485.960259996,1731,347,347,1731,4384,54727485.960259996,null,null,null,null,null,null,null,null,null,null,null,null,null,null,null,null,null,null,null,null,null,null,null,null,null,null,null,null,null,null,null,null,null,null,null,null,null,null,null,null,null,null,null,null,null,null,null,null,null,null,null,null,null,null,null,null,null,null,null,null,null,null,null,null,null,347,347,1731,4659,51790238.039180018,0.9656356741149108,42726946]
["03470853","0347","0853",1732,347,"Woburn",853,"Northeast Metropolitan",2082298.4171227228,3.6733134886026621E-2,2273708.4200280649,{"$f":"IF(K1744>0, K1741/K1744, 0)","v":3.988878557278705E-2},null,{"$f":"ROUND(M1744*L1741,0)","v":1875809},1717896,{"$f":"N1741-O1741","v":157913},9.1922328243386104,110.99999999750999,114.00000000144,347,853,1732,114.00000000144,2273708.4200280649,1732,347,853,1732,114.00000000144,2273708.4200280649,null,null,null,null,null,null,null,null,null,null,null,null,null,null,null,null,null,null,null,null,null,null,null,null,null,null,null,null,null,null,null,null,null,null,null,null,null,null,null,null,null,null,null,null,null,null,null,null,null,null,null,null,null,null,null,null,null,null,null,null,null,null,null,null,null,347,853,1732,104.99999999916001,1843072.563859042,3.4364325885089156E-2,1520535]
["03470998","0347","0998",1733,347,"",998,null,0,0,0,{"$f":"IF(K1744>0, K1742/K1744, 0)","v":0},null,{"$f":"ROUND(M1744*L1742,0)","v":0},0,{"$f":"N1742-O1742","v":0},0,0,0,347,998,1733,0,0,1733,347,998,1733,0,0,null,null,null,null,null,null,null,null,null,null,null,null,null,null,null,null,null,null,null,null,null,null,null,null,null,null,null,null,null,null,null,null,null,null,null,null,null,null,null,null,null,null,null,null,null,null,null,null,null,null,null,null,null,null,null,null,null,null,null,null,null,null,null,null,null,347,998,1733,0,0,0,0]
["03470998","0347","0998",1734,347,"",998,"",0,0,0,{"$f":"IF(K1744>0, K1743/K1744, 0)","v":0},null,{"$f":"ROUND(M1744*L1743,0)","v":0},0,{"$f":"N1743-O1743","v":0},0,0,0,347,998,1734,0,0,1734,347,998,1734,0,0,null,null,null,null,null,null,null,null,null,null,null,null,null,null,null,null,null,null,null,null,null,null,null,null,null,null,null,null,null,null,null,null,null,null,null,null,null,null,null,null,null,null,null,null,null,null,null,null,null,null,null,null,null,null,null,null,null,null,null,null,null,null,null,null,null,347,998,1734,0,0,0,0]
["03470999","0347","0999",1735,347,"Woburn",999,"Total",56687196.003922731,1,{"$f":"SUM(K1740:K1743)","v":57001194.380288064},{"$f":"SUM(L1740:L1743)","v":1},{"$f":"VLOOKUP(E1744,town351,24)","v":47025985},{"$f":"SUM(N1740:N1743)","v":47025985},46766937,{"$f":"SUM(P1740:P1743)","v":259048},{"$f":"IF(O1744>0,P1744*100/O1744,IF(P1744>0,100,0))","v":0.55391269263582521},4627.9999999975098,4498.0000000014397,347,999,1735,4498.0000000014397,57001194.380288064,1735,347,999,1735,4498.0000000014397,57001194.380288064,null,null,null,null,null,null,null,null,null,null,null,null,null,null,null,null,null,null,null,null,null,null,null,null,null,null,null,null,null,null,null,null,null,null,null,null,null,null,null,null,null,null,null,null,null,null,null,null,null,null,null,null,null,null,null,null,null,null,null,null,null,null,null,null,null,347,999,1735,4763.9999999991596,53633310.603039064,1,44247481]
["03480348","0348","0348",1736,348,"Worcester                    ",348,"Worcester",382606983.73000002,1,{"$f":"X1745","v":397940445.01999998},{"$f":"IF(K1749>0, K1745/K1749, 0)","v":1},null,{"$f":"ROUND(M1749*L1745,0)","v":108935456},105210987,{"$f":"N1745-O1745","v":3724469},3.540000057218359,27442,26540,348,348,1736,26540,397940445.01999998,1736,348,348,1736,26540,397940445.01999998,null,null,null,null,null,null,null,null,null,null,null,null,null,null,null,null,null,null,null,null,null,null,null,null,null,null,null,null,null,null,null,null,null,null,null,null,null,null,null,null,null,null,null,null,null,null,null,null,null,null,null,null,null,null,null,null,null,null,null,null,null,null,null,null,null,348,348,1736,27611,353662082.21999997,1,100450297]
["03480998","0348","0998",1737,348,"",998,"",0,0,0,{"$f":"IF(K1749>0, K1746/K1749, 0)","v":0},null,{"$f":"ROUND(M1749*L1746,0)","v":0},0,{"$f":"N1746-O1746","v":0},0,0,0,348,998,1737,0,0,1737,348,998,1737,0,0,null,null,null,null,null,null,null,null,null,null,null,null,null,null,null,null,null,null,null,null,null,null,null,null,null,null,null,null,null,null,null,null,null,null,null,null,null,null,null,null,null,null,null,null,null,null,null,null,null,null,null,null,null,null,null,null,null,null,null,null,null,null,null,null,null,348,998,1737,0,0,0,0]
["03480998","0348","0998",1738,348,"",998,"",0,0,0,{"$f":"IF(K1749>0, K1747/K1749, 0)","v":0},null,{"$f":"ROUND(M1749*L1747,0)","v":0},0,{"$f":"N1747-O1747","v":0},0,0,0,348,998,1738,0,0,1738,348,998,1738,0,0,null,null,null,null,null,null,null,null,null,null,null,null,null,null,null,null,null,null,null,null,null,null,null,null,null,null,null,null,null,null,null,null,null,null,null,null,null,null,null,null,null,null,null,null,null,null,null,null,null,null,null,null,null,null,null,null,null,null,null,null,null,null,null,null,null,348,998,1738,0,0,0,0]
["03480998","0348","0998",1739,348,"",998,"",0,0,0,{"$f":"IF(K1749>0, K1748/K1749, 0)","v":0},null,{"$f":"ROUND(M1749*L1748,0)","v":0},0,{"$f":"N1748-O1748","v":0},0,0,0,348,998,1739,0,0,1739,348,998,1739,0,0,null,null,null,null,null,null,null,null,null,null,null,null,null,null,null,null,null,null,null,null,null,null,null,null,null,null,null,null,null,null,null,null,null,null,null,null,null,null,null,null,null,null,null,null,null,null,null,null,null,null,null,null,null,null,null,null,null,null,null,null,null,null,null,null,null,348,998,1739,0,0,0,0]
["03480999","0348","0999",1740,348,"Worcester                    ",999,"Total",382606983.73000002,1,{"$f":"SUM(K1745:K1748)","v":397940445.01999998},{"$f":"SUM(L1745:L1748)","v":1},{"$f":"VLOOKUP(E1749,town351,24)","v":108935456},{"$f":"SUM(N1745:N1748)","v":108935456},105210987,{"$f":"SUM(P1745:P1748)","v":3724469},3.540000057218359,27442,26540,348,999,1740,26540,397940445.01999998,1740,348,999,1740,26540,397940445.01999998,null,null,null,null,null,null,null,null,null,null,null,null,null,null,null,null,null,null,null,null,null,null,null,null,null,null,null,null,null,null,null,null,null,null,null,null,null,null,null,null,null,null,null,null,null,null,null,null,null,null,null,null,null,null,null,null,null,null,null,null,null,null,null,null,null,348,999,1740,27611,353662082.21999997,1,100450297]
["03490349","0349","0349",1741,349,"Worthington                  ",349,"Worthington",1374749.7299999997,1,{"$f":"X1750","v":1186757.45},{"$f":"IF(K1754>0, K1750/K1754, 0)","v":1},null,{"$f":"ROUND(M1754*L1750,0)","v":979075},1018495,{"$f":"N1750-O1750","v":-39420},-3.8704166441661472,123,102,349,349,1741,102,1186757.45,1741,349,349,1741,102,1186757.45,null,null,null,null,null,null,null,null,null,null,null,null,null,null,null,null,null,null,null,null,null,null,null,null,null,null,null,null,null,null,null,null,null,null,null,null,null,null,null,null,null,null,null,null,null,null,null,null,null,null,null,null,null,null,null,null,null,null,null,null,null,null,null,null,null,349,349,1741,107,1138991.4000000001,1,939668]
["03490998","0349","0998",1742,349,null,998,null,0,0,0,{"$f":"IF(K1754>0, K1751/K1754, 0)","v":0},null,{"$f":"ROUND(M1754*L1751,0)","v":0},0,{"$f":"N1751-O1751","v":0},0,0,0,349,998,1742,0,0,1742,349,998,1742,0,0,null,null,null,null,null,null,null,null,null,null,null,null,null,null,null,null,null,null,null,null,null,null,null,null,null,null,null,null,null,null,null,null,null,null,null,null,null,null,null,null,null,null,null,null,null,null,null,null,null,null,null,null,null,null,null,null,null,null,null,null,null,null,null,null,null,349,998,1742,0,0,0,0]
["03490998","0349","0998",1743,349,"",998,"",0,0,0,{"$f":"IF(K1754>0, K1752/K1754, 0)","v":0},null,{"$f":"ROUND(M1754*L1752,0)","v":0},0,{"$f":"N1752-O1752","v":0},0,0,0,349,998,1743,0,0,1743,349,998,1743,0,0,null,null,null,null,null,null,null,null,null,null,null,null,null,null,null,null,null,null,null,null,null,null,null,null,null,null,null,null,null,null,null,null,null,null,null,null,null,null,null,null,null,null,null,null,null,null,null,null,null,null,null,null,null,null,null,null,null,null,null,null,null,null,null,null,null,349,998,1743,0,0,0,0]
["03490998","0349","0998",1744,349,"",998,"",0,0,0,{"$f":"IF(K1754>0, K1753/K1754, 0)","v":0},null,{"$f":"ROUND(M1754*L1753,0)","v":0},0,{"$f":"N1753-O1753","v":0},0,0,0,349,998,1744,0,0,1744,349,998,1744,0,0,null,null,null,null,null,null,null,null,null,null,null,null,null,null,null,null,null,null,null,null,null,null,null,null,null,null,null,null,null,null,null,null,null,null,null,null,null,null,null,null,null,null,null,null,null,null,null,null,null,null,null,null,null,null,null,null,null,null,null,null,null,null,null,null,null,349,998,1744,0,0,0,0]
["03490999","0349","0999",1745,349,"Worthington                  ",999,"Total",1374749.7299999997,1,{"$f":"SUM(K1750:K1753)","v":1186757.45},{"$f":"SUM(L1750:L1753)","v":1},{"$f":"VLOOKUP(E1754,town351,24)","v":979075},{"$f":"SUM(N1750:N1753)","v":979075},1018495,{"$f":"SUM(P1750:P1753)","v":-39420},-3.8704166441661472,123,102,349,999,1745,102,1186757.45,1745,349,999,1745,102,1186757.45,null,null,null,null,null,null,null,null,null,null,null,null,null,null,null,null,null,null,null,null,null,null,null,null,null,null,null,null,null,null,null,null,null,null,null,null,null,null,null,null,null,null,null,null,null,null,null,null,null,null,null,null,null,null,null,null,null,null,null,null,null,null,null,null,null,349,999,1745,107,1138991.4000000001,1,939668]
["03500350","0350","0350",1746,350,"Wrentham                     ",350,"Wrentham",9053868.8087499999,0.46646096324074171,{"$f":"X1755","v":8684835.7043299992},{"$f":"IF(K1759>0, K1755/K1759, 0)","v":0.44899429255379264},null,{"$f":"ROUND(M1759*L1755,0)","v":7164989},7469442,{"$f":"N1755-O1755","v":-304453},-4.0759805083164178,874,822,350,350,1746,822,8684835.7043299992,1746,350,350,1746,822,8684835.7043299992,null,null,null,null,null,null,null,null,null,null,null,null,null,null,null,null,null,null,null,null,null,null,null,null,null,null,null,null,null,null,null,null,null,null,null,null,null,null,null,null,null,null,null,null,null,null,null,null,null,null,null,null,null,null,null,null,null,null,null,null,null,null,null,null,null,350,350,1746,944,9153991.6259199996,0.48841451205039638,7552043]
["03500690","0350","0690",1747,350,"Wrentham                     ",690,"King Philip",9186166.6678768415,0.47327703138868682,9240376.2188146636,{"$f":"IF(K1759>0, K1756/K1759, 0)","v":0.47771498788734412},null,{"$f":"ROUND(M1759*L1756,0)","v":7623310},7578587,{"$f":"N1756-O1756","v":44723},0.59012319842735861,827.99999999981003,811.40088976408003,350,690,1747,811.40088976408003,9240376.2188146636,1747,350,690,1747,811.40088976408003,9240376.2188146636,null,null,null,null,null,null,null,null,null,null,null,null,null,null,null,null,null,null,null,null,null,null,null,null,null,null,null,null,null,null,null,null,null,null,null,null,null,null,null,null,null,null,null,null,null,null,null,null,null,null,null,null,null,null,null,null,null,null,null,null,null,null,null,null,null,350,690,1747,825.99999999426007,8525497.992244022,0.45488100842019374,7033536]
["03500878","0350","0878",1748,350,"Wrentham                     ",878,"Tri County",1008008.5884322928,5.1933230649493387E-2,1232256.0816541007,{"$f":"IF(K1759>0, K1757/K1759, 0)","v":6.3705977460407751E-2},null,{"$f":"ROUND(M1759*L1757,0)","v":1016611},831607,{"$f":"N1757-O1757","v":185004},22.246565986096797,56.999999999400004,66.073008851800012,350,878,1748,66.073008851800012,1232256.0816541007,1748,350,878,1748,66.073008851800012,1232256.0816541007,null,null,null,null,null,null,null,null,null,null,null,null,null,null,null,null,null,null,null,null,null,null,null,null,null,null,null,null,null,null,null,null,null,null,null,null,null,null,null,null,null,null,null,null,null,null,null,null,null,null,null,null,null,null,null,null,null,null,null,null,null,null,null,null,null,350,878,1748,56.000000002519997,943152.20278691954,5.0322224635761935E-2,778101]
["03500915","0350","0915",1749,350,"Wrentham                     ",915,"Norfolk County",161659.04460338355,8.3287747210778595E-3,185396.36644376378,{"$f":"IF(K1759>0, K1758/K1759, 0)","v":9.5847420984555287E-3},null,{"$f":"ROUND(M1759*L1758,0)","v":152952},133369,{"$f":"N1758-O1758","v":19583},14.683322211308475,9.00000000042,10.00000000124,350,915,1749,10.00000000124,185396.36644376378,1749,350,915,1749,10.00000000124,185396.36644376378,null,null,null,null,null,null,null,null,null,null,null,null,null,null,null,null,null,null,null,null,null,null,null,null,null,null,null,null,null,null,null,null,null,null,null,null,null,null,null,null,null,null,null,null,null,null,null,null,null,null,null,null,null,null,null,null,null,null,null,null,null,null,null,null,null,350,915,1749,7.00000000043,119617.8786860312,6.3822548936480778E-3,98685]
["03500999","0350","0999",1750,350,"Wrentham                     ",999,"Total",19409703.109662522,0.99999999999999978,{"$f":"SUM(K1755:K1758)","v":19342864.371242527},{"$f":"SUM(L1755:L1758)","v":1},{"$f":"VLOOKUP(E1759,town351,24)","v":15957863},{"$f":"SUM(N1755:N1758)","v":15957862},16013005,{"$f":"SUM(P1755:P1758)","v":-55143},-0.34436384676080473,1767.9999999996298,1709.4738986171203,350,999,1750,1709.4738986171203,19342864.371242527,1750,350,999,1750,1709.4738986171203,19342864.371242527,null,null,null,null,null,null,null,null,null,null,null,null,null,null,null,null,null,null,null,null,null,null,null,null,null,null,null,null,null,null,null,null,null,null,null,null,null,null,null,null,null,null,null,null,null,null,null,null,null,null,null,null,null,null,null,null,null,null,null,null,null,null,null,null,null,350,999,1750,1832.9999999972101,18742259.69963697,1.0000000000000002,15462365]
["03510351","0351","0351",1751,351,"Yarmouth                     ",351,"Yarmouth",0,0,{"$f":"X1760","v":0},{"$f":"IF(K1764>0, K1760/K1764, 0)","v":0},null,{"$f":"ROUND(M1764*L1760,0)","v":0},0,{"$f":"N1760-O1760","v":0},0,0,0,351,351,1751,0,0,1751,351,351,1751,0,0,null,null,null,null,null,null,null,null,null,null,null,null,null,null,null,null,null,null,null,null,null,null,null,null,null,null,null,null,null,null,null,null,null,null,null,null,null,null,null,null,null,null,null,null,null,null,null,null,null,null,null,null,null,null,null,null,null,null,null,null,null,null,null,null,null,351,351,1751,0,0,0,0]
["03510645","0351","0645",1752,351,"Yarmouth                     ",645,"Dennis Yarmouth",27983143.937454641,0.91753091567263378,27612604.517141156,{"$f":"IF(K1764>0, K1761/K1764, 0)","v":0.90236126136556105},null,{"$f":"ROUND(M1764*L1761,0)","v":22202464},22445527,{"$f":"N1761-O1761","v":-243063},-1.0829017291507568,2288.2144772185002,2175.8341247170001,351,645,1752,2175.8341247170001,27612604.517141156,1752,351,645,1752,2175.8341247170001,27612604.517141156,null,null,null,null,null,null,null,null,null,null,null,null,null,null,null,null,null,null,null,null,null,null,null,null,null,null,null,null,null,null,null,null,null,null,null,null,null,null,null,null,null,null,null,null,null,null,null,null,null,null,null,null,null,null,null,null,null,null,null,null,null,null,null,null,null,351,645,1752,2282.2723292604201,25659870.981850386,0.93021329822469334,21075783]
["03510815","0351","0815",1753,351,"Yarmouth                     ",815,"Cape Cod",2515167.8463400705,8.2469084327366132E-2,2987783.2647483959,{"$f":"IF(K1764>0, K1762/K1764, 0)","v":9.7638738634439046E-2},null,{"$f":"ROUND(M1764*L1762,0)","v":2402387},2017438,{"$f":"N1762-O1762","v":384949},19.081082045644031,137.00000000206001,158.99999999795997,351,815,1753,158.99999999795997,2987783.2647483959,1753,351,815,1753,158.99999999795997,2987783.2647483959,null,null,null,null,null,null,null,null,null,null,null,null,null,null,null,null,null,null,null,null,null,null,null,null,null,null,null,null,null,null,null,null,null,null,null,null,null,null,null,null,null,null,null,null,null,null,null,null,null,null,null,null,null,null,null,null,null,null,null,null,null,null,null,null,null,351,815,1753,114.00000000282,1925061.4533471123,6.9786701775306687E-2,1581153]
["03510998","0351","0998",1754,351,"",998,"",0,0,0,{"$f":"IF(K1764>0, K1763/K1764, 0)","v":0},null,{"$f":"ROUND(M1764*L1763,0)","v":0},0,{"$f":"N1763-O1763","v":0},0,0,0,351,998,1754,0,0,1754,351,998,1754,0,0,null,null,null,null,null,null,null,null,null,null,null,null,null,null,null,null,null,null,null,null,null,null,null,null,null,null,null,null,null,null,null,null,null,null,null,null,null,null,null,null,null,null,null,null,null,null,null,null,null,null,null,null,null,null,null,null,null,null,null,null,null,null,null,null,null,351,998,1754,0,0,0,0]
["03510999","0351","0999",1755,351,"Yarmouth                     ",999,"Total",30498311.783794712,0.99999999999999989,{"$f":"SUM(K1760:K1763)","v":30600387.78188955},{"$f":"SUM(L1760:L1763)","v":1},{"$f":"VLOOKUP(E1764,town351,24)","v":24604851},{"$f":"SUM(N1760:N1763)","v":24604851},24462965,{"$f":"SUM(P1760:P1763)","v":141886},0.58000328251297417,2425.2144772205602,2334.8341247149601,351,999,1755,2334.8341247149601,30600387.78188955,1755,351,999,1755,2334.8341247149601,30600387.78188955,null,null,null,null,null,null,null,null,null,null,null,null,null,null,null,null,null,null,null,null,null,null,null,null,null,null,null,null,null,null,null,null,null,null,null,null,null,null,null,null,null,null,null,null,null,null,null,null,null,null,null,null,null,null,null,null,null,null,null,null,null,null,null,null,null,351,999,1755,2396.27232926324,27584932.435197499,1,22656936]
[null,null,null,1756,999,"State Total",999,"STATE TOTAL",11626531095.326315,null,{"$f":"SUM(K10:K1764)/2","v":11883557788.563416},null,{"$f":"SUM(M10:M1764)","v":6810206794},{"$f":"SUM(N10:N1764)/2","v":6810206787},{"$f":"SUM(O10:O1764)/2","v":6705321561},{"$f":"SUM(P10:P1764)/2","v":104885226},1.5642087414575523,938084.99999988661,{"$f":"SUM(S10:S1764)/2","v":907506.00000004785},null,null,null,{"$f":"SUM(W10:W1764)/2","v":907506.00000004785},11883557788.563416,null,null,null,null,907506.00000004785,11883557788.563416,null,null,null,null,null,null,null,null,null,null,{"$f":"SUM(AO10:AO1764)/2","v":0},0,null,null,null,null,{"$f":"SUM(AU10:AU1764)/2","v":0},0,null,null,null,null,{"$f":"SUM(BA10:BA1764)/2","v":0},0,null,null,null,null,{"$f":"SUM(BG10:BG1764)/2","v":0},0,null,null,null,null,null,null,null,null,null,null,null,null,null,null,null,null,null,null,null,null,null,null,{"$f":"SUM(CE10:CE1764)/2","v":0},{"$f":"SUM(CF10:CF1764)/2","v":0},null,null,null,null,null,{"$f":"SUM(CL10:CL1764)/2","v":0},null,null,null,null,null,null,null,null,941411.00000002387,10777588551.404562,null,6246842886]
[null,null,null,null,null,null,null,null,null,null,null,null,null,null,null,null,null,null,null,null,null,null,null,null,null,null,null,null,null,null,null,null,null,null,null,null,null,null,null,null,null,null,null,null,null,null,null,null,null,null,null,null,null,null,null,null,null,null,null,null,null,null,null,null,null,null,null,null,null,null,null,null,null,null,null,null,null,null,null,null,null,null,null,{"$f":"CF1765-AD1765","v":-11883557788.563416}]

{"sheet":"Foundation Budget","index":5,"n_rows":48,"n_cols":21,"rows_kept":48,"cut":false,"hidden":false,"merged":[[36,1,36,8],[4,1,4,6],[5,10,5,15],[7,3,7,4],[5,2,5,8]]}
["Return to Index",null,null,null,null,null,null,null,null,null,null,null,null,null,null,null,null,null,null,null,"More about the data"]
["Massachusetts Department of Elementary and Secondary Education"]
["Office of School Finance"]
[{"$f":"parameters!B1&\" Chapter 70 Foundation Budget\"","v":"FY22 Chapter 70 Foundation Budget"}]
[{"$f":"lea","v":999},{"$f":"IF(lea=999,\"State total cannot be computed on this page; Please enter an lea code on the index sheet\",VLOOKUP(A5,dist915,2))","v":"State total cannot be computed on this page; Please enter an lea code on the index sheet"},null,null,null,null,null,6,8,null,9,10,11,12,13,14]
[null,null,"Base Foundation Components",null,null,null,null,null,null,null,"Incremental Costs Above the Base"]
[null,null,"1","2","3","4","5","6","7",null,"8",9,"10","11","12","13",14]
[null,null,null," ------ Kindergarten ------",null,null," Junior/","High",null,null,"Special Ed","Special Ed","English learners","English learners","English learners"]
[null,null,"Pre-school","Half-Day","Full-Day","Elementary","Middle","School","Vocational",null,"In-District","Tuitioned-Out","PK-5","6-8","High School/Voc","Low income","TOTAL"]
[null,"Foundation Enrollment",{"$f":"IF($A$5<>999,VLOOKUP(lea,dist915,VALUE(C$7)+2),0)","v":0},0,0,0,0,0,{"$f":"IF($A$5<>999,VLOOKUP(lea,dist915,VALUE(I$7)+2),0)","v":0},null,{"$f":"IF($A$5<>999,VLOOKUP(lea,dist915,VALUE(K$7)+2),0)","v":0},0,0,0,0,0,0]
[]
[1,"Administration",{"$f":"(VLOOKUP(VALUE(C$7),newrates,$A12+2)*C$10*waf)","v":0},0,0,0,0,0,0,null,{"$f":"(VLOOKUP(VALUE(K$7),newrates,$A12+2)*K$10*waf)","v":0},0,0,0,0,{"$f":"(VLOOKUP(VALUE(P$7)+$C$29-1, newrates, $A12+2, FALSE))*P$10*waf","v":0},{"$f":"SUM(C12:P12)","v":0}]
[2,"Instructional Leadership",0,0,0,0,0,0,0,null,0,0,0,0,0,{"$f":"(VLOOKUP(VALUE(P$7)+$C$29-1, newrates, $A13+2, FALSE))*P$10*waf","v":0},0]
[3,"Classroom & Specialist Teachers",0,0,0,0,0,0,0,null,0,0,0,0,0,{"$f":"(VLOOKUP(VALUE(P$7)+$C$29-1, newrates, $A14+2, FALSE))*P$10*waf","v":0},0]
[4,"Other Teaching Services",0,0,0,0,0,0,0,null,0,0,0,0,0,{"$f":"(VLOOKUP(VALUE(P$7)+$C$29-1, newrates, $A15+2, FALSE))*P$10*waf","v":0},0]
[5,"Professional Development",0,0,0,0,0,0,0,null,0,0,0,0,0,{"$f":"(VLOOKUP(VALUE(P$7)+$C$29-1, newrates, $A16+2, FALSE))*P$10*waf","v":0},0]
[6,"Instructional Materials, Equipment & Technology*",{"$f":"(VLOOKUP(VALUE(C$7),newrates,$A17+2)*C$10)","v":0},0,0,0,0,0,0,null,{"$f":"(VLOOKUP(VALUE(K$7),newrates,$A17+2)*K$10)","v":0},{"$f":"(VLOOKUP(VALUE(L$7),newrates,$A17+2)*L$10)","v":0},{"$f":"(VLOOKUP(VALUE(M$7),newrates,$A17+2)*M$10)","v":0},{"$f":"(VLOOKUP(VALUE(N$7),newrates,$A17+2)*N$10)","v":0},{"$f":"(VLOOKUP(VALUE(O$7),newrates,$A17+2)*O$10)","v":0},{"$f":"(VLOOKUP(VALUE(P$7)+$C$29-1, newrates, $A17+2, FALSE))*P$10","v":0},0]
[7,"Guidance & Psychological Services",{"$f":"(VLOOKUP(VALUE(C$7),newrates,$A18+2)*C$10*waf)","v":0},0,0,0,0,0,0,null,{"$f":"(VLOOKUP(VALUE(K$7),newrates,$A18+2)*K$10*waf)","v":0},0,0,0,0,{"$f":"(VLOOKUP(VALUE(P$7)+$C$29-1, newrates, $A18+2, FALSE))*P$10*waf","v":0},0]
[8,"Pupil Services",0,0,0,0,0,0,0,null,0,0,0,0,0,{"$f":"(VLOOKUP(VALUE(P$7)+$C$29-1, newrates, $A19+2, FALSE))*P$10*waf","v":0},0]
[9,"Operations & Maintenance",0,0,0,0,0,0,0,null,0,0,0,0,0,{"$f":"(VLOOKUP(VALUE(P$7)+$C$29-1, newrates, $A20+2, FALSE))*P$10*waf","v":0},0]
[10,"Employee Benefits/Fixed Charges*",{"$f":"(VLOOKUP(VALUE(C$7),newrates,$A21+2)*C$10)","v":0},0,0,0,0,0,0,null,{"$f":"(VLOOKUP(VALUE(K$7),newrates,$A21+2)*K$10)","v":0},{"$f":"(VLOOKUP(VALUE(L$7),newrates,$A21+2)*L$10)","v":0},{"$f":"(VLOOKUP(VALUE(M$7),newrates,$A21+2)*M$10)","v":0},{"$f":"(VLOOKUP(VALUE(N$7),newrates,$A21+2)*N$10)","v":0},{"$f":"(VLOOKUP(VALUE(O$7),newrates,$A21+2)*O$10)","v":0},{"$f":"(VLOOKUP(VALUE(P$7)+$C$29-1, newrates, $A21+2, FALSE))*P$10","v":0},0]
[11,"Special Education Tuition*",0,0,0,0,0,0,0,null,{"$f":"(VLOOKUP(VALUE(K$7)-2,newrates,$A22+2)*K$10)","v":0},{"$f":"(VLOOKUP(VALUE(L$7),newrates,$A22+2)*L$10)","v":0},{"$f":"(VLOOKUP(VALUE(M$7),newrates,$A22+2)*M$10)","v":0},{"$f":"(VLOOKUP(VALUE(N$7),newrates,$A22+2)*N$10)","v":0},{"$f":"(VLOOKUP(VALUE(O$7)-2,newrates,$A22+2)*O$10)","v":0},{"$f":"(VLOOKUP(VALUE(P$7)+$C$29-1, newrates, $A22+2, FALSE))*P$10","v":0},0]
[]
[12,"Total",{"$f":"SUM(C12:C22)","v":0},{"$f":"SUM(D12:D22)","v":0},{"$f":"SUM(E12:E22)","v":0},0,0,0,{"$f":"SUM(I12:I22)","v":0},null,0,0,0,0,0,0,{"$f":"SUM(Q12:Q23)","v":0}]
[]
[13,"Wage Adjustment Factor",{"$f":"VLOOKUP(lea,dist915,17)","v":0},null,null,null,null,null,null,null,null,null,null,"Foundation Budget per Pupil",null,null,{"$f":"IFERROR(IF(A5<>999,Q24/Q10,\" \"),\"\")","v":" "}]
[null,"*The wage adjustment factor is applied to underlying rates in all functions except instructional equipment, benefits and special education tuition."]
[14,"Low income percentage",{"$f":"VLOOKUP(lea,dist915,19)","v":0},null,null,null,null,null,null,null,null,"English learner foundation budget as % total foundation budget",null,null,null,null,{"$f":"IFERROR(IF(A5=999,\"\",SUM(M24:O24)/Q24),\"\")","v":""}]
[15,"Low income group",{"$f":"VLOOKUP(lea,dist915,18)","v":0},null,null,null,null,null,null,null,null,"Low-income foundation budget as % total foundation budget",null,null,null,null,{"$f":"IFERROR(IF(A5=999,\"\",P24/Q24),\"\")","v":""}]
[]
[null,null,null,null,null,null,null,null,null,null,null,"Low income enrollment determination"]
[null,"Total foundation enrollment (column 14) does not include incremental costs above the base.  The pupils are already counted in columns 1 to 7.",null,null,null,null,null,null,null,null,null,"Estimated low income enrollment based on FY16 Ch.70",null,null,null,{"$f":"IF($A$5<>999,VLOOKUP(lea,dist915,44,0),\"\")","v":""}]
[null,"Total foundation enrollment assigns pupils in pre-kindergarten and half-time kindergarten an enrollment count of .5.",null,null,null,null,null,null,null,null,null,"FY22 low income enrollment from direct certification",null,null,null,{"$f":"IF($A$5<>999,VLOOKUP(lea,dist915,45,0),\"\")","v":""}]
[null,"Special education in-district enrollment is an assumed percentage, representing 3.82 percent of K-12 non-vocational enrollment and",null,null,null,null,null,null,null,null,null,"greater number used for FY22 Chapter 70",null,null,null,{"$f":"IF($A$5<>999,VLOOKUP(lea,dist915,46,0),\"\")","v":""}]
[null,"4.82 percent of vocational enrollment."]
[null,"Special education tuitioned-out enrollment is also an assumed percentage, representing 1 percent of non-vocational K-12 enrollment."]
[null,"Direct certification includes the Supplemental Nutrition Assistance Program (SNAP);"]
[null,"the Transitional Assistance for Families with Dependent Children (TAFDC);  MassHealth (Medicaid); and students in foster care."]
[null,"Low income and English learner foundation budget increments are based on:"]
[null,"the number of students attending school in the district or district residents who attend charter schools."]
[null,"The low income percentage is the ratio of the low-income enrollment to:"]
[null,"the total students attending school in the district and the total resident students attending charter schools."]
[]
[null,"Each component of the foundation budget represents the enrollment in row 10 multiplied by the appropriate statewide foundation allotment."]
[null,"The foundation budget shown on this page may differ from the final number used in the formula, due to rounding error."]
[]
[]
[null,"Return to Index"]

{"sheet":"Municipal Contribution","index":6,"n_rows":31,"n_cols":13,"rows_kept":31,"cut":false,"hidden":false,"merged":[]}
[null,null,null,null,null,null,null,null,null,null,null,null,{"$f":"IF(VLOOKUP(A6,town351,18)>0,\"lo\",\"hi\")","v":"hi"}]
["Return to Index",null,null,null,null,null,"More about the data"]
["Massachusetts Department of Elementary and Secondary Education"]
["Office of School Finance"]
[{"$f":"parameters!B1&\" Chapter 70 Determination of City and Town Total Required Contribution\"","v":"FY22 Chapter 70 Determination of City and Town Total Required Contribution"}]
[{"$f":"lea","v":999},{"$f":"IF(lea>351, \"This lea code does not refer to a city or a town - this table shows municipal data only.\",VLOOKUP(A6,aidcalc,2))","v":"This lea code does not refer to a city or a town - this table shows municipal data only."}]
[]
["Effort Goal",null,null,null,{"$f":"parameters!B1&\" Increments Toward Goal\"","v":"FY22 Increments Toward Goal"}]
[]
["1)","2020 equalized valuation",{"$f":"IF(A6<352,VLOOKUP($A$6,town351,3),\" \")","v":" "},null,"13)",{"$f":"PYr&\" required local contribution\"","v":"FY21 required local contribution"},{"$f":"IF(A6<352,VLOOKUP($A$6,town351,14),\" \")","v":" "}]
["2)","Uniform property percentage",{"$f":"IF(A6<352,'Townwide Contributions'!D5,\" \")","v":" "},null,"14)","Municipal revenue growth factor (DOR)",{"$f":"IF(A$6<352,VLOOKUP($A$6,town351,15),\" \")","v":" "}]
["3)","Local effort from property wealth",{"$f":"IF(A6<352,VLOOKUP($A$6,town351,4),\" \")","v":" "},null,"15)",{"$f":"parameters!B1&\" preliminary contribution (13 raised by 14)\"","v":"FY22 preliminary contribution (13 raised by 14)"},{"$f":"IF(A$6<352,VLOOKUP($A$6,town351,16),\" \")","v":" "}]
[null,null,null,null,"16)","Preliminary contribution pct of foundation (15 / 8)",{"$f":"IF(A$6<352,VLOOKUP($A$6,town351,17)/100,\" \")","v":" "}]
["4)","2018 income",{"$f":"IF(A6<352,VLOOKUP($A$6,town351,5),\" \")","v":" "}]
["5)","Uniform income percentage",{"$f":"IF(A6<352,'Townwide Contributions'!F5,\" \")","v":" "},null,"If preliminary contribution is above the target share:"]
["6)","Local effort from income",{"$f":"IF(A6<352,VLOOKUP($A$6,town351,6),\" \")","v":" "},null,"17)","Excess local effort (15 - 10)",{"$f":"IF(AND(A$6<352,M$1=\"hi\"),VLOOKUP($A$6,town351,21),\" \")","v":" "}]
[null,null,null,null,"18)",{"$f":"parameters!$C$50&\" reduction toward target (17 x \"&parameters!$C$50&\")\"","v":"100% reduction toward target (17 x 100%)"},{"$f":"IF(AND(A$6<352,M$1=\"hi\"),VLOOKUP($A$6,town351,22),\" \")","v":" "}]
["7)","Combined effort yield (3 + 6)",{"$f":"IF(A6<352,VLOOKUP($A$6,town351,7),\" \")","v":" "},null,"19)",{"$f":"parameters!B1&\" required local contribution (15 - 18), capped at 90% of foundation\"","v":"FY22 required local contribution (15 - 18), capped at 90% of foundation"},{"$f":"IF(AND(A$6<352,M$1=\"hi\"),VLOOKUP($A$6,town351,24),\" \")","v":" "}]
[null,null,null,null,"20)","Contribution as percentage of foundation (19 / 8)",{"$f":"IF(AND(A$6<352,M$1=\"hi\"),VLOOKUP($A$6,town351,25)/100,\" \")","v":" "}]
["8)",{"$f":"parameters!B1&\" Foundation budget\"","v":"FY22 Foundation budget"},{"$f":"IF(A6<352,VLOOKUP($A$6,town351,8),\" \")","v":" "}]
["9)","Maximum local contribution (82.5% * 8)",{"$f":"IF(A6<352,VLOOKUP($A$6,town351,10),\" \")","v":" "},null,"If preliminary contribution is below the target share:"]
[null,null,null,null,"21)","Shortfall from target local share (10 - 15)",{"$f":"IF(AND(A$6<352,M1=\"lo\"),-1*VLOOKUP($A$6,town351,27),\" \")","v":" "}]
["10)","Target local contribution (lesser of 7 or 9)",{"$f":"IF(A6<352,VLOOKUP($A$6,town351,11),\" \")","v":" "},null,"22)","Shortfall percentage (11 - 16)",{"$f":"IF(AND(A$6<352,M1=\"lo\"),VLOOKUP($A$6,town351,18)/100,\" \")","v":" "}]
[null,null,null,null,"23)","Added increment toward target (13 x 1% or 2%)*",{"$f":"IF(AND(A$6<352,M1=\"lo\"),VLOOKUP($A$6,town351,20),\" \")","v":" "}]
["11)","Target local share (10 as % of 8)",{"$f":"IF(A6<352,VLOOKUP(lea,town351,12)/100,\" \")","v":" "},null,null,"*1% if shortfall is between 2.5% and 7.5%; 2% if shortfall > 7.5%"]
["12)","Target aid share (100% minus 11)",{"$f":"IF(A6<352,VLOOKUP(lea,aidcalc,13)/100,\" \")","v":" "},null,"24)","Special increment toward 82.5% target**",{"$f":"IF(AND(A$6<352,M1=\"lo\"),VLOOKUP($A$6,town351,23),\" \")","v":" "}]
[null,null,null,null,null,"**if combined effort yield > 175% foundation"]
[null,null,null,null,null,"    Combined effort yield as % of foundation",{"$f":"IF(AND(A$6<352,M1=\"lo\"),IF(VLOOKUP($A$6,town351,9)>175%,VLOOKUP($A$6,town351,9),\" \"),\"\")","v":""}]
[null,"See a listing of all 351 communities",null,null,"25)","Shortfall from target after adding increments (10 - 15 - 23 - 24)",{"$f":"IF(AND(A$6<352,M1=\"lo\"),-1*VLOOKUP($A$6,town351,28),\" \")","v":" "}]
[null,null,null,null,"26)",{"$f":"parameters!B1&\" required local contribution (15 + 23 + 24)\"","v":"FY22 required local contribution (15 + 23 + 24)"},{"$f":"IF(AND(A$6<352,M1=\"lo\"),VLOOKUP($A$6,town351,24),\" \")","v":" "}]
[null,null,null,null,"27)","Contribution as percentage of foundation (26 / 8)",{"$f":"IF(AND(A$6<352,M1=\"lo\"),VLOOKUP($A$6,town351,25)/100,\" \")","v":" "}]

{"sheet":"Regional Allocation","index":7,"n_rows":26,"n_cols":10,"rows_kept":26,"cut":false,"hidden":false,"merged":[[25,5,27,9],[5,4,5,6]]}
[null,null,null,null,null,null,null,null,null,"More about the data"]
[null,null,null,"Return to Index"]
[null,null,null,"Massachusetts Department of Elementary and Secondary Education"]
[null,null,null,"Office of School Finance"]
[null,null,null,{"$f":"CYr& \" Chapter 70 Apportionment of Local Contribution Across School Districts\"","v":"FY22 Chapter 70 Apportionment of Local Contribution Across School Districts"}]
[null,null,null,null,"In FY22, a municipality may deem an amount up to 75% of its local school district’s ESSER II allocation to fund any increase in its local contribution requirement, but not more than the increase in required local contribution from FY21 to FY22. In the case of a municipality's increased required contribution as a member of a regional school district, a municipality may deem a proportional share of 75% of the regional district's ESSER II allocation, equal to the municipality's share of the district's total required contribution, to satisfy the increase in its required contribution. \n\nFor more information on how these amounts are determined, see the Summary tab for municipal districts and the Regional District Members tab for regional districts."]
[null,null,null,null,4,4,3,2,1]
[null,null,null,null,null,null,null," "," "]
[5,null,null,{"$f":"lea","v":999},{"$f":"IF($D$9>351, \"\", IF(AND($D$9>0, VLOOKUP($D$9*5-E$7, order1755, $A9)<>0), VLOOKUP($D$9*5-E$7, order1755, $A9), \"\"))","v":""},{"$f":"IF(OR($D$9=\"\", $D$9>351), \"\", IF(AND($D$9>0, VLOOKUP($D$9*5-F$7, order1755, $A9)<>0), VLOOKUP($D$9*5-F$7, order1755, $A9), \"\"))","v":""},{"$f":"IF(OR($D$9=\"\", $D$9>351), \"\", IF(AND($D$9>0, VLOOKUP($D$9*5-G$7, order1755, $A9)<>0), VLOOKUP($D$9*5-G$7, order1755, $A9), \"\"))","v":""},{"$f":"IF(OR($D$9=\"\", $D$9>351), \"\", IF(AND($D$9>0, VLOOKUP($D$9*5-H$7, order1755, $A9)<>0), VLOOKUP($D$9*5-H$7, order1755, $A9), \"\"))","v":""},{"$f":"IF(OR($D$9=\"\", $D$9>351), \"\", IF(AND($D$9>0, VLOOKUP($D$9*5-I$7, order1755, $A9)<>0), VLOOKUP($D$9*5-I$7, order1755, $A9), \"\"))","v":""},"Combined Total for All Districts"]
[6]
[null,null,null,null,"Prior Year Data (for comparison purposes)"]
[]
[15,null,null,1,{"$f":"parameters!B2&\" foundation enrollment\"","v":"FY21 foundation enrollment"},{"$f":"IF(OR($D$9=\"\", $D$9>351), \"\", IF(AND($D$9>0, VLOOKUP($D$9*5-F$7, order1755, $A13)<>0), VLOOKUP($D$9*5-F$7, order1755, $A13), \"\"))","v":""},"","","",{"$f":"IF(OR($D$9=\"\", $D$9>351), \"\", VLOOKUP($D$9*5, order1755, $A13))","v":""}]
[6,null,null,2,{"$f":"parameters!B2&\" foundation budget\"","v":"FY21 foundation budget"},"","","","",{"$f":"IF(OR($D$9=\"\", $D$9>351), \"\", VLOOKUP($D$9*5, order1755, $A14))","v":""}]
[7,null,null,3,{"$f":"\"Each district's share of municipality's combined \"& parameters!B2&\" foundation\"","v":"Each district's share of municipality's combined FY21 foundation"},"","","","",{"$f":"IF(OR($D$9=\"\", $D$9>351), \"\", VLOOKUP($D$9*5, order1755, $A15))","v":""}]
[12,null,null,4,{"$f":"parameters!B2&\" required contribution\"","v":"FY21 required contribution"},"","","","",{"$f":"IF(OR($D$9=\"\", $D$9>351), \"\", VLOOKUP($D$9*5, order1755, $A16))","v":""}]
[null,null,null,null,{"$f":"parameters!B1& \" apportionment of contribution among community's districts\"","v":"FY22 apportionment of contribution among community's districts"}]
[null,null,null,5,{"$f":"parameters!B1&\" total unapportioned required contribution ('municipal contribution' tab row 19 or 25)\"","v":"FY22 total unapportioned required contribution ('municipal contribution' tab row 19 or 25)"},null,null,null,null,{"$f":"IF(OR($D$9=\"\", $D$9>351), \"\", VLOOKUP($D$9,town351,24))","v":""}]
[20,null,null,6,{"$f":"parameters!B1&\" foundation enrollment\"","v":"FY22 foundation enrollment"},{"$f":"IF(OR($D$9=\"\", $D$9>351), \"\", IF(AND($D$9>0, VLOOKUP($D$9*5-F$7, order1755, $A19)<>0), VLOOKUP($D$9*5-F$7, order1755, $A19), \"\"))","v":""},"","","",{"$f":"IF(OR($D$9=\"\", $D$9>351), \"\", VLOOKUP($D$9*5, order1755, $A19))","v":""}]
[8,null,null,7,{"$f":"parameters!B1&\" foundation budget\"","v":"FY22 foundation budget"},"","","","",{"$f":"IF(OR($D$9=\"\", $D$9>351), \"\", VLOOKUP($D$9*5, order1755, $A20))","v":""}]
[9,null,null,8,{"$f":"\"Each district's share of municipality's total \"& parameters!B1&\" foundation \"","v":"Each district's share of municipality's total FY22 foundation "},"","","","",{"$f":"IF(OR($D$9=\"\", $D$9>351), \"\", VLOOKUP($D$9*5, order1755, $A21))","v":""}]
[11,null,null,9,{"$f":"parameters!B1&\" Required Contribution\"","v":"FY22 Required Contribution"},"","","","",{"$f":"VLOOKUP($D$9*5, order1755, $A22)","v":6810206787}]
[]
[13,null,null,10,{"$f":"\"Change \"&parameters!B1&\" to \"&parameters!B2& \" (9 - 4)\"","v":"Change FY22 to FY21 (9 - 4)"},{"$f":"IF(OR($D$9=\"\", $D$9>351), \"\", IF(AND($D$9>0, VLOOKUP($D$9*5-F$7, order1755, $A24)<>0), VLOOKUP($D$9*5-F$7, order1755, $A24), \"\"))","v":""},{"$f":"IF(OR($D$9=\"\", $D$9>351), \"\", IF(AND($D$9>0, VLOOKUP($D$9*5-G$7, order1755, $A24)<>0), VLOOKUP($D$9*5-G$7, order1755, $A24), \"\"))","v":""},{"$f":"IF(OR($D$9=\"\", $D$9>351), \"\", IF(AND($D$9>0, VLOOKUP($D$9*5-H$7, order1755, $A24)<>0), VLOOKUP($D$9*5-H$7, order1755, $A24), \"\"))","v":""},{"$f":"IF(OR($D$9=\"\", $D$9>351), \"\", IF(AND($D$9>0, VLOOKUP($D$9*5-I$7, order1755, $A24)<>0), VLOOKUP($D$9*5-I$7, order1755, $A24), \"\"))","v":""},{"$f":"IF(OR($D$9=\"\", $D$9>351), \"\", VLOOKUP($D$9*5, order1755, $A24))","v":""}]
[]
[null,null,null,null,"The combined totals on lines 5 and 9 may differ due to rounding."]

{"sheet":"Summary","index":8,"n_rows":41,"n_cols":37,"rows_kept":41,"cut":false,"hidden":false,"merged":[[40,0,44,2],[23,7,24,8]]}
["Return to Index",null,null,null,null,null,null,null,null,"More about the data"]
[]
["Massachusetts Department of Elementary and Secondary Education"]
[{"$f":"parameters!B1&\" Chapter 70 Summary\"","v":"FY22 Chapter 70 Summary"}]
[]
[{"$f":"lea","v":999},{"$f":"PROPER(VLOOKUP(A6,dist915,2))","v":"State Total"}]
[]
["Aid Calculation FY22",null,null,null,{"$f":"\"Comparison to \"&PYr","v":"Comparison to FY21"}]
[]
[null,null,null,null,null,{"$f":"PYr","v":"FY21"},{"$f":"CYr","v":"FY22"},"Change","Pct Chg",null,null,null,null,null,null,null,null,null,null,null,"FY06","FY07","FY08","FY09","FY10","FY11","FY12","FY13","FY14","FY15","FY16","FY17","FY18","FY19","FY20","FY21","FY22"]
["Prior Year Aid",null,null,null,"Enrollment",{"$f":"VLOOKUP(A6,aidcalc,14)","v":938084.99999988743},{"$f":"VLOOKUP(A6,aidcalc,15)","v":907506.00000004878},{"$f":"G11-F11","v":-30578.999999838648},{"$f":"IF(F11>0, H11/F11, 0)","v":-3.2597259310022351E-2},null,null,null,null,null,null,null,null,null,null,"Required District Contribution",{"$f":"VLOOKUP($A$6,disthist,5)","v":4743946672},{"$f":"VLOOKUP($A$6,disthist,8)","v":4876428772},{"$f":"VLOOKUP($A$6,disthist,11)","v":4997705374},{"$f":"VLOOKUP($A$6,disthist,14)","v":5110365426},{"$f":"VLOOKUP($A$6,disthist,18)","v":5250106061},{"$f":"VLOOKUP($A$6,disthist,22)","v":5302200670.3241692},{"$f":"VLOOKUP($A$6,disthist,27)","v":5413602268},{"$f":"VLOOKUP($A$6,disthist,30)","v":5582113529},{"$f":"VLOOKUP($A$6,disthist, 33)","v":5748475145},{"$f":"VLOOKUP($A$6,disthist, 36)","v":5817618237},{"$f":"VLOOKUP($A$6,disthist, 39)","v":5943909029},{"$f":"VLOOKUP($A$6,disthist, 42)","v":5926185567},{"$f":"VLOOKUP($A$6,disthist, 45)","v":6046916786},{"$f":"VLOOKUP($A$6,disthist, 48)","v":6246842886},{"$f":"VLOOKUP($A$6,disthist, 51)","v":6513607368},{"$f":"VLOOKUP($A$6,disthist, 54)","v":6705321561},{"$f":"VLOOKUP($A$6,aidcalc,10 )","v":6810206787}]
[1,{"$f":"\"Chapter 70 \"&PYr","v":"Chapter 70 FY21"},{"$f":"VLOOKUP(A6,aidcalc,6)","v":5283343073.4799995},null,"Foundation budget",{"$f":"VLOOKUP(A6,disthist,53)","v":11626531095.326303},{"$f":"VLOOKUP(A6,aidcalc,9)","v":11883557788.563417},{"$f":"G12-F12","v":257026693.23711395},{"$f":"IF(F12>0, H12/F12, 0)","v":2.2106911436415883E-2},null,null,null,null,null,null,null,null,null,null,"C70 Aid",{"$f":"VLOOKUP($A$6,disthist,6)","v":3288603061.8000002},{"$f":"VLOOKUP($A$6,disthist,9)","v":3505192038.9270248},{"$f":"VLOOKUP($A$6,disthist,12)","v":3725343326.8219399},{"$f":"VLOOKUP($A$6,disthist,15)+VLOOKUP($A$6,disthist,16)","v":3948496062.2495604},{"$f":"VLOOKUP($A$6,disthist,19)+VLOOKUP($A$6,disthist,20)","v":4043156700},{"$f":"VLOOKUP($A$6,disthist,23)+VLOOKUP($A$6,disthist,24)+VLOOKUP($A$6,disthist,25)","v":4072032852.5488005},{"$f":"VLOOKUP($A$6,disthist,28)","v":3990504093.3881507},{"$f":"VLOOKUP($A$6,disthist,31)","v":4173223954.2949104},{"$f":"VLOOKUP($A$6,disthist,34)","v":4300854366.3566036},{"$f":"VLOOKUP($A$6,disthist,37)","v":4400335961.8829308},{"$f":"VLOOKUP($A$6,disthist,40)","v":4511521973.6381674},{"$f":"VLOOKUP($A$6,disthist,43)","v":4627705061.1446953},{"$f":"VLOOKUP($A$6,disthist,46)","v":4745645155.949439},{"$f":"VLOOKUP($A$6,disthist,49)","v":4906614765.8021221},{"$f":"VLOOKUP($A$6,disthist,52)","v":5175694094},{"$f":"VLOOKUP($A$6,disthist,55)","v":5283343073.4799995},{"$f":"VLOOKUP($A$6,aidcalc,39 )","v":5480996084.6800003}]
[null,null,null,null,"Required district contribution",{"$f":"VLOOKUP(A6,disthist,54)","v":6705321561},{"$f":"VLOOKUP($A$6, aidcalc, 10)","v":6810206787},{"$f":"G13-F13","v":104885226},{"$f":"IF(F13>0, H13/F13, 0)","v":1.5642087414575522E-2},null,null,null,null,null,null,null,null,null,null,"Foundation Budget",{"$f":"VLOOKUP($A$6,disthist,4)","v":7551933454},{"$f":"VLOOKUP($A$6,disthist,7)","v":8014672861.3798904},{"$f":"VLOOKUP($A$6,disthist,10)","v":8406096436.3857374},{"$f":"VLOOKUP($A$6,disthist,13)","v":8811314229.2926865},{"$f":"VLOOKUP($A$6,disthist,17)","v":9088557473.2006893},{"$f":"VLOOKUP($A$6,disthist,21)","v":8921047970},{"$f":"VLOOKUP($A$6,disthist,26)","v":9119340580.3732376},{"$f":"VLOOKUP($A$6,disthist,29)","v":9467117140.6663704},{"$f":"VLOOKUP($A$6,disthist, 32)","v":9711217584.8007889},{"$f":"VLOOKUP($A$6,disthist, 35)","v":9866011313.0677662},{"$f":"VLOOKUP($A$6,disthist, 38)","v":10090177272.100754},{"$f":"VLOOKUP($A$6,disthist, 41)","v":10128238382.975546},{"$f":"VLOOKUP($A$6,disthist, 44)","v":10379173843.167685},{"$f":"VLOOKUP($A$6,disthist, 47)","v":10777588551.40456},{"$f":"VLOOKUP($A$6,disthist, 50)","v":11359048511.850758},{"$f":"VLOOKUP($A$6,disthist, 53)","v":11626531095.326303},{"$f":"VLOOKUP($A$6,aidcalc,9 )","v":11883557788.563417}]
["Foundation Aid",null,null,null,"Chapter 70 aid",{"$f":"IF(A6=999,VLOOKUP(A6,disthist,55,0)+308558,VLOOKUP(A6,disthist,55,0))","v":5283651631.4799995},{"$f":"IF(A6=999,VLOOKUP($A$6,aidcalc,39,0)+308558,VLOOKUP($A$6,aidcalc,39,0))","v":5481304642.6800003},{"$f":"G14-F14","v":197653011.20000076},{"$f":"IF(F14>0, H14/F14, 0)","v":3.7408410884317962E-2}]
[2,"Foundation budget FY22",{"$f":"VLOOKUP($A$6, aidcalc, 9)","v":11883557788.563417},null,"Required net school spending (NSS)",{"$f":"F13+F14","v":11988973192.48},{"$f":"G13+G14","v":12291511429.68},{"$f":"G15-F15","v":302538237.20000076},{"$f":"IF(F15>0, H15/F15, 0)","v":2.52347079556209E-2}]
[3,{"$f":"\"Required district contribution \"& CYr","v":"Required district contribution FY22"},{"$f":"VLOOKUP($A$6, aidcalc, 10)","v":6810206787}]
[4,"Foundation aid (2 -3)",{"$f":"VLOOKUP($A$6, aidcalc, 11)","v":5073351019},null,"Target aid share",{"$f":"VLOOKUP(A$6,disthist,3)/100","v":0.41},{"$f":"VLOOKUP(A6,aidcalc,13)/100","v":0.41}]
[5,{"$f":"\"Increase over \" & PYr&\" (4 - 1)\"","v":"Increase over FY21 (4 - 1)"},{"$f":"VLOOKUP($A$6, aidcalc, 12)","v":176740387.40000001},null,"C70 % of foundation",{"$f":"IF(F12>0,F14/F12,IF(F14>0,1,0))","v":0.45444781320921684},{"$f":"IF(G12>0,G14/G12,IF(G14>0,1,0))","v":0.46125114550754631}]
[]
["Minimum Aid",null,null,null,"Required NSS % of foundation",{"$f":"IF(F12>0,F15/F12,IF(F15>0,1,0))","v":1.0311737090093358},{"$f":"IF(G12>0,G15/G12,IF(G15>0,1,0))","v":1.0343292512541313}]
[6,"Minimum $30 per pupil increase",{"$f":"IF(A6=999,\"\",VLOOKUP($A$6,aidcalc,24,0))","v":""}]
[7,"Minimum aid amount",null,null,"ESSER II Allocation Available to Fund Increase in Required District Contribution"]
[null,"(if line 6 - line 5 > 0, then line 6 - line 5, otherwise 0)",{"$f":"VLOOKUP($A$6, aidcalc, 25,0)","v":17246617.000000212},null,"(A) ESSER II allocation",null,{"$f":"IF(A6=999,\"\",IF(A6<406,VLOOKUP($A$6,aidcalc,41,0),\"\"))","v":""}]
[null,null,null,null,"(B) 75% of ESSER II allocation",null,{"$f":"IF(A6=999,\"\",IF(A6<406,VLOOKUP($A$6,aidcalc,42,0),\"\"))","v":""},{"$f":"IF(A6=999,\"\",IF(A6>=406,\"refer to Regional District Members tab\"&CHAR(10)&\"for more info\",\"\"))","v":""}]
["Subtotal",null,null,null,"(C) Change in required district contribution over FY21",null,{"$f":"IF(A6=999,\"\",IF(A6<406,H13,\"\"))","v":""}]
[8,"Sum of 1,5,7",{"$f":"C12+C18+C23","v":5477330077.8799992},null,"(D) ESSER II allocation available to fund district contribution increase"]
[null,null,null,null,"(if C > 0, then lesser of B or C, otherwise 0)",null,{"$f":"IF(A6=999,\"\",IF(A6<406,IF(G25>0,MIN(G24,G25),0),\"\"))","v":""}]
["Minimum Aid Adjustment"]
[9,"Minimum aid adjustment",{"$f":"IF(A6=999,\"\",VLOOKUP($A$6, aidcalc, 35))","v":""}]
[10,"Aid adjustment increment"]
[null,"(if line 9 - line 8 > 0, then line 9 - line 8, otherwise 0)",{"$f":"VLOOKUP($A$6, aidcalc, 36, FALSE)","v":3697393.000000231}]
[]
["Non-Operating District Reduction to Foundation"]
[11,"Reduction to foundation",{"$f":"VLOOKUP($A$6, aidcalc, 38)","v":31386.199999999997}]
[]
[{"$f":"CYr&\" Chapter 70 Aid\"","v":"FY22 Chapter 70 Aid"}]
[12,"Sum of 1,5,7,10 minus 11",{"$f":"VLOOKUP($A$6, aidcalc, 39)","v":5480996084.6800003}]
[null,null,{"$f":"IF(A6=999,C37+308558,\"\")","v":5481304642.6800003}]
[null,null,{"$f":"IF(A6=999,\"with Devens aid\",\"\")","v":"with Devens aid"}]
["Note on Minimum Aid Adjustment on lines 9 and 10:"]
["The minimum aid adjustment is the sum of (a) the greater of foundation aid or base aid determined based on the FY21 base and incremental rates, inflated to FY22, and (b) foundation enrollment multiplied by $30. The aid adjustment increment (line 9) is the line 8 amount less the line 7 amount if the difference is positive. Otherwise, the increment is zero."]

{"sheet":"Regional District Members","index":9,"n_rows":68,"n_cols":16,"rows_kept":68,"cut":false,"hidden":false,"merged":[[13,12,13,15],[9,4,9,9],[14,6,14,7],[14,9,14,10],[13,9,13,11],[13,6,13,8],[10,4,10,8]]}
[]
[null,null,null,null,"Return to Index"]
[null,null,null,null,null,"Select or type full regional district name below"]
[null,null,null,null,{"$f":"VLOOKUP(reg_order, regdistricts, 3, FALSE)","v":600},"Acton Boxborough",{"$f":"VLOOKUP(F4,leas!$E$450:$H$536,4,FALSE)","v":1}]
[]
[null,null,null,null,"Massachusetts Department of Elementary and Secondary Education"]
[null,null,null,null,"Office of School Finance"]
[null,null,null,null,{"$f":"CYr&\" Chapter 70\"","v":"FY22 Chapter 70"}]
[null,null,null,null,"Regional District Enrollment and Contributions by Member City or Town"]
[null,null,null,null,"The table below presents the minimum required local contribution for each member to the selected regional district. "]
[null,null,null,null,"Note: A city or town might belong to more than one regional district (e.g., a regional district and a vocational district) and therefore be required to contribute to multiple districts. See the regional allocation tab for a full list of minimum required contributions for each city or town.\n\nFoundation enrollments are presented as whole numbers. Changes reflect differences in enrollment prior to rounding."]
[null,{"$f":"VLOOKUP(E4, leas!D6:G445, 4, FALSE)","v":"0600"},null,2,{"$f":"VLOOKUP(reg_order, regdistricts, 2, FALSE)","v":"600 Acton Boxborough"},null,null,null,null,null,null,null,null,"Regional ESSER II allocation",{"$f":"IF(VALUE(B12)>=406,VLOOKUP(VALUE(B12),'Aid436'!$A$8:$AP$448,41,0))","v":408600}]
[null,null,null,null,null,null,null,null,null,null,null,null,null,"75% allocation",{"$f":"IF(VALUE(B12)>=406,VLOOKUP(VALUE(B12),'Aid436'!$A$8:$AP$448,42,0))","v":306450}]
[null,null,null,null,null,null,"Foundation Enrollment in Regional District",null,null,"Required Minimum Contribution to Regional District",null,null,"ESSER II Allocation Available to Fund \nIncrease in Required Minimum Contribution"]
[]
[null,{"$f":"VLOOKUP($E$4, regcount, 2, FALSE)","v":2},null,null,"LEA","Member",{"$f":"PYr","v":"FY21"},{"$f":"CYr","v":"FY22"},"Change",{"$f":"PYr","v":"FY21"},{"$f":"CYr","v":"FY22"},"Change","Increase/Decrease","Percentage of Regional\nRequired Minimum Contribution","Proportional Share of \n75% of Regional \nESSER II Allocation","ESSER II Allocation Available to Fund Required Contribution Increases"]
[]
[null,null,null,null,null,"Total",{"$f":"SUM(G20:G67)","v":5294.0000000000009},{"$f":"SUM(H20:H67)","v":5120},{"$f":"SUM(I20:I67)","v":-174.00000000000068},{"$f":"SUM(J20:J67)","v":46230356},{"$f":"SUM(K20:K67)","v":46536642},{"$f":"SUM(L20:L62)","v":306286},null,null,"If increase, then 75% of regional ESSER II allocation, otherwise zero","If increase, then lesser of column L and column O, otherwise zero"]
[]
[{"$f":"IF($C20<=$B$16,VLOOKUP(E20,leas!D6:G445,4,FALSE),\"\")","v":"0002"},{"$f":"$E$4*100+C20","v":60001},1,null,{"$f":"IF($C20<=$B$16, VLOOKUP($B20, regdetail, 5), \" \")","v":2},{"$f":"IF($C20<=$B$16, VLOOKUP($B20, regdetail, 6), \" \")","v":"Acton"},{"$f":"IF($C20<=$B$16,VLOOKUP(A20&$B$12, localcont!A10:X1764, 18, FALSE), \"\")","v":4437.9781441188807},{"$f":"IF($C20<=$B$16,VLOOKUP(A20&$B$12, localcont!$A$10:$X$1764, 23, FALSE), \"\")","v":4287.1048093695999},{"$f":"IF($C20<=$B$16, H20-G20, \" \")","v":-150.87333474928073},{"$f":"IF($C20<=$B$16,VLOOKUP(A20&$B$12, localcont!$A$10:$X$1764, 15, FALSE), \"\")","v":38561442},{"$f":"IF($C20<=$B$16,VLOOKUP(A20&$B$12, localcont!$A$10:$X$1764, 14, FALSE),\"\")","v":38787229},{"$f":"IF($C20<=$B$16, K20-J20, \" \")","v":225787},{"$f":"IF($C20>$B$16,\"\",IF(L20>0,\"increase\",IF(L20<0,\"decrease\",\"\")))","v":"increase"},{"$f":"IF($C20>$B$16,\"\",K20/$K$18)","v":0.83347717697379198},{"$f":"IF($C20>$B$16,\"\",IF(L20>0,N20*$O$13,0))","v":255419.08088361856},{"$f":"IF($C20>$B$16,\"\",MAX(MIN(L20,O20),0))","v":225787}]
[{"$f":"IF($C21<=$B$16,VLOOKUP(E21,leas!D7:G446,4,FALSE),\"\")","v":"0037"},{"$f":"$E$4*100+C21","v":60002},2,null,37,"Boxborough",{"$f":"IF($C21<=$B$16,VLOOKUP(A21&$B$12, localcont!A11:X1765, 18, FALSE), \"\")","v":856.02185588112002},{"$f":"IF($C21<=$B$16,VLOOKUP(A21&$B$12, localcont!$A$10:$X$1764, 23, FALSE), \"\")","v":832.89519063040007},{"$f":"IF($C21<=$B$16, H21-G21, \" \")","v":-23.126665250719952},{"$f":"IF($C21<=$B$16,VLOOKUP(A21&$B$12, localcont!$A$10:$X$1764, 15, FALSE), \"\")","v":7668914},{"$f":"IF($C21<=$B$16,VLOOKUP(A21&$B$12, localcont!$A$10:$X$1764, 14, FALSE),\"\")","v":7749413},{"$f":"IF($C21<=$B$16, K21-J21, \" \")","v":80499},{"$f":"IF($C21>$B$16,\"\",IF(L21>0,\"increase\",IF(L21<0,\"decrease\",\"\")))","v":"increase"},{"$f":"IF($C21>$B$16,\"\",K21/$K$18)","v":0.16652282302620805},{"$f":"IF($C21>$B$16,\"\",IF(L21>0,N21*$O$13,0))","v":51030.919116381454},{"$f":"IF($C21>$B$16,\"\",MAX(MIN(L21,O21),0))","v":51030.919116381454}]
[{"$f":"IF($C22<=$B$16,VLOOKUP(E22,leas!D8:G447,4,FALSE),\"\")","v":""},60003,3,null," "," ",{"$f":"IF($C22<=$B$16,VLOOKUP(A22&$B$12, localcont!A12:X1766, 18, FALSE), \"\")","v":""},{"$f":"IF($C22<=$B$16,VLOOKUP(A22&$B$12, localcont!$A$10:$X$1764, 23, FALSE), \"\")","v":""}," ",{"$f":"IF($C22<=$B$16,VLOOKUP(A22&$B$12, localcont!$A$10:$X$1764, 15, FALSE), \"\")","v":""},{"$f":"IF($C22<=$B$16,VLOOKUP(A22&$B$12, localcont!$A$10:$X$1764, 14, FALSE),\"\")","v":""}," ","","","",""]
[{"$f":"IF($C23<=$B$16,VLOOKUP(E23,leas!D9:G448,4,FALSE),\"\")","v":""},60004,4,null," "," ",{"$f":"IF($C23<=$B$16,VLOOKUP(A23&$B$12, localcont!A13:X1767, 18, FALSE), \"\")","v":""},{"$f":"IF($C23<=$B$16,VLOOKUP(A23&$B$12, localcont!$A$10:$X$1764, 23, FALSE), \"\")","v":""}," ",{"$f":"IF($C23<=$B$16,VLOOKUP(A23&$B$12, localcont!$A$10:$X$1764, 15, FALSE), \"\")","v":""},{"$f":"IF($C23<=$B$16,VLOOKUP(A23&$B$12, localcont!$A$10:$X$1764, 14, FALSE),\"\")","v":""}," ","","","",""]
[{"$f":"IF($C24<=$B$16,VLOOKUP(E24,leas!D10:G449,4,FALSE),\"\")","v":""},60005,5,null," "," ",{"$f":"IF($C24<=$B$16,VLOOKUP(A24&$B$12, localcont!A14:X1768, 18, FALSE), \"\")","v":""},{"$f":"IF($C24<=$B$16,VLOOKUP(A24&$B$12, localcont!$A$10:$X$1764, 23, FALSE), \"\")","v":""}," ",{"$f":"IF($C24<=$B$16,VLOOKUP(A24&$B$12, localcont!$A$10:$X$1764, 15, FALSE), \"\")","v":""},{"$f":"IF($C24<=$B$16,VLOOKUP(A24&$B$12, localcont!$A$10:$X$1764, 14, FALSE),\"\")","v":""}," ","","","",""]
[{"$f":"IF($C25<=$B$16,VLOOKUP(E25,leas!D11:G450,4,FALSE),\"\")","v":""},60006,6,null," "," ",{"$f":"IF($C25<=$B$16,VLOOKUP(A25&$B$12, localcont!A15:X1769, 18, FALSE), \"\")","v":""},{"$f":"IF($C25<=$B$16,VLOOKUP(A25&$B$12, localcont!$A$10:$X$1764, 23, FALSE), \"\")","v":""}," ",{"$f":"IF($C25<=$B$16,VLOOKUP(A25&$B$12, localcont!$A$10:$X$1764, 15, FALSE), \"\")","v":""},{"$f":"IF($C25<=$B$16,VLOOKUP(A25&$B$12, localcont!$A$10:$X$1764, 14, FALSE),\"\")","v":""}," ","","","",""]
[{"$f":"IF($C26<=$B$16,VLOOKUP(E26,leas!D12:G451,4,FALSE),\"\")","v":""},60007,7,null," "," ",{"$f":"IF($C26<=$B$16,VLOOKUP(A26&$B$12, localcont!A16:X1770, 18, FALSE), \"\")","v":""},{"$f":"IF($C26<=$B$16,VLOOKUP(A26&$B$12, localcont!$A$10:$X$1764, 23, FALSE), \"\")","v":""}," ",{"$f":"IF($C26<=$B$16,VLOOKUP(A26&$B$12, localcont!$A$10:$X$1764, 15, FALSE), \"\")","v":""},{"$f":"IF($C26<=$B$16,VLOOKUP(A26&$B$12, localcont!$A$10:$X$1764, 14, FALSE),\"\")","v":""}," ","","","",""]
[{"$f":"IF($C27<=$B$16,VLOOKUP(E27,leas!D13:G452,4,FALSE),\"\")","v":""},60008,8,null," "," ",{"$f":"IF($C27<=$B$16,VLOOKUP(A27&$B$12, localcont!A17:X1771, 18, FALSE), \"\")","v":""},{"$f":"IF($C27<=$B$16,VLOOKUP(A27&$B$12, localcont!$A$10:$X$1764, 23, FALSE), \"\")","v":""}," ",{"$f":"IF($C27<=$B$16,VLOOKUP(A27&$B$12, localcont!$A$10:$X$1764, 15, FALSE), \"\")","v":""},{"$f":"IF($C27<=$B$16,VLOOKUP(A27&$B$12, localcont!$A$10:$X$1764, 14, FALSE),\"\")","v":""}," ","","","",""]
[{"$f":"IF($C28<=$B$16,VLOOKUP(E28,leas!D14:G453,4,FALSE),\"\")","v":""},60009,9,null," "," ",{"$f":"IF($C28<=$B$16,VLOOKUP(A28&$B$12, localcont!A18:X1772, 18, FALSE), \"\")","v":""},{"$f":"IF($C28<=$B$16,VLOOKUP(A28&$B$12, localcont!$A$10:$X$1764, 23, FALSE), \"\")","v":""}," ",{"$f":"IF($C28<=$B$16,VLOOKUP(A28&$B$12, localcont!$A$10:$X$1764, 15, FALSE), \"\")","v":""},{"$f":"IF($C28<=$B$16,VLOOKUP(A28&$B$12, localcont!$A$10:$X$1764, 14, FALSE),\"\")","v":""}," ","","","",""]
[{"$f":"IF($C29<=$B$16,VLOOKUP(E29,leas!D15:G454,4,FALSE),\"\")","v":""},60010,10,null," "," ",{"$f":"IF($C29<=$B$16,VLOOKUP(A29&$B$12, localcont!A19:X1773, 18, FALSE), \"\")","v":""},{"$f":"IF($C29<=$B$16,VLOOKUP(A29&$B$12, localcont!$A$10:$X$1764, 23, FALSE), \"\")","v":""}," ",{"$f":"IF($C29<=$B$16,VLOOKUP(A29&$B$12, localcont!$A$10:$X$1764, 15, FALSE), \"\")","v":""},{"$f":"IF($C29<=$B$16,VLOOKUP(A29&$B$12, localcont!$A$10:$X$1764, 14, FALSE),\"\")","v":""}," ","","","",""]
[{"$f":"IF($C30<=$B$16,VLOOKUP(E30,leas!D16:G455,4,FALSE),\"\")","v":""},60011,11,null," "," ",{"$f":"IF($C30<=$B$16,VLOOKUP(A30&$B$12, localcont!A20:X1774, 18, FALSE), \"\")","v":""},{"$f":"IF($C30<=$B$16,VLOOKUP(A30&$B$12, localcont!$A$10:$X$1764, 23, FALSE), \"\")","v":""}," ",{"$f":"IF($C30<=$B$16,VLOOKUP(A30&$B$12, localcont!$A$10:$X$1764, 15, FALSE), \"\")","v":""},{"$f":"IF($C30<=$B$16,VLOOKUP(A30&$B$12, localcont!$A$10:$X$1764, 14, FALSE),\"\")","v":""}," ","","","",""]
[{"$f":"IF($C31<=$B$16,VLOOKUP(E31,leas!D17:G456,4,FALSE),\"\")","v":""},60012,12,null," "," ",{"$f":"IF($C31<=$B$16,VLOOKUP(A31&$B$12, localcont!A21:X1775, 18, FALSE), \"\")","v":""},{"$f":"IF($C31<=$B$16,VLOOKUP(A31&$B$12, localcont!$A$10:$X$1764, 23, FALSE), \"\")","v":""}," ",{"$f":"IF($C31<=$B$16,VLOOKUP(A31&$B$12, localcont!$A$10:$X$1764, 15, FALSE), \"\")","v":""},{"$f":"IF($C31<=$B$16,VLOOKUP(A31&$B$12, localcont!$A$10:$X$1764, 14, FALSE),\"\")","v":""}," ","","","",""]
[{"$f":"IF($C32<=$B$16,VLOOKUP(E32,leas!D18:G457,4,FALSE),\"\")","v":""},60013,13,null," "," ",{"$f":"IF($C32<=$B$16,VLOOKUP(A32&$B$12, localcont!A22:X1776, 18, FALSE), \"\")","v":""},{"$f":"IF($C32<=$B$16,VLOOKUP(A32&$B$12, localcont!$A$10:$X$1764, 23, FALSE), \"\")","v":""}," ",{"$f":"IF($C32<=$B$16,VLOOKUP(A32&$B$12, localcont!$A$10:$X$1764, 15, FALSE), \"\")","v":""},{"$f":"IF($C32<=$B$16,VLOOKUP(A32&$B$12, localcont!$A$10:$X$1764, 14, FALSE),\"\")","v":""}," ","","","",""]
[{"$f":"IF($C33<=$B$16,VLOOKUP(E33,leas!D19:G458,4,FALSE),\"\")","v":""},60014,14,null," "," ",{"$f":"IF($C33<=$B$16,VLOOKUP(A33&$B$12, localcont!A23:X1777, 18, FALSE), \"\")","v":""},{"$f":"IF($C33<=$B$16,VLOOKUP(A33&$B$12, localcont!$A$10:$X$1764, 23, FALSE), \"\")","v":""}," ",{"$f":"IF($C33<=$B$16,VLOOKUP(A33&$B$12, localcont!$A$10:$X$1764, 15, FALSE), \"\")","v":""},{"$f":"IF($C33<=$B$16,VLOOKUP(A33&$B$12, localcont!$A$10:$X$1764, 14, FALSE),\"\")","v":""}," ","","","",""]
[{"$f":"IF($C34<=$B$16,VLOOKUP(E34,leas!D20:G459,4,FALSE),\"\")","v":""},60015,15,null," "," ",{"$f":"IF($C34<=$B$16,VLOOKUP(A34&$B$12, localcont!A24:X1778, 18, FALSE), \"\")","v":""},{"$f":"IF($C34<=$B$16,VLOOKUP(A34&$B$12, localcont!$A$10:$X$1764, 23, FALSE), \"\")","v":""}," ",{"$f":"IF($C34<=$B$16,VLOOKUP(A34&$B$12, localcont!$A$10:$X$1764, 15, FALSE), \"\")","v":""},{"$f":"IF($C34<=$B$16,VLOOKUP(A34&$B$12, localcont!$A$10:$X$1764, 14, FALSE),\"\")","v":""}," ","","","",""]
[{"$f":"IF($C35<=$B$16,VLOOKUP(E35,leas!D21:G460,4,FALSE),\"\")","v":""},60016,16,null," "," ",{"$f":"IF($C35<=$B$16,VLOOKUP(A35&$B$12, localcont!A25:X1779, 18, FALSE), \"\")","v":""},{"$f":"IF($C35<=$B$16,VLOOKUP(A35&$B$12, localcont!$A$10:$X$1764, 23, FALSE), \"\")","v":""}," ",{"$f":"IF($C35<=$B$16,VLOOKUP(A35&$B$12, localcont!$A$10:$X$1764, 15, FALSE), \"\")","v":""},{"$f":"IF($C35<=$B$16,VLOOKUP(A35&$B$12, localcont!$A$10:$X$1764, 14, FALSE),\"\")","v":""}," ","","","",""]
[{"$f":"IF($C36<=$B$16,VLOOKUP(E36,leas!D22:G461,4,FALSE),\"\")","v":""},60017,17,null," "," ",{"$f":"IF($C36<=$B$16,VLOOKUP(A36&$B$12, localcont!A26:X1780, 18, FALSE), \"\")","v":""},{"$f":"IF($C36<=$B$16,VLOOKUP(A36&$B$12, localcont!$A$10:$X$1764, 23, FALSE), \"\")","v":""}," ",{"$f":"IF($C36<=$B$16,VLOOKUP(A36&$B$12, localcont!$A$10:$X$1764, 15, FALSE), \"\")","v":""},{"$f":"IF($C36<=$B$16,VLOOKUP(A36&$B$12, localcont!$A$10:$X$1764, 14, FALSE),\"\")","v":""}," ","","","",""]
[{"$f":"IF($C37<=$B$16,VLOOKUP(E37,leas!D23:G462,4,FALSE),\"\")","v":""},60018,18,null," "," ",{"$f":"IF($C37<=$B$16,VLOOKUP(A37&$B$12, localcont!A27:X1781, 18, FALSE), \"\")","v":""},{"$f":"IF($C37<=$B$16,VLOOKUP(A37&$B$12, localcont!$A$10:$X$1764, 23, FALSE), \"\")","v":""}," ",{"$f":"IF($C37<=$B$16,VLOOKUP(A37&$B$12, localcont!$A$10:$X$1764, 15, FALSE), \"\")","v":""},{"$f":"IF($C37<=$B$16,VLOOKUP(A37&$B$12, localcont!$A$10:$X$1764, 14, FALSE),\"\")","v":""}," ","","","",""]
[{"$f":"IF($C38<=$B$16,VLOOKUP(E38,leas!D24:G463,4,FALSE),\"\")","v":""},60019,19,null," "," ",{"$f":"IF($C38<=$B$16,VLOOKUP(A38&$B$12, localcont!A28:X1782, 18, FALSE), \"\")","v":""},{"$f":"IF($C38<=$B$16,VLOOKUP(A38&$B$12, localcont!$A$10:$X$1764, 23, FALSE), \"\")","v":""}," ",{"$f":"IF($C38<=$B$16,VLOOKUP(A38&$B$12, localcont!$A$10:$X$1764, 15, FALSE), \"\")","v":""},{"$f":"IF($C38<=$B$16,VLOOKUP(A38&$B$12, localcont!$A$10:$X$1764, 14, FALSE),\"\")","v":""}," ","","","",""]
[{"$f":"IF($C39<=$B$16,VLOOKUP(E39,leas!D25:G464,4,FALSE),\"\")","v":""},60020,20,null," "," ",{"$f":"IF($C39<=$B$16,VLOOKUP(A39&$B$12, localcont!A29:X1783, 18, FALSE), \"\")","v":""},{"$f":"IF($C39<=$B$16,VLOOKUP(A39&$B$12, localcont!$A$10:$X$1764, 23, FALSE), \"\")","v":""}," ",{"$f":"IF($C39<=$B$16,VLOOKUP(A39&$B$12, localcont!$A$10:$X$1764, 15, FALSE), \"\")","v":""},{"$f":"IF($C39<=$B$16,VLOOKUP(A39&$B$12, localcont!$A$10:$X$1764, 14, FALSE),\"\")","v":""}," ","","","",""]
[{"$f":"IF($C40<=$B$16,VLOOKUP(E40,leas!D26:G465,4,FALSE),\"\")","v":""},60021,21,null," "," ",{"$f":"IF($C40<=$B$16,VLOOKUP(A40&$B$12, localcont!A30:X1784, 18, FALSE), \"\")","v":""},{"$f":"IF($C40<=$B$16,VLOOKUP(A40&$B$12, localcont!$A$10:$X$1764, 23, FALSE), \"\")","v":""}," ",{"$f":"IF($C40<=$B$16,VLOOKUP(A40&$B$12, localcont!$A$10:$X$1764, 15, FALSE), \"\")","v":""},{"$f":"IF($C40<=$B$16,VLOOKUP(A40&$B$12, localcont!$A$10:$X$1764, 14, FALSE),\"\")","v":""}," ","","","",""]
[{"$f":"IF($C41<=$B$16,VLOOKUP(E41,leas!D27:G466,4,FALSE),\"\")","v":""},60022,22,null," "," ",{"$f":"IF($C41<=$B$16,VLOOKUP(A41&$B$12, localcont!A31:X1785, 18, FALSE), \"\")","v":""},{"$f":"IF($C41<=$B$16,VLOOKUP(A41&$B$12, localcont!$A$10:$X$1764, 23, FALSE), \"\")","v":""}," ",{"$f":"IF($C41<=$B$16,VLOOKUP(A41&$B$12, localcont!$A$10:$X$1764, 15, FALSE), \"\")","v":""},{"$f":"IF($C41<=$B$16,VLOOKUP(A41&$B$12, localcont!$A$10:$X$1764, 14, FALSE),\"\")","v":""}," ","","","",""]
[{"$f":"IF($C42<=$B$16,VLOOKUP(E42,leas!D28:G467,4,FALSE),\"\")","v":""},60023,23,null," "," ",{"$f":"IF($C42<=$B$16,VLOOKUP(A42&$B$12, localcont!A32:X1786, 18, FALSE), \"\")","v":""},{"$f":"IF($C42<=$B$16,VLOOKUP(A42&$B$12, localcont!$A$10:$X$1764, 23, FALSE), \"\")","v":""}," ",{"$f":"IF($C42<=$B$16,VLOOKUP(A42&$B$12, localcont!$A$10:$X$1764, 15, FALSE), \"\")","v":""},{"$f":"IF($C42<=$B$16,VLOOKUP(A42&$B$12, localcont!$A$10:$X$1764, 14, FALSE),\"\")","v":""}," ","","","",""]
[{"$f":"IF($C43<=$B$16,VLOOKUP(E43,leas!D29:G468,4,FALSE),\"\")","v":""},60024,24,null," "," ",{"$f":"IF($C43<=$B$16,VLOOKUP(A43&$B$12, localcont!A33:X1787, 18, FALSE), \"\")","v":""},{"$f":"IF($C43<=$B$16,VLOOKUP(A43&$B$12, localcont!$A$10:$X$1764, 23, FALSE), \"\")","v":""}," ",{"$f":"IF($C43<=$B$16,VLOOKUP(A43&$B$12, localcont!$A$10:$X$1764, 15, FALSE), \"\")","v":""},{"$f":"IF($C43<=$B$16,VLOOKUP(A43&$B$12, localcont!$A$10:$X$1764, 14, FALSE),\"\")","v":""}," ","","","",""]
[{"$f":"IF($C44<=$B$16,VLOOKUP(E44,leas!D30:G469,4,FALSE),\"\")","v":""},60025,25,null," "," ",{"$f":"IF($C44<=$B$16,VLOOKUP(A44&$B$12, localcont!A34:X1788, 18, FALSE), \"\")","v":""},{"$f":"IF($C44<=$B$16,VLOOKUP(A44&$B$12, localcont!$A$10:$X$1764, 23, FALSE), \"\")","v":""}," ",{"$f":"IF($C44<=$B$16,VLOOKUP(A44&$B$12, localcont!$A$10:$X$1764, 15, FALSE), \"\")","v":""},{"$f":"IF($C44<=$B$16,VLOOKUP(A44&$B$12, localcont!$A$10:$X$1764, 14, FALSE),\"\")","v":""}," ","","","",""]
[{"$f":"IF($C45<=$B$16,VLOOKUP(E45,leas!D31:G470,4,FALSE),\"\")","v":""},60026,26,null," "," ",{"$f":"IF($C45<=$B$16,VLOOKUP(A45&$B$12, localcont!A35:X1789, 18, FALSE), \"\")","v":""},{"$f":"IF($C45<=$B$16,VLOOKUP(A45&$B$12, localcont!$A$10:$X$1764, 23, FALSE), \"\")","v":""}," ",{"$f":"IF($C45<=$B$16,VLOOKUP(A45&$B$12, localcont!$A$10:$X$1764, 15, FALSE), \"\")","v":""},{"$f":"IF($C45<=$B$16,VLOOKUP(A45&$B$12, localcont!$A$10:$X$1764, 14, FALSE),\"\")","v":""}," ","","","",""]
[{"$f":"IF($C46<=$B$16,VLOOKUP(E46,leas!D32:G471,4,FALSE),\"\")","v":""},60027,27,null," "," ",{"$f":"IF($C46<=$B$16,VLOOKUP(A46&$B$12, localcont!A36:X1790, 18, FALSE), \"\")","v":""},{"$f":"IF($C46<=$B$16,VLOOKUP(A46&$B$12, localcont!$A$10:$X$1764, 23, FALSE), \"\")","v":""}," ",{"$f":"IF($C46<=$B$16,VLOOKUP(A46&$B$12, localcont!$A$10:$X$1764, 15, FALSE), \"\")","v":""},{"$f":"IF($C46<=$B$16,VLOOKUP(A46&$B$12, localcont!$A$10:$X$1764, 14, FALSE),\"\")","v":""}," ","","","",""]
[{"$f":"IF($C47<=$B$16,VLOOKUP(E47,leas!D33:G472,4,FALSE),\"\")","v":""},60028,28,null," "," ",{"$f":"IF($C47<=$B$16,VLOOKUP(A47&$B$12, localcont!A37:X1791, 18, FALSE), \"\")","v":""},{"$f":"IF($C47<=$B$16,VLOOKUP(A47&$B$12, localcont!$A$10:$X$1764, 23, FALSE), \"\")","v":""}," ",{"$f":"IF($C47<=$B$16,VLOOKUP(A47&$B$12, localcont!$A$10:$X$1764, 15, FALSE), \"\")","v":""},{"$f":"IF($C47<=$B$16,VLOOKUP(A47&$B$12, localcont!$A$10:$X$1764, 14, FALSE),\"\")","v":""}," ","","","",""]
[{"$f":"IF($C48<=$B$16,VLOOKUP(E48,leas!D34:G473,4,FALSE),\"\")","v":""},60029,29,null," "," ",{"$f":"IF($C48<=$B$16,VLOOKUP(A48&$B$12, localcont!A38:X1792, 18, FALSE), \"\")","v":""},{"$f":"IF($C48<=$B$16,VLOOKUP(A48&$B$12, localcont!$A$10:$X$1764, 23, FALSE), \"\")","v":""}," ",{"$f":"IF($C48<=$B$16,VLOOKUP(A48&$B$12, localcont!$A$10:$X$1764, 15, FALSE), \"\")","v":""},{"$f":"IF($C48<=$B$16,VLOOKUP(A48&$B$12, localcont!$A$10:$X$1764, 14, FALSE),\"\")","v":""}," ","","","",""]
[{"$f":"IF($C49<=$B$16,VLOOKUP(E49,leas!D35:G474,4,FALSE),\"\")","v":""},60030,30,null," "," ",{"$f":"IF($C49<=$B$16,VLOOKUP(A49&$B$12, localcont!A39:X1793, 18, FALSE), \"\")","v":""},{"$f":"IF($C49<=$B$16,VLOOKUP(A49&$B$12, localcont!$A$10:$X$1764, 23, FALSE), \"\")","v":""}," ",{"$f":"IF($C49<=$B$16,VLOOKUP(A49&$B$12, localcont!$A$10:$X$1764, 15, FALSE), \"\")","v":""},{"$f":"IF($C49<=$B$16,VLOOKUP(A49&$B$12, localcont!$A$10:$X$1764, 14, FALSE),\"\")","v":""}," ","","","",""]
[{"$f":"IF($C50<=$B$16,VLOOKUP(E50,leas!D36:G475,4,FALSE),\"\")","v":""},60031,31,null," "," ",{"$f":"IF($C50<=$B$16,VLOOKUP(A50&$B$12, localcont!A40:X1794, 18, FALSE), \"\")","v":""},{"$f":"IF($C50<=$B$16,VLOOKUP(A50&$B$12, localcont!$A$10:$X$1764, 23, FALSE), \"\")","v":""}," ",{"$f":"IF($C50<=$B$16,VLOOKUP(A50&$B$12, localcont!$A$10:$X$1764, 15, FALSE), \"\")","v":""},{"$f":"IF($C50<=$B$16,VLOOKUP(A50&$B$12, localcont!$A$10:$X$1764, 14, FALSE),\"\")","v":""}," ","","","",""]
[{"$f":"IF($C51<=$B$16,VLOOKUP(E51,leas!D37:G476,4,FALSE),\"\")","v":""},60032,32,null," "," ",{"$f":"IF($C51<=$B$16,VLOOKUP(A51&$B$12, localcont!A41:X1795, 18, FALSE), \"\")","v":""},{"$f":"IF($C51<=$B$16,VLOOKUP(A51&$B$12, localcont!$A$10:$X$1764, 23, FALSE), \"\")","v":""}," ",{"$f":"IF($C51<=$B$16,VLOOKUP(A51&$B$12, localcont!$A$10:$X$1764, 15, FALSE), \"\")","v":""},{"$f":"IF($C51<=$B$16,VLOOKUP(A51&$B$12, localcont!$A$10:$X$1764, 14, FALSE),\"\")","v":""}," ","","","",""]
[{"$f":"IF($C52<=$B$16,VLOOKUP(E52,leas!D38:G477,4,FALSE),\"\")","v":""},60033,33,null," ",{"$f":"IF($C52<=$B$16, VLOOKUP($B52, regdetail, 6), \" \")","v":" "},{"$f":"IF($C52<=$B$16,VLOOKUP(A52&$B$12, localcont!A42:X1796, 18, FALSE), \"\")","v":""},{"$f":"IF($C52<=$B$16,VLOOKUP(A52&$B$12, localcont!$A$10:$X$1764, 23, FALSE), \"\")","v":""}," ",{"$f":"IF($C52<=$B$16,VLOOKUP(A52&$B$12, localcont!$A$10:$X$1764, 15, FALSE), \"\")","v":""},{"$f":"IF($C52<=$B$16,VLOOKUP(A52&$B$12, localcont!$A$10:$X$1764, 14, FALSE),\"\")","v":""}," ","","","",""]
[{"$f":"IF($C53<=$B$16,VLOOKUP(E53,leas!D39:G478,4,FALSE),\"\")","v":""},60034,34,null," "," ",{"$f":"IF($C53<=$B$16,VLOOKUP(A53&$B$12, localcont!A43:X1797, 18, FALSE), \"\")","v":""},{"$f":"IF($C53<=$B$16,VLOOKUP(A53&$B$12, localcont!$A$10:$X$1764, 23, FALSE), \"\")","v":""}," ",{"$f":"IF($C53<=$B$16,VLOOKUP(A53&$B$12, localcont!$A$10:$X$1764, 15, FALSE), \"\")","v":""},{"$f":"IF($C53<=$B$16,VLOOKUP(A53&$B$12, localcont!$A$10:$X$1764, 14, FALSE),\"\")","v":""}," ","","","",""]
[{"$f":"IF($C54<=$B$16,VLOOKUP(E54,leas!D40:G479,4,FALSE),\"\")","v":""},60035,35,null," "," ",{"$f":"IF($C54<=$B$16,VLOOKUP(A54&$B$12, localcont!A44:X1798, 18, FALSE), \"\")","v":""},{"$f":"IF($C54<=$B$16,VLOOKUP(A54&$B$12, localcont!$A$10:$X$1764, 23, FALSE), \"\")","v":""}," ",{"$f":"IF($C54<=$B$16,VLOOKUP(A54&$B$12, localcont!$A$10:$X$1764, 15, FALSE), \"\")","v":""},{"$f":"IF($C54<=$B$16,VLOOKUP(A54&$B$12, localcont!$A$10:$X$1764, 14, FALSE),\"\")","v":""}," ","","","",""]
[{"$f":"IF($C55<=$B$16,VLOOKUP(E55,leas!D41:G480,4,FALSE),\"\")","v":""},60036,36,null," "," ",{"$f":"IF($C55<=$B$16,VLOOKUP(A55&$B$12, localcont!A45:X1799, 18, FALSE), \"\")","v":""},{"$f":"IF($C55<=$B$16,VLOOKUP(A55&$B$12, localcont!$A$10:$X$1764, 23, FALSE), \"\")","v":""}," ",{"$f":"IF($C55<=$B$16,VLOOKUP(A55&$B$12, localcont!$A$10:$X$1764, 15, FALSE), \"\")","v":""},{"$f":"IF($C55<=$B$16,VLOOKUP(A55&$B$12, localcont!$A$10:$X$1764, 14, FALSE),\"\")","v":""}," ","","","",""]
[{"$f":"IF($C56<=$B$16,VLOOKUP(E56,leas!D42:G481,4,FALSE),\"\")","v":""},60037,37,null," "," ",{"$f":"IF($C56<=$B$16,VLOOKUP(A56&$B$12, localcont!A46:X1800, 18, FALSE), \"\")","v":""},{"$f":"IF($C56<=$B$16,VLOOKUP(A56&$B$12, localcont!$A$10:$X$1764, 23, FALSE), \"\")","v":""}," ",{"$f":"IF($C56<=$B$16,VLOOKUP(A56&$B$12, localcont!$A$10:$X$1764, 15, FALSE), \"\")","v":""},{"$f":"IF($C56<=$B$16,VLOOKUP(A56&$B$12, localcont!$A$10:$X$1764, 14, FALSE),\"\")","v":""}," ","","","",""]
[{"$f":"IF($C57<=$B$16,VLOOKUP(E57,leas!D43:G482,4,FALSE),\"\")","v":""},60038,38,null," "," ",{"$f":"IF($C57<=$B$16,VLOOKUP(A57&$B$12, localcont!A47:X1801, 18, FALSE), \"\")","v":""},{"$f":"IF($C57<=$B$16,VLOOKUP(A57&$B$12, localcont!$A$10:$X$1764, 23, FALSE), \"\")","v":""}," ",{"$f":"IF($C57<=$B$16,VLOOKUP(A57&$B$12, localcont!$A$10:$X$1764, 15, FALSE), \"\")","v":""},{"$f":"IF($C57<=$B$16,VLOOKUP(A57&$B$12, localcont!$A$10:$X$1764, 14, FALSE),\"\")","v":""}," ","","","",""]
[{"$f":"IF($C58<=$B$16,VLOOKUP(E58,leas!D44:G483,4,FALSE),\"\")","v":""},60039,39,null," "," ",{"$f":"IF($C58<=$B$16,VLOOKUP(A58&$B$12, localcont!A48:X1802, 18, FALSE), \"\")","v":""},{"$f":"IF($C58<=$B$16,VLOOKUP(A58&$B$12, localcont!$A$10:$X$1764, 23, FALSE), \"\")","v":""}," ",{"$f":"IF($C58<=$B$16,VLOOKUP(A58&$B$12, localcont!$A$10:$X$1764, 15, FALSE), \"\")","v":""},{"$f":"IF($C58<=$B$16,VLOOKUP(A58&$B$12, localcont!$A$10:$X$1764, 14, FALSE),\"\")","v":""}," ","","","",""]
[{"$f":"IF($C59<=$B$16,VLOOKUP(E59,leas!D45:G484,4,FALSE),\"\")","v":""},60040,40,null," "," ",{"$f":"IF($C59<=$B$16,VLOOKUP(A59&$B$12, localcont!A49:X1803, 18, FALSE), \"\")","v":""},{"$f":"IF($C59<=$B$16,VLOOKUP(A59&$B$12, localcont!$A$10:$X$1764, 23, FALSE), \"\")","v":""}," ",{"$f":"IF($C59<=$B$16,VLOOKUP(A59&$B$12, localcont!$A$10:$X$1764, 15, FALSE), \"\")","v":""},{"$f":"IF($C59<=$B$16,VLOOKUP(A59&$B$12, localcont!$A$10:$X$1764, 14, FALSE),\"\")","v":""}," ","","","",""]
[{"$f":"IF($C60<=$B$16,VLOOKUP(E60,leas!D46:G485,4,FALSE),\"\")","v":""},60041,41,null," "," ",{"$f":"IF($C60<=$B$16,VLOOKUP(A60&$B$12, localcont!A50:X1804, 18, FALSE), \"\")","v":""},{"$f":"IF($C60<=$B$16,VLOOKUP(A60&$B$12, localcont!$A$10:$X$1764, 23, FALSE), \"\")","v":""}," ",{"$f":"IF($C60<=$B$16,VLOOKUP(A60&$B$12, localcont!$A$10:$X$1764, 15, FALSE), \"\")","v":""},{"$f":"IF($C60<=$B$16,VLOOKUP(A60&$B$12, localcont!$A$10:$X$1764, 14, FALSE),\"\")","v":""}," ","","","",""]
[{"$f":"IF($C61<=$B$16,VLOOKUP(E61,leas!D47:G486,4,FALSE),\"\")","v":""},60042,42,null," "," ",{"$f":"IF($C61<=$B$16,VLOOKUP(A61&$B$12, localcont!A51:X1805, 18, FALSE), \"\")","v":""},{"$f":"IF($C61<=$B$16,VLOOKUP(A61&$B$12, localcont!$A$10:$X$1764, 23, FALSE), \"\")","v":""}," ",{"$f":"IF($C61<=$B$16,VLOOKUP(A61&$B$12, localcont!$A$10:$X$1764, 15, FALSE), \"\")","v":""},{"$f":"IF($C61<=$B$16,VLOOKUP(A61&$B$12, localcont!$A$10:$X$1764, 14, FALSE),\"\")","v":""}," ","","","",""]
[{"$f":"IF($C62<=$B$16,VLOOKUP(E62,leas!D48:G487,4,FALSE),\"\")","v":""},60043,43,null," "," ",{"$f":"IF($C62<=$B$16,VLOOKUP(A62&$B$12, localcont!A52:X1806, 18, FALSE), \"\")","v":""},{"$f":"IF($C62<=$B$16,VLOOKUP(A62&$B$12, localcont!$A$10:$X$1764, 23, FALSE), \"\")","v":""}," ",{"$f":"IF($C62<=$B$16,VLOOKUP(A62&$B$12, localcont!$A$10:$X$1764, 15, FALSE), \"\")","v":""},{"$f":"IF($C62<=$B$16,VLOOKUP(A62&$B$12, localcont!$A$10:$X$1764, 14, FALSE),\"\")","v":""}," ","","","",""]
[{"$f":"IF($C63<=$B$16,VLOOKUP(E63,leas!D49:G488,4,FALSE),\"\")","v":""},60044,44,null," "," ",{"$f":"IF($C63<=$B$16,VLOOKUP(A63&$B$12, localcont!A53:X1807, 18, FALSE), \"\")","v":""},{"$f":"IF($C63<=$B$16,VLOOKUP(A63&$B$12, localcont!$A$10:$X$1764, 23, FALSE), \"\")","v":""}," ",{"$f":"IF($C63<=$B$16,VLOOKUP(A63&$B$12, localcont!$A$10:$X$1764, 15, FALSE), \"\")","v":""},{"$f":"IF($C63<=$B$16,VLOOKUP(A63&$B$12, localcont!$A$10:$X$1764, 14, FALSE),\"\")","v":""}," ","","","",""]
[{"$f":"IF($C64<=$B$16,VLOOKUP(E64,leas!D50:G489,4,FALSE),\"\")","v":""},60045,45,null," "," ",{"$f":"IF($C64<=$B$16,VLOOKUP(A64&$B$12, localcont!A54:X1808, 18, FALSE), \"\")","v":""},{"$f":"IF($C64<=$B$16,VLOOKUP(A64&$B$12, localcont!$A$10:$X$1764, 23, FALSE), \"\")","v":""}," ",{"$f":"IF($C64<=$B$16,VLOOKUP(A64&$B$12, localcont!$A$10:$X$1764, 15, FALSE), \"\")","v":""},{"$f":"IF($C64<=$B$16,VLOOKUP(A64&$B$12, localcont!$A$10:$X$1764, 14, FALSE),\"\")","v":""}," ","","","",""]
[{"$f":"IF($C65<=$B$16,VLOOKUP(E65,leas!D51:G490,4,FALSE),\"\")","v":""},60046,46,null," "," ",{"$f":"IF($C65<=$B$16,VLOOKUP(A65&$B$12, localcont!A55:X1809, 18, FALSE), \"\")","v":""},{"$f":"IF($C65<=$B$16,VLOOKUP(A65&$B$12, localcont!$A$10:$X$1764, 23, FALSE), \"\")","v":""}," ",{"$f":"IF($C65<=$B$16,VLOOKUP(A65&$B$12, localcont!$A$10:$X$1764, 15, FALSE), \"\")","v":""},{"$f":"IF($C65<=$B$16,VLOOKUP(A65&$B$12, localcont!$A$10:$X$1764, 14, FALSE),\"\")","v":""}," ","","","",""]
[{"$f":"IF($C66<=$B$16,VLOOKUP(E66,leas!D52:G491,4,FALSE),\"\")","v":""},60047,47,null," "," ",{"$f":"IF($C66<=$B$16,VLOOKUP(A66&$B$12, localcont!A56:X1810, 18, FALSE), \"\")","v":""},{"$f":"IF($C66<=$B$16,VLOOKUP(A66&$B$12, localcont!$A$10:$X$1764, 23, FALSE), \"\")","v":""}," ",{"$f":"IF($C66<=$B$16,VLOOKUP(A66&$B$12, localcont!$A$10:$X$1764, 15, FALSE), \"\")","v":""},{"$f":"IF($C66<=$B$16,VLOOKUP(A66&$B$12, localcont!$A$10:$X$1764, 14, FALSE),\"\")","v":""}," ","","","",""]
[{"$f":"IF($C67<=$B$16,VLOOKUP(E67,leas!D53:G492,4,FALSE),\"\")","v":""},60048,48,null," "," ",{"$f":"IF($C67<=$B$16,VLOOKUP(A67&$B$12, localcont!A57:X1811, 18, FALSE), \"\")","v":""},{"$f":"IF($C67<=$B$16,VLOOKUP(A67&$B$12, localcont!$A$10:$X$1764, 23, FALSE), \"\")","v":""}," ",{"$f":"IF($C67<=$B$16,VLOOKUP(A67&$B$12, localcont!$A$10:$X$1764, 15, FALSE), \"\")","v":""},{"$f":"IF($C67<=$B$16,VLOOKUP(A67&$B$12, localcont!$A$10:$X$1764, 14, FALSE),\"\")","v":""}," ","","","",""]
[{"$f":"IF($C68<=$B$16,VLOOKUP(E68,leas!D54:G493,4,FALSE),\"\")","v":""},60049,49,null," "," ",{"$f":"IF($C68<=$B$16,VLOOKUP(A68&$B$12, localcont!A58:X1812, 18, FALSE), \"\")","v":""},{"$f":"IF($C68<=$B$16,VLOOKUP(A68&$B$12, localcont!$A$10:$X$1764, 23, FALSE), \"\")","v":""}," ",{"$f":"IF($C68<=$B$16,VLOOKUP(A68&$B$12, localcont!$A$10:$X$1764, 15, FALSE), \"\")","v":""},{"$f":"IF($C68<=$B$16,VLOOKUP(A68&$B$12, localcont!$A$10:$X$1764, 14, FALSE),\"\")","v":""}," ","","","",""]

{"sheet":"Comparison to FY21","index":10,"n_rows":333,"n_cols":16,"rows_kept":333,"cut":false,"hidden":false,"merged":[[3,0,3,11]]}
[null,"Return to Index",null,null,null,null,null,null,null,null,null,null,null,null,null,"More about the data"]
["Massachusetts Department of Elementary and Secondary Education"]
[{"$f":"CYr&\" Chapter 70 Comparison to \"&PYr","v":"FY22 Chapter 70 Comparison to FY21"}]
[]
[]
[]
[null,null,{"$f":"PYr","v":"FY21"},"FY22",null,{"$f":"PYr","v":"FY21"},{"$f":"CYr","v":"FY22"},null,{"$f":"PYr","v":"FY21"},{"$f":"CYr","v":"FY22"},null,{"$f":"PYr","v":"FY21"},{"$f":"CYr","v":"FY22"}]
[null,"Operating","Foundation ","Foundation ",null,"Foundation","Foundation",null,"Minimum","Minimum",null,"Chapter 70","Chapter 70"]
["LEA","District name","Enrollment","Enrollment","change","Budget","Budget","change per pupil","Contribution","Contribution","change per pupil","aid","aid","change in aid","change in aid per pupil","% change in aid"]
[1,"Abington                     ",{"$f":"VLOOKUP(A10,aidcalc,14,FALSE)","v":2197},{"$f":"VLOOKUP(A10,aidcalc,15,FALSE)","v":2193},{"$f":"D10-C10","v":-4},{"$f":"VLOOKUP(A10,aidcalc,4,FALSE)","v":25332546.714959998},{"$f":"VLOOKUP(A10,aidcalc,9,FALSE)","v":26452103.926830001},{"$f":"(G10-F10)/$D10","v":510.51400450068559},{"$f":"VLOOKUP(A10,aidcalc,5,FALSE)","v":15287069},{"$f":"VLOOKUP(A10,aidcalc,10,FALSE)","v":15764755},{"$f":"(J10-I10)/$D10","v":217.82307341541267},{"$f":"VLOOKUP(A10,aidcalc,6,FALSE)","v":10045478},{"$f":"VLOOKUP(A10,aidcalc,39,FALSE)","v":10858340},{"$f":"M10-L10","v":812862},{"$f":"(M10-L10)/$D10","v":370.66210670314638},{"$f":"ROUND(IF(F10>0,(M10-L10)/L10,100),2)","v":0.08}]
[3,"Acushnet                     ",1292,1207,{"$f":"D11-C11","v":-85},13990412.9,13465052.850000001,-435.2610190555086,7889510,7845282,{"$f":"(J11-I11)/$D11","v":-36.642916321458159},6361492,6397702,{"$f":"M11-L11","v":36210},{"$f":"(M11-L11)/$D11","v":30},0.01]
[5,"Agawam                       ",3623,3516,-107,42427489.500000007,42757064.969999991,93.735912969278701,23256462,23315754,16.863481228668942,19477412,19949538,472126,134.2792946530148,0.02]
[7,"Amesbury                     ",2036,1930,-106,22553274.579999998,22433070.579999998,-62.281865284974096,16118764,16512446,203.98031088082902,9190887,9248787,57900,30,0.01]
[8,"Amherst                      ",1097,1045,-52,12512134.57,12729208.74,207.72647846889944,9645618,9839703,185.72727272727272,6122223,6153573,31350,30,0.01]
[9,"Andover                      ",5740,5628,-112,64237434.876240008,64651081.727839999,73.498019118690706,52995883,53337142,60.635927505330493,11668291,11837131,168840,30,0.01]
[10,"Arlington                    ",6092,5836,-256,64895656.34093,64290460.96402999,-103.7003730123389,50343449,51218702,149.97481151473613,14566028,14741108,175080,30,0.01]
[14,"Ashland                      ",2786,2694,-92,30232498.719999995,30071220.670000002,-59.865645879730252,22294876,22834444,200.28507795100222,7937623,8018443,80820,30,0.01]
[16,"Attleboro                    ",6383,6188,-195,79207276.429999992,80551906.579999998,217.29640433096412,38037529,39217192,190.63720103425985,41169747,41355387,185640,30,0]
[17,"Auburn                       ",2511,2421,-90,27521289.789999999,27321855.580000002,-82.376790582402791,15309359,15497480,77.703841387856258,12211931,12284561,72630,30,0.01]
[18,"Avon                         ",586,560,-26,7045846.1099999985,6999174.9000000004,-83.341446428568034,4598969,4667923,123.13214285714285,2448769,2465569,16800,{"$f":"(M20-L20)/$D20","v":30},0.01]
[20,"Barnstable                   ",5405,5147,-258,65773443.140000001,65035356.480000012,-143.40133281523003,52762387,53654169,173.26248299980571,13011056,13165466,154410,30,0.01]
[23,"Bedford                      ",2707,2649,-58,30502691.57316,30686041.444819998,69.214749588523162,25097492,25315984,82.480936202340501,5595167,5674637,79470,30,0.01]
[24,"Belchertown                  ",2278,2204,-74,24726417.459999997,24762062.589999996,16.172926497277203,12418125,12813563,179.41833030852993,13884146,13950266,66120,30,0]
[25,"Bellingham                   ",2247,2184,-63,24676853.43,24764847.16,40.290169413919621,16772086,17317798,249.86813186813185,8642425,8707945,65520,30,0.01]
[26,"Belmont                      ",4638,4534,-104,50418107.66032999,50621827.421319984,44.931574986765284,40662179,40824828,35.873180414644906,9755929,9891949,136020,30,0.01]
[27,"Berkley                      ",764,733,-31,8014902.1800000006,7936943.7699999996,-106.35526603001512,4170576,4234022,86.556616643929061,4003448,4025438,21990,30,0.01]
[30,"Beverly                      ",4570,4613,43,51866271.119999997,53826076.489999995,424.84399956644211,41749093,43333361,343.43550834597875,10125430,10492715,367285,79.61955343594191,0.04]
[31,"Billerica                    ",4866,4694,-172,52647471.612599999,52163794.354139991,-103.04159745632884,41417136,43035131,344.6942905837239,19348854,19489674,140820,30,0.01]
[35,"Boston                       ",62890,60704,-2186,924506066.0076499,973396859.42095006,805.39657046158663,762717504,780870181,299.03592843964157,221915045,223736165,1821120,30,0.01]
[36,"Bourne                       ",2012,1789,-223,22664002.020000003,20913172.689999998,-978.66368362213848,18697802,17253367,-807.39798770262712,5215213,5268883,53670,30,0.01]
[38,"Boxford                      ",729,673,-56,7419452.1552000009,7066465.0981000001,-524.49785601783174,6121048,5829834,-432.71025260029717,1747903,1768093,20190,30,0.01]
[40,"Braintree                    ",5666,5383,-283,64248920.529949985,63220937.939339995,-190.96834304476872,46089277,47031091,174.96080252647224,18297651,18459141,161490,30,0.01]
[41,"Brewster                     ",468,431,-37,5175998.03,4885534.8500000015,-673.92849187934746,4206025,4030566,-407.09744779582365,1011979,1024909,12930,30,0.01]
[43,"Brimfield                    ",283,269,-14,3081860.73,2951690.97,-483.9024535315977,1716855,1753602,136.60594795539035,1365006,1373076,8070,30,0.01]
[44,"Brockton                     ",17491,17092,-399,237304378.99000001,260127523.13000005,1335.3114989468784,48074759,49543381,85.924526094079098,189236745,210584142,21347397,1248.9701029721507,0.11]
[45,"Brookfield                   ",253,230,-23,2871199.0500000003,2733160.0899999994,-600.16939130435173,1170696,1148919,-94.682608695652178,1700503,1707403,6900,30,0]
[46,"Brookline                    ",7648,6858,-790,83874467.613419995,77282551.571720004,-961.20093929716984,69196436,63758105,-792.99081364829397,15006787,15212527,205740,30,0.01]
[48,"Burlington                   ",3518,3420,-98,40012176.135040008,40035800.596980006,6.9077374093561321,33010045,33029535,5.6988304093567255,7002131,7104731,102600,30,0.01]
[49,"Cambridge                    ",7519,7160,-359,97837766.086960018,100589415.79484001,384.30861841899309,80716157,82986268,317.05460893854746,17121609,17603148,481539,67.254050279329604,0.03]
[50,"Canton                       ",3325,3234,-91,37234938.635360003,37357431.396600008,37.87654954854839,30718825,30819881,31.247990105132963,6516115,6613135,97020,30,0.01]
[51,"Carlisle                     ",570,556,-14,5783671.1796799991,5768217.8704799991,-27.793721582733845,4771528,4758779,-22.929856115107913,1012143,1028823,16680,30,0.02]
[52,"Carver                       ",1591,1501,-90,18039221.234960001,17542923.77304,-330.64454491672257,9418559,9589569,113.93071285809461,10008599,10053629,45030,30,0]
[56,"Chelmsford                   ",5112,4956,-156,54223728,54283919.00999999,12.145078692492023,43879883,44784233,182.47578692493946,11199428,11348108,148680,30,0.01]
[57,"Chelsea                      ",7289,7097,-192,105670798.9015,113321986.78373002,1078.0876260715816,19903086,19010458,-125.77539805551642,85769782,94311529,8541747,1203.5715090883473,0.1]
[61,"Chicopee                     ",7571,7269,-302,99981143.989999995,103392553.95,469.30939056266453,30903112,31166929,36.293437886917047,69078032,72225625,3147593,433.01595817856651,0.05]
[63,"Clarksburg                   ",171,180,9,2005332.3699999996,2134267.35,716.30544444444695,683465,735748,290.46111111111111,1799935,1805335,5400,30,0]
[64,"Clinton                      ",2086,2050,-36,25739349.560000002,26782472.620000001,508.84051707317008,11372125,11925947,270.15707317073173,14367225,14856526,489301,238.68341463414635,0.03]
[65,"Cohasset                     ",1468,1419,-49,15514224.726079997,15363435.330299998,-106.26454952783578,12799236,12674835,-87.668076109936578,2748292,2790862,42570,30,0.02]
[67,"Concord                      ",2081,1998,-83,21359034.911680002,21203260.514250003,-77.965163878878357,17621204,17492690,-64.321321321321321,3737831,3797771,59940,30,0.02]
[68,"Conway                       ",79,78,-1,894594.8200000003,924302.48000000021,380.8674358974348,738041,762549,314.20512820512823,626464,628804,2340,30,0]
[71,"Danvers                      ",3483,3384,-99,37325532.020000011,37498229.93999999,51.033664302594396,30589946,30909877,94.542257683215126,7108192,7209712,101520,30,0.01]
[72,"Dartmouth                    ",3517,3369,-148,38785092.380000003,38349025.249999993,-129.4351825467528,31997701,31637946,-106.78391214010092,9948121,10049191,101070,30,0.01]
[73,"Dedham                       ",2700,2586,-114,31069861.763470002,30586429.120819997,-186.94224387084472,25205198,25233804,11.061871616395978,6066360,6143940,77580,30,0.01]
[74,"Deerfield                    ",315,293,-22,3368724.2699999996,3189923.0900000003,-610.24293515358102,2732273,2631686,-343.30034129692831,1114363,1123153,8790,30,0.01]
[77,"Douglas                      ",1213,1106,-107,13102757.229999999,12300521.189999999,-725.34904159131929,7355911,7457277,91.650994575045203,8759585,8792765,33180,30,0]
[78,"Dover                        ",492,476,-16,4983216.4504999993,4975074.8628200004,-17.104175798317119,4111154,4104437,-14.111344537815127,872062,886342,14280,30,0.02]
[79,"Dracut                       ",3964,3982,18,44096709.129999995,45944951.039999999,464.14914866901154,23979412,25066936,273.10999497739829,20128364,20947045,818681,205.595429432446,0.04]
[82,"Duxbury                      ",2888,2730,-158,30754555.552399997,29831320.215240002,-338.18144218314836,25372508,24610839,-278.9996336996337,5382048,5463948,81900,30,0.02]
[83,"East Bridgewater             ",2153,2067,-86,23574021.350000001,23328359.859999999,-118.84929366231354,12580578,12898247,153.68601838413159,10995125,11057135,62010,30,0.01]
[85,"Eastham                      ",191,196,5,2151871.9300000002,2314050.34,827.44086734693713,1775294,1909092,682.64285714285711,376578,404958,28380,144.79591836734693,0.08]
[86,"Easthampton                  ",1719,1630,-89,20082994.249999996,19775625.25,-188.56993865030446,12651233,12917558,163.38957055214723,8029692,8078592,48900,30,0.01]
[87,"East Longmeadow              ",2643,2457,-186,29030299.670000002,27947960.879999999,-440.51232804232922,17494208,17112651,-155.29385429385428,12102248,12175958,73710,30,0.01]
[88,"Easton                       ",3516,3373,-143,37563612.82,37252962.899999999,-92.098997924696647,29384825,30157371,229.03824488585829,10148451,10249641,101190,30,0.01]
[89,"Edgartown                    ",441,428,-13,5167542.74,5229039.6599999992,143.68439252336213,4263223,4313958,118.53971962616822,904320,917160,12840,30,0.01]
[91,"Erving                       ",219,207,-12,2326189.63,2350503.5500000003,117.45855072463957,1919106,1939166,96.908212560386474,471505,477715,6210,30,0.01]
[93,"Everett                      ",7652,7505,-147,109071464.1568,120182572.72071998,1480.4941457588243,35431511,36483827,140.21532311792137,75001709,83698746,8697037,1158.8323784143904,0.12]
[94,"Fairhaven                    ",1816,1727,-89,20977288.109999999,20670528.07,-177.62596409959414,12688884,12627969,-35.272148233931674,8291230,8343040,51810,30,0.01]
[95,"Fall River                   ",12095,11894,-201,169915017.67999995,178475557.12,719.7359542626582,32906432,34270397,114.67672776189676,137016364,144205160,7188796,604.40524634269377,0.05]
[96,"Falmouth                     ",3221,3037,-184,38101629.059999995,36927457.06000001,-386.622324662491,31433844,30465152,{"$f":"(J69-I69)/$D69","v":-318.96345077378993},6780099,6871209,{"$f":"M69-L69","v":91110},{"$f":"(M69-L69)/$D69","v":30},0.01]
[97,"Fitchburg                    ",5815,5644,-171,77039272.929999992,80520654.390000001,616.82874911410499,19328344,19692057,64.442416725726432,57710929,60828597,3117668,552.38625088589652,0.05]
[98,"Florida                      ",66,58,-8,747149.5,708717.74,-662.61655172413805,475424,430461,-775.22413793103453,550717,552457,1740,30,0]
[99,"Foxborough                   ",2639,2543,-96,29781054.52984,29611209.107200004,-66.789391521822964,24569370,24429248,-55.101061738104598,9046950,9123240,76290,30,0.01]
[100,"Framingham                   ",9572,9303,-269,121857618.34246999,123683938.43378,196.31517696549602,65102393,67093799,214.06062560464366,56755225,57034315,279090,30,0]
[101,"Franklin                     ",{"$f":"VLOOKUP(A74,aidcalc,14,FALSE)","v":5511},{"$f":"VLOOKUP(A74,aidcalc,15,FALSE)","v":5292},-219,{"$f":"VLOOKUP(A74,aidcalc,4,FALSE)","v":60169866.394320011},{"$f":"VLOOKUP(A74,aidcalc,9,FALSE)","v":59684329.708099991},{"$f":"(G74-F74)/$D74","v":-91.749184848832215},{"$f":"VLOOKUP(A74,aidcalc,5,FALSE)","v":41152523},{"$f":"VLOOKUP(A74,aidcalc,10,FALSE)","v":42438004},242.9102418745276,{"$f":"VLOOKUP(A74,aidcalc,6,FALSE)","v":28416161},{"$f":"VLOOKUP(A74,aidcalc,39,FALSE)","v":28574921},158760,30,{"$f":"ROUND(IF(F74>0,(M74-L74)/L74,100),2)","v":0.01}]
[103,"Gardner                      ",2418,2285,{"$f":"D75-C75","v":-133},30692122.609999999,30592804.659999996,-43.465185995624935,9927325,10329492,176.00306345733043,21003460,21072010,68550,30,0]
[105,"Georgetown                   ",1303,1239,-64,13521537.540000001,13248901.300000001,-220.04539144471366,10617926,10632392,11.675544794188863,5527768,5564938,37170,30,0.01]
[107,"Gloucester                   ",3094,3017,-77,38460242.64918001,39241885.876580007,259.07962459396668,31729700,32374556,213.74080212131256,6730543,6867330,136787,45.338747099767978,0.02]
[110,"Grafton                      ",3079,3021,-58,32659858.43,33036291.830000006,124.60556107249452,22211911,22278742,22.122144985104271,11108735,11350399,241664,79.994703740483288,0.02]
[111,"Granby                       ",710,685,-25,8181734.8699999992,8277575.2999999998,139.91303649635128,5150983,5125029,-37.889051094890512,4664780,4685330,20550,30,0]
[114,"Greenfield                   ",1965,1859,-106,24159291.550000001,23765270.25,-211.95336202259318,10256971,10213255,-23.515868746637977,13902321,13958091,55770,30,0]
[117,"Hadley                       ",520,498,-22,5921818.3199999994,5848652.0300000003,-146.92026104417491,4885500,4825138,-121.20883534136546,1279420,1294360,14940,30,0.01]
[118,"Halifax                      ",630,615,-15,6764091.2584799994,6869417.3754399987,171.26197879674686,3795461,3815571,32.699186991869915,3063392,3081842,18450,30,0.01]
[121,"Hancock                      ",77,81,4,883632.04,935475.98,640.04864197530799,673593,689759,199.58024691358025,211450,245717,34267,423.04938271604937,0.16]
[122,"Hanover                      ",2558,2548,-10,27226298.169830002,27947138.811849996,282.9044905886949,21124278,21495854,145.83045525902668,7023879,7100319,76440,30,0.01]
[125,"Harvard                      ",911,876,-35,9458347.1900000013,9381972.8599999994,-87.1853082191803,7803137,7740128,-71.928082191780817,1982671,2008951,26280,30,0.01]
[127,"Hatfield                     ",353,334,-19,3943217.63,3871585.5500000003,-214.4673053892204,3167592,3194058,79.23952095808383,846256,856276,10020,30,0.01]
[128,"Haverhill                    ",8540,8276,-264,107173075.29000002,109426886.44,272.33097510874529,43835110,44844043,121.91070565490575,63349956,64582843,1232887,148.97136297728372,0.02]
[131,"Hingham                      ",4289,3947,-342,45460703.839160003,43173159.772249997,-579.56525637446316,37505081,35617857,-478.14137319483154,7955623,8074033,118410,30,0.01]
[133,"Holbrook                     ",1346,1315,-31,16096140.681580001,17208016.089600001,845.53262967300304,8273118,8484015,160.37794676806084,7826400,8724001,897601,682.58631178707219,0.11]
[135,"Holland                      ",156,152,-4,1899540.24,1809744.82,-590.7593421052627,1117998,1163162,297.13157894736844,933678,938238,4560,30,0]
[136,"Holliston                    ",2706,2604,-102,28673820.518239997,28287128.612019997,-148.49919593702006,21202129,21347747,55.920890937019969,7936216,8014336,78120,30,0.01]
[137,"Holyoke                      ",6357,6159,-198,90161028.659999996,93693634.540000007,573.56809222276513,11207668,11380266,28.023705146939438,78953361,82313369,3360008,545.54440655950646,0.04]
[138,"Hopedale                     ",924,914,-10,9927021.4951400012,10296038.865150001,403.73891685995591,5864081,6071421,226.84901531728664,6087390,6114810,27420,30,0]
[139,"Hopkinton                    ",3867,3935,68,41585309.188900001,43490670.81628,484.2087998424393,34279876,35879803,406.58881829733161,7305433,8050421,744988,189.32350698856416,0.1]
[141,"Hudson                       ",2658,2512,-146,30603552.288509995,30097729.245099999,-201.36267651671804,18666759,18926218,103.28781847133757,12020446,12095806,75360,30,0.01]
[142,"Hull                         ",896,837,-59,10567859.950760001,10290637.225959999,-331.20994599761269,8718484,8489776,-273.24731182795699,3874466,3899576,25110,30,0.01]
[144,"Ipswich                      ",1654,1585,-69,18495911.746960003,18333059.397599999,-102.74596174132749,15259127,15124774,-84.765299684542583,3332340,3379890,47550,30,0.01]
[145,"Kingston                     ",1105,1076,-29,11789935.42196,11872229.508859999,76.481493401486546,7692593,7844484,141.16263940520446,4372585,4404865,32280,30,0.01]
[149,"Lawrence                     ",15367,14746,-621,218786376.44,232840932.91999999,953.10975722229682,11530073,12043723,34.833175098331751,207256303,220797210,13540907,918.27661738776612,7.0000000000000007E-2]
[150,"Lee                          ",616,579,-37,7515008.5899999989,7346478.3700000001,-291.07119170984248,6036549,6060845,41.962003454231436,2085069,2102439,17370,30,0.01]
[151,"Leicester                    ",1539,1458,-81,18032789.120000001,17880645.889999997,-104.35063786008517,8592877,8835023,166.0809327846365,9802497,9846237,43740,30,0]
[152,"Lenox                        ",507,496,-11,5736170.5799999991,5870128.3400000008,270.07612903226135,4728371,4784639,113.44354838709677,1272525,1287405,14880,30,0.01]
[153,"Leominster                   ",6177,5990,-187,79655609.189999998,81156930.920000002,250.6380183639406,30886014,32013354,188.20367278797997,48769595,49143577,373982,62.434390651085145,0.01]
[154,"Leverett                     ",116,105,-11,1203602.1499999999,1140383.8500000001,-602.07904761904581,992972,940817,-496.71428571428572,295511,298661,3150,30,0.01]
[155,"Lexington                    ",7282,6982,-300,81400953.564800009,80473764.459500015,-132.79706463763884,67155786,66390856,-109.55743340017187,14438034,14647494,209460,30,0.01]
[157,"Lincoln                      ",595,578,-17,6274212.1128000012,6318769.3612000002,77.088665051901373,5176225,5212985,63.598615916955019,1174169,1191509,17340,30,0.01]
[158,"Littleton                    ",1611,1515,-96,16791308.800700001,16203700.729959998,-387.86011269967202,13852830,13368053,-319.98481848184821,4039908,4085358,45450,30,0.01]
[159,"Longmeadow                   ",2808,2705,-103,29237892.870000001,29088744.440000001,-55.138051756007286,24121262,23998214,-45.489094269870613,5669282,5750432,81150,30,0.01]
[160,"Lowell                       ",16352,16047,-305,218744159.73000002,231415706.88999999,789.65209447248503,51808768,54090653,142.20009970711035,166954483,177325054,10370571,646.26229201719946,0.06]
[161,"Ludlow                       ",2509,2381,-128,29294399.16,28762531.389999997,-223.37999580008537,16443714,16602458,66.671146577068455,13795983,13867413,71430,30,0.01]
[162,"Lunenburg                    ",1705,1656,-49,18301715.41,18380186.040000003,47.385646135267322,10527777,10907685,229.41304347826087,7773938,7823618,49680,30,0.01]
[163,"Lynn                         ",18087,17156,-931,252551048.48000005,266558842.58999997,816.49534332011683,53396054,55110068,99.907554208440189,199154994,211448775,12293781,716.58784098857541,0.06]
[164,"Lynnfield                    ",2205,2175,-30,23513323.468790006,23894429.729009997,175.22126906666261,19317442,19712904,181.82160919540229,4404631,4469881,65250,30,0.01]
[165,"Malden                       ",7268,6921,-347,94879629.913439989,97406250.094940007,365.06576816934222,45560692,47779006,320.51928912006935,51206223,51413853,207630,30,0]
[167,"Mansfield                    ",3730,3599,-131,41671720.92024,41523845.582419999,-41.087896032231441,29709526,29788892,22.052236732425673,18962339,19070309,107970,30,0.01]
[168,"Marblehead                   ",3023,2772,-251,31915735.240000002,30162422.010000002,-632.50838023088045,26330482,24883999,-521.81926406926402,5952147,6035307,83160,30,0.01]
[169,"Marion                       ",432,403,-29,4522671.7799999993,4366552.4799999986,-387.3928039702252,3731204,3602406,-319.59801488833745,860344,872434,12090,30,0.01]
[170,"Marlborough                  ",5336,5207,-129,67959735.832000002,68564199.290899992,116.086702304588,36937156,38131682,229.40772037641636,31032674,31188884,156210,30,0.01]
[171,"Marshfield                   ",3941,3791,-150,43514601.597520001,43215478.693449996,-78.903430247956962,35899546,35652770,-65.095225534159852,14664853,14778583,113730,30,0.01]
[172,"Mashpee                      ",1585,1510,-75,18424932.769999996,18191214.660000004,-154.78020529800793,15200570,15007753,-127.69337748344371,4640166,4685466,45300,30,0.01]
[173,"Mattapoisett                 ",437,396,-41,4546818.59,4245573.87,-760.71898989898921,3751126,3502598,-627.59595959595958,839485,851365,11880,30,0.01]
[174,"Maynard                      ",1305,1256,-49,14950228.72524,14846690.595790001,-82.434816441081978,10176959,10602983,339.19108280254778,5442941,5480621,37680,30,0.01]
[175,"Medfield                     ",2513,2433,-80,26552098.786160003,26386600.917599998,-68.022140797371549,21905481,21768946,-56.11796136457049,6288744,6361734,72990,30,0.01]
[176,"Medford                      ",4622,4414,-208,59524340.664400004,59041525.514499992,-109.38268008609236,49107581,48709259,-90.240598096964206,12143306,12275726,132420,30,0.01]
[177,"Medway                       ",2186,2089,-97,23623580.679760002,23100506.070399996,-250.39473880325787,16885292,17420950,256.41838200095742,10501419,10564089,62670,30,0.01]
[178,"Melrose                      ",4013,3914,-99,43519030.447039999,44275634.769020006,193.30718497189756,35108451,36147954,265.58584568216656,8514496,8631916,117420,30,0.01]
[181,"Methuen                      ",7124,6767,-357,88769466.079999998,89081373.360000014,46.09240135954132,40325303,40893567,83.975764740653176,48444163,48647173,203010,30,0]
[182,"Middleborough                ",3073,3021,-52,35057530.5,35701074.940000005,213.02364779874381,18220402,19002353,{"$f":"(J128-I128)/$D128","v":258.83846408474017},17978609,18069239,{"$f":"M128-L128","v":90630},{"$f":"(M128-L128)/$D128","v":30},0.01]
[184,"Middleton                    ",686,658,-28,7013290.1260299999,6916385.8156800009,-147.27098837385864,5785964,5706018,-121.4984802431611,1666151,1685891,19740,30,0.01]
[185,"Milford                      ",4482,4422,-60,56604613.875760004,58311889.735019997,386.08680670737061,25435714,26045119,137.81207598371776,31168900,32266771,1097871,248.27476255088195,0.04]
[186,"Millbury                     ",1743,1633,-110,19675592.059999999,19068853.890000001,-371.54817513778204,11797270,12048397,153.78260869565219,7878322,7927312,48990,30,0.01]
[187,"Millis                       ",1088,1051,-37,11739340.2481,11827839.3332,84.204648049477385,8676571,9094951,398.07802093244527,4831312,4862842,31530,30,0.01]
[189,"Milton                       ",4374,4340,-34,46912230.011340007,48026381.270000011,256.71687987557686,37346878,38723621,317.22188940092167,9567275,9697475,130200,30,0.01]
[191,"Monson                       ",934,883,-51,10603017.180000002,10383546.389999999,-248.55129105323084,5893568,5980205,98.116647791619485,7541075,7567565,26490,30,0]
[196,"Nahant                       ",266,263,-3,2739284.95,2840964.3000000003,386.61349809885968,2259910,2343796,318.95817490494295,523513,531403,7890,30,0.02]
[197,"Nantucket                    ",1664,1663,-1,19472349.760000002,20062013.989999998,354.57861094407502,16064689,16551162,292.52736019242332,3600249,3650139,49890,30,0.01]
[198,"Natick                       ",5484,5270,-214,58312471.325909987,57416261.712559983,-170.05875016129107,48107789,47368416,-140.29848197343455,10204682,10362782,158100,30,0.02]
[199,"Needham                      ",{"$f":"VLOOKUP(A138,aidcalc,14,FALSE)","v":5754},{"$f":"VLOOKUP(A138,aidcalc,15,FALSE)","v":5561},-193,{"$f":"VLOOKUP(A138,aidcalc,4,FALSE)","v":63004475.701059997},{"$f":"VLOOKUP(A138,aidcalc,9,FALSE)","v":62670272.533059999},{"$f":"(G138-F138)/$D138","v":-60.097674518970997},{"$f":"VLOOKUP(A138,aidcalc,5,FALSE)","v":51978693},{"$f":"VLOOKUP(A138,aidcalc,10,FALSE)","v":51702975},-49.580650962057184,{"$f":"VLOOKUP(A138,aidcalc,6,FALSE)","v":11025783},{"$f":"VLOOKUP(A138,aidcalc,39,FALSE)","v":11192613},166830,30,{"$f":"ROUND(IF(F138>0,(M138-L138)/L138,100),2)","v":0.02}]
[201,"New Bedford                  ",14257,14010,{"$f":"D139-C139","v":-247},197388756.04999998,205027128.52999997,545.20859957173366,31307615,32430617,80.157173447537474,166091904,172596512,6504608,464.28322626695217,0.04]
[204,"Newburyport                  ",2308,2211,-97,24204978.57,23983861.739999995,-100.00761194030108,19969107,19786686,-82.506105834464037,4235872,4302202,66330,30,0.02]
[207,"Newton                       ",12831,12113,-718,143592665.22735,140564444.81197003,-249.99755761413121,118463949,115965667,-206.24799801865765,25128716,25492106,363390,30,0.01]
[208,"Norfolk                      ",944,968,24,9555961.1148400009,10145341.33525,608.86386405991595,7883668,8327281,458.27789256198349,3461385,3490425,29040,30,0.01]
[209,"North Adams                  ",1424,1308,-116,18178355.150000002,17776815.729999997,-306.9873241590256,5057245,5014917,-32.36085626911315,13809703,13848943,39240,30,0]
[210,"Northampton                  ",2745,2656,-89,31063338.950000003,30598896.710000001,-174.86530120482007,25627255,25244090,-144.26393072289156,7558369,7638049,79680,30,0.01]
[211,"North Andover                ",4704,4600,-104,50577443.990000002,51150448.170000009,124.56612608695808,41726391,42199120,102.76717391304348,9160097,9298097,138000,30,0.02]
[212,"North Attleborough           ",4170,4093,-77,45073173.739999995,45611148.409999996,131.43774004397795,28270188,28869699,146.47226972880529,20682041,20804831,122790,30,0.01]
[213,"Northborough                 ",1540,1567,27,15653167.560000001,16495720.15,537.68512444160808,12913864,13436400,333.46266751754945,3993500,4040510,47010,30,0.01]
[214,"Northbridge                  ",2074,2023,-51,23651358.309999999,24014322.349999998,179.41870489372175,12499433,12896464,196.25852694018783,15603931,15664621,60690,30,0]
[215,"North Brookfield             ",609,573,-36,6921441.0200000014,6846232.9400000013,-131.25319371727761,2970928,3100851,226.74171029668412,4290838,4308028,17190,30,0]
[217,"North Reading                ",2320,2243,-77,25345400.252699994,25088126.4848,-114.70074360231557,20909956,20697704,-94.628622380740083,7153937,7221227,67290,30,0.01]
[218,"Norton                       ",2400,2301,-99,26443914.049999997,26287595.520000003,-67.935041286394494,18367335,18880577,223.05171664493699,12827390,12896420,69030,30,0.01]
[219,"Norwell                      ",2153,2138,-15,22887277.58972,23314847.059410002,199.98572015435104,18882004,19234749,164.98830682881197,4011711,4092385,80674,37.733395696913,0.02]
[220,"Norwood                      ",3531,3494,-37,42697305.215410002,43568844.49052,249.43883088437289,33534173,34544883,289.27017744705211,9166992,9271812,104820,30,0.01]
[221,"Oak Bluffs                   ",447,438,-9,5068644.3499999996,5237854.1399999997,386.32372146118729,3984819,4059261,169.95890410958904,1083825,1178593,94768,216.36529680365297,0.09]
[223,"Orange                       ",595,532,-63,7238630.1499999985,6779224.3799999999,-863.54468045112526,2020501,1979869,-76.375939849624061,5432046,5448006,15960,30,0]
[224,"Orleans                      ",204,183,-21,2333514.6599999997,2117003.94,-1183.1186885245888,1925150,1746528,-976.07650273224044,429984,435474,5490,30,0.01]
[226,"Oxford                       ",1655,1563,-92,19171590.48,18610886.670000002,-358.735642994241,9891135,10077227,119.06078055022392,10566894,10613784,46890,30,0]
[227,"Palmer                       ",1413,1318,-95,17071234.920000002,16656382.35,-314.75915781487265,6857027,6788607,-51.911987860394539,10915640,10955180,39540,30,0]
[229,"Peabody                      ",5983,5877,-106,72290192.479999989,73868646.389999986,268.58157393227776,50135481,50926003,134.5111451420793,22171771,22942643,770872,131.16760251829166,0.03]
[230,"Pelham                       ",84,70,-14,928975.21,781365.3,-2108.7129999999988,690492,644626,-655.2285714285714,238483,240583,2100,30,0.01]
[231,"Pembroke                     ",2854,2740,-114,31797805.646810003,31524469.692919996,-99.757647405112039,21249366,21759351,186.12591240875912,13608752,13690952,82200,30,0.01]
[234,"Petersham                    ",79,67,-12,932984.68,857437.59000000008,-1127.5685074626861,640821,585991,-818.35820895522386,435523,437533,2010,30,0]
[236,"Pittsfield                   ",5920,5707,-213,76463876.149999991,78783436.899999991,406.44134396355355,28300807,29449820,201.33397581916944,48163069,49333617,1170548,205.10741195023655,0.02]
[238,"Plainville                   ",716,658,-58,7517996.1499999994,7115696.5500000007,-611.39756838905578,5427402,5274713,-232.05015197568389,2927801,2947541,19740,30,0.01]
[239,"Plymouth                     ",7951,7708,-243,94027629.56190002,96574184.652480006,330.37819026725305,71603127,74135866,328.58575505967826,26369547,26600787,231240,30,0.01]
[240,"Plympton                     ",227,214,-13,2429975.0922999997,2362382.9491999997,-315.85113598130835,1772432,1775650,15.037383177570094,740470,746890,6420,30,0.01]
[242,"Provincetown                 ",97,99,2,1297760.2800000003,1352973.22,557.70646464646177,1070652,1116203,460.11111111111109,290781,293751,2970,30,0.01]
[243,"Quincy                       ",9657,9549,-108,129336079.22404,137993048.86168,906.58389754319819,101589945,106574604,522.00848256361928,28647763,31418445,2770682,290.1541522672531,0.1]
[244,"Randolph                     ",3286,3265,-21,42468258.92028001,44604827.451479994,654.38546131699366,23490641,24097300,185.80673813169986,18986721,20507527,1520806,465.7905053598775,0.08]
[246,"Reading                      ",3975,3835,-140,42488891.059600003,42185788.899420001,-79.035765366363094,35053335,34803276,-65.204432855280317,10834809,10949859,115050,30,0.01]
[248,"Revere                       ",7979,7766,-213,107222329.50896001,118591270.69321999,1463.9378295467397,36927909,38450529,196.06232294617564,70298333,80140742,9842409,1267.3717486479527,0.14000000000000001]
[249,"Richmond                     ",125,112,-13,1449827.3,1292054.5900000001,-1408.6849107142855,1196108,1065945,-1162.1696428571429,364649,368009,3360,30,0.01]
[250,"Rochester                    ",514,483,-31,5386708.8799999999,5238927.0299999993,-305.96656314699908,3382851,3515179,273.97101449275362,2057549,2072039,14490,30,0.01]
[251,"Rockland                     ",2326,2251,-75,29202100.0068,29557229.000960007,157.7649907418959,14473503,14834627,160.42825410928475,14728597,14796127,67530,30,0]
[252,"Rockport                     ",665,594,-71,7619056.3994999984,6987694.101019999,-1062.8994923905714,6285722,5764848,-876.89225589225589,1502126,1519946,17820,30,0.01]
[253,"Rowe                         ",50,43,-7,643874.47,578883.1100000001,-1511.4269767441831,531196,477579,-1246.9069767441861,139775,141065,1290,30,0.01]
[258,"Salem                        ",4536,4315,-221,59442159.61999999,59722480.57,64.964298957128719,35764101,36933427,270.9909617612978,25807152,25936602,129450,30,0.01]
[261,"Sandwich                     ",2644,2480,-164,28550950.060000002,27596949.41,-384.67768145161381,23554534,22767483,-317.3592741935484,7151788,7226188,74400,30,0.01]
[262,"Saugus                       ",2798,2612,-186,33051187.879999995,31765464.369999997,-492.23717840734992,26786282,26206508,-221.96554364471669,6270812,6349172,78360,30,0.01]
[263,"Savoy                        ",50,45,-5,635304.58000000007,540914.55000000005,-2097.5562222222229,372887,446255,1630.4,515849,517199,1350,30,0]
[264,"Scituate                     ",2991,2790,-201,32099035.583470002,30821136.839369997,-458.02822369175789,26068183,25427438,-229.65770609318997,6030853,6114553,83700,30,0.01]
[265,"Seekonk                      ",2077,2048,-29,22173871.389999997,22823463.869999997,317.18382812500022,15952238,16439482,237.912109375,6705263,6766703,61440,30,0.01]
[266,"Sharon                       ",3535,3471,-64,38206192.104400009,38555018.653469995,100.49742122442689,30736571,30922251,53.494670123883608,7469972,8528536,1058564,304.97378277153558,0.14000000000000001]
[269,"Sherborn                     ",400,387,-13,4086891.646209999,4085765.8388000005,-2.9090630749315118,3371686,3370757,-2.400516795865633,715207,726817,11610,30,0.02]
[271,"Shrewsbury                   ",6207,6144,-63,66373147.319999993,67755147.820000008,224.9349772135441,50487975,52467104,322.12386067708331,20068648,20252968,184320,30,0.01]
[272,"Shutesbury                   ",105,98,-7,1221694.1099999999,1164808.83,-580.46204081632447,712492,709939,-26.051020408163264,630386,633326,2940,30,0]
[273,"Somerset                     ",1758,1642,-116,18501842.410000004,17890453.66,-372.34394031668921,9406646,9346663,-36.530450669914735,9096902,9146162,49260,30,0.01]
[274,"Somerville                   ",5282,5049,-233,72325602.754360005,76723652.080639988,871.07334646068193,59668622,62371611,535.35135670429793,20486918,20638388,151470,30,0.01]
[275,"Southampton                  ",462,448,-14,4972548.3299999991,5087907.08,257.49720982143066,3367625,3512669,323.75892857142856,2551486,2564926,13440,30,0.01]
[276,"Southborough                 ",1225,1156,-69,12497359.942009997,12207265.0513,-250.94713729238427,10310322,10070994,-207.03114186851212,2986051,3020731,34680,30,0.01]
[277,"Southbridge                  ",2231,2210,-21,29979243.07,31747452.57,800.09479638009054,8016911,8237019,{"$f":"(J191-I191)/$D191","v":99.596380090497732},22989832,23510434,{"$f":"M191-L191","v":520602},{"$f":"(M191-L191)/$D191","v":235.56651583710408},0.02]
[278,"South Hadley                 ",1941,1837,-104,22558199.090000004,22241637.689999994,-172.32520413718547,14027360,14021018,-3.452367991290147,8530839,8585949,55110,30,0.01]
[281,"Springfield                  ",29551,29144,-407,419043165.70000011,443439917.51999992,837.11061693658439,41873391,43175654,44.683742794400217,377169775,400264264,23094489,792.42688031841885,0.06]
[284,"Stoneham                     ",2450,2376,-74,27298622.593199998,27675773.212859996,158.73342578282725,22148293,22660692,215.65614478114477,5266351,5337631,71280,30,0.01]
[285,"Stoughton                    ",3644,3540,-104,44058289.500399999,44797790.667170003,208.89863468079201,27084504,27844812,214.77627118644068,16973793,17235177,261384,73.837288135593226,0.02]
[287,"Sturbridge                   ",870,804,-66,8866569.3900000006,8593995.6400000006,-339.02207711442787,5185477,5067895,-146.24626865671641,3846634,3870754,24120,30,0.01]
[288,"Sudbury                      ",2690,2524,-166,26639866.135919996,25511367.012379996,-447.10741820126748,21977890,21046878,-368.86370839936609,4990518,5066238,75720,30,0.02]
[289,"Sunderland                   ",171,141,-30,2034470.88,1716998.6200000003,-2251.5763120567344,1662285,1416524,-1742.985815602837,872838,877068,4230,30,0]
[290,"Sutton                       ",1321,1257,-64,13916186.880000001,13669932.569999998,-195.90637231503769,10856059,11084974,182.11217183770884,5479815,5517525,37710,30,0.01]
[291,"Swampscott                   ",2155,2086,-69,23409223.779999994,23465483.940000005,26.970354745930646,18964138,19359024,189.30297219558963,4447386,4509966,62580,30,0.01]
[292,"Swansea                      ",2115,2044,-71,22877752.370000001,23868174.949999999,484.55116438356077,14533757,14677628,70.386986301369859,8449049,9190547,741498,362.76810176125247,0.09]
[293,"Taunton                      ",{"$f":"VLOOKUP(A202,aidcalc,14,FALSE)","v":8113},{"$f":"VLOOKUP(A202,aidcalc,15,FALSE)","v":7953},-160,{"$f":"VLOOKUP(A202,aidcalc,4,FALSE)","v":103523189.69},{"$f":"VLOOKUP(A202,aidcalc,9,FALSE)","v":106634338.85999998},{"$f":"(G202-F202)/$D202","v":391.19189865459413},{"$f":"VLOOKUP(A202,aidcalc,5,FALSE)","v":36893138},{"$f":"VLOOKUP(A202,aidcalc,10,FALSE)","v":38137066},156.40990821073808,{"$f":"VLOOKUP(A202,aidcalc,6,FALSE)","v":66638377},{"$f":"VLOOKUP(A202,aidcalc,39,FALSE)","v":68497273},1858896,233.73519426631461,{"$f":"ROUND(IF(F202>0,(M202-L202)/L202,100),2)","v":0.03}]
[295,"Tewksbury                    ",3364,3256,{"$f":"D203-C203","v":-108},35851430.130000003,35898780.919999994,14.542625921373359,29577430,29616494,11.997542997542997,13326215,13423895,97680,30,0.01]
[296,"Tisbury                      ",371,343,-28,4358704.2899999991,4196236.82,-473.66609329445714,3499193,3460834,-111.83381924198251,859511,869801,10290,30,0.01]
[298,"Topsfield                    ",627,542,-85,6270046.2603099989,5574732.2589299995,-1282.8671612177109,5031835,4599154,-798.30442804428048,1239023,1255283,16260,30,0.01]
[300,"Truro                        ",213,199,-14,2296768.69,2248586.67,-242.12070351758803,1894834,1855084,-199.74874371859298,402446,408416,5970,30,0.01]
[301,"Tyngsborough                 ",1645,1626,-19,17653818.739999998,18172149.940000001,318.77687576875951,12650386,12657825,4.5750307503075032,7409074,7457854,48780,30,0.01]
[304,"Uxbridge                     ",1776,1693,-83,19464063.84,19338129.629999999,-74.385239220319491,12445154,12865712,248.40992321323094,9438614,9489404,50790,30,0.01]
[305,"Wakefield                    ",3480,3384,-96,38545137.935350008,38582986.752279997,11.184638572691656,31799739,31830964,9.2272458628841605,6745399,6846919,101520,30,0.02]
[306,"Wales                        ",145,130,-15,1614023.6,1538717.03,-579.28130769230825,613294,561776,-396.2923076923077,1000730,1004630,3900,30,0]
[307,"Walpole                      ",3587,3573,-14,39454988.392580003,40689968.803000003,345.64243224741131,32550365,33442336,249.64203750349847,8182871,8290061,107190,30,0.01]
[308,"Waltham                      ",5746,5524,-222,78968509.286119998,78915319.908700004,-9.6287794026055913,63760767,65105139,243.36929761042722,15541249,15706969,165720,30,0.01]
[309,"Ware                         ",1289,1277,-12,15723620.550000001,16534689.749999998,635.13641346906604,5305670,5367553,48.459671104150353,10591234,11167137,575903,450.98120595144871,0.05]
[310,"Wareham                      ",2403,2269,-134,29995900.239999998,30136320.540000003,61.886425738212637,18760166,18810171,22.038342882327015,13381730,13449800,68070,30,0.01]
[314,"Watertown                    ",2678,2607,-71,33148323.506280009,33522397.491480004,143.48829505178188,27347367,27655978,118.37782892213272,5858595,5936805,78210,30,0.01]
[315,"Wayland                      ",2653,2647,-6,28213341.421039999,29104320.959789999,336.59975018889321,23276007,23895149,233.90328673970532,5299764,5379174,79410,30,0.01]
[316,"Webster                      ",2023,1870,-153,26082448.07,25262775.430000003,-438.32761497326038,11471908,11542511,37.755614973262034,14610856,14666956,56100,30,0]
[317,"Wellesley                    ",4876,4466,-410,52873250.972209997,49899424.529899992,-665.88142461039081,43620433,41167025,-549.35244066278551,9273504,9407484,133980,30,0.01]
[318,"Wellfleet                    ",115,114,-1,1257777.1000000001,1271721.1499999999,122.31622807017381,1037666,1049170,100.91228070175438,220111,223660,3549,31.131578947368421,0.02]
[321,"Westborough                  ",3783,3821,38,40523119.020000003,42136254.929999992,422.17637006019078,32212271,31823425,-101.76550641193406,8310848,11190003,2879155,753.50824391520541,0.35]
[322,"West Boylston                ",854,832,-22,9693716.8899999987,9707106.709999999,16.093533653846514,7543146,7764923,266.55889423076923,3034005,3058965,24960,30,0.01]
[323,"West Bridgewater             ",1107,1100,-7,12165316.310000001,12489999.319999998,295.16637272727081,8009301,8083995,67.903636363636366,4157054,4569989,412935,375.39545454545453,0.1]
[325,"Westfield                    ",5221,4980,-241,65292799.700000003,64522096.82,-154.75961445783187,27986427,28545364,112.23634538152611,37306373,37455773,149400,30,0]
[326,"Westford                     ",4715,4586,-129,49470077.997149989,49338010.536589988,-28.79796348887951,38573963,38279511,-64.206716092455295,17144235,17281815,137580,30,0.01]
[327,"Westhampton                  ",116,103,-13,1307846.49,1219129.1399999999,-861.33349514563201,960638,977217,160.96116504854368,477140,480230,3090,30,0.01]
[330,"Weston                       ",2057,1928,-129,22266149.914000005,21523446.137799997,-385.2198009336139,18369574,17756843,-317.80653526970957,3949220,4007060,57840,30,0.01]
[331,"Westport                     ",1505,1471,-34,16658171.17,16931357.890000001,185.71496940856605,13742991,13968370,153.21481985044187,4559462,4603592,44130,30,0.01]
[332,"West Springfield             ",4138,3995,-143,52593244.399999991,53586795.429999992,248.6986307884859,20539659,20662897,30.848060075093866,32053585,32923898,870313,217.850563204005,0.03]
[335,"Westwood                     ",3001,2941,-60,32201274.010420009,32428327.176970001,77.202708789524593,26566051,26753369,63.691941516490992,5635223,5723453,88230,30,0.02]
[336,"Weymouth                     ",5921,5929,8,73265345.799600005,75977296.148979992,457.40434295496482,56687928,58393206,287.6164614606173,28433225,28611095,177870,30,0.01]
[337,"Whately                      ",79,81,2,904197.0199999999,959161.65,678.57567901234722,739905,778763,479.72839506172841,264770,267200,2430,30,0.01]
[340,"Williamsburg                 ",176,168,-8,2006916.64,2022824.2199999997,94.687976190475254,1291212,1279800,-67.928571428571431,715705,785367,69662,414.65476190476193,0.1]
[342,"Wilmington                   ",3220,2818,-402,35336725.314499997,31931135.571399998,-1208.5130387154006,28856084,26343187,-891.73066004258339,11469170,11553710,84540,30,0.01]
[343,"Winchendon                   ",1322,1283,-39,15745625.66,16140907.580000002,308.09190958690709,5282604,5507065,174.95011691348401,11491100,11529590,38490,30,0]
[344,"Winchester                   ",4685,4513,-172,49895727.543140002,49557487.22226999,-74.947999306450711,40278256,40884927,134.42743186350543,9617689,9753079,135390,30,0.01]
[346,"Winthrop                     ",1986,1907,-79,23537383.711800005,23368693.414199997,-88.458467540644236,16793461,17312069,271.94965915049818,7340903,7398113,57210,30,0.01]
[347,"Woburn",4517,4384,-133,54604897.586800009,54727485.960259996,27.962676427916822,45049041,45150176,23.069114963503651,9555857,9687377,131520,30,0.01]
[348,"Worcester                    ",27442,26540,-902,382606983.73000002,397940445.01999998,577.74910663149819,105210987,108935456,140.33417483044462,277395997,289004989,11608992,437.41492087415224,0.04]
[349,"Worthington",123,102,-21,1374749.7299999997,1186757.45,-1843.0615686274489,1018495,979075,{"$f":"(J239-I239)/$D239","v":-386.47058823529414},356255,359315,{"$f":"M239-L239","v":3060},{"$f":"(M239-L239)/$D239","v":30},0.01]
[350,"Wrentham                     ",874,822,-52,9053868.8087499999,8684835.7043299992,-448.94538250608355,7469442,7164989,-370.3807785888078,3793153,3817813,24660,30,0.01]
[406,"Northampton Smith            ",113,116,3,2690854.48,3105888.38,3577.878448275861,2219955,2562358,2951.75,913025,916505,{"$f":"M241-L241","v":3480},{"$f":"(M241-L241)/$D241","v":30},0]
[600,"Acton Boxborough             ",5294.0000000000009,5120,-174.00000000000091,57745972.612679996,57742348.625200003,-0.70781005468597868,46230356,46536642,59.821484374999997,15185311,15338911,153600,30,0.01]
[603,"Hoosac Valley",1254,1178,-76,15339849.779999997,15131964.620000003,-176.47297113751659,5843907,5695529,-125.95755517826825,10354753,10390093,35340,30,0]
[605,"Amherst Pelham               ",1398.9999999860099,1330.0000000133,-68.999999972709929,16921238.979830787,16639393.150166392,-211.91415764028255,12834959,12739677,-71.640601503042987,9561457,9601357.0000003986,39900.000000398606,29.999999999999705,0]
[610,"Ashburnham Westminster       ",2286,2184,-102,24646397.09,24416454.050000001,-105.28527472527432,12303561,12473067,77.612637362637358,12361170,12426690,65520,30,0.01]
[615,"Athol Royalston              ",1770,1666,-104,21729158.719999999,21437314.759999998,-175.17644657863198,3616401,3821125,122.88355342136855,18112758,18162738,49980,30,0]
[616,"Ayer Shirley",1689,1642,-47,19068236.100000005,19290628.720000006,135.44008526187639,12820462,13296542,{"$f":"(J247-I247)/$D247","v":289.93909866017054},8301431,8350691,49260,30,0.01]
[618,"Berkshire Hills              ",970,936.99999999062993,-33.000000009370069,11846383.439999999,11904685.689880952,62.222251741233499,9773266,9821366,51.334044824419429,2933388,2961497.9999997187,28109.999999718741,29.999999999999833,0.01]
[620,"Berlin Boylston              ",950,977.00000000000011,27.000000000000114,10107518.1,10680902.860000001,586.88307062436195,8212670,8557895,353.35209825997947,2139724,2169034,29310,29.999999999999996,0.01]
[622,"Blackstone Millville         ",1737,1675,-62,19305133.509999998,19277512.559999999,-16.490119402984629,9159231,9314960,92.972537313432838,10985239,11035489,50250,30,0]
[625,"Bridgewater Raynham          ",5506,5446,-60,59327586.659999996,60572988.269999996,228.68189680499438,36619588,37557758,172.26771942710246,22716693,23266232,549539,100.90690414983474,0.02]
[632,"Chesterfield Goshen",112,100,-12,1184019.3600000001,1136350.0900000003,-476.69269999999784,774310,804982,306.72000000000003,751930,754930,3000,30,0]
[635,"Central Berkshire            ",1532.0000000000002,1515.9999999848403,-16.000000015159912,17769137.719999999,18362845.249816377,391.62765819413909,10821874,11107450,188.37467018658029,8773249,8818728.9999995455,45479.999999545515,30.000000000000203,0.01]
[640,"Concord Carlisle             ",1323,1346,23,15698387.201840004,16390470.933569998,514.17810678305614,12951170,13522139,424.19687964338783,2747217,2885882,138665,103.02005943536405,0.05]
[645,"Dennis Yarmouth              ",3334,3140,-194,40772315.190000005,39848432.009999998,-294.23031210191311,32996593,32297022,-222.79331210191083,7812700,7906900,94200,30,0.01]
[650,"Dighton Rehoboth             ",2854,2665,-189,31470516.579999998,30253157.109999999,-456.79529831144418,20472580,20829156,{"$f":"(J256-I256)/$D256","v":133.79962476547843},12956936,13036886,79950,30,0.01]
[655,"Dover Sherborn               ",1241,1229,-12,13502936.345999997,13714781.887829999,172.37228790073345,11139922,11314695,142.20748576078111,2363014,2413514,50500,41.090317331163547,0.02]
[658,"Dudley Charlton              ",3556,3338,-218,39294595.160000004,38127347.499999993,-349.68473936489255,17806070,18161627,106.51797483523067,24488263,24588403,100140,30,0]
[660,"Nauset                       ",1196,1190.0000000119001,-5.9999999880999439,13928035.579999996,14203820.380142041,231.75193289015658,11407465,11718152,261.08151260243119,3526849,3562549.0000003572,35700.000000357162,30.000000000000135,0.01]
[662,"Farmington River",208,210,2,2289345.04,2401167.8199999998,532.48942857142765,1877720,1929789,247.94761904761904,494950,501250,6300,30,0.01]
[665,"Freetown Lakeville           ",2826,2715,-111,30420774.669999998,29972128.93,-165.24704972375631,20383874,21075273,254.65893186003683,11102173,11183623,81450,30,0.01]
[670,"Frontier                     ",579,560,-19,6668350.6099999994,6632212.3000000007,-64.532696428569039,5440174,5462281,39.476785714285711,2855535,2872335,16800,30,0.01]
[672,"Gateway                      ",850.99999999148986,779.99999999999989,-70.999999991489972,10053035.289899468,9571816.2899999991,-616.94743576855046,5377560,5202857,-223.97820512820516,5658699,5682099,23400,30.000000000000004,0]
[673,"Groton Dunstable             ",2317,2253,-64,24034914.079999994,23942924.109999999,-40.829991122944996,19807347,19752913,-24.160674656014205,10920053,10987643,67590,30,0.01]
[674,"Gill Montague                ",1074,970,-104,13224252.970000001,12315586.93,-936.76911340206289,6123497,6121493,-2.0659793814432992,7100756,7129856,29100,30,0]
[675,"Hamilton Wenham              ",{"$f":"VLOOKUP(A266,aidcalc,14,FALSE)","v":1780},{"$f":"VLOOKUP(A266,aidcalc,15,FALSE)","v":1640},-140,{"$f":"VLOOKUP(A266,aidcalc,4,FALSE)","v":18910528.193439998},{"$f":"VLOOKUP(A266,aidcalc,9,FALSE)","v":17810621.373360001},{"$f":"(G266-F266)/$D266","v":-670.6748902926812},{"$f":"VLOOKUP(A266,aidcalc,5,FALSE)","v":15169999},{"$f":"VLOOKUP(A266,aidcalc,10,FALSE)","v":14693763},-290.38780487804877,{"$f":"VLOOKUP(A266,aidcalc,6,FALSE)","v":3742189},{"$f":"VLOOKUP(A266,aidcalc,39,FALSE)","v":3791389},49200,30,{"$f":"ROUND(IF(F266>0,(M266-L266)/L266,100),2)","v":0.01}]
[680,"Hampden Wilbraham            ",2919,2806,{"$f":"D267-C267","v":-113},31697327.079999998,31585780.640000001,-39.752829650747543,22048457,21875416,-61.668210976478974,11920364,12004544,84180,30,0.01]
[683,"Hampshire                    ",672,638,-34,7581893.040000001,7374767.3400000017,-324.64843260187973,5141694,5149694,12.539184952978056,3271593,3290733,19140,30,0.01]
[685,"Hawlemont                    ",93.000000000000014,79,-14.000000000000014,1210178.3199999998,1109343.48,-1276.3903797468336,645856,623228,-286.43037974683546,636346,638716,2370,30,0]
[690,"King Philip                  ",2057,2024,-33,22821189.415249996,23049668.422619991,112.88488506422684,18216801,18468698,124.4550395256917,7592980,7653700,60720,30,0.01]
[695,"Lincoln Sudbury              ",1568,1586,18,17971715.490000002,18567078.93369,375.38678668978451,14826665,15317840,309.69419924337956,3145998,3264670,118672,74.824716267339213,0.04]
[698,"Manchester Essex",1348,1253,-95,14540612.442779997,13955728.954039998,-466.78650338387791,11993491,11513477,-383.09177972865126,3048668,3086258,37590,30,0.01]
[700,"Marthas Vineyard             ",711,737,26,10520255.699999999,11356631.380000001,1134.8381004070577,8507902,9208964,951.23744911804613,2875680,2897790,{"$f":"M273-L273","v":22110},{"$f":"(M273-L273)/$D273","v":30},0.01]
[705,"Masconomet                   ",1776,1732.9999999999998,-43.000000000000227,19718785.499960002,19917641.032979999,114.74641259088125,16147421,16432054,164.24293133294867,5201349,5253339,51990,30.000000000000004,0.01]
[710,"Mendon Upton                 ",2177,2103,-74,22739749.350000001,22568613.039999999,-81.377227769853732,16799739,17158821,170.74750356633382,12448756,12511846,63090,30,0.01]
[712,"Monomoy",1794,1732,-62,21026943.91,20729799.109999996,-171.56166281755455,17347229,17102084,{"$f":"(J276-I276)/$D276","v":-141.53868360277136},3798314,3850274,51960,30,0.01]
[715,"Mount Greylock               ",1044,1014,-30,11284468.84,11500528.649999999,213.07673570019591,8495288,8419929,-74.318540433925051,3554057,3584477,30420,30,0.01]
[717,"Mohawk Trail                 ",901.00000000900991,816.00000000816021,-85.000000000849695,10427668.720104279,9653437.5200965349,-948.8127450980412,6461323,6399937,-75.227941175718286,6056894,6081374.0000002449,24480.000000244938,30.00000000000016,0]
[720,"Narragansett                 ",1302,1234,-68,15197160.489999998,14598460.620000001,-485.17007293354726,5910692,6100524,153.83468395461912,9951444,9988464,37020,30,0]
[725,"Nashoba                      ",3083.0000000308301,3138,54.999999969169949,33255128.344112549,34723714.57604,468.00071125795114,26177398,26891383,227.52868068833652,7273744,7832332,558588,178.0076481835564,0.08]
[728,"New Salem Wendell            ",109,106,-3,1245264.42,1353914.29,1024.9987735849068,622259,635181,121.90566037735849,688101,718733,30632,288.98113207547169,0.04]
[730,"Northboro Southboro          ",1414,1384,-30,16134802.42,16287625.930000002,110.42161127167749,13311213,13329253,13.034682080924856,3168064,3209584,41520,30,0.01]
[735,"North Middlesex              ",3158,2991.0000000299101,-166.9999999700899,34146333.740000002,33422849.950334229,-241.88692399148735,19126198,19907456,261.20294215720071,20393183,20482913.000000898,89730.000000897795,30.000000000000163,0]
[740,"Old Rochester                ",1087.9999999891199,1050.0000000104999,-37.999999978620053,12077635.709879227,12024234.970120242,-50.857847389001066,9154169,9307934,146.44285714139272,3043394,3074894.0000003148,31500.000000314787,29.999999999999801,0.01]
[745,"Pentucket                    ",2337,2269,-68,24591001.459999997,24444965.639999993,-64.361313353902176,18039518,18453629,182.50815337152932,13182092,13250162,68070,30,0.01]
[750,"Pioneer                      ",664,617.9999999938201,-46.000000006179903,7480877.54,7245225.1299275476,-381.31457940907586,4952541,4988670,58.46116504912829,4170581,4189120.9999998147,18539.999999814667,30.000000000000103,0]
[753,"Quabbin                      ",1941.0000000000002,1913.9999999808599,-27.000000019140316,21987482.310000002,22530972.919774689,283.95538650999026,10612170,10940487,171.53448276033603,16646098,16703517.999999426,57419.999999426305,30.000000000000266,0]
[755,"Ralph C Mahar                ",619,611,-8,7840085.4000000013,8130945.5700000003,476.03955810147136,2752972,2919128,271.94108019639935,5432010,5450340,18330,30,0]
[760,"Silver Lake                  ",1722,1701,-21,20918448.416320004,21601174.666719999,401.36757813050889,13276729,13815218,316.57201646090533,8215063,8266093,51030,30,0.01]
[763,"Somerset Berkley",1027,1024,-3,12334812.139999997,12624800.719999999,283.19197265625189,6312225,6632979,{"$f":"(J290-I290)/$D290","v":313.236328125},6024105,6054825,30720,30,0.01]
[765,"Southern Berkshire           ",671,670,-1,7868392.9199999999,7953400.7199999997,126.87731343283555,6306994,6484386,264.76417910447759,1986791,2006891,20100,30,0.01]
[766,"Southwick Tolland Granville",1414,1321.0000000000002,-92.999999999999773,16651613.440000001,15930923.920000002,-545.56360333080954,10981419,11025436,33.320968962906882,9846558,9886188,39630,29.999999999999996,0]
[767,"Spencer East Brookfield      ",1552,1516,-36,18621361.77,18861304.479999997,158.27355540896912,8878789,9141092,173.0230870712401,13695254,13740734,45480,30,0]
[770,"Tantasqua                    ",1572,1549,-23,20061782.279999997,20411250.809999999,225.60912201420348,10777102,11214086,282.10716591349257,9284680,9331150,46470,30,0.01]
[773,"Triton                       ",2290,2127,-163,26062844.622510001,24877081.573399998,-557.48145233192417,21501846,20523594,-459.9210155148096,8777631,8841441,63810,30,0.01]
[774,"Upisland",400.99999999598992,393.00000000392998,-7.9999999920599407,4423020.3299557688,4420149.6000442002,-7.3046562634602221,3648991,3646624,-6.0229007632985496,879292,891082.00000011793,11790.000000117929,30.000000000000075,0.01]
[775,"Wachusett                    ",7025.9999999297406,6728,-297.99999992974062,73935156.649260655,73039971.010000005,-133.05375137643426,44374979,45046149,99.757728894173596,29560178,29762018,201840,30,0.01]
[778,"Quaboag",1175,1118,-57,14111900.640000004,14319748.59,185.91050983899422,5557868,5789206,206.92128801431127,9158560,9192100,33540,30,0]
[780,"Whitman Hanson               ",3659,3528,-131,40183483.009999998,39973093.210000001,-59.63429705215335,20355354,21150892,225.49263038548753,24776700,24882540,105840,30,0]
[801,"Assabet Valley               ",871.99999999127999,891,19.000000008720008,16217721.547997823,17283904.1336,1196.6134518542956,10027775,10896004,974.4433221099888,6208186,6387900,179714,201.69921436588103,0.03]
[805,"Blackstone Valley            ",1241.9999999875804,1243,1.0000000124196049,20447639.179795522,20959536.790000003,411.82430426748238,12329585,13031695,564.85116653258251,8264744,8302034,37290,30,0]
[806,"Blue Hills                   ",869.00000000868999,896,26.999999991310005,15853872.642718541,16966137.121600002,1241.3666058944884,10498516,11279014,871.09151785714289,5377315,5687123,309808,345.76785714285717,0.06]
[810,"Bristol Plymouth             ",1342,1355,13,23238134.84,24376709.289999999,840.27634686346812,11152285,12062465,671.71955719557195,12133330,12314244,180914,133.5158671586716,0.01]
[815,"Cape Cod                     ",622.00000000000011,632.99999999366992,10.999999993669803,11419229.199999999,11894759.789881052,751.23315937726466,9275007,9750641,751.39652449408595,2184147,2203136.99999981,18989.99999981001,29.999999999999861,0.01]
[817,"Essex North Shore",1165.0000000116499,1224.9999999999998,59.999999988349828,19917637.840199184,22189096.480000004,1854.251950857813,14966372,16759178,1463.5151020408166,4972500,5429918,{"$f":"M305-L305","v":457418},{"$f":"(M305-L305)/$D305","v":373.4024489795919},0.09]
[818,"Franklin County              ",484.99999999029995,531.99999999468002,47.00000000438007,8790347.6998241916,9182572.7899081744,737.2652069321523,4547736,4852138,572.18421053203758,4242612,4330435,87823,165.08082706931998,0.02]
[821,"Greater Fall River           ",1498,1497.9999999850199,-1.4980059859226458E-8,26716946.030000001,28485071.659715146,1180.3241854024204,8563722,8808001,163.07009345957462,18196847,19677071,1480224,988.13351135834603,0.08]
[823,"Greater Lawrence             ",1594,1645,51,32861439.491759997,35742523.681359991,1751.4189602431577,4907043,5882584,593.03404255319151,27954396,29859940,1905544,1158.3854103343465,7.0000000000000007E-2]
[825,"Greater New Bedford          ",2128,2123,-5,38691322.399999999,41004770.449999996,1089.7070419218073,11380986,12167593,370.51672162034856,27384112,28837177,1453065,684.4394724446538,0.05]
[828,"Greater Lowell               ",2351.99999997648,2373,21.000000023519988,43544496.41956456,46253451.730000004,1141.5740878362597,14050785,14497120,188.08891698272228,29582555,31756332,2173777,916.04593341761483,7.0000000000000007E-2]
[829,"South Middlesex              ",798,816.99999999183001,18.999999991830009,15367478.658029996,16506959.240074933,1394.713074732352,9170454,9997109,1011.8176254691145,6197025,6509850,312825,382.89473684593423,0.05]
[830,"Minuteman                    ",409.00000000408994,491,81.999999995910059,7604263.0698360428,9879216.3015900012,4633.3059709856589,5992288,7854145,3791.969450101833,1977748,2025071,47323,96.380855397148679,0.02]
[832,"Montachusett                 ",1470.0000000146999,1460.9999999853901,-9.000000029309831,25382631.02025383,25842191.069741577,314.55171080926954,9937436,10450136,350.92402464416631,15445809,15489638.999999562,43829.999999562278,30.000000000000394,0]
[851,"Northern Berkshire           ",461.00000000000006,462.99999999999994,1.9999999999998863,8244375,8569411.629999999,702.02295896328076,3172855,3265900,200.96112311015122,5071520,5315188,243668,526.28077753779701,0.05]
[852,"Nashoba Valley               ",653.99999999346005,666.99999999332999,12.999999999869942,11332310.899736676,11834029.31822166,752.20152697151593,8006848,8669388,993.31334333826896,3717284,3737293.9999997998,20009.999999799766,29.999999999999797,0.01]
[853,"Northeast Metropolitan       ",1271,1281.0000000128102,10.000000012810233,23843254.848850004,25549302.509195495,1331.8092586482671,13124735,14354190,959.76190475230692,10745350,11195113,449763,351.10304449297604,0.04]
[855,"Old Colony                   ",467,498.00000000498,31.000000004979995,7921696.2200000016,8764983.4000876509,1693.3477511630851,4845112,5623411,1562.8493975747331,3282354,3297294.0000001495,14940.000000149477,30.000000000000156,0]
[860,"Pathfinder                   ",577.99999999422005,560.9999999943899,-16.999999999830152,10484384.559895158,10504585.919894952,36.009554367195243,4455062,4550717,170.50802139207946,6051178,6068007.9999998314,16829.999999831431,29.999999999999524,0]
[871,"Shawsheen Valley             ",1275.0000000127498,1315,39.999999987250249,21443569.573314432,22462074.314639993,774.52832039966609,17321815,18531211,919.69277566539927,6470511,6509961,39450,30,0.01]
[872,"Southeastern                 ",1516.9999999999998,1623.9999999999995,106.99999999999977,26978734.039999999,31128039.329999998,2554.9909421182269,10323654,11821457,922.29248768472928,16871155,19306582,2435427,1499.6471674876852,0.14000000000000001]
[873,"South Shore                  ",544,561,17,9696307.4090200011,10325457.111199999,1121.4789700178221,5540283,6046558,902.45098039215691,4442848,4459678,16830,30,0]
[876,"Southern Worcester           ",1176.99999997646,1200.0000000119999,23.00000003553987,20163226.599596739,21398161.38021398,1029.1123171707429,8939018,9827933,{"$f":"(J322-I322)/$D322","v":740.76249999259244},11243208,11570228,327020,272.51666666394152,0.03]
[878,"Tri County                   ",929.99999999069996,905,-24.999999990699962,16446455.91653554,16878174.208749998,477.03678697730254,11583064,12186252,666.50607734806624,5716838,5743988,27150,30,0]
[879,"Upper Cape Cod               ",742,761.00000000760997,19.00000000760997,12856564.119999999,13559352.080135591,923.50586087853389,9721410,10291927,749.69382390840326,3262258,3285088.0000002282,22830.000000228174,29.999999999999837,0.01]
[885,"Whittier                     ",1256.0000000000002,1244.0000000373198,-11.999999962680477,22219393.409999993,22952998.610688582,589.71479153262169,11408976,11920834,411.46141477865302,10835866,11032165,196299,157.79662378947836,0.02]
[910,"Bristol County               ",378,382.00000000763993,4.000000007639926,6594994.5600000005,6763678.7001352767,441.58151866990181,3396297,3494613,257.37172774354372,3238896,3291775.0000002291,52879.000000229105,138.42670156851187,0.02]
[915,"Norfolk County               ",274.00000000274008,284.00000000000006,9.9999999972599767,4921619.8021892179,5265256.8063499974,1209.9894512703502,3697896,4000592,1065.8309859154926,1291559,1300079,8520,29.999999999999993,0.01]
[999,"State Total, All Districts",938084.99999988743,907506.00000004878,{"$f":"D328-C328","v":-30578.999999838648},11626531095.326303,11883557788.563417,283.22313377222866,6705321561,6810206787,{"$f":"(J328-I328)/$D328","v":115.57524247772947},5283343073.4799995,5480996084.6800003,197653011.20000076,217.79802139048132,0.04]
[]
[]
[null,"increasing",null,null,{"$f":"COUNTIF(E10:E327,\">0\")","v":41},null,null,{"$f":"COUNTIF(H10:H327,\">.5\")","v":165},null,null,{"$f":"COUNTIF(K10:K327,\">.5\")","v":225},null,null,{"$f":"COUNTIF(N10:N327,\">.5\")","v":318},{"$f":"COUNTIF(O10:O327,\">.5\")","v":318}]
[null,"decreasing",null,null,{"$f":"COUNTIF(E10:E327,\"<0\")","v":277},null,null,{"$f":"COUNTIF(H10:H327,\"<-.5\")","v":153},null,null,{"$f":"COUNTIF(K10:K327,\"<-.5\")","v":93},null,null,{"$f":"COUNTIF(N10:N327,\"<-.5\")","v":0},{"$f":"COUNTIF(O10:O327,\"<-.5\")","v":0}]
[null,"same",null,null,{"$f":"318-E331-E332","v":0},null,null,{"$f":"318-H331-H332","v":0},null,null,{"$f":"318-K331-K332","v":0},null,null,{"$f":"318-N331-N332","v":0},{"$f":"318-O331-O332","v":0}]

{"sheet":"Rates","index":11,"n_rows":33,"n_cols":14,"rows_kept":33,"cut":false,"hidden":false,"merged":[]}
[]
[]
["Massachusetts Department of Elementary and Secondary Education"]
["Office of School Finance"]
[]
[{"$f":"\"Foundation Budget Rates Per Pupil, \"& CYr &\" Chapter 70\"","v":"Foundation Budget Rates Per Pupil, FY22 Chapter 70"}]
[]
[null,null,"Administration","Instructional Leadership","Classroom & Specialist Teachers","Other Teaching Services","Professional Development","Instructional Materials, Equipment & Technology","Guidance & Psychological Services","Pupil Services","Operations & Maintenance","Employee Benefits/Fixed Charges","Special Education Tuition","Total, All Categories"]
[]
[1,"Pre-school",202.69,366.06,1678.52,430.49,66.38,242.94,132.6,48.57,466.11,578.30999999999995,0,4212.67]
[2,"Kindergarten half-day",202.69,366.06,1678.52,430.49,66.38,242.94,132.6,48.57,466.11,578.30999999999995,0,4212.67]
[3,"Kindergarten full-day",405.37,732.13,3357.03,861.01,132.83000000000001,485.89,265.23,97.19,932.2,1156.6099999999999,0,8425.4900000000016]
[4,"Elementary",405.37,732.13,3356.99,861.01,132.85,485.89,265.23,145.76,932.2,1156.6500000000001,0,8474.0800000000017]
[5,"Junior/Middle",405.37,732.13,2954.16,619.79999999999995,144.01,485.89,334.55,238.1,1010.62,1202.4100000000001,0,8127.0400000000009]
[6,"High School",405.37,732.13,4344.33,515.98,139.63999999999999,777.42,407.6,549.04,979.9,1082.56,0,9933.9699999999993]
[7,"Vocational",405.37,732.13,7385.41,515.98,230.86,1360.47,407.6,549.04,1833.94,1522.15,0,14942.95]
[8,"Special Ed-in district",2797.71,0,9231.73,8619.5400000000009,445.33,388.7,0,0,3125.17,3540.37,0,28148.55]
[9,"Special Ed-tuitioned out",2994.69,0,0,45.75,0,0,0,0,0,0,28432.97,31473.41]
[10,"English learners PK-5",94.76,165.82,1160.73,165.82,47.37,118.43,71.06,23.69,284.26,260.57,0,2392.5099999999998]
[11,"English learners 6-8",99.51,174.14,1218.92,174.14,49.75,124.38,74.63,24.88,298.51,273.63,0,2512.4900000000007]
[12,"English learners high school/voc",84.35,147.62,1033.27,147.62,42.17,105.43,63.26,21.09,253.05,231.96,0,2129.8200000000002]
[13,"Low income group 1",52.25,247.57,2416.7800000000002,0,117.25,17.97,97.86,508.52,0,390.93,0,3849.13]
[14,"Low income group 2",53.2,252.03,2460.2800000000002,0,119.36,18.3,99.62,517.67999999999995,0,397.97,0,3918.4400000000005]
[15,"Low income group 3",54.13,256.49,2503.7800000000002,0,121.47,18.62,101.39,526.83000000000004,0,405.01,0,3987.7199999999993]
[16,"Low income group 4",55.07,260.94,2547.29,0,123.59,18.940000000000001,103.15,535.98,0,412.05,0,4057.0100000000007]
[17,"Low income group 5",56.01,265.39999999999998,2590.79,0,125.7,19.27,104.91,545.14,0,419.08,0,4126.2999999999993]
[18,"Low income group 6",60.31,285.76,2789.59,0,135.33000000000001,20.75,112.96,586.97,0,451.24,0,4442.91]
[19,"Low income group 7",62.57,296.45999999999998,2894.09,0,140.4,21.52,117.19,608.96,0,468.14,0,4609.3300000000008]
[20,"Low income group 8",64.83,307.17,2998.56,0,145.47,22.3,121.42,630.94000000000005,0,485.04,0,4775.7300000000005]
[21,"Low income group 9",67.09,317.88,3103.08,0,150.54,23.08,125.65,652.92999999999995,0,501.94,0,4942.1899999999996]
[22,"Low income group 10",69.349999999999994,328.58,3207.58,0,155.61000000000001,23.86,129.88,674.92,0,518.85,0,5108.63]
[23,"Low income group 11",71.12,336.94,3289.2,0,159.57,24.46,133.19,692.09,0,532.04999999999995,0,5238.62]
[24,"Low income group 12",72.88,345.3,3370.82,0,163.53,25.07,136.5,709.27,0,545.25,0,5368.6200000000008]

{"sheet":"Townwide Contributions","index":12,"n_rows":365,"n_cols":44,"rows_kept":365,"cut":false,"hidden":false,"merged":[[4,38,4,43],[365,21,365,23],[6,27,6,28],[1,2,1,11],[1,13,1,24],[1,26,1,29]]}
[1,null,"From DOR\n3",4,"From DOR\n5",6,7,8,{"$f":"H1+1","v":9},{"$f":"I1+1","v":10},11,12,13,"c70fy21\n14","From DOR\n15",16,17,18,19,20,21,22,23,24,25,26,27,28,29,30,29,30,31,32]
[null,"Return to Index","1. Calculation of effort goal (target local share)",null,null,null,null,null,null,null,null,null,null,"2. Calculation of annual increments toward goal (required local contribution)",null,null,null,null,null,null,null,null,null,null,null,null,"Analysis of Gap Closing"]
[null,"More about the data",null,null,null,null,null,null,null,null,null,null,null,null,null,null,null,null,"Increments","Thresholds"]
[null,null,null,"uniform property percentage",null,"uniform income percentage",null,null,null,null,null,null,null,"Updated 12/17/20","Updated 1/15/21",null,null,null,{"$f":"parameters!C18","v":0.01},{"$f":"parameters!C16","v":2.5},null,"Effort Reduction","OPTION TO ACTIVATE THIS INCREMENT",null,null,null,null,null,null,null,null,null,null,-0.05]
[null,null,null,{"$f":"parameters!C29","v":3.3108570937612999E-3},null,{"$f":"parameters!C30","v":1.4134795090869274E-2},null,null,null,null,null,null,null,null,null,null,null,null,{"$f":"parameters!C19","v":0.02},{"$f":"parameters!C17","v":7.5},null,{"$f":"effortred","v":1},1,null,null,null,null,null,null,null,null,null,null,-0.1,null,null,null,null,"SUMMARY FOR EXPORT (reads from columns to the left)"]
[null,null,"Updated 12/17/20",null,"Updated 12/17/20",null,null,null,null,"maximum ","target local",null,null,"required",null,null,"preliminary",null,"percentage","dollar",null,null,null,null,null,null,null,null,null,null,null,null,null,0.02]
[null,null,null,"local effort","DOR total","local effort","combined",null,null,"local contribution","contribution","target",null,"local",null,"preliminary","contribution","shortfall","increment","increment",null,"excess effort",null,"required",null,null,"Before","After implementation",null,null,null,null,null,0.01,null,null,null,null,null,null,"CEY%","target"]
[null,null,"total","from property","income","from income","effort ",{"$f":"CYr","v":"FY22"},"CEY %","foundation pct=","(lesser of max local","local ",null,"contribution","mrgf ","contribution","percentage of","from target","toward","toward","excess","times effort","CEY% > 175%","contribution","percentage ",null,"below effort","below effort","above effort","distance from",null,"% distance","Points","x% of",null,null,null,null,"3 digit town code",null,"found","local share","RLC","distance from"]
["LEA","Town","EQV 2020","wealth",2018,"wealth","yield","foundation","Found",{"$f":"maxloc","v":0.82499999999999996},"or effort yield)","share",null,"FY21","FY21",{"$f":"CYr","v":"FY22"},"foundation","local share","target","target","effort","reduction %","increment",{"$f":"CYr","v":"FY22"},"of foundation",null,"shortfall","shortfall","excess","target",null,"from target","from target","the gap",null,null,null,null,{"$f":"CYr","v":"FY22"},"Town",{"$f":"CYr","v":"FY22"},{"$f":"CYr","v":"FY22"},{"$f":"CYr","v":"FY22"},"target"]
[1,"Abington",2379458500,{"$f":"D$5*C10","v":7878047.0540356217},640153000,{"$f":"E10*F$5","v":9048431.4818052389},{"$f":"ROUND(D10+F10,0)","v":16926479},{"$f":"(SUMIF(town1755,A10,found1755)/2)","v":28071783.47370515},{"$f":"G10/H10","v":0.60297127241149606},{"$f":"ROUND(H10*maxloc,0)","v":23159221},{"$f":"MIN(G10,J10)","v":16926479},{"$f":"IF(H10>0, ROUND((K10*100/H10), 2), 0)","v":60.3},null,16195587,3.3000000000000002E-2,{"$f":"ROUND(N10*(1+O10),0)","v":16730041},{"$f":"P10*100/H10","v":59.597356953365775},{"$f":"IF(L10>Q10,L10-Q10,0)","v":0.70264304663422195},{"$f":"IF(AND(R10>$T$4,R10<=$T$5),$S$4,IF(R10>$T$5,$S$5,0))","v":0},{"$f":"ROUND(S10*N10,0)","v":0},{"$f":"MAX(P10-K10,0)","v":0},{"$f":"MAX(U10*(V$5),0)","v":0},{"$f":"IF(AND(I10>1.75,$W$5=1),MAX(K10-(P10+T10),0),0)","v":0},{"$f":"MIN(H10*parameters!C$22,ROUND(P10+T10-V10+W10,0))","v":16730041},{"$f":"X10*100/H10","v":59.597356953365775},null,{"$f":"IF(Q10<L10, P10-K10, 0)","v":-196438},{"$f":"-1*MAX(K10-(P10+T10+W10),0)","v":-196438},{"$f":"IF(Q10>L10, X10-K10,0)","v":0},{"$f":"Y10-L10","v":-0.70264304663422195},null,{"$f":"(P10-K10)/K10","v":-1.1605366951980976E-2},{"$f":"Q10-L10","v":-0.70264304663422195},{"$f":"IF(AF10<$AH$5, $AH$6*(N10), IF(AND(AF10<$AH$4, AF10>$AH$5), $AH$7*(N10), 0))","v":0},null,null,null,null,{"$f":"TEXT(A10,\"000\")","v":"001"},{"$f":"B10","v":"Abington"},{"$f":"I10","v":0.60297127241149606},{"$f":"L10","v":60.3},{"$f":"X10","v":16730041},{"$f":"AD10","v":-0.70264304663422195}]
[2,"Acton",4940912200,16358654.207021751,1656423000,{"$f":"E11*F$5","v":23413199.688802958},39771854,{"$f":"(SUMIF(town1755,A11,found1755)/2)","v":49576478.001946479},{"$f":"G11/H11","v":0.80223234087823814},40900594,{"$f":"MIN(G11,J11)","v":39771854},{"$f":"IF(H11>0, ROUND((K11*100/H11), 2), 0)","v":80.22},null,39168665,3.2899999999999999E-2,{"$f":"ROUND(N11*(1+O11),0)","v":40457314},{"$f":"P11*100/H11","v":81.605865584908145},{"$f":"IF(L11>Q11,L11-Q11,0)","v":0},{"$f":"IF(AND(R11>$T$4,R11<=$T$5),$S$4,IF(R11>$T$5,$S$5,0))","v":0},{"$f":"ROUND(S11*N11,0)","v":0},{"$f":"MAX(P11-K11,0)","v":685460},685460,{"$f":"IF(AND(I11>1.75,$W$5=1),MAX(K11-(P11+T11),0),0)","v":0},{"$f":"MIN(H11*parameters!C$22,ROUND(P11+T11-V11+W11,0))","v":39771854},{"$f":"X11*100/H11","v":80.223234087823812},null,{"$f":"IF(Q11<L11, P11-K11, 0)","v":0},{"$f":"-1*MAX(K11-(P11+T11+W11),0)","v":0},{"$f":"IF(Q11>L11, X11-K11,0)","v":0},{"$f":"Y11-L11","v":3.2340878238130699E-3},null,1.7234801274288093E-2,{"$f":"Q11-L11","v":1.3858655849081458},0,null,null,null,null,{"$f":"TEXT(A11,\"000\")","v":"002"},{"$f":"B11","v":"Acton"},{"$f":"I11","v":0.80223234087823814},80.22,39771854,{"$f":"AD11","v":3.2340878238130699E-3}]
[3,"Acushnet",1346443900,4457883.3376666307,351419000,{"$f":"E12*F$5","v":4967235.5560381897},9425119,16176565.533184467,0.58264030029522595,13345667,9425119,58.26,null,9217585,3.1899999999999998E-2,9511626,58.798797436253899,0,0,0,86507,86507,0,{"$f":"MIN(H12*parameters!C$22,ROUND(P12+T12-V12+W12,0))","v":9425119},58.264030029522594,null,0,0,0,4.0300295225961236E-3,null,9.1783456527180195E-3,0.5387974362539012,0,null,null,null,null,"003","Acushnet",0.58264030029522595,58.26,9425119,4.0300295225961236E-3]
[4,"Adams",549332800,1818762.3977157574,189808000,2682897.1866077152,4501660,13633152.576198332,0.33019948796430976,11247351,4501660,33.020000000000003,null,4656528,2.9399999999999999E-2,4793430,35.160099420941641,0,0,0,291770,291770,0,{"$f":"MIN(H13*parameters!C$22,ROUND(P13+T13-V13+W13,0))","v":4501660},33.019948796430981,null,0,0,0,-5.1203569022106876E-5,null,6.4813868661782542E-2,2.1400994209416382,0,null,null,null,null,"004","Adams",0.33019948796430976,33.020000000000003,4501660,-5.1203569022106876E-5]
[5,"Agawam",3286756800,10881982.066748191,879657000,12433771.445248794,23315754,42757064.969999991,0.54530763550676908,35274579,23315754,54.53,null,23256462,1.3000000000000001E-2,23558796,55.099188909551586,0,0,0,243042,243042,0,{"$f":"MIN(H14*parameters!C$22,ROUND(P14+T14-V14+W14,0))","v":23315754},54.530763550676909,null,0,0,0,7.6355067690769829E-4,null,1.0423939110011196E-2,0.56918890955158474,0,null,null,null,null,"005","Agawam",0.54530763550676908,54.53,23315754,7.6355067690769829E-4]
[6,"Alford",279886100,926662.8796301845,18905000,267218.30119288363,1193881,242763.68473599819,4.9178731213374327,200280,200280,82.5,null,205780,2.69E-2,211315,87.045556352385177,0,0,0,11035,11035,0,{"$f":"MIN(H15*parameters!C$22,ROUND(P15+T15-V15+W15,0))","v":200280},82.49998356129808,null,0,0,0,-1.6438701919696541E-5,null,5.5097862991811464E-2,4.5455563523851765,0,null,null,null,null,"006","Alford",4.9178731213374327,82.5,200280,-1.6438701919696541E-5]
[7,"Amesbury",2652855600,8783225.7819843888,724019000,10233860.206896082,19017086,24388872.712468144,0.77974436228362598,20120820,19017086,77.97,null,17319889,2.6499999999999999E-2,17778866,72.897448806278945,5.0725511937210541,0.01,173199,0,0,0,{"$f":"MIN(H16*parameters!C$22,ROUND(P16+T16-V16+W16,0))","v":17952065},73.607604630379242,null,-1238220,-1065021,0,-4.3623953696207565,null,-6.5110921831031315E-2,-5.0725511937210541,173198.89,null,null,null,null,"007","Amesbury",0.77974436228362598,77.97,17952065,-4.3623953696207565]
[8,"Amherst",2727618700,9030755.7219709754,795343000,11242010.331957242,20272766,26226022.7473647,0.77300192237639587,21636469,20272766,77.3,null,20191326,9.4999999999999998E-3,20383144,77.721064289278033,0,0,0,110378,110378,0,{"$f":"MIN(H17*parameters!C$22,ROUND(P17+T17-V17+W17,0))","v":20272766},77.300192237639592,null,0,0,0,1.9223763959530515E-4,null,5.4446443075404707E-3,0.42106428927803563,0,null,null,null,null,"008","Amherst",0.77300192237639587,77.3,20272766,1.9223763959530515E-4]
[9,"Andover",9328654100,30885840.602230433,3175310000,44882356.199988112,75768197,65650568.71239052,1.1541133380265742,54161719,54161719,82.5,null,53540138,3.3799999999999997E-2,55349795,84.309696146704653,0,0,0,1188076,1188076,0,{"$f":"MIN(H18*parameters!C$22,ROUND(P18+T18-V18+W18,0))","v":54161719},82.499999714058561,null,0,0,0,-2.8594143941518269E-7,null,2.1935714411132335E-2,1.8096961467046526,0,null,null,null,null,"009","Andover",1.1541133380265742,82.5,54161719,-2.8594143941518269E-7]
[10,"Arlington",12795048700,42362577.7534163,2994953000,42333046.961784206,84695625,67791445.96706441,1.2493556346496617,55927943,55927943,82.5,null,52434811,0.02,53483507,78.894182351537779,3.6058176484622209,0.01,524348,0,0,0,{"$f":"MIN(H19*parameters!C$22,ROUND(P19+T19-V19+W19,0))","v":54007855},79.667654568452505,null,-2444436,-1920088,0,-2.8323454315474947,null,-4.3706881906956596E-2,-3.6058176484622209,0,null,null,null,null,"010","Arlington",1.2493556346496617,82.5,54007855,-2.8323454315474947]
[11,"Ashburnham",795346900,2633279.925866059,231628000,3274014.317307868,5907294,12452630.677889645,0.4743812093045317,10273420,5907294,47.44,null,5587688,1.3599999999999999E-2,5663681,45.481803375540466,1.9581966244595321,0,0,0,0,0,{"$f":"MIN(H20*parameters!C$22,ROUND(P20+T20-V20+W20,0))","v":5663681},45.481803375540466,null,-243613,-243613,0,-1.9581966244595321,null,-4.1239355955535649E-2,-1.9581966244595321,0,null,null,null,null,"011","Ashburnham",0.4743812093045317,47.44,5663681,-1.9581966244595321]
[12,"Ashby",366133300,1212215.0335672342,106452000,1504677.2070132159,2716892,4554529.8331376566,0.5965252396048768,3757487,2716892,59.65,null,2598778,3.8300000000000001E-2,2698311,59.244556493356185,0.40544350664381312,0,0,0,0,0,{"$f":"MIN(H21*parameters!C$22,ROUND(P21+T21-V21+W21,0))","v":2698311},59.244556493356185,null,-18581,-18581,0,-0.40544350664381312,null,-6.8390646370926778E-3,-0.40544350664381312,0,null,null,null,null,"012","Ashby",0.5965252396048768,59.65,2698311,-0.40544350664381312]
[13,"Ashfield",271206700,897926.62657059275,47427000,670370.9267746571,1568298,1752958.2388941327,0.89465793605520971,1446191,1446191,82.5,null,1530546,3.2800000000000003E-2,1580748,90.176021591776603,0,0,0,134557,134557,0,{"$f":"MIN(H22*parameters!C$22,ROUND(P22+T22-V22+W22,0))","v":1446191},82.500025837029682,null,0,0,0,2.5837029681952117E-5,null,9.3042343646171213E-2,7.6760215917766033,0,null,null,null,null,"013","Ashfield",0.89465793605520971,82.5,1446191,2.5837029681952117E-5]
[14,"Ashland",3214888000,10644034.740448078,977144000,13811730.214272367,24455765,31345655.023058217,0.78019632966706431,25860165,24455765,78.02,null,23048494,3.27E-2,23802180,75.934543344175921,2.0854566558240748,0,0,0,0,0,{"$f":"MIN(H23*parameters!C$22,ROUND(P23+T23-V23+W23,0))","v":23802180},75.934543344175921,null,-653585,-653585,0,-2.0854566558240748,null,-2.6725191381255096E-2,-2.0854566558240748,0,null,null,null,null,"014","Ashland",0.78019632966706431,78.02,23802180,-2.0854566558240748]
[15,"Athol",880913600,2916579.0415508044,252764000,3572767.3463484813,6489346,21912080.822220817,0.29615379993575147,18077467,6489346,29.62,null,3370898,4.3400000000000001E-2,3517195,16.051396617856796,13.568603382143205,0.02,67418,0,0,0,{"$f":"MIN(H24*parameters!C$22,ROUND(P24+T24-V24+W24,0))","v":3584613},16.359071642182336,null,-2972151,-2904733,0,-13.260928357817665,null,-0.45800470494253198,-13.568603382143205,67417.960000000006,null,null,null,null,"015","Athol",0.29615379993575147,29.62,3584613,-13.260928357817665]
[16,"Attleboro",5286614900,17503226.443649184,1548600000,21889143.677720159,39392370,80906025.883648634,0.48689043331148618,66747471,39392370,48.69,null,38238615,3.0099999999999998E-2,39389597,48.685615897938654,4.3841020613442083E-3,0,0,0,0,0,{"$f":"MIN(H25*parameters!C$22,ROUND(P25+T25-V25+W25,0))","v":39389597},48.685615897938654,null,-2773,-2773,0,-4.3841020613442083E-3,null,-7.0394342863859175E-5,-4.3841020613442083E-3,0,null,null,null,null,"016","Attleboro",0.48689043331148618,48.69,39389597,-4.3841020613442083E-3]
[17,"Auburn",2423368200,8023425.7957655527,599612000,8475392.7540263068,16498819,29087203.893850002,0.56721914764342118,23996943,16498819,56.72,null,16167017,2.9499999999999998E-2,16643944,57.22084549872833,0,0,0,145125,145125,0,{"$f":"MIN(H26*parameters!C$22,ROUND(P26+T26-V26+W26,0))","v":16498819},56.721914764342117,null,0,0,0,1.9147643421177918E-3,null,8.7960841318399825E-3,0.50084549872833151,0,null,null,null,null,"017","Auburn",0.56721914764342118,56.72,16498819,1.9147643421177918E-3]
[18,"Avon",912879000,3022411.9128957218,173502000,2452415.2178560006,5474827,8209062.9160521962,0.66692472161400951,6772477,5474827,66.69,null,5396077,3.8399999999999997E-2,5603286,68.257315814247221,0,0,0,128459,128459,0,{"$f":"MIN(H27*parameters!C$22,ROUND(P27+T27-V27+W27,0))","v":5474827},66.692472161400957,null,0,0,0,2.472161400959294E-3,null,2.3463572456262089E-2,1.5673158142472232,0,null,null,null,null,"018","Avon",0.66692472161400951,66.69,5474827,2.472161400959294E-3]
[19,"Ayer",1414841800,4684339.010080006,300571000,4248509.4952576682,8932849,11956294.248438615,0.7471252224464574,9863943,8932849,74.709999999999994,null,8451074,5.7700000000000001E-2,8938701,74.7614671758962,0,0,0,5852,5852,0,{"$f":"MIN(H28*parameters!C$22,ROUND(P28+T28-V28+W28,0))","v":8932849},74.71252224464574,null,0,0,0,2.5222446457462411E-3,null,6.5511014459104821E-4,5.1467175896206641E-2,0,null,null,null,null,"019","Ayer",0.7471252224464574,74.709999999999994,8932849,2.5222446457462411E-3]
[20,"Barnstable",16031008100,53076376.888029858,1909202000,26986179.057077799,80062556,68229841.731613308,1.1734243253110783,56289619,56289619,82.5,null,55634192,2.4E-2,56969413,83.496328811802073,0,0,0,679794,679794,0,{"$f":"MIN(H29*parameters!C$22,ROUND(P29+T29-V29+W29,0))","v":56289619},82.499999371856987,null,0,0,0,-6.2814301315938792E-7,null,1.2076720576133231E-2,0.99632881180207278,0,null,null,null,null,"020","Barnstable",1.1734243253110783,82.5,56289619,-6.2814301315938792E-7]
[21,"Barre",507030500,1678705.5276783388,150607000,2128799.0842505489,3807505,9314084.0639970843,0.40879006178585331,7684119,3807505,40.880000000000003,null,3685412,2.5100000000000001E-2,3777916,40.561325988062102,0.31867401193790101,0,0,0,0,0,{"$f":"MIN(H30*parameters!C$22,ROUND(P30+T30-V30+W30,0))","v":3777916},40.561325988062102,null,-29589,-29589,0,-0.31867401193790101,null,-7.7712307666043777E-3,-0.31867401193790101,0,null,null,null,null,"021","Barre",0.40879006178585331,40.880000000000003,3777916,-0.31867401193790101]
[22,"Becket",558339300,1848581.6321307186,53841000,761031.50248749263,2609613,2562594.4930703016,1.0183480090419474,2114140,2114140,82.5,null,1945706,3.1699999999999999E-2,2007385,78.334087013310764,4.1659129866892357,0.01,19457,0,0,0,{"$f":"MIN(H31*parameters!C$22,ROUND(P31+T31-V31+W31,0))","v":2026842},79.093356575959675,null,-106755,-87298,0,-3.4066434240403254,null,-5.0495709839461909E-2,-4.1659129866892357,19457.060000000001,null,null,null,null,"022","Becket",1.0183480090419474,82.5,2026842,-3.4066434240403254]
[23,"Bedford",4399434500,14565898.922863197,1096519000,15499071.378244886,30064970,31386379.883430041,0.95789862072855181,25893763,25893763,82.5,null,25567990,3.5400000000000001E-2,26473097,84.34581209531612,0,0,0,579334,579334,0,{"$f":"MIN(H32*parameters!C$22,ROUND(P32+T32-V32+W32,0))","v":25893763},82.499998713359787,null,0,0,0,-1.2866402130384813E-6,null,2.2373495887793519E-2,1.8458120953161199,0,null,null,null,null,"023","Bedford",0.95789862072855181,82.5,25893763,-1.2866402130384813E-6]
[24,"Belchertown",1706796100,5650957.9752891213,564318000,7976519.2960891668,13627477,26334941.765178174,0.51746751982642181,21726327,13627477,51.75,null,13183350,3.6900000000000002E-2,13669816,51.907523175445739,0,0,0,42339,42339,0,{"$f":"MIN(H33*parameters!C$22,ROUND(P33+T33-V33+W33,0))","v":13627477},51.746751982642181,null,0,0,0,-3.2480173578193217E-3,null,3.10688471534386E-3,0.15752317544573913,0,null,null,null,null,"024","Belchertown",0.51746751982642181,51.75,13627477,-3.2480173578193217E-3]
[25,"Bellingham",2853759500,9448389.8844636995,636231000,8992994.8154588491,18441385,26371602.7893195,0.69928950270207924,21756572,18441385,69.930000000000007,null,17850402,4.0500000000000001E-2,18573343,70.42932941308446,0,0,0,131958,131958,0,{"$f":"MIN(H34*parameters!C$22,ROUND(P34+T34-V34+W34,0))","v":18441385},69.92895027020792,null,0,0,0,-1.0497297920863957E-3,null,7.1555363113996046E-3,0.49932941308445322,0,null,null,null,null,"025","Bellingham",0.69928950270207924,69.930000000000007,18441385,-1.0497297920863957E-3]
[26,"Belmont",9840875900,32581733.782339618,2583978000,36523999.549314208,{"$f":"ROUND(D35+F35,0)","v":69105733},{"$f":"(SUMIF(town1755,A35,found1755)/2)","v":50621827.421319984},1.3651370667605591,41763008,41763008,82.5,null,40662179,4.0000000000000001E-3,40824828,80.646689540105655,{"$f":"IF(L35>Q35,L35-Q35,0)","v":1.8533104598943453},{"$f":"IF(AND(R35>$T$4,R35<=$T$5),$S$4,IF(R35>$T$5,$S$5,0))","v":0},{"$f":"ROUND(S35*N35,0)","v":0},0,0,0,{"$f":"MIN(H35*parameters!C$22,ROUND(P35+T35-V35+W35,0))","v":40824828},80.646689540105655,null,-938180,-938180,0,-1.8533104598943453,null,-2.2464378044799838E-2,-1.8533104598943453,0,null,null,null,null,"026","Belmont",1.3651370667605591,82.5,40824828,-1.8533104598943453]
[27,"Berkley",971888500,3217783.9345700289,270345000,3821271.178841054,7039055,13195157.101452632,0.53345746063342303,10886005,7039055,53.35,null,6781390,4.1399999999999999E-2,7062140,53.520696613930738,0,0,0,23085,23085,0,{"$f":"MIN(H36*parameters!C$22,ROUND(P36+T36-V36+W36,0))","v":7039055},53.345746063342304,null,0,0,0,-4.2539366576974658E-3,null,3.2795595431489026E-3,0.17069661393073687,0,null,null,null,null,"027","Berkley",0.53345746063342303,53.35,7039055,-4.2539366576974658E-3]
[28,"Berlin",710453400,2352209.6791768344,169836000,2400597.0590528739,4752807,4384916.0644652173,1.0838991967294704,3617556,3617556,82.5,null,3314664,0.04,3447251,78.616122847505991,3.8838771524940086,0.01,33147,0,0,0,{"$f":"MIN(H37*parameters!C$22,ROUND(P37+T37-V37+W37,0))","v":3480398},79.372055219133784,null,-170305,-137158,0,-3.1279447808662155,null,-4.7077363833483162E-2,-3.8838771524940086,0,null,null,null,null,"028","Berlin",1.0838991967294704,82.5,3480398,-3.1279447808662155]
[29,"Bernardston",248325200,822169.24997969356,65708000,928769.11583083821,1750938,3335424.4618437882,0.52495207732334603,2751725,1750938,52.5,null,1699234,2.69E-2,1744943,52.315470488437128,0.18452951156287156,0,0,0,0,0,{"$f":"MIN(H38*parameters!C$22,ROUND(P38+T38-V38+W38,0))","v":1744943},52.315470488437128,null,-5995,-5995,0,-0.18452951156287156,null,-3.423879086523909E-3,-0.18452951156287156,0,null,null,null,null,"029","Bernardston",0.52495207732334603,52.5,1744943,-0.18452951156287156]
[30,"Beverly",7994706700,26469331.390235994,2115626000,29903939.9989154,56373271,55927248.07502225,1.0079750558150018,46139980,46139980,82.5,null,43414266,2.7099999999999999E-2,44590793,79.729996620224838,2.7700033797751615,0.01,434143,0,0,0,{"$f":"MIN(H39*parameters!C$22,ROUND(P39+T39-V39+W39,0))","v":45024936},80.506260453942573,null,-1549187,-1115044,0,-1.9937395460574265,null,-3.3575805624536464E-2,-2.7700033797751615,0,null,null,null,null,"030","Beverly",1.0079750558150018,82.5,45024936,-1.9937395460574265]
[31,"Billerica",7998669600,26482451.985812858,1728420000,24430862.530960269,50913315,60824076.998677939,0.83705857141254514,50179864,50179864,82.5,null,48257512,4.1799999999999997E-2,50274676,82.655879843590171,0,0,0,94812,94812,0,{"$f":"MIN(H40*parameters!C$22,ROUND(P40+T40-V40+W40,0))","v":50179864},82.500000782733949,null,0,0,0,7.8273394876759994E-7,null,1.8894431439670702E-3,0.15587984359017071,0,null,null,null,null,"031","Billerica",0.83705857141254514,82.5,50179864,7.8273394876759994E-7]
[32,"Blackstone",1075325500,3560249.0597774168,306167000,4327607.8085861728,7887857,16169172.293553654,0.48783307251569957,13339567,7887857,48.78,null,7758120,3.0300000000000004E-2,7993191,49.434756800672695,0,0,0,105334,105334,0,{"$f":"MIN(H41*parameters!C$22,ROUND(P41+T41-V41+W41,0))","v":7887857},48.783307251569958,null,0,0,0,3.3072515699572591E-3,null,1.3353943916579623E-2,0.65475680067269337,0,null,null,null,null,"032","Blackstone",0.48783307251569957,48.78,7887857,3.3072515699572591E-3]
[33,"Blandford",180760100,598470.85935400194,40004000,565448.34281513444,1163919,1320256.9655030002,0.88158519925442125,1089212,1089212,82.5,null,1160289,4.1599999999999998E-2,1208557,91.53952840836223,0,0,0,119345,119345,0,{"$f":"MIN(H42*parameters!C$22,ROUND(P42+T42-V42+W42,0))","v":1089212},82.500000262072078,null,0,0,0,2.6207207781681063E-7,null,0.10957003778878675,9.03952840836223,0,null,null,null,null,"033","Blandford",0.88158519925442125,82.5,1089212,2.6207207781681063E-7]
[34,"Bolton",1191544800,3945034.5536143892,447908000,6331087.7995610749,10276122,12023700.238295995,0.85465553834002916,9919553,9919553,82.5,null,9163325,4.1399999999999999E-2,9542687,79.365642945805803,3.1343570541941972,0.01,91633,0,0,0,{"$f":"MIN(H43*parameters!C$22,ROUND(P43+T43-V43+W43,0))","v":9634320},80.127746110255501,null,-376866,-285233,0,-2.3722538897444991,null,-3.7992236142092288E-2,-3.1343570541941972,0,null,null,null,null,"034","Bolton",0.85465553834002916,82.5,9634320,-2.3722538897444991]
[35,"Boston",203894526100,675065638.11728346,37097269000,524362295.74585688,1199427934,973396859.42095006,1.232208551313295,803052409,803052409,82.5,null,762717504,2.3800000000000002E-2,780870181,80.221152702765096,2.2788472972349041,0,0,0,0,0,{"$f":"MIN(H44*parameters!C$22,ROUND(P44+T44-V44+W44,0))","v":780870181},80.221152702765096,null,-22182228,-22182228,0,-2.2788472972349041,null,-2.7622391454652867E-2,-2.2788472972349041,0,null,null,null,null,"035","Boston",1.232208551313295,82.5,780870181,-2.2788472972349041]
[36,"Bourne",5178654100,17145783.663121041,778353000,11001860.163363373,28147644,24115183.273590714,1.1672166734401459,19895026,19895026,82.5,null,21342321,2.9100000000000001E-2,21963383,91.076989757124437,0,0,0,2068357,2068357,0,{"$f":"MIN(H45*parameters!C$22,ROUND(P45+T45-V45+W45,0))","v":19895026},82.499999167693076,null,0,0,0,-8.3230692382585403E-7,null,0.1039635233449808,8.5769897571244371,0,null,null,null,null,"036","Bourne",1.1672166734401459,82.5,19895026,-8.3230692382585403E-7]
[37,"Boxborough",1245735100,4124450.8927824423,358888000,5072808.3405718924,9197259,9538134.1098139398,0.96426186653601276,7868961,7868961,82.5,null,7786669,3.5099999999999999E-2,8059981,84.502701547328385,{"$f":"IF(L46>Q46,L46-Q46,0)","v":0},0,0,191020,191020,0,{"$f":"MIN(H46*parameters!C$22,ROUND(P46+T46-V46+W46,0))","v":7868961},82.500003768069263,null,0,0,0,3.7680692628327961E-6,null,2.4275123488348715E-2,2.0027015473283853,0,null,null,null,null,"037","Boxborough",0.96426186653601276,82.5,7868961,3.7680692628327961E-6]
[38,"Boxford",2027205500,6711787.7101869229,844353000,11934756.639360745,18646544,14742922.166691316,1.2647793828911433,12162911,12162911,82.5,null,12479356,2.58E-2,12801323,86.83029629581867,0,0,0,638412,638412,0,{"$f":"MIN(H47*parameters!C$22,ROUND(P47+T47-V47+W47,0))","v":12162911},82.500001441231674,null,0,0,0,1.4412316744483178E-6,null,5.2488421562897236E-2,4.3302962958186697,0,null,null,null,null,"038","Boxford",1.2647793828911433,82.5,12162911,1.4412316744483178E-6]
[39,"Boylston",894665100,2962108.2928756629,311214000,4398946.1194097903,7361054,7457236.7796621481,0.98710208854780312,6152220,6152220,82.5,null,5696095,4.4400000000000002E-2,5949002,79.774884126309331,2.7251158736906689,0.01,56961,0,0,0,{"$f":"MIN(H48*parameters!C$22,ROUND(P48+T48-V48+W48,0))","v":6005963},80.53871933341108,null,-203218,-146257,0,-1.9612806665889195,null,-3.3031653614467624E-2,-2.7251158736906689,0,null,null,null,null,"039","Boylston",0.98710208854780312,82.5,6005963,-1.9612806665889195]
[40,"Braintree",8213296300,27193050.318018436,1720700000,24321741.912858762,51514792,66052543.820015855,0.77990625372992084,54493349,51514792,77.989999999999995,null,48075109,1.21E-2,48656818,73.663806397196709,4.3261936028032864,0.01,480751,0,0,0,{"$f":"MIN(H49*parameters!C$22,ROUND(P49+T49-V49+W49,0))","v":49137569},74.391637563411862,null,-2857974,-2377223,0,-3.5983624365881326,null,-5.5478705999628224E-2,-4.3261936028032864,480751.09,null,null,null,null,"040","Braintree",0.77990625372992084,77.989999999999995,49137569,-3.5983624365881326]
[41,"Brewster",4380442300,14503018.462767065,383285000,5417654.9364038296,19920673,12519160.048081828,1.5912148198035236,10328307,10328307,82.5,null,10089445,3.1099999999999999E-2,10403227,83.098442387865873,0,0,0,74920,74920,0,{"$f":"MIN(H50*parameters!C$22,ROUND(P50+T50-V50+W50,0))","v":10328307},82.499999683145603,null,0,0,0,-3.168543969422899E-7,null,7.25385099416584E-3,0.59844238786587312,0,null,null,null,null,"041","Brewster",1.5912148198035236,82.5,10328307,-3.168543969422899E-7]
[42,"Bridgewater",3400108700,11257274.008954512,976278000,13799489.481723674,25056763,39023431.150973789,0.64209533249550599,32194331,25056763,64.209999999999994,null,23804915,2.1700000000000001E-2,24321482,62.325329379431267,1.8846706205687269,0,0,0,0,0,{"$f":"MIN(H51*parameters!C$22,ROUND(P51+T51-V51+W51,0))","v":24321482},62.325329379431267,null,-735281,-735281,0,-1.8846706205687269,null,-2.9344612470493494E-2,-1.8846706205687269,0,null,null,null,null,"042","Bridgewater",0.64209533249550599,64.209999999999994,24321482,-1.8846706205687269]
[43,"Brimfield",466597600,1544837.9738919975,145657000,2058831.848550746,3603670,6048297.7746336702,0.59581557229434934,4989846,3603670,59.58,null,3503607,2.5600000000000001E-2,3593299,59.41008749718241,0.16991250281758852,0,0,0,0,0,{"$f":"MIN(H52*parameters!C$22,ROUND(P52+T52-V52+W52,0))","v":3593299},59.41008749718241,null,-10371,-10371,0,-0.16991250281758852,null,-2.8778994747021788E-3,-0.16991250281758852,0,null,null,null,null,"043","Brimfield",0.59581557229434934,59.58,3593299,-0.16991250281758852]
[44,"Brockton",8886561300,29422134.51924964,2189454000,30947483.650884096,60369618,279541741.3671453,0.21595922564105224,230621937,60369618,21.6,null,51480348,2.4199999999999999E-2,52726172,18.861645399407582,2.7383546005924195,0.01,514803,0,0,0,{"$f":"MIN(H53*parameters!C$22,ROUND(P53+T53-V53+W53,0))","v":53240975},19.045805016315693,null,-7643446,-7128643,0,-2.5541949836843081,null,-0.12661080611773956,-2.7383546005924195,1029606.9600000001,null,null,null,null,"044","Brockton",0.21595922564105224,21.6,53240975,-2.5541949836843081]
[45,"Brookfield",312533400,1034753.4244273378,99385000,1404786.6101060428,2439540,5803412.794051446,0.4203629978726573,4787816,2439540,42.04,null,2395082,4.7199999999999999E-2,2508130,43.218190554545032,0,0,0,68590,68590,0,{"$f":"MIN(H54*parameters!C$22,ROUND(P54+T54-V54+W54,0))","v":2439540},42.036299787265726,null,0,0,0,-3.7002127342731228E-3,null,2.8115956286840962E-2,1.1781905545450329,0,null,null,null,null,"045","Brookfield",0.4203629978726573,42.04,2439540,-3.7002127342731228E-3]
[46,"Brookline",28147948700,93193835.628224164,5644070000,79777772.928522542,172971609,77301091.208359122,2.2376347642204477,63773400,63773400,82.5,null,69211255,1.72E-2,70401689,91.074638015442346,0,0,0,6628289,6628289,0,{"$f":"MIN(H55*parameters!C$22,ROUND(P55+T55-V55+W55,0))","v":63773400},82.499999680604404,null,0,0,0,-3.1939559619331703E-7,null,0.10393501052162814,8.5746380154423463,0,null,null,null,null,"046","Brookline",2.2376347642204477,82.5,63773400,-3.1939559619331703E-7]
[47,"Buckland",236099700,781692.36657991481,42927187.5,606766.99913982488,1388459,2245582.2948034718,0.61830688780057141,1852605,1388459,61.83,null,1364402,2.9100000000000001E-2,1404106,62.527479097482114,0,0,0,15647,15647,0,{"$f":"MIN(H56*parameters!C$22,ROUND(P56+T56-V56+W56,0))","v":1388459},61.830688780057145,null,0,0,0,6.8878005714623214E-4,null,1.1269328082428073E-2,0.69747909748211612,0,null,null,null,null,"047","Buckland",0.61830688780057141,61.83,1388459,6.8878005714623214E-4]
[48,"Burlington",8100649200,26820091.8678918,1382790000,19545453.303703126,46365545,42341793.017155148,1.0950302690586247,34931979,34931979,82.5,null,34772202,3.3799999999999997E-2,35947502,84.898393380354861,0,0,0,1015523,1015523,0,{"$f":"MIN(H57*parameters!C$22,ROUND(P57+T57-V57+W57,0))","v":34931979},82.499999435184534,null,0,0,0,-5.6481546550912753E-7,null,2.9071441958670591E-2,2.3983933803548609,0,null,null,null,null,"048","Burlington",1.0950302690586247,82.5,34931979,-5.6481546550912753E-7]
[49,"Cambridge",63505735500,210258414.87470382,8087170000,114310490.81502527,324568906,100589415.79484001,3.2266705541066441,82986268,82986268,82.5,null,80716157,2.6000000000000002E-2,82814777,82.329513841602605,0.17048615839739512,0,0,0,0,171491,{"$f":"MIN(H58*parameters!C$22,ROUND(P58+T58-V58+W58,0))","v":82986268},82.499999969437141,null,-171491,0,0,-3.0562858910343493E-8,null,-2.0664985199720029E-3,-0.17048615839739512,0,null,null,null,null,"049","Cambridge",3.2266705541066441,82.5,82986268,-3.0562858910343493E-8]
[50,"Canton",5664784600,18755292.277539767,1475836000,20860639.447728146,39615932,38793357.110500135,1.0212040140572733,32004520,32004520,82.5,null,31875439,3.4299999999999997E-2,32968767,84.985599225379744,0,0,0,964247,964247,0,{"$f":"MIN(H59*parameters!C$22,ROUND(P59+T59-V59+W59,0))","v":32004520},82.50000098944102,null,0,0,0,9.8944101978304388E-7,null,3.0128463104586476E-2,2.4855992253797439,0,null,null,null,null,"050","Canton",1.0212040140572733,82.5,32004520,9.8944101978304388E-7]
[51,"Carlisle",1657167300,5486644.1107542599,815711000,11529907.838368066,17016552,9516827.1534651089,1.7880488660345393,7851382,7851382,82.5,null,7887677,3.4299999999999997E-2,8158224,85.724200602188759,0,0,0,306842,306842,0,{"$f":"MIN(H60*parameters!C$22,ROUND(P60+T60-V60+W60,0))","v":7851382},82.499995780014615,null,0,0,0,-4.2199853851343505E-6,null,3.9081272570867139E-2,3.224200602188759,0,null,null,null,null,"051","Carlisle",1.7880488660345393,82.5,7851382,-4.2199853851343505E-6]
[52,"Carver",1542843600,5108134.6776242219,383236000,5416962.3314443771,10525097,19232559.127280101,0.54725410853259004,15866861,10525097,54.73,null,10245767,2.6100000000000002E-2,10513182,54.663458619439538,6.6541380560458663E-2,0,0,0,0,0,{"$f":"MIN(H61*parameters!C$22,ROUND(P61+T61-V61+W61,0))","v":10513182},54.663458619439538,null,-11915,-11915,0,-6.6541380560458663E-2,null,-1.132056075112657E-3,-6.6541380560458663E-2,0,null,null,null,null,"052","Carver",0.54725410853259004,54.73,10513182,-6.6541380560458663E-2]
[53,"Charlemont",147289000,487652.83048300812,27710000,391675.17196798761,879328,1685057.2865214737,0.5218386383855409,1390172,879328,52.18,null,898461,3.27E-2,927841,55.062875750377401,0,0,0,48513,48513,0,{"$f":"MIN(H62*parameters!C$22,ROUND(P62+T62-V62+W62,0))","v":879328},52.183863838554082,null,0,0,0,3.8638385540821218E-3,null,5.5170539320935991E-2,2.8828757503774014,0,null,null,null,null,"053","Charlemont",0.5218386383855409,52.18,879328,3.8638385540821218E-3]
[54,"Charlton",1794497600,5941325.1086976277,534595000,7556390.78160326,13497716,24094044.808610417,0.56020963301173743,19877587,13497716,56.02,null,13080033,3.7100000000000001E-2,13565302,56.301472449956634,0,0,0,67586,67586,0,{"$f":"MIN(H63*parameters!C$22,ROUND(P63+T63-V63+W63,0))","v":13497716},56.020963301173744,null,0,0,0,9.6330117374066049E-4,null,5.0072175173933127E-3,0.28147244995663101,0,null,null,null,null,"054","Charlton",0.56020963301173743,56.02,13497716,9.6330117374066049E-4]
[55,"Chatham",7904158600,26169539.571024384,475325000,6718621.4765674379,32888161,4955883.0125037767,6.6361859061286586,4088603,4088603,82.5,null,4342030,-8.0000000000000004E-4,4338556,87.543551553855281,0,0,0,249953,249953,0,{"$f":"MIN(H64*parameters!C$22,ROUND(P64+T64-V64+W64,0))","v":4088603},82.49999020728265,null,0,0,0,-9.7927173499101627E-6,null,6.1134084184744766E-2,5.0435515538552806,0,null,null,null,null,"055","Chatham",6.6361859061286586,82.5,4088603,-9.7927173499101627E-6]
[56,"Chelmsford",6551073600,21689668.500312377,2003049000,28312687.17197061,50002356,58045259.662902467,0.86143737301527146,47887339,47887339,82.5,null,46684327,2.9700000000000001E-2,48070852,82.816154633765464,0,0,0,183513,183513,0,{"$f":"MIN(H65*parameters!C$22,ROUND(P65+T65-V65+W65,0))","v":47887339},82.499999617721528,null,0,0,0,-3.8227847198868403E-7,null,3.8321820304110027E-3,0.31615463376546415,0,null,null,null,null,"056","Chelmsford",0.86143737301527146,82.5,47887339,-3.8227847198868403E-7]
[57,"Chelsea",4225152600,13988876.457934,821843000,11616582.401865277,25605459,118068851.73082857,0.21686887459848347,97406803,25605459,21.69,null,20807621,-5.8099999999999999E-2,19598698,16.599380541686635,5.0906194583133662,0.01,208076,0,0,0,{"$f":"MIN(H66*parameters!C$22,ROUND(P66+T66-V66+W66,0))","v":19806774},16.775613304985093,null,-6006761,-5798685,0,-4.9143866950149082,null,-0.23458907727449838,-5.0906194583133662,416152.42,null,null,null,null,"057","Chelsea",0.21686887459848347,21.69,19806774,-4.9143866950149082]
[58,"Cheshire",327182900,1083255.8254223941,98301000,1389464.4922275406,2472720,4919309.5077242125,0.50265591057390857,4058430,2472720,50.27,null,2495473,2.4500000000000001E-2,2556612,51.970952345764239,0,0,0,83892,83892,0,{"$f":"MIN(H67*parameters!C$22,ROUND(P67+T67-V67+W67,0))","v":2472720},50.265591057390857,null,0,0,0,-4.4089426091460382E-3,null,3.392701155003397E-2,1.7009523457642359,0,null,null,null,null,"058","Cheshire",0.50265591057390857,50.27,2472720,-4.4089426091460382E-3]
[59,"Chester",129904800,430096.22859364288,32818000,463875.70529214782,893972,1872622.1688614481,0.47739048210858992,1544913,893972,47.74,null,913983,3.0800000000000001E-2,942134,50.310949836336512,0,0,0,48162,48162,0,{"$f":"MIN(H68*parameters!C$22,ROUND(P68+T68-V68+W68,0))","v":893972},47.739048210858996,null,0,0,0,-9.5178914100557677E-4,null,5.3874170555677357E-2,2.57094983633651,0,null,null,null,null,"059","Chester",0.47739048210858992,47.74,893972,-9.5178914100557677E-4]
[60,"Chesterfield",165075500,546541.39018119348,27782000,392692.87721453019,939234,1201892.0267852414,0.78146287608897325,991561,939234,78.150000000000006,null,956565,3.73E-2,992245,82.556916751832148,0,0,0,53011,53011,0,{"$f":"MIN(H69*parameters!C$22,ROUND(P69+T69-V69+W69,0))","v":939234},78.146287608897325,null,0,0,0,-3.7123911026810674E-3,null,5.6440673996043585E-2,4.4069167518321422,0,null,null,null,null,"060","Chesterfield",0.78146287608897325,78.150000000000006,939234,-3.7123911026810674E-3]
[61,"Chicopee",4282298400,14178078.035242664,1201917000,16988850.511232324,31166929,103392553.95,0.3014426843065714,85298857,31166929,30.14,null,30903112,2.9700000000000001E-2,31820934,30.776813981583633,0,0,0,654005,654005,0,{"$f":"MIN(H70*parameters!C$22,ROUND(P70+T70-V70+W70,0))","v":31166929},30.144268430657139,null,0,0,0,4.2684306571381114E-3,null,2.0983941022870749E-2,0.63681398158363223,0,null,null,null,null,"061","Chicopee",0.3014426843065714,30.14,31166929,4.2684306571381114E-3]
[62,"Chilmark",3657005200,12107821.608341962,69962000,988898.53414739622,13096720,1484813.2575300767,8.8204492609298448,1224971,1224971,82.5,null,1154430,5.5199999999999999E-2,1218155,82.040956586442974,0.45904341355702627,0,0,0,0,6816,{"$f":"MIN(H71*parameters!C$22,ROUND(P71+T71-V71+W71,0))","v":1224971},82.50000421182169,null,-6816,0,0,4.2118216896369631E-6,null,-5.5642133568876324E-3,-0.45904341355702627,0,null,null,null,null,"062","Chilmark",8.8204492609298448,82.5,1224971,4.2118216896369631E-6]
[63,"Clarksburg",133566700,442220.25618528744,41976000,593322.1587343287,1035542,2948639.0815920359,0.35119320179426228,2432627,1035542,35.119999999999997,null,988224,2.86E-2,1016487,34.473089851714782,0.64691014828521531,0,0,0,0,0,{"$f":"MIN(H72*parameters!C$22,ROUND(P72+T72-V72+W72,0))","v":1016487},34.473089851714782,null,-19055,-19055,0,-0.64691014828521531,null,-1.8400991944315152E-2,-0.64691014828521531,0,null,null,null,null,"063","Clarksburg",0.35119320179426228,35.119999999999997,1016487,-0.64691014828521531]
[64,"Clinton",1653168200,5473403.6621505991,456680000,6455078.2220981801,11928482,26782472.620000001,0.44538389599966666,22095540,11928482,44.54,null,11372125,4.87E-2,11925947,44.528924454474058,1.1075545525940811E-2,0,0,0,0,0,{"$f":"MIN(H73*parameters!C$22,ROUND(P73+T73-V73+W73,0))","v":11925947},44.528924454474058,null,-2535,-2535,0,-1.1075545525940811E-2,null,-2.1251656329782784E-4,-1.1075545525940811E-2,0,null,null,null,null,"064","Clinton",0.44538389599966666,44.54,11925947,-1.1075545525940811E-2]
[65,"Cohasset",3240448100,10728660.578850325,1097162000,15508160.051488314,26236821,15492273.47607181,1.6935423351855621,{"$f":"ROUND(H74*maxloc,0)","v":12781126},12781126,82.5,null,12917527,3.32E-2,13346389,86.148679344021517,0,0,0,565263,{"$f":"MAX(U74*(V$5),0)","v":565263},0,{"$f":"MIN(H74*parameters!C$22,ROUND(P74+T74-V74+W74,0))","v":12781126},82.500002467299311,null,0,0,0,2.4672993106378271E-6,null,{"$f":"(P74-K74)/K74","v":4.4226385061848228E-2},3.6486793440215166,{"$f":"IF(AF74<$AH$5, $AH$6*(N74), IF(AND(AF74<$AH$4, AF74>$AH$5), $AH$7*(N74), 0))","v":0},null,null,null,null,"065","Cohasset",1.6935423351855621,{"$f":"L74","v":82.5},{"$f":"X74","v":12781126},2.4672993106378271E-6]
[66,"Colrain",182644300,{"$f":"D$5*C75","v":604709.17629006703},54839000,775138.02798818017,{"$f":"ROUND(D75+F75,0)","v":1379847},{"$f":"(SUMIF(town1755,A75,found1755)/2)","v":2113072.7511760583},{"$f":"G75/H75","v":0.65300496598237234},1743285,{"$f":"MIN(G75,J75)","v":1379847},{"$f":"IF(H75>0, ROUND((K75*100/H75), 2), 0)","v":65.3},null,1285699,3.44E-2,{"$f":"ROUND(N75*(1+O75),0)","v":1329927},{"$f":"P75*100/H75","v":62.938060190299254},{"$f":"IF(L75>Q75,L75-Q75,0)","v":2.3619398097007434},{"$f":"IF(AND(R75>$T$4,R75<=$T$5),$S$4,IF(R75>$T$5,$S$5,0))","v":0},{"$f":"ROUND(S75*N75,0)","v":0},{"$f":"MAX(P75-K75,0)","v":0},0,{"$f":"IF(AND(I75>1.75,$W$5=1),MAX(K75-(P75+T75),0),0)","v":0},{"$f":"MIN(H75*parameters!C$22,ROUND(P75+T75-V75+W75,0))","v":1329927},{"$f":"X75*100/H75","v":62.938060190299254},null,{"$f":"IF(Q75<L75, P75-K75, 0)","v":-49920},{"$f":"-1*MAX(K75-(P75+T75+W75),0)","v":-49920},{"$f":"IF(Q75>L75, X75-K75,0)","v":0},{"$f":"Y75-L75","v":-2.3619398097007434},null,-3.6177924074190834E-2,{"$f":"Q75-L75","v":-2.3619398097007434},0,null,null,null,null,{"$f":"TEXT(A75,\"000\")","v":"066"},{"$f":"B75","v":"Colrain"},{"$f":"I75","v":0.65300496598237234},65.3,1329927,{"$f":"AD75","v":-2.3619398097007434}]
[67,"Concord",7134203400,23620327.935225986,2921432000,{"$f":"E76*F$5","v":41293842.691908404},64914171,34428619.665373556,1.8854712047978839,28403611,28403611,82.5,null,27870369,2.4799999999999999E-2,28561554,82.958754308484998,0,0,0,157943,157943,0,{"$f":"MIN(H76*parameters!C$22,ROUND(P76+T76-V76+W76,0))","v":28403611},82.499999349572576,null,0,0,0,-6.5042742392051878E-7,null,5.5606662124755898E-3,0.45875430848499832,0,null,null,null,null,"067","Concord",1.8854712047978839,82.5,28403611,-6.5042742392051878E-7]
[68,"Conway",272849200,903364.70934709569,69800000,986608.6973426753,1889973,2213197.714413383,0.8539557888080257,1825888,1825888,82.5,null,1861596,2.9000000000000005E-2,1915582,86.552682913272065,0,0,0,89694,89694,0,{"$f":"MIN(H77*parameters!C$22,ROUND(P77+T77-V77+W77,0))","v":1825888},82.499994831413375,null,0,0,0,-5.1685866253592394E-6,null,4.9123494978881507E-2,4.052682913272065,0,null,null,null,null,"068","Conway",0.8539557888080257,82.5,1825888,-5.1685866253592394E-6]
[69,"Cummington",136764000,452806.05957117042,27624000,390459.57959017286,843266,729250.53301170736,1.1563460866013,601632,601632,82.5,null,640755,3.3399999999999999E-2,662156,90.799522252713913,0,0,0,60524,60524,0,{"$f":"MIN(H78*parameters!C$22,ROUND(P78+T78-V78+W78,0))","v":601632},82.500042545781923,null,0,0,0,4.2545781923308823E-5,null,0.100599702143503,8.2995222527139134,0,null,null,null,null,"069","Cummington",1.1563460866013,82.5,601632,4.2545781923308823E-5]
[70,"Dalton",659304000,2182861.3253452,231336000,3269886.9571413347,5452748,10975904.419722669,0.49679259143346077,9055121,5452748,49.68,null,5300714,3.4099999999999998E-2,5481468,49.940923229527371,0,0,0,28720,28720,0,{"$f":"MIN(H79*parameters!C$22,ROUND(P79+T79-V79+W79,0))","v":5452748},49.679259143346073,null,0,0,0,-7.4085665392686906E-4,null,5.2670690081404823E-3,0.26092322952737135,0,null,null,null,null,"070","Dalton",0.49679259143346077,49.68,5452748,-7.4085665392686906E-4]
[71,"Danvers",5748464900,19032345.792402841,1428486000,20191356.900175486,39223703,41175280.213733464,0.95260318318167647,33969606,33969606,82.5,null,33168062,2.3300000000000001E-2,33940878,82.430229554769298,6.9770445230702194E-2,0,0,0,0,0,{"$f":"MIN(H80*parameters!C$22,ROUND(P80+T80-V80+W80,0))","v":33940878},82.430229554769298,null,-28728,-28728,0,-6.9770445230702194E-2,null,-8.4569718000261759E-4,-6.9770445230702194E-2,0,null,null,null,null,"071","Danvers",0.95260318318167647,82.5,33940878,-6.9770445230702194E-2]
[72,"Dartmouth",6198070600,20520926.013643358,1269313000,17941479.161176551,38462405,44906329.351998679,0.85650298198528052,37047722,37047722,82.5,null,37246993,3.6200000000000003E-2,38595334,85.946312150053757,0,0,0,1547612,1547612,0,{"$f":"MIN(H81*parameters!C$22,ROUND(P81+T81-V81+W81,0))","v":37047722},82.500000633766092,null,0,0,0,6.3376609205079149E-7,null,4.1773472603794638E-2,3.4463121500537568,0,null,null,null,null,"072","Dartmouth",0.85650298198528052,82.5,37047722,6.3376609205079149E-7]
[73,"Dedham",5863555800,19413395.315095212,1532426000,21660527.501920439,41073923,32570294.688072015,1.2610853967815714,26870493,26870493,82.5,null,26785616,3.2300000000000002E-2,27650791,84.895734793969638,0,0,0,780298,780298,0,{"$f":"MIN(H82*parameters!C$22,ROUND(P82+T82-V82+W82,0))","v":26870493},82.499999638752385,null,0,0,0,-3.6124761493283586E-7,null,2.9039214129789135E-2,2.3957347939696376,0,null,null,null,null,"073","Dedham",1.2610853967815714,82.5,26870493,-3.6124761493283586E-7]
[74,"Deerfield",808941100,2678288.3793700691,215554000,3046811.6210172353,5725100,6662755.7218587492,0.85926908309386951,5496773,5496773,82.5,null,5606753,2.4299999999999999E-2,5742997,86.19552088873283,0,0,0,246224,246224,0,{"$f":"MIN(H83*parameters!C$22,ROUND(P83+T83-V83+W83,0))","v":5496773},82.499992937855026,null,0,0,0,-7.0621449737018338E-6,null,4.4794282026927437E-2,3.6955208887328297,0,null,null,null,null,"074","Deerfield",0.85926908309386951,82.5,5496773,-7.0621449737018338E-6]
[75,"Dennis",7955584100,26339802.052499607,537187000,7593028.1704787929,33932830,13607577.042096412,2.4936717165021642,11226251,11226251,82.5,null,11656730,3.56E-2,12071710,88.713148289772292,0,0,0,845459,845459,0,{"$f":"MIN(H84*parameters!C$22,ROUND(P84+T84-V84+W84,0))","v":11226251},82.499999561056754,null,0,0,0,-4.3894324619486724E-7,null,7.5310894082093835E-2,6.2131482897722918,0,null,null,null,null,"075","Dennis",2.4936717165021642,82.5,11226251,-4.3894324619486724E-7]
[76,"Dighton",1162938400,3850322.8512474159,289109000,4086496.4739261251,7936819,15418423.608721562,0.51476202765050971,12720199,7936819,51.48,null,7624404,4.1900000000000007E-2,7943867,51.521914312345686,0,0,0,7048,7048,0,{"$f":"MIN(H85*parameters!C$22,ROUND(P85+T85-V85+W85,0))","v":7936819},51.476202765050971,null,0,0,0,-3.7972349490260626E-3,null,8.8801319521082688E-4,4.1914312345689098E-2,0,null,null,null,null,"076","Dighton",0.51476202765050971,51.48,7936819,-3.7972349490260626E-3]
[77,"Douglas",1154562000,3822589.7878872338,345379000,4881861.393689339,8704451,14357692.137957396,0.60625697475348872,11845096,8704451,60.63,null,8465026,4.8500000000000008E-2,8875580,61.817595158874113,0,0,0,171129,171129,0,{"$f":"MIN(H86*parameters!C$22,ROUND(P86+T86-V86+W86,0))","v":8704451},60.625697475348872,null,0,0,0,-4.3025246511305681E-3,null,1.965994179299763E-2,1.1875951588741103,0,null,null,null,null,"077","Douglas",0.60625697475348872,60.63,8704451,-4.3025246511305681E-3]
[78,"Dover",2831290600,9373998.5675096866,1475249000,20852342.323009808,30226341,12721710.275463013,2.3759652079405571,10495411,10495411,82.5,null,10420506,2.3599999999999999E-2,10666430,83.844308422688002,0,0,0,171019,171019,0,{"$f":"MIN(H87*parameters!C$22,ROUND(P87+T87-V87+W87,0))","v":10495411},82.500000178773249,null,0,0,0,1.7877324864912225E-7,null,1.6294645345475273E-2,1.3443084226880018,0,null,null,null,null,"078","Dover",2.3759652079405571,82.5,10495411,1.7877324864912225E-7]
[79,"Dracut",4153988500,13753262.292627862,1156106000,16341321.413324513,30094584,54404284.394877516,0.55316569889178768,44883535,30094584,55.32,null,28650804,3.5999999999999997E-2,29682233,54.558631420570173,0.76136857942982772,0,0,0,0,0,{"$f":"MIN(H88*parameters!C$22,ROUND(P88+T88-V88+W88,0))","v":29682233},54.558631420570173,null,-412351,-412351,0,-0.76136857942982772,null,-1.3701834190497532E-2,-0.76136857942982772,0,null,null,null,null,"079","Dracut",0.55316569889178768,55.32,29682233,-0.76136857942982772]
[80,"Dudley",1146095200,3794557.4230457759,343087000,4849464.4433410671,8644022,20218048.839432228,0.42753987136192639,16679890,8644022,42.75,null,7521654,1.66E-2,7646513,37.82023211402398,4.9297678859760197,0.01,75217,0,0,0,{"$f":"MIN(H89*parameters!C$22,ROUND(P89+T89-V89+W89,0))","v":7721730},38.192261089704857,null,-997509,-922292,0,-4.5577389102951429,null,-0.11539871138689836,-4.9297678859760197,150433.08000000002,null,null,null,null,"080","Dudley",0.42753987136192639,42.75,7721730,-4.5577389102951429]
[81,"Dunstable",606991900,2009663.4379706495,208516000,2947330.9331676974,4956994,5812892.0443835203,0.8527586547542203,4795636,4795636,82.5,null,4814706,5.4100000000000002E-2,5075182,87.30907027429997,0,0,0,279546,279546,0,{"$f":"MIN(H90*parameters!C$22,ROUND(P90+T90-V90+W90,0))","v":4795636},82.500001090396921,null,0,0,0,1.090396921199499E-6,null,5.8291746913235284E-2,4.8090702742999696,0,null,null,null,null,"081","Dunstable",0.8527586547542203,82.5,4795636,1.090396921199499E-6]
[82,"Duxbury",4654728300,15411140.211586475,1401567000,19810862.351124376,35222003,29831320.215240002,1.1807054714932144,24610839,24610839,82.5,null,25372508,2.6499999999999999E-2,26044879,87.307161775208286,0,0,0,1434040,1434040,0,{"$f":"MIN(H91*parameters!C$22,ROUND(P91+T91-V91+W91,0))","v":24610839},82.499999404743065,null,0,0,0,-5.9525693529849377E-7,null,5.8268635213939678E-2,4.8071617752082858,0,null,null,null,null,"082","Duxbury",1.1807054714932144,82.5,24610839,-5.9525693529849377E-7]
[83,"East Bridgewater",1926835300,6379476.3215146828,535363000,7567246.3042330472,13946723,25056628.545856547,0.55660812365382173,20671719,13946723,55.66,null,13378858,3.5499999999999997E-2,13853807,55.28998833440788,0.3700116655921164,0,0,0,0,0,{"$f":"MIN(H92*parameters!C$22,ROUND(P92+T92-V92+W92,0))","v":13853807},55.28998833440788,null,-92916,-92916,0,-0.3700116655921164,null,-6.6622101837112563E-3,-0.3700116655921164,0,null,null,null,null,"083","East Bridgewater",0.55660812365382173,55.66,13853807,-0.3700116655921164]
[84,"East Brookfield",278867500,923290.44059447933,74695000,1055798.5193124805,1979089,3874238.7298134333,0.51083300178956825,3196247,1979089,51.08,null,1841750,3.5700000000000003E-2,1907500,49.235479097382751,1.8445209026172478,0,0,0,0,0,{"$f":"MIN(H93*parameters!C$22,ROUND(P93+T93-V93+W93,0))","v":1907500},49.235479097382751,null,-71589,-71589,0,-1.8445209026172478,null,-3.6172703703572708E-2,-1.8445209026172478,0,null,null,null,null,"084","East Brookfield",0.51083300178956825,51.08,1907500,-1.8445209026172478]
[85,"Eastham",3250149400,10760780.196774032,189533000,2679010.1179577261,13439790,5575073.4959846279,2.4106928831843795,4599436,4599436,82.5,null,4337460,1.2199999999999999E-2,4390377,78.750118777126616,3.749881222873384,0.01,43375,0,0,165684,{"$f":"MIN(H94*parameters!C$22,ROUND(P94+T94-V94+W94,0))","v":4599436},82.500006561575958,null,-209059,0,0,6.561575958130561E-6,null,-4.5453181650967643E-2,-3.749881222873384,0,null,null,null,null,"085","Eastham",2.4106928831843795,82.5,4599436,6.561575958130561E-6]
[86,"Easthampton",1773024900,5870232.0675804196,498580000,7047326.136405603,12917558,19775625.25,0.65320604717668784,16314891,12917558,65.319999999999993,null,12651233,3.61E-2,13107943,66.283330283071578,0,0,0,190385,190385,0,{"$f":"MIN(H95*parameters!C$22,ROUND(P95+T95-V95+W95,0))","v":12917558},65.320604717668786,null,0,0,0,6.047176687928868E-4,null,1.4738466821670165E-2,0.96333028307158486,0,null,null,null,null,"086","Easthampton",0.65320604717668784,65.319999999999993,12917558,6.047176687928868E-4]
[87,"East Longmeadow",2143969100,7098375.3035400296,708484000,10014276.165159427,17112651,27947960.879999999,0.6123040988026458,23057068,17112651,61.23,null,17494208,3.1199999999999995E-2,18040027,64.548634075517569,0,0,0,927376,927376,0,{"$f":"MIN(H96*parameters!C$22,ROUND(P96+T96-V96+W96,0))","v":17112651},61.230409880264581,null,0,0,0,4.09880264584217E-4,null,5.4192421735241372E-2,3.3186340755175721,0,null,null,null,null,"087","East Longmeadow",0.6123040988026458,61.23,17112651,4.09880264584217E-4]
[88,"Easton",4091504700,13546387.360152699,1319292000,18647922.085023105,32194309,39026864.380385607,0.82492686796996273,32197163,32194309,82.49,null,30622659,3.1699999999999999E-2,31593397,80.952947416084058,1.537052583915937,0,0,0,0,0,{"$f":"MIN(H97*parameters!C$22,ROUND(P97+T97-V97+W97,0))","v":31593397},80.952947416084058,null,-600912,-600912,0,-1.537052583915937,null,-1.8665162218577204E-2,-1.537052583915937,0,null,null,null,null,"088","Easton",0.82492686796996273,82.49,31593397,-1.537052583915937]
[89,"Edgartown",10127877000,33531953.410191912,290012000,4099260.1938931798,37631214,8249256.4177558087,4.5617704304841435,6805637,6805637,82.5,null,6533734,4.9699999999999994E-2,6858461,83.140354144377881,0,0,0,52824,52824,0,{"$f":"MIN(H98*parameters!C$22,ROUND(P98+T98-V98+W98,0))","v":6805637},82.500005519909124,null,0,0,0,5.5199091235635933E-6,null,7.7618009893857106E-3,0.64035414437788063,0,null,null,null,null,"089","Edgartown",4.5617704304841435,82.5,6805637,5.5199091235635933E-6]
[90,"Egremont",461457900,1527821.1616871925,38278000,541051.68648829404,2068873,982614.91455153027,2.105476895742258,810657,810657,82.5,null,729584,3.7400000000000003E-2,756870,77.026105424568968,5.4738945754310322,0.01,7296,0,0,46491,{"$f":"MIN(H99*parameters!C$22,ROUND(P99+T99-V99+W99,0))","v":810657},82.499969010747961,null,-53787,0,0,-3.0989252039148596E-5,null,-6.6349886573482994E-2,-5.4738945754310322,7295.84,null,null,null,null,"090","Egremont",2.105476895742258,82.5,810657,-3.0989252039148596E-5]
[91,"Erving",956478200,3166762.6334980396,40698000,575257.89060819778,3742021,2816536.3795745736,1.3285896206194989,2323643,2323643,82.5,null,2307875,2.98E-2,2376650,84.382009663904412,0,0,0,53007,53007,0,{"$f":"MIN(H100*parameters!C$22,ROUND(P100+T100-V100+W100,0))","v":2323643},82.500017285449616,null,0,0,0,1.7285449615656034E-5,null,2.2812024050166056E-2,1.8820096639044124,0,null,null,null,null,"091","Erving",1.3285896206194989,82.5,2323643,1.7285449615656034E-5]
[92,"Essex",944642600,3127576.6532791182,267540000,3781623.0786111658,6909200,5755692.9799385471,1.2004114924270628,4748447,4748447,82.5,null,4828458,2.1600000000000001E-2,4932753,85.702156407457764,0,0,0,184306,184306,0,{"$f":"MIN(H101*parameters!C$22,ROUND(P101+T101-V101+W101,0))","v":4748447},82.500005065431736,null,0,0,0,5.0654317362841539E-6,null,3.8813953277776925E-2,3.202156407457764,0,null,null,null,null,"092","Essex",1.2004114924270628,82.5,4748447,5.0654317362841539E-6]
[93,"Everett",7029819300,23274727.097265095,1048306000,14817590.502528805,38092318,120182572.72071998,0.31695375741804804,99150622,38092318,31.7,null,35431511,2.9700000000000001E-2,36483827,30.357002828339382,1.3429971716606168,0,0,0,0,0,{"$f":"MIN(H102*parameters!C$22,ROUND(P102+T102-V102+W102,0))","v":36483827},30.357002828339382,null,-1608491,-1608491,0,-1.3429971716606168,null,-4.2226125488083972E-2,-1.3429971716606168,0,null,null,null,null,"093","Everett",0.31695375741804804,31.7,36483827,-1.3429971716606168]
[94,"Fairhaven",2482405500,8218889.8592670662,504096000,7125293.666126838,15344184,24385377.500193857,0.62923709095247826,20117936,15344184,62.92,null,14691748,1.4000000000000002E-2,14897432,61.091660360318677,1.8283396396813245,0,0,0,0,0,{"$f":"MIN(H103*parameters!C$22,ROUND(P103+T103-V103+W103,0))","v":14897432},61.091660360318677,null,-446752,-446752,0,-1.8283396396813245,null,-2.9115396426424502E-2,-1.8283396396813245,0,null,null,null,null,"094","Fairhaven",0.62923709095247826,62.92,14897432,-1.8283396396813245]
[95,"Fall River",6253556700,20704632.561433505,1696635000,23981588.068996992,44686221,200326303.48057196,0.22306716703497581,165269200,44686221,22.31,null,36806161,3.5099999999999999E-2,38098057,19.018000301540443,3.2919996984595556,0.01,368062,0,0,0,{"$f":"MIN(H104*parameters!C$22,ROUND(P104+T104-V104+W104,0))","v":38466119},19.201731540826099,null,-6588164,-6220102,0,-3.1082684591738996,null,-0.14743166579245984,-3.2919996984595556,736123.22,null,null,null,null,"095","Fall River",0.22306716703497581,22.31,38466119,-3.1082684591738996]
[96,"Falmouth",13186717700,43659337.840472691,1469734000,20774388.928083662,64433727,40183132.625421949,1.6035018374658987,33151084,33151084,82.5,null,33892532,2.12E-2,34611054,86.133289613421624,0,0,0,1459970,1459970,0,{"$f":"MIN(H105*parameters!C$22,ROUND(P105+T105-V105+W105,0))","v":33151084},82.499998964806679,null,0,0,0,-1.0351933212859876E-6,null,4.4039887202481823E-2,3.6332896134216242,0,null,null,null,null,"096","Falmouth",1.6035018374658987,82.5,33151084,-1.0351933212859876E-6]
[97,"Fitchburg",3008407300,9960406.6501282789,871769000,12322276.181572016,22282683,87312852.453451902,0.25520507432601991,72033103,22282683,25.52,null,20996215,1.7000000000000001E-2,21353151,24.455908150960664,1.0640918490393361,0,0,0,0,0,{"$f":"MIN(H106*parameters!C$22,ROUND(P106+T106-V106+W106,0))","v":21353151},24.455908150960664,null,-929532,-929532,0,-1.0640918490393361,null,-4.1715443333282622E-2,-1.0640918490393361,0,null,null,null,null,"097","Fitchburg",0.25520507432601991,25.52,21353151,-1.0640918490393361]
[98,"Florida",182043400,602719.68226242578,14109000,199427.8239370746,802148,1115903.6057531708,0.71883269833024355,920620,802148,71.88,null,646119,2.9000000000000005E-2,664856,59.580056608138698,12.299943391861298,0.02,12922,0,0,0,{"$f":"MIN(H107*parameters!C$22,ROUND(P107+T107-V107+W107,0))","v":677778},60.738041933517977,null,-137292,-124370,0,-11.141958066482019,null,-0.1711554476231319,-12.299943391861298,12922.380000000001,null,null,null,null,"098","Florida",0.71883269833024355,71.88,677778,-11.141958066482019]
[99,"Foxborough",3632254300,12025874.915499985,982169000,13882757.559603984,25908632,30754764.697210096,0.842426604627877,25372681,25372681,82.5,null,25364233,5.4999999999999997E-3,25503736,82.926129499256291,0,0,0,131055,131055,0,{"$f":"MIN(H108*parameters!C$22,ROUND(P108+T108-V108+W108,0))","v":25372681},82.500000405796214,null,0,0,0,4.0579621440883784E-7,null,5.1652011074430799E-3,0.42612949925629096,0,null,null,null,null,"099","Foxborough",0.842426604627877,82.5,25372681,4.0579621440883784E-7]
[100,"Framingham",11101738800,36756270.65906506,2729430000,38579933.764871322,75336204,135861866.69681314,0.55450588035948967,112086040,75336204,55.45,null,71200714,3.5099999999999999E-2,73699859,54.246169872277157,1.2038301277228456,0,0,0,0,0,{"$f":"MIN(H109*parameters!C$22,ROUND(P109+T109-V109+W109,0))","v":73699859},54.246169872277157,null,-1636345,-1636345,0,-1.2038301277228456,null,-2.1720566117188492E-2,-1.2038301277228456,0,null,null,null,null,"100","Framingham",0.55450588035948967,55.45,73699859,-1.2038301277228456]
[101,"Franklin",6057291000,20054824.876326479,1754160000,24794692.156599246,44849517,62949973.548367716,0.7124628410771261,51933728,44849517,71.25,null,43477427,2.9499999999999998E-2,44760011,71.104098186170916,0.1459018138290844,0,0,0,0,0,{"$f":"MIN(H110*parameters!C$22,ROUND(P110+T110-V110+W110,0))","v":44760011},71.104098186170916,null,-89506,-89506,0,-0.1459018138290844,null,-1.9956959625674455E-3,-0.1459018138290844,0,null,null,null,null,"101","Franklin",0.7124628410771261,71.25,44760011,-0.1459018138290844]
[102,"Freetown",1612258700,5337958.1538733719,349394000,4938612.5959791793,10276571,14388523.01413893,0.71422000645248251,11870531,10276571,71.42,null,10100766,2.5100000000000001E-2,10354295,71.962181176103471,0,0,0,77724,77724,0,{"$f":"MIN(H111*parameters!C$22,ROUND(P111+T111-V111+W111,0))","v":10276571},71.422000645248261,null,0,0,0,2.0006452482590475E-3,null,7.5632231801833509E-3,0.54218117610346894,0,null,null,null,null,"102","Freetown",0.71422000645248251,71.42,10276571,2.0006452482590475E-3]
[103,"Gardner",1481985500,4906642.2055263873,462479000,6537045.8988301307,11443688,33741271.47078643,0.33915995163098916,27836549,11443688,33.92,null,10982893,3.73E-2,11392555,33.76445078503874,0.15554921496126184,0,0,0,0,0,{"$f":"MIN(H112*parameters!C$22,ROUND(P112+T112-V112+W112,0))","v":11392555},33.76445078503874,null,-51133,-51133,0,-0.15554921496126184,null,-4.468227375650227E-3,-0.15554921496126184,0,null,null,null,null,"103","Gardner",0.33915995163098916,33.92,11392555,-0.15554921496126184]
[104,"Aquinnah",810687000,2684068.8047700669,14482000,204700.10250596883,2888769,767257.48092706315,3.7650581086671888,632987,632987,82.5,null,621391,2.86E-2,639163,83.304889934433888,0,0,0,6176,6176,0,{"$f":"MIN(H113*parameters!C$22,ROUND(P113+T113-V113+W113,0))","v":632987},82.499945029558191,null,0,0,0,-5.4970441809132353E-5,null,9.7569144390011169E-3,0.80488993443388779,0,null,null,null,null,"104","Aquinnah",3.7650581086671888,82.5,632987,-5.4970441809132353E-5]
[105,"Georgetown",1425622900,4720033.6914935559,459139000,6489835.6832266273,11209869,13968488.877113789,0.80251121639696055,11524003,11209869,80.25,null,11076353,3.15E-2,11425258,81.793085139791586,0,0,0,215389,215389,0,{"$f":"MIN(H114*parameters!C$22,ROUND(P114+T114-V114+W114,0))","v":11209869},80.251121639696052,null,0,0,0,1.1216396960520569E-3,null,1.9214229889751612E-2,1.5430851397915859,0,null,null,null,null,"105","Georgetown",0.80251121639696055,80.25,11209869,1.1216396960520569E-3]
[106,"Gill",173933200,575867.96906060295,38825000,548783.41940299957,1124651,1657837.8943968413,0.67838417966020337,1367716,1124651,67.84,null,1145145,3.7100000000000001E-2,1187630,71.637281546884083,0,0,0,62979,62979,0,{"$f":"MIN(H115*parameters!C$22,ROUND(P115+T115-V115+W115,0))","v":1124651},67.83841796602033,null,0,0,0,-1.5820339796732696E-3,null,5.5998705376156692E-2,3.7972815468840793,0,null,null,null,null,"106","Gill",0.67838417966020337,67.84,1124651,-1.5820339796732696E-3]
[107,"Gloucester",7571872500,25069387.779681109,1213317000,17149987.175268237,42219375,40998900.046846651,1.0297684804167624,33824093,33824093,82.5,null,33097862,3.6900000000000002E-2,34319173,83.707545716557803,0,0,0,495080,495080,0,{"$f":"MIN(H116*parameters!C$22,ROUND(P116+T116-V116+W116,0))","v":33824093},82.500001125277777,null,0,0,0,1.1252777767367661E-6,null,1.4636903937084137E-2,1.207545716557803,0,null,null,null,null,"107","Gloucester",1.0297684804167624,82.5,33824093,1.1252777767367661E-6]
[108,"Goshen",173818900,575489.538094786,14647000,207032.34369596225,782522,1204481.0704089021,0.64967563146039831,993697,782522,64.97,null,763317,3.2300000000000002E-2,787972,65.420040161569005,0,0,0,5450,5450,0,{"$f":"MIN(H117*parameters!C$22,ROUND(P117+T117-V117+W117,0))","v":782522},64.967563146039836,null,0,0,0,-2.4368539601624661E-3,null,6.9646604184930268E-3,0.45004016156900661,0,null,null,null,null,"108","Goshen",0.64967563146039831,64.97,782522,-2.4368539601624661E-3]
[109,"Gosnold",229578500,760101.60530007863,1900000,26856.110672651623,786958,41676.320000000007,18.88261727522967,34383,34383,82.5,null,6810,6.7400000000000002E-2,7269,17.441559139578541,65.058440860421456,0.02,136,0,0,26978,{"$f":"MIN(H118*parameters!C$22,ROUND(P118+T118-V118+W118,0))","v":34383},82.500086379987465,null,-27114,0,0,8.6379987465079466E-5,null,-0.78858738329988654,-65.058440860421456,136.19999999999999,null,null,null,null,"109","Gosnold",18.88261727522967,82.5,34383,8.6379987465079466E-5]
[110,"Grafton",2853771800,9448430.608005954,961612000,13592188.576920984,23040619,34166049.645669498,0.67437175906932423,28186991,23040619,67.44,null,22883718,4.0500000000000001E-2,23810509,69.690553186379134,0,0,0,769890,769890,0,{"$f":"MIN(H119*parameters!C$22,ROUND(P119+T119-V119+W119,0))","v":23040619},67.437175906932424,null,0,0,0,-2.8240930675735854E-3,null,3.3414466859592616E-2,2.2505531863791362,0,null,null,null,null,"110","Grafton",0.67437175906932423,67.44,23040619,-2.8240930675735854E-3]
[111,"Granby",698314800,2312020.5092585036,215417000,3044875.1540897866,5356896,8652070.3417541087,0.61914614518886935,7137958,5356896,61.91,null,5345120,3.4799999999999998E-2,5531130,63.928398423984916,0,0,0,174234,174234,0,{"$f":"MIN(H120*parameters!C$22,ROUND(P120+T120-V120+W120,0))","v":5356896},61.914614518886935,null,0,0,0,4.6145188869388676E-3,null,3.2525178760237271E-2,2.0183984239849195,0,null,null,null,null,"111","Granby",0.61914614518886935,61.91,5356896,4.6145188869388676E-3]
[112,"Granville",210428400,696698.36086884036,54671000,772763.38241291407,1469462,2018727.7638779946,0.72791489089997452,1665450,1469462,72.790000000000006,null,1482039,4.2099999999999999E-2,1544433,76.505263742602423,0,0,0,74971,74971,0,{"$f":"MIN(H121*parameters!C$22,ROUND(P121+T121-V121+W121,0))","v":1469462},72.791489089997455,null,0,0,0,1.4890899974489002E-3,null,5.1019352661041933E-2,3.7152637426024171,0,null,null,null,null,"112","Granville",0.72791489089997452,72.790000000000006,1469462,1.4890899974489002E-3]
[113,"Great Barrington",1600428300,5298789.3901113374,308304000,4357813.865695361,9656603,8849612.5860873349,1.0911893493712201,7300930,7300930,82.5,null,7180359,5.2000000000000005E-2,7553738,85.356708291110877,0,0,0,252808,252808,0,{"$f":"MIN(H122*parameters!C$22,ROUND(P122+T122-V122+W122,0))","v":7300930},82.49999566622779,null,0,0,0,-4.3337722104297427E-6,null,3.4626821514519381E-2,2.856708291110877,0,null,null,null,null,"113","Great Barrington",1.0911893493712201,82.5,7300930,-4.3337722104297427E-6]
[114,"Greenfield",1635101600,5413587.7313804515,404113000,5712054.4485564549,11125642,25888308.695819318,0.42975545952898309,21357855,11125642,42.98,null,11026454,2.6800000000000001E-2,11321963,43.733884407166293,0,0,0,196321,196321,0,{"$f":"MIN(H123*parameters!C$22,ROUND(P123+T123-V123+W123,0))","v":11125642},42.975545952898308,null,0,0,0,-4.4540471016887295E-3,null,1.7645813158467621E-2,0.75388440716629646,0,null,null,null,null,"114","Greenfield",0.42975545952898309,42.98,11125642,-4.4540471016887295E-3]
[115,"Groton",2033204400,6731649.2108066874,803259000,11353901.369896563,18085551,19238545.291412842,0.94006853044510164,15871800,15871800,82.5,null,15823797,3.6600000000000001E-2,16402948,85.260853934322597,0,0,0,531148,531148,0,{"$f":"MIN(H124*parameters!C$22,ROUND(P124+T124-V124+W124,0))","v":15871800},82.50000069955604,null,0,0,0,6.9955603976268321E-7,null,3.3464887410375635E-2,2.7608539343225971,0,null,null,null,null,"115","Groton",0.94006853044510164,82.5,15871800,6.9955603976268321E-7]
[116,"Groveland",1116385500,3696192.8520472557,290488000,4105988.3563564336,7802181,10314593.296807004,0.75642158401100035,8509539,7802181,75.64,null,7470948,3.2599999999999997E-2,7714501,74.792100648196268,0.84789935180373277,0,0,0,0,0,{"$f":"MIN(H125*parameters!C$22,ROUND(P125+T125-V125+W125,0))","v":7714501},74.792100648196268,null,-87680,-87680,0,-0.84789935180373277,null,-1.1237883355948804E-2,-0.84789935180373277,0,null,null,null,null,"116","Groveland",0.75642158401100035,75.64,7714501,-0.84789935180373277]
[117,"Hadley",1106994300,3665099.9309083247,195843000,2768200.6749811112,6433301,5848652.0300000003,1.0999630285749791,4825138,4825138,82.5,null,4885500,-7.1999999999999998E-3,4850324,82.930630427674799,0,0,0,25186,25186,0,{"$f":"MIN(H126*parameters!C$22,ROUND(P126+T126-V126+W126,0))","v":4825138},82.500001286621256,null,0,0,0,1.2866212557582912E-6,null,5.21974708288136E-3,0.43063042767479942,0,null,null,null,null,"117","Hadley",1.0999630285749791,82.5,4825138,1.2866212557582912E-6]
[118,"Halifax",1059770900,3508750.0020267973,278799000,3940766.7365392628,7449517,13411842.11648708,0.55544323705111043,11064770,7449517,55.54,null,7282905,2.86E-2,7491196,55.855086385121751,0,0,0,41679,41679,0,{"$f":"MIN(H127*parameters!C$22,ROUND(P127+T127-V127+W127,0))","v":7449517},55.54432370511104,null,0,0,0,4.3237051110409652E-3,null,5.59485937141965E-3,0.31508638512175224,0,null,null,null,null,"118","Halifax",0.55544323705111043,55.54,7449517,4.3237051110409652E-3]
[119,"Hamilton",1756199200,5814524.5793779194,620295000,8767742.7208907567,14582267,12005263.822006235,1.2146561055384715,9904343,9904343,82.5,null,9956066,2.4299999999999999E-2,10197998,84.94605492389573,0,0,0,293655,293655,0,{"$f":"MIN(H128*parameters!C$22,ROUND(P128+T128-V128+W128,0))","v":9904343},82.500002889106483,null,0,0,0,2.8891064829394963E-6,null,2.9649114534906557E-2,2.4460549238957299,0,null,null,null,null,"119","Hamilton",1.2146561055384715,82.5,9904343,2.8891064829394963E-6]
[120,"Hampden",662234900,2192565.116401305,211978000,2996265.593772287,5188831,6495418.0294116978,0.7988448128364668,5358720,5188831,79.88,null,5348433,3.2500000000000001E-2,5522257,85.01773057553558,0,0,0,333426,333426,0,{"$f":"MIN(H129*parameters!C$22,ROUND(P129+T129-V129+W129,0))","v":5188831},79.884481283646679,null,0,0,0,4.4812836466832096E-3,null,6.4258404253289422E-2,5.1377305755355849,0,null,null,null,null,"120","Hampden",0.7988448128364668,79.88,5188831,4.4812836466832096E-3]
[121,"Hancock",322918000,1069135.3510032115,9915000,140146.49332596886,1209282,935475.98,1.2926916626977425,771768,771768,82.5,null,673593,4.0000000000000001E-3,676287,72.293358082801873,10.206641917198127,0.02,13472,0,0,0,{"$f":"MIN(H130*parameters!C$22,ROUND(P130+T130-V130+W130,0))","v":689759},73.733480575310978,null,-95481,-82009,0,-8.7665194246890223,null,-0.12371723108498928,-10.206641917198127,13471.86,null,null,null,null,"121","Hancock",1.2926916626977425,82.5,689759,-8.7665194246890223]
[122,"Hanover",3073778500,10176841.351375967,851870000,12041007.894058809,22217849,28885816.731059384,0.76916118408070933,23830799,22217849,76.92,null,21680518,3.8199999999999998E-2,22508714,77.92306587543213,0,0,0,290865,290865,0,{"$f":"MIN(H131*parameters!C$22,ROUND(P131+T131-V131+W131,0))","v":22217849},76.916118408070929,null,0,0,0,-3.8815919290726697E-3,null,1.30915013420066E-2,1.003065875432128,0,null,null,null,null,"122","Hanover",0.76916118408070933,76.92,22217849,-3.8815919290726697E-3]
[123,"Hanson",1526710200,5054719.295787733,415143000,5867961.2384087434,10922681,17288476.936122458,0.63178966200187392,14262993,10922681,63.18,null,10176049,4.3099999999999999E-2,10614637,61.397178243167446,1.7828217568325542,0,0,0,0,0,{"$f":"MIN(H132*parameters!C$22,ROUND(P132+T132-V132+W132,0))","v":10614637},61.397178243167446,null,-308044,-308044,0,-1.7828217568325542,null,-2.8202233499266344E-2,-1.7828217568325542,0,null,null,null,null,"123","Hanson",0.63178966200187392,63.18,10614637,-1.7828217568325542]
[124,"Hardwick",270761600,896452.96407815954,64626000,913475.26754251774,1809928,4564408.9499186389,0.39653063953269618,3765637,1809928,39.65,null,1685972,1.24E-2,1706878,37.395378431865211,2.2546215681347874,0,0,0,0,0,{"$f":"MIN(H133*parameters!C$22,ROUND(P133+T133-V133+W133,0))","v":1706878},37.395378431865211,null,-103050,-103050,0,-2.2546215681347874,null,-5.6935966513585068E-2,-2.2546215681347874,16859.72,null,null,null,null,"124","Hardwick",0.39653063953269618,39.65,1706878,-2.2546215681347874]
[125,"Harvard",1320082000,4370602.8540466046,469429000,6635282.7247116724,11005886,9452724.9232363291,1.1643082909295022,7798498,7798498,82.5,null,7860118,3.2300000000000002E-2,8114000,85.837682423768342,0,0,0,315502,315502,0,{"$f":"MIN(H134*parameters!C$22,ROUND(P134+T134-V134+W134,0))","v":7798498},82.499999347595832,null,0,0,0,-6.5240416802225809E-7,null,4.0456764879596048E-2,3.3376824237683422,0,null,null,null,null,"125","Harvard",1.1643082909295022,82.5,7798498,-6.5240416802225809E-7]
[126,"Harwich",6396397000,21177556.381963499,503299000,7114028.2344394149,28291585,17014128.018685602,1.6628289718361728,14036656,14036656,82.5,null,14035133,1.1000000000000001E-3,14050572,82.581793110814118,0,0,0,13916,13916,0,{"$f":"MIN(H135*parameters!C$22,ROUND(P135+T135-V135+W135,0))","v":14036656},82.500002260382544,null,0,0,0,2.2603825442502057E-6,null,9.914042204924021E-4,8.1793110814118108E-2,0,null,null,null,null,"126","Harwich",1.6628289718361728,82.5,14036656,2.2603825442502057E-6]
[127,"Hatfield",610123900,2020033.04238831,130093000,1838837.8977564564,3858871,3871585.5500000003,0.99671593205527897,3194058,3194058,82.5,null,3167592,3.7900000000000003E-2,3287644,84.917250504770578,0,0,0,93586,93586,0,{"$f":"MIN(H136*parameters!C$22,ROUND(P136+T136-V136+W136,0))","v":3194058},82.499997965949632,null,0,0,0,-2.0340503681381961E-6,null,2.9300031495984105E-2,2.4172505047705783,0,null,null,null,null,"127","Hatfield",0.99671593205527897,82.5,3194058,-2.0340503681381961E-6]
[128,"Haverhill",7590825800,25132139.447436295,2007640000,28377580.016232789,53509719,125479224.69611442,0.42644285641379948,103520360,53509719,42.64,null,50202503,2.4299999999999999E-2,51422424,40.980827005055879,1.6591729949441216,0,0,0,0,0,{"$f":"MIN(H137*parameters!C$22,ROUND(P137+T137-V137+W137,0))","v":51422424},40.980827005055879,null,-2087295,-2087295,0,-1.6591729949441216,null,-3.9007773522413754E-2,-1.6591729949441216,0,null,null,null,null,"128","Haverhill",0.42644285641379948,42.64,51422424,-1.6591729949441216]
[129,"Hawley",51879800,171766.6038529175,8262000,116781.67704076195,288548,357719.65874399908,0.80663165399723935,{"$f":"ROUND(H138*maxloc,0)","v":295119},288548,80.66,null,266791,3.5900000000000001E-2,276369,77.258544014709173,3.4014559852908235,0.01,2668,0,{"$f":"MAX(U138*(V$5),0)","v":0},0,{"$f":"MIN(H138*parameters!C$22,ROUND(P138+T138-V138+W138,0))","v":279037},78.004379457292259,null,-12179,-9511,0,-2.6556205427077373,null,{"$f":"(P138-K138)/K138","v":-4.2207882224101365E-2},-3.4014559852908235,{"$f":"IF(AF138<$AH$5, $AH$6*(N138), IF(AND(AF138<$AH$4, AF138>$AH$5), $AH$7*(N138), 0))","v":0},null,null,null,null,"129","Hawley",0.80663165399723935,{"$f":"L138","v":80.66},{"$f":"X138","v":279037},-2.6556205427077373]
[130,"Heath",96423600,{"$f":"D$5*C139","v":319244.76006600208},9383000,132626.78233762641,{"$f":"ROUND(D139+F139,0)","v":451872},{"$f":"(SUMIF(town1755,A139,found1755)/2)","v":1067758.7508058154},{"$f":"G139/H139","v":0.42319671897699884},880901,{"$f":"MIN(G139,J139)","v":451872},{"$f":"IF(H139>0, ROUND((K139*100/H139), 2), 0)","v":42.32},null,470069,4.0599999999999997E-2,{"$f":"ROUND(N139*(1+O139),0)","v":489154},{"$f":"P139*100/H139","v":45.811284583792506},{"$f":"IF(L139>Q139,L139-Q139,0)","v":0},{"$f":"IF(AND(R139>$T$4,R139<=$T$5),$S$4,IF(R139>$T$5,$S$5,0))","v":0},{"$f":"ROUND(S139*N139,0)","v":0},{"$f":"MAX(P139-K139,0)","v":37282},37282,{"$f":"IF(AND(I139>1.75,$W$5=1),MAX(K139-(P139+T139),0),0)","v":0},{"$f":"MIN(H139*parameters!C$22,ROUND(P139+T139-V139+W139,0))","v":451872},{"$f":"X139*100/H139","v":42.319671897699884},null,{"$f":"IF(Q139<L139, P139-K139, 0)","v":0},{"$f":"-1*MAX(K139-(P139+T139+W139),0)","v":0},{"$f":"IF(Q139>L139, X139-K139,0)","v":0},{"$f":"Y139-L139","v":-3.28102300116484E-4},null,8.2505665321152888E-2,{"$f":"Q139-L139","v":3.4912845837925062},0,null,null,null,null,{"$f":"TEXT(A139,\"000\")","v":"130"},{"$f":"B139","v":"Heath"},{"$f":"I139","v":0.42319671897699884},42.32,451872,{"$f":"AD139","v":-3.28102300116484E-4}]
[131,"Hingham",7942260800,26295690.510182295,2988570000,{"$f":"E140*F$5","v":42242824.564719185},68538515,43173159.772249997,1.5875260314871336,35617857,35617857,82.5,null,37505081,1.66E-2,38127665,88.313353021028959,0,0,0,2509808,2509808,0,{"$f":"MIN(H140*parameters!C$22,ROUND(P140+T140-V140+W140,0))","v":35617857},82.500000435209643,null,0,0,0,4.3520964254639694E-7,null,7.046487945639178E-2,5.8133530210289592,0,null,null,null,null,"131","Hingham",1.5875260314871336,82.5,35617857,4.3520964254639694E-7]
[132,"Hinsdale",323523800,1071141.068230612,67709000,957052.8408076677,2028194,2319259.4373007934,0.87450069939586328,1913389,1913389,82.5,null,1810809,3.8199999999999998E-2,1879982,81.059581768392661,1.4404182316073388,0,0,0,0,0,{"$f":"MIN(H141*parameters!C$22,ROUND(P141+T141-V141+W141,0))","v":1879982},81.059581768392661,null,-33407,-33407,0,-1.4404182316073388,null,-1.7459596558776078E-2,-1.4404182316073388,0,null,null,null,null,"132","Hinsdale",0.87450069939586328,82.5,1879982,-1.4404182316073388]
[133,"Holbrook",1455967400,4820499.9945751959,359991000,5088399.0195571212,9908899,19478683.459862303,0.50870476027901157,16069914,9908899,50.87,null,9351037,2.7000000000000003E-2,9603515,49.302690398912041,1.5673096010879561,0,0,0,0,0,{"$f":"MIN(H142*parameters!C$22,ROUND(P142+T142-V142+W142,0))","v":9603515},49.302690398912041,null,-305384,-305384,0,-1.5673096010879561,null,-3.0819165681272964E-2,-1.5673096010879561,0,null,null,null,null,"133","Holbrook",0.50870476027901157,50.87,9603515,-1.5673096010879561]
[134,"Holden",2669892800,8839633.5164622199,893156000,12624577.044180438,21464211,36333885.322556496,0.59074912604171104,29975455,21464211,59.07,null,20855299,3.8300000000000001E-2,21654057,59.597416592705848,0,0,0,189846,189846,0,{"$f":"MIN(H143*parameters!C$22,ROUND(P143+T143-V143+W143,0))","v":21464211},59.074912604171097,null,0,0,0,4.9126041710962909E-3,null,8.8447695561695693E-3,0.52741659270584762,0,null,null,null,null,"134","Holden",0.59074912604171104,59.07,21464211,4.9126041710962909E-3]
[135,"Holland",368404300,1219733.990027166,89712000,1268060.7371920643,2487795,3773125.304700871,0.6593459795518849,3112828,2487795,65.930000000000007,null,2381488,1.83E-2,2425069,64.272156479368675,1.6578435206313316,0,0,0,0,0,{"$f":"MIN(H144*parameters!C$22,ROUND(P144+T144-V144+W144,0))","v":2425069},64.272156479368675,null,-62726,-62726,0,-1.6578435206313316,null,-2.5213492269258519E-2,-1.6578435206313316,0,null,null,null,null,"135","Holland",0.6593459795518849,65.930000000000007,2425069,-1.6578435206313316]
[136,"Holliston",2882048100,9542049.3964462765,908667000,12843821.850834912,22385871,29662708.548651639,0.75468061061529668,24471735,22385871,75.47,null,22057569,4.1200000000000001E-2,22966341,77.424962600200473,0,0,0,580470,580470,0,{"$f":"MIN(H145*parameters!C$22,ROUND(P145+T145-V145+W145,0))","v":22385871},75.468061061529667,null,0,0,0,-1.9389384703316637E-3,null,2.593019498772239E-2,1.9549626002004743,0,null,null,null,null,"136","Holliston",0.75468061061529668,75.47,22385871,-1.9389384703316637E-3]
[137,"Holyoke",2379718800,7878908.870137128,736279000,10407152.794710139,18286062,93693634.540000007,0.19516866956626869,77297248,18286062,19.52,null,11207668,5.4000000000000003E-3,11268189,12.026632391114411,7.4933676088855883,0.01,112077,0,0,0,{"$f":"MIN(H146*parameters!C$22,ROUND(P146+T146-V146+W146,0))","v":11380266},12.146253110867951,null,-7017873,-6905796,0,-7.3737468891320486,null,-0.38378263182089178,-7.4933676088855883,224153.36000000002,null,null,null,null,"137","Holyoke",0.19516866956626869,19.52,11380266,-7.3737468891320486]
[138,"Hopedale",867520800,2872237.3946654778,262914000,3716235.5165208043,6588473,11172865.826540105,0.58968514455348553,9217614,6588473,58.97,null,6408697,3.8100000000000002E-2,6652868,59.544866136284661,0,0,0,64395,64395,0,{"$f":"MIN(H147*parameters!C$22,ROUND(P147+T147-V147+W147,0))","v":6588473},58.968514455348547,null,0,0,0,-1.4855446514516757E-3,null,9.7738884260434849E-3,0.57486613628466188,0,null,null,null,null,"138","Hopedale",0.58968514455348553,58.97,6588473,-1.4855446514516757E-3]
[139,"Hopkinton",4454778900,14749136.322203161,1570790000,22202794.780786548,36951931,44036856.967543498,0.83911372301694231,36330407,36330407,82.5,null,34772602,5.779999999999999E-2,36782458,83.526528760010706,0,0,0,452051,452051,0,{"$f":"MIN(H148*parameters!C$22,ROUND(P148+T148-V148+W148,0))","v":36330407},82.500000004034376,null,0,0,0,4.0343763885175576E-9,null,1.2442772799104617E-2,1.0265287600107058,0,null,null,null,null,"139","Hopkinton",0.83911372301694231,82.5,36330407,4.0343763885175576E-9]
[140,"Hubbardston",527028100,1744914.7234965398,169203000,2391649.7337603536,4136564,6482902.6308179563,0.63807282564077072,5348395,4136564,63.81,null,3899091,2.0099999999999996E-2,3977463,61.353119528468966,2.4568804715310364,0,0,0,0,0,{"$f":"MIN(H149*parameters!C$22,ROUND(P149+T149-V149+W149,0))","v":3977463},61.353119528468966,null,-159101,-159101,0,-2.4568804715310364,null,-3.8462114934037041E-2,-2.4568804715310364,0,null,null,null,null,"140","Hubbardston",0.63807282564077072,63.81,3977463,-2.4568804715310364]
[141,"Hudson",3166995200,10485468.523827987,817996000,11562205.845150704,22047674,34481749.822181284,0.63940125178384244,28447444,22047674,63.94,null,21185151,2.35E-2,21683002,62.882545438723191,1.0574545612768063,0,0,0,0,0,{"$f":"MIN(H150*parameters!C$22,ROUND(P150+T150-V150+W150,0))","v":21683002},62.882545438723191,null,-364672,-364672,0,-1.0574545612768063,null,-1.6540157478743562E-2,-1.0574545612768063,0,null,null,null,null,"141","Hudson",0.63940125178384244,63.94,21683002,-1.0574545612768063]
[142,"Hull",2567554800,8500807.0232008751,460088000,6503249.6037678625,15004057,10290637.225959999,1.4580299227874387,8489776,8489776,82.5,null,8718484,2.2099999999999998E-2,8911162,86.594851264603676,0,0,0,421386,421386,0,{"$f":"MIN(H151*parameters!C$22,ROUND(P151+T151-V151+W151,0))","v":8489776},82.50000280432586,null,0,0,0,2.8043258595289444E-6,null,4.9634525104078127E-2,4.0948512646036761,0,null,null,null,null,"142","Hull",1.4580299227874387,82.5,8489776,2.8043258595289444E-6]
[143,"Huntington",203312000,673136.97744679742,69129000,977124.24983670202,1650261,3594049.395388586,0.45916480783970276,2965091,1650261,45.92,null,1680187,3.9600000000000003E-2,1746722,48.600389361402911,0,0,0,96461,96461,0,{"$f":"MIN(H152*parameters!C$22,ROUND(P152+T152-V152+W152,0))","v":1650261},45.916480783970279,null,0,0,0,-3.519216029722827E-3,null,5.8451966082940822E-2,2.6803893614029093,0,null,null,null,null,"143","Huntington",0.45916480783970276,45.92,1650261,-3.519216029722827E-3]
[144,"Ipswich",3246602500,10749036.91774817,843632000,11924565.452100227,22673602,18849686.376070093,1.2028636205207326,15550991,15550991,82.5,null,15594806,2.3300000000000001E-2,15958165,84.660108829498,0,0,0,407174,407174,0,{"$f":"MIN(H153*parameters!C$22,ROUND(P153+T153-V153+W153,0))","v":15550991},82.499998619298907,null,0,0,0,-1.3807010930122487E-6,null,2.6183154501214747E-2,2.1601088294980002,0,null,null,null,null,"144","Ipswich",1.2028636205207326,82.5,15550991,-1.3807010930122487E-6]
[145,"Kingston",2303085100,7625185.640870953,611304000,8640656.7782287505,16265842,24386013.453770623,0.66701521471870329,20118461,16265842,66.7,null,15625360,3.1199999999999995E-2,16112871,66.074231569443299,0.62576843055670395,0,0,0,0,0,{"$f":"MIN(H154*parameters!C$22,ROUND(P154+T154-V154+W154,0))","v":16112871},66.074231569443299,null,-152971,-152971,0,-0.62576843055670395,null,-9.4044316918853628E-3,-0.62576843055670395,0,null,null,null,null,"145","Kingston",0.66701521471870329,66.7,16112871,-0.62576843055670395]
[146,"Lakeville",2033953800,6734130.3671127521,491877000,6952580.6049115062,13686711,19457323.701535817,0.70342207437910242,16052292,13686711,70.34,null,12963264,4.2599999999999999E-2,13515499,69.462271416768317,0.87772858323168634,0,0,0,0,0,{"$f":"MIN(H155*parameters!C$22,ROUND(P155+T155-V155+W155,0))","v":13515499},69.462271416768317,null,-171212,-171212,0,-0.87772858323168634,null,-1.2509360356918475E-2,-0.87772858323168634,0,null,null,null,null,"146","Lakeville",0.70342207437910242,70.34,13515499,-0.87772858323168634]
[147,"Lancaster",1088038600,3602340.3170961137,356212000,5034983.6289087264,8637324,11902527.473472599,0.72567141888562547,9819585,8637324,72.569999999999993,null,7827706,3.4700000000000002E-2,8099327,68.047118715341199,4.5228812846587942,0.01,78277,0,0,0,{"$f":"MIN(H156*parameters!C$22,ROUND(P156+T156-V156+W156,0))","v":8177604},68.704768951179403,null,-537997,-459720,0,-3.8652310488205899,null,-6.2287463107786628E-2,-4.5228812846587942,78277.06,null,null,null,null,"147","Lancaster",0.72567141888562547,72.569999999999993,8177604,-3.8652310488205899]
[148,"Lanesborough",426435400,1411866.6691209374,85047000,1202121.9180931591,2613989,4600163.755415827,0.56823824954546887,3795135,2613989,56.82,null,2651132,2.5899999999999999E-2,2719796,59.123895248249632,0,0,0,105807,105807,0,{"$f":"MIN(H157*parameters!C$22,ROUND(P157+T157-V157+W157,0))","v":2613989},56.823824954546886,null,0,0,0,3.8249545468858059E-3,null,4.0477217004356178E-2,2.3038952482496313,0,null,null,null,null,"148","Lanesborough",0.56823824954546887,56.82,2613989,3.8249545468858059E-3]
[149,"Lawrence",5310863600,17583510.424058676,1439231000,20343235.273426875,37926746,260261641.05732384,0.14572545476129714,214715854,37926746,14.57,null,12903347,2.3300000000000001E-2,13203995,5.073354239356294,9.4966457606437054,0.02,258067,0,0,0,{"$f":"MIN(H158*parameters!C$22,ROUND(P158+T158-V158+W158,0))","v":13462062},5.17251099520844,null,-24722751,-24464684,0,-9.3974890047915594,null,-0.65185531603475821,-9.4966457606437054,258066.94,null,null,null,null,"149","Lawrence",0.14572545476129714,14.57,13462062,-9.3974890047915594]
[150,"Lee",1039758100,3442490.4811807713,188035000,2657836.1949116038,6100327,7346478.3700000001,0.83037432260213673,6060845,6060845,82.5,null,6036549,5.0700000000000002E-2,6342602,86.33527086801999,0,0,0,281757,281757,0,{"$f":"MIN(H159*parameters!C$22,ROUND(P159+T159-V159+W159,0))","v":6060845},82.50000469272463,null,0,0,0,4.6927246302175263E-6,null,4.6488072207753209E-2,3.8352708680199896,0,null,null,null,null,"150","Lee",0.83037432260213673,82.5,6060845,4.6927246302175263E-6]
[151,"Leicester",1145368600,3792151.7542814487,356770000,5042870.8445694307,8835023,17880645.889999997,0.49411095406464656,14751533,8835023,49.41,null,8592877,3.3099999999999997E-2,8877301,49.647541003900514,0,0,0,42278,42278,0,{"$f":"MIN(H160*parameters!C$22,ROUND(P160+T160-V160+W160,0))","v":8835023},49.411095406464661,null,0,0,0,1.0954064646639949E-3,null,4.7852733377151367E-3,0.23754100390051747,0,null,null,null,null,"151","Leicester",0.49411095406464656,49.41,8835023,1.0954064646639949E-3]
[152,"Lenox",1351518200,4474683.6198175028,268376000,3793439.7673071325,8268123,5870128.3400000008,1.4085080463504822,4842856,4842856,82.5,null,4728371,1.1900000000000001E-2,4784639,81.508251998456302,0.99174800154369791,0,0,0,0,0,{"$f":"MIN(H161*parameters!C$22,ROUND(P161+T161-V161+W161,0))","v":4784639},81.508251998456302,null,-58217,-58217,0,-0.99174800154369791,null,-1.2021212276392277E-2,-0.99174800154369791,0,null,null,null,null,"152","Lenox",1.4085080463504822,82.5,4784639,-0.99174800154369791]
[153,"Leominster",4405389500,14585615.076856546,1270113000,17952786.997249246,32538402,81156930.920000002,0.40093189369216725,66954468,32538402,40.090000000000003,null,30886014,3.6499999999999998E-2,32013354,39.446235382603348,0.64376461739665558,0,0,0,0,0,{"$f":"MIN(H162*parameters!C$22,ROUND(P162+T162-V162+W162,0))","v":32013354},39.446235382603348,null,-525048,-525048,0,-0.64376461739665558,null,-1.6136256476270715E-2,-0.64376461739665558,0,null,null,null,null,"153","Leominster",0.40093189369216725,40.090000000000003,32013354,-0.64376461739665558]
[154,"Leverett",291826100,966194.51332969451,87249000,1233246.7368832533,2199441,2192083.6428227234,1.0033563304946715,1808469,1808469,82.5,null,1911000,4.6699999999999998E-2,2000244,91.248525417775866,0,0,0,191775,191775,0,{"$f":"MIN(H163*parameters!C$22,ROUND(P163+T163-V163+W163,0))","v":1808469},82.499999756909517,null,0,0,0,-2.4309048285431345E-7,null,0.10604273559568896,8.7485254177758662,0,null,null,null,null,"154","Leverett",1.0033563304946715,82.5,1808469,-2.4309048285431345E-7]
[155,"Lexington",13471181900,44601158.154963829,6516414000,92108176.617271811,136709335,82002930.322854608,1.6671274363216073,67652418,67652418,82.5,null,68152800,3.7600000000000001E-2,70715345,86.235143941302908,0,0,0,3062927,3062927,0,{"$f":"MIN(H164*parameters!C$22,ROUND(P164+T164-V164+W164,0))","v":67652418},82.500000589789835,null,0,0,0,5.8978983474844426E-7,null,4.5274464543159421E-2,3.7351439413029084,0,null,null,null,null,"155","Lexington",1.6671274363216073,82.5,67652418,5.8978983474844426E-7]
[156,"Leyden",95052200,314704.25064761785,29721000,420100.24489572569,734804,611322.34274550166,1.2019910751174765,504341,504341,82.5,null,576745,1.9900000000000001E-2,588222,96.22125004596495,0,0,0,83881,83881,0,{"$f":"MIN(H165*parameters!C$22,ROUND(P165+T165-V165+W165,0))","v":504341},82.500010998282974,null,0,0,0,1.0998282974128415E-5,null,0.16631802689053637,13.72125004596495,0,null,null,null,null,"156","Leyden",1.2019910751174765,82.5,504341,1.0998282974128415E-5]
[157,"Lincoln",2323751900,7693610.4622562984,1094909000,15476314.358148586,23169925,8677701.5208477248,2.6700532329137463,7159104,7159104,82.5,null,6951751,2.29E-2,7110946,81.945040203518445,0.55495979648155469,0,0,0,0,48158,{"$f":"MIN(H166*parameters!C$22,ROUND(P166+T166-V166+W166,0))","v":7159104},82.500002826792624,null,-48158,0,0,2.8267926239777807E-6,null,-6.7268194455619027E-3,-0.55495979648155469,0,null,null,null,null,"157","Lincoln",2.6700532329137463,82.5,7159104,2.8267926239777807E-6]
[158,"Littleton",2226110600,7370334.0715072239,554681000,7840302.2757984595,15210636,16860161.126952272,0.90216433196979484,13909633,13909633,82.5,null,14353167,3.5000000000000003E-2,14855528,88.110237429773363,0,0,0,945895,945895,0,{"$f":"MIN(H167*parameters!C$22,ROUND(P167+T167-V167+W167,0))","v":13909633},82.500000416747952,null,0,0,0,4.1674795170365542E-7,null,6.8002872541640752E-2,5.6102374297733633,0,null,null,null,null,"158","Littleton",0.90216433196979484,82.5,13909633,4.1674795170365542E-7]
[159,"Longmeadow",2309114600,7645148.4537177868,1221303000,17262867.648863919,24908016,29088744.440000001,0.85627676544708231,23998214,23998214,82.5,null,24121262,2.0400000000000001E-2,24613336,84.614638664686211,0,0,0,615122,615122,0,{"$f":"MIN(H168*parameters!C$22,ROUND(P168+T168-V168+W168,0))","v":23998214},82.499999439645805,null,0,0,0,-5.6035419504496531E-7,null,2.5631990780647259E-2,2.1146386646862112,0,null,null,null,null,"159","Longmeadow",0.85627676544708231,82.5,23998214,-5.6035419504496531E-7]
[160,"Lowell",9848176600,32605905.356724039,2589681000,36604610.285717435,69210516,267026771.49606213,0.25918942738301676,220297086,69210516,25.92,null,59561326,3.7900000000000003E-2,61818700,23.150749886856062,2.76925011314394,0.01,595613,0,0,0,{"$f":"MIN(H169*parameters!C$22,ROUND(P169+T169-V169+W169,0))","v":62414313},23.373803551723814,null,-7391816,-6796203,0,-2.5461964482761879,null,{"$f":"(P169-K169)/K169","v":-0.10680192010127479},-2.76925011314394,1191226.52,null,null,null,null,"160","Lowell",0.25918942738301676,25.92,62414313,-2.5461964482761879]
[161,"Ludlow",2262713800,7491522.0358815873,644575000,9110935.5456970632,16602458,28762531.389999997,0.57722520229120911,23729088,16602458,57.72,null,16443714,2.1000000000000001E-2,16789032,58.371190533796764,0,0,0,186574,186574,0,{"$f":"MIN(H170*parameters!C$22,ROUND(P170+T170-V170+W170,0))","v":16602458},57.72252022912091,null,0,0,0,2.5202291209112104E-3,null,{"$f":"(P170-K170)/K170","v":1.1237733593423335E-2},{"$f":"Q170-L170","v":0.65119053379676473},0,null,null,null,null,"161","Ludlow",0.57722520229120911,57.72,16602458,2.5202291209112104E-3]
[162,"Lunenburg",1672175900,5536335.4405316859,458091000,6475022.4179713968,12011358,19848291.350538723,0.60515828732401122,16374840,12011358,60.52,null,11342252,3.85E-2,11778929,59.344800980464726,1.1751990195352775,0,0,0,0,0,{"$f":"MIN(H171*parameters!C$22,ROUND(P171+T171-V171+W171,0))","v":11778929},59.344800980464726,null,-232429,-232429,0,-1.1751990195352775,null,-1.9350767831580743E-2,-1.1751990195352775,0,null,null,null,null,"162","Lunenburg",0.60515828732401122,60.52,11778929,-1.1751990195352775]
[163,"Lynn",9814969600,32495961.725211509,2178211000,30788566.149677452,63284528,266558842.58999997,0.23741297563082281,219911045,63284528,23.74,null,53396054,2.2099999999999998E-2,54576107,20.474318716916368,3.2656812830836301,0.01,533961,0,0,0,{"$f":"MIN(H172*parameters!C$22,ROUND(P172+T172-V172+W172,0))","v":55110068},20.6746350878954,null,-8708421,-8174460,0,-3.0653649121045987,null,-0.13760742594145603,-3.2656812830836301,1067921.08,null,null,null,null,"163","Lynn",0.23741297563082281,23.74,55110068,-3.0653649121045987]
[164,"Lynnfield",3508636700,11616594.707626238,1094455000,15469897.161177332,27086492,24745766.491943289,1.094590947862488,20415257,20415257,82.5,null,19837138,3.2599999999999997E-2,20483829,82.777104547030746,0,0,0,68572,68572,0,{"$f":"MIN(H173*parameters!C$22,ROUND(P173+T173-V173+W173,0))","v":20415257},82.499998561963267,null,0,0,0,-1.4380367332478272E-6,null,3.3588604836079215E-3,0.27710454703074561,0,null,null,null,null,"164","Lynnfield",1.094590947862488,82.5,20415257,-1.4380367332478272E-6]
[165,"Malden",9209316800,30490731.855975114,1860508000,26297899.344923012,56788631,100437861.32172926,0.56541059569250351,82861236,56788631,56.54,null,46830846,3.2000000000000001E-2,48329433,48.118739650566567,8.4212603494334317,0.02,936617,0,0,0,{"$f":"MIN(H174*parameters!C$22,ROUND(P174+T174-V174+W174,0))","v":49266050},49.051273445765339,null,-8459198,-7522581,0,-7.4887265542346597,null,-0.14895935772778182,-8.4212603494334317,936616.92,null,null,null,null,"165","Malden",0.56541059569250351,56.54,49266050,-7.4887265542346597]
[166,"Manchester",2662108600,8813861.1426729634,813624000,11500408.521013422,20314270,8634761.12974572,2.3526151673171096,7123678,7123678,82.5,null,7503441,2.8799999999999999E-2,7719540,89.40073597875346,0,0,0,595862,595862,0,{"$f":"MIN(H175*parameters!C$22,ROUND(P175+T175-V175+W175,0))","v":7123678},82.500000787048762,null,0,0,0,7.8704876216306729E-7,null,8.3645274252991217E-2,6.9007359787534597,0,null,null,null,null,"166","Manchester",2.3526151673171096,82.5,7123678,7.8704876216306729E-7]
[167,"Mansfield",4294632400,14218914.146637116,1205592000,17040795.883191269,31259710,43574073.959484681,0.71739241157632816,35948611,31259710,71.739999999999995,null,30928074,2.9399999999999999E-2,31837359,73.064912474336182,0,0,0,577649,577649,0,{"$f":"MIN(H176*parameters!C$22,ROUND(P176+T176-V176+W176,0))","v":31259710},71.739241157632819,null,0,0,0,-7.5884236717627118E-4,null,1.8479026196980074E-2,1.3249124743361875,0,null,null,null,null,"167","Mansfield",0.71739241157632816,71.739999999999995,31259710,-7.5884236717627118E-4]
[168,"Marblehead",6959309400,23041278.894669697,1951102000,27578426.971385222,50619706,30868850.387644574,1.6398312656392546,25466802,25466802,82.5,null,26979301,1.77E-2,27456835,88.946736451804341,0,0,0,1990033,1990033,0,{"$f":"MIN(H177*parameters!C$22,ROUND(P177+T177-V177+W177,0))","v":25466802},82.50000139361596,null,0,0,0,1.3936159604099885E-6,null,7.814224180955269E-2,6.4467364518043411,0,null,null,null,null,"168","Marblehead",1.6398312656392546,82.5,25466802,1.3936159604099885E-6]
[169,"Marion",1895160500,6274605.5852412116,338551000,4785349.0128088836,11059955,8312279.4918469628,1.3305561983145626,6857631,6857631,82.5,null,6864629,3.4099999999999998E-2,7098713,85.400316567347375,0,0,0,241082,241082,0,{"$f":"MIN(H178*parameters!C$22,ROUND(P178+T178-V178+W178,0))","v":6857631},82.500005043457165,null,0,0,0,5.0434571647883786E-6,null,3.5155289049527451E-2,2.9003165673473745,0,null,null,null,null,"169","Marion",1.3305561983145626,82.5,6857631,5.0434571647883786E-6]
[170,"Marlborough",6865547800,22730847.636187285,1529182000,21614674.22664566,44345522,76944274.02236861,0.57633297036642694,63479026,44345522,57.63,null,41253470,3.73E-2,42792224,55.614565922812908,2.0154340771870949,0,0,0,0,0,{"$f":"MIN(H179*parameters!C$22,ROUND(P179+T179-V179+W179,0))","v":42792224},55.614565922812908,null,-1553298,-1553298,0,-2.0154340771870949,null,-3.502716689184536E-2,-2.0154340771870949,0,null,null,null,null,"170","Marlborough",0.57633297036642694,57.63,42792224,-2.0154340771870949]
[171,"Marshfield",5504694400,18225256.503228102,1334557000,18863689.732085224,37088946,43215478.693449996,0.85823290916412842,35652770,35652770,82.5,null,35899546,2.7300000000000001E-2,36879604,85.338876520624311,0,0,0,1226834,1226834,0,{"$f":"MIN(H180*parameters!C$22,ROUND(P180+T180-V180+W180,0))","v":35652770},82.500000180268174,null,0,0,0,1.8026817372174264E-7,null,3.4410622232157559E-2,2.8388765206243107,0,null,null,null,null,"171","Marshfield",0.85823290916412842,82.5,35652770,1.8026817372174264E-7]
[172,"Mashpee",5990551100,19833858.604974557,605961000,8565134.5680582356,28398993,19130769.145803604,1.4844668702841679,15782885,15782885,82.5,null,16003312,2.9899999999999996E-2,16481811,86.153415340414256,0,0,0,698926,698926,0,{"$f":"MIN(H181*parameters!C$22,ROUND(P181+T181-V181+W181,0))","v":15782885},82.500002376862227,null,0,0,0,2.3768622270381456E-6,null,4.4283792221764269E-2,3.6534153404142558,0,null,null,null,null,"172","Mashpee",1.4844668702841679,82.5,15782885,2.3768622270381456E-6]
[173,"Mattapoisett",1900482600,6292226.2977799186,397161000,5613789.3530847318,11906016,9428876.22968233,1.2627184523347093,7778823,7778823,82.5,null,7896216,2.9399999999999999E-2,8128365,86.207144966138287,0,0,0,349542,349542,0,{"$f":"MIN(H182*parameters!C$22,ROUND(P182+T182-V182+W182,0))","v":7778823},82.50000117205991,null,0,0,0,1.1720599104592111E-6,null,4.4935075653476111E-2,3.7071449661382871,0,null,null,null,null,"173","Mattapoisett",1.2627184523347093,82.5,7778823,1.1720599104592111E-6]
[174,"Maynard",1620005500,5363606.7016073214,464575000,6566672.4293405935,11930279,16282166.359982355,0.73272061814340339,13432787,11930279,73.27,null,11139141,3.39E-2,11516758,70.732344488909163,2.5376555110908328,0.01,111391,0,0,0,{"$f":"MIN(H183*parameters!C$22,ROUND(P183+T183-V183+W183,0))","v":11628149},71.416473354425307,null,-413521,-302130,0,-1.8535266455746893,null,-3.4661469358763526E-2,-2.5376555110908328,0,null,null,null,null,"174","Maynard",0.73272061814340339,73.27,11628149,-1.8535266455746893]
[175,"Medfield",2985655000,9885077.036273893,1285677000,18172780.948043536,28057858,26665873.657614194,1.0522009651833903,21999346,21999346,82.5,null,22183600,2.7400000000000001E-2,22791431,85.470407955271014,0,0,0,792085,792085,0,{"$f":"MIN(H184*parameters!C$22,ROUND(P184+T184-V184+W184,0))","v":21999346},82.500000871782007,null,0,0,0,8.7178200658399874E-7,null,3.6004933964855136E-2,2.9704079552710141,0,null,null,null,null,"175","Medfield",1.0522009651833903,82.5,21999346,8.7178200658399874E-7]
[176,"Medford",12501964700,41392218.512948364,2459618000,34766196.431813702,76158415,59041525.514499992,1.2899127239064356,48709259,48709259,82.5,null,49107581,1.89E-2,50035714,84.746648336028755,0,0,0,1326455,1326455,0,{"$f":"MIN(H185*parameters!C$22,ROUND(P185+T185-V185+W185,0))","v":48709259},82.500000763085822,null,0,0,0,7.6308582208639564E-7,null,2.7232091541363829E-2,2.2466483360287555,0,null,null,null,null,"176","Medford",1.2899127239064356,82.5,48709259,7.6308582208639564E-7]
[177,"Medway",2494179400,8257871.5596033027,750663000,10610467.687297203,18868339,24555237.791776083,0.76840383953924851,20258071,18868339,76.84,null,17734167,4.4199999999999996E-2,18518017,75.413714813227998,1.4262851867720059,0,0,0,0,0,{"$f":"MIN(H186*parameters!C$22,ROUND(P186+T186-V186+W186,0))","v":18518017},75.413714813227998,null,-350322,-350322,0,-1.4262851867720059,null,-1.8566658146220501E-2,-1.4262851867720059,0,null,null,null,null,"177","Medway",0.76840383953924851,76.84,18518017,-1.4262851867720059]
[178,"Melrose",6208754700,20556299.54191881,1581273000,22350969.837724131,42907269,45153206.440006644,0.95025962457415436,37251395,37251395,82.5,null,35804613,2.9600000000000001E-2,36864430,81.642994831342421,0.85700516865757947,0,0,0,0,0,{"$f":"MIN(H187*parameters!C$22,ROUND(P187+T187-V187+W187,0))","v":36864430},81.642994831342421,null,-386965,-386965,0,-0.85700516865757947,null,-1.0387933123041433E-2,-0.85700516865757947,0,null,null,null,null,"178","Melrose",0.95025962457415436,82.5,36864430,-0.85700516865757947]
[179,"Mendon",1082278300,3583268.7869789205,357009000,5046249.0605961485,8629518,11312291.402436294,0.76284438695961165,9332640,8629518,76.28,null,8651183,4.1700000000000001E-2,9011937,79.66500047955914,0,0,0,382419,382419,0,{"$f":"MIN(H188*parameters!C$22,ROUND(P188+T188-V188+W188,0))","v":8629518},76.284438695961171,null,0,0,0,4.4386959611699695E-3,null,4.4315221313635363E-2,3.3850004795591389,0,null,null,null,null,"179","Mendon",0.76284438695961165,76.28,8629518,4.4386959611699695E-3]
[180,"Merrimac",966545100,3200092.7007752252,277076000,3916412.4845976951,7116505,9702721.7075321823,0.73345451044684573,8004745,7116505,73.349999999999994,null,6661661,3.5799999999999998E-2,6900148,71.115592181144848,2.2344078188551464,0,0,0,0,0,{"$f":"MIN(H189*parameters!C$22,ROUND(P189+T189-V189+W189,0))","v":6900148},71.115592181144848,null,-216357,-216357,0,-2.2344078188551464,null,-3.0402142624785623E-2,-2.2344078188551464,0,null,null,null,null,"180","Merrimac",0.73345451044684573,73.349999999999994,6900148,-2.2344078188551464]
[181,"Methuen",6534741900,21635596.575514194,1644683000,23247257.194436152,44882854,95643222.69238995,0.4692737523530896,78905659,44882854,46.93,null,42872610,2.41E-2,43905840,45.905855913294587,1.0241440867054123,0,0,0,0,0,{"$f":"MIN(H190*parameters!C$22,ROUND(P190+T190-V190+W190,0))","v":43905840},45.905855913294587,null,-977014,-977014,0,-1.0241440867054123,null,-2.176808988127181E-2,-1.0241440867054123,0,null,null,null,null,"181","Methuen",0.4692737523530896,46.93,43905840,-1.0241440867054123]
[182,"Middleborough",3078877100,10193722.087354219,763154000,10787025.412777251,20980748,39418026.911738157,0.53226276512973347,32519872,20980748,53.23,null,20370328,3.5299999999999998E-2,21089401,53.501919431994352,0,0,0,108653,108653,0,{"$f":"MIN(H191*parameters!C$22,ROUND(P191+T191-V191+W191,0))","v":20980748},53.226276512973349,null,0,0,0,-3.7234870266473763E-3,null,5.1787000158430956E-3,0.27191943199435542,0,null,null,null,null,"182","Middleborough",0.53226276512973347,53.23,20980748,-3.7234870266473763E-3]
[183,"Middlefield",73050200,241858.77287068171,9215000,130252.13676236036,372111,358658.89233431069,1.0375066893731173,295894,295894,82.5,null,366519,2.4799999999999999E-2,375609,104.72596888797891,0,0,0,79715,79715,0,{"$f":"MIN(H192*parameters!C$22,ROUND(P192+T192-V192+W192,0))","v":295894},82.50011538099362,null,0,0,0,1.1538099361985132E-4,null,0.26940390815629922,22.225968887978908,0,null,null,null,null,"183","Middlefield",1.0375066893731173,82.5,295894,1.1538099361985132E-4]
[184,"Middleton",2366454600,7834992.9994740598,561437000,7935796.9514323724,15770790,14849959.103817724,1.0620089853274777,12251216,12251216,82.5,null,12088689,3.73E-2,12539597,84.441963188816047,0,0,0,288381,288381,0,{"$f":"MIN(H193*parameters!C$22,ROUND(P193+T193-V193+W193,0))","v":12251216},82.499998244778851,null,0,0,0,-1.7552211488691682E-6,null,2.3538969519433826E-2,1.9419631888160467,0,null,null,null,null,"184","Middleton",1.0620089853274777,82.5,12251216,-1.7552211488691682E-6]
[185,"Milford",3913410800,12956743.907982083,1006959000,14233159.129906634,27189903,60874922.391536176,0.44665195341227054,50221811,27189903,44.67,null,26545412,2.5499999999999998E-2,27222320,44.718447154496729,0,0,0,32417,32417,0,{"$f":"MIN(H194*parameters!C$22,ROUND(P194+T194-V194+W194,0))","v":27189903},44.665195341227054,null,0,0,0,-4.8046587729473345E-3,null,1.1922440473583153E-3,4.8447154496727762E-2,0,null,null,null,null,"185","Milford",0.44665195341227054,44.67,27189903,-4.8046587729473345E-3]
[186,"Millbury",1940073800,6423307.1031504413,495169000,6999112.3503506472,13422419,20687611.357262343,0.64881434440173236,17067279,13422419,64.88,null,12744917,2.5600000000000001E-2,13071187,63.183645391769154,1.6963546082308412,0,0,0,0,0,{"$f":"MIN(H195*parameters!C$22,ROUND(P195+T195-V195+W195,0))","v":13071187},63.183645391769154,null,-351232,-351232,0,-1.6963546082308412,null,-2.6167563387791724E-2,-1.6963546082308412,0,null,null,null,null,"186","Millbury",0.64881434440173236,64.88,13071187,-1.6963546082308412]
[187,"Millis",1417727000,4693891.4949669261,386007000,5456129.8486411758,10150021,13133337.591130678,0.77284398802438481,10835004,10150021,77.28,null,9737544,3.7100000000000001E-2,10098807,76.894444614139942,0.38555538586005866,0,0,0,0,0,{"$f":"MIN(H196*parameters!C$22,ROUND(P196+T196-V196+W196,0))","v":10098807},76.894444614139942,null,-51214,-51214,0,-0.38555538586005866,null,-5.0457038463270175E-3,-0.38555538586005866,0,null,null,null,null,"187","Millis",0.77284398802438481,77.28,10098807,-0.38555538586005866]
[188,"Millville",337150600,1116257.4556758786,104640000,1479064.9583085608,2595322,5529261.2812317414,0.46937951888969981,4561641,2595322,46.94,null,2568133,3.7199999999999997E-2,2663668,48.17403020981169,0,0,0,68346,68346,0,{"$f":"MIN(H197*parameters!C$22,ROUND(P197+T197-V197+W197,0))","v":2595322},46.937951888969984,null,0,0,0,-2.0481110300138994E-3,null,2.6334304567988097E-2,1.2340302098116922,0,null,null,null,null,"188","Millville",0.46937951888969981,46.94,2595322,-2.0481110300138994E-3]
[189,"Milton",6817342900,22571248.101068232,2084927000,29470015.924420804,52041264,48896223.278411224,1.064320728897223,40339384,40339384,82.5,null,37941462,2.9100000000000001E-2,39045559,79.85393632076179,2.6460636792382104,0.01,379415,0,0,0,{"$f":"MIN(H198*parameters!C$22,ROUND(P198+T198-V198+W198,0))","v":39424974},80.629896046402848,null,-1293825,-914410,0,-1.8701039535971518,null,-3.2073494230848938E-2,-2.6460636792382104,0,null,null,null,null,"189","Milton",1.064320728897223,82.5,39424974,-1.8701039535971518]
[190,"Monroe",28214600,93414.508557637571,1281000,18106.67251140354,111521,202931.05532218749,0.54955117551102017,167418,111521,54.96,null,98907,-6.3E-3,98284,48.432212528514903,6.5277874714850981,0.01,989,0,0,0,{"$f":"MIN(H199*parameters!C$22,ROUND(P199+T199-V199+W199,0))","v":99273},48.919570167507018,null,-13237,-12248,0,-6.0404298324929826,null,-0.11869513365195793,-6.5277874714850981,1978.14,null,null,null,null,"190","Monroe",0.54955117551102017,54.96,99273,-6.0404298324929826]
[191,"Monson",853970900,2827375.6121307216,277987000,3929289.2829254768,6756665,11731728.540167728,0.57593090198653707,9678676,6756665,57.59,null,6690078,2.8899999999999995E-2,6883421,58.673544792927743,0,0,0,126756,126756,0,{"$f":"MIN(H200*parameters!C$22,ROUND(P200+T200-V200+W200,0))","v":6756665},57.593090198653712,null,0,0,0,3.0901986537088533E-3,null,1.8760142762738716E-2,1.0835447929277393,0,null,null,null,null,"191","Monson",0.57593090198653707,57.59,6756665,3.0901986537088533E-3]
[192,"Montague",953787100,3157852.7859730185,204439000,2889703.3735822234,6047556,12763527.006236041,0.47381542711863794,10529910,6047556,47.38,null,5954621,5.33E-2,6272002,49.140037835432224,0,0,0,224446,224446,0,{"$f":"MIN(H201*parameters!C$22,ROUND(P201+T201-V201+W201,0))","v":6047556},47.381542711863794,null,0,0,0,1.5427118637916237E-3,null,3.7113505025831925E-2,1.7600378354322217,0,null,null,null,null,"192","Montague",0.47381542711863794,47.38,6047556,1.5427118637916237E-3]
[193,"Monterey",540379700,1789119.9630696031,28584000,404028.98287740734,2193149,924814.03722964809,2.3714486499034413,{"$f":"ROUND(H202*maxloc,0)","v":762972},762972,82.5,null,710876,2.52E-2,728790,78.803950920030019,3.6960490799699812,0.01,7109,0,{"$f":"MAX(U202*(V$5),0)","v":0},27073,{"$f":"MIN(H202*parameters!C$22,ROUND(P202+T202-V202+W202,0))","v":762972},82.500045337281165,null,-34182,0,0,4.5337281164847809E-5,null,-4.4801119831396174E-2,-3.6960490799699812,{"$f":"IF(AF202<$AH$5, $AH$6*(N202), IF(AND(AF202<$AH$4, AF202>$AH$5), $AH$7*(N202), 0))","v":0},null,null,null,null,"193","Monterey",2.3714486499034413,{"$f":"L202","v":82.5},{"$f":"X202","v":762972},4.5337281164847809E-5]
[194,"Montgomery",113997900,{"$f":"D$5*C203","v":377430.75588889129},34065000,481501.79477046186,{"$f":"ROUND(D203+F203,0)","v":858933},{"$f":"(SUMIF(town1755,A203,found1755)/2)","v":892628.45074033819},{"$f":"G203/H203","v":0.96225142643348249},736418,{"$f":"MIN(G203,J203)","v":736418},{"$f":"IF(H203>0, ROUND((K203*100/H203), 2), 0)","v":82.5},null,709289,4.0300000000000002E-2,{"$f":"ROUND(N203*(1+O203),0)","v":737873},{"$f":"P203*100/H203","v":82.662948888534146},{"$f":"IF(L203>Q203,L203-Q203,0)","v":0},{"$f":"IF(AND(R203>$T$4,R203<=$T$5),$S$4,IF(R203>$T$5,$S$5,0))","v":0},{"$f":"ROUND(S203*N203,0)","v":0},{"$f":"MAX(P203-K203,0)","v":1455},1455,{"$f":"IF(AND(I203>1.75,$W$5=1),MAX(K203-(P203+T203),0),0)","v":0},{"$f":"MIN(H203*parameters!C$22,ROUND(P203+T203-V203+W203,0))","v":736418},{"$f":"X203*100/H203","v":82.499947138052946},null,{"$f":"IF(Q203<L203, P203-K203, 0)","v":0},{"$f":"-1*MAX(K203-(P203+T203+W203),0)","v":0},{"$f":"IF(Q203>L203, X203-K203,0)","v":0},{"$f":"Y203-L203","v":-5.2861947054338998E-5},null,1.9757800596943583E-3,0.16294888853414591,0,null,null,null,null,{"$f":"TEXT(A203,\"000\")","v":"194"},{"$f":"B203","v":"Montgomery"},{"$f":"I203","v":0.96225142643348249},82.5,736418,{"$f":"AD203","v":-5.2861947054338998E-5}]
[195,"Mount Washington",100069300,331315.15177272767,4364000,{"$f":"E204*F$5","v":61684.245776553515},392999,43434.66,9.0480505660686639,35834,35834,82.5,null,14541,2.7199999999999998E-2,14937,34.389586565199309,48.110413434800691,0.02,291,0,0,20606,{"$f":"MIN(H204*parameters!C$22,ROUND(P204+T204-V204+W204,0))","v":35834},82.50093358621892,null,-20897,0,0,9.3358621892036808E-4,null,-0.58316124351174858,-48.110413434800691,290.82,null,null,null,null,"195","Mount Washington",9.0480505660686639,82.5,35834,9.3358621892036808E-4]
[196,"Nahant",1034428700,3424845.5993852797,271031000,3830967.6482733903,7255813,3040213.3296887809,2.3866131133445032,2508176,2508176,82.5,null,2415062,4.1799999999999997E-2,2516012,82.757745169729844,0,0,0,7836,7836,0,{"$f":"MIN(H205*parameters!C$22,ROUND(P205+T205-V205+W205,0))","v":2508176},82.500000098899491,null,0,0,0,9.8899491263182426E-8,null,3.1241826729862658E-3,0.25774516972984429,0,null,null,null,null,"196","Nahant",2.3866131133445032,82.5,2508176,9.8899491263182426E-8]
[197,"Nantucket",26096711600,86402482.724702805,800175000,11310309.661836322,97712792,20062013.989999998,4.8705375267261495,16551162,16551162,82.5,null,16064689,2.7000000000000001E-3,16108064,80.291360618276599,2.2086393817234011,0,0,0,0,443098,{"$f":"MIN(H206*parameters!C$22,ROUND(P206+T206-V206+W206,0))","v":16551162},82.500002284167493,null,-443098,0,0,2.2841674933715694E-6,null,-2.677141339079395E-2,-2.2086393817234011,0,null,null,null,null,"197","Nantucket",4.8705375267261495,82.5,16551162,2.2841674933715694E-6]
[198,"Natick",9500063400,31453352.299072094,2337791000,33044196.750278372,64497549,58549092.248648413,1.101597762200812,48303001,48303001,82.5,null,49078138,1.15E-2,49642537,84.787884992608028,0,0,0,1339536,1339536,0,{"$f":"MIN(H207*parameters!C$22,ROUND(P207+T207-V207+W207,0))","v":48303001},82.499999820432848,null,0,0,0,-1.7956715225864173E-7,null,2.773194154127194E-2,2.2878849926080278,0,null,null,null,null,"198","Natick",1.101597762200812,82.5,48303001,-1.7956715225864173E-7]
[199,"Needham",11580160100,38340255.213976562,3861378000,54579786.798390619,92920042,63270728.7033896,1.4686102705661108,52198351,52198351,82.5,null,52346301,4.8799999999999996E-2,54900800,86.77124655442573,0,0,0,2702449,2702449,0,{"$f":"MIN(H208*parameters!C$22,ROUND(P208+T208-V208+W208,0))","v":52198351},82.499999715039763,null,0,0,0,-2.8496023674051685E-7,null,5.1772689141080339E-2,4.2712465544257299,0,null,null,null,null,"199","Needham",1.4686102705661108,82.5,52198351,-2.8496023674051685E-7]
[200,"New Ashford",40130500,132866.35060118785,6874000,97162.581454635394,230029,234257.91999999998,0.98194759007507626,193263,193263,82.5,null,226155,4.6399999999999997E-2,236649,101.02070401717901,0,0,0,43386,43386,0,{"$f":"MIN(H209*parameters!C$22,ROUND(P209+T209-V209+W209,0))","v":193263},82.500092206060742,null,0,0,0,9.2206060742228146E-5,null,0.22449201347386721,18.520704017179014,0,null,null,null,null,"200","New Ashford",0.98194759007507626,82.5,193263,9.2206060742228146E-5]
[201,"New Bedford",6947603100,23002521.008272998,1831702000,25890732.437535431,48893253,237353282.31429392,0.20599358274412852,195816458,48893253,20.6,null,36172924,2.7900000000000001E-2,37182149,15.665319070989232,4.9346809290107689,0.01,361729,0,0,0,{"$f":"MIN(H210*parameters!C$22,ROUND(P210+T210-V210+W210,0))","v":37543878},15.817720165456093,null,-11711104,-11349375,0,-4.7822798345439086,null,-0.23952392776974771,-4.9346809290107689,723458.48,null,null,null,null,"201","New Bedford",0.20599358274412852,20.6,37543878,-4.7822798345439086]
[202,"New Braintree",125454700,415362.58344069577,41157000,581745.76155490673,997108,1555822.7410912821,0.64088791972574621,1283554,997108,64.09,null,973654,3.7600000000000001E-2,1010263,64.93432531339549,0,0,0,13155,13155,0,{"$f":"MIN(H211*parameters!C$22,ROUND(P211+T211-V211+W211,0))","v":997108},64.088791972574612,null,0,0,0,-1.2080274253918333E-3,null,1.3193154603112201E-2,0.84432531339548689,0,null,null,null,null,"202","New Braintree",0.64088791972574621,64.09,997108,-1.2080274253918333E-3]
[203,"Newbury",1736208200,5748337.2352165375,522355000,7383380.8896910194,13131718,7524125.6052543623,1.7452816033307124,6207404,6207404,82.5,null,6558289,2.1399999999999995E-2,6698636,89.028763625664439,0,0,0,491232,491232,0,{"$f":"MIN(H212*parameters!C$22,ROUND(P212+T212-V212+W212,0))","v":6207404},82.500004992808073,null,0,0,0,4.9928080727568158E-6,null,7.9136463487796183E-2,6.528763625664439,0,null,null,null,null,"203","Newbury",1.7452816033307124,82.5,6207404,4.9928080727568158E-6]
[204,"Newburyport",4963974700,16435010.84874662,1287058000,18192301.100064028,34627312,24592743.535931073,1.4080296470138838,20289013,20289013,82.5,null,20450734,3.2500000000000001E-2,21115383,85.860217137423092,0,0,0,826370,826370,0,{"$f":"MIN(H213*parameters!C$22,ROUND(P213+T213-V213+W213,0))","v":20289013},82.499998303795849,null,0,0,0,-1.6962041513579607E-6,null,4.0729926093497008E-2,3.360217137423092,0,null,null,null,null,"204","Newburyport",1.4080296470138838,82.5,20289013,-1.6962041513579607E-6]
[205,"New Marlborough",568276600,1881482.6123285526,54616000,771985.96868291625,2653469,1456582.1085750572,1.8217091809508983,1201680,1201680,82.5,null,1290475,3.1300000000000001E-2,1330867,91.369171168933164,0,0,0,129187,129187,0,{"$f":"MIN(H214*parameters!C$22,ROUND(P214+T214-V214+W214,0))","v":1201680},82.499983552288555,null,0,0,0,-1.6447711445266577E-5,null,0.10750532587710539,8.869171168933164,0,null,null,null,null,"205","New Marlborough",1.8217091809508983,82.5,1201680,-1.6447711445266577E-5]
[206,"New Salem",123679700,409485.81209926942,26094000,368833.34310114285,778319,1274145.149626855,0.61085583555997347,1051170,778319,61.09,null,772386,3.5099999999999999E-2,799497,62.747717576301248,0,0,0,21178,21178,0,{"$f":"MIN(H215*parameters!C$22,ROUND(P215+T215-V215+W215,0))","v":778319},61.085583555997353,null,0,0,0,-4.4164440026506213E-3,null,2.7209922923634139E-2,1.6577175763012448,0,null,null,null,null,"206","New Salem",0.61085583555997347,61.09,778319,-4.4164440026506213E-3]
[207,"Newton",34257156100,113420548.28577319,13232692000,187041389.92058513,300461938,140564444.81197003,2.1375386812925656,115965667,115965667,82.5,null,118463949,2.3700000000000002E-2,121271545,86.274694260146859,0,0,0,5305878,5305878,0,{"$f":"MIN(H216*parameters!C$22,ROUND(P216+T216-V216+W216,0))","v":115965667},82.500000021431262,null,0,0,0,2.1431262098303705E-8,null,4.5753869548303468E-2,3.7746942601468589,0,null,null,null,null,"207","Newton",2.1375386812925656,82.5,115965667,2.1431262098303705E-8]
[208,"Norfolk",1981383700,6560078.2786080111,697665000,9861351.817071313,16421430,18528297.177173197,0.88628921713492104,15285845,15285845,82.5,null,14669624,3.6700000000000003E-2,15207999,82.079852533541001,0.42014746645899947,0,0,0,0,0,{"$f":"MIN(H217*parameters!C$22,ROUND(P217+T217-V217+W217,0))","v":15207999},82.079852533541001,null,-77846,-77846,0,-0.42014746645899947,null,-5.0926854223629766E-3,-0.42014746645899947,0,null,null,null,null,"208","Norfolk",0.88628921713492104,82.5,15207999,-0.42014746645899947]
[209,"North Adams",801676900,2654237.6512695681,227962000,3222196.1585047413,5876434,20830709.72340586,0.28210435832616421,17185336,5876434,28.21,null,5798559,1.5100000000000001E-2,5886117,28.256920086530823,0,0,0,9683,9683,0,{"$f":"MIN(H218*parameters!C$22,ROUND(P218+T218-V218+W218,0))","v":5876434},28.210435832616422,null,0,0,0,4.358326164215498E-4,null,1.6477680171342007E-3,4.6920086530821692E-2,0,null,null,null,null,"209","North Adams",0.28210435832616421,28.21,5876434,4.358326164215498E-4]
[210,"Northampton",3915520200,12963727.829935664,1115015000,15760508.548245603,28724236,33704785.090000004,0.85223020776721403,27806448,27806448,82.5,null,27847210,1.9099999999999999E-2,28379092,84.199000006144217,0,0,0,572644,572644,0,{"$f":"MIN(H219*parameters!C$22,ROUND(P219+T219-V219+W219,0))","v":27806448},82.500000892306531,null,0,0,0,8.9230653088634426E-7,null,2.0593928429837569E-2,1.6990000061442174,0,null,null,null,null,"210","Northampton",0.85223020776721403,82.5,27806448,8.9230653088634426E-7]
[211,"North Andover",5762245600,19077971.720754839,1877723000,26541229.842412326,45619202,51910927.39709568,0.87879766915033597,42826515,42826515,82.5,null,42168598,3.9199999999999999E-2,43821607,84.41692182608115,0,0,0,995092,995092,0,{"$f":"MIN(H220*parameters!C$22,ROUND(P220+T220-V220+W220,0))","v":42826515},82.499999802346167,null,0,0,0,-1.9765383285630378E-7,null,2.3235418525182353E-2,1.9169218260811505,0,null,null,null,null,"211","North Andover",0.87879766915033597,82.5,42826515,-1.9765383285630378E-7]
[212,"North Attleborough",4386403100,14522753.819731556,1242779000,17566426.508235425,32089180,50697597.260101423,0.63295267890839302,41825518,32089180,63.3,null,31507638,2.53E-2,32304781,63.720536565592994,0,0,0,215601,215601,0,{"$f":"MIN(H221*parameters!C$22,ROUND(P221+T221-V221+W221,0))","v":32089180},63.295267890839298,null,0,0,0,-4.732109160698883E-3,null,6.7188067753678965E-3,0.42053656559299668,0,null,null,null,null,"212","North Attleborough",0.63295267890839302,63.3,32089180,-4.732109160698883E-3]
[213,"Northborough",3297006900,10915918.683044953,1117866000,15800806.849049672,26716726,27967520.146787919,0.95527690191253611,23073204,23073204,82.5,null,22125703,2.9600000000000001E-2,22780624,81.453857476228052,1.0461425237719482,0,0,0,0,0,{"$f":"MIN(H222*parameters!C$22,ROUND(P222+T222-V222+W222,0))","v":22780624},81.453857476228052,null,-292580,-292580,0,-1.0461425237719482,null,-1.2680510257699798E-2,-1.0461425237719482,0,null,null,null,null,"213","Northborough",0.95527690191253611,82.5,22780624,-1.0461425237719482]
[214,"Northbridge",1894649500,6272913.7372663002,603357000,8528327.561641613,14801241,26864009.974727429,0.55096915962748705,22162808,14801241,55.1,null,13952455,3.4000000000000002E-2,14426838,53.703218594588762,1.3967814054112395,0,0,0,0,0,{"$f":"MIN(H223*parameters!C$22,ROUND(P223+T223-V223+W223,0))","v":14426838},53.703218594588762,null,-374403,-374403,0,-1.3967814054112395,null,-2.529537894829224E-2,-1.3967814054112395,0,null,null,null,null,"214","Northbridge",0.55096915962748705,55.1,14426838,-1.3967814054112395]
[215,"North Brookfield",473064600,1566249.2867173518,133139000,1881892.4836032444,3448142,7613000.3893786743,0.45292812605273175,6280725,3448142,45.29,null,3368003,3.5799999999999998E-2,3488578,45.823956673732894,0,0,0,40436,40436,0,{"$f":"MIN(H224*parameters!C$22,ROUND(P224+T224-V224+W224,0))","v":3448142},45.292812605273177,null,0,0,0,2.8126052731778373E-3,null,1.1726895238073142E-2,0.53395667373289513,0,null,null,null,null,"215","North Brookfield",0.45292812605273175,45.29,3448142,2.8126052731778373E-3]
[216,"Northfield",517658400,1713892.9857851246,91709000,1296287.9229885302,3010181,3812381.5467088819,0.78958020416361574,3145215,3010181,78.959999999999994,null,2923170,4.0899999999999999E-2,3042728,79.811738744426009,0,0,0,32547,32547,0,{"$f":"MIN(H225*parameters!C$22,ROUND(P225+T225-V225+W225,0))","v":3010181},78.958020416361578,null,0,0,0,-1.9795836384162158E-3,null,1.0812306635381725E-2,0.85173874442601516,0,null,null,null,null,"216","Northfield",0.78958020416361574,78.959999999999994,3010181,-1.9795836384162158E-3]
[217,"North Reading",3607668800,11944475.838421317,1018321000,14393758.67172909,26338235,25766250.04874422,1.0221989986968887,21257156,21257156,82.5,null,21405205,2.8000000000000004E-2,22004551,85.400673199911154,0,0,0,747395,747395,0,{"$f":"MIN(H226*parameters!C$22,ROUND(P226+T226-V226+W226,0))","v":21257156},82.4999988736662,null,0,0,0,-1.1263337995615075E-6,null,3.5159689282987808E-2,2.9006731999111537,0,null,null,null,null,"217","North Reading",1.0221989986968887,82.5,21257156,-1.1263337995615075E-6]
[218,"Norton",2900634100,9603584.9863909241,771754000,10908584.650558725,20512170,28559277.600307919,0.71823140231596205,23561404,20512170,71.819999999999993,null,19775380,4.1200000000000001E-2,20590126,72.096102318001215,0,0,0,77956,77956,0,{"$f":"MIN(H227*parameters!C$22,ROUND(P227+T227-V227+W227,0))","v":20512170},71.823140231596199,null,0,0,0,3.1402315962054672E-3,null,3.8004755225800099E-3,0.27610231800122165,0,null,null,null,null,"218","Norton",0.71823140231596205,71.819999999999993,20512170,3.1402315962054672E-3]
[219,"Norwell",2967834000,9826074.2520059738,1121323000,15849670.835678807,25675745,23738172.395532139,1.0816226528387898,19583992,19583992,82.5,null,19177732,2.41E-2,19639915,82.735581630945234,0,0,0,55923,55923,0,{"$f":"MIN(H228*parameters!C$22,ROUND(P228+T228-V228+W228,0))","v":19583992},82.499999046624097,null,0,0,0,-9.5337590266808547E-7,null,2.8555465096186724E-3,0.23558163094523366,0,null,null,null,null,"219","Norwell",1.0816226528387898,82.5,19583992,-9.5337590266808547E-7]
[220,"Norwood",6194416300,20508827.148565624,1322069000,18687174.410990451,39196002,45701818.719274782,0.85764643724056111,37704000,37704000,82.5,null,34849082,2.98E-2,35887585,78.525507311735012,3.9744926882649878,0.01,348491,0,0,0,{"$f":"MIN(H229*parameters!C$22,ROUND(P229+T229-V229+W229,0))","v":36236076},79.288039328547342,null,-1816415,-1467924,0,-3.2119606714526583,null,-4.8175657755145346E-2,-3.9744926882649878,0,null,null,null,null,"220","Norwood",0.85764643724056111,82.5,36236076,-3.2119606714526583]
[221,"Oak Bluffs",3630614100,12020444.447694797,136968000,1936014.6140061826,13956459,8427572.8587157428,1.6560472669858104,6952748,6952748,82.5,null,6276424,3.0600000000000002E-2,6468483,76.753806919750744,5.746193080249256,0.01,62764,0,0,0,{"$f":"MIN(H230*parameters!C$22,ROUND(P230+T230-V230+W230,0))","v":6531247},77.49855278018066,null,-484265,-421501,0,-5.0014472198193403,null,-6.9650877609831394E-2,-5.746193080249256,62764.24,null,null,null,null,"221","Oak Bluffs",1.6560472669858104,82.5,6531247,-5.0014472198193403]
[222,"Oakham",239239000,792086.14025435958,67309000,951398.92277131998,1743485,3107877.3405310283,0.56098899955366288,2563999,1743485,56.1,null,1647756,3.5499999999999997E-2,1706251,54.900847525355069,1.1991524746449329,0,0,0,0,0,{"$f":"MIN(H231*parameters!C$22,ROUND(P231+T231-V231+W231,0))","v":1706251},54.900847525355069,null,-37234,-37234,0,-1.1991524746449329,null,-2.1356077052569995E-2,-1.1991524746449329,0,null,null,null,null,"222","Oakham",0.56098899955366288,56.1,1706251,-1.1991524746449329]
[223,"Orange",620932600,2055819.1034576476,162611000,2298473.1645213435,4354292,14299377.94781309,0.30450919025228884,11796987,4354292,30.45,null,4049774,3.1199999999999995E-2,4176127,29.204955734726113,1.2450442652738865,0,0,0,0,0,{"$f":"MIN(H232*parameters!C$22,ROUND(P232+T232-V232+W232,0))","v":4176127},29.204955734726113,null,-178165,-178165,0,-1.2450442652738865,null,-4.0917099725971524E-2,-1.2450442652738865,0,null,null,null,null,"223","Orange",0.30450919025228884,30.45,4176127,-1.2450442652738865]
[224,"Orleans",4515570600,14950408.953389969,327281000,4626049.872134787,19576459,5058820.3801709292,3.8697675601873303,4173527,4173527,82.5,null,4345462,2.46E-2,4452360,88.011822231362999,0,0,0,278833,278833,0,{"$f":"MIN(H233*parameters!C$22,ROUND(P233+T233-V233+W233,0))","v":4173527},82.500003683842664,null,0,0,0,3.683842663804171E-6,null,6.6809918804886126E-2,5.5118222313629985,0,null,null,null,null,"224","Orleans",3.8697675601873303,82.5,4173527,3.683842663804171E-6]
[225,"Otis",659119700,2182251.1343828198,54100000,764692.41441602772,2946944,1345098.6399189685,2.190875756277272,1109706,1109706,82.5,null,1092050,3.0499999999999999E-2,1125358,83.663604036339962,0,0,0,15652,15652,0,{"$f":"MIN(H234*parameters!C$22,ROUND(P234+T234-V234+W234,0))","v":1109706},82.499971902941695,null,0,0,0,-2.8097058304865641E-5,null,{"$f":"(P234-K234)/K234","v":1.4104636723600666E-2},{"$f":"Q234-L234","v":1.1636040363399616},0,null,null,null,null,"225","Otis",2.190875756277272,82.5,1109706,-2.8097058304865641E-5]
[226,"Oxford",1570978000,5201283.6554429391,438659000,6200355.0797656253,11401639,21000348.02417133,0.54292619278865051,17325287,11401639,54.29,null,11031283,3.0800000000000001E-2,11371047,54.146945502579115,0.14305449742088427,0,0,0,0,0,{"$f":"MIN(H235*parameters!C$22,ROUND(P235+T235-V235+W235,0))","v":11371047},54.146945502579115,null,-30592,-30592,0,-0.14305449742088427,null,-2.6831230141561228E-3,-0.14305449742088427,0,null,null,null,null,"226","Oxford",0.54292619278865051,54.29,11371047,-0.14305449742088427]
[227,"Palmer",1017230700,3367905.4790867725,357620000,5054885.4203966698,8422791,20157910.989964984,0.41784046988763052,16630277,8422791,41.78,null,8117496,1.21E-2,8215718,40.756792725644786,1.0232072743552152,0,0,0,0,0,{"$f":"MIN(H236*parameters!C$22,ROUND(P236+T236-V236+W236,0))","v":8215718},40.756792725644786,null,-207073,-207073,0,-1.0232072743552152,null,-2.4584843669990149E-2,-1.0232072743552152,0,null,null,null,null,"227","Palmer",0.41784046988763052,41.78,8215718,-1.0232072743552152]
[228,"Paxton",607020400,2009757.7973978217,211970000,2996152.51541156,5005910,7383190.0536079565,0.67801451183743444,6091132,5005910,67.8,null,4752793,4.0399999999999998E-2,4944806,66.973841443829727,0.82615855617027023,0,0,0,0,0,{"$f":"MIN(H237*parameters!C$22,ROUND(P237+T237-V237+W237,0))","v":4944806},66.973841443829727,null,-61104,-61104,0,-0.82615855617027023,null,-1.2206372068215369E-2,-0.82615855617027023,0,null,null,null,null,"228","Paxton",0.67801451183743444,67.8,4944806,-0.82615855617027023]
[229,"Peabody",9078660600,30058147.849361219,1853537000,26199365.688344561,56257514,79429505.671155483,0.7082697232551165,65529342,56257514,70.83,null,53680748,2.0099999999999996E-2,54759731,68.941296483336657,1.888703516663341,0,0,0,0,0,{"$f":"MIN(H238*parameters!C$22,ROUND(P238+T238-V238+W238,0))","v":54759731},68.941296483336657,null,-1497783,-1497783,0,-1.888703516663341,null,-2.6623696880740233E-2,-1.888703516663341,0,null,null,null,null,"229","Peabody",0.7082697232551165,70.83,54759731,-1.888703516663341]
[230,"Pelham",189643300,627881.8650893023,50850000,718754.33037070255,1346636,1545099.6733256837,0.87155283458282728,1274707,1274707,82.5,null,1292835,3.7400000000000003E-2,1341187,86.80262012567897,0,0,0,66480,66480,0,{"$f":"MIN(H239*parameters!C$22,ROUND(P239+T239-V239+W239,0))","v":1274707},82.499985082277021,null,0,0,0,-1.4917722978680104E-5,null,5.2153161471616617E-2,4.3026201256789705,0,null,null,null,null,"230","Pelham",0.87155283458282728,82.5,1274707,-1.4917722978680104E-5]
[231,"Pembroke",3116738700,10319076.434295371,811818000,11474881.081079312,21793958,31524469.692919996,0.69133464297084279,26007687,21793958,69.13,null,21249366,2.4E-2,21759351,69.023686082455754,0.10631391754424158,0,0,0,0,0,{"$f":"MIN(H240*parameters!C$22,ROUND(P240+T240-V240+W240,0))","v":21759351},69.023686082455754,null,-34607,-34607,0,-0.10631391754424158,null,-1.5879171649316752E-3,-0.10631391754424158,0,null,null,null,null,"231","Pembroke",0.69133464297084279,69.13,21759351,-0.10631391754424158]
[232,"Pepperell",1488119500,4926951.0029395185,472844000,6683553.0499469908,11610504,17856418.114612408,0.65021461333831554,14731545,11610504,65.02,null,11129008,4.1799999999999997E-2,11594201,64.930160828347425,8.9839171652570826E-2,0,0,0,0,0,{"$f":"MIN(H241*parameters!C$22,ROUND(P241+T241-V241+W241,0))","v":11594201},64.930160828347425,null,-16303,-16303,0,-8.9839171652570826E-2,null,-1.4041595438061948E-3,-8.9839171652570826E-2,0,null,null,null,null,"232","Pepperell",0.65021461333831554,65.02,11594201,-8.9839171652570826E-2]
[233,"Peru",100581000,333009.31734760531,17045000,240927.58232386678,573937,1198479.5364296762,0.4788876093035212,988746,573937,47.89,null,575398,2.9700000000000001E-2,592487,49.436555401274944,0,0,0,18550,18550,0,{"$f":"MIN(H242*parameters!C$22,ROUND(P242+T242-V242+W242,0))","v":573937},47.88876093035212,null,0,0,0,-1.239069647880342E-3,null,3.2320620555914677E-2,1.5465554012749436,0,null,null,null,null,"233","Peru",0.4788876093035212,47.89,573937,-1.239069647880342E-3]
[234,"Petersham",168293700,557196.39048033603,43109000,609336.88157228357,1166533,1706902.1310415093,0.68342113984485475,1408194,1166533,68.34,null,1147694,4.5699999999999991E-2,1200144,70.311236840960646,0,0,0,33611,33611,0,{"$f":"MIN(H243*parameters!C$22,ROUND(P243+T243-V243+W243,0))","v":1166533},68.342113984485479,null,0,0,0,2.1139844854758394E-3,null,2.8812729687029855E-2,1.9712368409606427,0,null,null,null,null,"234","Petersham",0.68342113984485475,68.34,1166533,2.1139844854758394E-3]
[235,"Phillipston",225116800,745329.55420484382,53220000,752253.79473606276,1497583,2397167.4938948648,0.62473023007948447,1977663,1497583,62.47,null,1433908,4.3099999999999999E-2,1495709,62.394847410925173,7.5152589074825471E-2,0,0,0,0,0,{"$f":"MIN(H244*parameters!C$22,ROUND(P244+T244-V244+W244,0))","v":1495709},62.394847410925173,null,-1874,-1874,0,-7.5152589074825471E-2,null,-1.2513496747759557E-3,-7.5152589074825471E-2,0,null,null,null,null,"235","Phillipston",0.62473023007948447,62.47,1495709,-7.5152589074825471E-2]
[236,"Pittsfield",3828682400,12676220.283799039,1208297000,17079030.503912073,29755251,78783436.899999991,0.37768409415507492,64996335,29755251,37.770000000000003,null,28300807,4.0599999999999997E-2,29449820,37.380725135640795,0.38927486435920855,0,0,0,0,0,{"$f":"MIN(H245*parameters!C$22,ROUND(P245+T245-V245+W245,0))","v":29449820},37.380725135640795,null,-305431,-305431,0,-0.38927486435920855,null,-1.026477645911977E-2,-0.38927486435920855,0,null,null,null,null,"236","Pittsfield",0.37768409415507492,37.770000000000003,29449820,-0.38927486435920855]
[237,"Plainfield",98187300,325084.1187222689,17152000,242440.0053985898,567524,714047.58911509183,0.79479856616184885,589089,567524,79.48,null,549138,4.7100000000000003E-2,575002,80.527125749782471,0,0,0,7478,7478,0,{"$f":"MIN(H246*parameters!C$22,ROUND(P246+T246-V246+W246,0))","v":567524},79.47985661618489,null,0,0,0,-1.4338381511436182E-4,null,1.3176535265468949E-2,1.0471257497824666,0,null,null,null,null,"237","Plainfield",0.79479856616184885,79.48,567524,-1.4338381511436182E-4]
[238,"Plainville",1692502300,5603633.2461623158,413440000,5843889.6823689928,11447523,15041006.147402365,0.76108758202834903,12408830,11447523,76.11,null,10969671,1.6400000000000001E-2,11149574,74.127846839059842,1.9821531609401575,0,0,0,0,0,{"$f":"MIN(H247*parameters!C$22,ROUND(P247+T247-V247+W247,0))","v":11149574},74.127846839059842,null,-297949,-297949,0,-1.9821531609401575,null,-2.6027377276289378E-2,-1.9821531609401575,0,null,null,null,null,"238","Plainville",0.76108758202834903,76.11,11149574,-1.9821531609401575]
[239,"Plymouth",12163150000,40270451.459982753,2395890000,33865414.210262783,74135866,96574184.652480006,0.76765717739969763,79673702,74135866,76.77,null,71603127,3.9899999999999998E-2,74460092,77.10144514079299,0,0,0,324226,324226,0,{"$f":"MIN(H248*parameters!C$22,ROUND(P248+T248-V248+W248,0))","v":74135866},76.765717739969759,null,0,0,0,-4.2822600302372393E-3,null,4.373402746789253E-3,0.3314451407929937,0,null,null,null,null,"239","Plymouth",0.76765717739969763,76.77,74135866,-4.2822600302372393E-3]
[240,"Plympton",591177800,1957305.212804199,122480000,1731229.7027296687,3688535,4907348.9299622942,0.75163495660137236,4048563,3688535,75.16,null,3628950,2.3399999999999997E-2,3713867,75.679701056605637,0,0,0,25332,25332,0,{"$f":"MIN(H249*parameters!C$22,ROUND(P249+T249-V249+W249,0))","v":3688535},75.163495660137229,null,0,0,0,3.4956601372329033E-3,null,6.86776728430122E-3,0.51970105660564059,0,null,null,null,null,"240","Plympton",0.75163495660137236,75.16,3688535,3.4956601372329033E-3]
[241,"Princeton",591085900,1957000.9450372823,201570000,2849150.6464665197,4806152,4929978.6602420667,0.97488292165630053,4067232,4067232,82.5,null,4077311,3.4700000000000002E-2,4218794,85.574285219986194,0,0,0,151562,151562,0,{"$f":"MIN(H250*parameters!C$22,ROUND(P250+T250-V250+W250,0))","v":4067232},82.499991993886141,null,0,0,0,-8.0061138589826442E-6,null,3.7264163932620512E-2,3.0742852199861943,0,null,null,null,null,"241","Princeton",0.97488292165630053,82.5,4067232,-8.0061138589826442E-6]
[242,"Provincetown",3620873900,11988196.037430143,181534000,2565945.8920258628,14554142,1559675.2068648974,9.3315210345975022,1286732,1286732,82.5,null,1282697,-4.0000000000000001E-3,1277566,81.912310612927868,0.58768938707213181,0,0,0,0,9166,{"$f":"MIN(H251*parameters!C$22,ROUND(P251+T251-V251+W251,0))","v":1286732},82.499997072240419,null,-9166,0,0,-2.9277595814392043E-6,null,-7.1234724868892664E-3,-0.58768938707213181,0,null,null,null,null,"242","Provincetown",9.3315210345975022,82.5,1286732,-2.9277595814392043E-6]
[243,"Quincy",18377975900,60846851.877489209,3623776000,51221331.215209894,112068183,138289683.04795843,0.81038715636606895,114088989,112068183,81.040000000000006,null,101843902,3.8699999999999998E-2,105785261,76.495410697639684,4.5445893023603219,0.01,1018439,0,0,0,{"$f":"MIN(H252*parameters!C$22,ROUND(P252+T252-V252+W252,0))","v":106803700},77.23186404510075,null,-6282922,-5264483,0,-3.8081359548992566,null,-5.6063387768141112E-2,-4.5445893023603219,1018439.02,null,null,null,null,"243","Quincy",0.81038715636606895,81.040000000000006,106803700,-3.8081359548992566]
[244,"Randolph",4234173100,14018742.044348273,999298000,14124872.464715485,28143615,50187214.557128266,0.56077260410545471,41404452,28143615,56.08,null,26405461,2.6800000000000001E-2,27113127,54.02397251821386,2.0560274817861384,0,0,0,0,0,{"$f":"MIN(H253*parameters!C$22,ROUND(P253+T253-V253+W253,0))","v":27113127},54.02397251821386,null,-1030488,-1030488,0,-2.0560274817861384,null,-3.6615338861052497E-2,-2.0560274817861384,0,null,null,null,null,"244","Randolph",0.56077260410545471,56.08,27113127,-2.0560274817861384]
[245,"Raynham",2528923600,8372904.640640364,608974000,8607722.7056670263,16980627,27568361.502191201,0.61594618159118153,22743898,16980627,61.59,null,16293996,4.0899999999999999E-2,16960420,61.521320368103645,6.8679631896358728E-2,0,0,0,0,0,{"$f":"MIN(H254*parameters!C$22,ROUND(P254+T254-V254+W254,0))","v":16960420},61.521320368103645,null,-20207,-20207,0,-6.8679631896358728E-2,null,-1.1900031724388033E-3,-6.8679631896358728E-2,0,null,null,null,null,"245","Raynham",0.61594618159118153,61.59,16960420,-6.8679631896358728E-2]
[246,"Reading",5817458000,19260772.086958423,1682759000,23785453.65231609,43046226,42843967.652532235,1.0047208127199632,35346273,35346273,82.5,null,35455725,2.3700000000000002E-2,36296026,84.716771085169967,0,0,0,949753,949753,0,{"$f":"MIN(H255*parameters!C$22,ROUND(P255+T255-V255+W255,0))","v":35346273},82.499999268650612,null,0,0,0,-7.3134938816110662E-7,null,2.6869961650553654E-2,2.2167710851699667,0,null,null,null,null,"246","Reading",1.0047208127199632,82.5,35346273,-7.3134938816110662E-7]
[247,"Rehoboth",2137328300,7076388.5637517795,625370000,8839476.805976918,15915865,18630428.060059886,0.85429411222818885,15370103,15370103,82.5,null,14760788,4.2299999999999997E-2,15385169,82.580866904410485,0,0,0,15066,15066,0,{"$f":"MIN(H256*parameters!C$22,ROUND(P256+T256-V256+W256,0))","v":15370103},82.499999197284112,null,0,0,0,-8.0271588842606434E-7,null,9.8021464137227959E-4,8.0866904410484608E-2,0,null,null,null,null,"247","Rehoboth",0.85429411222818885,82.5,15370103,-8.0271588842606434E-7]
[248,"Revere",7759126900,25689360.338259123,1448160000,20469444.858793247,46158805,123537583.74736096,0.37364179871282333,101918507,46158805,37.36,null,38640034,2.6599999999999999E-2,39667859,32.109952126894655,5.2500478731053448,0.01,386400,0,0,0,{"$f":"MIN(H257*parameters!C$22,ROUND(P257+T257-V257+W257,0))","v":40054259},32.422731435246845,null,-6490946,-6104546,0,-4.937268564753154,null,-0.14062205466541,-5.2500478731053448,772800.68,null,null,null,null,"248","Revere",0.37364179871282333,37.36,40054259,-4.937268564753154]
[249,"Richmond",441224400,1460830.9346805732,71144000,1005605.8619448036,2466437,1292054.5900000001,1.9089263093752098,1065945,1065945,82.5,null,1196108,3.3399999999999999E-2,1236058,95.66608172492154,0,0,0,170113,170113,0,{"$f":"MIN(H258*parameters!C$22,ROUND(P258+T258-V258+W258,0))","v":1065945},82.499997155692924,null,0,0,0,-2.8443070760886258E-6,null,0.15958890937149664,13.16608172492154,0,null,null,null,null,"249","Richmond",1.9089263093752098,82.5,1065945,-2.8443070760886258E-6]
[250,"Rochester",1099776900,3641204.1509198118,250809000,3545133.8219458316,7186338,10567878.75338883,0.68001707511032317,8718500,7186338,68,null,6831178,3.7999999999999999E-2,7090763,67.097315984309404,0.9026840156905962,0,0,0,0,0,{"$f":"MIN(H259*parameters!C$22,ROUND(P259+T259-V259+W259,0))","v":7090763},67.097315984309404,null,-95575,-95575,0,-0.9026840156905962,null,-1.3299541435429283E-2,-0.9026840156905962,0,null,null,null,null,"250","Rochester",0.68001707511032317,68,7090763,-0.9026840156905962]
[251,"Rockland",2402334500,7953786.2209125059,582172000,8228881.9276415473,16182668,32189208.264554683,0.50273581962622016,26556097,16182668,50.27,null,15761565,2.5000000000000001E-2,16155604,50.189504094730495,8.0495905269508228E-2,0,0,0,0,0,{"$f":"MIN(H260*parameters!C$22,ROUND(P260+T260-V260+W260,0))","v":16155604},50.189504094730495,null,-27064,-27064,0,-8.0495905269508228E-2,null,-1.6724065524918387E-3,-8.0495905269508228E-2,0,null,null,null,null,"251","Rockland",0.50273581962622016,50.27,16155604,-8.0495905269508228E-2]
[252,"Rockport",2475141900,8194841.1176808216,362060000,5117643.9106001295,13312485,7386192.1601756699,1.8023475034642724,6093609,6093609,82.5,null,6624236,1.2500000000000001E-2,6707039,90.805097600391733,0,0,0,613430,613430,0,{"$f":"MIN(H261*parameters!C$22,ROUND(P261+T261-V261+W261,0))","v":6093609},82.500006334184945,null,0,0,0,6.3341849454445764E-6,null,0.10066776519464901,8.3050976003917327,0,null,null,null,null,"252","Rockport",1.8023475034642724,82.5,6093609,6.3341849454445764E-6]
[253,"Rowe",520263200,1722517.1063429539,11397000,161094.2596506371,1883611,578883.1100000001,3.2538710621562266,477579,477579,82.5,null,531196,4.1700000000000001E-2,553347,95.58872774850866,0,0,0,75768,75768,0,{"$f":"MIN(H262*parameters!C$22,ROUND(P262+T262-V262+W262,0))","v":477579},82.500075015144233,null,0,0,0,7.5015144233248066E-5,null,0.15865019190542298,13.08872774850866,0,null,null,null,null,"253","Rowe",3.2538710621562266,82.5,477579,7.5015144233248066E-5]
[254,"Rowley",1201949600,3979483.359503557,311397000,4401532.7869114196,8381016,8199841.1701651346,1.0220949194106423,6764869,6764869,82.5,null,7307945,2.76E-2,7509644,91.582798302528161,0,0,0,744775,744775,0,{"$f":"MIN(H263*parameters!C$22,ROUND(P263+T263-V263+W263,0))","v":6764869},82.500000422127243,null,0,0,0,4.2212724338241969E-7,null,0.11009451919911531,9.0827983025281611,0,null,null,null,null,"254","Rowley",1.0220949194106423,82.5,6764869,4.2212724338241969E-7]
[255,"Royalston",148156600,490525.33009755542,32005000,452384.11688327114,942909,1736235.9116533156,0.54307654488157842,1432395,942909,54.31,null,606604,3.8300000000000001E-2,629837,36.276003495414578,18.033996504585424,0.02,12132,0,0,0,{"$f":"MIN(H264*parameters!C$22,ROUND(P264+T264-V264+W264,0))","v":641969},36.974756465478848,null,-313072,-300940,0,-17.335243534521155,null,-0.33202779907711139,-18.033996504585424,12132.08,null,null,null,null,"255","Royalston",0.54307654488157842,54.31,641969,-17.335243534521155]
[256,"Russell",159385000,527700.95788914477,45829000,647783.52421944798,1175484,2710618.767172317,0.43365891737931483,2236260,1175484,43.37,null,1125046,3.2899999999999999E-2,1162060,42.870654260696575,0.49934573930342196,0,0,0,0,0,{"$f":"MIN(H265*parameters!C$22,ROUND(P265+T265-V265+W265,0))","v":1162060},42.870654260696575,null,-13424,-13424,0,-0.49934573930342196,null,-1.1419976792538223E-2,-0.49934573930342196,0,null,null,null,null,"256","Russell",0.43365891737931483,43.37,1162060,-0.49934573930342196]
[257,"Rutland",1039229400,3440740.0310352994,335604000,4743693.7716760915,8184434,17653943.601691034,0.46360372416823797,{"$f":"ROUND(H266*maxloc,0)","v":14564503},8184434,46.36,null,7988286,4.8399999999999999E-2,8374919,47.439366460861379,0,0,0,190485,{"$f":"MAX(U266*(V$5),0)","v":190485},0,{"$f":"MIN(H266*parameters!C$22,ROUND(P266+T266-V266+W266,0))","v":8184434},46.3603724168238,null,0,0,0,3.724168238008474E-4,null,2.3274059024729139E-2,1.0793664608613796,{"$f":"IF(AF266<$AH$5, $AH$6*(N266), IF(AND(AF266<$AH$4, AF266>$AH$5), $AH$7*(N266), 0))","v":0},null,null,null,null,"257","Rutland",0.46360372416823797,{"$f":"L266","v":46.36},{"$f":"X266","v":8184434},3.724168238008474E-4]
[258,"Salem",6641110700,{"$f":"D$5*C267","v":21987768.471549071},1448792000,20478378.049290679,{"$f":"ROUND(D267+F267,0)","v":42466147},{"$f":"(SUMIF(town1755,A267,found1755)/2)","v":63345190.199333414},{"$f":"G267/H267","v":0.6703926038641348},52259782,{"$f":"MIN(G267,J267)","v":42466147},{"$f":"IF(H267>0, ROUND((K267*100/H267), 2), 0)","v":67.040000000000006},null,37667090,0.03,{"$f":"ROUND(N267*(1+O267),0)","v":38797103},{"$f":"P267*100/H267","v":61.247117386361978},{"$f":"IF(L267>Q267,L267-Q267,0)","v":5.792882613638028},{"$f":"IF(AND(R267>$T$4,R267<=$T$5),$S$4,IF(R267>$T$5,$S$5,0))","v":0.01},{"$f":"ROUND(S267*N267,0)","v":376671},{"$f":"MAX(P267-K267,0)","v":0},0,{"$f":"IF(AND(I267>1.75,$W$5=1),MAX(K267-(P267+T267),0),0)","v":0},{"$f":"MIN(H267*parameters!C$22,ROUND(P267+T267-V267+W267,0))","v":39173774},{"$f":"X267*100/H267","v":61.841749747263727},null,{"$f":"IF(Q267<L267, P267-K267, 0)","v":-3669044},{"$f":"-1*MAX(K267-(P267+T267+W267),0)","v":-3292373},{"$f":"IF(Q267>L267, X267-K267,0)","v":0},{"$f":"Y267-L267","v":-5.1982502527362797},null,-8.6399267633110205E-2,-5.792882613638028,376670.9,null,null,null,null,{"$f":"TEXT(A267,\"000\")","v":"258"},{"$f":"B267","v":"Salem"},{"$f":"I267","v":0.6703926038641348},67.040000000000006,39173774,{"$f":"AD267","v":-5.1982502527362797}]
[259,"Salisbury",2004195100,6635603.5641166382,298342000,{"$f":"E268*F$5","v":4217003.0370001206},10852607,10628423.785150981,1.0210927997773505,8768450,8768450,82.5,null,8908219,4.9299999999999997E-2,9347394,87.947132979955938,0,0,0,578944,578944,0,{"$f":"MIN(H268*parameters!C$22,ROUND(P268+T268-V268+W268,0))","v":8768450},82.500003549448621,null,0,0,0,3.5494486212428455E-6,null,6.6025808438207434E-2,5.4471329799559385,0,null,null,null,null,"259","Salisbury",1.0210927997773505,82.5,8768450,3.5494486212428455E-6]
[260,"Sandisfield",239836800,794065.37062501011,19703000,278497.86767539731,1072563,1056069.1800810313,1.0156181244847078,871257,871257,82.5,null,785670,3.3799999999999997E-2,812226,76.910302404401065,5.5896975955989348,0.01,7857,0,0,0,{"$f":"MIN(H269*parameters!C$22,ROUND(P269+T269-V269+W269,0))","v":820083},77.654287755758176,null,-59031,-51174,0,-4.8457122442418239,null,-6.775383153306086E-2,-5.5896975955989348,7856.7,null,null,null,null,"260","Sandisfield",1.0156181244847078,82.5,820083,-4.8457122442418239]
[261,"Sandwich",4979931300,16487840.871048933,906417000,12812018.561880454,29299859,29940320.284019947,0.97860873638142809,24700764,24700764,82.5,null,25198424,2.1000000000000001E-2,25727591,85.929578427828616,0,0,0,1026827,1026827,0,{"$f":"MIN(H270*parameters!C$22,ROUND(P270+T270-V270+W270,0))","v":24700764},82.499999217388279,null,0,0,0,-7.8261172120619449E-7,null,4.1570657490594215E-2,3.4295784278286163,0,null,null,null,null,"261","Sandwich",0.97860873638142809,82.5,24700764,-7.8261172120619449E-7]
[262,"Saugus",5498717200,18205466.848207273,1034333000,14620085.010724088,32825552,35156082.189210109,0.93370904708132174,29003768,29003768,82.5,null,29507720,2.3E-2,30186398,85.863941941928402,0,0,0,1182630,1182630,0,{"$f":"MIN(H271*parameters!C$22,ROUND(P271+T271-V271+W271,0))","v":29003768},82.500000551545128,null,0,0,0,5.5154512779154174E-7,null,4.0775046883563544E-2,3.3639419419284025,0,null,null,null,null,"262","Saugus",0.93370904708132174,82.5,29003768,5.5154512779154174E-7]
[263,"Savoy",75889600,251259.62050270755,19636000,277550.83640430908,528810,633456.79223221052,0.83480042598730331,522602,522602,82.5,null,519841,3.1E-2,535956,84.608138482716114,0,0,0,13354,13354,0,{"$f":"MIN(H272*parameters!C$22,ROUND(P272+T272-V272+W272,0))","v":522602},82.500023112614485,null,0,0,0,2.3112614485398808E-5,null,2.5552906418268587E-2,2.1081384827161145,0,null,null,null,null,"263","Savoy",0.83480042598730331,82.5,522602,2.3112614485398808E-5]
[264,"Scituate",5194149500,17197086.71813171,1332356000,18832579.048090223,36029666,31373300.321263947,1.1484181017315573,25882973,25882973,82.5,null,26519404,3.7199999999999997E-2,27505926,87.673039553818484,0,0,0,1622953,1622953,0,{"$f":"MIN(H273*parameters!C$22,ROUND(P273+T273-V273+W273,0))","v":25882973},82.500000748908278,null,0,0,0,7.4890827761464607E-7,null,6.2703500096376097E-2,5.1730395538184837,0,null,null,null,null,"264","Scituate",1.1484181017315573,82.5,25882973,7.4890827761464607E-7]
[265,"Seekonk",2729356900,9036510.6537713502,618950000,8748731.4214935377,17785242,24691826.618637364,0.72028863132287335,20370757,17785242,72.03,null,17297912,3.7400000000000003E-2,17944854,72.675279464562749,0,0,0,159612,159612,0,{"$f":"MIN(H274*parameters!C$22,ROUND(P274+T274-V274+W274,0))","v":17785242},72.028863132287341,null,0,0,0,-1.1368677126597504E-3,null,8.9744069830480794E-3,0.64527946456274776,0,null,null,null,null,"265","Seekonk",0.72028863132287335,72.03,17785242,-1.1368677126597504E-3]
[266,"Sharon",3961784600,13116902.646864275,1281286000,18110715.062799528,31227618,38935761.617537878,0.80202920663902233,32122003,31227618,80.2,null,30980861,3.4500000000000003E-2,32049701,82.314303531085457,0,0,0,822083,822083,0,{"$f":"MIN(H275*parameters!C$22,ROUND(P275+T275-V275+W275,0))","v":31227618},80.202920663902233,null,0,0,0,2.9206639022305581E-3,null,2.6325510962763796E-2,2.1143035310854543,0,null,null,null,null,"266","Sharon",0.80202920663902233,80.2,31227618,2.9206639022305581E-3]
[267,"Sheffield",717578800,2375800.8603127212,118093000,1669220.3566660252,4045021,4346625.9749077661,0.93061170281296957,3585966,3585966,82.5,null,3370279,4.1099999999999998E-2,3508797,80.724613073579576,1.7753869264204241,0,0,0,0,0,{"$f":"MIN(H276*parameters!C$22,ROUND(P276+T276-V276+W276,0))","v":3508797},80.724613073579576,null,-77169,-77169,0,-1.7753869264204241,null,-2.1519724392255812E-2,-1.7753869264204241,0,null,null,null,null,"267","Sheffield",0.93061170281296957,82.5,3508797,-1.7753869264204241]
[268,"Shelburne",308015300,1019794.6409920149,42606664.5,602236.47221291414,1622031,2164427.2642802475,0.74940425431176849,1785652,1622031,74.94,null,1477838,4.590000000000001E-2,1545671,71.41247135019772,3.527528649802278,0.01,14778,0,0,0,{"$f":"MIN(H277*parameters!C$22,ROUND(P277+T277-V277+W277,0))","v":1560449},72.095238576608267,null,-76360,-61582,0,-2.8447614233917307,null,-4.7076782133017185E-2,-3.527528649802278,0,null,null,null,null,"268","Shelburne",0.74940425431176849,74.94,1560449,-2.8447614233917307]
[269,"Sherborn",1380482500,4570580.2779383333,922729000,13042585.339402715,17613166,10171735.821210582,1.7315791827066722,8391682,8391682,82.5,null,8277451,4.3499999999999997E-2,8637520,84.916873106246399,0,0,0,245838,245838,0,{"$f":"MIN(H278*parameters!C$22,ROUND(P278+T278-V278+W278,0))","v":8391682},82.499999483876394,null,0,0,0,-5.1612360607578012E-7,null,2.9295438030182745E-2,2.4168731062463991,0,null,null,null,null,"269","Sherborn",1.7315791827066722,82.5,8391682,-5.1612360607578012E-7]
[270,"Shirley",778088400,2576139.4987133797,223411000,3157868.7060461952,5734008,9339200.0082064327,0.61397207415640309,7704840,5734008,61.4,null,5616287,2.8400000000000002E-2,5775790,61.844590488743847,0,0,0,41782,41782,0,{"$f":"MIN(H279*parameters!C$22,ROUND(P279+T279-V279+W279,0))","v":5734008},61.39720741564031,null,0,0,0,-2.7925843596889877E-3,null,7.2867006812686692E-3,0.44459048874384877,0,null,null,null,null,"270","Shirley",0.61397207415640309,61.4,5734008,-2.7925843596889877E-3]
[271,"Shrewsbury",6818364500,22574630.472675219,2314738000,32718347.319048561,55292978,67755147.820000008,0.81607050945992599,55897997,55292978,81.61,null,50487975,2.92E-2,51962224,76.691182399961875,4.9188176000381247,0.01,504880,0,0,0,{"$f":"MIN(H280*parameters!C$22,ROUND(P280+T280-V280+W280,0))","v":52467104},77.436336113361307,null,-3330754,-2825874,0,-4.1736638866386926,null,-6.0238281974973384E-2,-4.9188176000381247,504879.75,null,null,null,null,"271","Shrewsbury",0.81607050945992599,81.61,52467104,-4.1736638866386926]
[272,"Shutesbury",243958800,807712.72356549418,50309000,711107.40622654231,1518820,2491953.8066532845,0.60948962855767719,2055862,1518820,60.95,null,1481372,3.0099999999999998E-2,1525961,61.235525150017885,0,0,0,7141,7141,0,{"$f":"MIN(H281*parameters!C$22,ROUND(P281+T281-V281+W281,0))","v":1518820},60.948962855767718,null,0,0,0,-1.0371442322849589E-3,null,4.7016763013391976E-3,0.28552515001788237,0,null,null,null,null,"272","Shutesbury",0.60948962855767719,60.95,1518820,-1.0371442322849589E-3]
[273,"Somerset",2395477400,7931083.3427348752,596046000,8424988.0747322682,16356071,30187448.281194933,0.54181694483229659,24904645,16356071,54.18,null,15305791,3.04E-2,15771087,52.243855966535904,1.936144033464096,0,0,0,0,0,{"$f":"MIN(H282*parameters!C$22,ROUND(P282+T282-V282+W282,0))","v":15771087},52.243855966535904,null,-584984,-584984,0,-1.936144033464096,null,-3.5765557633003674E-2,-1.936144033464096,0,null,null,null,null,"273","Somerset",0.54181694483229659,54.18,15771087,-1.936144033464096]
[274,"Somerville",19987384600,66175374.088645361,3842650000,54315070.355928816,120490444,76723652.080639988,1.5704471923906744,63297013,63297013,82.5,null,59668622,4.53E-2,62371611,81.293850473182175,1.2061495268178248,0,0,0,0,0,{"$f":"MIN(H283*parameters!C$22,ROUND(P283+T283-V283+W283,0))","v":62371611},81.293850473182175,null,-925402,-925402,0,-1.2061495268178248,null,-1.461999478553593E-2,-1.2061495268178248,0,null,null,null,null,"274","Somerville",1.5704471923906744,82.5,62371611,-1.2061495268178248]
[275,"Southampton",841345200,2785573.7237220197,257987000,3646593.3811080917,6432167,9255750.4746793844,0.69493738164141761,7635994,6432167,69.489999999999995,null,6195589,3.1399999999999997E-2,6390130,69.039566456347799,0.45043354365219557,0,0,0,0,0,{"$f":"MIN(H284*parameters!C$22,ROUND(P284+T284-V284+W284,0))","v":6390130},69.039566456347799,null,-42037,-42037,0,-0.45043354365219557,null,-6.5354335482894019E-3,-0.45043354365219557,0,null,null,null,null,"275","Southampton",0.69493738164141761,69.489999999999995,6390130,-0.45043354365219557]
[276,"Southborough",2780408500,9205535.2057792153,1258344000,17786434.593824808,26991970,18652549.959964998,1.4470927598604137,15388354,15388354,82.5,null,15545121,4.0800000000000003E-2,16179362,86.740751450748888,0,0,0,791008,791008,0,{"$f":"MIN(H285*parameters!C$22,ROUND(P285+T285-V285+W285,0))","v":15388354},82.500001517373647,null,0,0,0,1.5173736471751909E-6,null,5.1403028550032058E-2,4.2407514507488884,0,null,null,null,null,"276","Southborough",1.4470927598604137,82.5,15388354,1.5173736471751909E-6]
[277,"Southbridge",1200715500,3975397.4307641461,369253000,5219315.4916887525,9194713,35438635.408050001,0.2594544878528644,29236874,9194713,25.95,null,8983523,2.9600000000000001E-2,9249435,26.099862180074126,0,0,0,54722,54722,0,{"$f":"MIN(H286*parameters!C$22,ROUND(P286+T286-V286+W286,0))","v":9194713},25.945448785286441,null,0,0,0,-4.5512147135582381E-3,null,5.9514636291529708E-3,0.14986218007412688,0,null,null,null,null,"277","Southbridge",0.2594544878528644,25.95,9194713,-4.5512147135582381E-3]
[278,"South Hadley",1745214700,5778156.4696314987,583161000,8242861.2399864169,14021018,22241637.689999994,0.63039503634680438,18349351,14021018,63.04,null,14027360,3.2500000000000001E-2,14483249,65.117727398786727,0,0,0,462231,462231,0,{"$f":"MIN(H287*parameters!C$22,ROUND(P287+T287-V287+W287,0))","v":14021018},63.039503634680436,null,0,0,0,-4.9636531956309682E-4,null,3.2967007103193217E-2,2.0777273987867275,0,null,null,null,null,"278","South Hadley",0.63039503634680438,63.04,14021018,-4.9636531956309682E-4]
[279,"Southwick",1204413300,3987640.3181254566,366263000,5177052.4543670528,9164693,13437916.741652636,0.682002513945692,11086281,9164693,68.2,null,9078342,4.0800000000000003E-2,9448738,70.314009095713189,0,0,0,284045,284045,0,{"$f":"MIN(H288*parameters!C$22,ROUND(P288+T288-V288+W288,0))","v":9164693},68.200251394569207,null,0,0,0,2.5139456920442171E-4,null,3.0993400433598814E-2,2.1140090957131861,0,null,null,null,null,"279","Southwick",0.682002513945692,68.2,9164693,2.5139456920442171E-4]
[280,"Spencer",1231722600,4078057.5077561121,345229000,4879741.1744257091,8957799,18042837.570315238,0.49647395899288654,14885341,8957799,49.65,null,8483494,2.7000000000000003E-2,8712548,48.288125224461453,1.3618747755385456,0,0,0,0,0,{"$f":"MIN(H289*parameters!C$22,ROUND(P289+T289-V289+W289,0))","v":8712548},48.288125224461453,null,-245251,-245251,0,-1.3618747755385456,null,-2.7378488845306755E-2,-1.3618747755385456,0,null,null,null,null,"280","Spencer",0.49647395899288654,49.65,8712548,-1.3618747755385456]
[281,"Springfield",9395931000,31108584.803841703,2520011000,35619839.111736573,66728424,443439917.51999992,0.15047906461192778,365837932,66728424,15.05,null,41873391,2.1099999999999997E-2,42756920,9.6420999352345369,5.4079000647654638,0.01,418734,0,0,0,{"$f":"MIN(H290*parameters!C$22,ROUND(P290+T290-V290+W290,0))","v":43175654},9.7365285113405928,null,-23971504,-23552770,0,-5.3134714886594079,null,-0.35923977464236229,-5.4079000647654638,837467.82000000007,null,null,null,null,"281","Springfield",0.15047906461192778,15.05,43175654,-5.3134714886594079]
[282,"Sterling",1256274900,4159346.6643792675,392721000,5551030.8628812721,9710378,11480315.525572836,0.8458284947281951,9471260,9471260,82.5,null,9343087,2.6800000000000001E-2,9593482,83.564619618948242,0,0,0,122222,122222,0,{"$f":"MIN(H291*parameters!C$22,ROUND(P291+T291-V291+W291,0))","v":9471260},82.49999731194157,null,0,0,0,-2.6880584300670307E-6,null,1.290451323266387E-2,1.0646196189482424,0,null,null,null,null,"282","Sterling",0.8458284947281951,82.5,9471260,-2.6880584300670307E-6]
[283,"Stockbridge",951374700,3149865.6743200286,79869000,1128931.9491126381,4278798,1527536.5518968089,2.8011100583399,1260218,1260218,82.5,null,1206699,3.8E-3,1211284,79.296564032847243,3.2034359671527568,0.01,12067,0,0,36867,{"$f":"MIN(H292*parameters!C$22,ROUND(P292+T292-V292+W292,0))","v":1260218},82.500022564771513,null,-48934,0,0,2.2564771512634252E-5,null,-3.8829789766532459E-2,-3.2034359671527568,0,null,null,null,null,"283","Stockbridge",2.8011100583399,82.5,1260218,2.2564771512634252E-5]
[284,"Stoneham",4676207700,15482255.435446212,1077411000,15228983.713648556,30711239,29271358.068943843,1.0491907798628528,24148870,24148870,82.5,null,23350686,2.64E-2,23967144,81.879166465557745,0.62083353444225509,0,0,0,0,0,{"$f":"MIN(H293*parameters!C$22,ROUND(P293+T293-V293+W293,0))","v":23967144},81.879166465557745,null,-181726,-181726,0,-0.62083353444225509,null,-7.5252382409611712E-3,-0.62083353444225509,0,null,null,null,null,"284","Stoneham",1.0491907798628528,82.5,23967144,-0.62083353444225509]
[285,"Stoughton",4681174300,15498699.138288088,1002081000,14164209.599453373,29662909,47151797.686094314,0.62909391488053445,38900233,29662909,62.91,null,28399209,3.2000000000000001E-2,29307984,62.15666302929381,0.75333697070618655,0,0,0,0,0,{"$f":"MIN(H294*parameters!C$22,ROUND(P294+T294-V294+W294,0))","v":29307984},62.15666302929381,null,-354925,-354925,0,-0.75333697070618655,null,-1.1965279602212987E-2,-0.75333697070618655,0,null,null,null,null,"285","Stoughton",0.62909391488053445,62.91,29307984,-0.75333697070618655]
[286,"Stow",1445144700,4784667.5815065457,516842000,7305455.7643550579,12090123,13237777.076951563,0.91330462280183311,10921166,10921166,82.5,null,10695186,4.1000000000000009E-2,11133689,84.10542748438472,0,0,0,212523,212523,0,{"$f":"MIN(H295*parameters!C$22,ROUND(P295+T295-V295+W295,0))","v":10921166},82.499999331571757,null,0,0,0,-6.6842824253399158E-7,null,1.9459735343277447E-2,1.6054274843847196,0,null,null,null,null,"286","Stow",0.91330462280183311,82.5,10921166,-6.6842824253399158E-7]
[287,"Sturbridge",1458329400,4828320.2390306601,470345000,6648230.1970149092,11476550,19003865.323644757,0.60390608986903249,15678189,11476550,60.39,null,11051889,1.4000000000000002E-2,11206615,58.97018742843143,1.4198125715685705,0,0,0,0,0,{"$f":"MIN(H296*parameters!C$22,ROUND(P296+T296-V296+W296,0))","v":11206615},58.97018742843143,null,-269935,-269935,0,-1.4198125715685705,null,-2.3520570206203083E-2,-1.4198125715685705,0,null,null,null,null,"287","Sturbridge",0.60390608986903249,60.39,11206615,-1.4198125715685705]
[288,"Sudbury",5131906400,16991008.708959013,2367954000,33470544.574604262,50461553,41719513.786422268,1.2095431710525555,34418599,34418599,82.5,null,35029029,3.5000000000000003E-2,36255045,86.901887652869306,0,0,0,1836446,1836446,0,{"$f":"MIN(H297*parameters!C$22,ROUND(P297+T297-V297+W297,0))","v":34418599},82.50000030250024,null,0,0,0,3.0250023996813979E-7,null,5.3356210111864227E-2,4.4018876528693056,0,null,null,null,null,"288","Sudbury",1.2095431710525555,82.5,34418599,3.0250023996813979E-7]
[289,"Sunderland",388097600,1284935.6920317356,112190000,1585782.6612446238,2870718,3394703.1337888669,0.84564625737861177,2800630,2800630,82.5,null,2905727,3.32E-2,3002197,88.437689001960351,0,0,0,201567,201567,0,{"$f":"MIN(H298*parameters!C$22,ROUND(P298+T298-V298+W298,0))","v":2800630},82.49999748502853,null,0,0,0,-2.5149714701910852E-6,null,{"$f":"(P298-K298)/K298","v":7.197202058108354E-2},{"$f":"Q298-L298","v":5.9376890019603508},0,null,null,null,null,"289","Sunderland",0.84564625737861177,82.5,2800630,-2.5149714701910852E-6]
[290,"Sutton",1666618900,5517937.0076616546,538377000,7609848.5766369272,13127786,15693379.40402553,0.83651746778215108,12947038,12947038,82.5,null,12307341,3.4000000000000002E-2,12725791,81.090188877582918,1.4098111224170822,0,0,0,0,0,{"$f":"MIN(H299*parameters!C$22,ROUND(P299+T299-V299+W299,0))","v":12725791},81.090188877582918,null,-221247,-221247,0,-1.4098111224170822,null,-1.7088619033944288E-2,-1.4098111224170822,0,null,null,null,null,"290","Sutton",0.83651746778215108,82.5,12725791,-1.4098111224170822]
[291,"Swampscott",3428507500,11351298.37738882,1090111000,15408495.611302596,26759794,24099458.125111163,1.1103898627544999,19882053,19882053,82.5,null,19421197,3.1399999999999997E-2,20031023,83.118146872887849,0,0,0,148970,148970,0,{"$f":"MIN(H300*parameters!C$22,ROUND(P300+T300-V300+W300,0))","v":19882053},82.500000194125903,null,0,0,0,1.9412590290812659E-7,null,7.4926869976656837E-3,0.61814687288784853,0,null,null,null,null,"291","Swampscott",1.1103898627544999,82.5,19882053,1.9412590290812659E-7]
[292,"Swansea",2431716500,8051065.8240414001,586915000,8295923.2607575404,16346989,26582822.930149507,0.6149455625143444,21930829,16346989,61.49,null,16388221,4.1599999999999998E-2,17069971,64.214289975349871,0,0,0,722982,722982,0,{"$f":"MIN(H301*parameters!C$22,ROUND(P301+T301-V301+W301,0))","v":16346989},61.494556251434432,null,0,0,0,4.5562514344297256E-3,null,4.4227227411727014E-2,2.7242899753498691,0,null,null,null,null,"292","Swansea",0.6149455625143444,61.49,16346989,4.5562514344297256E-3]
[293,"Taunton",6152158200,20368916.61841175,1560040000,22050845.733559702,42419762,117375076.59062238,0.36140348728333954,96834438,42419762,36.14,null,40641321,3.2899999999999999E-2,41978420,35.764338750049298,0.37566124995070282,0,0,0,0,0,{"$f":"MIN(H302*parameters!C$22,ROUND(P302+T302-V302+W302,0))","v":41978420},35.764338750049298,null,-441342,-441342,0,-0.37566124995070282,null,-1.0404160211931411E-2,-0.37566124995070282,0,null,null,null,null,"293","Taunton",0.36140348728333954,36.14,41978420,-0.37566124995070282]
[294,"Templeton",731826100,2422971.6345846662,224581000,3174406.4163025124,5597378,14093910.815544995,0.3971486745769901,11627476,5597378,39.71,null,5213519,3.7199999999999997E-2,5407462,38.367363542813081,1.34263645718692,0,0,0,0,0,{"$f":"MIN(H303*parameters!C$22,ROUND(P303+T303-V303+W303,0))","v":5407462},38.367363542813081,null,-189916,-189916,0,-1.34263645718692,null,-3.3929457685366253E-2,-1.34263645718692,0,null,null,null,null,"294","Templeton",0.3971486745769901,39.71,5407462,-1.34263645718692]
[295,"Tewksbury",5637921800,18666353.385601476,1342147000,18970972.826824922,37637326,41996849.764268473,0.89619402910602075,34647401,34647401,82.5,null,34447643,3.1E-2,35515520,84.567104912276349,0,0,0,868119,868119,0,{"$f":"MIN(H304*parameters!C$22,ROUND(P304+T304-V304+W304,0))","v":34647401},82.499999867796063,null,0,0,0,-1.3220393668689212E-7,null,2.505581876112439E-2,2.0671049122763492,0,null,null,null,null,"295","Tewksbury",0.89619402910602075,82.5,34647401,-1.3220393668689212E-7]
[296,"Tisbury",3224394300,10675508.741238501,100614669.5,1422167.7365180345,12097676,7062360.8860463211,1.7129790158277467,5826448,5826448,82.5,null,5601714,3.9800000000000002E-2,5824662,82.474714815384985,2.5285184615015055E-2,0,0,0,0,0,{"$f":"MIN(H305*parameters!C$22,ROUND(P305+T305-V305+W305,0))","v":5824662},82.474714815384985,null,-1786,-1786,0,-2.5285184615015055E-2,null,-3.0653324289515668E-4,-2.5285184615015055E-2,0,null,null,null,null,"296","Tisbury",1.7129790158277467,82.5,5824662,-2.5285184615015055E-2]
[297,"Tolland",196506400,650604.60840949556,13345000,188628.84048765048,839233,474279.4144693705,1.7694906723686161,391281,391281,82.5,null,421038,2.7900000000000001E-2,432785,91.251061462198408,0,0,0,41504,41504,0,{"$f":"MIN(H306*parameters!C$22,ROUND(P306+T306-V306+W306,0))","v":391281},82.500101851936776,null,0,0,0,1.0185193677614279E-4,null,0.10607210674681367,8.7510614621984075,0,null,null,null,null,"297","Tolland",1.7694906723686161,82.5,391281,1.0185193677614279E-4]
[298,"Topsfield",1512746600,5008487.8116732873,538204000,7607403.2570862072,12615891,11657470.65358096,1.0822151198059959,9617413,9617413,82.5,null,9638149,3.4200000000000001E-2,9967774,85.505460800264458,0,0,0,350361,350361,0,{"$f":"MIN(H307*parameters!C$22,ROUND(P307+T307-V307+W307,0))","v":9617413},82.499997519150597,null,0,0,0,-2.4808494032413364E-6,null,3.6429859048374029E-2,3.0054608002644585,0,null,null,null,null,"298","Topsfield",1.0822151198059959,82.5,9617413,-2.4808494032413364E-6]
[299,"Townsend",1028137100,3404015.010894171,332630000,4701656.8910758467,8105672,15001887.090273259,0.54031015906361923,12376557,8105672,54.03,null,7783023,2.87E-2,8006396,53.369259159343294,0.66074084065670746,0,0,0,0,0,{"$f":"MIN(H308*parameters!C$22,ROUND(P308+T308-V308+W308,0))","v":8006396},53.369259159343294,null,-99276,-99276,0,-0.66074084065670746,null,-1.2247719868260152E-2,-0.66074084065670746,0,null,null,null,null,"299","Townsend",0.54031015906361923,54.03,8006396,-0.66074084065670746]
[300,"Truro",2485412200,8228844.6132908789,99760000,1410087.1582651187,9638932,2455288.6568648973,3.9257836234651671,2025613,2025613,82.5,null,1985711,2.75E-2,2040318,83.098905470660057,0,0,0,14705,14705,0,{"$f":"MIN(H309*parameters!C$22,ROUND(P309+T309-V309+W309,0))","v":2025613},82.499994220087331,null,0,0,0,-5.7799126693680591E-6,null,7.2595308185719586E-3,0.59890547066005695,0,null,null,null,null,"300","Truro",3.9257836234651671,82.5,2025613,-5.7799126693680591E-6]
[301,"Tyngsborough",1879305900,6222113.2703624638,548481000,7752666.5462350706,13974780,20062830.436236612,0.69655077056123449,16551835,13974780,69.66,null,14003584,2.8300000000000002E-2,14399885,71.773945584425377,0,0,0,425105,425105,0,{"$f":"MIN(H310*parameters!C$22,ROUND(P310+T310-V310+W310,0))","v":13974780},69.655077056123446,null,0,0,0,-4.9229438765507894E-3,null,3.0419441307841699E-2,2.1139455844253803,0,null,null,null,null,"301","Tyngsborough",0.69655077056123449,69.66,13974780,-4.9229438765507894E-3]
[302,"Tyringham",214764900,711055.89265593619,8440000,119297.67056693668,830354,304654.57999999996,2.7255588936165021,251340,251340,82.5,null,264951,1.9400000000000001E-2,270091,88.654830004525138,0,0,0,18751,18751,0,{"$f":"MIN(H311*parameters!C$22,ROUND(P311+T311-V311+W311,0))","v":251340},82.499990645143114,null,0,0,0,-9.3548568855794656E-6,null,7.4604121906580723E-2,6.1548300045251381,0,null,null,null,null,"302","Tyringham",2.7255588936165021,82.5,251340,-9.3548568855794656E-6]
[303,"Upton",1323346500,4381411.1470291885,444595000,6284259.2234250251,10665670,14066117.921943614,0.75825256543322439,11604547,10665670,75.83,null,10308507,4.1900000000000007E-2,10740433,76.356767799056811,0,0,0,74763,74763,0,{"$f":"MIN(H312*parameters!C$22,ROUND(P312+T312-V312+W312,0))","v":10665670},75.825256543322439,null,0,0,0,-4.7434566775592657E-3,null,7.0096862175559526E-3,0.52676779905681315,0,null,null,null,null,"303","Upton",0.75825256543322439,75.83,10665670,-4.7434566775592657E-3]
[304,"Uxbridge",2020830200,6690680.0029570665,539251000,7622202.3875463475,14312882,21513334.976718921,0.6653028001232244,17748501,14312882,66.53,null,13771506,5.8200000000000002E-2,14573008,67.739418438705428,0,0,0,260126,260126,0,{"$f":"MIN(H313*parameters!C$22,ROUND(P313+T313-V313+W313,0))","v":14312882},66.530280012322436,null,0,0,0,2.8001232243468621E-4,null,1.8174257287945222E-2,1.209418438705427,0,null,null,null,null,"304","Uxbridge",0.6653028001232244,66.53,14312882,2.8001232243468621E-4]
[305,"Wakefield",5733498000,18982792.525366224,1383218000,19551502.996002015,38534296,40577467.822448678,0.94964762632826649,33476411,33476411,82.5,null,33068815,3.3799999999999997E-2,34186541,84.250060032299444,0,0,0,710130,710130,0,{"$f":"MIN(H314*parameters!C$22,ROUND(P314+T314-V314+W314,0))","v":33476411},82.500000114545941,null,0,0,0,1.1454594073256885E-7,null,2.1212847458468593E-2,1.7500600322994444,0,null,null,null,null,"305","Wakefield",0.94964762632826649,82.5,33476411,1.1454594073256885E-7]
[306,"Wales",184036100,609317.22719316394,44967000,635599.33085111866,1244917,3409858.1629692577,0.36509348497825594,2813133,1244917,36.51,null,1249356,5.2200000000000003E-2,1314572,38.552102086712274,0,0,0,69655,69655,0,{"$f":"MIN(H315*parameters!C$22,ROUND(P315+T315-V315+W315,0))","v":1244917},36.509348497825592,null,0,0,0,-6.5150217440645974E-4,null,5.5951521266076373E-2,2.0421020867122763,0,null,null,null,null,"306","Wales",0.36509348497825594,36.51,1244917,-6.5150217440645974E-4]
[307,"Walpole",5276015500,17468133.344969571,1489289000,21050794.846085612,38518928,42647496.184439644,0.90319318708454466,35184184,35184184,82.5,null,33869158,3.49E-2,35051192,82.188159061935195,0.31184093806480462,0,0,0,0,0,{"$f":"MIN(H316*parameters!C$22,ROUND(P316+T316-V316+W316,0))","v":35051192},82.188159061935195,null,-132992,-132992,0,-0.31184093806480462,null,-3.7798801870749651E-3,-0.31184093806480462,0,null,null,null,null,"307","Walpole",0.90319318708454466,82.5,35051192,-0.31184093806480462]
[308,"Waltham",15280634600,50591997.462584361,2565949000,36269163.328620926,86861161,78915319.908700004,1.1006881946432305,65105139,65105139,82.5,null,63760767,3.0899999999999997E-2,65730975,83.293047631368097,0,0,0,625836,625836,0,{"$f":"MIN(H317*parameters!C$22,ROUND(P317+T317-V317+W317,0))","v":65105139},82.500000095447248,null,0,0,0,9.5447248327218404E-8,null,9.6126973939799128E-3,0.79304763136809697,0,null,null,null,null,"308","Waltham",1.1006881946432305,82.5,65105139,9.5447248327218404E-8]
[309,"Ware",812035400,2688533.1644752948,238558000,3371968.4472875921,6060502,18669311.487756819,0.32462375508461722,15402182,6060502,32.46,null,6125847,2.8500000000000001E-2,6300434,33.747543417076592,0,0,0,239932,239932,0,{"$f":"MIN(H318*parameters!C$22,ROUND(P318+T318-V318+W318,0))","v":6060502},32.462375508461719,null,0,0,0,2.3755084617178568E-3,null,3.9589459751023924E-2,1.2875434170765914,0,null,null,null,null,"309","Ware",0.32462375508461722,32.46,6060502,2.3755084617178568E-3]
[310,"Wareham",4129275400,13671440.750184029,621314000,8782146.0770883523,22453587,34590514.033347525,0.64912556599630955,28537174,22453587,64.91,null,21534353,2.5999999999999999E-3,21590342,62.41694465478453,2.4930553452154669,0,0,0,0,0,{"$f":"MIN(H319*parameters!C$22,ROUND(P319+T319-V319+W319,0))","v":21590342},62.41694465478453,null,-863245,-863245,0,-2.4930553452154669,null,-3.8445750338242171E-2,-2.4930553452154669,0,null,null,null,null,"310","Wareham",0.64912556599630955,64.91,21590342,-2.4930553452154669]
[311,"Warren",430289400,1424626.7123602934,106084000,1499475.6024197761,2924102,9285299.1429233328,0.31491737153439642,7660372,2924102,31.49,null,2871954,2.5000000000000001E-2,2943753,31.703372769024273,0,0,0,19651,19651,0,{"$f":"MIN(H320*parameters!C$22,ROUND(P320+T320-V320+W320,0))","v":2924102},31.491737153439644,null,0,0,0,1.7371534396453114E-3,null,6.7203538043474542E-3,0.21337276902427504,0,null,null,null,null,"311","Warren",0.31491737153439642,31.49,2924102,1.7371534396453114E-3]
[312,"Warwick",82405000,272831.17881139991,18360000,259514.83786835987,532346,709272.99048598018,0.75055163123474755,585150,532346,75.06,null,508956,3.1399999999999997E-2,524937,74.010572380646167,1.0494276193538354,0,0,0,0,0,{"$f":"MIN(H321*parameters!C$22,ROUND(P321+T321-V321+W321,0))","v":524937},74.010572380646167,null,-7409,-7409,0,-1.0494276193538354,null,-1.3917640031107587E-2,-1.0494276193538354,0,null,null,null,null,"312","Warwick",0.75055163123474755,75.06,524937,-1.0494276193538354]
[313,"Washington",85907800,284428.44903942698,16676000,235711.84293533603,520140,705343.66514061356,0.73742776139671951,581909,520140,73.739999999999995,null,514303,3.8899999999999997E-2,534309,75.751584143522862,0,0,0,14169,14169,0,{"$f":"MIN(H322*parameters!C$22,ROUND(P322+T322-V322+W322,0))","v":520140},73.742776139671946,null,0,0,0,2.7761396719512277E-3,null,2.7240742876917752E-2,2.0115841435228674,0,null,null,null,null,"313","Washington",0.73742776139671951,73.739999999999995,520140,2.7761396719512277E-3]
[314,"Watertown",9830970500,32548938.418483075,1747797000,24704752.455436043,57253691,33522397.491480004,1.7079235163460937,27655978,27655978,82.5,null,27347367,4.7600000000000003E-2,28649102,85.462568741634328,0,0,0,993124,993124,0,{"$f":"MIN(H323*parameters!C$22,ROUND(P323+T323-V323+W323,0))","v":27655978},82.500000207410579,null,0,0,0,2.0741057937812002E-7,null,3.590992153667464E-2,2.9625687416343283,0,null,null,null,null,"314","Watertown",1.7079235163460937,82.5,27655978,2.0741057937812002E-7]
[315,"Wayland",4238747600,14033887.560123686,2078745000,29382634.621169049,43416522,29104320.959789999,1.4917551953877735,24011065,24011065,82.5,null,23276007,2.6599999999999999E-2,23895149,82.10172308439391,0.39827691560608969,0,0,0,0,0,{"$f":"MIN(H324*parameters!C$22,ROUND(P324+T324-V324+W324,0))","v":23895149},82.10172308439391,null,-115916,-115916,0,-0.39827691560608969,null,-4.8276076050770755E-3,-0.39827691560608969,0,null,null,null,null,"315","Wayland",1.4917551953877735,82.5,23895149,-0.39827691560608969]
[316,"Webster",1844205900,6105902.1863714429,486392000,6875051.2538380884,12980953,27759227.59107133,0.46762659218137914,22901363,12980953,46.76,null,12413756,2.1700000000000001E-2,12683135,45.689797954174672,1.0702020458253259,0,0,0,0,0,{"$f":"MIN(H325*parameters!C$22,ROUND(P325+T325-V325+W325,0))","v":12683135},45.689797954174672,null,-297818,-297818,0,-1.0702020458253259,null,-2.294269149576306E-2,-1.0702020458253259,0,null,null,null,null,"316","Webster",0.46762659218137914,46.76,12683135,-1.0702020458253259]
[317,"Wellesley",13524019800,44776096.890998274,6319792000,89328964.936914906,134105062,49917964.166539103,2.6865090401642022,41182320,41182320,82.5,null,43650070,3.8100000000000002E-2,45313138,90.775212404143275,0,0,0,4130818,4130818,0,{"$f":"MIN(H326*parameters!C$22,ROUND(P326+T326-V326+W326,0))","v":41182320},82.499999123772838,null,0,0,0,-8.7622716193891392E-7,null,0.10030561658498113,8.2752124041432751,0,null,null,null,null,"317","Wellesley",2.6865090401642022,82.5,41182320,-8.7622716193891392E-7]
[318,"Wellfleet",2661294900,8811167.0982557684,136003000,1922374.536743494,10733542,3386648.0794636672,3.1693703473612285,2793985,2793985,82.5,null,2723735,3.5900000000000001E-2,2821517,83.312967093021214,0,0,0,27532,27532,0,{"$f":"MIN(H327*parameters!C$22,ROUND(P327+T327-V327+W327,0))","v":2793985},82.50000987532411,null,0,0,0,9.8753241104532208E-6,null,9.8540257016412041E-3,0.81296709302121428,0,null,null,null,null,"318","Wellfleet",3.1693703473612285,82.5,2793985,9.8753241104532208E-6]
[319,"Wendell",102149000,338200.741270623,18340000,259232.14196654249,597433,1552021.3462420176,0.38493864884435558,1280418,597433,38.49,null,600447,3.8199999999999998E-2,623384,40.165942402108648,0,0,0,25951,25951,0,{"$f":"MIN(H328*parameters!C$22,ROUND(P328+T328-V328+W328,0))","v":597433},38.49386488443556,null,0,0,0,3.8648844355577694E-3,null,4.3437506799925682E-2,1.675942402108646,0,null,null,null,null,"319","Wendell",0.38493864884435558,38.49,597433,3.8648844355577694E-3]
[320,"Wenham",946329400,3133161.4070248748,406019000,5738995.3679996515,8872157,6276309.8032647427,1.4135944971016214,5177956,5177956,82.5,null,5543025,6.1400000000000003E-2,5883367,93.739270119197329,0,0,0,705411,705411,0,{"$f":"MIN(H329*parameters!C$22,ROUND(P329+T329-V329+W329,0))","v":5177956},82.500006569251681,null,0,0,0,6.5692516812987378E-6,null,0.13623348672719507,11.239270119197329,0,null,null,null,null,"320","Wenham",1.4135944971016214,82.5,5177956,6.5692516812987378E-6]
[321,"Westborough",4556141700,15084734.067626668,1230861000,17397968.020342447,32482702,43009179.381277457,0.75525044809713826,{"$f":"ROUND(H330*maxloc,0)","v":35482573},32482702,75.53,null,32862767,2.1700000000000001E-2,33575889,78.066797560467037,0,0,0,1093187,{"$f":"MAX(U330*(V$5),0)","v":1093187},0,{"$f":"MIN(H330*parameters!C$22,ROUND(P330+T330-V330+W330,0))","v":32482702},75.525044809713833,null,0,0,0,-4.9551902861679764E-3,null,3.3654435520788881E-2,2.5367975604670363,{"$f":"IF(AF330<$AH$5, $AH$6*(N330), IF(AND(AF330<$AH$4, AF330>$AH$5), $AH$7*(N330), 0))","v":0},null,null,null,null,"321","Westborough",0.75525044809713826,75.53,32482702,-4.9551902861679764E-3]
[322,"West Boylston",1080272600,{"$f":"D$5*C331","v":3576628.2009059633},296311000,4188295.2681705654,{"$f":"ROUND(D331+F331,0)","v":7764923},{"$f":"(SUMIF(town1755,A331,found1755)/2)","v":9707106.709999999},{"$f":"G331/H331","v":0.7999214629010708},8008363,{"$f":"MIN(G331,J331)","v":7764923},{"$f":"IF(H331>0, ROUND((K331*100/H331), 2), 0)","v":79.989999999999995},null,7543146,3.78E-2,{"$f":"ROUND(N331*(1+O331),0)","v":7828277},{"$f":"P331*100/H331","v":80.644802142079271},{"$f":"IF(L331>Q331,L331-Q331,0)","v":0},{"$f":"IF(AND(R331>$T$4,R331<=$T$5),$S$4,IF(R331>$T$5,$S$5,0))","v":0},{"$f":"ROUND(S331*N331,0)","v":0},{"$f":"MAX(P331-K331,0)","v":63354},63354,{"$f":"IF(AND(I331>1.75,$W$5=1),MAX(K331-(P331+T331),0),0)","v":0},{"$f":"MIN(H331*parameters!C$22,ROUND(P331+T331-V331+W331,0))","v":7764923},{"$f":"X331*100/H331","v":79.992146290107087},null,{"$f":"IF(Q331<L331, P331-K331, 0)","v":0},{"$f":"-1*MAX(K331-(P331+T331+W331),0)","v":0},{"$f":"IF(Q331>L331, X331-K331,0)","v":0},{"$f":"Y331-L331","v":2.1462901070918861E-3},null,8.1589991298046359E-3,0.65480214207927645,0,null,null,null,null,{"$f":"TEXT(A331,\"000\")","v":"322"},{"$f":"B331","v":"West Boylston"},{"$f":"I331","v":0.7999214629010708},{"$f":"L331","v":79.989999999999995},{"$f":"X331","v":7764923},{"$f":"AD331","v":2.1462901070918861E-3}]
[323,"West Bridgewater",1379056200,4565858.0024655024,291106000,{"$f":"E332*F$5","v":4114723.6597225908},8680582,13411742.619164994,0.64723744307437714,11064688,8680582,64.72,null,8501714,3.9100000000000003E-2,8834131,65.868629087589866,0,0,0,153549,153549,0,{"$f":"MIN(H332*parameters!C$22,ROUND(P332+T332-V332+W332,0))","v":8680582},64.723744307437713,null,0,0,0,3.7443074377137009E-3,null,1.7688790912867364E-2,1.1486290875898675,0,null,null,null,null,"323","West Bridgewater",0.64723744307437714,64.72,8680582,3.7443074377137009E-3]
[324,"West Brookfield",440792400,1459400.6444160684,151648000,2143513.4059401439,3602914,6448800.0367061896,0.55869525795379382,5320260,3602914,55.87,null,3316962,3.8300000000000001E-2,3444002,53.405315413672987,2.4646845863270102,0,0,0,0,0,{"$f":"MIN(H333*parameters!C$22,ROUND(P333+T333-V333+W333,0))","v":3444002},53.405315413672987,null,-158912,-158912,0,-2.4646845863270102,null,-4.410652044428482E-2,-2.4646845863270102,0,null,null,null,null,"324","West Brookfield",0.55869525795379382,55.87,3444002,-2.4646845863270102]
[325,"Westfield",3606467600,11940498.836880291,1174751000,16604864.667793771,28545364,64522096.82,0.44241221855567092,53230730,28545364,44.24,null,27986427,3.7100000000000001E-2,29024723,44.984159583299792,0,0,0,479359,479359,0,{"$f":"MIN(H334*parameters!C$22,ROUND(P334+T334-V334+W334,0))","v":28545364},{"$f":"X334*100/H334","v":44.24122185556709},null,0,0,0,{"$f":"Y334-L334","v":1.2218555670884257E-3},null,1.6792884476792801E-2,0.74415958329979048,0,null,null,null,null,"325","Westfield",0.44241221855567092,44.24,28545364,1.2218555670884257E-3]
[326,"Westford",5161061500,17087537.078613333,1568422000,22169323.586011369,39256861,50597704.811835513,0.77586248518563772,41743106,39256861,77.59,null,39438677,2.9700000000000001E-2,40610006,80.260569429032188,0,0,0,1353145,1353145,0,{"$f":"MIN(H335*parameters!C$22,ROUND(P335+T335-V335+W335,0))","v":39256861},77.586248518563764,null,0,0,0,-3.751481436239601E-3,null,3.4469006576964979E-2,2.6705694290321844,0,null,null,null,null,"326","Westford",0.77586248518563772,77.59,39256861,-3.751481436239601E-3]
[327,"Westhampton",250696200,830019.29214900162,76201000,1077085.5207193296,1907105,2237935.3031471269,0.85217164111853805,1846297,1846297,82.5,null,1750279,2.4899999999999999E-2,1793861,80.156964210598872,2.343035789401128,0,0,0,0,0,{"$f":"MIN(H336*parameters!C$22,ROUND(P336+T336-V336+W336,0))","v":1793861},80.156964210598872,null,-52436,-52436,0,-2.343035789401128,null,-2.8400631101063372E-2,-2.343035789401128,0,null,null,null,null,"327","Westhampton",0.85217164111853805,82.5,1793861,-2.343035789401128]
[328,"Westminster",1117484000,3699829.8285647524,318896000,4507529.6152978484,8207359,14634713.756374583,0.5608144536769667,12073639,8207359,56.08,null,7871153,3.8300000000000001E-2,8172618,55.844057738677492,0.2359422613225064,0,0,0,0,0,{"$f":"MIN(H337*parameters!C$22,ROUND(P337+T337-V337+W337,0))","v":8172618},55.844057738677492,null,-34741,-34741,0,-0.2359422613225064,null,-4.2329085397629128E-3,-0.2359422613225064,0,null,null,null,null,"328","Westminster",0.5608144536769667,56.08,8172618,-0.2359422613225064]
[329,"West Newbury",1027055700,3400434.6500329776,334092000,4722321.9614986973,8122757,6534704.0601913836,1.2430183410267712,5391131,5391131,82.5,null,5555923,2.9499999999999998E-2,5719823,87.529946992465369,0,0,0,328692,328692,0,{"$f":"MIN(H338*parameters!C$22,ROUND(P338+T338-V338+W338,0))","v":5391131},82.500002300672037,null,0,0,0,2.3006720368812239E-6,null,6.0969024866952777E-2,5.0299469924653692,0,null,null,null,null,"329","West Newbury",1.2430183410267712,82.5,5391131,2.3006720368812239E-6]
[330,"Weston",6765132800,22398387.921117246,4296594000,60731475.778658375,83129864,21523446.137799997,3.8622934017060269,17756843,17756843,82.5,null,18369574,4.4600000000000001E-2,19188857,89.153274420586698,0,0,0,1432014,1432014,0,{"$f":"MIN(H339*parameters!C$22,ROUND(P339+T339-V339+W339,0))","v":17756843},82.499999704113378,null,0,0,0,-2.958866218705225E-7,null,8.0645754428306876E-2,6.6532744205866976,0,null,null,null,null,"330","Weston",3.8622934017060269,82.5,17756843,-2.958866218705225E-7]
[331,"Westport",3742770600,12391778.591331236,734227000,10378148.195183674,22769927,19688648.273998719,1.1565002677238381,16243135,16243135,82.5,null,16001575,3.7199999999999997E-2,16596834,84.296462454043436,0,0,0,353699,353699,0,{"$f":"MIN(H340*parameters!C$22,ROUND(P340+T340-V340+W340,0))","v":16243135},82.500000883509401,null,0,0,0,8.8350940075088147E-7,null,2.1775291530852881E-2,1.7964624540434357,0,null,null,null,null,"331","Westport",1.1565002677238381,82.5,16243135,8.8350940075088147E-7]
[332,"West Springfield",2966876100,9822902.781995859,812204000,11480337.111984389,21303240,53586795.429999992,0.39754644458686195,44209106,21303240,39.75,null,20539659,6.0000000000000001E-3,20662897,38.559680298464158,1.1903197015358415,0,0,0,0,0,{"$f":"MIN(H341*parameters!C$22,ROUND(P341+T341-V341+W341,0))","v":20662897},38.559680298464158,null,-640343,-640343,0,-1.1903197015358415,null,-3.005847936745772E-2,-1.1903197015358415,0,null,null,null,null,"332","West Springfield",0.39754644458686195,39.75,20662897,-1.1903197015358415]
[333,"West Stockbridge",410234100,1358226.4800877825,58062000,820694.47256605176,2178921,1527536.5518968089,1.4264280598027841,1260218,1260218,82.5,null,1386208,2.7900000000000001E-2,1424883,93.279797346299858,0,0,0,164665,164665,0,{"$f":"MIN(H342*parameters!C$22,ROUND(P342+T342-V342+W342,0))","v":1260218},82.500022564771513,null,0,0,0,2.2564771512634252E-5,null,0.13066390100760344,10.779797346299858,0,null,null,null,null,"333","West Stockbridge",1.4264280598027841,82.5,1260218,2.2564771512634252E-5]
[334,"West Tisbury",3002267300,9940077.9875725843,121881000,1722762.960470238,11662841,4448650.699069187,2.6216580686904174,3670137,3670137,82.5,null,3716435,5.2600000000000001E-2,3911919,87.934955217286671,0,0,0,241782,241782,0,{"$f":"MIN(H343*parameters!C$22,ROUND(P343+T343-V343+W343,0))","v":3670137},82.500003894842109,null,0,0,0,3.894842109275487E-6,null,6.5878194737689633E-2,5.4349552172866709,0,null,null,null,null,"334","West Tisbury",2.6216580686904174,82.5,3670137,3.894842109275487E-6]
[335,"Westwood",5214138300,17263266.778407484,1934818000,27348255.968125507,44611523,32745875.705396496,1.3623554734451049,27015347,27015347,82.5,null,26730452,4.1799999999999997E-2,27847785,85.042114159770989,0,0,0,832438,832438,0,{"$f":"MIN(H344*parameters!C$22,ROUND(P344+T344-V344+W344,0))","v":27015347},82.499998604550655,null,0,0,0,-1.3954493454093608E-6,null,3.0813522402655055E-2,2.5421141597709891,0,null,null,null,null,"335","Westwood",1.3623554734451049,82.5,27015347,-1.3954493454093608E-6]
[336,"Weymouth",9358057000,30983189.40227259,2157281000,30492724.888425559,61475914,76440787.065010428,0.80422921270704228,63063649,61475914,80.42,null,57077069,1.9300000000000001E-2,58178656,76.109441351671236,4.3105586483287652,0.01,570771,0,0,0,{"$f":"MIN(H345*parameters!C$22,ROUND(P345+T345-V345+W345,0))","v":58749427},76.856125186198696,null,-3297258,-2726487,0,-3.5638748138013057,null,-5.3634956936142501E-2,-4.3105586483287652,570770.69000000006,null,null,null,null,"336","Weymouth",0.80422921270704228,80.42,58749427,-3.5638748138013057]
[337,"Whately",288556600,955369.66606164188,39229000,554493.8766197107,1509864,1859621.0518481671,0.81192025574212323,1534187,1509864,81.19,null,1589331,4.4500000000000005E-2,1660056,89.26850975096076,0,0,0,150192,150192,0,{"$f":"MIN(H346*parameters!C$22,ROUND(P346+T346-V346+W346,0))","v":1509864},81.192025574212323,null,0,0,0,2.0255742123254095E-3,null,9.9473859897315262E-2,8.0785097509607624,0,null,null,null,null,"337","Whately",0.81192025574212323,81.19,1509864,2.0255742123254095E-3]
[338,"Whitman",1882778200,6233609.5594491316,504242000,7127357.3462101044,13360967,26864839.191610433,0.49734029318785089,22163492,13360967,49.73,null,12203142,3.3700000000000001E-2,12614388,46.955010264641082,2.7749897353589148,0.01,122031,0,0,0,{"$f":"MIN(H347*parameters!C$22,ROUND(P347+T347-V347+W347,0))","v":12736419},47.409250839578561,null,-746579,-624548,0,-2.3207491604214354,null,-5.5877617241326921E-2,-2.7749897353589148,122031.42,null,null,null,null,"338","Whitman",0.49734029318785089,49.73,12736419,-2.3207491604214354]
[339,"Wilbraham",1874892200,6207500.1404077299,741368000,10479084.766927572,16686585,25090362.610588305,0.66505953935309592,20699549,16686585,66.510000000000005,null,16700024,3.3399999999999999E-2,17257805,68.782604970073606,0,0,0,571220,571220,0,{"$f":"MIN(H348*parameters!C$22,ROUND(P348+T348-V348+W348,0))","v":16686585},66.505953935309591,null,0,0,0,-4.0460646904136865E-3,null,3.4232288991426343E-2,2.2726049700736013,0,null,null,null,null,"339","Wilbraham",0.66505953935309592,66.510000000000005,16686585,-4.0460646904136865E-3]
[340,"Williamsburg",330724800,1094982.5501627871,72151007.549999997,1019839.7073190119,2114822,3342641.2949793465,0.63267991189376693,2757679,2114822,63.27,null,2157611,4.6199999999999998E-2,2257293,67.530219392384652,0,0,0,142471,142471,0,{"$f":"MIN(H349*parameters!C$22,ROUND(P349+T349-V349+W349,0))","v":2114822},63.267991189376694,null,0,0,0,-2.008810623308932E-3,null,6.7367844669669594E-2,4.2602193923846485,0,null,null,null,null,"340","Williamsburg",0.63267991189376693,63.27,2114822,-2.008810623308932E-3]
[341,"Williamstown",1054809700,3492324.1778132287,290750000,4109691.6726702414,7602016,7655645.7823561616,0.99299474089047313,6315908,6315908,82.5,null,6351077,3.2000000000000001E-2,6554311,85.614083858289405,0,0,0,238403,238403,0,{"$f":"MIN(H350*parameters!C$22,ROUND(P350+T350-V350+W350,0))","v":6315908},82.500002998521268,null,0,0,0,2.9985212677274831E-6,null,3.7746433291935222E-2,3.1140838582894048,0,null,null,null,null,"341","Williamstown",0.99299474089047313,82.5,6315908,2.9985212677274831E-6]
[342,"Wilmington",5340168500,17680534.76010564,1263191000,17854945.945630249,35535481,36628527.538448386,0.9701586000883865,30218535,30218535,82.5,null,32234655,4.0399999999999998E-2,33536935,91.559604640936797,0,0,0,3318400,3318400,0,{"$f":"MIN(H351*parameters!C$22,ROUND(P351+T351-V351+W351,0))","v":30218535},82.499999401504965,null,0,0,0,-5.9849503486475442E-7,null,0.10981339763823759,9.0596046409367972,0,null,null,null,null,"342","Wilmington",0.9701586000883865,82.5,30218535,-5.9849503486475442E-7]
[343,"Winchendon",825187100,2732076.563715315,252699000,3571848.5846675746,6303925,18192717.41178621,0.34650815803448815,15008992,6303925,34.65,null,6035701,2.8400000000000002E-2,6207115,34.118679796448113,0.53132020355188558,0,0,0,0,0,{"$f":"MIN(H352*parameters!C$22,ROUND(P352+T352-V352+W352,0))","v":6207115},34.118679796448113,null,-96810,-96810,0,-0.53132020355188558,null,-1.5357098950257182E-2,-0.53132020355188558,0,null,null,null,null,"343","Winchendon",0.34650815803448815,34.65,6207115,-0.53132020355188558]
[344,"Winchester",8680662000,28740431.361244153,2901678000,41014623.949683376,69755055,49776880.139888905,1.4013545004019146,41065926,41065926,82.5,null,40369117,2.76E-2,41483305,83.338499486947924,0,0,0,417379,417379,0,{"$f":"MIN(H353*parameters!C$22,ROUND(P353+T353-V353+W353,0))","v":41065926},82.499999768148697,null,0,0,0,-2.3185130260117148E-7,null,1.0163632983705274E-2,0.83849948694792431,0,null,null,null,null,"344","Winchester",1.4013545004019146,82.5,41065926,-2.3185130260117148E-7]
[345,"Windsor",123292600,408204.17931827443,24509000,346429.69288211502,754634,765115.46514061361,0.98630080606371306,631220,631220,82.5,null,663920,4.0300000000000002E-2,690676,90.270819434170889,0,0,0,59456,59456,0,{"$f":"MIN(H354*parameters!C$22,ROUND(P354+T354-V354+W354,0))","v":631220},82.499966182750441,null,0,0,0,-3.3817249558865115E-5,null,9.4192199233230883E-2,7.7708194341708889,0,null,null,null,null,"345","Windsor",0.98630080606371306,82.5,631220,-3.3817249558865115E-5]
[346,"Winthrop",2870648300,9504306.2877488155,702830000,9934358.0337156523,19438664,24505547.624214031,0.79323524199853335,20217077,19438664,79.319999999999993,null,17435917,3.1199999999999995E-2,17979918,73.370806789210334,5.9491932107896588,0.01,174359,0,0,0,{"$f":"MIN(H355*parameters!C$22,ROUND(P355+T355-V355+W355,0))","v":18154277},74.082315067555086,null,-1458746,-1284387,0,-5.2376849324449068,null,-7.5043531798275845E-2,-5.9491932107896588,174359.17,null,null,null,null,"346","Winthrop",0.79323524199853335,79.319999999999993,18154277,-5.2376849324449068]
[347,"Woburn",9226467200,30547514.379475959,1743936000,24650178.011590198,55197692,57001194.380288064,0.96836027034353256,47025985,47025985,82.5,null,46766937,2.92E-2,48132532,84.441269210746583,0,0,0,1106547,1106547,0,{"$f":"MIN(H356*parameters!C$22,ROUND(P356+T356-V356+W356,0))","v":47025985},82.499999361877144,null,0,0,0,-6.3812285588937812E-7,null,2.3530543804664593E-2,1.941269210746583,0,null,null,null,null,"347","Woburn",0.96836027034353256,82.5,47025985,-6.3812285588937812E-7]
[348,"Worcester",15426121200,51073682.804241575,4447781000,62868473.044061631,113942156,397940445.01999998,0.28632966924051517,328300867,113942156,28.63,null,105210987,3.5400000000000001E-2,108935456,27.374813835403195,1.2551861645968039,0,0,0,0,0,{"$f":"MIN(H357*parameters!C$22,ROUND(P357+T357-V357+W357,0))","v":108935456},27.374813835403195,null,-5006700,-5006700,0,-1.2551861645968039,null,-4.3940716726476543E-2,-1.2551861645968039,0,null,null,null,null,"348","Worcester",0.28632966924051517,28.63,108935456,-1.2551861645968039]
[349,"Worthington",182949300,605718.98770366423,35227000,497926.42666605191,1103645,1186757.45,0.92996677627766322,979075,979075,82.5,null,1018495,3.5900000000000001E-2,1055059,88.902664988536628,0,0,0,75984,75984,0,{"$f":"MIN(H358*parameters!C$22,ROUND(P358+T358-V358+W358,0))","v":979075},82.500008742308722,null,0,0,0,8.7423087222759932E-6,null,7.7607946275821571E-2,6.4026649885366282,0,null,null,null,null,"349","Worthington",0.92996677627766322,82.5,979075,8.7423087222759932E-6]
[350,"Wrentham",2481220700,8214967.1557823783,671446000,9490751.6245838106,17705719,19342864.371242527,0.91536179234775028,15957863,15957863,82.5,null,16013005,4.7400000000000005E-2,16772021,86.709086503937556,0,0,0,814158,814158,0,{"$f":"MIN(H359*parameters!C$22,ROUND(P359+T359-V359+W359,0))","v":15957863},82.499999450572147,null,0,0,0,-5.494278525475238E-7,null,5.1019237350264257E-2,4.2090865039375558,0,null,null,null,null,"350","Wrentham",0.91536179234775028,82.5,15957863,-5.494278525475238E-7]
[351,"Yarmouth",6880187700,22779318.252954241,826835000,11687143.298958896,34466462,30600387.78188955,1.1263406936430569,25245320,25245320,82.5,null,24462965,-4.1999999999999997E-3,24360221,79.607556523898978,2.8924434761010218,0.01,244630,0,0,0,{"$f":"MIN(H360*parameters!C$22,ROUND(P360+T360-V360+W360,0))","v":24604851},80.406990837423535,null,-885099,-640469,0,-2.0930091625764646,null,-3.5059923977988794E-2,-2.8924434761010218,0,null,null,null,null,"351","Yarmouth",1.1263406936430569,82.5,24604851,-2.0930091625764646]
[999,"STATE TOTAL",{"$f":"SUM(C10:C360)","v":1420130860400},4701850333.2246819,332643685529.04999,4701850333.2246752,9403700672,11883557788.563421,0.79132031326931374,9803935172,7011299098,{"$f":"K361*100/H361","v":59.000000023120869},null,{"$f":"SUM(N10:N360)","v":6705321557},2.8500000000000001E-2,{"$f":"SUM(P10:P360)","v":6900553645},null,null,null,{"$f":"SUM(T10:T360)","v":10777624},{"$f":"SUM(U10:U360)","v":102126903},{"$f":"SUM(V10:V360)","v":102126903},{"$f":"SUM(W10:W360)","v":1002428},{"$f":"SUM(X10:X360)","v":6810206794},57.307810633563399,null,{"$f":"SUM(AA10:AA360)","v":-212872356},{"$f":"SUM(AB10:AB360)","v":-201092304},{"$f":"SUM(AC10:AC360)","v":0},null,null,null,null,null,null,null,null,null,{"$f":"TEXT(A361,\"000\")","v":"999"},{"$f":"B361","v":"STATE TOTAL"},{"$f":"I361","v":0.79132031326931374},{"$f":"L361","v":59.000000023120869},{"$f":"X361","v":6810206794},{"$f":"AD361","v":0}]
[]
[null,null,null,null,null,null,null,null,null,null,null,null,null,null,null,null,null,null,null,null,null,null,null,null,null,null,null,null,null,null,"min",{"$f":"MIN(AF10:AF360)","v":-0.78858738329988654},{"$f":"MIN(AG10:AG360)","v":-65.058440860421456}]
[null,null,null,null,null,null,null,null,null,null,{"$f":"H361-K361","v":4872258690.5634212},{"$f":"COUNTIF(L10:L360,\">82.499\")","v":161},null,null,6,"negative",null,{"$f":"COUNTIF(R10:R360,\">0\")","v":141},{"$f":"COUNTIF(S10:S360,\".01\")","v":38},{"$f":"COUNTIF(T10:T360,\">0\")","v":46},{"$f":"COUNTIF(U10:U360,\">0\")","v":210},null,{"$f":"COUNTIF(W10:W360,\">0\")","v":11},null,null,null,{"$f":"COUNTIF(AA10:AA360,\"<0\")","v":141},{"$f":"COUNTIF(AB10:AB360,\">0\")","v":0},{"$f":"COUNTIF(AC10:AC360,\">0\")","v":0},null,"median",{"$f":"MEDIAN(AF10:AF360)","v":7.2595308185719586E-3},{"$f":"MEDIAN(AG10:AG360)","v":0.52676779905681315}]
[null,null,null,null,null,null,null,null,null,null,null,{"$f":"L364/351","v":0.45868945868945871},null,null,null,null,null,null,{"$f":"COUNTIF(S10:S360,\".02\")","v":8},null,{"$f":"U364/351","v":0.59829059829059827},null,null,null,null,null,null,null,null,null,"max",{"$f":"MAX(AF10:AF360)","v":0.26940390815629922},{"$f":"MAX(AG10:AG360)","v":22.225968887978908}]

{"sheet":"Aid436","index":13,"n_rows":452,"n_cols":75,"rows_kept":452,"cut":false,"hidden":false,"merged":[[4,68,4,74],[4,8,4,11],[4,58,4,62],[4,29,4,32],[4,23,4,24],[4,33,4,35],[4,40,4,41]]}
[null,null,null,"c70fy21","c70fy21","c70fy21",null,null,null,null,null,null,null,"c70fy21"]
[null,null,null,47,null,null,null,49,null,null,null,null,null,"Updated 12/17/20"]
[1,{"$f":"A3+1","v":2},{"$f":"B3+1","v":3},4,5,6,7,8,9,10,11,12,13,14,15,16,17,18,19,20,21,22,23,24,25,26,27,28,29,30,31,32,33,34,35,36,37,38,{"$f":"AL3+1","v":39},{"$f":"AM3+1","v":40},{"$f":"AN3+1","v":41},{"$f":"AO3+1","v":42},{"$f":"AP3+1","v":43},{"$f":"AQ3+1","v":44}]
["Return to Index",null,"nonop",null,null,null,null,"priorc70","found","prelcont436","foundaid","foundinc",null,null,"enro",null,null,null,null,null,null,null,null,null,"minaid",null,null,null,null,null,null,null,null,"Updated 1/15/21",null,null,null,"rednonop","chapter70"]
["More about the data",null,null,null,null,null,null,"Base Aid","Foundation Aid Calculation",null,null,null,null,null,null,null,null,null,null,null,null,null,null,"Minimum Aid Calculation",null,null,null,null,null,null,null,null,null,"minimum aid adjustment",null,null,null,null,null,null,"ESSER II",null,null,null,null,null,null,null,null,null,null,null,null,null,null,null,null,null,"Analysis",null,null,null,null,null,null,null,null,null,"SUMMARY FOR EXPORT (reads from columns to the left)"]
[null,null,null,null,null,null,null,{"$f":"basecut","v":0},null,null,null,null,null,null,null,null,null,null,null,null,null,null,null,{"$f":"mininc","v":30},null,null,null,null,null,null,null,null,null,"source: minimum aid adjustment file for prelim FY22"]
[null,null,null,"foundation","required",null,null,null,"foundation","required",null,null,"district","foundation","foundation","operating dist",null,null,null,null,null,null,null,null,null,null,null,null,null,null,null,null,null,null,null,null,"c70 prior ",null,null,null,null,null,null,null,null,null,null,null,null,null,null,null,null,"nss ",null,null,null,null,null,null,null,null,null,null,null,null,null,null,null,null,null,null,{"$f":"I7","v":"foundation"},{"$f":"J7","v":"required"}]
[null,null,null,"budget","contribution","chapter 70","base aid",null,"budget","contribution","foundation","foundation","target aid","enrollment","enrollment","foundation ",null,null,null,null,null,null,null,"Min Aid ","Addl Aid ",null,null,null,null,null,null,null,null,"Aid determination",null,"Increment","to non-op","non-op ","Chapter 70","c70 pct of","Full ESSER II","75% Full ESSER II",null,null,null,null,null,null,null,null,null,null,{"$f":"CYr","v":"FY22"},"percent of",null,null,null,null,null,null,"Aid Comp'd","Distance from","Foundation ",null,"Base Aid",null,"per pupil",null,{"$f":"A9","v":"LEA"},{"$f":"B9","v":"District"},{"$f":"C9","v":"Non-Op"},null,"budget","contribution",{"$f":"AM8","v":"Chapter 70"}]
["LEA","District","Non-Op",{"$f":"PYr","v":"FY21"},"FY21",{"$f":"PYr","v":"FY21"},"adjustment","base aid",{"$f":"CYr","v":"FY22"},{"$f":"CYr","v":"FY22"},"aid","aid increase","percentage",{"$f":"PYr","v":"FY21"},{"$f":"CYr","v":"FY22"},"aid?","blank","blank","blank","blank","blank","blank",null,"Per Pupil","to Reach Min","blank","blank","blank","blank","blank","blank","blank","blank","from minimum aid adjustment formula","plus additional $30/pupil","above min aid","reduction","reduction","FY22","foundation","allocation","allocation",null,null,"blank","blank","blank","blank","blank","blank","blank","blank","Required NSS","foundation","blank","blank","blank","blank","∆ in Foundation Budget","∆ in Aid","to Target","Aid Target","Budget PP","blank","Reduction","blank","∆ in Aid","blank",{"$f":"CYr","v":"FY22"},{"$f":"CYr","v":"FY22"},{"$f":"CYr","v":"FY22"},null,"FY22","FY22",{"$f":"AM9","v":"FY22"}]
[1,"Abington                     ",1,25332546.714959998,15287069,10045478,null,{"$f":"F10+G10","v":10045478},{"$f":"SUMIF(dist1755,A10,found1755)","v":26452103.926830001},{"$f":"SUMIF(dist1755,A10,prelcont1755)","v":15764755},{"$f":"ROUND(MAX(found-prelcont436,0),0)","v":10687349},{"$f":"IF(foundaid>priorc70,foundaid-priorc70,0)","v":641871},{"$f":"ROUND(100-'Townwide Contributions'!L10,2)","v":39.700000000000003},2197,{"$f":"SUMIF(dist1755,A10,enro1755)","v":2193},{"$f":"IF(AND(C10=1,L10>0),1,0)","v":1},null,null,null,null,null,null,null,{"$f":"IF(nonop=1,enro*$X$6,0)","v":65790},{"$f":"IF((foundinc)<X10,X10-(foundinc),0)","v":0},null,null,null,null,null,null,null,null,10792550,{"$f":"AH10+30*enro","v":10858340},{"$f":"IF(AI10-priorc70-foundinc-minaid>0,AI10-priorc70-foundinc-minaid,0)","v":170991},{"$f":"priorc70+foundinc+minaidadjincrement+minaid","v":10858340},{"$f":"IF(AND(C10=0,AK10>found),AK10-found,0)","v":0},{"$f":"priorc70+foundinc+minaidadjincrement+minaid-rednonop","v":10858340},{"$f":"IF(C10=1, AM10/I10*100, 0)","v":41.049059953928797},587630,{"$f":"0.75*AO10","v":440722.5},null,null,null,null,null,null,null,null,null,null,{"$f":"prelcont436+chapter70","v":26623095},{"$f":"IF(found>0,BA10*100/found,0)","v":100.64641766735448},null,null,null,null,{"$f":"I10-D10","v":1119557.2118700035},{"$f":"AM10-F10","v":812862},{"$f":"AM10-((M10/100)*I10)","v":356854.74104848877},{"$f":"IF(C10=1, (AM10/I10*100)-M10, \"\")","v":1.3490599539287942},{"$f":"IFERROR(ROUND(I10/O10, 2), 0)","v":12062.06},null,{"$f":"VLOOKUP(A10, disthist, 37, FALSE)*$H$6","v":0},null,{"$f":"IFERROR(BH10/O10, 0)","v":370.66210670314638},null,{"$f":"A10","v":1},{"$f":"B10","v":"Abington                     "},{"$f":"C10","v":1},null,26452103.926830001,15764755,10858340]
[2,"Acton                        ",0,0,0,0,null,{"$f":"F11+G11","v":0},0,{"$f":"SUMIF(dist1755,A11,prelcont1755)","v":0},{"$f":"ROUND(MAX(found-prelcont436,0),0)","v":0},{"$f":"IF(foundaid>priorc70,foundaid-priorc70,0)","v":0},{"$f":"ROUND(100-'Townwide Contributions'!L11,2)","v":19.78},0,0,0,null,null,null,null,null,null,null,0,{"$f":"IF((foundinc)<X11,X11-(foundinc),0)","v":0},null,null,null,null,null,null,null,null,0,0,0,{"$f":"priorc70+foundinc+minaidadjincrement+minaid","v":0},0,0,{"$f":"IF(C11=1, AM11/I11*100, 0)","v":0},0,0,null,null,null,null,null,null,null,null,null,null,0,0,null,null,null,null,0,{"$f":"AM11-F11","v":0},{"$f":"AM11-((M11/100)*I11)","v":0},{"$f":"IF(C11=1, (AM11/I11*100)-M11, \"\")","v":""},0,null,0,null,0,null,2,"Acton                        ",0,null,0,0,0]
[3,"Acushnet                     ",1,13990412.9,7889510,6361492,null,6361492,13465052.850000001,7845282,5619771,0,{"$f":"ROUND(100-'Townwide Contributions'!L12,2)","v":41.74},1292,1207,0,null,null,null,null,null,null,null,36210,36210,null,null,null,null,null,null,null,null,6361492,6397702,0,6397702,0,6397702,47.513382021370973,294882,221161.5,null,null,null,null,null,null,null,null,null,null,14242984,105.77740881276971,null,null,null,null,-525360.04999999888,36210,777388.94040999934,5.7733820213709706,11155.8,null,0,null,30,null,3,"Acushnet                     ",1,null,13465052.850000001,7845282,6397702]
[4,"Adams                        ",0,0,0,0,null,0,0,0,0,0,{"$f":"ROUND(100-'Townwide Contributions'!L13,2)","v":66.98},0,0,0,null,null,null,null,null,null,null,0,0,null,null,null,null,null,null,null,null,0,0,0,0,0,0,0,0,0,null,null,null,null,null,null,null,null,null,null,0,0,null,null,null,null,0,0,0,"",0,null,0,null,0,null,4,"Adams                        ",0,null,0,0,0]
[5,"Agawam                       ",1,42427489.500000007,23256462,19477412,null,19477412,42757064.969999991,23315754,19441311,0,{"$f":"ROUND(100-'Townwide Contributions'!L14,2)","v":45.47},3623,3516,0,null,null,null,null,null,null,null,105480,105480,null,null,null,null,null,null,null,null,19844058,19949538,366646,19949538,0,19949538,46.657875169863431,2054360,1540770,null,null,null,null,null,null,null,null,null,null,43265292,101.18863872054034,null,null,null,null,329575.46999998391,472126,507900.55814100429,1.1878751698634318,12160.71,null,0,null,134.2792946530148,null,5,"Agawam                       ",1,null,42757064.969999991,23315754,19949538]
[6,"Alford                       ",0,0,0,0,null,0,0,0,0,0,{"$f":"ROUND(100-'Townwide Contributions'!L15,2)","v":17.5},0,0,0,null,null,null,null,null,null,null,0,0,null,null,null,null,null,null,null,null,0,0,0,0,0,0,0,0,0,null,null,null,null,null,null,null,null,null,null,0,0,null,null,null,null,0,0,0,"",0,null,0,null,0,null,6,"Alford                       ",0,null,0,0,0]
[7,"Amesbury                     ",1,22553274.579999998,16118764,9190887,null,9190887,22433070.579999998,16512446,5920625,0,{"$f":"ROUND(100-'Townwide Contributions'!L16,2)","v":22.03},2036,1930,0,null,null,null,null,null,null,null,57900,57900,null,null,null,null,null,null,null,null,9190887,9248787,0,9248787,0,9248787,41.228359564141307,825787,619340.25,null,null,null,null,null,null,null,null,null,null,25761233,114.83596464483642,null,null,null,null,-120204,57900,4306781.5512260003,19.198359564141306,11623.35,null,0,null,30,null,7,"Amesbury                     ",1,null,22433070.579999998,16512446,9248787]
[8,"Amherst                      ",1,12512134.57,9645618,6122223,null,6122223,12729208.74,9839703,2889506,0,{"$f":"ROUND(100-'Townwide Contributions'!L17,2)","v":22.7},1097,1045,0,null,null,null,null,null,null,null,31350,31350,null,null,null,null,null,null,null,null,6122223,6153573,0,6153573,0,6153573,48.342148563116424,666016,499512,null,null,null,null,null,null,null,null,null,null,15993276,125.64234216493806,null,null,null,null,217074.16999999993,31350,3264042.6160200001,25.642148563116425,12181.06,null,0,null,30,null,8,"Amherst                      ",1,null,12729208.74,9839703,6153573]
[9,"Andover                      ",1,64237434.876240008,52995883,11668291,null,11668291,64651081.727839999,53337142,11313940,0,{"$f":"ROUND(100-'Townwide Contributions'!L18,2)","v":17.5},5740,5628,0,null,null,null,null,null,null,null,168840,168840,null,null,null,null,null,null,null,null,11668291,11837131,0,11837131,0,11837131,18.309254359935487,558208,418656,null,null,null,null,null,null,null,null,null,null,65174273,100.80925370183668,null,null,null,null,413646.85159999132,168840,523191.69762800075,0.80925435993548689,11487.4,null,0,null,30,null,9,"Andover                      ",1,null,64651081.727839999,53337142,11837131]
[10,"Arlington                    ",1,64895656.34093,50343449,14566028,null,14566028,64290460.96402999,51218702,13071759,0,{"$f":"ROUND(100-'Townwide Contributions'!L19,2)","v":17.5},6092,5836,0,null,null,null,null,null,null,null,175080,175080,null,null,null,null,null,null,null,null,14566028,14741108,0,14741108,0,14741108,22.928919436815885,504420,378315,null,null,null,null,null,null,null,null,null,null,{"$f":"prelcont436+chapter70","v":65959810},102.59657344330444,null,null,null,null,-605195.37690000981,175080,3490277.3312947527,5.4289194368158853,11016.19,null,0,null,30,null,10,"Arlington                    ",1,null,64290460.96402999,51218702,14741108]
[11,"Ashburnham                   ",0,0,0,0,null,0,0,0,0,0,{"$f":"ROUND(100-'Townwide Contributions'!L20,2)","v":52.56},0,0,0,null,null,null,null,null,null,null,0,0,null,null,null,null,null,null,null,null,0,0,0,0,0,0,0,0,0,null,null,null,null,null,null,null,null,null,null,0,0,null,null,null,null,0,0,0,"",0,null,0,null,0,null,11,"Ashburnham                   ",0,null,0,0,0]
[12,"Ashby                        ",0,0,0,0,null,0,0,0,0,0,{"$f":"ROUND(100-'Townwide Contributions'!L21,2)","v":40.35},0,0,0,null,null,null,null,null,null,null,0,0,null,null,null,null,null,null,null,null,0,0,0,0,0,0,0,0,0,null,null,null,null,null,null,null,null,null,null,0,0,null,null,null,null,0,0,0,"",0,null,0,null,0,null,12,"Ashby                        ",0,null,0,0,0]
[13,"Ashfield                     ",0,117262.39999999999,96741,93413,null,93413,134486.55000000002,110951,23536,0,{"$f":"ROUND(100-'Townwide Contributions'!L22,2)","v":17.5},8,9,0,null,null,null,null,null,null,null,0,0,null,null,null,null,null,null,null,null,93413,93683,270,93683,0,93683,0,0,0,null,null,null,null,null,null,null,null,null,null,204634,152.15945386360195,null,null,null,null,17224.150000000023,270,70147.853749999995,"",14942.95,null,0,null,30,null,13,"Ashfield                     ",0,null,134486.55000000002,110951,93683]
[14,"Ashland                      ",1,30232498.719999995,22294876,7937623,null,7937623,30071220.670000002,22834444,7236777,0,{"$f":"ROUND(100-'Townwide Contributions'!L23,2)","v":21.98},2786,2694,0,null,null,null,null,null,null,null,80820,80820,null,null,null,null,null,null,null,null,7937623,8018443,0,8018443,0,8018443,26.664840406693074,322353,241764.75,null,null,null,null,null,null,null,null,null,null,30852887,102.59938343899626,null,null,null,null,-161278.04999999329,80820,1408788.696734,4.6848404066930733,11162.29,null,0,null,30,null,14,"Ashland                      ",1,null,30071220.670000002,22834444,8018443]
[15,"Athol                        ",0,0,0,0,null,0,0,0,0,0,{"$f":"ROUND(100-'Townwide Contributions'!L24,2)","v":70.38},0,0,0,null,null,null,null,null,null,null,0,0,null,null,null,null,null,null,null,null,0,0,0,0,0,0,0,0,0,null,null,null,null,null,null,null,null,null,null,0,0,null,null,null,null,0,0,0,"",0,null,0,null,0,null,15,"Athol                        ",0,null,0,0,0]
[16,"Attleboro                    ",1,79207276.429999992,38037529,41169747,null,41169747,80551906.579999998,39217192,41334715,164968,{"$f":"ROUND(100-'Townwide Contributions'!L25,2)","v":51.31},6383,6188,1,null,null,null,null,null,null,null,185640,20672,null,null,null,null,null,null,null,null,41169747,41355387,0,41355387,0,41355387,51.340047375449714,2787011,2090258.25,null,null,null,null,null,null,null,null,null,null,80572579,100.02566347697739,null,null,null,null,1344630.150000006,185640,24203.733801998198,3.0047375449711922E-2,13017.44,null,0,null,30,null,16,"Attleboro                    ",1,null,80551906.579999998,39217192,41355387]
[17,"Auburn                       ",1,27521289.789999999,15309359,12211931,null,12211931,27321855.580000002,15497480,11824376,0,{"$f":"ROUND(100-'Townwide Contributions'!L26,2)","v":43.28},2511,2421,0,null,null,null,null,null,null,null,72630,72630,null,null,null,null,null,null,null,null,12211931,12284561,0,12284561,0,12284561,44.96239636444195,604860,453645,null,null,null,null,null,null,null,null,null,null,27782041,101.6843124679162,null,null,null,null,-199434.20999999717,72630,459661.90497599915,1.6823963644419493,11285.36,null,0,null,30,null,17,"Auburn                       ",1,null,27321855.580000002,15497480,12284561]
[18,"Avon                         ",1,7045846.1099999985,4598969,2448769,null,2448769,6999174.9000000004,4667923,2331252,0,{"$f":"ROUND(100-'Townwide Contributions'!L27,2)","v":33.31},586,560,0,null,null,null,null,null,null,null,16800,16800,null,null,null,null,null,null,null,null,2448769,2465569,0,2465569,0,2465569,35.226566491430297,218283,163712.25,null,null,null,null,null,null,null,null,null,null,7133492,101.91904191449765,null,null,null,null,-46671.2099999981,16800,134143.84080999997,1.9165664914302951,12498.53,null,0,null,30,null,18,"Avon                         ",1,null,6999174.9000000004,4667923,2465569]
[19,"Ayer                         ",0,0,0,0,null,0,0,0,0,0,{"$f":"ROUND(100-'Townwide Contributions'!L28,2)","v":25.29},0,0,0,null,null,null,null,null,null,null,0,0,null,null,null,null,null,null,null,null,0,0,0,0,0,0,0,0,0,null,null,null,null,null,null,null,null,null,null,0,0,null,null,null,null,0,0,0,"",0,null,0,null,0,null,19,"Ayer                         ",0,null,0,0,0]
[20,"Barnstable                   ",1,65773443.140000001,52762387,13011056,null,13011056,65035356.480000012,53654169,11381187,0,{"$f":"ROUND(100-'Townwide Contributions'!L29,2)","v":17.5},5405,5147,0,null,null,null,null,null,null,null,154410,154410,null,null,null,null,null,null,null,null,13011056,13165466,0,13165466,0,13165466,20.243551681074752,2697928,2023446,null,null,null,null,null,null,null,null,null,null,66819635,102.74355153346272,null,null,null,null,-738086.65999998897,154410,1784278.6159999985,2.7435516810747522,12635.59,null,0,null,30,null,20,"Barnstable                   ",1,null,65035356.480000012,53654169,13165466]
[21,"Barre                        ",0,0,0,0,null,0,0,0,0,0,{"$f":"ROUND(100-'Townwide Contributions'!L30,2)","v":59.12},0,0,0,null,null,null,null,null,null,null,0,0,null,null,null,null,null,null,null,null,0,0,0,0,0,0,0,0,0,null,null,null,null,null,null,null,null,null,null,0,0,null,null,null,null,0,0,0,"",0,null,0,null,0,null,21,"Barre                        ",0,null,0,0,0]
[22,"Becket                       ",0,188943.82,155879,76563,null,76563,207463.95000000004,164090,43374,0,{"$f":"ROUND(100-'Townwide Contributions'!L31,2)","v":17.5},11,12,0,null,null,null,null,null,null,null,0,0,null,null,null,null,null,null,null,null,76563,76923,360,76923,0,76923,0,0,0,null,null,null,null,null,null,null,null,null,null,241013,116.17102633975684,null,null,null,null,18520.130000000034,360,40616.808749999997,"",17288.66,null,0,null,30,null,22,"Becket                       ",0,null,207463.95000000004,164090,76923]
[23,"Bedford                      ",1,30502691.57316,25097492,5595167,null,5595167,30686041.444819998,25315984,5370057,0,{"$f":"ROUND(100-'Townwide Contributions'!L32,2)","v":17.5},2707,2649,0,null,null,null,null,null,null,null,79470,79470,null,null,null,null,null,null,null,null,5595167,5674637,0,5674637,0,5674637,18.492567737041611,171614,128710.5,null,null,null,null,null,null,null,null,null,null,30990621,100.99256711142654,null,null,null,null,183349.87165999785,79470,304579.74715650082,0.99256773704161105,11584.01,null,0,null,30,null,23,"Bedford                      ",1,null,30686041.444819998,25315984,5674637]
[24,"Belchertown                  ",1,24726417.459999997,12418125,13884146,null,13884146,24762062.589999996,12813563,11948500,0,{"$f":"ROUND(100-'Townwide Contributions'!L33,2)","v":48.25},2278,2204,0,null,null,null,null,null,null,null,66120,66120,null,null,null,null,null,null,null,null,13884146,13950266,0,13950266,0,13950266,56.337253608403884,557806,418354.5,null,null,null,null,null,null,null,null,null,null,26763829,108.0840051297197,null,null,null,null,35645.129999998957,66120,2002570.8003250025,8.0872536084038842,11235.06,null,0,null,30,null,24,"Belchertown                  ",1,null,24762062.589999996,12813563,13950266]
[25,"Bellingham                   ",1,24676853.43,16772086,8642425,null,8642425,24764847.16,17317798,7447049,0,{"$f":"ROUND(100-'Townwide Contributions'!L34,2)","v":30.07},2247,2184,0,null,null,null,null,null,null,null,65520,65520,null,null,null,null,null,null,null,null,8642425,8707945,0,8707945,0,8707945,35.162522682817155,593809,445356.75,null,null,null,null,null,null,null,null,null,null,26025743,105.09147434609082,null,null,null,null,87993.730000000447,65520,1261155.4589879997,5.0925226828171546,11339.22,null,0,null,30,null,25,"Bellingham                   ",1,null,24764847.16,17317798,8707945]
[26,"Belmont                      ",1,50418107.66032999,40662179,9755929,null,9755929,50621827.421319984,40824828,9796999,41070,{"$f":"ROUND(100-'Townwide Contributions'!L35,2)","v":17.5},4638,4534,1,null,null,null,null,null,null,null,136020,94950,null,null,null,null,null,null,null,null,9755929,9891949,0,9891949,0,9891949,19.540876937670344,446001,334500.75,null,null,null,null,null,null,null,null,null,null,50716777,100.187566477776,null,null,null,null,203719.76098999381,136020,1033129.2012690026,2.0408769376703439,11164.94,null,0,null,30,null,26,"Belmont                      ",1,null,50621827.421319984,40824828,9891949]
[27,"Berkley                      ",1,8014902.1800000006,4170576,4003448,null,4003448,7936943.7699999996,4234022,3702922,0,{"$f":"ROUND(100-'Townwide Contributions'!L36,2)","v":46.65},764,733,0,null,null,null,null,null,null,null,21990,21990,null,null,null,null,null,null,null,null,4003448,4025438,0,4025438,0,4025438,50.717733634643103,283474,212605.5,null,null,null,null,null,null,null,null,null,null,8259460,104.0634813518403,null,null,null,null,-77958.41000000108,21990,322853.7312950003,4.0677336346431048,10828.03,null,0,null,30,null,27,"Berkley                      ",1,null,7936943.7699999996,4234022,4025438]
[28,"Berlin                       ",0,0,0,0,null,0,0,0,0,0,{"$f":"ROUND(100-'Townwide Contributions'!L37,2)","v":17.5},0,0,0,null,null,null,null,null,null,null,0,0,null,null,null,null,null,null,null,null,0,0,0,0,0,0,0,0,0,null,null,null,null,null,null,null,null,null,null,0,0,null,null,null,null,0,0,0,"",0,null,0,null,0,null,28,"Berlin                       ",0,null,0,0,0]
[29,"Bernardston                  ",0,0,0,0,null,0,0,0,0,0,{"$f":"ROUND(100-'Townwide Contributions'!L38,2)","v":47.5},0,0,0,null,null,null,null,null,null,null,0,0,null,null,null,null,null,null,null,null,0,0,0,0,0,0,0,0,0,null,null,null,null,null,null,null,null,null,null,0,0,null,null,null,null,0,0,0,"",0,null,0,null,0,null,29,"Bernardston                  ",0,null,0,0,0]
[30,"Beverly                      ",1,51866271.119999997,41749093,10125430,null,10125430,53826076.489999995,43333361,10492715,367285,{"$f":"ROUND(100-'Townwide Contributions'!L39,2)","v":17.5},4570,4613,1,null,null,null,null,null,null,null,138390,0,null,null,null,null,null,null,null,null,10132893,10271283,0,10492715,0,10492715,19.493739250991805,2109947,1582460.25,null,null,null,null,null,null,null,null,null,null,53826076,99.999999089660577,null,null,null,null,1959805.3699999973,367285,1073151.6142500024,1.9937392509918048,11668.35,null,0,null,79.61955343594191,null,30,"Beverly                      ",1,null,53826076.489999995,43333361,10492715]
[31,"Billerica                    ",1,52647471.612599999,41417136,19348854,null,19348854,52163794.354139991,43035131,9128663,0,{"$f":"ROUND(100-'Townwide Contributions'!L40,2)","v":17.5},4866,4694,0,null,null,null,null,null,null,null,140820,140820,null,null,null,null,null,null,null,null,19348854,19489674,0,19489674,0,19489674,37.362454632200652,786407,589805.25,null,null,null,null,null,null,null,null,null,null,62524805,119.86245589329471,null,null,null,null,-483677.25846000761,140820,10361009.988025501,19.862454632200652,11112.87,null,0,null,30,null,31,"Billerica                    ",1,null,52163794.354139991,43035131,19489674]
[32,"Blackstone                   ",0,408810.81999999995,197411,211400,null,211400,446551.14999999991,217842,228709,17309,{"$f":"ROUND(100-'Townwide Contributions'!L41,2)","v":51.22},26,28,0,null,null,null,null,null,null,null,0,0,null,null,null,null,null,null,null,null,233349,234189,5480,234189,0,234189,0,0,0,null,null,null,null,null,null,null,null,null,null,452031,101.22714945421149,null,null,null,null,37740.329999999958,22789,5465.5009700000519,"",15948.26,null,0,null,813.89285714285711,null,32,"Blackstone                   ",0,null,446551.14999999991,217842,234189]
[33,"Blandford                    ",0,102604.6,84649,43655,null,43655,149429.5,123279,26151,0,{"$f":"ROUND(100-'Townwide Contributions'!L42,2)","v":17.5},7,10,0,null,null,null,null,null,null,null,0,0,null,null,null,null,null,null,null,null,43655,43955,300,43955,0,43955,0,0,0,null,null,null,null,null,null,null,null,null,null,167234,111.91498331989332,null,null,null,null,46824.899999999994,300,17804.837500000001,"",14942.95,null,0,null,30,null,33,"Blandford                    ",0,null,149429.5,123279,43955]
[34,"Bolton                       ",0,15157.29088,12505,4568,null,4568,15449.483859999998,12379,3070,0,{"$f":"ROUND(100-'Townwide Contributions'!L43,2)","v":17.5},1,1,0,null,null,null,null,null,null,null,0,0,null,null,null,null,null,null,null,null,4568,4598,30,4598,0,4598,0,0,0,null,null,null,null,null,null,null,null,null,null,16977,109.88716615934898,null,null,null,null,292.19297999999799,30,1894.3403245000004,"",15449.48,null,0,null,30,null,34,"Bolton                       ",0,null,15449.483859999998,12379,4598]
[35,"Boston                       ",1,924506066.0076499,762717504,221915045,null,221915045,973396859.42095006,780870181,192526678,0,{"$f":"ROUND(100-'Townwide Contributions'!L44,2)","v":17.5},62890,60704,0,null,null,null,null,null,null,null,1821120,1821120,null,null,null,null,null,null,null,null,221915045,223736165,0,223736165,0,223736165,22.9850921373524,122957457,92218092.75,null,null,null,null,null,null,null,null,null,null,1004606346,103.20624484011749,null,null,null,null,48890793.413300157,1821120,53391714.601333737,5.4850921373523995,16035.14,null,0,null,30,null,35,"Boston                       ",1,null,973396859.42095006,780870181,223736165]
[36,"Bourne                       ",1,22664002.020000003,18697802,5215213,null,5215213,20913172.689999998,17253367,3659806,0,{"$f":"ROUND(100-'Townwide Contributions'!L45,2)","v":17.5},2012,1789,0,null,null,null,null,null,null,null,53670,53670,null,null,null,null,null,null,null,null,5215213,5268883,0,5268883,0,5268883,25.194087373071849,844554,633415.5,null,null,null,null,null,null,null,null,null,null,22522250,107.69408512927076,null,null,null,null,-1750829.3300000057,53670,1609077.7792500006,7.6940873730718486,11689.87,null,0,null,30,null,36,"Bourne                       ",1,null,20913172.689999998,17253367,5268883]
[37,"Boxborough                   ",0,143372.81232,117755,25618,null,25618,144906.67512,119548,25359,0,{"$f":"ROUND(100-'Townwide Contributions'!L46,2)","v":17.5},9,9,0,null,null,null,null,null,null,null,0,0,null,null,null,null,null,null,null,null,25618,25888,270,25888,0,25888,0,0,0,null,null,null,null,null,null,null,null,null,null,145436,100.36528674718515,null,null,null,null,1533.8628000000026,270,529.33185400000002,"",16100.74,null,0,null,30,null,37,"Boxborough                   ",0,null,144906.67512,119548,25888]
[38,"Boxford                      ",1,7419452.1552000009,6121048,1747903,null,1747903,7066465.0981000001,5829834,1236631,0,{"$f":"ROUND(100-'Townwide Contributions'!L47,2)","v":17.5},729,673,0,null,null,null,null,null,null,null,20190,20190,null,null,null,null,null,null,null,null,1747903,1768093,0,1768093,0,1768093,25.020897654690138,308391,231293.25,null,null,null,null,null,null,null,null,null,null,7597927,107.52090181614139,null,null,null,null,-352987.05710000079,20190,531461.60783250001,7.5208976546901383,10499.95,null,0,null,30,null,38,"Boxford                      ",1,null,7066465.0981000001,5829834,1768093]
[39,"Boylston                     ",0,438126.42,353125,85001,null,85001,579300.35,466561,112739,27738,{"$f":"ROUND(100-'Townwide Contributions'!L48,2)","v":17.5},28,35,0,null,null,null,null,null,null,null,0,0,null,null,null,null,null,null,null,null,111929,112979,240,112979,0,112979,0,0,0,null,null,null,null,null,null,null,null,null,null,579540,100.04136886849801,null,null,null,null,141173.93,27978,11601.438750000016,"",16551.439999999999,null,0,null,799.37142857142862,null,39,"Boylston                     ",0,null,579300.35,466561,112979]
[40,"Braintree                    ",1,64248920.529949985,46089277,18297651,null,18297651,63220937.939339995,47031091,16189847,0,{"$f":"ROUND(100-'Townwide Contributions'!L49,2)","v":22.01},5666,5383,0,null,null,null,null,null,null,null,161490,161490,null,null,null,null,null,null,null,null,18297651,18459141,0,18459141,0,18459141,29.197828443658025,1538633,1153974.75,null,null,null,null,null,null,null,null,null,null,65490232,103.58946598172487,null,null,null,null,-1027982.5906099901,161490,4544212.5595512651,7.1878284436580238,11744.55,null,0,null,30,null,40,"Braintree                    ",1,null,63220937.939339995,47031091,18459141]
[41,"Brewster                     ",1,5175998.03,4206025,1011979,null,1011979,4885534.8500000015,4030566,854969,0,{"$f":"ROUND(100-'Townwide Contributions'!L50,2)","v":17.5},468,431,0,null,null,null,null,null,null,null,12930,12930,null,null,null,null,null,null,null,null,1011979,1024909,0,1024909,0,1024909,20.978440057591641,258774,194080.5,null,null,null,null,null,null,null,null,null,null,5055475,103.47843491485888,null,null,null,null,-290463.17999999877,12930,169940.40124999976,3.4784400575916408,11335.35,null,0,null,30,null,41,"Brewster                     ",1,null,4885534.8500000015,4030566,1024909]
[42,"Bridgewater                  ",0,117262.39999999999,73653,76038,null,76038,104600.65,65193,39408,0,{"$f":"ROUND(100-'Townwide Contributions'!L51,2)","v":35.79},8,7,0,null,null,null,null,null,null,null,0,0,null,null,null,null,null,null,null,null,76038,76248,210,76248,0,76248,0,0,0,null,null,null,null,null,null,null,null,null,null,141441,135.22000102293819,null,null,null,null,-12661.75,210,38811.427365000003,"",14942.95,null,0,null,30,null,42,"Bridgewater                  ",0,null,104600.65,65193,76248]
[43,"Brimfield                    ",1,3081860.73,1716855,1365006,null,1365006,2951690.97,1753602,1198089,0,{"$f":"ROUND(100-'Townwide Contributions'!L52,2)","v":40.42},283,269,0,null,null,null,null,null,null,null,8070,8070,null,null,null,null,null,null,null,null,1365006,1373076,0,1373076,0,1373076,46.518284398857645,171567,128675.25,null,null,null,null,null,null,null,null,null,null,3126678,105.92836552940364,null,null,null,null,-130169.75999999978,8070,180002.50992599991,6.0982843988576434,10972.83,null,0,null,30,null,43,"Brimfield                    ",1,null,2951690.97,1753602,1373076]
[44,"Brockton                     ",1,237304378.99000001,48074759,189236745,null,189236745,260127523.13000005,49543381,210584142,21347397,{"$f":"ROUND(100-'Townwide Contributions'!L53,2)","v":78.400000000000006},17491,17092,1,null,null,null,null,null,null,null,512760,0,null,null,null,null,null,null,null,null,189257018,189769778,0,210584142,0,210584142,80.954194875703138,15148834,11361625.5,null,null,null,null,null,null,null,null,null,null,260127523,99.999999950024488,null,null,null,null,22823144.140000045,21347397,6644163.8660799563,2.5541948757031321,15219.26,null,0,null,1248.9701029721507,null,44,"Brockton                     ",1,null,260127523.13000005,49543381,210584142]
[45,"Brookfield                   ",1,2871199.0500000003,1170696,1700503,null,1700503,2733160.0899999994,1148919,1584241,0,{"$f":"ROUND(100-'Townwide Contributions'!L54,2)","v":57.96},253,230,0,null,null,null,null,null,null,null,6900,6900,null,null,null,null,null,null,null,null,1700503,1707403,0,1707403,0,1707403,62.469922865001315,236720,177540,null,null,null,null,null,null,null,null,null,null,2856322,104.5062091478147,null,null,null,null,-138038.96000000089,6900,123263.41183600039,4.5099228650013146,11883.3,null,0,null,30,null,45,"Brookfield                   ",1,null,2733160.0899999994,1148919,1707403]
[46,"Brookline                    ",1,83874467.613419995,69196436,15006787,null,15006787,77282551.571720004,63758105,13524447,0,{"$f":"ROUND(100-'Townwide Contributions'!L55,2)","v":17.5},7648,6858,0,null,null,null,null,null,null,null,205740,205740,null,null,null,null,null,null,null,null,15006787,15212527,0,15212527,0,15212527,19.684297025160227,1631807,1223855.25,null,null,null,null,null,null,null,null,null,null,78970632,102.18429696477273,null,null,null,null,-6591916.0416999906,205740,1688080.4749490004,2.1842970251602267,11268.96,null,0,null,30,null,46,"Brookline                    ",1,null,77282551.571720004,63758105,15212527]
[47,"Buckland                     ",0,29315.599999999999,16598,13074,null,13074,29885.9,18479,11407,0,{"$f":"ROUND(100-'Townwide Contributions'!L56,2)","v":38.17},2,2,0,null,null,null,null,null,null,null,0,0,null,null,null,null,null,null,null,null,13074,13134,60,13134,0,13134,0,0,0,null,null,null,null,null,null,null,null,null,null,31613,105.77897938492734,null,null,null,null,570.30000000000291,60,1726.5519699999986,"",14942.95,null,0,null,30,null,47,"Buckland                     ",0,null,29885.9,18479,13134]
[48,"Burlington                   ",1,40012176.135040008,33010045,7002131,null,7002131,40035800.596980006,33029535,7006266,4135,{"$f":"ROUND(100-'Townwide Contributions'!L57,2)","v":17.5},3518,3420,1,null,null,null,null,null,null,null,102600,98465,null,null,null,null,null,null,null,null,7002131,7104731,0,7104731,0,7104731,17.745944614720472,399814,299860.5,null,null,null,null,null,null,null,null,null,null,40134266,100.24594338455023,null,null,null,null,23624.461939997971,102600,98465.895528499037,0.24594461472047158,11706.37,null,0,null,30,null,48,"Burlington                   ",1,null,40035800.596980006,33029535,7104731]
[49,"Cambridge                    ",1,97837766.086960018,80716157,17121609,null,17121609,100589415.79484001,82986268,17603148,481539,{"$f":"ROUND(100-'Townwide Contributions'!L58,2)","v":17.5},7519,7160,1,null,null,null,null,null,null,null,214800,0,null,null,null,null,null,null,null,null,17121609,17336409,0,17603148,0,17603148,17.500000234520698,3540876,2655657,null,null,null,null,null,null,null,null,null,null,100589416,100.00000020395784,null,null,null,null,2751649.7078799903,481539,0.23590299859642982,2.3452069797258446E-7,14048.8,null,0,null,67.254050279329604,null,49,"Cambridge                    ",1,null,100589415.79484001,82986268,17603148]
[50,"Canton                       ",1,37234938.635360003,30718825,6516115,null,6516115,37357431.396600008,30819881,6537550,21435,{"$f":"ROUND(100-'Townwide Contributions'!L59,2)","v":17.5},3325,3234,1,null,null,null,null,null,null,null,97020,75585,null,null,null,null,null,null,null,null,6516115,6613135,0,6613135,0,6613135,17.702327897741593,398310,298732.5,null,null,null,null,null,null,null,null,null,null,37433016,100.20232815955026,null,null,null,null,122492.76124000549,97020,75584.505594998598,0.20232789774159343,11551.46,null,0,null,30,null,50,"Canton                       ",1,null,37357431.396600008,30819881,6613135]
[51,"Carlisle                     ",1,5783671.1796799991,4771528,1012143,null,1012143,5768217.8704799991,4758779,1009439,0,{"$f":"ROUND(100-'Townwide Contributions'!L60,2)","v":17.5},570,556,0,null,null,null,null,null,null,null,16680,16680,null,null,null,null,null,null,null,null,1012143,1028823,0,1028823,0,1028823,17.836063461909198,75841,56880.75,null,null,null,null,null,null,null,null,null,null,5787602,100.33605057844994,null,null,null,null,-15453.309200000018,16680,19384.872666000272,0.33606346190919822,10374.49,null,0,null,30,null,51,"Carlisle                     ",1,null,5768217.8704799991,4758779,1028823]
[52,"Carver                       ",1,18039221.234960001,9418559,10008599,null,10008599,17542923.77304,9589569,7953355,0,{"$f":"ROUND(100-'Townwide Contributions'!L61,2)","v":45.27},1591,1501,0,null,null,null,null,null,null,null,45030,45030,null,null,null,null,null,null,null,null,10008599,10053629,0,10053629,0,10053629,57.308742431238493,532381,399285.75,null,null,null,null,null,null,null,null,null,null,19643198,111.97220175001675,null,null,null,null,-496297.46192000061,45030,2111947.407944791,12.038742431238489,11687.49,null,0,null,30,null,52,"Carver                       ",1,null,17542923.77304,9589569,10053629]
[53,"Charlemont                   ",0,102604.6,52817,102604.6,null,102604.6,104600.65,54585,50016,0,{"$f":"ROUND(100-'Townwide Contributions'!L62,2)","v":47.82},7,7,0,null,null,null,null,null,null,null,0,0,null,null,null,null,null,null,null,null,102604.6,102814.6,210,102814.6,0,102814.6,0,0,0,null,null,null,null,null,null,null,null,null,null,157399.6,150.47669397847912,null,null,null,null,1996.0499999999884,210,52794.56917000001,"",14942.95,null,0,null,30,null,53,"Charlemont                   ",0,null,104600.65,54585,102814.6]
[54,"Charlton                     ",0,14657.8,7900,6759,null,6759,14942.95,8371,6572,0,{"$f":"ROUND(100-'Townwide Contributions'!L63,2)","v":43.98},1,1,0,null,null,null,null,null,null,null,0,0,null,null,null,null,null,null,null,null,6759,6789,30,6789,0,6789,0,0,0,null,null,null,null,null,null,null,null,null,null,15160,101.4525244345996,null,null,null,null,285.15000000000146,30,217.09058999999979,"",14942.95,null,0,null,30,null,54,"Charlton                     ",0,null,14942.95,8371,6789]
[55,"Chatham                      ",0,0,0,0,null,0,0,0,0,0,{"$f":"ROUND(100-'Townwide Contributions'!L64,2)","v":17.5},0,0,0,null,null,null,null,null,null,null,0,0,null,null,null,null,null,null,null,null,0,0,0,0,0,0,0,0,0,null,null,null,null,null,null,null,null,null,null,0,0,null,null,null,null,0,0,0,"",0,null,0,null,0,null,55,"Chatham                      ",0,null,0,0,0]
[56,"Chelmsford                   ",1,54223728,43879883,11199428,null,11199428,54283919.00999999,44784233,9499686,0,{"$f":"ROUND(100-'Townwide Contributions'!L65,2)","v":17.5},5112,4956,0,null,null,null,null,null,null,null,148680,148680,null,null,null,null,null,null,null,null,11199428,11348108,0,11348108,0,11348108,20.905100823522879,635438,476578.5,null,null,null,null,null,null,null,null,null,null,56132341,103.40510048594594,null,null,null,null,60191.009999990463,148680,1848422.1732500028,3.4051008235228792,10953.17,null,0,null,30,null,56,"Chelmsford                   ",1,null,54283919.00999999,44784233,11348108]
[57,"Chelsea                      ",1,105670798.9015,19903086,85769782,null,85769782,113321986.78373002,19010458,94311529,8541747,{"$f":"ROUND(100-'Townwide Contributions'!L66,2)","v":78.31},7289,7097,1,null,null,null,null,null,null,null,212910,0,null,null,null,null,null,null,null,null,85769782,85982692,0,94311529,0,94311529,83.224387143855296,9224748,6918561,null,null,null,null,null,null,null,null,null,null,113321987,100.00000019084557,null,null,null,null,7651187.8822300136,8541747,5569081.1496610194,4.9143871438552935,15967.59,null,0,null,1203.5715090883473,null,57,"Chelsea                      ",1,null,113321986.78373002,19010458,94311529]
[58,"Cheshire                     ",0,14657.8,6986,7672,null,7672,14942.95,7511,7432,0,{"$f":"ROUND(100-'Townwide Contributions'!L67,2)","v":49.73},1,1,0,null,null,null,null,null,null,null,0,0,null,null,null,null,null,null,null,null,7672,7702,30,7702,0,7702,0,0,0,null,null,null,null,null,null,null,null,null,null,15213,101.80720674297912,null,null,null,null,285.15000000000146,30,270.87096500000007,"",14942.95,null,0,null,30,null,58,"Cheshire                     ",0,null,14942.95,7511,7702]
[59,"Chester                      ",0,131920.19999999998,68221,63699,null,63699,134486.55000000002,64203,70284,6585,{"$f":"ROUND(100-'Townwide Contributions'!L68,2)","v":52.26},9,9,0,null,null,null,null,null,null,null,0,0,null,null,null,null,null,null,null,null,71744,72014,1730,72014,0,72014,0,0,0,null,null,null,null,null,null,null,null,null,null,136217,101.28670859651019,null,null,null,null,2566.3500000000349,8315,1731.3289700000023,"",14942.95,null,0,null,923.88888888888891,null,59,"Chester                      ",0,null,134486.55000000002,64203,72014]
[60,"Chesterfield                 ",0,276890.62,199297,133114,null,133114,267235.75,208835,58401,0,{"$f":"ROUND(100-'Townwide Contributions'!L69,2)","v":21.85},17,16,0,null,null,null,null,null,null,null,0,0,null,null,null,null,null,null,null,null,133114,133594,480,133594,0,133594,0,0,0,null,null,null,null,null,null,null,null,null,null,342429,128.13742173343201,null,null,null,null,-9654.8699999999953,480,75202.988624999998,"",16702.23,null,0,null,30,null,60,"Chesterfield                 ",0,null,267235.75,208835,133594]
[61,"Chicopee                     ",1,99981143.989999995,30903112,69078032,null,69078032,103392553.95,31166929,72225625,3147593,{"$f":"ROUND(100-'Townwide Contributions'!L70,2)","v":69.86},7571,7269,1,null,null,null,null,null,null,null,218070,0,null,null,null,null,null,null,null,null,69078032,69296102,0,72225625,0,72225625,69.855731617702247,9936117,7452087.75,null,null,null,null,null,null,null,null,null,null,103392554,100.00000004835938,null,null,null,null,3411409.9600000083,3147593,-4413.1894700080156,-4.2683822977522823E-3,14223.77,null,0,null,433.01595817856651,null,61,"Chicopee                     ",1,null,103392553.95,31166929,72225625]
[62,"Chilmark                     ",0,0,0,0,null,0,0,0,0,0,{"$f":"ROUND(100-'Townwide Contributions'!L71,2)","v":17.5},0,0,0,null,null,null,null,null,null,null,0,0,null,null,null,null,null,null,null,null,0,0,0,0,0,0,0,0,0,null,null,null,null,null,null,null,null,null,null,0,0,null,null,null,null,0,0,0,"",0,null,0,null,0,null,62,"Chilmark                     ",0,null,{"$f":"I71","v":0},{"$f":"J71","v":0},0]
[63,"Clarksburg                   ",1,2005332.3699999996,683465,1799935,null,1799935,2134267.35,735748,1398519,0,{"$f":"ROUND(100-'Townwide Contributions'!L72,2)","v":64.88},171,180,0,null,null,null,null,null,null,null,5400,5400,null,null,null,null,null,null,null,null,1799935,1805335,0,1805335,0,1805335,84.588043761246681,75841,56880.75,null,null,null,null,null,null,null,null,null,null,2541083,119.06113824024904,null,null,null,null,128934.98000000045,5400,420622.34331999999,19.708043761246685,11857.04,null,0,null,30,null,63,"Clarksburg                   ",1,null,2134267.35,735748,1805335]
[64,"Clinton                      ",1,25739349.560000002,11372125,14367225,null,14367225,26782472.620000001,11925947,14856526,489301,{"$f":"ROUND(100-'Townwide Contributions'!L73,2)","v":55.46},2086,2050,1,null,null,null,null,null,null,null,61500,0,null,null,null,null,null,null,null,null,14483598,14545098,0,14856526,0,14856526,55.471076964364322,947883,710912.25,null,null,null,null,null,null,null,null,null,null,26782473,100.00000141883838,null,null,null,null,1043123.0599999987,489301,2966.6849479991943,1.1076964364320929E-2,13064.62,null,0,null,238.68341463414635,null,64,"Clinton                      ",1,null,26782472.620000001,11925947,{"$f":"AM73","v":14856526}]
[65,"Cohasset                     ",1,15514224.726079997,12799236,2748292,null,2748292,{"$f":"SUMIF(dist1755,A74,found1755)","v":15363435.330299998},{"$f":"SUMIF(dist1755,A74,prelcont1755)","v":12674835},{"$f":"ROUND(MAX(found-prelcont436,0),0)","v":2688600},{"$f":"IF(foundaid>priorc70,foundaid-priorc70,0)","v":0},{"$f":"ROUND(100-'Townwide Contributions'!L74,2)","v":17.5},1468,{"$f":"SUMIF(dist1755,A74,enro1755)","v":1419},{"$f":"IF(AND(C74=1,L74>0),1,0)","v":0},null,null,null,null,null,null,null,{"$f":"IF(nonop=1,enro*$X$6,0)","v":42570},{"$f":"IF((foundinc)<X74,X74-(foundinc),0)","v":42570},null,null,null,null,null,null,null,null,2748292,{"$f":"AH74+30*enro","v":2790862},{"$f":"IF(AI74-priorc70-foundinc-minaid>0,AI74-priorc70-foundinc-minaid,0)","v":0},{"$f":"priorc70+foundinc+minaidadjincrement+minaid","v":2790862},{"$f":"IF(AND(C74=0,AK74>found),AK74-found,0)","v":0},{"$f":"priorc70+foundinc+minaidadjincrement+minaid-rednonop","v":2790862},18.165611661708368,173927,130445.25,null,null,null,null,null,null,null,null,null,null,{"$f":"prelcont436+chapter70","v":15465697},{"$f":"IF(found>0,BA74*100/found,0)","v":100.66561721061383},null,null,null,null,{"$f":"I74-D74","v":-150789.39577999897},42570,102260.81719750073,0.66561166170836827,{"$f":"IFERROR(ROUND(I74/O74, 2), 0)","v":10826.95},null,{"$f":"VLOOKUP(A74, disthist, 37, FALSE)*$H$6","v":0},null,{"$f":"IFERROR(BH74/O74, 0)","v":30},null,{"$f":"A74","v":65},{"$f":"B74","v":"Cohasset                     "},{"$f":"C74","v":1},null,15363435.330299998,12674835,2790862]
[66,"Colrain                      ",0,0,0,0,null,{"$f":"F75+G75","v":0},0,0,0,0,{"$f":"ROUND(100-'Townwide Contributions'!L75,2)","v":34.700000000000003},0,0,0,null,null,null,null,null,null,null,0,0,null,null,null,null,null,null,null,null,0,0,0,0,0,0,{"$f":"IF(C75=1, AM75/I75*100, 0)","v":0},0,{"$f":"0.75*AO75","v":0},null,null,null,null,null,null,null,null,null,null,0,0,null,null,null,null,0,{"$f":"AM75-F75","v":0},{"$f":"AM75-((M75/100)*I75)","v":0},{"$f":"IF(C75=1, (AM75/I75*100)-M75, \"\")","v":""},0,null,0,null,0,null,66,"Colrain                      ",0,null,0,0,0]
[67,"Concord                      ",1,21359034.911680002,17621204,3737831,null,3737831,21203260.514250003,17492690,3710571,0,{"$f":"ROUND(100-'Townwide Contributions'!L76,2)","v":17.5},2081,1998,0,null,null,null,null,null,null,null,59940,59940,null,null,null,null,null,null,null,null,3737831,3797771,0,3797771,0,3797771,17.911259437894682,443100,332325,null,null,null,null,null,null,null,null,null,null,21290461,100.41125979512157,null,null,null,null,-155774.39742999896,59940,87200.410006249789,0.41125943789468167,10612.24,null,0,null,30,null,67,"Concord                      ",1,null,21203260.514250003,17492690,3797771]
[68,"Conway                       ",1,894594.8200000003,738041,626464,null,626464,924302.48000000021,762549,161753,0,{"$f":"ROUND(100-'Townwide Contributions'!L77,2)","v":17.5},79,78,0,null,null,null,null,null,null,null,2340,2340,null,null,null,null,null,null,null,null,626464,628804,0,628804,0,628804,68.030110662474897,75841,56880.75,null,null,null,null,null,null,null,null,null,null,1391353,150.53005159090341,null,null,null,null,29707.659999999916,2340,467051.06599999999,50.530110662474897,11850.03,null,0,null,30,null,68,"Conway                       ",1,null,924302.48000000021,762549,628804]
[69,"Cummington                   ",0,87946.800000000017,72556,73684,null,73684,59771.8,49312,10460,0,{"$f":"ROUND(100-'Townwide Contributions'!L78,2)","v":17.5},6,4,0,null,null,null,null,null,null,null,0,0,null,null,null,null,null,null,null,null,59457.920000000006,59577.920000000006,0,73684,13912.199999999997,59771.8,0,0,0,null,null,null,null,null,null,null,null,null,null,109083.8,182.50044335288547,null,null,null,null,-28175.000000000015,-13912.199999999997,49311.735000000001,"",14942.95,null,0,null,-3478.0499999999993,null,69,"Cummington                   ",0,null,59771.8,49312,59771.8]
[70,"Dalton                       ",0,379495.22,187215,236011,null,236011,312064.59999999998,155031,157034,0,{"$f":"ROUND(100-'Townwide Contributions'!L79,2)","v":50.32},24,19,0,null,null,null,null,null,null,null,0,0,null,null,null,null,null,null,null,null,236011,236581,570,236581,0,236581,0,0,0,null,null,null,null,null,null,null,null,null,null,391612,125.49068365972944,null,null,null,null,-67430.62,570,79550.09328000003,"",16424.45,null,0,null,30,null,70,"Dalton                       ",0,null,312064.59999999998,155031,236581]
[71,"Danvers                      ",1,37325532.020000011,30589946,7108192,null,7108192,37498229.93999999,30909877,6588353,0,{"$f":"ROUND(100-'Townwide Contributions'!L80,2)","v":17.5},3483,3384,0,null,null,null,null,null,null,null,101520,101520,null,null,null,null,null,null,null,null,7108192,7209712,0,7209712,0,7209712,19.226806202682329,1031084,773313,null,null,null,null,null,null,null,null,null,null,38119589,101.65703570807004,null,null,null,null,172697.91999997944,101520,647521.76050000172,1.7268062026823294,11081.04,null,0,null,30,null,71,"Danvers                      ",1,null,37498229.93999999,30909877,7209712]
[72,"Dartmouth                    ",1,38785092.380000003,31997701,9948121,null,9948121,38349025.249999993,31637946,6711079,0,{"$f":"ROUND(100-'Townwide Contributions'!L81,2)","v":17.5},3517,3369,0,null,null,null,null,null,null,null,101070,101070,null,null,null,null,null,null,null,null,9948121,10049191,0,10049191,0,10049191,26.204553921484617,1261877,946407.75,null,null,null,null,null,null,null,null,null,null,41687137,108.7045543615219,null,null,null,null,-436067.13000001013,101070,3338111.5812500017,8.7045539214846173,11382.91,null,0,null,30,null,72,"Dartmouth                    ",1,null,38349025.249999993,31637946,10049191]
[73,"Dedham                       ",1,31069861.763470002,25205198,6066360,null,6066360,30586429.120819997,25233804,5352625,0,{"$f":"ROUND(100-'Townwide Contributions'!L82,2)","v":17.5},2700,2586,0,null,null,null,null,null,null,null,77580,77580,null,null,null,null,null,null,null,null,6066360,6143940,0,6143940,0,6143940,20.087143797436156,1002242,751681.5,null,null,null,null,null,null,null,null,null,null,31377744,102.58714371675822,null,null,null,null,-483432.64265000448,77580,791314.90385650098,2.5871437974361555,11827.7,null,0,null,30,null,73,"Dedham                       ",1,null,30586429.120819997,25233804,6143940]
[74,"Deerfield                    ",1,3368724.2699999996,2732273,1114363,null,1114363,3189923.0900000003,2631686,558237,0,{"$f":"ROUND(100-'Townwide Contributions'!L83,2)","v":17.5},315,293,0,null,null,null,null,null,null,null,8790,8790,null,null,null,null,null,null,null,null,1114363,1123153,0,1123153,0,1123153,35.209406882596653,112381,84285.75,null,null,null,null,null,null,null,null,null,null,3754839,117.70938966431318,null,null,null,null,-178801.17999999924,8790,564916.45924999996,17.709406882596653,10887.11,null,0,null,30,null,74,"Deerfield                    ",1,null,3189923.0900000003,2631686,1123153]
[75,"Dennis                       ",0,0,0,0,null,0,0,0,0,0,{"$f":"ROUND(100-'Townwide Contributions'!L84,2)","v":17.5},0,0,0,null,null,null,null,null,null,null,0,0,null,null,null,null,null,null,null,null,0,0,0,0,0,0,0,0,0,null,null,null,null,null,null,null,null,null,null,0,0,null,null,null,null,0,0,0,"",0,null,0,null,0,null,75,"Dennis                       ",0,null,0,0,0]
[76,"Dighton                      ",0,0,0,0,null,0,0,0,0,0,{"$f":"ROUND(100-'Townwide Contributions'!L85,2)","v":48.52},0,0,0,null,null,null,null,null,null,null,0,0,null,null,null,null,null,null,null,null,0,0,0,0,0,0,0,0,0,null,null,null,null,null,null,null,null,null,null,0,0,null,null,null,null,0,0,0,"",0,null,0,null,0,null,76,"Dighton                      ",0,null,0,0,0]
[77,"Douglas                      ",1,13102757.229999999,7355911,8759585,null,8759585,12300521.189999999,7457277,4843244,0,{"$f":"ROUND(100-'Townwide Contributions'!L86,2)","v":39.369999999999997},1213,1106,0,null,null,null,null,null,null,null,33180,33180,null,null,null,null,null,null,null,null,8759585,8792765,0,8792765,0,8792765,71.482865353285092,174307,130730.25,null,null,null,null,null,null,null,null,null,null,16250042,132.10856474285706,null,null,null,null,-802236.03999999911,33180,3950049.8074970003,32.112865353285095,11121.63,null,0,null,30,null,77,"Douglas                      ",1,null,12300521.189999999,7457277,8792765]
[78,"Dover                        ",1,4983216.4504999993,4111154,872062,null,872062,4975074.8628200004,4104437,870638,0,{"$f":"ROUND(100-'Townwide Contributions'!L87,2)","v":17.5},492,476,0,null,null,null,null,null,null,null,14280,14280,null,null,null,null,null,null,null,null,872062,886342,0,886342,0,886342,17.815651511575417,75841,56880.75,null,null,null,null,null,null,null,null,null,null,4990779,100.31565629891041,null,null,null,null,-8141.5876799989492,14280,15703.899006500025,0.31565151157541749,10451.84,null,0,null,30,null,78,"Dover                        ",1,null,4975074.8628200004,4104437,886342]
[79,"Dracut                       ",1,44096709.129999995,23979412,20128364,null,20128364,45944951.039999999,25066936,20878015,749651,{"$f":"ROUND(100-'Townwide Contributions'!L88,2)","v":44.68},3964,3982,1,null,null,null,null,null,null,null,119460,0,null,null,null,null,null,null,null,null,20827585,20947045,69030,20947045,0,20947045,45.591614586254217,1522521,1141890.75,null,null,null,null,null,null,null,null,null,null,46013981,100.15024493102605,null,null,null,null,1848241.9100000039,818681,418840.87532800063,0.91161458625421687,11538.16,null,0,null,205.595429432446,null,79,"Dracut                       ",1,null,45944951.039999999,25066936,20947045]
[80,"Dudley                       ",0,0,0,0,null,0,0,0,0,0,{"$f":"ROUND(100-'Townwide Contributions'!L89,2)","v":57.25},0,0,0,null,null,null,null,null,null,null,0,0,null,null,null,null,null,null,null,null,0,0,0,0,0,0,0,0,0,null,null,null,null,null,null,null,null,null,null,0,0,null,null,null,null,0,0,0,"",0,null,0,null,0,null,80,"Dudley                       ",0,null,0,0,0]
[81,"Dunstable                    ",0,0,0,0,null,0,0,0,0,0,{"$f":"ROUND(100-'Townwide Contributions'!L90,2)","v":17.5},0,0,0,null,null,null,null,null,null,null,0,0,null,null,null,null,null,null,null,null,0,0,0,0,0,0,0,0,0,null,null,null,null,null,null,null,null,null,null,0,0,null,null,null,null,0,0,0,"",0,null,0,null,0,null,81,"Dunstable                    ",0,null,0,0,0]
[82,"Duxbury                      ",1,30754555.552399997,25372508,5382048,null,5382048,29831320.215240002,24610839,5220481,0,{"$f":"ROUND(100-'Townwide Contributions'!L91,2)","v":17.5},2888,2730,0,null,null,null,null,null,null,null,81900,81900,null,null,null,null,null,null,null,null,5382048,5463948,0,5463948,0,5463948,18.316145449066042,207168,155376,null,null,null,null,null,null,null,null,null,null,30074787,100.81614485380911,null,null,null,null,-923235.33715999499,81900,243466.96233300027,0.81614544906604181,10927.22,null,0,null,30,null,82,"Duxbury                      ",1,null,29831320.215240002,24610839,5463948]
[83,"East Bridgewater             ",1,23574021.350000001,12580578,10995125,null,10995125,23328359.859999999,12898247,10430113,0,{"$f":"ROUND(100-'Townwide Contributions'!L92,2)","v":44.34},2153,2067,0,null,null,null,null,null,null,null,62010,62010,null,null,null,null,null,null,null,null,10995125,11057135,0,11057135,0,11057135,47.397824220635115,555858,416893.5,null,null,null,null,null,null,null,null,null,null,23955382,102.68781064662468,null,null,null,null,-245661.49000000209,62010,713340.23807599954,3.0578242206351121,11286.1,null,0,null,30,null,83,"East Bridgewater             ",1,null,23328359.859999999,12898247,11057135]
[84,"East Brookfield              ",0,335521.82,162027,186016,null,186016,356893.44999999995,175718,181175,0,{"$f":"ROUND(100-'Townwide Contributions'!L93,2)","v":48.92},21,22,0,null,null,null,null,null,null,null,0,0,null,null,null,null,null,null,null,null,186016,186676,660,186676,0,186676,0,0,0,null,null,null,null,null,null,null,null,null,null,362394,101.54123030276965,null,null,null,null,21371.629999999946,660,12083.724260000017,"",16222.43,null,0,null,30,null,84,"East Brookfield              ",0,null,356893.44999999995,175718,186676]
[85,"Eastham                      ",1,2151871.9300000002,1775294,376578,null,376578,2314050.34,1909092,404958,28380,{"$f":"ROUND(100-'Townwide Contributions'!L94,2)","v":17.5},191,196,1,null,null,null,null,null,null,null,5880,0,null,null,null,null,null,null,null,null,394523,400403,0,404958,0,404958,17.499965018047103,149535,112151.25,null,null,null,null,null,null,null,null,null,null,2314050,99.999985307147639,null,null,null,null,162178.40999999968,28380,-0.80949999997392297,-3.4981952897084057E-5,11806.38,null,0,null,144.79591836734693,null,85,"Eastham                      ",1,null,2314050.34,1909092,404958]
[86,"Easthampton                  ",1,20082994.249999996,12651233,8029692,null,8029692,19775625.25,12917558,6858067,0,{"$f":"ROUND(100-'Townwide Contributions'!L95,2)","v":34.68},1719,1630,0,null,null,null,null,null,null,null,48900,48900,null,null,null,null,null,null,null,null,8029692,8078592,0,8078592,0,8078592,40.851259557520187,692048,519036,null,null,null,null,null,null,null,null,null,null,20996150,106.17186427518897,null,null,null,null,-307368.99999999627,48900,1220405.1633000001,6.1712595575201874,12132.29,null,0,null,30,null,86,"Easthampton                  ",1,null,19775625.25,12917558,8078592]
[87,"East Longmeadow              ",1,29030299.670000002,17494208,12102248,null,12102248,27947960.879999999,17112651,10835310,0,{"$f":"ROUND(100-'Townwide Contributions'!L96,2)","v":38.770000000000003},2643,2457,0,null,null,null,null,null,null,null,73710,73710,null,null,null,null,null,null,null,null,12102248,12175958,0,12175958,0,12175958,43.566534432618688,955608,716706,null,null,null,null,null,null,null,null,null,null,29288609,104.79694431288327,null,null,null,null,-1082338.7900000028,73710,1340533.5668239985,4.7965344326186852,11374.83,null,0,null,30,null,87,"East Longmeadow              ",1,null,27947960.879999999,17112651,12175958]
[88,"Easton                       ",1,37563612.82,29384825,10148451,null,10148451,37252962.899999999,30157371,7095592,0,{"$f":"ROUND(100-'Townwide Contributions'!L97,2)","v":17.510000000000002},3516,3373,0,null,null,null,null,null,null,null,101190,101190,null,null,null,null,null,null,null,null,10148451,10249641,0,10249641,0,10249641,27.513626305412608,463513,347634.75,null,null,null,null,null,null,null,null,null,null,40407012,108.46657246691109,null,null,null,null,-310649.92000000179,101190,3726647.1962099997,10.003626305412606,11044.46,null,0,null,30,null,88,"Easton                       ",1,null,37252962.899999999,30157371,10249641]
[89,"Edgartown                    ",1,5167542.74,4263223,904320,null,904320,5229039.6599999992,4313958,915082,10762,{"$f":"ROUND(100-'Townwide Contributions'!L98,2)","v":17.5},441,428,1,null,null,null,null,null,null,null,12840,2078,null,null,null,null,null,null,null,null,904320,917160,0,917160,0,917160,17.539740748495301,97213,72909.75,null,null,null,null,null,null,null,null,null,null,5231118,100.03974611276902,null,null,null,null,61496.919999998994,12840,2078.0595000002068,3.9740748495301403E-2,12217.38,null,0,null,30,null,89,"Edgartown                    ",1,null,5229039.6599999992,4313958,917160]
[90,"Egremont                     ",0,0,0,0,null,0,0,0,0,0,{"$f":"ROUND(100-'Townwide Contributions'!L99,2)","v":17.5},0,0,0,null,null,null,null,null,null,null,0,0,null,null,null,null,null,null,null,null,0,0,0,0,0,0,0,0,0,null,null,null,null,null,null,null,null,null,null,0,0,null,null,null,null,0,0,0,"",0,null,0,null,0,null,90,"Egremont                     ",0,null,0,0,0]
[91,"Erving                       ",1,2326189.63,1919106,471505,null,471505,2350503.5500000003,1939166,411338,0,{"$f":"ROUND(100-'Townwide Contributions'!L100,2)","v":17.5},219,207,0,null,null,null,null,null,null,null,6210,6210,null,null,null,null,null,null,null,null,471505,477715,0,477715,0,477715,20.323942927037908,88962,66721.5,null,null,null,null,null,null,null,null,null,null,2416881,102.82396723034091,null,null,null,null,24313.920000000391,6210,66376.878749999974,2.8239429270379084,11355.09,null,0,null,30,null,91,"Erving                       ",1,null,2350503.5500000003,1939166,477715]
[92,"Essex                        ",0,0,0,0,null,0,0,0,0,0,{"$f":"ROUND(100-'Townwide Contributions'!L101,2)","v":17.5},0,0,0,null,null,null,null,null,null,null,0,0,null,null,null,null,null,null,null,null,0,0,0,0,0,0,0,0,0,null,null,null,null,null,null,null,null,null,null,0,0,null,null,null,null,0,0,0,"",0,null,0,null,0,null,92,"Essex                        ",0,null,0,0,0]
[93,"Everett                      ",1,109071464.1568,35431511,75001709,null,75001709,120182572.72071998,36483827,83698746,8697037,{"$f":"ROUND(100-'Townwide Contributions'!L102,2)","v":68.3},7652,7505,1,null,null,null,null,null,null,null,225150,0,null,null,null,null,null,null,null,null,75001709,75226859,0,83698746,0,83698746,69.642997404040415,5986292,4489719,null,null,null,null,null,null,null,null,null,null,120182573,100.0000002323798,null,null,null,null,11111108.563919976,8697037,1614048.831748262,1.3429974040404176,16013.67,null,0,null,1158.8323784143904,null,93,"Everett                      ",1,null,120182572.72071998,36483827,83698746]
[94,"Fairhaven                    ",1,20977288.109999999,12688884,8291230,null,8291230,20670528.07,12627969,8042559,0,{"$f":"ROUND(100-'Townwide Contributions'!L103,2)","v":37.08},1816,1727,0,null,null,null,null,null,null,null,51810,51810,null,null,null,null,null,null,null,null,8291230,8343040,0,8343040,0,8343040,40.362007065066727,1174391,880793.25,null,null,null,null,null,null,null,null,null,null,20971009,101.45366837742331,null,null,null,null,-306760.03999999911,51810,678408.19164400082,3.282007065066729,11969.04,null,0,null,30,null,94,"Fairhaven                    ",1,null,20670528.07,12627969,8343040]
[95,"Fall River                   ",1,169915017.67999995,32906432,137016364,null,137016364,178475557.12,34270397,144205160,7188796,{"$f":"ROUND(100-'Townwide Contributions'!L104,2)","v":77.69},12095,11894,1,null,null,null,null,null,null,null,356820,0,null,null,null,null,null,null,null,null,137016364,137373184,0,144205160,0,144205160,80.798268584779976,17420945,13065708.75,null,null,null,null,null,null,null,null,null,null,178475557,99.999999932763899,null,null,null,null,8560539.4400000572,7188796,5547499.673472017,3.108268584779978,15005.51,null,0,null,604.40524634269377,null,95,"Fall River                   ",1,null,178475557.12,34270397,144205160]
[96,"Falmouth                     ",1,38101629.059999995,31433844,6780099,null,6780099,36927457.06000001,30465152,6462305,0,{"$f":"ROUND(100-'Townwide Contributions'!L105,2)","v":17.5},3221,3037,0,null,null,null,null,null,null,null,91110,91110,null,null,null,null,null,null,null,null,6780099,6871209,0,6871209,0,6871209,18.607317013017191,1491363,1118522.25,null,null,null,null,null,null,null,null,null,null,37336361,101.10731681127027,null,null,null,null,-1174171.9999999851,91110,408904.01449999865,1.107317013017191,12159.19,null,0,null,30,null,96,"Falmouth                     ",1,null,36927457.06000001,30465152,6871209]
[97,"Fitchburg                    ",1,77039272.929999992,19328344,57710929,null,57710929,80520654.390000001,19692057,60828597,3117668,{"$f":"ROUND(100-'Townwide Contributions'!L106,2)","v":74.48},5815,5644,1,null,null,null,null,null,null,null,169320,0,null,null,null,null,null,null,null,null,57710929,57880249,0,60828597,0,60828597,75.544091712640636,7414837,5561127.75,null,null,null,null,null,null,null,null,null,null,80520654,99.99999951565222,null,null,null,null,3481381.4600000083,3117668,856813.61032799631,1.0640917126406322,14266.59,null,0,null,552.38625088589652,null,97,"Fitchburg                    ",1,null,80520654.390000001,19692057,60828597]
[98,"Florida                      ",1,747149.5,475424,550717,null,550717,708717.74,430461,278257,0,{"$f":"ROUND(100-'Townwide Contributions'!L107,2)","v":28.12},66,58,0,null,null,null,null,null,null,null,1740,1740,null,null,null,null,null,null,null,null,550717,552457,0,552457,0,552457,77.951625706448382,75841,56880.75,null,null,null,null,null,null,null,null,null,null,982918,138.68962839846509,null,null,null,null,-38431.760000000009,1740,353165.57151199999,49.831625706448378,12219.27,null,0,null,30,null,98,"Florida                      ",1,null,708717.74,430461,552457]
[99,"Foxborough                   ",1,29781054.52984,24569370,9046950,null,9046950,29611209.107200004,24429248,5181961,0,{"$f":"ROUND(100-'Townwide Contributions'!L108,2)","v":17.5},2639,2543,0,null,null,null,null,null,null,null,76290,76290,null,null,null,null,null,null,null,null,9046950,9123240,0,9123240,0,9123240,30.810089405574704,321409,241056.75,null,null,null,null,null,null,null,null,null,null,33552488,113.31009104873623,null,null,null,null,-169845.42263999581,76290,3941278.4062399995,13.310089405574704,11644.2,null,0,null,30,null,99,"Foxborough                   ",1,null,29611209.107200004,24429248,9123240]
[100,"Framingham                   ",1,121857618.34246999,65102393,56755225,null,56755225,123683938.43378,67093799,56590139,0,{"$f":"ROUND(100-'Townwide Contributions'!L109,2)","v":44.55},9572,9303,0,null,null,null,null,null,null,null,279090,279090,null,null,null,null,null,null,null,null,56755225,57034315,0,57034315,0,57034315,46.112951869280906,6410292,4807719,null,null,null,null,null,null,null,null,null,null,124128114,100.35912146059111,null,null,null,null,1826320.0913100094,279090,1933120.4277510196,1.5629518692809086,13295.06,null,0,null,30,null,100,"Framingham                   ",1,null,123683938.43378,67093799,57034315]
[101,"Franklin                     ",1,60169866.394320011,41152523,28416161,null,28416161,59684329.708099991,42438004,17246326,0,{"$f":"ROUND(100-'Townwide Contributions'!L110,2)","v":28.75},5511,5292,0,null,null,null,null,null,null,null,158760,158760,null,null,null,null,null,null,null,null,28416161,28574921,0,28574921,0,28574921,47.876756159870197,465496,349122,null,null,null,null,null,null,null,null,null,null,71012925,118.98085368019566,null,null,null,null,-485536.68622002006,158760,11415676.208921254,19.126756159870197,11278.22,null,0,null,30,null,101,"Franklin                     ",1,null,59684329.708099991,42438004,28574921]
[102,"Freetown                     ",0,1444691.88,998607,459454,null,459454,1115509.2,796719,318790,0,{"$f":"ROUND(100-'Townwide Contributions'!L111,2)","v":28.58},91,69,0,null,null,null,null,null,null,null,0,0,null,null,null,null,null,null,null,null,459454,461524,2070,461524,0,461524,0,0,0,null,null,null,null,null,null,null,null,null,null,1258243,112.79539424686054,null,null,null,null,-329182.67999999993,2070,142711.47064000001,"",16166.8,null,0,null,30,null,102,"Freetown                     ",0,null,1115509.2,796719,461524]
[103,"Gardner                      ",1,30692122.609999999,9927325,21003460,null,21003460,30592804.659999996,10329492,20263313,0,{"$f":"ROUND(100-'Townwide Contributions'!L112,2)","v":66.08},2418,2285,0,null,null,null,null,null,null,null,68550,68550,null,null,null,null,null,null,null,null,21003460,21072010,0,21072010,0,21072010,68.878974105802044,2654843,1991132.25,null,null,null,null,null,null,null,null,null,null,31401502,102.64342334410867,null,null,null,null,-99317.95000000298,68550,856284.68067200482,2.7989741058020456,13388.54,null,0,null,30,null,103,"Gardner                      ",1,null,30592804.659999996,10329492,21072010]
[104,"Aquinnah",0,0,0,0,null,0,0,0,0,0,{"$f":"ROUND(100-'Townwide Contributions'!L113,2)","v":17.5},0,0,0,null,null,null,null,null,null,null,0,0,null,null,null,null,null,null,null,null,0,0,0,0,0,0,0,0,0,null,null,null,null,null,null,null,null,null,null,0,0,null,null,null,null,0,0,0,"",0,null,0,null,0,null,104,"Aquinnah",0,null,0,0,0]
[105,"Georgetown                   ",1,13521537.540000001,10617926,5527768,null,5527768,13248901.300000001,10632392,2616509,0,{"$f":"ROUND(100-'Townwide Contributions'!L114,2)","v":19.75},1303,1239,0,null,null,null,null,null,null,null,37170,37170,null,null,null,null,null,null,null,null,5527768,5564938,0,5564938,0,5564938,42.003014997175654,143197,107397.75,null,null,null,null,null,null,null,null,null,null,16197330,122.25413740534091,null,null,null,null,-272636.24000000022,37170,2948279.9932499998,22.253014997175654,10693.22,null,0,null,30,null,105,"Georgetown                   ",1,null,13248901.300000001,10632392,5564938]
[106,"Gill                         ",0,0,0,0,null,0,0,0,0,0,{"$f":"ROUND(100-'Townwide Contributions'!L115,2)","v":32.159999999999997},0,0,0,null,null,null,null,null,null,null,0,0,null,null,null,null,null,null,null,null,0,0,0,0,0,0,0,0,0,null,null,null,null,null,null,null,null,null,null,0,0,null,null,null,null,0,0,0,"",0,null,0,null,0,null,106,"Gill                         ",0,null,0,0,0]
[107,"Gloucester                   ",1,38460242.64918001,31729700,6730543,null,6730543,39241885.876580007,32374556,6867330,136787,{"$f":"ROUND(100-'Townwide Contributions'!L116,2)","v":17.5},3094,3017,1,null,null,null,null,null,null,null,90510,0,null,null,null,null,null,null,null,null,6730543,6821053,0,6867330,0,6867330,17.499999927624525,1965620,1474215,null,null,null,null,null,null,null,null,null,null,39241886,100.00000031451086,null,null,null,null,781643.22739999741,136787,-2.8401500545442104E-2,-7.2375474502450743E-8,13006.92,null,0,null,45.338747099767978,null,107,"Gloucester                   ",1,null,39241885.876580007,32374556,6867330]
[108,"Goshen                       ",0,146578.00000000003,88586,96111,null,96111,134486.55000000002,87373,47114,0,{"$f":"ROUND(100-'Townwide Contributions'!L117,2)","v":35.03},10,9,0,null,null,null,null,null,null,null,0,0,null,null,null,null,null,null,null,null,96111,96381,270,96381,0,96381,0,0,0,null,null,null,null,null,null,null,null,null,null,183754,136.63373772321469,null,null,null,null,-12091.450000000012,270,49270.361534999996,"",14942.95,null,0,null,30,null,108,"Goshen                       ",0,null,134486.55000000002,87373,96381]
[109,"Gosnold                      ",0,8254.48,6810,8254.48,null,8254.48,41676.320000000007,34383,7293,0,{"$f":"ROUND(100-'Townwide Contributions'!L118,2)","v":17.5},1,5,0,null,null,null,null,null,null,null,0,0,null,null,null,null,null,null,null,null,8254.48,8404.48,150,8404.48,0,8404.48,0,75841,56880.75,null,null,null,null,null,null,null,null,null,null,42787.479999999996,102.66616630259099,null,null,null,null,33421.840000000011,150,1111.1239999999989,"",8335.26,null,0,null,30,null,109,"Gosnold                      ",0,null,41676.320000000007,34383,8404.48]
[110,"Grafton                      ",1,32659858.43,22211911,11108735,null,11108735,33036291.830000006,22278742,10757550,0,{"$f":"ROUND(100-'Townwide Contributions'!L119,2)","v":32.56},3079,3021,0,null,null,null,null,null,null,null,90630,90630,null,null,null,null,null,null,null,null,11259769,11350399,151034,11350399,0,11350399,34.35736389061919,263683,197762.25,null,null,null,null,null,null,null,null,null,null,33629141,101.79453908765157,null,null,null,null,376433.40000000596,241664,593782.38015199825,1.797363890619188,10935.55,null,0,null,79.994703740483288,null,110,"Grafton                      ",1,null,33036291.830000006,22278742,11350399]
[111,"Granby                       ",1,8181734.8699999992,5150983,4664780,null,4664780,8277575.2999999998,5125029,3152546,0,{"$f":"ROUND(100-'Townwide Contributions'!L120,2)","v":38.090000000000003},710,685,0,null,null,null,null,null,null,null,20550,20550,null,null,null,null,null,null,null,null,4664780,4685330,0,4685330,0,4685330,56.60268653792857,282308,211731,null,null,null,null,null,null,null,null,null,null,9810359,118.5173030078023,null,null,null,null,95840.430000000633,20550,1532401.5682299999,18.512686537928566,12084.05,null,0,null,30,null,111,"Granby                       ",1,null,8277575.2999999998,5125029,4685330]
[112,"Granville                    ",0,0,0,0,null,0,0,0,0,0,{"$f":"ROUND(100-'Townwide Contributions'!L121,2)","v":27.21},0,0,0,null,null,null,null,null,null,null,0,0,null,null,null,null,null,null,null,null,0,0,0,0,0,0,0,0,0,null,null,null,null,null,null,null,null,null,null,0,0,null,null,null,null,0,0,0,"",0,null,0,null,0,null,112,"Granville                    ",0,null,0,0,0]
[113,"Great Barrington             ",0,0,0,0,null,0,0,0,0,0,{"$f":"ROUND(100-'Townwide Contributions'!L122,2)","v":17.5},0,0,0,null,null,null,null,null,null,null,0,0,null,null,null,null,null,null,null,null,0,0,0,0,0,0,0,0,0,null,null,null,null,null,null,null,null,null,null,0,0,null,null,null,null,0,0,0,"",0,null,0,null,0,null,113,"Great Barrington             ",0,null,0,0,0]
[114,"Greenfield                   ",1,24159291.550000001,10256971,13902321,null,13902321,23765270.25,10213255,13552015,0,{"$f":"ROUND(100-'Townwide Contributions'!L123,2)","v":57.02},1965,1859,0,null,null,null,null,null,null,null,55770,55770,null,null,null,null,null,null,null,null,13902321,13958091,0,13958091,0,13958091,58.733146533437797,1822223,1366667.25,null,null,null,null,null,null,null,null,null,null,24171346,101.70869401327343,null,null,null,null,-394021.30000000075,55770,407133.90344999917,1.7131465334377936,12783.9,null,0,null,30,null,114,"Greenfield                   ",1,null,23765270.25,10213255,13958091]
[115,"Groton                       ",0,0,0,0,null,0,0,0,0,0,{"$f":"ROUND(100-'Townwide Contributions'!L124,2)","v":17.5},0,0,0,null,null,null,null,null,null,null,0,0,null,null,null,null,null,null,null,null,0,0,0,0,0,0,0,0,0,null,null,null,null,null,null,null,null,null,null,0,0,null,null,null,null,0,0,0,"",0,null,0,null,0,null,115,"Groton                       ",0,null,0,0,0]
[116,"Groveland                    ",0,117262.39999999999,84803,65200,null,65200,134486.55000000002,100585,33902,0,{"$f":"ROUND(100-'Townwide Contributions'!L125,2)","v":24.36},8,9,0,null,null,null,null,null,null,null,0,0,null,null,null,null,null,null,null,null,65200,65470,270,65470,0,65470,0,0,0,null,null,null,null,null,null,null,null,null,null,166055,123.47331387413833,null,null,null,null,17224.150000000023,270,32709.076419999998,"",14942.95,null,0,null,30,null,116,"Groveland                    ",0,null,134486.55000000002,100585,65470]
[117,"Hadley                       ",1,5921818.3199999994,4885500,1279420,null,1279420,5848652.0300000003,4825138,1023514,0,{"$f":"ROUND(100-'Townwide Contributions'!L126,2)","v":17.5},520,498,0,null,null,null,null,null,null,null,14940,14940,null,null,null,null,null,null,null,null,1279420,1294360,0,1294360,0,1294360,22.130911419601073,186900,140175,null,null,null,null,null,null,null,null,null,null,6119498,104.63091270622232,null,null,null,null,-73166.289999999106,14940,270845.89474999998,4.6309114196010732,11744.28,null,0,null,30,null,117,"Hadley                       ",1,null,5848652.0300000003,4825138,1294360]
[118,"Halifax                      ",1,6764091.2584799994,3795461,3063392,null,3063392,6869417.3754399987,3815571,3053846,0,{"$f":"ROUND(100-'Townwide Contributions'!L127,2)","v":44.46},630,615,0,null,null,null,null,null,null,null,18450,18450,null,null,null,null,null,null,null,null,3063392,3081842,0,3081842,0,3081842,44.863222476747559,96709,72531.75,null,null,null,null,null,null,null,null,null,null,6897413,100.40754001438452,null,null,null,null,105326.11695999932,18450,27699.034879376646,0.40322247674755829,11169.78,null,0,null,30,null,118,"Halifax                      ",1,null,6869417.3754399987,3815571,3081842]
[119,"Hamilton                     ",0,0,0,0,null,0,0,0,0,0,{"$f":"ROUND(100-'Townwide Contributions'!L128,2)","v":17.5},0,0,0,null,null,null,null,null,null,null,0,0,null,null,null,null,null,null,null,null,0,0,0,0,0,0,0,0,0,null,null,null,null,null,null,null,null,null,null,0,0,null,null,null,null,0,0,0,"",0,null,0,null,0,null,119,"Hamilton                     ",0,null,0,0,0]
[120,"Hampden                      ",0,0,0,0,null,0,0,0,0,0,{"$f":"ROUND(100-'Townwide Contributions'!L129,2)","v":20.12},0,0,0,null,null,null,null,null,null,null,0,0,null,null,null,null,null,null,null,null,0,0,0,0,0,0,0,0,0,null,null,null,null,null,null,null,null,null,null,0,0,null,null,null,null,0,0,0,"",0,null,0,null,0,null,120,"Hampden                      ",0,null,0,0,0]
[121,"Hancock                      ",1,883632.04,673593,211450,null,211450,935475.98,689759,245717,34267,{"$f":"ROUND(100-'Townwide Contributions'!L130,2)","v":17.5},77,81,1,null,null,null,null,null,null,null,2430,0,null,null,null,null,null,null,null,null,235808,238238,0,245717,0,245717,26.26652156263809,75841,56880.75,null,null,null,null,null,null,null,null,null,null,935476,100.00000213794907,null,null,null,null,51843.939999999944,34267,82008.703500000003,8.7665215626380899,11549.09,null,0,null,423.04938271604937,null,121,"Hancock                      ",1,null,935475.98,689759,245717]
[122,"Hanover                      ",1,27226298.169830002,21124278,7023879,null,7023879,27947138.811849996,21495854,6451285,0,{"$f":"ROUND(100-'Townwide Contributions'!L131,2)","v":23.08},2558,2548,0,null,null,null,null,null,null,null,76440,76440,null,null,null,null,null,null,null,null,7023879,7100319,0,7100319,0,7100319,25.406246585032743,189162,141871.5,null,null,null,null,null,null,null,null,null,null,28596173,102.32236363271221,null,null,null,null,720840.64201999456,76440,650119.36222502124,2.3262465850327452,10968.26,null,0,null,30,null,122,"Hanover                      ",1,null,27947138.811849996,21495854,7100319]
[123,"Hanson                       ",0,14657.8,8507,14657.8,null,14657.8,14942.95,9175,5768,0,{"$f":"ROUND(100-'Townwide Contributions'!L132,2)","v":36.82},1,1,0,null,null,null,null,null,null,null,0,0,null,null,null,null,null,null,null,null,14657.8,14687.8,30,14687.8,0,14687.8,0,0,0,null,null,null,null,null,null,null,null,null,null,23862.799999999999,159.69269789432474,null,null,null,null,285.15000000000146,30,9185.805809999998,"",14942.95,null,0,null,30,null,123,"Hanson                       ",0,null,14942.95,9175,14687.8]
[124,"Hardwick                     ",0,29315.599999999999,11840,17476,null,17476,44828.850000000006,16764,28065,10589,{"$f":"ROUND(100-'Townwide Contributions'!L133,2)","v":60.35},2,3,0,null,null,null,null,null,null,null,0,0,null,null,null,null,null,null,null,null,27668,27758,0,28065,0,28065,0,0,0,null,null,null,null,null,null,null,null,null,null,44829,100.00033460595129,null,null,null,null,15513.250000000007,10589,1010.7890249999946,"",14942.95,null,0,null,3529.6666666666665,null,124,"Hardwick                     ",0,null,44828.850000000006,16764,28065]
[125,"Harvard                      ",1,9458347.1900000013,7803137,1982671,null,1982671,9381972.8599999994,7740128,1641845,0,{"$f":"ROUND(100-'Townwide Contributions'!L134,2)","v":17.5},911,876,0,null,null,null,null,null,null,null,26280,26280,null,null,null,null,null,null,null,null,1982671,2008951,0,2008951,0,2008951,21.412884368544212,217288,162966,null,null,null,null,null,null,null,null,null,null,9749079,103.9128885307818,null,null,null,null,-76374.330000001937,26280,367105.74950000015,3.9128843685442121,10710.01,null,0,null,30,null,125,"Harvard                      ",1,null,9381972.8599999994,7740128,2008951]
[126,"Harwich                      ",0,0,0,0,null,0,0,0,0,0,{"$f":"ROUND(100-'Townwide Contributions'!L135,2)","v":17.5},0,0,0,null,null,null,null,null,null,null,0,0,null,null,null,null,null,null,null,null,0,0,0,0,0,0,0,0,0,null,null,null,null,null,null,null,null,null,null,0,0,null,null,null,null,0,0,0,"",0,null,0,null,0,null,126,"Harwich                      ",0,null,{"$f":"I135","v":0},{"$f":"J135","v":0},0]
[127,"Hatfield                     ",1,3943217.63,3167592,846256,null,846256,3871585.5500000003,3194058,677528,0,{"$f":"ROUND(100-'Townwide Contributions'!L136,2)","v":17.5},353,334,0,null,null,null,null,null,null,null,10020,10020,null,null,null,null,null,null,null,null,846256,856276,0,856276,0,856276,22.116933461537482,97251,72938.25,null,null,null,null,null,null,null,null,null,null,4050334,104.61693142748712,null,null,null,null,-71632.079999999609,10020,178748.52874999994,4.6169334615374815,11591.57,null,0,null,30,null,127,"Hatfield                     ",1,null,3871585.5500000003,3194058,856276]
[128,"Haverhill                    ",1,107173075.29000002,43835110,63349956,null,63349956,109426886.44,44844043,64582843,1232887,{"$f":"ROUND(100-'Townwide Contributions'!L137,2)","v":57.36},8540,8276,1,null,null,null,null,null,null,null,248280,0,null,null,null,null,null,null,null,null,63349956,63598236,0,64582843,0,64582843,59.019172619346627,7638488,5728866,null,null,null,null,null,null,null,null,null,null,109426886,99.999999597905031,null,null,null,null,2253811.1499999762,1232887,1815580.9380160049,1.6591726193466272,13222.2,null,0,null,148.97136297728372,null,128,"Haverhill                    ",1,null,109426886.44,44844043,{"$f":"AM137","v":64582843}]
[129,"Hawley                       ",0,14657.8,8781,5877,null,5877,{"$f":"SUMIF(dist1755,A138,found1755)","v":59771.8},{"$f":"SUMIF(dist1755,A138,prelcont1755)","v":46625},{"$f":"ROUND(MAX(found-prelcont436,0),0)","v":13147},{"$f":"IF(foundaid>priorc70,foundaid-priorc70,0)","v":7270},{"$f":"ROUND(100-'Townwide Contributions'!L138,2)","v":19.34},1,{"$f":"SUMIF(dist1755,A138,enro1755)","v":4},{"$f":"IF(AND(C138=1,L138>0),1,0)","v":0},null,null,null,null,null,null,null,{"$f":"IF(nonop=1,enro*$X$6,0)","v":0},{"$f":"IF((foundinc)<X138,X138-(foundinc),0)","v":0},null,null,null,null,null,null,null,null,12643,{"$f":"AH138+30*enro","v":12763},{"$f":"IF(AI138-priorc70-foundinc-minaid>0,AI138-priorc70-foundinc-minaid,0)","v":0},{"$f":"priorc70+foundinc+minaidadjincrement+minaid","v":13147},{"$f":"IF(AND(C138=0,AK138>found),AK138-found,0)","v":0},{"$f":"priorc70+foundinc+minaidadjincrement+minaid-rednonop","v":13147},0,0,0,null,null,null,null,null,null,null,null,null,null,{"$f":"prelcont436+chapter70","v":59772},{"$f":"IF(found>0,BA138*100/found,0)","v":100.00033460595129},null,null,null,null,{"$f":"I138-D138","v":45114},7270,1587.1338799999994,"",{"$f":"IFERROR(ROUND(I138/O138, 2), 0)","v":14942.95},null,{"$f":"VLOOKUP(A138, disthist, 37, FALSE)*$H$6","v":0},null,{"$f":"IFERROR(BH138/O138, 0)","v":1817.5},null,{"$f":"A138","v":129},{"$f":"B138","v":"Hawley                       "},{"$f":"C138","v":0},null,59771.8,46625,13147]
[130,"Heath                        ",0,0,0,0,null,{"$f":"F139+G139","v":0},0,0,0,0,{"$f":"ROUND(100-'Townwide Contributions'!L139,2)","v":57.68},0,0,0,null,null,null,null,null,null,null,0,0,null,null,null,null,null,null,null,null,0,0,0,0,0,0,{"$f":"IF(C139=1, AM139/I139*100, 0)","v":0},0,{"$f":"0.75*AO139","v":0},null,null,null,null,null,null,null,null,null,null,0,0,null,null,null,null,0,{"$f":"AM139-F139","v":0},{"$f":"AM139-((M139/100)*I139)","v":0},{"$f":"IF(C139=1, (AM139/I139*100)-M139, \"\")","v":""},0,null,0,null,0,null,130,"Heath                        ",0,null,0,0,0]
[131,"Hingham                      ",1,45460703.839160003,37505081,7955623,null,7955623,43173159.772249997,35617857,7555303,0,{"$f":"ROUND(100-'Townwide Contributions'!L140,2)","v":17.5},4289,3947,0,null,null,null,null,null,null,null,118410,118410,null,null,null,null,null,null,null,null,7955623,8074033,0,8074033,0,8074033,18.701510481495195,420060,315045,null,null,null,null,null,null,null,null,null,null,43691890,101.20151091670483,null,null,null,null,-2287544.0669100061,118410,518730.03985625133,1.2015104814951947,10938.22,null,0,null,30,null,131,"Hingham                      ",1,null,43173159.772249997,35617857,8074033]
[132,"Hinsdale                     ",0,117262.39999999999,96741,104683,null,104683,119543.6,96902,22642,0,{"$f":"ROUND(100-'Townwide Contributions'!L141,2)","v":17.5},8,8,0,null,null,null,null,null,null,null,0,0,null,null,null,null,null,null,null,null,104683,104923,240,104923,0,104923,0,0,0,null,null,null,null,null,null,null,null,null,null,201825,168.82961530353779,null,null,null,null,2281.2000000000116,240,84002.87,"",14942.95,null,0,null,30,null,132,"Hinsdale                     ",0,null,119543.6,96902,104923]
[133,"Holbrook                     ",1,16096140.681580001,8273118,7826400,null,7826400,17208016.089600001,8484015,8724001,897601,{"$f":"ROUND(100-'Townwide Contributions'!L142,2)","v":49.13},1346,1315,1,null,null,null,null,null,null,null,39450,0,null,null,null,null,null,null,null,null,7826400,7865850,0,8724001,0,8724001,50.697308478648615,714103,535577.25,null,null,null,null,null,null,null,null,null,null,17208016,99.999999479312436,null,null,null,null,1111875.408019999,897601,269702.69517952017,1.5673084786486129,13085.94,null,0,null,682.58631178707219,null,133,"Holbrook                     ",1,null,17208016.089600001,8484015,8724001]
[134,"Holden                       ",0,0,0,0,null,0,14942.95,8828,6115,6115,{"$f":"ROUND(100-'Townwide Contributions'!L143,2)","v":40.93},0,1,0,null,null,null,null,null,null,null,0,0,null,null,null,null,null,null,null,null,6333,6363,248,6363,0,6363,0,0,0,null,null,null,null,null,null,null,null,null,null,15191,101.65998012440649,null,null,null,null,14942.95,6363,246.85056499999973,"",14942.95,null,0,null,6363,null,134,"Holden                       ",0,null,14942.95,8828,6363]
[135,"Holland                      ",1,1899540.24,1117998,933678,null,933678,1809744.82,1163162,646583,0,{"$f":"ROUND(100-'Townwide Contributions'!L144,2)","v":34.07},156,152,0,null,null,null,null,null,null,null,4560,4560,null,null,null,null,null,null,null,null,933678,938238,0,938238,0,938238,51.843662688312044,98569,73926.75,null,null,null,null,null,null,null,null,null,null,2101400,116.11581791956725,null,null,null,null,-89795.419999999925,4560,321657.93982600002,17.773662688312044,11906.22,null,0,null,30,null,135,"Holland                      ",1,null,1809744.82,1163162,938238]
[136,"Holliston                    ",1,28673820.518239997,21202129,7936216,null,7936216,28287128.612019997,21347747,6939382,0,{"$f":"ROUND(100-'Townwide Contributions'!L145,2)","v":24.53},2706,2604,0,null,null,null,null,null,null,null,78120,78120,null,null,null,null,null,null,null,null,7936216,8014336,0,8014336,0,8014336,28.332094465729838,194717,146037.75,null,null,null,null,null,null,null,null,null,null,29362083,103.80015378274635,null,null,null,null,-386691.90622000024,78120,1075503.351471494,3.8020944657298372,10862.95,null,0,null,30,null,136,"Holliston                    ",1,null,28287128.612019997,21347747,8014336]
[137,"Holyoke                      ",1,90161028.659999996,11207668,78953361,null,78953361,93693634.540000007,11380266,82313369,3360008,{"$f":"ROUND(100-'Townwide Contributions'!L146,2)","v":80.48},6357,6159,1,null,null,null,null,null,null,null,184770,0,null,null,null,null,null,null,null,null,78953361,79138131,0,82313369,0,82313369,87.853747380093893,16523318,12392488.5,null,null,null,null,null,null,null,null,null,null,93693635,100.00000049096184,null,null,null,null,3532605.8800000101,3360008,6908731.9222079813,7.3737473800938886,15212.48,null,0,null,545.54440655950646,null,137,"Holyoke                      ",1,null,93693634.540000007,11380266,82313369]
[138,"Hopedale                     ",1,9927021.4951400012,5864081,6087390,null,6087390,10296038.865150001,6071421,4224618,0,{"$f":"ROUND(100-'Townwide Contributions'!L147,2)","v":41.03},924,914,0,null,null,null,null,null,null,null,27420,27420,null,null,null,null,null,null,null,null,6087390,6114810,0,6114810,0,6114810,59.389927331154404,249035,186776.25,null,null,null,null,null,null,null,null,null,null,12186231,118.35844016914034,null,null,null,null,369017.37000999972,27420,1890345.2536289543,18.359927331154402,11264.81,null,0,null,30,null,138,"Hopedale                     ",1,null,10296038.865150001,6071421,6114810]
[139,"Hopkinton                    ",1,41585309.188900001,34279876,7305433,null,7305433,43490670.81628,35879803,7610868,305435,{"$f":"ROUND(100-'Townwide Contributions'!L148,2)","v":17.5},3867,3935,1,null,null,null,null,null,null,null,118050,0,null,null,null,null,null,null,null,null,7932371,8050421,439553,8050421,0,8050421,18.510684817918378,201328,150996,null,null,null,null,null,null,null,null,null,null,43930224,101.01068384430498,null,null,null,null,1905361.6273799986,744988,439553.60715100076,1.0106848179183778,11052.27,null,0,null,189.32350698856416,null,139,"Hopkinton                    ",1,null,43490670.81628,35879803,8050421]
[140,"Hubbardston                  ",0,0,0,0,null,0,0,0,0,0,{"$f":"ROUND(100-'Townwide Contributions'!L149,2)","v":36.19},0,0,0,null,null,null,null,null,null,null,0,0,null,null,null,null,null,null,null,null,0,0,0,0,0,0,0,0,0,null,null,null,null,null,null,null,null,null,null,0,0,null,null,null,null,0,0,0,"",0,null,0,null,0,null,140,"Hubbardston                  ",0,null,0,0,0]
[141,"Hudson                       ",1,30603552.288509995,18666759,12020446,null,12020446,30097729.245099999,18926218,11171511,0,{"$f":"ROUND(100-'Townwide Contributions'!L150,2)","v":36.06},2658,2512,0,null,null,null,null,null,null,null,75360,75360,null,null,null,null,null,null,null,null,12020446,12095806,0,12095806,0,12095806,40.188433823356405,970429,727821.75,null,null,null,null,null,null,null,null,null,null,31022024,103.07097836974023,null,null,null,null,-505823.04340999573,75360,1242564.8342169393,4.1284338233564029,11981.58,null,0,null,30,null,141,"Hudson                       ",1,null,30097729.245099999,18926218,12095806]
[142,"Hull                         ",1,10567859.950760001,8718484,3874466,null,3874466,10290637.225959999,8489776,1800861,0,{"$f":"ROUND(100-'Townwide Contributions'!L151,2)","v":17.5},896,837,0,null,null,null,null,null,null,null,25110,25110,null,null,null,null,null,null,null,null,3874466,3899576,0,3899576,0,3899576,37.894407453822318,412179,309134.25,null,null,null,null,null,null,null,null,null,null,12389352,120.39441025814817,null,null,null,null,-277222.72480000183,25110,2098714.4854570003,20.394407453822318,12294.67,null,0,null,30,null,142,"Hull                         ",1,null,10290637.225959999,8489776,3899576]
[143,"Huntington                   ",0,423468.62,191404,257686,null,257686,431608.2,198179,233429,0,{"$f":"ROUND(100-'Townwide Contributions'!L152,2)","v":54.08},27,27,0,null,null,null,null,null,null,null,0,0,null,null,null,null,null,null,null,null,257686,258496,810,258496,0,258496,0,0,0,null,null,null,null,null,null,null,null,null,null,456675,105.80776732230758,null,null,null,null,8139.5800000000163,810,25082.285440000007,"",15985.49,null,0,null,30,null,143,"Huntington                   ",0,null,431608.2,198179,258496]
[144,"Ipswich                      ",1,18495911.746960003,15259127,3332340,null,3332340,18333059.397599999,15124774,3208285,0,{"$f":"ROUND(100-'Townwide Contributions'!L153,2)","v":17.5},1654,1585,0,null,null,null,null,null,null,null,47550,47550,null,null,null,null,null,null,null,null,3332340,3379890,0,3379890,0,3379890,18.43603910672141,522467,391850.25,null,null,null,null,null,null,null,null,null,null,18504664,100.93603909024844,null,null,null,null,-162852.34936000407,47550,171604.60542000039,0.93603910672140955,11566.6,null,0,null,30,null,144,"Ipswich                      ",1,null,18333059.397599999,15124774,3379890]
[145,"Kingston                     ",1,11789935.42196,7692593,4372585,null,4372585,11872229.508859999,7844484,4027746,0,{"$f":"ROUND(100-'Townwide Contributions'!L154,2)","v":33.299999999999997},1105,1076,0,null,null,null,null,null,null,null,32280,32280,null,null,null,null,null,null,null,null,4372585,4404865,0,4404865,0,4404865,37.102256123946567,138582,103936.5,null,null,null,null,null,null,null,null,null,null,12249349,103.17648417138975,null,null,null,null,82294.086899999529,32280,451412.57354962081,3.8022561239465702,11033.67,null,0,null,30,null,145,"Kingston                     ",1,null,11872229.508859999,7844484,4404865]
[146,"Lakeville                    ",0,203601.62000000002,133221,86148,null,86148,134486.55000000002,93417,41070,0,{"$f":"ROUND(100-'Townwide Contributions'!L155,2)","v":29.66},12,9,0,null,null,null,null,null,null,null,0,0,null,null,null,null,null,null,null,null,86148,86418,270,86418,0,86418,0,0,0,null,null,null,null,null,null,null,null,null,null,179835,133.7196916717694,null,null,null,null,-69115.070000000007,270,46529.289270000001,"",14942.95,null,0,null,30,null,146,"Lakeville                    ",0,null,134486.55000000002,93417,86418]
[147,"Lancaster                    ",0,0,0,0,null,0,14942.95,10267,4676,4676,{"$f":"ROUND(100-'Townwide Contributions'!L156,2)","v":27.43},0,1,0,null,null,null,null,null,null,null,0,0,null,null,null,null,null,null,null,null,4574,4604,0,4676,0,4676,0,0,0,null,null,null,null,null,null,null,null,null,null,14943,100.00033460595129,null,null,null,null,14942.95,4676,577.14881499999956,"",14942.95,null,0,null,4676,null,147,"Lancaster                    ",0,null,14942.95,10267,4676]
[148,"Lanesborough                 ",0,29315.599999999999,18020,11311,null,11311,14942.95,8491,6452,0,{"$f":"ROUND(100-'Townwide Contributions'!L157,2)","v":43.18},2,1,0,null,null,null,null,null,null,null,0,0,null,null,null,null,null,null,null,null,11311,11341,30,11341,0,11341,0,0,0,null,null,null,null,null,null,null,null,null,null,19832,132.71810452420706,null,null,null,null,-14372.649999999998,30,4888.6341899999998,"",14942.95,null,0,null,30,null,148,"Lanesborough                 ",0,null,14942.95,8491,11341]
[149,"Lawrence                     ",1,218786376.44,11530073,207256303,null,207256303,232840932.91999999,12043723,220797210,13540907,{"$f":"ROUND(100-'Townwide Contributions'!L158,2)","v":85.43},15367,14746,1,null,null,null,null,null,null,null,442380,0,null,null,null,null,null,null,null,null,207256303,207698683,0,220797210,0,220797210,94.827488977576806,24075662,18056746.5,null,null,null,null,null,null,null,null,null,null,232840933,100.00000003435822,null,null,null,null,14054556.479999989,13540907,21881201.006444007,9.3974889775767991,15790.11,null,0,null,918.27661738776612,null,149,"Lawrence                     ",1,null,232840932.91999999,12043723,220797210]
[150,"Lee                          ",1,7515008.5899999989,6036549,2085069,null,2085069,7346478.3700000001,6060845,1285633,0,{"$f":"ROUND(100-'Townwide Contributions'!L159,2)","v":17.5},616,579,0,null,null,null,null,null,null,null,17370,17370,null,null,null,null,null,null,null,null,2085069,2102439,0,2102439,0,2102439,28.618324237984517,324298,243223.5,null,null,null,null,null,null,null,null,null,null,8163284,111.11832893070915,null,null,null,null,-168530.21999999881,17370,816805.28524999996,11.118324237984517,12688.22,null,0,null,30,null,150,"Lee                          ",1,null,7346478.3700000001,6060845,2102439]
[151,"Leicester                    ",1,18032789.120000001,8592877,9802497,null,9802497,17880645.889999997,8835023,9045623,0,{"$f":"ROUND(100-'Townwide Contributions'!L160,2)","v":50.59},1539,1458,0,null,null,null,null,null,null,null,43740,43740,null,null,null,null,null,null,null,null,9802497,9846237,0,9846237,0,9846237,55.066450398789272,764851,573638.25,null,null,null,null,null,null,null,null,null,null,18681260,104.47754580525392,null,null,null,null,-152143.23000000417,43740,800418.24424900115,4.4764503987892681,12263.82,null,0,null,30,null,151,"Leicester                    ",1,null,17880645.889999997,8835023,9846237]
[152,"Lenox                        ",1,5736170.5799999991,4728371,1272525,null,1272525,5870128.3400000008,4784639,1085489,0,{"$f":"ROUND(100-'Townwide Contributions'!L161,2)","v":17.5},507,496,0,null,null,null,null,null,null,null,14880,14880,null,null,null,null,null,null,null,null,1272525,1287405,0,1287405,0,1287405,21.931462575143627,382781,287085.75,null,null,null,null,null,null,null,null,null,null,6072044,103.43971457359993,null,null,null,null,133957.76000000164,14880,260132.54049999989,4.4314625751436267,11834.94,null,0,null,30,null,152,"Lenox                        ",1,null,5870128.3400000008,4784639,1287405]
[153,"Leominster                   ",1,79655609.189999998,30886014,48769595,null,48769595,81156930.920000002,32013354,49143577,373982,{"$f":"ROUND(100-'Townwide Contributions'!L162,2)","v":59.91},6177,5990,1,null,null,null,null,null,null,null,179700,0,null,null,null,null,null,null,null,null,48769595,48949295,0,49143577,0,49143577,60.553764715971106,4980554,3735415.5,null,null,null,null,null,null,null,null,null,null,81156931,100.00000009857445,null,null,null,null,1501321.7300000042,373982,522459.68582800031,0.64376471597110907,13548.74,null,0,null,62.434390651085145,null,153,"Leominster                   ",1,null,81156930.920000002,32013354,49143577]
[154,"Leverett                     ",1,1203602.1499999999,992972,295511,null,295511,1140383.8500000001,940817,199567,0,{"$f":"ROUND(100-'Townwide Contributions'!L163,2)","v":17.5},116,105,0,null,null,null,null,null,null,null,3150,3150,null,null,null,null,null,null,null,null,295511,298661,0,298661,0,298661,26.189515047937583,75841,56880.75,null,null,null,null,null,null,null,null,null,null,1239478,108.68954343750131,null,null,null,null,-63218.299999999814,3150,99093.826249999984,8.6895150479375829,10860.8,null,0,null,30,null,154,"Leverett                     ",1,null,1140383.8500000001,940817,298661]
[155,"Lexington                    ",1,81400953.564800009,67155786,14438034,null,14438034,80473764.459500015,66390856,14082908,0,{"$f":"ROUND(100-'Townwide Contributions'!L164,2)","v":17.5},7282,6982,0,null,null,null,null,null,null,null,209460,209460,null,null,null,null,null,null,null,null,14438034,14647494,0,14647494,0,14647494,18.201576747874938,535029,401271.75,null,null,null,null,null,null,null,null,null,null,81038350,100.70157714665396,null,null,null,null,-927189.10529999435,209460,564585.21958749741,0.70157674787493818,11525.89,null,0,null,30,null,155,"Lexington                    ",1,null,80473764.459500015,66390856,14647494]
[156,"Leyden                       ",0,0,0,0,null,0,0,0,0,0,{"$f":"ROUND(100-'Townwide Contributions'!L165,2)","v":17.5},0,0,0,null,null,null,null,null,null,null,0,0,null,null,null,null,null,null,null,null,0,0,0,0,0,0,0,0,0,null,null,null,null,null,null,null,null,null,null,0,0,null,null,null,null,0,0,0,"",0,null,0,null,0,null,156,"Leyden                       ",0,null,0,0,0]
[157,"Lincoln                      ",1,6274212.1128000012,5176225,1174169,null,1174169,6318769.3612000002,5212985,1105784,0,{"$f":"ROUND(100-'Townwide Contributions'!L166,2)","v":17.5},595,578,0,null,null,null,null,null,null,null,17340,17340,null,null,null,null,null,null,null,null,1174169,1191509,0,1191509,0,1191509,18.856662300674955,75841,56880.75,null,null,null,null,null,null,null,null,null,null,6404494,101.35666668459821,null,null,null,null,44557.248399998993,17340,85724.361789999995,1.3566623006749552,10932.13,null,0,null,30,null,157,"Lincoln                      ",1,null,6318769.3612000002,5212985,1191509]
[158,"Littleton                    ",1,16791308.800700001,13852830,4039908,null,4039908,16203700.729959998,13368053,2835648,0,{"$f":"ROUND(100-'Townwide Contributions'!L167,2)","v":17.5},1611,1515,0,null,null,null,null,null,null,null,45450,45450,null,null,null,null,null,null,null,null,4039908,4085358,0,4085358,0,4085358,25.212499712774473,159057,119292.75,null,null,null,null,null,null,null,null,null,null,17453411,107.71249908194946,null,null,null,null,-587608.07074000314,45450,1249710.3722570003,7.7124997127744734,10695.51,null,0,null,30,null,158,"Littleton                    ",1,null,16203700.729959998,13368053,4085358]
[159,"Longmeadow                   ",1,29237892.870000001,24121262,5669282,null,5669282,29088744.440000001,23998214,5090530,0,{"$f":"ROUND(100-'Townwide Contributions'!L168,2)","v":17.5},2808,2705,0,null,null,null,null,null,null,null,81150,81150,null,null,null,null,null,null,null,null,5669282,5750432,0,5750432,0,5750432,19.768580977639473,488960,366720,null,null,null,null,null,null,null,null,null,null,29748646,102.26858041728528,null,null,null,null,-149148.4299999997,81150,659901.72300000023,2.2685809776394734,10753.69,null,0,null,30,null,159,"Longmeadow                   ",1,null,29088744.440000001,23998214,5750432]
[160,"Lowell                       ",1,218744159.73000002,51808768,166954483,null,166954483,231415706.88999999,54090653,177325054,10370571,{"$f":"ROUND(100-'Townwide Contributions'!L169,2)","v":74.08},16352,16047,1,null,null,null,null,null,null,null,481410,0,null,null,null,null,null,null,null,null,166954483,167435893,0,177325054,0,177325054,76.626196373217141,17872494,13404370.5,null,null,null,null,null,null,null,null,null,null,231415707,100.00000004753352,null,null,null,null,12671547.159999967,10370571,5892298.3358879983,2.5461963732171426,14421.12,null,0,null,646.26229201719946,null,160,"Lowell                       ",1,null,231415706.88999999,54090653,177325054]
[161,"Ludlow                       ",1,29294399.16,16443714,13795983,null,13795983,28762531.389999997,16602458,12160073,0,{"$f":"ROUND(100-'Townwide Contributions'!L170,2)","v":42.28},2509,2381,0,null,null,null,null,null,null,null,71430,71430,null,null,null,null,null,null,null,null,13795983,13867413,0,13867413,0,13867413,48.21346498320154,1367953,1025964.75,null,null,null,null,null,null,null,null,null,null,30469871,105.93598521232245,null,null,null,null,-531867.77000000328,71430,1706614.7283080015,5.9334649832015387,12080.02,null,0,null,30,null,161,"Ludlow                       ",1,null,28762531.389999997,16602458,13867413]
[162,"Lunenburg                    ",1,18301715.41,10527777,7773938,null,7773938,18380186.040000003,10907685,7472501,0,{"$f":"ROUND(100-'Townwide Contributions'!L171,2)","v":39.479999999999997},1705,1656,0,null,null,null,null,null,null,null,49680,49680,null,null,null,null,null,null,null,null,7773938,7823618,0,7823618,0,7823618,42.565499516565282,578834,434125.5,null,null,null,null,null,null,null,null,null,null,18731303,101.9103014476343,null,null,null,null,78470.630000002682,49680,567120.55140799936,3.0854995165652852,11099.15,null,0,null,30,null,162,"Lunenburg                    ",1,null,18380186.040000003,10907685,7823618]
[163,"Lynn                         ",1,252551048.48000005,53396054,199154994,null,199154994,266558842.58999997,55110068,211448775,12293781,{"$f":"ROUND(100-'Townwide Contributions'!L172,2)","v":76.260000000000005},18087,17156,1,null,null,null,null,null,null,null,514680,0,null,null,null,null,null,null,null,null,199154994,199669674,0,211448775,0,211448775,79.325365065916813,18735330,14051497.5,null,null,null,null,null,null,null,null,null,null,266558843,100.00000015381221,null,null,null,null,14007794.109999925,12293781,8171001.6408660114,3.0653650659168079,15537.35,null,0,null,716.58784098857541,null,163,"Lynn                         ",1,null,266558842.58999997,55110068,211448775]
[164,"Lynnfield                    ",1,23513323.468790006,19317442,4404631,null,4404631,23894429.729009997,19712904,4181526,0,{"$f":"ROUND(100-'Townwide Contributions'!L173,2)","v":17.5},2205,2175,0,null,null,null,null,null,null,null,65250,65250,null,null,null,null,null,null,null,null,4404631,4469881,0,4469881,0,4469881,18.706790874247819,190552,142914,null,null,null,null,null,null,null,null,null,null,24182785,101.20678867108477,null,null,null,null,381106.26021999121,65250,288355.79742325097,1.2067908742478188,10985.94,null,0,null,30,null,164,"Lynnfield                    ",1,null,23894429.729009997,19712904,4469881]
[165,"Malden                       ",1,94879629.913439989,45560692,51206223,null,51206223,97406250.094940007,47779006,49627244,0,{"$f":"ROUND(100-'Townwide Contributions'!L174,2)","v":43.46},7268,6921,0,null,null,null,null,null,null,null,207630,207630,null,null,null,null,null,null,null,null,51206223,51413853,0,51413853,0,51413853,52.782909669438972,7041771,5281328.25,null,null,null,null,null,null,null,null,null,null,99192859,101.83418302554365,null,null,null,null,2526620.1815000176,207630,9081096.7087390721,9.322909669438971,14074.01,null,0,null,30,null,165,"Malden                       ",1,null,97406250.094940007,47779006,51413853]
[166,"Manchester                   ",0,0,0,0,null,0,0,0,0,0,{"$f":"ROUND(100-'Townwide Contributions'!L175,2)","v":17.5},0,0,0,null,null,null,null,null,null,null,0,0,null,null,null,null,null,null,null,null,0,0,0,0,0,0,0,0,0,null,null,null,null,null,null,null,null,null,null,0,0,null,null,null,null,0,0,0,"",0,null,0,null,0,null,166,"Manchester                   ",0,null,0,0,0]
[167,"Mansfield                    ",1,41671720.92024,29709526,18962339,null,18962339,41523845.582419999,29788892,11734954,0,{"$f":"ROUND(100-'Townwide Contributions'!L176,2)","v":28.26},3730,3599,0,null,null,null,null,null,null,null,107970,107970,null,null,null,null,null,null,null,null,18962339,19070309,0,19070309,0,19070309,45.926162985428839,506792,380094,null,null,null,null,null,null,null,null,null,null,48859201,117.66540481666173,null,null,null,null,-147875.33782000095,107970,7335670.2384081073,17.666162985428837,11537.61,null,0,null,30,null,167,"Mansfield                    ",1,null,41523845.582419999,29788892,19070309]
[168,"Marblehead                   ",1,31915735.240000002,26330482,5952147,null,5952147,30162422.010000002,24883999,5278423,0,{"$f":"ROUND(100-'Townwide Contributions'!L177,2)","v":17.5},3023,2772,0,null,null,null,null,null,null,null,83160,83160,null,null,null,null,null,null,null,null,5952147,6035307,0,6035307,0,6035307,20.00935799518707,354464,265848,null,null,null,null,null,null,null,null,null,null,30919306,102.50936078591123,null,null,null,null,-1753313.2300000004,83160,756883.14824999962,2.5093579951870701,10881.1,null,0,null,30,null,168,"Marblehead                   ",1,null,30162422.010000002,24883999,6035307]
[169,"Marion                       ",1,4522671.7799999993,3731204,860344,null,860344,4366552.4799999986,3602406,764146,0,{"$f":"ROUND(100-'Townwide Contributions'!L178,2)","v":17.5},432,403,0,null,null,null,null,null,null,null,12090,12090,null,null,null,null,null,null,null,null,860344,872434,0,872434,0,872434,19.979927047619046,130866,98149.5,null,null,null,null,null,null,null,null,null,null,4474840,102.47993171949696,null,null,null,null,-156119.30000000075,12090,108287.31600000034,2.4799270476190465,10835.12,null,0,null,30,null,169,"Marion                       ",1,null,4366552.4799999986,3602406,872434]
[170,"Marlborough                  ",1,67959735.832000002,36937156,31032674,null,31032674,68564199.290899992,38131682,30432517,0,{"$f":"ROUND(100-'Townwide Contributions'!L179,2)","v":42.37},5336,5207,0,null,null,null,null,null,null,null,156210,156210,null,null,null,null,null,null,null,null,31032674,31188884,0,31188884,0,31188884,45.488584892056728,2816150,2112112.5,null,null,null,null,null,null,null,null,null,null,69320566,101.10315108602222,null,null,null,null,604463.45889998972,156210,2138232.7604456767,3.118584892056731,13167.7,null,0,null,30,null,170,"Marlborough                  ",1,null,68564199.290899992,38131682,31188884]
[171,"Marshfield                   ",1,43514601.597520001,35899546,14664853,null,14664853,43215478.693449996,35652770,7562709,0,{"$f":"ROUND(100-'Townwide Contributions'!L180,2)","v":17.5},3941,3791,0,null,null,null,null,null,null,null,113730,113730,null,null,null,null,null,null,null,null,14664853,14778583,0,14778583,0,14778583,34.197429825623878,1237922,928441.5,null,null,null,null,null,null,null,null,null,null,50431353,116.69743000589204,null,null,null,null,-299122.90407000482,113730,7215874.2286462514,16.697429825623878,11399.49,null,0,null,30,null,171,"Marshfield                   ",1,null,43215478.693449996,35652770,14778583]
[172,"Mashpee                      ",1,18424932.769999996,15200570,4640166,null,4640166,18191214.660000004,15007753,3183462,0,{"$f":"ROUND(100-'Townwide Contributions'!L181,2)","v":17.5},1585,1510,0,null,null,null,null,null,null,null,45300,45300,null,null,null,null,null,null,null,null,4640166,4685466,0,4685466,0,4685466,25.756751748428869,640430,480322.5,null,null,null,null,null,null,null,null,null,null,19693219,108.25675672610636,null,null,null,null,-233718.10999999195,45300,1502003.4344999995,8.2567517484288686,12047.16,null,0,null,30,null,172,"Mashpee                      ",1,null,18191214.660000004,15007753,4685466]
[173,"Mattapoisett                 ",1,4546818.59,3751126,839485,null,839485,4245573.87,3502598,742976,0,{"$f":"ROUND(100-'Townwide Contributions'!L182,2)","v":17.5},437,396,0,null,null,null,null,null,null,null,11880,11880,null,null,null,null,null,null,null,null,839485,851365,0,851365,0,851365,20.053001692324813,109607,82205.25,null,null,null,null,null,null,null,null,null,null,4353963,102.55299126381706,null,null,null,null,-301244.71999999974,11880,108389.57275000005,2.5530016923248127,10721.15,null,0,null,30,null,173,"Mattapoisett                 ",1,null,4245573.87,3502598,851365]
[174,"Maynard                      ",1,14950228.72524,10176959,5442941,null,5442941,14846690.595790001,10602983,4243708,0,{"$f":"ROUND(100-'Townwide Contributions'!L183,2)","v":26.73},1305,1256,0,null,null,null,null,null,null,null,37680,37680,null,null,null,null,null,null,null,null,5442941,5480621,0,5480621,0,5480621,36.914765379121675,494851,371138.25,null,null,null,null,null,null,null,null,null,null,16083604,108.33123985597669,null,null,null,null,-103538.12944999896,37680,1512100.6037453329,10.184765379121675,11820.61,null,0,null,30,null,174,"Maynard                      ",1,null,14846690.595790001,10602983,5480621]
[175,"Medfield                     ",1,26552098.786160003,21905481,6288744,null,6288744,26386600.917599998,21768946,4617655,0,{"$f":"ROUND(100-'Townwide Contributions'!L184,2)","v":17.5},2513,2433,0,null,null,null,null,null,null,null,72990,72990,null,null,null,null,null,null,null,null,6288744,6361734,0,6361734,0,6361734,24.109713941050629,166255,124691.25,null,null,null,null,null,null,null,null,null,null,28130680,106.60971486189679,null,null,null,null,-165497.86856000498,72990,1744078.839420001,6.6097139410506287,10845.29,null,0,null,30,null,175,"Medfield                     ",1,null,26386600.917599998,21768946,6361734]
[176,"Medford                      ",1,59524340.664400004,49107581,12143306,null,12143306,59041525.514499992,48709259,10332267,0,{"$f":"ROUND(100-'Townwide Contributions'!L185,2)","v":17.5},4622,4414,0,null,null,null,null,null,null,null,132420,132420,null,null,null,null,null,null,null,null,12143306,12275726,0,12275726,0,12275726,20.791681605491728,2362520,1771890,null,null,null,null,null,null,null,null,null,null,60984985,103.29168236857754,null,null,null,null,-482815.14990001172,132420,1943459.0349625014,3.2916816054917284,13375.97,null,0,null,30,null,176,"Medford                      ",1,null,59041525.514499992,48709259,12275726]
[177,"Medway                       ",1,23623580.679760002,16885292,10501419,null,10501419,23100506.070399996,17420950,5679556,0,{"$f":"ROUND(100-'Townwide Contributions'!L186,2)","v":23.16},2186,2089,0,null,null,null,null,null,null,null,62670,62670,null,null,null,null,null,null,null,null,10501419,10564089,0,10564089,0,10564089,45.730985147275078,264358,198268.5,null,null,null,null,null,null,null,null,null,null,27985039,121.14470096332148,null,null,null,null,-523074.60936000571,62670,5214011.7940953607,22.570985147275078,11058.16,null,0,null,30,null,177,"Medway                       ",1,null,23100506.070399996,17420950,10564089]
[178,"Melrose                      ",1,43519030.447039999,35108451,8514496,null,8514496,44275634.769020006,36147954,8127681,0,{"$f":"ROUND(100-'Townwide Contributions'!L187,2)","v":17.5},4013,3914,0,null,null,null,null,null,null,null,117420,117420,null,null,null,null,null,null,null,null,8514496,8631916,0,8631916,0,8631916,19.495860522455608,429049,321786.75,null,null,null,null,null,null,null,null,null,null,44779870,101.13885488849685,null,null,null,null,756604.32198000699,117420,883679.91542149987,1.9958605224556081,11312.12,null,0,null,30,null,178,"Melrose                      ",1,null,44275634.769020006,36147954,8631916]
[179,"Mendon                       ",0,102604.6,77719,35836,null,35836,89657.700000000012,68395,21263,0,{"$f":"ROUND(100-'Townwide Contributions'!L188,2)","v":23.72},7,6,0,null,null,null,null,null,null,null,0,0,null,null,null,null,null,null,null,null,35836,36016,180,36016,0,36016,0,0,0,null,null,null,null,null,null,null,null,null,null,104411,116.45513993778559,null,null,null,null,-12946.899999999994,180,14749.193559999996,"",14942.95,null,0,null,30,null,179,"Mendon                       ",0,null,89657.700000000012,68395,36016]
[180,"Merrimac                     ",0,146578.00000000003,99096,47504,null,47504,134486.55000000002,95641,38846,0,{"$f":"ROUND(100-'Townwide Contributions'!L189,2)","v":26.65},10,9,0,null,null,null,null,null,null,null,0,0,null,null,null,null,null,null,null,null,47504,47774,270,47774,0,47774,0,0,0,null,null,null,null,null,null,null,null,null,null,143415,106.63891667977205,null,null,null,null,-12091.450000000012,270,11933.334425000001,"",14942.95,null,0,null,30,null,180,"Merrimac                     ",0,null,134486.55000000002,95641,47774]
[181,"Methuen                      ",1,88769466.079999998,40325303,48444163,null,48444163,89081373.360000014,40893567,48187806,0,{"$f":"ROUND(100-'Townwide Contributions'!L190,2)","v":53.07},7124,6767,0,null,null,null,null,null,null,null,203010,203010,null,null,null,null,null,null,null,null,48444163,48647173,0,48647173,0,48647173,54.609814785190459,5158895,3869171.25,null,null,null,null,null,null,null,null,null,null,89540740,100.51567081048871,null,null,null,null,311907.28000001609,203010,1371688.1578480005,1.5398147851904582,13164.09,null,0,null,30,null,181,"Methuen                      ",1,null,89081373.360000014,40893567,48647173]
[182,"Middleborough                ",1,35057530.5,18220402,17978609,null,17978609,35701074.940000005,19002353,16698722,0,{"$f":"ROUND(100-'Townwide Contributions'!L191,2)","v":46.77},3073,3021,0,null,null,null,null,null,null,null,90630,90630,null,null,null,null,null,null,null,null,17978609,18069239,0,18069239,0,18069239,50.612590882396546,1254168,940626,null,null,null,null,null,null,null,null,null,null,37071592,103.83886777163801,null,null,null,null,643544.44000000507,90630,1371846.2505619973,3.8425908823965429,11817.63,null,0,null,30,null,182,"Middleborough                ",1,null,35701074.940000005,19002353,18069239]
[183,"Middlefield                  ",0,43973.400000000009,36278,13200,null,13200,44828.850000000006,36984,7845,0,{"$f":"ROUND(100-'Townwide Contributions'!L192,2)","v":17.5},3,3,0,null,null,null,null,null,null,null,0,0,null,null,null,null,null,null,null,null,13200,13290,90,13290,0,13290,0,0,0,null,null,null,null,null,null,null,null,null,null,50274,112.14653063819392,null,null,null,null,855.44999999999709,90,5444.9512499999992,"",14942.95,null,0,null,30,null,183,"Middlefield                  ",0,null,44828.850000000006,36984,13290]
[184,"Middleton                    ",1,7013290.1260299999,5785964,1666151,null,1666151,6916385.8156800009,5706018,1210368,0,{"$f":"ROUND(100-'Townwide Contributions'!L193,2)","v":17.5},686,658,0,null,null,null,null,null,null,null,19740,19740,null,null,null,null,null,null,null,null,1666151,1685891,0,1685891,0,1685891,24.3753174696812,90232,67674,null,null,null,null,null,null,null,null,null,null,7391909,106.87531316199784,null,null,null,null,-96904.310349998996,19740,475523.48225599993,6.8753174696811996,10511.22,null,0,null,30,null,184,"Middleton                    ",1,null,6916385.8156800009,5706018,1685891]
[185,"Milford                      ",1,56604613.875760004,25435714,31168900,null,31168900,58311889.735019997,26045119,32266771,1097871,{"$f":"ROUND(100-'Townwide Contributions'!L194,2)","v":55.33},4482,4422,1,null,null,null,null,null,null,null,132660,0,null,null,null,null,null,null,null,null,32084712,32217372,0,32266771,0,32266771,55.334805897435615,1981998,1486498.5,null,null,null,null,null,null,null,null,null,null,58311890,100.00000045441848,null,null,null,null,1707275.8592599928,1097871,2802.4096134342253,4.8058974356166573E-3,13186.77,null,0,null,248.27476255088195,null,185,"Milford                      ",1,null,58311889.735019997,26045119,32266771]
[186,"Millbury                     ",1,19675592.059999999,11797270,7878322,null,7878322,19068853.890000001,12048397,7020457,0,{"$f":"ROUND(100-'Townwide Contributions'!L195,2)","v":35.119999999999997},1743,1633,0,null,null,null,null,null,null,null,48990,48990,null,null,null,null,null,null,null,null,7878322,7927312,0,7927312,0,7927312,41.572042272331863,591494,443620.5,null,null,null,null,null,null,null,null,null,null,19975709,104.75568754803648,null,null,null,null,-606738.16999999806,48990,1230330.513832001,6.452042272331866,11677.19,null,0,null,30,null,186,"Millbury                     ",1,null,19068853.890000001,12048397,7927312]
[187,"Millis                       ",1,11739340.2481,8676571,4831312,null,4831312,11827839.3332,9094951,2732888,0,{"$f":"ROUND(100-'Townwide Contributions'!L196,2)","v":22.72},1088,1051,0,null,null,null,null,null,null,null,31530,31530,null,null,null,null,null,null,null,null,4831312,4862842,0,4862842,0,4862842,41.113527695208951,126495,94871.25,null,null,null,null,null,null,null,null,null,null,13957793,118.00796922242048,null,null,null,null,88499.085100000724,31530,2175556.9034969602,18.393527695208952,11253.89,null,0,null,30,null,187,"Millis                       ",1,null,11827839.3332,9094951,4862842]
[188,"Millville                    ",0,73289.000000000015,33038,71567,null,71567,119543.6,56111,63433,0,{"$f":"ROUND(100-'Townwide Contributions'!L197,2)","v":53.06},5,8,0,null,null,null,null,null,null,null,0,0,null,null,null,null,null,null,null,null,71567,71807,240,71807,0,71807,0,0,0,null,null,null,null,null,null,null,null,null,null,127918,107.00531019644716,null,null,null,null,46254.599999999991,240,8377.1658399999869,"",14942.95,null,0,null,30,null,188,"Millville                    ",0,null,119543.6,56111,71807]
[189,"Milton                       ",1,46912230.011340007,37346878,9567275,null,9567275,48026381.270000011,38723621,9302760,0,{"$f":"ROUND(100-'Townwide Contributions'!L198,2)","v":17.5},4374,4340,0,null,null,null,null,null,null,null,130200,130200,null,null,null,null,null,null,null,null,9567275,9697475,0,9697475,0,9697475,20.191975209378494,423455,317591.25,null,null,null,null,null,null,null,null,null,null,48421096,100.82187064601212,null,null,null,null,1114151.2586600035,130200,1292858.2777499985,2.6919752093784943,11065.99,null,0,null,30,null,189,"Milton                       ",1,null,48026381.270000011,38723621,9697475]
[190,"Monroe                       ",0,149215.03999999998,79783,69432,null,69432,147405.71000000002,72110,75296,5864,{"$f":"ROUND(100-'Townwide Contributions'!L199,2)","v":45.04},15,14,0,null,null,null,null,null,null,null,0,0,null,null,null,null,null,null,null,null,73865,74285,0,75296,0,75296,0,0,0,null,null,null,null,null,null,null,null,null,null,147406,100.00019673593376,null,null,null,null,-1809.3299999999581,5864,8904.4682159999938,"",10528.98,null,0,null,418.85714285714283,null,190,"Monroe                       ",0,null,{"$f":"I199","v":147405.71000000002},{"$f":"J199","v":72110},75296]
[191,"Monson                       ",1,10603017.180000002,5893568,7541075,null,7541075,10383546.389999999,5980205,4403341,0,{"$f":"ROUND(100-'Townwide Contributions'!L200,2)","v":42.41},934,883,0,null,null,null,null,null,null,null,26490,26490,null,null,null,null,null,null,null,null,7541075,7567565,0,7567565,0,7567565,72.880350467620929,522626,391969.5,null,null,null,null,null,null,null,null,null,null,13547770,130.47343837214754,null,null,null,null,-219470.79000000283,26490,3163902.976001001,30.470350467620932,11759.4,null,0,null,30,null,191,"Monson                       ",1,null,10383546.389999999,5980205,7567565]
[192,"Montague                     ",0,0,0,0,null,0,0,0,0,0,{"$f":"ROUND(100-'Townwide Contributions'!L201,2)","v":52.62},0,0,0,null,null,null,null,null,null,null,0,0,null,null,null,null,null,null,null,null,0,0,0,0,0,0,0,0,0,null,null,null,null,null,null,null,null,null,null,0,0,null,null,null,null,0,0,0,"",0,null,0,null,0,null,192,"Montague                     ",0,null,0,0,{"$f":"AM201","v":0}]
[193,"Monterey                     ",0,0,0,0,null,0,{"$f":"SUMIF(dist1755,A202,found1755)","v":0},{"$f":"SUMIF(dist1755,A202,prelcont1755)","v":0},{"$f":"ROUND(MAX(found-prelcont436,0),0)","v":0},{"$f":"IF(foundaid>priorc70,foundaid-priorc70,0)","v":0},{"$f":"ROUND(100-'Townwide Contributions'!L202,2)","v":17.5},0,{"$f":"SUMIF(dist1755,A202,enro1755)","v":0},{"$f":"IF(AND(C202=1,L202>0),1,0)","v":0},null,null,null,null,null,null,null,{"$f":"IF(nonop=1,enro*$X$6,0)","v":0},{"$f":"IF((foundinc)<X202,X202-(foundinc),0)","v":0},null,null,null,null,null,null,null,null,0,{"$f":"AH202+30*enro","v":0},{"$f":"IF(AI202-priorc70-foundinc-minaid>0,AI202-priorc70-foundinc-minaid,0)","v":0},{"$f":"priorc70+foundinc+minaidadjincrement+minaid","v":0},{"$f":"IF(AND(C202=0,AK202>found),AK202-found,0)","v":0},{"$f":"priorc70+foundinc+minaidadjincrement+minaid-rednonop","v":0},0,0,0,null,null,null,null,null,null,null,null,null,null,{"$f":"prelcont436+chapter70","v":0},{"$f":"IF(found>0,BA202*100/found,0)","v":0},null,null,null,null,{"$f":"I202-D202","v":0},0,0,"",{"$f":"IFERROR(ROUND(I202/O202, 2), 0)","v":0},null,{"$f":"VLOOKUP(A202, disthist, 37, FALSE)*$H$6","v":0},null,{"$f":"IFERROR(BH202/O202, 0)","v":0},null,{"$f":"A202","v":193},{"$f":"B202","v":"Monterey                     "},{"$f":"C202","v":0},null,0,0,0]
[194,"Montgomery                   ",0,87946.800000000017,68444,21042,null,{"$f":"F203+G203","v":21042},59771.8,49312,10460,0,{"$f":"ROUND(100-'Townwide Contributions'!L203,2)","v":17.5},6,4,0,null,null,null,null,null,null,null,0,0,null,null,null,null,null,null,null,null,21042,21162,120,21162,0,21162,{"$f":"IF(C203=1, AM203/I203*100, 0)","v":0},0,{"$f":"0.75*AO203","v":0},null,null,null,null,null,null,null,null,null,null,70474,117.90509906009187,null,null,null,null,-28175.000000000015,{"$f":"AM203-F203","v":120},{"$f":"AM203-((M203/100)*I203)","v":10701.934999999999},{"$f":"IF(C203=1, (AM203/I203*100)-M203, \"\")","v":""},14942.95,null,0,null,30,null,194,"Montgomery                   ",0,null,59771.8,49312,21162]
[195,"Mount Washington             ",0,17625.62,14541,7771,null,7771,43434.66,35834,7601,0,{"$f":"ROUND(100-'Townwide Contributions'!L204,2)","v":17.5},2,5,0,null,null,null,null,null,null,null,0,0,null,null,null,null,null,null,null,null,7771,7921,150,7921,0,7921,0,0,0,null,null,null,null,null,null,null,null,null,null,43755,100.73752160141233,null,null,null,null,25809.040000000005,150,319.9345000000003,"",8686.93,null,0,null,30,null,195,"Mount Washington             ",0,null,43434.66,35834,7921]
[196,"Nahant                       ",1,2739284.95,2259910,523513,null,523513,2840964.3000000003,2343796,497168,0,{"$f":"ROUND(100-'Townwide Contributions'!L205,2)","v":17.5},266,263,0,null,null,null,null,null,null,null,7890,7890,null,null,null,null,null,null,null,null,523513,531403,0,531403,0,531403,18.705022094082629,75841,56880.75,null,null,null,null,null,null,null,null,null,null,2875199,101.20503802177309,null,null,null,null,101679.35000000009,7890,34234.247499999998,1.2050220940826293,10802.15,null,0,null,30,null,196,"Nahant                       ",1,null,2840964.3000000003,2343796,531403]
[197,"Nantucket                    ",1,19472349.760000002,16064689,3600249,null,3600249,20062013.989999998,16551162,3510852,0,{"$f":"ROUND(100-'Townwide Contributions'!L206,2)","v":17.5},1664,1663,0,null,null,null,null,null,null,null,49890,49890,null,null,null,null,null,null,null,null,3600249,3650139,0,3650139,0,3650139,18.194280005085371,415461,311595.75,null,null,null,null,null,null,null,null,null,null,20201301,100.69428228925287,null,null,null,null,589664.22999999672,49890,139286.55175000057,0.69428000508537124,12063.75,null,0,null,30,null,197,"Nantucket                    ",1,null,20062013.989999998,16551162,3650139]
[198,"Natick                       ",1,58312471.325909987,48107789,10204682,null,10204682,57416261.712559983,47368416,10047846,0,{"$f":"ROUND(100-'Townwide Contributions'!L207,2)","v":17.5},5484,5270,0,null,null,null,null,null,null,null,158100,158100,null,null,null,null,null,null,null,null,10204682,10362782,0,10362782,0,10362782,18.048513941709846,454968,341226,null,null,null,null,null,null,null,null,null,null,57731198,100.54851409347523,null,null,null,null,-896209.61335000396,158100,314936.20030200295,0.54851394170984591,10894.93,null,0,null,30,null,198,"Natick                       ",1,null,57416261.712559983,47368416,10362782]
[199,"Needham                      ",1,63004475.701059997,51978693,11025783,null,11025783,62670272.533059999,51702975,10967298,0,{"$f":"ROUND(100-'Townwide Contributions'!L208,2)","v":17.5},5754,5561,0,null,null,null,null,null,null,null,166830,166830,null,null,null,null,null,null,null,null,11025783,11192613,0,11192613,0,11192613,17.859525014983209,303310,227482.5,null,null,null,null,null,null,null,null,null,null,62895588,100.35952527064748,null,null,null,null,-334203.16799999774,166830,225315.30671450123,0.35952501498320899,11269.6,null,0,null,30,null,199,"Needham                      ",1,null,62670272.533059999,51702975,11192613]
[200,"New Ashford                  ",0,278897.32,226155,179597,null,179597,234257.91999999998,193263,40995,0,{"$f":"ROUND(100-'Townwide Contributions'!L209,2)","v":17.5},28,22,0,null,null,null,null,null,null,null,0,0,null,null,null,null,null,null,null,null,179597,180257,660,180257,0,180257,0,0,0,null,null,null,null,null,null,null,null,null,null,373520,159.4481842919121,null,null,null,null,-44639.400000000023,660,139261.864,"",10648.09,null,0,null,30,null,200,"New Ashford                  ",0,null,234257.91999999998,193263,180257]
[201,"New Bedford                  ",1,197388756.04999998,31307615,166091904,null,166091904,205027128.52999997,32430617,172596512,6504608,{"$f":"ROUND(100-'Townwide Contributions'!L210,2)","v":79.400000000000006},14257,14010,1,null,null,null,null,null,null,null,420300,0,null,null,null,null,null,null,null,null,166091904,166512204,0,172596512,0,172596512,84.182280285286907,21127185,15845388.75,null,null,null,null,null,null,null,null,null,null,205027129,100.00000022923797,null,null,null,null,7638372.4799999893,6504608,9804971.9471800029,4.7822802852869017,14634.34,null,0,null,464.28322626695217,null,201,"New Bedford                  ",1,null,205027128.52999997,32430617,172596512]
[202,"New Braintree                ",0,43973.400000000009,26677,17296,null,17296,44828.850000000006,28730,16099,0,{"$f":"ROUND(100-'Townwide Contributions'!L211,2)","v":35.909999999999997},3,3,0,null,null,null,null,null,null,null,0,0,null,null,null,null,null,null,null,null,17296,17386,90,17386,0,17386,0,0,0,null,null,null,null,null,null,null,null,null,null,46116,102.87125366811773,null,null,null,null,855.44999999999709,90,1287.9599649999982,"",14942.95,null,0,null,30,null,202,"New Braintree                ",0,null,44828.850000000006,28730,17386]
[203,"Newbury                      ",0,45293.483039999999,37367,16844,null,16844,46131.365639999989,38058,8073,0,{"$f":"ROUND(100-'Townwide Contributions'!L212,2)","v":17.5},3,3,0,null,null,null,null,null,null,null,0,0,null,null,null,null,null,null,null,null,16844,16934,90,16934,0,16934,0,0,0,null,null,null,null,null,null,null,null,null,null,54992,119.20739660981781,null,null,null,null,837.88259999998991,90,8861.011013000003,"",15377.12,null,0,null,30,null,203,"Newbury                      ",0,null,46131.365639999989,38058,16934]
[204,"Newburyport                  ",1,24204978.57,19969107,4235872,null,4235872,23983861.739999995,19786686,4197176,0,{"$f":"ROUND(100-'Townwide Contributions'!L213,2)","v":17.5},2308,2211,0,null,null,null,null,null,null,null,66330,66330,null,null,null,null,null,null,null,null,4235872,4302202,0,4302202,0,4302202,17.937903606343923,978743,734057.25,null,null,null,null,null,null,null,null,null,null,24088888,100.43790387527478,null,null,null,null,-221116.83000000566,66330,105026.19550000131,0.437903606343923,10847.52,null,0,null,30,null,204,"Newburyport                  ",1,null,23983861.739999995,19786686,4302202]
[205,"New Marlborough              ",0,0,0,0,null,0,0,0,0,0,{"$f":"ROUND(100-'Townwide Contributions'!L214,2)","v":17.5},0,0,0,null,null,null,null,null,null,null,0,0,null,null,null,null,null,null,null,null,0,0,0,0,0,0,0,0,0,null,null,null,null,null,null,null,null,null,null,0,0,null,null,null,null,0,0,0,"",0,null,0,null,0,null,205,"New Marlborough              ",0,null,0,0,0]
[206,"New Salem                    ",0,0,0,0,null,0,0,0,0,0,{"$f":"ROUND(100-'Townwide Contributions'!L215,2)","v":38.909999999999997},0,0,0,null,null,null,null,null,null,null,0,0,null,null,null,null,null,null,null,null,0,0,0,0,0,0,0,0,0,null,null,null,null,null,null,null,null,null,null,0,0,null,null,null,null,0,0,0,"",0,null,0,null,0,null,206,"New Salem                    ",0,null,0,0,0]
[207,"Newton                       ",1,143592665.22735,118463949,25128716,null,25128716,140564444.81197003,115965667,24598778,0,{"$f":"ROUND(100-'Townwide Contributions'!L216,2)","v":17.5},12831,12113,0,null,null,null,null,null,null,null,363390,363390,null,null,null,null,null,null,null,null,25128716,25492106,0,25492106,0,25492106,18.135529247172162,1498665,1123998.75,null,null,null,null,null,null,null,null,null,null,141457773,100.63552926860342,null,null,null,null,-3028220.4153799713,363390,893328.15790524706,0.63552924717216186,11604.43,null,0,null,30,null,207,"Newton                       ",1,null,140564444.81197003,115965667,25492106]
[208,"Norfolk                      ",1,9555961.1148400009,7883668,3461385,null,3461385,10145341.33525,8327281,1818060,0,{"$f":"ROUND(100-'Townwide Contributions'!L217,2)","v":17.5},944,968,0,null,null,null,null,null,null,null,29040,29040,null,null,null,null,null,null,null,null,3461385,3490425,0,3490425,0,3490425,34.404214551880223,75841,56880.75,null,null,null,null,null,null,null,null,null,null,11817706,116.48406504509974,null,null,null,null,589380.22040999867,29040,1714990.2663312501,16.904214551880223,10480.719999999999,null,0,null,30,null,208,"Norfolk                      ",1,null,10145341.33525,8327281,3490425]
[209,"North Adams                  ",1,18178355.150000002,5057245,13809703,null,13809703,17776815.729999997,5014917,12761899,0,{"$f":"ROUND(100-'Townwide Contributions'!L218,2)","v":71.790000000000006},1424,1308,0,null,null,null,null,null,null,null,39240,39240,null,null,null,null,null,null,null,null,13809703,13848943,0,13848943,0,13848943,77.904520192717342,1892168,1419126,null,null,null,null,null,null,null,null,null,null,18863860,106.11495493068264,null,null,null,null,-401539.42000000551,39240,1086966.9874330014,6.114520192717336,13590.84,null,0,null,30,null,209,"North Adams                  ",1,null,17776815.729999997,5014917,13848943]
[210,"Northampton                  ",1,31063338.950000003,25627255,7558369,null,7558369,30598896.710000001,25244090,5354807,0,{"$f":"ROUND(100-'Townwide Contributions'!L219,2)","v":17.5},2745,2656,0,null,null,null,null,null,null,null,79680,79680,null,null,null,null,null,null,null,null,7558369,7638049,0,7638049,0,7638049,24.961844449456294,1453259,1089944.25,null,null,null,null,null,null,null,null,null,null,32882139,107.46184514964493,null,null,null,null,-464442.24000000209,79680,2283242.0757499998,7.4618444494562937,11520.67,null,0,null,30,null,210,"Northampton                  ",1,null,30598896.710000001,25244090,7638049]
[211,"North Andover                ",1,50577443.990000002,41726391,9160097,null,9160097,51150448.170000009,42199120,8951328,0,{"$f":"ROUND(100-'Townwide Contributions'!L220,2)","v":17.5},4704,4600,0,null,null,null,null,null,null,null,138000,138000,null,null,null,null,null,null,null,null,9160097,9298097,0,9298097,0,9298097,18.177938478852624,1277568,958176,null,null,null,null,null,null,null,null,null,null,51497217,100.67793898666829,null,null,null,null,573004.18000000715,138000,346768.57024999894,0.67793847885262437,11119.66,null,0,null,30,null,211,"North Andover                ",1,null,51150448.170000009,42199120,9298097]
[212,"North Attleborough           ",1,45073173.739999995,28270188,20682041,null,20682041,45611148.409999996,28869699,16741449,0,{"$f":"ROUND(100-'Townwide Contributions'!L221,2)","v":36.700000000000003},4170,4093,0,null,null,null,null,null,null,null,122790,122790,null,null,null,null,null,null,null,null,20682041,20804831,0,20804831,0,20804831,45.613477680905426,1642278,1231708.5,null,null,null,null,null,null,null,null,null,null,49674530,108.90874650529328,null,null,null,null,537974.67000000179,122790,4065539.5335299987,8.913477680905423,11143.7,null,0,null,30,null,212,"North Attleborough           ",1,null,45611148.409999996,28869699,20804831]
[213,"Northborough                 ",1,15653167.560000001,12913864,3993500,null,3993500,16495720.15,13436400,3059320,0,{"$f":"ROUND(100-'Townwide Contributions'!L222,2)","v":17.5},1540,1567,0,null,null,null,null,null,null,null,47010,47010,null,null,null,null,null,null,null,null,3993500,4040510,0,4040510,0,4040510,24.494292842377057,155518,116638.5,null,null,null,null,null,null,null,null,null,null,17476910,105.94814801098575,null,null,null,null,842552.58999999985,47010,1153758.9737499999,6.9942928423770567,10526.94,null,0,null,30,null,213,"Northborough                 ",1,null,16495720.15,13436400,4040510]
[214,"Northbridge                  ",1,23651358.309999999,12499433,15603931,null,15603931,24014322.349999998,12896464,11117858,0,{"$f":"ROUND(100-'Townwide Contributions'!L223,2)","v":44.9},2074,2023,0,null,null,null,null,null,null,null,60690,60690,null,null,null,null,null,null,null,null,15603931,15664621,0,15664621,0,15664621,65.230327017743235,931432,698574,null,null,null,null,null,null,null,null,null,null,28561085,118.93354550560534,null,null,null,null,362964.03999999911,60690,4882190.2648499999,20.330327017743237,11870.65,null,0,null,30,null,214,"Northbridge                  ",1,null,24014322.349999998,12896464,15664621]
[215,"North Brookfield             ",1,6921441.0200000014,2970928,4290838,null,4290838,6846232.9400000013,3100851,3745382,0,{"$f":"ROUND(100-'Townwide Contributions'!L224,2)","v":54.71},609,573,0,null,null,null,null,null,null,null,17190,17190,null,null,null,null,null,null,null,null,4290838,4308028,0,4308028,0,4308028,62.925524704685245,255813,191859.75,null,null,null,null,null,null,null,null,null,null,7408879,108.21833064885459,null,null,null,null,-75208.080000000075,17190,562453.95852599898,8.2155247046852438,11948.05,null,0,null,30,null,215,"North Brookfield             ",1,null,6846232.9400000013,3100851,4308028]
[216,"Northfield                   ",0,14657.8,10697,3986,null,3986,14942.95,11799,3144,0,{"$f":"ROUND(100-'Townwide Contributions'!L225,2)","v":21.04},1,1,0,null,null,null,null,null,null,null,0,0,null,null,null,null,null,null,null,null,3986,4016,30,4016,0,4016,0,0,0,null,null,null,null,null,null,null,null,null,null,15815,105.83586239664858,null,null,null,null,285.15000000000146,30,872.0033199999998,"",14942.95,null,0,null,30,null,216,"Northfield                   ",0,null,14942.95,11799,4016]
[217,"North Reading                ",1,25345400.252699994,20909956,7153937,null,7153937,25088126.4848,20697704,4390422,0,{"$f":"ROUND(100-'Townwide Contributions'!L226,2)","v":17.5},2320,2243,0,null,null,null,null,null,null,null,67290,67290,null,null,null,null,null,null,null,null,7153937,7221227,0,7221227,0,7221227,28.783444648109068,201096,150822,null,null,null,null,null,null,null,null,null,null,27918931,111.28344325318626,null,null,null,null,-257273.76789999381,67290,2830804.8651600005,11.283444648109068,11185.08,null,0,null,30,null,217,"North Reading                ",1,null,25088126.4848,20697704,7221227]
[218,"Norton                       ",1,26443914.049999997,18367335,12827390,null,12827390,26287595.520000003,18880577,7407019,0,{"$f":"ROUND(100-'Townwide Contributions'!L227,2)","v":28.18},2400,2301,0,null,null,null,null,null,null,null,69030,69030,null,null,null,null,null,null,null,null,12827390,12896420,0,12896420,0,12896420,49.058956305791476,711176,533382,null,null,null,null,null,null,null,null,null,null,31776997,120.88209808243427,null,null,null,null,-156318.52999999374,69030,5488575.5824639993,20.878956305791476,11424.42,null,0,null,30,null,218,"Norton                       ",1,null,26287595.520000003,18880577,12896420]
[219,"Norwell                      ",1,22887277.58972,18882004,4011711,null,4011711,23314847.059410002,19234749,4080098,68387,{"$f":"ROUND(100-'Townwide Contributions'!L228,2)","v":17.5},2153,2138,1,null,null,null,null,null,null,null,64140,0,null,null,null,null,null,null,null,null,4028245,4092385,12287,4092385,0,4092385,17.55269931461245,75841,56880.75,null,null,null,null,null,null,null,null,null,null,23327134,100.0527000694394,null,null,null,null,427569.4696900025,80674,12286.764603249729,5.2699314612450365E-2,10904.98,null,0,null,37.733395696913,null,219,"Norwell                      ",1,null,23314847.059410002,19234749,4092385]
[220,"Norwood                      ",1,42697305.215410002,33534173,9166992,null,9166992,43568844.49052,34544883,9023961,0,{"$f":"ROUND(100-'Townwide Contributions'!L229,2)","v":17.5},3531,3494,0,null,null,null,null,null,null,null,104820,104820,null,null,null,null,null,null,null,null,9166992,9271812,0,9271812,0,9271812,21.280830622022631,1310693,983019.75,null,null,null,null,null,null,null,null,null,null,43816695,100.56887097277489,null,null,null,null,871539.27510999888,104820,1647264.2141590007,3.7808306220226306,12469.62,null,0,null,30,null,220,"Norwood                      ",1,null,43568844.49052,34544883,9271812]
[221,"Oak Bluffs                   ",1,5068644.3499999996,3984819,1083825,null,1083825,5237854.1399999997,4059261,1178593,94768,{"$f":"ROUND(100-'Townwide Contributions'!L230,2)","v":17.5},447,438,1,null,null,null,null,null,null,null,13140,0,null,null,null,null,null,null,null,null,1098980,1112120,0,1178593,0,1178593,22.50144751071667,655966,491974.5,null,null,null,null,null,null,null,null,null,null,5237854,99.999997327149714,null,null,null,null,169209.79000000004,94768,261968.52550000011,5.0014475107166696,11958.57,null,0,null,216.36529680365297,null,221,"Oak Bluffs                   ",1,null,5237854.1399999997,4059261,1178593]
[222,"Oakham                       ",0,14657.8,8004,6654,null,6654,44828.850000000006,24611,20218,13564,{"$f":"ROUND(100-'Townwide Contributions'!L231,2)","v":43.9},1,3,0,null,null,null,null,null,null,null,0,0,null,null,null,null,null,null,null,null,20209,20299,81,20299,0,20299,0,0,0,null,null,null,null,null,null,null,null,null,null,44910,100.18102181965408,null,null,null,null,30171.050000000007,13645,619.13484999999855,"",14942.95,null,0,null,4548.333333333333,null,222,"Oakham                       ",0,null,44828.850000000006,24611,20299]
[223,"Orange                       ",1,7238630.1499999985,2020501,5432046,null,5432046,6779224.3799999999,1979869,4799355,0,{"$f":"ROUND(100-'Townwide Contributions'!L232,2)","v":69.55},595,532,0,null,null,null,null,null,null,null,15960,15960,null,null,null,null,null,null,null,null,5432046,5448006,0,5448006,0,5448006,80.363264211650119,629319,471989.25,null,null,null,null,null,null,null,null,null,null,7427875,109.56821287570364,null,null,null,null,-459405.76999999862,15960,733055.44371000025,10.813264211650122,12742.9,null,0,null,30,null,223,"Orange                       ",1,null,6779224.3799999999,1979869,5448006]
[224,"Orleans                      ",1,2333514.6599999997,1925150,429984,null,429984,2117003.94,1746528,370476,0,{"$f":"ROUND(100-'Townwide Contributions'!L233,2)","v":17.5},204,183,0,null,null,null,null,null,null,null,5490,5490,null,null,null,null,null,null,null,null,429984,435474,0,435474,0,435474,20.570297096376684,75841,56880.75,null,null,null,null,null,null,null,null,null,null,2182002,103.07028526361647,null,null,null,null,-216510.71999999974,5490,64998.310500000021,3.0702970963766845,11568.33,null,0,null,30,null,224,"Orleans                      ",1,null,2117003.94,1746528,435474]
[225,"Otis                         ",0,0,0,0,null,0,0,0,0,0,{"$f":"ROUND(100-'Townwide Contributions'!L234,2)","v":17.5},0,0,0,null,null,null,null,null,null,null,0,0,null,null,null,null,null,null,null,null,0,0,0,0,0,0,0,0,0,null,null,null,null,null,null,null,null,null,null,0,0,null,null,null,null,0,0,0,"",0,null,0,null,0,null,225,"Otis                         ",0,null,0,0,0]
[226,"Oxford                       ",1,19171590.48,9891135,10566894,null,10566894,18610886.670000002,10077227,8533660,0,{"$f":"ROUND(100-'Townwide Contributions'!L235,2)","v":45.71},1655,1563,0,null,null,null,null,null,null,null,46890,46890,null,null,null,null,null,null,null,null,10566894,10613784,0,10613784,0,10613784,57.02997491843842,1329789,997341.75,null,null,null,null,null,null,null,null,null,null,20691011,111.17692223312001,null,null,null,null,-560703.80999999866,46890,2106747.7031429987,11.319974918438419,11907.16,null,0,null,30,null,226,"Oxford                       ",1,null,18610886.670000002,10077227,10613784]
[227,"Palmer                       ",1,17071234.920000002,6857027,10915640,null,10915640,16656382.35,6788607,9867775,0,{"$f":"ROUND(100-'Townwide Contributions'!L236,2)","v":58.22},1413,1318,0,null,null,null,null,null,null,null,39540,39540,null,null,null,null,null,null,null,null,10915640,10955180,0,10955180,0,10955180,65.771664997831905,1198821,899115.75,null,null,null,null,null,null,null,null,null,null,17743787,106.5284563427424,null,null,null,null,-414852.57000000216,39540,1257834.1958300006,7.5516649978319066,12637.62,null,0,null,30,null,227,"Palmer                       ",1,null,16656382.35,6788607,10955180]
[228,"Paxton                       ",0,14657.8,9737,5026,null,5026,0,0,0,0,{"$f":"ROUND(100-'Townwide Contributions'!L237,2)","v":32.200000000000003},1,0,0,null,null,null,null,null,null,null,0,0,null,null,null,null,null,null,null,null,0,0,0,5026,5026,0,0,0,0,null,null,null,null,null,null,null,null,null,null,0,0,null,null,null,null,-14657.8,-5026,0,"",0,null,0,null,0,null,228,"Paxton                       ",0,null,0,0,0]
[229,"Peabody                      ",1,72290192.479999989,50135481,22171771,null,22171771,73868646.389999986,50926003,22942643,770872,{"$f":"ROUND(100-'Townwide Contributions'!L238,2)","v":29.17},5983,5877,1,null,null,null,null,null,null,null,176310,0,null,null,null,null,null,null,null,null,22588124,22764434,0,22942643,0,22942643,31.058702333424478,3343828,2507871,null,null,null,null,null,null,null,null,null,null,73868646,99.999999472035825,null,null,null,null,1578453.9099999964,770872,1395158.8480370045,1.8887023334244759,12569.11,null,0,null,131.16760251829166,null,229,"Peabody                      ",1,null,73868646.389999986,50926003,22942643]
[230,"Pelham                       ",1,928975.21,690492,238483,null,238483,781365.3,644626,136739,0,{"$f":"ROUND(100-'Townwide Contributions'!L239,2)","v":17.5},84,70,0,null,null,null,null,null,null,null,2100,2100,null,null,null,null,null,null,null,null,238483,240583,0,240583,0,240583,30.790079876851451,75841,56880.75,null,null,null,null,null,null,null,null,null,null,885209,113.29003220388722,null,null,null,null,-147609.90999999992,2100,103844.07250000001,13.290079876851451,11162.36,null,0,null,30,null,230,"Pelham                       ",1,null,781365.3,644626,240583]
[231,"Pembroke                     ",1,31797805.646810003,21249366,13608752,null,13608752,31524469.692919996,21759351,9765119,0,{"$f":"ROUND(100-'Townwide Contributions'!L240,2)","v":30.87},2854,2740,0,null,null,null,null,null,null,null,82200,82200,null,null,null,null,null,null,null,null,13608752,13690952,0,13690952,0,13690952,43.429602887419286,350495,262871.25,null,null,null,null,null,null,null,null,null,null,35450303,112.45328896987503,null,null,null,null,-273335.95389000699,82200,3959348.2057955973,12.559602887419285,11505.28,null,0,null,30,null,231,"Pembroke                     ",1,null,31524469.692919996,21759351,13690952]
[232,"Pepperell                    ",0,0,0,0,null,0,0,0,0,0,{"$f":"ROUND(100-'Townwide Contributions'!L241,2)","v":34.979999999999997},0,0,0,null,null,null,null,null,null,null,0,0,null,null,null,null,null,null,null,null,0,0,0,0,0,0,0,0,0,null,null,null,null,null,null,null,null,null,null,0,0,null,null,null,null,0,0,0,"",0,null,0,null,0,null,232,"Pepperell                    ",0,null,0,0,0]
[233,"Peru                         ",0,117262.39999999999,58074,89842,null,89842,134486.55000000002,64404,70083,0,{"$f":"ROUND(100-'Townwide Contributions'!L242,2)","v":52.11},8,9,0,null,null,null,null,null,null,null,0,0,null,null,null,null,null,null,null,null,89842,90112,270,90112,0,90112,0,0,0,null,null,null,null,null,null,null,null,null,null,154516,114.89327371398848,null,null,null,null,17224.150000000023,270,20031.05879499999,"",14942.95,null,0,null,30,null,233,"Peru                         ",0,null,134486.55000000002,64404,90112]
[234,"Petersham                    ",1,932984.68,640821,435523,null,435523,857437.59000000008,585991,271447,0,{"$f":"ROUND(100-'Townwide Contributions'!L243,2)","v":31.66},79,67,0,null,null,null,null,null,null,null,2010,2010,null,null,null,null,null,null,null,null,435523,437533,0,437533,0,437533,51.027970443889679,75841,56880.75,null,null,null,null,null,null,null,null,null,null,1023524,119.3700873319538,null,null,null,null,-75547.089999999967,2010,166068.25900600001,19.367970443889678,12797.58,null,0,null,30,null,234,"Petersham                    ",1,null,857437.59000000008,585991,437533]
[235,"Phillipston                  ",0,0,0,0,null,0,0,0,0,0,{"$f":"ROUND(100-'Townwide Contributions'!L244,2)","v":37.53},0,0,0,null,null,null,null,null,null,null,0,0,null,null,null,null,null,null,null,null,0,0,0,0,0,0,0,0,0,null,null,null,null,null,null,null,null,null,null,0,0,null,null,null,null,0,0,0,"",0,null,0,null,0,null,235,"Phillipston                  ",0,null,0,0,0]
[236,"Pittsfield                   ",1,76463876.149999991,28300807,48163069,null,48163069,78783436.899999991,29449820,49333617,1170548,{"$f":"ROUND(100-'Townwide Contributions'!L245,2)","v":62.23},5920,5707,1,null,null,null,null,null,null,null,171210,0,null,null,null,null,null,null,null,null,48163069,48334279,0,49333617,0,49333617,62.619274991289451,5852021,4389015.75,null,null,null,null,null,null,null,null,null,null,78783437,100.00000012693025,null,null,null,null,2319560.75,1170548,306684.21713000536,0.38927499128945442,13804.7,null,0,null,205.10741195023655,null,236,"Pittsfield                   ",1,null,78783436.899999991,29449820,49333617]
[237,"Plainfield                   ",0,43973.400000000009,31321,27674,null,27674,59771.8,47507,12265,0,{"$f":"ROUND(100-'Townwide Contributions'!L246,2)","v":20.52},3,4,0,null,null,null,null,null,null,null,0,0,null,null,null,null,null,null,null,null,27674,27794,120,27794,0,27794,0,0,0,null,null,null,null,null,null,null,null,null,null,75301,125.98081369475237,null,null,null,null,15798.399999999994,120,15528.826639999999,"",14942.95,null,0,null,30,null,237,"Plainfield                   ",0,null,59771.8,47507,27794]
[238,"Plainville                   ",1,7517996.1499999994,5427402,2927801,null,2927801,7115696.5500000007,5274713,1840984,0,{"$f":"ROUND(100-'Townwide Contributions'!L247,2)","v":23.89},716,658,0,null,null,null,null,null,null,null,19740,19740,null,null,null,null,null,null,null,null,2927801,2947541,0,2947541,0,2947541,41.423084574903626,173847,130385.25,null,null,null,null,null,null,null,null,null,null,8222254,115.5509364715672,null,null,null,null,-402299.5999999987,19740,1247601.0942049997,17.533084574903626,10814.13,null,0,null,30,null,238,"Plainville                   ",1,null,7115696.5500000007,5274713,2947541]
[239,"Plymouth                     ",1,94027629.56190002,71603127,26369547,null,26369547,96574184.652480006,74135866,22438319,0,{"$f":"ROUND(100-'Townwide Contributions'!L248,2)","v":23.23},7951,7708,0,null,null,null,null,null,null,null,231240,231240,null,null,null,null,null,null,null,null,26369547,26600787,0,26600787,0,26600787,27.5444075409203,2748809,2061606.75,null,null,null,null,null,null,null,null,null,null,100736653,104.31012528089006,null,null,null,null,2546555.0905799866,231240,4166603.9052288942,4.3144075409202998,12529.08,null,0,null,30,null,239,"Plymouth                     ",1,null,96574184.652480006,74135866,26600787]
[240,"Plympton                     ",1,2429975.0922999997,1772432,740470,null,740470,2362382.9491999997,1775650,586733,0,{"$f":"ROUND(100-'Townwide Contributions'!L249,2)","v":24.84},227,214,0,null,null,null,null,null,null,null,6420,6420,null,null,null,null,null,null,null,null,740470,746890,0,746890,0,746890,31.615957956898043,75841,56880.75,null,null,null,null,null,null,null,null,null,null,2522540,106.77947031637001,null,null,null,null,-67592.143099999987,6420,160074.07541872002,6.7759579568980435,11039.17,null,0,null,30,null,240,"Plympton                     ",1,null,2362382.9491999997,1775650,746890]
[241,"Princeton                    ",0,0,0,0,null,0,14942.95,12328,2615,2615,{"$f":"ROUND(100-'Townwide Contributions'!L250,2)","v":17.5},0,1,0,null,null,null,null,null,null,null,0,0,null,null,null,null,null,null,null,null,2601,2631,16,2631,0,2631,0,0,0,null,null,null,null,null,null,null,null,null,null,14959,100.10740851036776,null,null,null,null,14942.95,2631,15.983749999999873,"",14942.95,null,0,null,2631,null,241,"Princeton                    ",0,null,14942.95,12328,2631]
[242,"Provincetown                 ",1,1297760.2800000003,1070652,290781,null,290781,1352973.22,1116203,236770,0,{"$f":"ROUND(100-'Townwide Contributions'!L251,2)","v":17.5},97,99,0,null,null,null,null,null,null,null,2970,2970,null,null,null,null,null,null,null,null,290781,293751,0,293751,0,293751,21.71151621168082,264719,198539.25,null,null,null,null,null,null,null,null,null,null,1409954,104.21152312238671,null,null,null,null,55212.939999999711,2970,56980.686500000011,4.21151621168082,13666.4,null,0,null,30,null,242,"Provincetown                 ",1,null,1352973.22,1116203,293751]
[243,"Quincy                       ",1,129336079.22404,101589945,28647763,null,28647763,137993048.86168,106574604,31418445,2770682,{"$f":"ROUND(100-'Townwide Contributions'!L252,2)","v":18.96},9657,9549,1,null,null,null,null,null,null,null,286470,0,null,null,null,null,null,null,null,null,28647763,28934233,0,31418445,0,31418445,22.768135974365553,7138382,5353786.5,null,null,null,null,null,null,null,null,null,null,137993049,100.00000010023693,null,null,null,null,8656969.6376399994,2770682,5254962.9358254708,3.8081359743655518,14451.05,null,0,null,290.1541522672531,null,243,"Quincy                       ",1,null,137993048.86168,106574604,31418445]
[244,"Randolph                     ",1,42468258.92028001,23490641,18986721,null,18986721,44604827.451479994,24097300,20507527,1520806,{"$f":"ROUND(100-'Townwide Contributions'!L253,2)","v":43.92},3286,3265,1,null,null,null,null,null,null,null,97950,0,null,null,null,null,null,null,null,null,19522408,19620358,0,20507527,0,20507527,45.976025851254711,3057035,2292776.25,null,null,null,null,null,null,null,null,null,null,44604827,99.999998987822579,null,null,null,null,2136568.5311999843,1520806,917086.78330998495,2.0560258512547094,13661.51,null,0,null,465.7905053598775,null,244,"Randolph                     ",1,null,44604827.451479994,24097300,20507527]
[245,"Raynham                      ",0,0,0,0,null,0,0,0,0,0,{"$f":"ROUND(100-'Townwide Contributions'!L254,2)","v":38.409999999999997},0,0,0,null,null,null,null,null,null,null,0,0,null,null,null,null,null,null,null,null,0,0,0,0,0,0,0,0,0,null,null,null,null,null,null,null,null,null,null,0,0,null,null,null,null,0,0,0,"",0,null,0,null,0,null,245,"Raynham                      ",0,null,0,0,0]
[246,"Reading                      ",1,42488891.059600003,35053335,10834809,null,10834809,42185788.899420001,34803276,7382513,0,{"$f":"ROUND(100-'Townwide Contributions'!L255,2)","v":17.5},3975,3835,0,null,null,null,null,null,null,null,115050,115050,null,null,null,null,null,null,null,null,10834809,10949859,0,10949859,0,10949859,25.956274104786374,373259,279944.25,null,null,null,null,null,null,null,null,null,null,45753135,108.45627447926913,null,null,null,null,-303102.16018000245,115050,3567345.9426015001,8.4562741047863739,11000.21,null,0,null,30,null,246,"Reading                      ",1,null,42185788.899420001,34803276,10949859]
[247,"Rehoboth                     ",0,0,0,0,null,0,0,0,0,0,{"$f":"ROUND(100-'Townwide Contributions'!L256,2)","v":17.5},0,0,0,null,null,null,null,null,null,null,0,0,null,null,null,null,null,null,null,null,0,0,0,0,0,0,0,0,0,null,null,null,null,null,null,null,null,null,null,0,0,null,null,null,null,0,0,0,"",0,null,0,null,0,null,247,"Rehoboth                     ",0,null,0,0,0]
[248,"Revere                       ",1,107222329.50896001,36927909,70298333,null,70298333,118591270.69321999,38450529,80140742,9842409,{"$f":"ROUND(100-'Townwide Contributions'!L257,2)","v":62.64},7979,7766,1,null,null,null,null,null,null,null,232980,0,null,null,null,null,null,null,null,null,70298333,70531313,0,80140742,0,80140742,67.577268994202413,8666344,6499758,null,null,null,null,null,null,null,null,null,null,118591271,100.00000025868684,null,null,null,null,11368941.184259981,9842409,5855170.0377670079,4.9372689942024124,15270.57,null,0,null,1267.3717486479527,null,248,"Revere                       ",1,null,118591270.69321999,38450529,80140742]
[249,"Richmond                     ",1,1449827.3,1196108,364649,null,364649,1292054.5900000001,1065945,226110,0,{"$f":"ROUND(100-'Townwide Contributions'!L258,2)","v":17.5},125,112,0,null,null,null,null,null,null,null,3360,3360,null,null,null,null,null,null,null,null,364649,368009,0,368009,0,368009,28.482465280356301,75841,56880.75,null,null,null,null,null,null,null,null,null,null,1433954,110.98246243604923,null,null,null,null,-157772.70999999996,3360,141899.44675,10.982465280356301,11536.2,null,0,null,30,null,249,"Richmond                     ",1,null,1292054.5900000001,1065945,368009]
[250,"Rochester                    ",1,5386708.8799999999,3382851,2057549,null,2057549,5238927.0299999993,3515179,1723748,0,{"$f":"ROUND(100-'Townwide Contributions'!L259,2)","v":32},514,483,0,null,null,null,null,null,null,null,14490,14490,null,null,null,null,null,null,null,null,2057549,2072039,0,2072039,0,2072039,39.550827643423013,75841,56880.75,null,null,null,null,null,null,null,null,null,null,5587218,106.6481355438921,null,null,null,null,-147781.85000000056,14490,395582.35040000011,7.5508276434230126,10846.64,null,0,null,30,null,250,"Rochester                    ",1,null,5238927.0299999993,3515179,2072039]
[251,"Rockland                     ",1,29202100.0068,14473503,14728597,null,14728597,29557229.000960007,14834627,14722602,0,{"$f":"ROUND(100-'Townwide Contributions'!L260,2)","v":49.73},2326,2251,0,null,null,null,null,null,null,null,67530,67530,null,null,null,null,null,null,null,null,14728597,14796127,0,14796127,0,14796127,50.059249463200452,1036927,777695.25,null,null,null,null,null,null,null,null,null,null,29630754,100.24875470916982,null,null,null,null,355128.99416000769,67530,97317.017822589725,0.32924946320045478,13130.71,null,0,null,30,null,251,"Rockland                     ",1,null,29557229.000960007,14834627,14796127]
[252,"Rockport                     ",1,7619056.3994999984,6285722,1502126,null,1502126,6987694.101019999,5764848,1222846,0,{"$f":"ROUND(100-'Townwide Contributions'!L261,2)","v":17.5},665,594,0,null,null,null,null,null,null,null,17820,17820,null,null,null,null,null,null,null,null,1502126,1519946,0,1519946,0,1519946,21.751753554554316,401642,301231.5,null,null,null,null,null,null,null,null,null,null,7284794,104.2517588017574,null,null,null,null,-631362.29847999942,17820,297099.53232150036,4.2517535545543161,11763.79,null,0,null,30,null,252,"Rockport                     ",1,null,6987694.101019999,5764848,1519946]
[253,"Rowe                         ",1,643874.47,531196,139775,null,139775,578883.1100000001,477579,101304,0,{"$f":"ROUND(100-'Townwide Contributions'!L262,2)","v":17.5},50,43,0,null,null,null,null,null,null,null,1290,1290,null,null,null,null,null,null,null,null,139775,141065,0,141065,0,141065,24.368477428888877,75841,56880.75,null,null,null,null,null,null,null,null,null,null,618644,106.86855244403311,null,null,null,null,-64991.35999999987,1290,39760.455749999994,6.8684774288888768,13462.4,null,0,null,30,null,253,"Rowe                         ",1,null,578883.1100000001,477579,141065]
[254,"Rowley                       ",0,105768.04224000001,87259,25266,null,25266,107724.27546999999,88873,18851,0,{"$f":"ROUND(100-'Townwide Contributions'!L263,2)","v":17.5},7,7,0,null,null,null,null,null,null,null,0,0,null,null,null,null,null,null,null,null,25266,25476,210,25476,0,25476,0,0,0,null,null,null,null,null,null,null,null,null,null,114349,106.14970442000784,null,null,null,null,1956.2332299999835,210,6624.2517927500012,"",15389.18,null,0,null,30,null,254,"Rowley                       ",0,null,{"$f":"I263","v":107724.27546999999},{"$f":"J263","v":88873},25476]
[255,"Royalston                    ",0,0,0,0,null,0,0,0,0,0,{"$f":"ROUND(100-'Townwide Contributions'!L264,2)","v":45.69},0,0,0,null,null,null,null,null,null,null,0,0,null,null,null,null,null,null,null,null,0,0,0,0,0,0,0,0,0,null,null,null,null,null,null,null,null,null,null,0,0,null,null,null,null,0,0,0,"",0,null,0,null,0,null,255,"Royalston                    ",0,null,0,0,0]
[256,"Russell                      ",0,335521.82,128757,206765,null,206765,356893.44999999995,153003,203890,0,{"$f":"ROUND(100-'Townwide Contributions'!L265,2)","v":56.63},21,22,0,null,null,null,null,null,null,null,0,0,null,null,null,null,null,null,null,null,206765,207425,660,207425,0,207425,0,0,0,null,null,null,null,null,null,null,null,null,null,360428,100.99036561192145,null,null,null,null,21371.629999999946,660,5316.2392650000111,"",16222.43,null,0,null,30,null,256,"Russell                      ",0,null,356893.44999999995,153003,{"$f":"AM265","v":207425}]
[257,"Rutland                      ",0,0,0,0,null,0,{"$f":"SUMIF(dist1755,A266,found1755)","v":0},{"$f":"SUMIF(dist1755,A266,prelcont1755)","v":0},{"$f":"ROUND(MAX(found-prelcont436,0),0)","v":0},{"$f":"IF(foundaid>priorc70,foundaid-priorc70,0)","v":0},{"$f":"ROUND(100-'Townwide Contributions'!L266,2)","v":53.64},0,{"$f":"SUMIF(dist1755,A266,enro1755)","v":0},{"$f":"IF(AND(C266=1,L266>0),1,0)","v":0},null,null,null,null,null,null,null,{"$f":"IF(nonop=1,enro*$X$6,0)","v":0},{"$f":"IF((foundinc)<X266,X266-(foundinc),0)","v":0},null,null,null,null,null,null,null,null,0,{"$f":"AH266+30*enro","v":0},{"$f":"IF(AI266-priorc70-foundinc-minaid>0,AI266-priorc70-foundinc-minaid,0)","v":0},{"$f":"priorc70+foundinc+minaidadjincrement+minaid","v":0},{"$f":"IF(AND(C266=0,AK266>found),AK266-found,0)","v":0},{"$f":"priorc70+foundinc+minaidadjincrement+minaid-rednonop","v":0},0,0,0,null,null,null,null,null,null,null,null,null,null,{"$f":"prelcont436+chapter70","v":0},{"$f":"IF(found>0,BA266*100/found,0)","v":0},null,null,null,null,{"$f":"I266-D266","v":0},0,0,"",{"$f":"IFERROR(ROUND(I266/O266, 2), 0)","v":0},null,{"$f":"VLOOKUP(A266, disthist, 37, FALSE)*$H$6","v":0},null,{"$f":"IFERROR(BH266/O266, 0)","v":0},null,{"$f":"A266","v":257},{"$f":"B266","v":"Rutland                      "},{"$f":"C266","v":0},null,0,0,0]
[258,"Salem                        ",1,59442159.61999999,35764101,25807152,null,{"$f":"F267+G267","v":25807152},59722480.57,36933427,22789054,0,{"$f":"ROUND(100-'Townwide Contributions'!L267,2)","v":32.96},4536,4315,0,null,null,null,null,null,null,null,129450,129450,null,null,null,null,null,null,null,null,25807152,25936602,0,25936602,0,25936602,{"$f":"IF(C267=1, AM267/I267*100, 0)","v":43.428541066039649},4114098,{"$f":"0.75*AO267","v":3085573.5},null,null,null,null,null,null,null,null,null,null,62870029,105.27029085188583,null,null,null,null,280320.95000001043,{"$f":"AM267-F267","v":129450},{"$f":"AM267-((M267/100)*I267)","v":6252072.4041280001},{"$f":"IF(C267=1, (AM267/I267*100)-M267, \"\")","v":10.468541066039649},13840.67,null,0,null,30,null,258,"Salem                        ",1,null,59722480.57,36933427,25936602]
[259,"Salisbury                    ",0,29315.599999999999,24185,14383,null,14383,29885.9,24656,5230,0,{"$f":"ROUND(100-'Townwide Contributions'!L268,2)","v":17.5},2,2,0,null,null,null,null,null,null,null,0,0,null,null,null,null,null,null,null,null,14383,14443,60,14443,0,14443,0,0,0,null,null,null,null,null,null,null,null,null,null,39099,130.82758089935388,null,null,null,null,570.30000000000291,60,9212.9674999999988,"",14942.95,null,0,null,30,null,259,"Salisbury                    ",0,null,29885.9,24656,14443]
[260,"Sandisfield                  ",0,0,0,0,null,0,0,0,0,0,{"$f":"ROUND(100-'Townwide Contributions'!L269,2)","v":17.5},0,0,0,null,null,null,null,null,null,null,0,0,null,null,null,null,null,null,null,null,0,0,0,0,0,0,0,0,0,null,null,null,null,null,null,null,null,null,null,0,0,null,null,null,null,0,0,0,"",0,null,0,null,0,null,260,"Sandisfield                  ",0,null,0,0,0]
[261,"Sandwich                     ",1,28550950.060000002,23554534,7151788,null,7151788,27596949.41,22767483,4829466,0,{"$f":"ROUND(100-'Townwide Contributions'!L270,2)","v":17.5},2644,2480,0,null,null,null,null,null,null,null,74400,74400,null,null,null,null,null,null,null,null,7151788,7226188,0,7226188,0,7226188,26.184734742389775,1045859,784394.25,null,null,null,null,null,null,null,null,null,null,29993671,108.68473378847999,null,null,null,null,-954000.65000000224,74400,2396721.8532500006,8.6847347423897752,11127.8,null,0,null,30,null,261,"Sandwich                     ",1,null,27596949.41,22767483,7226188]
[262,"Saugus                       ",1,33051187.879999995,26786282,6270812,null,6270812,31765464.369999997,26206508,5558956,0,{"$f":"ROUND(100-'Townwide Contributions'!L271,2)","v":17.5},2798,2612,0,null,null,null,null,null,null,null,78360,78360,null,null,null,null,null,null,null,null,6270812,6349172,0,6349172,0,6349172,19.987656802512536,1447574,1085680.5,null,null,null,null,null,null,null,null,null,null,32555680,102.48765647117786,null,null,null,null,-1285723.5099999979,78360,790215.73525000084,2.4876568025125358,12161.36,null,0,null,30,null,262,"Saugus                       ",1,null,31765464.369999997,26206508,6349172]
[263,"Savoy                        ",1,635304.58000000007,372887,515849,null,515849,540914.55000000005,446255,94660,0,{"$f":"ROUND(100-'Townwide Contributions'!L272,2)","v":17.5},50,45,0,null,null,null,null,null,null,null,1350,1350,null,null,null,null,null,null,null,null,515849,517199,0,517199,0,517199,95.615656853748888,75841,56880.75,null,null,null,null,null,null,null,null,null,null,963454,178.11574859652046,null,null,null,null,-94390.030000000028,1350,422538.95374999999,78.115656853748888,12020.32,null,0,null,30,null,263,"Savoy                        ",1,null,540914.55000000005,446255,517199]
[264,"Scituate                     ",1,32099035.583470002,26068183,6030853,null,6030853,30821136.839369997,25427438,5393699,0,{"$f":"ROUND(100-'Townwide Contributions'!L273,2)","v":17.5},2991,2790,0,null,null,null,null,null,null,null,83700,83700,null,null,null,null,null,null,null,null,6030853,6114553,0,6114553,0,6114553,19.838830189383064,271124,203343,null,null,null,null,null,null,null,null,null,null,31541991,102.33883053823376,null,null,null,null,-1277898.7441000044,83700,720854.0531102512,2.3388301893830636,11047,null,0,null,30,null,264,"Scituate                     ",1,null,30821136.839369997,25427438,6114553]
[265,"Seekonk                      ",1,22173871.389999997,15952238,6705263,null,6705263,22823463.869999997,16439482,6383982,0,{"$f":"ROUND(100-'Townwide Contributions'!L274,2)","v":27.97},2077,2048,0,null,null,null,null,null,null,null,61440,61440,null,null,null,null,null,null,null,null,6705263,6766703,0,6766703,0,6766703,29.648010654922558,632176,474132,null,null,null,null,null,null,null,null,null,null,23206185,101.67687574585497,null,null,null,null,649592.48000000045,61440,382980.15556100104,1.6780106549225593,11144.27,null,0,null,30,null,265,"Seekonk                      ",1,null,22823463.869999997,16439482,6766703]
[266,"Sharon                       ",1,38206192.104400009,30736571,7469972,null,7469972,38555018.653469995,30922251,7632768,162796,{"$f":"ROUND(100-'Townwide Contributions'!L275,2)","v":19.8},3535,3471,1,null,null,null,null,null,null,null,104130,0,null,null,null,null,null,null,null,null,8424406,8528536,895768,8528536,0,8528536,22.12043022635763,238414,178810.5,null,null,null,null,null,null,null,null,null,null,39450787,102.32335083165466,null,null,null,null,348826.54906998575,1058564,894642.30661294051,2.3204302263576295,11107.76,null,0,null,304.97378277153558,null,266,"Sharon                       ",1,null,38555018.653469995,30922251,8528536]
[267,"Sheffield                    ",0,0,0,0,null,0,0,0,0,0,{"$f":"ROUND(100-'Townwide Contributions'!L276,2)","v":17.5},0,0,0,null,null,null,null,null,null,null,0,0,null,null,null,null,null,null,null,null,0,0,0,0,0,0,0,0,0,null,null,null,null,null,null,null,null,null,null,0,0,null,null,null,null,0,0,0,"",0,null,0,null,0,null,267,"Sheffield                    ",0,null,0,0,0]
[268,"Shelburne                    ",0,14657.8,10057,4601,null,4601,0,0,0,0,{"$f":"ROUND(100-'Townwide Contributions'!L277,2)","v":25.06},1,0,0,null,null,null,null,null,null,null,0,0,null,null,null,null,null,null,null,null,0,0,0,4601,4601,0,0,0,0,null,null,null,null,null,null,null,null,null,null,0,0,null,null,null,null,-14657.8,-4601,0,"",0,null,0,null,0,null,268,"Shelburne                    ",0,null,0,0,0]
[269,"Sherborn                     ",1,4086891.646209999,3371686,715207,null,715207,4085765.8388000005,3370757,715009,0,{"$f":"ROUND(100-'Townwide Contributions'!L278,2)","v":17.5},400,387,0,null,null,null,null,null,null,null,11610,11610,null,null,null,null,null,null,null,null,715207,726817,0,726817,0,726817,17.789002813080153,75841,56880.75,null,null,null,null,null,null,null,null,null,null,4097574,100.28900729179985,null,null,null,null,-1125.8074099984951,11610,11807.978209999972,0.28900281308015252,10557.53,null,0,null,30,null,269,"Sherborn                     ",1,null,4085765.8388000005,3370757,726817]
[270,"Shirley                      ",0,0,0,0,null,0,0,0,0,0,{"$f":"ROUND(100-'Townwide Contributions'!L279,2)","v":38.6},0,0,0,null,null,null,null,null,null,null,0,0,null,null,null,null,null,null,null,null,0,0,0,0,0,0,0,0,0,null,null,null,null,null,null,null,null,null,null,0,0,null,null,null,null,0,0,0,"",0,null,0,null,0,null,270,"Shirley                      ",0,null,0,0,0]
[271,"Shrewsbury                   ",1,66373147.319999993,50487975,20068648,null,20068648,67755147.820000008,52467104,15288044,0,{"$f":"ROUND(100-'Townwide Contributions'!L280,2)","v":18.39},6207,6144,0,null,null,null,null,null,null,null,184320,184320,null,null,null,null,null,null,null,null,20068648,20252968,0,20252968,0,20252968,29.891408478370579,547280,410460,null,null,null,null,null,null,null,null,null,null,72720072,107.32774459173189,null,null,null,null,1382000.5000000149,184320,7792796.3159019984,11.501408478370578,11027.86,null,0,null,30,null,271,"Shrewsbury                   ",1,null,67755147.820000008,52467104,20252968]
[272,"Shutesbury                   ",1,1221694.1099999999,712492,630386,null,630386,1164808.83,709939,454870,0,{"$f":"ROUND(100-'Townwide Contributions'!L281,2)","v":39.049999999999997},105,98,0,null,null,null,null,null,null,null,2940,2940,null,null,null,null,null,null,null,null,630386,633326,0,633326,0,633326,54.371668868615977,75841,56880.75,null,null,null,null,null,null,null,null,null,null,1343265,115.32064021183631,null,null,null,null,-56885.279999999795,2940,178468.151885,15.32166886861598,11885.8,null,0,null,30,null,272,"Shutesbury                   ",1,null,1164808.83,709939,633326]
[273,"Somerset                     ",1,18501842.410000004,9406646,9096902,null,9096902,17890453.66,9346663,8543791,0,{"$f":"ROUND(100-'Townwide Contributions'!L282,2)","v":45.82},1758,1642,0,null,null,null,null,null,null,null,49260,49260,null,null,null,null,null,null,null,null,9096902,9146162,0,9146162,0,9146162,51.123141837645271,635498,476623.5,null,null,null,null,null,null,null,null,null,null,18492825,103.36699868794719,null,null,null,null,-611388.75000000373,49260,948756.13298800029,5.3031418376452706,10895.53,null,0,null,30,null,273,"Somerset                     ",1,null,17890453.66,9346663,9146162]
[274,"Somerville                   ",1,72325602.754360005,59668622,20486918,null,20486918,76723652.080639988,62371611,14352041,0,{"$f":"ROUND(100-'Townwide Contributions'!L283,2)","v":17.5},5282,5049,0,null,null,null,null,null,null,null,151470,151470,null,null,null,null,null,null,null,null,20486918,20638388,0,20638388,0,20638388,26.899642340158849,3700540,2775405,null,null,null,null,null,null,null,null,null,null,83009999,108.19349281334102,null,null,null,null,4398049.3262799829,151470,7211748.8858880028,9.3996423401588487,15195.81,null,0,null,30,null,274,"Somerville                   ",1,null,76723652.080639988,62371611,20638388]
[275,"Southampton                  ",1,4972548.3299999991,3367625,2551486,null,2551486,5087907.08,3512669,1575238,0,{"$f":"ROUND(100-'Townwide Contributions'!L284,2)","v":30.51},462,448,0,null,null,null,null,null,null,null,13440,13440,null,null,null,null,null,null,null,null,2551486,2564926,0,2564926,0,2564926,50.412202103345017,104583,78437.25,null,null,null,null,null,null,null,null,null,null,6077595,119.45176876146881,null,null,null,null,115358.75000000093,13440,1012605.5498919997,19.902202103345015,11356.94,null,0,null,30,null,275,"Southampton                  ",1,null,5087907.08,3512669,2564926]
[276,"Southborough                 ",1,12497359.942009997,10310322,2986051,null,2986051,12207265.0513,10070994,2136271,0,{"$f":"ROUND(100-'Townwide Contributions'!L285,2)","v":17.5},1225,1156,0,null,null,null,null,null,null,null,34680,34680,null,null,null,null,null,null,null,null,2986051,3020731,0,3020731,0,3020731,24.745354404165333,125238,93928.5,null,null,null,null,null,null,null,null,null,null,13091725,107.24535712940721,null,null,null,null,-290094.89070999622,34680,884459.61602250021,7.2453544041653331,10559.92,null,0,null,30,null,276,"Southborough                 ",1,null,12207265.0513,10070994,3020731]
[277,"Southbridge                  ",1,29979243.07,8016911,22989832,null,22989832,31747452.57,8237019,23510434,520602,{"$f":"ROUND(100-'Townwide Contributions'!L286,2)","v":74.05},2231,2210,1,null,null,null,null,null,null,null,66300,0,null,null,null,null,null,null,null,null,22989832,23056132,0,23510434,0,23510434,74.054552717771017,2892015,2169011.25,null,null,null,null,null,null,null,null,null,null,31747453,100.00000135443938,null,null,null,null,1768209.5,520602,1445.3719150014222,4.552717771019843E-3,14365.36,null,0,null,235.56651583710408,null,277,"Southbridge                  ",1,null,31747452.57,8237019,23510434]
[278,"South Hadley                 ",1,22558199.090000004,14027360,8530839,null,8530839,22241637.689999994,14021018,8220620,0,{"$f":"ROUND(100-'Townwide Contributions'!L287,2)","v":36.96},1941,1837,0,null,null,null,null,null,null,null,55110,55110,null,null,null,null,null,null,null,null,8530839,8585949,0,8585949,0,8585949,38.603043173661206,681811,511358.25,null,null,null,null,null,null,null,null,null,null,22606967,101.64254680834163,null,null,null,null,-316561.40000000969,55110,365439.70977600291,1.643043173661205,12107.59,null,0,null,30,null,278,"South Hadley                 ",1,null,22241637.689999994,14021018,8585949]
[279,"Southwick                    ",0,0,0,0,null,0,0,0,0,0,{"$f":"ROUND(100-'Townwide Contributions'!L288,2)","v":31.8},0,0,0,null,null,null,null,null,null,null,0,0,null,null,null,null,null,null,null,null,0,0,0,0,0,0,0,0,0,null,null,null,null,null,null,null,null,null,null,0,0,null,null,null,null,0,0,0,"",0,null,0,null,0,null,279,"Southwick                    ",0,null,0,0,0]
[280,"Spencer                      ",0,29315.599999999999,13937,29315.599999999999,null,29315.599999999999,59771.8,28863,30909,1593.4000000000015,{"$f":"ROUND(100-'Townwide Contributions'!L289,2)","v":50.35},2,4,0,null,null,null,null,null,null,null,0,0,null,null,null,null,null,null,null,null,30632,30752,0,30909,0,30909,0,0,0,null,null,null,null,null,null,null,null,null,null,59772,100.00033460595129,null,null,null,null,30456.200000000004,1593.4000000000015,813.89869999999428,"",14942.95,null,0,null,398.35000000000036,null,280,"Spencer                      ",0,null,59771.8,28863,30909]
[281,"Springfield                  ",1,419043165.70000011,41873391,377169775,null,377169775,443439917.51999992,43175654,400264264,23094489,{"$f":"ROUND(100-'Townwide Contributions'!L290,2)","v":84.95},29551,29144,1,null,null,null,null,null,null,null,874320,0,null,null,null,null,null,null,null,null,377413815,378288135,0,400264264,0,400264264,90.263471596904083,69551714,52163785.5,null,null,null,null,null,null,null,null,null,null,443439918,100.00000010824468,null,null,null,null,24396751.819999814,23094489,23562054.066760063,5.3134715969040798,15215.48,null,0,null,792.42688031841885,null,281,"Springfield                  ",1,null,443439917.51999992,43175654,400264264]
[282,"Sterling                     ",0,0,0,0,null,0,29885.9,24656,5230,5230,{"$f":"ROUND(100-'Townwide Contributions'!L291,2)","v":17.5},0,2,0,null,null,null,null,null,null,null,0,0,null,null,null,null,null,null,null,null,5302,5362,132,5362,0,5362,0,0,0,null,null,null,null,null,null,null,null,null,null,30018,100.44201446166922,null,null,null,null,29885.9,5362,131.96749999999975,"",14942.95,null,0,null,2681,null,282,"Sterling                     ",0,null,29885.9,24656,5362]
[283,"Stockbridge                  ",0,0,0,0,null,0,0,0,0,0,{"$f":"ROUND(100-'Townwide Contributions'!L292,2)","v":17.5},0,0,0,null,null,null,null,null,null,null,0,0,null,null,null,null,null,null,null,null,0,0,0,0,0,0,0,0,0,null,null,null,null,null,null,null,null,null,null,0,0,null,null,null,null,0,0,0,"",0,null,0,null,0,null,283,"Stockbridge                  ",0,null,0,0,0]
[284,"Stoneham                     ",1,27298622.593199998,22148293,5266351,null,5266351,27675773.212859996,22660692,5015081,0,{"$f":"ROUND(100-'Townwide Contributions'!L293,2)","v":17.5},2450,2376,0,null,null,null,null,null,null,null,71280,71280,null,null,null,null,null,null,null,null,5266351,5337631,0,5337631,0,5337631,19.286294041171661,451442,338581.5,null,null,null,null,null,null,null,null,null,null,27998323,101.16545899064575,null,null,null,null,377150.61965999752,71280,494370.68774950132,1.7862940411716615,11648.05,null,0,null,30,null,284,"Stoneham                     ",1,null,27675773.212859996,22660692,5337631]
[285,"Stoughton                    ",1,44058289.500399999,27084504,16973793,null,16973793,44797790.667170003,27844812,16952979,0,{"$f":"ROUND(100-'Townwide Contributions'!L294,2)","v":37.090000000000003},3644,3540,0,null,null,null,null,null,null,null,106200,106200,null,null,null,null,null,null,null,null,17128977,17235177,155184,17235177,0,17235177,38.473274559566114,1690999,1268249.25,null,null,null,null,null,null,null,null,null,null,45079989,100.62993805861235,null,null,null,null,739501.16677000374,261384,619676.44154664502,1.3832745595661109,12654.74,null,0,null,73.837288135593226,null,285,"Stoughton                    ",1,null,44797790.667170003,27844812,17235177]
[286,"Stow                         ",0,15240.539360000001,12573,2668,null,2668,15545.9665,12825,2721,53,{"$f":"ROUND(100-'Townwide Contributions'!L295,2)","v":17.5},1,1,0,null,null,null,null,null,null,null,0,0,null,null,null,null,null,null,null,null,2706,2736,15,2736,0,2736,0,0,0,null,null,null,null,null,null,null,null,null,null,15561,100.09670354043281,null,null,null,null,305.42713999999978,68,15.455862499999967,"",15545.97,null,0,null,68,null,286,"Stow                         ",0,null,15545.9665,12825,2736]
[287,"Sturbridge                   ",1,8866569.3900000006,5185477,3846634,null,3846634,8593995.6400000006,5067895,3526101,0,{"$f":"ROUND(100-'Townwide Contributions'!L296,2)","v":39.61},870,804,0,null,null,null,null,null,null,null,24120,24120,null,null,null,null,null,null,null,null,3846634,3870754,0,3870754,0,3870754,45.040213681095139,244752,183564,null,null,null,null,null,null,null,null,null,null,8938649,104.01039719401113,null,null,null,null,-272573.75,24120,466672.32699599955,5.4302136810951396,10689.05,null,0,null,30,null,287,"Sturbridge                   ",1,null,8593995.6400000006,5067895,3870754]
[288,"Sudbury                      ",1,26639866.135919996,21977890,4990518,null,4990518,25511367.012379996,21046878,4464489,0,{"$f":"ROUND(100-'Townwide Contributions'!L297,2)","v":17.5},2690,2524,0,null,null,null,null,null,null,null,75720,75720,null,null,null,null,null,null,null,null,4990518,5066238,0,5066238,0,5066238,19.858747661548236,223825,167868.75,null,null,null,null,null,null,null,null,null,null,26113116,102.35874850347294,null,null,null,null,-1128499.1235399991,75720,601748.77283350099,2.3587476615482359,10107.51,null,0,null,30,null,288,"Sudbury                      ",1,null,25511367.012379996,21046878,5066238]
[289,"Sunderland                   ",1,2034470.88,1662285,872838,null,872838,1716998.6200000003,1416524,300475,0,{"$f":"ROUND(100-'Townwide Contributions'!L298,2)","v":17.5},171,141,0,null,null,null,null,null,null,null,4230,4230,null,null,null,null,null,null,null,null,872838,877068,0,877068,0,877068,51.081462138857162,75841,56880.75,null,null,null,null,null,null,null,null,null,null,2293592,133.58147020525848,null,null,null,null,-317472.25999999954,4230,576593.2415,33.581462138857162,12177.3,null,0,null,30,null,289,"Sunderland                   ",1,null,1716998.6200000003,1416524,877068]
[290,"Sutton                       ",1,13916186.880000001,10856059,5479815,null,5479815,13669932.569999998,11084974,2584959,0,{"$f":"ROUND(100-'Townwide Contributions'!L299,2)","v":17.5},1321,1257,0,null,null,null,null,null,null,null,37710,37710,null,null,null,null,null,null,null,null,5479815,5517525,0,5517525,0,5517525,40.362488781464414,120395,90296.25,null,null,null,null,null,null,null,null,null,null,16602499,121.45267663160098,null,null,null,null,-246254.31000000238,37710,3125286.8002500003,22.862488781464414,10875.05,null,0,null,30,null,290,"Sutton                       ",1,null,13669932.569999998,11084974,5517525]
[291,"Swampscott                   ",1,23409223.779999994,18964138,4447386,null,4447386,23465483.940000005,19359024,4106460,0,{"$f":"ROUND(100-'Townwide Contributions'!L300,2)","v":17.5},2155,2086,0,null,null,null,null,null,null,null,62580,62580,null,null,null,null,null,null,null,null,4447386,4509966,0,4509966,0,4509966,19.21957378561526,635485,476613.75,null,null,null,null,null,null,null,null,null,null,23868990,101.71957271808985,null,null,null,null,56260.160000011325,62580,403506.31049999921,1.7195737856152604,11249.03,null,0,null,30,null,291,"Swampscott                   ",1,null,23465483.940000005,19359024,4509966]
[292,"Swansea                      ",1,22877752.370000001,14533757,8449049,null,8449049,23868174.949999999,14677628,9190547,741498,{"$f":"ROUND(100-'Townwide Contributions'!L301,2)","v":38.51},2115,2044,1,null,null,null,null,null,null,null,61320,0,null,null,null,null,null,null,null,null,8561991,8623311,0,9190547,0,9190547,38.505445092692355,901543,676157.25,null,null,null,null,null,null,null,null,null,null,23868175,100.00000020948397,null,null,null,null,990422.57999999821,741498,-1087.1732449997216,-4.5549073076429636E-3,11677.19,null,0,null,362.76810176125247,null,292,"Swansea                      ",1,null,23868174.949999999,14677628,9190547]
[293,"Taunton                      ",1,103523189.69,36893138,66638377,null,66638377,{"$f":"SUMIF(dist1755,A302,found1755)","v":106634338.85999998},38137066,68497273,1858896,{"$f":"ROUND(100-'Townwide Contributions'!L302,2)","v":63.86},8113,7953,1,null,null,null,null,null,null,null,238590,0,null,null,null,null,null,null,null,null,66706935,66945525,0,68497273,0,68497273,64.235661544195381,7571032,5678274,null,null,null,null,null,null,null,null,null,null,106634339,100.00000013128981,null,null,null,null,3111149.1699999869,1858896,400584.2040040195,0.37566154419538123,13408.06,null,0,null,233.73519426631461,null,293,"Taunton                      ",1,null,106634338.85999998,38137066,68497273]
[294,"Templeton                    ",0,0,0,0,null,0,0,0,0,0,{"$f":"ROUND(100-'Townwide Contributions'!L303,2)","v":60.29},0,0,0,null,null,null,null,null,null,null,0,0,null,null,null,null,null,null,null,null,0,0,0,0,0,0,0,0,0,null,null,null,null,null,null,null,null,null,null,0,0,null,null,null,null,0,0,0,"",0,null,0,null,0,null,294,"Templeton                    ",0,null,0,0,0]
[295,"Tewksbury                    ",1,35851430.130000003,29577430,13326215,null,13326215,35898780.919999994,29616494,6282287,0,{"$f":"ROUND(100-'Townwide Contributions'!L304,2)","v":17.5},3364,3256,0,null,null,null,null,null,null,null,97680,97680,null,null,null,null,null,null,null,null,13326215,13423895,0,13423895,0,13423895,37.393734984803494,1188356,891267,null,null,null,null,null,null,null,null,null,null,43040389,119.89373426333054,null,null,null,null,47350.789999991655,97680,7141608.3390000015,19.893734984803494,11025.42,null,0,null,30,null,295,"Tewksbury                    ",1,null,35898780.919999994,29616494,13423895]
[296,"Tisbury                      ",1,4358704.2899999991,3499193,859511,null,859511,4196236.82,3460834,735403,0,{"$f":"ROUND(100-'Townwide Contributions'!L305,2)","v":17.5},371,343,0,null,null,null,null,null,null,null,10290,10290,null,null,null,null,null,null,null,null,859511,869801,0,869801,0,869801,20.728119915786831,224288,168216,null,null,null,null,null,null,null,null,null,null,4330635,103.20282638385504,null,null,null,null,-162467.46999999881,10290,135459.55649999995,3.2281199157868308,12233.93,null,0,null,30,null,296,"Tisbury                      ",1,null,4196236.82,3460834,869801]
[297,"Tolland                      ",0,0,0,0,null,0,0,0,0,0,{"$f":"ROUND(100-'Townwide Contributions'!L306,2)","v":17.5},0,0,0,null,null,null,null,null,null,null,0,0,null,null,null,null,null,null,null,null,0,0,0,0,0,0,0,0,0,null,null,null,null,null,null,null,null,null,null,0,0,null,null,null,null,0,0,0,"",0,null,0,null,0,null,297,"Tolland                      ",0,null,0,0,0]
[298,"Topsfield                    ",1,6270046.2603099989,5031835,1239023,null,1239023,5574732.2589299995,4599154,975578,0,{"$f":"ROUND(100-'Townwide Contributions'!L307,2)","v":17.5},627,542,0,null,null,null,null,null,null,null,16260,16260,null,null,null,null,null,null,null,null,1239023,1255283,0,1255283,0,1255283,22.517368398979144,305724,229293,null,null,null,null,null,null,null,null,null,null,5854437,105.01736636090369,null,null,null,null,-695314.00137999933,16260,279704.8546872501,5.0173683989791442,10285.48,null,0,null,30,null,298,"Topsfield                    ",1,null,5574732.2589299995,4599154,1255283]
[299,"Townsend                     ",0,0,0,0,null,0,0,0,0,0,{"$f":"ROUND(100-'Townwide Contributions'!L308,2)","v":45.97},0,0,0,null,null,null,null,null,null,null,0,0,null,null,null,null,null,null,null,null,0,0,0,0,0,0,0,0,0,null,null,null,null,null,null,null,null,null,null,0,0,null,null,null,null,0,0,0,"",0,null,0,null,0,null,299,"Townsend                     ",0,null,0,0,0]
[300,"Truro                        ",1,2296768.69,1894834,402446,null,402446,2248586.67,1855084,393503,0,{"$f":"ROUND(100-'Townwide Contributions'!L309,2)","v":17.5},213,199,0,null,null,null,null,null,null,null,5970,5970,null,null,null,null,null,null,null,null,402446,408416,0,408416,0,408416,18.163231395479187,75841,56880.75,null,null,null,null,null,null,null,null,null,null,2263500,100.66323127318014,null,null,null,null,-48182.020000000019,5970,14913.33275000006,0.66323139547918686,11299.43,null,0,null,30,null,300,"Truro                        ",1,null,2248586.67,1855084,408416]
[301,"Tyngsborough                 ",1,17653818.739999998,12650386,7409074,null,7409074,18172149.940000001,12657825,5514325,0,{"$f":"ROUND(100-'Townwide Contributions'!L310,2)","v":30.34},1645,1626,0,null,null,null,null,null,null,null,48780,48780,null,null,null,null,null,null,null,null,7409074,7457854,0,7457854,0,7457854,41.040020166155415,218355,163766.25,null,null,null,null,null,null,null,null,null,null,20115679,110.69509698311458,null,null,null,null,518331.20000000298,48780,1944423.7082039993,10.700020166155415,11175.98,null,0,null,30,null,301,"Tyngsborough                 ",1,null,18172149.940000001,12657825,7457854]
[302,"Tyringham                    ",0,321152.71999999997,264951,56202,null,56202,304654.57999999996,251340,53315,0,{"$f":"ROUND(100-'Townwide Contributions'!L311,2)","v":17.5},34,32,0,null,null,null,null,null,null,null,0,0,null,null,null,null,null,null,null,null,56202,57162,960,57162,0,57162,0,0,0,null,null,null,null,null,null,null,null,null,null,308502,101.26287942232808,null,null,null,null,-16498.140000000014,960,3847.4485000000132,"",9520.4599999999991,null,0,null,30,null,302,"Tyringham                    ",0,null,304654.57999999996,251340,57162]
[303,"Upton                        ",0,87946.800000000017,63657,39799,null,39799,89657.700000000012,67983,21675,0,{"$f":"ROUND(100-'Townwide Contributions'!L312,2)","v":24.17},6,6,0,null,null,null,null,null,null,null,0,0,null,null,null,null,null,null,null,null,39799,39979,180,39979,0,39979,0,0,0,null,null,null,null,null,null,null,null,null,null,107962,120.41575904802374,null,null,null,null,1710.8999999999942,180,18308.733909999995,"",14942.95,null,0,null,30,null,303,"Upton                        ",0,null,89657.700000000012,67983,39979]
[304,"Uxbridge                     ",1,19464063.84,12445154,9438614,null,9438614,19338129.629999999,12865712,6472418,0,{"$f":"ROUND(100-'Townwide Contributions'!L313,2)","v":33.47},1776,1693,0,null,null,null,null,null,null,null,50790,50790,null,null,null,null,null,null,null,null,9438614,9489404,0,9489404,0,9489404,49.070950405041835,937003,702752.25,null,null,null,null,null,null,null,null,null,null,22355116,115.60123149303763,null,null,null,null,-125934.21000000089,50790,3016932.0128390007,15.600950405041836,11422.4,null,0,null,30,null,304,"Uxbridge                     ",1,null,19338129.629999999,12865712,9489404]
[305,"Wakefield                    ",1,38545137.935350008,31799739,6745399,null,6745399,38582986.752279997,31830964,6752023,6624,{"$f":"ROUND(100-'Townwide Contributions'!L314,2)","v":17.5},3480,3384,1,null,null,null,null,null,null,null,101520,94896,null,null,null,null,null,null,null,null,6745399,6846919,0,6846919,0,6846919,17.745953790359149,366113,274584.75,null,null,null,null,null,null,null,null,null,null,38677883,100.2459536072966,null,null,null,null,37848.816929988563,101520,94896.318351000547,0.24595379035914888,11401.59,null,0,null,30,null,305,"Wakefield                    ",1,null,38582986.752279997,31830964,6846919]
[306,"Wales                        ",1,1614023.6,613294,1000730,null,1000730,1538717.03,561776,976941,0,{"$f":"ROUND(100-'Townwide Contributions'!L315,2)","v":63.49},145,130,0,null,null,null,null,null,null,null,3900,3900,null,null,null,null,null,null,null,null,1000730,1004630,0,1004630,0,1004630,65.290107304524994,114700,86025,null,null,null,null,null,null,null,null,null,null,1566406,101.7994842105569,null,null,null,null,-75306.570000000065,3900,27698.557652999996,1.8001073045249925,11836.28,null,0,null,30,null,306,"Wales                        ",1,null,1538717.03,561776,1004630]
[307,"Walpole                      ",1,39454988.392580003,32550365,8182871,null,8182871,40689968.803000003,33442336,7247633,0,{"$f":"ROUND(100-'Townwide Contributions'!L316,2)","v":17.5},3587,3573,0,null,null,null,null,null,null,null,107190,107190,null,null,null,null,null,null,null,null,8182871,8290061,0,8290061,0,8290061,20.373721690808441,420553,315414.75,null,null,null,null,null,null,null,null,null,null,41732397,102.56188005954711,null,null,null,null,1234980.4104200006,107190,1169316.4594749995,2.8737216908084413,11388.18,null,0,null,30,null,307,"Walpole                      ",1,null,40689968.803000003,33442336,8290061]
[308,"Waltham                      ",1,78968509.286119998,63760767,15541249,null,15541249,78915319.908700004,65105139,13810181,0,{"$f":"ROUND(100-'Townwide Contributions'!L317,2)","v":17.5},5746,5524,0,null,null,null,null,null,null,null,165720,165720,null,null,null,null,null,null,null,null,15541249,15706969,0,15706969,0,15706969,19.903573879155481,2443729,1832796.75,null,null,null,null,null,null,null,null,null,null,80812108,102.40357397460272,null,null,null,null,-53189.377419993281,165720,1896788.0159775,2.4035738791554806,14285.9,null,0,null,30,null,308,"Waltham                      ",1,null,78915319.908700004,65105139,15706969]
[309,"Ware                         ",1,15723620.550000001,5305670,10591234,null,10591234,16534689.749999998,5367553,11167137,575903,{"$f":"ROUND(100-'Townwide Contributions'!L318,2)","v":67.540000000000006},1289,1277,1,null,null,null,null,null,null,null,38310,0,null,null,null,null,null,null,null,null,10989199,11027509,0,11167137,0,11167137,67.537626461966127,1039848,779886,null,null,null,null,null,null,null,null,null,null,16534690,100.00000151197274,null,null,null,null,811069.19999999739,575903,-392.45715000107884,-2.3735380338791856E-3,12948.07,null,0,null,450.98120595144871,null,309,"Ware                         ",1,null,16534689.749999998,5367553,11167137]
[310,"Wareham                      ",1,29995900.239999998,18760166,13381730,null,13381730,30136320.540000003,18810171,11326150,0,{"$f":"ROUND(100-'Townwide Contributions'!L319,2)","v":35.090000000000003},2403,2269,0,null,null,null,null,null,null,null,68070,68070,null,null,null,null,null,null,null,null,13381730,13449800,0,13449800,0,13449800,44.629867744298949,1838279,1378709.25,null,null,null,null,null,null,null,null,null,null,32259971,107.04681401693107,null,null,null,null,140420.30000000447,68070,2874965.1225139983,9.5398677442989452,13281.76,null,0,null,30,null,310,"Wareham                      ",1,null,30136320.540000003,18810171,13449800]
[311,"Warren                       ",0,0,0,0,null,0,0,0,0,0,{"$f":"ROUND(100-'Townwide Contributions'!L320,2)","v":68.510000000000005},0,0,0,null,null,null,null,null,null,null,0,0,null,null,null,null,null,null,null,null,0,0,0,0,0,0,0,0,0,null,null,null,null,null,null,null,null,null,null,0,0,null,null,null,null,0,0,0,"",0,null,0,null,0,null,311,"Warren                       ",0,null,0,0,0]
[312,"Warwick                      ",0,0,0,0,null,0,0,0,0,0,{"$f":"ROUND(100-'Townwide Contributions'!L321,2)","v":24.94},0,0,0,null,null,null,null,null,null,null,0,0,null,null,null,null,null,null,null,null,0,0,0,0,0,0,0,0,0,null,null,null,null,null,null,null,null,null,null,0,0,null,null,null,null,0,0,0,"",0,null,0,null,0,null,312,"Warwick                      ",0,null,0,0,0]
[313,"Washington                   ",0,14657.8,10895,7847,null,7847,0,0,0,0,{"$f":"ROUND(100-'Townwide Contributions'!L322,2)","v":26.26},1,0,0,null,null,null,null,null,null,null,0,0,null,null,null,null,null,null,null,null,0,0,0,7847,7847,0,0,0,0,null,null,null,null,null,null,null,null,null,null,0,0,null,null,null,null,-14657.8,-7847,0,"",0,null,0,null,0,null,313,"Washington                   ",0,null,0,0,0]
[314,"Watertown                    ",1,33148323.506280009,27347367,5858595,null,5858595,33522397.491480004,27655978,5866419,7824,{"$f":"ROUND(100-'Townwide Contributions'!L323,2)","v":17.5},2678,2607,1,null,null,null,null,null,null,null,78210,70386,null,null,null,null,null,null,null,null,5858595,5936805,0,5936805,0,5936805,17.709965408974369,1229158,921868.5,null,null,null,null,null,null,null,null,null,null,33592783,100.20996561638493,null,null,null,null,374073.98519999534,78210,70385.438990999945,0.20996540897436944,12858.61,null,0,null,30,null,314,"Watertown                    ",1,null,33522397.491480004,27655978,5936805]
[315,"Wayland                      ",1,28213341.421039999,23276007,5299764,null,5299764,29104320.959789999,23895149,5209172,0,{"$f":"ROUND(100-'Townwide Contributions'!L324,2)","v":17.5},2653,2647,0,null,null,null,null,null,null,null,79410,79410,null,null,null,null,null,null,null,null,5299764,5379174,0,5379174,0,5379174,18.482389633593478,182425,136818.75,null,null,null,null,null,null,null,null,null,null,29274323,100.58411271798738,null,null,null,null,890979.5387500003,79410,285917.83203675039,0.98238963359347764,10995.21,null,0,null,30,null,315,"Wayland                      ",1,null,29104320.959789999,23895149,5379174]
[316,"Webster                      ",1,26082448.07,11471908,14610856,null,14610856,25262775.430000003,11542511,13720264,0,{"$f":"ROUND(100-'Townwide Contributions'!L325,2)","v":53.24},2023,1870,0,null,null,null,null,null,null,null,56100,56100,null,null,null,null,null,null,null,null,14610856,14666956,0,14666956,0,14666956,58.057579780338486,2060166,1545124.5,null,null,null,null,null,null,null,null,null,null,26209467,103.74737753032386,null,null,null,null,-819672.63999999687,56100,1217054.3610679992,4.8175797803384839,13509.51,null,0,null,30,null,316,"Webster                      ",1,null,25262775.430000003,11542511,14666956]
[317,"Wellesley                    ",1,52873250.972209997,43620433,9273504,null,9273504,49899424.529899992,41167025,8732400,0,{"$f":"ROUND(100-'Townwide Contributions'!L326,2)","v":17.5},4876,4466,0,null,null,null,null,null,null,null,133980,133980,null,null,null,null,null,null,null,null,9273504,9407484,0,9407484,0,9407484,18.852890767032768,437227,327920.25,null,null,null,null,null,null,null,null,null,null,50574509,101.35289029174173,null,null,null,null,-2973826.4423100054,133980,675084.70726750232,1.3528907670327683,11173.18,null,0,null,30,null,317,"Wellesley                    ",1,null,49899424.529899992,41167025,9407484]
[318,"Wellfleet                    ",1,1257777.1000000001,1037666,220111,null,220111,1271721.1499999999,1049170,222551,2440,{"$f":"ROUND(100-'Townwide Contributions'!L327,2)","v":17.5},115,114,1,null,null,null,null,null,null,null,3420,980,null,null,null,null,null,null,null,null,220240,223660,129,223660,0,223660,17.587188826732969,75841,56880.75,null,null,null,null,null,null,null,null,null,null,1272830,100.08719285670448,null,null,null,null,13944.049999999814,3549,1108.7987500000163,8.718882673296946E-2,11155.45,null,0,null,31.131578947368421,null,318,"Wellfleet                    ",1,null,{"$f":"I327","v":1271721.1499999999},{"$f":"J327","v":1049170},223660]
[319,"Wendell                      ",0,0,0,0,null,0,0,0,0,0,{"$f":"ROUND(100-'Townwide Contributions'!L328,2)","v":61.51},0,0,0,null,null,null,null,null,null,null,0,0,null,null,null,null,null,null,null,null,0,0,0,0,0,0,0,0,0,null,null,null,null,null,null,null,null,null,null,0,0,null,null,null,null,0,0,0,"",0,null,0,null,0,null,319,"Wendell                      ",0,null,0,0,0]
[320,"Wenham                       ",0,0,0,0,null,0,0,0,0,0,{"$f":"ROUND(100-'Townwide Contributions'!L329,2)","v":17.5},0,0,0,null,null,null,null,null,null,null,0,0,null,null,null,null,null,null,null,null,0,0,0,0,0,0,0,0,0,null,null,null,null,null,null,null,null,null,null,0,0,null,null,null,null,0,0,0,"",0,null,0,null,0,null,320,"Wenham                       ",0,null,0,0,{"$f":"AM329","v":0}]
[321,"Westborough                  ",1,40523119.020000003,32212271,8310848,null,8310848,{"$f":"SUMIF(dist1755,A330,found1755)","v":42136254.929999992},{"$f":"SUMIF(dist1755,A330,prelcont1755)","v":31823425},{"$f":"ROUND(MAX(found-prelcont436,0),0)","v":10312830},{"$f":"IF(foundaid>priorc70,foundaid-priorc70,0)","v":2001982},{"$f":"ROUND(100-'Townwide Contributions'!L330,2)","v":24.47},3783,{"$f":"SUMIF(dist1755,A330,enro1755)","v":3821},{"$f":"IF(AND(C330=1,L330>0),1,0)","v":1},null,null,null,null,null,null,null,{"$f":"IF(nonop=1,enro*$X$6,0)","v":114630},{"$f":"IF((foundinc)<X330,X330-(foundinc),0)","v":0},null,null,null,null,null,null,null,null,11075373,{"$f":"AH330+30*enro","v":11190003},{"$f":"IF(AI330-priorc70-foundinc-minaid>0,AI330-priorc70-foundinc-minaid,0)","v":877173},{"$f":"priorc70+foundinc+minaidadjincrement+minaid","v":11190003},{"$f":"IF(AND(C330=0,AK330>found),AK330-found,0)","v":0},{"$f":"priorc70+foundinc+minaidadjincrement+minaid-rednonop","v":11190003},26.556709936822099,282495,211871.25,null,null,null,null,null,null,null,null,null,null,{"$f":"prelcont436+chapter70","v":43013428},{"$f":"IF(found>0,BA330*100/found,0)","v":102.08175375684725},null,null,null,null,{"$f":"I330-D330","v":1613135.909999989},2879155,879261.41862900183,2.0867099368220998,{"$f":"IFERROR(ROUND(I330/O330, 2), 0)","v":11027.55},null,{"$f":"VLOOKUP(A330, disthist, 37, FALSE)*$H$6","v":0},null,{"$f":"IFERROR(BH330/O330, 0)","v":753.50824391520541},null,{"$f":"A330","v":321},{"$f":"B330","v":"Westborough                  "},{"$f":"C330","v":1},null,42136254.929999992,31823425,11190003]
[322,"West Boylston                ",1,9693716.8899999987,7543146,3034005,null,{"$f":"F331+G331","v":3034005},9707106.709999999,7764923,1942184,0,{"$f":"ROUND(100-'Townwide Contributions'!L331,2)","v":20.010000000000002},854,832,0,null,null,null,null,null,null,null,24960,24960,null,null,null,null,null,null,null,null,3034005,3058965,0,3058965,0,3058965,{"$f":"IF(C331=1, AM331/I331*100, 0)","v":31.512633902012606},296216,{"$f":"0.75*AO331","v":222162},null,null,null,null,null,null,null,null,null,null,10823888,111.50478019211968,null,null,null,null,13389.820000000298,{"$f":"AM331-F331","v":24960},{"$f":"AM331-((M331/100)*I331)","v":1116572.9473289999},{"$f":"IF(C331=1, (AM331/I331*100)-M331, \"\")","v":11.502633902012604},11667.2,null,0,null,30,null,322,"West Boylston                ",1,null,9707106.709999999,7764923,3058965]
[323,"West Bridgewater             ",1,12165316.310000001,8009301,4157054,null,4157054,12489999.319999998,8083995,4406004,248950,{"$f":"ROUND(100-'Townwide Contributions'!L332,2)","v":35.28},1107,1100,1,null,null,null,null,null,null,null,33000,0,null,null,null,null,null,null,null,null,4536989,4569989,163985,4569989,0,4569989,36.589185338722665,229185,171888.75,null,null,null,null,null,null,null,null,null,null,12653984,101.31292785370626,null,null,null,null,324683.00999999791,412935,163517.23990400042,1.3091853387226635,11354.54,null,0,null,375.39545454545453,null,323,"West Bridgewater             ",1,null,12489999.319999998,8083995,4569989]
[324,"West Brookfield              ",0,656385.84,351215,327609,null,327609,609186.25,325338,283848,0,{"$f":"ROUND(100-'Townwide Contributions'!L333,2)","v":44.13},41,37,0,null,null,null,null,null,null,null,0,0,null,null,null,null,null,null,null,null,327609,328719,1110,328719,0,328719,0,0,0,null,null,null,null,null,null,null,null,null,null,654057,107.36568660241429,null,null,null,null,-47199.589999999967,1110,59885.107874999987,"",16464.490000000002,null,0,null,30,null,324,"West Brookfield              ",0,null,609186.25,325338,328719]
[325,"Westfield                    ",1,65292799.700000003,27986427,37306373,null,37306373,64522096.82,28545364,35976733,0,{"$f":"ROUND(100-'Townwide Contributions'!L334,2)","v":55.76},5221,4980,0,null,null,null,null,null,null,null,149400,149400,null,null,null,null,null,null,null,null,37306373,37455773,0,37455773,0,37455773,58.051078384033204,4798471,3598853.25,null,null,null,null,null,null,null,null,null,null,66001137,102.29230023960031,null,null,null,null,-770702.88000000268,149400,1478251.8131680042,2.2910783840332059,12956.24,null,0,null,30,null,325,"Westfield                    ",1,null,64522096.82,28545364,37455773]
[326,"Westford                     ",1,49470077.997149989,38573963,17144235,null,17144235,49338010.536589988,38279511,11058500,0,{"$f":"ROUND(100-'Townwide Contributions'!L335,2)","v":22.41},4715,4586,0,null,null,null,null,null,null,null,137580,137580,null,null,null,null,null,null,null,null,17144235,17281815,0,17281815,0,17281815,35.027385198646151,261511,196133.25,null,null,null,null,null,null,null,null,null,null,55561326,112.61363276655568,null,null,null,null,-132067.46056000143,137580,6225166.8387501836,12.617385198646151,10758.4,null,0,null,30,null,326,"Westford                     ",1,null,49338010.536589988,38279511,17281815]
[327,"Westhampton                  ",1,1307846.49,960638,477140,null,477140,1219129.1399999999,977217,241912,0,{"$f":"ROUND(100-'Townwide Contributions'!L336,2)","v":17.5},116,103,0,null,null,null,null,null,null,null,3090,3090,null,null,null,null,null,null,null,null,477140,480230,0,480230,0,480230,39.391232991116922,75841,56880.75,null,null,null,null,null,null,null,null,null,null,1457447,119.54820471275094,null,null,null,null,-88717.350000000093,3090,266882.40049999999,21.891232991116922,11836.21,null,0,null,30,null,327,"Westhampton                  ",1,null,1219129.1399999999,977217,480230]
[328,"Westminster                  ",0,0,0,0,null,0,0,0,0,0,{"$f":"ROUND(100-'Townwide Contributions'!L337,2)","v":43.92},0,0,0,null,null,null,null,null,null,null,0,0,null,null,null,null,null,null,null,null,0,0,0,0,0,0,0,0,0,null,null,null,null,null,null,null,null,null,null,0,0,null,null,null,null,0,0,0,"",0,null,0,null,0,null,328,"Westminster                  ",0,null,0,0,0]
[329,"West Newbury                 ",0,29315.599999999999,24185,5131,null,5131,29885.9,24656,5230,99,{"$f":"ROUND(100-'Townwide Contributions'!L338,2)","v":17.5},2,2,0,null,null,null,null,null,null,null,0,0,null,null,null,null,null,null,null,null,5203,5263,33,5263,0,5263,0,0,0,null,null,null,null,null,null,null,null,null,null,29919,100.11075456988077,null,null,null,null,570.30000000000291,132,32.967499999999745,"",14942.95,null,0,null,66,null,329,"West Newbury                 ",0,null,29885.9,24656,5263]
[330,"Weston                       ",1,22266149.914000005,18369574,3949220,null,3949220,21523446.137799997,17756843,3766603,0,{"$f":"ROUND(100-'Townwide Contributions'!L339,2)","v":17.5},2057,1928,0,null,null,null,null,null,null,null,57840,57840,null,null,null,null,null,null,null,null,3949220,4007060,0,4007060,0,4007060,18.617185994963435,817229,612921.75,null,null,null,null,null,null,null,null,null,null,21763903,101.11718569907681,null,null,null,null,-742703.77620000765,57840,240456.92588500073,1.1171859949634353,11163.61,null,0,null,30,null,330,"Weston                       ",1,null,21523446.137799997,17756843,4007060]
[331,"Westport                     ",1,16658171.17,13742991,4559462,null,4559462,16931357.890000001,13968370,2962988,0,{"$f":"ROUND(100-'Townwide Contributions'!L340,2)","v":17.5},1505,1471,0,null,null,null,null,null,null,null,44130,44130,null,null,null,null,null,null,null,null,4559462,4603592,0,4603592,0,4603592,27.18973888514266,688900,516675,null,null,null,null,null,null,null,null,null,null,18571962,109.6897373539601,null,null,null,null,273186.72000000067,44130,1640604.36925,9.6897388851426598,11510.1,null,0,null,30,null,331,"Westport                     ",1,null,16931357.890000001,13968370,4603592]
[332,"West Springfield             ",1,52593244.399999991,20539659,32053585,null,32053585,53586795.429999992,20662897,32923898,870313,{"$f":"ROUND(100-'Townwide Contributions'!L341,2)","v":60.25},4138,3995,1,null,null,null,null,null,null,null,119850,0,null,null,null,null,null,null,null,null,32053585,32173435,0,32923898,0,32923898,61.440318899099367,4332659,3249494.25,null,null,null,null,null,null,null,null,null,null,53586795,99.999999197563525,null,null,null,null,993551.03000000119,870313,637853.7534250021,1.1903188990993669,13413.47,null,0,null,217.850563204005,null,332,"West Springfield             ",1,null,53586795.429999992,20662897,32923898]
[333,"West Stockbridge             ",0,0,0,0,null,0,0,0,0,0,{"$f":"ROUND(100-'Townwide Contributions'!L342,2)","v":17.5},0,0,0,null,null,null,null,null,null,null,0,0,null,null,null,null,null,null,null,null,0,0,0,0,0,0,0,0,0,null,null,null,null,null,null,null,null,null,null,0,0,null,null,null,null,0,0,0,"",0,null,0,null,0,null,333,"West Stockbridge             ",0,null,0,0,0]
[334,"West Tisbury                 ",0,0,0,0,null,0,0,0,0,0,{"$f":"ROUND(100-'Townwide Contributions'!L343,2)","v":17.5},0,0,0,null,null,null,null,null,null,null,0,0,null,null,null,null,null,null,null,null,0,0,0,0,0,0,0,0,0,null,null,null,null,null,null,null,null,null,null,0,0,null,null,null,null,0,0,0,"",0,null,0,null,0,null,334,"West Tisbury                 ",0,null,0,0,0]
[335,"Westwood                     ",1,32201274.010420009,26566051,5635223,null,5635223,32428327.176970001,26753369,5674958,39735,{"$f":"ROUND(100-'Townwide Contributions'!L344,2)","v":17.5},3001,2941,1,null,null,null,null,null,null,null,88230,48495,null,null,null,null,null,null,null,null,5635223,5723453,0,5723453,0,5723453,17.649547473619577,75841,56880.75,null,null,null,null,null,null,null,null,null,null,32476822,100.14954463350931,null,null,null,null,227053.16654999182,88230,48495.744030250236,0.14954747361957743,11026.29,null,0,null,30,null,335,"Westwood                     ",1,null,32428327.176970001,26753369,5723453]
[336,"Weymouth                     ",1,73265345.799600005,56687928,28433225,null,28433225,75977296.148979992,58393206,17584090,0,{"$f":"ROUND(100-'Townwide Contributions'!L345,2)","v":19.579999999999998},5921,5929,0,null,null,null,null,null,null,null,177870,177870,null,null,null,null,null,null,null,null,28433225,28611095,0,28611095,0,28611095,37.657427218649595,2901054,2175790.5,null,null,null,null,null,null,null,null,null,null,87004301,114.513552613662,null,null,null,null,2711950.3493799865,177870,13734740.414029719,18.077427218649596,12814.52,null,0,null,30,null,336,"Weymouth                     ",1,null,75977296.148979992,58393206,28611095]
[337,"Whately                      ",1,904197.0199999999,739905,264770,null,264770,959161.65,778763,180399,0,{"$f":"ROUND(100-'Townwide Contributions'!L346,2)","v":18.809999999999999},79,81,0,null,null,null,null,null,null,null,2430,2430,null,null,null,null,null,null,null,null,264770,267200,0,267200,0,267200,27.857660906271636,75841,56880.75,null,null,null,null,null,null,null,null,null,null,1045963,109.04971023393189,null,null,null,null,54964.630000000121,2430,86781.693635000003,9.0476609062716378,11841.5,null,0,null,30,null,337,"Whately                      ",1,null,959161.65,778763,267200]
[338,"Whitman                      ",0,203601.62000000002,93108,110494,null,110494,134486.55000000002,63759,70728,0,{"$f":"ROUND(100-'Townwide Contributions'!L347,2)","v":50.27},12,9,0,null,null,null,null,null,null,null,0,0,null,null,null,null,null,null,null,null,110494,110764,270,110764,0,110764,0,0,0,null,null,null,null,null,null,null,null,null,null,174523,129.76985430885094,null,null,null,null,-69115.070000000007,270,43157.611314999987,"",14942.95,null,0,null,30,null,338,"Whitman                      ",0,null,134486.55000000002,63759,110764]
[339,"Wilbraham                    ",0,0,0,0,null,0,0,0,0,0,{"$f":"ROUND(100-'Townwide Contributions'!L348,2)","v":33.49},0,0,0,null,null,null,null,null,null,null,0,0,null,null,null,null,null,null,null,null,0,0,0,0,0,0,0,0,0,null,null,null,null,null,null,null,null,null,null,0,0,null,null,null,null,0,0,0,"",0,null,0,null,0,null,339,"Wilbraham                    ",0,null,0,0,0]
[340,"Williamsburg                 ",1,2006916.64,1291212,715705,null,715705,2022824.2199999997,1279800,743024,27319,{"$f":"ROUND(100-'Townwide Contributions'!L349,2)","v":36.729999999999997},176,168,1,null,null,null,null,null,null,null,5040,0,null,null,null,null,null,null,null,null,780327,785367,42343,785367,0,785367,38.825271728257242,75841,56880.75,null,null,null,null,null,null,null,null,null,null,2065167,102.09325059396413,null,null,null,null,15907.579999999842,69662,42383.663994000177,2.0952717282572451,12040.62,null,0,null,414.65476190476193,null,340,"Williamsburg                 ",1,null,2022824.2199999997,1279800,785367]
[341,"Williamstown                 ",0,0,0,0,null,0,0,0,0,0,{"$f":"ROUND(100-'Townwide Contributions'!L350,2)","v":17.5},0,0,0,null,null,null,null,null,null,null,0,0,null,null,null,null,null,null,null,null,0,0,0,0,0,0,0,0,0,null,null,null,null,null,null,null,null,null,null,0,0,null,null,null,null,0,0,0,"",0,null,0,null,0,null,341,"Williamstown                 ",0,null,0,0,0]
[342,"Wilmington                   ",1,35336725.314499997,28856084,11469170,null,11469170,31931135.571399998,26343187,5587949,0,{"$f":"ROUND(100-'Townwide Contributions'!L351,2)","v":17.5},3220,2818,0,null,null,null,null,null,null,null,84540,84540,null,null,null,null,null,null,null,null,11469170,11553710,0,11553710,0,11553710,36.183210503632694,360504,270378,null,null,null,null,null,null,null,null,null,null,37896897,118.68321098465223,null,null,null,null,-3405589.7430999987,84540,5965761.2750050006,18.683210503632694,11331.13,null,0,null,30,null,342,"Wilmington                   ",1,null,31931135.571399998,26343187,11553710]
[343,"Winchendon                   ",1,15745625.66,5282604,11491100,null,11491100,16140907.580000002,5507065,10633843,0,{"$f":"ROUND(100-'Townwide Contributions'!L352,2)","v":65.349999999999994},1322,1283,0,null,null,null,null,null,null,null,38490,38490,null,null,null,null,null,null,null,null,11491100,11529590,0,11529590,0,11529590,71.430865599442328,1043630,782722.5,null,null,null,null,null,null,null,null,null,null,17036655,105.54954803848767,null,null,null,null,395281.92000000179,38490,981506.8964699991,6.0808655994423333,12580.6,null,0,null,30,null,343,"Winchendon                   ",1,null,16140907.580000002,5507065,11529590]
[344,"Winchester                   ",1,49895727.543140002,40278256,9617689,null,9617689,49557487.22226999,40884927,8672560,0,{"$f":"ROUND(100-'Townwide Contributions'!L353,2)","v":17.5},4685,4513,0,null,null,null,null,null,null,null,135390,135390,null,null,null,null,null,null,null,null,9617689,9753079,0,9753079,0,9753079,19.680333985168627,338963,254222.25,null,null,null,null,null,null,null,null,null,null,50638006,102.18033406916655,null,null,null,null,-338240.32087001204,135390,1080518.7361027524,2.1803339851686268,10981.05,null,0,null,30,null,344,"Winchester                   ",1,null,49557487.22226999,40884927,9753079]
[345,"Windsor                      ",0,58631.199999999997,48371,26342,null,26342,59771.8,49312,10460,0,{"$f":"ROUND(100-'Townwide Contributions'!L354,2)","v":17.5},4,4,0,null,null,null,null,null,null,null,0,0,null,null,null,null,null,null,null,null,26342,26462,120,26462,0,26462,0,0,0,null,null,null,null,null,null,null,null,null,null,75774,126.77215676958029,null,null,null,null,1140.6000000000058,120,16001.934999999999,"",14942.95,null,0,null,30,null,345,"Windsor                      ",0,null,59771.8,49312,26462]
[346,"Winthrop                     ",1,23537383.711800005,16793461,7340903,null,7340903,23368693.414199997,17312069,6056624,0,{"$f":"ROUND(100-'Townwide Contributions'!L355,2)","v":20.68},1986,1907,0,null,null,null,null,null,null,null,57210,57210,null,null,null,null,null,null,null,null,7340903,7398113,0,7398113,0,7398113,31.658222686530408,1322222,991666.5,null,null,null,null,null,null,null,null,null,null,24710182,105.74053740199632,null,null,null,null,-168690.29760000855,57210,2565467.2019434413,10.978222686530408,12254.17,null,0,null,30,null,346,"Winthrop                     ",1,null,23368693.414199997,17312069,7398113]
[347,"Woburn",1,54604897.586800009,45049041,9555857,null,9555857,54727485.960259996,45150176,9577310,21453,{"$f":"ROUND(100-'Townwide Contributions'!L356,2)","v":17.5},4517,4384,1,null,null,null,null,null,null,null,131520,110067,null,null,null,null,null,null,null,null,9555857,9687377,0,9687377,0,9687377,17.701118240721719,1950160,1462620,null,null,null,null,null,null,null,null,null,null,54837553,100.20111839199032,null,null,null,null,122588.37345998734,131520,110066.95695450157,0.20111824072171913,12483.46,null,0,null,30,null,347,"Woburn",1,null,54727485.960259996,45150176,9687377]
[348,"Worcester                    ",1,382606983.73000002,105210987,277395997,null,277395997,397940445.01999998,108935456,289004989,11608992,{"$f":"ROUND(100-'Townwide Contributions'!L357,2)","v":71.37},27442,26540,1,null,null,null,null,null,null,null,796200,0,null,null,null,null,null,null,null,null,277395997,278192197,0,289004989,0,289004989,72.62518615957093,34805950,26104462.5,null,null,null,null,null,null,null,null,null,null,397940445,99.999999994974132,null,null,null,null,15333461.289999962,11608992,4994893.3892260194,1.2551861595709255,14993.99,null,0,null,437.41492087415224,null,348,"Worcester                    ",1,null,397940445.01999998,108935456,289004989]
[349,"Worthington                  ",1,1374749.7299999997,1018495,356255,null,356255,1186757.45,979075,207682,0,{"$f":"ROUND(100-'Townwide Contributions'!L358,2)","v":17.5},123,102,0,null,null,null,null,null,null,null,3060,3060,null,null,null,null,null,null,null,null,356255,359315,0,359315,0,359315,30.277037654155869,75841,56880.75,null,null,null,null,null,null,null,null,null,null,1338390,112.77704639646458,null,null,null,null,-187992.2799999998,3060,151632.44625000001,12.777037654155869,11634.88,null,0,null,30,null,349,"Worthington                  ",1,null,1186757.45,979075,359315]
[350,"Wrentham                     ",1,9053868.8087499999,7469442,3793153,null,3793153,8684835.7043299992,7164989,1519847,0,{"$f":"ROUND(100-'Townwide Contributions'!L359,2)","v":17.5},874,822,0,null,null,null,null,null,null,null,24660,24660,null,null,null,null,null,null,null,null,3793153,3817813,0,3817813,0,3817813,43.959530496317306,91265,68448.75,null,null,null,null,null,null,null,null,null,null,10982802,126.45952524495431,null,null,null,null,-369033.10442000069,24660,2297966.7517422503,26.459530496317306,10565.49,null,0,null,30,null,350,"Wrentham                     ",1,null,8684835.7043299992,7164989,3817813]
[351,"Yarmouth                     ",0,0,0,0,null,0,0,0,0,0,{"$f":"ROUND(100-'Townwide Contributions'!L360,2)","v":17.5},0,0,0,null,null,null,null,null,null,null,0,0,null,null,null,null,null,null,null,null,0,0,0,0,0,0,0,0,0,null,null,null,null,null,null,null,null,null,null,0,0,null,null,null,null,0,0,0,"",0,null,0,null,0,null,351,"Yarmouth                     ",0,null,0,0,0]
[406,"Northampton Smith            ",1,2690854.48,2219955,913025,null,913025,3105888.38,2562358,543530,0,{"$f":"ROUND(100-SUMIF(fraclea,A361,memeffpct),2)","v":17.5},113,116,0,null,null,null,null,null,null,null,3480,3480,null,null,null,null,null,null,null,null,913025,916505,0,916505,0,916505,29.508626449737385,328669,246501.75,null,null,null,null,null,null,null,null,null,null,3478863,112.00862923476987,null,null,null,null,415033.89999999991,3480,372974.53350000002,12.008626449737385,26774.9,null,0,null,30,null,406,"Northampton Smith            ",1,null,3105888.38,2562358,916505]
[600,"Acton Boxborough             ",1,57745972.612679996,46230356,15185311,null,15185311,57742348.625200003,46536642,11205707,0,19.41,5294.0000000000009,5120,0,null,null,null,null,null,null,null,153600,153600,null,null,null,null,null,null,null,null,15185311,15338911,0,15338911,0,15338911,26.564404401981268,408600,306450,null,null,null,null,null,null,null,null,null,null,61875553,107.15801222708869,null,null,null,null,-3623.9874799922109,153600,4131121.1318486799,7.1544044019812674,11277.8,null,0,null,30,null,600,"Acton Boxborough             ",1,null,57742348.625200003,46536642,15338911]
[603,"Hoosac Valley",1,15339849.779999997,5843907,10354753,null,10354753,15131964.620000003,5695529,9436436,0,62.36,1254,1178,0,null,null,null,null,null,null,null,35340,35340,null,null,null,null,null,null,null,null,10354753,10390093,0,10390093,0,10390093,68.663212351602752,1009118,756838.5,null,null,null,null,null,null,null,null,null,null,16085622,106.30227074903111,null,null,null,null,-207885.15999999456,35340,953799.86296799779,6.3032123516027525,12845.47,null,0,null,30,null,603,"Hoosac Valley",1,null,15131964.620000003,5695529,10390093]
[605,"Amherst Pelham               ",1,16921238.979830787,12834959,9561457,null,9561457,16639393.150166392,12739677,3899716,0,23.44,1398.9999999860099,1330.0000000133,0,null,null,null,null,null,null,null,39900.000000398999,39900.000000398999,null,null,null,null,null,null,null,null,9561457,9601357.0000003986,0,9601357.0000003986,0,9601357.0000003986,57.702567114981505,737510,553132.5,null,null,null,null,null,null,null,null,null,null,22341034.000000399,134.2659182241691,null,null,null,null,-281845.82966439426,39900.000000398606,5701083.2456013951,34.262567114981508,12510.82,null,0,null,29.999999999999705,null,605,"Amherst Pelham               ",1,null,16639393.150166392,12739677,9601357.0000003986]
[610,"Ashburnham Westminster       ",1,24646397.09,12303561,12361170,null,12361170,24416454.050000001,12473067,11943387,0,47.89,2286,2184,0,null,null,null,null,null,null,null,65520,65520,null,null,null,null,null,null,null,null,12361170,12426690,0,12426690,0,12426690,50.894736699082642,516728,387546,null,null,null,null,null,null,null,null,null,null,24899757,101.9794149838887,null,null,null,null,-229943.03999999911,65520,733650.1554550007,3.0047366990826418,11179.7,null,0,null,30,null,610,"Ashburnham Westminster       ",1,null,24416454.050000001,12473067,12426690]
[615,"Athol Royalston              ",1,21729158.719999999,3616401,18112758,null,18112758,21437314.759999998,3821125,17616190,0,68.62,1770,1666,0,null,null,null,null,null,null,null,49980,49980,null,null,null,null,null,null,null,null,18112758,18162738,0,18162738,0,18162738,84.724874376010703,1467760,1100820,null,null,null,null,null,null,null,null,null,null,21983863,102.54951819348106,null,null,null,null,-291843.96000000089,49980,3452452.6116880011,16.104874376010699,12867.54,null,0,null,30,null,615,"Athol Royalston              ",1,null,21437314.759999998,3821125,18162738]
[616,"Ayer Shirley",1,19068236.100000005,12820462,8301431,null,8301431,19290628.720000006,13296542,5994087,0,31.07,1689,1642,0,null,null,null,null,null,null,null,49260,49260,null,null,null,null,null,null,null,null,8301431,8350691,0,8350691,0,8350691,43.288848285915257,1770738,1328053.5,null,null,null,null,null,null,null,null,null,null,21647233,112.21631660743503,null,null,null,null,222392.62000000104,49260,2357092.6566959983,12.218848285915257,11748.25,null,0,null,30,null,616,"Ayer Shirley",1,null,19290628.720000006,13296542,8350691]
[618,"Berkshire Hills              ",1,11846383.439999999,9773266,2933388,null,2933388,11904685.689880952,9821366,2083320,0,17.5,970,936.99999999062993,0,null,null,null,null,null,null,null,28109.999999718897,28109.999999718897,null,null,null,null,null,null,null,null,2933388,2961497.9999997187,0,2961497.9999997187,0,2961497.9999997187,24.876742462146716,549315,411986.25,null,null,null,null,null,null,null,null,null,null,12782863.999999719,107.37674503128817,null,null,null,null,58302.249880952761,28109.999999718741,878178.00427055219,7.3767424621467157,12705.11,null,0,null,29.999999999999833,null,618,"Berkshire Hills              ",1,null,11904685.689880952,9821366,2961497.9999997187]
[620,"Berlin Boylston              ",1,10107518.1,8212670,2139724,null,2139724,10680902.860000001,8557895,2123008,0,17.5,950,977.00000000000011,0,null,null,null,null,null,null,null,29310.000000000004,29310.000000000004,null,null,null,null,null,null,null,null,2139724,2169034,0,2169034,0,2169034,20.307590364135191,117408,88056,null,null,null,null,null,null,null,null,null,null,10726929,100.43091993816709,null,null,null,null,573384.76000000164,29310,299875.99949999992,2.8075903641351907,10932.35,null,0,null,29.999999999999996,null,620,"Berlin Boylston              ",1,null,10680902.860000001,8557895,2169034]
[622,"Blackstone Millville         ",1,19305133.509999998,9159231,10985239,null,10985239,19277512.559999999,9314960,9962553,0,51.68,1737,1675,0,null,null,null,null,null,null,null,50250,50250,null,null,null,null,null,null,null,null,10985239,11035489,0,11035489,0,11035489,57.245399092091162,539875,404906.25,null,null,null,null,null,null,null,null,null,null,20350449,105.56574110202526,null,null,null,null,-27620.949999999255,50250,1072870.5089919996,5.5653990920911625,11508.96,null,0,null,30,null,622,"Blackstone Millville         ",1,null,19277512.559999999,9314960,11035489]
[625,"Bridgewater Raynham          ",1,59327586.659999996,36619588,22716693,null,22716693,60572988.269999996,37557758,23015230,298537,36.840000000000003,5506,5446,1,null,null,null,null,null,null,null,163380,0,null,null,null,null,null,null,null,null,23102852,23266232,251002,23266232,0,23266232,38.410243021678816,845172,633879,null,null,null,null,null,null,null,null,null,null,60823990,100.41437897843372,null,null,null,null,1245401.6099999994,549539,951143.12133199722,1.570243021678813,11122.47,null,0,null,100.90690414983474,null,625,"Bridgewater Raynham          ",1,null,60572988.269999996,37557758,23266232]
[632,"Chesterfield Goshen",1,1184019.3600000001,774310,751930,null,751930,1136350.0900000003,804982,331368,0,29.16,112,100,0,null,null,null,null,null,null,null,3000,3000,null,null,null,null,null,null,null,null,751930,754930,0,754930,0,754930,66.434631953960576,75841,56880.75,null,null,null,null,null,null,null,null,null,null,1559912,137.27389241461665,null,null,null,null,-47669.269999999786,3000,423570.3137559999,37.274631953960579,11363.5,null,0,null,30,null,632,"Chesterfield Goshen",1,null,1136350.0900000003,804982,754930]
[635,"Central Berkshire            ",1,17769137.719999999,10821874,8773249,null,8773249,18362845.249816377,11107450,7255395,0,38.9,1532.0000000000002,1515.9999999848403,0,null,null,null,null,null,null,null,45479.999999545209,45479.999999545209,null,null,null,null,null,null,null,null,8773249,8818728.9999995455,3.0559021979570389E-10,8818728.9999995455,0,8818728.9999995455,48.024850615607789,1146382,859786.5,null,null,null,null,null,null,null,null,null,null,19926178.999999546,108.51357035859571,null,null,null,null,593707.52981637791,45479.999999545515,1675582.1978209745,9.1248506156077909,12112.69,null,0,null,30.000000000000203,null,635,"Central Berkshire            ",1,null,18362845.249816377,11107450,8818728.9999995455]
[640,"Concord Carlisle             ",1,15698387.201840004,12951170,2747217,null,2747217,16390470.933569998,13522139,2868332,121115,17.5,1323,1346,1,null,null,null,null,null,null,null,40380,0,null,null,null,null,null,null,null,null,2845502,2885882,17550,2885882,0,2885882,17.607071887661913,85886,64414.5,null,null,null,null,null,null,null,null,null,null,16408021,100.10707481500155,null,null,null,null,692083.7317299936,138665,17549.586625250522,0.10707188766191322,12177.17,null,0,null,103.02005943536405,null,640,"Concord Carlisle             ",1,null,16390470.933569998,13522139,2885882]
[645,"Dennis Yarmouth              ",1,40772315.190000005,32996593,7812700,null,7812700,39848432.009999998,32297022,7551410,0,17.5,3334,3140,0,null,null,null,null,null,null,null,94200,94200,null,null,null,null,null,null,null,null,7812700,7906900,0,7906900,0,7906900,19.842436957157453,2261347,1696010.25,null,null,null,null,null,null,null,null,null,null,40203922,100.89210534033256,null,null,null,null,-923883.18000000715,94200,933424.39825000055,2.342436957157453,12690.58,null,0,null,30,null,645,"Dennis Yarmouth              ",1,null,39848432.009999998,32297022,7906900]
[650,"Dighton Rehoboth             ",1,31470516.579999998,20472580,12956936,null,12956936,30253157.109999999,20829156,9424001,0,31.15,2854,2665,0,null,null,null,null,null,null,null,79950,79950,null,null,null,null,null,null,null,null,12956936,13036886,0,13036886,0,13036886,43.092646339679817,797528,598146,null,null,null,null,null,null,null,null,null,null,33866042,111.94217475175768,null,null,null,null,-1217359.4699999988,79950,3613027.5602349993,11.942646339679818,11352.03,null,0,null,30,null,650,"Dighton Rehoboth             ",1,null,30253157.109999999,20829156,13036886]
[655,"Dover Sherborn               ",1,13502936.345999997,11139922,2363014,null,2363014,13714781.887829999,11314695,2400087,37073,17.5,1241,1229,1,null,null,null,null,null,null,null,36870,0,null,null,null,null,null,null,null,null,2376644,2413514,13427,2413514,0,2413514,17.597902903156378,139608,104706,null,null,null,null,null,null,null,null,null,null,13728209,100.09790248419419,null,null,null,null,211845.5418300014,50500,13427.169629750308,9.7902903156377619E-2,11159.3,null,0,null,41.090317331163547,null,655,"Dover Sherborn               ",1,null,13714781.887829999,11314695,2413514]
[658,"Dudley Charlton              ",1,39294595.160000004,17806070,24488263,null,24488263,38127347.499999993,18161627,19965721,0,50.22,3556,3338,0,null,null,null,null,null,null,null,100140,100140,null,null,null,null,null,null,null,null,24488263,24588403,0,24588403,0,24588403,64.490200898449615,1079272,809454,null,null,null,null,null,null,null,null,null,null,42750030,112.12432231221962,null,null,null,null,-1167247.6600000113,100140,5440849.0855000056,14.270200898449616,11422.21,null,0,null,30,null,658,"Dudley Charlton              ",1,null,38127347.499999993,18161627,24588403]
[660,"Nauset                       ",1,13928035.579999996,11407465,3526849,null,3526849,14203820.380142041,11718152,2485668,0,17.5,1196,1190.0000000119001,0,null,null,null,null,null,null,null,35700.000000357002,35700.000000357002,null,null,null,null,null,null,null,null,3526849,3562549.0000003572,1.6007106751203537E-10,3562549.0000003572,0,3562549.0000003572,25.081625257533219,576918,432688.5,null,null,null,null,null,null,null,null,null,null,15280701.000000358,107.58162656973523,null,null,null,null,275784.8001420442,35700.000000357162,1076880.4334755004,7.5816252575332186,11935.98,null,0,null,30.000000000000135,null,660,"Nauset                       ",1,null,14203820.380142041,11718152,3562549.0000003572]
[662,"Farmington River",1,2289345.04,1877720,494950,null,494950,2401167.8199999998,1929789,471379,0,17.5,208,210,0,null,null,null,null,null,null,null,6300,6300,null,null,null,null,null,null,null,null,494950,501250,0,501250,0,501250,20.875258939627138,99924,74943,null,null,null,null,null,null,null,null,null,null,2431039,101.24402716674756,null,null,null,null,111822.7799999998,6300,81045.631500000076,3.3752589396271375,11434.13,null,0,null,30,null,662,"Farmington River",1,null,2401167.8199999998,1929789,501250]
[665,"Freetown Lakeville           ",1,30420774.669999998,20383874,11102173,null,11102173,29972128.93,21075273,8896856,0,29.19,2826,2715,0,null,null,null,null,null,null,null,81450,81450,null,null,null,null,null,null,null,null,11102173,11183623,0,11183623,0,11183623,37.313408820972931,950703,713027.25,null,null,null,null,null,null,null,null,null,null,32258896,107.62964511243347,null,null,null,null,-448645.73999999836,81450,2434758.5653329995,8.12340882097293,11039.46,null,0,null,30,null,665,"Freetown Lakeville           ",1,null,29972128.93,21075273,11183623]
[670,"Frontier                     ",1,6668350.6099999994,5440174,2855535,null,2855535,6632212.3000000007,5462281,1169931,0,17.64,579,560,0,null,null,null,null,null,null,null,16800,16800,null,null,null,null,null,null,null,null,2855535,2872335,0,2872335,0,2872335,43.308851859280793,147542,110656.5,null,null,null,null,null,null,null,null,null,null,8334616,125.66871539983723,null,null,null,null,-36138.309999998659,16800,1702412.7502799998,25.668851859280792,11843.24,null,0,null,30,null,670,"Frontier                     ",1,null,6632212.3000000007,5462281,2872335]
[672,"Gateway                      ",1,10053035.289899468,5377560,5658699,null,5658699,9571816.2899999991,5202857,4368959,0,45.52,850.99999999148986,779.99999999999989,0,null,null,null,null,null,null,null,23399.999999999996,23399.999999999996,null,null,null,null,null,null,null,null,5658699,5682099,3.637978807091713E-12,5682099,0,5682099,59.362808769494265,541928,406446,null,null,null,null,null,null,null,null,null,null,10884956,113.71881438397311,null,null,null,null,-481218.99989946932,23400,1325008.2247919999,13.842808769494262,12271.56,null,0,null,30.000000000000004,null,672,"Gateway                      ",1,null,9571816.2899999991,5202857,5682099]
[673,"Groton Dunstable             ",1,24034914.079999994,19807347,10920053,null,10920053,23942924.109999999,19752913,4190011,0,17.5,2317,2253,0,null,null,null,null,null,null,null,67590,67590,null,null,null,null,null,null,null,null,10920053,10987643,0,10987643,0,10987643,45.890982026756298,153250,114937.5,null,null,null,null,null,null,null,null,null,null,30740556,128.39098457134943,null,null,null,null,-91989.969999995083,67590,6797631.2807500008,28.390982026756298,10627.13,null,0,null,30,null,673,"Groton Dunstable             ",1,null,23942924.109999999,19752913,10987643]
[674,"Gill Montague                ",1,13224252.970000001,6123497,7100756,null,7100756,12315586.93,6121493,6194094,0,50.3,1074,970,0,null,null,null,null,null,null,null,29100,29100,null,null,null,null,null,null,null,null,7100756,7129856,0,7129856,0,7129856,57.892945261359138,856707,642530.25,null,null,null,null,null,null,null,null,null,null,13251349,107.59819304852246,null,null,null,null,-908666.04000000097,29100,935115.77421000041,7.5929452613591408,12696.48,null,0,null,30,null,674,"Gill Montague                ",1,null,12315586.93,6121493,7129856]
[675,"Hamilton Wenham              ",1,18910528.193439998,15169999,3742189,null,3742189,17810621.373360001,14693763,3116858,0,17.5,1780,1640,0,null,null,null,null,null,null,null,49200,49200,null,null,null,null,null,null,null,null,3742189,3791389,0,3791389,0,3791389,21.287235972973516,290065,217548.75,null,null,null,null,null,null,null,null,null,null,18485152,103.78723803341819,null,null,null,null,-1099906.8200799972,49200,674530.259662,3.7872359729735159,10860.13,null,0,null,30,null,675,"Hamilton Wenham              ",1,null,17810621.373360001,14693763,3791389]
[680,"Hampden Wilbraham            ",1,31697327.079999998,22048457,11920364,null,11920364,31585780.640000001,21875416,9710365,0,30.74,2919,2806,0,null,null,null,null,null,null,null,84180,84180,null,null,null,null,null,null,null,null,11920364,12004544,0,12004544,0,12004544,38.006165295777222,969672,727254,null,null,null,null,null,null,null,null,null,null,33879960,107.26332961704504,null,null,null,null,-111546.43999999762,84180,2295075.0312639996,7.266165295777224,11256.51,null,0,null,30,null,680,"Hampden Wilbraham            ",1,null,31585780.640000001,21875416,12004544]
[683,"Hampshire                    ",1,7581893.040000001,5141694,3271593,null,3271593,7374767.3400000017,5149694,2225073,0,29.59,672,638,0,null,null,null,null,null,null,null,19140,19140,null,null,null,null,null,null,null,null,3271593,3290733,0,3290733,0,3290733,44.621516154840471,75841,56880.75,null,null,null,null,null,null,null,null,null,null,8440427,114.4500783668112,null,null,null,null,-207125.69999999925,19140,1108539.3440939994,15.031516154840471,11559.2,null,0,null,30,null,683,"Hampshire                    ",1,null,7374767.3400000017,5149694,3290733]
[685,"Hawlemont                    ",1,1210178.3199999998,645856,636346,null,636346,1109343.48,623228,486115,0,43.41,93.000000000000014,79,0,null,null,null,null,null,null,null,2370,2370,null,null,null,null,null,null,null,null,636346,638716,0,638716,0,638716,57.57603587303727,105901,79425.75,null,null,null,null,null,null,null,null,null,null,1261944,113.75593066991298,null,null,null,null,-100834.83999999985,2370,157149.99533200002,14.166035873037274,14042.32,null,0,null,30,null,685,"Hawlemont                    ",1,null,1109343.48,623228,638716]
[690,"King Philip                  ",1,22821189.415249996,18216801,7592980,null,7592980,23049668.422619991,18468698,4580970,0,19.21,2057,2024,0,null,null,null,null,null,null,null,60720,60720,null,null,null,null,null,null,null,null,7592980,7653700,0,7653700,0,7653700,33.205249896302092,161590,121192.5,null,null,null,null,null,null,null,null,null,null,26122398,113.33090576853834,null,null,null,null,228479.00736999512,60720,3225858.6960146995,13.995249896302091,11388.18,null,0,null,30,null,690,"King Philip                  ",1,null,23049668.422619991,18468698,7653700]
[695,"Lincoln Sudbury              ",1,17971715.490000002,14826665,3145998,null,3145998,18567078.93369,15317840,3249239,103241,17.5,1568,1586,1,null,null,null,null,null,null,null,47580,0,null,null,null,null,null,null,null,null,3217090,3264670,15431,3264670,0,3264670,17.583110470200296,171570,128677.5,null,null,null,null,null,null,null,null,null,null,18582510,100.08310982231028,null,null,null,null,595363.44368999824,118672,15431.186604250222,8.3110470200296049E-2,11706.86,null,0,null,74.824716267339213,null,695,"Lincoln Sudbury              ",1,null,{"$f":"I391","v":18567078.93369},{"$f":"J391","v":15317840},3264670]
[698,"Manchester Essex",1,14540612.442779997,11993491,3048668,null,3048668,13955728.954039998,11513477,2442252,0,17.5,1348,1253,0,null,null,null,null,null,null,null,37590,37590,null,null,null,null,null,null,null,null,3048668,3086258,0,3086258,0,3086258,22.114631275542003,196931,147698.25,null,null,null,null,null,null,null,null,null,null,14599735,104.61463566740862,null,null,null,null,-584883.48873999901,37590,644005.43304300029,4.6146312755420027,11137.85,null,0,null,30,null,698,"Manchester Essex",1,null,13955728.954039998,11513477,3086258]
[700,"Marthas Vineyard             ",1,10520255.699999999,8507902,2875680,null,2875680,11356631.380000001,9208964,2147667,0,{"$f":"ROUND(100-SUMIF(fraclea,A393,memeffpct),2)","v":17.5},711,737,0,null,null,null,null,null,null,null,22110,22110,null,null,null,null,null,null,null,null,2875680,2897790,0,2897790,0,2897790,25.516281219651592,107193,80394.75,null,null,null,null,null,null,null,null,null,null,12106754,106.60515072560186,null,null,null,null,836375.68000000156,22110,910379.5085,8.0162812196515922,15409.27,null,0,null,30,null,700,"Marthas Vineyard             ",1,null,11356631.380000001,9208964,{"$f":"AM393","v":2897790}]
[705,"Masconomet                   ",1,19718785.499960002,16147421,5201349,null,5201349,{"$f":"SUMIF(dist1755,A394,found1755)","v":19917641.032979999},{"$f":"SUMIF(dist1755,A394,prelcont1755)","v":16432054},{"$f":"ROUND(MAX(found-prelcont436,0),0)","v":3485587},{"$f":"IF(foundaid>priorc70,foundaid-priorc70,0)","v":0},17.5,1776,{"$f":"SUMIF(dist1755,A394,enro1755)","v":1732.9999999999998},{"$f":"IF(AND(C394=1,L394>0),1,0)","v":0},null,null,null,null,null,null,null,{"$f":"IF(nonop=1,enro*$X$6,0)","v":51989.999999999993},{"$f":"IF((foundinc)<X394,X394-(foundinc),0)","v":51989.999999999993},null,null,null,null,null,null,null,null,5201349,{"$f":"AH394+30*enro","v":5253339},{"$f":"IF(AI394-priorc70-foundinc-minaid>0,AI394-priorc70-foundinc-minaid,0)","v":7.2759576141834259E-12},{"$f":"priorc70+foundinc+minaidadjincrement+minaid","v":5253339},{"$f":"IF(AND(C394=0,AK394>found),AK394-found,0)","v":0},{"$f":"priorc70+foundinc+minaidadjincrement+minaid-rednonop","v":5253339},26.375307152596157,601297,450972.75,null,null,null,null,null,null,null,null,null,null,{"$f":"prelcont436+chapter70","v":21685393},{"$f":"IF(found>0,BA394*100/found,0)","v":108.87530789460924},null,null,null,null,{"$f":"I394-D394","v":198855.53301999718},51990,1767751.8192285006,8.8753071525961573,{"$f":"IFERROR(ROUND(I394/O394, 2), 0)","v":11493.16},null,{"$f":"VLOOKUP(A394, disthist, 37, FALSE)*$H$6","v":0},null,{"$f":"IFERROR(BH394/O394, 0)","v":30.000000000000004},null,{"$f":"A394","v":705},{"$f":"B394","v":"Masconomet                   "},{"$f":"C394","v":1},null,19917641.032979999,16432054,5253339]
[710,"Mendon Upton                 ",1,22739749.350000001,16799739,12448756,null,{"$f":"F395+G395","v":12448756},22568613.039999999,17158821,5409792,0,23.97,2177,2103,0,null,null,null,null,null,null,null,63090,63090,null,null,null,null,null,null,null,null,12448756,12511846,0,12511846,0,12511846,{"$f":"IF(C395=1, AM395/I395*100, 0)","v":55.439144522635672},208644,{"$f":"0.75*AO395","v":156483},null,null,null,null,null,null,null,null,null,null,29670667,131.46872139378931,null,null,null,null,-171136.31000000238,{"$f":"AM395-F395","v":63090},{"$f":"AM395-((M395/100)*I395)","v":7102149.4543120004},{"$f":"IF(C395=1, (AM395/I395*100)-M395, \"\")","v":31.469144522635673},10731.63,null,0,null,30,null,710,"Mendon Upton                 ",1,null,22568613.039999999,17158821,12511846]
[712,"Monomoy",1,21026943.91,17347229,3798314,null,3798314,20729799.109999996,17102084,3627715,0,17.5,1794,1732,0,null,null,null,null,null,null,null,51960,51960,null,null,null,null,null,null,null,null,3798314,3850274,0,3850274,0,3850274,18.573619452697152,643939,482954.25,null,null,null,null,null,null,null,null,null,null,20952358,101.07361817072623,null,null,null,null,-297144.80000000447,51960,222559.15575000085,1.0736194526971516,11968.71,null,0,null,30,null,712,"Monomoy",1,null,20729799.109999996,17102084,3850274]
[715,"Mount Greylock               ",1,11284468.84,8495288,3554057,null,3554057,11500528.649999999,8419929,3080600,0,26.79,1044,1014,0,null,null,null,null,null,null,null,30420,30420,null,null,null,null,null,null,null,null,3554057,3584477,0,3584477,0,3584477,31.167932441088265,401657,301242.75,null,null,null,null,null,null,null,null,null,null,12004406,104.38134076558299,null,null,null,null,216059.80999999866,30420,503485.37466500094,4.3779324410882658,11341.74,null,0,null,30,null,715,"Mount Greylock               ",1,null,11500528.649999999,8419929,3584477]
[717,"Mohawk Trail                 ",1,10427668.720104279,6461323,6056894,null,6056894,9653437.5200965349,6399937,3253501,0,32.700000000000003,901.00000000900991,816.00000000816021,0,null,null,null,null,null,null,null,24480.000000244807,24480.000000244807,null,null,null,null,null,null,null,null,6056894,6081374.0000002449,1.3096723705530167E-10,6081374.0000002449,0,6081374.0000002449,62.996978924243678,659402,494551.5,null,null,null,null,null,null,null,null,null,null,12481311.000000246,129.29395330955052,null,null,null,null,-774231.20000774413,24480.000000244938,2924699.9309286778,30.296978924243675,11830.19,null,0,null,30.00000000000016,null,717,"Mohawk Trail                 ",1,null,9653437.5200965349,6399937,6081374.0000002449]
[720,"Narragansett                 ",1,15197160.489999998,5910692,9951444,null,9951444,14598460.620000001,6100524,8497937,0,57.05,1302,1234,0,null,null,null,null,null,null,null,37020,37020,null,null,null,null,null,null,null,null,9951444,9988464,0,9988464,0,9988464,68.421351127362911,541234,405925.5,null,null,null,null,null,null,null,null,null,null,16088988,110.21016817319742,null,null,null,null,-598699.86999999732,37020,1660042.216289999,11.371351127362914,11830.19,null,0,null,30,null,720,"Narragansett                 ",1,null,14598460.620000001,6100524,9988464]
[725,"Nashoba                      ",1,33255128.344112549,26177398,7273744,null,7273744,34723714.57604,26891383,7832332,558588,20.57,3083.0000000308301,3138,1,null,null,null,null,null,null,null,94140,0,null,null,null,null,null,null,null,null,7663498,7757638,0,7832332,0,7832332,22.556146701552642,369968,277476,null,null,null,null,null,null,null,null,null,null,34723715,100.00000122095233,null,null,null,null,1468586.2319274507,558588,689663.91170857195,1.9861467015526415,11065.56,null,0,null,178.0076481835564,null,725,"Nashoba                      ",1,null,34723714.57604,26891383,7832332]
[728,"New Salem Wendell            ",1,1245264.42,622259,688101,null,688101,1353914.29,635181,718733,30632,53.09,109,106,1,null,null,null,null,null,null,null,3180,0,null,null,null,null,null,null,null,null,688101,691281,0,718733,0,718733,53.085561272863146,84977,63732.75,null,null,null,null,null,null,null,null,null,null,1353914,99.999978580623448,null,null,null,null,108649.87000000011,30632,-60.096561000100337,-4.4387271368577785E-3,12772.78,null,0,null,288.98113207547169,null,728,"New Salem Wendell            ",1,null,1353914.29,635181,718733]
[730,"Northboro Southboro          ",1,16134802.42,13311213,3168064,null,3168064,16287625.930000002,13329253,2958373,0,17.5,1414,1384,0,null,null,null,null,null,null,null,41520,41520,null,null,null,null,null,null,null,null,3168064,3209584,0,3209584,0,3209584,19.705658846746363,94213,70659.75,null,null,null,null,null,null,null,null,null,null,16538837,101.54234307123481,null,null,null,null,152823.51000000164,41520,359249.46224999987,2.2056588467463634,11768.52,null,0,null,30,null,730,"Northboro Southboro          ",1,null,16287625.930000002,13329253,3209584]
[735,"North Middlesex              ",1,34146333.740000002,19126198,20393183,null,20393183,33422849.950334229,19907456,13515394,0,40.08,3158,2991.0000000299101,0,null,null,null,null,null,null,null,89730.0000008973,89730.0000008973,null,null,null,null,null,null,null,null,20393183,20482913.000000898,4.9476511776447296E-10,20482913.000000898,0,20482913.000000898,61.284160478349833,967524,725643,null,null,null,null,null,null,null,null,null,null,40390369.000000894,120.84657370637238,null,null,null,null,-723483.78966577351,89730.000000897795,7087034.7399069387,21.204160478349834,11174.47,null,0,null,30.000000000000163,null,735,"North Middlesex              ",1,null,33422849.950334229,19907456,20482913.000000898]
[740,"Old Rochester                ",1,12077635.709879227,9154169,3043394,null,3043394,12024234.970120242,9307934,2716301,0,22.29,1087.9999999891199,1050.0000000104999,0,null,null,null,null,null,null,null,31500.000000314998,31500.000000314998,null,null,null,null,null,null,null,null,3043394,3074894.0000003148,0,3074894.0000003148,0,3074894.0000003148,25.572470994132328,115001,86250.75,null,null,null,null,null,null,null,null,null,null,12382828.000000315,102.98225234928594,null,null,null,null,-53400.739758985117,31500.000000314787,394692.02516051289,3.2824709941323285,11451.65,null,0,null,29.999999999999801,null,740,"Old Rochester                ",1,null,12024234.970120242,9307934,3074894.0000003148]
[745,"Pentucket                    ",1,24591001.459999997,18039518,13182092,null,13182092,24444965.639999993,18453629,5991337,0,23.39,2337,2269,0,null,null,null,null,null,null,null,68070,68070,null,null,null,null,null,null,null,null,13182092,13250162,0,13250162,0,13250162,54.204052462722153,862507,646880.25,null,null,null,null,null,null,null,null,null,null,31703791,129.69456151790283,null,null,null,null,-146035.82000000402,68070,7532484.5368040018,30.814052462722152,10773.45,null,0,null,30,null,745,"Pentucket                    ",1,null,24444965.639999993,18453629,13250162]
[750,"Pioneer                      ",1,7480877.54,4952541,4170581,null,4170581,7245225.1299275476,4988670,2256555,0,30.99,664,617.9999999938201,0,null,null,null,null,null,null,null,18539.999999814601,18539.999999814601,null,null,null,null,null,null,null,null,4170581,4189120.9999998147,6.5483618527650833E-11,4189120.9999998147,0,4189120.9999998147,57.81905910274601,273544,205158,null,null,null,null,null,null,null,null,null,null,9177790.9999998137,126.67364830513682,null,null,null,null,-235652.41007245239,18539.999999814667,1943825.7322352678,26.829059102746012,11723.67,null,0,null,30.000000000000103,null,750,"Pioneer                      ",1,null,7245225.1299275476,4988670,4189120.9999998147]
[753,"Quabbin                      ",1,21987482.310000002,10612170,16646098,null,16646098,22530972.919774689,10940487,11590486,0,50.14,1941.0000000000002,1913.9999999808599,0,null,null,null,null,null,null,null,57419.999999425796,57419.999999425796,null,null,null,null,null,null,null,null,16646098,16703517.999999426,5.0931703299283981E-10,16703517.999999426,0,16703517.999999426,74.135804341317652,709718,532288.5,null,null,null,null,null,null,null,null,null,null,27644004.999999426,122.6933479456504,null,null,null,null,543490.6097746864,57419.999999426305,5406488.1780243982,23.995804341317651,11771.67,null,0,null,30.000000000000266,null,753,"Quabbin                      ",1,null,22530972.919774689,10940487,16703517.999999426]
[755,"Ralph C Mahar                ",1,7840085.4000000013,2752972,5432010,null,5432010,8130945.5700000003,2919128,5211818,0,63.15,619,611,0,null,null,null,null,null,null,null,18330,18330,null,null,null,null,null,null,null,null,5432010,5450340,0,5450340,0,5450340,67.032056149897457,408312,306234,null,null,null,null,null,null,null,null,null,null,8369468,102.93351404146713,null,null,null,null,290860.16999999899,18330,315647.87254500017,3.8820561498974584,13307.6,null,0,null,30,null,755,"Ralph C Mahar                ",1,null,8130945.5700000003,2919128,5450340]
[760,"Silver Lake                  ",1,20918448.416320004,13276729,8215063,null,8215063,21601174.666719999,13815218,7785957,0,35.68,1722,1701,0,null,null,null,null,null,null,null,51030,51030,null,null,null,null,null,null,null,null,8215063,8266093,0,8266093,0,8266093,38.266868017762079,192589,144441.75,null,null,null,null,null,null,null,null,null,null,22081311,102.22273251657803,null,null,null,null,682726.2503999956,51030,558793.87891430408,2.5868680177620789,12699.1,null,0,null,30,null,760,"Silver Lake                  ",1,null,21601174.666719999,13815218,8266093]
[763,"Somerset Berkley",1,12334812.139999997,6312225,6024105,null,6024105,12624800.719999999,6632979,5991822,0,46.04,1027,1024,0,null,null,null,null,null,null,null,30720,30720,null,null,null,null,null,null,null,null,6024105,6054825,0,6054825,0,6054825,47.959766924542798,114231,85673.25,null,null,null,null,null,null,null,null,null,null,12687804,100.49904375837151,null,null,null,null,289988.58000000194,30720,242366.74851200078,1.9197669245427988,12328.91,null,0,null,30,null,763,"Somerset Berkley",1,null,12624800.719999999,6632979,6054825]
[765,"Southern Berkshire           ",1,7868392.9199999999,6306994,1986791,null,1986791,7953400.7199999997,6484386,1469015,0,17.5,671,670,0,null,null,null,null,null,null,null,20100,20100,null,null,null,null,null,null,null,null,1986791,2006891,0,2006891,0,2006891,25.233118142197668,561236,420927,null,null,null,null,null,null,null,null,null,null,8491277,106.76284647204348,null,null,null,null,85007.799999999814,20100,615045.87400000007,7.733118142197668,11870.75,null,0,null,30,null,765,"Southern Berkshire           ",1,null,7953400.7199999997,6484386,2006891]
[766,"Southwick Tolland Granville",1,16651613.440000001,10981419,9846558,null,9846558,15930923.920000002,11025436,4905488,0,30.79,1414,1321.0000000000002,0,null,null,null,null,null,null,null,39630.000000000007,39630.000000000007,null,null,null,null,null,null,null,null,9846558,9886188,0,9886188,0,9886188,62.05658911965979,909856,682392,null,null,null,null,null,null,null,null,null,null,20911624,131.2643516786062,null,null,null,null,-720689.51999999955,39630,4981056.5250319997,31.266589119659791,12059.75,null,0,null,29.999999999999996,null,766,"Southwick Tolland Granville",1,null,15930923.920000002,11025436,9886188]
[767,"Spencer East Brookfield      ",1,18621361.77,8878789,13695254,null,13695254,18861304.479999997,9141092,9720212,0,50.08,1552,1516,0,null,null,null,null,null,null,null,45480,45480,null,null,null,null,null,null,null,null,13695254,13740734,0,13740734,0,13740734,72.851451046613946,729534,547150.5,null,null,null,null,null,null,null,null,null,null,22881826,121.31624312763337,null,null,null,null,239942.70999999717,45480,4294992.7164160013,22.771451046613947,12441.49,null,0,null,30,null,767,"Spencer East Brookfield      ",1,null,18861304.479999997,9141092,13740734]
[770,"Tantasqua                    ",1,20061782.279999997,10777102,9284680,null,9284680,20411250.809999999,11214086,9197165,0,44.15,1572,1549,0,null,null,null,null,null,null,null,46470,46470,null,null,null,null,null,null,null,null,9284680,9331150,0,9331150,0,9331150,45.715718683092312,408955,306716.25,null,null,null,null,null,null,null,null,null,null,20545236,100.6564281201932,null,null,null,null,349468.53000000119,46470,319582.76738500036,1.5657186830923138,13177.05,null,0,null,30,null,770,"Tantasqua                    ",1,null,20411250.809999999,11214086,9331150]
[773,"Triton                       ",1,26062844.622510001,21501846,8777631,null,8777631,24877081.573399998,20523594,4353488,0,17.5,2290,2127,0,null,null,null,null,null,null,null,63810,63810,null,null,null,null,null,null,null,null,8777631,8841441,0,8841441,0,8841441,35.540507329661111,842220,631665,null,null,null,null,null,null,null,null,null,null,29365035,118.04051417107857,null,null,null,null,-1185763.0491100028,63810,4487951.7246550005,18.040507329661111,11695.85,null,0,null,30,null,773,"Triton                       ",1,null,24877081.573399998,20523594,8841441]
[774,"Upisland",1,4423020.3299557688,3648991,879292,null,879292,4420149.6000442002,3646624,773526,0,17.5,400.99999999598992,393.00000000392998,0,null,null,null,null,null,null,null,11790.0000001179,11790.0000001179,null,null,null,null,null,null,null,null,879292,891082.00000011793,2.9103830456733704E-11,891082.00000011793,0,891082.00000011793,20.159543921119941,174395,130796.25,null,null,null,null,null,null,null,null,null,null,4537706.0000001183,102.6595570420228,null,null,null,null,-2870.7299115685746,11790.000000117929,117555.81999238289,2.6595439211199405,11247.2,null,0,null,30.000000000000075,null,774,"Upisland",1,null,4420149.6000442002,3646624,891082.00000011793]
[775,"Wachusett                    ",1,73935156.649260655,44374979,29560178,null,29560178,73039971.010000005,45046149,27993822,0,38.25,7025.9999999297406,6728,0,null,null,null,null,null,null,null,201840,201840,null,null,null,null,null,null,null,null,29560178,29762018,0,29762018,0,29762018,40.747576413913471,607702,455776.5,null,null,null,null,null,null,null,null,null,null,74808167,102.42086075001031,null,null,null,null,-895185.63926064968,201840,1824229.088674996,2.4975764139134711,10856.12,null,0,null,30,null,775,"Wachusett                    ",1,null,73039971.010000005,45046149,29762018]
[778,"Quaboag",1,14111900.640000004,5557868,9158560,null,9158560,14319748.59,5789206,8530543,0,58.57,1175,1118,0,null,null,null,null,null,null,null,33540,33540,null,null,null,null,null,null,null,null,9158560,9192100,0,9192100,0,9192100,64.191769445024875,730475,547856.25,null,null,null,null,null,null,null,null,null,null,14981306,104.61989542513329,null,null,null,null,207847.94999999553,33540,805023.25083700009,5.6217694450248743,12808.36,null,0,null,30,null,778,"Quaboag",1,null,14319748.59,5789206,9192100]
[780,"Whitman Hanson               ",1,40183483.009999998,20355354,24776700,null,24776700,39973093.210000001,21150892,18822201,0,44.98,3659,3528,0,null,null,null,null,null,null,null,105840,105840,null,null,null,null,null,null,null,null,24776700,24882540,0,24882540,0,24882540,62.248222496264503,991704,743778,null,null,null,null,null,null,null,null,null,null,46033432,115.16104535158638,null,null,null,null,-210389.79999999702,105840,6902642.6741419993,17.268222496264507,11330.24,null,0,null,30,null,780,"Whitman Hanson               ",1,null,39973093.210000001,21150892,24882540]
[801,"Assabet Valley               ",1,16217721.547997823,10027775,6208186,null,6208186,17283904.1336,10896004,6387900,179714,35.380000000000003,871.99999999127999,891,1,null,null,null,null,null,null,null,26730,0,null,null,null,null,null,null,null,null,6208186,6234916,0,6387900,0,6387900,36.958663682830135,488792,366594,null,null,null,null,null,null,null,null,null,null,17283904,99.999999227026493,null,null,null,null,1066182.5856021773,179714,272854.71753231995,1.5786636828301326,19398.32,null,0,null,201.69921436588103,null,801,"Assabet Valley               ",1,null,17283904.1336,10896004,6387900]
[805,"Blackstone Valley            ",1,20447639.179795522,12329585,8264744,null,8264744,20959536.790000003,13031695,7927842,0,37.369999999999997,1241.9999999875804,1243,0,null,null,null,null,null,null,null,37290,37290,null,null,null,null,null,null,null,null,8264744,8302034,0,8302034,0,8302034,39.609816205294102,104530,78397.5,null,null,null,null,null,null,null,null,null,null,21333729,101.78530763226851,null,null,null,null,511897.61020448059,37290,469455.10157699976,2.2398162052941046,16862.060000000001,null,0,null,30,null,805,"Blackstone Valley            ",1,null,20959536.790000003,13031695,8302034]
[806,"Blue Hills                   ",1,15853872.642718541,10498516,5377315,null,5377315,16966137.121600002,11279014,5687123,309808,31.71,869.00000000868999,896,1,null,null,null,null,null,null,null,26880,0,null,null,null,null,null,null,null,null,5496063,5522943,0,5687123,0,5687123,33.520435201243224,373477,280107.75,null,null,null,null,null,null,null,null,null,null,16966137,99.999999283278214,null,null,null,null,1112264.4788814615,309808,307160.91874063946,1.810435201243223,18935.419999999998,null,0,null,345.76785714285717,null,806,"Blue Hills                   ",1,null,16966137.121600002,11279014,5687123]
[810,"Bristol Plymouth             ",1,23238134.84,11152285,12133330,null,12133330,24376709.289999999,12062465,12314244,180914,50.15,1342,1355,1,null,null,null,null,null,null,null,40650,0,null,null,null,null,null,null,null,null,12257136,12297786,0,12314244,0,12314244,50.516432934004115,591883,443912.25,null,null,null,null,null,null,null,null,null,null,24376709,99.999998810339832,null,null,null,null,1138574.4499999993,180914,89324.29106500186,0.36643293400411636,17990.189999999999,null,0,null,133.5158671586716,null,810,"Bristol Plymouth             ",1,null,24376709.289999999,12062465,12314244]
[815,"Cape Cod                     ",1,11419229.199999999,9275007,2184147,null,2184147,11894759.789881052,9750641,2144119,0,17.5,622.00000000000011,632.99999999366992,0,null,null,null,null,null,null,null,18989.999999810098,18989.999999810098,null,null,null,null,null,null,null,null,2184147,2203136.99999981,0,2203136.99999981,0,2203136.99999981,18.521912496913412,424013,318009.75,null,null,null,null,null,null,null,null,null,null,11953777.99999981,100.4961698358042,null,null,null,null,475530.58988105319,18989.99999981001,121554.03677062597,1.0219124969134121,18791.09,null,0,null,29.999999999999861,null,815,"Cape Cod                     ",1,null,11894759.789881052,9750641,2203136.99999981]
[817,"Essex North Shore",1,19917637.840199184,14966372,4972500,null,4972500,22189096.480000004,16759178,5429918,457418,{"$f":"ROUND(100-SUMIF(fraclea,A425,memeffpct),2)","v":22.95},1165.0000000116499,1224.9999999999998,1,null,null,null,null,null,null,null,36749.999999999993,0,null,null,null,null,null,null,null,null,5108382,5145132,0,5429918,0,5429918,24.471109064283986,523706,392779.5,null,null,null,null,null,null,null,null,null,null,22189096,99.99999783677535,null,null,null,null,2271458.6398008205,457418,337520.35783999972,1.5211090642839871,18113.55,null,0,null,373.4024489795919,null,817,"Essex North Shore",1,null,22189096.480000004,16759178,5429918]
[818,"Franklin County              ",1,8790347.6998241916,4547736,4242612,null,4242612,9182572.7899081744,4852138,4330435,87823,46.76,484.99999999029995,531.99999999468002,1,null,null,null,null,null,null,null,15959.9999998404,0,null,null,null,null,null,null,null,null,4242612,4258571.9999998407,0,4330435,0,4330435,47.159277678247562,376350,282262.5,null,null,null,null,null,null,null,null,null,null,9182573,100.00000228794076,null,null,null,null,392225.0900839828,87823,36663.963438938372,0.39927767824756444,17260.48,null,0,null,165.08082706931998,null,818,"Franklin County              ",1,null,9182572.7899081744,4852138,4330435]
[821,"Greater Fall River           ",1,26716946.030000001,8563722,18196847,null,18196847,28485071.659715146,8808001,19677071,1480224,66.59,1498,1497.9999999850199,1,null,null,null,null,null,null,null,44939.9999995506,0,null,null,null,null,null,null,null,null,18619700,18664639.999999549,0,19677071,0,19677071,69.078537821718697,1304041,978030.75,null,null,null,null,null,null,null,null,null,null,28485072,100.00000119460768,null,null,null,null,1768125.6297151446,1480224,708861.78179568425,2.488537821718694,19015.400000000001,null,0,null,988.13351135834603,null,821,"Greater Fall River           ",1,null,28485071.659715146,8808001,19677071]
[823,"Greater Lawrence             ",1,32861439.491759997,4907043,27954396,null,27954396,35742523.681359991,5882584,29859940,1905544,76.14,1594,1645,1,null,null,null,null,null,null,null,49350,0,null,null,null,null,null,null,null,null,28701251,28750601,0,29859940,0,29859940,83.541778600183719,2207679,1655759.25,null,null,null,null,null,null,null,null,null,null,35742524,100.00000089148716,null,null,null,null,2881084.1895999946,1905544,2645582.4690125026,7.401778600183718,21727.98,null,0,null,1158.3854103343465,null,823,"Greater Lawrence             ",1,null,35742523.681359991,5882584,29859940]
[825,"Greater New Bedford          ",1,38691322.399999999,11380986,27384112,null,27384112,41004770.449999996,12167593,28837177,1453065,66.510000000000005,2128,2123,1,null,null,null,null,null,null,null,63690,0,null,null,null,null,null,null,null,null,27400729,27464419,0,28837177,0,28837177,70.326395401147778,2039058,1529293.5,null,null,null,null,null,null,null,null,null,null,41004770,99.99999890256673,null,null,null,null,2313448.049999997,1453065,1564904.1737050004,3.8163954011477728,19314.54,null,0,null,684.4394724446538,null,825,"Greater New Bedford          ",1,null,41004770.449999996,12167593,28837177]
[828,"Greater Lowell               ",1,43544496.41956456,14050785,29582555,null,29582555,46253451.730000004,14497120,31756332,2173777,66.56,2351.99999997648,2373,1,null,null,null,null,null,null,null,71190,0,null,null,null,null,null,null,null,null,30340262,30411452,0,31756332,0,31756332,68.657215434157166,2229322,1671991.5,null,null,null,null,null,null,null,null,null,null,46253452,100.0000005837402,null,null,null,null,2708955.3104354441,2173777,970034.52851199731,2.0972154341571638,19491.55,null,0,null,916.04593341761483,null,828,"Greater Lowell               ",1,null,46253451.730000004,14497120,31756332]
[829,"South Middlesex              ",1,15367478.658029996,9170454,6197025,null,6197025,16506959.240074933,9997109,6509850,312825,38.39,798,816.99999999183001,1,null,null,null,null,null,null,null,24509.999999754902,0,null,null,null,null,null,null,null,null,6265093,6289602.9999997551,0,6509850,0,6509850,39.437002935075085,691215,518411.25,null,null,null,null,null,null,null,null,null,null,16506959,99.999998545613835,null,null,null,null,1139480.5820449367,312825,172828.34773523267,1.0470029350750849,20204.36,null,0,null,382.89473684593423,null,829,"South Middlesex              ",1,null,16506959.240074933,9997109,6509850]
[830,"Minuteman                    ",1,7604263.0698360428,5992288,1977748,null,1977748,9879216.3015900012,7854145,2025071,47323,18.96,409.00000000408994,491,1,null,null,null,null,null,null,null,14730,0,null,null,null,null,null,null,null,null,1977748,1992478,0,2025071,0,2025071,20.498296000200714,218957,164217.75,null,null,null,null,null,null,null,null,null,null,9879216,99.999996947227473,null,null,null,null,2274953.2317539584,47323,151971.58921853569,1.5382960002007131,20120.599999999999,null,0,null,96.380855397148679,null,830,"Minuteman                    ",1,null,9879216.3015900012,7854145,2025071]
[832,"Montachusett                 ",1,25382631.02025383,9937436,15445809,null,15445809,25842191.069741577,10450136,15392055,0,57.71,1470.0000000146999,1460.9999999853901,0,null,null,null,null,null,null,null,43829.999999561704,43829.999999561704,null,null,null,null,null,null,null,null,15445809,15489638.999999562,5.7480065152049065E-10,15489638.999999562,0,15489638.999999562,59.939340894883564,651823,488867.25,null,null,null,null,null,null,null,null,null,null,25939774.99999956,100.37761476956281,null,null,null,null,459560.04948774725,43829.999999562278,576110.53365169652,2.2293408948835634,17688.02,null,0,null,30.000000000000394,null,832,"Montachusett                 ",1,null,25842191.069741577,10450136,15489638.999999562]
[851,"Northern Berkshire           ",1,8244375,3172855,5071520,null,5071520,8569411.629999999,3265900,5303512,231992,61.26,461.00000000000006,462.99999999999994,1,null,null,null,null,null,null,null,13889.999999999998,0,null,null,null,null,null,null,null,null,5301298,5315188,11676,5315188,0,5315188,62.025121787737028,390166,292624.5,null,null,null,null,null,null,null,null,null,null,8581088,100.13625637913255,null,null,null,null,325036.62999999896,243668,65566.43546200078,0.76512178773702999,18508.45,null,0,null,526.28077753779701,null,851,"Northern Berkshire           ",1,null,8569411.629999999,3265900,5315188]
[852,"Nashoba Valley               ",1,11332310.899736676,8006848,3717284,null,3717284,11834029.31822166,8669388,3164641,0,26.65,653.99999999346005,666.99999999332999,0,null,null,null,null,null,null,null,20009.9999997999,20009.9999997999,null,null,null,null,null,null,null,null,3717284,3737293.9999997998,0,3737293.9999997998,0,3737293.9999997998,31.580908746315455,266955,200216.25,null,null,null,null,null,null,null,null,null,null,12406681.999999799,104.8390338267659,null,null,null,null,501718.41848498397,20009.999999799766,583525.18669372797,4.9309087463154562,17742.169999999998,null,0,null,29.999999999999797,null,852,"Nashoba Valley               ",1,null,11834029.31822166,8669388,3737293.9999997998]
[853,"Northeast Metropolitan       ",1,23843254.848850004,13124735,10745350,null,10745350,25549302.509195495,14354190,11195113,449763,40.76,1271,1281.0000000128102,1,null,null,null,null,null,null,null,38430.000000384309,0,null,null,null,null,null,null,null,null,10745350,10783780.000000384,0,11195113,0,11195113,43.817685418107786,921303,690977.25,null,null,null,null,null,null,null,null,null,null,25549303,100.00000192100941,null,null,null,null,1706047.660345491,449763,781217.29725191742,3.0576854181077877,19944.810000000001,null,0,null,351.10304449297604,null,853,"Northeast Metropolitan       ",1,null,25549302.509195495,14354190,11195113]
[855,"Old Colony                   ",1,7921696.2200000016,4845112,3282354,null,3282354,8764983.4000876509,5623411,3141572,0,35.450000000000003,467,498.00000000498,0,null,null,null,null,null,null,null,14940.000000149399,14940.000000149399,null,null,null,null,null,null,null,null,3282354,3297294.0000001495,7.8216544352471828E-11,3297294.0000001495,0,3297294.0000001495,37.618941753696603,143957,107967.75,null,null,null,null,null,null,null,null,null,null,8920705.000000149,101.77663314126688,null,null,null,null,843287.18008764926,14940.000000149477,190107.38466907712,2.1689417536966005,17600.37,null,0,null,30.000000000000156,null,855,"Old Colony                   ",1,null,8764983.4000876509,5623411,3297294.0000001495]
[860,"Pathfinder                   ",1,10484384.559895158,4455062,6051178,null,6051178,10504585.919894952,4550717,5953869,0,56.22,577.99999999422005,560.9999999943899,0,null,null,null,null,null,null,null,16829.999999831696,16829.999999831696,null,null,null,null,null,null,null,null,6051178,6068007.9999998314,0,6068007.9999998314,0,6068007.9999998314,57.76532312908639,441098,330823.5,null,null,null,null,null,null,null,null,null,null,10618724.999999832,101.08656429653936,null,null,null,null,20201.359999794513,16829.999999831431,162329.7958348887,1.5453231290863911,18724.75,null,0,null,29.999999999999524,null,860,"Pathfinder                   ",1,null,10504585.919894952,4550717,6068007.9999998314]
[871,"Shawsheen Valley             ",1,21443569.573314432,17321815,6470511,null,6470511,22462074.314639993,18531211,3930863,0,17.5,1275.0000000127498,1315,0,null,null,null,null,null,null,null,39450,39450,null,null,null,null,null,null,null,null,6470511,6509961,0,6509961,0,6509961,28.982011673592567,307659,230744.25,null,null,null,null,null,null,null,null,null,null,25041172,111.48201029536725,null,null,null,null,1018504.741325561,39450,2579097.9949380015,11.482011673592567,17081.43,null,0,null,30,null,871,"Shawsheen Valley             ",1,null,22462074.314639993,18531211,6509961]
[872,"Southeastern                 ",1,26978734.039999999,10323654,16871155,null,16871155,31128039.329999998,11821457,19306582,2435427,60.28,1516.9999999999998,1623.9999999999995,1,null,null,null,null,null,null,null,48719.999999999985,0,null,null,null,null,null,null,null,null,18112506,18161226,0,19306582,0,19306582,62.02312261085158,788324,591243,null,null,null,null,null,null,null,null,null,null,31128039,99.999998939862564,null,null,null,null,4149305.2899999991,2435427,542599.89187600091,1.7431226108515787,19167.509999999998,null,0,null,1499.6471674876852,null,872,"Southeastern                 ",1,null,31128039.329999998,11821457,19306582]
[873,"South Shore                  ",1,9696307.4090200011,5540283,4442848,null,4442848,10325457.111199999,6046558,4278899,0,40.479999999999997,544,561,0,null,null,null,null,null,null,null,16830,16830,null,null,null,null,null,null,null,null,4442848,4459678,0,4459678,0,4459678,43.19109509604759,207722,155791.5,null,null,null,null,null,null,null,null,null,null,10506236,101.75080760932038,null,null,null,null,629149.70217999816,16830,279932.96138624055,2.7110950960475932,18405.45,null,0,null,30,null,873,"South Shore                  ",1,null,10325457.111199999,6046558,4459678]
[876,"Southern Worcester           ",1,20163226.599596739,8939018,11243208,null,11243208,21398161.38021398,9827933,11570228,327020,53.26,1176.99999997646,1200.0000000119999,1,null,null,null,null,null,null,null,36000.00000036,0,null,null,null,null,null,null,null,null,11419626,11455626.000000359,0,11570228,0,11570228,54.07113160058006,447033,335274.75,null,null,null,null,null,null,null,null,null,null,21398161,99.999998223146505,null,null,null,null,1234934.7806172408,327020,173567.24889803492,0.81113160058006173,17831.8,null,0,null,272.51666666394152,null,876,"Southern Worcester           ",1,null,21398161.38021398,9827933,11570228]
[878,"Tri County                   ",1,16446455.91653554,11583064,5716838,null,5716838,16878174.208749998,12186252,4691922,0,27.41,929.99999999069996,905,0,null,null,null,null,null,null,null,27150,27150,null,null,null,null,null,null,null,null,5716838,5743988,0,5743988,0,5743988,34.032045936711548,275862,206896.5,null,null,null,null,null,null,null,null,null,null,17930240,106.23329145817554,null,null,null,null,431718.29221445881,27150,1117680.4493816253,6.6220459367115474,18649.919999999998,null,0,null,30,null,878,"Tri County                   ",1,null,16878174.208749998,12186252,5743988]
[879,"Upper Cape Cod               ",1,12856564.119999999,9721410,3262258,null,3262258,13559352.080135591,10291927,3267425,5167,23.28,742,761.00000000760997,1,null,null,null,null,null,null,null,22830.000000228298,17663.000000228298,null,null,null,null,null,null,null,null,3262258,3285088.0000002282,0,3285088.0000002282,0,3285088.0000002282,24.227470314107943,304600,228450,null,null,null,null,null,null,null,null,null,null,13577015.000000227,100.13026374534896,null,null,null,null,702787.96013559215,22830.000000228174,128470.83574466221,0.94747031410794236,17817.810000000001,null,0,null,29.999999999999837,null,879,"Upper Cape Cod               ",1,null,13559352.080135591,10291927,3285088.0000002282]
[885,"Whittier                     ",1,22219393.409999993,11408976,10835866,null,10835866,22952998.610688582,11920834,{"$f":"ROUND(MAX(found-prelcont436,0),0)","v":11032165},196299,46.42,1256.0000000000002,1244.0000000373198,1,null,null,null,null,null,null,null,37320.000001119595,0,null,null,null,null,null,null,null,null,10835866,10873186.000001119,0,11032165,0,11032165,48.064155743305029,829794,622345.5,null,null,null,null,null,null,null,null,null,null,22952999,100.00000169612443,null,null,null,null,733605.20068858936,196299,377383.04491836019,1.6441557433050278,18450.96,null,0,null,157.79662378947836,null,885,"Whittier                     ",1,null,22952998.610688582,11920834,11032165]
[910,"Bristol County               ",1,6594994.5600000005,3396297,3238896,null,3238896,6763678.7001352767,3494613,3269066,30170,47.08,378,382.00000000763993,1,null,null,null,null,null,null,null,11460.000000229198,0,null,null,null,null,null,null,null,null,3280315,3291775.0000002291,22709.000000229105,3291775.0000002291,0,3291775.0000002291,48.668411761404222,214976,161232,null,null,null,null,null,null,null,null,null,null,6786388.0000002291,100.33575367594706,null,null,null,null,168684.14013527613,52879.000000229105,107435.06797654089,1.5884117614042239,17705.97,null,0,null,138.42670156851187,null,910,"Bristol County               ",1,null,6763678.7001352767,3494613,3291775.0000002291]
[915,"Norfolk County               ",1,4921619.8021892179,3697896,1291559,null,1291559,5265256.8063499974,4000592,1264665,0,22.7,274.00000000274008,284.00000000000006,0,null,null,null,null,null,null,null,8520.0000000000018,8520.0000000000018,null,null,null,null,null,null,null,null,1291559,1300079,0,1300079,0,1300079,24.6916541360733,135101,101325.75,null,null,null,null,null,null,null,null,null,null,5300671,100.67260145046092,null,null,null,null,343637.00416077953,8520,104865.70495855063,1.9916541360733007,18539.64,null,0,null,29.999999999999993,null,915,"Norfolk County               ",1,null,5265256.8063499974,4000592,1300079]
[999,"State total (excluding Devens)",null,11626531095.326303,6705321561,5283343073.4799995,{"$f":"SUM(G10:G447)","v":0},5283343073.4799995,11883557788.563417,6810206787,5073351019,176740387.40000001,41,938084.99999988743,{"$f":"SUM(O10:O447)","v":907506.00000004878},{"$f":"SUM(P10:P447)","v":76},{"$f":"SUM(Q10:Q447)","v":0},0,0,0,0,0,null,null,17246617.000000212,{"$f":"SUM(Z10:Z447)","v":0},null,{"$f":"SUM(AB10:AB447)","v":0},{"$f":"SUM(AC10:AC447)","v":0},{"$f":"SUM(AD10:AD447)","v":0},{"$f":"SUM(AE10:AE447)","v":0},{"$f":"SUM(AF10:AF447)","v":0},null,5298281097.8000002,{"$f":"SUM(AI10:AI447)","v":5325506277.8000011},3697393.000000231,5481027470.8800001,{"$f":"SUM(AL10:AL447)","v":31386.199999999997},{"$f":"SUM(AM10:AM447)","v":5480996084.6800003},null,{"$f":"SUM(AO10:AO447)","v":658408904},{"$f":"SUM(AP10:AP447)","v":493806678},null,null,null,null,null,null,null,null,null,null,{"$f":"SUM(BA10:BA447)","v":12291202871.68},103.43032861344685,null,null,null,null,null,197653011.20000076,null,null,null,null,{"$f":"SUM(BM10:BM447)","v":0},null,217.79802139048132,null,{"$f":"A448","v":999},{"$f":"B448","v":"State total (excluding Devens)"},null,null,11883557788.563417,6810206787,5480996084.6800003]
[352,"Devens",0,null,null,null,null,null,null,null,null,null,null,null,null,null,null,null,null,null,null,null,null,null,null,null,null,null,null,null,null,null,null,null,null,null,null,null,null,null,null,null,null,null,null,null,null,null,null,null,null,null,null,null,null,null,null,null,null,null,{"$f":"SUMIF(BI10:BI447, \">0\")","v":608751569.37864006}]
[null,null,null,null,null,null,null,null,null,null,null,null,null,null,null,null,null,null,null,null,null,null,null,null,null,null,null,null,null,null,null,null,null,null,null,{"$f":"COUNTIF(AJ10:AJ447, \">0\")","v":80},null,null,null,null,null,{"$f":"AP448/AO448","v":0.75},null,null,null,null,null,null,null,null,null,null,null,null,null,null,null,null,null,null,{"$f":"SUMIF(BI10:BI447, \"<0\")","v":-5953.7543275094358}]
[null,null,null,null,null,null,null,null,null,null,null,{"$f":"COUNTIF(L10:L447, \">0\")","v":90}]
[null,null,null,null,null,null,null,null,null,null,null,null,null,null,null,null,null,null,null,null,null,null,null,null,null,null,null,null,null,null,null,null,null,null,null,null,null,null,null,null,null,null,null,"ESSER dollars permissible for NSS"]

{"sheet":"ceyregionalcalc","index":14,"n_rows":813,"n_cols":8,"rows_kept":813,"cut":false,"hidden":true,"merged":[]}
[null,null,null,null,null,"Total CEY for town","FB for school district/town combo","CEY*% of town's fb"]
["Calculation of CEY as a % of Foundation"]
[]
[]
[]
[]
[null,null,null,null,null,{"$f":"CYr&\" Total\"","v":"FY22 Total"},{"$f":"CYr&\" Proportional\"","v":"FY22 Proportional"},{"$f":"CYr&\" Prop\"","v":"FY22 Prop"}]
[null,null,null,null,null,"CEY","Foundation","CEY"]
["Order","LEA","City or Town","LEA","School District","Members","Members","Members"]
[1,1,"Abington                     ",1,"Abington",{"$f":"VLOOKUP(B10, town351, 7)","v":16926479},{"$f":"VLOOKUP(A10, localcont!$D$10:$L$1764, 8)","v":26452103.926830001},{"$f":"VLOOKUP(A10, localcont!$D$10:$L$1764, 9)*F10","v":15949858.762721816}]
[2,1,"Abington                     ",873,"South Shore",16926479,{"$f":"VLOOKUP(A11, localcont!$D$10:$L$1764, 8)","v":1619679.5468751478},{"$f":"VLOOKUP(A11, localcont!$D$10:$L$1764, 9)*F11","v":976620.23727818322}]
[6,2,"Acton                        ",2,"Acton",39771854,{"$f":"VLOOKUP(A12, localcont!$D$10:$L$1764, 8)","v":0},{"$f":"VLOOKUP(A12, localcont!$D$10:$L$1764, 9)*F12","v":0}]
[7,2,"Acton                        ",600,"Acton Boxborough",39771854,{"$f":"VLOOKUP(A13, localcont!$D$10:$L$1764, 8)","v":48349121.190506063},{"$f":"VLOOKUP(A13, localcont!$D$10:$L$1764, 9)*F13","v":38787228.67206531}]
[8,2,"Acton                        ",830,"Minuteman",39771854,{"$f":"VLOOKUP(A14, localcont!$D$10:$L$1764, 8)","v":1227356.8114404122},{"$f":"VLOOKUP(A14, localcont!$D$10:$L$1764, 9)*F14","v":984625.32793469215}]
[11,3,"Acushnet                     ",3,"Acushnet",9425119,{"$f":"VLOOKUP(A15, localcont!$D$10:$L$1764, 8)","v":13465052.850000001},{"$f":"VLOOKUP(A15, localcont!$D$10:$L$1764, 9)*F15","v":7845282.436015089}]
[12,3,"Acushnet                     ",855,"Old Colony",9425119,{"$f":"VLOOKUP(A16, localcont!$D$10:$L$1764, 8)","v":2534453.0313601503},{"$f":"VLOOKUP(A16, localcont!$D$10:$L$1764, 9)*F16","v":1476674.4752758236}]
[13,3,"Acushnet                     ",910,"Bristol County",9425119,{"$f":"VLOOKUP(A17, localcont!$D$10:$L$1764, 8)","v":177059.65182431601},{"$f":"VLOOKUP(A17, localcont!$D$10:$L$1764, 9)*F17","v":103162.08870908763}]
[16,4,"Adams                        ",4,"Adams",4501660,{"$f":"VLOOKUP(A18, localcont!$D$10:$L$1764, 8)","v":0},{"$f":"VLOOKUP(A18, localcont!$D$10:$L$1764, 9)*F18","v":0}]
[17,4,"Adams                        ",603,"Hoosac Valley",4501660,{"$f":"VLOOKUP(A19, localcont!$D$10:$L$1764, 8)","v":11078986.690777849},{"$f":"VLOOKUP(A19, localcont!$D$10:$L$1764, 9)*F19","v":3658275.7324582487}]
[18,4,"Adams                        ",851,"Northern Berkshire",4501660,{"$f":"VLOOKUP(A20, localcont!$D$10:$L$1764, 8)","v":2554165.8854204821},{"$f":"VLOOKUP(A20, localcont!$D$10:$L$1764, 9)*F20","v":843384.26754175115}]
[21,5,"Agawam                       ",5,"Agawam",23315754,{"$f":"VLOOKUP(A21, localcont!$D$10:$L$1764, 8)","v":42757064.969999991},{"$f":"VLOOKUP(A21, localcont!$D$10:$L$1764, 9)*F21","v":23315754}]
[26,6,"Alford                       ",6,"Alford",1193881,{"$f":"VLOOKUP(A22, localcont!$D$10:$L$1764, 8)","v":0},{"$f":"VLOOKUP(A22, localcont!$D$10:$L$1764, 9)*F22","v":0}]
[27,6,"Alford                       ",765,"Southern Berkshire",1193881,{"$f":"VLOOKUP(A23, localcont!$D$10:$L$1764, 8)","v":242763.68473599819},{"$f":"VLOOKUP(A23, localcont!$D$10:$L$1764, 9)*F23","v":1193881}]
[31,7,"Amesbury                     ",7,"Amesbury",19017086,{"$f":"VLOOKUP(A24, localcont!$D$10:$L$1764, 8)","v":22433070.579999998},{"$f":"VLOOKUP(A24, localcont!$D$10:$L$1764, 9)*F24","v":17492060.31346567}]
[32,7,"Amesbury                     ",885,"Whittier",19017086,{"$f":"VLOOKUP(A25, localcont!$D$10:$L$1764, 8)","v":1955802.1324681451},{"$f":"VLOOKUP(A25, localcont!$D$10:$L$1764, 9)*F25","v":1525025.6865343296}]
[36,8,"Amherst                      ",8,"Amherst",20272766,{"$f":"VLOOKUP(A26, localcont!$D$10:$L$1764, 8)","v":12729208.74},{"$f":"VLOOKUP(A26, localcont!$D$10:$L$1764, 9)*F26","v":9839702.8263504189}]
[37,8,"Amherst                      ",605,"Amherst Pelham",20272766,{"$f":"VLOOKUP(A27, localcont!$D$10:$L$1764, 8)","v":13496814.007364701},{"$f":"VLOOKUP(A27, localcont!$D$10:$L$1764, 9)*F27","v":10433063.173649581}]
[41,9,"Andover                      ",9,"Andover",75768197,{"$f":"VLOOKUP(A28, localcont!$D$10:$L$1764, 8)","v":64651081.727839999},{"$f":"VLOOKUP(A28, localcont!$D$10:$L$1764, 9)*F28","v":74614675.739946276}]
[42,9,"Andover                      ",823,"Greater Lawrence",75768197,{"$f":"VLOOKUP(A29, localcont!$D$10:$L$1764, 8)","v":999486.98455052229},{"$f":"VLOOKUP(A29, localcont!$D$10:$L$1764, 9)*F29","v":1153521.2600537182}]
[46,10,"Arlington                    ",10,"Arlington",84695625,{"$f":"VLOOKUP(A30, localcont!$D$10:$L$1764, 8)","v":64290460.96402999},{"$f":"VLOOKUP(A30, localcont!$D$10:$L$1764, 9)*F30","v":80321649.659634992}]
[47,10,"Arlington                    ",830,"Minuteman",84695625,{"$f":"VLOOKUP(A31, localcont!$D$10:$L$1764, 8)","v":3500985.0030344157},{"$f":"VLOOKUP(A31, localcont!$D$10:$L$1764, 9)*F31","v":4373975.3403650094}]
[51,11,"Ashburnham                   ",11,"Ashburnham",5907294,{"$f":"VLOOKUP(A32, localcont!$D$10:$L$1764, 8)","v":0},{"$f":"VLOOKUP(A32, localcont!$D$10:$L$1764, 9)*F32","v":0}]
[52,11,"Ashburnham                   ",610,"Ashburnham Westminster",5907294,{"$f":"VLOOKUP(A33, localcont!$D$10:$L$1764, 8)","v":11214469.572675183},{"$f":"VLOOKUP(A33, localcont!$D$10:$L$1764, 9)*F33","v":5319933.6375945285}]
[53,11,"Ashburnham                   ",832,"Montachusett",5907294,{"$f":"VLOOKUP(A34, localcont!$D$10:$L$1764, 8)","v":1238161.1052144624},{"$f":"VLOOKUP(A34, localcont!$D$10:$L$1764, 9)*F34","v":587360.3624054722}]
[56,12,"Ashby                        ",12,"Ashby",2716892,{"$f":"VLOOKUP(A35, localcont!$D$10:$L$1764, 8)","v":0},{"$f":"VLOOKUP(A35, localcont!$D$10:$L$1764, 9)*F35","v":0}]
[57,12,"Ashby                        ",735,"North Middlesex",2716892,{"$f":"VLOOKUP(A36, localcont!$D$10:$L$1764, 8)","v":3900073.2489122599},{"$f":"VLOOKUP(A36, localcont!$D$10:$L$1764, 9)*F36","v":2326492.1292839558}]
[58,12,"Ashby                        ",832,"Montachusett",2716892,{"$f":"VLOOKUP(A37, localcont!$D$10:$L$1764, 8)","v":654456.58422539639},{"$f":"VLOOKUP(A37, localcont!$D$10:$L$1764, 9)*F37","v":390399.87071604375}]
[61,13,"Ashfield                     ",13,"Ashfield",1568298,{"$f":"VLOOKUP(A38, localcont!$D$10:$L$1764, 8)","v":134486.55000000002},{"$f":"VLOOKUP(A38, localcont!$D$10:$L$1764, 9)*F38","v":120319.45925018578}]
[62,13,"Ashfield                     ",717,"Mohawk Trail",1568298,{"$f":"VLOOKUP(A39, localcont!$D$10:$L$1764, 8)","v":1618471.6888941326},{"$f":"VLOOKUP(A39, localcont!$D$10:$L$1764, 9)*F39","v":1447978.5407498141}]
[66,14,"Ashland                      ",14,"Ashland",24455765,{"$f":"VLOOKUP(A40, localcont!$D$10:$L$1764, 8)","v":30071220.670000002},{"$f":"VLOOKUP(A40, localcont!$D$10:$L$1764, 9)*F40","v":23461455.995342359}]
[67,14,"Ashland                      ",829,"South Middlesex",24455765,{"$f":"VLOOKUP(A41, localcont!$D$10:$L$1764, 8)","v":1274434.353058215},{"$f":"VLOOKUP(A41, localcont!$D$10:$L$1764, 9)*F41","v":994309.00465763884}]
[71,15,"Athol                        ",15,"Athol",6489346,{"$f":"VLOOKUP(A42, localcont!$D$10:$L$1764, 8)","v":0},{"$f":"VLOOKUP(A42, localcont!$D$10:$L$1764, 9)*F42","v":0}]
[72,15,"Athol                        ",615,"Athol Royalston",6489346,{"$f":"VLOOKUP(A43, localcont!$D$10:$L$1764, 8)","v":19913335.03779725},{"$f":"VLOOKUP(A43, localcont!$D$10:$L$1764, 9)*F43","v":5897409.8408373957}]
[73,15,"Athol                        ",832,"Montachusett",6489346,{"$f":"VLOOKUP(A44, localcont!$D$10:$L$1764, 8)","v":1998745.7844235655},{"$f":"VLOOKUP(A44, localcont!$D$10:$L$1764, 9)*F44","v":591936.1591626032}]
[76,16,"Attleboro                    ",16,"Attleboro",39392370,{"$f":"VLOOKUP(A45, localcont!$D$10:$L$1764, 8)","v":80551906.579999998},{"$f":"VLOOKUP(A45, localcont!$D$10:$L$1764, 9)*F45","v":39219952.698802553}]
[77,16,"Attleboro                    ",910,"Bristol County",39392370,{"$f":"VLOOKUP(A46, localcont!$D$10:$L$1764, 8)","v":354119.30364863202},{"$f":"VLOOKUP(A46, localcont!$D$10:$L$1764, 9)*F46","v":172417.30119744421}]
[81,17,"Auburn                       ",17,"Auburn",16498819,{"$f":"VLOOKUP(A47, localcont!$D$10:$L$1764, 8)","v":27321855.580000002},{"$f":"VLOOKUP(A47, localcont!$D$10:$L$1764, 9)*F47","v":15497479.634124253}]
[82,17,"Auburn                       ",876,"Southern Worcester",16498819,{"$f":"VLOOKUP(A48, localcont!$D$10:$L$1764, 8)","v":1765348.31385},{"$f":"VLOOKUP(A48, localcont!$D$10:$L$1764, 9)*F48","v":1001339.3658757479}]
[86,18,"Avon                         ",18,"Avon",5474827,{"$f":"VLOOKUP(A49, localcont!$D$10:$L$1764, 8)","v":6999174.9000000004},{"$f":"VLOOKUP(A49, localcont!$D$10:$L$1764, 9)*F49","v":4667922.7717102626}]
[87,18,"Avon                         ",806,"Blue Hills",5474827,{"$f":"VLOOKUP(A50, localcont!$D$10:$L$1764, 8)","v":1117189.8328566407},{"$f":"VLOOKUP(A50, localcont!$D$10:$L$1764, 9)*F50","v":745081.51826791686}]
[88,18,"Avon                         ",915,"Norfolk County",5474827,{"$f":"VLOOKUP(A51, localcont!$D$10:$L$1764, 8)","v":92698.183195555597},{"$f":"VLOOKUP(A51, localcont!$D$10:$L$1764, 9)*F51","v":61822.71002182037}]
[91,19,"Ayer                         ",19,"Ayer",8932849,{"$f":"VLOOKUP(A52, localcont!$D$10:$L$1764, 8)","v":0},{"$f":"VLOOKUP(A52, localcont!$D$10:$L$1764, 9)*F52","v":0}]
[92,19,"Ayer                         ",616,"Ayer Shirley",8932849,{"$f":"VLOOKUP(A53, localcont!$D$10:$L$1764, 8)","v":10909506.047912473},{"$f":"VLOOKUP(A53, localcont!$D$10:$L$1764, 9)*F53","v":8150767.1328275781}]
[93,19,"Ayer                         ",852,"Nashoba Valley",8932849,{"$f":"VLOOKUP(A54, localcont!$D$10:$L$1764, 8)","v":1046788.2005261417},{"$f":"VLOOKUP(A54, localcont!$D$10:$L$1764, 9)*F54","v":782081.86717242049}]
[96,20,"Barnstable                   ",20,"Barnstable",80062556,{"$f":"VLOOKUP(A55, localcont!$D$10:$L$1764, 8)","v":65035356.480000012},{"$f":"VLOOKUP(A55, localcont!$D$10:$L$1764, 9)*F55","v":76314069.298909485}]
[97,20,"Barnstable                   ",815,"Cape Cod",80062556,{"$f":"VLOOKUP(A56, localcont!$D$10:$L$1764, 8)","v":3194485.2516132938},{"$f":"VLOOKUP(A56, localcont!$D$10:$L$1764, 9)*F56","v":3748486.7010905193}]
[101,21,"Barre                        ",21,"Barre",3807505,{"$f":"VLOOKUP(A57, localcont!$D$10:$L$1764, 8)","v":0},{"$f":"VLOOKUP(A57, localcont!$D$10:$L$1764, 9)*F57","v":0}]
[102,21,"Barre                        ",753,"Quabbin",3807505,{"$f":"VLOOKUP(A58, localcont!$D$10:$L$1764, 8)","v":8465059.3059363849},{"$f":"VLOOKUP(A58, localcont!$D$10:$L$1764, 9)*F58","v":3460432.1166946474}]
[103,21,"Barre                        ",832,"Montachusett",3807505,{"$f":"VLOOKUP(A59, localcont!$D$10:$L$1764, 8)","v":849024.75806069956},{"$f":"VLOOKUP(A59, localcont!$D$10:$L$1764, 9)*F59","v":347072.88330535253}]
[106,22,"Becket                       ",22,"Becket",2609613,{"$f":"VLOOKUP(A60, localcont!$D$10:$L$1764, 8)","v":207463.95000000004},{"$f":"VLOOKUP(A60, localcont!$D$10:$L$1764, 9)*F60","v":211270.50043047816}]
[107,22,"Becket                       ",635,"Central Berkshire",2609613,{"$f":"VLOOKUP(A61, localcont!$D$10:$L$1764, 8)","v":2355130.5430703014},{"$f":"VLOOKUP(A61, localcont!$D$10:$L$1764, 9)*F61","v":2398342.4995695218}]
[111,23,"Bedford                      ",23,"Bedford",30064970,{"$f":"VLOOKUP(A62, localcont!$D$10:$L$1764, 8)","v":30686041.444819998},{"$f":"VLOOKUP(A62, localcont!$D$10:$L$1764, 9)*F62","v":29394116.77561225}]
[112,23,"Bedford                      ",871,"Shawsheen Valley",30064970,{"$f":"VLOOKUP(A63, localcont!$D$10:$L$1764, 8)","v":700338.43861004256},{"$f":"VLOOKUP(A63, localcont!$D$10:$L$1764, 9)*F63","v":670853.22438774735}]
[116,24,"Belchertown                  ",24,"Belchertown",13627477,{"$f":"VLOOKUP(A64, localcont!$D$10:$L$1764, 8)","v":24762062.589999996},{"$f":"VLOOKUP(A64, localcont!$D$10:$L$1764, 9)*F64","v":12813563.11423392}]
[117,24,"Belchertown                  ",860,"Pathfinder",13627477,{"$f":"VLOOKUP(A65, localcont!$D$10:$L$1764, 8)","v":1572879.1751781779},{"$f":"VLOOKUP(A65, localcont!$D$10:$L$1764, 9)*F65","v":813913.88576607965}]
[121,25,"Bellingham                   ",25,"Bellingham",18441385,{"$f":"VLOOKUP(A66, localcont!$D$10:$L$1764, 8)","v":24764847.16},{"$f":"VLOOKUP(A66, localcont!$D$10:$L$1764, 9)*F66","v":17317797.6550094}]
[122,25,"Bellingham                   ",805,"Blackstone Valley",18441385,{"$f":"VLOOKUP(A67, localcont!$D$10:$L$1764, 8)","v":1180343.9865672921},{"$f":"VLOOKUP(A67, localcont!$D$10:$L$1764, 9)*F67","v":825402.15938403155}]
[123,25,"Bellingham                   ",915,"Norfolk County",18441385,{"$f":"VLOOKUP(A68, localcont!$D$10:$L$1764, 8)","v":426411.64275220834},{"$f":"VLOOKUP(A68, localcont!$D$10:$L$1764, 9)*F68","v":298185.18560656847}]
[126,26,"Belmont                      ",26,"Belmont",69105733,{"$f":"VLOOKUP(A69, localcont!$D$10:$L$1764, 8)","v":50621827.421319984},{"$f":"VLOOKUP(A69, localcont!$D$10:$L$1764, 9)*F69","v":69105733}]
[131,27,"Berkley                      ",27,"Berkley",7039055,{"$f":"VLOOKUP(A70, localcont!$D$10:$L$1764, 8)","v":7936943.7699999996},{"$f":"VLOOKUP(A70, localcont!$D$10:$L$1764, 9)*F70","v":4234021.8687344668}]
[132,27,"Berkley                      ",763,"Somerset Berkley",7039055,{"$f":"VLOOKUP(A71, localcont!$D$10:$L$1764, 8)","v":3384731.3084622677},{"$f":"VLOOKUP(A71, localcont!$D$10:$L$1764, 9)*F71","v":1805610.1687387247}]
[133,27,"Berkley                      ",810,"Bristol Plymouth",7039055,{"$f":"VLOOKUP(A72, localcont!$D$10:$L$1764, 8)","v":1714128.3363687715},{"$f":"VLOOKUP(A72, localcont!$D$10:$L$1764, 9)*F72","v":914414.54951907892}]
[134,27,"Berkley                      ",910,"Bristol County",{"$f":"VLOOKUP(B73, town351, 7)","v":7039055},{"$f":"VLOOKUP(A73, localcont!$D$10:$L$1764, 8)","v":159353.68662159337},{"$f":"VLOOKUP(A73, localcont!$D$10:$L$1764, 9)*F73","v":85008.413007729483}]
[136,28,"Berlin                       ",28,"Berlin",4752807,{"$f":"VLOOKUP(A74, localcont!$D$10:$L$1764, 8)","v":0},{"$f":"VLOOKUP(A74, localcont!$D$10:$L$1764, 9)*F74","v":0}]
[137,28,"Berlin                       ",620,"Berlin Boylston",4752807,{"$f":"VLOOKUP(A75, localcont!$D$10:$L$1764, 8)","v":3802966.4303378533},{"$f":"VLOOKUP(A75, localcont!$D$10:$L$1764, 9)*F75","v":4122032.2590323412}]
[138,28,"Berlin                       ",801,"Assabet Valley",4752807,{"$f":"VLOOKUP(A76, localcont!$D$10:$L$1764, 8)","v":581949.63412736426},{"$f":"VLOOKUP(A76, localcont!$D$10:$L$1764, 9)*F76","v":630774.7409676594}]
[141,29,"Bernardston                  ",29,"Bernardston",1750938,{"$f":"VLOOKUP(A77, localcont!$D$10:$L$1764, 8)","v":0},{"$f":"VLOOKUP(A77, localcont!$D$10:$L$1764, 9)*F77","v":0}]
[142,29,"Bernardston                  ",750,"Pioneer",1750938,{"$f":"VLOOKUP(A78, localcont!$D$10:$L$1764, 8)","v":2714047.3557749656},{"$f":"VLOOKUP(A78, localcont!$D$10:$L$1764, 9)*F78","v":1424744.7973680026}]
[143,29,"Bernardston                  ",818,"Franklin County",1750938,{"$f":"VLOOKUP(A79, localcont!$D$10:$L$1764, 8)","v":621377.10606882244},{"$f":"VLOOKUP(A79, localcont!$D$10:$L$1764, 9)*F79","v":326193.20263199741}]
[146,30,"Beverly                      ",30,"Beverly",56373271,{"$f":"VLOOKUP(A80, localcont!$D$10:$L$1764, 8)","v":53826076.489999995},{"$f":"VLOOKUP(A80, localcont!$D$10:$L$1764, 9)*F80","v":54255342.454310291}]
[147,30,"Beverly                      ",817,"Essex North Shore",56373271,{"$f":"VLOOKUP(A81, localcont!$D$10:$L$1764, 8)","v":2101171.5850222562},{"$f":"VLOOKUP(A81, localcont!$D$10:$L$1764, 9)*F81","v":2117928.5456897044}]
[151,31,"Billerica                    ",31,"Billerica",50913315,{"$f":"VLOOKUP(A82, localcont!$D$10:$L$1764, 8)","v":52163794.354139991},{"$f":"VLOOKUP(A82, localcont!$D$10:$L$1764, 9)*F82","v":43664151.181534201}]
[152,31,"Billerica                    ",871,"Shawsheen Valley",50913315,{"$f":"VLOOKUP(A83, localcont!$D$10:$L$1764, 8)","v":8660282.6445379462},{"$f":"VLOOKUP(A83, localcont!$D$10:$L$1764, 9)*F83","v":7249163.8184657916}]
[156,32,"Blackstone                   ",32,"Blackstone",7887857,{"$f":"VLOOKUP(A84, localcont!$D$10:$L$1764, 8)","v":446551.14999999991},{"$f":"VLOOKUP(A84, localcont!$D$10:$L$1764, 9)*F84","v":217842.41953991898}]
[157,32,"Blackstone                   ",622,"Blackstone Millville",7887857,{"$f":"VLOOKUP(A85, localcont!$D$10:$L$1764, 8)","v":14441104.815190768},{"$f":"VLOOKUP(A85, localcont!$D$10:$L$1764, 9)*F85","v":7044848.5325157763}]
[158,32,"Blackstone                   ",805,"Blackstone Valley",7887857,{"$f":"VLOOKUP(A86, localcont!$D$10:$L$1764, 8)","v":1281516.3283628866},{"$f":"VLOOKUP(A86, localcont!$D$10:$L$1764, 9)*F86","v":625166.04794430512}]
[161,33,"Blandford                    ",33,"Blandford",1163919,{"$f":"VLOOKUP(A87, localcont!$D$10:$L$1764, 8)","v":149429.5},{"$f":"VLOOKUP(A87, localcont!$D$10:$L$1764, 9)*F87","v":131734.83553198853}]
[162,33,"Blandford                    ",672,"Gateway",1163919,{"$f":"VLOOKUP(A88, localcont!$D$10:$L$1764, 8)","v":1170827.4655030002},{"$f":"VLOOKUP(A88, localcont!$D$10:$L$1764, 9)*F88","v":1032184.1644680115}]
[166,34,"Bolton                       ",34,"Bolton",10276122,{"$f":"VLOOKUP(A89, localcont!$D$10:$L$1764, 8)","v":15449.483859999998},{"$f":"VLOOKUP(A89, localcont!$D$10:$L$1764, 9)*F89","v":13203.98694544389}]
[167,34,"Bolton                       ",725,"Nashoba",10276122,{"$f":"VLOOKUP(A90, localcont!$D$10:$L$1764, 8)","v":11666200.495547229},{"$f":"VLOOKUP(A90, localcont!$D$10:$L$1764, 9)*F90","v":9970582.8649046309}]
[168,34,"Bolton                       ",830,"Minuteman",10276122,{"$f":"VLOOKUP(A91, localcont!$D$10:$L$1764, 8)","v":342050.25888876698},{"$f":"VLOOKUP(A91, localcont!$D$10:$L$1764, 9)*F91","v":292335.14814992552}]
[171,35,"Boston                       ",35,"Boston",1199427934,{"$f":"VLOOKUP(A92, localcont!$D$10:$L$1764, 8)","v":973396859.42095006},{"$f":"VLOOKUP(A92, localcont!$D$10:$L$1764, 9)*F92","v":1199427934}]
[176,36,"Bourne                       ",36,"Bourne",28147644,{"$f":"VLOOKUP(A93, localcont!$D$10:$L$1764, 8)","v":20913172.689999998},{"$f":"VLOOKUP(A93, localcont!$D$10:$L$1764, 9)*F93","v":24410203.858301107}]
[177,36,"Bourne                       ",879,"Upper Cape Cod",28147644,{"$f":"VLOOKUP(A94, localcont!$D$10:$L$1764, 8)","v":3202010.5835907161},{"$f":"VLOOKUP(A94, localcont!$D$10:$L$1764, 9)*F94","v":3737440.141698896}]
[181,37,"Boxborough                   ",37,"Boxborough",9197259,{"$f":"VLOOKUP(A95, localcont!$D$10:$L$1764, 8)","v":144906.67512},{"$f":"VLOOKUP(A95, localcont!$D$10:$L$1764, 9)*F95","v":139727.98102473881}]
[182,37,"Boxborough                   ",600,"Acton Boxborough",9197259,{"$f":"VLOOKUP(A96, localcont!$D$10:$L$1764, 8)","v":9393227.43469394},{"$f":"VLOOKUP(A96, localcont!$D$10:$L$1764, 9)*F96","v":9057531.0189752616}]
[186,38,"Boxford",38,"Boxford",18646544,{"$f":"VLOOKUP(A97, localcont!$D$10:$L$1764, 8)","v":7066465.0981000001},{"$f":"VLOOKUP(A97, localcont!$D$10:$L$1764, 9)*F97","v":8937519.3659967203}]
[187,38,"Boxford",705,"Masconomet",18646544,{"$f":"VLOOKUP(A98, localcont!$D$10:$L$1764, 8)","v":7241731.9131689379},{"$f":"VLOOKUP(A98, localcont!$D$10:$L$1764, 9)*F98","v":9159193.2202009074}]
[188,38,"Boxford",817,"Essex North Shore",18646544,{"$f":"VLOOKUP(A99, localcont!$D$10:$L$1764, 8)","v":434725.15542237775},{"$f":"VLOOKUP(A99, localcont!$D$10:$L$1764, 9)*F99","v":549831.41380237124}]
[191,39,"Boylston                     ",39,"Boylston",7361054,{"$f":"VLOOKUP(A100, localcont!$D$10:$L$1764, 8)","v":579300.35},{"$f":"VLOOKUP(A100, localcont!$D$10:$L$1764, 9)*F100","v":571828.58538147341}]
[192,39,"Boylston                     ",620,"Berlin Boylston",7361054,{"$f":"VLOOKUP(A101, localcont!$D$10:$L$1764, 8)","v":6877936.4296621485},{"$f":"VLOOKUP(A101, localcont!$D$10:$L$1764, 9)*F101","v":6789225.4146185266}]
[196,40,"Braintree                    ",40,"Braintree",51514792,{"$f":"VLOOKUP(A102, localcont!$D$10:$L$1764, 8)","v":63220937.939339995},{"$f":"VLOOKUP(A102, localcont!$D$10:$L$1764, 9)*F102","v":49306404.865562476}]
[197,40,"Braintree                    ",806,"Blue Hills",51514792,{"$f":"VLOOKUP(A103, localcont!$D$10:$L$1764, 8)","v":2423733.8745627608},{"$f":"VLOOKUP(A103, localcont!$D$10:$L$1764, 9)*F103","v":1890285.2061485485}]
[198,40,"Braintree                    ",915,"Norfolk County",51514792,{"$f":"VLOOKUP(A104, localcont!$D$10:$L$1764, 8)","v":407872.00611309719},{"$f":"VLOOKUP(A104, localcont!$D$10:$L$1764, 9)*F104","v":318101.92828897299}]
[201,41,"Brewster                     ",41,"Brewster",19920673,{"$f":"VLOOKUP(A105, localcont!$D$10:$L$1764, 8)","v":4885534.8500000015},{"$f":"VLOOKUP(A105, localcont!$D$10:$L$1764, 9)*F105","v":7773935.4559865883}]
[202,41,"Brewster                     ",660,"Nauset",19920673,{"$f":"VLOOKUP(A106, localcont!$D$10:$L$1764, 8)","v":6863190.5197347701},{"$f":"VLOOKUP(A106, localcont!$D$10:$L$1764, 9)*F106","v":10920810.466137014}]
[203,41,"Brewster                     ",815,"Cape Cod",19920673,{"$f":"VLOOKUP(A107, localcont!$D$10:$L$1764, 8)","v":770434.67834705743},{"$f":"VLOOKUP(A107, localcont!$D$10:$L$1764, 9)*F107","v":1225927.0778763988}]
[206,42,"Bridgewater                  ",42,"Bridgewater",25056763,{"$f":"VLOOKUP(A108, localcont!$D$10:$L$1764, 8)","v":104600.65},{"$f":"VLOOKUP(A108, localcont!$D$10:$L$1764, 9)*F108","v":67163.589140996046}]
[207,42,"Bridgewater                  ",625,"Bridgewater Raynham",25056763,{"$f":"VLOOKUP(A109, localcont!$D$10:$L$1764, 8)","v":36374703.180435322},{"$f":"VLOOKUP(A109, localcont!$D$10:$L$1764, 9)*F109","v":23356027.133066956}]
[208,42,"Bridgewater                  ",810,"Bristol Plymouth",25056763,{"$f":"VLOOKUP(A110, localcont!$D$10:$L$1764, 8)","v":2544127.3205384701},{"$f":"VLOOKUP(A110, localcont!$D$10:$L$1764, 9)*F110","v":1633572.2777920496}]
[211,43,"Brimfield                    ",43,"Brimfield",3603670,{"$f":"VLOOKUP(A111, localcont!$D$10:$L$1764, 8)","v":2951690.97},{"$f":"VLOOKUP(A111, localcont!$D$10:$L$1764, 9)*F111","v":1758663.4445266135}]
[212,43,"Brimfield                    ",770,"Tantasqua",3603670,{"$f":"VLOOKUP(A112, localcont!$D$10:$L$1764, 8)","v":3096606.80463367},{"$f":"VLOOKUP(A112, localcont!$D$10:$L$1764, 9)*F112","v":1845006.5554733868}]
[216,44,"Brockton                     ",44,"Brockton",60369618,{"$f":"VLOOKUP(A113, localcont!$D$10:$L$1764, 8)","v":260127523.13000005},{"$f":"VLOOKUP(A113, localcont!$D$10:$L$1764, 9)*F113","v":56176938.463079721}]
[217,44,"Brockton                     ",872,"Southeastern",60369618,{"$f":"VLOOKUP(A114, localcont!$D$10:$L$1764, 8)","v":19414218.237145226},{"$f":"VLOOKUP(A114, localcont!$D$10:$L$1764, 9)*F114","v":4192679.5369202774}]
[221,45,"Brookfield                   ",45,"Brookfield",2439540,{"$f":"VLOOKUP(A115, localcont!$D$10:$L$1764, 8)","v":2733160.0899999994},{"$f":"VLOOKUP(A115, localcont!$D$10:$L$1764, 9)*F115","v":1148919.3690983015}]
[222,45,"Brookfield                   ",770,"Tantasqua",2439540,{"$f":"VLOOKUP(A116, localcont!$D$10:$L$1764, 8)","v":3070252.7040514462},{"$f":"VLOOKUP(A116, localcont!$D$10:$L$1764, 9)*F116","v":1290620.6309016983}]
[226,46,"Brookline                    ",46,"Brookline",172971609,{"$f":"VLOOKUP(A117, localcont!$D$10:$L$1764, 8)","v":77282551.571720004},{"$f":"VLOOKUP(A117, localcont!$D$10:$L$1764, 9)*F117","v":172930124.0645403}]
[227,46,"Brookline                    ",915,"Norfolk County",172971609,{"$f":"VLOOKUP(A118, localcont!$D$10:$L$1764, 8)","v":18539.636639111119},{"$f":"VLOOKUP(A118, localcont!$D$10:$L$1764, 9)*F118","v":41484.935459690183}]
[231,47,"Buckland                     ",47,"Buckland",1388459,{"$f":"VLOOKUP(A119, localcont!$D$10:$L$1764, 8)","v":29885.9},{"$f":"VLOOKUP(A119, localcont!$D$10:$L$1764, 9)*F119","v":18478.6578181191}]
[232,47,"Buckland                     ",717,"Mohawk Trail",1388459,{"$f":"VLOOKUP(A120, localcont!$D$10:$L$1764, 8)","v":2077612.593495656},{"$f":"VLOOKUP(A120, localcont!$D$10:$L$1764, 9)*F120","v":1284602.1767395728}]
[233,47,"Buckland                     ",818,"Franklin County",1388459,{"$f":"VLOOKUP(A121, localcont!$D$10:$L$1764, 8)","v":138083.8013078158},{"$f":"VLOOKUP(A121, localcont!$D$10:$L$1764, 9)*F121","v":85378.165442308062}]
[236,48,"Burlington                   ",48,"Burlington",46365545,{"$f":"VLOOKUP(A122, localcont!$D$10:$L$1764, 8)","v":40035800.596980006},{"$f":"VLOOKUP(A122, localcont!$D$10:$L$1764, 9)*F122","v":43840413.499688469}]
[237,48,"Burlington                   ",871,"Shawsheen Valley",46365545,{"$f":"VLOOKUP(A123, localcont!$D$10:$L$1764, 8)","v":2305992.4201751393},{"$f":"VLOOKUP(A123, localcont!$D$10:$L$1764, 9)*F123","v":2525131.5003115321}]
[241,49,"Cambridge                    ",49,"Cambridge",324568906,{"$f":"VLOOKUP(A124, localcont!$D$10:$L$1764, 8)","v":100589415.79484001},{"$f":"VLOOKUP(A124, localcont!$D$10:$L$1764, 9)*F124","v":324568906}]
[246,50,"Canton                       ",50,"Canton",39615932,{"$f":"VLOOKUP(A125, localcont!$D$10:$L$1764, 8)","v":37357431.396600008},{"$f":"VLOOKUP(A125, localcont!$D$10:$L$1764, 9)*F125","v":38149558.897077136}]
[247,50,"Canton                       ",806,"Blue Hills",39615932,{"$f":"VLOOKUP(A126, localcont!$D$10:$L$1764, 8)","v":1287608.6207872399},{"$f":"VLOOKUP(A126, localcont!$D$10:$L$1764, 9)*F126","v":1314911.0920826786}]
[248,50,"Canton                       ",915,"Norfolk County",39615932,{"$f":"VLOOKUP(A127, localcont!$D$10:$L$1764, 8)","v":148317.09311288895},{"$f":"VLOOKUP(A127, localcont!$D$10:$L$1764, 9)*F127","v":151462.01084018854}]
[251,51,"Carlisle                     ",51,"Carlisle",17016552,{"$f":"VLOOKUP(A128, localcont!$D$10:$L$1764, 8)","v":5768217.8704799991},{"$f":"VLOOKUP(A128, localcont!$D$10:$L$1764, 9)*F128","v":10313855.422351927}]
[252,51,"Carlisle                     ",640,"Concord Carlisle",17016552,{"$f":"VLOOKUP(A129, localcont!$D$10:$L$1764, 8)","v":3748609.2829851094},{"$f":"VLOOKUP(A129, localcont!$D$10:$L$1764, 9)*F129","v":6702696.5776480716}]
[256,52,"Carver                       ",52,"Carver",10525097,{"$f":"VLOOKUP(A130, localcont!$D$10:$L$1764, 8)","v":17542923.77304},{"$f":"VLOOKUP(A130, localcont!$D$10:$L$1764, 9)*F130","v":9600437.1104701869}]
[257,52,"Carver                       ",855,"Old Colony",10525097,{"$f":"VLOOKUP(A131, localcont!$D$10:$L$1764, 8)","v":1689635.3542401001},{"$f":"VLOOKUP(A131, localcont!$D$10:$L$1764, 9)*F131","v":924659.88952981296}]
[261,53,"Charlemont                   ",53,"Charlemont",879328,{"$f":"VLOOKUP(A132, localcont!$D$10:$L$1764, 8)","v":104600.65},{"$f":"VLOOKUP(A132, localcont!$D$10:$L$1764, 9)*F132","v":54584.660770242524}]
[262,53,"Charlemont                   ",685,"Hawlemont",879328,{"$f":"VLOOKUP(A133, localcont!$D$10:$L$1764, 8)","v":937659.37000211305},{"$f":"VLOOKUP(A133, localcont!$D$10:$L$1764, 9)*F133","v":489306.88891134673}]
[263,53,"Charlemont                   ",717,"Mohawk Trail",879328,{"$f":"VLOOKUP(A134, localcont!$D$10:$L$1764, 8)","v":642797.26651936059},{"$f":"VLOOKUP(A134, localcont!$D$10:$L$1764, 9)*F134","v":335436.45031841076}]
[266,54,"Charlton                     ",54,"Charlton",13497716,{"$f":"VLOOKUP(A135, localcont!$D$10:$L$1764, 8)","v":14942.95},{"$f":"VLOOKUP(A135, localcont!$D$10:$L$1764, 9)*F135","v":8371.1845356127433}]
[267,54,"Charlton                     ",658,"Dudley Charlton",13497716,{"$f":"VLOOKUP(A136, localcont!$D$10:$L$1764, 8)","v":20191769.20783909},{"$f":"VLOOKUP(A136, localcont!$D$10:$L$1764, 9)*F136","v":11311623.617781239}]
[268,54,"Charlton                     ",876,"Southern Worcester",{"$f":"VLOOKUP(B137, town351, 7)","v":13497716},{"$f":"VLOOKUP(A137, localcont!$D$10:$L$1764, 8)","v":3887332.6507713273},{"$f":"VLOOKUP(A137, localcont!$D$10:$L$1764, 9)*F137","v":2177721.1976831499}]
[271,55,"Chatham                      ",55,"Chatham",32888161,{"$f":"VLOOKUP(A138, localcont!$D$10:$L$1764, 8)","v":0},{"$f":"VLOOKUP(A138, localcont!$D$10:$L$1764, 9)*F138","v":0}]
[272,55,"Chatham                      ",712,"Monomoy",32888161,{"$f":"VLOOKUP(A139, localcont!$D$10:$L$1764, 8)","v":4674016.6668221708},{"$f":"VLOOKUP(A139, localcont!$D$10:$L$1764, 9)*F139","v":31017643.529375739}]
[273,55,"Chatham                      ",815,"Cape Cod",32888161,{"$f":"VLOOKUP(A140, localcont!$D$10:$L$1764, 8)","v":281866.34568160633},{"$f":"VLOOKUP(A140, localcont!$D$10:$L$1764, 9)*F140","v":1870517.4706242643}]
[276,56,"Chelmsford                   ",56,"Chelmsford",50002356,{"$f":"VLOOKUP(A141, localcont!$D$10:$L$1764, 8)","v":54283919.00999999},{"$f":"VLOOKUP(A141, localcont!$D$10:$L$1764, 9)*F141","v":46762196.588948146}]
[277,56,"Chelmsford                   ",852,"Nashoba Valley",50002356,{"$f":"VLOOKUP(A142, localcont!$D$10:$L$1764, 8)","v":3761340.6529024737},{"$f":"VLOOKUP(A142, localcont!$D$10:$L$1764, 9)*F142","v":3240159.4110518526}]
[281,57,"Chelsea                      ",57,"Chelsea",25605459,{"$f":"VLOOKUP(A143, localcont!$D$10:$L$1764, 8)","v":113321986.78373002},{"$f":"VLOOKUP(A143, localcont!$D$10:$L$1764, 9)*F143","v":24576011.741051748}]
[282,57,"Chelsea                      ",853,"Northeast Metropolitan",25605459,{"$f":"VLOOKUP(A144, localcont!$D$10:$L$1764, 8)","v":4746864.9470985467},{"$f":"VLOOKUP(A144, localcont!$D$10:$L$1764, 9)*F144","v":1029447.2589482516}]
[286,58,"Cheshire                     ",58,"Cheshire",2472720,{"$f":"VLOOKUP(A145, localcont!$D$10:$L$1764, 8)","v":14942.95},{"$f":"VLOOKUP(A145, localcont!$D$10:$L$1764, 9)*F145","v":7511.1621389103875}]
[287,58,"Cheshire                     ",603,"Hoosac Valley",2472720,{"$f":"VLOOKUP(A146, localcont!$D$10:$L$1764, 8)","v":4052977.929222153},{"$f":"VLOOKUP(A146, localcont!$D$10:$L$1764, 9)*F146","v":2037253.3115491157}]
[288,58,"Cheshire                     ",851,"Northern Berkshire",2472720,{"$f":"VLOOKUP(A147, localcont!$D$10:$L$1764, 8)","v":851388.6285020588},{"$f":"VLOOKUP(A147, localcont!$D$10:$L$1764, 9)*F147","v":427955.52631197352}]
[291,59,"Chester                      ",59,"Chester",893972,{"$f":"VLOOKUP(A148, localcont!$D$10:$L$1764, 8)","v":134486.55000000002},{"$f":"VLOOKUP(A148, localcont!$D$10:$L$1764, 9)*F148","v":64202.598941621}]
[292,59,"Chester                      ",672,"Gateway",893972,{"$f":"VLOOKUP(A149, localcont!$D$10:$L$1764, 8)","v":1738135.618861448},{"$f":"VLOOKUP(A149, localcont!$D$10:$L$1764, 9)*F149","v":829769.40105837898}]
[296,60,"Chesterfield                 ",60,"Chesterfield",939234,{"$f":"VLOOKUP(A150, localcont!$D$10:$L$1764, 8)","v":267235.75},{"$f":"VLOOKUP(A150, localcont!$D$10:$L$1764, 9)*F150","v":208834.81778879382}]
[297,60,"Chesterfield                 ",632,"Chesterfield Goshen",939234,{"$f":"VLOOKUP(A151, localcont!$D$10:$L$1764, 8)","v":506294.59455963096},{"$f":"VLOOKUP(A151, localcont!$D$10:$L$1764, 9)*F151","v":395650.43001286982}]
[298,60,"Chesterfield                 ",683,"Hampshire",939234,{"$f":"VLOOKUP(A152, localcont!$D$10:$L$1764, 8)","v":428361.68222561048},{"$f":"VLOOKUP(A152, localcont!$D$10:$L$1764, 9)*F152","v":334748.75219833635}]
[301,61,"Chicopee                     ",61,"Chicopee",31166929,{"$f":"VLOOKUP(A153, localcont!$D$10:$L$1764, 8)","v":103392553.95},{"$f":"VLOOKUP(A153, localcont!$D$10:$L$1764, 9)*F153","v":31166929}]
[306,62,"Chilmark                     ",62,"Chilmark",13096720,{"$f":"VLOOKUP(A154, localcont!$D$10:$L$1764, 8)","v":0},{"$f":"VLOOKUP(A154, localcont!$D$10:$L$1764, 9)*F154","v":0}]
[307,62,"Chilmark                     ",700,"Marthas Vineyard",13096720,{"$f":"VLOOKUP(A155, localcont!$D$10:$L$1764, 8)","v":616370.76683795161},{"$f":"VLOOKUP(A155, localcont!$D$10:$L$1764, 9)*F155","v":5436667.074814572}]
[308,62,"Chilmark                     ",774,"Upisland",13096720,{"$f":"VLOOKUP(A156, localcont!$D$10:$L$1764, 8)","v":868442.49069212505},{"$f":"VLOOKUP(A156, localcont!$D$10:$L$1764, 9)*F156","v":7660052.925185428}]
[311,63,"Clarksburg                   ",63,"Clarksburg",1035542,{"$f":"VLOOKUP(A157, localcont!$D$10:$L$1764, 8)","v":2134267.35},{"$f":"VLOOKUP(A157, localcont!$D$10:$L$1764, 9)*F157","v":749540.18413145537}]
[312,63,"Clarksburg                   ",851,"Northern Berkshire",1035542,{"$f":"VLOOKUP(A158, localcont!$D$10:$L$1764, 8)","v":814371.73159203574},{"$f":"VLOOKUP(A158, localcont!$D$10:$L$1764, 9)*F158","v":286001.81586854463}]
[316,64,"Clinton                      ",64,"Clinton",11928482,{"$f":"VLOOKUP(A159, localcont!$D$10:$L$1764, 8)","v":26782472.620000001},{"$f":"VLOOKUP(A159, localcont!$D$10:$L$1764, 9)*F159","v":11928482}]
[321,65,"Cohasset                     ",65,"Cohasset",26236821,{"$f":"VLOOKUP(A160, localcont!$D$10:$L$1764, 8)","v":15363435.330299998},{"$f":"VLOOKUP(A160, localcont!$D$10:$L$1764, 9)*F160","v":26018628.145748626}]
[322,65,"Cohasset                     ",873,"South Shore",26236821,{"$f":"VLOOKUP(A161, localcont!$D$10:$L$1764, 8)","v":128838.14577181279},{"$f":"VLOOKUP(A161, localcont!$D$10:$L$1764, 9)*F161","v":218192.8542513737}]
[323,65,"Cohasset                     ",915,"Norfolk County",26236821,{"$f":"VLOOKUP(A162, localcont!$D$10:$L$1764, 8)","v":0},{"$f":"VLOOKUP(A162, localcont!$D$10:$L$1764, 9)*F162","v":0}]
[326,66,"Colrain                      ",66,"Colrain",1379847,{"$f":"VLOOKUP(A163, localcont!$D$10:$L$1764, 8)","v":0},{"$f":"VLOOKUP(A163, localcont!$D$10:$L$1764, 9)*F163","v":0}]
[327,66,"Colrain                      ",717,"Mohawk Trail",1379847,{"$f":"VLOOKUP(A164, localcont!$D$10:$L$1764, 8)","v":1698821.3471607852},{"$f":"VLOOKUP(A164, localcont!$D$10:$L$1764, 9)*F164","v":1109338.7760128565}]
[328,66,"Colrain                      ",818,"Franklin County",1379847,{"$f":"VLOOKUP(A165, localcont!$D$10:$L$1764, 8)","v":414251.40401527309},{"$f":"VLOOKUP(A165, localcont!$D$10:$L$1764, 9)*F165","v":270508.22398714343}]
[331,67,"Concord                      ",67,"Concord",64914171,{"$f":"VLOOKUP(A166, localcont!$D$10:$L$1764, 8)","v":21203260.514250003},{"$f":"VLOOKUP(A166, localcont!$D$10:$L$1764, 9)*F166","v":39978137.147446357}]
[332,67,"Concord                      ",640,"Concord Carlisle",64914171,{"$f":"VLOOKUP(A167, localcont!$D$10:$L$1764, 8)","v":12641861.650584888},{"$f":"VLOOKUP(A167, localcont!$D$10:$L$1764, 9)*F167","v":23835866.117216453}]
[333,67,"Concord                      ",830,"Minuteman",64914171,{"$f":"VLOOKUP(A168, localcont!$D$10:$L$1764, 8)","v":583497.50053866662},{"$f":"VLOOKUP(A168, localcont!$D$10:$L$1764, 9)*F168","v":1100167.7353371938}]
[336,68,"Conway                       ",68,"Conway",1889973,{"$f":"VLOOKUP(A169, localcont!$D$10:$L$1764, 8)","v":924302.48000000021},{"$f":"VLOOKUP(A169, localcont!$D$10:$L$1764, 9)*F169","v":789313.45340561459}]
[337,68,"Conway                       ",670,"Frontier",1889973,{"$f":"VLOOKUP(A170, localcont!$D$10:$L$1764, 8)","v":1219853.3337594746},{"$f":"VLOOKUP(A170, localcont!$D$10:$L$1764, 9)*F170","v":1041700.8158606718}]
[338,68,"Conway                       ",818,"Franklin County",1889973,{"$f":"VLOOKUP(A171, localcont!$D$10:$L$1764, 8)","v":69041.900653907898},{"$f":"VLOOKUP(A171, localcont!$D$10:$L$1764, 9)*F171","v":58958.730733713259}]
[341,69,"Cummington                   ",69,"Cummington",843266,{"$f":"VLOOKUP(A172, localcont!$D$10:$L$1764, 8)","v":59771.8},{"$f":"VLOOKUP(A172, localcont!$D$10:$L$1764, 9)*F172","v":69116.887019115587}]
[342,69,"Cummington                   ",635,"Central Berkshire",843266,{"$f":"VLOOKUP(A173, localcont!$D$10:$L$1764, 8)","v":669478.73301170731},{"$f":"VLOOKUP(A173, localcont!$D$10:$L$1764, 9)*F173","v":774149.11298088427}]
[346,70,"Dalton                       ",70,"Dalton",5452748,{"$f":"VLOOKUP(A174, localcont!$D$10:$L$1764, 8)","v":312064.59999999998},{"$f":"VLOOKUP(A174, localcont!$D$10:$L$1764, 9)*F174","v":155031.38132864636}]
[347,70,"Dalton                       ",635,"Central Berkshire",5452748,{"$f":"VLOOKUP(A175, localcont!$D$10:$L$1764, 8)","v":10663839.819722669},{"$f":"VLOOKUP(A175, localcont!$D$10:$L$1764, 9)*F175","v":5297716.6186713539}]
[351,71,"Danvers                      ",71,"Danvers",39223703,{"$f":"VLOOKUP(A176, localcont!$D$10:$L$1764, 8)","v":37498229.93999999},{"$f":"VLOOKUP(A176, localcont!$D$10:$L$1764, 9)*F176","v":35720933.204522438}]
[352,71,"Danvers                      ",817,"Essex North Shore",39223703,{"$f":"VLOOKUP(A177, localcont!$D$10:$L$1764, 8)","v":3677050.2737334757},{"$f":"VLOOKUP(A177, localcont!$D$10:$L$1764, 9)*F177","v":3502769.795477564}]
[356,72,"Dartmouth                    ",72,"Dartmouth",38462405,{"$f":"VLOOKUP(A178, localcont!$D$10:$L$1764, 8)","v":38349025.249999993},{"$f":"VLOOKUP(A178, localcont!$D$10:$L$1764, 9)*F178","v":32846054.482853811}]
[357,72,"Dartmouth                    ",825,"Greater New Bedford",38462405,{"$f":"VLOOKUP(A179, localcont!$D$10:$L$1764, 8)","v":6238596.728687861},{"$f":"VLOOKUP(A179, localcont!$D$10:$L$1764, 9)*F179","v":5343376.701524769}]
[358,72,"Dartmouth                    ",910,"Bristol County",38462405,{"$f":"VLOOKUP(A180, localcont!$D$10:$L$1764, 8)","v":318707.37331082352},{"$f":"VLOOKUP(A180, localcont!$D$10:$L$1764, 9)*F180","v":272973.81562141638}]
[361,73,"Dedham                       ",73,"Dedham",41073923,{"$f":"VLOOKUP(A181, localcont!$D$10:$L$1764, 8)","v":30586429.120819997},{"$f":"VLOOKUP(A181, localcont!$D$10:$L$1764, 9)*F181","v":38572099.103960693}]
[362,73,"Dedham                       ",806,"Blue Hills",41073923,{"$f":"VLOOKUP(A182, localcont!$D$10:$L$1764, 8)","v":1779929.5641691408},{"$f":"VLOOKUP(A182, localcont!$D$10:$L$1764, 9)*F182","v":2244643.1806734903}]
[363,73,"Dedham                       ",915,"Norfolk County",41073923,{"$f":"VLOOKUP(A183, localcont!$D$10:$L$1764, 8)","v":203936.0030828749},{"$f":"VLOOKUP(A183, localcont!$D$10:$L$1764, 9)*F183","v":257180.71536581503}]
[366,74,"Deerfield                    ",74,"Deerfield",5725100,{"$f":"VLOOKUP(A184, localcont!$D$10:$L$1764, 8)","v":3189923.0900000003},{"$f":"VLOOKUP(A184, localcont!$D$10:$L$1764, 9)*F184","v":2741002.2886842634}]
[367,74,"Deerfield                    ",670,"Frontier",5725100,{"$f":"VLOOKUP(A185, localcont!$D$10:$L$1764, 8)","v":3162144.0787784243},{"$f":"VLOOKUP(A185, localcont!$D$10:$L$1764, 9)*F185","v":2717132.6431826451}]
[368,74,"Deerfield                    ",818,"Franklin County",5725100,{"$f":"VLOOKUP(A186, localcont!$D$10:$L$1764, 8)","v":310688.55308032408},{"$f":"VLOOKUP(A186, localcont!$D$10:$L$1764, 9)*F186","v":266965.06813309109}]
[371,75,"Dennis                       ",75,"Dennis",33932830,{"$f":"VLOOKUP(A187, localcont!$D$10:$L$1764, 8)","v":0},{"$f":"VLOOKUP(A187, localcont!$D$10:$L$1764, 9)*F187","v":0}]
[372,75,"Dennis                       ",645,"Dennis Yarmouth",33932830,{"$f":"VLOOKUP(A188, localcont!$D$10:$L$1764, 8)","v":12235827.49285884},{"$f":"VLOOKUP(A188, localcont!$D$10:$L$1764, 9)*F188","v":30512136.946941677}]
[373,75,"Dennis                       ",815,"Cape Cod",33932830,{"$f":"VLOOKUP(A189, localcont!$D$10:$L$1764, 8)","v":1371749.5492375724},{"$f":"VLOOKUP(A189, localcont!$D$10:$L$1764, 9)*F189","v":3420693.0530583272}]
[376,76,"Dighton                      ",76,"Dighton",7936819,{"$f":"VLOOKUP(A190, localcont!$D$10:$L$1764, 8)","v":0},{"$f":"VLOOKUP(A190, localcont!$D$10:$L$1764, 9)*F190","v":0}]
[377,76,"Dighton                      ",650,"Dighton Rehoboth",7936819,{"$f":"VLOOKUP(A191, localcont!$D$10:$L$1764, 8)","v":13311389.1284},{"$f":"VLOOKUP(A191, localcont!$D$10:$L$1764, 9)*F191","v":6852197.6585801346}]
[378,76,"Dighton                      ",810,"Bristol Plymouth",7936819,{"$f":"VLOOKUP(A192, localcont!$D$10:$L$1764, 8)","v":1894562.8980918},{"$f":"VLOOKUP(A192, localcont!$D$10:$L$1764, 9)*F192","v":975249.03893316095}]
[379,76,"Dighton                      ",910,"Bristol County",7936819,{"$f":"VLOOKUP(A193, localcont!$D$10:$L$1764, 8)","v":212471.58222976129},{"$f":"VLOOKUP(A193, localcont!$D$10:$L$1764, 9)*F193","v":109372.30248670392}]
[381,77,"Douglas                      ",77,"Douglas",8704451,{"$f":"VLOOKUP(A194, localcont!$D$10:$L$1764, 8)","v":12300521.189999999},{"$f":"VLOOKUP(A194, localcont!$D$10:$L$1764, 9)*F194","v":7457276.764540582}]
[382,77,"Douglas                      ",805,"Blackstone Valley",8704451,{"$f":"VLOOKUP(A195, localcont!$D$10:$L$1764, 8)","v":2057170.947957396},{"$f":"VLOOKUP(A195, localcont!$D$10:$L$1764, 9)*F195","v":1247174.2354594173}]
[386,78,"Dover                        ",78,"Dover",30226341,{"$f":"VLOOKUP(A196, localcont!$D$10:$L$1764, 8)","v":4975074.8628200004},{"$f":"VLOOKUP(A196, localcont!$D$10:$L$1764, 9)*F196","v":11820604.780959962}]
[387,78,"Dover                        ",655,"Dover Sherborn",30226341,{"$f":"VLOOKUP(A197, localcont!$D$10:$L$1764, 8)","v":7666152.9987926446},{"$f":"VLOOKUP(A197, localcont!$D$10:$L$1764, 9)*F197","v":18214512.80388049}]
[388,78,"Dover                        ",830,"Minuteman",30226341,{"$f":"VLOOKUP(A198, localcont!$D$10:$L$1764, 8)","v":80482.413850369165},{"$f":"VLOOKUP(A198, localcont!$D$10:$L$1764, 9)*F198","v":191223.41515955035}]
[389,78,"Dover                        ",915,"Norfolk County",30226341,{"$f":"VLOOKUP(A199, localcont!$D$10:$L$1764, 8)","v":0},{"$f":"VLOOKUP(A199, localcont!$D$10:$L$1764, 9)*F199","v":0}]
[391,79,"Dracut                       ",79,"Dracut",30094584,{"$f":"VLOOKUP(A200, localcont!$D$10:$L$1764, 8)","v":45944951.039999999},{"$f":"VLOOKUP(A200, localcont!$D$10:$L$1764, 9)*F200","v":25415170.952590566}]
[392,79,"Dracut                       ",828,"Greater Lowell",{"$f":"VLOOKUP(B201, town351, 7)","v":30094584},{"$f":"VLOOKUP(A201, localcont!$D$10:$L$1764, 8)","v":8459333.3548775166},{"$f":"VLOOKUP(A201, localcont!$D$10:$L$1764, 9)*F201","v":4679413.047409432}]
[396,80,"Dudley                       ",80,"Dudley",8644022,{"$f":"VLOOKUP(A202, localcont!$D$10:$L$1764, 8)","v":0},{"$f":"VLOOKUP(A202, localcont!$D$10:$L$1764, 9)*F202","v":0}]
[397,80,"Dudley                       ",658,"Dudley Charlton",8644022,{"$f":"VLOOKUP(A203, localcont!$D$10:$L$1764, 8)","v":17935578.292160902},{"$f":"VLOOKUP(A203, localcont!$D$10:$L$1764, 9)*F203","v":7668174.8358322317}]
[398,80,"Dudley                       ",876,"Southern Worcester",8644022,{"$f":"VLOOKUP(A204, localcont!$D$10:$L$1764, 8)","v":2282470.5472713271},{"$f":"VLOOKUP(A204, localcont!$D$10:$L$1764, 9)*F204","v":975847.1641677689}]
[401,81,"Dunstable                    ",81,"Dunstable",4956994,{"$f":"VLOOKUP(A205, localcont!$D$10:$L$1764, 8)","v":0},{"$f":"VLOOKUP(A205, localcont!$D$10:$L$1764, 9)*F205","v":0}]
[402,81,"Dunstable                    ",673,"Groton Dunstable",4956994,{"$f":"VLOOKUP(A206, localcont!$D$10:$L$1764, 8)","v":5520518.7715598019},{"$f":"VLOOKUP(A206, localcont!$D$10:$L$1764, 9)*F206","v":4707670.1611807579}]
[403,81,"Dunstable                    ",828,"Greater Lowell",4956994,{"$f":"VLOOKUP(A207, localcont!$D$10:$L$1764, 8)","v":292373.27282371861},{"$f":"VLOOKUP(A207, localcont!$D$10:$L$1764, 9)*F207","v":249323.8388192429}]
[406,82,"Duxbury                      ",82,"Duxbury",35222003,{"$f":"VLOOKUP(A208, localcont!$D$10:$L$1764, 8)","v":29831320.215240002},{"$f":"VLOOKUP(A208, localcont!$D$10:$L$1764, 9)*F208","v":35222003}]
[411,83,"East Bridgewater             ",83,"East Bridgewater",13946723,{"$f":"VLOOKUP(A209, localcont!$D$10:$L$1764, 8)","v":23328359.859999999},{"$f":"VLOOKUP(A209, localcont!$D$10:$L$1764, 9)*F209","v":12984754.609595731}]
[412,83,"East Bridgewater             ",872,"Southeastern",13946723,{"$f":"VLOOKUP(A210, localcont!$D$10:$L$1764, 8)","v":1728268.6858565465},{"$f":"VLOOKUP(A210, localcont!$D$10:$L$1764, 9)*F210","v":961968.39040426863}]
[416,84,"East Brookfield              ",84,"East Brookfield",1979089,{"$f":"VLOOKUP(A211, localcont!$D$10:$L$1764, 8)","v":356893.44999999995},{"$f":"VLOOKUP(A211, localcont!$D$10:$L$1764, 9)*F211","v":182312.95238253515}]
[417,84,"East Brookfield              ",767,"Spencer East Brookfield",1979089,{"$f":"VLOOKUP(A212, localcont!$D$10:$L$1764, 8)","v":3517345.2798134331},{"$f":"VLOOKUP(A212, localcont!$D$10:$L$1764, 9)*F212","v":1796776.0476174648}]
[421,85,"Eastham                      ",85,"Eastham",13439790,{"$f":"VLOOKUP(A213, localcont!$D$10:$L$1764, 8)","v":2314050.34},{"$f":"VLOOKUP(A213, localcont!$D$10:$L$1764, 9)*F213","v":5578464.6859683925}]
[422,85,"Eastham                      ",660,"Nauset",13439790,{"$f":"VLOOKUP(A214, localcont!$D$10:$L$1764, 8)","v":2828828.0925506558},{"$f":"VLOOKUP(A214, localcont!$D$10:$L$1764, 9)*F214","v":6819435.7504639095}]
[423,85,"Eastham                      ",815,"Cape Cod",13439790,{"$f":"VLOOKUP(A215, localcont!$D$10:$L$1764, 8)","v":432195.06343397184},{"$f":"VLOOKUP(A215, localcont!$D$10:$L$1764, 9)*F215","v":1041889.5635676973}]
[426,86,"Easthampton                  ",86,"Easthampton",12917558,{"$f":"VLOOKUP(A216, localcont!$D$10:$L$1764, 8)","v":19775625.25},{"$f":"VLOOKUP(A216, localcont!$D$10:$L$1764, 9)*F216","v":12917558}]
[431,87,"East Longmeadow              ",87,"East Longmeadow",17112651,{"$f":"VLOOKUP(A217, localcont!$D$10:$L$1764, 8)","v":27947960.879999999},{"$f":"VLOOKUP(A217, localcont!$D$10:$L$1764, 9)*F217","v":17112651}]
[436,88,"Easton                       ",88,"Easton",32194309,{"$f":"VLOOKUP(A218, localcont!$D$10:$L$1764, 8)","v":37252962.899999999},{"$f":"VLOOKUP(A218, localcont!$D$10:$L$1764, 9)*F218","v":30730970.007698219}]
[437,88,"Easton                       ",872,"Southeastern",32194309,{"$f":"VLOOKUP(A219, localcont!$D$10:$L$1764, 8)","v":1632253.7588991029},{"$f":"VLOOKUP(A219, localcont!$D$10:$L$1764, 9)*F219","v":1346489.9810608355}]
[438,88,"Easton                       ",910,"Bristol County",32194309,{"$f":"VLOOKUP(A220, localcont!$D$10:$L$1764, 8)","v":141647.72148650754},{"$f":"VLOOKUP(A220, localcont!$D$10:$L$1764, 9)*F220","v":116849.01124094626}]
[441,89,"Edgartown                    ",89,"Edgartown",37631214,{"$f":"VLOOKUP(A221, localcont!$D$10:$L$1764, 8)","v":5229039.6599999992},{"$f":"VLOOKUP(A221, localcont!$D$10:$L$1764, 9)*F221","v":23853678.500816856}]
[442,89,"Edgartown                    ",700,"Marthas Vineyard",37631214,{"$f":"VLOOKUP(A222, localcont!$D$10:$L$1764, 8)","v":3020216.757755809},{"$f":"VLOOKUP(A222, localcont!$D$10:$L$1764, 9)*F222","v":13777535.499183141}]
[446,90,"Egremont                     ",90,"Egremont",2068873,{"$f":"VLOOKUP(A223, localcont!$D$10:$L$1764, 8)","v":0},{"$f":"VLOOKUP(A223, localcont!$D$10:$L$1764, 9)*F223","v":0}]
[447,90,"Egremont                     ",765,"Southern Berkshire",2068873,{"$f":"VLOOKUP(A224, localcont!$D$10:$L$1764, 8)","v":982614.91455153027},{"$f":"VLOOKUP(A224, localcont!$D$10:$L$1764, 9)*F224","v":2068873}]
[451,91,"Erving                       ",91,"Erving",3742021,{"$f":"VLOOKUP(A225, localcont!$D$10:$L$1764, 8)","v":2350503.5500000003},{"$f":"VLOOKUP(A225, localcont!$D$10:$L$1764, 9)*F225","v":3122854.6197592858}]
[452,91,"Erving                       ",818,"Franklin County",3742021,{"$f":"VLOOKUP(A226, localcont!$D$10:$L$1764, 8)","v":466032.82957457332},{"$f":"VLOOKUP(A226, localcont!$D$10:$L$1764, 9)*F226","v":619166.38024071394}]
[456,92,"Essex                        ",92,"Essex",6909200,{"$f":"VLOOKUP(A227, localcont!$D$10:$L$1764, 8)","v":0},{"$f":"VLOOKUP(A227, localcont!$D$10:$L$1764, 9)*F227","v":0}]
[457,92,"Essex                        ",698,"Manchester Essex",6909200,{"$f":"VLOOKUP(A228, localcont!$D$10:$L$1764, 8)","v":5520216.8539830595},{"$f":"VLOOKUP(A228, localcont!$D$10:$L$1764, 9)*F228","v":6626531.7522108303}]
[458,92,"Essex                        ",817,"Essex North Shore",6909200,{"$f":"VLOOKUP(A229, localcont!$D$10:$L$1764, 8)","v":235476.12595548798},{"$f":"VLOOKUP(A229, localcont!$D$10:$L$1764, 9)*F229","v":282668.24778917036}]
[461,93,"Everett                      ",93,"Everett",38092318,{"$f":"VLOOKUP(A230, localcont!$D$10:$L$1764, 8)","v":120182572.72071998},{"$f":"VLOOKUP(A230, localcont!$D$10:$L$1764, 9)*F230","v":38092318}]
[466,94,"Fairhaven                    ",94,"Fairhaven",15344184,{"$f":"VLOOKUP(A231, localcont!$D$10:$L$1764, 8)","v":20670528.07},{"$f":"VLOOKUP(A231, localcont!$D$10:$L$1764, 9)*F231","v":13006662.951218346}]
[467,94,"Fairhaven                    ",825,"Greater New Bedford",15344184,{"$f":"VLOOKUP(A232, localcont!$D$10:$L$1764, 8)","v":3360730.1265452243},{"$f":"VLOOKUP(A232, localcont!$D$10:$L$1764, 9)*F232","v":2114696.0483036712}]
[468,94,"Fairhaven                    ",910,"Bristol County",15344184,{"$f":"VLOOKUP(A233, localcont!$D$10:$L$1764, 8)","v":354119.30364863202},{"$f":"VLOOKUP(A233, localcont!$D$10:$L$1764, 9)*F233","v":222825.00047798257}]
[471,95,"Fall River                   ",95,"Fall River",44686221,{"$f":"VLOOKUP(A234, localcont!$D$10:$L$1764, 8)","v":178475557.12},{"$f":"VLOOKUP(A234, localcont!$D$10:$L$1764, 9)*F234","v":39812036.911747403}]
[472,95,"Fall River                   ",821,"Greater Fall River",44686221,{"$f":"VLOOKUP(A235, localcont!$D$10:$L$1764, 8)","v":21107095.82286923},{"$f":"VLOOKUP(A235, localcont!$D$10:$L$1764, 9)*F235","v":4708300.0695432108}]
[473,95,"Fall River                   ",910,"Bristol County",44686221,{"$f":"VLOOKUP(A236, localcont!$D$10:$L$1764, 8)","v":743650.53770270932},{"$f":"VLOOKUP(A236, localcont!$D$10:$L$1764, 9)*F236","v":165884.01870937983}]
[476,96,"Falmouth                     ",96,"Falmouth",64433727,{"$f":"VLOOKUP(A237, localcont!$D$10:$L$1764, 8)","v":36927457.06000001},{"$f":"VLOOKUP(A237, localcont!$D$10:$L$1764, 9)*F237","v":59213245.248653091}]
[477,96,"Falmouth                     ",879,"Upper Cape Cod",64433727,{"$f":"VLOOKUP(A238, localcont!$D$10:$L$1764, 8)","v":3255675.5654219398},{"$f":"VLOOKUP(A238, localcont!$D$10:$L$1764, 9)*F238","v":5220481.7513469094}]
[481,97,"Fitchburg                    ",97,"Fitchburg",22282683,{"$f":"VLOOKUP(A239, localcont!$D$10:$L$1764, 8)","v":80520654.390000001},{"$f":"VLOOKUP(A239, localcont!$D$10:$L$1764, 9)*F239","v":20549279.588379711}]
[482,97,"Fitchburg                    ",832,"Montachusett",22282683,{"$f":"VLOOKUP(A240, localcont!$D$10:$L$1764, 8)","v":6792198.0634519085},{"$f":"VLOOKUP(A240, localcont!$D$10:$L$1764, 9)*F240","v":1733403.4116202928}]
[486,98,"Florida                      ",98,"Florida",802148,{"$f":"VLOOKUP(A241, localcont!$D$10:$L$1764, 8)","v":708717.74},{"$f":"VLOOKUP(A241, localcont!$D$10:$L$1764, 9)*F241","v":509449.48539871199}]
[487,98,"Florida                      ",851,"Northern Berkshire",802148,{"$f":"VLOOKUP(A242, localcont!$D$10:$L$1764, 8)","v":407185.8657531708},{"$f":"VLOOKUP(A242, localcont!$D$10:$L$1764, 9)*F242","v":292698.51460128807}]
[491,99,"Foxborough                   ",99,"Foxborough",25908632,{"$f":"VLOOKUP(A243, localcont!$D$10:$L$1764, 8)","v":29611209.107200004},{"$f":"VLOOKUP(A243, localcont!$D$10:$L$1764, 9)*F243","v":24945270.347104568}]
[492,99,"Foxborough                   ",872,"Southeastern",25908632,{"$f":"VLOOKUP(A244, localcont!$D$10:$L$1764, 8)","v":902540.31364899466},{"$f":"VLOOKUP(A244, localcont!$D$10:$L$1764, 9)*F244","v":760323.9719671018}]
[493,99,"Foxborough                   ",915,"Norfolk County",25908632,{"$f":"VLOOKUP(A245, localcont!$D$10:$L$1764, 8)","v":241015.27636109712},{"$f":"VLOOKUP(A245, localcont!$D$10:$L$1764, 9)*F245","v":203037.68092832851}]
[496,100,"Framingham                   ",100,"Framingham",75336204,{"$f":"VLOOKUP(A246, localcont!$D$10:$L$1764, 8)","v":123683938.43378},{"$f":"VLOOKUP(A246, localcont!$D$10:$L$1764, 9)*F246","v":68583471.167552099}]
[497,100,"Framingham                   ",829,"South Middlesex",75336204,{"$f":"VLOOKUP(A247, localcont!$D$10:$L$1764, 8)","v":12177928.263033142},{"$f":"VLOOKUP(A247, localcont!$D$10:$L$1764, 9)*F247","v":6752732.8324479032}]
[501,101,"Franklin                     ",101,"Franklin",44849517,{"$f":"VLOOKUP(A248, localcont!$D$10:$L$1764, 8)","v":59684329.708099991},{"$f":"VLOOKUP(A248, localcont!$D$10:$L$1764, 9)*F248","v":42522867.111616842}]
[502,101,"Franklin                     ",878,"Tri County",44849517,{"$f":"VLOOKUP(A249, localcont!$D$10:$L$1764, 8)","v":3024628.5639066272},{"$f":"VLOOKUP(A249, localcont!$D$10:$L$1764, 9)*F249","v":2154935.4598439438}]
[503,101,"Franklin                     ",915,"Norfolk County",44849517,{"$f":"VLOOKUP(A250, localcont!$D$10:$L$1764, 8)","v":241015.27636109712},{"$f":"VLOOKUP(A250, localcont!$D$10:$L$1764, 9)*F250","v":171714.42853921597}]
[506,102,"Freetown                     ",102,"Freetown",10276571,{"$f":"VLOOKUP(A251, localcont!$D$10:$L$1764, 8)","v":1115509.2},{"$f":"VLOOKUP(A251, localcont!$D$10:$L$1764, 9)*F251","v":796718.98802180355}]
[507,102,"Freetown                     ",665,"Freetown Lakeville",10276571,{"$f":"VLOOKUP(A252, localcont!$D$10:$L$1764, 8)","v":13060542.231909169},{"$f":"VLOOKUP(A252, localcont!$D$10:$L$1764, 9)*F252","v":9328100.5571470875}]
[508,102,"Freetown                     ",910,"Bristol County",10276571,{"$f":"VLOOKUP(A253, localcont!$D$10:$L$1764, 8)","v":212471.58222976129},{"$f":"VLOOKUP(A253, localcont!$D$10:$L$1764, 9)*F253","v":151751.45483110929}]
[511,103,"Gardner                      ",103,"Gardner",11443688,{"$f":"VLOOKUP(A254, localcont!$D$10:$L$1764, 8)","v":30592804.659999996},{"$f":"VLOOKUP(A254, localcont!$D$10:$L$1764, 9)*F254","v":10375854.148741899}]
[512,103,"Gardner                      ",832,"Montachusett",11443688,{"$f":"VLOOKUP(A255, localcont!$D$10:$L$1764, 8)","v":3148466.8107864312},{"$f":"VLOOKUP(A255, localcont!$D$10:$L$1764, 9)*F255","v":1067833.8512581007}]
[516,104,"Aquinnah",104,"Aquinnah",2888769,{"$f":"VLOOKUP(A256, localcont!$D$10:$L$1764, 8)","v":0},{"$f":"VLOOKUP(A256, localcont!$D$10:$L$1764, 9)*F256","v":0}]
[517,104,"Aquinnah",700,"Marthas Vineyard",2888769,{"$f":"VLOOKUP(A257, localcont!$D$10:$L$1764, 8)","v":277366.84514521802},{"$f":"VLOOKUP(A257, localcont!$D$10:$L$1764, 9)*F257","v":1044302.2893894395}]
[518,104,"Aquinnah",774,"Upisland",2888769,{"$f":"VLOOKUP(A258, localcont!$D$10:$L$1764, 8)","v":489890.63578184514},{"$f":"VLOOKUP(A258, localcont!$D$10:$L$1764, 9)*F258","v":1844466.7106105606}]
[521,105,"Georgetown                   ",105,"Georgetown",11209869,{"$f":"VLOOKUP(A259, localcont!$D$10:$L$1764, 8)","v":13248901.300000001},{"$f":"VLOOKUP(A259, localcont!$D$10:$L$1764, 9)*F259","v":10632391.898186272}]
[522,105,"Georgetown                   ",885,"Whittier",11209869,{"$f":"VLOOKUP(A260, localcont!$D$10:$L$1764, 8)","v":719587.57711378939},{"$f":"VLOOKUP(A260, localcont!$D$10:$L$1764, 9)*F260","v":577477.1018137288}]
[526,106,"Gill                         ",106,"Gill",1124651,{"$f":"VLOOKUP(A261, localcont!$D$10:$L$1764, 8)","v":0},{"$f":"VLOOKUP(A261, localcont!$D$10:$L$1764, 9)*F261","v":0}]
[527,106,"Gill                         ",674,"Gill Montague",1124651,{"$f":"VLOOKUP(A262, localcont!$D$10:$L$1764, 8)","v":1398930.7668758174},{"$f":"VLOOKUP(A262, localcont!$D$10:$L$1764, 9)*F262","v":949012.50068847055}]
[528,106,"Gill                         ",818,"Franklin County",1124651,{"$f":"VLOOKUP(A263, localcont!$D$10:$L$1764, 8)","v":258907.12752102388},{"$f":"VLOOKUP(A263, localcont!$D$10:$L$1764, 9)*F263","v":175638.49931152945}]
[531,107,"Gloucester                   ",107,"Gloucester",42219375,{"$f":"VLOOKUP(A264, localcont!$D$10:$L$1764, 8)","v":39241885.876580007},{"$f":"VLOOKUP(A264, localcont!$D$10:$L$1764, 9)*F264","v":40410057.187813804}]
[532,107,"Gloucester                   ",817,"Essex North Shore",{"$f":"VLOOKUP(B265, town351, 7)","v":42219375},{"$f":"VLOOKUP(A265, localcont!$D$10:$L$1764, 8)","v":1757014.1702666467},{"$f":"VLOOKUP(A265, localcont!$D$10:$L$1764, 9)*F265","v":1809317.8121862032}]
[536,108,"Goshen                       ",108,"Goshen",782522,{"$f":"VLOOKUP(A266, localcont!$D$10:$L$1764, 8)","v":134486.55000000002},{"$f":"VLOOKUP(A266, localcont!$D$10:$L$1764, 9)*F266","v":87372.634294180447}]
[537,108,"Goshen                       ",632,"Chesterfield Goshen",782522,{"$f":"VLOOKUP(A267, localcont!$D$10:$L$1764, 8)","v":630055.49544036924},{"$f":"VLOOKUP(A267, localcont!$D$10:$L$1764, 9)*F267","v":409331.70185531606}]
[538,108,"Goshen                       ",683,"Hampshire",782522,{"$f":"VLOOKUP(A268, localcont!$D$10:$L$1764, 8)","v":439939.02496853296},{"$f":"VLOOKUP(A268, localcont!$D$10:$L$1764, 9)*F268","v":285817.66385050357}]
[541,109,"Gosnold                      ",109,"Gosnold",786958,{"$f":"VLOOKUP(A269, localcont!$D$10:$L$1764, 8)","v":41676.320000000007},{"$f":"VLOOKUP(A269, localcont!$D$10:$L$1764, 9)*F269","v":786958}]
[546,110,"Grafton                      ",110,"Grafton",23040619,{"$f":"VLOOKUP(A270, localcont!$D$10:$L$1764, 8)","v":33036291.830000006},{"$f":"VLOOKUP(A270, localcont!$D$10:$L$1764, 9)*F270","v":22278742.234524649}]
[547,110,"Grafton                      ",805,"Blackstone Valley",23040619,{"$f":"VLOOKUP(A271, localcont!$D$10:$L$1764, 8)","v":1129757.8156694949},{"$f":"VLOOKUP(A271, localcont!$D$10:$L$1764, 9)*F271","v":761876.76547535462}]
[551,111,"Granby                       ",111,"Granby",5356896,{"$f":"VLOOKUP(A272, localcont!$D$10:$L$1764, 8)","v":8277575.2999999998},{"$f":"VLOOKUP(A272, localcont!$D$10:$L$1764, 9)*F272","v":5125028.8385055987}]
[552,111,"Granby                       ",860,"Pathfinder",5356896,{"$f":"VLOOKUP(A273, localcont!$D$10:$L$1764, 8)","v":374495.04175410961},{"$f":"VLOOKUP(A273, localcont!$D$10:$L$1764, 9)*F273","v":231867.16149440163}]
[556,112,"Granville                    ",112,"Granville",1469462,{"$f":"VLOOKUP(A274, localcont!$D$10:$L$1764, 8)","v":0},{"$f":"VLOOKUP(A274, localcont!$D$10:$L$1764, 9)*F274","v":0}]
[557,112,"Granville                    ",766,"Southwick Tolland Granville",1469462,{"$f":"VLOOKUP(A275, localcont!$D$10:$L$1764, 8)","v":2018727.7638779946},{"$f":"VLOOKUP(A275, localcont!$D$10:$L$1764, 9)*F275","v":1469462}]
[561,113,"Great Barrington             ",113,"Great Barrington",9656603,{"$f":"VLOOKUP(A276, localcont!$D$10:$L$1764, 8)","v":0},{"$f":"VLOOKUP(A276, localcont!$D$10:$L$1764, 9)*F276","v":0}]
[562,113,"Great Barrington             ",618,"Berkshire Hills",9656603,{"$f":"VLOOKUP(A277, localcont!$D$10:$L$1764, 8)","v":8849612.5860873349},{"$f":"VLOOKUP(A277, localcont!$D$10:$L$1764, 9)*F277","v":9656603}]
[566,114,"Greenfield                   ",114,"Greenfield",11125642,{"$f":"VLOOKUP(A278, localcont!$D$10:$L$1764, 8)","v":23765270.25},{"$f":"VLOOKUP(A278, localcont!$D$10:$L$1764, 9)*F278","v":10213254.637119221}]
[567,114,"Greenfield                   ",818,"Franklin County",11125642,{"$f":"VLOOKUP(A279, localcont!$D$10:$L$1764, 8)","v":2123038.4458193174},{"$f":"VLOOKUP(A279, localcont!$D$10:$L$1764, 9)*F279","v":912387.36288077873}]
[571,115,"Groton                       ",115,"Groton",18085551,{"$f":"VLOOKUP(A280, localcont!$D$10:$L$1764, 8)","v":0},{"$f":"VLOOKUP(A280, localcont!$D$10:$L$1764, 9)*F280","v":0}]
[572,115,"Groton                       ",673,"Groton Dunstable",18085551,{"$f":"VLOOKUP(A281, localcont!$D$10:$L$1764, 8)","v":18422405.338440198},{"$f":"VLOOKUP(A281, localcont!$D$10:$L$1764, 9)*F281","v":17318323.513771474}]
[573,115,"Groton                       ",852,"Nashoba Valley",18085551,{"$f":"VLOOKUP(A282, localcont!$D$10:$L$1764, 8)","v":816139.95297264261},{"$f":"VLOOKUP(A282, localcont!$D$10:$L$1764, 9)*F282","v":767227.48622852645}]
[576,116,"Groveland                    ",116,"Groveland",7802181,{"$f":"VLOOKUP(A283, localcont!$D$10:$L$1764, 8)","v":134486.55000000002},{"$f":"VLOOKUP(A283, localcont!$D$10:$L$1764, 9)*F283","v":101728.5291791746}]
[577,116,"Groveland                    ",745,"Pentucket",7802181,{"$f":"VLOOKUP(A284, localcont!$D$10:$L$1764, 8)","v":9460519.1696932148},{"$f":"VLOOKUP(A284, localcont!$D$10:$L$1764, 9)*F284","v":7156140.895905775}]
[578,116,"Groveland                    ",885,"Whittier",7802181,{"$f":"VLOOKUP(A285, localcont!$D$10:$L$1764, 8)","v":719587.57711378939},{"$f":"VLOOKUP(A285, localcont!$D$10:$L$1764, 9)*F285","v":544311.57491505041}]
[581,117,"Hadley                       ",117,"Hadley",6433301,{"$f":"VLOOKUP(A286, localcont!$D$10:$L$1764, 8)","v":5848652.0300000003},{"$f":"VLOOKUP(A286, localcont!$D$10:$L$1764, 9)*F286","v":6433301}]
[586,118,"Halifax                      ",118,"Halifax",7449517,{"$f":"VLOOKUP(A287, localcont!$D$10:$L$1764, 8)","v":6869417.3754399987},{"$f":"VLOOKUP(A287, localcont!$D$10:$L$1764, 9)*F287","v":3815571.4236695361}]
[587,118,"Halifax                      ",760,"Silver Lake",7449517,{"$f":"VLOOKUP(A288, localcont!$D$10:$L$1764, 8)","v":6542424.7410470815},{"$f":"VLOOKUP(A288, localcont!$D$10:$L$1764, 9)*F288","v":3633945.5763304639}]
[591,119,"Hamilton                     ",119,"Hamilton",14582267,{"$f":"VLOOKUP(A289, localcont!$D$10:$L$1764, 8)","v":0},{"$f":"VLOOKUP(A289, localcont!$D$10:$L$1764, 9)*F289","v":0}]
[592,119,"Hamilton                     ",675,"Hamilton Wenham",14582267,{"$f":"VLOOKUP(A290, localcont!$D$10:$L$1764, 8)","v":11697333.503517332},{"$f":"VLOOKUP(A290, localcont!$D$10:$L$1764, 9)*F290","v":14208237.558567047}]
[593,119,"Hamilton                     ",817,"Essex North Shore",14582267,{"$f":"VLOOKUP(A291, localcont!$D$10:$L$1764, 8)","v":307930.31848890247},{"$f":"VLOOKUP(A291, localcont!$D$10:$L$1764, 9)*F291","v":374029.44143295148}]
[596,120,"Hampden                      ",120,"Hampden",5188831,{"$f":"VLOOKUP(A292, localcont!$D$10:$L$1764, 8)","v":0},{"$f":"VLOOKUP(A292, localcont!$D$10:$L$1764, 9)*F292","v":0}]
[597,120,"Hampden                      ",680,"Hampden Wilbraham",5188831,{"$f":"VLOOKUP(A293, localcont!$D$10:$L$1764, 8)","v":6495418.0294116978},{"$f":"VLOOKUP(A293, localcont!$D$10:$L$1764, 9)*F293","v":5188831}]
[601,121,"Hancock                      ",121,"Hancock",1209282,{"$f":"VLOOKUP(A294, localcont!$D$10:$L$1764, 8)","v":935475.98},{"$f":"VLOOKUP(A294, localcont!$D$10:$L$1764, 9)*F294","v":1209282}]
[606,122,"Hanover                      ",122,"Hanover",22217849,{"$f":"VLOOKUP(A295, localcont!$D$10:$L$1764, 8)","v":27947138.811849996},{"$f":"VLOOKUP(A295, localcont!$D$10:$L$1764, 9)*F295","v":21495854.380190492}]
[607,122,"Hanover                      ",873,"South Shore",22217849,{"$f":"VLOOKUP(A296, localcont!$D$10:$L$1764, 8)","v":938677.9192093868},{"$f":"VLOOKUP(A296, localcont!$D$10:$L$1764, 9)*F296","v":721994.61980950844}]
[611,123,"Hanson                       ",123,"Hanson",10922681,{"$f":"VLOOKUP(A297, localcont!$D$10:$L$1764, 8)","v":14942.95},{"$f":"VLOOKUP(A297, localcont!$D$10:$L$1764, 9)*F297","v":9440.8013298109017}]
[612,123,"Hanson                       ",780,"Whitman Hanson",10922681,{"$f":"VLOOKUP(A298, localcont!$D$10:$L$1764, 8)","v":15727476.236860706},{"$f":"VLOOKUP(A298, localcont!$D$10:$L$1764, 9)*F298","v":9936456.8958287295}]
[613,123,"Hanson                       ",873,"South Shore",10922681,{"$f":"VLOOKUP(A299, localcont!$D$10:$L$1764, 8)","v":1546057.7492617536},{"$f":"VLOOKUP(A299, localcont!$D$10:$L$1764, 9)*F299","v":976783.30284146115}]
[616,124,"Hardwick                     ",124,"Hardwick",1809928,{"$f":"VLOOKUP(A300, localcont!$D$10:$L$1764, 8)","v":44828.850000000006},{"$f":"VLOOKUP(A300, localcont!$D$10:$L$1764, 9)*F300","v":17776.012560015308}]
[617,124,"Hardwick                     ",753,"Quabbin",1809928,{"$f":"VLOOKUP(A301, localcont!$D$10:$L$1764, 8)","v":4070186.0498977443},{"$f":"VLOOKUP(A301, localcont!$D$10:$L$1764, 9)*F301","v":1613953.4773830108}]
[618,124,"Hardwick                     ",860,"Pathfinder",1809928,{"$f":"VLOOKUP(A302, localcont!$D$10:$L$1764, 8)","v":449394.05002089485},{"$f":"VLOOKUP(A302, localcont!$D$10:$L$1764, 9)*F302","v":178198.5100569739}]
[621,125,"Harvard                      ",125,"Harvard",11005886,{"$f":"VLOOKUP(A303, localcont!$D$10:$L$1764, 8)","v":9381972.8599999994},{"$f":"VLOOKUP(A303, localcont!$D$10:$L$1764, 9)*F303","v":10923508.786173573}]
[622,125,"Harvard                      ",832,"Montachusett",11005886,{"$f":"VLOOKUP(A304, localcont!$D$10:$L$1764, 8)","v":70752.063236330447},{"$f":"VLOOKUP(A304, localcont!$D$10:$L$1764, 9)*F304","v":82377.213826427964}]
[626,126,"Harwich                      ",126,"Harwich",28291585,{"$f":"VLOOKUP(A305, localcont!$D$10:$L$1764, 8)","v":0},{"$f":"VLOOKUP(A305, localcont!$D$10:$L$1764, 9)*F305","v":0}]
[627,126,"Harwich                      ",712,"Monomoy",28291585,{"$f":"VLOOKUP(A306, localcont!$D$10:$L$1764, 8)","v":16055782.443177825},{"$f":"VLOOKUP(A306, localcont!$D$10:$L$1764, 9)*F306","v":26698020.21201466}]
[628,126,"Harwich                      ",815,"Cape Cod",28291585,{"$f":"VLOOKUP(A307, localcont!$D$10:$L$1764, 8)","v":958345.57550777763},{"$f":"VLOOKUP(A307, localcont!$D$10:$L$1764, 9)*F307","v":1593564.7879853433}]
[631,127,"Hatfield                     ",127,"Hatfield",3858871,{"$f":"VLOOKUP(A308, localcont!$D$10:$L$1764, 8)","v":3871585.5500000003},{"$f":"VLOOKUP(A308, localcont!$D$10:$L$1764, 9)*F308","v":3858871}]
[636,128,"Haverhill                    ",128,"Haverhill",53509719,{"$f":"VLOOKUP(A309, localcont!$D$10:$L$1764, 8)","v":109426886.44},{"$f":"VLOOKUP(A309, localcont!$D$10:$L$1764, 9)*F309","v":46664314.021942057}]
[637,128,"Haverhill                    ",885,"Whittier",53509719,{"$f":"VLOOKUP(A310, localcont!$D$10:$L$1764, 8)","v":16052338.256114429},{"$f":"VLOOKUP(A310, localcont!$D$10:$L$1764, 9)*F310","v":6845404.9780579461}]
[641,129,"Hawley                       ",129,"Hawley",288548,{"$f":"VLOOKUP(A311, localcont!$D$10:$L$1764, 8)","v":59771.8},{"$f":"VLOOKUP(A311, localcont!$D$10:$L$1764, 9)*F311","v":48213.825896392191}]
[642,129,"Hawley                       ",685,"Hawlemont",288548,{"$f":"VLOOKUP(A312, localcont!$D$10:$L$1764, 8)","v":171684.10999788699},{"$f":"VLOOKUP(A312, localcont!$D$10:$L$1764, 9)*F312","v":138485.83761263956}]
[643,129,"Hawley                       ",717,"Mohawk Trail",288548,{"$f":"VLOOKUP(A313, localcont!$D$10:$L$1764, 8)","v":126263.74874611211},{"$f":"VLOOKUP(A313, localcont!$D$10:$L$1764, 9)*F313","v":101848.33649096826}]
[646,130,"Heath                        ",130,"Heath",451872,{"$f":"VLOOKUP(A314, localcont!$D$10:$L$1764, 8)","v":0},{"$f":"VLOOKUP(A314, localcont!$D$10:$L$1764, 9)*F314","v":0}]
[647,130,"Heath                        ",717,"Mohawk Trail",451872,{"$f":"VLOOKUP(A315, localcont!$D$10:$L$1764, 8)","v":964195.89977904072},{"$f":"VLOOKUP(A315, localcont!$D$10:$L$1764, 9)*F315","v":408044.54123756522}]
[648,130,"Heath                        ",818,"Franklin County",451872,{"$f":"VLOOKUP(A316, localcont!$D$10:$L$1764, 8)","v":103562.8510267747},{"$f":"VLOOKUP(A316, localcont!$D$10:$L$1764, 9)*F316","v":43827.45876243477}]
[651,131,"Hingham                      ",131,"Hingham",68538515,{"$f":"VLOOKUP(A317, localcont!$D$10:$L$1764, 8)","v":43173159.772249997},{"$f":"VLOOKUP(A317, localcont!$D$10:$L$1764, 9)*F317","v":68538515}]
[656,132,"Hinsdale                     ",132,"Hinsdale",2028194,{"$f":"VLOOKUP(A318, localcont!$D$10:$L$1764, 8)","v":119543.6},{"$f":"VLOOKUP(A318, localcont!$D$10:$L$1764, 9)*F318","v":104540.96180829933}]
[657,132,"Hinsdale                     ",635,"Central Berkshire",2028194,{"$f":"VLOOKUP(A319, localcont!$D$10:$L$1764, 8)","v":2199715.8373007933},{"$f":"VLOOKUP(A319, localcont!$D$10:$L$1764, 9)*F319","v":1923653.0381917006}]
[661,133,"Holbrook                     ",133,"Holbrook",9908899,{"$f":"VLOOKUP(A320, localcont!$D$10:$L$1764, 8)","v":17208016.089600001},{"$f":"VLOOKUP(A320, localcont!$D$10:$L$1764, 9)*F320","v":8753799.6997373421}]
[662,133,"Holbrook                     ",806,"Blue Hills",9908899,{"$f":"VLOOKUP(A321, localcont!$D$10:$L$1764, 8)","v":2196508.8237058595},{"$f":"VLOOKUP(A321, localcont!$D$10:$L$1764, 9)*F321","v":1117374.4946140228}]
[663,133,"Holbrook                     ",915,"Norfolk County",9908899,{"$f":"VLOOKUP(A322, localcont!$D$10:$L$1764, 8)","v":74158.546556444475},{"$f":"VLOOKUP(A322, localcont!$D$10:$L$1764, 9)*F322","v":37724.805648636007}]
[666,134,"Holden                       ",134,"Holden",21464211,{"$f":"VLOOKUP(A323, localcont!$D$10:$L$1764, 8)","v":14942.95},{"$f":"VLOOKUP(A323, localcont!$D$10:$L$1764, 9)*F323","v":8827.5346529849867}]
[667,134,"Holden                       ",775,"Wachusett",21464211,{"$f":"VLOOKUP(A324, localcont!$D$10:$L$1764, 8)","v":34762396.982907757},{"$f":"VLOOKUP(A324, localcont!$D$10:$L$1764, 9)*F324","v":20535855.636767767}]
[668,134,"Holden                       ",832,"Montachusett",21464211,{"$f":"VLOOKUP(A325, localcont!$D$10:$L$1764, 8)","v":1556545.3896487383},{"$f":"VLOOKUP(A325, localcont!$D$10:$L$1764, 9)*F325","v":919527.82857924665}]
[671,135,"Holland                      ",135,"Holland",2487795,{"$f":"VLOOKUP(A326, localcont!$D$10:$L$1764, 8)","v":1809744.82},{"$f":"VLOOKUP(A326, localcont!$D$10:$L$1764, 9)*F326","v":1193247.9710818497}]
[672,135,"Holland                      ",770,"Tantasqua",2487795,{"$f":"VLOOKUP(A327, localcont!$D$10:$L$1764, 8)","v":1963380.4847008709},{"$f":"VLOOKUP(A327, localcont!$D$10:$L$1764, 9)*F327","v":1294547.0289181503}]
[676,136,"Holliston                    ",136,"Holliston",22385871,{"$f":"VLOOKUP(A328, localcont!$D$10:$L$1764, 8)","v":28287128.612019997},{"$f":"VLOOKUP(A328, localcont!$D$10:$L$1764, 9)*F328","v":21347747.49347268}]
[677,136,"Holliston                    ",829,"South Middlesex",{"$f":"VLOOKUP(B329, town351, 7)","v":22385871},{"$f":"VLOOKUP(A329, localcont!$D$10:$L$1764, 8)","v":1375579.9366316434},{"$f":"VLOOKUP(A329, localcont!$D$10:$L$1764, 9)*F329","v":1038123.5065273198}]
[681,137,"Holyoke                      ",137,"Holyoke",18286062,{"$f":"VLOOKUP(A330, localcont!$D$10:$L$1764, 8)","v":93693634.540000007},{"$f":"VLOOKUP(A330, localcont!$D$10:$L$1764, 9)*F330","v":18286062}]
[686,138,"Hopedale                     ",138,"Hopedale",6588473,{"$f":"VLOOKUP(A331, localcont!$D$10:$L$1764, 8)","v":10296038.865150001},{"$f":"VLOOKUP(A331, localcont!$D$10:$L$1764, 9)*F331","v":6071421.1665242827}]
[687,138,"Hopedale                     ",805,"Blackstone Valley",6588473,{"$f":"VLOOKUP(A332, localcont!$D$10:$L$1764, 8)","v":876826.96139010403},{"$f":"VLOOKUP(A332, localcont!$D$10:$L$1764, 9)*F332","v":517051.83347571694}]
[691,139,"Hopkinton                    ",139,"Hopkinton",36951931,{"$f":"VLOOKUP(A333, localcont!$D$10:$L$1764, 8)","v":43490670.81628},{"$f":"VLOOKUP(A333, localcont!$D$10:$L$1764, 9)*F333","v":36493618.705152996}]
[692,139,"Hopkinton                    ",829,"South Middlesex",36951931,{"$f":"VLOOKUP(A334, localcont!$D$10:$L$1764, 8)","v":546186.15126350068},{"$f":"VLOOKUP(A334, localcont!$D$10:$L$1764, 9)*F334","v":458312.29484701081}]
[696,140,"Hubbardston                  ",140,"Hubbardston",4136564,{"$f":"VLOOKUP(A335, localcont!$D$10:$L$1764, 8)","v":0},{"$f":"VLOOKUP(A335, localcont!$D$10:$L$1764, 9)*F335","v":0}]
[697,140,"Hubbardston                  ",753,"Quabbin",4136564,{"$f":"VLOOKUP(A336, localcont!$D$10:$L$1764, 8)","v":5740005.9677409632},{"$f":"VLOOKUP(A336, localcont!$D$10:$L$1764, 9)*F336","v":3662541.8270313637}]
[698,140,"Hubbardston                  ",832,"Montachusett",4136564,{"$f":"VLOOKUP(A337, localcont!$D$10:$L$1764, 8)","v":742896.66307699296},{"$f":"VLOOKUP(A337, localcont!$D$10:$L$1764, 9)*F337","v":474022.17296863656}]
[701,141,"Hudson                       ",141,"Hudson",22047674,{"$f":"VLOOKUP(A338, localcont!$D$10:$L$1764, 8)","v":30097729.245099999},{"$f":"VLOOKUP(A338, localcont!$D$10:$L$1764, 9)*F338","v":19244525.755168103}]
[702,141,"Hudson                       ",801,"Assabet Valley",22047674,{"$f":"VLOOKUP(A339, localcont!$D$10:$L$1764, 8)","v":4384020.5770812873},{"$f":"VLOOKUP(A339, localcont!$D$10:$L$1764, 9)*F339","v":2803148.2448318987}]
[706,142,"Hull                         ",142,"Hull",15004057,{"$f":"VLOOKUP(A340, localcont!$D$10:$L$1764, 8)","v":10290637.225959999},{"$f":"VLOOKUP(A340, localcont!$D$10:$L$1764, 9)*F340","v":15004057}]
[711,143,"Huntington                   ",143,"Huntington",1650261,{"$f":"VLOOKUP(A341, localcont!$D$10:$L$1764, 8)","v":431608.2},{"$f":"VLOOKUP(A341, localcont!$D$10:$L$1764, 9)*F341","v":198179.29621504003}]
[712,143,"Huntington                   ",672,"Gateway",1650261,{"$f":"VLOOKUP(A342, localcont!$D$10:$L$1764, 8)","v":3162441.1953885858},{"$f":"VLOOKUP(A342, localcont!$D$10:$L$1764, 9)*F342","v":1452081.7037849599}]
[716,144,"Ipswich                      ",144,"Ipswich",22673602,{"$f":"VLOOKUP(A343, localcont!$D$10:$L$1764, 8)","v":18333059.397599999},{"$f":"VLOOKUP(A343, localcont!$D$10:$L$1764, 9)*F343","v":22052170.202218775}]
[717,144,"Ipswich                      ",885,"Whittier",22673602,{"$f":"VLOOKUP(A344, localcont!$D$10:$L$1764, 8)","v":516626.97847009631},{"$f":"VLOOKUP(A344, localcont!$D$10:$L$1764, 9)*F344","v":621431.79778122657}]
[721,145,"Kingston                     ",145,"Kingston",16265842,{"$f":"VLOOKUP(A345, localcont!$D$10:$L$1764, 8)","v":11872229.508859999},{"$f":"VLOOKUP(A345, localcont!$D$10:$L$1764, 9)*F345","v":7918957.7150419783}]
[722,145,"Kingston                     ",760,"Silver Lake",16265842,{"$f":"VLOOKUP(A346, localcont!$D$10:$L$1764, 8)","v":12513783.944910623},{"$f":"VLOOKUP(A346, localcont!$D$10:$L$1764, 9)*F346","v":8346884.2849580208}]
[726,146,"Lakeville                    ",146,"Lakeville",13686711,{"$f":"VLOOKUP(A347, localcont!$D$10:$L$1764, 8)","v":134486.55000000002},{"$f":"VLOOKUP(A347, localcont!$D$10:$L$1764, 9)*F347","v":94600.807977088887}]
[727,146,"Lakeville                    ",665,"Freetown Lakeville",13686711,{"$f":"VLOOKUP(A348, localcont!$D$10:$L$1764, 8)","v":16911586.698090833},{"$f":"VLOOKUP(A348, localcont!$D$10:$L$1764, 9)*F348","v":11895983.396213088}]
[728,146,"Lakeville                    ",855,"Old Colony",13686711,{"$f":"VLOOKUP(A349, localcont!$D$10:$L$1764, 8)","v":2411250.4534449833},{"$f":"VLOOKUP(A349, localcont!$D$10:$L$1764, 9)*F349","v":1696126.7958098217}]
[731,147,"Lancaster                    ",147,"Lancaster",8637324,{"$f":"VLOOKUP(A350, localcont!$D$10:$L$1764, 8)","v":14942.95},{"$f":"VLOOKUP(A350, localcont!$D$10:$L$1764, 9)*F350","v":10843.671728836958}]
[732,147,"Lancaster                    ",725,"Nashoba",8637324,{"$f":"VLOOKUP(A351, localcont!$D$10:$L$1764, 8)","v":10720589.522494059},{"$f":"VLOOKUP(A351, localcont!$D$10:$L$1764, 9)*F351","v":7779625.4100786336}]
[733,147,"Lancaster                    ",830,"Minuteman",8637324,{"$f":"VLOOKUP(A352, localcont!$D$10:$L$1764, 8)","v":1166995.0009785411},{"$f":"VLOOKUP(A352, localcont!$D$10:$L$1764, 9)*F352","v":846854.91819252982}]
[736,148,"Lanesborough                 ",148,"Lanesborough",2613989,{"$f":"VLOOKUP(A353, localcont!$D$10:$L$1764, 8)","v":14942.95},{"$f":"VLOOKUP(A353, localcont!$D$10:$L$1764, 9)*F353","v":8491.1557510454641}]
[737,148,"Lanesborough                 ",715,"Mount Greylock",2613989,{"$f":"VLOOKUP(A354, localcont!$D$10:$L$1764, 8)","v":4159526.491164797},{"$f":"VLOOKUP(A354, localcont!$D$10:$L$1764, 9)*F354","v":2363602.0522774905}]
[738,148,"Lanesborough                 ",851,"Northern Berkshire",2613989,{"$f":"VLOOKUP(A355, localcont!$D$10:$L$1764, 8)","v":425694.3142510294},{"$f":"VLOOKUP(A355, localcont!$D$10:$L$1764, 9)*F355","v":241895.79197146368}]
[741,149,"Lawrence                     ",149,"Lawrence",37926746,{"$f":"VLOOKUP(A356, localcont!$D$10:$L$1764, 8)","v":232840932.91999999},{"$f":"VLOOKUP(A356, localcont!$D$10:$L$1764, 9)*F356","v":33930850.836811684}]
[742,149,"Lawrence                     ",823,"Greater Lawrence",37926746,{"$f":"VLOOKUP(A357, localcont!$D$10:$L$1764, 8)","v":27420708.137323868},{"$f":"VLOOKUP(A357, localcont!$D$10:$L$1764, 9)*F357","v":3995895.163188322}]
[746,150,"Lee                          ",150,"Lee",6100327,{"$f":"VLOOKUP(A358, localcont!$D$10:$L$1764, 8)","v":7346478.3700000001},{"$f":"VLOOKUP(A358, localcont!$D$10:$L$1764, 9)*F358","v":6100327}]
[751,151,"Leicester                    ",151,"Leicester",8835023,{"$f":"VLOOKUP(A359, localcont!$D$10:$L$1764, 8)","v":17880645.889999997},{"$f":"VLOOKUP(A359, localcont!$D$10:$L$1764, 9)*F359","v":8835023}]
[756,152,"Lenox                        ",152,"Lenox",8268123,{"$f":"VLOOKUP(A360, localcont!$D$10:$L$1764, 8)","v":5870128.3400000008},{"$f":"VLOOKUP(A360, localcont!$D$10:$L$1764, 9)*F360","v":8268123}]
[761,153,"Leominster                   ",153,"Leominster",32538402,{"$f":"VLOOKUP(A361, localcont!$D$10:$L$1764, 8)","v":81156930.920000002},{"$f":"VLOOKUP(A361, localcont!$D$10:$L$1764, 9)*F361","v":32538402}]
[766,154,"Leverett                     ",154,"Leverett",2199441,{"$f":"VLOOKUP(A362, localcont!$D$10:$L$1764, 8)","v":1140383.8500000001},{"$f":"VLOOKUP(A362, localcont!$D$10:$L$1764, 9)*F362","v":1144211.355091386}]
[767,154,"Leverett                     ",605,"Amherst Pelham",2199441,{"$f":"VLOOKUP(A363, localcont!$D$10:$L$1764, 8)","v":1051699.7928227233},{"$f":"VLOOKUP(A363, localcont!$D$10:$L$1764, 9)*F363","v":1055229.644908614}]
[771,155,"Lexington                    ",155,"Lexington",136709335,{"$f":"VLOOKUP(A364, localcont!$D$10:$L$1764, 8)","v":80473764.459500015},{"$f":"VLOOKUP(A364, localcont!$D$10:$L$1764, 9)*F364","v":134160020.63451515}]
[772,155,"Lexington                    ",830,"Minuteman",136709335,{"$f":"VLOOKUP(A365, localcont!$D$10:$L$1764, 8)","v":1529165.8633545984},{"$f":"VLOOKUP(A365, localcont!$D$10:$L$1764, 9)*F365","v":2549314.3654848691}]
[776,156,"Leyden                       ",156,"Leyden",734804,{"$f":"VLOOKUP(A366, localcont!$D$10:$L$1764, 8)","v":0},{"$f":"VLOOKUP(A366, localcont!$D$10:$L$1764, 9)*F366","v":0}]
[777,156,"Leyden                       ",750,"Pioneer",734804,{"$f":"VLOOKUP(A367, localcont!$D$10:$L$1764, 8)","v":594061.86755906825},{"$f":"VLOOKUP(A367, localcont!$D$10:$L$1764, 9)*F367","v":714057.06287362042}]
[778,156,"Leyden                       ",818,"Franklin County",734804,{"$f":"VLOOKUP(A368, localcont!$D$10:$L$1764, 8)","v":17260.475186433407},{"$f":"VLOOKUP(A368, localcont!$D$10:$L$1764, 9)*F368","v":20746.937126379617}]
[781,157,"Lincoln                      ",157,"Lincoln",23169925,{"$f":"VLOOKUP(A369, localcont!$D$10:$L$1764, 8)","v":6318769.3612000002},{"$f":"VLOOKUP(A369, localcont!$D$10:$L$1764, 9)*F369","v":16871450.560908388}]
[782,157,"Lincoln                      ",695,"Lincoln Sudbury",23169925,{"$f":"VLOOKUP(A370, localcont!$D$10:$L$1764, 8)","v":2358932.1596477251},{"$f":"VLOOKUP(A370, localcont!$D$10:$L$1764, 9)*F370","v":6298474.4390916135}]
[786,158,"Littleton                    ",158,"Littleton",15210636,{"$f":"VLOOKUP(A371, localcont!$D$10:$L$1764, 8)","v":16203700.729959998},{"$f":"VLOOKUP(A371, localcont!$D$10:$L$1764, 9)*F371","v":14618400.844482839}]
[787,158,"Littleton                    ",852,"Nashoba Valley",15210636,{"$f":"VLOOKUP(A372, localcont!$D$10:$L$1764, 8)","v":656460.3969922727},{"$f":"VLOOKUP(A372, localcont!$D$10:$L$1764, 9)*F372","v":592235.15551716008}]
[791,159,"Longmeadow                   ",159,"Longmeadow",24908016,{"$f":"VLOOKUP(A373, localcont!$D$10:$L$1764, 8)","v":29088744.440000001},{"$f":"VLOOKUP(A373, localcont!$D$10:$L$1764, 9)*F373","v":24908016}]
[796,160,"Lowell                       ",160,"Lowell",69210516,{"$f":"VLOOKUP(A374, localcont!$D$10:$L$1764, 8)","v":231415706.88999999},{"$f":"VLOOKUP(A374, localcont!$D$10:$L$1764, 9)*F374","v":59980504.556255139}]
[797,160,"Lowell                       ",828,"Greater Lowell",69210516,{"$f":"VLOOKUP(A375, localcont!$D$10:$L$1764, 8)","v":35611064.606062151},{"$f":"VLOOKUP(A375, localcont!$D$10:$L$1764, 9)*F375","v":9230011.4437448643}]
[801,161,"Ludlow                       ",161,"Ludlow",16602458,{"$f":"VLOOKUP(A376, localcont!$D$10:$L$1764, 8)","v":28762531.389999997},{"$f":"VLOOKUP(A376, localcont!$D$10:$L$1764, 9)*F376","v":16602458}]
[806,162,"Lunenburg                    ",162,"Lunenburg",12011358,{"$f":"VLOOKUP(A377, localcont!$D$10:$L$1764, 8)","v":18380186.040000003},{"$f":"VLOOKUP(A377, localcont!$D$10:$L$1764, 9)*F377","v":11122921.904663103}]
[807,162,"Lunenburg                    ",832,"Montachusett",12011358,{"$f":"VLOOKUP(A378, localcont!$D$10:$L$1764, 8)","v":1468105.3105387199},{"$f":"VLOOKUP(A378, localcont!$D$10:$L$1764, 9)*F378","v":888436.09533689753}]
[811,163,"Lynn                         ",163,"Lynn",63284528,{"$f":"VLOOKUP(A379, localcont!$D$10:$L$1764, 8)","v":266558842.58999997},{"$f":"VLOOKUP(A379, localcont!$D$10:$L$1764, 9)*F379","v":63284528}]
[816,164,"Lynnfield                    ",164,"Lynnfield",27086492,{"$f":"VLOOKUP(A380, localcont!$D$10:$L$1764, 8)","v":23894429.729009997},{"$f":"VLOOKUP(A380, localcont!$D$10:$L$1764, 9)*F380","v":26154626.485710666}]
[817,164,"Lynnfield                    ",817,"Essex North Shore",27086492,{"$f":"VLOOKUP(A381, localcont!$D$10:$L$1764, 8)","v":851336.76293329289},{"$f":"VLOOKUP(A381, localcont!$D$10:$L$1764, 9)*F381","v":931865.51428933535}]
[821,165,"Malden                       ",165,"Malden",56788631,{"$f":"VLOOKUP(A382, localcont!$D$10:$L$1764, 8)","v":97406250.094940007},{"$f":"VLOOKUP(A382, localcont!$D$10:$L$1764, 9)*F382","v":55074525.890353009}]
[822,165,"Malden                       ",853,"Northeast Metropolitan",56788631,{"$f":"VLOOKUP(A383, localcont!$D$10:$L$1764, 8)","v":3031611.226789251},{"$f":"VLOOKUP(A383, localcont!$D$10:$L$1764, 9)*F383","v":1714105.1096469918}]
[826,166,"Manchester                   ",166,"Manchester",20314270,{"$f":"VLOOKUP(A384, localcont!$D$10:$L$1764, 8)","v":0},{"$f":"VLOOKUP(A384, localcont!$D$10:$L$1764, 9)*F384","v":0}]
[827,166,"Manchester                   ",698,"Manchester Essex",20314270,{"$f":"VLOOKUP(A385, localcont!$D$10:$L$1764, 8)","v":8435512.1000569388},{"$f":"VLOOKUP(A385, localcont!$D$10:$L$1764, 9)*F385","v":19845513.710680958}]
[828,166,"Manchester                   ",817,"Essex North Shore",20314270,{"$f":"VLOOKUP(A386, localcont!$D$10:$L$1764, 8)","v":199249.02968878078},{"$f":"VLOOKUP(A386, localcont!$D$10:$L$1764, 9)*F386","v":468756.2893190427}]
[831,167,"Mansfield                    ",167,"Mansfield",31259710,{"$f":"VLOOKUP(A387, localcont!$D$10:$L$1764, 8)","v":41523845.582419999},{"$f":"VLOOKUP(A387, localcont!$D$10:$L$1764, 9)*F387","v":29788891.720295347}]
[832,167,"Mansfield                    ",872,"Southeastern",31259710,{"$f":"VLOOKUP(A388, localcont!$D$10:$L$1764, 8)","v":1997110.4815241569},{"$f":"VLOOKUP(A388, localcont!$D$10:$L$1764, 9)*F388","v":1432711.9045249771}]
[833,167,"Mansfield                    ",910,"Bristol County",31259710,{"$f":"VLOOKUP(A389, localcont!$D$10:$L$1764, 8)","v":53117.895540531121},{"$f":"VLOOKUP(A389, localcont!$D$10:$L$1764, 9)*F389","v":38106.375179681112}]
[836,168,"Marblehead                   ",168,"Marblehead",50619706,{"$f":"VLOOKUP(A390, localcont!$D$10:$L$1764, 8)","v":30162422.010000002},{"$f":"VLOOKUP(A390, localcont!$D$10:$L$1764, 9)*F390","v":49461282.659403615}]
[837,168,"Marblehead                   ",817,"Essex North Shore",50619706,{"$f":"VLOOKUP(A391, localcont!$D$10:$L$1764, 8)","v":706428.37764457299},{"$f":"VLOOKUP(A391, localcont!$D$10:$L$1764, 9)*F391","v":1158423.3405963855}]
[841,169,"Marion                       ",169,"Marion",11059955,{"$f":"VLOOKUP(A392, localcont!$D$10:$L$1764, 8)","v":4366552.4799999986},{"$f":"VLOOKUP(A392, localcont!$D$10:$L$1764, 9)*F392","v":5809943.4675298231}]
[842,169,"Marion                       ",740,"Old Rochester",{"$f":"VLOOKUP(B393, town351, 7)","v":11059955},{"$f":"VLOOKUP(A393, localcont!$D$10:$L$1764, 8)","v":3641625.4480914976},{"$f":"VLOOKUP(A393, localcont!$D$10:$L$1764, 9)*F393","v":4845387.3118981887}]
[843,169,"Marion                       ",879,"Upper Cape Cod",11059955,{"$f":"VLOOKUP(A394, localcont!$D$10:$L$1764, 8)","v":304101.56375546701},{"$f":"VLOOKUP(A394, localcont!$D$10:$L$1764, 9)*F394","v":404624.2205719878}]
[846,170,"Marlborough                  ",170,"Marlborough",44345522,{"$f":"VLOOKUP(A395, localcont!$D$10:$L$1764, 8)","v":68564199.290899992},{"$f":"VLOOKUP(A395, localcont!$D$10:$L$1764, 9)*F395","v":39515808.638120055}]
[847,170,"Marlborough                  ",801,"Assabet Valley",44345522,{"$f":"VLOOKUP(A396, localcont!$D$10:$L$1764, 8)","v":8380074.7314686114},{"$f":"VLOOKUP(A396, localcont!$D$10:$L$1764, 9)*F396","v":4829713.361879942}]
[851,171,"Marshfield                   ",171,"Marshfield",37088946,{"$f":"VLOOKUP(A397, localcont!$D$10:$L$1764, 8)","v":43215478.693449996},{"$f":"VLOOKUP(A397, localcont!$D$10:$L$1764, 9)*F397","v":37088946}]
[856,172,"Mashpee                      ",172,"Mashpee",28398993,{"$f":"VLOOKUP(A398, localcont!$D$10:$L$1764, 8)","v":18191214.660000004},{"$f":"VLOOKUP(A398, localcont!$D$10:$L$1764, 9)*F398","v":27004255.49299768}]
[857,172,"Mashpee                      ",815,"Cape Cod",28398993,{"$f":"VLOOKUP(A399, localcont!$D$10:$L$1764, 8)","v":939554.48580360028},{"$f":"VLOOKUP(A399, localcont!$D$10:$L$1764, 9)*F399","v":1394737.5070023211}]
[861,173,"Mattapoisett                 ",173,"Mattapoisett",11906016,{"$f":"VLOOKUP(A400, localcont!$D$10:$L$1764, 8)","v":4245573.87},{"$f":"VLOOKUP(A400, localcont!$D$10:$L$1764, 9)*F400","v":5360964.466399082}]
[862,173,"Mattapoisett                 ",740,"Old Rochester",11906016,{"$f":"VLOOKUP(A401, localcont!$D$10:$L$1764, 8)","v":4408886.1557067474},{"$f":"VLOOKUP(A401, localcont!$D$10:$L$1764, 9)*F401","v":5567181.9030539496}]
[863,173,"Mattapoisett                 ",855,"Old Colony",11906016,{"$f":"VLOOKUP(A402, localcont!$D$10:$L$1764, 8)","v":774416.20397558343},{"$f":"VLOOKUP(A402, localcont!$D$10:$L$1764, 9)*F402","v":977869.63054696913}]
[866,174,"Maynard                      ",174,"Maynard",11930279,{"$f":"VLOOKUP(A403, localcont!$D$10:$L$1764, 8)","v":14846690.595790001},{"$f":"VLOOKUP(A403, localcont!$D$10:$L$1764, 9)*F403","v":10878476.310731104}]
[867,174,"Maynard                      ",801,"Assabet Valley",11930279,{"$f":"VLOOKUP(A404, localcont!$D$10:$L$1764, 8)","v":1435475.7641923542},{"$f":"VLOOKUP(A404, localcont!$D$10:$L$1764, 9)*F404","v":1051802.6892688961}]
[871,175,"Medfield                     ",175,"Medfield",28057858,{"$f":"VLOOKUP(A405, localcont!$D$10:$L$1764, 8)","v":26386600.917599998},{"$f":"VLOOKUP(A405, localcont!$D$10:$L$1764, 9)*F405","v":27764006.953407653}]
[872,175,"Medfield                     ",878,"Tri County",28057858,{"$f":"VLOOKUP(A406, localcont!$D$10:$L$1764, 8)","v":168034.92017952781},{"$f":"VLOOKUP(A406, localcont!$D$10:$L$1764, 9)*F406","v":176806.50519741312}]
[873,175,"Medfield                     ",915,"Norfolk County",28057858,{"$f":"VLOOKUP(A407, localcont!$D$10:$L$1764, 8)","v":111237.81983466672},{"$f":"VLOOKUP(A407, localcont!$D$10:$L$1764, 9)*F407","v":117044.54139493243}]
[876,176,"Medford                      ",176,"Medford",76158415,{"$f":"VLOOKUP(A408, localcont!$D$10:$L$1764, 8)","v":59041525.514499992},{"$f":"VLOOKUP(A408, localcont!$D$10:$L$1764, 9)*F408","v":76158415}]
[881,177,"Medway                       ",177,"Medway",18868339,{"$f":"VLOOKUP(A409, localcont!$D$10:$L$1764, 8)","v":23100506.070399996},{"$f":"VLOOKUP(A409, localcont!$D$10:$L$1764, 9)*F409","v":17750517.559795074}]
[882,177,"Medway                       ",878,"Tri County",18868339,{"$f":"VLOOKUP(A410, localcont!$D$10:$L$1764, 8)","v":1232256.0816541007},{"$f":"VLOOKUP(A410, localcont!$D$10:$L$1764, 9)*F410","v":946870.30443860067}]
[883,177,"Medway                       ",915,"Norfolk County",18868339,{"$f":"VLOOKUP(A411, localcont!$D$10:$L$1764, 8)","v":222475.63972198599},{"$f":"VLOOKUP(A411, localcont!$D$10:$L$1764, 9)*F411","v":170951.13576632459}]
[886,178,"Melrose                      ",178,"Melrose",42907269,{"$f":"VLOOKUP(A412, localcont!$D$10:$L$1764, 8)","v":44275634.769020006},{"$f":"VLOOKUP(A412, localcont!$D$10:$L$1764, 9)*F412","v":42073348.073391326}]
[887,178,"Melrose                      ",853,"Northeast Metropolitan",42907269,{"$f":"VLOOKUP(A413, localcont!$D$10:$L$1764, 8)","v":877571.67098663631},{"$f":"VLOOKUP(A413, localcont!$D$10:$L$1764, 9)*F413","v":833920.92660867423}]
[891,179,"Mendon                       ",179,"Mendon",8629518,{"$f":"VLOOKUP(A414, localcont!$D$10:$L$1764, 8)","v":89657.700000000012},{"$f":"VLOOKUP(A414, localcont!$D$10:$L$1764, 9)*F414","v":68394.873192708779}]
[892,179,"Mendon                       ",710,"Mendon Upton",8629518,{"$f":"VLOOKUP(A415, localcont!$D$10:$L$1764, 8)","v":10042289.715869002},{"$f":"VLOOKUP(A415, localcont!$D$10:$L$1764, 9)*F415","v":7660704.3419729015}]
[893,179,"Mendon                       ",805,"Blackstone Valley",8629518,{"$f":"VLOOKUP(A416, localcont!$D$10:$L$1764, 8)","v":1180343.9865672921},{"$f":"VLOOKUP(A416, localcont!$D$10:$L$1764, 9)*F416","v":900418.78483439016}]
[896,180,"Merrimac                     ",180,"Merrimac",7116505,{"$f":"VLOOKUP(A417, localcont!$D$10:$L$1764, 8)","v":134486.55000000002},{"$f":"VLOOKUP(A417, localcont!$D$10:$L$1764, 9)*F417","v":98639.766691935263}]
[897,180,"Merrimac                     ",745,"Pentucket",7116505,{"$f":"VLOOKUP(A418, localcont!$D$10:$L$1764, 8)","v":8645686.9817746989},{"$f":"VLOOKUP(A418, localcont!$D$10:$L$1764, 9)*F418","v":6341218.112694229}]
[898,180,"Merrimac                     ",885,"Whittier",7116505,{"$f":"VLOOKUP(A419, localcont!$D$10:$L$1764, 8)","v":922548.17575748265},{"$f":"VLOOKUP(A419, localcont!$D$10:$L$1764, 9)*F419","v":676647.12061383505}]
[901,181,"Methuen                      ",181,"Methuen",44882854,{"$f":"VLOOKUP(A420, localcont!$D$10:$L$1764, 8)","v":89081373.360000014},{"$f":"VLOOKUP(A420, localcont!$D$10:$L$1764, 9)*F420","v":41803550.341413759}]
[902,181,"Methuen                      ",823,"Greater Lawrence",44882854,{"$f":"VLOOKUP(A421, localcont!$D$10:$L$1764, 8)","v":6561849.332389934},{"$f":"VLOOKUP(A421, localcont!$D$10:$L$1764, 9)*F421","v":3079303.6585862404}]
[906,182,"Middleborough                ",182,"Middleborough",20980748,{"$f":"VLOOKUP(A422, localcont!$D$10:$L$1764, 8)","v":35701074.940000005},{"$f":"VLOOKUP(A422, localcont!$D$10:$L$1764, 9)*F422","v":19002352.865668237}]
[907,182,"Middleborough                ",810,"Bristol Plymouth",20980748,{"$f":"VLOOKUP(A423, localcont!$D$10:$L$1764, 8)","v":3716951.9717381555},{"$f":"VLOOKUP(A423, localcont!$D$10:$L$1764, 9)*F423","v":1978395.1343317656}]
[911,183,"Middlefield                  ",183,"Middlefield",372111,{"$f":"VLOOKUP(A424, localcont!$D$10:$L$1764, 8)","v":44828.850000000006},{"$f":"VLOOKUP(A424, localcont!$D$10:$L$1764, 9)*F424","v":46510.231751904073}]
[912,183,"Middlefield                  ",672,"Gateway",372111,{"$f":"VLOOKUP(A425, localcont!$D$10:$L$1764, 8)","v":313830.04233431071},{"$f":"VLOOKUP(A425, localcont!$D$10:$L$1764, 9)*F425","v":325600.76824809593}]
[916,184,"Middleton                    ",184,"Middleton",15770790,{"$f":"VLOOKUP(A426, localcont!$D$10:$L$1764, 8)","v":6916385.8156800009},{"$f":"VLOOKUP(A426, localcont!$D$10:$L$1764, 9)*F426","v":7345263.8822436761}]
[917,184,"Middleton                    ",705,"Masconomet",15770790,{"$f":"VLOOKUP(A427, localcont!$D$10:$L$1764, 8)","v":7046009.4289377229},{"$f":"VLOOKUP(A427, localcont!$D$10:$L$1764, 9)*F427","v":7482925.3242339911}]
[918,184,"Middleton                    ",817,"Essex North Shore",15770790,{"$f":"VLOOKUP(A428, localcont!$D$10:$L$1764, 8)","v":887563.85920000018},{"$f":"VLOOKUP(A428, localcont!$D$10:$L$1764, 9)*F428","v":942600.79352233245}]
[921,185,"Milford                      ",185,"Milford",27189903,{"$f":"VLOOKUP(A429, localcont!$D$10:$L$1764, 8)","v":58311889.735019997},{"$f":"VLOOKUP(A429, localcont!$D$10:$L$1764, 9)*F429","v":26045119.457307607}]
[922,185,"Milford                      ",805,"Blackstone Valley",27189903,{"$f":"VLOOKUP(A430, localcont!$D$10:$L$1764, 8)","v":2563032.656516178},{"$f":"VLOOKUP(A430, localcont!$D$10:$L$1764, 9)*F430","v":1144783.5426923919}]
[926,186,"Millbury                     ",186,"Millbury",13422419,{"$f":"VLOOKUP(A431, localcont!$D$10:$L$1764, 8)","v":19068853.890000001},{"$f":"VLOOKUP(A431, localcont!$D$10:$L$1764, 9)*F431","v":12372145.935132774}]
[927,186,"Millbury                     ",805,"Blackstone Valley",13422419,{"$f":"VLOOKUP(A432, localcont!$D$10:$L$1764, 8)","v":1618757.467262344},{"$f":"VLOOKUP(A432, localcont!$D$10:$L$1764, 9)*F432","v":1050273.0648672264}]
[931,187,"Millis                       ",187,"Millis",10150021,{"$f":"VLOOKUP(A433, localcont!$D$10:$L$1764, 8)","v":11827839.3332},{"$f":"VLOOKUP(A433, localcont!$D$10:$L$1764, 9)*F433","v":9141074.5199819691}]
[932,187,"Millis                       ",878,"Tri County",10150021,{"$f":"VLOOKUP(A434, localcont!$D$10:$L$1764, 8)","v":1101562.2548478013},{"$f":"VLOOKUP(A434, localcont!$D$10:$L$1764, 9)*F434","v":851335.76609370846}]
[933,187,"Millis                       ",915,"Norfolk County",10150021,{"$f":"VLOOKUP(A435, localcont!$D$10:$L$1764, 8)","v":203936.0030828749},{"$f":"VLOOKUP(A435, localcont!$D$10:$L$1764, 9)*F435","v":157610.71392432225}]
[936,188,"Millville                    ",188,"Millville",2595322,{"$f":"VLOOKUP(A436, localcont!$D$10:$L$1764, 8)","v":119543.6},{"$f":"VLOOKUP(A436, localcont!$D$10:$L$1764, 9)*F436","v":56111.317454342716}]
[937,188,"Millville                    ",622,"Blackstone Millville",2595322,{"$f":"VLOOKUP(A437, localcont!$D$10:$L$1764, 8)","v":4836407.7448092308},{"$f":"VLOOKUP(A437, localcont!$D$10:$L$1764, 9)*F437","v":2270110.7404129747}]
[938,188,"Millville                    ",805,"Blackstone Valley",2595322,{"$f":"VLOOKUP(A438, localcont!$D$10:$L$1764, 8)","v":573309.93642251135},{"$f":"VLOOKUP(A438, localcont!$D$10:$L$1764, 9)*F438","v":269099.94213268277}]
[941,189,"Milton                       ",189,"Milton",52041264,{"$f":"VLOOKUP(A439, localcont!$D$10:$L$1764, 8)","v":48026381.270000011},{"$f":"VLOOKUP(A439, localcont!$D$10:$L$1764, 9)*F439","v":51115473.119582355}]
[942,189,"Milton                       ",806,"Blue Hills",52041264,{"$f":"VLOOKUP(A440, localcont!$D$10:$L$1764, 8)","v":814223.09849388024},{"$f":"VLOOKUP(A440, localcont!$D$10:$L$1764, 9)*F440","v":866594.52167396201}]
[943,189,"Milton                       ",915,"Norfolk County",52041264,{"$f":"VLOOKUP(A441, localcont!$D$10:$L$1764, 8)","v":55618.90991733336},{"$f":"VLOOKUP(A441, localcont!$D$10:$L$1764, 9)*F441","v":59196.358743685225}]
[946,190,"Monroe                       ",190,"Monroe",111521,{"$f":"VLOOKUP(A442, localcont!$D$10:$L$1764, 8)","v":147405.71000000002},{"$f":"VLOOKUP(A442, localcont!$D$10:$L$1764, 9)*F442","v":81006.981207536548}]
[947,190,"Monroe                       ",851,"Northern Berkshire",111521,{"$f":"VLOOKUP(A443, localcont!$D$10:$L$1764, 8)","v":55525.345322187466},{"$f":"VLOOKUP(A443, localcont!$D$10:$L$1764, 9)*F443","v":30514.018792463448}]
[951,191,"Monson                       ",191,"Monson",6756665,{"$f":"VLOOKUP(A444, localcont!$D$10:$L$1764, 8)","v":10383546.389999999},{"$f":"VLOOKUP(A444, localcont!$D$10:$L$1764, 9)*F444","v":5980205.238211751}]
[952,191,"Monson                       ",860,"Pathfinder",6756665,{"$f":"VLOOKUP(A445, localcont!$D$10:$L$1764, 8)","v":1348182.1501677304},{"$f":"VLOOKUP(A445, localcont!$D$10:$L$1764, 9)*F445","v":776459.76178824995}]
[956,192,"Montague                     ",192,"Montague",6047556,{"$f":"VLOOKUP(A446, localcont!$D$10:$L$1764, 8)","v":0},{"$f":"VLOOKUP(A446, localcont!$D$10:$L$1764, 9)*F446","v":0}]
[957,192,"Montague                     ",674,"Gill Montague",6047556,{"$f":"VLOOKUP(A447, localcont!$D$10:$L$1764, 8)","v":10916656.163124181},{"$f":"VLOOKUP(A447, localcont!$D$10:$L$1764, 9)*F447","v":5172480.102637995}]
[958,192,"Montague                     ",818,"Franklin County",6047556,{"$f":"VLOOKUP(A448, localcont!$D$10:$L$1764, 8)","v":1846870.8431118599},{"$f":"VLOOKUP(A448, localcont!$D$10:$L$1764, 9)*F448","v":875075.89736200497}]
[961,193,"Monterey                     ",193,"Monterey",2193149,{"$f":"VLOOKUP(A449, localcont!$D$10:$L$1764, 8)","v":0},{"$f":"VLOOKUP(A449, localcont!$D$10:$L$1764, 9)*F449","v":0}]
[962,193,"Monterey                     ",765,"Southern Berkshire",2193149,{"$f":"VLOOKUP(A450, localcont!$D$10:$L$1764, 8)","v":924814.03722964809},{"$f":"VLOOKUP(A450, localcont!$D$10:$L$1764, 9)*F450","v":2193149}]
[966,194,"Montgomery                   ",194,"Montgomery",858933,{"$f":"VLOOKUP(A451, localcont!$D$10:$L$1764, 8)","v":59771.8},{"$f":"VLOOKUP(A451, localcont!$D$10:$L$1764, 9)*F451","v":57515.499810496833}]
[967,194,"Montgomery                   ",672,"Gateway",858933,{"$f":"VLOOKUP(A452, localcont!$D$10:$L$1764, 8)","v":832856.65074033814},{"$f":"VLOOKUP(A452, localcont!$D$10:$L$1764, 9)*F452","v":801417.50018950307}]
[971,195,"Mount Washington             ",195,"Mount Washington",392999,{"$f":"VLOOKUP(A453, localcont!$D$10:$L$1764, 8)","v":43434.66},{"$f":"VLOOKUP(A453, localcont!$D$10:$L$1764, 9)*F453","v":392999}]
[976,196,"Nahant                       ",196,"Nahant",7255813,{"$f":"VLOOKUP(A454, localcont!$D$10:$L$1764, 8)","v":2840964.3000000003},{"$f":"VLOOKUP(A454, localcont!$D$10:$L$1764, 9)*F454","v":6780282.6529235886}]
[977,196,"Nahant                       ",817,"Essex North Shore",7255813,{"$f":"VLOOKUP(A455, localcont!$D$10:$L$1764, 8)","v":199249.02968878078},{"$f":"VLOOKUP(A455, localcont!$D$10:$L$1764, 9)*F455","v":475530.34707641246}]
[981,197,"Nantucket                    ",197,"Nantucket",97712792,{"$f":"VLOOKUP(A456, localcont!$D$10:$L$1764, 8)","v":20062013.989999998},{"$f":"VLOOKUP(A456, localcont!$D$10:$L$1764, 9)*F456","v":97712792}]
[986,198,"Natick                       ",198,"Natick",{"$f":"VLOOKUP(B457, town351, 7)","v":64497549},{"$f":"VLOOKUP(A457, localcont!$D$10:$L$1764, 8)","v":57416261.712559983},{"$f":"VLOOKUP(A457, localcont!$D$10:$L$1764, 9)*F457","v":63249625.416492239}]
[987,198,"Natick                       ",829,"South Middlesex",64497549,{"$f":"VLOOKUP(A458, localcont!$D$10:$L$1764, 8)","v":1132830.5360884287},{"$f":"VLOOKUP(A458, localcont!$D$10:$L$1764, 9)*F458","v":1247923.5835077593}]
[991,199,"Needham                      ",199,"Needham",92920042,{"$f":"VLOOKUP(A459, localcont!$D$10:$L$1764, 8)","v":62670272.533059999},{"$f":"VLOOKUP(A459, localcont!$D$10:$L$1764, 9)*F459","v":92038205.901229158}]
[992,199,"Needham                      ",830,"Minuteman",92920042,{"$f":"VLOOKUP(A460, localcont!$D$10:$L$1764, 8)","v":563376.89705137629},{"$f":"VLOOKUP(A460, localcont!$D$10:$L$1764, 9)*F460","v":827381.09720931784}]
[993,199,"Needham                      ",915,"Norfolk County",92920042,{"$f":"VLOOKUP(A461, localcont!$D$10:$L$1764, 8)","v":37079.273278222237},{"$f":"VLOOKUP(A461, localcont!$D$10:$L$1764, 9)*F461","v":54455.001561524725}]
[996,200,"New Ashford                  ",200,"New Ashford",230029,{"$f":"VLOOKUP(A462, localcont!$D$10:$L$1764, 8)","v":234257.91999999998},{"$f":"VLOOKUP(A462, localcont!$D$10:$L$1764, 9)*F462","v":230029}]
[1001,201,"New Bedford                  ",201,"New Bedford",48893253,{"$f":"VLOOKUP(A463, localcont!$D$10:$L$1764, 8)","v":205027128.52999997},{"$f":"VLOOKUP(A463, localcont!$D$10:$L$1764, 9)*F463","v":42234272.765635625}]
[1002,201,"New Bedford                  ",825,"Greater New Bedford",48893253,{"$f":"VLOOKUP(A464, localcont!$D$10:$L$1764, 8)","v":31405443.594766911},{"$f":"VLOOKUP(A464, localcont!$D$10:$L$1764, 9)*F464","v":6469319.843754678}]
[1003,201,"New Bedford                  ",910,"Bristol County",48893253,{"$f":"VLOOKUP(A465, localcont!$D$10:$L$1764, 8)","v":920710.18952702533},{"$f":"VLOOKUP(A465, localcont!$D$10:$L$1764, 9)*F465","v":189660.39060969756}]
[1006,202,"New Braintree                ",202,"New Braintree",997108,{"$f":"VLOOKUP(A466, localcont!$D$10:$L$1764, 8)","v":44828.850000000006},{"$f":"VLOOKUP(A466, localcont!$D$10:$L$1764, 9)*F466","v":28730.268420197521}]
[1007,202,"New Braintree                ",753,"Quabbin",997108,{"$f":"VLOOKUP(A467, localcont!$D$10:$L$1764, 8)","v":1379920.6264931005},{"$f":"VLOOKUP(A467, localcont!$D$10:$L$1764, 9)*F467","v":884374.45969981153}]
[1008,202,"New Braintree                ",860,"Pathfinder",997108,{"$f":"VLOOKUP(A468, localcont!$D$10:$L$1764, 8)","v":131073.2645981815},{"$f":"VLOOKUP(A468, localcont!$D$10:$L$1764, 9)*F468","v":84003.271879990847}]
[1011,203,"Newbury                      ",203,"Newbury",13131718,{"$f":"VLOOKUP(A469, localcont!$D$10:$L$1764, 8)","v":46131.365639999989},{"$f":"VLOOKUP(A469, localcont!$D$10:$L$1764, 9)*F469","v":80512.223788014511}]
[1012,203,"Newbury                      ",773,"Triton",13131718,{"$f":"VLOOKUP(A470, localcont!$D$10:$L$1764, 8)","v":7164327.8597879587},{"$f":"VLOOKUP(A470, localcont!$D$10:$L$1764, 9)*F470","v":12503769.613917619}]
[1013,203,"Newbury                      ",885,"Whittier",13131718,{"$f":"VLOOKUP(A471, localcont!$D$10:$L$1764, 8)","v":313666.37982640311},{"$f":"VLOOKUP(A471, localcont!$D$10:$L$1764, 9)*F471","v":547436.162294365}]
[1016,204,"Newburyport                  ",204,"Newburyport",34627312,{"$f":"VLOOKUP(A472, localcont!$D$10:$L$1764, 8)","v":23983861.739999995},{"$f":"VLOOKUP(A472, localcont!$D$10:$L$1764, 9)*F472","v":33769988.379801989}]
[1017,204,"Newburyport                  ",885,"Whittier",34627312,{"$f":"VLOOKUP(A473, localcont!$D$10:$L$1764, 8)","v":608881.79593107954},{"$f":"VLOOKUP(A473, localcont!$D$10:$L$1764, 9)*F473","v":857323.62019801757}]
[1021,205,"New Marlborough              ",205,"New Marlborough",2653469,{"$f":"VLOOKUP(A474, localcont!$D$10:$L$1764, 8)","v":0},{"$f":"VLOOKUP(A474, localcont!$D$10:$L$1764, 9)*F474","v":0}]
[1022,205,"New Marlborough              ",765,"Southern Berkshire",2653469,{"$f":"VLOOKUP(A475, localcont!$D$10:$L$1764, 8)","v":1456582.1085750572},{"$f":"VLOOKUP(A475, localcont!$D$10:$L$1764, 9)*F475","v":2653469}]
[1026,206,"New Salem                    ",206,"New Salem",778319,{"$f":"VLOOKUP(A476, localcont!$D$10:$L$1764, 8)","v":0},{"$f":"VLOOKUP(A476, localcont!$D$10:$L$1764, 9)*F476","v":0}]
[1027,206,"New Salem                    ",728,"New Salem Wendell",778319,{"$f":"VLOOKUP(A477, localcont!$D$10:$L$1764, 8)","v":504640.78082187433},{"$f":"VLOOKUP(A477, localcont!$D$10:$L$1764, 9)*F477","v":308262.76582658349}]
[1028,206,"New Salem                    ",755,"Ralph C Mahar",778319,{"$f":"VLOOKUP(A478, localcont!$D$10:$L$1764, 8)","v":614160.09231073142},{"$f":"VLOOKUP(A478, localcont!$D$10:$L$1764, 9)*F478","v":375163.27635606233}]
[1029,206,"New Salem                    ",818,"Franklin County",778319,{"$f":"VLOOKUP(A479, localcont!$D$10:$L$1764, 8)","v":155344.27649424921},{"$f":"VLOOKUP(A479, localcont!$D$10:$L$1764, 9)*F479","v":94892.957817354152}]
[1031,207,"Newton                       ",207,"Newton",300461938,{"$f":"VLOOKUP(A480, localcont!$D$10:$L$1764, 8)","v":140564444.81197003},{"$f":"VLOOKUP(A480, localcont!$D$10:$L$1764, 9)*F480","v":300461938}]
[1036,208,"Norfolk                      ",208,"Norfolk",16421430,{"$f":"VLOOKUP(A481, localcont!$D$10:$L$1764, 8)","v":10145341.33525},{"$f":"VLOOKUP(A481, localcont!$D$10:$L$1764, 9)*F481","v":8991706.6295852754}]
[1037,208,"Norfolk                      ",690,"King Philip",16421430,{"$f":"VLOOKUP(A482, localcont!$D$10:$L$1764, 8)","v":7656637.2615888547},{"$f":"VLOOKUP(A482, localcont!$D$10:$L$1764, 9)*F482","v":6785995.0444596512}]
[1038,208,"Norfolk                      ",878,"Tri County",16421430,{"$f":"VLOOKUP(A483, localcont!$D$10:$L$1764, 8)","v":466763.66733413673},{"$f":"VLOOKUP(A483, localcont!$D$10:$L$1764, 9)*F483","v":413687.60530859674}]
[1039,208,"Norfolk                      ",915,"Norfolk County",16421430,{"$f":"VLOOKUP(A484, localcont!$D$10:$L$1764, 8)","v":259554.91300020824},{"$f":"VLOOKUP(A484, localcont!$D$10:$L$1764, 9)*F484","v":230040.72064647707}]
[1041,209,"North Adams                  ",209,"North Adams",5876434,{"$f":"VLOOKUP(A485, localcont!$D$10:$L$1764, 8)","v":17776815.729999997},{"$f":"VLOOKUP(A485, localcont!$D$10:$L$1764, 9)*F485","v":5014917.1945941122}]
[1042,209,"North Adams                  ",851,"Northern Berkshire",5876434,{"$f":"VLOOKUP(A486, localcont!$D$10:$L$1764, 8)","v":3053893.9934058636},{"$f":"VLOOKUP(A486, localcont!$D$10:$L$1764, 9)*F486","v":861516.80540588847}]
[1046,210,"Northampton                  ",210,"Northampton",28724236,{"$f":"VLOOKUP(A487, localcont!$D$10:$L$1764, 8)","v":30598896.710000001},{"$f":"VLOOKUP(A487, localcont!$D$10:$L$1764, 9)*F487","v":26077304.100610822}]
[1047,210,"Northampton                  ",406,"Northampton Smith",28724236,{"$f":"VLOOKUP(A488, localcont!$D$10:$L$1764, 8)","v":3105888.38},{"$f":"VLOOKUP(A488, localcont!$D$10:$L$1764, 9)*F488","v":2646931.8993891757}]
[1051,211,"North Andover                ",211,"North Andover",45619202,{"$f":"VLOOKUP(A489, localcont!$D$10:$L$1764, 8)","v":51150448.170000009},{"$f":"VLOOKUP(A489, localcont!$D$10:$L$1764, 9)*F489","v":44950894.627791077}]
[1052,211,"North Andover                ",823,"Greater Lawrence",45619202,{"$f":"VLOOKUP(A490, localcont!$D$10:$L$1764, 8)","v":760479.22709567333},{"$f":"VLOOKUP(A490, localcont!$D$10:$L$1764, 9)*F490","v":668307.37220892671}]
[1056,212,"North Attleborough           ",212,"North Attleborough",32089180,{"$f":"VLOOKUP(A491, localcont!$D$10:$L$1764, 8)","v":45611148.409999996},{"$f":"VLOOKUP(A491, localcont!$D$10:$L$1764, 9)*F491","v":28869698.574197788}]
[1057,212,"North Attleborough           ",878,"Tri County",32089180,{"$f":"VLOOKUP(A492, localcont!$D$10:$L$1764, 8)","v":4891683.2330743922},{"$f":"VLOOKUP(A492, localcont!$D$10:$L$1764, 9)*F492","v":3096204.0067457054}]
[1058,212,"North Attleborough           ",910,"Bristol County",32089180,{"$f":"VLOOKUP(A493, localcont!$D$10:$L$1764, 8)","v":194765.61702703865},{"$f":"VLOOKUP(A493, localcont!$D$10:$L$1764, 9)*F493","v":123277.41905651023}]
[1061,213,"Northborough                 ",213,"Northborough",26716726,{"$f":"VLOOKUP(A494, localcont!$D$10:$L$1764, 8)","v":16495720.15},{"$f":"VLOOKUP(A494, localcont!$D$10:$L$1764, 9)*F494","v":15757980.439708194}]
[1062,213,"Northborough                 ",730,"Northboro Southboro",26716726,{"$f":"VLOOKUP(A495, localcont!$D$10:$L$1764, 8)","v":10327299.049745666},{"$f":"VLOOKUP(A495, localcont!$D$10:$L$1764, 9)*F495","v":9865430.2413653173}]
[1063,213,"Northborough                 ",801,"Assabet Valley",26716726,{"$f":"VLOOKUP(A496, localcont!$D$10:$L$1764, 8)","v":1144500.9470422526},{"$f":"VLOOKUP(A496, localcont!$D$10:$L$1764, 9)*F496","v":1093315.3189264867}]
[1066,214,"Northbridge                  ",214,"Northbridge",14801241,{"$f":"VLOOKUP(A497, localcont!$D$10:$L$1764, 8)","v":24014322.349999998},{"$f":"VLOOKUP(A497, localcont!$D$10:$L$1764, 9)*F497","v":13231151.004203077}]
[1067,214,"Northbridge                  ",805,"Blackstone Valley",14801241,{"$f":"VLOOKUP(A498, localcont!$D$10:$L$1764, 8)","v":2849687.6247274335},{"$f":"VLOOKUP(A498, localcont!$D$10:$L$1764, 9)*F498","v":1570089.9957969235}]
[1071,215,"North Brookfield             ",215,"North Brookfield",3448142,{"$f":"VLOOKUP(A499, localcont!$D$10:$L$1764, 8)","v":6846232.9400000013},{"$f":"VLOOKUP(A499, localcont!$D$10:$L$1764, 9)*F499","v":3100851.4560346846}]
[1072,215,"North Brookfield             ",876,"Southern Worcester",3448142,{"$f":"VLOOKUP(A500, localcont!$D$10:$L$1764, 8)","v":766767.44937867275},{"$f":"VLOOKUP(A500, localcont!$D$10:$L$1764, 9)*F500","v":347290.5439653151}]
[1076,216,"Northfield                   ",216,"Northfield",3010181,{"$f":"VLOOKUP(A501, localcont!$D$10:$L$1764, 8)","v":14942.95},{"$f":"VLOOKUP(A501, localcont!$D$10:$L$1764, 9)*F501","v":11798.657511806701}]
[1077,216,"Northfield                   ",750,"Pioneer",3010181,{"$f":"VLOOKUP(A502, localcont!$D$10:$L$1764, 8)","v":3331405.7671343083},{"$f":"VLOOKUP(A502, localcont!$D$10:$L$1764, 9)*F502","v":2630412.0457657538}]
[1078,216,"Northfield                   ",818,"Franklin County",3010181,{"$f":"VLOOKUP(A503, localcont!$D$10:$L$1764, 8)","v":466032.82957457332},{"$f":"VLOOKUP(A503, localcont!$D$10:$L$1764, 9)*F503","v":367970.29672243912}]
[1081,217,"North Reading                ",217,"North Reading",26338235,{"$f":"VLOOKUP(A504, localcont!$D$10:$L$1764, 8)","v":25088126.4848},{"$f":"VLOOKUP(A504, localcont!$D$10:$L$1764, 9)*F504","v":25645057.771943454}]
[1082,217,"North Reading                ",853,"Northeast Metropolitan",26338235,{"$f":"VLOOKUP(A505, localcont!$D$10:$L$1764, 8)","v":678123.56394421891},{"$f":"VLOOKUP(A505, localcont!$D$10:$L$1764, 9)*F505","v":693177.22805654607}]
[1086,218,"Norton                       ",218,"Norton",20512170,{"$f":"VLOOKUP(A506, localcont!$D$10:$L$1764, 8)","v":26287595.520000003},{"$f":"VLOOKUP(A506, localcont!$D$10:$L$1764, 9)*F506","v":18880576.593844403}]
[1087,218,"Norton                       ",872,"Southeastern",20512170,{"$f":"VLOOKUP(A507, localcont!$D$10:$L$1764, 8)","v":2112328.3936863211},{"$f":"VLOOKUP(A507, localcont!$D$10:$L$1764, 9)*F507","v":1517140.5843491498}]
[1088,218,"Norton                       ",910,"Bristol County",20512170,{"$f":"VLOOKUP(A508, localcont!$D$10:$L$1764, 8)","v":159353.68662159337},{"$f":"VLOOKUP(A508, localcont!$D$10:$L$1764, 9)*F508","v":114452.82180644535}]
[1091,219,"Norwell                      ",219,"Norwell",25675745,{"$f":"VLOOKUP(A509, localcont!$D$10:$L$1764, 8)","v":23314847.059410002},{"$f":"VLOOKUP(A509, localcont!$D$10:$L$1764, 9)*F509","v":25217866.726929702}]
[1092,219,"Norwell                      ",873,"South Shore",25675745,{"$f":"VLOOKUP(A510, localcont!$D$10:$L$1764, 8)","v":423325.33612213557},{"$f":"VLOOKUP(A510, localcont!$D$10:$L$1764, 9)*F510","v":457878.27307029662}]
[1096,220,"Norwood                      ",220,"Norwood",39196002,{"$f":"VLOOKUP(A511, localcont!$D$10:$L$1764, 8)","v":43568844.49052},{"$f":"VLOOKUP(A511, localcont!$D$10:$L$1764, 9)*F511","v":37366664.251982525}]
[1097,220,"Norwood                      ",806,"Blue Hills",39196002,{"$f":"VLOOKUP(A512, localcont!$D$10:$L$1764, 8)","v":1817800.4058372399},{"$f":"VLOOKUP(A512, localcont!$D$10:$L$1764, 9)*F512","v":1559030.0416807549}]
[1098,220,"Norwood                      ",915,"Norfolk County",39196002,{"$f":"VLOOKUP(A513, localcont!$D$10:$L$1764, 8)","v":315173.82291754161},{"$f":"VLOOKUP(A513, localcont!$D$10:$L$1764, 9)*F513","v":270307.70633671706}]
[1101,221,"Oak Bluffs                   ",221,"Oak Bluffs",13956459,{"$f":"VLOOKUP(A514, localcont!$D$10:$L$1764, 8)","v":5237854.1399999997},{"$f":"VLOOKUP(A514, localcont!$D$10:$L$1764, 9)*F514","v":8674134.0334173124}]
[1102,221,"Oak Bluffs                   ",700,"Marthas Vineyard",13956459,{"$f":"VLOOKUP(A515, localcont!$D$10:$L$1764, 8)","v":3189718.7187157422},{"$f":"VLOOKUP(A515, localcont!$D$10:$L$1764, 9)*F515","v":5282324.9665826857}]
[1106,222,"Oakham                       ",222,"Oakham",1743485,{"$f":"VLOOKUP(A516, localcont!$D$10:$L$1764, 8)","v":44828.850000000006},{"$f":"VLOOKUP(A516, localcont!$D$10:$L$1764, 9)*F516","v":25148.491712641226}]
[1107,222,"Oakham                       ",753,"Quabbin",1743485,{"$f":"VLOOKUP(A517, localcont!$D$10:$L$1764, 8)","v":2875800.9697064962},{"$f":"VLOOKUP(A517, localcont!$D$10:$L$1764, 9)*F517","v":1613292.7089111009}]
[1108,222,"Oakham                       ",860,"Pathfinder",1743485,{"$f":"VLOOKUP(A518, localcont!$D$10:$L$1764, 8)","v":187247.52082453191},{"$f":"VLOOKUP(A518, localcont!$D$10:$L$1764, 9)*F518","v":105043.79937625781}]
[1111,223,"Orange                       ",223,"Orange",4354292,{"$f":"VLOOKUP(A519, localcont!$D$10:$L$1764, 8)","v":6779224.3799999999},{"$f":"VLOOKUP(A519, localcont!$D$10:$L$1764, 9)*F519","v":2064336.1264923748}]
[1112,223,"Orange                       ",755,"Ralph C Mahar",4354292,{"$f":"VLOOKUP(A520, localcont!$D$10:$L$1764, 8)","v":6208357.4549297132},{"$f":"VLOOKUP(A520, localcont!$D$10:$L$1764, 9)*F520","v":1890501.901397408}]
[1113,223,"Orange                       ",818,"Franklin County",{"$f":"VLOOKUP(B521, town351, 7)","v":4354292},{"$f":"VLOOKUP(A521, localcont!$D$10:$L$1764, 8)","v":1311796.1128833788},{"$f":"VLOOKUP(A521, localcont!$D$10:$L$1764, 9)*F521","v":399453.97211021779}]
[1116,224,"Orleans                      ",224,"Orleans",19576459,{"$f":"VLOOKUP(A522, localcont!$D$10:$L$1764, 8)","v":2117003.94},{"$f":"VLOOKUP(A522, localcont!$D$10:$L$1764, 9)*F522","v":8192313.1718007661}]
[1117,224,"Orleans                      ",660,"Nauset",19576459,{"$f":"VLOOKUP(A523, localcont!$D$10:$L$1764, 8)","v":2697532.2738976772},{"$f":"VLOOKUP(A523, localcont!$D$10:$L$1764, 9)*F523","v":10438822.886087595}]
[1118,224,"Orleans                      ",815,"Cape Cod",19576459,{"$f":"VLOOKUP(A524, localcont!$D$10:$L$1764, 8)","v":244284.16627325182},{"$f":"VLOOKUP(A524, localcont!$D$10:$L$1764, 9)*F524","v":945322.94211163779}]
[1121,225,"Otis                         ",225,"Otis",2946944,{"$f":"VLOOKUP(A525, localcont!$D$10:$L$1764, 8)","v":0},{"$f":"VLOOKUP(A525, localcont!$D$10:$L$1764, 9)*F525","v":0}]
[1122,225,"Otis                         ",662,"Farmington River",2946944,{"$f":"VLOOKUP(A526, localcont!$D$10:$L$1764, 8)","v":1345098.6399189685},{"$f":"VLOOKUP(A526, localcont!$D$10:$L$1764, 9)*F526","v":2946944}]
[1126,226,"Oxford                       ",226,"Oxford",11401639,{"$f":"VLOOKUP(A527, localcont!$D$10:$L$1764, 8)","v":18610886.670000002},{"$f":"VLOOKUP(A527, localcont!$D$10:$L$1764, 9)*F527","v":10104337.844164146}]
[1127,226,"Oxford                       ",876,"Southern Worcester",11401639,{"$f":"VLOOKUP(A528, localcont!$D$10:$L$1764, 8)","v":2389461.3541713268},{"$f":"VLOOKUP(A528, localcont!$D$10:$L$1764, 9)*F528","v":1297301.1558358518}]
[1131,227,"Palmer                       ",227,"Palmer",8422791,{"$f":"VLOOKUP(A529, localcont!$D$10:$L$1764, 8)","v":16656382.35},{"$f":"VLOOKUP(A529, localcont!$D$10:$L$1764, 9)*F529","v":6959710.6277520349}]
[1132,227,"Palmer                       ",860,"Pathfinder",8422791,{"$f":"VLOOKUP(A530, localcont!$D$10:$L$1764, 8)","v":3501528.6399649843},{"$f":"VLOOKUP(A530, localcont!$D$10:$L$1764, 9)*F530","v":1463080.3722479648}]
[1136,228,"Paxton                       ",228,"Paxton",5005910,{"$f":"VLOOKUP(A531, localcont!$D$10:$L$1764, 8)","v":0},{"$f":"VLOOKUP(A531, localcont!$D$10:$L$1764, 9)*F531","v":0}]
[1137,228,"Paxton                       ",775,"Wachusett",5005910,{"$f":"VLOOKUP(A532, localcont!$D$10:$L$1764, 8)","v":7008722.2294579567},{"$f":"VLOOKUP(A532, localcont!$D$10:$L$1764, 9)*F532","v":4752015.3810101114}]
[1138,228,"Paxton                       ",876,"Southern Worcester",5005910,{"$f":"VLOOKUP(A533, localcont!$D$10:$L$1764, 8)","v":374467.82415},{"$f":"VLOOKUP(A533, localcont!$D$10:$L$1764, 9)*F533","v":253894.61898988849}]
[1141,229,"Peabody                      ",229,"Peabody",56257514,{"$f":"VLOOKUP(A534, localcont!$D$10:$L$1764, 8)","v":73868646.389999986},{"$f":"VLOOKUP(A534, localcont!$D$10:$L$1764, 9)*F534","v":52318925.735875346}]
[1142,229,"Peabody                      ",817,"Essex North Shore",56257514,{"$f":"VLOOKUP(A535, localcont!$D$10:$L$1764, 8)","v":5560859.2811554894},{"$f":"VLOOKUP(A535, localcont!$D$10:$L$1764, 9)*F535","v":3938588.264124644}]
[1146,230,"Pelham                       ",230,"Pelham",1346636,{"$f":"VLOOKUP(A536, localcont!$D$10:$L$1764, 8)","v":781365.3},{"$f":"VLOOKUP(A536, localcont!$D$10:$L$1764, 9)*F536","v":681001.14205966122}]
[1147,230,"Pelham                       ",605,"Amherst Pelham",1346636,{"$f":"VLOOKUP(A537, localcont!$D$10:$L$1764, 8)","v":763734.37332568364},{"$f":"VLOOKUP(A537, localcont!$D$10:$L$1764, 9)*F537","v":665634.85794033878}]
[1151,231,"Pembroke                     ",231,"Pembroke",21793958,{"$f":"VLOOKUP(A538, localcont!$D$10:$L$1764, 8)","v":31524469.692919996},{"$f":"VLOOKUP(A538, localcont!$D$10:$L$1764, 9)*F538","v":21793958}]
[1156,232,"Pepperell                    ",232,"Pepperell",11610504,{"$f":"VLOOKUP(A539, localcont!$D$10:$L$1764, 8)","v":0},{"$f":"VLOOKUP(A539, localcont!$D$10:$L$1764, 9)*F539","v":0}]
[1157,232,"Pepperell                    ",735,"North Middlesex",11610504,{"$f":"VLOOKUP(A540, localcont!$D$10:$L$1764, 8)","v":15922521.269540496},{"$f":"VLOOKUP(A540, localcont!$D$10:$L$1764, 9)*F540","v":10353056.010645378}]
[1158,232,"Pepperell                    ",852,"Nashoba Valley",11610504,{"$f":"VLOOKUP(A541, localcont!$D$10:$L$1764, 8)","v":1933896.8450719134},{"$f":"VLOOKUP(A541, localcont!$D$10:$L$1764, 9)*F541","v":1257447.9893546226}]
[1161,233,"Peru                         ",233,"Peru",573937,{"$f":"VLOOKUP(A542, localcont!$D$10:$L$1764, 8)","v":134486.55000000002},{"$f":"VLOOKUP(A542, localcont!$D$10:$L$1764, 9)*F542","v":64403.942412978475}]
[1162,233,"Peru                         ",635,"Central Berkshire",573937,{"$f":"VLOOKUP(A543, localcont!$D$10:$L$1764, 8)","v":1063992.9864296762},{"$f":"VLOOKUP(A543, localcont!$D$10:$L$1764, 9)*F543","v":509533.0575870215}]
[1166,234,"Petersham                    ",234,"Petersham",1166533,{"$f":"VLOOKUP(A544, localcont!$D$10:$L$1764, 8)","v":857437.59000000008},{"$f":"VLOOKUP(A544, localcont!$D$10:$L$1764, 9)*F544","v":585990.97510362533}]
[1167,234,"Petersham                    ",755,"Ralph C Mahar",1166533,{"$f":"VLOOKUP(A545, localcont!$D$10:$L$1764, 8)","v":761024.46218991256},{"$f":"VLOOKUP(A545, localcont!$D$10:$L$1764, 9)*F545","v":520100.20539964765}]
[1168,234,"Petersham                    ",832,"Montachusett",1166533,{"$f":"VLOOKUP(A546, localcont!$D$10:$L$1764, 8)","v":88440.078851596627},{"$f":"VLOOKUP(A546, localcont!$D$10:$L$1764, 9)*F546","v":60441.819496726996}]
[1171,235,"Phillipston                  ",235,"Phillipston",1497583,{"$f":"VLOOKUP(A547, localcont!$D$10:$L$1764, 8)","v":0},{"$f":"VLOOKUP(A547, localcont!$D$10:$L$1764, 9)*F547","v":0}]
[1172,235,"Phillipston                  ",720,"Narragansett",1497583,{"$f":"VLOOKUP(A548, localcont!$D$10:$L$1764, 8)","v":2078783.2097190106},{"$f":"VLOOKUP(A548, localcont!$D$10:$L$1764, 9)*F548","v":1298678.7128931268}]
[1173,235,"Phillipston                  ",832,"Montachusett",1497583,{"$f":"VLOOKUP(A549, localcont!$D$10:$L$1764, 8)","v":318384.28417585412},{"$f":"VLOOKUP(A549, localcont!$D$10:$L$1764, 9)*F549","v":198904.28710687329}]
[1176,236,"Pittsfield                   ",236,"Pittsfield",29755251,{"$f":"VLOOKUP(A550, localcont!$D$10:$L$1764, 8)","v":78783436.899999991},{"$f":"VLOOKUP(A550, localcont!$D$10:$L$1764, 9)*F550","v":29755251}]
[1181,237,"Plainfield                   ",237,"Plainfield",567524,{"$f":"VLOOKUP(A551, localcont!$D$10:$L$1764, 8)","v":59771.8},{"$f":"VLOOKUP(A551, localcont!$D$10:$L$1764, 9)*F551","v":47506.540936912803}]
[1182,237,"Plainfield                   ",717,"Mohawk Trail",567524,{"$f":"VLOOKUP(A552, localcont!$D$10:$L$1764, 8)","v":654275.78911509179},{"$f":"VLOOKUP(A552, localcont!$D$10:$L$1764, 9)*F552","v":520017.45906308718}]
[1186,238,"Plainville                   ",238,"Plainville",11447523,{"$f":"VLOOKUP(A553, localcont!$D$10:$L$1764, 8)","v":7115696.5500000007},{"$f":"VLOOKUP(A553, localcont!$D$10:$L$1764, 9)*F553","v":5415668.2816869663}]
[1187,238,"Plainville                   ",690,"King Philip",11447523,{"$f":"VLOOKUP(A554, localcont!$D$10:$L$1764, 8)","v":6152654.9422164746},{"$f":"VLOOKUP(A554, localcont!$D$10:$L$1764, 9)*F554","v":4682709.273026308}]
[1188,238,"Plainville                   ",878,"Tri County",11447523,{"$f":"VLOOKUP(A555, localcont!$D$10:$L$1764, 8)","v":1624337.5620729988},{"$f":"VLOOKUP(A555, localcont!$D$10:$L$1764, 9)*F555","v":1236263.1475159621}]
[1189,238,"Plainville                   ",915,"Norfolk County",11447523,{"$f":"VLOOKUP(A556, localcont!$D$10:$L$1764, 8)","v":148317.09311288895},{"$f":"VLOOKUP(A556, localcont!$D$10:$L$1764, 9)*F556","v":112882.29777076215}]
[1191,239,"Plymouth                     ",239,"Plymouth",74135866,{"$f":"VLOOKUP(A557, localcont!$D$10:$L$1764, 8)","v":96574184.652480006},{"$f":"VLOOKUP(A557, localcont!$D$10:$L$1764, 9)*F557","v":74135866}]
[1196,240,"Plympton                     ",240,"Plympton",3688535,{"$f":"VLOOKUP(A558, localcont!$D$10:$L$1764, 8)","v":2362382.9491999997},{"$f":"VLOOKUP(A558, localcont!$D$10:$L$1764, 9)*F558","v":1775649.6054977637}]
[1197,240,"Plympton                     ",760,"Silver Lake",3688535,{"$f":"VLOOKUP(A559, localcont!$D$10:$L$1764, 8)","v":2544965.980762294},{"$f":"VLOOKUP(A559, localcont!$D$10:$L$1764, 9)*F559","v":1912885.3945022358}]
[1201,241,"Princeton                    ",241,"Princeton",4806152,{"$f":"VLOOKUP(A560, localcont!$D$10:$L$1764, 8)","v":14942.95},{"$f":"VLOOKUP(A560, localcont!$D$10:$L$1764, 9)*F560","v":14567.626754164017}]
[1202,241,"Princeton                    ",775,"Wachusett",4806152,{"$f":"VLOOKUP(A561, localcont!$D$10:$L$1764, 8)","v":4402083.2522309087},{"$f":"VLOOKUP(A561, localcont!$D$10:$L$1764, 9)*F561","v":4291515.7823091373}]
[1203,241,"Princeton                    ",832,"Montachusett",4806152,{"$f":"VLOOKUP(A562, localcont!$D$10:$L$1764, 8)","v":512952.4580111574},{"$f":"VLOOKUP(A562, localcont!$D$10:$L$1764, 9)*F562","v":500068.5909366979}]
[1206,242,"Provincetown                 ",242,"Provincetown",14554142,{"$f":"VLOOKUP(A563, localcont!$D$10:$L$1764, 8)","v":1352973.22},{"$f":"VLOOKUP(A563, localcont!$D$10:$L$1764, 9)*F563","v":12625298.061677113}]
[1207,242,"Provincetown                 ",815,"Cape Cod",14554142,{"$f":"VLOOKUP(A564, localcont!$D$10:$L$1764, 8)","v":206701.98686489734},{"$f":"VLOOKUP(A564, localcont!$D$10:$L$1764, 9)*F564","v":1928843.9383228861}]
[1211,243,"Quincy                       ",243,"Quincy",112068183,{"$f":"VLOOKUP(A565, localcont!$D$10:$L$1764, 8)","v":137993048.86168},{"$f":"VLOOKUP(A565, localcont!$D$10:$L$1764, 9)*F565","v":111827794.46530086}]
[1212,243,"Quincy                       ",915,"Norfolk County",112068183,{"$f":"VLOOKUP(A566, localcont!$D$10:$L$1764, 8)","v":296634.18627843051},{"$f":"VLOOKUP(A566, localcont!$D$10:$L$1764, 9)*F566","v":240388.53469914009}]
[1216,244,"Randolph                     ",244,"Randolph",28143615,{"$f":"VLOOKUP(A567, localcont!$D$10:$L$1764, 8)","v":44604827.451479994},{"$f":"VLOOKUP(A567, localcont!$D$10:$L$1764, 9)*F567","v":25013165.245640907}]
[1217,244,"Randolph                     ",806,"Blue Hills",28143615,{"$f":"VLOOKUP(A568, localcont!$D$10:$L$1764, 8)","v":5415530.3758436209},{"$f":"VLOOKUP(A568, localcont!$D$10:$L$1764, 9)*F568","v":3036881.071474019}]
[1218,244,"Randolph                     ",915,"Norfolk County",28143615,{"$f":"VLOOKUP(A569, localcont!$D$10:$L$1764, 8)","v":166856.72980465266},{"$f":"VLOOKUP(A569, localcont!$D$10:$L$1764, 9)*F569","v":93568.682885075308}]
[1221,245,"Raynham                      ",245,"Raynham",16980627,{"$f":"VLOOKUP(A570, localcont!$D$10:$L$1764, 8)","v":0},{"$f":"VLOOKUP(A570, localcont!$D$10:$L$1764, 9)*F570","v":0}]
[1222,245,"Raynham                      ",625,"Bridgewater Raynham",16980627,{"$f":"VLOOKUP(A571, localcont!$D$10:$L$1764, 8)","v":24198285.089564674},{"$f":"VLOOKUP(A571, localcont!$D$10:$L$1764, 9)*F571","v":14904841.301972182}]
[1223,245,"Raynham                      ",810,"Bristol Plymouth",16980627,{"$f":"VLOOKUP(A572, localcont!$D$10:$L$1764, 8)","v":3157604.8303967668},{"$f":"VLOOKUP(A572, localcont!$D$10:$L$1764, 9)*F572","v":1944914.6382567589}]
[1224,245,"Raynham                      ",910,"Bristol County",16980627,{"$f":"VLOOKUP(A573, localcont!$D$10:$L$1764, 8)","v":212471.58222976129},{"$f":"VLOOKUP(A573, localcont!$D$10:$L$1764, 9)*F573","v":130871.05977105821}]
[1226,246,"Reading                      ",246,"Reading",43046226,{"$f":"VLOOKUP(A574, localcont!$D$10:$L$1764, 8)","v":42185788.899420001},{"$f":"VLOOKUP(A574, localcont!$D$10:$L$1764, 9)*F574","v":42384940.108258061}]
[1227,246,"Reading                      ",853,"Northeast Metropolitan",43046226,{"$f":"VLOOKUP(A575, localcont!$D$10:$L$1764, 8)","v":658178.75311223068},{"$f":"VLOOKUP(A575, localcont!$D$10:$L$1764, 9)*F575","v":661285.89174193237}]
[1231,247,"Rehoboth                     ",247,"Rehoboth",15915865,{"$f":"VLOOKUP(A576, localcont!$D$10:$L$1764, 8)","v":0},{"$f":"VLOOKUP(A576, localcont!$D$10:$L$1764, 9)*F576","v":0}]
[1232,247,"Rehoboth                     ",650,"Dighton Rehoboth",15915865,{"$f":"VLOOKUP(A577, localcont!$D$10:$L$1764, 8)","v":16941767.981600001},{"$f":"VLOOKUP(A577, localcont!$D$10:$L$1764, 9)*F577","v":14473252.637416929}]
[1233,247,"Rehoboth                     ",810,"Bristol Plymouth",15915865,{"$f":"VLOOKUP(A578, localcont!$D$10:$L$1764, 8)","v":1299128.8444058057},{"$f":"VLOOKUP(A578, localcont!$D$10:$L$1764, 9)*F578","v":1109838.1228016906}]
[1234,247,"Rehoboth                     ",910,"Bristol County",15915865,{"$f":"VLOOKUP(A579, localcont!$D$10:$L$1764, 8)","v":389531.2340540773},{"$f":"VLOOKUP(A579, localcont!$D$10:$L$1764, 9)*F579","v":332774.23978137883}]
[1236,248,"Revere                       ",248,"Revere",46158805,{"$f":"VLOOKUP(A580, localcont!$D$10:$L$1764, 8)","v":118591270.69321999},{"$f":"VLOOKUP(A580, localcont!$D$10:$L$1764, 9)*F580","v":44310655.69345405}]
[1237,248,"Revere                       ",853,"Northeast Metropolitan",46158805,{"$f":"VLOOKUP(A581, localcont!$D$10:$L$1764, 8)","v":4946313.0541409645},{"$f":"VLOOKUP(A581, localcont!$D$10:$L$1764, 9)*F581","v":1848149.3065459486}]
[1241,249,"Richmond                     ",249,"Richmond",2466437,{"$f":"VLOOKUP(A582, localcont!$D$10:$L$1764, 8)","v":1292054.5900000001},{"$f":"VLOOKUP(A582, localcont!$D$10:$L$1764, 9)*F582","v":2466437}]
[1246,250,"Rochester                    ",250,"Rochester",7186338,{"$f":"VLOOKUP(A583, localcont!$D$10:$L$1764, 8)","v":5238927.0299999993},{"$f":"VLOOKUP(A583, localcont!$D$10:$L$1764, 9)*F583","v":3562559.8356570117}]
[1247,250,"Rochester                    ",740,"Old Rochester",7186338,{"$f":"VLOOKUP(A584, localcont!$D$10:$L$1764, 8)","v":3973723.3663219973},{"$f":"VLOOKUP(A584, localcont!$D$10:$L$1764, 9)*F584","v":2702199.7408638322}]
[1248,250,"Rochester                    ",855,"Old Colony",{"$f":"VLOOKUP(B585, town351, 7)","v":7186338},{"$f":"VLOOKUP(A585, localcont!$D$10:$L$1764, 8)","v":1355228.3570668332},{"$f":"VLOOKUP(A585, localcont!$D$10:$L$1764, 9)*F585","v":921578.42347915657}]
[1251,251,"Rockland                     ",251,"Rockland",16182668,{"$f":"VLOOKUP(A586, localcont!$D$10:$L$1764, 8)","v":29557229.000960007},{"$f":"VLOOKUP(A586, localcont!$D$10:$L$1764, 9)*F586","v":14859477.747677514}]
[1252,251,"Rockland                     ",873,"South Shore",16182668,{"$f":"VLOOKUP(A587, localcont!$D$10:$L$1764, 8)","v":2631979.2635946744},{"$f":"VLOOKUP(A587, localcont!$D$10:$L$1764, 9)*F587","v":1323190.2523224843}]
[1256,252,"Rockport                     ",252,"Rockport",13312485,{"$f":"VLOOKUP(A588, localcont!$D$10:$L$1764, 8)","v":6987694.101019999},{"$f":"VLOOKUP(A588, localcont!$D$10:$L$1764, 9)*F588","v":12594253.017945418}]
[1257,252,"Rockport                     ",817,"Essex North Shore",13312485,{"$f":"VLOOKUP(A589, localcont!$D$10:$L$1764, 8)","v":398498.05915567058},{"$f":"VLOOKUP(A589, localcont!$D$10:$L$1764, 9)*F589","v":718231.98205458082}]
[1261,253,"Rowe                         ",253,"Rowe",1883611,{"$f":"VLOOKUP(A590, localcont!$D$10:$L$1764, 8)","v":578883.1100000001},{"$f":"VLOOKUP(A590, localcont!$D$10:$L$1764, 9)*F590","v":1883611}]
[1266,254,"Rowley                       ",254,"Rowley",8381016,{"$f":"VLOOKUP(A591, localcont!$D$10:$L$1764, 8)","v":107724.27546999999},{"$f":"VLOOKUP(A591, localcont!$D$10:$L$1764, 9)*F591","v":110104.43465507947}]
[1267,254,"Rowley                       ",773,"Triton",8381016,{"$f":"VLOOKUP(A592, localcont!$D$10:$L$1764, 8)","v":7741548.5878843386},{"$f":"VLOOKUP(A592, localcont!$D$10:$L$1764, 9)*F592","v":7912597.4800472138}]
[1268,254,"Rowley                       ",885,"Whittier",8381016,{"$f":"VLOOKUP(A593, localcont!$D$10:$L$1764, 8)","v":350568.30681079638},{"$f":"VLOOKUP(A593, localcont!$D$10:$L$1764, 9)*F593","v":358314.08529770625}]
[1271,255,"Royalston                    ",255,"Royalston",942909,{"$f":"VLOOKUP(A594, localcont!$D$10:$L$1764, 8)","v":0},{"$f":"VLOOKUP(A594, localcont!$D$10:$L$1764, 9)*F594","v":0}]
[1272,255,"Royalston                    ",615,"Athol Royalston",942909,{"$f":"VLOOKUP(A595, localcont!$D$10:$L$1764, 8)","v":1523979.7222027462},{"$f":"VLOOKUP(A595, localcont!$D$10:$L$1764, 9)*F595","v":827637.64200345508}]
[1273,255,"Royalston                    ",832,"Montachusett",942909,{"$f":"VLOOKUP(A596, localcont!$D$10:$L$1764, 8)","v":212256.18945056942},{"$f":"VLOOKUP(A596, localcont!$D$10:$L$1764, 9)*F596","v":115271.35799654496}]
[1276,256,"Russell                      ",256,"Russell",1175484,{"$f":"VLOOKUP(A597, localcont!$D$10:$L$1764, 8)","v":356893.44999999995},{"$f":"VLOOKUP(A597, localcont!$D$10:$L$1764, 9)*F597","v":154770.02714676861}]
[1277,256,"Russell                      ",672,"Gateway",1175484,{"$f":"VLOOKUP(A598, localcont!$D$10:$L$1764, 8)","v":2353725.3171723168},{"$f":"VLOOKUP(A598, localcont!$D$10:$L$1764, 9)*F598","v":1020713.9728532312}]
[1281,257,"Rutland                      ",257,"Rutland",8184434,{"$f":"VLOOKUP(A599, localcont!$D$10:$L$1764, 8)","v":0},{"$f":"VLOOKUP(A599, localcont!$D$10:$L$1764, 9)*F599","v":0}]
[1282,257,"Rutland                      ",775,"Wachusett",8184434,{"$f":"VLOOKUP(A600, localcont!$D$10:$L$1764, 8)","v":16548371.930319708},{"$f":"VLOOKUP(A600, localcont!$D$10:$L$1764, 9)*F600","v":7671886.8558173506}]
[1283,257,"Rutland                      ",876,"Southern Worcester",8184434,{"$f":"VLOOKUP(A601, localcont!$D$10:$L$1764, 8)","v":1105571.6713713272},{"$f":"VLOOKUP(A601, localcont!$D$10:$L$1764, 9)*F601","v":512547.14418265061}]
[1286,258,"Salem                        ",258,"Salem",42466147,{"$f":"VLOOKUP(A602, localcont!$D$10:$L$1764, 8)","v":59722480.57},{"$f":"VLOOKUP(A602, localcont!$D$10:$L$1764, 9)*F602","v":40037509.2585475}]
[1287,258,"Salem                        ",817,"Essex North Shore",42466147,{"$f":"VLOOKUP(A603, localcont!$D$10:$L$1764, 8)","v":3622709.6293334155},{"$f":"VLOOKUP(A603, localcont!$D$10:$L$1764, 9)*F603","v":2428637.741452503}]
[1291,259,"Salisbury                    ",259,"Salisbury",10852607,{"$f":"VLOOKUP(A604, localcont!$D$10:$L$1764, 8)","v":29885.9},{"$f":"VLOOKUP(A604, localcont!$D$10:$L$1764, 9)*F604","v":30516.277304865922}]
[1292,259,"Salisbury                    ",773,"Triton",10852607,{"$f":"VLOOKUP(A605, localcont!$D$10:$L$1764, 8)","v":9971205.1257277038},{"$f":"VLOOKUP(A605, localcont!$D$10:$L$1764, 9)*F605","v":10181525.758983569}]
[1293,259,"Salisbury                    ",885,"Whittier",10852607,{"$f":"VLOOKUP(A606, localcont!$D$10:$L$1764, 8)","v":627332.75942327618},{"$f":"VLOOKUP(A606, localcont!$D$10:$L$1764, 9)*F606","v":640564.96371156408}]
[1296,260,"Sandisfield                  ",260,"Sandisfield",1072563,{"$f":"VLOOKUP(A607, localcont!$D$10:$L$1764, 8)","v":0},{"$f":"VLOOKUP(A607, localcont!$D$10:$L$1764, 9)*F607","v":0}]
[1297,260,"Sandisfield                  ",662,"Farmington River",1072563,{"$f":"VLOOKUP(A608, localcont!$D$10:$L$1764, 8)","v":1056069.1800810313},{"$f":"VLOOKUP(A608, localcont!$D$10:$L$1764, 9)*F608","v":1072563}]
[1301,261,"Sandwich                     ",261,"Sandwich",29299859,{"$f":"VLOOKUP(A609, localcont!$D$10:$L$1764, 8)","v":27596949.41},{"$f":"VLOOKUP(A609, localcont!$D$10:$L$1764, 9)*F609","v":27006615.790102296}]
[1302,261,"Sandwich                     ",879,"Upper Cape Cod",29299859,{"$f":"VLOOKUP(A610, localcont!$D$10:$L$1764, 8)","v":2343370.8740199455},{"$f":"VLOOKUP(A610, localcont!$D$10:$L$1764, 9)*F610","v":2293243.2098977016}]
[1306,262,"Saugus                       ",262,"Saugus",32825552,{"$f":"VLOOKUP(A611, localcont!$D$10:$L$1764, 8)","v":31765464.369999997},{"$f":"VLOOKUP(A611, localcont!$D$10:$L$1764, 9)*F611","v":29659701.467008378}]
[1307,262,"Saugus                       ",853,"Northeast Metropolitan",32825552,{"$f":"VLOOKUP(A612, localcont!$D$10:$L$1764, 8)","v":3390617.8192101088},{"$f":"VLOOKUP(A612, localcont!$D$10:$L$1764, 9)*F612","v":3165850.5329916198}]
[1311,263,"Savoy                        ",263,"Savoy",528810,{"$f":"VLOOKUP(A613, localcont!$D$10:$L$1764, 8)","v":540914.55000000005},{"$f":"VLOOKUP(A613, localcont!$D$10:$L$1764, 9)*F613","v":451555.69676273048}]
[1312,263,"Savoy                        ",851,"Northern Berkshire",528810,{"$f":"VLOOKUP(A614, localcont!$D$10:$L$1764, 8)","v":92542.242232210483},{"$f":"VLOOKUP(A614, localcont!$D$10:$L$1764, 9)*F614","v":77254.303237269516}]
[1316,264,"Scituate                     ",264,"Scituate",36029666,{"$f":"VLOOKUP(A615, localcont!$D$10:$L$1764, 8)","v":30821136.839369997},{"$f":"VLOOKUP(A615, localcont!$D$10:$L$1764, 9)*F615","v":35395551.462277867}]
[1317,264,"Scituate                     ",873,"South Shore",36029666,{"$f":"VLOOKUP(A616, localcont!$D$10:$L$1764, 8)","v":552163.4818939484},{"$f":"VLOOKUP(A616, localcont!$D$10:$L$1764, 9)*F616","v":634114.53772213543}]
[1321,265,"Seekonk                      ",265,"Seekonk",17785242,{"$f":"VLOOKUP(A617, localcont!$D$10:$L$1764, 8)","v":22823463.869999997},{"$f":"VLOOKUP(A617, localcont!$D$10:$L$1764, 9)*F617","v":16439481.55296935}]
[1322,265,"Seekonk                      ",878,"Tri County",17785242,{"$f":"VLOOKUP(A618, localcont!$D$10:$L$1764, 8)","v":1549655.3753265422},{"$f":"VLOOKUP(A618, localcont!$D$10:$L$1764, 9)*F618","v":1116199.1493160888}]
[1323,265,"Seekonk                      ",910,"Bristol County",17785242,{"$f":"VLOOKUP(A619, localcont!$D$10:$L$1764, 8)","v":318707.37331082352},{"$f":"VLOOKUP(A619, localcont!$D$10:$L$1764, 9)*F619","v":229561.29771456114}]
[1326,266,"Sharon                       ",266,"Sharon",31227618,{"$f":"VLOOKUP(A620, localcont!$D$10:$L$1764, 8)","v":38555018.653469995},{"$f":"VLOOKUP(A620, localcont!$D$10:$L$1764, 9)*F620","v":30922251.022595245}]
[1327,266,"Sharon                       ",872,"Southeastern",31227618,{"$f":"VLOOKUP(A621, localcont!$D$10:$L$1764, 8)","v":288044.78087233094},{"$f":"VLOOKUP(A621, localcont!$D$10:$L$1764, 9)*F621","v":231020.32707954661}]
[1328,266,"Sharon                       ",915,"Norfolk County",31227618,{"$f":"VLOOKUP(A622, localcont!$D$10:$L$1764, 8)","v":92698.183195555597},{"$f":"VLOOKUP(A622, localcont!$D$10:$L$1764, 9)*F622","v":74346.650325210197}]
[1331,267,"Sheffield                    ",267,"Sheffield",4045021,{"$f":"VLOOKUP(A623, localcont!$D$10:$L$1764, 8)","v":0},{"$f":"VLOOKUP(A623, localcont!$D$10:$L$1764, 9)*F623","v":0}]
[1332,267,"Sheffield                    ",765,"Southern Berkshire",4045021,{"$f":"VLOOKUP(A624, localcont!$D$10:$L$1764, 8)","v":4346625.9749077661},{"$f":"VLOOKUP(A624, localcont!$D$10:$L$1764, 9)*F624","v":4045021}]
[1336,268,"Shelburne                    ",268,"Shelburne",1622031,{"$f":"VLOOKUP(A625, localcont!$D$10:$L$1764, 8)","v":0},{"$f":"VLOOKUP(A625, localcont!$D$10:$L$1764, 9)*F625","v":0}]
[1337,268,"Shelburne                    ",717,"Mohawk Trail",1622031,{"$f":"VLOOKUP(A626, localcont!$D$10:$L$1764, 8)","v":1870999.1863863566},{"$f":"VLOOKUP(A626, localcont!$D$10:$L$1764, 9)*F626","v":1402134.7500917932}]
[1338,268,"Shelburne                    ",818,"Franklin County",1622031,{"$f":"VLOOKUP(A627, localcont!$D$10:$L$1764, 8)","v":293428.07789389073},{"$f":"VLOOKUP(A627, localcont!$D$10:$L$1764, 9)*F627","v":219896.24990820672}]
[1341,269,"Sherborn                     ",269,"Sherborn",17613166,{"$f":"VLOOKUP(A628, localcont!$D$10:$L$1764, 8)","v":4085765.8388000005},{"$f":"VLOOKUP(A628, localcont!$D$10:$L$1764, 9)*F628","v":7074827.0718801459}]
[1342,269,"Sherborn                     ",655,"Dover Sherborn",17613166,{"$f":"VLOOKUP(A629, localcont!$D$10:$L$1764, 8)","v":6048628.8890373539},{"$f":"VLOOKUP(A629, localcont!$D$10:$L$1764, 9)*F629","v":10473679.868175266}]
[1343,269,"Sherborn                     ",878,"Tri County",17613166,{"$f":"VLOOKUP(A630, localcont!$D$10:$L$1764, 8)","v":37341.093373228403},{"$f":"VLOOKUP(A630, localcont!$D$10:$L$1764, 9)*F630","v":64659.059944588371}]
[1346,270,"Shirley                      ",270,"Shirley",5734008,{"$f":"VLOOKUP(A631, localcont!$D$10:$L$1764, 8)","v":0},{"$f":"VLOOKUP(A631, localcont!$D$10:$L$1764, 9)*F631","v":0}]
[1347,270,"Shirley                      ",616,"Ayer Shirley",5734008,{"$f":"VLOOKUP(A632, localcont!$D$10:$L$1764, 8)","v":8381122.6720875315},{"$f":"VLOOKUP(A632, localcont!$D$10:$L$1764, 9)*F632","v":5145775.2707408369}]
[1348,270,"Shirley                      ",852,"Nashoba Valley",5734008,{"$f":"VLOOKUP(A633, localcont!$D$10:$L$1764, 8)","v":958077.33611890057},{"$f":"VLOOKUP(A633, localcont!$D$10:$L$1764, 9)*F633","v":588232.72925916268}]
[1351,271,"Shrewsbury                   ",271,"Shrewsbury",55292978,{"$f":"VLOOKUP(A634, localcont!$D$10:$L$1764, 8)","v":67755147.820000008},{"$f":"VLOOKUP(A634, localcont!$D$10:$L$1764, 9)*F634","v":55292978}]
[1356,272,"Shutesbury                   ",272,"Shutesbury",1518820,{"$f":"VLOOKUP(A635, localcont!$D$10:$L$1764, 8)","v":1164808.83},{"$f":"VLOOKUP(A635, localcont!$D$10:$L$1764, 9)*F635","v":709938.90113740263}]
[1357,272,"Shutesbury                   ",605,"Amherst Pelham",1518820,{"$f":"VLOOKUP(A636, localcont!$D$10:$L$1764, 8)","v":1327144.9766532844},{"$f":"VLOOKUP(A636, localcont!$D$10:$L$1764, 9)*F636","v":808881.09886259749}]
[1361,273,"Somerset                     ",273,"Somerset",16356071,{"$f":"VLOOKUP(A637, localcont!$D$10:$L$1764, 8)","v":17890453.66},{"$f":"VLOOKUP(A637, localcont!$D$10:$L$1764, 9)*F637","v":9693350.9437249769}]
[1362,273,"Somerset                     ",763,"Somerset Berkley",16356071,{"$f":"VLOOKUP(A638, localcont!$D$10:$L$1764, 8)","v":9240069.4115377311},{"$f":"VLOOKUP(A638, localcont!$D$10:$L$1764, 9)*F638","v":5006426.1785977297}]
[1363,273,"Somerset                     ",821,"Greater Fall River",16356071,{"$f":"VLOOKUP(A639, localcont!$D$10:$L$1764, 8)","v":2738217.8363463762},{"$f":"VLOOKUP(A639, localcont!$D$10:$L$1764, 9)*F639","v":1483612.822374495}]
[1364,273,"Somerset                     ",910,"Bristol County",16356071,{"$f":"VLOOKUP(A640, localcont!$D$10:$L$1764, 8)","v":318707.37331082352},{"$f":"VLOOKUP(A640, localcont!$D$10:$L$1764, 9)*F640","v":172681.05530279659}]
[1366,274,"Somerville                   ",274,"Somerville",120490444,{"$f":"VLOOKUP(A641, localcont!$D$10:$L$1764, 8)","v":76723652.080639988},{"$f":"VLOOKUP(A641, localcont!$D$10:$L$1764, 9)*F641","v":120490444}]
[1371,275,"Southampton                  ",275,"Southampton",6432167,{"$f":"VLOOKUP(A642, localcont!$D$10:$L$1764, 8)","v":5087907.08},{"$f":"VLOOKUP(A642, localcont!$D$10:$L$1764, 9)*F642","v":3535776.824210031}]
[1372,275,"Southampton                  ",683,"Hampshire",6432167,{"$f":"VLOOKUP(A643, localcont!$D$10:$L$1764, 8)","v":4167843.3946793838},{"$f":"VLOOKUP(A643, localcont!$D$10:$L$1764, 9)*F643","v":2896390.1757899686}]
[1376,276,"Southborough                 ",276,"Southborough",26991970,{"$f":"VLOOKUP(A644, localcont!$D$10:$L$1764, 8)","v":12207265.0513},{"$f":"VLOOKUP(A644, localcont!$D$10:$L$1764, 9)*F644","v":17665044.873433292}]
[1377,276,"Southborough                 ",730,"Northboro Southboro",26991970,{"$f":"VLOOKUP(A645, localcont!$D$10:$L$1764, 8)","v":5960326.8802543357},{"$f":"VLOOKUP(A645, localcont!$D$10:$L$1764, 9)*F645","v":8625145.8748174571}]
[1378,276,"Southborough                 ",801,"Assabet Valley",26991970,{"$f":"VLOOKUP(A646, localcont!$D$10:$L$1764, 8)","v":484958.02841066365},{"$f":"VLOOKUP(A646, localcont!$D$10:$L$1764, 9)*F646","v":701779.2517492522}]
[1381,277,"Southbridge                  ",277,"Southbridge",9194713,{"$f":"VLOOKUP(A647, localcont!$D$10:$L$1764, 8)","v":31747452.57},{"$f":"VLOOKUP(A647, localcont!$D$10:$L$1764, 9)*F647","v":8237019.0471824547}]
[1382,277,"Southbridge                  ",876,"Southern Worcester",9194713,{"$f":"VLOOKUP(A648, localcont!$D$10:$L$1764, 8)","v":3691182.8380499994},{"$f":"VLOOKUP(A648, localcont!$D$10:$L$1764, 9)*F648","v":957693.95281754527}]
[1386,278,"South Hadley                 ",278,"South Hadley",{"$f":"VLOOKUP(B649, town351, 7)","v":14021018},{"$f":"VLOOKUP(A649, localcont!$D$10:$L$1764, 8)","v":22241637.689999994},{"$f":"VLOOKUP(A649, localcont!$D$10:$L$1764, 9)*F649","v":14021018}]
[1391,279,"Southwick                    ",279,"Southwick",9164693,{"$f":"VLOOKUP(A650, localcont!$D$10:$L$1764, 8)","v":0},{"$f":"VLOOKUP(A650, localcont!$D$10:$L$1764, 9)*F650","v":0}]
[1392,279,"Southwick                    ",766,"Southwick Tolland",9164693,{"$f":"VLOOKUP(A651, localcont!$D$10:$L$1764, 8)","v":13437916.741652636},{"$f":"VLOOKUP(A651, localcont!$D$10:$L$1764, 9)*F651","v":9164693}]
[1396,280,"Spencer                      ",280,"Spencer",8957799,{"$f":"VLOOKUP(A652, localcont!$D$10:$L$1764, 8)","v":59771.8},{"$f":"VLOOKUP(A652, localcont!$D$10:$L$1764, 9)*F652","v":29675.142182131018}]
[1397,280,"Spencer                      ",767,"Spencer East Brookfield",8957799,{"$f":"VLOOKUP(A653, localcont!$D$10:$L$1764, 8)","v":15343959.200186564},{"$f":"VLOOKUP(A653, localcont!$D$10:$L$1764, 9)*F653","v":7617876.1707419483}]
[1398,280,"Spencer                      ",876,"Southern Worcester",8957799,{"$f":"VLOOKUP(A654, localcont!$D$10:$L$1764, 8)","v":2639106.5701286728},{"$f":"VLOOKUP(A654, localcont!$D$10:$L$1764, 9)*F654","v":1310247.6870759202}]
[1401,281,"Springfield                  ",281,"Springfield",66728424,{"$f":"VLOOKUP(A655, localcont!$D$10:$L$1764, 8)","v":443439917.51999992},{"$f":"VLOOKUP(A655, localcont!$D$10:$L$1764, 9)*F655","v":66728424}]
[1406,282,"Sterling                     ",282,"Sterling",9710378,{"$f":"VLOOKUP(A656, localcont!$D$10:$L$1764, 8)","v":29885.9},{"$f":"VLOOKUP(A656, localcont!$D$10:$L$1764, 9)*F656","v":25278.345810597366}]
[1407,282,"Sterling                     ",775,"Wachusett",9710378,{"$f":"VLOOKUP(A657, localcont!$D$10:$L$1764, 8)","v":10318396.615083659},{"$f":"VLOOKUP(A657, localcont!$D$10:$L$1764, 9)*F657","v":8727593.8769447152}]
[1408,282,"Sterling                     ",832,"Montachusett",9710378,{"$f":"VLOOKUP(A658, localcont!$D$10:$L$1764, 8)","v":1132033.0104891777},{"$f":"VLOOKUP(A658, localcont!$D$10:$L$1764, 9)*F658","v":957505.77724468813}]
[1411,283,"Stockbridge                  ",283,"Stockbridge",4278798,{"$f":"VLOOKUP(A659, localcont!$D$10:$L$1764, 8)","v":0},{"$f":"VLOOKUP(A659, localcont!$D$10:$L$1764, 9)*F659","v":0}]
[1412,283,"Stockbridge                  ",618,"Berkshire Hills",4278798,{"$f":"VLOOKUP(A660, localcont!$D$10:$L$1764, 8)","v":1527536.5518968089},{"$f":"VLOOKUP(A660, localcont!$D$10:$L$1764, 9)*F660","v":4278798}]
[1416,284,"Stoneham                     ",284,"Stoneham",30711239,{"$f":"VLOOKUP(A661, localcont!$D$10:$L$1764, 8)","v":27675773.212859996},{"$f":"VLOOKUP(A661, localcont!$D$10:$L$1764, 9)*F661","v":29037166.080508031}]
[1417,284,"Stoneham                     ",853,"Northeast Metropolitan",30711239,{"$f":"VLOOKUP(A662, localcont!$D$10:$L$1764, 8)","v":1595584.8560838457},{"$f":"VLOOKUP(A662, localcont!$D$10:$L$1764, 9)*F662","v":1674072.9194919677}]
[1421,285,"Stoughton                    ",285,"Stoughton",29662909,{"$f":"VLOOKUP(A663, localcont!$D$10:$L$1764, 8)","v":44797790.667170003},{"$f":"VLOOKUP(A663, localcont!$D$10:$L$1764, 9)*F663","v":28182017.50880865}]
[1422,285,"Stoughton                    ",872,"Southeastern",29662909,{"$f":"VLOOKUP(A664, localcont!$D$10:$L$1764, 8)","v":2131531.3792023221},{"$f":"VLOOKUP(A664, localcont!$D$10:$L$1764, 9)*F664","v":1340933.420033094}]
[1423,285,"Stoughton                    ",915,"Norfolk County",29662909,{"$f":"VLOOKUP(A665, localcont!$D$10:$L$1764, 8)","v":222475.63972198599},{"$f":"VLOOKUP(A665, localcont!$D$10:$L$1764, 9)*F665","v":139958.07115825551}]
[1426,286,"Stow                         ",286,"Stow",12090123,{"$f":"VLOOKUP(A666, localcont!$D$10:$L$1764, 8)","v":15545.9665},{"$f":"VLOOKUP(A666, localcont!$D$10:$L$1764, 9)*F666","v":14198.203070372432}]
[1427,286,"Stow                         ",725,"Nashoba",12090123,{"$f":"VLOOKUP(A667, localcont!$D$10:$L$1764, 8)","v":12336924.557998711},{"$f":"VLOOKUP(A667, localcont!$D$10:$L$1764, 9)*F667","v":11267370.229977684}]
[1428,286,"Stow                         ",830,"Minuteman",12090123,{"$f":"VLOOKUP(A668, localcont!$D$10:$L$1764, 8)","v":885306.55245285307},{"$f":"VLOOKUP(A668, localcont!$D$10:$L$1764, 9)*F668","v":808554.56695194426}]
[1431,287,"Sturbridge                   ",287,"Sturbridge",11476550,{"$f":"VLOOKUP(A669, localcont!$D$10:$L$1764, 8)","v":8593995.6400000006},{"$f":"VLOOKUP(A669, localcont!$D$10:$L$1764, 9)*F669","v":5189966.3033039132}]
[1432,287,"Sturbridge                   ",770,"Tantasqua",11476550,{"$f":"VLOOKUP(A670, localcont!$D$10:$L$1764, 8)","v":10409869.683644755},{"$f":"VLOOKUP(A670, localcont!$D$10:$L$1764, 9)*F670","v":6286583.6966960859}]
[1436,288,"Sudbury                      ",288,"Sudbury",50461553,{"$f":"VLOOKUP(A671, localcont!$D$10:$L$1764, 8)","v":25511367.012379996},{"$f":"VLOOKUP(A671, localcont!$D$10:$L$1764, 9)*F671","v":30857099.754039664}]
[1437,288,"Sudbury                      ",695,"Lincoln Sudbury",50461553,{"$f":"VLOOKUP(A672, localcont!$D$10:$L$1764, 8)","v":16208146.774042275},{"$f":"VLOOKUP(A672, localcont!$D$10:$L$1764, 9)*F672","v":19604453.24596034}]
[1441,289,"Sunderland                   ",289,"Sunderland",2870718,{"$f":"VLOOKUP(A673, localcont!$D$10:$L$1764, 8)","v":1716998.6200000003},{"$f":"VLOOKUP(A673, localcont!$D$10:$L$1764, 9)*F673","v":1451973.4569272415}]
[1442,289,"Sunderland                   ",670,"Frontier",2870718,{"$f":"VLOOKUP(A674, localcont!$D$10:$L$1764, 8)","v":1539620.712481051},{"$f":"VLOOKUP(A674, localcont!$D$10:$L$1764, 9)*F674","v":1301974.4932921925}]
[1443,289,"Sunderland                   ",818,"Franklin County",2870718,{"$f":"VLOOKUP(A675, localcont!$D$10:$L$1764, 8)","v":138083.8013078158},{"$f":"VLOOKUP(A675, localcont!$D$10:$L$1764, 9)*F675","v":116770.04978056629}]
[1446,290,"Sutton                       ",290,"Sutton",13127786,{"$f":"VLOOKUP(A676, localcont!$D$10:$L$1764, 8)","v":13669932.569999998},{"$f":"VLOOKUP(A676, localcont!$D$10:$L$1764, 9)*F676","v":11435137.378209151}]
[1447,290,"Sutton                       ",805,"Blackstone Valley",13127786,{"$f":"VLOOKUP(A677, localcont!$D$10:$L$1764, 8)","v":2023446.8340255315},{"$f":"VLOOKUP(A677, localcont!$D$10:$L$1764, 9)*F677","v":1692648.6217908482}]
[1451,291,"Swampscott                   ",291,"Swampscott",26759794,{"$f":"VLOOKUP(A678, localcont!$D$10:$L$1764, 8)","v":23465483.940000005},{"$f":"VLOOKUP(A678, localcont!$D$10:$L$1764, 9)*F678","v":26055835.491604526}]
[1452,291,"Swampscott                   ",817,"Essex North Shore",26759794,{"$f":"VLOOKUP(A679, localcont!$D$10:$L$1764, 8)","v":633974.18511115853},{"$f":"VLOOKUP(A679, localcont!$D$10:$L$1764, 9)*F679","v":703958.50839547522}]
[1456,292,"Swansea                      ",292,"Swansea",16346989,{"$f":"VLOOKUP(A680, localcont!$D$10:$L$1764, 8)","v":23868174.949999999},{"$f":"VLOOKUP(A680, localcont!$D$10:$L$1764, 9)*F680","v":14677628.270818533}]
[1457,292,"Swansea                      ",821,"Greater Fall River",16346989,{"$f":"VLOOKUP(A681, localcont!$D$10:$L$1764, 8)","v":2395940.6068386855},{"$f":"VLOOKUP(A681, localcont!$D$10:$L$1764, 9)*F681","v":1473373.0442233749}]
[1458,292,"Swansea                      ",910,"Bristol County",16346989,{"$f":"VLOOKUP(A682, localcont!$D$10:$L$1764, 8)","v":318707.37331082352},{"$f":"VLOOKUP(A682, localcont!$D$10:$L$1764, 9)*F682","v":195987.68495809351}]
[1461,293,"Taunton                      ",293,"Taunton",42419762,{"$f":"VLOOKUP(A683, localcont!$D$10:$L$1764, 8)","v":106634338.85999998},{"$f":"VLOOKUP(A683, localcont!$D$10:$L$1764, 9)*F683","v":38538021.928157322}]
[1462,293,"Taunton                      ",810,"Bristol Plymouth",42419762,{"$f":"VLOOKUP(A684, localcont!$D$10:$L$1764, 8)","v":10050205.088460226},{"$f":"VLOOKUP(A684, localcont!$D$10:$L$1764, 9)*F684","v":3632179.1668822896}]
[1463,293,"Taunton                      ",910,"Bristol County",42419762,{"$f":"VLOOKUP(A685, localcont!$D$10:$L$1764, 8)","v":690532.64216217829},{"$f":"VLOOKUP(A685, localcont!$D$10:$L$1764, 9)*F685","v":249560.90496038969}]
[1466,294,"Templeton                    ",294,"Templeton",5597378,{"$f":"VLOOKUP(A686, localcont!$D$10:$L$1764, 8)","v":0},{"$f":"VLOOKUP(A686, localcont!$D$10:$L$1764, 9)*F686","v":0}]
[1467,294,"Templeton                    ",720,"Narragansett",5597378,{"$f":"VLOOKUP(A687, localcont!$D$10:$L$1764, 8)","v":12519677.410280989},{"$f":"VLOOKUP(A687, localcont!$D$10:$L$1764, 9)*F687","v":4972173.2896245783}]
[1468,294,"Templeton                    ",832,"Montachusett",5597378,{"$f":"VLOOKUP(A688, localcont!$D$10:$L$1764, 8)","v":1574233.4052640046},{"$f":"VLOOKUP(A688, localcont!$D$10:$L$1764, 9)*F688","v":625204.7103754211}]
[1471,295,"Tewksbury                    ",295,"Tewksbury",37637326,{"$f":"VLOOKUP(A689, localcont!$D$10:$L$1764, 8)","v":35898780.919999994},{"$f":"VLOOKUP(A689, localcont!$D$10:$L$1764, 9)*F689","v":32172273.112689137}]
[1472,295,"Tewksbury                    ",871,"Shawsheen Valley",37637326,{"$f":"VLOOKUP(A690, localcont!$D$10:$L$1764, 8)","v":6098068.8442684747},{"$f":"VLOOKUP(A690, localcont!$D$10:$L$1764, 9)*F690","v":5465052.8873108597}]
[1476,296,"Tisbury                      ",296,"Tisbury",12097676,{"$f":"VLOOKUP(A691, localcont!$D$10:$L$1764, 8)","v":4196236.82},{"$f":"VLOOKUP(A691, localcont!$D$10:$L$1764, 9)*F691","v":7188065.6181037538}]
[1477,296,"Tisbury                      ",700,"Marthas Vineyard",12097676,{"$f":"VLOOKUP(A692, localcont!$D$10:$L$1764, 8)","v":2866124.0660463208},{"$f":"VLOOKUP(A692, localcont!$D$10:$L$1764, 9)*F692","v":4909610.3818962462}]
[1481,297,"Tolland                      ",297,"Tolland",839233,{"$f":"VLOOKUP(A693, localcont!$D$10:$L$1764, 8)","v":0},{"$f":"VLOOKUP(A693, localcont!$D$10:$L$1764, 9)*F693","v":0}]
[1482,297,"Tolland                      ",766,"Southwick Tolland",839233,{"$f":"VLOOKUP(A694, localcont!$D$10:$L$1764, 8)","v":474279.4144693705},{"$f":"VLOOKUP(A694, localcont!$D$10:$L$1764, 9)*F694","v":839233}]
[1486,298,"Topsfield                    ",298,"Topsfield",12615891,{"$f":"VLOOKUP(A695, localcont!$D$10:$L$1764, 8)","v":5574732.2589299995},{"$f":"VLOOKUP(A695, localcont!$D$10:$L$1764, 9)*F695","v":6033059.5394842792}]
[1487,298,"Topsfield                    ",705,"Masconomet",12615891,{"$f":"VLOOKUP(A696, localcont!$D$10:$L$1764, 8)","v":5629899.690873337},{"$f":"VLOOKUP(A696, localcont!$D$10:$L$1764, 9)*F696","v":6092762.5684542274}]
[1488,298,"Topsfield                    ",817,"Essex North Shore",12615891,{"$f":"VLOOKUP(A697, localcont!$D$10:$L$1764, 8)","v":452838.70377762243},{"$f":"VLOOKUP(A697, localcont!$D$10:$L$1764, 9)*F697","v":490068.89206149156}]
[1491,299,"Townsend                     ",299,"Townsend",8105672,{"$f":"VLOOKUP(A698, localcont!$D$10:$L$1764, 8)","v":0},{"$f":"VLOOKUP(A698, localcont!$D$10:$L$1764, 9)*F698","v":0}]
[1492,299,"Townsend                     ",735,"North Middlesex",8105672,{"$f":"VLOOKUP(A699, localcont!$D$10:$L$1764, 8)","v":13600255.431881472},{"$f":"VLOOKUP(A699, localcont!$D$10:$L$1764, 9)*F699","v":7348356.17570573}]
[1493,299,"Townsend                     ",852,"Nashoba Valley",8105672,{"$f":"VLOOKUP(A700, localcont!$D$10:$L$1764, 8)","v":1401631.6583917865},{"$f":"VLOOKUP(A700, localcont!$D$10:$L$1764, 9)*F700","v":757315.82429427048}]
[1496,300,"Truro                        ",300,"Truro",9638932,{"$f":"VLOOKUP(A701, localcont!$D$10:$L$1764, 8)","v":2248586.67},{"$f":"VLOOKUP(A701, localcont!$D$10:$L$1764, 9)*F701","v":8827464.7250280734}]
[1497,300,"Truro                        ",815,"Cape Cod",9638932,{"$f":"VLOOKUP(A702, localcont!$D$10:$L$1764, 8)","v":206701.98686489734},{"$f":"VLOOKUP(A702, localcont!$D$10:$L$1764, 9)*F702","v":811467.27497192612}]
[1501,301,"Tyngsborough                 ",301,"Tyngsborough",13974780,{"$f":"VLOOKUP(A703, localcont!$D$10:$L$1764, 8)","v":18172149.940000001},{"$f":"VLOOKUP(A703, localcont!$D$10:$L$1764, 9)*F703","v":12657825.043461291}]
[1502,301,"Tyngsborough                 ",828,"Greater Lowell",13974780,{"$f":"VLOOKUP(A704, localcont!$D$10:$L$1764, 8)","v":1890680.4962366126},{"$f":"VLOOKUP(A704, localcont!$D$10:$L$1764, 9)*F704","v":1316954.9565387096}]
[1506,302,"Tyringham                    ",302,"Tyringham",830354,{"$f":"VLOOKUP(A705, localcont!$D$10:$L$1764, 8)","v":304654.57999999996},{"$f":"VLOOKUP(A705, localcont!$D$10:$L$1764, 9)*F705","v":830354}]
[1511,303,"Upton                        ",303,"Upton",10665670,{"$f":"VLOOKUP(A706, localcont!$D$10:$L$1764, 8)","v":89657.700000000012},{"$f":"VLOOKUP(A706, localcont!$D$10:$L$1764, 9)*F706","v":67983.181035842412}]
[1512,303,"Upton                        ",710,"Mendon Upton",10665670,{"$f":"VLOOKUP(A707, localcont!$D$10:$L$1764, 8)","v":12526323.324130999},{"$f":"VLOOKUP(A707, localcont!$D$10:$L$1764, 9)*F707","v":9498116.7959683649}]
[1513,303,"Upton                        ",805,"Blackstone Valley",10665670,{"$f":"VLOOKUP(A708, localcont!$D$10:$L$1764, 8)","v":1450136.8978126154},{"$f":"VLOOKUP(A708, localcont!$D$10:$L$1764, 9)*F708","v":1099570.022995793}]
[1516,304,"Uxbridge                     ",304,"Uxbridge",14312882,{"$f":"VLOOKUP(A709, localcont!$D$10:$L$1764, 8)","v":19338129.629999999},{"$f":"VLOOKUP(A709, localcont!$D$10:$L$1764, 9)*F709","v":12865711.791984892}]
[1517,304,"Uxbridge                     ",805,"Blackstone Valley",14312882,{"$f":"VLOOKUP(A710, localcont!$D$10:$L$1764, 8)","v":2175205.3467189232},{"$f":"VLOOKUP(A710, localcont!$D$10:$L$1764, 9)*F710","v":1447170.2080151087}]
[1521,305,"Wakefield                    ",305,"Wakefield",38534296,{"$f":"VLOOKUP(A711, localcont!$D$10:$L$1764, 8)","v":38582986.752279997},{"$f":"VLOOKUP(A711, localcont!$D$10:$L$1764, 9)*F711","v":36640241.785957649}]
[1522,305,"Wakefield                    ",853,"Northeast Metropolitan",38534296,{"$f":"VLOOKUP(A712, localcont!$D$10:$L$1764, 8)","v":1994481.0701686805},{"$f":"VLOOKUP(A712, localcont!$D$10:$L$1764, 9)*F712","v":1894054.2140423481}]
[1526,306,"Wales                        ",306,"Wales",{"$f":"VLOOKUP(B713, town351, 7)","v":1244917},{"$f":"VLOOKUP(A713, localcont!$D$10:$L$1764, 8)","v":1538717.03},{"$f":"VLOOKUP(A713, localcont!$D$10:$L$1764, 9)*F713","v":561775.56287809159}]
[1527,306,"Wales                        ",770,"Tantasqua",1244917,{"$f":"VLOOKUP(A714, localcont!$D$10:$L$1764, 8)","v":1871141.1329692577},{"$f":"VLOOKUP(A714, localcont!$D$10:$L$1764, 9)*F714","v":683141.43712190853}]
[1531,307,"Walpole                      ",307,"Walpole",38518928,{"$f":"VLOOKUP(A715, localcont!$D$10:$L$1764, 8)","v":40689968.803000003},{"$f":"VLOOKUP(A715, localcont!$D$10:$L$1764, 9)*F715","v":36750902.605552271}]
[1532,307,"Walpole                      ",878,"Tri County",38518928,{"$f":"VLOOKUP(A716, localcont!$D$10:$L$1764, 8)","v":1549655.3753265422},{"$f":"VLOOKUP(A716, localcont!$D$10:$L$1764, 9)*F716","v":1399638.1773238757}]
[1533,307,"Walpole                      ",915,"Norfolk County",38518928,{"$f":"VLOOKUP(A717, localcont!$D$10:$L$1764, 8)","v":407872.00611309719},{"$f":"VLOOKUP(A717, localcont!$D$10:$L$1764, 9)*F717","v":368387.21712385508}]
[1536,308,"Waltham                      ",308,"Waltham",86861161,{"$f":"VLOOKUP(A718, localcont!$D$10:$L$1764, 8)","v":78915319.908700004},{"$f":"VLOOKUP(A718, localcont!$D$10:$L$1764, 9)*F718","v":86861161}]
[1541,309,"Ware                         ",309,"Ware",6060502,{"$f":"VLOOKUP(A719, localcont!$D$10:$L$1764, 8)","v":16534689.749999998},{"$f":"VLOOKUP(A719, localcont!$D$10:$L$1764, 9)*F719","v":5367553.0758041292}]
[1542,309,"Ware                         ",860,"Pathfinder",6060502,{"$f":"VLOOKUP(A720, localcont!$D$10:$L$1764, 8)","v":2134621.7377568195},{"$f":"VLOOKUP(A720, localcont!$D$10:$L$1764, 9)*F720","v":692948.92419586971}]
[1546,310,"Wareham                      ",310,"Wareham",22453587,{"$f":"VLOOKUP(A721, localcont!$D$10:$L$1764, 8)","v":30136320.540000003},{"$f":"VLOOKUP(A721, localcont!$D$10:$L$1764, 9)*F721","v":19562256.12757371}]
[1547,310,"Wareham                      ",879,"Upper Cape Cod",22453587,{"$f":"VLOOKUP(A722, localcont!$D$10:$L$1764, 8)","v":4454193.4933475247},{"$f":"VLOOKUP(A722, localcont!$D$10:$L$1764, 9)*F722","v":2891330.872426291}]
[1551,311,"Warren                       ",311,"Warren",2924102,{"$f":"VLOOKUP(A723, localcont!$D$10:$L$1764, 8)","v":0},{"$f":"VLOOKUP(A723, localcont!$D$10:$L$1764, 9)*F723","v":0}]
[1552,311,"Warren                       ",778,"Quaboag",2924102,{"$f":"VLOOKUP(A724, localcont!$D$10:$L$1764, 8)","v":8480134.8032938093},{"$f":"VLOOKUP(A724, localcont!$D$10:$L$1764, 9)*F724","v":2670541.7625106424}]
[1553,311,"Warren                       ",860,"Pathfinder",2924102,{"$f":"VLOOKUP(A725, localcont!$D$10:$L$1764, 8)","v":805164.33962952381},{"$f":"VLOOKUP(A725, localcont!$D$10:$L$1764, 9)*F725","v":253560.23748935768}]
[1556,312,"Warwick                      ",312,"Warwick",532346,{"$f":"VLOOKUP(A726, localcont!$D$10:$L$1764, 8)","v":0},{"$f":"VLOOKUP(A726, localcont!$D$10:$L$1764, 9)*F726","v":0}]
[1557,312,"Warwick                      ",750,"Pioneer",532346,{"$f":"VLOOKUP(A727, localcont!$D$10:$L$1764, 8)","v":605710.13945920544},{"$f":"VLOOKUP(A727, localcont!$D$10:$L$1764, 9)*F727","v":454616.73322653305}]
[1558,312,"Warwick                      ",818,"Franklin County",532346,{"$f":"VLOOKUP(A728, localcont!$D$10:$L$1764, 8)","v":103562.8510267747},{"$f":"VLOOKUP(A728, localcont!$D$10:$L$1764, 9)*F728","v":77729.266773466908}]
[1561,313,"Washington                   ",313,"Washington",520140,{"$f":"VLOOKUP(A729, localcont!$D$10:$L$1764, 8)","v":0},{"$f":"VLOOKUP(A729, localcont!$D$10:$L$1764, 9)*F729","v":0}]
[1562,313,"Washington                   ",635,"Central Berkshire",520140,{"$f":"VLOOKUP(A730, localcont!$D$10:$L$1764, 8)","v":705343.66514061356},{"$f":"VLOOKUP(A730, localcont!$D$10:$L$1764, 9)*F730","v":520140}]
[1566,314,"Watertown                    ",314,"Watertown",57253691,{"$f":"VLOOKUP(A731, localcont!$D$10:$L$1764, 8)","v":33522397.491480004},{"$f":"VLOOKUP(A731, localcont!$D$10:$L$1764, 9)*F731","v":57253691}]
[1571,315,"Wayland                      ",315,"Wayland",43416522,{"$f":"VLOOKUP(A732, localcont!$D$10:$L$1764, 8)","v":29104320.959789999},{"$f":"VLOOKUP(A732, localcont!$D$10:$L$1764, 9)*F732","v":43416522}]
[1576,316,"Webster                      ",316,"Webster",12980953,{"$f":"VLOOKUP(A733, localcont!$D$10:$L$1764, 8)","v":25262775.430000003},{"$f":"VLOOKUP(A733, localcont!$D$10:$L$1764, 9)*F733","v":11813545.583374375}]
[1577,316,"Webster                      ",876,"Southern Worcester",12980953,{"$f":"VLOOKUP(A734, localcont!$D$10:$L$1764, 8)","v":2496452.161071327},{"$f":"VLOOKUP(A734, localcont!$D$10:$L$1764, 9)*F734","v":1167407.4166256241}]
[1581,317,"Wellesley                    ",317,"Wellesley",134105062,{"$f":"VLOOKUP(A735, localcont!$D$10:$L$1764, 8)","v":49899424.529899992},{"$f":"VLOOKUP(A735, localcont!$D$10:$L$1764, 9)*F735","v":134055255.09856766}]
[1582,317,"Wellesley                    ",915,"Norfolk County",134105062,{"$f":"VLOOKUP(A736, localcont!$D$10:$L$1764, 8)","v":18539.636639111119},{"$f":"VLOOKUP(A736, localcont!$D$10:$L$1764, 9)*F736","v":49806.901432331484}]
[1586,318,"Wellfleet                    ",318,"Wellfleet",10733542,{"$f":"VLOOKUP(A737, localcont!$D$10:$L$1764, 8)","v":1271721.1499999999},{"$f":"VLOOKUP(A737, localcont!$D$10:$L$1764, 9)*F737","v":4030555.3029221203}]
[1587,318,"Wellfleet                    ",660,"Nauset",10733542,{"$f":"VLOOKUP(A738, localcont!$D$10:$L$1764, 8)","v":1814269.4939589361},{"$f":"VLOOKUP(A738, localcont!$D$10:$L$1764, 9)*F738","v":5750091.9362755138}]
[1588,318,"Wellfleet                    ",815,"Cape Cod",10733542,{"$f":"VLOOKUP(A739, localcont!$D$10:$L$1764, 8)","v":300657.43550473114},{"$f":"VLOOKUP(A739, localcont!$D$10:$L$1764, 9)*F739","v":952894.76080236596}]
[1591,319,"Wendell                      ",319,"Wendell",597433,{"$f":"VLOOKUP(A740, localcont!$D$10:$L$1764, 8)","v":0},{"$f":"VLOOKUP(A740, localcont!$D$10:$L$1764, 9)*F740","v":0}]
[1592,319,"Wendell                      ",728,"New Salem Wendell",597433,{"$f":"VLOOKUP(A741, localcont!$D$10:$L$1764, 8)","v":849273.50917812577},{"$f":"VLOOKUP(A741, localcont!$D$10:$L$1764, 9)*F741","v":326918.19712233217}]
[1593,319,"Wendell                      ",755,"Ralph C Mahar",597433,{"$f":"VLOOKUP(A742, localcont!$D$10:$L$1764, 8)","v":547403.56056964258},{"$f":"VLOOKUP(A742, localcont!$D$10:$L$1764, 9)*F742","v":210716.78697826757}]
[1594,319,"Wendell                      ",818,"Franklin County",597433,{"$f":"VLOOKUP(A743, localcont!$D$10:$L$1764, 8)","v":155344.27649424921},{"$f":"VLOOKUP(A743, localcont!$D$10:$L$1764, 9)*F743","v":59798.015899400278}]
[1596,320,"Wenham                       ",320,"Wenham",8872157,{"$f":"VLOOKUP(A744, localcont!$D$10:$L$1764, 8)","v":0},{"$f":"VLOOKUP(A744, localcont!$D$10:$L$1764, 9)*F744","v":0}]
[1597,320,"Wenham                       ",675,"Hamilton Wenham",8872157,{"$f":"VLOOKUP(A745, localcont!$D$10:$L$1764, 8)","v":6113287.869842669},{"$f":"VLOOKUP(A745, localcont!$D$10:$L$1764, 9)*F745","v":8641710.0920076892}]
[1598,320,"Wenham                       ",817,"Essex North Shore",8872157,{"$f":"VLOOKUP(A746, localcont!$D$10:$L$1764, 8)","v":163021.93342207352},{"$f":"VLOOKUP(A746, localcont!$D$10:$L$1764, 9)*F746","v":230446.90799231001}]
[1601,321,"Westborough                  ",321,"Westborough",32482702,{"$f":"VLOOKUP(A747, localcont!$D$10:$L$1764, 8)","v":42136254.929999992},{"$f":"VLOOKUP(A747, localcont!$D$10:$L$1764, 9)*F747","v":31823425.417017743}]
[1602,321,"Westborough                  ",801,"Assabet Valley",32482702,{"$f":"VLOOKUP(A748, localcont!$D$10:$L$1764, 8)","v":872924.45127746591},{"$f":"VLOOKUP(A748, localcont!$D$10:$L$1764, 9)*F748","v":659276.58298225468}]
[1606,322,"West Boylston                ",322,"West Boylston",7764923,{"$f":"VLOOKUP(A749, localcont!$D$10:$L$1764, 8)","v":9707106.709999999},{"$f":"VLOOKUP(A749, localcont!$D$10:$L$1764, 9)*F749","v":7764923}]
[1611,323,"West Bridgewater             ",323,"West Bridgewater",8680582,{"$f":"VLOOKUP(A750, localcont!$D$10:$L$1764, 8)","v":12489999.319999998},{"$f":"VLOOKUP(A750, localcont!$D$10:$L$1764, 9)*F750","v":8083995.2238775082}]
[1612,323,"West Bridgewater             ",872,"Southeastern",8680582,{"$f":"VLOOKUP(A751, localcont!$D$10:$L$1764, 8)","v":921743.29916499555},{"$f":"VLOOKUP(A751, localcont!$D$10:$L$1764, 9)*F751","v":596586.77612249239}]
[1616,324,"West Brookfield              ",324,"West Brookfield",3602914,{"$f":"VLOOKUP(A752, localcont!$D$10:$L$1764, 8)","v":609186.25},{"$f":"VLOOKUP(A752, localcont!$D$10:$L$1764, 9)*F752","v":340349.46908565436}]
[1617,324,"West Brookfield              ",778,"Quaboag",3602914,{"$f":"VLOOKUP(A753, localcont!$D$10:$L$1764, 8)","v":5839613.7867061896},{"$f":"VLOOKUP(A753, localcont!$D$10:$L$1764, 9)*F753","v":3262564.5309143458}]
[1621,325,"Westfield                    ",325,"Westfield",28545364,{"$f":"VLOOKUP(A754, localcont!$D$10:$L$1764, 8)","v":64522096.82},{"$f":"VLOOKUP(A754, localcont!$D$10:$L$1764, 9)*F754","v":28545364}]
[1626,326,"Westford                     ",326,"Westford",39256861,{"$f":"VLOOKUP(A755, localcont!$D$10:$L$1764, 8)","v":49338010.536589988},{"$f":"VLOOKUP(A755, localcont!$D$10:$L$1764, 9)*F755","v":38279511.469033889}]
[1627,326,"Westford                     ",852,"Nashoba Valley",39256861,{"$f":"VLOOKUP(A756, localcont!$D$10:$L$1764, 8)","v":1259694.2752455287},{"$f":"VLOOKUP(A756, localcont!$D$10:$L$1764, 9)*F756","v":977349.53096611658}]
[1631,327,"Westhampton                  ",327,"Westhampton",1907105,{"$f":"VLOOKUP(A757, localcont!$D$10:$L$1764, 8)","v":1219129.1399999999},{"$f":"VLOOKUP(A757, localcont!$D$10:$L$1764, 9)*F757","v":1038907.2799692318}]
[1632,327,"Westhampton                  ",683,"Hampshire",1907105,{"$f":"VLOOKUP(A758, localcont!$D$10:$L$1764, 8)","v":1018806.163147127},{"$f":"VLOOKUP(A758, localcont!$D$10:$L$1764, 9)*F758","v":868197.72003076819}]
[1636,328,"Westminster                  ",328,"Westminster",8207359,{"$f":"VLOOKUP(A759, localcont!$D$10:$L$1764, 8)","v":0},{"$f":"VLOOKUP(A759, localcont!$D$10:$L$1764, 9)*F759","v":0}]
[1637,328,"Westminster                  ",610,"Ashburnham Westminster",8207359,{"$f":"VLOOKUP(A760, localcont!$D$10:$L$1764, 8)","v":13201984.477324817},{"$f":"VLOOKUP(A760, localcont!$D$10:$L$1764, 9)*F760","v":7403863.7121027112}]
[1638,328,"Westminster                  ",832,"Montachusett",8207359,{"$f":"VLOOKUP(A761, localcont!$D$10:$L$1764, 8)","v":1432729.2790497656},{"$f":"VLOOKUP(A761, localcont!$D$10:$L$1764, 9)*F761","v":803495.28789728857}]
[1641,329,"West Newbury                 ",329,"West Newbury",8122757,{"$f":"VLOOKUP(A762, localcont!$D$10:$L$1764, 8)","v":29885.9},{"$f":"VLOOKUP(A762, localcont!$D$10:$L$1764, 9)*F762","v":37148.721838091988}]
[1642,329,"West Newbury                 ",745,"Pentucket",8122757,{"$f":"VLOOKUP(A763, localcont!$D$10:$L$1764, 8)","v":6338759.4885320831},{"$f":"VLOOKUP(A763, localcont!$D$10:$L$1764, 9)*F763","v":7879194.3036028547}]
[1643,329,"West Newbury                 ",885,"Whittier",8122757,{"$f":"VLOOKUP(A764, localcont!$D$10:$L$1764, 8)","v":166058.67165929987},{"$f":"VLOOKUP(A764, localcont!$D$10:$L$1764, 9)*F764","v":206413.97455905224}]
[1646,330,"Weston                       ",330,"Weston",83129864,{"$f":"VLOOKUP(A765, localcont!$D$10:$L$1764, 8)","v":21523446.137799997},{"$f":"VLOOKUP(A765, localcont!$D$10:$L$1764, 9)*F765","v":83129864}]
[1651,331,"Westport                     ",331,"Westport",22769927,{"$f":"VLOOKUP(A766, localcont!$D$10:$L$1764, 8)","v":16931357.890000001},{"$f":"VLOOKUP(A766, localcont!$D$10:$L$1764, 9)*F766","v":19581119.932713117}]
[1652,331,"Westport                     ",821,"Greater Fall River",22769927,{"$f":"VLOOKUP(A767, localcont!$D$10:$L$1764, 8)","v":2243817.3936608559},{"$f":"VLOOKUP(A767, localcont!$D$10:$L$1764, 9)*F767","v":2594975.4164921846}]
[1653,331,"Westport                     ",910,"Bristol County",22769927,{"$f":"VLOOKUP(A768, localcont!$D$10:$L$1764, 8)","v":513472.99033786223},{"$f":"VLOOKUP(A768, localcont!$D$10:$L$1764, 9)*F768","v":593831.65079469734}]
[1656,332,"West Springfield             ",332,"West Springfield",21303240,{"$f":"VLOOKUP(A769, localcont!$D$10:$L$1764, 8)","v":53586795.429999992},{"$f":"VLOOKUP(A769, localcont!$D$10:$L$1764, 9)*F769","v":21303240}]
[1661,333,"West Stockbridge             ",333,"West Stockbridge",2178921,{"$f":"VLOOKUP(A770, localcont!$D$10:$L$1764, 8)","v":0},{"$f":"VLOOKUP(A770, localcont!$D$10:$L$1764, 9)*F770","v":0}]
[1662,333,"West Stockbridge             ",618,"Berkshire Hills",2178921,{"$f":"VLOOKUP(A771, localcont!$D$10:$L$1764, 8)","v":1527536.5518968089},{"$f":"VLOOKUP(A771, localcont!$D$10:$L$1764, 9)*F771","v":2178921}]
[1666,334,"West Tisbury                 ",334,"West Tisbury",11662841,{"$f":"VLOOKUP(A772, localcont!$D$10:$L$1764, 8)","v":0},{"$f":"VLOOKUP(A772, localcont!$D$10:$L$1764, 9)*F772","v":0}]
[1667,334,"West Tisbury                 ",700,"Marthas Vineyard",11662841,{"$f":"VLOOKUP(A773, localcont!$D$10:$L$1764, 8)","v":1386834.2254989573},{"$f":"VLOOKUP(A773, localcont!$D$10:$L$1764, 9)*F773","v":3635805.1372153671}]
[1668,334,"West Tisbury                 ",774,"Upisland",11662841,{"$f":"VLOOKUP(A774, localcont!$D$10:$L$1764, 8)","v":3061816.47357023},{"$f":"VLOOKUP(A774, localcont!$D$10:$L$1764, 9)*F774","v":8027035.8627846334}]
[1671,335,"Westwood                     ",335,"Westwood",44611523,{"$f":"VLOOKUP(A775, localcont!$D$10:$L$1764, 8)","v":32428327.176970001},{"$f":"VLOOKUP(A775, localcont!$D$10:$L$1764, 9)*F775","v":44178909.024213724}]
[1672,335,"Westwood                     ",806,"Blue Hills",44611523,{"$f":"VLOOKUP(A776, localcont!$D$10:$L$1764, 8)","v":113612.52534361983},{"$f":"VLOOKUP(A776, localcont!$D$10:$L$1764, 9)*F776","v":154780.64575380116}]
[1673,335,"Westwood                     ",915,"Norfolk County",{"$f":"VLOOKUP(B777, town351, 7)","v":44611523},{"$f":"VLOOKUP(A777, localcont!$D$10:$L$1764, 8)","v":203936.0030828749},{"$f":"VLOOKUP(A777, localcont!$D$10:$L$1764, 9)*F777","v":277833.33003247238}]
[1676,336,"Weymouth                     ",336,"Weymouth",61475914,{"$f":"VLOOKUP(A778, localcont!$D$10:$L$1764, 8)","v":75977296.148979992},{"$f":"VLOOKUP(A778, localcont!$D$10:$L$1764, 9)*F778","v":61103161.065503977}]
[1677,336,"Weymouth                     ",915,"Norfolk County",61475914,{"$f":"VLOOKUP(A779, localcont!$D$10:$L$1764, 8)","v":463490.91603043058},{"$f":"VLOOKUP(A779, localcont!$D$10:$L$1764, 9)*F779","v":372752.93449601904}]
[1681,337,"Whately                      ",337,"Whately",1509864,{"$f":"VLOOKUP(A780, localcont!$D$10:$L$1764, 8)","v":959161.65},{"$f":"VLOOKUP(A780, localcont!$D$10:$L$1764, 9)*F780","v":778762.77216603688}]
[1682,337,"Whately                      ",670,"Frontier",1509864,{"$f":"VLOOKUP(A781, localcont!$D$10:$L$1764, 8)","v":710594.17498105089},{"$f":"VLOOKUP(A781, localcont!$D$10:$L$1764, 9)*F781","v":576945.80427947792}]
[1683,337,"Whately                      ",818,"Franklin County",1509864,{"$f":"VLOOKUP(A782, localcont!$D$10:$L$1764, 8)","v":189865.226867116},{"$f":"VLOOKUP(A782, localcont!$D$10:$L$1764, 9)*F782","v":154155.42355448505}]
[1686,338,"Whitman                      ",338,"Whitman",13360967,{"$f":"VLOOKUP(A783, localcont!$D$10:$L$1764, 8)","v":134486.55000000002},{"$f":"VLOOKUP(A783, localcont!$D$10:$L$1764, 9)*F783","v":66885.580206822575}]
[1687,338,"Whitman                      ",780,"Whitman Hanson",13360967,{"$f":"VLOOKUP(A784, localcont!$D$10:$L$1764, 8)","v":24245616.973139293},{"$f":"VLOOKUP(A784, localcont!$D$10:$L$1764, 9)*F784","v":12058322.25394143}]
[1688,338,"Whitman                      ",873,"South Shore",13360967,{"$f":"VLOOKUP(A785, localcont!$D$10:$L$1764, 8)","v":2484735.6684711403},{"$f":"VLOOKUP(A785, localcont!$D$10:$L$1764, 9)*F785","v":1235759.1658517476}]
[1691,339,"Wilbraham                    ",339,"Wilbraham",16686585,{"$f":"VLOOKUP(A786, localcont!$D$10:$L$1764, 8)","v":0},{"$f":"VLOOKUP(A786, localcont!$D$10:$L$1764, 9)*F786","v":0}]
[1692,339,"Wilbraham                    ",680,"Hampden Wilbraham",16686585,{"$f":"VLOOKUP(A787, localcont!$D$10:$L$1764, 8)","v":25090362.610588305},{"$f":"VLOOKUP(A787, localcont!$D$10:$L$1764, 9)*F787","v":16686585}]
[1696,340,"Williamsburg                 ",340,"Williamsburg",2114822,{"$f":"VLOOKUP(A788, localcont!$D$10:$L$1764, 8)","v":2022824.2199999997},{"$f":"VLOOKUP(A788, localcont!$D$10:$L$1764, 9)*F788","v":1279800.2492861778}]
[1697,340,"Williamsburg                 ",683,"Hampshire",2114822,{"$f":"VLOOKUP(A789, localcont!$D$10:$L$1764, 8)","v":1319817.0749793467},{"$f":"VLOOKUP(A789, localcont!$D$10:$L$1764, 9)*F789","v":835021.75071382232}]
[1701,341,"Williamstown                 ",341,"Williamstown",7602016,{"$f":"VLOOKUP(A790, localcont!$D$10:$L$1764, 8)","v":0},{"$f":"VLOOKUP(A790, localcont!$D$10:$L$1764, 9)*F790","v":0}]
[1702,341,"Williamstown                 ",715,"Mount Greylock",7602016,{"$f":"VLOOKUP(A791, localcont!$D$10:$L$1764, 8)","v":7341002.1588352015},{"$f":"VLOOKUP(A791, localcont!$D$10:$L$1764, 9)*F791","v":7289576.5365889641}]
[1703,341,"Williamstown                 ",851,"Northern Berkshire",7602016,{"$f":"VLOOKUP(A792, localcont!$D$10:$L$1764, 8)","v":314643.62352096033},{"$f":"VLOOKUP(A792, localcont!$D$10:$L$1764, 9)*F792","v":312439.4634110356}]
[1706,342,"Wilmington                   ",342,"Wilmington",35535481,{"$f":"VLOOKUP(A793, localcont!$D$10:$L$1764, 8)","v":31931135.571399998},{"$f":"VLOOKUP(A793, localcont!$D$10:$L$1764, 9)*F793","v":30978265.785181902}]
[1707,342,"Wilmington                   ",871,"Shawsheen Valley",35535481,{"$f":"VLOOKUP(A794, localcont!$D$10:$L$1764, 8)","v":4697391.9670483898},{"$f":"VLOOKUP(A794, localcont!$D$10:$L$1764, 9)*F794","v":4557215.2148180977}]
[1711,343,"Winchendon                   ",343,"Winchendon",6303925,{"$f":"VLOOKUP(A795, localcont!$D$10:$L$1764, 8)","v":16140907.580000002},{"$f":"VLOOKUP(A795, localcont!$D$10:$L$1764, 9)*F795","v":5592956.1545507088}]
[1712,343,"Winchendon                   ",832,"Montachusett",6303925,{"$f":"VLOOKUP(A796, localcont!$D$10:$L$1764, 8)","v":2051809.8317862076},{"$f":"VLOOKUP(A796, localcont!$D$10:$L$1764, 9)*F796","v":710968.84544929175}]
[1716,344,"Winchester                   ",344,"Winchester",69755055,{"$f":"VLOOKUP(A797, localcont!$D$10:$L$1764, 8)","v":49557487.22226999},{"$f":"VLOOKUP(A797, localcont!$D$10:$L$1764, 9)*F797","v":69447607.747538432}]
[1717,344,"Winchester                   ",853,"Northeast Metropolitan",69755055,{"$f":"VLOOKUP(A798, localcont!$D$10:$L$1764, 8)","v":219392.91761891256},{"$f":"VLOOKUP(A798, localcont!$D$10:$L$1764, 9)*F798","v":307447.25246156962}]
[1721,345,"Windsor                      ",345,"Windsor",754634,{"$f":"VLOOKUP(A799, localcont!$D$10:$L$1764, 8)","v":59771.8},{"$f":"VLOOKUP(A799, localcont!$D$10:$L$1764, 9)*F799","v":58952.974519879048}]
[1722,345,"Windsor                      ",635,"Central Berkshire",754634,{"$f":"VLOOKUP(A800, localcont!$D$10:$L$1764, 8)","v":705343.66514061356},{"$f":"VLOOKUP(A800, localcont!$D$10:$L$1764, 9)*F800","v":695681.02548012091}]
[1726,346,"Winthrop                     ",346,"Winthrop",19438664,{"$f":"VLOOKUP(A801, localcont!$D$10:$L$1764, 8)","v":23368693.414199997},{"$f":"VLOOKUP(A801, localcont!$D$10:$L$1764, 9)*F801","v":18536871.175602466}]
[1727,346,"Winthrop                     ",853,"Northeast Metropolitan",19438664,{"$f":"VLOOKUP(A802, localcont!$D$10:$L$1764, 8)","v":1136854.2100140324},{"$f":"VLOOKUP(A802, localcont!$D$10:$L$1764, 9)*F802","v":901792.82439753239}]
[1731,347,"Woburn",347,"Woburn",55197692,{"$f":"VLOOKUP(A803, localcont!$D$10:$L$1764, 8)","v":54727485.960259996},{"$f":"VLOOKUP(A803, localcont!$D$10:$L$1764, 9)*F803","v":52995923.099699259}]
[1732,347,"Woburn",853,"Northeast Metropolitan",55197692,{"$f":"VLOOKUP(A804, localcont!$D$10:$L$1764, 8)","v":2273708.4200280649},{"$f":"VLOOKUP(A804, localcont!$D$10:$L$1764, 9)*F804","v":2201768.9003007431}]
[1736,348,"Worcester                    ",348,"Worcester",113942156,{"$f":"VLOOKUP(A805, localcont!$D$10:$L$1764, 8)","v":397940445.01999998},{"$f":"VLOOKUP(A805, localcont!$D$10:$L$1764, 9)*F805","v":113942156}]
[1741,349,"Worthington                  ",349,"Worthington",1103645,{"$f":"VLOOKUP(A806, localcont!$D$10:$L$1764, 8)","v":1186757.45},{"$f":"VLOOKUP(A806, localcont!$D$10:$L$1764, 9)*F806","v":1103645}]
[1746,350,"Wrentham                     ",350,"Wrentham",17705719,{"$f":"VLOOKUP(A807, localcont!$D$10:$L$1764, 8)","v":8684835.7043299992},{"$f":"VLOOKUP(A807, localcont!$D$10:$L$1764, 9)*F807","v":7949766.7765612453}]
[1747,350,"Wrentham                     ",690,"King Philip",17705719,{"$f":"VLOOKUP(A808, localcont!$D$10:$L$1764, 8)","v":9240376.2188146636},{"$f":"VLOOKUP(A808, localcont!$D$10:$L$1764, 9)*F808","v":8458287.3376217186}]
[1748,350,"Wrentham                     ",878,"Tri County",17705719,{"$f":"VLOOKUP(A809, localcont!$D$10:$L$1764, 8)","v":1232256.0816541007},{"$f":"VLOOKUP(A809, localcont!$D$10:$L$1764, 9)*F809","v":1127960.1355343133}]
[1749,350,"Wrentham                     ",915,"Norfolk County",17705719,{"$f":"VLOOKUP(A810, localcont!$D$10:$L$1764, 8)","v":185396.36644376378},{"$f":"VLOOKUP(A810, localcont!$D$10:$L$1764, 9)*F810","v":169704.75028272392}]
[1751,351,"Yarmouth                     ",351,"Yarmouth",34466462,{"$f":"VLOOKUP(A811, localcont!$D$10:$L$1764, 8)","v":0},{"$f":"VLOOKUP(A811, localcont!$D$10:$L$1764, 9)*F811","v":0}]
[1752,351,"Yarmouth                     ",645,"Dennis Yarmouth",34466462,{"$f":"VLOOKUP(A812, localcont!$D$10:$L$1764, 8)","v":27612604.517141156},{"$f":"VLOOKUP(A812, localcont!$D$10:$L$1764, 9)*F812","v":31101200.12512818}]
[1753,351,"Yarmouth                     ",815,"Cape Cod",34466462,{"$f":"VLOOKUP(A813, localcont!$D$10:$L$1764, 8)","v":2987783.2647483959},{"$f":"VLOOKUP(A813, localcont!$D$10:$L$1764, 9)*F813","v":3365261.8748718253}]

{"sheet":"disthist","index":15,"n_rows":448,"n_cols":55,"rows_kept":448,"cut":false,"hidden":true,"merged":[]}
[null,null,"c70fy20","c70fy07","c70fy06","c70fy07","c70fy07","c70fy07","c70fy07",null,null,null,"c70fy09 oct 15","c70fy09 oct 15","net of $412m cut",null,"c70fy10finalmay, reflecting weymouth and chelsea waiver, june 29, 2010",null,"c70fy10final, june30, 2010; reflects what weymouth chelsea and associated districts were ELIGIBLE for after June 30 waivers",null,"fy11 fb in localcont pivoted, total difffers because of regionalizers","pymincont pivoted dec 21, reflects raynham waiver and reallocated contributions for a/s, s/b oakhamfor comparison purposes","ayer, shirley, berkley, somerset, freetown, lakeville, ayer/shirley,  berk/som, f/l  adjusted based upon disaagregation file; oakham aid assigned to pathfindeer","ayer, shirley, berkley, somerset,freetown, lakeville,  ayer/shirley, berk/som, freetown/lakevilleadjusted based upon disaagregation file","ayer, shirley, berkley, somerset, freetown, lakeville, ayer/shirley, berk/som, freetown/lakeville  adjusted based upon disaagregation file","c70fy12, oct 14; monomoy, chatham harwich, granville, st","c70fy12, oct 14; monomoy, chatham harwich, granville, st","c70fy12, oct 14; monomoy, chatham harwich, granville, st","c70fy13; adjusts Lanesborough, Chesire, Berlin, Boylston, Ayer, N Berkshire, Nashoba Valley, Berlin Boylston","c70fy13; adjusts Lanesborough, Chesire, Berlin, Boylston, Ayer, N Berkshire, Nashoba Valley, Berlin Boylston","c70fy13; adjusts Lanesborough, Chesire, Berlin, Boylston, Ayer, N Berkshire, Nashoba Valley, Berlin Boylston; New Bedford","c70fy14; adjusts Acton Boxborough; removes Essex","c70fy14; adjusts Acton Boxborough; removes Essex","c70fy14; adjusts Acton Boxborough; removes Essex and allocates aid to sending districts","c70fy15","c70fy15","c70fy15; adjusts Gateway and Worthington; Peabody and ENS","c70fy16","c70fy16","c70fy16, $1M for Framingham (found reserve)","c70fy17","c70fy17","c70fy17\nMinuteman, Boxborough, Carlisle, Lincoln, Sudbury, Wayland, Weston","c70fy18","c70fy18","c70fy18\n","c70fy19\n","c70fy19\n","c70fy19\n","c70fy20","c70fy20","c70fy20","c70fy21","c70fy21","c70fy21"]
[]
[1,2,3,4,5,6,7,8,9,10,11,12,13,14,15,16,17,18,19,20,21,22,23,24,25,26,27,28,29,30,31,32,33,34,35,36,37,38,39,40,41,42,43,44,45,46,47,{"$f":"AU3+1","v":48},{"$f":"AV3+1","v":49},50,51,52,53,54,55]
[]
[]
[]
[null,null,"Prior Year",null,"required",null,"Foundation","Required","FY07","Foundation","Required","FY08","Foundation","Required","chapter 70",null,"Foundation","Required","chapter 70",null,"Foundation","Required",null,null,"edujobs","Foundation","Required",null,"Foundation","Required",null,"Foundation","Required",null,"Foundation","Required",null,"Foundation","Required",null,"Foundation","Required",null,"Foundation","Required",null,"Foundation","Required",null,"Foundation","Required",null,"Foundation","Required"]
[null,null,"Target Aid Share","foundation","contribution","Chapter 70","Budget","Contribution","chapter 70","Budget","Contribution","chapter 70","Budget","Contribution","aid","FY09 9c cut","Budget","Contribution","aid","FY10","Budget","Contribution","c70","sfsf","total","Budget","Contribution","c70","Budget","Contribution","c70","Budget","Contribution","c70","Budget","Contribution","c70","Budget","Contribution","c70","Budget","Contribution","c70","Budget","Contribution","c70","Budget","Contribution","c70","Budget","Contribution","c70","Budget","Contribution","c70"]
["LEA","District","FY20","FY06","FY06","FY06","FY07","FY07","aid","FY08","FY08","aid","FY09","FY09","FY09","stabilization aid","FY10","FY10","FY10","sfsf","FY11","FY11","FY11","FY11","FY11","FY12","FY12","FY12","FY13","FY13","FY13","FY14","FY14","FY14","FY15","FY15","FY15","FY16","FY16","FY16","FY17","FY17","FY17","FY18","FY18","FY18","FY19","FY19","FY19","FY20","FY20","FY20","FY21","FY21","FY21"]
[1,"Abington                     ",36.630000000000003,16523760,10191983,6869653,17243088.48,10835090,7152781,18063555.577898104,11492886,7448806,19020902.029999997,11903143,6987394,821183,19474318.639892824,12084604,7652405,0,18226050.298500001,11741657,7205352,38682,462271,17359608.879999999,12056554,7244034,18273059.900000002,12498017,7324394,18967492.810000002,13020494,7374594,18287521.510000002,12943494,7423394,18870910.490000002,13029356,7472269,19481152.105999999,12843377,7579849,19699144.432921756,12922903,7637749,21515960.214600004,13701008,7816931,23388476.609717574,14463601,8933994,25332546.714959998,15287069,10045478]
[2,"Acton                        ",17.61,16798342,14323943,2723714,17472326.599199999,14258025,3214302,18387597.604836155,14103803,4283795,19355313.269600004,14127172,4678327,549814,19717633.622768261,14236925,5123578,357131,19649104.540190399,14516319,5160527,27704,353078,19614092.674799997,14543128,5188231,20151482.417030003,14761130,5537500.2082832009,13308,9807,1699,0,0,0,0,0,0,0,0,0,0,0,0,0,0,0,0,0,0,0,0,0]
[3,"Acushnet                     ",43,10752617,4702995,6049622,10925643.810000001,5021780,6138021,10761756.058842914,5158813,6206921,11395406.830000002,5414309,5825831,684672,11223341.565244021,5326164,6380293,0,10323398.130179999,5401579,6007556,32251,371236,10560494.92,5591539,6039807,10945583.299999999,5840331,6088327,11227244.859999999,6098928,6118877,11538501.129999999,6393318,6150152,11701370.220000003,6720092,6181252,11862468.339999998,6851396,6250222,11736546.345857544,6867294,6286522,12395984.840000002,7125126,6323332,13443441.482329441,7498601,6361492,13990412.9,7889510,6361492]
[4,"Adams                        ",66.45,0,0,0,0,0,0,0,0,0,11943.49,2802,9141,0,12306.57500478469,3310,8958,39,0,0,0,0,0,0,0,0,12697.210000000001,3609,9088,0,0,0,0,0,0,0,0,0,0,0,0,0,0,0,0,0,0,0,0,0,0,0,0]
[5,"Agawam                       ",45.65,32319935,21493837,10826098,34566078.779999994,22041666,12524413,35551345.780867614,21602566,14029399,37698376.909999989,21211830,14752751,1733796,38739894.035965554,21200429,16156816,1382649,37851740.416679993,20906343,16620258,89225,936907,38691315.740000002,21196318,17494998,40065479.369999997,21799451,18531417.812022001,39705689.879999995,22317126,18633592.812022001,40513463.040000007,22228633,18827346.812022001,40806967.850000001,22728531,18927671.812022001,39809443.760000005,22702754,19138981.812022001,40549530.336503848,22135293,19253911.812022001,41326070.32,22474431,19367102,42227451.049391314,22951211,19477412,42427489.500000007,23256462,19477412]
[6,"Alford                       ",17.5,0,0,0,0,0,0,0,0,0,0,0,0,0,0,0,0,0,0,0,0,0,0,0,0,0,0,0,0,0,0,0,0,0,0,0,0,0,0,0,0,0,0,0,0,0,0,0,0,0,0,0,0]
[7,"Amesbury                     ",30.55,19460597,12406221,8455877,19548536.809999999,12809091,8583727,19781530.293151677,13167547,8706827,20756560.399999999,13536773,8124385,954806,21190912.030989472,13555005,8897607,0,21216914.582820002,13646574,8377810,44976,535896,21437478.949999999,13871392,8422786,21788085.690000001,14228051,8517266,22520782.300000004,14645774,{"$f":"8577441+84220","v":8661661},23277123.93,14710835,8807407,23284050.52,14749359,8867257,22775372.140000001,14489823,8995077,22137199.0502779,14640237,9061587,22830750.459999997,15155898,9127527,22996252.745490368,15621860,9190887,22553274.579999998,16118764,9190887]
[8,"Amherst                      ",25.49,11114274,5541487,5572787,11497553.710000001,5563556,5933998,11950170.523914317,5791375,6158796,12240957.26,6176229,5607673,659034,12789869.018824883,8287309,6141373,0,12104976.778860003,8244892,5782594,31044,361635,11778216.34,8330699,5813638,12123554.34,8560597,5864398,11999013.530000001,8782052,5895073,11927369.58,8808278,5925198,12222179.260000002,9033626,5954998,12153334.120000001,9054116,6020943,11871248.344619127,8817279,6055023,11969353.380000003,8946746,6088203,12803970.649125857,9508882,6122223,12512134.57,9645618,6122223]
[9,"Andover                      ",17.5,40445552,43398252,5235106,45421092.757479988,43984801,6105826,47430802.160358295,44443293,6764195,50839207.830960013,44963510,6682611,785364,52920927.943806164,46055668,7318616,0,52465302.435107633,46239193,6891063,36994,541909,53641152.655579992,47162432,6928057,55867173.864680015,48525635,7950343.1065797508,57208567.533579998,49906105,{"$f":"8465632.15952894+84220","v":8549852.1595289409},56905481.147259988,49453903,9042864.1595289409,57593754.781260006,49454967,9191614.1595289409,58523208.186840013,48754974,9768234,59213763.705395557,49146929,10066835,60546641.049729995,49950979,10595662,63835635.793936521,52178457,11668291,64237434.876240008,52995883,11668291]
[10,"Arlington                    ",17.5,31514908,29608395,5019276.8,34791436.82971999,30151702,5592669.7999999998,35888202.793767765,30613441,5814119.7999999998,38070505.063400008,31841211,5574195,655099,40248798.10830944,33205258,6104708,938832,39642105.945616916,33491571,6632057,35604,490929,41361535.892299995,34480956,6880580,43488849.24750001,35379353,8109496,46406615.112400003,36357635,10048980,47819420.315520003,37584838,10234582,50290292.382299997,39574733,10715559,51156059.770829991,41761139,11012669,54501493.562073596,43805119,11180879,58002940.646099992,46237018,11765923,62294073.096873432,48330137,13979327,64895656.34093,50343449,14566028]
[11,"Ashburnham                   ",52.99,0,0,0,0,0,0,0,0,0,0,0,0,0,0,0,0,0,12035.81568,5767,6269,0,0,0,0,0,0,0,0,0,0,0,0,0,0,0,0,0,0,0,0,0,0,0,0,0,0,0,0,0,0,0,0]
[12,"Ashby                        ",40.840000000000003,0,0,0,10849.66,3784,7066,0,0,0,0,0,0,0,0,0,0,0,36107.447039999999,17602,18505,0,0,0,0,0,0,0,0,0,0,0,0,0,0,0,0,0,0,0,0,0,0,0,0,0,0,0,0,0,0,0,0]
[13,"Ashfield                     ",25.59,88168,48246,66553,97646.94,58472,71328,158055.47,93913,98741,154299.47,98640,99291,0,171296.79213014356,113319,97305,0,227707.1532,147698,93413,0,0,244010.68,163790,93413,265614.51000000007,185836,93413,205261.50999999998,160515,93413,207026.65000000002,168768,93413,276131.65999999997,227950,93413,236011.40000000002,187511,93413,226884.18269824251,176931,93413,233861.83,163542,93413,100602.5807874735,74854,93413,117262.39999999999,96741,93413]
[14,"Ashland                      ",26.04,17600708,15268810,2710446,19209670.376520004,15739323,3470347,20160314.837740563,16316673,3843642,21548050.5513,16954069,4110859,483123,21943205.255612019,17161770,4502102,279333,21499028.046113763,17147082,4502104,24169,317887,22018866.611560002,17141832,4877035,22827562.789220002,17549961,5393484.5103722075,23024892.666360006,17849470,5455184.5103722075,23394153.285179999,18210677,5517159.5103722075,23999962.492609996,18808879,5579509.5103722075,24958578.790420003,19022776,5935803,24948345.559453651,19465664,6012213,26344731.796339996,20247938,6115970,29177890.758524973,21472389,7839520,30232498.719999995,22294876,7937623]
[15,"Athol                        ",71.31,0,0,0,0,0,0,0,0,0,0,0,0,0,0,0,0,0,0,0,0,0,0,0,0,0,0,0,0,0,0,0,0,0,0,0,0,0,26341.840000000004,3873,22469,26833.666687179095,4106,22728,13837.16,2099,13837.16,0,0,0,0,0,0]
[16,"Attleboro                    ",52.15,49581258,24133853,26883243.999999996,51622674.860000007,26137000,27866185.999999996,53454656.395922035,27572010,28728682.999999996,56616897.470000006,28727620,27069945.999999996,3181356,58918761.277305275,28533080,29646276,739405,57958272.469619997,29329457,28610552,153594,1774285,59072872.719999991,30079922,28992951,63511315.789999999,31014381,32496935,65997192.829999998,31917394,34079799,66876305.419999994,32678917,34235474,68325590.250000015,33083184,35242406,68466287.280000016,32806836,35659451,69495854.734565571,33973326,35846981,72980818.829999998,35206834,37773985,77760770.558410808,36638947,41121824,79207276.429999992,38037529,41169747]
[17,"Auburn                       ",43.67,16499311,14372371,3851160.4,17023458.98,14092633,4305255.4000000004,18480214.973095328,14055240,5071081.4000000004,19659678.48,13968259,5197030.4000000004,610773,20439500.344528228,14187753,5691647,560100,20652528.680219997,14065172,6460963,34685,91709,20662647.859999999,14287674,6495648,22131023.739999998,14570334,7942820.3625045,22143759.650000002,14877912,8141597.1613508752,22469656.549999997,14563293,8389817.1613508761,22643826.370000001,14394734,8448392.1613508761,23122124.420000002,14141768,8983238,24064548.393377755,13986014,10078534,25672129.779999997,14624535,11066959,26762943.249616574,15076760,11851108,27521289.789999999,15309359,12211931]
[18,"Avon                         ",31.8,4314744,5219399,598615.19999999995,4744879.2,5087039,689890.2,4908325.580745657,4879669,821450.2,4880185.91,4634153,787773.2,92582,5079184.7577110045,4655392,862748,0,5003299.8623400005,4683156,812346,4361,59766,5311469.62,4662241,816707,5330691.71,4889789,874133.94566824997,5277960.9499999993,4882181,902872.92975868739,5301350.57,4680844,946828.92975868739,5497208.8500000006,4485828,1011381,5736311.7000000011,4321841,1414471,5634205.6633891659,4254900,1430611,6193899.0300000012,4386495,1807404,6653932.0309206927,4537696,2116236,7045846.1099999985,4598969,2448769]
[19,"Ayer                         ",29.34,8246427,6215760,3640814,8871545.0322399996,6363490,3883672,9386273.5519316979,6352709,4095225,9764441.5805200022,6347229,3805903,447283,10086779.713210486,6445455,4168122,0,643993,415421.3758135406,253793,1362,16107,769483.96129999985,504740,264744,104146,557301,38995,0,0,0,0,0,0,0,0,0,0,0,0,0,0,0,0,0,0,0,0,0,0,0,0]
[20,"Barnstable                   ",17.5,47026157,46712289,6420888,47204345.670000002,46877880,6788862,48539833.542866066,45893085,7300545,49407513.479999997,45447325,6930189,814460,50897964.509274639,45599938,7589756,0,49664767.726020001,44936193,7146363,38365,542328,49571418,44732590,7184728,52647431.899999999,46300239,7401888,53905631.089999996,47284048,7909787.3601874998,53870372.68999999,46207751,8440922.3601875007,55521659.879999995,46784953,8736707,57300644.839999989,47453547,9847098,58000134.653313488,48045485,10011348,60393953.440000013,49825012,10568941,63524348.519651115,51296149,12228200,65773443.140000001,52762387,13011056]
[21,"Barre                        ",61.06,19593,9834,15043,21699.32,7253,16444,22710.54,6521,17100,23886.98,7013,17858,0,61532.87502392345,22041,17501,21991,0,0,0,0,0,12250.07,4767,7483,25394.420000000002,10406,14988,12894.02,5544,12894.02,0,0,0,0,0,0,0,0,0,0,0,0,0,0,0,0,0,0,0,0,0]
[22,"Becket                       ",17.5,48982,54219,48982,140168.19,87604,79274,146700.20000000001,105888,80981,95547.92,70485,81381,0,86146.025033492828,68508,79753,0,155492.25912,142385,76563,0,0,170510.26,161768,76563,227522.88,221631,76563,218155.53,210026,76563,246041.35,221437,76563,118799.64000000001,103997,76563,170156.80000000002,141158,76563,173216.84932388432,131694,76563,206187.50999999995,157270,76563,143717.97255353359,108529,76563,188943.82,155879,76563]
[23,"Bedford                      ",17.5,17469341,19992834,2053688,18847501.762400001,20198035,2302613,19936512.315641664,20143875,2658496,21540315.715160001,20229106,2707008,318137,22837847.15390702,20263035,2964642,0,22281982.144923359,20213672,2791448,14986,220883,22574959.842000004,20395123,2806434,24305160.20324,20957504,3729645.7841924857,25381920.618640006,21670472,{"$f":"3907693.36520986+16844","v":3924537.3652098598},25862895.333689999,21890571,4145009.3652098598,26053076.229189999,22187734,4209634.3652098598,25950850.370000001,21694256,4352414.3652098598,26915524.993783444,22291183,4624342,27912085.889699996,23027471,4884615,29672258.159568485,24098559,5595167,30502691.57316,25097492,5595167]
[24,"Belchertown                  ",50.17,18090392,8585608,9504784,19713838.600000001,9148930,10564909,20636641.406207636,9371626,11265015,22678130.579999998,9514031,11779707,1384393,23575322.127127279,9788345,12900818,886159,22816367.782979999,9964385,12981543,69691,802818,23483392.580000002,10232132,13251261,23567308.230000004,10469424,13355141,23833924.679999996,10829462,13419341,23327151.939999998,11128856,13481666,22973661.619999997,11383708,13541691,23089848.73,11282677,13673306,23338797.006631523,11231898,13744526,23863029.98,11563925,13814846,24514320.307211746,12048062,13884146,24726417.459999997,12418125,13884146]
[25,"Bellingham                   ",32.6,19213556,11849997,7674956.0000000019,19765781.870000005,12301746,7877733.0000000019,20737641.341686606,12839032,8236349,21635191.629999999,13286678,7660683,900310,22336539.266939711,13855656,8389773,91110,21918230.382779997,14070986,7985431,42869,516233,22005905.830000002,14331642,8028300,21897110.52,14719762,8123660,22859867.109999999,15024829,8184635,22925709.119999997,15265577,8245235,23462633.450000003,15314220,8305835,22360509.420000002,15180149,8433985,22943454.173670746,15348243,8503945,23842628.519999996,15794941,8573845,24541929.425553497,16455942,8642425,24676853.43,16772086,8642425]
[26,"Belmont                      ",17.5,25508704,25370522,3002919.2,26906930.229400001,25515369,3344078.2,28888243.350710981,25916568,3857487.2,31086767.443360008,26482952,4119658,484157,33630843.731472418,27745446,4511739,1373659,32919934.323621243,28127012,5541573,29750,410300,33178102.924880005,28699894,5571323,34247348.968879998,29351497,5724243,35925169.712800004,30375090,5864908.424935,37689370.076880001,31269266,6420104,39180121.943280004,32414023,6766099,40728661.169720002,33616892,7111769,42643514.599933475,34843282,7800233,45512607.460039996,36735671,9036713,47857221.466895089,38364680,9637942,50418107.66032999,40662179,9755929]
[27,"Berkley                      ",45.61,7643922,2828497,4920431,8272940.120000001,3113070,5258969,8560781.2362940945,3328896,5405595,8827170.8099999987,3585871,4954853,582312,9064946.7510200962,3849845,5426422,0,6358267,2943167.6275719707,3785929,19984,230000,6692981.5599999996,3181543,3805913,6718784.6800000006,3109727,3837513,6637699.4999999991,3087420,3856463,6578224.6799999988,3202757,3875013,6569709.3200000003,3390355,3893088,6930346.8399999989,3591123,3934448,7359719.0961112287,3696563,3957968,7541762.2899999991,3837447,3981188,7578024.2998736957,3944412,4003448,8014902.1800000006,4170576,4003448]
[28,"Berlin                       ",17.5,1495721,1260426,505156.8,1574409.8655099997,1380034,518927.8,1531631.5569803971,1426621,529127.80000000005,1559344.8398399998,1379744,482385.8,56692,1739191.978516578,1464517,528296,0,1521295.9949798398,1367714,497433,2670,32943,1493144.841,1321677,500103,1366340,1379734,428980,1449658.5541600001,1228268,433030,1474055.7653800002,1240618,437180,1394075.23704,1182830,440980,1517885.7034299998,1268093,449505,1603891.1351568666,1339179,454305,1639651.6628,1352713,0,0,0,0,0,0,0]
[29,"Bernardston                  ",46.61,0,0,0,0,0,0,0,0,0,0,0,0,0,24613.150009569381,12834,0,11779,24071.631359999999,12891,11308,0,0,12250.07,6787,11308,12697.210000000001,6666,11308,0,0,0,0,0,0,0,0,0,0,0,0,0,0,0,0,0,0,0,0,0,0,0,0]
[30,"Beverly                      ",17.5,34118143,32135174,6332869.2000000002,35715876.831259988,32889802,6612472.2000000002,37367798.212748706,33478649,6901558.2000000002,39386154.621250004,34043028,6491827.2000000002,762943,39194005.831609689,34064888,7109675,0,38562013.260270961,34027524,6694328,35938,485209,39163824.46955999,34390816,6730266,41449624.288350001,35366026,6901866,42458330.514560007,36512325,{"$f":"7033951.460012+193707","v":7227658.4600120001},43026226.781149998,36875947,7336283.4600120001,44949344.692879997,37443198,7506147,44666515.990000002,37114279,7750842,45588032.85854122,37741029,7884162,46490353.889999993,38354542,8135812,49446399.057018369,40188832,9257567,51866271.119999997,41749093,10125430]
[31,"Billerica                    ",23.17,44723745,33169789,13000488.000000002,47634963.546500005,33645086,14140521.000000002,48947057.0166407,33836479,15747049.000000002,51035401.591280006,33569444,15629163,1836795,52105541.174899884,33750443,17116639,1238459,48993356.292637311,33261644,17282794,92782,1127922,50875415.991750009,33909226,17375576,52527991.367600001,34773532,18204887.04653937,51957284.506579995,35443588,{"$f":"18343562.0465394+8422","v":18351984.0465394},50581059.937599994,35165450,18486609.0465394,51437518.584149994,35483899,18620584.0465394,49371895.506909996,34830635,18904494.0465394,49374269.014992416,35556235,19055514.0465394,50010476.058320001,37025362,19202874.0465394,51908631.204447828,39371685,19348854,52647471.612599999,41417136,19348854]
[32,"Blackstone                   ",50.25,78960,54427,38854,194416.49,79381,115035,192121.28,87676,115785,214016.92,93849,127344,0,208216.51714449763,92534,124797,0,84250.709759999998,38469,84250.709759999998,0,0,85750.49,40589,84251,88880.470000000016,43338,84251,116046.18,57626,84251,181016.85000000003,89793,91224,223331.82000000004,112108,111224,249182.32000000004,125734,125414,293968.34941619023,142085,151883,303047.63,146874,156507,357718.72900887078,174004,183898,408810.81999999995,197411,211400]
[33,"Blandford                    ",17.5,48982,35517,34879,65097.96,37532,43027,34065.81,19175,34065.81,59717.45,34567,45413.81,0,73839.450028708146,45404,44506,0,84250.709759999998,55481,42726,0,0,122500.7,81440,42726,88880.470000000016,61527,42726,128940.2,98474,42726,181016.85000000003,141333,43655,92399.719999999987,77583,43655,105367.36000000002,88144,43655,80501.000061537285,67637,43655,110697.28,91325,43655,114974.37804282685,91083,43655,102604.6,84649,43655]
[34,"Bolton                       ",17.5,9973,4632,5341,11170.821760000001,8623,5551,11756.7567,9885,5654,12414.87736,10106,5769,0,0,0,5654,0,0,0,0,0,0,0,0,0,0,0,0,0,0,0,0,0,0,13623.25469,11667,1956,27251.545720000002,22684,4568,13854.834543589546,11515,4568,14264.24656,11464,4568,14861.542035353355,12091,4568,15157.29088,12505,4568]
[35,"Boston                       ",17.5,586105185,399376878,203634716.00000003,619256557.27349997,422061485,210540147.00000003,645423775.69285941,450972697,215807608.00000003,674654547.49265981,485336817,198137070.00000003,23285769,698913738.66387761,510847386,216994382,0,680748415.44375777,527398841,204317586,1096867,13086129,706116381.62752008,551817407,205414453,724294011.71002996,579960095,207858813,750290537.27947998,604305866,{"$f":"209406563+8422","v":209414985},780383012.88296986,627463814,210991435,805600562.75407994,657393838,212596335,802914847.56588995,666445514,216128435,829896970.52937865,686260642,218066495,861999611.91060007,711149680,220001735,910864776.36300993,749907338,221915045,924506066.0076499,762717504,221915045]
[36,"Bourne                       ",17.5,17925620,14175597,4520605,19096415.879999999,14957841,4725494,19833297.543827865,15646627,4854448,20945577.219999999,16223237,4518112,530985,20772043.229703348,16779418,4948115,0,19969976.504640002,16817476,4659046,25012,321732,19955194.440000001,17178276,4684058,20413172.529999997,17508247,4771738,20231816.77,17624172,4825238,19753593.370000005,16968423,4877338,19473369.859999999,16682400,4927363,19315319.800000001,16178695,5034613,20067959.034898311,16608266,5094043,21368782.289999999,17629245,5155183,22123862.831195891,18252187,5215213,22664002.020000003,18697802,5215213]
[37,"Boxborough                   ",17.5,4097907,3155257,1318163,4120404.6616799999,3160718,1344663,4148265.2990540327,3153303,1370363,4158143.8214699994,3122645,1248173,146690,4221713.9749441538,3141987,1366966,0,3719555.6312304004,3019563,1287108,6910,83923,3688231.1508000009,3037911,1294018,3802586.1715900004,3281068,1310578,0,0,0,0,0,0,0,0,0,0,0,{"$f":"14864","v":14864},88385.021661537277,73448,14937,106694.35,87553,19141,127474.53052282683,104905,22674,143372.81232,117755,25618]
[38,"Boxford                      ",17.5,6071885,5163711,1491956.8,6289686.6546200002,5060226,1536106.8,6441226.7548756497,5155389,1579156.8,6868240.9885999989,5466446,1479954.8,173929,6715149.8644612292,5538616,1620806,0,6426161.3153402992,5556487,1526119,8193,106694,6278578.7740599988,5546995,1534312,6142159.6714999992,5438279,1563632,6321744.6236000005,5657134,{"$f":"1582232+25266","v":1607498},6315613.1311499998,5486948,1625748,6380974.8437599996,5508993,1643973,6361983.2980000013,5310704,1683463,6728318.9448366938,5579890,1705633,6655216.9083199995,5490554,1726753,7004474.1685977643,5765598,1747903,7419452.1552000009,6121048,1747903]
[39,"Boylston                     ",17.5,2456202,2401450,399441.2,2596679.29,2468253,424025.2,2637266.6833377071,2412440,441425.2,2748598.3,2379694,412437.2,48471,2995460.8425033498,2540646,451690,3125,2900472.82014,2577094,428244,2299,33097,2809495.56,2592747,430543,2762062,2804850,404281,2837168.6900000004,2524555,427336.88018750004,2701535.6,2336823,443237.88018750004,2619960.2999999998,2263384,450312.88018750004,2586705.9099999997,2165226,465437.88018750004,2629403.7758567845,2172204,473687.88018750004,2856144.64,2256220,72374,429577.71528563765,344845,84733,438126.42,353125,85001]
[40,"Braintree                    ",26.88,36257909,32433077,4903921.2,39382974.82124,33034864,6348111,41131026.449868038,33655897,7475129,44050195.07244999,34532907,8516409,1000879,46447721.11701142,34269687,9326942,2851092,45861987.164652348,35115999,11466594,61558,781482,47773435.682659999,35619436,12154000,49979205.223809995,36669696,13546898.562588248,51154368.228680007,37491319,13863900.583767677,53388255.002250001,38760993,14627262,55247735.783950001,39956696,15291040,56110509.381990001,39512030,16598479,58118969.896002591,40917885,17201085,60365199.038079999,42548094,17817105,63032117.839880839,44795946,18297651,64248920.529949985,46089277,18297651]
[41,"Brewster                     ",17.5,3745908,3609192,847877.2,3716661.11,3503455,872877.2,3870065.49,3592082,899723.2,4197809.6900000004,3789305,856428.2,100650,4216302.6441186611,3870397,937937,0,4075130.8498800001,3786992,883143,4741,62353,4135853.54,3959695,887884,4270180.41,4095847,906844,4270777.8100000005,4059699,918344,4371530.74,3934378,930169,4481450.93,3903212,942019,4710846.5600000005,3929503,968749,4863009.8651172351,4034625,983449,4845032.0600000005,3997151,997669,5028082.1512436774,4091479,1011979,5175998.03,4206025,1011979]
[42,"Bridgewater                  ",36.21,88168,50372,88168,97646.94,52590,91714,79486.89,42308,79486.89,95547.92,49903,85767.89,0,110759.17504306222,61737,84053,0,36107.447039999999,20964,36107.447039999999,0,0,49000.28,28706,36107,38091.630000000005,22925,36107,51576.08,31717,36107,78029.39999999998,48603,36107,131999.6,81574,50426,196498.64000000004,121288,76038,200050.51601106342,124537,76038,124534.43999999997,80047,76038,129346.17529818021,81640,76038,117262.39999999999,73653,76038]
[43,"Brimfield                    ",43.02,2082262,1222310,892997.6,2227974.4500000002,1181088,1046886,2430566.1536758002,1254545,1176021,2380996.33,1252428,1065723,125248,2416094.560888038,1320275,1167152,0,2491980.6652200003,1418885,1098967,5900,69910,2587336.7200000002,1412114,1175223,2627653.7399999998,1439707,1187947,2589280.4,1451989,1195297,2557047.06,1495359,1202422,2535170.4500000002,1464818,1209272,2386674.08,1412227,1223352,2534076.5705832485,1459687,1231392,2588960.9799999995,1544601,1239312,2714228.2124121352,1546449,1247172,3081860.73,1716855,1365006]
[44,"Brockton                     ",77.53,138977359,28667300,110310059,148050710.59000003,30752545,117298166,154658101.48941717,32078890,122579211,162730674.18000001,33821654,115352398,13556622,165249140.34832537,32323782,126330840,6594518,165226027.56366,32681998,130000851,697902,2623405,173663222.44,34080582,139582640,183049366.26000002,34969008,148088586,194125642.31999999,36202770,157922872,202656340.72,37791281,164865060,209479318.44,39438390,170040928,202933234.47,40436538,171012998,210658023.1896143,42271112,171549638,219005794.21000001,43627822,178296402.16310808,232535452.17106631,46034943,186500509,237304378.99000001,48074759,189236745]
[45,"Brookfield                   ",57.85,2025359,709065,1322058.3999999999,2063441.72,801638,1345037.4,2050160.4735631028,812205,1357887.4,2003095.25,823505,1225913.3999999999,144074,2262218.9634143542,963341,1342588,0,2318727.5348999999,997242,1296130,6958,46050,2344861.94,1042415,1303088,2462784.7700000005,1111388,1354889.719122,2368076.6400000006,1081418,1361089.719122,2293424.8199999998,1033581,1366889.719122,2475237.4299999997,1069272,1405965,2406993.0500000003,1047029,1419330,2393041.9473765823,1030082,1426350,2539081.3000000003,1093626,1445497,2740659.0357464454,1155170,1585489,2871199.0500000003,1170696,1700503]
[46,"Brookline                    ",17.5,43182454,61282406,5214247.2,46243374.585639991,59029263,5789916.2000000002,49807109.097208999,56651328,6667814.2000000002,52046875.491919994,53580843,6687235.2000000002,785907,55448797.678294986,53202974,7323679,0,55383764.102746435,52241986,6895830,37020,549129,57861961.59826,52548862,6932850,63110212.205569983,54160831,8949381,66334276.020650007,55964810,10369466,68558216.958700001,57398755,11159462,71400245.83788,59216726,12183520,73409265.273400009,60679638,12729627,75819883.374121532,62590117,13229766,79599261.272049993,64824584,14774677,83235896.760623336,68669614,15006787,83874467.613419995,69196436,15006787]
[47,"Buckland                     ",45.48,0,0,0,0,0,0,0,0,0,0,0,0,0,12306.57500478469,6213,0,6094,12035.81568,5834,6202,0,0,0,0,0,0,0,0,0,0,0,0,0,0,0,0,0,0,0,0,13416.833343589547,8460,4957,27674.32,17242,10478,28743.594510706713,15670,13074,29315.599999999999,16598,13074]
[48,"Burlington                   ",17.5,26346430,31715482,3726893.6,28476092.515739989,31274657,4099584.6,29703889.542099517,30286140,4663527.5999999996,32206347.779779997,29440791,4943419.5999999996,580968,33076725.604208447,30090020,5413900,0,32935307.252465941,30061628,5097620,27366,382764,33128199.854009997,30481205,5124986,33884514.180340007,31423998,5326186.995389875,34352845.412480004,32068110,5497577.2333384063,34467698.66996,30725441,5684571.2333384063,34239007.273680001,30149693,5771296.2333384063,34371376.749679998,28843485,5961486.2333384063,35700016.024699226,29571420,6128596,37486525.891100004,30926384,6560142,39132795.405252784,32284557,6851477,40012176.135040008,33010045,7002131]
[49,"Cambridge                    ",17.5,58192422,121371348,7122204.7999999998,59270960.026400015,88906440,7772247.7999999998,58586280.466038458,83184123,8516352.8000000007,62523713.757140018,76283365,8336916.8000000007,979784,65306358.733187631,75386475,9130367,0,63289437.868766032,70899052,8596971,46152,639119,65583156.403349996,70070141,8643123,68855555.119200006,68855555,8892163,72833197.092889979,69898977,9053613,75565946.828440011,67728118,10513263,79533780.825280011,68456380,11077401,80655732.60428001,67464934,13287462,84055799.773383468,69688258,{"$f":"14474654-107112","v":14367542},88309460.905200005,72855305,15454156,95754602.358881176,78997547,16757055,97837766.086960018,80716157,17121609]
[50,"Canton                       ",17.5,21297642,22689136,2658679.6,23120445.500109997,22714049,2977670.6,24474543.710445229,22506106,3369282.6,26022801.77039,22769714,3364793.6,395442,26782117.437980484,23032985,3685031,64101,26442324.635255523,23230516,3530108,18951,275998,27781523.257420003,23943285,3838238,29173938.351570003,24768223,4580646.0528811878,30084633.497920007,25615490,4751687.2551948912,30171279.553439993,25776936,4936587.2551948912,31710377.389359999,26583708,5126669,31711055.289259996,26390963,5320092,33816147.853070647,27788653,6027495,34875442.289380006,28772240,6127065,36127373.083982036,29805082,6327312,37234938.635360003,30718825,6516115]
[51,"Carlisle                     ",17.5,5380976,5527723,625736.4,5564262.385809999,5588855,695338.4,5581542.8067216659,5455408,779767.4,5703345.7581000021,5287388,762232.4,89580,5621329.9800242223,5264374,834776,0,5332769.3760069599,4994997,786008,4220,61148,5279778.722959999,5047262,790228,5237293.4315999998,5073775,815308,5211682.2159700003,5137653,839492.09694868745,5130124.3316099988,4617112,859890.09694868745,5330419.6237000003,4642180,875115.09694868745,5096190.4877600009,4276513,{"$f":"906850.096948687+7432","v":914282.09694868699},5148187.6529762335,4284734,931172.09694868699,5496906.7434400003,4534948,961959,5645404.4536545286,4644791,1009657,5783671.1796799991,4771528,1012143]
[52,"Carver                       ",46.97,14692519,5600310,9266231,15522693.041550003,5937552,9740177,16020593.808795983,6229859,10016064,16571482.380320001,6622023,9233907,1085201,17214969.206102479,7603064,10112726,0,16524123.59413152,7761924,9521941,51118,586792,16233062.765200002,8021055,9573059,16560679.89696,8171863,9644539,16614966.67595,8403720,9688439,16482096.760799997,8461514,9731289,16197468.462199999,8567837,9772714,16376740.850159999,8366875,9863519,16782096.605596974,8454008,9913049,16982947.176720001,8706167,9961139,17414154.77758931,9062138,10008599,18039221.234960001,9418559,10008599]
[53,"Charlemont                   ",53.24,78372,24481,66503,140168.19,52863,104458,180766.01,75004,130303,202073.43,86198,143418,0,183603.36713492827,78176,140550,0,96286.525439999998,48181,96286.525439999998,0,0,61250.35,31272,61250.35,63486.049999999996,33682,61250.35,77364.119999999981,42623,61250.35,65024.500000000007,36024,61250.35,65999.8,37958,61250.35,118538.28,62581,61250.35,186633.68266747385,94583,92051,178513.19,86258,92255,199628.95919998386,93353,106276,102604.6,52817,102604.6]
[54,"Charlton                     ",46.81,9796,3731,6065,0,1019,0,0,0,0,0,0,0,0,12306.57500478469,4735,0,7572,12035.81568,4895,7269,0,0,36750.21,15574,21176,38091.630000000005,16459,21633,25788.04,11686,21633,26009.8,11935,21633,26399.920000000002,12481,21633,26341.840000000004,13326,21633,40250.500030768642,20853,21633,41511.479999999996,21350,21633,0,0,0,14657.8,7900,6759]
[55,"Chatham                      ",17.5,4193476,7336875,477224.8,4300106.45,6443767,532283.80000000005,4585029.6806893088,6009057,613312.80000000005,4990261.8899999997,5494357,625585.80000000005,73521,4899882.2308746418,5453455,685125,0,4739534.5728599997,5103025,645100,3463,50262,0,0,0,0,0,0,0,0,0,0,0,0,0,0,0,0,0,0,0,0,0,0,0,0,0,0,0,0,0,0]
[56,"Chelmsford                   ",17.5,40243143,36260612,6876856,42592748.364599995,37179861,7440307,44064611.171122938,37500357,8365004,46153358.467759997,37130897,8440095,991910,47744450.184116684,37306579,9243365,1194506,45545882.214795649,37406417,9828091,52762,692768,45821656.65101999,38188765,9880853,47211208.199219994,38901400,10089893,46881673.41488,39656173,10218568,47335965.470179997,39489751,10346618,47241970.625249989,39434421,10473018,46800513.146480002,38219600,10746368,47405594.168949671,37968938,10894328,50869628.260760002,40222347,11047148,52945358.502223566,42445789,11199428,54223728,43879883,11199428]
[57,"Chelsea                      ",78.31,50386551,8453650,42000702,53256173.620359994,9142672,44127092,58311558.942627169,9794441,48517118,61064521.992660001,10267187,45455271,5342064,62117725.984426871,10206209,49781388,2130129,63694269.530000001,10946147,51355990,277725,1118615,64097834.562419996,11332640,52765195,67545521.032000005,11524290,56040644,73447858.946570009,11993753,61454106,77392158.150499985,12901270,64490888,84321341.850099981,13967161,70354181,83654803.231740028,14735937,71681078,87574481.054575801,16070465,{"$f":"73109660-1214292","v":71895368},94734546.746300012,17306968,77723604.353151083,100163293.24265932,18590816,81572477,105670798.9015,19903086,85769782]
[58,"Cheshire                     ",51.2,411606,147670,263936,421381.96,162084,269956,475084.72,183097,302591,499694.78,201075,316850,0,453352.7593033493,179424,310513,0,479485.93776,198341,298092,0,0,488021.36,199213,298092,38092,238032,21802,38682.05999999999,17166,21802,13004.9,5919,13004.9,13199.960000000001,6175,13004.9,0,0,0,0,0,0,0,0,0,0,0,0,14657.8,6986,7672]
[59,"Chester                      ",48.55,147024,57724,89300,108496.6,52566,89800,158055.47,67713,121002,178186.45,77758,133451,0,183603.36713492827,77294,130782,0,167528.0748,73335,125551,0,0,170510.26,80804,125551,214825.67,97804,125551,243943.57,117682,126262,220031.55,109806,126262,210131.86,99091,126262,131709.20000000001,66688,126262,93917.833405126818,48725,93917.833405126818,55348.639999999999,28255,55349,100602.5807874735,51760,55349,131920.19999999998,68221,63699]
[60,"Chesterfield                 ",34.22,147024,74106,85640,151017.85,79291,87945,226187.09,122154,128461,202073.43,103249,129211,0,183603.36713492827,91172,126627,0,179563.89048,95302,121562,0,0,170510.26,94294,121562,303706.14,170592,133114,256837.59,151126,133114,259046.25,153673,133114,289331.62,163969,133114,262353.24,155148,133114,267134.68272901117,162099,133114,261536.15000000002,168199,133114,300231.53998745733,197488,133114,276890.62,199297,133114]
[61,"Chicopee                     ",69.28,63096901,25483093,37613808,66358804.090000004,26441283,39917521,70099506.047638729,26325951,43773555,74549552.000000015,26468494,43024649,5056409,76114569.038086131,26127050,47119437,2868082,78296359.978620008,26109119,51185902,274789,726550,80257160.099999994,26628690,53628470,83403437.559999987,27382282,56021156,85269685.210000008,28420070,56849615,86339875.140000001,29088958,57250917,89726607.379999995,30214682,59511925,89575524.349999979,30016446,59936745,91782958.022283211,29420367,62362591,93898617.529999986,30063802,63834816,99336604.583217233,30513907,68822698,99981143.989999995,30903112,69078032]
[62,"Chilmark                     ",17.5,0,0,0,0,0,0,0,0,0,0,0,0,0,0,0,0,0,0,0,0,0,0,0,0,0,0,0,0,0,0,0,0,0,0,0,0,0,0,0,0,0,0,0,0,0,0,0,0,0,0,0,0]
[63,"Clarksburg                   ",64.239999999999995,1993186,524551,1478268,1972655.02,539994,1491068,2196793.9275769964,547599,1656057,2288928.2000000002,572047,1542133,181237,2376571.2172095692,528092,1688903,159576,2231781.7016399996,543566,1740491,9344,104994,2136484.0499999998,549697,1749835,2103294.87,569562,1758875,1986375.6900000002,576786,1764100,1905986.03,594708,1769100,1772262.85,585884,1773600,1783981.5799999998,612660,1783225,1862062.3235625066,641854,1788625,2064205.6799999997,709296,1794475,2056910.8702206635,685446,1799935,2005332.3699999996,683465,1799935]
[64,"Clinton                      ",54.08,15756067,6894665,8894104,17332015.639999997,7423486,9908530,18272407.502293319,7817673,10454735,19345443.02,8132725,10033541,1179177,19828374.571238272,8774199,10988464,65712,19382689.431299996,8846816,10408392,55877,640182,19545739.000000004,9048453,10497286,20163527.150000002,9343931,10857440.780578749,20693064.010000002,9644943,11124661.80557175,20886485.84,9674943,11251678.80557175,21129205.020000003,9800189,11329016,21580495.630000003,9661218,12016981,21918110.246938307,9770470,{"$f":"12209651-62011","v":12147640},22676410.390000004,10266561,12409849,24086138.195584625,10670037,13416101,25739349.560000002,11372125,14367225]
[65,"Cohasset                     ",17.5,10255772,9352895,1220622.8,11254255.086480001,9701624,1552631,11621501.817125602,10016645,1696971,11287341.726259999,10125783,1600696,188119,11947087.452460095,10452621,1753039,0,11786894.642872915,10479155,1650626,8861,129327,12238484.622929998,10714412,1659487,12695055.016299998,10974758,1720297,13558190.14047,11461151,2165950.0686455625,14009300.662070001,11815460,2265937.0686455625,14047813.289400002,11968705,2304762.0686455625,14622821.151839999,12122957,2499864,14375663.798876762,11992671,2545614,15141702.031119999,12491904,2649798,15680191.001538649,12936157,2748292,15514224.726079997,12799236,2748292]
[66,"Colrain                      ",44.77,0,0,0,0,0,0,0,0,0,0,0,0,0,0,0,0,0,0,0,0,0,0,0,0,0,0,0,0,0,0,0,13004.9,7860,5145,13199.960000000001,8241,5145,13170.920000000002,7776,5395,13416.833343589547,7440,5977,0,0,0,0,0,0,0,0,0]
[67,"Concord                      ",17.5,13711708,16586109,1639229.6,13626561.195820002,15556720,1788313.6000000001,13775795.201134795,14723944,1975048.6,14398286.772480002,14186610,1928177.6,226606,15022515.681104843,14230911,2111688,0,14880065.931155697,14212716,1988323,10674,157941,15431249.350580001,14620020,1998997,16485820.2147,15013137,2075197,17831572.198360004,15783717,2125997,18417417.455640003,15844185,2573232,18462886.786499996,15757030,2705857,18255708.435599998,15225394,3030314,18805576.707899675,15575689,3229888,19595700.444320001,16166453,3429247,20298530.027942974,16746287,3552455,21359034.911680002,17621204,3737831]
[68,"Conway                       ",17.5,900481,519131,563283.19999999995,887748.23,570221,569433.19999999995,1081794.7444083365,683924,619012.19999999995,1153948.4099999999,705236,571560.19999999995,67172,1145043.3689110049,908027,625958,0,1249385.60142,1005920,589390,3164,37129,1252208.6499999999,987728,592554,1423805.89,1108375,598954,1317133.4800000004,1067389,602704,1306815.92,1065116,606379,1311758.95,1106711,610004,1259226.5200000005,1022166,617374,1137791.5559876624,909237,620884,1045830.0300000001,858867,623884,982498.98211336427,810562,626464,894594.8200000003,738041,626464]
[69,"Cummington                   ",17.5,48982,82658,32727.599999999999,75947.62,69777,41165.599999999999,90842.16,76148,45639.6,166242.96,127944,70567.600000000006,0,208216.51714449763,147140,69156,0,203635.52184,157619,66390,0,0,268510.82,194827,73684,164036.83000000002,133703,73684,166579.44999999998,138227,73684,168011.94999999998,147058,73684,118799.64000000001,105143,73684,118538.28,100240,73684,120751.50009230593,96880,73684,110697.28,91325,73684,86230.783532120156,71140,73684,87946.800000000017,72556,73684]
[70,"Dalton                       ",49.57,166617,55122,142474,226965.47,100136,177549,271608.17,128312,203607,297621.34999999998,135954,218598,0,294362.54217799043,133527,214226,0,275850.41592,131098,205657,0,0,403261.59,190360,212902,531229.02000000014,258303,272926,513675.18,262243,272926,350080.55,180975,272926,289331.62,153272,272926,236011.40000000002,127014,236011.40000000002,240301.01604183207,128163,236011.40000000002,289210.46999999997,146665,236011.40000000002,285859.74273210397,144148,236011,379495.22,187215,236011]
[71,"Danvers                      ",17.5,26325457,27029911,3753262,27291804.810000006,27200094,3957823,28772437.490009252,27211346,4306061,29725451.43,27058817,4117771,483935,31202047.404463161,27175421,4509672,0,31223555.451959997,27353004,4246217,22796,332859,31951682.219999999,27692459,4269013,33482299.539999999,28151599,5786817.6029244997,34213600.439999998,29050571,{"$f":"6079019.44455637+101064","v":6180083.4445563704},34741461.949999996,29063843,6334657.4445563704,34881940.840000004,29397926,6426157.4445563704,35588532.009999998,29520671,6629052.4445563704,33833411.73052796,28261906,6732852.4445563704,35346165.090000004,29017711,6838332.4445563704,37107615.193679869,30032857,7108192,37325532.020000011,30589946,7108192]
[72,"Dartmouth                    ",17.5,30013625,21693435,8320190,31787364.080000002,22637645,9149719,33384729.905952133,24241171,9429258,34838597.450000003,25612050,8665307,1018378,34865610.348156936,25982767,9490011,0,33815804.735880002,26783708,8935606,47970,604210,34643308.829999998,27284947,8983576,35441243.159999996,28041617,9138016,35496365.130000003,28917668,9233066,35239525.229999997,29520834,9326041,36075718.260000005,30256260,9419066,36117171.75,29976096,9622951,36194408.009417139,30013628,9732331,37575677.390000001,30999934,9841531,38394448.348769426,31675420,9948121,38785092.380000003,31997701,9948121]
[73,"Dedham                       ",17.5,20084837,24834561,3188973.6,21999587.074999996,24648038,3524054.6,22956468.83366517,24204569,3691508.6,24352509.547620002,23678833,3521908.6,413907,25074340.33835483,23853832,3857099,0,25207774.047433194,23636066,3631768,19497,275484,25446765.917099997,23938734,3651265,26335982.540799998,24613424,3890647.9861599999,26535745.209500007,25162541,4078924.8425356252,27117828.372749999,24153827,4312267.8425356252,26929202.733199999,23751768,4379292.8425356252,26660498.619539998,22460566,4525097.8425356252,27026023.747824714,22421830,4604194,28479923.262210004,23238711,5241212,30327812.140098155,24319967,6066360,31069861.763470002,25205198,6066360]
[74,"Deerfield                    ",17.739999999999998,2642380,1930020,712360,2837157.02,1916205,920952,2894786.9036194519,1943673,951114,3308363.25,2201765,990223,116375,3364244.2070966512,2590037,1084466,0,3310478.6745599997,2602950,1021111,5482,67823,3402540.04,2702788,1026593,3431229.1799999997,2733958,1041993,3138146.3000000003,2712329,1050593,3182088.0800000005,2730251,1059343,3228031.8499999992,2757185,1067968,2985824.2499999995,2500490,1085623,3148595.0953759653,2614687,1095493,3139879.44,2590401,1104883,3354720.4057858582,2690443,1114363,3368724.2699999996,2732273,1114363]
[75,"Dennis                       ",17.5,0,0,0,0,0,0,0,0,0,0,0,0,0,0,0,0,0,0,0,0,0,0,0,0,0,0,0,0,0,0,0,0,0,0,0,0,0,0,0,0,0,0,0,0,0,0,0,0,0,0,0,0]
[76,"Dighton                      ",50.62,0,0,0,0,0,0,0,0,0,0,0,0,0,0,0,0,0,0,0,0,0,0,0,0,0,0,0,0,0,0,0,0,0,0,0,0,0,0,0,0,0,0,0,0,0,0,0,0,0,0,0,0]
[77,"Douglas                      ",43.33,10549229,3948825,6600404,11244182.879999999,4402719,6966367,11934136.084547279,4703853,7317967,13091381.120000001,5025155,7217947,848279,13862037.638614353,5156920,7904901,800217,13727725.332659999,5395470,8196565,44003,505400,13936065.529999997,5567549,8368517,14220617.059999999,5766202,8454415,14221466.569999998,5973388,8493140,13898746.319999997,6212332,8530840,13645814.699999997,6463272,8567140,13394369.66,6691646,8644415,12935870.449951056,6783425,8684255,12935309.570000002,6890730,8722775,12970126.823695926,7112759,8759585,13102757.229999999,7355911,8759585]
[78,"Dover                        ",17.5,4317253,5147915,363450,4498246.3891599998,4992151,448199,4612399.3686480699,4726827,555890,4778687.8410799997,4574431,580225,68190,4840708.6085977424,4416450,635447,0,4717531.5725570414,4342062,598324,3212,48386,4590181.74,4311579,601536,4512264.4704399994,4166423,622456,4653466.1436000001,4299403,635731,4528034.3919200003,4059051,690567,4322776.7936200006,3814498,702567,4235362.0299200006,3546655,728362,4468986.3633566014,3701130,767856,4640414.5082099997,3828342,812073,4873658.0694900909,4020768,853856,4983216.4504999993,4111154,872062]
[79,"Dracut                       ",43.06,29756497,15882927,14241936.999999998,31544589.330080003,16574636,15009207,33257290.873810038,17250683,16006608,35284541.199999996,17874077,15579505,1830959,36242185.987368427,17529513,17062255,1650418,34827941.444459997,17559786,17619480,94589,1101079,35260306.700000003,17528088,17732219,36135215.210000008,18026125,18109090,37152939.319999993,18540729,{"$f":"18612210+50532","v":18662742},37334953.579999998,19220889,18761667,37644250.119999997,20168359,18858492,37207996.850000001,20566818,19068977,37300000.771409988,20889283,19182047,39508798.249999993,21923341,19297217,41837070.949357763,23013126,19413857,44096709.129999995,23979412,20128364]
[80,"Dudley                       ",60.71,0,0,0,0,0,0,0,0,0,0,0,0,0,0,0,0,0,0,0,0,0,0,0,0,0,0,0,0,12894.02,3632,9262,13004.9,3770,9262,13199.960000000001,3905,9295,26341.840000000004,8192,18150,26833.666687179095,8759,18150,27674.32,9399,18275,14371.797255353356,4870,14383,0,0,0]
[81,"Dunstable                    ",17.989999999999998,0,0,0,0,0,0,0,0,0,0,0,0,0,12306.57500478469,8124,0,4183,12035.81568,7678,4358,0,0,12250.07,7858,4392,12697.210000000001,8271,4426,0,0,0,0,0,0,13199.960000000001,10239,2961,13170.920000000002,10950,2961,13416.833343589547,11048,2961,13837.16,10927,2961,0,0,0,0,0,0]
[82,"Duxbury                      ",17.5,22544989,21198757,2814514.4,24332599.68414,21799788,3127346.4,25877873.382828854,22471945,3547730.4,27351540.51557,23010054,3884918,456569,28050327.867297076,23415077,4254657,380594,26964189.833086807,23687032,4364460,23430,327711,26802911.094560001,23914065,4387890,27796890.404080003,24315649,4513610,28443468.301800001,24930173,4629609.23820375,28945039.577839997,24862384,4782129.23820375,29322453.03464001,24866076,4860479.23820375,29421665.884350002,24493520,5031584.23820375,29298212.848171137,24357911,5122424.23820375,30016424.79888,24763550,5252875,30413600.834905829,25091221,5340535,30754555.552399997,25372508,5382048]
[83,"East Bridgewater             ",45.78,17015111,7598854,9416257,18126132.039999999,8088898,10037234,18786648.513602465,8685044,10382618,19759944.039999999,9220450,9750332,1145894,19857784.98755981,9205039,10678301,0,19438423.617059994,9401494,10054475,53977,626999,19386079.859999999,9557760,10108452,19766953.350000001,9774113,10196332,20120825.100000001,10170405,10251257,20492729.260000002,10728557,10306507,20764631.130000003,11106385,10361132,20397715.370000001,11201362,10479107,21105299.528073356,11373002,10543697,22148437.780000001,11682386,10609367,23021485.869153682,12183037,10847253,23574021.350000001,12580578,10995125]
[84,"East Brookfield              ",46.33,176413,103434,72979,172717.17,67453,105264,102197.43,29983,102197.43,95547.92,28245,95547.92,0,86146.025033492828,25739,93637,0,60179.078399999999,19896,60179.078399999999,0,0,110250.63,34586,75665,202128.46000000002,61700,140428,218155.53,71512,146644,285056.05,99040,186016,276131.65999999997,108182,186016,275524.15999999997,112798,186016,253717.84938542161,113257,186016,247698.99,118843,186016,328975.13449816412,163597,186016,335521.82,162027,186016]
[85,"Eastham                      ",17.5,1507950,2243267,252703.6,1616181.59,1929935,271644.59999999998,1859265.36,2013378,314184.59999999998,2009843.22,2095073,304723.59999999998,35812,2013733.9113952154,2116114,333725,0,2017979.0678399999,2078576,314229,1687,23709,1921167.55,1979180,315916,1990036.0999999999,1895355,324556,1954308.02,1817599,329806,1871143.94,1673613,334856,1830657.57,1584800,339456,1797116.2700000003,1503602,349191,1861930.3816340552,1558793,354681,1784959.9300000002,1472592,359871,1859186.0779373366,1533829,364971,2151871.9300000002,1775294,376578]
[86,"Easthampton                  ",37.46,14379873,7394800,7061164,14811911.220000003,7910957,7246465,16177354.557884984,8342895,7856409,16862713.349999998,8754200,7300531,857984,17116009.975915793,9909425,7995345,0,16500250.305240002,9949274,7528257,40415,471948,16577826.099999998,10194026,7568672,17510302.93,10521254,7641192,17991276.290000003,10956834,7687117,17813516.280000001,11344349,7731667,18095294,11793004,7776017,18091522.210000005,11897561,7873092,18534768.099589158,11761853,7926222,18672296.820000004,12132351,7977702,19700559.137801927,12320207,8029692,20082994.249999996,12651233,8029692]
[87,"East Longmeadow              ",41.44,19356365,16081730,3415856.4,20729712.940000001,16113527,4616186,22100300.970615972,15537297,6563004,23422159.73,15098039,7448721,875400,24224414.35406699,15193256,8157639,873519,23669359.72518,14824125,8675518,46574,379066,24105912.68,14975127,9130786,24771812.159999996,15279722,9767174.2199039999,24746375.960000001,15736133,9834624.2199039999,25028520.540000003,15784772,9901624.2199039999,25486357.480000004,16206963,9967774.2199039999,26003641.129999999,15891476,10115944.219904,26517601.927612852,15918988,10598614,27763311.460000001,16509582,11253729,28769862.744360216,16848895,12102248,29030299.670000002,17494208,12102248]
[88,"Easton                       ",23.25,25936350,18495624,7668206.9999999991,27484649.059999999,19567354,8115511,29177633.708206084,20413260,8764374,30904576.539999995,21110331,8764241,1030005,32240256.071471777,22529505,9598361,112390,31588230.077280004,22880367,9143450,49086,613290,32076583.279999997,23438516,9192536,33281209.900000002,24208253,9343416,33673060.710000001,25085982,9437566,34368780.379999988,25617334,9531741,34281775.100000001,26279966,9624016,34160203.240000002,25837978,9823611,34946347.827118024,26650276,9933051,36092236.609999999,27619276,10041681,37265050.035474405,28602736,10148451,37563612.82,29384825,10148451]
[89,"Edgartown                    ",17.5,2906462,3581665,343128.4,3005078.93,3288955,379680.4,2849766.471590891,3031703,415389.4,3070457.61,3082373,407713.4,47916,3245618.0710277515,3016515,446517,0,3164477.4653399996,3012929,420431,2257,33529,3286331.37,3029696,422688,3631686.44,3207706,438768,3600508.11,3160574,448818,3756339.3899999997,3220458,535881,3949969.68,3348602,601368,4012060.0799999996,3327566,684494,4120509.4730720278,3417460,703049,4383670.7300000004,3563552,820119,4884680.5483374586,4029861,854820,5167542.74,4263223,904320]
[90,"Egremont                     ",17.5,0,0,0,0,0,0,0,0,0,0,0,0,0,0,0,0,0,0,0,0,0,0,0,0,0,0,0,0,0,0,0,0,0,0,0,0,0,0,0,0,0,0,0,0,0,0,0,0,0,0,0,0]
[91,"Erving                       ",17.5,1736037,1696174,257383.6,1886102.04,1693156,283644.59999999998,2063705.1585349285,1733353,330352,2321411.09,1908319,369649,43443,2466755.7200229666,2035074,404830,26852,2428316.4251399999,2032401,406463,2182,30012,2407929.63,2045398,408645,2354101.85,2051456,418845,2478101.1,2103316,425470,2387006.7599999998,2050836,431895,2412269.36,2019029,438270,2249261.63,1884292,451195,2174084.4728259463,1812979,457975,2317098.66,1911606,464995,2280809.0489276485,1881667,471505,2326189.63,1919106,471505]
[92,"Essex                        ",17.5,0,0,0,0,0,0,0,0,0,0,0,0,0,0,0,0,0,0,0,0,0,0,0,0,0,0,0,0,0,0,0,0,0,0,0,0,0,0,0,0,0,0,0,0,0,0,0,0,0,0,0,0]
[93,"Everett                      ",67.739999999999995,45371743,24514676,20857067,48207134.680500001,25038448,23168687,53450079.377155341,25416336,28033743,59682692.571389988,25762913,30352631,3567149,62892763.612918936,25931368,33241384,3720012,64793932.005067073,25957484,38091277,204491,540680,68020957.110019997,25027814,42993143,74288708.336989999,25279517,49378544.796454601,79707323.959860012,25001383,55042003.302143387,85328324.66643998,24693137,60635188,89667949.965919986,25666047,64001903,87583038.240480021,26203286,64492532,90558887.124926507,27455803,{"$f":"65650979-929397","v":64721582},96231897.969240025,28814865,68940060.192849353,105617503.49762131,30615794,75001709,109071464.1568,35431511,75001709]
[94,"Fairhaven                    ",39.14,15772369,8958998,6900863.9999999991,16146316.320000002,8999243,7147073,16755601.389419528,9196548,7559053,16953034.73,9303393,6852118,805285,17423766.603881337,9798899,7504255,120613,16843034.112059999,10187330,7179423,38542,454353,17104751.050000001,10317258,7217965,17453568.07,10832169,7292285,17879851.399999999,11242923,7338560,17736701.940000001,11371020,7383635,17707799.16,11597160,7428260,18309668.060000002,11486709,7526930,18758475.280269191,11557489,7580960,19508511.550000001,11713786,7794726,20489574.57642154,12333105,8156470,20977288.109999999,12688884,8291230]
[95,"Fall River                   ",76.81,102479194,13825097,88654097,104481870.5,14847016,90065583,106032214.10539405,15513206,91119662,109717451.8,16580407,83793405,9847697,113237307.34539331,19000896,91768280,2468131,110588545.43874,19582705,89259672,479186,4762753,113992339.77,20197065,93795275,117801266.98000002,21470723,96330544,122984522.46999998,22747952,100236570,126851512.44000001,23922480,102929032,130963260.19999999,25218449,105744811,133322500.97999999,26181193,107141308,140367627.0677751,27932437,112435190,149318107.95999998,29668942,119649166,162111258.55386746,31184570,130926689,169915017.67999995,32906432,137016364]
[96,"Falmouth                     ",17.5,30137881,32265939,4439705.5999999996,31282681.59,32702864,4646658.5999999996,32408337.333121564,31997640,4954098.5999999996,32989864.899999995,31420687,4674989.5999999996,549421,32976356.55624881,31044599,5119922,0,32249708.827199996,30294456,4820816,25880,366051,32627799.279999997,30223796,4846696,32919523.759999994,30639342,4988896,33718540.630000003,31562698,5077571,34334682.75,30535810,5403420,35910247.149999999,30727509,5492795,35716152.020000003,29797870,5918282,35776347.341015682,29665659,6110688,37204346.420000009,30580964,6623382,38230735.995907485,31450637,6780099,38101629.059999995,31433844,6780099]
[97,"Fitchburg                    ",75,48848791,12405593,36443198,52232259.629999988,13502431,38857303,53959279.694781937,14179903,40080379,55478399.75,14473238,36822755,4327540,55319139.938725367,14039877,40327289,951974,54357220.723620005,14307424,39281344,210880,1921789,55048365.490000002,14570762,40477603,58628763.059999995,14936099,43692664,59765864.699999996,15456359,44309506,61364752.100000001,15954871,45409881,62363310.040000007,16662973,45700337,64368039,16963311,47404728,66887262.052477211,17058113,49829149,70117764.530000001,17761102,52356663,75293069.019942045,18599162,56693907,77039272.929999992,19328344,57710929]
[98,"Florida                      ",40.4,741408,396558,420539.6,831136.1,382280,473569,875058.42915476626,374728,500454,898069.22,381234,462482,54353,938109.73427751218,382731,506498,48881,920526.84221999999,383625,526600,2827,28377,784588.89,384062,529427,794115.07999999984,388914,532667,872998.09999999986,415121,534842,924504.84,460528,537067,872994.29,469626,539192,894111.96999999986,487635,544087,837564.72544684017,470893,546637,718962.58,450463,548737,740254.54001652624,441172,550717,747149.5,475424,550717]
[99,"Foxborough                   ",17.5,21688050,15487944,6200106,23679618.058180004,16211628,7467990,24391941.818536025,16728189,7700920,25837985.804400004,17375190,7572812,889984,26373440.684976753,17554085,8293540,525816,25261529.643114474,17725290,8304130,44580,543071,25263537.016260002,18503444,8348710,25735907.438639998,19355356,8460190,26223593.931839999,20174842,8529165,26242664.986009996,20657534,8597390,26484573.869379997,21281099,8664640,26222277.008499999,21252070,8810280,26331117.517189495,21807366,8888190,27859184.160679996,22576625,8967870,28934003.214451049,23797381,9046950,29781054.52984,24569370,9046950]
[100,"Framingham                   ",42.75,63860283,61259855,8530320.4000000004,69363562.731240004,61627654,10628154.4,71074303.101445913,60232844,13996312.4,75064337.095980003,59230314,15333796.399999999,1802082,78471847.638417289,59169653,16793161,2509034,77781484.489536598,57763279,19634107,105405,278693,79535372.041889995,57510511,22024861,84912568.179920003,58401638,28083628.771975774,89880263.175519973,59388693,31805022.666226074,91598610.68881999,58137448,33596454.666226074,95619668.628199995,57889811,{"$f":"37729858+1000000","v":38729858},97409677.469920009,56417775,42091391,100719920.94220732,59331897,42363221,108226362.06195001,60883909,47636211.300379075,114246010.44154748,63283830,50962180,121857618.34246999,65102393,56755225]
[101,"Franklin                     ",32.29,44517161,21157822,23359339,48378503.32774999,22883906,25494597,50651137.614666902,24244322,26478420,54191343.764519997,25464638,25705683,3021023,56699650.475846313,28327955,28152172,219523,54564219.318353519,28507883,26714222,143414,1674609,55195445.872189999,29273443,26857636,57091389.563199997,30265045,27111396,57706781.893489994,31221709,27268946,57559562.145959996,32626068,27423796,57388919.031509995,34322367,27575946,56727033.490920007,35443923,27903911,57148940.326983534,36769474,28078451,57909532.281709999,38481997,28248881,59674983.513386771,40088811,28416161,60169866.394320011,41152523,28416161]
[102,"Freetown                     ",31.39,4190819,3370570,920190,4507080.37,3270816,1236264,4667891.46,3208836,1459055,4729864.9000000004,3182970,1384217,162678,4714528.3669741629,3198884,1515957,0,1175619,817563.31469409086,351185,1885,11299,1172043.8400000001,834757,353070,1240218.98,861891,378328,1272336.7400000002,903996,378328,1283278.0999999999,908860,388787,1342125.9200000004,945781,396345,1326002.28,873318,452684,1336875.3977878354,897676,452684,1281376.3199999998,845733,452684,1402131.3215247765,943415,459454,1444691.88,998607,459454]
[103,"Gardner                      ",68.17,23488604,5365218,18123386,24280379.689999998,5820028,18638594,24266064.215644144,6154419,18778744,24824626.379999999,6443188,17123527,2012418,25171808.228991386,6290979,18753226,127603,24334327.323839996,6408008,17777812,95439,1071628,24492666.370000005,6454822,18037844,25131322.549999997,6708647,18422676,26124799.240000002,7163394,18961405,26236297.479999997,7521101,19023155,27133681.380000003,8111579,19085780,27651776.550000001,8469172,19225095,28300931.482949637,8779067,19521864,28813726.650000002,9088523,19725204,30422248.530316565,9418789,21003460,30692122.609999999,9927325,21003460]
[104,"Aquinnah",17.5,0,0,0,0,0,0,0,0,0,0,0,0,0,0,0,0,0,0,0,0,0,0,0,0,0,0,0,0,0,0,0,0,0,0,0,0,0,0,0,0,0,0,0,0,0,0,0,0,0,0,0,0]
[105,"Georgetown                   ",21.26,9890177,6461877,3428300,11110810.230000002,7042873,4067937,11765704.999744495,7509511,4294072,12224355.249999996,7808142,3977475,467447,13336299.693443066,7954056,4356024,1026220,12957759.106319999,8151601,5067813,27206,326500,13112600.769999998,8111641,5095019,13510524.82,8329567,5180958,13168838.209999999,8562303,{"$f":"5218183+42110","v":5260293},13311710.359999999,8894215,5297543,12726852.809999999,9153957,5332268,12709129.820000002,9404745,5407948,12771696.514767833,9356963,5448358,13014006.640000001,9674567,5488348,13380030.102942491,10305171,5527768,13521537.540000001,10617926,5527768]
[106,"Gill                         ",36.590000000000003,0,0,0,0,0,0,0,0,0,0,0,0,0,0,0,0,0,0,0,0,0,0,0,0,0,0,0,0,0,0,0,0,0,0,0,0,0,0,0,0,0,0,0,0,0,0,0,0,0,0,0,0]
[107,"Gloucester                   ",17.5,31232007,26625347,5446301.5999999996,32559971.797839999,27559732,5678695.5999999996,34505025.028608091,28613858,6019080,34138942.174929991,29038790,5551677,652453,34553577.53120216,28958748,6080047,0,33723505.701047271,29373670,5724851,30734,413662,33676197.520679988,29773120,5755585,35226845.308150001,30509144,5893705,35681068.365740001,31184657,{"$f":"5981325.49100113+92942","v":6074267.4910011301},35333205.213599995,30916076,6157967.4910011301,34881817.403679989,30325627,6238892.4910011301,34761401.33839,29058004,6413737.4910011301,35423863.383190274,29347381,6509407.4910011301,36267476.233949997,29920668,6605077.4910011301,37845891.761949673,31169618,6699157,38460242.64918001,31729700,6730543]
[108,"Goshen                       ",38.770000000000003,127431,75115,71846.8,97646.94,63992,72296.800000000003,113552.7,67109,80208.800000000003,154299.47,77762,102158.8,0,158990.21712535885,82506,100116,0,167528.0748,89091,96111,0,0,110250.63,62127,96111,189431.25,104098,96111,192367.49000000002,104174,96111,168011.94999999998,107732,96111,105599.68000000001,71097,96111,105367.36000000002,68309,96111,107334.66674871638,72157,96111,138371.6,82071,96111,143717.97255353359,88003,96111,146578.00000000003,88586,96111]
[109,"Gosnold                      ",17.5,41274,33796,8396.4,51911.4,35263,16648,54330.509943651086,37234,17097,50519.31,38690,17447,0,38313.742821052641,38151,17098,0,28361.246939999997,34636,16414,0,0,39039.35,35217,16414,35111.69,34852,16414,31217.899999999998,31218,16414,22957.61,20662,16414,31484.75,22007,16414,21496.61,18430,16414,21755.78608038156,18105,16414,22611,18574,16414,28232.853971617853,23292,16414,8254.48,6810,8254.48]
[110,"Grafton                      ",30.84,17156243,11239997,5916246,18952992.459999997,12369492,6583500,21091974.376996525,13330299,7761675,22437094.370000001,14299322,7320485,860329,23677504.63712154,14635325,8017198,1024982,23187153.685799997,15109681,8513937,45707,552411,23744711.860000003,15535022,8559644,25114629.089999996,16118863,8995766,27387656.219999999,16893716,10493940,28066998.630000003,17847710,10571515,29002097.030000001,18689770,10650490,29937376.269999996,19574310,10827425,30005660.380291101,19822623,10921955,30766240.780000001,20470454,11015375,32167051.495621532,21474332,11108735,32659858.43,22211911,11108735]
[111,"Granby                       ",35.979999999999997,7544687,4071482,3480552,8086549.8600000003,4268438,3818112,8451939.3722802009,4295869,4156070,9035827.3699999992,4303354,4234786,497687,9050222.3941818178,4343476,4637824,68922,8636188.0120199993,4357208,4431778,23792,276151,8744249.379999999,4488653,4455570,8663530.7500000019,4623232,4493290,8574245.4499999993,4727723,4516215,8273052.5900000017,4695999,4537515,7978374.4699999979,4781695,4557815,7719354.0099999998,4716269,4600550,7516650.875846277,4649745,4622810,7333030.3400000008,4806929,4643750,7816401.3026422542,4990654,4664780,8181734.8699999992,5150983,4664780]
[112,"Granville                    ",23.34,2157167,1168273,1194161,2358065.48,1185776,1307669,2400533.1579714394,1206660,1331035,2341550.79,1228016,1203272,141413,2240177.4551578951,1250541,1317791,0,2244631.2231000001,1266515,1240805,6661,76800,0,0,0,0,0,0,0,0,0,0,0,0,0,0,0,0,0,0,0,0,0,0,0,0,0,0,0,0,0,0]
[113,"Great Barrington             ",17.5,0,0,0,0,0,0,0,0,0,0,0,0,0,0,0,0,0,0,0,0,0,0,0,0,0,0,0,0,0,0,0,0,0,0,0,0,0,0,0,0,0,0,0,0,0,0,0,0,0,0,0,0]
[114,"Greenfield                   ",57.29,17313166,9111371,8732668,17803363.970000003,9283824,9054173,18475981.23195523,9232071,9486783,18457057.809999999,9067762,8710983,1023745,18757500.666304301,8914962,9540033,302506,18168641.884320002,8874442,9267538,49752,572724,19123336.359999999,9165933,9957403,19845137.929999996,9446211,10481761.769687749,21688417.030000001,9832399,11932187.357180249,21246903.91,9761739,11983812.357180249,21378359.310000002,9879409,12035012.357180249,20360058.930000003,9575385,12140007.357180249,20807903.147397026,9604767,12197397.357180249,22188290.889999997,9949462,12256917.357180249,23758804.479078908,10147449,13611355,24159291.550000001,10256971,13902321]
[115,"Groton                       ",17.5,0,0,0,0,0,0,0,0,0,0,0,0,0,0,0,0,0,12362.3995134,9161,3201,0,0,12532.104200000002,9543,3201,13020.859919999999,10245,3201,0,0,0,0,0,0,0,0,0,0,0,0,0,0,0,0,0,0,0,0,0,0,0,0]
[116,"Groveland                    ",28.46,0,0,0,0,0,0,0,0,0,0,0,0,0,0,0,0,0,0,0,0,0,0,0,0,0,0,0,0,0,0,{"$f":"0+42110","v":42110},65024.500000000007,41295,42110,79199.760000000009,51428,42110,118538.28,77239,42110,134168.3334358955,90748,43420,206187.50999999995,141367,65200,185257.16194463047,131944,65200,117262.39999999999,84803,65200]
[117,"Hadley                       ",17.5,4520668,5166154,625061.19999999995,4764269,5245116,667691.19999999995,5019642.6810837509,5189433,730915.2,5205800.76,5053095,707232.2,83116,5406525.5920688985,4995543,774541,0,5658505.69092,4937924,729292,3915,57584,5783756.2999999998,5102966,733207,6074126.3499999996,5356386,815648.27781250002,6128452.2700000014,5607720,879855.99517187499,5981187.5199999996,5351851,938253.99517187499,5986156.3800000008,5261618,953528.99517187499,5790379.5499999998,4888340,985813.99517187499,5654945.3746561082,4724445,1002763.995171875,5888757.8200000003,4858225,1030533,6230653.9028760213,4968021,1279420,5921818.3199999994,4885500,1279420]
[118,"Halifax                      ",42.72,4947085,2594870,2352215,5102050.8600000003,2752876,2423716,5360750.4569571586,2911501,2541088,5579019.2300000014,2979985,2365166,277963,5830872.9364822973,3036721,2590266,203886,5481069.2047199989,3009340,2630918,14124,166110,5309028.63,2928688,2645042,5256094.54,2947000,2669842,5316163.6799999988,2900902,2684967,5366429.71,2903829,2699817,5540979.4299999988,2982219,2714617,5481688.6299299989,2891843,2746462,6142874.2903718846,3223996,{"$f":"2923648-4770","v":2918878},6353417.4649799988,3373628,2989257,6718564.0537173413,3664674,3063392,6764091.2584799994,3795461,3063392]
[119,"Hamilton                     ",17.5,0,0,0,0,0,0,0,0,0,0,0,0,0,0,0,0,0,0,0,0,0,0,0,0,0,0,0,0,0,0,{"$f":"0+16844","v":16844},39912.938879999994,35608,16844,0,0,0,0,0,0,0,0,0,0,0,0,0,0,0,0,0,0]
[120,"Hampden                      ",18.8,0,0,0,0,0,0,0,0,0,0,0,0,0,0,0,0,0,0,0,0,0,0,0,0,0,0,0,0,0,0,0,0,0,0,0,0,0,0,0,0,0,0,0,0,0,0,0,0,0,0,0,0]
[121,"Hancock                      ",17.5,853878,675229,178649,880073.22,741790,184299,762441.64943651087,762443,188899,856176.18,765743,183712,21591,853326.37133779912,779131,201197,0,790173.65255999996,768393,189443,1017,13112,776252.26,758287,190460,853060.55999999982,775699,194340,908416.76,820354,196865,806235.6399999999,725612,199115,700017.85,630016,200990,719680.2,604602,205060,672606.53356161958,562854,207160,715919.97,571860,209260,800339.26922275487,609145,211450,883632.04,673593,211450]
[122,"Hanover                      ",21.82,18966432,14270699,4695733,20142433.842250001,14796651,5345783,21096225.834211223,15271206,5825020,21748945.017949998,15848159,5373174,631474,22213294.657841306,15909369,5884555,419371,21774380.339327995,16297523,5935651,31865,401910,22331596.871920001,16434712,5967516,23401737.684919998,16986703,6460513.713344737,23673254.269769996,17673274,6526113.713344737,23675035.831840001,17821949,6590763.713344737,24041587.167499997,18466336,6654913.713344737,23962139.080309998,18266304,6795548.713344737,24249684.484178498,19005451,6871448.713344737,25234803.157349996,19689734,6947439,26655202.675033823,20506773,7023879,27226298.169830002,21124278,7023879]
[123,"Hanson                       ",40.81,29389,7918,28480,32548.98,8976,30063,22710.54,6659,22710.54,11943.49,3468,11943.49,0,36919.725014354073,12160,11705,13055,48143.262719999999,16555,31588,0,0,36750.21,13241,31588,63486.049999999996,23471,40015,64470.1,24990,40015,91034.3,38572,52462,105599.68000000001,47255,58345,105367.36000000002,49870,58345,120751.50009230593,61304,59448,83022.959999999992,44311,59448,43115.391766060078,23914,43148,14657.8,8507,14657.8]
[124,"Hardwick                     ",56.1,0,0,0,10849.66,2254,8596,0,0,0,0,0,0,0,0,0,0,0,0,0,0,0,0,0,0,0,0,0,0,0,0,0,13004.9,5113,7892,13199.960000000001,4892,8308,13170.920000000002,4778,8393,0,0,0,13837.16,5264,8588,14371.797255353356,5991,8588,29315.599999999999,11840,17476]
[125,"Harvard                      ",17.5,8751097,7733519,1207690,9436456.4439200014,8041734,1394722,9734129.4134850893,8255080,1487347,10286417.543199999,8498460,1599929,188029,10374344.582891179,8558834,1752199,63312,9724196.0291673597,8552465,1709449,9177,125810,9832645.2214000002,8627525,1718626,10074274.181770001,8807063,1763706,9949641.3842999991,8901871,1790806,9617698.6389000006,8555966,1816706,9693663.2637600005,8402066,1842181,9175786.1101999991,7758081,1896961,9274857.1529690847,7706220,1926361,9216263.0621200018,7603417,1954741,9480813.6788152698,7821672,1982671,9458347.1900000013,7803137,1982671]
[126,"Harwich                      ",17.5,11161455,11250796,1441301.6,11707485.16,11494628,1562803.6,12038269.950589731,11546692,1725971.6,12378598.029999999,11167921,1674475.6,196790,12611946.734974166,11483505,1833840,0,12195817.037459999,11202192,1726707,9270,133013,0,0,0,0,0,0,0,0,0,0,0,0,0,0,0,0,0,0,0,0,0,0,0,0,0,0,0,0,0,0]
[127,"Hatfield                     ",17.5,3541366,2921690,619676,3642953.19,2938353,707251,3688012.9120416823,2957523,790818,3648857.07,2998072,726623,85395,3508714.1457454548,3029964,795778,0,3258631.5302400002,3006599,749289,4022,51717,3188704,2995877,753311,3317758.7599999988,3073443,767671,3450986.7199999997,3186043,776846,3505759.1100000003,3095381,786221,3617908.4000000004,3106474,795746,3350319.81,2835513,814996,3456804.2799801859,2864170,825616,3557025.64,2934546,835846,3779440.8478222261,3053395,846256,3943217.63,3167592,846256]
[128,"Haverhill                    ",56.84,59731907,29319627,31984671,61978683.149999999,32052321,33057731,65881401.521652639,33678683,34988016,68099107.280000016,34744794,33819377,2258641,71235841.205159843,34829065,35356458,1050318,70567491.926159993,35268131,34622057,185867,1787452,71678180.060000002,35711436,35966744,77249638.609999985,36816955,40527259.019415751,81685330.230000004,37879800,{"$f":"44126723.07174+387413","v":44514136.071740001},83661746.030000001,38734196,45091781.071740001,85387258.689999998,38924761,46462498,87808524.019999996,38182889,49625635,91533733.132029355,39059148,52474585,95275049.070000008,40630210,54644839,100463268.08911894,42109344,58353924,107173075.29000002,43835110,63349956]
[129,"Hawley                       ",35.08,48982,21657,27325,32548.98,22929,27475,11355.27,7744,11355.27,11943.49,6852,11668.27,0,49226.300019138762,29178,11435,8613,60179.078399999999,31929,28250,0,0,49000.28,31936,28250,76183.260000000009,40981,35202,38682.05999999999,25218,35202,39014.69999999999,24838,35202,65999.8,34098,35202,39512.76,25830,35202,26833.666687179095,20424,26833.666687179095,13837.16,9530,13837.16,0,0,0,14657.8,8781,5877]
[130,"Heath                        ",59.9,0,0,0,0,0,0,0,0,0,0,0,0,0,0,0,0,0,0,0,0,0,0,0,0,0,0,0,0,0,0,0,0,0,0,0,0,0,0,0,0,0,0,0,0,0,0,0,0,0,0,0,0]
[131,"Hingham                      ",17.5,25403781,22762272,3340480.4,27560964.819960002,23564072,3996893,29139913.603763632,24642808,4497106,31044967.342000008,26194370,4340488,510109,32711413.88404119,26992341,4753585,965488,32995448.474696219,27678867,5384965,28909,403099,34007006.427199997,28453971,5553035,35828380.478589997,29594328,6234052,37036862.488399997,30669232,6396085.2338675,37371415.691150002,31288570,6499060.2338675,39001020.533249997,32512856,6603785.2338675,40329887.992679983,33379675,6950213,41440808.001251943,34293632,7147176,42815000.845129997,35322376,7492625,43961797.366181195,36268483,7695110,45460703.839160003,37505081,7955623]
[132,"Hinsdale                     ",17.5,88168,40638,75997,97646.94,51939,80464,158055.47,85670,107527,166242.96,90274,111270,0,123065.7500478469,72206,109045,0,179563.89048,109118,104683,0,0,231760.61,138940,104683,176734.04000000004,114460,104683,218155.53,163644,104683,259046.25,194505,104683,210131.86,161349,104683,222840.48,184676,104683,226884.18269824251,188237,104683,124534.43999999997,102741,104683,214000.75645533722,176551,104683,117262.39999999999,96741,104683]
[133,"Holbrook                     ",46.86,10315927,6313474,4191804,11106581.581619998,6669358,4533288,11701251.39486149,6808999,4892252,11345667.9342,6751013,4434897,521205,11124134.858732402,6628581,4856980,0,10564226.240915999,6698225,4573236,24551,288168,11116936.478390001,6800968,4597787,11381036.588100001,6914226,4644027,11961763.44396,7174489,4881727.8637754824,12460674.085960001,7150740,5309934,12443297.537840001,7047648,5395650,12499752.025560001,6931227,5617684,12628237.26938205,7152474,5652634,13757037.007840002,7518971,6238066,15200054.581420457,7861744,7338311,16096140.681580001,8273118,7826400]
[134,"Holden                       ",40.74,0,41626,0,0,10840,0,11355.27,8053,4441,0,0,0,0,0,0,0,0,0,0,0,0,0,0,0,0,0,0,0,0,0,0,0,0,0,13199.960000000001,7925,5275,13170.920000000002,7908,5318,13416.833343589547,7918,5499,13837.16,8242,5619,0,0,0,0,0,0]
[135,"Holland                      ",44.44,1359210,887960,664264.4,1587801.09,867451,792435,1588437.3443519876,838841,802385,1766981.09,954681,795938,93541,1972860.5563712921,1032537,871689,68635,1871122.0890599999,1073712,885390,4753,55456,1879808.57,1112638,890143,1763923.64,1024852,897623,1787430.03,1049519,902423,1736861.59,1013330,907048,1599126.75,961437,911123,1464807.0700000003,854286,919098,1612152.0989724461,930261,923658,1748738.7699999998,1013627,928518,1957811.3888900897,1087826,933678,1899540.24,1117998,933678]
[136,"Holliston                    ",27.61,20308343,15968390,5943728.7999999998,21289179.32736,16431845,6258871.7999999998,21897651.375525266,16494287,6476815.7999999998,23131552.826769996,16702590,6156408.7999999998,723523,23686855.094075777,16771102,6742333,173420,22575963.196708795,16700563,6511735,34958,435435,23040981.368379999,16787957,6546693,23796222.088170003,17016065,7025699.6612902638,24224596.215680003,17524292,7091024.6612902638,24025115.2018,17695327,7155224.6612902638,24361946.347450003,17968840,7219349.6612902638,24902897.913260002,17988443,7363119.6612902638,25340457.438654266,18649605,7441479.6612902638,26788678.931649998,19393070,7521070,27996289.160540704,20267619,7936216,28673820.518239997,21202129,7936216]
[137,"Holyoke                      ",80.23,67827362,6811798,61015564,72388532.229999989,7289305,65099227,73576060.433260515,7637734,66054475,75721641.38000001,7973794,60651347,7127961,76657779.796516746,8297090,66423722,1936968,73138531.001340002,8592467,64367063,345551,3815151,76399996.650000006,8863130,67536867,78653933.859999999,9198156,69455778,78916203.399999991,9463063,69621603,78698902.669999987,9692069,69785403,80596955.480000004,10055521,70541434,80344375.670000002,10380314,70897779,81981180.868534818,10580654,71400527,82326983.739999995,10886435,71590427,88111145.825201109,11074770,77036376,90161028.659999996,11207668,78953361]
[138,"Hopedale                     ",41.1,7472867,2486366,5057500,8292536.7375000007,2670563,5621974,8815309.2047224138,2839812,5975497,9235166.8740800004,2966673,5609272,659222,9728111.1448041964,4701926,6143124,0,9332695.0668703802,4752702,5784243,31052,355029,9580765.2985399999,4942015,5815295,10187944.10832,5093347,5859695,10400760.003870001,5244027,5887320,10475107.010799998,5458850,5914920,10396781.262500001,5558390,5941845,10041924.281359999,5468971,5999100,9875547.1322113276,5451538,6029670,10063593.190549999,5625392,6059280,9935233.2153440155,5786456,6087390,9927021.4951400012,5864081,6087390]
[139,"Hopkinton                    ",17.5,24098111,19256994,4841117,25867183.04544,20502679,5364504,26814198.336775228,21690292,5538660,28242723.701650001,22606527,5179893,608759,29889258.479898021,24108745,5672879,107634,29092218.3157188,24749829,5442815,29220,392928,29701471.955480002,25246689,5472035,31278850.639399998,26008119,5705503.4027372804,32117617.453449998,26860574,5789203.4027372804,32526014.474999998,27549192,5873878.4027372804,33687637.267440006,28536777,5961103.4027372804,33817637.171700001,28266492,6152833.4027372804,34051687.916279338,28376314,6256963.4027372804,37266306.274479993,30427150,6839156,39305559.544661731,32314609,7021215,41585309.188900001,34279876,7305433]
[140,"Hubbardston                  ",41.13,9796,1348,8448,0,362,0,11355.27,3159,8196,11943.49,3356,8587,0,12306.57500478469,4308,8415,0,0,0,0,0,0,24500.14,9683,14817,0,0,0,0,0,0,0,0,0,0,0,0,0,0,0,0,0,0,0,0,0,0,0,0,0,0,0]
[141,"Hudson                       ",39.119999999999997,19050737,14410446,5370695,20737185.89144,14946735,5923344,22500615.0596264,15356761,7143854,23936352.536320001,15521036,7530326,884991,25532071.962211221,16165733,8247011,1119328,25192997.510822278,16204219,8819158,47345,569311,25384240.533760004,16175387,9208854,26736601.318939991,16738223,10247974.530620005,26971069.026599996,17041341,10495017.737085393,27792860.269480001,16943537,10859646.737085393,28189612.605080001,16846912,11342701,27512651.906879999,16516841,11490541,28097682.163007021,16800420,11571901,29167889.792099994,17227184,11940706,29439397.279731382,17734729,12020446,30603552.288509995,18666759,12020446]
[142,"Hull                         ",17.5,11353848,8981808,3687093.2,11214367.350959999,9384311,3756143.2,11280495.442531671,9618212,3823493.2,11671069.35836,9831732,3482560.2,409283,11794688.48922978,9783137,3814006,0,11155892.276219161,9798290,3591192,19279,234235,10984440.041849999,9799215,3610471,10867343.796599999,9900725,3654871,10592145.907740001,9917428,3681846,10591221.700679999,9492718,3708196,10627740.812809998,9322055,3734246,10359200.878399998,8708283,3789356,10207764.981851343,8510548,3818486,10202468.317680001,8417036,3846626,10718331.726392865,8741934,3874466,10567859.950760001,8718484,3874466]
[143,"Huntington                   ",52.33,127431,66133,89877,216115.81,74385,144631,248897.63,92185,163818,345395.31,131667,218880,0,380508.56721148331,174361,214502,0,360101.12568,174095,205922,0,0,403261.59,188394,214868,493137.38999999996,235451,257686,474993.12,238640,257686,466072.9,251663,257686,328931.5,187234,257686,328207.83999999997,191008,257686,361052.51613413799,191170,257686,372233.43000000005,195413,257686,372090.52626422414,177377,257686,423468.62,191404,257686]
[144,"Ipswich                      ",17.5,14041498,12710447,2066540,14992137.828520002,13156596,2232902,15825233.977843994,13644898,2393856,16400242.809939997,14112689,2282723,268274,16957084.776921969,14253296,2499977,203812,16906352.002642978,14393705,2545833,13667,193189,17102812.789599996,14677975,2559500,17797548.09409,15205869,2722401.9791164375,18113898.173040003,15501270,{"$f":"2834284.52940783+109486","v":2943770.52940783},18277939.337160002,15616820,3032974.52940783,18118176.856480002,15505476,3079599.52940783,17848954.323200006,14939873,3178709.52940783,17585142.68474175,14661641,3231029.52940783,17790224.73598,14676936,3282240,18376694.040241551,15160772,3332340,18495911.746960003,15259127,3332340]
[145,"Kingston                     ",32.520000000000003,7998550,4971749,3291409,8273057.0684000002,5048628,3382518,8552328.663848212,5164589,3471243,9261013.0245499983,5370868,3481041,409104,10163781.091275636,6164282,3812342,187157,9993589.1704833005,6118107,3801121,20406,208222,10250129.685999997,6235286,4014844,10455362.598579997,6361939,4130764.5356259407,10405973.177240001,6503570,4159864.5356259407,10520096.445809999,6787210,4188864.5356259407,10093730.667000001,6547555,4216164.5356259402,10429935.11328,6471707,4276884.5356259402,10083448.835693419,6275524,4308264.5356259402,10631780.77052,6659009,4340125,11332153.547165975,7314667,4372585,11789935.42196,7692593,4372585]
[146,"Lakeville                    ",33.01,4799043,2658720,2146114,5190670.9800000004,2889584,2301087,5317162.33,3023826,2348711,5543481.6000000006,3105681,2181431,256370,5602857.9883483276,3253249,2389045,0,120358,71289.72480853874,48927,263,3142,122500.7,75884,49190,189431.25,117945,71486,192367.49000000002,118421,73946,130049.00000000001,82782,73946,196931.90000000002,131323,73946,105367.36000000002,69257,73946,107334.66674871638,71015,73946,192350.35000000003,123826,73946,242744.35096604392,156739,86148,203601.62000000002,133221,86148]
[147,"Lancaster                    ",30.19,0,0,0,0,0,0,0,0,0,0,0,0,0,0,0,0,0,0,0,0,0,0,0,0,0,0,0,0,12894.02,9530,3364,13004.9,9489,3597,26399.920000000002,18957,7443,26341.840000000004,17904,8468,13416.833343589547,9288,8468,13837.16,9663,8468,0,0,0,0,0,0]
[148,"Lanesborough                 ",41.84,1916314,1602997,511327.6,2000612.16,1636328,598919.6,2254707.4840702428,1643144,740945.6,2340403.35,1550747,771260.6,90641,2211537.9160803831,1508600,844664,0,2101664.4740400002,1386013,795318,4270,51076,2085248.98,1418502,799588,2003814,1493112,737198,1859232.2499999993,1282510,742373,1841661.51,1232284,747323,1924866.88,1307443,752323,1846691.1099999999,1231226,762663,1897447.2242952588,1143811,{"$f":"768543-768543","v":0},0,0,0,0,0,0,29315.599999999999,18020,11311]
[149,"Lawrence                     ",85.92,120547909,3240618,117307291,127369323.28,4587152,123087075,133779067.90829407,5310337,128507796,141941371.93000001,5886137,121747087,14308148,146793573.0315024,5813067,133334130,7646376,144327894.38892001,6144533,135531978,727596,5051357,152346056.93000001,6462722,145883335,158948561.05000004,6790964,152157597,166158253.06999999,7071945,{"$f":"159086308+320037","v":159406345},177176380.49999997,8004505,169171876,186136094.67000002,8507699,177628396,185788081.69999999,8809108,178458236,189722671.68810713,9390191,{"$f":"180602480-269999","v":180332481},196866060.98999995,10121526,188612758.94704434,210870986.66280565,10875618,199995369,218786376.44,11530073,207256303]
[150,"Lee                          ",20.55,5823545,5026681,1520616,6350292.3199999994,5174125,1676639,6681418.6652666908,5156036,1878003,7031845.7699999986,5144595,1850212,217444,6993248.0376650728,5210177,2026303,0,6834255.432719999,5256806,1907927,10242,126584,6866001.4999999991,5431263,1918169,7058725.3000000007,5598309,1947049,6795658.4500000011,5748371,1964149,6714728.879999999,5764466,1980674,6274000.4799999986,5563066,1995699,6504171.9400000004,5425885,2029359,6757761.9564577993,5587191,2047989,7003346.3699999992,5777761,2066619,7374237.8470487166,5858890,2085069,7515008.5899999989,6036549,2085069]
[151,"Leicester                    ",52.72,13764844,5533064,8584389,14951710.08,6005588,9273246,15396418.602011576,6321482,9525396,16077270.590000004,6607213,8869110,1042329,16403919.290181819,7103381,9713210,0,16141548.42372,7199987,9145765,49099,563921,16759773.840000002,7378547,9381227,16738311.800000001,7574816,9450987,16586640.989999998,7776403,9493437,16135346.720000001,7906856,9534162,16315414.450000001,8170911,9574112,15935660.719999999,7913187,9661287,16281458.222080152,7799077,9708447,17044107.479999997,8057611,9755847,17701915.196191557,8369468,9802497,18032789.120000001,8592877,9802497]
[152,"Lenox                        ",17.5,5379558,5779799,1111972.8,5557057.9500000002,5755763,1149222.8,5681111.1449849457,5626258,1185272.8,5690851.3399999999,5524370,1091138.8,128234,5746214.0793875596,5564115,1194985,0,5692629.6463799989,5437790,1125174,6041,80270,5550215.3299999982,5659278,1131215,5797767.8000000007,5640423,1156055,5519096.620000001,5519097,1170680,5600729.1799999997,5040656,1185105,5259228.0599999996,4733305,1198130,5241794.76,4408169,1226895,5339115.7336442946,4429745,1242525,5362646.540000001,4424183,1257705,5511981.8499129619,4547385,1272525,5736170.5799999991,4728371,1272525]
[153,"Leominster                   ",60.32,50087399,17364613,32722786,52403637.229999997,18470739,33951319,55214981.567387104,19608537,35606445,61199688.75,20722302,36220613,4256774,63052401.664000005,21186482,39667839,2198081,61830792.262439989,21870806,39420116,211625,2394129,64079292.579999998,22623162,41456131,66413236.799999997,23577860,42835377,67647235.61999999,24414874,43232362,68009798.659999996,25511102,43390737,68789894.089999989,26480524,43547587,69488787.129999995,27478840,43889797,69633698.04886961,27880085,44073487,72123478.449999988,28957291,44256877,77172702.956447005,30127166,47045537,79655609.189999998,30886014,48769595]
[154,"Leverett                     ",17.5,803815,973857,223181.2,852583.6,827268,239065.2,947175.22926746425,853066,261625.2,1053847.72,849640,257545.2,30268,1038637.2936880384,875032,282057,0,1122116.9748600002,937904,265580,1426,18126,1105463.82,928988,267006,1073636.7000000002,916296,271766,1092855.1200000001,934972,274716,934315.57,840884,277216,982131.53,843668,279816,997887.19000000006,837493,285371,1195068.007035923,990119,289061,1040580.59,858479,292151,1166005.2401467538,885170,295511,1203602.1499999999,992972,295511]
[155,"Lexington                    ",17.5,44428216,48013339,5197253.5999999996,48149485.159400001,48176671,5848475.5999999996,50405171.392957248,48167038,6740204.5999999996,53421979.384980008,48294113,6801697.5999999996,799359,55137317.164318644,49717650,7449035,0,53464106.958999999,49818987,7013863,37654,548918,56211262.726240009,51205216,7051517,59157960.380999997,52989430,7876798.51666875,62856513.067499988,55493228,{"$f":"8657571.33420469+8422","v":8665993.3342046905},64514813.130400017,56156903,9584428.3342046905,67063773.197500005,57095237,9968536,69116723.419239998,57485649,11631074,74054892.120399058,60055998,13998894,76234730.040079996,62875494,14217984,80260931.779566333,66088777,14438034,81400953.564800009,67155786,14438034]
[156,"Leyden                       ",17.5,0,0,0,0,0,0,0,0,0,0,0,0,0,0,0,0,0,0,0,0,0,0,0,0,0,0,0,0,0,0,0,0,0,0,0,0,0,0,0,0,0,0,0,0,0,0,0,0,0,0,0,0]
[157,"Lincoln                      ",17.5,5018892,5683798,493536.8,5151111.5048699994,5403675,575118.80000000005,5228858.1013507508,5190002,677097.8,5555855.546620002,5184708,693055.8,81450,5820338.6126000388,5207737,759016,0,5740716.07941732,5163138,714674,3837,57830,5352912.2345500002,5178637,718511,5424170.2317799991,5128408,743071,5868235.8212800017,5381474,759321,5682114.4160699993,5004725,841588,5601678.0140399989,4808245,857038,6043300.8275599992,5030628,{"$f":"1012673+19818","v":1032491},6203608.5789318336,5157876,1052081,6185737.5497599998,5103233,1082505,6701030.6023767004,5528351,1174169,6274212.1128000012,5176225,1174169]
[158,"Littleton                    ",17.5,11139291,10499232,1464107.2,12115413.634199999,10452829,1818491.2,12477893.258578453,10490580,2325579.2000000002,13440913.22665,10423513,2700077,317323,14231659.398570258,10530521,2957052,744086,13640184.029312642,10374233,3484917,18709,237937,13593606.621599995,10469428,3503626,14276865.484880002,10931785,3693487.508446292,14181867.184600001,11325231,3731912.508446292,14701467.741599999,11519536,3770462.508446292,15178691.897499997,11837909,3809412.508446292,14722352.576169997,11622810,3895817.508446292,15312226.682937402,12240112,3943487.508446292,15912198.077959999,12532062,3991548,16632291.76270235,13448982,4039908,16791308.800700001,13852830,4039908]
[159,"Longmeadow                   ",17.5,22710932,20812705,3547400,23361827.510000005,21048279,3906490,23686877.90819297,21094587,4239607,24733177.429999996,21260686,3963684,465826,25548586.481975123,21378942,4340920,0,24685139.268599994,21321759,4087324,21942,306429,24642877.109999999,21481517,4109266,25335232.990000002,21911262,4224986,24962248.150000006,22263076,4294961,24849640.570000004,21747129,4363911,25612986.450000003,21804274,4434186,25829656.509999998,21477556,4587691,26663231.188728545,22022317,4672411,27927235.790000003,22667571,5259665,29113308.339486767,23465469,5669282,29237892.870000001,24121262,5669282]
[160,"Lowell                       ",73.900000000000006,134573109,29664794,108399118,139116837.98003998,31162657,111660607,147723629.79585069,32819557,117869547,150534733.39768001,34088424,107274461,12607274,154968734.65788475,33789587,117484100,3695048,151465731.89643282,34730786,114495103,614660,6425960,157898864.58336002,36240147,121658718,163641193.22828004,37162840,126478353,168760616.72439998,38859325,{"$f":"129901292+25266","v":129926558},176078571.80969998,40949807,135128765,177537953.73000002,43089941,135511265,183238361.64999998,44649981,138588381,189897176.96033403,45829544,144067633,198336328.19000003,47400845,150935483,212748263.5454053,49724317,163023947,218744159.73000002,51808768,166954483]
[161,"Ludlow                       ",44.22,22679461,13063961,9615500,24089447.75,13513577,10575871,25130130.610954065,13594068,11536063,26252078.679999992,13563370,11354310,1334399,27121644.13746221,13598080,12434935,1088629,26588449.146960001,13600623,12738623,68387,790929,26899330.039999999,13801952,13097378,27321398.960000005,14243896,13211578,27755975.950000003,14764702,13282703,27236633.910000004,14951306,13351728,27187438.540000007,15433886,13418728,27123791.77,15449969,13564533,27107617.460779078,15438923,13642593,27633670.819999997,15760434,13719693,29028174.444039177,16193284,13795983,29294399.16,16443714,13795983]
[162,"Lunenburg                    ",42.3,11716392,8601526,3708907,12276374.15,8871625,3921700,13121501.42336395,8885020,4314259,13675383.389999999,9084809,4134848,485942,13799998.378687082,9022501,4528374,249123,13414483.32636,8836567,4498396,24149,295077,13457816.690000003,8981951,4522545,14298145.129999995,9188886,5219936.6884947494,14546535.939999999,9433283,5354695.9110325621,14945462.859999999,9374156,5605871.9110325621,15341249.750000002,9506767,5834483,15538424.619999999,9187168,6351257,16554528.397230644,9282023,7272505,17203377.800000001,9678671,7538072,17948505.284198701,10176765,7771740,18301715.41,10527777,7773938]
[163,"Lynn                         ",76.3,129974090,29799249,100174841,135144695.81999999,31653289,103751349,144686831.68873173,33225614,111461218,152073058.32999998,34465340,105239589,12368129,155276011.32322299,36436147,115255564,3584300,152859294.83544001,37505365,113140585,607389,5439440,156427178.34000003,38215898,118211280,165697522.48000002,39600037,126107787,173772185.64999998,40871553,{"$f":"132900633+471634","v":133372267},181764114.65000001,43133574,138630541,191949856.55000001,44587175,147362682,192172422.52999997,46018423,151448721,201554686.66682765,48112261,{"$f":"157028802-3586376","v":153442426},217113702.87999997,50739190,167691187.76438755,238010020.23206508,52164961,185845059,252551048.48000005,53396054,199154994]
[164,"Lynnfield                    ",17.5,14215391,13251512,1760537.6000000001,15771023.292079998,13495114,2275909,17356642.058858942,13944761,3411881,18585463.714159999,14489660,3665072,430732,19408007.987414353,16010874,4013888,0,19103918.4621954,16284477,3779396,20290,270977,19086223.734719999,16630403,3799686,19513606.067749999,17151894,3887366,19765823.121270001,17368045,{"$f":"3941766+42110","v":3983876},19490234.623029999,17091539,4036801,19743094.595660001,17067615,4089401,20021615.672320001,16786039,4206331,21073446.154188275,17422551,4272061,22155796.556120005,18211808,4338661,23010166.94368434,18762401,4404631,23513323.468790006,19317442,4404631]
[165,"Malden                       ",48.34,54185598,21722732,32462866,58405248.022889994,23530624,34874624,62297084.542392798,24505538,37791547,66974103.664699994,25736533,36900852,4336719,70256109.620756119,28341018,40412820,1502272,69445049.599893317,29256886,39466415,211873,2408479,74002031.259239987,29910919,44091112,78173570.110089988,31406125,46767445,79552182.518289998,32589651,{"$f":"46962532+101064","v":47063596},80737953.747600004,34410984,47246321,84059175.637440011,35620417,48438759,84148786.035580009,37450081,48846419,87320752.243724763,38872647,49072289,90460805.376449972,41267281,49297769,95060966.502866924,43854744,51206223,94879629.913439989,45560692,51206223]
[166,"Manchester                   ",17.5,0,0,0,0,0,0,0,0,0,0,0,0,0,0,0,0,0,0,0,0,0,0,0,0,0,0,0,0,0,0,0,0,0,0,0,0,0,0,0,0,0,0,0,0,0,0,0,0,0,0,0,0]
[167,"Mansfield                    ",32.35,34070637,22637801,11432836,37066064.086240001,23186796,13879268,38933172.153506003,23627132,15306040,41292178.534949996,24028768,15447917,1815494,43173220.767601192,24399237,16918143,1855841,42531299.518475883,24405336,17778173,95441,1022220,42752257.461410008,25008185,17873614,43053921.076990001,25772728,18060214,43496373.837260008,26613090,18175039,41985292.046640001,26566576,18283964,40931631.918399997,26810067,18388239,40048769.469539993,26489859,18610109,40453621.247440323,27314680,18728069,41538657.52544,27745189,18846329,42363212.754154898,28659688,18962339,41671720.92024,29709526,18962339]
[168,"Marblehead                   ",17.5,22442162,18815418,3626744,23820222.600000001,19829287,3990936,24883005.764629867,20408599,4474407,26084987.150000002,21181516,4387801,515670,27241689.681577034,22473658,4805402,0,26691563.970600002,22521401,4524671,24290,337066,27367247.329999998,23246510,4548961,28162380.189999998,24103028,4677641,29501925.989999995,24213134,{"$f":"5288792+8422","v":5297214},30687140.549999997,25404870,5381364,30592758.849999998,25878831,5464064,30713624.370000001,25564980,5644629,30825074.044045713,25552661,5741619,31517682.5,26002088,5837259,32505638.687593605,26599814,5952147,31915735.240000002,26330482,5952147]
[169,"Marion                       ",17.5,2842071,3116566,338668.4,2997167.17,2911376,375835.4,3025165.423394056,2851568,421906.4,3162483.16,2895625,416376.4,48934,3266374.1133779911,3033215,456004,0,3153015.2271000003,2931584,429364,2305,34185,3339019.88,3088812,431669,3695947.6200000006,3317639,449149,3724025.8699999996,3296965,459899,3955020.5,3359179,595842,4014302.5699999994,3344045,670258,4098862.3900000006,3406086,694733,4343663.5149533721,3510380,833284,4470718.4500000011,3641644,846844,4612923.7963335682,3799640,860344,4522671.7799999993,3731204,860344]
[170,"Marlborough                  ",41.98,37010306,32604757,6151638.0000000028,39489888.753479995,33387418,7207775.0000000028,41647924.173341915,33111874,9149845.0000000037,44383211.209059998,32757172,10403395,1222644,46013474.233912654,32958768,11393518,1661188,46421470.443365268,33104620,13061334,70119,185397,47531356.683839999,33125854,14405503,50561006.405809999,33652670,17545220.816238921,51938566.105600007,33591541,18678850.960200321,52135804.352599993,32592161,19543643,55409404.919719994,32493304,22916101,54854523.918049991,31931943,24140701,56761909.559497736,32073087,{"$f":"24972052-283229","v":24688823},60815717.02979999,33579775,27459350.453954868,64168256.450577833,35637847,28530409,67959735.832000002,36937156,31032674]
[171,"Marshfield                   ",18.16,32271473,20214215,12057258,34872556.111840002,21245140,13627416,36714948.679464169,22881016,14129652,38563639.171119995,24240148,13086402,1537960,40253567.818422206,26140832,14331875,0,39637274.173409283,27040077,13494608,72445,878947,39583756.739600003,27951328,13567053,41137358.67464,28739555,13747293,40558278.62376,29710952,13855893,40490934.449160002,31137078,13963368,40254049.280549996,32113539,14068193,40243211.142080009,32421451,14297323,41036767.216783047,33760457,14421163,41808529.701789998,34492037,14543473,43523657.528021462,35619824,14664853,43514601.597520001,35899546,14664853]
[172,"Mashpee                      ",17.5,15407543,12020189,4044754,15474024.460000001,12882004,4145104,17073801.756701652,13860224,4425065,17636286.130000006,14142204,4051695,476170,16283467.18671005,14193190,4437308,0,16336474.718640003,14184603,4178081,22430,283872,16170543.359999999,14364504,4200511,16786403.150000002,14863230,4271711,17312286.150000002,15116709,4316511,16847491.769999996,14820989,4359861,16578175.300000003,14402235,4402061,16891753.790000003,14087772,4493526,16431104.565356754,13722805,4541226,17705538.060000002,14379434,4590756,18627382.034490988,15124670,4640166,18424932.769999996,15200570,4640166]
[173,"Mattapoisett                 ",17.5,3297524,3310959,473897.6,3387984.92,3308386,497697.6,3488042.5977460435,3193722,531510.6,3669467.71,3252117,508287.6,59736,3955927.7226870819,3490891,556663,0,3799146.5653200001,3492437,524142,2814,41557,3951256.51,3548014,526956,4131578.0200000009,3667812,546236,4068140.6800000006,3673844,587658.15474999999,4564402.3699999992,3935161,661547.15474999999,4686148.55,3913634,772515,4517988.9499999983,3760023,799465,4222689.9150018794,3517981,812995,4347489.0200000014,3586679,826405,4426546.9809879502,3651901,839485,4546818.59,3751126,839485]
[174,"Maynard                      ",34.57,10044441,8591307,2211508,10644015.071359999,8569489,2382686,11391224.980435096,8539540,2851685,11937003.731199998,8673841,2919995,343168,12185553.479722442,8524586,3197900,463067,12064502.865547679,8480324,3515408,18872,160487,12168260.781569999,8664177,3534280,12727909.260160001,8836949,3990864.5528999842,12848218.426860001,9277415,4024014.5528999842,13617361.215549998,9450152,4180312.5528999842,13850824.283779997,9411919,4438905,14059518.789270002,9349998,4733058,14745073.193424072,9744969,5000104,15215994.512989998,9813974,5402021,15291603.711841691,10005157,5442941,14950228.72524,10176959,5442941]
[175,"Medfield                     ",17.5,21083357,16366654,4716703,22222544.690400001,17108794,5113751,23437455.400163922,17719122,5718333,24405492.276769999,18347283,5421102,637107,24887881.817815583,19908771,5937045,0,24403976.669405282,20304518,5590203,30011,389731,24263807.570240002,20679989,5620214,24324022.98694,21208313,5730534,24155267.42306,21603285,5797959,23366471.620039996,20811592,5862409,23395043.4848,20516702,5925859,23253777.20984,19507465,6063084,23865982.219953917,19763909,6137784,24827316.099710003,20482536,6213144,26032948.58113708,21176396,6288744,26552098.786160003,21905481,6288744]
[176,"Medford                      ",17.5,40248747,32874703,10251400.4,43002389.842659995,34340915,10733287.4,46366010.244539626,35851875,11321921.4,48419758.008079998,37389566,10452869.4,1228458,50459876.273372002,41624962,11447701,0,49632982.275670551,42205952,10778927,57866,741233,51296237.986520007,42820019,10836793,53745484.954950012,44080589,11047553,52242342.704740003,45112884,{"$f":"11173603+33688","v":11207291},52268719.305079997,45014043,11332041,52826959.864799984,45090390,11454441,53575422.423319995,44545699,11719376,54710623.722724512,45337673,11864786,55510529.107759997,45796187,12004766,58384769.501052216,48076837,12143306,59524340.664400004,49107581,12143306]
[177,"Medway                       ",30.28,19580722,13433801,6292863,20747660.14057,13372805,7374855,21605016.00124561,13383579,8221437,22347779.065000005,13117342,8860400,370037,23324796.46238941,12868279,9045828,1410689,22310016.342912722,12851891,9845648,52856,624313,22260938.035379998,13120301,9898504,22211260.904100001,13680191,9997944,22149987.50784,14085853,10058469,21554025.020479999,14114067,10117244,21958660.335269995,14480057,10175519,21801549.408149999,14412519,10301469,22011641.938089047,14975709,10368909,22271105.480700001,15492710,10434849,23515724.418579098,16195477,10501419,23623580.679760002,16885292,10501419]
[178,"Melrose                      ",17.5,24907341,20737665,5187289.5999999996,26011915.689749997,21369417,5380590.5999999996,27602185.703187775,21907581,5694605,30260569.438900001,22718830,6748618,793121,32562555.060026802,24854305,7390904,317346,32186376.980879758,25348596,7257935,38964,504526,33172689.346400008,25849124,7323565,34237368.45262,26657847,7672924,34787745.958120003,27402853,{"$f":"7765699+8422","v":7774121},35264711.847039998,28117748,7867296,36086251.428580001,29102972,7960596,36017412.116479993,29811821,8166076,37544107.266331017,31014280,8280046,39714034.698880002,32332045,8396206,42022188.056045689,33686027,8514496,43519030.447039999,35108451,8514496]
[179,"Mendon                       ",24.55,0,4125,0,11108.373639999998,4683,6425,23065.342200000003,9814,13251,48402.476480000005,20739,27663,0,49954.876631578947,22735,27110,110,36523.099191600006,17440,26131,0,0,24882.900699999998,12459,24882.900699999998,0,0,0,26487.781899999998,14438,12050,26544.465999999997,15491,12050,26877.483239999998,16445,12050,53506.747079999994,35758,17749,94454.384875126823,67071,27383,125950.56911999999,90115,35836,114974.37804282685,83426,35836,102604.6,77719,35836]
[180,"Merrimac                     ",33.119999999999997,0,0,0,0,0,0,0,0,0,0,0,0,0,0,0,0,0,0,0,0,0,0,0,0,0,0,0,0,0,0,{"$f":"0+50532","v":50532},39014.69999999999,23081,39014.69999999999,39599.880000000005,24335,39014.69999999999,52683.680000000008,33389,39014.69999999999,80501.000061537285,51057,39014.69999999999,96860.12,61806,39015,114974.37804282685,73617,41368,146578.00000000003,99096,47504]
[181,"Methuen                      ",54.1,56448568,25976682,30471886,60543616.070000008,27289639,33253977,64593404.869511366,28479615,36113790,66932258.720000006,29640305,33440001,3929987,70754596.227797136,29742140,36622588,4389868,67174266.656939983,30293532,38616511,207311,2370809,66167336.409999996,30557302,38823822,68082307.960000008,31301841,39110902,72821269.290000007,32658088,{"$f":"40240901.1178455+421101","v":40662002.117845498},73674473.939999998,33532493,40839452.117845498,75476679.289999992,34357316,41119363,76096298.539999992,34166160,42147523,76802334.286958128,35661626,42360163,81561883.420000002,37125698,44704725.328574821,86487500.831909508,38919879,47567622,88769466.079999998,40325303,48444163]
[182,"Middleborough                ",48.89,26467283,12717234,15072339.000000002,28711248.540000003,13593641,16271963.000000002,29349175.555037435,13995503,16591501.000000002,30535052.200000003,14305024,15378099,1807289,32049946.575188514,14608790,16841680,599477,31398532.903860003,14805660,16422246,88162,1020099,32141290.059999999,15132961,17008329,32752133.430000003,15459649,17292484,32588658.5,15715800,17376809,32073963.209999997,15945136,17459284,32000342.629999999,16053881,17539709,31055481.599999998,15735683,17709989,29289460.260108851,15577573,17796089,32018438.089999996,16144274,17887019,34113306.289279848,16968154,17978609,35057530.5,18220402,17978609]
[183,"Middlefield                  ",17.5,0,2821,0,0,746,0,0,0,0,35830.47,21223,17650,0,36919.725014354073,21121,17297,0,36107.447039999999,18057,18050,0,0,36750.21,21942,18050,38091.630000000005,24466,18050,51576.08,33824,18050,52019.6,39422,18050,13199.960000000001,11856,13199.960000000001,26341.840000000004,21863,13199.960000000001,53667.33337435819,44587,13199.960000000001,55348.639999999999,44006,13200,43115.391766060078,34267,13200,43973.400000000009,36278,13200]
[184,"Middleton                    ",17.5,5089625,4017323,1072302,5471810.5766400006,4145862,1325949,5832959.1376389088,4345126,1487833,6321846.7792799994,4793498,1430804,168153,6442872.8063946106,5100614,1566978,0,6158787.1565006413,5254874,1475435,7921,102722,6001241.5991799999,5162532,1483356,6436171.7904999992,5445815,1513276,6537210.6908500008,5536081,1531951,6500381.7589600012,5534548,1550526,6509297.9842300005,5617606,1568751,6306838.4600999998,5269521,1606481,6172360.6719304342,5171627,1626461,6287830.7335999999,5187460,1646051,6689182.2107968954,5513538,1666151,7013290.1260299999,5785964,1666151]
[185,"Milford                      ",51.73,30216135,22301521,9514224.4000000004,33490000.671320003,22721351,10882700,34771548.012968563,22716028,12145146,36857352.51055,22611874,12747364,1498115,38573246.502751864,22694316,13960569,1918362,37839983.058274925,22556065,14990659,80476,910271,39488612.219000004,22785673,16702939,41626385.357300006,23315453,18734609.200679597,42774603.567850001,23819112,19457577.302150823,43366941.909150004,23509175,20022624.302150823,44418717.093200006,23574280,20844437,45013216.029600002,22766643,22246573,46388900.526972406,23243232,23145669,48944312.482440002,24011188,24933124,52148898.387319937,24846959,27301939,56604613.875760004,25435714,31168900]
[186,"Millbury                     ",40.049999999999997,14287540,8778478,5889114,15323374.32,9000628,6392219,15891803.931504436,9533703,6643067,16607443.680000002,9835784,6225068,731592,17069156.465240195,10132004,6817527,119625,16354315.981439997,10084315,6531884,35066,416852,16266575.289999999,10291233,6566950,16716297.900000002,10391532,6638870,16935435.850000001,10537672,6745941.8450512495,17048501.060000002,10443623,6879057.8450512495,17130949.16,10531645,6922982.8450512495,17429845.489999998,10473626,7019397.8450512495,17780962.153000448,10630390,7150572,18494289.77,11140779,7371495,19134294.708830908,11458671,7675624,19675592.059999999,11797270,7878322]
[187,"Millis                       ",29.29,9097512,7264775,1884585.6,9483891.5441799983,7426472,2102687.6,10117122.766417645,7330284,2786839,11000973.682880001,7435813,3190233,374928,11653273.708027104,7440876,3493858,718540,11328953.966638198,7432660,3966310,21293,257445,11812388.784249999,7564328,4248061,12313171.274950001,7862256,4534410.8393613929,12451955.106319999,8164569,4592771.5320735266,12356473.845559999,8219727,4625471.5320735266,12205625.68949,8273796,4657396.5320735266,11856222.087119998,8128057,4725651.5320735266,11737004.51467457,8397650,4761621.5320735266,11946580.289849997,8451032,4796932,12179710.209867777,8612588,4831312,11739340.2481,8676571,4831312]
[188,"Millville                    ",56.53,0,3591,0,10849.66,3214,7636,22710.54,6563,16148,59717.45,16523,43194,0,49226.300019138762,15127,42330,0,60179.078399999999,19123,41056,0,0,85750.49,27251,58499,50788.840000000004,16406,50788.840000000004,77364.119999999981,26377,50987,26009.8,9583,26009.8,79199.760000000009,30473,48727,118538.28,48101,70899,93917.833405126818,39748,70899,124534.43999999997,52967,71567,114974.37804282685,48557,71567,73289.000000000015,33038,71567]
[189,"Milton                       ",17.5,25151267,24801774,3395206.4,27293508.643200006,25682096,3770098.4,29370007.727681536,26209746,4180994.4,31229186.953800008,26442315,4283464,503408,33226179.825447932,27411598,4691135,1123447,33177677.717974804,27962065,5474895,29392,405395,33445350.979459997,28316699,5504287,34576600.406800002,28905665,5765927.5177974999,35318011.521599993,29777694,5869608.6424181247,35082060.980719998,29715046,5964021.6424181247,36501504.885839999,30504862,6060521.6424181247,37238061.294160001,30828228,6409833,39699383.469837926,32142381,7557002,41890853.241980009,33540779,8350074,44445617.572931923,35446365,9033561,46912230.011340007,37346878,9567275]
[190,"Monroe                       ",25.62,156484,91583,84030,67149.83,77281,67149.83,56859.984915476627,50042,56859.984915476627,117805.94,70637,89563.984915476627,0,128295.88296267943,75685,87773,0,87282.108779999995,71027,84262,0,0,79783.97,68985,79783.97,75976.200000000012,45544,75976.200000000012,84306.74,69217,75976.200000000012,49377.140000000007,41572,49377.140000000007,57396.78,39279,49377.140000000007,64197.68,43424,49377.140000000007,70057.67309236154,39434,49377.140000000007,85324.37,62999,49377.140000000007,101469.77918132796,74699,49377,149215.03999999998,79783,69432]
[191,"Monson                       ",44.49,11167185,4551198,6615987,11949570.529999999,4838959,7111941,12159308.518842915,4984969,7241370,12797798,5089158,6897967,810673,12822835.034947371,5153721,7554467,114647,12214501.473179998,5102395,7221084,38766,444464,12125247.350000001,5200769,7259850,12141055.580000002,5290215,7312050,11640741.35,5397705,7342725,11227559.509999998,5516259,7372025,10642912.68,5415578,7399425,10115062.609999999,5426446,7455965,9765311.1307165027,5261486,7484975,9770916.2999999989,5525534,7512995,10353119.728939803,5746939,7541075,10603017.180000002,5893568,7541075]
[192,"Montague                     ",53.72,0,4422,0,0,1165,0,0,0,0,11943.49,5779,6507,0,12306.57500478469,5964,6377,0,0,0,0,0,0,0,0,0,0,0,0,0,0,0,0,0,0,0,0,0,0,0,0,0,0,0,0,0,0,0,0,0,0,0,0]
[193,"Monterey                     ",17.5,0,0,0,0,0,0,0,0,0,0,0,0,0,0,0,0,0,0,0,0,0,0,0,0,0,0,0,0,0,0,0,0,0,0,0,0,0,0,0,0,0,0,0,0,0,0,0,0,0,0,0,0]
[194,"Montgomery                   ",17.5,39186,23670,15516,32548.98,24028,15666,45421.08,32646,19296,35830.47,26083,19446,0,61532.87502392345,39614,19057,2862,36107.447039999999,25001,21042,0,0,36750.21,25778,21042,25394.420000000002,18584,21042,25788.04,20780,21042,26009.8,21585,21042,39599.880000000005,35467,21042,65854.600000000006,55442,21042,80501.000061537285,67534,21042,83022.959999999992,68494,21042,114974.37804282685,94854,21042,87946.800000000017,68444,21042]
[195,"Mount Washington             ",17.489999999999998,107132,88820,19858,144190.37,111238,32952,126517.21994365109,115279,33752,132726.99,118261,34839,0,129580.38256076556,116497,34142,0,126342.90066,112337,32776,0,0,120558.2,108747,32776,128118.72,110906,32776,91796.300000000017,91796,32776,92960.28,83664,32776,89843.44,79980,32776,57421.64,51679,32776,32643.359126604621,29379,32643.359126604621,25705.73,21207,25706,7755.8152895000003,6399,7771,17625.62,14541,7771]
[196,"Nahant                       ",17.5,2818535,2890705,384990,2885508.92,2876891,408985,2958071.3727178685,2848361,441588,3103459.42,2795562,425127,49962,3140215.3490373208,2769683,465587,0,3009436.1228999998,2673399,438388,2353,34021,2959458.31,2711123,440741,2836358.0599999996,2696296,454021,2809900.4000000004,2700890,{"$f":"462021+8422","v":470443},2670798.36,2403719,477893,2552657.5399999991,2291916,484943,2541982.4700000002,2138805,499903,2576635.3961993451,2132494,508003,2540955.2600000002,2096288,515803,2602347.1905727275,2146936,523513,2739284.95,2259910,523513]
[197,"Nantucket                    ",17.5,8624608,13225325,835167.6,9230081.2999999989,12823739,991186.6,10186787.557364723,12276662,1228636.6000000001,10648679.940000001,11576039,1286905.6000000001,151242,10683423.649684211,11534629,1409385,0,10295374.04874,10871032,1327049,7124,105962,11144212.01,10901757,1334173,11866373.959999999,11286314,1387053,12800411.420000002,11568827,1421503,13869821.479999997,11742876,2126945,15206451.73,12225508,2980944,15743715.589999998,12702303,3067074,16351990.158213655,13342499,3114564,17684068.190000005,14133709,3550359,19008236.734527193,15681795,3600249,19472349.760000002,16064689,3600249]
[198,"Natick                       ",17.5,33697813,33961720,4176645.6,36447202.92904,34581099,4657788.5999999996,37564403.525144182,34454333,5232583.5999999996,40487600.791560009,35263961,5229410.5999999996,614579,42629277.234462015,35169154,5727110,1733013,41207446.519019037,35490451,7024303,37710,518585,43072103.861760005,36948274,7062013,45906950.422800004,38397808,7640285.5809975006,47764102.86208,39466673,8312752.0002159998,49956678.079499997,41275438,8681240,51546022.215100005,42809644,8816665,52558195.004939988,43516697,9117845,53048542.559902228,43988233,9281825,55788455.043029986,46025476,9762979,57774437.098210081,47663911,10120767,58312471.325909987,48107789,10204682]
[199,"Needham                      ",17.5,34180438,33290098,3838947.6,37003280.957180008,33919990,4366272.5999999996,39386972.010866001,34874779,5124206.5999999996,42028556.259200007,35909710,5475362,643484,43829318.414363444,36829428,5996469,1003421,44582496.208305366,37987380,6590957,35383,500900,46025845.81216,39034126,6991720,48336042.998220004,40702053,7633990,49744211.758409992,42426414,7901801.7644304372,50670510.318260007,43099948,8239739.7644304372,51969545.140780009,44250723,8373789.7644304372,52228570.584080003,43661684,8671394.7644304372,54000176.557778552,44833817,9166360,56435153.947120003,46559002,9876152,59693731.68588265,49247329,10451715,63004475.701059997,51978693,11025783]
[200,"New Ashford                  ",19.079999999999998,314618,165062,149556,313210.37,163541,154825,331313.9947464299,168568,163915,321985.11,171991,166015,0,311594.91233684216,178509,162695,0,360381.76277999999,180785,179597,0,0,334159.74,188252,179597,346722.85000000003,196667,179597,273043.12,204082,179597,266775.95,209694,179597,217953.86999999997,196158,179597,232405.55000000002,193546,179597,288557.29529165302,204578,179597,269904.96999999997,214173,179597,289597.24013319105,220898,179597,278897.32,226155,179597]
[201,"New Bedford                  ",79.23,119985462,15908482,104076980,120904310.03999999,17009241,104762165,124529300.86950365,17999927,107414208,129350707.3,18772687,99286975,11668556,131101527.27395219,18393495,108736420,3971612,126977747.19852,18868260,106123637,569719,6333076,131413254.92999999,19608717,111804538,134200121.78,20555694,{"$f":"113644428+2452653","v":116097081},141486159.03000003,21429480,120056679,146174509.68000001,22672562,123501948,149495329.88,24366967,125128363,157744521.90000004,25358897,132385625,165003222.23219585,27078190,137925032,173832434.18000001,28522973,145309461,189742059.78296334,29911096,159830964,197388756.04999998,31307615,166091904]
[202,"New Braintree                ",43.8,0,0,0,0,0,0,0,0,0,0,0,0,0,0,0,0,0,0,0,0,0,0,0,0,0,0,0,0,0,0,0,13004.9,7410,5595,13199.960000000001,7496,5704,0,0,0,0,0,0,27674.32,14896,12778,28743.594510706713,16002,12778,43973.400000000009,26677,17296]
[203,"Newbury                      ",17.5,0,0,0,0,0,0,0,0,0,0,0,0,0,0,0,0,0,0,0,0,0,0,0,0,0,0,0,0,0,0,{"$f":"0+16844","v":16844},39848.778960000003,35337,16844,26986.020340000003,23796,16844,53983.259600000005,45708,16844,82603.405821537279,69230,16844,70871.668000000005,58469,16844,88469.616812120148,72987,16844,45293.483039999999,37367,16844]
[204,"Newburyport                  ",17.5,16302852,18514828,2908020,17369387.83083,18382676,3094664,18138185.240466557,18210192,3229204,19046240.388799995,17810116,3031805,356309,19278084.056310378,17751548,3320352,0,18957046.974179041,17434050,3126377,16784,232641,19604538.718400002,17669920,3143161,20981094.095319998,18161476,3236321,22075535.224889997,18717331,{"$f":"3484457.66608894+42110","v":3526567.6660889401},22313844.746979997,18921662,3658991.6660889401,22958152.764539998,19326232,3720116.6660889401,22075387.820000004,18475881,3851291.6660889401,22572192.428649735,18688498,3923141.6660889401,23394062.990000002,19300102,4093961,23879060.905683298,19700226,4182944,24204978.57,19969107,4235872]
[205,"New Marlborough              ",17.5,0,0,0,0,0,0,0,0,0,0,0,0,0,0,0,0,0,0,0,0,0,0,0,0,0,0,0,0,0,0,0,0,0,0,0,0,0,13170.920000000002,10884,2287,0,0,0,0,0,0,0,0,0,0,0,0]
[206,"New Salem                    ",41.65,0,0,0,0,0,0,0,0,0,0,0,0,0,0,0,0,0,0,0,0,0,0,0,0,0,0,0,0,0,0,0,0,0,0,0,0,0,0,0,0,13416.833343589547,7366,6051,13837.16,7670,6167,0,0,0,0,0,0]
[207,"Newton                       ",17.5,84474234,95571853,9687799.5999999996,91783004.913320005,95493364,10966834.6,96710790.081070766,94016028,12754100.6,102430485.62952003,93680526,12939868.6,1520739,106034164.82356572,94358670,14171395,0,105360168.87611745,93963930,13343503,71634,1051383,109411944.70578998,95907724,13504221,114655007.73854002,98481856,16173152,119052135.41824004,101648356,17403779,123275321.48661001,103657391,19617930,126316298.67331998,106090242,20226057,126430397.79993999,105306467,21180365,131452274.44548996,108662422,22789852,137300637.26189998,113273026,24027611,141578979.06415501,116802658,24814496,143592665.22735,118463949,25128716]
[208,"Norfolk                      ",17.5,7375598,4537885,3290521,7514189.6858999999,4696531,3342421,7568629.1283759158,4835814,3392371,7931793.3029600009,5010638,3120270,366705,8090406.3416947154,5856554,3417236,0,7969864.5064924797,6096820,3217602,17273,206986,7607426.2368400004,5982259,3234875,7567557.911940001,6205265,3270355,7354058.3719600011,6196881,3291530,7315213.0608799998,6240752,3312405,7167206.0455,6157870,3332480,7797859.3176300004,6475611,3380055,8254868.1418577991,6844844,3406815,8641112.9091999996,7128918,3433905,9114958.3381727356,7519840,3461385,9555961.1148400009,7883668,3461385]
[209,"North Adams                  ",71.709999999999994,15707349,2559119,13830276,15487886.440000003,2982732,13921926,16104425.472575067,3199929,14379275,16069533.560000001,3273841,12943553,1521172,15683925.830859331,4425733,14175431,0,15476062.162319999,4393858,13347304,71654,795823,15392110.870000001,4489714,13418958,15076472.880000003,4662123,13480318,15891428.520000001,4776899,13517943,16417451.109999998,4941966,13556793,16664714.390000004,5074150,13595418,16484834.819999997,5063315,13676653,17145309.629568465,5100302,13721833,17356231.859999999,5097649,13766383,17859474.703748006,5053318,13809703,18178355.150000002,5057245,13809703]
[210,"Northampton                  ",17.5,22339621,16647759,6574009.5999999996,23515503.420000002,17537821,6925715.5999999996,23897225.215249706,17925565,7068615.5999999996,25081306.799999997,18789705,6600629.5999999996,775729,25514471.712826792,19225734,7228831,0,24684605.485979997,19535341,6806523,36541,454267,25014294.639999997,20035749,6843064,26386688.750000007,20803896,6954104,26834026.780000009,21624168,7023429,27395100.530000001,22476877,7093554,27323757.340000004,22846792,7162729,27410585.139999997,22747409,7313539,27919380.14575414,23143930,7395919,28576804.530000001,23575863,7477309,30030364.251233194,24547028,7558369,31063338.950000003,25627255,7558369]
[211,"North Andover                ",17.5,30541004,28946886,4129740,33510013.210000001,29846221,4649317,34908316.443979926,30883606,5087208,37117714.300000004,31904083,4968107,583870,38689087.713684224,32219076,5440937,1029075,37806576.337559998,32564460,6092035,32705,458122,38936234,33092191,6124740,40712824.369999997,34010095,6808232.8161875,42340329.710000001,35385415,{"$f":"7068575.6748125+25266","v":7093841.6748125004},43286349.479999997,36224040,7262285.6748125004,45462873.919999987,37541377,7921497,44605186.620000005,37087784,8181977,46314260.801910989,38259940,8326307,48675062.219999999,39658845,9016217,50326384.478882119,41262379,9160097,50577443.990000002,41726391,9160097]
[212,"North Attleborough           ",38.880000000000003,33128817,14691852,18436965,34913727.249999993,15594284,19319443,37024105.29144422,16763755,20260350,38863802.869999997,17813103,18836919,2213781,39803852.803245947,20703716,20629686,0,39026226.24995999,21382362,19424502,104279,1217430,39843826.230000004,21810997,19528781,41161023.43,22566227,19712661,41797469,23207648,19827086,42114635.469999991,24223806,19941736,42858323.110000007,25023400,20055686,41721975.079999998,25316072,20297411,42205783.552439779,25945113,20427791,43299173.010000005,26709708,20556671,44126489.423501156,26972001,20682041,45073173.739999995,28270188,20682041]
[213,"Northborough                 ",17.5,12830969,10921083,2584464.4,13031020.219999999,10898179,2763949.4,13379613.142081046,10658966,3082735.4,13939628.030000001,10678879,2995439.4,352035,14512145.583586603,11014309,3280525,217312,14386023.880859999,11224364,3293494,17681,232062,14878106.429999998,11738874,3311175,15714470.859999999,12259650,3621985.0384160001,15886379.650000002,12722162,3668085.0384160001,15486011.710000001,13010542,3712560.0384160001,15526446.370000001,13153691,3756435.0384160001,15196910.26,12701763,3849770.0384160001,15015400.577264598,12501814,3899030.0384160001,15211638.35,12549602,3947270.0384160001,15348450.348561112,12662472,3993500,15653167.560000001,12913864,3993500]
[214,"Northbridge                  ",46.78,19224254,6253429,12970825,19859815.41,6987828,13322608,21326300.527729061,7490514,14114803,21595688.16,7937843,12757564,1499314,22343513.91142584,8072415,13971740,299359,22038684.843239997,8329249,13446387,72186,815376,22423099.34,8388993,14034106,23980196.999999996,8893916,15086281,24363998.650000002,9349395,15150056,24874347.920000002,9900452,15214206,24091597.779999997,10435707,15275081,23427188.930000003,10848805,15403891,23615219.37740108,11369969,15473041,23583382.150000002,11810469,15539941,23912162.03207574,12120372,15603931,23651358.309999999,12499433,15603931]
[215,"North Brookfield             ",57.67,6615681,2219735,4285292.8970251717,6571910.5099999998,2316586,4326992.8970251717,6609236.9636889221,2348384,4367042.8970251717,6747317.700000002,2443115,3983453.8970251717,468150,6520066.3495043078,2624892,4362572,0,6139849.1636400009,2611475,4107711,22052,250034,6001484.8899999997,2543410,4129763,6089693.8600000003,2658631,4155363,6187292.3999999994,2707976,4171238,6138607.5700000012,2853212,4187213,6330664.1299999999,2902390,4203088,6192391.8499999996,2909397,4236418,6199650.4699848695,2812304,4254298,6455723.8399999999,2876546,4272568,6861155.1426662346,2904011,4290838,6921441.0200000014,2970928,4290838]
[216,"Northfield                   ",30.08,0,0,0,0,0,0,0,0,0,0,0,0,0,0,0,0,0,0,0,0,0,0,0,0,0,0,0,0,0,0,0,0,0,0,26399.920000000002,17135,9265,13170.920000000002,9108,9265,0,0,0,0,0,0,0,0,0,14657.8,10697,3986]
[217,"North Reading                ",17.5,18601689,14816885,3784804,20183617.97724,15266492,4917126,21182764.789605197,15869112,5313653,22674352.994799998,16503487,5521911,648955,23612463.797106899,16789073,6047449,775942,22639942.1421276,17274696,6424769,34491,430556,22670246.940660004,17894010,6459260,23098274.900569998,18576477,6562100,23398817.806239996,19321117,{"$f":"6625625+50532","v":6676157},23706840.709970001,19832830,6739782,23928340.855640002,20127141,6802307,23635143.14844,19692373,6937937,23960205.841541711,19895201,7010717,24928075.440800004,20565663,7083527,25154643.367806662,20752580,7153937,25345400.252699994,20909956,7153937]
[218,"Norton                       ",30.84,22990850,11013370,11977480,23419989.289999999,11653397,12175056,24274093.506333459,12205403,12560940,25467467.109999999,12826588,11717531,1377086,25652702.988677517,13933589,12832725,0,24934930.297499999,14175872,12083038,64867,758645,25121296.479999997,14682739,12147905,25245341.509999998,15231907,12260025,25252431.439999998,15724845,12328675,24839826.120000001,15755447,12395800,24716889.330000006,15884891,12461075,24673640,15870288,12603140,24605799.037226401,16138030,12678650,25627290.710000001,16534896,12754400,25977850.920649342,17399530,12827390,26443914.049999997,18367335,12827390]
[219,"Norwell                      ",17.5,14440386,14597702,1917411.6,16098434.99767,14916801,2207570.6,17382511.444969099,15372590,2457881.6000000001,18475933.129799999,15697102,2486597,292234,19354658.580467265,16176665,2723254,454740,19154668.326163501,16412838,2992336,16064,226269,19420562.385559998,16745375,3008400,20138619.813699998,17114763,3148957.366849375,20549300.995200001,17494372,3260749.9436770314,20295768.49016,17370172,3362602.9436770314,20603272.396599997,17503826,3417652.9436770314,20258808.089429993,16921990,3535957.9436770314,20701123.007093545,17167966,3600307.9436770314,21451763.513980005,17697705,3754059,22329816.442800608,18350859,4011711,22887277.58972,18882004,4011711]
[220,"Norwood                      ",17.5,28041822,27289969,3544044,29886710.074549999,27700512,3933871,30207570.065640491,28071619,4534446,31869888.767040003,28472241,4638435,545125,32601763.614237398,28057436,5079889,0,31939204.05633672,28648256,4783122,25678,357914,32665738.414279997,29934115,4808800,34403459.751600005,30967635,5111751.3641325003,35162876.923280001,32031042,5372189.3884928748,35458013.178439997,31475235,5663726.3884928748,36030240.360470004,31220839,5751026.3884928748,36087087.065760002,30230754,5941876.3884928748,36598980.152771384,30391526,6207454,38062700.293799996,31401727,6660973,40452845.134236395,32400134,8052711,42697305.215410002,33534173,9166992]
[221,"Oak Bluffs                   ",17.5,3344833,2798198,546635,3068927.37,2724857,567385,3482507.5606329595,2861389,639762,3500874.88,2916146,591900,69562,3641145.0682794261,3042048,648233,0,3315880.6575599997,2896108,610364,3277,44592,3397147.27,2962918,613641,3454522.33,3045879,629001,3719346.8900000006,3186194,639201,3839529.9800000004,3213640,650652,4306524.25,3420717,885807,4345993.05,3494124,910282,4614741.4748551529,3814150,924052,4566695.8900000006,3767524,936832,4939842.5494836336,3951377,988466,5068644.3499999996,3984819,1083825]
[222,"Oakham                       ",40.72,88168,23979,64189,97646.94,23754,73893,102197.43,24731,77466,107491.41,27810,80415,0,183603.36713492827,66144,78807,38652,0,0,0,0,0,0,0,0,0,0,0,0,0,0,0,0,0,13199.960000000001,7320,5880,13170.920000000002,7638,5880,13416.833343589547,8143,5880,13837.16,7937,5900,14371.797255353356,8519,5900,14657.8,8004,6654]
[223,"Orange                       ",72.36,5726579,1106334,4911542,5794416.4100000001,1365123,4961898,5977476.5872389013,1437195,5097546,6544119.3700000001,1531082,4936583,580165,6699540.3565933015,1785567,5406413,0,6697536.4997399999,1819535,5090570,27329,306189,6427741.0799999991,1820190,5117899,6143522.4500000002,1791132,5142779,6178576.1000000006,1796299,5158204,6225638.2200000016,1814005,5173729,6497667.1399999978,1883340,5189379,6410831.3199999994,1858029,5222159,6801556.0005172687,1896835,5240609,6913169.459999999,1888769,5259029,7421674.387598698,1989628,5432046,7238630.1499999985,2020501,5432046]
[224,"Orleans                      ",17.5,1619773,2314304,225962.4,1599992.33,1928689,236862.4,1527004.24,1747368,246812.4,1489750.36,1601503,229223.4,26939,1586853.2817454548,1643573,251039,0,1471893.3349799998,1497065,236373,1269,17747,1548813.24,1556406,237642,1684181.3199999998,1657933,245322,1746797.08,1713633,250272,1909216.98,1715171,279616,2072439.67,1813057,285191,2091738.9399999997,1737899,353840,2186402.5084648258,1814388,372015,2345513.3400000003,1934693,410820,2457051.7958840481,2027068,429984,2333514.6599999997,1925150,429984]
[225,"Otis                         ",17.5,0,4865,0,0,1222,0,0,0,0,0,0,0,0,0,0,0,0,0,0,0,0,0,0,0,0,0,0,0,0,0,0,0,0,0,0,0,0,0,0,0,0,0,0,0,0,0,0,0,0,0,0,0]
[226,"Oxford                       ",51.15,15678123,7200883,8477240,16425478.989999998,7646890,8877524,17109033.364616748,8150080,9240150,17439260.300000004,8260539,8426242,990282,17832934.835016266,8214327,9228194,390414,17925538.693260003,8351513,9390325,50411,228497,18299262.16,8535109,9764153,19039445.560000002,8878897,10160549,18857808.949999999,9147593,10209599,18717632.59,9144757,10258149,19226330.559999999,9307209,10306499,18814492.639999997,9045951,10408194,18658337.210024625,8970216,10461744,19085189.02,9428164,10514754,19698237.275810093,9622553,10566894,19171590.48,9891135,10566894]
[227,"Palmer                       ",58.87,15382941,5150016,10232925,16293473.060000004,5491599,10828140,16630337.504335003,5686758,11045384,16912374.970000003,5850602,10045276,1180556,17367767.6769378,6255521,11001315,110932,16420213.2009,6331779,10463070,56170,638157,15673257.680000003,6390223,10519240,16134047.02,6470869,10585480,16198575.519999998,6747578,10626130,15478309.109999996,6819446,10664455,15466730.400000002,6815260,10701980,15564758.360000001,6592394,10784150,15937384.115527295,6595198,10829000,16355731.319999998,6739159,10873130,16594239.756346451,6825833,10915640,17071234.920000002,6857027,10915640]
[228,"Paxton                       ",33.33,196006,125093,0,0,0,0,0,0,0,0,0,0,0,0,0,0,0,0,0,0,0,0,0,0,0,0,0,0,0,0,0,0,0,0,0,0,0,0,0,0,0,0,0,13837.16,8832,5026,14371.797255353356,9461,5026,14657.8,9737,5026]
[229,"Peabody                      ",29.43,52895313,34167033,18728280,54951902.25,36075831,19286644,56602396.857231177,38043319,19741190,58044809.350000001,39953502,18002388,2115704,59750176.473661244,40112796,19715730,0,57582047.419799998,41285234,18563939,99659,1206582,59014857.119999997,42743764,18663598,60749406.699999996,44345547,18906718,{"$f":"62298319.99-2406437","v":59891882.990000002},{"$f":"45533417-1758848","v":43774569},{"$f":"19059168-736211","v":18322957},61102630.279999994,44118255,{"$f":"18472707+125260","v":18597967},62367587.499999993,45733796,18747217,62459203.560000002,44792470,19070452,63749465.754188508,45449042,19247212,65184413.379999995,46771496,19423672,69609817.438056916,48453163,21156654,72290192.479999989,50135481,22171771]
[230,"Pelham                       ",17.600000000000001,709807,760482,118052.8,749939.66,643809,164606.79999999999,733964.10943651071,561236,210786.8,674439.18,490547,208647.8,24521,670880.08917129191,496664,228505,0,663890.04804000002,481763,215156,1155,14219,580669.32999999996,480192,216311,560019.19999999995,482745,218831,655277.24,566477,220506,689081.27,620173,222256,696611.65,626950,224081,724220.01,609074,228151,830020.58176676114,620333,230581,859407.46,668413,233071,905329.72853302001,687532,235531,928975.21,690492,238483]
[231,"Pembroke                     ",33.54,22515538,14046314,8469224,24815140.279400006,14742688,10072452,26921544.8071214,15414393,11507152,28631944.000619993,16182768,11139968,1309208,29986707.348423712,16470418,12200192,1316097,29225596.232482802,16691260,12726668,68322,805499,29344771.673250001,17053741,12794990,30140603.210499994,17494279,12925750,30742484.871859998,17997108,13013732.304039083,30579313.617779996,18171451,13095032.304039083,30953452.00279,18734967,13174507.304039083,30278155.873739995,18592537,13344512.304039083,30076801.769575488,18988785,13434662.304039083,30098844.630960006,19889115,13521752,31408204.402095743,20722469,13608752,31797805.646810003,21249366,13608752]
[232,"Pepperell                    ",40.119999999999997,9796,2034,7762,10849.66,4054,8308,11355.27,4893,8571,11943.49,5146,8877,0,0,0,8699,0,0,0,0,0,0,0,0,0,0,0,0,0,0,0,0,0,0,0,0,0,0,0,0,0,0,0,0,0,0,0,0,0,0,0,0]
[233,"Peru                         ",52.22,48982,11961,37021,97646.94,29593,71992,79486.89,29514,72342,107491.41,39254,91528,0,98452.600038277524,35805,89697,0,84250.709759999998,35751,84250.709759999998,0,0,73500.42,33517,73500.42,76183.260000000009,35598,73500.42,103152.16,50799,73500.42,117044.1,56662,73500.42,105599.68000000001,54600,73500.42,170156.80000000002,80315,89842,107334.66674871638,47752,89842,110697.28,49777,89842,114974.37804282685,52709,89842,117262.39999999999,58074,89842]
[234,"Petersham                    ",30.78,794648,460434,334214,887913.94,484109,403805,910107.84943651082,464081,446027,884202.43,440655,403908,47469,727844.57486698567,387334,442349,0,686761.92768000008,379916,416507,2236,25481,656167.6,383839,418743,637666.18999999983,396428,421383,594228.81999999995,438845,422883,566086.55000000005,454106,424308,611232.30999999994,479273,425758,627194.55000000005,512362,429223,716629.18602344103,573272,431323,772220.59,581489,433423,825450.36454343062,571360,435523,932984.68,640821,435523]
[235,"Phillipston                  ",48.33,0,0,0,0,0,0,0,0,0,0,0,0,0,0,0,0,0,0,0,0,0,0,0,0,0,0,0,0,0,0,0,0,0,0,0,0,0,0,0,0,0,0,0,0,0,0,0,0,0,0,0,0]
[236,"Pittsfield                   ",61.21,52725657,24611444,28114213,57082753.469999999,25485280,31597473,59041738.979034342,25796426,33245313,61752172.609999992,25995833,31996051,3760289,63207565.231892832,25852192,35041213,2314160,62148014.552700013,25940936,35512358,190646,1809494,63704268.780000001,26794850,36909419,65754169.920000002,27822547,38017592.827607997,67796003.910000011,28757787,39290437.62740925,67481752.38000001,29005679,39447162.62740925,68905111.570000008,29086218,39818894,68494174.319999993,28442404,40155219,68570957.773763955,28025316,40545642,70785982.700000003,28120602,42665381,75857280.533894911,28171219,47686062,76463876.149999991,28300807,48163069]
[237,"Plainfield                   ",32.770000000000003,19593,16836,18987,43398.64,22879,30740,68131.62,37773,41615,95547.92,47108,54235,0,98452.600038277524,55480,53150,0,96286.525439999998,58428,51024,0,0,61250.35,41319,51024,63486.049999999996,42461,51024,51576.08,40855,51024,78029.39999999998,64254,51024,39599.880000000005,32922,39599.880000000005,39512.76,29669,39512.76,40250.500030768642,28875,39512.76,27674.32,19519,27674.32,28743.594510706713,19101,27674,43973.400000000009,31321,27674]
[238,"Plainville                   ",29.49,5675056,3322319,2374850,6041437.8299999991,3487590,2553848,6193164.1266190642,3616015,2618681,6360137.9900000002,3728363,2405042,282649,6513212.2174468907,3852023,2633937,27252,6313858.9432200007,3881974,2505722,13452,161615,6272346.2599999998,3923605,2519174,6913476.3999999994,4145967,2768880.59601,6826165.1400000006,4169061,2788255.59601,6579213.379999999,4253996,2806755.59601,6450343.1600000001,4374579,2824580.59601,6794336.419999999,4700337,2864950.59601,6634193.2430846673,4712959,2885980.59601,6762343.2399999993,4806288,2906741,7272815.8487452483,5127708,2927801,7517996.1499999994,5427402,2927801]
[239,"Plymouth                     ",24.1,65808603,50709654,16749442.999999998,70785947.548399985,52596289,18464636,72586825.799855381,54446578,19542986,77105661.264829993,55729593,19128070,2247998,79497521.622687668,56638333,20948547,1910642,78742171.183430165,56893637,21523756,115549,1428409,79081949.172639996,57303942,21778007,80478825.04377,59037999,22208459.478195209,83431824.025150001,60777692,23291787.509499453,83619257.170059979,61240645,23670916.509499453,84831859.535599992,62123870,23872516.509499453,84727196.122590005,61058495,24315046.509499453,88349686.529343486,62464730,25884957,89987228.589259982,64955484,26128197,93345303.481633395,68683929,26369547,94027629.56190002,71603127,26369547]
[240,"Plympton                     ",25.63,1607157,1349172,489958,1606594.6,1279333,506035,1709080.5840138937,1275953,543319,1853769.61,1327166,531833,62503,1908834.034465072,1361877,582449,0,2009833.57968,1434960,563844,3027,21828,1974807.62,1416646,566871,2018759.52,1484742,591347.62748400006,2207684.7599999998,1597361,652019.25887999998,2194273.0299999998,1544590,702595.25887999998,2074615.8599999996,1557980,708270.25887999998,2281485.7581900004,1667056,721030.25887999998,2208586.3887203764,1594867,727660.25887999998,2244246.1515200003,1618008,734170.25887999998,2239539.0976047828,1665166,740470,2429975.0922999997,1772432,740470]
[241,"Princeton                    ",17.5,0,0,0,0,0,0,0,0,0,0,0,0,0,12306.57500478469,10005,0,2302,0,0,0,0,0,0,0,0,0,0,0,0,0,0,0,0,0,0,0,0,0,0,0,0,0,0,0,0,0,0,0,0,0,0,0]
[242,"Provincetown                 ",17.5,1291811,4055956,255800.8,1285826.94,1956162,263550.8,1321743.9439575451,1727275,271200.8,1263192.58,1561249,248898.8,29252,1338933.845374163,1591643,272588,0,1375097.9072400001,1521466,256663,1378,18272,1289521.3,1431340,258041,1203806.04,1203806,262841,1231636.8800000001,1215446,265966,1414247.5399999998,1209208,269641,1284862.27,1156376,272866,1411461.41,1172251,280401,1300534.3107840288,1090154,283851,1343546.56,1102452,287481,1386868.4082193591,1144166,290781,1297760.2800000003,1070652,290781]
[243,"Quincy                       ",17.5,73098901,63941052,12561073.199999999,77782533.934249982,67709257,13380709.199999999,83528509.845593929,70748789,14388553.199999999,89488958.460700005,73362291,14430718,1695949,92909519.333574429,72784382,15804134,4321003,92692070.835875496,74238283,18949428,101729,1298455,96661211.859239995,75702194,20959018,102157664.34112,79182392,23565229.189149439,105786949.41116999,81483004,24789394.287227817,108294787.80678003,82452996,26024786.287227817,109837246.19363996,84853939,26257161.287227817,109074296.63971998,85429167,26763766.287227817,112465494.00668323,87353305,27043396.287227817,117829054.19366997,90433969,28364113.480534859,123682608.20704634,95726151,28647763,129336079.22404,101589945,28647763]
[244,"Randolph                     ",43.1,28415668,20365108,10420471,30652225.832729999,20844001,11313976,31690386.102510918,20566218,11852877,32016655.867279999,20344448,10904100,1281488,31481792.989716146,20147871,11941876,0,30820251.731979597,19924468,11244232,60364,716005,31980943.732399996,20085920,11895024,34252525.530859999,20607886,13913057.555152636,35279771.078940004,21206980,14424784.13735972,35955443.988719992,20964754,14990690,36417465.611719996,21159883,15257583,35981002.85723,20358913,15693730,37100685.939180903,20804157,16296529,39313342.30715999,21866831,17446511,41045165.956319869,22557750,18487416,42468258.92028001,23490641,18986721]
[245,"Raynham                      ",39.24,0,0,0,0,0,0,0,0,0,0,0,0,0,0,0,0,0,0,0,0,0,0,0,0,0,12697.210000000001,7860,4837,0,0,0,26009.8,16567,9443,0,0,0,0,0,0,0,0,0,0,0,0,0,0,0,0,0,0]
[246,"Reading                      ",17.5,29463124,23184689,6290156.9999999981,31463026.360140003,24343136,7119890,33194639.301516734,25152672,8041967,35385849.034999996,26121634,8289951,974264,36474849.126737088,26451786,9078931,944132,35612661.075852714,26779324,9437516,50665,641507,36437713.051029995,27264731,9488181,38136802.087369993,28233100,9903702,38817531.163199998,29008253,{"$f":"10011427+8422","v":10019849},38963364.685199998,30125539,10126574,39638139.190400004,31807445,10232699,39861932.613879994,32924851,10465569,40268620.860512272,33365588,10591299,40642299.144709997,33529896,10713609,42311533.287209027,34907015,10834809,42488891.059600003,35053335,10834809]
[247,"Rehoboth                     ",25.88,0,0,0,0,0,0,0,0,0,0,0,0,0,0,0,0,0,0,0,0,0,0,0,0,0,0,0,0,116046.18,81889,34157,91034.3,64373,34157,26399.920000000002,18518,26399.920000000002,0,0,0,0,0,0,0,0,0,0,0,0,0,0,0]
[248,"Revere                       ",63.31,46478555,22374964,24103591,51922904.798499994,24134938,27787967,56922955.069418222,25539984,31382971,60166072.687420011,26575341,30058188,3532544,64653955.409767158,26216203,32918917,5518835,65723577.218013175,27005010,37975657,203870,539040,68075146.155200005,27339812,40735334,74073065.5757,28043890,46214315.401124246,76694917.361529991,28826715,{"$f":"48007444.2055175+33688","v":48041132.205517501},79960501.103390008,29010426,50950075,84281832.122129992,30065688,54216144,82249270.676439986,30306709,56509506,88195564.570087463,31495119,{"$f":"60824236-4085080","v":56739156},96064542.993500009,32918306,65040589.077949196,104529856.46755695,34860627,69669229,107222329.50896001,36927909,70298333]
[249,"Richmond                     ",17.5,1762868,2078922,321695.2,1791554.66,2029927,333845.2,1666525.1984222305,1918538,344495.2,1733844.42,1800907,356276.2,0,1714724.0778717706,1779707,349151,0,1627120.605,1690989,328754,1765,23307,1432341.44,1629712,330519,1455405.7799999998,1455406,336919,1341137.6900000002,1341138,340519,1381559.82,1243404,344169,1238912.1900000002,1115021,347244,1203251.3800000001,1015683,353789,1268580.5002314509,1047475,357479,1277797.2200000002,1054183,361049,1333384.0206293394,1100042,364649,1449827.3,1196108,364649]
[250,"Rochester                    ",37.200000000000003,3680270,2350290,1329980,3824253.2,2478288,1395317,4020213.9527178695,2498485,1521729,4281470.25,2647282,1462330,171858,4601636.8752688998,2799668,1601504,200465,4449279.2438400006,2835130,1696698,9109,109987,4206398.72,2715486,1705807,4265135.9700000007,2781320,1725847,4306372.08,2817361,1738272,4252932.9000000004,2742703,1750422,4382165.5599999996,2807707,1762322,4400657.959999999,2745493,1788722,4319981.4040858541,2706641,1802732,4788761.0199999996,2933529,1855232,5204047.0350275449,3146498,2057549,5386708.8799999999,3382851,2057549]
[251,"Rockland                     ",49.91,19513418,11054067,8952545,20522022.761699997,11421237,9430825,21120295.814178336,11629129,9714945,21933698.112469997,11574215,9270036,1089447,22004828.13255582,11463450,10152293,389085,21074812.564186316,11539567,9925552,53285,619191,21774162.33845,11752002,10022160,22355995.259560004,12117742,10325639.588731904,22663493.787000004,12382935,10386793.067113128,23580543.138319999,12524805,11055738,25189073.019840002,12589951,12599122,25814155.980160002,12429362,13635665,25966055.368246898,12806197,13706495,25871093.227260001,13345423,13774895,27535663.693475917,13793841,13843235,29202100.0068,14473503,14728597]
[252,"Rockport                     ",17.5,7402784,7362604,1194220.8,7628241.0882799998,7471074,1244120.8,8076762.8806776693,7497665,1322611.8,8284122.9709999999,7446648,1226740.8,144171,8104260.50920715,7413825,1343494,0,7620062.4644836802,7138013,1265007,6791,93921,7319480.6514099985,7150187,1271798,7190513.3909999989,7094748,1304118,7275247.9357000012,7139271,{"$f":"1324168+33688","v":1357856},7619731.0979199996,6857758,1377981,7726823.8438600004,6690331,1397406,7673923.8114000009,6409651,1439096,7549140.3215470212,6289613,1461146,7350864.6990399994,6064463,1481756,7685699.8726646928,6224394,1502126,7619056.3994999984,6285722,1502126]
[253,"Rowe                         ",17.5,475150,699660,45294.8,409882.39,614824,50581.8,523549.62469008093,580213,70473.8,419120.95,513500,65254.8,7669,441524.18143540673,501807,71465,0,552009.03876000002,498355,67290,361,5289,560185.52,501042,67651,613859.06999999995,514712,99147,620119.16,527677,100747,618393.5,525865,103362,676330.15,545165,131165,642285.43000000005,535088,134795,637861.27157375612,530325,136715,598648,493885,138335,582531.02683389105,480588,139775,643874.47,531196,139775]
[254,"Rowley                       ",17.5,0,0,0,0,0,0,0,0,0,0,0,0,0,0,0,0,0,0,0,0,0,0,0,0,0,0,0,0,0,0,{"$f":"0+25266","v":25266},66468.098199999993,52584,25266,27029.435180000004,21899,25266,27164.907080000004,22563,25266,69109.922267947739,57514,25266,42624.152879999994,35165,25266,103785.9218574735,85623,25266,105768.04224000001,87259,25266]
[255,"Royalston                    ",43.12,0,0,0,0,0,0,0,0,0,0,0,0,0,0,0,0,0,0,0,0,0,0,0,0,0,0,0,0,0,0,0,0,0,0,0,0,0,0,0,0,0,0,0,0,0,0,0,0,0,0,0,0]
[256,"Russell                      ",62.12,244989,94511,150478,183566.83,77676,151228,226187.09,88946,178215,225960.41,85118,179065,0,232829.66715406702,86171,175484,0,191599.70616,75063,168465,0,0,207260.47,79133,168465,189431.25,72090,168465,205261.50999999998,81982,168465,220031.55,83474,168465,210131.86,84199,168465,236011.40000000002,100692,168465,240301.01604183207,93424,168465,289210.46999999997,105564,183646,314603.33724281075,115978,198625,335521.82,128757,206765]
[257,"Rutland                      ",54.61,9796,4598,8945.2000000000007,10849.66,4565,9555.2000000000007,11355.27,4214,9848.2000000000007,11943.49,4379,10197.200000000001,0,0,0,9993,0,0,0,0,0,0,0,0,0,0,0,0,0,0,0,0,0,0,13199.960000000001,5917,7283,0,0,0,0,0,0,0,0,0,0,0,0,0,0,0]
[258,"Salem                        ",39.979999999999997,39985833,29992288,10536329.999999998,42136154.640000001,30487993,11648162,42852484.075050555,30556126,12876914,44915008.079999983,30543822,12859851,1511335,47512497.335793309,30403931,14083762,3024804,47422424.260079995,30121364,16969097,91098,240865,49075889.510000005,30553623,18522267,51691291.730000004,31398532,20759584.19116275,51136476.850000001,31823721,{"$f":"20879459.1911628+134752","v":21014211.191162799},52070759.630000003,31881386,21231627.191162799,52542429.829999998,31669846,21348402.191162799,52561026.710000008,31386760,21600632.191162799,52768572.013673805,32317455,21736742.191162799,54862156.089999996,33573950,21872762,59983631.397195973,34176479,25807152,59442159.61999999,35764101,25807152]
[259,"Salisbury                    ",17.5,0,0,0,0,0,0,0,0,0,0,0,0,0,0,0,0,0,0,0,0,0,0,0,0,0,0,0,0,0,0,{"$f":"0+33688","v":33688},52019.6,44990,33688,79199.760000000009,67740,33688,79025.52,66069,33688,40250.500030768642,33612,33688,69185.8,57078,33688,14371.797255353356,11857,14383,29315.599999999999,24185,14383]
[260,"Sandisfield                  ",17.5,0,0,0,0,0,0,0,0,0,0,0,0,0,0,0,0,0,0,0,0,0,0,0,0,0,0,0,0,0,0,0,0,0,0,0,0,0,0,0,0,0,0,0,0,0,0,0,0,0,0,0,0]
[261,"Sandwich                     ",17.5,27631550,23236639,5651356.0000000019,28541824.359999999,23538127,6229598.0000000019,29371842.072332684,23681935,6694018.0000000019,29341477.619999997,23800113,6150491.0000000019,722827,30244193.036922485,24197825,6735852,0,29670856.676279996,24024554,6342344,34049,449184,28621462.630000006,24051894,6376393,29161934.479999997,24620229,6508793,28830810.450000003,24951122,6588268,28304004.249999989,24542435,6665593,27987804.329999994,24211459,6740018,27982398.590000007,23359532,6902818,28141702.856564838,23400169,6989398,27742486.25,22887551,7071628,28195096.030377951,23260955,7151788,28550950.060000002,23554534,7151788]
[262,"Saugus                       ",17.5,22412040,22359654,3538314.4,24160470.339740004,22578923,3844289.4,24646309.885408901,22714754,3997139.4,25756505.726459999,22756006,3750635.4,440788,26465118.450756904,22613204,4107595,0,25120399.373848077,22610471,3867629,20763,290803,25149470.265000004,22560247,3888392,26683232.319300003,22948688,4144389.7674957826,28162538.90636,23659244,{"$f":"4883463.0180176+202129","v":5085592.0180176003},28469688.994549997,23886601,5266627.0180176003,28704386.50144,24111062,5338002.0180176003,27795391.629999999,23261068,5488812.0180176003,27708148.930856943,23048854,5569152.0180176003,28856877.780000001,23763905,5649702.0180176003,31417986.972791355,25343552,6136490,33051187.879999995,26786282,6270812]
[263,"Savoy                        ",51.81,759317,298094,461223,819788.07,322710,499459,805305.56435198744,325832,504459,842480.55,336900,471826,55451,868256.36446315795,341085,516731,10440,771221.57736,360142,496374,2665,30432,690277.05,333540,499039,695640.89999999991,312586,502079,593525.96,291675,503704,600300.83000000007,298627,505329,592852.67000000004,321122,506879,644284.77,314279,510509,634366.34950279677,316323,512309,668959.30000000005,357593,514049,751434.40349266853,362123,515849,635304.58000000007,372887,515849]
[264,"Scituate                     ",17.5,21888018,18307200,3580818,23195983.650910005,19230638,3965346,24538930.345499434,20008979,4529951,26018135.560409993,20809421,4660944,547771,26573232.383127034,21922917,5104541,0,26489575.520701922,22264352,4806334,25802,351455,26874930.164800003,22799362,4832136,27918935.093200006,23462809,4957576,28025063.522399995,24028869,5034826,27783603.550999999,23886438,5110701,28197733.99712,24057987,5185901,27740691.55742,23172735,5346391,28537003.198598668,23614603,5434351,29192076.879900001,24083464,5521321,30755855.729239803,24906358,5863240,32099035.583470002,26068183,6030853]
[265,"Seekonk                      ",29.3,16068884,14714809,3044575.2,16695154.580000002,14553529,3620014.2,17298382.43925048,14521219,4210223.2,17542753.499999996,14157726,4120766.2,484287,18026023.068662196,14305874,4512952,0,17708321.343119998,14225007,4249306,22812,293384,18141473.569999997,14541315,4272118,18781878.59,14551240,4595356.15655425,18801442.079999998,14822067,4787529.9737716876,18854298.620000001,14466350,4931239.9737716876,18460114.679999996,14348947,4979514.9737716876,18466575.149999999,14127909,5086214.9737716876,18642353.387814865,14172922,5143574.9737716876,20162615.929999996,14723649,5454099,21995792.007408068,15294251,6705263,22173871.389999997,15952238,6705263]
[266,"Sharon                       ",17.5,24896987,18670749,6270630.0000000009,26202037.429339994,19586419,6615618,27015017.202182684,20567259,6785118,28024961.712149993,21309075,6231888,732394,28860669.078239046,22028864,6824996,6809,28790563.702690437,22591942,6432692,34533,448580,29804844.627760001,23242013,6562832,30203331.846320003,24076220,6695952,31456583.212149996,24940038,6780652,31433647.07305,25641123,6865177,32275546.17168,26573303,6950527,32581200.061299995,26421487,7138517,33110463.782192025,27317316,7240547,34930860.248220004,28416519,7344287,37027112.382259734,29719389,7449437,38206192.104400009,30736571,7469972]
[267,"Sheffield                    ",17.5,19593,10223,9370,43398.64,32920,14036,45421.08,40042,14610,35830.47,28711,14760,0,36919.725014354073,30951,14465,0,24071.631359999999,20857,13886,0,0,24500.14,21717,13886,50788.840000000004,46205,13886,64470.1,62545,13886,78029.39999999998,70226,13886,92399.719999999987,80706,13886,105367.36000000002,88541,16826,93917.833405126818,79039,16826,96860.12,79910,16950,0,0,0,0,0,0]
[268,"Shelburne                    ",29.07,0,0,0,0,0,0,0,0,0,0,0,0,0,0,0,0,0,12035.81568,7620,4416,0,0,12250.07,7587,4663,12697.210000000001,8809,4663,12894.02,9180,4663,13004.9,10008,4663,0,0,0,0,0,0,0,0,0,13837.16,10789,3071,14371.797255353356,10195,4177,14657.8,10057,4601]
[269,"Sherborn                     ",17.5,3380552,3318579,340731.2,3421487.44172,3345012,392337.2,3609943.9431416788,3395988,464158.2,3944872.97248,3531728,482139.2,56663,4018165.4634094238,3568870,528026,0,3616285.1801423398,3274399,497179,2669,39428,3544554.8176799999,3168291,499848,3322207.8539100001,3024786,515408,3446195.4454399999,3128611,525258,3327431.3505500001,2944257,545223,3380505.0839999993,2917753,554673,3478451.7794499998,2909277,575738,3806638.9460125784,3143918,662721,3863587.5212599998,3181825,681763,3922730.1411090656,3236252,693583,4086891.646209999,3371686,715207]
[270,"Shirley                      ",41.16,6819383,2858481,3995219,7141364.7989100004,3138806,4154632,7495917.7602271345,3284354,4330455,7800802.5329999998,3435489,4012957,471617,7655204.9791285908,3754395,4394883,0,12461,6250.1276655997626,6812,37,420,0,0,0,0,0,0,0,0,0,0,0,0,0,0,0,0,0,0,0,0,0,0,0,0,0,0,0,0,0,0]
[271,"Shrewsbury                   ",18.690000000000001,39662058,25861451,13800607,43006922.329999998,27107973,15898949,46216469.143160932,28796799,17419670,49163922.700000003,30297112,16882697,1984114,50640024.753362693,31084837,18489475,1065713,49767093.421020001,32455678,18412775,98848,1189765,51780005.259999998,33692240,18511623,53574891.730000004,35083729,18748463,55072809.080000006,36553737,18897238,55423621.549999997,38578814,19045813,57096131.690000013,40658212,19195638,56301993.68999999,42573214,19524868,58194036.86341849,44655044,19706038,60487338.449999981,47137864,19887358,63259403.708104163,49749302,20068648,66373147.319999993,50487975,20068648]
[272,"Shutesbury                   ",44.71,980949,744787,465653.2,1097675.33,693858,532129.19999999995,1087472.3443519874,671283,540635.19999999995,1238144.68,732474,551624.19999999995,64829,1224192.060937799,728091,604124,0,1121281.2738600001,660237,568831,3054,35764,1133132.5,652599,571885,1250486.46,696787,584974.46020800003,1178320.1300000001,657620,588274.46020800003,1268845.75,689268,593590.46020800003,1336733.0899999999,723367,613366,1115064.6000000001,624029,619856,1157848.556575418,680124,623336,1166902.03,669164,626876,1321150.8039989388,730491,630386,1221694.1099999999,712492,630386]
[273,"Somerset                     ",46.29,18801260,18110659,2685723.2,19720957.539999995,17515386,3559416.2,20657264.747334611,16992794,4521167.2,21503415.919999998,16475983,4807347.2,564976,21570952.204983734,16298338,5264877,7737,14275069,10715794.64921918,3499899,19110,75402,14571529.510000002,10467269,4104261,15524516.379999997,10738045,5022377.9989644997,15769354.82,11107578,5109544.062146375,16069095.370000001,11192906,5217678.062146375,16337259.259999998,11103046,5262728.062146375,16558627.16,10170448,6388179,17125371.876508925,9582995,7542377,17732666.670000002,9557082,8175585,18329520.115415696,9423790,8920409,18501842.410000004,9406646,9096902]
[274,"Somerville                   ",17.5,51199725,35731948,19725438.800000001,52325941.29772,38065244,19994838.800000001,53650930.251636975,40215930,20255638.800000001,55603076.77403,42134230,18431168.800000001,2166096,57459406.133968234,47404010,20185320,0,56711003.467927195,48121353,19006095,102033,1205842,58313543.709569983,48819464,19108128,60645451.388249993,50545090,19316888,61833356.366640002,51800992,19448713,62767269.546019986,52703692,19582488,64208758.285060003,54026428,19717388,62011654.562320009,51954315,20010098,64130648.10950844,53229236,20170688,65998570.132249989,54448820,20329028,68863033.368161425,56812003,20486918,72325602.754360005,59668622,20486918]
[275,"Southampton                  ",29.58,3817595,1937134,2294612,4033879.67,2117278,2404074,4219769.7429432645,2252330,2496629,4454454.5199999996,2332152,2339180,274909,4552925.5780440187,2372375,2561807,0,4426092.5655599991,2463679,2412147,12949,149736,4394778.41,2552882,2425096,4300263.7899999991,2555321,2444176,4418126.47,2686385,2456276,4598039.57,2840365,2468676,4683286.6400000006,2974492,2480926,4702769.24,3078158,2507986,4863203.5231375461,3146804,2522746,4914639.3900000006,3298766,2537146,5018160.4177704034,3476888,2551486,4972548.3299999991,3367625,2551486]
[276,"Southborough                 ",17.5,10775916,8618521,2581627,11112363.866560001,8827786,2657427,11560282.354900939,9325599,2735813,12278597.972959999,9676623,2560589,300929,12791303.833687706,10552826,2804288,0,12125426.22289644,10423982,2640461,14175,186952,12100378.3814,10488914,2654636,12191121.0648,10539005,2710636,12056861.715160001,10683506,2744686,11801364.191059999,10384154,2777761,11574099.806239998,10152043,2809611,11260409.134279998,9485040,2877481,11409894.389389778,9486965,2914531,11677611.934810001,9634030,2950921,11760311.474915259,9702257,2986051,12497359.942009997,10310322,2986051]
[277,"Southbridge                  ",74.06,20428362,5691750,14736612,20103131.259999998,5866161,14851612,21509239.16868699,5955255,15829982,22155409.049999997,6064486,14570274,1712350,22728459.686706219,6844242,15956972,0,22931317.140119996,6910142,15713770,84358,223047,24396090.530000005,7165928,17230163,25154189.23,7503317,17682899.236941002,26268571.68,7736324,18620961.75948,26907889.430000003,7788520,19119369,27590853.959999993,7902804,19688050,27951569.609999992,7518500,20433070,28503932.0841102,7316033,21187899,28731938.279999997,7510318,21257319,30836388.956011005,7846557,22989832,29979243.07,8016911,22989832]
[278,"South Hadley                 ",37.1,16765667,11233847,5531820,17331909.950000003,11613713,5867471,18060956.990095712,11637991,6422966,19336375.739999998,11671079,6859182,806115,19536753.464956939,11564704,7511991,460058,18934829.861939996,11597234,7506322,40297,478280,18784553.009999998,11810114,7546619,19235881.489999998,12212647,7627179,19156845.539999999,12497985,7676404,19070528.080000002,12680992,7724754,19296183.16,12948752,7772779,19049378.099999998,12973564,7876784,19637074.331034068,12896757,7933784,20537051.940000001,13237650,7991294,22011471.953325644,13763185,8248287,22558199.090000004,14027360,8530839]
[279,"Southwick                    ",33.43,0,0,0,0,0,0,0,0,0,0,0,0,0,0,0,0,0,0,0,0,0,0,0,0,0,0,0,0,0,0,0,0,0,0,0,0,0,0,0,0,0,0,0,0,0,0,0,0,0,0,0,0]
[280,"Spencer                      ",51.72,637001,478936,10778.186440677964,54248.3,12811,41437,45421.08,12291,41637,0,0,0,0,0,0,0,0,12035.81568,3941,8095,0,0,12250.07,4119,8131,12697.210000000001,4307,8390,25788.04,8782,17006,52019.6,18303,33717,79199.760000000009,29599,49601,65854.600000000006,27190,49601,53667.33337435819,23403,49601,41511.479999999996,18504,41511.479999999996,43115.391766060078,19467,41511,29315.599999999999,13937,29315.599999999999]
[281,"Springfield                  ",84.76,253464385,28100362,225364023,262628553.05000001,30283760,232799829,286041159.20882511,31670757,254370402,296198428.4600001,33567836,235104590,27630323,305615195.21157515,33218730,257480215,14916250,302574194.31083989,34730182,262704775,1410316,8988999,309609750.70000011,34205756,275403995,320618386.81000006,34766731,285851656,330986295.45999998,35173501,295812794,337653427.27999997,36066908,301586519,345592031.43000001,36405937,309186094,356553651.79000002,36682622,319871030,370375982.61382222,37357582,333018401,383693957.99999988,38246693,345447265,411555995.64407492,40832170,370723826,419043165.70000011,41873391,377169775]
[282,"Sterling                     ",23.29,0,0,0,0,0,0,0,0,0,0,0,0,0,0,0,0,0,0,0,0,0,0,0,0,0,0,0,0,0,0,0,0,0,0,0,0,0,0,0,0,0,0,0,0,0,0,0,0,0,0,0,0]
[283,"Stockbridge                  ",17.5,0,0,0,0,0,0,0,0,0,0,0,0,0,0,0,0,0,0,0,0,0,0,0,0,0,0,0,0,0,0,0,0,0,0,0,0,0,0,0,0,0,0,0,0,0,0,0,0,0,0,0,0]
[284,"Stoneham                     ",17.5,20419437,19045680,2769263.2,21921969.618560001,19522076,3032206.2,22673086.945864055,19670018,3312881.2,22727888.293199997,19736135,3160708.2,371458,23370068.911074977,19854576,3461523,53970,22707298.597098894,19664269,3310118,17770,252255,22408566.778700002,19761522,3327888,22578725.166379999,20034480,3483735.226029125,22242673.456560001,20042778,{"$f":"3585918.38324634+84220","v":3670138.3832463399},22756236.458160002,19732979,3779409.3832463399,23623782.041999996,19986407,3838859.3832463399,23858093.313949995,19851817,4059406,24538424.857372392,20290210,{"$f":"4269807-21592","v":4248215},25266909.403280001,20845200,4421709,26898862.887115043,21654643,5266351,27298622.593199998,22148293,5266351]
[285,"Stoughton                    ",37.86,30205157,21534491,8780857,31850504.109099995,21895939,9954565,33770063.061032131,22305523,11464540,35164976.446949996,22405193,11417910,1341873,35727786.25349389,22804647,12504587,418552,34710176.447902016,22865525,12168170,65324,784845,35682635.053249992,22821888,12860747,37103273.115960002,23411556,14019928.662023555,37422637.886239998,23911700,14304924.148446621,37491590.603239998,23503750,14600824.148446621,38474628.719349995,23660828,14813801,38325837.797450006,22995806,15330032,38830414.515473194,23973760,15439562,41181928.998719998,25335924,15846005,42580952.190584734,26370325,16210627,44058289.500399999,27084504,16973793]
[286,"Stow                         ",17.5,0,0,0,0,0,0,0,0,0,0,0,0,0,0,0,0,0,0,0,0,0,0,0,0,0,0,0,0,0,0,0,0,0,0,13655.815820000002,11465,2191,13669.092180000001,11412,2257,27906.769627179092,23174,4733,28685.840799999998,23666,5020,0,0,0,15240.539360000001,12573,2668]
[287,"Sturbridge                   ",42.06,5388381,4493704,1078308.3999999999,5516983.2500000009,4220516,1296467,5996978.0763373207,4176875,1820103,6345206.4400000004,4283593,1844805,216808,6820126.4317856468,4456964,2020381,342781,6646558.3768799985,4437863,2225107,11945,146635,6992372.2599999998,4640856,2351516,7793154.3099999987,5063140,2770520.3911102498,7764309.5599999996,4966483,2865678.1422669999,8029576.1899999995,4960281,3069295,8483866.0799999982,4983525,3500341,8568351.209999999,4799267,3769084,8170415.9676968697,4697967,3795214,8423098.5899999999,4848123,3821314,8568656.4989129324,4956813,3846634,8866569.3900000006,5185477,3846634]
[288,"Sudbury                      ",17.5,21263672,18207063,3502825,22258494.250949997,18693151,3676919,23679206.276443515,19595273,4083933,24596035.436999999,20228054,3908626,459355,25394888.37452016,20950783,4280621,163484,24480270.235956777,21160359,4184481,22464,312735,24225298.832720004,21111921,4206945,25075914.117840003,21703788,4325145,24959360.853349999,21986344,4397070,24443508.479559995,21216573,4466220,24450575.494369991,21153252,4534395,25153175.96328,20930012,{"$f":"4688560+56978","v":4745538},25474395.707632355,21173624,4829178,25690225.098839991,21194436,4910568,25917962.070728827,21382319,4990518,26639866.135919996,21977890,4990518]
[289,"Sunderland                   ",23.19,1491367,811746,843699,1434832.39,731500,853199,1506338.8093238133,728448,877325,1550511.91,767335,797608,93738,1651251.6745186604,1124871,873519,0,1426674.3802799999,1068529,822488,4415,50791,1427166.29,1106475,826903,1450167.1600000001,1171657,833063,1488182.91,1281235,836963,1659835.8300000003,1346071,841288,1744222.4,1440699,845663,1863761.3099999998,1490797,855618,2030461.9982605327,1547169,861528,2072735.7500000005,1562671,867288,2147362.3185696225,1649338,872838,2034470.88,1662285,872838]
[290,"Sutton                       ",21,11351923,6730648,4751948,12029949.919999998,7218489,5011361,12654100.683758389,7579591,5245542,13334009.530000001,8022384,4918279,578013,13738054.398713876,8347934,5386366,3754,13180445.080379996,8462731,5075229,27246,327595,13280919.139999997,8832665,5102475,13287888.290000001,9081755,5163355,13559813.799999999,9456038,5201455,13581958.960000001,9692460,5239230,13719822.630000001,9853703,5276480,13322264.810000002,9795149,5355735,13414412.031556375,9713548,5398395,13539897.419999996,9968231,5440035,13566435.924644973,10402774,5479815,13916186.880000001,10856059,5479815]
[291,"Swampscott                   ",17.5,15093910,15315544,2051980.4,16210766.109999999,15382522,2247430.4,17414723.955687378,15557542,2487474.4,17927585.210000001,15655737,2417779.4,284146,18487892.611490913,15778863,2647887,61143,18190629.378119998,16021305,2550769,13694,198667,18506840.309999999,16211795,2564463,19282648.440000001,16709525,2773458.11925,19665111.27,17029285,{"$f":"2940442.2075+16844","v":2957286.2075},19890269.34,16959906,3140515.2075,20062283.009999998,17079677,3193515.2075,20368467.029999997,16975480,3392987,20655963.815009337,17159833,3496131,21383228.149999999,17641164,3742064,22677171.816726971,18340193,4351751,23409223.779999994,18964138,4447386]
[292,"Swansea                      ",37.32,14565457,11774730,4075230.8,15460786.719999999,11848674,4383582.8,16127292.304335002,12243842,4579268.8,16666358.550000001,12395050,4237389.8,497993,17381654.481270812,12399806,4640675,341173,17156168.303639997,12593443,4690809,25182,316157,17312134.07,12740418,4715991,18589115.77,13137149,5657431.8930937499,19231862.370000001,13411309,6098205.5495370002,19734625.710000001,13253165,6481461,20558168.07,13514200,7043968,19920849.289999999,12860612,7327857,20221515.14252951,12930499,{"$f":"7716864-327537","v":7389327},21190611.529999997,13387790,8081352.9380667778,22235382.677427534,13936344,8449049,22877752.370000001,14533757,8449049]
[293,"Taunton                      ",63.97,64458276,23828389,40629887,66658595.349999994,25423363,41894411,69472944.332918555,26621725,43477482,72404300.269999996,27417594,40398788,4747808,74169525.406621993,27604965,44243664,2320896,72854522.334359989,28606446,43844262,235375,2681198,75257775.25999999,29692749,45565026,78583025.370000005,30952805,47630220,79522976.520000011,32366269,47822170,83736224.63000001,33362611,50373614,86795145.73999998,33623458,53171688,89152710,33343214,55809496,91224275.812842891,33052858,58171418,94602367.189999998,34133205,60469162,100148666.35428402,35674642,64474024,103523189.69,36893138,66638377]
[294,"Templeton                    ",61.14,0,0,0,0,0,0,0,0,0,0,0,0,0,0,0,0,0,0,0,0,0,0,0,0,0,0,0,0,0,0,0,0,0,0,0,0,0,13170.920000000002,4915,8256,13416.833343589547,5085,8332,13837.16,5212,8632,0,0,0,0,0,0]
[295,"Tewksbury                    ",17.5,33347082,21518968,11930760,35015994.193659998,22768638,12514712,36101824.202872381,23213156,12918858,36695412.811939992,23595558,11758059,1381849,36766196.446410596,23754317,12877110,134769,34573601.27935721,23683428,12251726,65773,796855,34519814.968239993,23924435,12317499,35261727.251350001,24776381,12472939,34626787.82553,25513488,{"$f":"12566614+67376","v":12633990},35271376.15231999,26187077,12727415,34761232.521389998,26940200,12818290,33549032.422599997,26824591,13012055,34900617.062578723,27764062,13119905,34817273.780000009,28182890,13224155,35772861.621506803,29512611,13326215,35851430.130000003,29577430,13326215]
[296,"Tisbury                      ",17.5,2394089,3644342,300736.40000000002,2565498.85,3203874,330733.40000000002,2664557.161478193,3032752,371402.4,2795073.49,2902213,367111.4,43144,2952272.706204785,2990763,402050,0,2875847.00508,2872767,378562,2032,29731,3137805.37,3040803,380594,3467659.8899999997,3144657,395514,3400472.2900000005,3151771,404664,3448541.2399999993,3079391,474255,3757350.99,3164190,593161,3769019.7499999991,3133723,635297,3760490.3019716195,3062266,698224,3990246.73,3288715,709444,3863980.926163726,3187784,719854,4358704.2899999991,3499193,859511]
[297,"Tolland                      ",17.5,0,0,0,0,0,0,0,0,0,0,0,0,0,0,0,0,0,0,0,0,0,0,0,0,0,0,0,0,0,0,0,0,0,0,0,0,0,0,0,0,0,0,0,0,0,0,0,0,0,0,0,0]
[298,"Topsfield                    ",17.5,4607578,3944399,663179,4657195.6704799999,3710245,946951,4725499.3510903148,3656031,1069468,4933644.223199999,3831911,989593,116300,5003494.1629533703,4127543,1083775,0,4814774.8945071595,4174269,1020461,5478,72911,4836646.4862000002,4219482,1025939,4821533.5831799991,4339766,1048739,4793485.8869399996,4387064,{"$f":"1062714+16844","v":1079558},4950981.2964300001,4373961,1093858,4876256.0624799998,4295264,1107808,5219302.4780799998,4362303,1140038,5307497.2466114936,4411689,1157318,5459714.7223999994,4504265,1174628,5789256.4546096604,4709771,1192358,6270046.2603099989,5031835,1239023]
[299,"Townsend                     ",48.6,9892,2331,7561,10849.66,4644,8090,11355.27,5441,8370,11943.49,5490,8704,0,0,0,8530,0,0,0,0,0,0,0,0,0,0,0,0,0,0,0,0,0,0,0,0,0,0,0,0,0,0,0,0,0,0,0,0,0,0,0,0]
[300,"Truro                        ",17.5,1704648,2280388,221476.8,1722060.76,2234440,237453.8,1600608.8736194517,2062541,250249.8,1678407.63,1925541,236768.8,27826,1755899.2957244022,1970181,259303,0,1611078.6274799998,1832624,244155,1311,18512,1679937.99,1758607,245466,1835519.57,1798100,253586,1792085.3099999998,1792085,258486,1788414.01,1609573,277556,1879850.1199999996,1621100,282481,1912666.2499999995,1596786,315880,2003679.8419243183,1618203,{"$f":"394659-9182","v":385477},1934442.0499999998,1595915,391237,2296521.4702778542,1894630,402446,2296768.69,1894834,402446]
[301,"Tyngsborough                 ",27.16,14979885,8412477,6567408,15541436.869999997,8616640,6924797,16038143.446318682,8917341,7143646,16743697.889999999,9241021,6713664,789013,16627737.4536268,9341709,7352623,0,16055926.01182,9486124,6923083,37166,441174,15581685.049999999,9652634,6960249,16365479.893119998,10162808,7034649,16473614.73,10531483,7080574,16424708.550000001,10954033,7125624,16310112.57,11087277,7169374,15994837.789999999,11008609,7262434,16426722.369211081,11396682,7312774,16125261.67,11397568,7361014,16876605.054087967,12035384,7409074,17653818.739999998,12650386,7409074]
[302,"Tyringham                    ",17.5,221575,466915,30873.599999999999,217685.02,326528,32323.599999999999,242227.8797746044,303598,36618.6,211474.7,266822,37968.6,0,221493.48244210528,260037,37209,0,250239.19739999998,250313,35721,0,0,241848.72,244240,35721,258128.17,247395,35721,251901.56999999998,248608,35721,249461.65000000002,224515,38498,249733.64,219336,38498,225957.46000000002,192376,38498,234931.13370609152,194462,40469,251821.94999999995,202533,49289,295787.37665969401,244025,51836,321152.71999999997,264951,56202]
[303,"Upton                        ",25.33,9988,4028,6880,11197.585239999999,4809,7349,46690.898399999998,20600,26091,24535.137620000001,10563,24535.137620000001,0,25382.203100478469,11203,24044,0,49251.668457600004,23544,25708,0,0,12582.467449999998,6272,12582.467449999998,26250.526239999996,13295,12956,39954.317999999999,20706,19248,40041.258719999991,21792,19248,27007.727760000002,15988,19248,52683.680000000008,34232,19248,53667.33337435819,35821,19248,110697.28,75315,35382,129346.17529818021,89703,39799,87946.800000000017,63657,39799]
[304,"Uxbridge                     ",36.409999999999997,15694459,7254008,8978422,16305919.27,7699224,9271984,16540051.93015206,8083909,9377789,17120711.660000004,8646597,8631945,1014457,17477190.309787564,9596633,9453474,0,17147339.203259997,9663507,8901203,47786,554635,16877042.539999999,9962236,8948989,17330083.23,10285734,9025989,17729556.77,10515859,9074414,18066543.430000003,10926419,9122764,18526071.940000001,11067180,9171114,18410939.780000005,10786060,9275834,18455125.454438496,11060991,9331904,18397204.830000002,11363380,9385304,19102321.172340635,11756863,9438614,19464063.84,12445154,9438614]
[305,"Wakefield                    ",17.5,24912170,24531402,4066920,26617789.348280001,24791745,4365403,28230853.006573763,24914208,4647689,29490621.523280002,25175571,4356193,511955,30299105.328824647,25233915,4770785,294405,29492136.843027599,25278570,4769282,25604,354054,30243376.094500005,25690110,4794886,31226177.075480007,26692542,4962309.7470522504,31777096.588499997,27531423,{"$f":"5111980.28603606+58954","v":5170934.2860360602},31933215.629270006,27532408,5317017.2860360602,32600249.418120001,27898292,5401367.2860360602,34230683.749200001,28386107,5844577,35673992.74237927,29443005,6230988,36359382.278080001,29996491,6362891,37851806.805738397,31170923,6720549,38545137.935350008,31799739,6745399]
[306,"Wales                        ",61.31,1057649,551254,600096.4,1097738.68,542623,623689.4,1214081.5491547664,568369,692029.4,1083615.01,511611,625113.4,73466,1237788.8446468899,562473,684608,0,1290629.74896,586443,690675,3708,9804,1324350.96,599347,725004,1325356.92,604836,730684,1277849.4100000001,602399,734009,1356194.98,645271,737534,1467392.6599999997,661118,806275,1585577.72,646690,938888,1580013.0996064784,594640,985373,1631406.07,654753,990083,1548538.4556649411,599075,994373,1614023.6,613294,1000730]
[307,"Walpole                      ",17.5,26410304,22394550,4500224.4000000004,28924699.423300002,23409707,5514992,31050181.709740832,24570828,6479354,32983538.436549999,25479114,6715227,789197,33992625.661692321,26485132,7354336,153158,32863427.944973391,26734779,7068906,37949,496139,33583986.553500004,27739862,7106855,35385662.980499998,28681277,7325008.0005256878,36597932.707249992,29680601,7446255.7103260532,36833859.746200003,30016055,7542980.7103260532,37317617.441239998,30729479,7638830.7103260532,36843723.371769994,30659945,7848820.7103260532,36969856.911350518,30718767,7961140.7103260532,38230557.63222,31540211,8073101,39185793.937174484,32328280,8182871,39454988.392580003,32550365,8182871]
[308,"Waltham                      ",17.5,38879439,61572349,5965643.2000000002,42761499.772249997,59697543,6645004.2000000002,46074539.537751034,56268437,7224786.2000000002,48110738.181689993,52317305,6817755.2000000002,801247,49403220.555879377,50761236,7466622,0,47912898.078373261,48460847,7030422,37743,519232,50081563.292000003,48664297,7068165,54877131.504830003,50008834,7701998.2533363122,57878574.668200001,51531811,8308686.3317359835,58974377.85684,51151815,9012826.3317359835,62218743.565559998,52507147,9711597,62274785.537900016,51887299,10863166,65721454.701030053,54285104,{"$f":"12031585-595234","v":11436351},70511885.580779999,57308784,13203102,75037559.479823217,60191416,14846143,78968509.286119998,63760767,15541249]
[309,"Ware                         ",66.77,10543852,4213722,7097968,11341610.789999999,4490738,7590105,11984338.616012348,4670870,7988468,12279413.380000001,4853748,7307532,858807,12947330.615364594,4961196,8003012,0,13334594.007599998,5116642,8060271,43271,114410,13217323.799999999,5226096,8103542,13610889.48,5398699,8212190,14182968.479999997,5508648,8674320,14311776.950000001,5575059,8736718,14379106.989999996,5507809,8871298,14839037.079999998,5469680,9369357,14617553.305294422,5149596,9467957,14793547.390000001,5213248,9588570,15862338.797222899,5271105,10591234,15723620.550000001,5305670,10591234]
[310,"Wareham                      ",39.85,26787120,16030344,11226580.000000002,27620251.569999997,16502182,11620568.000000002,28330642.11136163,17161382,11916801.000000002,29713674.899999999,17701346,11178168.000000002,1313698,30323433.981795222,17409106,12242029,672299,29157976.018979996,17518457,12159874,65280,765499,28986212.199999999,17900064,12225154,30086115.449999996,18383155,12345207.138633749,29686081.27,18523807,12416757.138633749,29801464.629999995,18563068,12488232.138633749,30579432.949999999,18285648,12558607.138633749,29850414.400000002,17354464,12708042.138633749,30448305.403478537,17216125,13232180,30391882.289999999,17563012,13308860,30196685.358659841,18151699,13381730,29995900.239999998,18760166,13381730]
[311,"Warren                       ",71.03,538960,185240,353720,702595.73,196083,506513,158055.47,44646,137959,71660.94,20366,71660.94,0,24613.150009569381,7172,70228,0,0,0,0,0,0,0,0,0,0,0,0,0,0,0,0,0,0,0,0,0,0,0,0,0,0,0,0,0,0,0,0,0,0,0,0]
[312,"Warwick                      ",43.56,0,0,0,0,0,0,0,0,0,0,0,0,0,0,0,0,0,0,0,0,0,0,0,0,0,0,0,0,0,0,0,0,0,0,0,0,0,0,0,0,0,0,0,0,0,0,0,0,0,0,0,0]
[313,"Washington                   ",22.85,29389,10836,18553,32548.98,18105,20004,34065.81,20948,20700,11943.49,6978,11943.49,0,24613.150009569381,16085,11705,0,24071.631359999999,16378,11237,0,0,12250.07,9358,11237,25394.420000000002,19302,11237,0,0,0,13004.9,10244,2761,13199.960000000001,10149,3051,13170.920000000002,10882,3051,26833.666687179095,22444,4390,27674.32,22157,5517,28743.594510706713,20897,7847,14657.8,10895,7847]
[314,"Watertown                    ",17.5,19464616,27494743,2500103.6,21408022.994499996,26660901,2840199.6,22755172.082941681,25584736,3182786.6,23442917.806000002,24228635,3119661.6,366634,24506187.214984823,24010035,3416570,0,24666914.422698718,23332261,3216974,17270,246976,25827066.428560004,23433118,3234244,26990163.684909999,23875646,3341524,28042729.455369998,24440387,3928625.9136724374,28744449.526519999,24409669,4334781,26987815.659180008,23909715,4399531,27574866.376769997,23092613,4540881,28658582.599711496,23755394,4903189,29636571.161200002,24450171,5186400,31550834.623976581,25692240,5858595,33148323.506280009,27347367,5858595]
[315,"Wayland                      ",17.5,20528254,22426179,2433825.2000000002,21706401.2687,22177863,2706784.2,22348945.189632639,21508290,3068068.2,23105602.879149996,21557416,3033452.2,356502,23487595.690153036,21787470,3322155,0,22901223.710748963,21497031,3128075,16793,244512,22873243.606079999,21683970,3144868,23638559.356320001,22212916,3250268,24223145.583800003,22634976,3316668,24309849.451349992,21783923,3644813,24601190.323630001,21539908,3710313,24640382.589680005,20643819,{"$f":"4042462+17341","v":4059803},25043290.042167287,20778238,4265052,26378777.201239996,21731959,4646818,27841232.66770371,22568639,5299764,28213341.421039999,23276007,5299764]
[316,"Webster                      ",55.35,15041385,7642041,7399344,16432266.58,8269809,8162458,17755144.59782863,8781928,8973217,18280915.910000004,9216413,8231908,967443,19369599.058311965,9323234,9015364,1031001,19122110.4267,9432847,9503351,51018,541696,19221499.239999998,9741513,9554369,19780303.73,9875242,9905062,20497532.719999999,10176657,10320876,20776506.130000003,10261282,10515224,21401884.859999996,10346397,11055488,22136766.249999996,10147763,11989003,22425991.213709842,10170354,12255637,23346664.300000001,10636864,12709800,24776507.500713076,11062493,13714015,26082448.07,11471908,14610856]
[317,"Wellesley                    ",17.5,31887905,31509960,3170547.2,35128683.6228,32249496,3765942.2,37728351.069279179,33113521,4616898.2,41021667.78360001,34503446,5832738,685484,43474466.332122765,35866435,6387858,1220173,42176324.226688981,36405114,7163571,38457,528228,42989228.138499998,37498680,7202028,45335499.620400004,38747883,7402108,46194904.987919994,39997992,7526408,47297420.926149994,40402136,7789132,48641677.772080004,41171516,7916157,49005990.891000003,40807164,8198827,49446876.963866338,41046916,8399961,51173115.289380006,42217820,8955295,52951270.696678318,43684798,9273504,52873250.972209997,43620433,9273504]
[318,"Wellfleet                    ",17.5,1043179,1587533,123912.4,1024829.69,1362731,134999.4,1014001.08,1199684,147734.39999999999,1017218.98,1111542,141139.4,16587,1114134.5932248805,1172923,154572,0,1206261.3075600001,1220593,145542,781,11899,1181905.93,1149462,146323,1149133.73,1123089,151483,1232950.69,1194924,154808,1240792.6900000002,1116713,176624,1150249.74,993135,179724,1067714.3400000001,892056,185664,1107735.4422992696,917147,190588,1136908.3900000001,937949,198959,1139476.1400684477,940068,202109,1257777.1000000001,1037666,220111]
[319,"Wendell                      ",52.58,0,0,0,0,0,0,0,0,0,0,0,0,0,0,0,0,0,0,0,0,0,0,0,0,0,0,0,0,0,0,0,0,0,0,0,0,0,0,0,0,0,0,0,0,0,0,0,0,0,0,0,0]
[320,"Wenham                       ",17.5,0,0,0,0,0,0,0,0,0,0,0,0,0,0,0,0,0,0,0,0,0,0,0,0,0,0,0,0,0,0,{"$f":"0+8422","v":8422},13282.92632,11679,8422,0,0,0,0,0,0,0,0,0,0,0,0,0,0,0,0,0,0]
[321,"Westborough                  ",19.41,24595216,23154460,2766040.8,26156767.179999996,24071950,3129365.8,27284907.908756465,24682401,3731061.8,28924388.270000003,24976329,3966523.8,466160,29970816.824099522,25527660,4344030,99127,29700461.313299999,25642790,4183588,22459,325510,29045979.329999998,26179724,4206047,30072174.120000001,26844072,4475455.4982209997,31092026.789999999,27788304,4736300.3124719998,31788292.559999999,27852628,5025628.3124719998,32643542.910000004,27945222,5113078.3124719998,33283538.019999992,27451731,5881737,36606246.041138574,28766772,{"$f":"7878155-38681","v":7839474},37382713.520000003,29912840,7951974,39131440.051199019,31441549,8064504,40523119.020000003,32212271,8310848]
[322,"West Boylston                ",22.94,7463040,5272275,2604355,7862835.5099999998,5529064,2737047,8303886.0469139311,5698232,2880036,8764535.4300000016,6056904,2705190,317924,8721965.5391540695,6143068,2962652,0,8556984.7309199981,6224632,2789574,14976,182302,8200894.7400000002,6360524,2804550,8653273.7799999993,6565606,2841510,8616496.2100000009,6706677,2864560,8413020.9400000013,6777592,2886885,8930152.6600000001,6857750,2909285,8692760.0099999998,6831386,2957025,8877321.1119815204,6760095,2982885,9051419.8800000027,6981458,3008415,9510996.4243331663,7267000,3034005,9693716.8899999987,7543146,3034005]
[323,"West Bridgewater             ",33.520000000000003,7087351,6483027,1620335.6,7481921.1700000018,6519525,1739646.6,8080095.9730690857,6637938,1930659.6,8849560.0699999984,6740361,1992175.6,234128,9332740.0692976061,6973221,2181778,177741,9121055.2676399983,6925166,2221676,11927,152991,9407934.3300000001,6966042,2441892,9384522.75,7101110,2550273.4426500001,9746407.75,7107926,2817296.2266937499,9789063.1500000022,6918340,3006077.2266937499,9864782.7299999986,6849766,3031677.2266937499,10285489.059999999,6653790,3631699,10346624.462660685,6795040,3663259,10778968.260000002,7138403,3694909,11563083.632389149,7525433,4058306,12165316.310000001,8009301,4157054]
[324,"West Brookfield              ",47.29,254785,111031,143754,388832.98,151067,237766,328384.52,139713,239116,214016.92,95359,214016.92,0,245136.2421588517,105919,209737,0,251778.78455999997,114004,201348,0,0,231760.61,101090,201348,303706.14,139106,201348,321307.69,147913,201348,233036.45,115505,201348,355331.41999999993,184172,201348,354549.68000000005,186072,201348,507435.69877084321,254467,252969,675281.05999999994,347672,327609,657950.26899632823,345483,327609,656385.84,351215,327609]
[325,"Westfield                    ",57.37,49973231,20368440,29644636,53649787.230000004,21748478,31901309,55203857.608358152,22572618,32840745,57201000.020000011,23301263,30462915,3580110,58064880.787414365,23683434,33362165,1019282,56542890.625020012,24024402,32372885,173792,1986845,56348311.590000004,24659576,32546677,58680126.160000004,25776861,32927874.488096002,59626032.379999988,26817278,33072499.488096002,59091820.839999996,27452394,33214624.488096002,59194723.68,27572737,33353974.488096002,59795241.399999999,26781337,33656694.488095999,60917916.743617475,26596469,34321448,61979381.029999994,27249072,34730309,65007737.903743565,27712077,37295661,65292799.700000003,27986427,37306373]
[326,"Westford                     ",24.78,35723685,24675698,11305202,38818431.875120007,25842739,12975693,40555313.116589576,26531707,14023606,42911329.967289984,27280805,13986752,1643773,44563082.297898509,27807520,15317915,1437647,42723467.157275043,28681127,15776704,84696,1021312,43881686.305879995,29241053,15861400,45585175.226279989,30308996,16064000,45685221.157399982,31603683,16189875,45600413.679659985,32229875,16313850,45124999.36552,33597365,16436625,45233495.410999998,33677123,16706565,46319271.278671294,35059135,16853055,47840867.455200009,36197500,16998615,50292113.17611514,37292159,17144235,49470077.997149989,38573963,17144235]
[327,"Westhampton                  ",27.84,1143015,871506,286065.2,1161647.67,830817,341741.2,1170704.509380162,836402,392663.2,1157514.8700000001,778624,376209.2,44213,1296948.5063349283,829588,412014,55347,1232065.9646999999,806088,440058,2362,28516,1193876.6000000001,823754,442420,1195530.31,868868,447620,1215188.8099999998,921372,450895,1314694.2799999998,956723,454345,1294416.6200000001,964619,457770,1360673,968330,465470,1297572.8942240474,918872,469400,1357190.3900000001,952974,473330,1392808.786186093,993885,477140,1307846.49,960638,477140]
[328,"Westminster                  ",44.58,0,0,0,0,0,0,0,0,0,0,0,0,0,0,0,0,0,0,0,0,0,0,0,0,0,0,0,0,0,0,0,0,0,0,0,0,0,0,0,0,0,0,0,0,0,0,0,0,0,0,0,0]
[329,"West Newbury                 ",17.5,0,0,0,0,0,0,0,0,0,0,0,0,0,0,0,0,0,0,0,0,0,0,0,0,0,0,0,0,0,0,{"$f":"0+33688","v":33688},13004.9,10405,13004.900000000001,13199.960000000001,11094,13004.900000000001,0,0,0,13416.833343589547,11105,2312,13837.16,11416,2421,0,0,0,29315.599999999999,24185,5131]
[330,"Weston                       ",17.5,16162814,20181705,1480949.6,17307605.129800003,19912849,1790525.6,18370485.452483337,19288255,2217818.6,19437327.17588,18964744,2334128.6,274315,20595641.906424958,19452416,2556275,0,20090660.412545517,19197587,2406938,12921,195391,20217500.017579999,19394331,2419859,21125018.31106,19897050,2512979,21575268.311200004,20375359,2571779,21506483.175400004,19355835,2988929,21219806.953260001,18857119,3045154,20900052.866529997,17600265,{"$f":"3299788+17341","v":3317129},21251738.294267315,17672626,3579112,21305867.837200001,17577341,3728527,22508837.582984712,18569791,3949220,22266149.914000005,18369574,3949220]
[331,"Westport                     ",17.5,12968630,9738097,4035010,13865149.07,10429878,4191901,14462425.445800073,11075177,4296424,15502132.710000001,11580866,4007408,470965,15990008.832857417,11793167,4388806,0,15747912.792959997,12196747,4132413,22184,279609,15633780.250000004,12313381,4154597,15649507.84,12625582,4221997,15457275.029999999,12949560,4262947,15286780.110000001,12928118,4303047,14995933.330000002,12876991,4341772,14911266.000000002,12467729,4425482,14885291.294271678,12354601,4470212,15341227.09,12656512,4514672,16245198.777909063,13146344,4559462,16658171.17,13742991,4559462]
[332,"West Springfield             ",58.6,31130339,18106441,13445170,33870575.43,18598514,15272061,35265587.219952904,18707901,16557686,36643826.119999997,18919840,15860056,1863930,38205385.345714822,19265177,17369506,1570702,37738816.076999992,19240559,18143323,97401,797859,38457480.989999995,19599705,18857776,39534882.329999998,20240555,19563826.466162249,40948666.769999996,20335136,20717957.063267998,41551686.519999996,20188627,21363060,42891023.810000002,20277457,22613567,44295065.429999992,20212569,24082496,46379224.347272687,20257037,26122187,48360495.230000004,20291474,28069021,51872243.869854257,20465981,31406263,52593244.399999991,20539659,32053585]
[333,"West Stockbridge             ",17.5,0,0,0,0,0,0,0,0,0,0,0,0,0,0,0,0,0,0,0,0,0,0,0,0,0,0,0,0,0,0,0,0,0,0,0,0,0,0,0,0,0,0,0,0,0,0,0,0,0,0,0,0]
[334,"West Tisbury                 ",17.5,0,0,0,0,0,0,0,0,0,0,0,0,0,0,0,0,0,0,0,0,0,0,0,0,0,0,0,0,0,0,0,0,0,0,0,0,0,0,0,0,0,0,0,0,0,0,0,0,0,0,0,0]
[335,"Westwood                     ",17.5,20567480,21740599,2250702.4,22498088.821120001,21936416,2588559.4,24472148.293146249,22175336,3096779.4,25508214.087440003,22412158,3174824.4,373117,26986270.471055556,22996257,3476983,513030,25931255.131285079,23233856,3756916,20169,287878,26758357.153839998,23390650,3777085,28328703.767000001,24138538,4382005.2898062505,28396775.81552,24768521,4528862.9092836883,29096356.715499997,24830260,4725912.9092836883,29539997.822689999,25123982,4803412.9092836883,29301469.672719996,24485112,4971877.9092836883,30014821.710917722,24903789,5111033,30492581.964960001,25156380,5336202,31407909.177556276,25911525,5496384,32201274.010420009,26566051,5635223]
[336,"Weymouth                     ",21.76,51107904,31463668,19644236,54069183.504560001,33009395,21059789,57436766.066748992,35313488,22123278,61362559.405040011,37036094,21768190,2558275,62237990.731232964,37337725,23839936,1060330,62823242.56985008,38124103,22447209,130052,2523813,64565174.840659991,39054922,25510253,67376255.928720012,40341671,27034585,68036042.431139991,41955039,27200610,68999976.990219995,43802418,27366185,69769188.724899977,45695271,27530085,69159899.607649997,47454854,27883625,69172635.260738254,49020130,28071515,69340075.166419998,51161839,28253945,71911345.754917458,54222905,28433225,73265345.799600005,56687928,28433225]
[337,"Whately                      ",18.239999999999998,905765,834822,131052.8,847599.61,747909,172887.8,801658.09440833644,665132,207744.8,828878.44,601232,220473.8,25911,831398.74939712929,581336,241457,8606,770958.84743999992,548156,235454,1264,15670,778131.94,571400,236718,871685.15,643358,240518,1002641.6199999999,761189,247640.0875275,973888.2100000002,773751,250115.0875275,877253.83999999985,745655,252340.0875275,852415.71000000008,714075,256850.0875275,869184.11954740097,720991,259340.0875275,981559.89999999991,785698,262160.0875275,968969.2611512969,792219,264770,904197.0199999999,739905,264770]
[338,"Whitman                      ",53.09,97965,35557,87102,172717.17,52188,126825,180766.01,61318,131107,119434.9,40958,119434.9,0,110759.17504306222,40065,117046,0,167528.0748,60734,112364,0,0,158260.19,58829,112364,189431.25,70715,118716,192367.49000000002,71155,121212,78029.39999999998,29915,78029.39999999998,118799.64000000001,47836,78029.39999999998,118538.28,48874,78029.39999999998,120751.50009230593,51831,78029.39999999998,124534.43999999997,54467,78029.39999999998,143717.97255353359,64098,80336,203601.62000000002,93108,110494]
[339,"Wilbraham                    ",36.58,0,0,0,0,0,0,0,0,0,0,0,0,0,0,0,0,0,0,0,0,0,0,0,0,0,0,0,0,0,0,0,0,0,0,0,0,0,0,0,0,0,0,0,0,0,0,0,0,0,0,0,0]
[340,"Williamsburg                 ",35.020000000000003,1353554,1305103,359184.4,1431625.05,1223519,401047.4,1303227.8492111149,1103460,410847.4,1358267.99,1050677,386941.4,45475,1529284.0745033494,1098680,423768,6836,1588795.8168000001,1185579,405448,2177,27379,1626834.23,1211055,415779,1690611.6400000001,1270564,434689.03882100002,1847447.82,1352484,509920.14508649998,1740594.9700000002,1393645,514620.14508649998,1731396.01,1404042,519245.14508649998,1665309.4700000002,1295778,528925.14508649998,1640814.868103652,1224301,534055.14508649998,1888347.0699999998,1281224,608437,1900770.6075914244,1235134,665637,2006916.64,1291212,715705]
[341,"Williamstown                 ",17.5,2838804,2951735,900860.4,2993564.97,3003582,927943.4,2947485.2032250096,2967122,946993.4,2926746.36,2854443,863644.4,101499,3169486.7944727275,2914408,945841,0,2954221.7637,2820665,890585,4781,59525,2930427.46,2765115,895366,3160940.25,2913200,909926,3339446.0000000005,3057274,919376,3344865.7700000005,2917285,928776,3691422.7599999993,3123894,938701,3780882.2300000004,3127725,960921,3766818.1625702963,3122141,{"$f":"972741-972741","v":0},0,0,0,0,0,0,0,0,0]
[342,"Wilmington                   ",19.96,26946504,24426636,3493482.8,28589474.265000004,24012970,4787472.8,30225618.082184222,23520068,6758866.7999999998,32940341.795039997,22982850,8910320,1047172,33354631.307536971,23083400,9758342,512889,33071492.365163159,22741572,10131715,54392,180399,33089929.46198,23047600,10186107,33475095.871219996,23350005,10653175.75580658,33711449.013840005,24229668,{"$f":"10743100.7558066+58954","v":10802054.755806601},33711949.045720004,24256928,10891329.755806601,33895541.813259996,24840882,10978729.755806601,33396838.325240005,24739359,11167159.755806601,34239954.195590727,25512508,11270329.755806601,34794527.347199991,26550382,11371910,34910848.030844986,27323352,11469170,35336725.314499997,28856084,11469170]
[343,"Winchendon                   ",67.760000000000005,13575447,4042511,9746972,14428042.68,4236403,10353509,14745121.603420299,4352216,10575115,15156933.289999999,4512742,9718917,1142201,16219065.234373206,4477183,10643896,1097986,15672163.269959999,4664700,11055922,59353,669132,15461197.040000001,4686612,11115275,15336037.73,4744751,11177635,14932867.66,4859333,11215085,14667673.109999999,4914309,11251885,14868534.459999999,4931923,11288335,14883842.210000001,4860783,11366930,14578929.593496464,4751326,11408120,15435431.700000001,4871517,11450030,15998737.235770881,5085773,11491100,15745625.66,5282604,11491100]
[344,"Winchester                   ",17.5,25105213,24915091,3131320.8,27686227.761740003,25368782,3582998.8,30248338.701930307,26104922,4143417,32130973.606599998,26921385,4661726,547863,33869183.152500734,27942076,5105397,821710,34209062.642022774,28412977,5684874,30519,312514,35352719.397000007,29111601,6241118,37274561.601149991,30107863,7166699,38667213.748349994,31202716,7464498,39564443.627320006,32332932,7572048,40749515.511779994,33648454,7680548,41694755.431160003,34474073,7924363,43175541.000589445,35662566,8058883,46376139.481770001,37332874,9043265,48242100.959599502,38833443,9421254,49895727.543140002,40278256,9617689]
[345,"Windsor                      ",17.5,19593,9317,18987,43398.64,22696,30997,79486.89,46037,50091,59717.45,33889,50341,0,49226.300019138762,30072,49334,0,48143.262719999999,30554,47361,0,0,98000.56,57428,47361,88880.470000000016,53746,47361,90258.14,59063,47361,91034.3,66927,47361,39599.880000000005,33367,39599.880000000005,26341.840000000004,22244,26341.840000000004,26833.666687179095,22290,26341.840000000004,41511.479999999996,34247,26342,71858.986276766795,59284,26342,58631.199999999997,48371,26342]
[346,"Winthrop                     ",28.36,14203032,10524171,4649575,15189263.146560002,10737357,4843961,16040450.497654758,11241167,5042458,16653713.865099998,11482366,4639322,545229,17547573.530765843,12509487,5080860,0,16947233.724507775,12482874,4784037,25683,318165,17937168.698699996,12779319,5157850,18416072.0348,13141365,5274707,19449615.869399998,13466250,{"$f":"6026961.59606301+25266","v":6052227.5960630104},19874501.94588,13576177,6298325,19501001.633919992,13757564,6346975,19355380.740320001,13740113,6450815,20873787.706656512,14619405,6509855,22361612.680800002,15285867,7075746,23351887.112957381,16010984,7340903,23537383.711800005,16793461,7340903]
[347,"Woburn",17.5,34930602,37657788,4733852.8,37332334.363359995,38094517,5154155.8,40314036.275784098,38276911,5788495.7999999998,42494196.208999999,37749504,6002692.7999999998,705458,43397769.300633483,37761424,6573988,0,43013306.744314127,37654434,6189936,33230,468697,44725938.827559993,38469627,6256312,46091897.869999997,39862499,6819375.0867005,47182460.705740005,40697687,{"$f":"7323850.03757165+16844","v":7340694.03757165},48695159.223999999,40727571,8202269.03757165,49230530.561499998,41631275,8321994.03757165,49930543.991250016,41567504,8583684.03757165,50380963.059562519,41884963,8724234.03757165,51790238.039180018,42726946,9063292,53841305.779622279,44419077,9422229,54604897.586800009,45049041,9555857]
[348,"Worcester                    ",72.180000000000007,233243474,72184115,161059359,242782324.40000004,77309187,167480913,252522466.45670471,80540711,174025314,262175701.59,83762339,161512435,18981512,274595072.36176842,81810677,176884068,15900327,275818706.70521998,84305903,187838166,1008399,4578055,286908104.64000005,85772826,201135279,298950312.13000005,88586175,210364137,311832464.69999999,91934732,219897733,314854112.86000001,96374700,220569583,329468506.71999997,97927769,231540738,332590291.94999999,97188059,235402233,342886580.84977067,97679398,245207183,353662082.21999997,100450297,253211785,379530589.18986362,104076553,275454036,382606983.73000002,105210987,277395997]
[349,"Worthington                  ",17.5,156820,105031,69958,108496.6,89804,70458,113552.7,89058,72331,95547.92,69044,72731,0,73839.450028708146,58793,71276,0,60179.078399999999,50743,60179.078399999999,0,0,49000.28,61740,49000.28,101577.68000000001,101578,49000.28,103152.16,103152,49000.28,181016.85000000003,161882,{"$f":"49000.28+144899","v":193899.28},1164871.5999999999,939802,225070,1206120.8500000003,969030,237091,1160346.2789760442,967158,240361,1138991.4000000001,939668,243571,1201024.652987523,968704,246841,1374749.7299999997,1018495,356255]
[350,"Wrentham                     ",17.5,8108218,4773537,3446005,8536881.8352199998,4905786,3631096,8611109.7637538575,5032071,3688296,9026427.3732400015,5280507,3413547,401172,9476432.1319100633,5747185,3738425,0,9107308.40131188,5781211,3520026,18897,227952,8997163.6104499996,5880789,3538923,8996680.8980999999,5899004,3581123,8892422.6601499971,6253155,3606873,9069999.5540800001,6555043,3632823,8534196.4301100001,6762850,3656773,8711771.7903999984,6915585,3709903,8596118.8600556906,7106012,3737593,9153991.6259199996,7552043,3765913,9200581.1460926738,7590479,3793153,9053868.8087499999,7469442,3793153]
[351,"Yarmouth                     ",17.5,0,0,0,0,0,0,0,0,0,11943.49,9336,2607,0,24613.150009569381,19848,2555,2210,12035.81568,10055,4574,0,0,12250.07,10608,4574,12697.210000000001,10850,4574,0,0,0,0,0,0,0,0,0,0,0,0,0,0,0,0,0,0,0,0,0,0,0,0]
[406,"Northampton Smith            ",17.5,1567616,1276116,738533.6,2025133,1468568,875376.6,2278216,1708914,947960.6,2111565,1581883,854264.6,100396,2146693.9467942584,1617583,935567,0,2230337.8020000001,1765084,880911,4729,53277,2070902,1658734,885640,2229442,1757745,890560,2020055,1627859,893210,1764814,1447978,895485,1980086,1655651,897910,2177668,1807196,903575,2248554.7171424888,1863952,906755,2391969.2199999997,1973375,909905,2535730.135235467,2072723,913025,2690854.48,2219955,913025]
[600,"Acton Boxborough             ",17.59,20024105,16885593,3138512,22506705,17791669,4715036,23994743,18369316,5625427,25793437,18940607,6132157,720673,26931634.808038283,19569628,6715773,646234,26278547.039999999,19800807,6931919,37214,467099,26873147,20359612,6969133,27636880,20909979,7124121.5619999999,{"$f":"28337812+3710701+20514396","v":52562909},{"$f":"21701014+3337251+15117599","v":40155864},{"$f":"7198421.562+1320503+5594326","v":14113250.561999999},52422543,40290368,14254475.561999999,52599957,41315952,14393075.561999999,52547574,40653492,14696070.561999999,53421566.907991789,42045809,14859360.561999999,55170323.107940018,43056913,15022441,57507919.285240643,45085137,15185311,57745972.612679996,46230356,15185311]
[603,"Adams Cheshire               ",62.28,13106574,3602054,9630920,13377962,3796726,9810525,14106031,3891220,10299351,14355783,4039739,9363751,1100461,14762561.506602872,4503688,10254928,3946,14205800.124,4515273,9659551,51857,585716,14489416,4653780,9835636,14848664,4798921,10049743,14525980,4882095,10085868,14419594,4988650,10121468,14523439,5160616,10156418,15296780,5502583,10234243,15055572.515187521,5538278,10275553,15232490.400000002,5717786,10316023,15617632.338179186,5891351,10354753,15339849.779999997,5843907,10354753]
[605,"Amherst Pelham               ",26,15073351,7265229,9343785,15860056,8312731,9689857,16118464,8736670,9793582,16270720,8932603,8844227,1039405,16430082.97033493,10908954,9685959,0,15978763.512,10987020,9120106,48961,560042,15588078,11132046,9169067,15882762,11359856,9233467,15889254,11667688,9272992,15504219,11484398,9311217,15834018,11664726,9349517,15535447,11457106,9431797,15847416.836753655,11645169,9476496.999999553,16044645.359999998,11852511,9519487,16548734.048677344,12082979,9561457,16921238.979830787,12834959,9561457]
[610,"Ashburnham Westminster       ",48.37,16693060,7990286,8905601,17725876,8610748,9391438,18827304,8914333,9934552,19657064,9471071,9246935,1086732,20747434.319617227,10251619,10126994,368821,20412503.039999999,10455439,9882650,53054,619686,20584849,10676599,9935704,20759601,10923476,10026904,20785812,11067299,10083104,20944478,11060794,10138704,21651624,11097471,10554153,21190453,11043254,10675483,21596182.828853481,11367955,10741723,22810309.799999997,11550868,11259442,23747271.339990951,12136491,11669561,24646397.09,12303561,12361170]
[615,"Athol Royalston              ",69.430000000000007,17339154,518662,16820492,17708359,623845,17084514,18516080,678872,17837208,19014821,720901,16370053,1923867,18226670.661818184,2067242,17928042,0,17923395.240000002,2103961,16880687,90623,1004932,17935653,2172893,16971310,17818204,2286653,17043590,17517520,2367862,17086740,17539155,2500939,17129715,17879139,2687482,17172640,18244828,2897520,17267570,18603786.772762485,3090653,17319440,19486246.010000002,3220286,17371580,20420115.158179153,3408285,17423570,21729158.719999999,3616401,18112758]
[616,"Ayer Shirley",34.49,null,null,null,null,null,null,null,null,null,null,null,null,null,0,null,null,null,16872486,9799433.7010924481,7802151,41885,487764,16879384,9899773,7844036,17419519,10045000,7915436,17689265,10457924,7959611,18020997,10736761,8003886,17776166,10841421,8047361,17539418,10906245,8144051,17859764.734966867,11291639,8197181,18209773.010000002,11893424,8249321,19201202.775432397,12571064,8301431,19068236.100000005,12820462,8301431]
[618,"Berkshire Hills              ",17.5,8878410,10098842,2672816.7999999998,9250332,10102954,2737902.8,9395655,9910102,2793902.8,9799535,9631380,2563329.7999999998,301252,9958320.0275598094,9695771,2807290,0,9969549.1140000001,9487659,2643288,14190,177387,9915801,9513236,2657478,10178607,9534109,2700038,10635683,9671358,2726838,10662018,9324675,2753513,10878643,9349872,2780663,11414759,9456019,2839128,11592012.389038036,9603359,2871498,11863555.439999999,9773550,2903088,12066016.316021007,9920455,2933388,11846383.439999999,9773266,2933388]
[620,"Berlin Boylston              ",17.5,2881502,2980030,790482,3230183,3023460,851501,3463889,3187414,892400,3734852,3255818,840984,98835,3848242.2752153119,3256016,921023,0,3748889.16,3345125,867217,4656,59925,3766444,3420481,871873,{"$f":"3871973+250741+384591","v":4507305},3391112,{"$f":"888833+78723+56292","v":1023848},4631328,4040189,1036398,4817370,4122172,1049323,5052434,4334259,1062648,5023757,4202073,1091688,5247616.0529560801,4352079,1107888,5654505.5700000003,4534769,2111104,9927446.3516566418,8048259,2139724,10107518.1,8212670,2139724]
[622,"Blackstone Millville         ",51.98,15426759,5876193,10378194,15675653,6231925,10509983,16290966,6659559,10845267,17163606,6723921,10139052,1191577,17821603.166315794,7213787,11104016,0,17631668.597999997,7334869,10455320,56129,643892,17725268,7567852,10511449,18008630,7894508,10589769,17925439,8081231,10637619,17804636,8183978,10684594,17580139,8234791,10729594,17055908,8133559,10826779,17728142.592629228,8280761,10880269,18045228.880000003,8455406,10932919,18718435.629910786,8774546,10985239,19305133.509999998,9159231,10985239]
[625,"Bridgewater Raynham          ",37.43,40912576,21884965,19283254,41935929,23349196,19665067,44782550,24739437,20734543,47098996,25851193,19340030,2272909,48428019.06526316,27952831,21180680,0,47983788.083999999,28495798,19943306,107065,1272209,48390610,29073200,20050371,49427213,30075604,20269571,49488995,30660371,20403671,49690981,31221396,20536596,51489038,31846579,20671771,51178987,31816877,20968661,52866849.261870295,32583398,21132011,54041579.230000004,34169692,21293351,57734650.603288382,35678127,22061362,59327586.659999996,36619588,22716693]
[632,"Chesterfield Goshen",36.549999999999997,1195209,674787,646741,1312143,731037,711347,1277283,717531,719547,1377086,699752,691531,81271,1450752.9125358853,732969,757346,0,1401680.358,744562,713102,3828,44616,1350534,753143,716930,1413142,785219,723330,1413824,797176,727230,1269753,783121,730880,1290268,795911,734280,1239669,767824,741100,1195139.8127151553,763068,744760,1273267,786037,748510,1171005.0238210852,742974,751930,1184019.3600000001,774310,751930]
[635,"Central Berkshire            ",38,16411075,9277515,7747832.0000000009,17068928,9492361,8092876.0000000009,17956787,9547848,8550035,18638347,9708028,7991169,939150,18841797.769186605,10035980,8751713,54105,17732901.377999999,10045858,8291382,44512,520024,17880776,10085382,8335894,17613394,10334614,8410334,17159555,10602338,8454734,16974405,10521566,8498034,16927679,10815311,8540559,16389265,10548832,8629219,16770478.528573444,10582972,8677909,17387170.660173871,10650195,8726209.0000004824,17917236.795122694,10887646,8773249,17769137.719999999,10821874,8773249]
[640,"Concord Carlisle             ",17.5,9779664,11276561,1482929.2,11043068,11833214,1704025.2,11535486,12039761,1798430.2,12261008,11881005,1722913.2,202483,12736972.591770336,12027622,1886888,0,12226662.599999998,11610510,1776656,9538,132844,12055418,11452179,1786194,12584072,11667076,1836274,12876490,11748056,1867899,13172186,11470046,2020931,13659882,11719574,2053456,14101517,11779839,2321678,14235386.188628448,11805585,2429801,14677154.57313,12108652,2568503,15326809.636647012,12636179,2700821,15698387.201840004,12951170,2747217]
[645,"Dennis Yarmouth              ",17.5,31552699,26916269,6323844,31921636,27640649,6521044,32866009,28181902,6712794,33929083,28230096,6176777,725917,34720683.78947369,29362682,6764640,0,33550155.035999998,29272877,6369450,34194,452946,33188220,29829472,6403644,34159114,30421379,6543564,34997479,31287824,6631289,34668834,30189585,6718014,35460503,30284637,6803239,36706251,30483143,6993814,36833288.857110716,30597193,7095664,38305323.740000002,31508282,7197874,40299027.11670664,32486327,7812700,40772315.190000005,32996593,7812700]
[650,"Dighton Rehoboth             ",36.46,23502323,12171196,11331127,25227557,13220377,12078498,26488176,14032590,12595982,27834400,14867498,11760784,1382169,28579093.545645937,15934995,12880094,0,27227094.57,16519761,12127640,65106,766523,27435686,16943069,12192746,28588235,17614915,12315946,28145868,17936311,12390171,28150365,18051150,12463021,28723483,18028977,12536246,29000399,17773340,12696956,28781591.615531329,18150262,12783266,30099135.230000004,18922107,12870026,31540121.095252328,19831231,12956936,31470516.579999998,20472580,12956936]
[655,"Dover Sherborn               ",17.5,7739997,8275872,1191754.3999999999,8206331,8468634,1273362.3999999999,8844812,8708826,1385096.4,9304310,8639071,1311389.3999999999,154119,9990853.0587559827,9006852,1436198,0,10131211.535999998,9255639,1352295,7260,106168,10389452,9537204,1359555,11120543,10202046,1408555,11227795,10290387,1438730,11333898,10098983,1629376,11580014,10114738,1659576,11702650,9794356,1908294,11848628.162153138,9800905,2047723,12427515.957589999,10244725,2182791,13018705.445376281,10740432,2282394,13502936.345999997,11139922,2363014]
[658,"Dudley Charlton              ",53.42,30449329,9274397,21174932,32233347,10252229,22188433,33797564,11029311,23069087,36110116,11697527,21845257,2567332,36777726.03406699,11966621,23924337,886768,35729459.82,12287043,23361642,125416,1429447,35694097,12669036,23487058,36205278,13079319,23647098,36078034,13510547,23744648,36713400,14006333,23842023,37460711,14629068,23938773,37500027,15535167,24151183,37720695.5316194,16113609,24265243,38840211.679999992,16771540,24378193,39553020.497260436,17196696,24488263,39294595.160000004,17806070,24488263]
[660,"Nauset                       ",17.5,13094670,13143058,3212073.2,13492342,13864524,3298923.2,13240289,13643131,3379473.2,12973291,12791886,3090604.2,363219,12824763.657799043,12606630,3384747,0,12466861.355999999,12161887,3187010,17109,216203,11987364,11783104,3204119,12271544,11841626,3256279,12583436,12006085,3289004,12650853,11365672,3321529,12867301,11188533,3353354,12935106,10790864,3421279,12490516.601979394,10380459,3456769.0000003548,12759247.84,10525994,3491269.0000003548,13781730.292193582,11296893,3526849,13928035.579999996,11407465,3526849]
[662,"Farmington River",17.5,2207961,2145103,375505.6,2244629,2179857,389405.6,2032717,2125018,401955.6,2101262,2056801,370690.6,43565,2272476.6989473687,2094866,405970,0,2284470.102,2094019,382253,2052,28215,2507654,2157223,384305,2477293,2210649,394745,2381535,2239793,400995,2333265,2082363,407070,2496034,2114411,413420,2464478,2057324,427060,2368941.0110670594,1978521,434200,2470961.3200000003,1982431,488530,2310316.8825038802,1903782,494950,2289345.04,1877720,494950]
[665,"Freetown Lakeville           ",32.31,13524454,7948805,6460005.0000000009,14519330,8906388,6832785.0000000009,15553549,9668371,7200036.0000000009,16583275,10105484,6769499.0000000009,795575,17047222.562296651,10617731,7413773,0,25704555.482000001,16324122.86063578,10304430,55318,621851,25567244,16827381,10359748,26403268,17241340,10478788,26716909,17493884,10552138,26295108,17518350,10623488,25836232,17647952,10692488,27153763,17863322,10849513,26949047.128918782,17944798,10933153,28557208.850000001,18586174,11018173,29471189.782152213,19374781,11102173,30420774.669999998,20383874,11102173]
[670,"Frontier                     ",18.97,5418605,3086349,2650507,5733999,3534975,2746608,5983480,3789925,2814392,6338406,3919060,2608966,306615,6166668.8979904307,4548404,2857269,0,5993205.5159999998,4594579,2690347,14443,168829,5922687,4614585,2704790,5890106,4643352,2729670,5648702,4748410,2744045,5716411,4750289,2758445,5662972,4785017,2772595,5886720,4852262,2804715,5732224.0889145313,4635171,2821244.9999998347,6131417.1100000003,4934660,2838225,6490224.3564851899,5195546,2855535,6668350.6099999994,5440174,2855535]
[672,"Gateway                      ",45.77,10512746,5273227,5377752,11307523,5576855,5817025,11430685,5636748,5921631,11453179,5658310,5356783,629548,11448115.732822968,5871665,5866604,0,11136859.595999999,5975739,5523878,29655,343896,10684938,5977311,5553533,10913250,6024049,5598773,10501988,6111205,5625873,10475106,6121175,{"$f":"5652523-144899","v":5507624},9565466,5566378,5531374,9151021,5435268,5580489,9186465.9257388338,5185242,5606889,9373307.580093734,5155696,5632899.0000002598,9819284.5359783657,5242416,5658699,10053035.289899468,5377560,5658699]
[673,"Groton Dunstable             ",17.61,19963557,10573496,9690045,22069166,11478206,10590960,22567813,12305992,10757109,23533501,13095797,9914811,1165224,23587738.32880383,16063245,10858434,0,22939192.446000002,16429914,10224085,54888,648086,23308786,17069512,10278973,23452027,17673118,10384573,23574679,18322278,10449473,23421974,18828192,10513273,23366261,19288600,10575673,21908747,18375113,10706573,22374529.724943254,18540836,10778123,23046297.120000005,18825814,10849343,23962885.117804695,19528829,10920053,24034914.079999994,19807347,10920053]
[674,"Gill Montague                ",51.61,9776132,4890426,5898325.9999999991,10362291,5144962,6225636.9999999991,10629600,5170843,6375222.9999999991,10694903,5178227,5756498.9999999991,676524,10705697.249377992,5206242,6304363,0,10709037.408,5230945,5936062,31867,364384,10890170,5322669,5967929,10709407,5432442,6010369,11221184,5642595,6037994,11383341,5825645,6065444,11391876,6028359,6092669,11388880,6051487,6152674,11605184.313327502,6037197,6185014,12227502.840000002,6132607,6217984,12729673.495022506,6160944,6568729,13224252.970000001,6123497,7100756]
[675,"Hamilton Wenham              ",17.5,14468765,11376222,3164291,15069063,11961487,3269343,15863562,12603727,3408380,16231350,12979612,3137455,368725,16539445.386411486,13759009,3436056,0,16099995.413999999,13883368,3235322,17369,231115,15671050,13956082,3252691,16304849,14293365,3325691,16257548,14512213,3370416,15726746,13965278,3413341,16707535,14120458,3457966,16651753,13827676,3554656,16696408.934955347,13868580,3606706,17608636.820320003,14365369,3659746,17895419.978166122,14618380,3711406,18910528.193439998,15169999,3742189]
[680,"Hampden Wilbraham            ",32.85,27186575,17817946,9591950,28628962,18371310,10257652,29666356,18507813,11187984,30302280,18629304,10514180,1235664,30835123.285741627,19103251,11514847,217025,29974196.813999999,18956605,11046497,59302,714898,30318463,19431538,11105799,30471568,19904990,11241439,30267610,20416003,11323964,30372595,20400941,11405264,29954423,20917022,11483814,29402188,20490243,11651894,29683317.843047649,20807570,11742374,30100033.420000002,20633481,11831384,31472652.18943473,21135655,11920364,31697327.079999998,22048457,11920364]
[683,"Hampshire                    ",31.3,6298064,3937642,2426572,6805484,4138583,2676375,6739463,4154095,2812809,7281652,4261680,2743722,322452,7552394.2032535886,4295649,3004851,251894,7104748.4820000008,4238418,3066486,16462,194072,7166323,4430064,3082948,7159285,4518959,3114108,7221048,4622819,3133233,7159547,4689344,3151983,7223607,4822063,3170333,7226816,4870971,3210153,7135055.1371439751,4768992,3231273.0000002114,7177310.4399999985,4802721,3251703.0000002114,7292664.1560150869,4957708,3271593,7581893.040000001,5141694,3271593]
[685,"Hawlemont                    ",49.97,1068768,490624,613734.80000000005,1007233,489631,620084.80000000005,935837,424000,625634.80000000005,977501,437137,582347.80000000005,68440,1015177.688803828,455789,637772,0,943708.38599999994,475782,600513,3224,36635,852740,451986,603737,880128,468192,607377,950613,539883,609827,933646,531341,612202,950854,532283,614527,966196,536672,619422,948610.29681259417,528435,621882,1319629.0000000005,686073,633556,1194591.6655308905,597682,636346,1210178.3199999998,645856,636346]
[690,"King Philip                  ",20.73,14979166,8734642,6244524,16295851,9507703,6788148,17396805,10500808,7139022,18770909,11301852,6776559,796405,19266152.972248808,12421086,7421505,0,18766472.316,12655997,6987941,37514,450050,19491490,13489687,7025455,20106153,14008919,7113575,20756038,15085093,7169225,20668060,15441355,7224100,20796265,16339640,7278450,21464344,16747910,7399780,21686949.863603115,17288364,7465059.9999993471,22108494.793599997,17573207,7529320,22968588.71954523,18207740,7592980,22821189.415249996,18216801,7592980]
[695,"Lincoln Sudbury              ",17.5,11315184,11075410,1787678.4,13657169,11726968,2197526,14669142,12512472,2374621,15512737,13029848,2256999,265251,16180111.874449763,13524542,2471805,183765,15640388.226,13606478,2500432,13423,182915,15881721,14058638,2513855,16550937,14522938,2609494.7437499999,16660368,14759478,2686012.1578124999,17538177,15255513,2820121.1578124999,17586404,15195939,2862021.1578124999,17527242,14585219,2953706.1578124999,17315388.091420949,14392659,3002696.1578124999,17438816.760160003,14387024,3051793,17865441.864525706,14738989,3127363,17971715.490000002,14826665,3145998]
[698,"Manchester Essex",17.5,8366673,9103515,1375984,9141258,9202986,1511536,9630975,9237772,1597236,10323403,9323664,1537696,180715,10893473.5984689,9499354,1684043,0,11219611.109999999,9669672,1585661,8513,123169,12153403,10046472,2106931,13132240,10490205,2642035,13658346,10881653,2776693,13572189,11221647,2813718,13636380,11449215,2850168,13222782,11043112,2926838,13044522.634690613,10860009,2967368,13504654.921019997,11094289,3007748,14371784.479899097,11738511,3048668,14540612.442779997,11993491,3048668]
[700,"Marthas Vineyard             ",17.5,7093516,6601054,2673935,7932850,7970360,2820735,8068434,8233407,2861785,7978454,7784419,2596397,305138,8027782.3081339709,7579454,2843504,0,7689159.2280000001,7354264,2677387,14373,170469,7459791,6982300,2691760,7821993,7071878,2720400,8027352,7261038,2738625,8168795,7068505,2756975,8315537,6895864,2775225,8366347,6863098,2814000,8775465.4854839947,7160292,2835120,8807318.8500000015,7199058,2855370,9542318.3659465611,7809437,2875680,10520255.699999999,8507902,2875680]
[705,"Masconomet                   ",17.5,15318665,11142823,4419317,17202789,12854203,4773155,18048378,13991386,4933394,18669125,14530501,4520949,531318,19727906.272153113,16061599,4951222,0,18612164.453999996,16036618,4661972,25027,317398,18928100,16514464,4686999,19357735,16963367,4770799,19715478,17420377,4823099,19907859,17251458,4875399,19398726,16836310,4925724,19430987,16230896,5034459,18987857.036568414,15814213,5090919,19183372.217599999,15826282,5146299,19848020.362871911,16294823,5201349,19718785.499960002,16147421,5201349]
[710,"Mendon Upton                 ",24.98,17625772,7917147,9708625,19301063,8448890,10852173,20644958,8956960,11687998,21996366,9449432,11227445,1319489,22672457.180478469,10147020,12295995,229442,22132247.579999998,10574513,11793702,63314,734621,22155000,11066163,11857016,22015006,11315699,11954456,22375411,11860177,12014831,21900366,12299101,12074206,21475634,12907063,12131581,20452434,13459709,12253186,20207384.356621977,13867755,12317476,21244024.41,14784122,12382726,22449446.899046388,15888903,12448756,22739749.350000001,16799739,12448756]
[712,"Monomoy",17.5,0,0,0,0,0,0,0,0,0,0,0,0,0,0,0,0,0,0,0,0,0,0,17110771.399999999,16296303,2384540,17569657,16140983,2460460,17319106,16031006,2506360,17618966,15518373,2708296,18464076,15720020,2755146,19086298,15841935,3244363,19283171.949603103,15996456,3300373,20057741.48,16512901,3544840,20829711.826521438,17031398,3798314,21026943.91,17347229,3798314]
[715,"Mount Greylock               ",25.66,4676875,4597031,1666950,4791177,4533455,1699377,4697972,4234702,1727227,4870291,4171647,1590024,186865,5038820.6667942591,4176618,1741351,0,4954695.6780000003,4130699,1639621,8802,106828,4795752,4018167,1648423,4847655,3957893,1668783,4713594,3902934,1680908,5049227,3998439,1693808,4887694,3824463,1705983,4960436,3813364,1733153,5175933.9315482499,3845508,{"$f":"1748153+972741+768543","v":3489437},10983817.570000002,8251697,3521567,11569192.327752113,8401578,3554057,11284468.84,8495288,3554057]
[717,"Mohawk Trail                 ",39.5,10399815,5552327,5972084,10269301,5648614,6034784,10605776,5769493,6204233,10359333,5721445,5603580,658553,10590789.40784689,5820331,6136890,0,10304179.638,5807577,5778373,31021,355446,10123559,5977059,5809394,9875049,6107017,5850194,9444879,6294792,5874244,9300413,6365060,5897844,9310511,6523226,5921294,9915353,6433157,5973434,9838051.3509327304,6364738,6001454,10008929.639999999,6399727,6028994,10650334.810213417,6438287,6056894,10427668.720104279,6461323,6056894]
[720,"Narragansett                 ",59.08,11727704,2977580,8750124,12694975,3200990,9493985,13440494,3363034,10077460,13890162,3558412,9267025,1089094,14047951.990813399,4510425,10148997,0,13273695.708000001,4548674,9556093,51301,579303,13213993,4564055,9607394,13537728,4721311,9664194,13335812,4863858,9698544,12841231,4967494,9731269,13170587,5169393,9764044,13256830,5303181,9834774,13504485.349651586,5366791,9873894,13898169.749999998,5553556,9912744,14647552.849426208,5831335,9951444,15197160.489999998,5910692,9951444]
[725,"Nashoba                      ",21.35,21474489,17977668,5332822.8,23697784,19133543,5871971.7999999998,25411849,20274365,6289003.7999999998,26805348,21157439,5911057.7999999998,694688,28088852.89033493,22132725,6473631,0,27791843.604000002,22306466,6095442,32723,426391,28345672,22733730,6128165,29407907,23699381,6330455.0653249994,29650929,24483221,6411680.0653249994,29833754,24514579,6492305.0653249994,30925691,25002991,6574230.0653249994,31260414,24600261,6756060.0653249994,31083245.77955449,24524720,6852150.0653249994,31883434.353059992,24892165,6991269,32964566.540986888,25692699,7273744,33255128.344112549,26177398,7273744]
[728,"New Salem Wendell            ",47.59,1009815,579782,602215.19999999995,1068078,538560,635233.19999999995,1119947,538342,663419.19999999995,1108280,538661,599333.19999999995,70436,1124015.5376076559,570244,656374,0,1039961.19,627734,618029,3318,37952,1102692,649363,621347,1136073,642537,626107,1171083,681574,629007,1217420,707520,631982,1255062,711713,635007,1416772,739591,677181,1424931.186973576,745274,{"$f":"694961-13670","v":681291},1262167.6700000002,672920,684861,1230159.2284731646,644109,688101,1245264.42,622259,688101]
[730,"Northboro Southboro          ",17.5,9277131,7604912,1700728,11057753,8704773,2352980,12033372,9631771,2591421,12946742,10026161,2613440,307141,13338720.275598086,10464106,2862169,12445,13069614.491999999,10623654,2706679,14531,189279,13569441,11147301,2721210,14179585,11573173,2838863.6458749999,14882231,12443854,2876913.6458749999,14903362,12767292,2914613.6458749999,15041278,12932868,2951913.6458749999,15182003,12730046,3034083.6458749999,15250791.830538824,12690623,3078273.6458749999,16210848.68,13373950,3123514,16651310.611277679,13737332,3168064,16134802.42,13311213,3168064]
[735,"North Middlesex              ",43.61,32397974,13915496,19063721,33499786,15279377,19658038,34412577,15653174,20148846,36029257,16080023,18814143,2211105,36456713.541818187,16064311,20604743,0,34774968.005999997,16111990,19401015,104153,1203025,34052825,16450543,19505168,34577589,16881292,19659168,33991777,17328829,19751668,32881223,17183613,19840443,32371795,17231131,19925993,31685058,17154907,20107493,31435627.826777488,17200693,20203733.000000961,32197040.990000002,17771448,20298593.000000961,33435820.144966502,18529976,20393183,34146333.740000002,19126198,20393183]
[740,"Old Rochester                ",24.39,8705281,7603741,1530510,9257160,7909870,1701522,9923961,8215414,1954417,10120297,8156604,1890481,222176,10028263.973971292,8036971,2070404,0,9726308.7780000009,7998372,1949451,10466,138637,10036210,8109683,1959917,10099046,8089994,2124850.6151999999,10378205,8357878,2238124.4918999998,10659228,8277118,2382613.4918999998,11419777,8704098,2715679,11377043,8557549,2819494,11640017.384192124,8739091,2900926,11899255.350000001,8889101,3010154,11988191.8913587,8962996,3043394,12077635.709879227,9154169,3043394]
[745,"Pentucket                    ",27.18,22757511,10704624,12362390,24589511,11578381,13099037,24625431,12223789,13258787,25233854,12938684,12077530,1419394,26043317.600765556,14358256,13226986,0,25398255.107999999,14404858,12454267,66860,782234,24895122,14749468,12521127,25088106,15200680,12635127,24540719,15640639,12703677,24290785,16086295,12770527,23602673,16203424,12834852,22548383,15627476,12968282,22740652.535892259,15945385,13040102.000000719,23352744.289999999,16491919,13111292.000000719,24330802.105539996,17437199,13182092,24591001.459999997,18039518,13182092]
[750,"Pioneer                      ",36.08,7285294,3967896,3857345,7629462,4135816,4031666,7722039,4259679,4078816,8137059,4327512,3981402,300027,8250102.2009569379,4422230,4195800,0,8263519.067999999,4563544,3950682,21209,247084,8098758,4668314,3971891,8564268,4778263,4007811,7994487,4761551,4028736,7816227,4803095,4048786,7481050,4776255,4067561,7219392,4777146,4107161,7406666.4166055983,4744769,4128880.999999783,7354252.5499999998,4872782,4149941,7528912.3458293099,4812665,4170581,7480877.54,4952541,4170581]
[753,"Quabbin                      ",51.36,21479251,5822139,15657112,22828423,6355417,16510059,23457369,6739031,16898056,24154885,7104683,15503658,1822045,24370491.302583735,9043482,16979189,0,23447229.215999998,9241790.7475171536,15987266,85827,973446,22899542,9371400,16073093,22525878,9626834,16170613,22333577,9850748,16229913,21722178,9941651,16286563,22051647,10090036,16342038,22002910,10064723,16463038,21204474.702048939,9931036,16525257.999999378,21914160.40978086,10117115,16587418,21665640.411876366,10317745,16646098,21987482.310000002,10612170,16646098]
[755,"Ralph C Mahar                ",64.73,6412185,2094096,4365173,6917262,2152974,4764288,7718288,2334381,5383907,8079301,2414941,5068672,595688,8102223.5314832535,2701871,5551073,0,7695444.8340000007,2655320,5226780,28060,316133,7780312,2783833,5254840,8048219,2944041,5286040,7625909,2829128,5304190,7705540,2887638,5322215,7640717,2842068,5339690,7427448,2738987,5375880,7313027.7024783818,2601573,5394990,7595605.8999999985,2666288,5413830,7772179.2052953094,2691122,5432010,7840085.4000000013,2752972,5432010]
[760,"Silver Lake                  ",34.799999999999997,13321046,7724834,5693535.0000000009,14290967,8518476,6060844,15151746,9152272,6377611,16633749,9695605,6223582,731417,17042793.321339712,10087324,6815899,139570,17072736.708000001,10313024,6630012,35593,335739,17435883,10508810,6927073,18150262,11017327,7202389.2436499996,19039526,11580385,7571134.5369499996,18899966,11622559,7617506.5369499996,19669150,12263148,7663956.5369499996,20069649,12089575,7980074,20138841.102995191,12153382,8035064,20786645.581067868,12641731,8163253,20683221.322407395,12966860,8215063,20918448.416320004,13276729,8215063]
[763,"Somerset Berkley",46.11,null,null,null,null,null,null,null,null,null,null,null,null,null,0,null,null,null,8934024,6024631.0156340012,3020271,16235,120381,9240084,6119915,3120169,9949356,6253551,3771017.8262999998,10006703,6377384,3795642.8262999998,10050573,6394899,3820117.8262999998,9594365,6056531,3843167.8262999998,10019595,5882456,4137139,10632804.845514916,5777303,4855502,11100397.199999999,5893170,5210007,11820562.719098523,6097432,5723131,12334812.139999997,6312225,6024105]
[765,"Southern Berkshire           ",17.510000000000002,6853294,6969793,1733974,7077639,7054068,1779274,7434729,7019446,1862619,7749803,6862924,1735164,203923,7701585.2769377995,6957008,1900305,0,7684458.96,6952302,1789290,9606,123334,7591122,6997774,1798896,7425917,6948964,1830896,7307651,7007679,1850096,7132076,6413209,1869396,7553559,6368170,1888246,7411694,6160497,1927571,7039960.838086525,5901594,1947431.0000001986,7011413.5700000003,5742395,1966751.0000001986,7823768.9358960092,6244537,1986791,7868392.9199999999,6306994,1986791]
[766,"Southwick Tolland Granville",31.74,12815911,5574268,7241643,13803858,5990969,7812889,14257212,6442013,8037753,14939371,6703364,7499327,881347,15526560.214354068,6881234,8213061,432265,14765244.486,7056511,8140267,43700,503859,16668383,8578921,9431433,16707052,8956864,9503073,16783207,9329641,9546823,16539210,9831214,9588623,16275297,10235762,9628898,16154792,10380318,9715578,15643746.01680854,10452364,9760098.0000004452,15797808.300000001,10650508,9803658.0000004452,16378978.109002503,10967956,9846558,16651613.440000001,10981419,9846558]
[767,"Spencer East Brookfield      ",50.79,16645826,4067456,12578370,17597929,4757111,13106216,18350163,5038864,13522201,19528044,5259510,12767994,1500540,19758448.511387561,5909466,13983163,0,18373741.745999999,6026675,13166267,70682,795214,18885409,6269918,13236949,19620951,6527063,13315389,19752991,6679987,13363889,19886690,6981057,13412164,19202300,7237563,13457639,18292027,7540396,13553834,17851020.249539986,7818739,13601594,17809206.539999999,8048938,13648634,18497944.461317483,8498469,13695254,18621361.77,8878789,13695254]
[770,"Tantasqua                    ",46.34,13580390,7605305,6707029,15046973,8686343,7420522,15970260,9193635,7855113,16430281,9386267,7217816,848263,16633736.353684211,9400405,7904757,0,15980906.310000001,9314281,7442962,39957,462563,16224252,9446479,7482919,16427458,9458186,7547159,17338059,10016205,7602665.309475,17582598,10044332,7701145.309475,18183142,10066601,8116541,18521079,9975508,8545571,18792623.115065213,10112568,8680055,18681754.369813181,10189936,8727575,19884199.797400139,10661347,9222853,20061782.279999997,10777102,9284680]
[773,"Triton                       ",17.489999999999998,24298847,17072630,7792907.9999999981,25952449,18085444,8297753,26566548,19085868,8463498,27588090,19936190,7824273,919536,27881099.599617224,20765902,8568933,0,27238757.220000003,21107766,8068337,43314,535182,26824765,21271799,8111651,26774026,21942837,8226571,26448890,22380186,8295596,25789437,21866153,8362546,25722812,21834988,8428221,24821868,20787254,8564841,24376762.312073089,20355041,8636541,25305209.704000004,20876797,8708421,25527954.966463432,21060563,8777631,26062844.622510001,21501846,8777631]
[774,"Upisland",17.5,2818004,3631100,787574.4,2663328,3211483,806324.4,2717737,2976843,824474.4,2781909,2936509,753921.4,88603,2963440.2602870818,3058634,825674,0,2883583.122,2954241,777438,4174,53162,2947159,2938229,781612,2938330,2789900,795572,2924404,2799531,804072,3060576,2703741,812797,3393222,2857444,821922,3590852,2932767,842602,3842627.4814848243,3031561,854362,4032194.76,3211065,866452,4538258.3027917985,3744064,879292,4423020.3299557688,3648991,879292]
[775,"Wachusett                    ",39.1,48282346,33777538,14580116,51403850,35230245,16173605,54801725,35455524,19346201,58236852,36308065,19622662,2306125,59911476.039043061,37367519,21490211,1053746,59254110.450000003,37595289,21243244,114043,1365920,60601665,38212334,22389331,63034725,39189250,24301041.254999999,63737669,39961275,24731803.504425,63713837,39643665,24988919.504425,65656785,40218460,25438325,65958496,39859181,26385616,67325906.778581902,40480754,26845153,68658655.170000017,40985980,27699197,71271709.733221024,42635066,28647835,73935156.649260655,44374979,29560178]
[778,"Quaboag",61.83,11141894,3567006,7574888,11791190,3881276,7991217,12254851,4136812,8281608,12617536,4373441,8157632,347753,12703713.843444977,4409832,8335277,0,12453350.286,4490234,7848331,42133,479238,13025123,4631357,8393766,12911828,4742222,8447086,13046235,4894859,8479786,13203478,5067470,8512186,13357209,5095756,8544111,13599319,5113624,8615171,14168290.710392267,5082901,9085390,13641132.549999999,5096479,9122230,14192752.457797423,5363869,9158560,14111900.640000004,5557868,9158560]
[780,"Whitman Hanson               ",48.15,30538240,9106058,21432182,32259424,9879380,22380044,33351647,10636667,22947017,35222900,11243141,21457945,2521814,36937606.644976079,12830981,23500164,606462,36853531.943999998,13057622,23339328,125296,749752,36625906,13430108,23464624,37691613,14011112,23680501,38579785,14560975,24018810,38173063,15278470,24120485,38322360,16147370,24219585,38333512,16774824,24436230,38233603.852514476,17627386,24552030,38780823.010000005,18467197,24665460,39870087.686414868,19523939,24776700,40183483.009999998,20355354,24776700]
[801,"Assabet Valley               ",37.299999999999997,8391985,7333682,2477600.4,9303432,7595626,2733990.4,9764859,7625516,2878463.4,9921868,7323853,2679432.4,314896,10283013.364976078,7403603,2934442,0,9970968.1919999998,7231682,2763012,14833,173097,10706516,7640401,3066115,11638299,8079707,3688749.9498749999,11645533,8015009,3773901.0669062501,11767240,7930239,3884226.0669062501,12473207,8071058,4402149,12802558,8119414,4744172,13483457.122205222,8363523,5119934,14604237.100950003,8891580,5712657,15341279.497413153,9400672,5955175,16217721.547997823,10027775,6208186]
[805,"Blackstone Valley            ",38.94,9538740,4657490,4881250,11634064,5661661,5972403,13058784,6650789,6607116,14423992,7306124,6462753,759526,15755118.710813399,8124101,7077833,553185,16047786.84,8574515,7329879,39350,290739,16495490,8881138,7614352,17182760,9269607,7913153,17574009,9547590,8026419,17695720,9764199,8056069,18218330,10300542,8086169,18149119,10436837,8153324,18527694.600344807,10824531,8190134.0000003679,19306561.990193069,11314851,8227334.0000007395,20173355.695973717,11937858,8264744,20447639.179795522,12329585,8264744]
[806,"Blue Hills                   ",32.6,8736268,7619162,3073959.2,10491975,8307024,3600320.2,11368895,8741919,3875673.2,12148540,8967009,3684433.2,433008,12332269.926889954,8910498,4035092,0,12217671.845999999,9020653,3799362,20397,236383,12473226,9088881,3819759,12759498,9108222,3898019.6005500001,13021004,9407988,3973984.1981125004,13656513,9688001,4130304.1981125004,14060446,9823319,4237127,14501647,9816982,4689160,14512296.336987162,9777318,4734978,14654739.316559998,9802331,4852408,15320678.136437576,10064969,5255709,15853872.642718541,10498516,5377315]
[810,"Bristol Plymouth             ",52.28,11388476,4427094,6961382,13514890,5510850,8086042,14637445,6248486,8665617,15904781,6720290,8345601,980805,17087281.950622011,7152445,9139878,794959,17171584.145999998,7555546.2191998027,9422839,50586,492612,17835184,7974320,9860864,18840987,8467645,10373342,19809952,9275499,10562802.050000001,19738678,9454533,10595527.050000001,20776046,10001847,10774199,20622505,9983312,10847624,21211911.426807255,10210686,11001225,21504737.259999998,10229317,11289055,22657735.468634516,10614555,12043180,23238134.84,11152285,12133330]
[815,"Cape Cod                     ",17.489999999999998,8147786,7106299,1812921.2,8939780,8238693,1951441.2,8959018,8344063,1986191.2,10056493,8988695,1949175.2,229074,10128081.632153112,9004924,2134684,0,9662450.2679999992,8722672,2009976,10791,131042,9969203,9140927,2020767,10009944,9018171,2047487,9858315,8884266,2063837,10012278,8734661,2080187,10180996,8693872,2096487,9867056,8195699,2130477,10216575.999388266,8480852,2149167,9979923.8499999996,8211309,2166897,10322933.41173223,8376084,2184147,11419229.199999999,9275007,2184147]
[817,"Essex North Shore",24.25,5267177,4108620,1440224,5871980,4830228,1577696,6088638,5073417,1627614,6185029,5030466,1476268,173496,6597337.6428708136,5303791,1616769,0,6438150.5279999999,5257509,1522317,8173,97479,6657128,5422037,1530490,7032311,5606831,1578772.356525,{"$f":"7223671+2406437","v":9630108},{"$f":"5744390+1758848","v":7503238},{"$f":"1633572.19536875+736211+279092","v":2648875.19536875},10537063,8095297,{"$f":"2685804.19536875+374740","v":3060544.19536875},12253746,9478745,3080269.19536875,14380155,10925830,3454325,16129989.412692271,12242834,3887155,17744843.639999997,13488298,4256546,18580518.657194056,13828438,4752081,19917637.840199184,14966372,4972500]
[818,"Franklin County              ",48.32,5609534,2938885,2670649,6238167,3104015,3134152,6391771,3127422,3264349,6770398,3246800,3153041,370557,6937473.1758851679,3512111,3453126,0,6832233.6720000003,3565201,3251395,17455,196151,6816703,3635743,3268850,7147655,3823257,3344405.5191250001,7343776,3944755,3416932.8843999999,7425790,4056096,3437610.8843999999,7597275,4196134,3449560.8843999999,7510077,4120671,3475025.8843999999,7241932.8547982732,3955977,3488135.8844003933,7536848.149849263,4066594,3501516,8190176.2362149609,4215767,3974409,8790347.6998241916,4547736,4242612]
[821,"Greater Fall River           ",65.12,14786630,3199554,11587076,17060238,4544760,12983299,18611314,5287988,13901536,19717271,5629515,13024771,1530717,20071537.276937805,5932617,14264378,0,19949613.684,6306552.870136939,13431054,72104,796545,20383237,6467055,13916182,20957230,6715829,14241401,21919605,7123557,14796048,22550978,7369160,15181818,23275199,7579429,15695770,23332972,7431313,15901659,23441355.209892597,7581869,15945069,24261247.829999998,7936940,16324308,25634449.811339363,8117565,17516885,26716946.030000001,8563722,18196847]
[823,"Greater Lawrence             ",78.19,20801927,3447460,17354467,23397863,2950685,20447178,24270329,2925720,21344609,22243985,2764043,19164616,2252293,21086064.186794262,2952089,20988571,0,21516841.079999998,3448145,19762420,106093,1154758,22406284,3637418,19868513,23647271,3930189,19925633,24165774,3918941,20246833,25639135,4446591,21192544,25953903,4514175,21439728,27130809,4613664,22517145,28198339.274539281,4675584,23522755,29226821.741229992,4527429,24699393,31698687.99088544,4601974,27096714,32861439.491759997,4907043,27954396]
[825,"Greater New Bedford          ",66.650000000000006,22363849,4239109,18124740,25632190,5757999,20279884,27124010,6752296,21235693,28611071,7172648,19857283,2333698,30517951.37531101,7763883,21747161,1006907,30298830.222000003,8132720,21740799,116714,949205,31299153,8624602,22674551,32530714,8972206,23558508,33301712,9217036,24084676,33725633,9588800,24138401,34323634,9854302,24469332,34911179,10102835,24808344,35334771.991298027,10506130,24873053.999999352,36428065.790000007,10914841,25513225,38180025.886437774,11239871,26940155,38691322.399999999,11380986,27384112]
[828,"Greater Lowell               ",65.53,24208574,6905055,17303519,27036778,7606125,19430653,27800682,7909037,19937045,29465237,8510997,18820473,2211849,29630457.502009567,8466385,20611676,552397,30423897.84,9232155,20785128,111584,319986,31597336,9860549,21736787,33772319,10353219,23419100,34324570,10693693,23630877,34545660,10980189,23685627,34992565,11434404,23740502,35531900,11891870,23860787,37509502.791465104,12482002,25027501,40339926.969999999,13264027,27075900,42372428.797708727,13540919,28831510,43544496.41956456,14050785,29582555]
[829,"South Middlesex              ",36.97,8446819,8588762,2167094,9208715,8268805,2366025,9654723,8165281,2493762,9715858,7715501,2327422,273527,9614405.0465071779,7341351,2548930,0,9792459.7200000007,7492557,2400022,12884,152274,10544997,7892246,2652751,10989581,7883290,3269602.165025,11813873,8259858,3686820.5708499998,11573926,7868569,3818290.5708499998,11914131,7823272,4090859,11942604,7592237,4386161,12170547.123704944,7850604,4407641.0000002151,12903118.393199999,8092298,4810820,13895820.049220048,8568391,5327429,15367478.658029996,9170454,6197025]
[830,"Minuteman                    ",19.260000000000002,6066584,5495202,2078300.4,6914249,6039013,2248003.4,6679422,5830500,2272053.4,6716739,5664903,2053740.4,241363,6448437.4476555018,5389510,2249201,0,6278768.8019999992,5380998,2117803,11369,130554,6529848,5563357,2129172,6720937,5635287,2146052,6466600,5367418,2155902,7154168,5853666,2166677,7012158,5684556,2177027,6744963,5436063,{"$f":"2198257-133774","v":2064483},6331977.4709823718,5038148,2074863,6123549.9733787654,4836180,2085122.9999998973,6695949.827739303,5244391,1977748,7604263.0698360428,5992288,1977748]
[832,"Montachusett                 ",59.83,13742072,4888977,8853095,15840334,5296832,10543502,17251828,5727859,11523969,18210278,5909892,11006825,1293561,19239467.091291867,6487260,12054378,697829,19087950.695999995,6671879,12177840,65376,543116,19926696,7025474,12901222,21362521,7634846,13727675,21644238,8117570,13764000,22098279,8502935,13800675,22705864,8952868,13837825,22983366,9077316,13920325,23339671.662662312,9194861,14144811,24114937.890482295,9381190,14733748,25030257.115778331,9604460,15425797,25382631.02025383,9937436,15445809]
[851,"Northern Berkshire           ",60.8,4866072,1480368,3385704,5410246,1532260,3877986,5840580,1651415,4189165,6022166,1628309,3931780,462077,6405552.1010526326,1973265,4305980,126307,6194470.0919999992,1959117,4173354,22404,247404,6032835,2076564,4195758,{"$f":"5901249+265615+518532","v":6685396},2057940,{"$f":"4211358+97719+296789","v":4605866},7074072,2680139,4617441,7193835,2748884,4629241,7377904,2797399,4641116,7221555,2766472,4666196,7333874.6106536184,2825783,4679876,7476126.9300747626,2937807,4693196.0000001332,7897883.8046400165,3067978,4829906,8244375,3172855,5071520]
[852,"Nashoba Valley               ",29.82,5158946,3321776,1931065.2,5389599,3394928,2023465,6238440,3743767,2494673,7033183,4130123,2597762,305298,7866987.6486124406,4598216,2844999,423773,8233340.9220000003,5083135.795428413,3080894,16540,185963,8193934,5151981,3097434,{"$f":"8811361+786722","v":9598083},5561630,{"$f":"3273055.84085+294572","v":3567627.8408499998},9643398,6347664,3583552.8408499998,10305011,6808953,3602853.8408499998,10872297,7267551,3620453.8408499998,10716963,7187884,3658183.8408499998,10765279.843473723,7259409,3678433.8408499998,10686139.044199999,7286534,3698114,10895286.797909893,7517024,3717284,11332310.899736676,8006848,3717284]
[853,"Northeast Metropolitan       ",44.06,13805435,8368989,5436446,15298678,8834989,6463689,16448129,9382830,7065299,17520203,9753752,6949698,816753,18195495.392153114,9906992,7611122,677381,18075511.403999995,10403784,7787386,41897,489726,18846605,10860660,7985945,19273753,10987834,8285919,19964083,11419748,8564871.3160750009,20104161,11494298,8609863,20386925,11746592,8640688,20458840,11667126,8818904,21001845.715027004,11813188,9188658,21695597.037383042,11983464,9712133,22663144.184447043,12097696,10565448,23843254.848850004,13124735,10745350]
[855,"Old Colony                   ",38.11,4989253,2641742,2546991,5820992,2972628,2935912,6621083,3475932,3292273,6827603,3546608,3028077,355870,7042233.7959808633,3704307,3316268,21659,6779947.8360000001,3833931.4919956997,3142926,16873,190453,6636605,3861415,3159799,6993936,4108774,3179079,7318581,4348047,3191479,7268292,4341070,3203704,7329579,4522220,3215679,7070588,4320680,3240924,7132027.5606843857,4376933,3254694,7339792.9800000004,4416012,3268404,7752983.70072567,4672558,3282354,7921696.2200000016,4845112,3282354]
[860,"Pathfinder                   ",56.62,6096738,2786084,3310654,6802165,2722408,4079757,7765674,2973205,4792469,8192718,3079140,4575812,537766,7922637.1368421055,3002367,5011306,0,8264011.2758400002,3272693.2524828459,{"$f":"4773477+124459","v":4897936},25626,226728,8310204,3406888,4923562,9047750,3742148,5305602,9290876,3937256,5362159.7480999995,8740342,3869273,5376309.7480999995,9330426,4172839,5391009.7480999995,9305841,4136686,5422744.7480999995,9526647.0681404825,4148472,5440054.748100346,9675019.1999999993,4221512,5459444,10638203.377264135,4587025,6051178,10484384.559895158,4455062,6051178]
[871,"Shawsheen Valley             ",20.43,13777348,11493572,3136056.8,15354177,11614893,3739284,16399600,11925006,4474594,17333155,11848099,4908224,576832,18045396.186028711,12240655,5375355,429386,17891209.259999998,12538270,5465628,29342,342521,18725824,13125229,5600595,19899113,13950931,6159525.7945499998,20418808,14772092,6206185.7275124993,20894661,15270792,6241110.7275124993,20905729,15410372,6275835.7275124993,20610764,15409506,6350690.7275124993,20779974.22357462,15673209,6391250.7275124993,21319072.907946814,16426446,6431361,21756421.654655538,17141547,6470511,21443569.573314432,17321815,6470511]
[872,"Southeastern                 ",61.19,14936857,5393902,9542955,16539295,5950716,10588579,17132435,6118865,11013570,18651251,6606221,10778323,1266707,19547466.962679427,6794855,11804129,948483,18976858.698000003,6830054,12007606,64462,713969,19791640,7163181,12628459,20139028,7253938,12885090,20816397,7493594,13322803,21227292,7726584,13500708,22565360,8283596,14281764,23532615,8586706,14945909,24658561.658426791,9068356,15590206,25369687.710253701,9264693,16104995,26705365.084122326,9834210,16871155,26978734.039999999,10323654,16871155]
[873,"South Shore                  ",41.69,5603587,3304900,2298687,6624462,3491969,3132493,7292760,3896693,3409503,8002552,4267730,3342052,392770,8068943.0905263163,4326150,3660126,82667,8159816.8379999995,4585112,3524139,18919,214385,8361233,4747142,3614091,8898769,5090951,3814659,8843168,4991245,3851923,8975128,5135646,3866773,9246000,5264595,3981405,9836290,5547660,4288630,10085090.357912248,5811066,4307229.9999998137,10179751.535079999,5849405,4342636,10278115.468662532,5835267,4442848,9696307.4090200011,5540283,4442848]
[876,"Southern Worcester           ",55.3,9571032,4238701,5725706.91653415,12372691,5102480,7282028,13883285,5546098,8337187,15012157,5773697,8266904,971556,15581392.28478469,6076724,9053691,450977,15894028.614,6360940,9350174,50196,132719,15689978,6367969,9400370,16052759,6598237,9454522,16721381,6992891,9728490,17132815,7280728,9852087,17642332,7557770,10084562,17712277,7652484,10147042,18134754.555626247,7810739,10324016,18654311.879813455,8130478,10527326,19584275.952675201,8498663,11085613,20163226.599596739,8939018,11243208]
[878,"Tri County                   ",31.63,9016173,5636406,3446914,10212901,5924588,4288313,11290959,6500818,4790141,12442959,7015291,4856871,570797,12923675.155598087,7663565,5319115,0,13370766.120000003,8194447,5076999,27256,238385,13542704,8344586,5198118,14397568,8892150,5505418,14698799,9224159,5529518,15102844,9768353,5553893,15108183,10085613,5577743,15221337,10205482,5630378,15811834.242360983,10767622,5659267.9999997113,15797799.39597,10833554,5687408,17150334.906830095,11677869,5716838,16446455.91653554,11583064,5716838]
[879,"Upper Cape Cod               ",25.47,7297579,5382948,2593253,7871760,6175413,2762062,8334135,6672582,2884730,9055851,7109422,2747270,322869,9359958.3663157895,7254471,3008736,0,9469840.0140000004,7444031,2832966,15209,177786,9659521,7711247,2848175,9618705,7624553,2874735,10084443,8024477,2891885,10314759,8119608,2909460,11054587,8517332,2927510,11535664,8638647,2968265,11636066.279966651,8609575,3026491,12366494.259999998,9126256,3240238,12375568.23018039,9213425,3262258,12856564.119999999,9721410,3262258]
[885,"Whittier                     ",46.47,11536179,7149342,4829933,11990774,6974949,5032319,12092901,6752086,5340815,12653763,7029551,5032746,591466,14137619.469473682,7657177,5511728,968714,14275034.699999999,7892558,6260014,33606,212122,15261656,8442171,6819485,16269465,8729868,7563919.4677499998,16875591,9062382,7879914.9927000003,17494788,9523686,8010858.9927000003,18310028,10028034,8281994,19322789,10384757,8938032,19762413.323503122,10544137,9218276,20237272.480202377,10694772,9542746,21419842.533375792,11214984,10204859,22219393.409999993,11408976,10835866]
[910,"Bristol County               ",48.31,4169889,2377115,1792774,4678752,2165472,2513280,4979099,2115459,2863640,5282006,2203905,2754395,323706,5380792.1852631588,2265291,3016539,98962,5285460.1679999996,2485563.5502734138,2933494,15748,175709,5518473,2608341,2949242,5541328,2713112,2964202,5650536,2907343,2973677,5797631,3091923,2983352,5839373,3169711,2992952,6281807,3336386,3015502,6434258.3084468814,3461793,3027862,6272468.1098745503,3267780,3039532,6469200.7539703678,3230305,3238896,6594994.5600000005,3396297,3238896]
[915,"Norfolk County               ",24.63,2581809,2385271,605727.6,3153664,2376238,777426,3314326,2403121,911205,3538156,2513756,916670,107730,3601674.9504306214,2554390,1003912,43373,3636172.7040000004,2694070,968927,5294,79925,3894722,2866575,1028147,4009287,2928531,1097231.0205000001,4057136,3005158,1109762.7805750002,3937649,2863375,1119500.7805750002,4240624,3129643,1126275.7805750002,4615273,3398333,1216940,4595770.9606507998,3415991,1225309.999999749,4801803.415529999,3550450,1251353,4971875.5058426186,3680317,1291559,4921619.8021892179,3697896,1291559]
[999,"State Total",41,7551933454,4743946672,3288603061.8000002,8014672861.3798904,4876428772,3505192038.9270248,8406096436.3857374,4997705374,3725343326.8219399,8811314229.2926865,5110365426,3536496064.2495604,411999998,9088557473.2006893,5250106061,3869526145,173630555,8921047970,5302200670.3241692,3850884455.5488005,20667814,200480583,9119340580.3732376,5413602268,3990504093.3881507,9467117140.6663704,5582113529,4173223954.2949104,9711217584.8007889,5748475145,4300854366.3566036,9866011313.0677662,5817618237,4400335961.8829308,10090177272.100754,5943909029,4511521973.6381674,10128238382.975546,5926185567,4627705061.1446953,10379173843.167685,6046916786,4745645155.949439,10777588551.40456,6246842886,{"$f":"SUM(AW10:AW447)","v":4906614765.8021221},11359048511.850758,6513607368,5175694094,11626531095.326303,6705321561,5283343073.4799995]

{"sheet":"dist435","index":16,"n_rows":448,"n_cols":46,"rows_kept":448,"cut":false,"hidden":true,"merged":[[5,41,5,45],[6,39,8,39],[2,17,2,18],[2,20,2,21],[5,34,5,39],[6,35,8,37],[6,34,8,34],[6,38,8,38]]}
[]
[null,"source: found22_SOA"]
[null,"2021-01-19"]
[null,null,"Foundation Enrollment",null,null,null,null,null,null,null,null,null,null,null,null,null,null,null,null,null,"Foundation Categories"]
[1,2,3,4,5,6,7,8,9,10,11,12,13,14,15,16,17,18,19,20,21,22,23,24,25,26,27,28,29,30,31,32,33,34,{"$f":"AH5+1","v":35},36,37,38,39,40,41,42,43,44,45,46]
[null,null,null,null,null,null,null,null,null,null,null,null,null,null,null,null,null,null,null,null,null,null,null,null,null,null,null,null,null,null,null,null,null,null,"Low-income group assignment",null,null,null,null,null,null,"Low-income enrollment determination"]
[null,null,null,null,null,null,null,null,null,null,null,null,null,null,null,null,null,null,null,null,null,null,null,null,null,null,null,null,null,null,null,null,null,null,"Total \nLow-Income Enrollment","Total Enrollment of Students Attending School in the District Plus the Total Resident Students Attending Charter Schools",null,null,"Low-Income % \nfor Group Assignment","Low-Income\nGroup",null,null,null,"Estimated","FY22"]
[null,null,null,null,null,null,null,null,null,null,null,null,null,null,null,null,null,"Low-Income","Low-Income",null,null,null,null,null,null,null,null,null,null,null,null,null,null,null,null,null,null,null,null,null,null,null,"FY16 total","Low-Income Enrollment","Low-Income Enrollment","Greater #"]
["LEA","District Name","PK","K Half","K Full","Elem","Jr/Middle","High School","Vocational","Assumed Sped In-District","Assumed Sped Tuition","EL PK-5","EL 6-8","EL high school/voc","Low-Income","Total Foundation Enrollment","WAF","Group","Percentage",null,"Administration","Instructional Leadership","Classroom & Specialist Teachers","Other Teaching Services","Professional Development","Instructional Materials, Equipment & Technology","Guidance & Psychological Services","Pupil Services","Operations & Maintenance","Employee Benefits & Fixed Charges","Sped Tuition","Total Foundation Budget",null,null,null,null,null,null,null,null,null,"FY16 Low-Income %","Foundation Enrollment"," Based on FY16 %","Identified through Direct Certification","for Ch.70"]
[1,"Abington                     ",51,0,177,801,520,661,8,82,22,101,29,34,670,2193,1.0329999999999999,6,0.31569999999999998,null,1280714.9804899998,1883645.4706899999,11000765.306939999,2340917.5892899996,451619.66655999993,1329940.5099999998,826382.75923000008,1058467.98487,2505650.7087599998,3148473.61,625525.34000000008,26452103.926830001,null,null,670,null,2122.5,null,0.31569999999999998,6,null,0.25217391304347825,1955,553,670,670]
[2,"Acton                        ",0,0,0,0,0,0,0,0,0,0,0,0,0,0,1.06,0,0,null,0,0,0,0,0,0,0,0,0,0,0,0,null,null,0,null,0,null,0,0,null,0,0,0,0,0]
[3,"Acushnet                     ",28,0,87,489,324,293,0,46,12,6,0,0,279,1207,1,6,0.31030000000000002,null,671307.72000000009,964402.73,5420584.3799999999,1258035.5799999998,224478.72999999998,696267.4099999998,416248.48,483012.02,1310013.2400000002,1679506.92,341195.64,13465052.850000001,null,null,279,null,899,null,0.31030000000000002,6,null,0.19774919614147909,1244,239,279,279]
[4,"Adams                        ",0,0,0,0,0,0,0,0,0,0,0,0,0,0,1,0,0,null,0,0,0,0,0,0,0,0,0,0,0,0,null,null,0,null,0,null,0,0,null,0,0,0,0,0]
[5,"Agawam                       ",57,0,228,1272,871,1059,57,134,34,145,20,18,1321,3516,1,7,0.376,null,2001694.79,2995610.25,17997284.779999997,3618490.1299999994,743289.92,2168798.75,1319420.8199999998,1839196.7000000002,3917882.5500000003,5188675.3000000007,966720.98,42757064.969999991,null,null,1321,null,3513,null,0.376,7,null,0.33316720657861948,4013,1171,1321,1321]
[6,"Alford                       ",0,0,0,0,0,0,0,0,0,0,0,0,0,0,1,0,0,null,0,0,0,0,0,0,0,0,0,0,0,0,null,null,0,null,0,null,0,0,null,0,0,0,0,0]
[7,"Amesbury                     ",21,1,141,701,498,562,16,74,19,22,7,9,579,1930,1,6,0.30859999999999999,null,1084348.42,1583929.3000000003,9236058.9199999981,1986248.85,380286.07,1160317.8800000001,696498.46999999986,893609.79000000015,2120385.7400000002,2751160.71,540226.43000000005,22433070.579999998,null,null,579,null,1876.5,null,0.30859999999999999,6,null,0.27401837928153716,2394,529,579,579]
[8,"Amherst                      ",33,0,133,748,147,0,0,39,10,125,13,0,459,1045,1,8,0.4219,null,605362.32000000007,928691.97,5344479.91,1223477.4600000002,231104.8,549327.62999999989,352806.75,451444.41000000003,1146505.73,1611678.06,284329.7,12729208.74,null,null,459,null,1088,null,0.4219,8,null,0.43959731543624159,1192,459,368,459]
[9,"Andover                      ",56,0,315,2076,1404,1796,9,214,56,134,24,11,605,5628,1.0880000000000001,2,0.1089,null,3368486.2432000008,4679410.2841599993,25891480.145279996,6266327.3721600007,1035705.73696,3380315.51,2088193.8848000006,2152545.0048000002,6709841.4764800007,7486529.7499999991,1592246.32,64651081.727839999,null,null,605,null,5553.5,null,0.1089,2,null,7.5798319327731095E-2,5950,427,605,605]
[10,"Arlington                    ",48,0,457,2473,1395,1486,1,222,58,189,32,15,663,5836,1.0389999999999999,2,0.11559999999999999,null,3343662.01639,4653611.4805099992,25408924.84051,6369718.56458,1028852.9909299999,3396111.1399999997,2014727.6117900002,1978874.6309899995,6631272.5283300001,7815592.9000000022,1649112.26,64290460.96402999,null,null,663,null,5734.5,null,0.11559999999999999,2,null,0.1135765325310267,5318,663,578,663]
[11,"Ashburnham                   ",0,0,0,0,0,0,0,0,0,0,0,0,0,0,1,0,0,null,0,0,0,0,0,0,0,0,0,0,0,0,null,null,0,null,0,null,0,0,null,0,0,0,0,0]
[12,"Ashby                        ",0,0,0,0,0,0,0,0,0,0,0,0,0,0,1,0,0,null,0,0,0,0,0,0,0,0,0,0,0,0,null,null,0,null,0,null,0,0,null,0,0,0,0,0]
[13,"Ashfield                     ",0,0,0,0,0,0,9,0,0,0,0,0,0,9,1,0,0,null,3648.33,6589.17,66468.69,4643.82,2077.7400000000002,12244.23,3668.4,4941.3599999999997,16505.46,13699.35,0,134486.55000000002,null,null,0,null,0,null,0,0,null,0,19,0,0,0]
[14,"Ashland                      ",22,0,192,1021,675,793,2,102,27,100,37,26,544,2694,1,4,0.20080000000000001,null,1503598.9900000002,2141172.77,12078246.779999999,2789736.64,491337.34999999992,1611057,942130.11,1061165.2999999998,2968727.6099999994,3716357.93,767690.19000000006,30071220.670000002,null,null,544,null,2709,null,0.20080000000000001,4,null,0.15437048917401763,2494,416,544,544]
[15,"Athol                        ",0,0,0,0,0,0,0,0,0,0,0,0,0,0,1,0,0,null,0,0,0,0,0,0,0,0,0,0,0,0,null,null,0,null,0,null,0,0,null,0,0,0,0,0]
[16,"Attleboro                    ",105,0,361,2285,1497,805,1187,246,49,249,43,65,2277,6188,1,7,0.37690000000000001,null,3519032.6800000006,5263465.7699999986,35014345.810000002,6460127.7599999988,1406425.18,4465563.5600000005,2320338.69,3218311.8400000003,7863003.9100000001,9628075.8499999978,1393215.53,80551906.579999998,null,null,2277,null,6041,null,0.37690000000000001,7,null,0.36792752701843612,6292,2277,2137,2277]
[17,"Auburn                       ",32,0,161,947,611,685,1,92,24,33,14,11,615,2421,1,5,0.2467,null,1350557.03,1945241.41,11070897.17,2504064.36,454192.55,1431332.8499999999,850747,1013980.27,2642206.29,3376245.37,682391.28,27321855.580000002,null,null,615,null,2493,null,0.2467,5,null,0.25053350405463082,2343,607,615,615]
[18,"Avon                         ",11,0,43,236,147,128,0,21,6,23,8,3,274,560,1,7,0.39400000000000002,null,323897.40999999997,496506.55999999994,2971796.36,589047.9,126273.41,327265.63999999996,211340.68,312052.83999999997,614513.12999999989,855883.15,170597.82,6999174.9000000004,null,null,274,null,695.5,null,0.39400000000000002,7,null,0.4896421845574388,531,274,274,274]
[19,"Ayer                         ",0,0,0,0,0,0,0,0,0,0,0,0,0,0,1,0,0,null,0,0,0,0,0,0,0,0,0,0,0,0,null,null,0,null,0,null,0,0,null,0,0,0,0,0]
[20,"Barnstable                   ",124,0,330,1838,1244,1621,52,195,50,368,97,135,2239,5147,1,8,0.4521,null,2982793.7300000004,4553868.16,27786117.809999999,5335256.0200000005,1154250.46,3214529.8499999996,2003344.7100000004,2947395.67,5796934.3499999996,7839217.2200000007,1421648.5,65035356.480000012,null,null,2239,null,4952,null,0.4521,8,null,0.34213401310997815,5492,1761,2239,2239]
[21,"Barre                        ",0,0,0,0,0,0,0,0,0,0,0,0,0,0,1,0,0,null,0,0,0,0,0,0,0,0,0,0,0,0,null,null,0,null,0,null,0,0,null,0,0,0,0,0]
[22,"Becket                       ",0,0,0,0,0,0,12,1,0,0,0,0,0,12,1,0,0,null,7662.1500000000005,8785.56,97856.65,14811.300000000001,3215.65,16714.34,4891.2000000000007,6588.48,25132.449999999997,21806.170000000002,0,207463.95000000004,null,null,0,null,0,null,0,0,null,0,9,0,0,0]
[23,"Bedford                      ",21,0,161,994,619,863,1,101,26,94,10,10,348,2649,1.0820000000000001,3,0.13370000000000001,null,1583654.67136,2214972.3707999997,12370610.67268,2946867.5533600003,494838.36350000009,1598513.5099999998,986481.42952000001,1048815.9905200002,3145827.2930800002,3556202.37,739257.22,30686041.444819998,null,null,348,null,2602,null,0.13370000000000001,3,null,0.13152804642166344,2585,348,304,348]
[24,"Belchertown                  ",35,0,138,779,556,707,6,83,22,29,2,1,521,2204,1,4,0.2389,null,1223048.96,1754502.7000000002,10025884.24,2238848.8599999994,407192.36999999994,1327936.1299999999,780499.92000000016,932511.77,2405321.63,3040790.6699999995,625525.34000000008,24762062.589999996,null,null,521,null,2180.5,null,0.2389,4,null,0.2182423990004165,2401,481,521,521]
[25,"Bellingham                   ",27,0,148,813,573,619,17,83,22,46,6,7,554,2184,1,5,0.2646,null,1219794.6499999999,1755343.2200000002,10048290.51,2248496.7399999998,411710.56,1306135.3600000003,771676.48,923213.34000000008,2401276.9900000002,3053383.97,625525.34000000008,24764847.16,null,null,554,null,2093.5,null,0.2646,5,null,0.24917491749174916,2424,544,554,554]
[26,"Belmont                      ",31,18,235,1760,1104,1361,49,173,45,283,37,18,410,4534,1.0409999999999999,2,9.3399999999999997E-2,null,2613263.1800699993,3621088.1132100001,20105199.817169994,4892561.0577299995,802213.44209999987,2757172.41,1607870.9494199995,1602119.0184300002,5265908.4831899991,6074947.2999999989,1279483.6500000001,50621827.421319984,null,null,410,null,4390,null,9.3399999999999997E-2,2,null,7.3869104908565936E-2,4156,335,410,410]
[27,"Berkley                      ",10,0,66,400,262,0,0,28,7,7,3,0,194,733,1,4,0.22950000000000001,null,408080.40000000008,588956.76,3119579.669999999,811273.69,137227.74,371917.43,233307.69000000003,231807.03000000003,794238.85,1041523.7200000001,199030.79,7936943.7699999996,null,null,194,null,845.5,null,0.22950000000000001,4,null,0.2033195020746888,723,149,194,194]
[28,"Berlin                       ",0,0,0,0,0,0,0,0,0,0,0,0,0,0,1.026,0,0,null,0,0,0,0,0,0,0,0,0,0,0,0,null,null,0,null,0,null,0,0,null,0.14473684210526316,152,0,0,0]
[29,"Bernardston                  ",0,0,0,0,0,0,0,0,0,0,0,0,0,0,1,0,0,null,0,0,0,0,0,0,0,0,0,0,0,0,null,null,0,null,0,null,0,0,null,0,0,0,0,0]
[30,"Beverly                      ",86,0,368,1783,1096,1303,20,175,46,130,24,38,1413,4613,1,6,0.307,null,2600457.5999999992,3812439.66,22188039.139999997,4792866.51,913973.35,2758494.9399999995,1660880.2100000002,2121037.39,5067014.37,6602956.7000000002,1307916.6200000001,53826076.489999995,null,null,1413,null,4603,null,0.307,6,null,0.27745142340713963,4426,1280,1413,1413]
[31,"Billerica                    ",80,0,372,1873,1205,1199,5,178,46,51,14,13,1074,4694,1.0009999999999999,4,0.23269999999999999,null,2607627.9529299992,3733410.9012199994,20965957.582569998,4889586.7320299987,862192.23089999985,2733366.63,1617823.0668599999,1840315.0966199997,5115301.201009999,6490296.3400000017,1307916.6200000001,52163794.354139991,null,null,1074,null,4614.5,null,0.23269999999999999,4,null,0.21552528456801642,5359,1012,1074,1074]
[32,"Blackstone                   ",0,0,0,0,0,0,28,1,0,0,0,0,0,28,1,0,0,null,14148.07,20499.64,216023.21,23066.980000000003,6909.41,38481.86,11412.800000000001,15373.119999999999,54475.49,46160.570000000007,0,446551.14999999991,null,null,0,null,0,null,0,0,null,0,15,0,0,0]
[33,"Blandford                    ",0,0,0,0,0,0,10,0,0,0,0,0,0,10,1,0,0,null,4053.7,7321.3,73854.100000000006,5159.8,2308.6000000000004,13604.7,4076,5490.4,18339.400000000001,15221.5,0,149429.5,null,null,0,null,0,null,0,0,null,0,7,0,0,0]
[34,"Bolton                       ",0,0,0,0,0,0,1,0,0,0,0,0,0,1,1.042,0,0,null,422.39554000000004,762.87945999999999,7695.5972200000006,537.65116,240.55612000000002,1360.47,424.71920000000006,572.09968000000003,1910.9654800000001,1522.15,0,15449.483859999998,null,null,0,null,0,null,0,0,null,0,1,0,0,0]
[35,"Boston                       ",3074,0,3942,21708,14261,17480,1776,2278,574,8848,2639,3886,46859,60704,1.085,11,0.77949999999999997,null,40645370.361400001,68064499.658749998,450396556.73809993,69814179.826999992,19228654.215749998,39962087.849999994,29450362.31095,54740758.59595,77628845.813050002,107145019.27000001,16320524.780000001,973396859.42095006,null,null,46859,null,60114.5,null,0.77949999999999997,11,null,0.77193283070596297,64196,46859,40545,46859]
[36,"Bourne                       ",36,0,90,679,456,546,0,68,18,9,3,5,585,1789,1,6,0.33139999999999997,null,1006210.28,1479702.89,8639994.2399999984,1831673.33,356698.44999999995,1068968.92,651101.20000000007,861586.85000000009,1946740.56,2558702.5099999998,511793.46,20913172.689999998,null,null,585,null,1765.5,null,0.33139999999999997,6,null,0.28335832083958024,2001,507,585,585]
[37,"Boxborough                   ",0,0,0,0,0,0,9,0,0,0,0,0,0,9,1.0960000000000001,0,0,null,3998.5696800000001,7221.7303200000006,72849.684240000002,5089.6267200000002,2277.2030400000003,12244.23,4020.5664000000006,5415.73056,18089.98416,13699.35,0,144906.67512,null,null,0,null,0,null,0,0,null,0,0,0,0,0]
[38,"Boxford                      ",29,0,80,483,95,0,0,25,7,8,0,0,56,673,1.0449999999999999,2,8.4000000000000005E-2,null,383780.77485000005,530648.40839999996,2714038.0729,808045.36174999992,113482.07805,338450.62,199698.81030000001,137297.23095,746922.13089999999,895070.82,199030.79,7066465.0981000001,null,null,56,null,666.5,null,8.4000000000000005E-2,2,null,2.0576131687242798E-2,729,14,56,56]
[39,"Boylston                     ",0,0,0,0,0,0,35,2,0,0,0,0,3,35,1,0,0,null,19783.370000000003,25624.55,276952.81,35298.380000000005,8970.76,48393.850000000006,14266,19216.399999999998,70438.240000000005,60355.99,0,579300.35,null,null,3,null,0,null,0,0,null,7.7738515901060068E-2,283,3,0,3]
[40,"Braintree                    ",79,314,1,2039,1428,1718,0,204,53,226,32,36,1274,5383,1.046,5,0.24179999999999999,null,3148826.9577199994,4526219.2760799993,25849259.247239999,5759635.865840001,1053796.86308,3254535.1,2014131.1785200005,2406914.0527599999,6204811.6980999997,7495860.29,1506947.4100000001,63220937.939339995,null,null,1274,null,5268,null,0.24179999999999999,5,null,0.23673322540025185,5559,1274,1270,1274]
[41,"Brewster                     ",12,0,70,355,0,0,0,16,4,18,0,0,139,431,1,6,0.3382,null,241545.42,358253.37,2003219.6199999999,512175.53,84045.22,220653.71999999997,131294.47,141146.19,456897.72000000003,622571.71000000008,113731.88,4885534.8500000015,null,null,139,null,411,null,0.3382,6,null,0.25105485232067509,474,108,139,139]
[42,"Bridgewater                  ",0,0,0,0,0,0,7,0,0,0,0,0,0,7,1,0,0,null,2837.59,5124.91,51697.869999999995,3611.86,1616.02,9523.2900000000009,2853.2000000000003,3843.2799999999997,12837.58,10655.050000000001,0,104600.65,null,null,0,null,0,null,0,0,null,0,10,0,0,0]
[43,"Brimfield                    ",2,0,32,186,49,0,1,10,3,3,0,0,73,269,1,5,0.27339999999999998,null,150378.72000000003,216814.62,1172248.5499999998,306277.45,50152.28,137227.97999999998,82757.5,82400.81,287610.62000000005,380523.53000000014,85298.91,2951690.97,null,null,73,null,267,null,0.27339999999999998,5,null,0.21532846715328466,274,58,73,73]
[44,"Brockton                     ",216,0,1225,6292,4354,4759,354,652,166,2139,818,1156,13861,17092,1,12,0.83040000000000003,null,10641599.680000002,17967552.399999999,119164979.53,18197331.75,5134050.71,11079692.75,7741264.75,14817195.970000001,20003175.460000001,30660807.110000003,4719873.0200000005,260127523.13000005,null,null,13861,null,16692.5,null,0.83040000000000003,12,null,0.8109528653780943,17694,13861,11558,13861]
[45,"Brookfield                   ",4,0,28,171,28,0,1,9,2,1,0,0,102,230,1,7,0.38200000000000001,null,130880.79,198794.62,1144301.5799999998,268766.51,49341.390000000007,118441.02999999998,75110.61,97194.010000000009,245914.33000000005,347549.28,56865.94,2733160.0899999994,null,null,102,null,267,null,0.38200000000000001,7,null,0.44176706827309237,249,102,89,102]
[46,"Brookline                    ",42,0,491,2598,1660,2087,1,261,68,527,74,39,817,6858,1.042,2,0.1198,null,3978278.0688200006,5556867.7538399985,30822255.716640003,7442814.6158600003,1237798.3645999997,4133661.4000000004,2457155.1943800007,2509322.5701000001,7941175.717480001,9269780.209999999,1933441.96,77282551.571720004,null,null,817,null,6817.5,null,0.1198,2,null,0.10772163965681601,7343,739,817,817]
[47,"Buckland                     ",0,0,0,0,0,0,2,0,0,0,0,0,0,2,1,0,0,null,810.74,1464.26,14770.82,1031.96,461.72,2720.94,815.2,1098.08,3667.88,3044.3,0,29885.9,null,null,0,null,0,null,0,0,null,0,0,0,0,0]
[48,"Burlington                   ",25,0,260,1432,776,931,8,130,34,124,11,35,554,3420,1.087,3,0.16489999999999999,null,2062549.5856399999,2905831.2177300006,16195001.317619998,3894504.4804700003,655596.15758,2020501.83,1263580.8564300002,1338465.86258,4080375.5889300001,4652672.7199999988,966720.98,40035800.596980006,null,null,554,null,3359.5,null,0.16489999999999999,3,null,0.12972038051311618,3469,444,554,554]
[49,"Cambridge                    ",463,0,641,2770,1458,1486,573,271,64,304,56,77,3314,7160,1.1080000000000001,8,0.47460000000000002,null,4551453.003560001,7014938.1992800012,44499787.160240002,8324009.9952000026,1835770.3546000004,4643401.0700000012,3020578.6874000002,4506589.6625200007,9246862.3420400005,11126315.239999998,1819710.08,100589415.79484001,null,null,3314,null,6982,null,0.47460000000000002,8,null,0.46283391405342622,6888,3314,2569,3314]
[50,"Canton                       ",25,0,220,1222,788,991,0,123,32,52,8,12,604,3234,1.06,4,0.19040000000000001,null,1898153.1406000003,2688941.4214000003,15128781.100000003,3525063.7822000002,612551.89900000009,1927699.84,1187928.7924000006,1333323.2578,3739612.9232000005,4405520.2,909855.04,37357431.396600008,null,null,604,null,3171.5,null,0.19040000000000001,4,null,0.17338709677419356,3224,561,604,604]
[51,"Carlisle                     ",7,51,2,308,212,0,4,21,5,10,1,0,28,556,1.0529999999999999,1,5.1400000000000001E-2,null,317180.56383,437096.25647999998,2177822.0657699998,640660.43690999993,94396.648319999978,283141.51999999996,174790.00772999998,121178.41866,638511.04278000013,741276.06,142164.85,5768217.8704799991,null,null,28,null,545,null,5.1400000000000001E-2,1,null,1.1494252873563218E-2,609,6,28,28]
[52,"Carver                       ",35,0,93,605,358,420,7,56,15,12,7,2,427,1501,1.032,5,0.28010000000000002,null,862513.22615999996,1254283.254,7207084.1164800003,1594593.2932800003,295652.05560000002,890140.6,546840.14352000004,672738.81839999999,1686497.8056000003,2106085.9099999997,426494.55000000005,17542923.77304,null,null,427,null,1524.5,null,0.28010000000000002,5,null,0.24683162341581172,1657,370,427,427]
[53,"Charlemont                   ",0,0,0,0,0,0,7,0,0,0,0,0,0,7,1,0,0,null,2837.59,5124.91,51697.869999999995,3611.86,1616.02,9523.2900000000009,2853.2000000000003,3843.2799999999997,12837.58,10655.050000000001,0,104600.65,null,null,0,null,0,null,0,0,null,0,5,0,0,0]
[54,"Charlton                     ",0,0,0,0,0,0,1,0,0,0,0,0,0,1,1,0,0,null,405.37,732.13,7385.41,515.98,230.86,1360.47,407.6,549.04,1833.94,1522.15,0,14942.95,null,null,0,null,0,null,0,0,null,0,2,0,0,0]
[55,"Chatham                      ",0,0,0,0,0,0,0,0,0,0,0,0,0,0,1,0,0,null,0,0,0,0,0,0,0,0,0,0,0,0,null,null,0,null,0,null,0,0,null,0,0,0,0,0]
[56,"Chelmsford                   ",77,0,350,1881,1198,1486,2,188,49,167,26,14,806,4956,1,3,0.1646,null,2744742.5699999989,3869087.0299999993,21621845.140000001,5121361.21,873404.87999999989,2955361.28,1705651.41,1843669.6199999999,5432458.0499999998,6723122.29,1393215.53,54283919.00999999,null,null,806,null,4896,null,0.1646,3,null,0.12124208860759493,5056,601,806,806]
[57,"Chelsea                      ",62,0,500,2714,1766,2082,4,270,71,1395,298,570,5979,7097,1.0389999999999999,12,0.86550000000000005,null,4665722.0645099999,7925316.4297799999,52368776.89835,7961605.2191300001,2265009.1528399992,4576037.5199999996,3403036.1389400009,6552130.8281599991,8655665.0220199991,12929946.640000001,2018740.87,113321986.78373002,null,null,5979,null,6908,null,0.86550000000000005,12,null,0.84243212016175617,6924,5979,5114,5979]
[58,"Cheshire                     ",0,0,0,0,0,0,1,0,0,0,0,0,0,1,1,0,0,null,405.37,732.13,7385.41,515.98,230.86,1360.47,407.6,549.04,1833.94,1522.15,0,14942.95,null,null,0,null,0,null,0,0,null,0,1,0,0,0]
[59,"Chester                      ",0,0,0,0,0,0,9,0,0,0,0,0,0,9,1,0,0,null,3648.33,6589.17,66468.69,4643.82,2077.7400000000002,12244.23,3668.4,4941.3599999999997,16505.46,13699.35,0,134486.55000000002,null,null,0,null,0,null,0,0,null,0,14,0,0,0]
[60,"Chesterfield                 ",0,0,0,0,0,0,16,1,0,0,0,0,0,16,1,0,0,null,9283.630000000001,11714.08,127398.29,16875.22,4139.09,22156.22,6521.6,8784.64,32468.21,27894.77,0,267235.75,null,null,0,null,0,null,0,0,null,0,20,0,0,0]
[61,"Chicopee                     ",115,0,423,2618,1803,1774,593,282,66,224,83,96,4905,7269,1,10,0.69059999999999999,null,4310781.0999999996,6998940.0499999989,46611288.899999999,7506160.419999999,1963532.02,4841110.8900000006,3055042.3699999996,5477047.4199999999,8530481.040000001,12221593.719999997,1876576.02,103392553.95,null,null,4905,null,7103,null,0.69059999999999999,10,null,0.67473255221599593,7852,4905,4392,4905]
[62,"Chilmark                     ",0,0,0,0,0,0,0,0,0,0,0,0,0,0,1,0,0,null,0,0,0,0,0,0,0,0,0,0,0,0,null,null,0,null,0,null,0,0,null,0,0,0,0,0]
[63,"Clarksburg                   ",0,0,17,74,62,27,0,7,2,0,0,0,72,180,1,7,0.375,null,103044.99,153128.51999999999,878938.19,191139.25000000003,38014.019999999997,99601.849999999991,64320.909999999996,85869.87,195822.13,267521.68,56865.94,2134267.35,null,null,72,null,192,null,0.375,7,null,0.35,180,63,72,72]
[64,"Clinton                      ",29,0,147,728,507,554,99,79,19,152,45,50,960,2050,1,9,0.50649999999999995,null,1196229.53,1846087.03,11612932.07,2139276.35,482641.55999999994,1325656.5100000002,809647.77,1233636.3399999999,2382182.5900000003,3213956.44,540226.43000000005,26782472.620000001,null,null,960,null,1895.5,null,0.50649999999999995,9,null,0.46841839312784234,1979,960,899,960]
[65,"Cohasset                     ",25,100,0,524,364,468,0,54,14,1,0,0,105,1419,1.0349999999999999,2,7.5300000000000006E-2,null,800780.25554999989,1102435.16625,6039578.9596499996,1488669.2833499999,240440.90174999996,848700.11,495371.36879999994,497264.40449999989,1596217.2304499997,1855916.07,398061.58,15363435.330299998,null,null,105,null,1393.5,null,7.5300000000000006E-2,2,null,4.0566645202833228E-2,1553,58,105,105]
[66,"Colrain                      ",0,0,0,0,0,0,0,0,0,0,0,0,0,0,1,0,0,null,0,0,0,0,0,0,0,0,0,0,0,0,null,null,0,null,0,null,0,0,null,0,1,0,0,0]
[67,"Concord                      ",15,0,175,1116,699,0,0,76,20,39,8,0,187,1998,1.0569999999999999,2,9.4200000000000006E-2,null,1159197.6622099997,1603912.2106700002,8076241.4627999989,2341383.5312000001,350475.16609000001,1009142.3099999999,634462.87589999987,470117.63028999988,2291441.09509,2698227.1700000004,568659.4,21203260.514250003,null,null,187,null,1984.5,null,9.4200000000000006E-2,2,null,5.5882352941176473E-2,2040,112,187,187]
[68,"Conway                       ",3,0,9,50,15,0,2,3,1,0,0,0,35,78,1,5,0.28810000000000002,null,44764.360000000008,66029.06,380554.39,88324.39,16394.47,41246.17,25551.67,32057.899999999998,84600.82,116346.28000000001,28432.97,924302.48000000021,null,null,35,null,121.5,null,0.28810000000000002,5,null,0.20689655172413793,145,16,35,35]
[69,"Cummington                   ",0,0,0,0,0,0,4,0,0,0,0,0,0,4,1,0,0,null,1621.48,2928.52,29541.64,2063.92,923.44,5441.88,1630.4,2196.16,7335.76,6088.6,0,59771.8,null,null,0,null,0,null,0,0,null,0,9,0,0,0]
[70,"Dalton                       ",0,0,0,0,0,0,19,1,0,0,0,0,0,19,1,0,0,null,10499.74,13910.47,149554.52000000002,18423.160000000003,4831.67,26237.63,7744.4000000000005,10431.759999999998,37970.03,32461.22,0,312064.59999999998,null,null,0,null,0,null,0,0,null,0,20,0,0,0]
[71,"Danvers                      ",90,0,266,1325,812,936,0,128,33,36,3,7,740,3384,1,4,0.22589999999999999,null,1873756.3200000003,2678148.35,15076451.299999999,3507182.0399999996,615580.99,1986267.2200000002,1166639,1328294.79,3675811.94,4651809.9799999995,938288.01,37498229.93999999,null,null,740,null,3275.5,null,0.22589999999999999,4,null,0.21010928961748634,3660,711,740,740]
[72,"Dartmouth                    ",83,0,214,1234,895,984,0,127,33,43,5,6,957,3369,1,5,0.2823,null,1878303.1,2729053.9699999997,15633062.51,3449996.4800000004,643557.26,1997738.8299999996,1199766.6500000004,1481021.26,3669369.8499999996,4728867.33,938288.01,38349025.249999993,null,null,957,null,3389.5,null,0.2823,5,null,0.25557645794141359,3721,861,957,957]
[73,"Dedham                       ",23,0,207,961,681,725,0,98,26,95,23,21,724,2586,1.0409999999999999,5,0.28339999999999999,null,1513338.43689,2194354.8593399995,12555964.713449998,2790393.0152099999,517564.71311999991,1535997.4300000002,959726.50667999987,1165355.7155399998,2960230.2705899999,3654246.2400000007,739257.22,30586429.120819997,null,null,724,null,2555,null,0.28339999999999999,5,null,0.28011935844834018,2681,724,703,724]
[74,"Deerfield                    ",6,0,27,221,41,0,1,11,3,5,0,0,74,293,1,4,0.23569999999999999,null,163081.29999999999,234652.72,1266963.8299999998,337822.49,53760.95,149509.73000000001,88685.190000000017,85220.62,313049.78999999998,411877.56000000006,85298.91,3189923.0900000003,null,null,74,null,314,null,0.23569999999999999,4,null,0.25217391304347825,345,74,73,74]
[75,"Dennis                       ",0,0,0,0,0,0,0,0,0,0,0,0,0,0,1,0,0,null,0,0,0,0,0,0,0,0,0,0,0,0,null,null,0,null,0,null,0,0,null,0,0,0,0,0]
[76,"Dighton                      ",0,0,0,0,0,0,0,0,0,0,0,0,0,0,1,0,0,null,0,0,0,0,0,0,0,0,0,0,0,0,null,null,0,null,0,null,0,0,null,0,0,0,0,0]
[77,"Douglas                      ",31,0,58,427,267,328,10,41,11,7,1,0,238,1106,1,4,0.20899999999999999,null,609653.88,872808.16,4961831.6300000008,1126062.1499999999,201104.35,662916.68999999983,384962.55000000005,446284.38,1206568.8499999999,1515565.8799999997,312762.67000000004,12300521.189999999,null,null,238,null,1138.5,null,0.20899999999999999,4,null,0.18663911845730027,1452,206,238,238]
[78,"Dover                        ",8,0,61,411,0,0,0,18,5,11,0,0,16,476,1.0509999999999999,1,3.4000000000000002E-2,null,273435.25425,372347.20797999995,1908129.9440299997,595964.43163000012,77404.079530000003,239870.45,135155.21578,78427.112419999976,528765.66720000003,623410.65,142164.85,4975074.8628200004,null,null,16,null,471,null,3.4000000000000002E-2,1,null,3.3333333333333333E-2,480,16,12,16]
[79,"Dracut                       ",48,0,307,1599,1040,1011,1,151,40,57,16,18,1209,3982,1,6,0.30940000000000001,null,2237851.96,3275720.4000000004,18821702.350000001,4146788.0200000009,782683.44999999984,2324843.9300000006,1415268.2,1780266.1700000002,4340138.6700000009,5682369.0900000017,1137318.8,45944951.039999999,null,null,1209,null,3908,null,0.30940000000000001,6,null,0.28479215078750325,3873,1134,1209,1209]
[80,"Dudley                       ",0,0,0,0,0,0,0,0,0,0,0,0,0,0,1,0,0,null,0,0,0,0,0,0,0,0,0,0,0,0,null,null,0,null,0,null,0,0,null,0,1,0,0,0]
[81,"Dunstable                    ",0,0,0,0,0,0,0,0,0,0,0,0,0,0,1,0,0,null,0,0,0,0,0,0,0,0,0,0,0,0,null,null,0,null,0,null,0,0,null,0,1,0,0,0]
[82,"Duxbury                      ",15,185,0,956,675,984,14,104,27,7,0,2,202,2730,1.036,2,7.51E-2,null,1543280.1143200002,2124160.3311600005,11794372.07508,2840359.7496400005,465128.90032000002,1670263.7200000002,967036.70196000009,997149.32660000003,3091407.4861600008,3570471.6200000006,767690.19000000006,29831320.215240002,null,null,202,null,2691,null,7.51E-2,2,null,6.0944479897894067E-2,3134,166,202,202]
[83,"East Bridgewater             ",15,0,135,763,500,652,9,78,21,9,5,4,506,2067,1,5,0.2457,null,1148835.9000000001,1650192.5299999996,9467501,2106845.5400000005,384604.01999999996,1244219.1000000003,731214.33000000007,883292.32999999984,2253643.8599999994,2860918.88,597092.37,23328359.859999999,null,null,506,null,2059.5,null,0.2457,5,null,0.19496567505720824,2185,403,506,506]
[84,"East Brookfield              ",0,0,0,0,0,0,22,1,0,0,0,0,0,22,1,0,0,null,11715.849999999999,16106.86,171710.75,19971.100000000002,5524.25,30319.040000000001,8967.2000000000007,12078.88,43471.85,37027.670000000006,0,356893.44999999995,null,null,0,null,0,null,0,0,null,0,19,0,0,0]
[85,"Eastham                      ",11,0,24,166,0,0,0,7,2,9,0,0,79,196,1,8,0.43169999999999997,null,110797.65,168890.16999999998,968247.7,230247.95,41006.97,100539.90999999997,62084.020000000004,77120.459999999992,206679.74000000002,291569.83,56865.94,2314050.34,null,null,79,null,183,null,0.43169999999999997,8,null,0.40217391304347827,184,79,75,79]
[86,"Easthampton                  ",22,0,119,617,382,427,74,63,15,26,17,6,572,1630,1,7,0.36809999999999998,null,922380.86,1371104.33,8331833.9199999999,1690318.41,341652.3,1023826.5799999998,600660.69000000018,818081.87,1847408.76,2401862.98,426494.55000000005,19775625.25,null,null,572,null,1554,null,0.36809999999999998,7,null,0.32243517474633598,1774,526,572,572]
[87,"East Longmeadow              ",13,0,144,876,582,823,25,94,24,31,2,8,601,2457,1,5,0.24970000000000001,null,1368122.1600000001,1964652.3399999999,11396830.32,2500105.63,460188.14999999997,1508265.01,878520.41,1075054.6599999999,2702589.9299999997,3411240.9899999998,682391.28,27947960.879999999,null,null,601,null,2407,null,0.24970000000000001,5,null,0.20559334845049132,2646,505,601,601]
[88,"Easton                       ",24,132,14,1231,887,1163,0,128,34,34,7,10,614,3373,1,4,0.18410000000000001,null,1865815.02,2638023.9300000002,14918125.399999999,3402150.9100000006,601158.46999999986,2045289.92,1188586.7500000002,1368378.5999999999,3683652.4699999993,4575060.45,966720.98,37252962.899999999,null,null,614,null,3334.5,null,0.18410000000000001,4,null,0.12164725006773232,3691,410,614,614]
[89,"Edgartown                    ",7,0,40,233,151,0,0,16,4,64,21,0,184,428,1,8,0.4526,null,250120.90000000002,383774.24000000005,2173614.4299999997,484024.01999999996,96445.609999999986,228231.84000000003,152309.39000000001,192274.37,484821.06,669691.92000000004,113731.88,5229039.6599999992,null,null,184,null,406.5,null,0.4526,8,null,0.33004926108374383,406,141,184,184]
[90,"Egremont                     ",0,0,0,0,0,0,0,0,0,0,0,0,0,0,1,0,0,null,0,0,0,0,0,0,0,0,0,0,0,0,null,null,0,null,0,null,0,0,null,0,0,0,0,0]
[91,"Erving                       ",14,0,14,80,52,54,0,8,2,1,1,0,51,207,1,8,0.46150000000000002,null,115783.31999999999,167556.47000000003,956427.09000000008,216442.10000000003,39524.749999999993,120811.49,72533.13,87957.31,225203.31,291398.64,56865.94,2350503.5500000003,null,null,51,null,110.5,null,0.46150000000000002,8,null,0.24705882352941178,255,51,35,51]
[92,"Essex                        ",0,0,0,0,0,0,0,0,0,0,0,0,0,0,1.0369999999999999,0,0,null,0,0,0,0,0,0,0,0,0,0,0,0,null,null,0,null,0,null,0,0,null,0,0,0,0,0]
[93,"Everett                      ",253,0,402,2858,1763,1488,867,291,65,1142,369,448,5839,7505,1.042,11,0.78979999999999995,null,4844135.54416,8108238.4312800001,55824607.076319993,8392960.5340400003,2359477.0619600001,5322727.3,3503863.7214600006,6530731.5614,9840964.820100002,13606723.619999999,1848143.05,120182572.72071998,null,null,5839,null,7393,null,0.78979999999999995,11,null,0.77797062750333779,7490,5839,4776,5839]
[94,"Fairhaven                    ",17,0,116,657,466,479,0,66,17,18,3,6,687,1727,1,6,0.35909999999999997,null,979373.26,1464732.38,8637557.4100000001,1782920.5699999998,361433.82999999996,1021578.7799999998,637903.74000000011,885684.79999999993,1882627.2199999997,2533355.59,483360.49,20670528.07,null,null,687,null,1913,null,0.35909999999999997,6,null,0.34733893557422968,1785,600,687,687]
[95,"Fall River                   ",231,0,832,4857,3119,1915,1055,461,107,1144,423,484,9167,11894,1,11,0.78539999999999999,null,7274726.0000000019,12131123.360000001,81562216.939999998,12776656.450000001,3494957.0100000002,7902433.7100000009,5157989.2200000007,9565542.9600000009,14389038.929999998,21178544.75,3042327.79,178475557.12,null,null,9167,null,11672.5,null,0.78539999999999999,11,null,0.77069894848458076,11317,9167,8723,9167]
[96,"Falmouth                     ",43,1,185,1137,752,797,143,117,29,83,20,19,1100,3037,1,6,0.35470000000000002,null,1722680.5499999998,2557133.0999999996,15540888.550000001,3138171.15,637840.84999999986,1915199.5299999998,1124042.58,1529526.73,3456113.8200000008,4481304.07,824556.13,36927457.06000001,null,null,1100,null,3101.5,null,0.35470000000000002,6,null,0.30965034965034965,3575,940,1100,1100]
[97,"Fitchburg                    ",103,0,323,2247,1381,1641,0,214,56,549,105,152,4030,5644,1,11,0.76170000000000004,null,3416025.2800000003,5621401.4600000009,36162455.899999999,5938704.8300000001,1552289.67,3496379.3599999989,2419403.36,4401655.13,6342097.7199999988,9577995.3599999994,1592246.32,80520654.390000001,null,null,4030,null,5290.5,null,0.76170000000000004,11,null,0.71407758149699507,5491,4030,3732,4030]
[98,"Florida                      ",0,0,5,19,27,7,0,2,1,0,0,0,29,58,1,6,0.35799999999999998,null,33850.559999999998,50750.579999999994,290102.15999999997,58295.53,12869.279999999999,31601.48,21527.41,30549.5,62769.180000000008,87969.090000000011,28432.97,708717.74,null,null,29,null,81,null,0.35799999999999998,6,null,0.4823529411764706,85,28,29,29]
[99,"Foxborough                   ",38,22,155,921,627,810,0,96,25,49,13,6,518,2543,1.06,4,0.20580000000000001,null,1493829.2210000001,2128742.8058000002,12050787.984599998,2754652.6022000001,487940.44020000001,1526935.98,945017.26320000004,1087012.1284,2944399.6617999999,3481066.77,710824.25,29611209.107200004,null,null,518,null,2516.5,null,0.20580000000000001,4,null,0.18587360594795538,2690,473,518,518]
[100,"Framingham                   ",150,0,664,3639,2335,2579,11,353,92,1555,368,384,4330,9303,1.022,9,0.48060000000000003,null,5663027.2460999992,8754497.7242799979,53374535.800179996,10198177.285100002,2246083.0851199999,5789273.2800000003,3785847.15124,5581649.5763000008,10976830.275459999,14698183.77,2615833.2400000002,123683938.43378,null,null,4330,null,9010.5,null,0.48060000000000003,9,null,0.44786483045943759,8641,4166,4330,4330]
[101,"Franklin                     ",77,1,296,1837,1304,1814,1,201,53,58,18,12,659,5292,1.0549999999999999,3,0.1278,null,3069883.8058500001,4280398.6128500002,23883988.469649997,5659348.3792999992,953273.40794999979,3201325.8200000003,1925549.6447000005,2064174.7351499998,6092642.1226499993,7046797.2999999989,1506947.4100000001,59684329.708099991,null,null,659,null,5158.5,null,0.1278,3,null,9.5957936247124551E-2,6086,508,659,659]
[102,"Freetown                     ",0,0,0,0,0,0,69,3,0,0,0,0,0,69,1,0,0,null,36363.660000000003,50516.97,537288.48,61461.240000000005,17265.330000000002,95038.530000000013,28124.400000000001,37883.759999999995,135917.37,115649.46,0,1115509.2,null,null,0,null,0,null,0,0,null,0,94,0,0,0]
[103,"Gardner                      ",32,0,158,855,622,634,0,87,23,73,26,14,1387,2285,1,10,0.62619999999999998,null,1345423.3399999999,2147356.5299999998,13429107.529999997,2368277.1400000006,574720.69999999995,1375354.5199999998,927586.65000000014,1576510.17,2513041.09,3681468.6799999997,653958.31000000006,30592804.659999996,null,null,1387,null,2215,null,0.62619999999999998,10,null,0.60678642714570863,2505,1387,1342,1387]
[104,"Aquinnah",0,0,0,0,0,0,0,0,0,0,0,0,0,0,1,0,0,null,0,0,0,0,0,0,0,0,0,0,0,0,null,null,0,null,0,null,0,0,null,0,0,0,0,0]
[105,"Georgetown                   ",17,0,83,505,285,348,9,47,12,0,0,0,148,1239,1,3,0.1222,null,677490.72,944703.44000000006,5227130.16,1280107.45,209865.98,732122.99999999988,414075.11000000004,424337.87999999995,1348477.8199999998,1649394.0999999999,341195.64,13248901.300000001,null,null,148,null,1211.5,null,0.1222,3,null,0.10367170626349892,1389,128,148,148]
[106,"Gill                         ",0,0,0,0,0,0,0,0,0,0,0,0,0,0,1,0,0,null,0,0,0,0,0,0,0,0,0,0,0,0,null,null,0,null,0,null,0,0,null,0,0,0,0,0]
[107,"Gloucester                   ",67,0,230,1128,689,808,128,115,29,128,36,55,1257,3017,1.0409999999999999,8,0.45939999999999998,null,1804285.9757999999,2738033.6195999999,16908289.577099998,3264868.3544399999,698196.30569999991,1911356.2999999998,1196079.5292900002,1734469.4786399999,3581478.8960099998,4580271.71,824556.13,39241885.876580007,null,null,1257,null,2736,null,0.45939999999999998,8,null,0.41674389867160949,3237,1257,1208,1257]
[108,"Goshen                       ",0,0,0,0,0,0,9,0,0,0,0,0,0,9,1,0,0,null,3648.33,6589.17,66468.69,4643.82,2077.7400000000002,12244.23,3668.4,4941.3599999999997,16505.46,13699.35,0,134486.55000000002,null,null,0,null,0,null,0,0,null,0,8,0,0,0]
[109,"Gosnold                      ",0,0,0,3,2,0,0,0,0,0,0,0,0,5,1,0,0,null,2026.8500000000001,3660.6499999999996,15979.289999999999,3822.6299999999997,686.56999999999994,2429.4499999999998,1464.79,913.48,4817.84,5874.77,0,41676.320000000007,null,null,0,null,4,null,0,0,null,0,4,0,0,0]
[110,"Grafton                      ",50,0,198,1123,782,889,4,114,30,45,5,13,525,3021,1,3,0.16930000000000001,null,1667679.21,2356673.39,13158983.52,3098624.1700000004,533957.09,1791951.0699999998,1040226.7100000001,1139897.8900000001,3297356.6799999997,4097953.0000000005,852989.10000000009,33036291.830000006,null,null,525,null,3101,null,0.16930000000000001,3,null,0.11902500791389681,3159,360,525,525]
[111,"Granby                       ",24,0,49,248,141,233,2,26,7,25,3,9,255,685,1,6,0.35120000000000001,null,390187.59000000008,580374.2300000001,3474193.61,705123.62000000011,142152.6,422190.39,256287.79,355207.02,754065.94000000006,998761.72000000009,199030.79,8277575.2999999998,null,null,255,null,726,null,0.35120000000000001,6,null,0.27216748768472904,812,186,255,255]
[112,"Granville                    ",0,0,0,0,0,0,0,0,0,0,0,0,0,0,1,0,0,null,0,0,0,0,0,0,0,0,0,0,0,0,null,null,0,null,0,null,0,0,null,0,0,0,0,0]
[113,"Great Barrington             ",0,0,0,0,0,0,0,0,0,0,0,0,0,0,1,0,0,null,0,0,0,0,0,0,0,0,0,0,0,0,null,null,0,null,0,null,0,0,null,0,0,0,0,0]
[114,"Greenfield                   ",45,0,129,743,467,496,1,70,18,47,17,20,924,1859,1,10,0.57110000000000005,null,1075036.28,1677977.6199999996,10250566.02,1933959.05,434446.97000000003,1107544.71,721942.45999999985,1132672.69,2035935.0199999996,2883395.97,511793.46,23765270.25,null,null,924,null,1618,null,0.57110000000000005,10,null,0.49658203125,2048,923,924,924]
[115,"Groton                       ",0,0,0,0,0,0,0,0,0,0,0,0,0,0,1,0,0,null,0,0,0,0,0,0,0,0,0,0,0,0,null,null,0,null,0,null,0,0,null,0,0,0,0,0]
[116,"Groveland                    ",0,0,0,0,0,0,9,0,0,0,0,0,0,9,1,0,0,null,3648.33,6589.17,66468.69,4643.82,2077.7400000000002,12244.23,3668.4,4941.3599999999997,16505.46,13699.35,0,134486.55000000002,null,null,0,null,0,null,0,0,null,0,6,0,0,0]
[117,"Hadley                       ",3,0,29,137,124,184,22,19,5,13,2,5,130,498,1,4,0.2394,null,278813.28000000003,401398.9,2419692.89,494608.26,96335.709999999992,326775.54000000004,184674.62000000002,235700.56,567044.57000000007,701442.85000000021,142164.85,5848652.0300000003,null,null,130,null,543,null,0.2394,4,null,0.20949263502454993,611,104,130,130]
[118,"Halifax                      ",0,0,71,438,89,12,5,23,6,9,0,0,155,615,1.0269999999999999,5,0.27100000000000002,null,350363.52507000003,506197.34190999996,2757534.8578699999,721163.76475000009,116480.82003999998,319686.42999999993,193699.19387000002,190999.26221999998,677615.3497100001,865079.01,170597.82,6869417.3754399987,null,null,155,null,572,null,0.27100000000000002,5,null,0.2516891891891892,592,155,134,155]
[119,"Hamilton                     ",0,0,0,0,0,0,0,0,0,0,0,0,0,0,1.036,0,0,null,0,0,0,0,0,0,0,0,0,0,0,0,null,null,0,null,0,null,0,0,null,0,0,0,0,0]
[120,"Hampden                      ",0,0,0,0,0,0,0,0,0,0,0,0,0,0,1,0,0,null,0,0,0,0,0,0,0,0,0,0,0,0,null,null,0,null,0,null,0,0,null,0,0,0,0,0]
[121,"Hancock                      ",1,0,6,26,19,21,8,3,1,0,0,0,15,81,1,5,0.27779999999999999,null,44860.26,62917.46,382102.72999999992,80626.799999999988,15054.460000000001,53688.060000000005,28370.460000000003,33044.629999999997,94123.22,112254.93,28432.97,935475.98,null,null,15,null,54,null,0.27779999999999999,5,null,0,75,0,15,15]
[122,"Hanover                      ",27,192,4,1013,625,790,6,97,25,20,6,0,269,2548,1.0349999999999999,2,0.1067,null,1444579.8772499999,2005061.3986499999,11066384.854799999,2700956.6275499994,442879.96724999999,1519101.34,891123.01469999994,915362.08334999997,2874718.0682999999,3376147.33,710824.25,27947138.811849996,null,null,269,null,2522,null,0.1067,2,null,9.6648480124707711E-2,2566,246,269,269]
[123,"Hanson                       ",0,0,0,0,0,0,1,0,0,0,0,0,0,1,1,0,0,null,405.37,732.13,7385.41,515.98,230.86,1360.47,407.6,549.04,1833.94,1522.15,0,14942.95,null,null,0,null,0,null,0,0,null,0,8,0,0,0]
[124,"Hardwick                     ",0,0,0,0,0,0,3,0,0,0,0,0,0,3,1,0,0,null,1216.1100000000001,2196.39,22156.23,1547.94,692.58,4081.41,1222.8000000000002,1647.12,5501.82,4566.4500000000007,0,44828.850000000006,null,null,0,null,0,null,0,0,null,0,1,0,0,0]
[125,"Harvard                      ",12,39,4,308,215,323,0,33,9,6,0,0,87,876,1,2,8.6999999999999994E-2,null,479375.29000000004,663901.09000000008,3697004.3799999994,876360.14,146264.80000000002,534690.40999999992,302190.71000000002,321471.62999999995,953245.18,1151572.5,255896.73,9381972.8599999994,null,null,87,null,1000,null,8.6999999999999994E-2,2,null,3.8272816486751716E-2,1019,34,87,87]
[126,"Harwich                      ",0,0,0,0,0,0,0,0,0,0,0,0,0,0,1,0,0,null,0,0,0,0,0,0,0,0,0,0,0,0,null,null,0,null,0,null,0,0,null,0,0,0,0,0]
[127,"Hatfield                     ",6,0,15,111,91,86,28,13,3,1,0,0,75,334,1,4,0.18609999999999999,null,184972.92,264267.71000000002,1594504.8499999999,338650.81,63821.020000000004,218439.08,118932.34000000001,142408.47999999998,388753.47000000009,471535.96,85298.91,3871585.5500000003,null,null,75,null,403,null,0.18609999999999999,4,null,0.13385826771653545,381,45,75,75]
[128,"Haverhill                    ",186,1,515,3345,2240,1952,130,314,81,483,143,143,4543,8276,1,10,0.5645,null,4862809.3099999996,7677582.5599999987,47682934.019999996,8702966.6400000006,2033169.3599999999,5024256.0200000005,3290684.29,5307325.459999999,9297894.4100000001,13244193.800000001,2303070.5700000003,109426886.44,null,null,4543,null,8047.5,null,0.5645,10,null,0.49673041332510798,8105,4111,4543,4543]
[129,"Hawley                       ",0,0,0,0,0,0,4,0,0,0,0,0,0,4,1,0,0,null,1621.48,2928.52,29541.64,2063.92,923.44,5441.88,1630.4,2196.16,7335.76,6088.6,0,59771.8,null,null,0,null,0,null,0,0,null,0,5,0,0,0]
[130,"Heath                        ",0,0,0,0,0,0,0,0,0,0,0,0,0,0,1,0,0,null,0,0,0,0,0,0,0,0,0,0,0,0,null,null,0,null,0,null,0,0,null,0,0,0,0,0]
[131,"Hingham                      ",27,0,215,1447,941,1321,9,150,39,7,1,4,285,3947,1.0449999999999999,2,7.3200000000000001E-2,null,2249367.1815999993,3096444.5369000002,17043172.11245,4189141.3046999997,675077.70164999983,2375442.7099999995,1390402.5959999994,1395295.6308500001,4489240.7681,5160689.3999999994,1108885.83,43173159.772249997,null,null,285,null,3893.5,null,7.3200000000000001E-2,2,null,6.68417283361184E-2,4189,264,285,285]
[132,"Hinsdale                     ",0,0,0,0,0,0,8,0,0,0,0,0,0,8,1,0,0,null,3242.96,5857.04,59083.28,4127.84,1846.88,10883.76,3260.8,4392.32,14671.52,12177.2,0,119543.6,null,null,0,null,0,null,0,0,null,0,14,0,0,0]
[133,"Holbrook                     ",17,0,90,573,301,342,0,50,13,47,17,9,637,1315,1.04,9,0.49209999999999998,null,791768.94160000002,1224035.1343999999,7438090.0567999994,1440241.0568000001,313999.14,781172.07999999984,523554.05440000008,800982.68639999989,1499956.3591999998,2024587.9700000002,369628.61,17208016.089600001,null,null,637,null,1294.5,null,0.49209999999999998,9,null,0.4845890410958904,1168,637,498,637]
[134,"Holden                       ",0,0,0,0,0,0,1,0,0,0,0,0,0,1,1,0,0,null,405.37,732.13,7385.41,515.98,230.86,1360.47,407.6,549.04,1833.94,1522.15,0,14942.95,null,null,0,null,0,null,0,0,null,0,1,0,0,0]
[135,"Holland                      ",3,0,21,109,20,0,0,6,2,0,0,0,68,152,1,6,0.35139999999999999,null,88290.290000000008,130349.36000000002,745610.79999999993,177427.51,32223.840000000004,77355.520000000004,49249.98,62750.5,161547.75,228073.33000000002,56865.94,1809744.82,null,null,68,null,193.5,null,0.35139999999999999,6,null,0.3987730061349693,163,61,68,68]
[136,"Holliston                    ",18,163,12,1015,672,800,14,100,26,43,13,7,261,2604,1.018,2,9.8299999999999998E-2,null,1458650.0547999996,2017988.3224000004,11150961.182380002,2720360.8835999998,446734.09107999993,1561575.57,899367.59395999985,917655.56694000005,2912354.7368600005,3462223.39,739257.22,28287128.612019997,null,null,261,null,2656,null,9.8299999999999998E-2,2,null,7.0175438596491224E-2,2565,183,261,261]
[137,"Holyoke                      ",266,0,404,2293,1406,1588,335,233,57,455,310,353,4947,6159,1,12,0.85750000000000004,null,3783515.73,6398927.8000000007,43123943.149999999,6492824.5800000001,1842116.5899999999,4092777.75,2757852.89,5311679.7899999991,7268879.1400000006,11000437.83,1620679.29,93693634.540000007,null,null,4947,null,5769,null,0.85750000000000004,12,null,0.80328362705226686,6639,4947,4801,4947]
[138,"Hopedale                     ",15,0,70,326,225,284,1,35,9,28,6,8,203,914,1.0029999999999999,4,0.19040000000000001,null,511812.82594000007,730826.18077999982,4161146.4109299998,945719.69305999984,169036.90392999991,549884.61999999988,323309.84846000001,376008.42130999995,1007828.0207399998,1264569.21,255896.73,10296038.865150001,null,null,203,null,1066,null,0.19040000000000001,4,null,0.14020427112349118,1077,128,203,203]
[139,"Hopkinton                    ",33,1,270,1475,940,1227,5,149,39,228,15,14,282,3935,1.046,2,7.22E-2,null,2267370.9792799996,3131470.2927000001,17181680.872440003,4250922.9963200008,684175.45178000012,2366991.96,1391467.18976,1354753.5730000001,4542263.8910000008,5210687.7800000012,1108885.83,43490670.81628,null,null,282,null,3905.5,null,7.22E-2,2,null,3.2387503582688451E-2,3489,127,282,282]
[140,"Hubbardston                  ",0,0,0,0,0,0,0,0,0,0,0,0,0,0,1,0,0,null,0,0,0,0,0,0,0,0,0,0,0,0,null,null,0,null,0,null,0,0,null,0,0,0,0,0]
[141,"Hudson                       ",25,0,157,964,654,723,1,95,25,204,45,60,801,2512,1.01,6,0.31019999999999998,null,1450274.0288000002,2139340.4990999997,12474130.411699999,2651647.9501,516203.36439999996,1521593.25,935933.75079999992,1199464.6981000002,2839506.1321,3658810.91,710824.25,30097729.245099999,null,null,801,null,2582,null,0.31019999999999998,6,null,0.29249728162377675,2759,735,801,801]
[142,"Hull                         ",31,0,43,287,201,279,11,32,8,4,3,3,304,837,1.0269999999999999,7,0.3765,null,485286.56410000002,723191.82273000001,4347860.4612299986,872449.16290999996,178430.82594999997,517547.70999999996,321870.75543999998,451832.93258999998,946455.09100999997,1218248.1399999999,227463.76,10290637.225959999,null,null,304,null,807.5,null,0.3765,7,null,0.3637236084452975,1042,304,280,304]
[143,"Huntington                   ",0,0,0,0,0,0,27,1,0,0,0,0,0,27,1,0,0,null,13742.7,19767.509999999998,208637.80000000002,22551,6678.55,37121.39,11005.2,14824.079999999998,52641.55,44638.420000000006,0,431608.2,null,null,0,null,0,null,0,0,null,0,23,0,0,0]
[144,"Ipswich                      ",16,0,89,568,373,537,10,60,16,20,8,6,292,1585,1.052,4,0.185,null,923200.47347999993,1306810.90588,7445994.3107199995,1693191.3805200001,298515.79351999995,968281.67999999993,585584.92232000013,671870.77235999994,1828925.0387999997,2155756.6,454927.52,18333059.397599999,null,null,292,null,1578.5,null,0.185,4,null,0.14423592493297588,1865,229,292,292]
[145,"Kingston                     ",0,0,133,762,160,16,5,41,11,26,2,0,228,1076,1.0289999999999999,4,0.21609999999999999,null,616416.85223999992,876631.64819999982,4708203.0519299991,1275107.4940799999,198696.19559999995,555437.97999999986,334407.99062999996,305088.59073000005,1190538.64545,1498938.39,312762.67000000004,11872229.508859999,null,null,228,null,1055,null,0.21609999999999999,4,null,0.16483516483516483,1092,177,228,228]
[146,"Lakeville                    ",0,0,0,0,0,0,9,0,0,0,0,0,0,9,1,0,0,null,3648.33,6589.17,66468.69,4643.82,2077.7400000000002,12244.23,3668.4,4941.3599999999997,16505.46,13699.35,0,134486.55000000002,null,null,0,null,0,null,0,0,null,0,13,0,0,0]
[147,"Lancaster                    ",0,0,0,0,0,0,1,0,0,0,0,0,0,1,1,0,0,null,405.37,732.13,7385.41,515.98,230.86,1360.47,407.6,549.04,1833.94,1522.15,0,14942.95,null,null,0,null,0,null,0,0,null,0,2,0,0,0]
[148,"Lanesborough                 ",0,0,0,0,0,0,1,0,0,0,0,0,0,1,1,0,0,null,405.37,732.13,7385.41,515.98,230.86,1360.47,407.6,549.04,1833.94,1522.15,0,14942.95,null,null,0,null,0,null,0,0,null,0.35,200,0,0,0]
[149,"Lawrence                     ",474,0,905,6097,3876,3605,26,554,145,2610,999,1227,13472,14746,1,12,0.92479999999999996,null,9393820.6799999978,16235754.010000002,107646047.25999999,16078457.169999998,4704116.5600000005,9354439.6699999981,6873274.2499999991,13583966.58,17327552.219999999,27520723.870000001,4122780.6500000004,232840932.91999999,null,null,13472,null,14567,null,0.92479999999999996,12,null,0.91360463584880813,15186,13472,11962,13472]
[150,"Lee                          ",11,0,34,211,117,207,4,22,6,18,7,4,278,579,1,7,0.41060000000000002,null,334158.47000000009,510747.25,3156596.04,591769.81999999995,130153.88999999998,362890.41999999993,226219.25000000003,348275.05000000005,638906,876164.36,170597.82,7346478.3700000001,null,null,278,null,677,null,0.41060000000000002,7,null,0.44592346089850249,601,258,278,278]
[151,"Leicester                    ",17,0,81,511,339,445,73,57,14,35,6,10,513,1458,1,7,0.37080000000000002,null,829077.56,1227488.1100000001,7558846.7299999995,1494705.11,307373.17,940901.07000000018,547505.55999999994,761885.87000000011,1664724.92,2150076.21,398061.58,17880645.889999997,null,null,513,null,1383.5,null,0.37080000000000002,7,null,0.35168961201501875,1598,513,479,513]
[152,"Lenox                        ",15,0,28,163,113,177,7,18,5,11,3,6,172,496,1,4,0.23100000000000001,null,277512.17,410884.17999999993,2447757.8000000003,494500.61,99171.680000000008,311044.01999999996,184577.39000000004,247787.74,547315.54000000015,707412.3600000001,142164.85,5870128.3400000008,null,null,172,null,744.5,null,0.23100000000000001,4,null,0.34740882917466409,521,172,156,172]
[153,"Leominster                   ",76,0,353,2162,1442,1296,699,235,53,451,111,128,2952,5990,1,9,0.49919999999999998,null,3506975.9499999997,5436849.7999999998,35743760.100000001,6262315.4600000009,1470493.08,4139824.83,2392062.2199999997,3735402.26,7317237.0800000019,9645062.7300000004,1506947.4100000001,81156930.920000002,null,null,2952,null,5913.5,null,0.49919999999999998,9,null,0.46110934013388588,6274,2762,2952,2952]
[154,"Leverett                     ",1,0,11,69,24,0,0,4,1,0,0,0,29,105,1,5,0.2437,null,58170.99,84204.180000000008,453197.82999999996,118710.40000000001,19577.02,52889.130000000005,32422.590000000004,32698.559999999998,111797.67000000001,148282.51000000004,28432.97,1140383.8500000001,null,null,29,null,119,null,0.2437,5,null,0.27884615384615385,104,29,23,29]
[155,"Lexington                    ",36,0,309,2495,1816,2344,0,266,70,403,85,63,511,6982,1.093,2,7.4300000000000005E-2,null,4222541.6060800003,5827270.72939,32102092.884539999,7816820.2978799995,1277891.36629,4253517.3,2624629.2614499996,2614801.1803299994,8470758.5035399999,9273133.4300000016,1990307.9000000001,80473764.459500015,null,null,511,null,6877.5,null,7.4300000000000005E-2,2,null,6.2344867863921738E-2,6849,435,511,511]
[156,"Leyden                       ",0,0,0,0,0,0,0,0,0,0,0,0,0,0,1,0,0,null,0,0,0,0,0,0,0,0,0,0,0,0,null,null,0,null,0,null,0,0,null,0,0,0,0,0]
[157,"Lincoln                      ",16,0,44,325,193,0,8,21,6,17,7,0,93,578,1.0489999999999999,2,9.1999999999999998E-2,null,333874.75491999992,472729.51072999992,2460703.0477299998,664722.48396999994,106294.76088999998,300589.55000000005,187577.46998999995,158915.34927000001,664763.15370000002,798001.46,170597.82,6318769.3612000002,null,null,93,null,1010.5,null,9.1999999999999998E-2,2,null,6.7961165048543687E-2,618,39,93,93]
[158,"Littleton                    ",34,80,10,583,399,465,1,57,15,20,2,3,162,1515,1.004,2,0.105,null,832809.57643999998,1158729.2311200001,6367148.7966799997,1549683.2769599999,255883.61663999999,900612.96,515778.41408000002,528899.65995999996,1658439.3480799997,2009221.2999999998,426494.55000000005,16203700.729959998,null,null,162,null,1542.5,null,0.105,2,null,0.10718870346598203,1558,162,149,162]
[159,"Longmeadow                   ",27,0,148,966,671,889,17,103,27,6,3,1,314,2705,1,2,0.1153,null,1483000.3000000003,2060847.8299999996,11489966.040000001,2744864.88,458303.15999999992,1635098.85,924809.26000000013,976484.4,2956236.5199999996,3591443.01,767690.19000000006,29088744.440000001,null,null,314,null,2722.5,null,0.1153,2,null,5.2650302383493421E-2,2811,142,314,314]
[160,"Lowell                       ",491,0,1175,6687,4303,3326,310,607,155,2497,816,676,11207,16047,1,11,0.70930000000000004,null,9839037.4000000004,16180150.069999998,103724521.42,17418827.82,4478722.16,10016128.6,6845706.0999999996,11983562.460000001,18755604.440000001,27766336.07,4407110.3500000006,231415706.88999999,null,null,11207,null,15800.5,null,0.70930000000000004,11,null,0.69836601307189539,15300,11207,10501,11207]
[161,"Ludlow                       ",34,0,135,783,577,794,75,91,23,62,15,12,822,2381,1,6,0.34489999999999998,null,1346610.4100000001,1992760.4600000002,12082424.700000001,2411149.83,491448.47,1516873.9599999997,894366.7,1227985.9699999997,2679850.0200000005,3465102.5600000005,653958.31000000006,28762531.389999997,null,null,822,null,2383.5,null,0.34489999999999998,6,null,0.34477611940298508,2680,821,822,822]
[162,"Lunenburg                    ",34,0,108,600,418,513,0,63,16,14,1,2,353,1656,1,4,0.21970000000000001,null,916498.21999999986,1307309.7899999998,7397631.1299999999,1694559.7599999998,300624.39,987355.73999999987,578839.88,670386.87999999989,1802643.16,2269409.5699999998,454927.52,18380186.040000003,null,null,353,null,1606.5,null,0.21970000000000001,4,null,0.14754098360655737,1647,244,353,353]
[163,"Lynn                         ",183,1068,144,6593,4100,4617,1076,663,160,2933,601,1257,13791,17156,1,12,0.81940000000000002,null,10737216.039999999,18098648.800000004,122875832.69,18316463.059999999,5233952.8599999994,11780803.279999999,7860119.8400000008,15030135.18,20907605.400000006,31168790.239999991,4549275.2,266558842.58999997,null,null,13791,null,16830,null,0.81940000000000002,12,null,0.80387877276128705,16036,13791,11666,13791]
[164,"Lynnfield                    ",11,0,170,872,509,618,0,83,22,39,6,5,217,2175,1.0409999999999999,2,0.10050000000000001,null,1244858.0722799997,1722810.2994600001,9434354.156969998,2353638.4254899994,378898.37057999993,1278858.6900000002,754895.69277000008,747619.24850999983,2467164.7429499999,2885806.69,625525.34000000008,23894429.729009997,null,null,217,null,2158.5,null,0.10050000000000001,2,null,8.8878326996197715E-2,2104,193,217,217]
[165,"Malden                       ",216,0,427,2600,1712,2064,10,260,68,788,171,221,4151,6921,1.0369999999999999,10,0.60870000000000002,null,4287798.6544200005,6869165.1009499999,43231095.704559997,7536669.9717499996,1835919.7950200001,4311304.04,2977718.7039199993,4984319.1585399993,8126962.7157799993,11311854.290000001,1933441.96,97406250.094940007,null,null,4151,null,6819.5,null,0.60870000000000002,10,null,0.59972954699121028,7395,4151,3689,4151]
[166,"Manchester                   ",0,0,0,0,0,0,0,0,0,0,0,0,0,0,1.038,0,0,null,0,0,0,0,0,0,0,0,0,0,0,0,null,null,0,null,0,null,0,0,null,0,0,0,0,0]
[167,"Mansfield                    ",92,0,233,1233,841,1246,0,136,36,46,10,6,663,3599,1.054,4,0.18729999999999999,null,2097034.2472400004,2970375.9173800009,16852843.610259999,3847276.9666000009,676034.37736000016,2184708.61,1331239.5224000001,1526193.6337000001,4134817.3574800002,4879734.42,1023586.92,41523845.582419999,null,null,663,null,3539.5,null,0.18729999999999999,4,null,0.14409014624790217,4171,519,663,663]
[168,"Marblehead                   ",28,131,6,979,729,978,0,105,28,73,22,26,347,2772,1,3,0.127,null,1531177.5300000003,2137873.5900000003,11952415.309999999,2799112.16,477521.42999999993,1693157.2499999998,968511.03,1047175.9099999999,3049453.02,3709901.62,796123.16,30162422.010000002,null,null,347,null,2732,null,0.127,3,null,0.10761789600967352,3308,298,347,347]
[169,"Marion                       ",13,0,41,287,62,2,4,15,4,1,0,0,97,403,1,5,0.249,null,222633.63000000003,320591.88,1735246.6499999994,459173.05,73488.479999999996,207470.15999999997,122154.27,117408.03,430936.84,563717.61,113731.88,4366552.4799999986,null,null,97,null,389.5,null,0.249,5,null,0.1958997722095672,439,79,97,97]
[170,"Marlborough                  ",82,0,386,2034,1334,1408,4,197,52,739,178,182,2394,5207,1.03,8,0.46949999999999997,null,3168207.7867000001,4869809.3266000003,29467046.922599997,5721809.0937999999,1240223.412,3202809.15,2103817.2094000001,3056100.7327000001,6132891.4770999998,8122969.7399999984,1478514.44,68564199.290899992,null,null,2394,null,5098.5,null,0.46949999999999997,8,null,0.45980707395498394,4976,2394,2332,2394]
[171,"Marshfield                   ",48,0,244,1298,925,1167,133,145,36,29,8,9,593,3791,1.0349999999999999,3,0.1583,null,2159669.3570999997,3037863.3173999996,17509925.370149996,3986241.1451999997,697243.67864999978,2371324.94,1364170.986,1513918.0462499999,4396851.0027000001,5154683.93,1023586.92,43215478.693449996,null,null,593,null,3745,null,0.1583,3,null,0.14977343191032674,4193,568,593,593]
[172,"Mashpee                      ",56,0,93,517,379,493,0,57,15,51,8,4,561,1510,1,7,0.3755,null,857566.81,1282270.5000000002,7626020.8400000017,1541046.3300000003,315306.99,919103.22,567174.88,791151.27999999991,1656892.07,2208187.19,426494.55000000005,18191214.660000004,null,null,561,null,1494,null,0.3755,7,null,0.3009478672985782,1688,454,561,561]
[173,"Mattapoisett                 ",21,0,45,279,52,5,4,15,4,1,1,0,81,396,1,4,0.20580000000000001,null,218923.29000000004,311033.41000000009,1674981.1799999997,454697.01000000007,70334.5,204732.81000000003,118284.95999999999,106846.07,424068.93,547939.83000000007,113731.88,4245573.87,null,null,81,null,393.5,null,0.20580000000000001,4,null,0.16666666666666666,510,66,81,81]
[174,"Maynard                      ",33,1,79,485,305,343,26,47,12,40,10,9,261,1256,1.0669999999999999,4,0.2107,null,742723.85803,1063405.3836999999,6082125.8625599993,1381820.5693600001,246438.58799999996,762667.75999999989,466941.03082000004,529782.82807999989,1490760.88524,1738828.1899999997,341195.64,14846690.595790001,null,null,261,null,1239,null,0.2107,4,null,0.20303468208092484,1384,255,261,261]
[175,"Medfield                     ",18,158,6,982,565,792,0,93,24,15,4,2,173,2433,1.0349999999999999,2,7.1599999999999997E-2,null,1376050.5297000001,1892344.0094999997,10381534.524899997,2578683.4559999998,411886.47824999993,1454861.08,844508.23965,840098.7877499999,2739370.63185,3184871.9,682391.28,26386600.917599998,null,null,173,null,2416,null,7.1599999999999997E-2,2,null,2.9944838455476755E-2,2538,73,173,173]
[176,"Medford                      ",67,0,318,1684,997,798,583,173,38,268,68,112,1662,4414,1.05,7,0.38009999999999999,null,2659128.9690000005,3986625.9929999998,25691074.226999994,4881268.8434999995,1040756.8080000001,3042012.8400000003,1745404.9515000004,2412610.9875000003,5692790.7750000004,6809398.2599999988,1080452.8600000001,59041525.514499992,null,null,1662,null,4372,null,0.38009999999999999,7,null,0.3764297385620915,4896,1662,1635,1662]
[177,"Medway                       ",27,0,146,777,515,637,0,79,21,27,2,4,260,2089,1.0369999999999999,3,0.1246,null,1190156.2928999998,1660399.4667899997,9178236.4193199985,2220768.7151099998,369002.09791999997,1239902.33,735237.41761999996,766204.22866000002,2357976.0620800001,2785530.6699999995,597092.37,23100506.070399996,null,null,260,null,2086.5,null,0.1246,3,null,9.3951093951093953E-2,2331,196,260,260]
[178,"Melrose                      ",17,0,348,1657,887,1009,4,149,39,153,33,17,706,3914,1.034,4,0.18090000000000001,null,2252220.2938400004,3187864.3216200001,17786785.683259998,4266093.7956999997,724066.54452,2294487.0999999996,1376170.5458599997,1475259.8825800002,4438708.1116399998,5365092.66,1108885.83,44275634.769020006,null,null,706,null,3902,null,0.18090000000000001,4,null,0.18033226152197213,3732,706,571,706]
[179,"Mendon                       ",0,0,0,0,0,0,6,0,0,0,0,0,0,6,1,0,0,null,2432.2200000000003,4392.78,44312.46,3095.88,1385.16,8162.82,2445.6000000000004,3294.24,11003.64,9132.9000000000015,0,89657.700000000012,null,null,0,null,0,null,0,0,null,0,2,0,0,0]
[180,"Merrimac                     ",0,0,0,0,0,0,9,0,0,0,0,0,0,9,1,0,0,null,3648.33,6589.17,66468.69,4643.82,2077.7400000000002,12244.23,3668.4,4941.3599999999997,16505.46,13699.35,0,134486.55000000002,null,null,0,null,0,null,0,0,null,0,3,0,0,0]
[181,"Methuen                      ",88,0,380,2560,1744,1490,549,262,62,444,116,143,3167,6767,1,9,0.48509999999999998,null,3939962.7099999995,6075983.2100000009,38747656.459999993,7078356.9000000004,1608642.25,4459562.5600000015,2653184.0500000007,4033340.54,8026910.3100000005,10694930.229999999,1762844.1400000001,89081373.360000014,null,null,3167,null,6529,null,0.48509999999999998,9,null,0.46794150731158607,7112,3167,3022,3167]
[182,"Middleborough                ",50,0,203,1097,771,906,19,115,30,24,8,11,1047,3021,1,6,0.35499999999999998,null,1703343.11,2517951.8200000003,14833288.779999999,3095601.0200000005,612854.04,1820039.48,1107664.5100000002,1489051.0700000003,3308376.1999999997,4359915.8100000005,852989.10000000009,35701074.940000005,null,null,1047,null,2949.5,null,0.35499999999999998,6,null,0.34317687286291576,3217,1037,1047,1047]
[183,"Middlefield                  ",0,0,0,0,0,0,3,0,0,0,0,0,0,3,1,0,0,null,1216.1100000000001,2196.39,22156.23,1547.94,692.58,4081.41,1222.8000000000002,1647.12,5501.82,4566.4500000000007,0,44828.850000000006,null,null,0,null,0,null,0,0,null,0,1,0,0,0]
[184,"Middleton                    ",61,0,99,435,92,0,1,24,6,9,1,0,65,658,1.044,2,9.98E-2,null,371721.01284000004,521398.28016000002,2680302.62592,785491.80876000004,112116.49632000001,332055.49999999994,196373.36196000004,138154.30523999999,729650.99447999999,878523.6100000001,170597.82,6916385.8156800009,null,null,65,null,651,null,9.98E-2,2,null,7.5445816186556922E-2,729,50,65,65]
[185,"Milford                      ",49,0,318,1663,1092,1301,23,168,44,623,141,175,2112,4422,1.0089999999999999,9,0.49320000000000003,null,2647259.8835399998,4098727.7238899996,25185344.514069993,4732737.4648400005,1056750.2994199998,2771574.54,1784058.8498600002,2687537.3372499999,5124359.2121499991,6972489.2300000014,1251050.6800000002,58311889.735019997,null,null,2112,null,4282,null,0.49320000000000003,9,null,0.32812129827055198,4221,1451,2112,2112]
[186,"Millbury                     ",55,0,95,594,421,493,2,61,16,50,16,10,507,1633,1,6,0.3226,null,918092.98000000021,1352635.71,7870844.96,1672336.1199999996,324478.74,981885.42999999982,595294.41999999993,769888.01,1792306.4799999997,2336163.5200000005,454927.52,19068853.890000001,null,null,507,null,1571.5,null,0.3226,6,null,0.28514513375071143,1757,466,507,507]
[187,"Millis                       ",8,72,7,411,264,329,0,40,10,20,5,2,180,1051,1.034,3,0.16300000000000001,null,599931.37028000003,848002.80817999993,4754344.2529000007,1114080.6529599999,192075.89170000004,628684.31999999995,376445.08154000004,417152.44141999999,1187890.04422,1424902.7699999998,284329.7,11827839.3332,null,null,180,null,1104,null,0.16300000000000001,3,null,0.16366483946750196,1277,172,180,180]
[188,"Millville                    ",0,0,0,0,0,0,8,0,0,0,0,0,0,8,1,0,0,null,3242.96,5857.04,59083.28,4127.84,1846.88,10883.76,3260.8,4392.32,14671.52,12177.2,0,119543.6,null,null,0,null,0,null,0,0,null,0,6,0,0,0]
[189,"Milton                       ",42,0,312,1880,972,1155,0,165,43,64,10,13,560,4340,1.04,3,0.1298,null,2483695.6768,3468765.3831999996,19077175.260000002,4723972.5416000001,770464.11519999988,2530236.15,1503641.2352,1527791.564,4905874.0639999993,5812147.5700000003,1222617.71,48026381.270000011,null,null,560,null,4313.5,null,0.1298,3,null,0.12901554404145077,3860,560,548,560]
[190,"Monroe                       ",0,0,3,8,2,1,0,1,0,0,0,0,0,14,1,0,0,null,8472.89,10249.82,56411.39,19846.230000000003,2334.2799999999997,7482.69,3994.23,2482.89,16380.51,19750.78,0,147405.71000000002,null,null,0,null,0,null,0,0,null,0,8,0,0,0]
[191,"Monson                       ",32,0,63,349,218,237,0,33,9,2,1,1,318,883,1,6,0.35949999999999999,null,496770.47000000003,737995.71,4306718.4899999993,911425.43,179263.44999999998,518025.58999999991,319252.35000000009,427325.54000000004,955784.07,1275088.5599999998,255896.73,10383546.389999999,null,null,318,null,884.5,null,0.35949999999999999,6,null,0.26551094890510951,1096,234,318,318]
[192,"Montague                     ",0,0,0,0,0,0,0,0,0,0,0,0,0,0,1,0,0,null,0,0,0,0,0,0,0,0,0,0,0,0,null,null,0,null,0,null,0,0,null,0,0,0,0,0]
[193,"Monterey                     ",0,0,0,0,0,0,0,0,0,0,0,0,0,0,1,0,0,null,0,0,0,0,0,0,0,0,0,0,0,0,null,null,0,null,0,null,0,0,null,0,0,0,0,0]
[194,"Montgomery                   ",0,0,0,0,0,0,4,0,0,0,0,0,0,4,1,0,0,null,1621.48,2928.52,29541.64,2063.92,923.44,5441.88,1630.4,2196.16,7335.76,6088.6,0,59771.8,null,null,0,null,0,null,0,0,null,0,3,0,0,0]
[195,"Mount Washington             ",0,0,1,2,1,1,0,0,0,0,0,0,0,5,1,0,0,null,2026.85,3660.65,17369.5,3718.81,682.18,2720.98,1537.8400000000001,1175.8499999999999,4787.12,5754.8799999999992,0,43434.66,null,null,0,null,0,null,0,0,null,0,11,0,0,0]
[196,"Nahant                       ",13,0,28,92,58,78,0,10,3,0,0,0,36,263,1,5,0.2424,null,145387.22,201738.46,1120445.4399999999,271445.06,45027.38,154866.12,88524.86,93022.609999999986,284223.29000000004,350984.95,85298.91,2840964.3000000003,null,null,36,null,148.5,null,0.2424,5,null,4.2553191489361701E-2,282,11,36,36]
[197,"Nantucket                    ",49,0,114,562,426,536,0,63,16,176,33,57,550,1663,1,6,0.33510000000000001,null,956038.67999999993,1417679.1600000001,8357893.04,1730845.1500000004,344122.09,1030910.29,627487.95000000007,820118.86,1879947.26,2442043.9899999998,454927.52,20062013.989999998,null,null,550,null,1641.5,null,0.33510000000000001,6,null,0.21134020618556701,1552,351,550,550]
[198,"Natick                       ",46,0,334,2050,1272,1587,4,200,52,117,25,15,630,5270,1.016,3,0.1205,null,2946915.9552799994,4110616.4269600003,22725358.836719997,5520960.1544000003,912860.48568000004,3134814.3600000003,1816050.7138400001,1875030.54,5853483.3196799997,7041656.4799999995,1478514.44,57416261.712559983,null,null,630,null,5230,null,0.1205,3,null,0.10134760937788444,5417,534,630,630]
[199,"Needham                      ",37,0,333,2162,1325,1722,0,212,55,145,21,10,456,5561,1.077,2,8.3500000000000005E-2,null,3287881.9165500007,4539674.9778000005,24896208.982859999,6174372.5135700013,993378.16589999991,3315393.6499999994,2013722.0962499999,1992939.3564899997,6550418.8136400003,7342468.7100000009,1563813.35,62670272.533059999,null,null,456,null,5461,null,8.3500000000000005E-2,2,null,8.2058933233867953E-2,5362,456,405,456]
[200,"New Ashford                  ",0,0,0,7,4,10,1,1,0,0,0,0,0,22,1,0,0,null,11715.850000000002,16106.859999999999,95376.01,22801.59,3578.5799999999995,14868.16,7678.4100000000008,8012.1599999999989,25325.989999999998,28794.31,0,234257.91999999998,null,null,0,null,0,null,0,0,null,0,26,0,0,0]
[201,"New Bedford                  ",290,0,1062,5947,3699,3140,17,530,138,2175,557,823,10563,14010,1,11,0.77,null,8657479.3499999996,14395382.810000002,92400686.099999994,15235065.689999999,4012471.04,8615605.290000001,6076818.0800000001,10991474.629999999,16164443.880000001,24553951.799999997,3923749.8600000003,205027128.52999997,null,null,10563,null,13718,null,0.77,11,null,0.75225191128604951,13211,10539,10563,10563]
[202,"New Braintree                ",0,0,0,0,0,0,3,0,0,0,0,0,0,3,1,0,0,null,1216.1100000000001,2196.39,22156.23,1547.94,692.58,4081.41,1222.8000000000002,1647.12,5501.82,4566.4500000000007,0,44828.850000000006,null,null,0,null,0,null,0,0,null,0,1,0,0,0]
[203,"Newbury                      ",0,0,0,0,0,0,3,0,0,0,0,0,0,3,1.036,0,0,null,1259.8899600000002,2275.4600399999999,22953.85428,1603.6658400000001,717.51288000000011,4081.41,1266.8208000000002,1706.41632,5699.8855199999998,4566.4500000000007,0,46131.365639999989,null,null,0,null,0,null,0,0,null,0,2,0,0,0]
[204,"Newburyport                  ",45,94,28,758,542,808,5,83,22,24,9,11,276,2211,1,3,0.1255,null,1213201.75,1696334.67,9527680.5899999999,2215614.3899999997,378219.81000000006,1356510.9800000002,770663.69000000006,841807.89999999991,2417864.92,2940437.7,625525.34000000008,23983861.739999995,null,null,276,null,2199.5,null,0.1255,3,null,8.6298568507157461E-2,2445,191,276,276]
[205,"New Marlborough              ",0,0,0,0,0,0,0,0,0,0,0,0,0,0,1,0,0,null,0,0,0,0,0,0,0,0,0,0,0,0,null,null,0,null,0,null,0,0,null,0,0,0,0,0]
[206,"New Salem                    ",0,0,0,0,0,0,0,0,0,0,0,0,0,0,1,0,0,null,0,0,0,0,0,0,0,0,0,0,0,0,null,null,0,null,0,null,0,0,null,0,0,0,0,0]
[207,"Newton                       ",89,0,678,4405,2946,3586,453,466,116,481,82,90,1553,12113,1.0589999999999999,3,0.1298,null,7102243.0581599995,9926618.9431500006,56955055.853369996,13188932.989200002,2263696.5316499998,7613657.2500000009,4442820.3490199996,4728229.1833500005,14552936.564070001,16492029.57,3298224.52,140564444.81197003,null,null,1553,null,11966.5,null,0.1298,3,null,0.12823538667296042,12711,1553,1406,1553]
[208,"Norfolk                      ",25,0,164,677,114,0,0,36,10,25,0,0,66,968,1.0449999999999999,2,6.7799999999999999E-2,null,552533.57169999997,761925.31084999978,3893368.4129999992,1170854.8884999999,161864.3345,488260.2,285142.40974999999,185733.55569999997,1076826.78125,1284502.1700000002,284329.7,10145341.33525,null,null,66,null,973,null,6.7799999999999999E-2,2,null,5.9775840597758409E-2,803,58,66,66]
[209,"North Adams                  ",77,0,81,512,358,318,0,48,13,10,0,0,874,1308,1,11,0.70740000000000003,null,766349.19,1253403.3499999999,7888521.71,1345687.57,341164.51,769227.27000000014,533995.94999999995,951199.4800000001,1414945.99,2142692.0999999996,369628.61,17776815.729999997,null,null,874,null,1235.5,null,0.70740000000000003,11,null,0.62977346278317148,1545,824,874,874]
[210,"Northampton                  ",52,0,156,962,671,841,0,100,26,68,16,24,780,2656,1,5,0.28539999999999999,null,1488043.9599999997,2169153.9,12543447.030000001,2715568.02,513651.13,1602174.5500000003,960071.19,1207140.5,2911355.2800000007,3749033.93,739257.22,30598896.710000001,null,null,780,null,2733,null,0.28539999999999999,5,null,0.29237441272135889,2767,777,780,780]
[211,"North Andover                ",61,0,285,1701,1123,1442,18,175,46,67,14,9,929,4600,1,4,0.20710000000000001,null,2551515.85,3624721.37,20570484.559999999,4710992.4300000006,832120.85,2767222.21,1607832.5600000003,1847635.1600000001,5033141.6499999994,6296864.9100000011,1307916.6200000001,51150448.170000009,null,null,929,null,4485,null,0.20710000000000001,4,null,0.1679768307819611,4834,773,929,929]
[212,"North Attleborough           ",141,0,279,1544,1049,1150,0,154,40,109,11,22,913,4093,1,4,0.22739999999999999,null,2273170.4300000002,3257717.1,18361390.41,4226344.2399999993,751248.84999999986,2417512.1500000004,1426027.98,1632850.3299999998,4473258.72,5654309.4000000004,1137318.8,45611148.409999996,null,null,913,null,4015.5,null,0.22739999999999999,4,null,0.17792891619131199,4558,728,913,913]
[213,"Northborough                 ",24,2,146,871,525,12,0,59,16,77,19,0,249,1567,1,3,0.16300000000000001,null,870860.42999999993,1227190.3899999999,6341421.1299999999,1743788.3299999998,275225.57999999996,803939.87000000011,485852.15999999997,407478.02,1714445.3,2170591.42,454927.52,16495720.15,null,null,249,null,1528,null,0.16300000000000001,3,null,0.10541310541310542,1755,165,249,249]
[214,"Northbridge                  ",36,0,149,727,540,575,14,77,20,35,5,8,700,2023,1,7,0.36870000000000003,null,1143669.1100000003,1696476.17,9989480.3300000001,2080821.5599999998,414868.20999999996,1213433.45,743247.81,1001550.18,2222343.7599999998,2939772.37,568659.4,24014322.349999998,null,null,700,null,1898.5,null,0.36870000000000003,7,null,0.32936344969199177,2435,666,700,700]
[215,"North Brookfield             ",25,0,48,212,138,162,0,21,6,5,0,0,213,573,1,8,0.42299999999999999,null,323077.08999999997,485400.61,2864601.12,585859.95000000007,119268.49,338904.51,210691.66,293091.44,619283.98000000021,835456.27,170597.82,6846232.9400000013,null,null,213,null,503.5,null,0.42299999999999999,8,null,0.37165354330708661,635,213,198,213]
[216,"Northfield                   ",0,0,0,0,0,0,1,0,0,0,0,0,0,1,1,0,0,null,405.37,732.13,7385.41,515.98,230.86,1360.47,407.6,549.04,1833.94,1522.15,0,14942.95,null,null,0,null,0,null,0,0,null,0,2,0,0,0]
[217,"North Reading                ",40,172,3,887,555,683,9,85,22,6,3,2,225,2243,1.0649999999999999,2,0.10199999999999999,null,1305626.40885,1811230.4408999996,9976621.8745499998,2443205.7648000005,399282.63254999992,1335288,804172.57529999991,818660.88855000003,2602744.1493000002,2965768.41,625525.34000000008,25088126.4848,null,null,225,null,2205,null,0.10199999999999999,2,null,9.076369452219113E-2,2501,204,225,225]
[218,"Norton                       ",48,0,162,805,589,667,54,88,22,27,8,11,582,2301,1,5,0.24179999999999999,null,1281718.54,1846587.7700000003,10735954.319999998,2357364.0700000003,436564.46,1410483.6,818040.90000000014,989853.82000000007,2559553.5299999998,3225949.1700000004,625525.34000000008,26287595.520000003,null,null,582,null,2406.5,null,0.24179999999999999,5,null,0.18805055534278053,2611,433,582,582]
[219,"Norwell                      ",36,157,1,860,514,666,0,81,21,4,1,1,117,2138,1.0569999999999999,1,5.5599999999999997E-2,null,1228930.0239299999,1685785.66548,9157333.5686700009,2311408.0576299997,363912.34200999991,1267038.6099999996,749673.9521600001,721409.27536999981,2451693.4041599999,2780569.79,597092.37,23314847.059410002,null,null,117,null,2105,null,5.5599999999999997E-2,1,null,5.4495912806539509E-2,2202,117,108,117]
[220,"Norwood                      ",61,0,279,1402,752,1030,0,132,35,342,49,51,1117,3494,1.0569999999999999,6,0.32740000000000002,null,2113180.0850999998,3117792.4063299997,18270924.851829998,3893268.3415499991,750708.14210000006,2124193.0700000003,1355826.3726000001,1738806.0961599997,4124430.9648500001,5084560.21,995153.95000000007,43568844.49052,null,null,1117,null,3412,null,0.32740000000000002,6,null,0.29037800687285226,3492,1015,1117,1117]
[221,"Oak Bluffs                   ",7,0,49,218,167,0,0,17,4,71,15,0,169,438,1,7,0.38279999999999997,null,255684.17999999996,384793.89999999997,2148148.9,497510.19999999995,95392.03,233095.85000000003,153584.28000000003,181610.11,498721.71000000008,675581.1,113731.88,5237854.1399999997,null,null,169,null,441.5,null,0.38279999999999997,7,null,0.37327188940092165,434,163,169,169]
[222,"Oakham                       ",0,0,0,0,0,0,3,0,0,0,0,0,0,3,1,0,0,null,1216.1100000000001,2196.39,22156.23,1547.94,692.58,4081.41,1222.8000000000002,1647.12,5501.82,4566.4500000000007,0,44828.850000000006,null,null,0,null,0,null,0,0,null,0,1,0,0,0]
[223,"Orange                       ",11,0,62,395,68,0,1,20,5,4,1,0,306,532,1,10,0.66020000000000001,null,308081.50999999995,490509.93999999994,2932894.8399999994,614336.31000000006,128227.42000000001,274798.31999999995,185927.86000000002,287520.25,565637.66,849125.42000000016,142164.85,6779224.3799999999,null,null,306,null,463.5,null,0.66020000000000001,10,null,0.5718849840255591,626,304,306,306]
[224,"Orleans                      ",1,0,17,165,0,0,0,7,2,15,0,0,62,183,1,6,0.3543,null,104714,153818.13999999998,867639.02,220049.88999999998,36463.060000000005,94458.769999999975,56473.880000000005,62498.689999999995,196266.6,267755.95,56865.94,2117003.94,null,null,62,null,175,null,0.3543,6,null,0.24663677130044842,223,45,62,62]
[225,"Otis                         ",0,0,0,0,0,0,0,0,0,0,0,0,0,0,1,0,0,null,0,0,0,0,0,0,0,0,0,0,0,0,null,null,0,null,0,null,0,0,null,0,0,0,0,0]
[226,"Oxford                       ",11,0,69,622,404,460,2,59,16,6,2,0,574,1563,1,7,0.39129999999999998,null,883053.37000000011,1315464.31,7760071.7800000003,1599103.3199999998,322652.09999999998,931301.14999999991,576044.61,797486.92000000016,1698677.3800000001,2272104.21,454927.52,18610886.670000002,null,null,574,null,1467,null,0.39129999999999998,7,null,0.36039296794208892,1934,563,574,574]
[227,"Palmer                       ",16,0,93,525,353,338,1,50,13,32,15,3,643,1318,1,9,0.53490000000000004,null,761011.10000000009,1177705.2999999998,7135461.1999999993,1372631.5900000003,302878.55,780061.84999999986,506682.39000000007,777542.19,1443937.9799999997,2028841.5899999996,369628.61,16656382.35,null,null,643,null,1202,null,0.53490000000000004,9,null,0.45502998001332445,1501,600,643,643]
[228,"Paxton                       ",0,0,0,0,0,0,0,0,0,0,0,0,0,0,1,0,0,null,0,0,0,0,0,0,0,0,0,0,0,0,null,null,0,null,0,null,0,0,null,0,0,0,0,0]
[229,"Peabody                      ",158,0,413,2293,1474,1227,391,226,54,326,103,110,2375,5877,1,7,0.41160000000000002,null,3375379.5399999996,5095051.66,31499298.849999998,6185069.8000000007,1303147.3099999998,3757215.6500000004,2207423.9800000004,3080232.8099999996,6862779.5099999998,8967666.9000000004,1535380.3800000001,73868646.389999986,null,null,2375,null,5770.5,null,0.41160000000000002,7,null,0.37102177554438859,5970,2180,2375,2375]
[230,"Pelham                       ",0,0,10,49,11,0,0,3,1,2,0,0,18,70,1,3,0.16819999999999999,null,40927.579999999994,56197.560000000005,305643.26,83853.400000000009,13039.25,35750.420000000006,21295.759999999998,20263.559999999998,76060.649999999994,99900.890000000014,28432.97,781365.3,null,null,18,null,107,null,0.16819999999999999,3,null,0.26027397260273971,73,18,15,18]
[231,"Pembroke                     ",19,0,168,950,658,872,82,105,26,29,4,3,488,2740,1.0369999999999999,4,0.1857,null,1568365.0116300001,2218098.3675199999,12834695.878669998,2886024.1047699996,512288.5255499999,1711329.78,996471.01196000003,1139232.3857499999,3172430.9570699995,3746276.4499999997,739257.22,31524469.692919996,null,null,488,null,2628.5,null,0.1857,4,null,0.17804340987731992,3179,488,456,488]
[232,"Pepperell                    ",0,0,0,0,0,0,0,0,0,0,0,0,0,0,1,0,0,null,0,0,0,0,0,0,0,0,0,0,0,0,null,null,0,null,0,null,0,0,null,0,0,0,0,0]
[233,"Peru                         ",0,0,0,0,0,0,9,0,0,0,0,0,0,9,1,0,0,null,3648.33,6589.17,66468.69,4643.82,2077.7400000000002,12244.23,3668.4,4941.3599999999997,16505.46,13699.35,0,134486.55000000002,null,null,0,null,0,null,0,0,null,0,8,0,0,0]
[234,"Petersham                    ",0,0,10,46,11,0,0,3,1,2,0,0,39,67,1,6,0.31709999999999999,null,41089.22,60528.990000000005,359298.26,81270.37000000001,15732.11,34766.839999999997,23080.489999999998,33235.17,73264.05,106739.12,28432.97,857437.59000000008,null,null,39,null,123,null,0.31709999999999999,6,null,0.56896551724137934,58,38,39,39]
[235,"Phillipston                  ",0,0,0,0,0,0,0,0,0,0,0,0,0,0,1,0,0,null,0,0,0,0,0,0,0,0,0,0,0,0,null,null,0,null,0,null,0,0,null,0,0,0,0,0]
[236,"Pittsfield                   ",63,0,378,2052,1356,1487,402,220,53,155,37,56,3465,5707,1,10,0.6694,null,3350850.01,5356841.2299999995,35126163.68,5873645.7399999993,1471433.71,3754868.9299999997,2343821.2700000005,4043268.76,6616180.2000000002,9339415.959999999,1506947.4100000001,78783436.899999991,null,null,3465,null,5176,null,0.6694,10,null,0.60723514211886309,6192,3465,3201,3465]
[237,"Plainfield                   ",0,0,0,0,0,0,4,0,0,0,0,0,0,4,1,0,0,null,1621.48,2928.52,29541.64,2063.92,923.44,5441.88,1630.4,2196.16,7335.76,6088.6,0,59771.8,null,null,0,null,0,null,0,0,null,0,3,0,0,0]
[238,"Plainville                   ",22,0,80,474,93,0,0,25,6,26,2,0,152,658,1,4,0.2321,null,365677.88000000006,526063.90999999992,2822038.13,764534.32,119700.63999999998,335639.83,198643.38999999998,182211.94,706797.91000000015,923790.78,170597.82,7115696.5500000007,null,null,152,null,655,null,0.2321,4,null,0.17110799438990182,713,113,152,152]
[239,"Plymouth                     ",149,0,466,2566,1873,2065,663,298,70,113,42,43,2411,7708,1.038,6,0.32040000000000002,null,4496260.6510799993,6606099.5860200012,41035011.658139996,8145631.08402,1652573.4348000002,5115853.3099999996,2956961.6962199998,3934127.4537600004,9357578.6984400004,11283779.180000002,1990307.9000000001,96574184.652480006,null,null,2411,null,7524,null,0.32040000000000002,6,null,0.31274801587301587,8064,2411,2186,2411]
[240,"Plympton                     ",0,0,30,162,17,3,2,8,2,1,0,0,37,214,1.056,3,0.17699999999999999,null,123782.00736000002,175646.34912000003,940074.68543999991,261512.12736000001,39008.439360000004,110521.18,65970.432000000001,55797.054720000015,240827.28384000002,292377.45,56865.94,2362382.9491999997,null,null,37,null,209,null,0.17699999999999999,3,null,0.17180616740088106,227,37,36,37]
[241,"Princeton                    ",0,0,0,0,0,0,1,0,0,0,0,0,0,1,1,0,0,null,405.37,732.13,7385.41,515.98,230.86,1360.47,407.6,549.04,1833.94,1522.15,0,14942.95,null,null,0,null,0,null,0,0,null,0,0,0,0,0]
[242,"Provincetown                 ",15,0,8,31,25,27,0,3,1,15,10,0,63,99,1,9,0.504,null,57960.009999999995,96369.87,600041.02,99596.27,25575.279999999995,61371.789999999994,41430.070000000007,68539.95,111694.76,161961.23000000001,28432.97,1352973.22,null,null,63,null,125,null,0.504,9,null,0.33333333333333331,129,33,63,63]
[243,"Quincy                       ",275,0,681,3640,2130,1675,1285,372,81,1056,181,235,5058,9549,1.052,9,0.53849999999999998,null,5924060.4508399991,9299569.4663600009,61905250.844960012,10664938.6162,2551742.3827599999,6685353.29,4040271.77104,6395546.6313999994,12500938.418120002,15722306.42,2303070.5700000003,137993048.86168,null,null,5058,null,9393,null,0.53849999999999998,9,null,0.5296395911780527,9295,5058,4040,5058]
[244,"Randolph                     ",53,0,163,1300,859,916,0,124,32,298,68,93,1761,3265,1.038,10,0.56710000000000005,null,2004431.7787800001,3159310.81752,19551181.820639998,3563237.0372400004,830566.55747999996,1997000.3499999999,1366684.6929599999,2194954.4574600002,3809757.1793999998,5217847.7200000007,909855.04,44604827.451479994,null,null,1761,null,3105,null,0.56710000000000005,10,null,0.53566009104704093,3295,1749,1761,1761]
[245,"Raynham                      ",0,0,0,0,0,0,0,0,0,0,0,0,0,0,1,0,0,null,0,0,0,0,0,0,0,0,0,0,0,0,null,null,0,null,0,null,0,0,null,0,0,0,0,0]
[246,"Reading                      ",44,217,21,1509,905,1260,9,145,38,31,7,5,383,3835,1.038,2,0.1009,null,2178025.2483600001,3021593.2644600002,16731208.586279999,4052424.7741800006,665621.39249999996,2306782.46,1351080.1898399999,1397321.6573999999,4337830.8563999999,5063447.6099999994,1080452.8600000001,42185788.899420001,null,null,383,null,3796,null,0.1009,2,null,9.1166077738515899E-2,4245,350,383,383]
[247,"Rehoboth                     ",0,0,0,0,0,0,0,0,0,0,0,0,0,0,1,0,0,null,0,0,0,0,0,0,0,0,0,0,0,0,null,null,0,null,0,null,0,0,null,0,2,0,0,0]
[248,"Revere                       ",64,0,518,3004,1897,2306,9,295,77,1162,216,331,6094,7766,1.0269999999999999,12,0.80169999999999997,null,4937482.3995899996,8287005.5065200003,54265144.378249995,8478633.9192099981,2338563.8199299998,4920382.9700000007,3566076.4090900002,6753750.4882899988,9147297.3823399991,13707594.729999999,2189338.69,118591270.69321999,null,null,6094,null,7601,null,0.80169999999999997,12,null,0.78472319551506653,7135,6094,4578,6094]
[249,"Richmond                     ",1,0,8,47,29,26,1,4,1,0,0,0,41,112,1,5,0.28079999999999999,null,61680.700000000012,92513.89,535471.23,114215.60999999999,22345.78,64975.96,39728.71,51756.53,120857.10999999999,160076.1,28432.97,1292054.5900000001,null,null,41,null,146,null,0.28079999999999999,5,null,0.28455284552845528,123,32,41,41]
[250,"Rochester                    ",20,0,51,339,68,3,12,19,5,2,0,0,97,483,1,4,0.2082,null,269455.05999999994,379261.51,2070150.7899999996,558621.45000000007,86664.24,255513.65999999997,145102.76999999999,131804.57,526496.09,673692.04000000015,142164.85,5238927.0299999993,null,null,97,null,466,null,0.2082,4,null,0.1953781512605042,476,94,97,97]
[251,"Rockland                     ",37,0,133,888,605,599,7,85,22,113,30,36,1010,2251,1.0640000000000001,8,0.44750000000000001,null,1381265.6267200001,2114355.5406400003,12713721.263600001,2495745.8512000004,535852.59504000004,1350715.76,915353.47568000003,1343149.96536,2655819.5227200002,3425724.06,625525.34000000008,29557229.000960007,null,null,1010,null,2257,null,0.44750000000000001,8,null,0.44883920894239038,2326,1010,991,1010]
[252,"Rockport                     ",6,0,38,211,148,194,0,23,6,2,0,3,181,594,1.026,4,0.23880000000000001,null,342186.92352000001,495444.96557999996,2877713.9243999994,623914.05761999998,117697.01544,358096.83999999991,220002.84072000004,280729.59534,664636.02840000018,836674.09000000008,170597.82,6987694.101019999,null,null,181,null,758,null,0.23880000000000001,4,null,0.28056628056628058,777,167,181,181]
[253,"Rowe                         ",0,0,1,16,11,10,5,1,0,0,0,0,30,43,1,8,0.46879999999999999,null,22173.52,40696.69,269123.51,37814.210000000006,11202.67,29239.170000000002,17945.559999999998,32212.25,49058.09,69417.440000000002,0,578883.1100000001,null,null,30,null,64,null,0.46879999999999999,8,null,0.2,70,9,30,30]
[254,"Rowley                       ",0,0,0,0,0,0,7,0,0,0,0,0,0,7,1.0369999999999999,0,0,null,2942.5808299999999,5314.5316699999994,53610.69118999999,3745.4988199999998,1675.8127399999998,9523.2900000000009,2958.7683999999999,3985.4813599999993,13312.570459999999,10655.050000000001,0,107724.27546999999,null,null,0,null,0,null,0,0,null,0,2,0,0,0]
[255,"Royalston                    ",0,0,0,0,0,0,0,0,0,0,0,0,0,0,1,0,0,null,0,0,0,0,0,0,0,0,0,0,0,0,null,null,0,null,0,null,0,0,null,0,0,0,0,0]
[256,"Russell                      ",0,0,0,0,0,0,22,1,0,0,0,0,0,22,1,0,0,null,11715.849999999999,16106.86,171710.75,19971.100000000002,5524.25,30319.040000000001,8967.2000000000007,12078.88,43471.85,37027.670000000006,0,356893.44999999995,null,null,0,null,0,null,0,0,null,0,14,0,0,0]
[257,"Rutland                      ",0,0,0,0,0,0,0,0,0,0,0,0,0,0,1,0,0,null,0,0,0,0,0,0,0,0,0,0,0,0,null,null,0,null,0,null,0,0,null,0,1,0,0,0]
[258,"Salem                        ",49,0,297,1716,1039,861,377,167,39,325,82,127,2478,4315,1,10,0.58889999999999998,null,2554498.16,4059914.6000000006,26532516.300000004,4565228.7300000004,1112366.4099999999,2863212.65,1751702.46,2893336.54,5155384.51,7125434.3799999999,1108885.83,59722480.57,null,null,2478,null,4208,null,0.58889999999999998,10,null,0.5741811175337187,4671,2478,2395,2478]
[259,"Salisbury                    ",0,0,0,0,0,0,2,0,0,0,0,0,0,2,1,0,0,null,810.74,1464.26,14770.82,1031.96,461.72,2720.94,815.2,1098.08,3667.88,3044.3,0,29885.9,null,null,0,null,0,null,0,0,null,0,6,0,0,0]
[260,"Sandisfield                  ",0,0,0,0,0,0,0,0,0,0,0,0,0,0,1,0,0,null,0,0,0,0,0,0,0,0,0,0,0,0,null,null,0,null,0,null,0,0,null,0,0,0,0,0]
[261,"Sandwich                     ",61,0,137,834,626,852,0,94,24,16,3,1,522,2480,1,4,0.20830000000000001,null,1370618.1,1954849.87,11133435.519999996,2504568.2800000003,449491.66999999993,1501945.4399999997,877598.84,1034930.6499999999,2700584.55,3386535.2100000004,682391.28,27596949.41,null,null,522,null,2505.5,null,0.20830000000000001,4,null,0.16593886462882096,2977,412,522,522]
[262,"Saugus                       ",30,0,80,979,717,802,19,99,26,89,36,43,996,2612,1,7,0.39650000000000002,null,1491624.59,2234972.25,13336090.989999998,2674639.1100000003,554057.04999999993,1599035.2699999998,987820.9600000002,1383846,2902840.78,3861280.1500000004,739257.22,31765464.369999997,null,null,996,null,2512,null,0.39650000000000002,7,null,0.32084063047285466,2855,838,996,996]
[263,"Savoy                        ",3,0,2,20,13,7,1,2,0,0,0,0,20,45,1,8,0.44440000000000002,null,24931,38723.170000000006,233523.88,49658.010000000009,10002.33,25760.780000000002,16271.210000000003,23361.71,49988.37000000001,68694.09,0,540914.55000000005,null,null,20,null,45,null,0.44440000000000002,8,null,0.27419354838709675,62,12,20,20]
[264,"Scituate                     ",53,175,8,1069,645,951,2,105,28,7,1,2,343,2790,1.0329999999999999,3,0.1245,null,1578100.7329800001,2201855.6354599996,12281731.316759998,2918144.6842500004,488866.50624000008,1682504.6699999997,987122.81720000005,1059252.7859599998,3128535.9905199991,3698898.5400000005,796123.16,30821136.839369997,null,null,343,null,2755,null,0.1245,3,null,0.10472074468085106,3008,292,343,343]
[265,"Seekonk                      ",19,0,149,794,483,612,0,78,20,44,9,4,442,2048,1,4,0.21820000000000001,null,1137853.7199999997,1623825.3800000001,9195281.25,2117947.84,373615.53,1218718.18,713313.79000000027,820406.16,2235718.44,2818124.1799999997,568659.4,22823463.869999997,null,null,442,null,2026,null,0.21820000000000001,4,null,0.21595028482651477,1931,442,345,442]
[266,"Sharon                       ",14,174,20,1288,896,1173,0,132,35,86,9,11,373,3471,1.0409999999999999,2,0.10979999999999999,null,1989318.18768,2761441.0042799995,15310782.074159997,3669057.2474699998,611449.87979999988,2099086.3699999996,1243326.8757900002,1303085.5432499996,3960300.7010399993,4612016.8199999984,995153.95000000007,38555018.653469995,null,null,373,null,3398.5,null,0.10979999999999999,2,null,7.7621558289396597E-2,3414,269,373,373]
[267,"Sheffield                    ",0,0,0,0,0,0,0,0,0,0,0,0,0,0,1,0,0,null,0,0,0,0,0,0,0,0,0,0,0,0,null,null,0,null,0,null,0,0,null,0,7,0,0,0]
[268,"Shelburne                    ",0,0,0,0,0,0,0,0,0,0,0,0,0,0,1,0,0,null,0,0,0,0,0,0,0,0,0,0,0,0,null,null,0,null,0,null,0,0,null,0,0,0,0,0]
[269,"Sherborn                     ",10,0,55,325,0,0,2,15,4,12,0,0,24,387,1.04,2,6.2399999999999997E-2,null,221766.03279999999,303027.7328,1579412.4840000002,482546.06400000007,64189.267999999996,197479.40000000002,110419.088,69690.223200000008,429367.79599999997,514135.87000000005,113731.88,4085765.8388000005,null,null,24,null,384.5,null,6.2399999999999997E-2,2,null,3.7037037037037035E-2,378,14,24,24]
[270,"Shirley                      ",0,0,0,0,0,0,0,0,0,0,0,0,0,0,1,0,0,null,0,0,0,0,0,0,0,0,0,0,0,0,null,null,0,null,0,null,0,0,null,0,0,0,0,0]
[271,"Shrewsbury                   ",85,0,294,2245,1500,1949,113,234,60,94,27,39,954,6144,1,3,0.1603,null,3391260.44,4768577.7300000004,27130122.000000004,6262110.2000000002,1084733.3700000001,3779406.0299999993,2134874.02,2355520.9400000004,6815404.4100000001,8327160.4800000014,1705978.2000000002,67755147.820000008,null,null,954,null,5950,null,0.1603,3,null,0.15534790589020525,5993,954,914,954]
[272,"Shutesbury                   ",4,0,11,64,21,0,0,4,1,0,0,0,43,98,1,7,0.39090000000000003,null,56602.32,84496.5,481898.92,113837.42,21071.78,50097.360000000008,32487.370000000003,41777.39,105503.14000000001,148603.66,28432.97,1164808.83,null,null,43,null,110,null,0.39090000000000003,7,null,0.26027397260273971,146,26,43,43]
[273,"Somerset                     ",37,0,132,852,639,0,0,62,16,15,4,0,464,1642,1,5,0.29060000000000002,null,914596.18000000017,1328120.6700000002,7049877.3699999992,1797541.51,312045.02,832902.9,529712.63000000012,544359.41999999993,1779535.53,2346834.91,454927.52,17890453.66,null,null,464,null,1596.5,null,0.29060000000000002,5,null,0.19866814650388456,1802,326,464,464]
[274,"Somerville                   ",228,0,418,1980,1120,815,602,195,43,617,121,170,3358,5049,1.052,10,0.67700000000000005,null,3196779.5386399995,5205687.5017999997,35072252.320280001,5701238.4558800021,1472347.3980400001,3479314.3499999996,2228435.8515599999,3863532.8359599998,6564656.9884800008,8716789.1300000008,1222617.71,76723652.080639988,null,null,3358,null,4960,null,0.67700000000000005,10,null,0.66512231282431433,5396,3358,2465,3358]
[275,"Southampton                  ",19,0,55,280,52,0,51,17,4,9,0,0,89,448,1,4,0.20050000000000001,null,246697.07,352344.12,2080852.75,503369.79999999993,84023.7,271398.68999999994,139375.54,135378.75,522912.5,637822.28,113731.88,5087907.08,null,null,89,null,444,null,0.20050000000000001,4,null,0.16938775510204082,490,76,89,89]
[276,"Southborough                 ",9,0,104,651,387,8,1,44,12,67,12,0,98,1156,1.0369999999999999,2,8.3400000000000002E-2,null,663884.53788000008,916578.09500999993,4640303.0674900003,1339235.4751199996,200181.99260999996,592976.24000000022,362950.66368,264579.28817999997,1315874.2813299999,1569505.77,341195.64,12207265.0513,null,null,98,null,1175,null,8.3400000000000002E-2,2,null,3.453689167974882E-2,1274,40,98,98]
[277,"Southbridge                  ",57,0,163,850,541,627,0,83,22,164,101,110,1564,2210,1,12,0.80349999999999999,null,1342612.38,2218710.9699999997,14283734.91,2333021.4600000004,613976.57999999996,1371416.76,952429.01000000013,1733582.8599999999,2496022.3499999996,3776419.95,625525.34000000008,31747452.57,null,null,1564,null,1946.5,null,0.80349999999999999,12,null,0.68814115716044322,2437,1521,1564,1564]
[278,"South Hadley                 ",65,0,92,697,433,472,110,70,17,45,15,20,617,1837,1,6,0.33200000000000002,null,1035866.88,1533896.74,9358422.9099999983,1893164.45,381185.52999999997,1175458.02,675247.48999999987,900353.37,2108739.86,2695941.95,483360.49,22241637.689999994,null,null,617,null,1858.5,null,0.33200000000000002,6,null,0.33576262363352422,1921,617,615,617]
[279,"Southwick                    ",0,0,0,0,0,0,0,0,0,0,0,0,0,0,1,0,0,null,0,0,0,0,0,0,0,0,0,0,0,0,null,null,0,null,0,null,0,0,null,0,0,0,0,0]
[280,"Spencer                      ",0,0,0,0,0,0,4,0,0,0,0,0,0,4,1,0,0,null,1621.48,2928.52,29541.64,2063.92,923.44,5441.88,1630.4,2196.16,7335.76,6088.6,0,59771.8,null,null,0,null,0,null,0,0,null,0,6,0,0,0]
[281,"Springfield                  ",1228,0,1841,10754,6927,7600,1408,1104,271,2325,803,1182,24045,29144,1,12,0.8569,null,17866667.080000002,30339781.84,204363628.81999999,30542588.279999997,8762248.3300000001,19139586.760000002,13074551.510000002,25555528.229999997,33993335.149999999,52096666.649999999,7705334.8700000001,443439917.51999992,null,null,24045,null,28060.5,null,0.8569,12,null,0.82502588885053507,28970,24045,23177,24045]
[282,"Sterling                     ",0,0,0,0,0,0,2,0,0,0,0,0,0,2,1,0,0,null,810.74,1464.26,14770.82,1031.96,461.72,2720.94,815.2,1098.08,3667.88,3044.3,0,29885.9,null,null,0,null,0,null,0,0,null,0,0,0,0,0]
[283,"Stockbridge                  ",0,0,0,0,0,0,0,0,0,0,0,0,0,0,1,0,0,null,0,0,0,0,0,0,0,0,0,0,0,0,null,null,0,null,0,null,0,0,null,0,0,0,0,0]
[284,"Stoneham                     ",31,0,187,940,567,658,8,90,24,55,10,17,577,2376,1.0409999999999999,5,0.24640000000000001,null,1380971.51847,1983814.4415,11292108.984539997,2570229.3955800002,461775.10799999995,1408706.47,864487.36335,1013740.3739999997,2708362.0174199995,3309186.26,682391.28,27675773.212859996,null,null,577,null,2341.5,null,0.24640000000000001,5,null,0.2426408746846089,2378,577,503,577]
[285,"Stoughton                    ",54,0,245,1299,864,1105,0,134,35,154,49,59,1412,3540,1.0429999999999999,7,0.40460000000000002,null,2114694.8908399995,3184404.3373099994,19034406.498379998,3814990.8311899998,790142.00552000001,2155216.2300000004,1397546.4163500001,1975595.7173399997,4080797.6602400006,5254842.13,995153.95000000007,44797790.667170003,null,null,1412,null,3489.5,null,0.40460000000000002,7,null,0.36305048335123524,3724,1285,1412,1412]
[286,"Stow                         ",0,0,0,0,0,0,1,0,0,0,0,0,0,1,1.05,0,0,null,425.63850000000002,768.73649999999998,7754.6805000000004,541.779,242.40300000000002,1360.47,427.98,576.49199999999996,1925.6370000000002,1522.15,0,15545.9665,null,null,0,null,0,null,0,0,null,0,1,0,0,0]
[287,"Sturbridge                   ",39,0,93,573,116,0,2,30,8,24,6,0,160,804,1,4,0.2041,null,445286.31,635041.18000000005,3378364.0599999996,927127.25,142801.62,410441.58,240094.80000000002,209645.69999999998,862291.69000000006,1115437.6900000002,227463.76,8593995.6400000006,null,null,160,null,784,null,0.2041,4,null,0.18950749464668093,934,152,160,160]
[288,"Sudbury                      ",21,0,199,1380,920,0,14,96,25,49,7,0,174,2524,1.0029999999999999,2,6.9400000000000003E-2,null,1385138.30596,1906429.5119899996,9565520.7701199986,2792330.4856500002,414310.30326999992,1285560.5599999998,758682.64019999991,541278.40828999993,2761471.9369000001,3389819.8400000008,710824.25,25511367.012379996,null,null,174,null,2508.5,null,6.9400000000000003E-2,2,null,5.0238357169050236E-2,2727,127,174,174]
[289,"Sunderland                   ",8,0,14,113,10,0,0,5,1,19,0,0,67,141,1,7,0.37640000000000001,null,80133.08,126243.69,731424.6,165284.22,31376.29,74145.959999999992,47292.380000000005,61851.53,153251.27000000002,217562.63,28432.97,1716998.6200000003,null,null,67,null,178,null,0.37640000000000001,7,null,0.38857142857142857,175,55,67,67]
[290,"Sutton                       ",36,0,84,476,328,346,5,47,12,18,3,5,210,1257,1,3,0.16639999999999999,null,690772.18000000017,978395.41,5438775.549999998,1291979.28,221140.99000000002,741216.96,429213.57000000007,461344.89,1372670.8699999999,1703227.23,341195.64,13669932.569999998,null,null,210,null,1262,null,0.16639999999999999,3,null,0.11409395973154363,1490,143,210,210]
[291,"Swampscott                   ",27,0,131,785,509,647,0,79,21,110,14,9,451,2086,1,4,0.20810000000000001,null,1166719.31,1666547.66,9466956.1400000006,2153536.8000000003,384335.3000000001,1256910.1000000003,736485.44,849757.66999999993,2299494.6700000004,2887648.48,597092.37,23465483.940000005,null,null,451,null,2167,null,0.20810000000000001,4,null,0.18207547169811319,2120,380,451,451]
[292,"Swansea                      ",38,0,133,770,549,573,0,77,20,6,2,0,696,2044,1,6,0.34770000000000001,null,1146637.28,1696705.69,9868086.0499999989,2095740.17,410422.34999999992,1205536.8999999999,740960.02000000014,981046.97,2218742.5300000003,2935637.59,568659.4,23868174.949999999,null,null,696,null,2001.5,null,0.34770000000000001,6,null,0.34055876685934489,2076,696,516,696]
[293,"Taunton                      ",177,0,533,3019,2064,1591,657,307,72,257,78,95,4208,7953,1,10,0.5444,null,4630173.6100000003,7275150.1400000006,46905759.25,8293409.830000001,1966284.63,5172350.4099999992,3148991.4600000009,5076224.7999999989,9323320.5699999984,12795500.320000002,2047173.84,106634338.85999998,null,null,4208,null,7730,null,0.5444,10,null,0.52779181404749875,7916,4198,4208,4208]
[294,"Templeton                    ",0,0,0,0,0,0,0,0,0,0,0,0,0,0,1,0,0,null,0,0,0,0,0,0,0,0,0,0,0,0,null,null,0,null,0,null,0,0,null,0,0,0,0,0]
[295,"Tewksbury                    ",47,0,262,1265,796,902,7,123,32,47,8,4,648,3256,1,4,0.20380000000000001,null,1800903.2400000002,2562315.2400000007,14381404.999999998,3368826.48,585834.81000000006,1917962.97,1119079.71,1249449.8,3547693.8800000004,4455454.75,909855.04,35898780.919999994,null,null,648,null,3179.5,null,0.20380000000000001,4,null,0.19889958734525448,3635,648,625,648]
[296,"Tisbury                      ",16,0,39,182,114,0,0,13,3,69,13,0,141,343,1,8,0.45119999999999999,null,201369.39,308136.88,1744272.69,393724.92000000004,77054.13,184646.2,121869.68000000001,149159.84000000003,392806.42000000004,537897.76,85298.91,4196236.82,null,null,141,null,312.5,null,0.45119999999999999,8,null,0.35449735449735448,378,122,141,141]
[297,"Tolland                      ",0,0,0,0,0,0,0,0,0,0,0,0,0,0,1,0,0,null,0,0,0,0,0,0,0,0,0,0,0,0,null,null,0,null,0,null,0,0,null,0,0,0,0,0]
[298,"Topsfield                    ",37,65,2,401,87,0,0,20,5,1,0,0,24,542,1.0489999999999999,1,4.48E-2,null,305869.61241,421896.59667999996,2124105.4769399995,647867.62401999999,88751.809389999995,271189.69,159383.42356000002,101271.66634999998,602054.05958,710177.45,142164.85,5574732.2589299995,null,null,24,null,535.5,null,4.48E-2,1,null,3.4050179211469536E-2,558,18,24,24]
[299,"Townsend                     ",0,0,0,0,0,0,0,0,0,0,0,0,0,0,1,0,0,null,0,0,0,0,0,0,0,0,0,0,0,0,null,null,0,null,0,null,0,0,null,0,0,0,0,0]
[300,"Truro                        ",18,0,12,65,49,64,0,7,2,1,0,0,47,199,1,8,0.44130000000000003,null,109383.84,160296.59,918208.19,198033.61000000002,37419.270000000004,119237.37,71066.66,87998.27,214563.81000000003,275513.12,56865.94,2248586.67,null,null,47,null,106.5,null,0.44130000000000003,8,null,0.23857868020304568,197,47,37,47]
[301,"Tyngsborough                 ",22,0,99,621,409,486,0,62,16,55,8,5,350,1626,1,4,0.21529999999999999,null,906208.92,1293023.5900000001,7316236.6399999997,1680057.2600000002,297956.66999999993,970504.85000000009,569731.49000000011,654624.09000000008,1784061.57,2244817.34,454927.52,18172149.940000001,null,null,350,null,1626,null,0.21529999999999999,4,null,0.14228571428571429,1750,231,350,350]
[302,"Tyringham                    ",1,0,0,17,6,8,0,1,0,0,0,0,0,32,1,0,0,null,15566.869999999999,23062.09,120458.68,31533.84,4751.34,18026.47,9909.61,8347.41,33341.600000000006,39656.670000000006,0,304654.57999999996,null,null,0,null,0,null,0,0,null,0,28,0,0,0]
[303,"Upton                        ",0,0,0,0,0,0,6,0,0,0,0,0,0,6,1,0,0,null,2432.2200000000003,4392.78,44312.46,3095.88,1385.16,8162.82,2445.6000000000004,3294.24,11003.64,9132.9000000000015,0,89657.700000000012,null,null,0,null,0,null,0,0,null,0,2,0,0,0]
[304,"Uxbridge                     ",20,0,108,616,426,512,21,64,17,24,5,7,446,1693,1,5,0.27579999999999999,null,944597.37999999989,1363748.1099999999,7889406.2799999984,1729345.2100000002,321444.98,1027914.6599999999,603758.8899999999,739298.03,1865077.6800000002,2370177.9200000004,483360.49,19338129.629999999,null,null,446,null,1617,null,0.27579999999999999,5,null,0.22854188210961737,1934,387,446,446]
[305,"Wakefield                    ",44,0,280,1313,821,938,10,128,34,59,8,15,518,3384,1.0629999999999999,3,0.155,null,1985035.7294500002,2789078.4801599993,15485895.731929999,3727710.0632499992,626975.87494000001,1995415.0999999999,1219978.1423200001,1287839.61586,3928513.1443699999,4569823.8899999997,966720.98,38582986.752279997,null,null,518,null,3343,null,0.155,3,null,0.12803793716656786,3374,433,518,518]
[306,"Wales                        ",7,0,16,91,18,0,1,5,1,1,0,0,56,130,1,8,0.44090000000000001,null,73203.929999999993,112178.14000000001,646747.23999999987,150123.15,27922.670000000002,67108.03,42607.89,55350.36,138943.38,196099.27,28432.97,1538717.03,null,null,56,null,127,null,0.44090000000000001,8,null,0.35761589403973509,151,46,56,56]
[307,"Walpole                      ",38,299,10,1417,837,1140,0,136,36,75,18,27,602,3573,1.0449999999999999,3,0.1714,null,2069356.3384999998,2915023.8216000004,16386581.181849999,3839525.8330000006,659342.16479999991,2146224.6800000002,1292946.523,1430628.9200500001,4084749.8802000005,4842002.5399999991,1023586.92,40689968.803000003,null,null,602,null,3512.5,null,0.1714,3,null,0.16849243609806991,3834,602,536,602]
[308,"Waltham                      ",55,0,414,2185,1223,1308,366,214,51,780,167,296,2532,5524,1.095,8,0.46300000000000002,null,3580812.85935,5501050.8384000007,34819088.841749996,6495801.8911499986,1438345.69245,3669230.1999999993,2389457.7868499998,3501918.1312500001,7284604.1174999997,8784928.0800000001,1450081.47,78915319.908700004,null,null,2532,null,5468.5,null,0.46300000000000002,8,null,0.4582861457153643,5298,2532,2427,2532]
[309,"Ware                         ",37,0,71,453,361,370,3,48,13,11,3,2,683,1277,1,10,0.60629999999999995,null,739551.68,1161625.58,7169572.4399999995,1300280.0599999998,304827.15999999997,767568.95000000007,506534.18,826820.65,1393154.1600000001,1995126.28,369628.61,16534689.749999998,null,null,683,null,1126.5,null,0.60629999999999995,10,null,0.51127272727272732,1375,653,683,683]
[310,"Wareham                      ",48,1,166,833,632,478,135,88,21,25,2,1,1246,2269,1,10,0.60299999999999998,null,1317731.5300000003,2074888.74,13218062.619999999,2353374.0100000002,559299.80999999994,1426910.96,896576.07000000007,1468585.69,2591764.66,3632034.08,597092.37,30136320.540000003,null,null,1246,null,2066.5,null,0.60299999999999998,10,null,0.51047957371225572,2815,1158,1246,1246]
[311,"Warren                       ",0,0,0,0,0,0,0,0,0,0,0,0,0,0,1,0,0,null,0,0,0,0,0,0,0,0,0,0,0,0,null,null,0,null,0,null,0,0,null,0,0,0,0,0]
[312,"Warwick                      ",0,0,0,0,0,0,0,0,0,0,0,0,0,0,1,0,0,null,0,0,0,0,0,0,0,0,0,0,0,0,null,null,0,null,0,null,0,0,null,0,0,0,0,0]
[313,"Washington                   ",0,0,0,0,0,0,0,0,0,0,0,0,0,0,1,0,0,null,0,0,0,0,0,0,0,0,0,0,0,0,null,null,0,null,0,null,0,0,null,0,1,0,0,0]
[314,"Watertown                    ",59,0,190,1009,594,729,55,99,25,242,54,60,885,2607,1.0740000000000001,6,0.35439999999999999,null,1605821.7627000001,2383832.5178999999,14223518.36634,2946311.5354200001,584010.62321999995,1625646.6900000002,1040820.9287400002,1361931.5383200001,3190011.6188400001,3849667.66,710824.25,33522397.491480004,null,null,885,null,2497,null,0.35439999999999999,6,null,0.27335907335907333,2590,713,885,885]
[315,"Wayland                      ",24,202,0,1024,645,855,10,100,26,65,12,13,222,2647,1.0389999999999999,2,8.5400000000000004E-2,null,1507494.3782699995,2087023.3825199995,11515709.630709996,2808405.7995799999,458077.13568999985,1597647.3499999999,933410.94965000008,941091.60129999998,3019108.6720699999,3497094.84,739257.22,29104320.959789999,null,null,222,null,2599,null,8.5400000000000004E-2,2,null,8.3969465648854963E-2,2620,222,186,222]
[316,"Webster                      ",45,0,99,776,470,458,44,71,18,116,31,38,1103,1870,1,10,0.65480000000000005,null,1104156.5900000001,1761383.57,11121129.019999998,1966137.6200000006,472922.42000000004,1155888.6700000002,756114.96000000008,1261199.8,2114859.85,3037189.4699999997,511793.46,25262775.430000003,null,null,1103,null,1684.5,null,0.65480000000000005,10,null,0.56432160804020104,1990,1055,1103,1103]
[317,"Wellesley                    ",67,0,222,1593,1110,1506,1,169,44,68,14,3,327,4466,1.07,2,7.4300000000000005E-2,null,2611062.8883000002,3601509.3298999993,19793115.537399996,4847108.2176000001,785680.91610000003,2691445.47,1620539.3639000005,1626425.8940000003,5216191.8027000008,5855294.4300000006,1251050.6800000002,49899424.529899992,null,null,327,null,4401,null,7.4300000000000005E-2,2,null,6.1208423538673493E-2,5081,273,327,327]
[318,"Wellfleet                    ",0,0,15,99,0,0,0,4,1,1,0,0,36,114,1,6,0.34949999999999998,null,62663.630000000005,93916,521210.34999999992,132844.87,21845.170000000002,57811.69,34373.840000000004,37042.700000000004,119055.74,162524.19,28432.97,1271721.1499999999,null,null,36,null,103,null,0.34949999999999998,6,null,0.28225806451612906,124,32,36,36]
[319,"Wendell                      ",0,0,0,0,0,0,0,0,0,0,0,0,0,0,1,0,0,null,0,0,0,0,0,0,0,0,0,0,0,0,null,null,0,null,0,null,0,0,null,0,0,0,0,0]
[320,"Wenham                       ",0,0,0,0,0,0,0,0,0,0,0,0,0,0,1.03,0,0,null,0,0,0,0,0,0,0,0,0,0,0,0,null,null,0,null,0,null,0,0,null,0,0,0,0,0]
[321,"Westborough                  ",52,0,242,1418,927,1208,0,145,38,312,58,36,522,3821,1,3,0.1376,null,2135014.36,2998506.5299999993,16761969.929999998,3968242.5999999992,673323.55999999982,2322794.4900000002,1331387.8500000003,1401291.14,4260515.8099999996,5202755.8,1080452.8600000001,42136254.929999992,null,null,522,null,3793,null,0.1376,3,null,0.10634648370497427,3498,406,522,522]
[322,"West Boylston                ",24,0,43,312,195,246,24,31,8,26,5,7,242,832,1,5,0.27379999999999999,null,465060.67000000004,679574.19999999984,4010695.1499999994,849953.01,162728.22999999998,518118.7900000001,300680.05000000005,378304.12,931793.43,1182735.3,227463.76,9707106.709999999,null,null,242,null,884,null,0.27379999999999999,5,null,0.234375,896,195,242,242]
[323,"West Bridgewater             ",13,0,97,409,268,314,5,42,11,14,1,5,297,1100,1,4,0.21890000000000001,null,614353.48,885709.77,5080136.4099999992,1137729.0999999999,208012.90999999997,654409.44000000006,387635.30000000005,468277.29,1202257.6299999999,1538715.32,312762.67000000004,12489999.319999998,null,null,297,null,1357,null,0.21890000000000001,4,null,0.2470703125,1024,272,297,297]
[324,"West Brookfield              ",0,0,0,0,0,0,37,2,0,0,0,0,0,37,1,0,0,null,20594.11,27088.81,291723.63,36330.340000000004,9432.48,51114.79,15081.2,20314.48,74106.12,63400.29,0,609186.25,null,null,0,null,0,null,0,0,null,0,25,0,0,0]
[325,"Westfield                    ",105,47,259,1775,1179,1222,468,193,45,157,39,56,2199,4980,1,8,0.44669999999999999,null,2859100.05,4361833.26,27994553.780000001,5126201.1100000003,1146347.9099999999,3338203.86,1927523.6,2893184.1,5887785.5399999991,7707879.9600000009,1279483.6500000001,64522096.82,null,null,2199,null,4923,null,0.44669999999999999,8,null,0.41478292070326517,5574,2066,2199,2199]
[326,"Westford                     ",50,271,4,1625,1130,1666,0,174,46,60,10,13,358,4586,1.0129999999999999,2,7.8399999999999997E-2,null,2542838.5463099992,3506010.1298300005,19414715.460819997,4676295.0639400007,767041.87789999985,2797641.3599999989,1593675.5169299999,1644977.4533399995,5074926.4275199985,6011972.0800000001,1307916.6200000001,49338010.536589988,null,null,358,null,4567.5,null,7.8399999999999997E-2,2,null,5.5385868458562408E-2,4911,254,358,358]
[327,"Westhampton                  ",3,0,7,59,18,0,17,4,1,0,0,0,25,103,1,5,0.24149999999999999,null,57136.22,81678.31,507020.7,112570.1,20407.72,66708.12000000001,33476.83,36673.86,124792.35,150231.96000000002,28432.97,1219129.1399999999,null,null,25,null,103.5,null,0.24149999999999999,5,null,0.10948905109489052,137,11,25,25]
[328,"Westminster                  ",0,0,0,0,0,0,0,0,0,0,0,0,0,0,1,0,0,null,0,0,0,0,0,0,0,0,0,0,0,0,null,null,0,null,0,null,0,0,null,0,0,0,0,0]
[329,"West Newbury                 ",0,0,0,0,0,0,2,0,0,0,0,0,0,2,1,0,0,null,810.74,1464.26,14770.82,1031.96,461.72,2720.94,815.2,1098.08,3667.88,3044.3,0,29885.9,null,null,0,null,0,null,0,0,null,0,1,0,0,0]
[330,"Weston                       ",27,0,116,673,471,652,2,73,19,51,17,13,138,1928,1.0620000000000001,2,7.2900000000000006E-2,null,1123006.9404600002,1549773.2440799999,8537905.925280001,2085522.4337399998,338496.46379999997,1168805.04,697152.90546000015,695869.4784599999,2248949.0365199996,2537738.2399999993,540226.43000000005,21523446.137799997,null,null,138,null,1892.5,null,7.2900000000000006E-2,2,null,4.7132058692752332E-2,2249,91,138,138]
[331,"Westport                     ",41,0,102,557,388,403,0,55,15,13,3,2,441,1471,1,6,0.32300000000000001,null,823187.01,1205590.4399999997,6936826.0100000007,1511212.29,287441.57,864640.47,525380.92000000004,666017.55000000005,1597431.9300000002,2087135.15,426494.55000000005,16931357.890000001,null,null,441,null,1365.5,null,0.32300000000000001,6,null,0.29954809554551326,1549,441,418,441]
[332,"West Springfield             ",83,1,263,1491,951,1163,84,152,39,263,47,84,2234,3995,1,10,0.56589999999999996,null,2352705.1800000002,3722369.84,23529715.639999997,4155379.2100000004,990998.37000000011,2511393.06,1620448.2200000002,2674997.66,4514078.71,6405823.7100000009,1108885.83,53586795.429999992,null,null,2234,null,3948,null,0.56589999999999996,10,null,0.55916708989334685,3938,2234,2121,2234]
[333,"West Stockbridge             ",0,0,0,0,0,0,0,0,0,0,0,0,0,0,1,0,0,null,0,0,0,0,0,0,0,0,0,0,0,0,null,null,0,null,0,null,0,0,null,0,0,0,0,0]
[334,"West Tisbury                 ",0,0,0,0,0,0,0,0,0,0,0,0,0,0,1,0,0,null,0,0,0,0,0,0,0,0,0,0,0,0,null,null,0,null,0,null,0,0,null,0,0,0,0,0]
[335,"Westwood                     ",11,0,203,1035,684,1013,0,112,29,21,2,2,192,2941,1.0569999999999999,2,6.5500000000000003E-2,null,1696223.0225499999,2331048.3014699998,12822556.231939999,3158461.52776,506435.41038999998,1774074.03,1049008.4669400002,1046585.74895,3382595.7669699998,3836782.54,824556.13,32428327.176970001,null,null,192,null,2931.5,null,6.5500000000000003E-2,2,null,6.1290322580645158E-2,3100,180,192,192]
[336,"Weymouth                     ",69,0,392,2118,1417,1540,427,230,55,213,49,55,2126,5929,1.042,7,0.36599999999999999,null,3515854.4843600006,5233630.4134800006,32522577.968619995,6378092.6700800015,1324875.9913600001,3875271.7600000002,2315429.3878800003,3198515.7705400004,7194021.9026600011,8855212.4499999993,1563813.35,75977296.148979992,null,null,2126,null,5808,null,0.36599999999999999,7,null,0.32321537522879806,6556,1916,2126,2126]
[337,"Whately                      ",0,0,13,53,15,0,0,3,1,3,0,0,35,81,1,6,0.31109999999999999,null,46617.920000000006,69801.59,394687.29000000004,92525.49,17142.64,41604.729999999996,26690.21,33175.270000000004,86912.79,121570.75,28432.97,959161.65,null,null,35,null,112.5,null,0.31109999999999999,6,null,0.42696629213483145,89,35,29,35]
[338,"Whitman                      ",0,0,0,0,0,0,9,0,0,0,0,0,0,9,1,0,0,null,3648.33,6589.17,66468.69,4643.82,2077.7400000000002,12244.23,3668.4,4941.3599999999997,16505.46,13699.35,0,134486.55000000002,null,null,0,null,0,null,0,0,null,0,9,0,0,0]
[339,"Wilbraham                    ",0,0,0,0,0,0,0,0,0,0,0,0,0,0,1,0,0,null,0,0,0,0,0,0,0,0,0,0,0,0,null,null,0,null,0,null,0,0,null,0,0,0,0,0]
[340,"Williamsburg                 ",2,0,9,101,23,0,34,7,1,1,0,0,38,168,1,5,0.29920000000000002,null,92903.97,133248.85,855908.77999999991,187919.15,33848.83,114936.81999999999,55051.19,60576.280000000006,211232.89,248764.49000000002,28432.97,2022824.2199999997,null,null,38,null,127,null,0.29920000000000002,5,null,0.2,185,34,38,38]
[341,"Williamstown                 ",0,0,0,0,0,0,0,0,0,0,0,0,0,0,1,0,0,null,0,0,0,0,0,0,0,0,0,0,0,0,null,null,0,null,0,null,0,0,null,0.23677581863979849,397,0,0,0]
[342,"Wilmington                   ",18,195,2,1164,729,803,13,108,28,18,2,2,363,2818,1.0680000000000001,3,0.13300000000000001,null,1655247.94884,2306355.9964800002,12753160.631519999,3101819.6446799999,515185.19351999997,1665792.1600000004,1017109.7572800001,1061115.2661600001,3286671.4129200005,3772554.3999999994,796123.16,31931135.571399998,null,null,363,null,2729,null,0.13300000000000001,3,null,0.12128146453089245,3496,342,363,363]
[343,"Winchendon                   ",56,0,91,489,315,360,0,48,13,4,4,2,622,1283,1,9,0.53069999999999995,null,735986.8,1138698.9500000002,6920398.0999999996,1320470.79,291886.55,762542.84999999986,492241.83,761855.66999999993,1390732.8,1956464.6300000001,369628.61,16140907.580000002,null,null,622,null,1172,null,0.53069999999999995,9,null,0.44170096021947874,1458,567,622,622]
[344,"Winchester                   ",23,0,236,1725,1099,1436,5,172,45,112,12,8,314,4513,1.0469999999999999,2,7.0199999999999999E-2,null,2590682.4037499991,3564738.08127,19533837.119999997,4847077.4643899994,777188.93759999983,2703791.25,1590213.8792399999,1564218.5967899999,5172928.6992300004,5933327.1399999997,1279483.6500000001,49557487.22226999,null,null,314,null,4472,null,7.0199999999999999E-2,2,null,6.9585253456221199E-2,4340,314,283,314]
[345,"Windsor                      ",0,0,0,0,0,0,4,0,0,0,0,0,0,4,1,0,0,null,1621.48,2928.52,29541.64,2063.92,923.44,5441.88,1630.4,2196.16,7335.76,6088.6,0,59771.8,null,null,0,null,0,null,0,0,null,0,3,0,0,0]
[346,"Winthrop                     ",15,0,126,725,465,578,5,72,19,94,21,27,674,1907,1.03,6,0.35820000000000002,null,1117648.6224999998,1659986.9031,9796420.6091000009,2032093.2727000001,404575.45100000006,1157789.3599999999,728195.79630000005,976845.67579999997,2173936.3237000001,2780974.9699999997,540226.43000000005,23368693.414199997,null,null,674,null,1881.5,null,0.35820000000000002,6,null,0.27697841726618705,1946,528,674,674]
[347,"Woburn",110,0,290,1649,1079,1285,26,165,43,196,72,78,1502,4384,1.0580000000000001,6,0.35199999999999998,null,2634884.5149000003,3909756.5289000003,23027302.044659998,4806293.8052400006,950739.52622,2663189.52,1711961.7977200001,2264433.1045200001,5151105.1781000001,6385202.2300000004,1222617.71,54727485.960259996,null,null,1502,null,4267,null,0.35199999999999998,6,null,0.29400709960325744,4789,1289,1502,1502]
[348,"Worcester                    ",801,0,1703,10078,6115,6215,2028,1019,241,4658,1115,1567,18998,26540,1,11,0.74350000000000005,null,16366567.839999998,27029422.449999999,181215837.36000001,28523894.650000002,7662413.2299999986,18197096.669999998,11680189.25,20974569.710000001,32582851.739999998,46855256.350000001,6852345.7700000005,397940445.01999998,null,null,18998,null,25552,null,0.74350000000000005,11,null,0.71583126912428963,27452,18998,17358,18998]
[349,"Worthington                  ",3,0,6,48,14,25,7,4,1,0,0,0,23,102,1,7,0.371,null,56769.710000000006,81129.759999999995,491468.61,107498.48,19506.599999999999,64777.890000000007,35142.490000000005,42634.09,115721.57,143675.28000000003,28432.97,1186757.45,null,null,23,null,62,null,0.371,7,null,0.14782608695652175,115,15,23,23]
[350,"Wrentham                     ",12,94,15,617,137,0,0,31,8,21,1,0,103,822,1.0269999999999999,3,0.12280000000000001,null,463758.34362,648946.05932,3362324.6105799992,971471.09591999999,141816.07816999999,415980.02,245991.52799,188912.28524999999,903925.59347999992,1114246.33,227463.76,8684835.7043299992,null,null,103,null,838.5,null,0.12280000000000001,3,null,0.10020876826722339,958,82,103,103]
[351,"Yarmouth                     ",0,0,0,0,0,0,0,0,0,0,0,0,0,0,1,0,0,null,0,0,0,0,0,0,0,0,0,0,0,0,null,null,0,null,0,null,0,0,null,0,0,0,0,0]
[406,"Northampton Smith            ",0,0,0,0,0,0,116,6,0,0,0,18,244,116,1,8,0.46210000000000001,null,81146,162533.72000000003,1662345.44,114228.08000000002,65705.48000000001,167485.66,78046.760000000009,218017.62000000002,236042.96,320336.66000000003,0,3105888.38,null,null,244,null,528,null,0.46210000000000001,8,null,2.1030927835051547,97,244,209,244]
[600,"Acton Boxborough             ",40,281,4,1861,1277,1817,0,195,51,200,28,19,472,5120,1.06,2,9.3299999999999994E-2,null,2991348.9273999999,4142417.2374,23015831.685600001,5508798.2170000002,913238.01799999992,3130828.17,1875746.6591999999,1949423.5067999999,5976959.1738000009,6787675.5600000005,1450081.47,57742348.625200003,null,null,472,null,5060.5,null,9.3299999999999994E-2,2,null,6.8001443001443007E-2,5544,348,472,472]
[603,"Hoosac Valley",27,0,81,445,352,286,0,44,12,9,1,2,630,1178,1,10,0.57820000000000005,null,681170.38,1071050.0999999999,6534146.2699999996,1212024.8899999997,280487.53999999998,689048.63,460091.47,740363.49,1279782.24,1842603.9699999997,341195.64,15131964.620000001,null,null,630,null,1089.5,null,0.57820000000000005,10,null,0.48927038626609443,1398,576,630,630]
[605,"Amherst Pelham               ",0,0,0,0,416,882,32,52,13,0,29,70,433,1330,1,6,0.31509999999999999,null,758458.51,1112850.4400000002,7092582.75,1193636.81,276607.86,971533.99,567223.35000000009,857227.99000000011,1532254.9300000002,1907387.91,369628.61,16639393.149999999,null,null,433,null,1374,null,0.31509999999999999,6,null,0.27088772845953002,1532,360,433,433]
[610,"Ashburnham Westminster       ",30,0,137,821,571,640,0,83,22,28,2,3,511,2184,1,4,0.23219999999999999,null,1214667.46,1737746.21,9839490.9299999997,2243757.6999999993,402527.51999999996,1293584.3400000003,764998.76000000013,896443.92,2379935.4799999995,3017776.3899999997,625525.34000000008,24416454.050000001,null,null,511,null,2200.5,null,0.23219999999999999,4,null,0.2339103417665335,2253,511,488,511]
[615,"Athol Royalston              ",48,0,107,650,427,458,0,63,16,27,5,8,868,1666,1,10,0.61780000000000002,null,963444.10000000021,1511464.5799999998,9284423.0299999993,1723713.3499999999,394189.31,992874.7699999999,652211.25,1047367.0199999999,1816455.2999999998,2596244.5300000003,454927.52,21437314.759999998,null,null,868,null,1405,null,0.61780000000000002,10,null,0.48806057076295867,1717,813,868,868]
[616,"Ayer Shirley",8,5,114,644,419,458,0,63,16,43,9,8,550,1642,1,6,0.33550000000000002,null,928401.26,1368837.8099999998,7978941.2400000002,1707898.49,331165.57999999996,974065.05999999994,595986.72,781049.53999999992,1798730.89,2370624.61,454927.52,19290628.720000003,null,null,550,null,1639.5,null,0.33550000000000002,6,null,0.33525014376078205,1739,550,475,550]
[618,"Berkshire Hills              ",16,0,67,292,197,345,28,35,9,26,11,14,426,937,1,7,0.36870000000000003,null,536097.92000000004,820591.23,5133619.0299999993,940940.76,209529.93999999997,609040.3400000002,368757.39,562150.23,1054223.54,1413838.5799999998,255896.73,11904685.689999999,null,null,426,null,1155.5,null,0.36870000000000003,7,null,0.28176795580110497,1086,264,426,426]
[620,"Berlin Boylston              ",13,0,72,367,236,295,0,37,10,15,0,7,164,977,1,3,0.15790000000000001,null,540195.21,760509.88,4251139.1300000008,1004967.7800000001,171766.83999999997,580422.91,335492.25000000006,366184.50999999995,1064538.5900000001,1321356.0599999998,284329.7,10680902.860000001,null,null,164,null,1038.5,null,0.15790000000000001,3,null,0.10881801125703565,533,106,164,164]
[622,"Blackstone Millville         ",47,0,110,667,422,452,0,63,17,16,7,6,496,1675,1,6,0.31290000000000001,null,938590.35,1372446.2300000002,7896108.120000001,1732582.9500000002,326770.27,983572.35,595798.30000000005,750656.75,1820664.75,2376962,483360.49,19277512.559999999,null,null,496,null,1585,null,0.31290000000000001,6,null,0.2961111111111111,1800,496,492,496]
[625,"Bridgewater Raynham          ",93,0,394,2141,1382,1482,0,206,54,101,25,25,1210,5446,1,4,0.23050000000000001,null,3026286.2799999993,4327342.67,24344529.709999997,5646829.4400000004,997272.75999999989,3198657.2700000005,1886536.9600000004,2149691.25,5941648.1500000004,7518813.4000000004,1535380.3800000001,60572988.269999996,null,null,1210,null,5249.5,null,0.23050000000000001,4,null,0.20750878490845201,5407,1130,1210,1210]
[632,"Chesterfield Goshen",2,0,12,71,16,0,0,4,1,0,0,0,34,100,1,6,0.33660000000000001,null,56773.080000000009,82928.83,461027.23,116765.52,19845.77,50849.29,31472.73,35378.959999999999,106975.41999999998,145900.29,28432.97,1136350.0900000001,null,null,34,null,101,null,0.33660000000000001,6,null,0.33823529411764708,136,34,28,34]
[635,"Central Berkshire            ",40,0,83,526,364,523,0,57,15,5,1,2,605,1516,1,7,0.39739999999999998,null,857527.79999999993,1290565.6599999999,7745172.0300000003,1530337.94,319707.3,925182.12,573236.47000000009,829101.96,1647068.18,2218451.2400000002,426494.55000000005,18362845.250000004,null,null,605,null,1522.5,null,0.39739999999999998,7,null,0.33627278071722516,1701,510,605,605]
[640,"Concord Carlisle             ",0,0,0,0,0,1346,0,51,13,0,0,4,115,1346,1.0569999999999999,2,8.7300000000000003E-2,null,775518.36319999991,1072877.1018699999,6981856.7363299998,1200002.42845,237362.40394999992,1068757.24,592278.25958000007,844147.04779999983,1563663.7223899998,1684379.02,369628.61,16390470.933569998,null,null,115,null,1317,null,8.7300000000000003E-2,2,null,4.7655649500384319E-2,1301,64,115,115]
[645,"Dennis Yarmouth              ",38,0,209,1188,815,909,0,119,31,201,59,52,1445,3140,1,9,0.50980000000000003,null,1824873.97,2809504.9299999997,17051623.039999999,3271776.24,717584.65,1906926.2899999998,1222271.7600000002,1839260.25,3494182.1599999997,4829006.6499999994,881422.07000000007,39848432.009999998,null,null,1445,null,2834.5,null,0.50980000000000003,9,null,0.45086535640950426,3409,1416,1445,1445]
[650,"Dighton Rehoboth             ",40,1,191,1006,687,547,213,103,24,9,2,0,509,2665,1,4,0.19570000000000001,null,1469227.7500000002,2085419.3,12326415.959999999,2756977.7399999998,495532.47000000003,1691397.34,915820.91,1021111.1100000001,3080932.2399999998,3727931.01,682391.28,30253157.109999999,null,null,509,null,2601.5,null,0.19570000000000001,4,null,0.18675315807442813,2929,498,509,509]
[655,"Dover Sherborn               ",0,0,0,0,519,710,0,47,12,0,1,2,53,1229,1.0509999999999999,1,4.4699999999999997E-2,null,702767.7978399999,959960.65635999991,5447279.8719499987,1149960.8567599999,211423.82643999998,823701.66,492304.35418000002,567971.87691999984,1437692.7273800001,1580522.6199999999,341195.64,13714781.887829999,null,null,53,null,1185,null,4.4699999999999997E-2,1,null,4.3046357615894038E-2,1208,53,51,53]
[658,"Dudley Charlton              ",57,0,225,1260,903,921,0,126,33,98,12,9,959,3338,1,5,0.28050000000000003,null,1869212.2300000002,2717670.81,15534992.799999997,3445275.17,641987.55000000005,1971660.4199999997,1187960.4700000002,1454563.23,3653451.5,4712285.3099999987,938288.01,38127347.499999993,null,null,959,null,3418.5,null,0.28050000000000003,5,null,0.26175710594315243,3870,874,959,959]
[660,"Nauset                       ",0,0,0,0,566,624,0,45,12,0,7,28,408,1190,1,5,0.2722,null,670133.98,984870.23999999987,5892850.6499999994,1066558.9600000002,241499.47999999998,789300.18,488794.67000000004,700547.35999999987,1333276.1399999999,1694793.0799999996,341195.64,14203820.380000001,null,null,408,null,1499,null,0.2722,5,null,0.30141287284144425,1274,359,408,408]
[662,"Farmington River",13,0,14,66,50,60,13,8,2,0,0,0,40,210,1,7,0.40820000000000001,null,115798.94000000002,165239.56999999998,984376.09,212181.53,39249.379999999997,134625.62999999998,74112.100000000006,87955.549999999988,238803.01,291960.08,56865.94,2401167.8199999998,null,null,40,null,98,null,0.40820000000000001,7,null,0.1889763779527559,254,40,40,40]
[665,"Freetown Lakeville           ",18,0,201,1076,660,769,0,103,27,12,3,0,566,2715,1,4,0.20960000000000001,null,1502205.6700000002,2137937.1599999997,12017852.85,2804675.34,489808.64999999997,1595928.2699999998,934792.42,1060328.57,2945560.8400000003,3715348.97,767690.19000000006,29972128.93,null,null,566,null,2700.5,null,0.20960000000000001,4,null,0.16739130434782609,2760,454,566,566]
[670,"Frontier                     ",0,0,0,0,201,359,0,21,6,0,2,3,158,560,1,4,0.22800000000000001,null,312880.38,452012.46,2755276.4299999997,491892.60000000003,108181.92999999998,388477.94,230209.69000000003,329761.32999999996,621903.46000000008,771018.26,170597.82,6632212.3000000007,null,null,158,null,693,null,0.22800000000000001,4,null,0.24204946996466431,566,136,158,158]
[672,"Gateway                      ",26,0,45,305,204,177,36,30,7,12,0,6,312,780,1,7,0.41880000000000001,null,442247.92,666432.35,4056095.9899999998,810671.19000000006,168613.92,482508.73999999993,289140.66000000003,406017.43000000005,882703.99999999988,1168353.3,199030.79,9571816.2899999991,null,null,312,null,745,null,0.41880000000000001,7,null,0.33333333333333331,951,260,312,312]
[673,"Groton Dunstable             ",13,112,16,841,582,751,0,86,22,19,4,2,202,2253,1,2,9.06E-2,null,1232696.3699999996,1704174.64,9388570.4499999974,2286350.7200000002,374425.56000000006,1353488.98,766591.2300000001,786276.86,2457110.5900000003,2967713.3699999996,625525.34000000008,23942924.109999999,null,null,202,null,2228.5,null,9.06E-2,2,null,6.7708333333333329E-2,2496,153,202,202]
[674,"Gill Montague                ",34,0,63,407,240,243,0,36,10,42,10,8,477,970,1,9,0.53480000000000005,null,561525.28,871681.48999999987,5281245.55,1014094.24,223853.94,574218.57999999996,372677.25,570519.5,1064100.78,1497340.62,284329.7,12315586.93,null,null,477,null,892,null,0.53480000000000005,9,null,0.49127640036730946,1089,477,471,477]
[675,"Hamilton Wenham              ",18,0,122,628,390,491,0,62,16,8,2,3,144,1640,1.036,2,8.5999999999999993E-2,null,927272.73240000021,1283710.8426800005,7018506.5686399993,1746525.7644800001,280714.88115999999,968247.83,566866.25520000013,561050.80388000014,1844290.79492,2158507.38,454927.52,17810621.373360001,null,null,144,null,1674.5,null,8.5999999999999993E-2,2,null,8.4033613445378158E-2,1785,138,144,144]
[680,"Hampden Wilbraham            ",86,0,158,974,641,963,27,106,27,34,1,1,626,2806,1,4,0.22109999999999999,null,1552762.0600000003,2223664.4299999997,12835968.07,2840663.5900000003,515383.48999999987,1725079.0299999998,996740.34000000008,1194049.8899999999,3077787.78,3855991.7699999996,767690.19000000006,31585780.640000004,null,null,626,null,2831.5,null,0.22109999999999999,4,null,0.17854869509866328,3142,501,626,626]
[683,"Hampshire                    ",0,0,0,0,236,402,0,24,6,0,4,6,142,638,1,4,0.2014,null,352463.31999999995,505734.69999999995,3037954.4200000004,562422.5,118811.35999999999,440341.25999999995,258134.37999999998,353240.9,710142.54,864924.14,170597.82,7374767.3400000008,null,null,142,null,705,null,0.2014,4,null,0.17029972752043596,734,109,142,142]
[685,"Hawlemont                    ",10,0,9,53,12,0,0,3,1,4,1,0,62,79,1,10,0.55610000000000004,null,48190.350000000006,79047.600000000006,492795.85,91866.909999999989,21851.48,41628.779999999992,30196.29,53907.57,85395.999999999985,136029.68000000002,28432.97,1109343.48,null,null,62,null,111.5,null,0.55610000000000004,10,null,0.58064516129032262,93,46,62,62]
[690,"King Philip                  ",0,0,0,0,760,1264,0,77,20,0,3,5,255,2024,1.0269999999999999,3,0.12959999999999999,null,1140288.1440599998,1590305.9979299998,9340077.1133799981,1837433.2441399998,361070.52383999992,1387513.5699999998,817347.23407999997,1036719.8360999998,2310199.1890899991,2660054.1699999995,568659.4,23049668.422619991,null,null,255,null,1968,null,0.12959999999999999,3,null,6.3477460901563934E-2,2174,128,255,255]
[695,"Lincoln Sudbury              ",0,0,0,0,0,1586,0,61,16,0,0,12,133,1586,1.0029999999999999,2,8.6900000000000005E-2,null,872188.70990999998,1200038.9588299997,7816237.9681699993,1350679.57898,265810.13526999991,1260397.8799999997,662443.56654000003,942701.6058799997,1753036.7501099999,1988616.26,454927.52,18567078.93369,null,null,133,null,1530,null,8.6900000000000005E-2,2,null,5.0715990453460619E-2,1676,80,133,133]
[698,"Manchester Essex",12,0,55,380,341,471,0,48,12,8,0,0,154,1253,1.038,3,0.12239999999999999,null,713364.59694000008,994595.87430000002,5576109.09504,1297185.5794200003,222053.36111999999,768603.25999999989,455899.91772000003,500760.64806000009,1421579.2814399998,1664381.7000000002,341195.64,13955728.954039998,null,null,154,null,1258,null,0.12239999999999999,3,null,9.1220850480109736E-2,1458,114,154,154]
[700,"Marthas Vineyard             ",0,0,0,0,0,420,317,31,4,0,0,83,276,737,1,7,0.38169999999999998,null,421735.83,633655.22999999986,5336507.4499999993,659918.46,187887.16,784525.29999999981,337996.22000000003,574465.90999999992,1110800.3999999999,1195407.5399999998,113731.88,11356631.379999999,null,null,276,null,723,null,0.38169999999999998,7,null,0.21369863013698631,730,157,276,276]
[705,"Masconomet                   ",0,0,0,0,582,1151,0,66,17,0,1,2,155,1733,1.0489999999999999,2,9.1800000000000007E-2,null,992961.38148999983,1372422.7706799998,8091532.8215100002,1599466.2641499997,306901.87036999996,1206424.3399999999,712793.34955000004,892517.20829999994,2017344.0369299997,2241916.4999999995,483360.49,19917641.032979999,null,null,155,null,1688,null,9.1800000000000007E-2,2,null,2.9309488325881768E-2,2013,51,155,155]
[710,"Mendon Upton                 ",46,0,135,739,555,651,0,79,21,36,6,4,256,2103,1,2,0.11890000000000001,null,1154365.94,1611793.6799999997,8891315.4399999995,2141726.5099999998,357902.6,1252436.05,717695.17,746254.61,2294917.91,2803112.76,597092.37,22568613.040000003,null,null,256,null,2153.5,null,0.11890000000000001,2,null,0.10631808278867103,2295,224,256,256]
[712,"Monomoy",22,0,97,602,466,556,0,66,17,47,17,14,637,1732,1,6,0.35070000000000001,null,983403.29999999993,1462898.77,8651558.1099999994,1769516.4400000002,358328.58,1051680.69,648288.55999999994,890195.87,1905874.3499999999,2524693.9499999997,483360.49,20729799.109999996,null,null,637,null,1816.5,null,0.35070000000000001,6,null,0.2902881536819637,1874,503,637,637]
[715,"Mount Greylock               ",18,0,58,386,235,326,0,38,10,5,0,1,271,1014,1,5,0.24840000000000001,null,563042.01,815279.85,4690945.17,1032876.48,190810.33000000002,608421.5,360494.94,445587.66,1099660.69,1409080.3200000001,284329.7,11500528.649999999,null,null,271,null,1091,null,0.24840000000000001,5,null,0.26694045174537989,487,271,241,271]
[717,"Mohawk Trail                 ",50,0,45,343,198,205,0,30,8,3,1,2,304,816,1,7,0.40610000000000002,null,458244.76000000013,688508.50999999989,4025474.16,844011.72000000009,168321.77999999997,475143.25,295378.23,401756.7,881393.85000000009,1187740.8,227463.76,9653437.5200000014,null,null,304,null,748.5,null,0.40610000000000002,7,null,0.33972310969116082,939,277,304,304]
[720,"Narragansett                 ",19,0,84,494,330,316,0,47,12,4,2,0,470,1234,1,6,0.3574,null,696376.4,1038401.0199999999,6071995.9099999992,1280105.7100000002,254520.97,720212.58,448550.14000000007,609182.29,1339437.74,1798482.2200000002,341195.64,14598460.620000001,null,null,470,null,1315,null,0.3574,6,null,0.35011441647597252,1311,432,470,470]
[725,"Nashoba                      ",40,0,219,1125,808,966,0,119,31,50,29,13,344,3138,1.042,2,0.1114,null,1797278.36176,2500156.2315600002,13769256.898519998,3351130.0915000006,553163.52862,1869790.21,1111438.9321000001,1136016.49232,3576915.31966,4177146.44,881422.07000000007,34723714.57604,null,null,344,null,3088,null,0.1114,2,null,8.9411046689044857E-2,3277,281,344,344]
[728,"New Salem Wendell            ",9,0,14,74,13,0,0,4,1,0,0,0,65,106,1,9,0.52210000000000001,null,61312.959999999999,97901.87000000001,587553.55999999994,122224.59999999999,25726.489999999998,54316.35,37050.04,58119.78,111867.32999999999,169408.34000000003,28432.97,1353914.29,null,null,65,null,124.5,null,0.52210000000000001,9,null,0.61157024793388426,121,65,46,65]
[730,"Northboro Southboro          ",0,0,0,0,0,1384,0,53,14,0,0,18,145,1384,1,2,0.10639999999999999,null,760468.67,1052469.4300000002,6877173.8700000001,1174249.6000000001,234930.50999999998,1101101.6200000001,579701.9800000001,835314.58,1526370.5099999998,1747783.5799999998,398061.58,16287625.93,null,null,145,null,1363,null,0.10639999999999999,2,null,7.1045576407506708E-2,1492,98,145,145]
[735,"North Middlesex              ",36,0,226,1084,788,875,0,114,30,28,8,6,698,2991,1,4,0.23830000000000001,null,1663635.8100000003,2378858.5700000003,13466136.549999999,3074227.5000000005,551094.36,1770861.1400000004,1047465.2800000001,1224853.04,3259878.0599999996,4132850.54,852989.10000000009,33422849.949999999,null,null,698,null,2929,null,0.23830000000000001,4,null,0.19549970777323203,3422,585,698,698]
[740,"Old Rochester                ",0,0,0,0,402,629,19,40,10,0,1,0,196,1050,1,3,0.17249999999999999,null,578202.79,819182.68,4921707.68,928927.88,191782.99,729495.79,418560.97000000003,554777.68000000005,1182776.51,1414490.3,284329.7,12024234.970000001,null,null,196,null,1136,null,0.17249999999999999,3,null,0.15254237288135594,1180,160,196,196]
[745,"Pentucket                    ",85,1,139,831,559,696,0,85,22,5,3,0,328,2269,1,3,0.14810000000000001,null,1241595.0900000001,1745950.65,9691065,2312811.04,390342.73999999993,1345015.1199999996,773214.8600000001,827036.05999999994,2459222.7199999997,3033187.02,625525.34000000008,24444965.639999997,null,null,328,null,2215,null,0.14810000000000001,3,null,0.11076564321803342,2573,251,328,328]
[750,"Pioneer                      ",8,0,48,235,162,169,0,23,6,0,0,1,221,618,1,6,0.35049999999999998,null,346247.02999999997,515756.87999999995,3006086.39,633389.51,125248.1,363179.8299999999,224229.81000000003,300408.7,668996.9800000001,891084.08000000007,170597.82,7245225.1299999999,null,null,221,null,630.5,null,0.35049999999999998,6,null,0.35818908122503329,751,221,211,221]
[753,"Quabbin                      ",69,0,134,692,474,579,0,72,19,6,3,1,674,1914,1,6,0.3251,null,1075610.45,1595197.61,9360858.5199999996,1956576.78,387175.76,1141707.0899999999,699655.03,943849.92,2076421.1500000001,2753694.1799999997,540226.43000000005,22530972.919999998,null,null,674,null,2073.5,null,0.3251,6,null,0.34520054078413698,2219,661,674,674]
[755,"Ralph C Mahar                ",0,0,0,0,245,366,0,23,6,0,2,1,336,611,1,9,0.53249999999999997,null,352822.15,554635.01,3572229.76,539719.5,147356.38999999998,420627.93999999994,273577.27,478738.47,678974.28,941666.97999999986,170597.82,8130945.5699999994,null,null,336,null,631,null,0.53249999999999997,9,null,0.54935622317596566,699,336,311,336]
[760,"Silver Lake                  ",79,0,0,0,545,831,285,67,14,1,7,7,363,1701,1.0289999999999999,4,0.21060000000000001,null,967338.71849999984,1381047.68487,9279232.4393999986,1572519.0450900004,350844.23849999998,1352417.4999999998,706065.31820999994,968532.24530999991,2200117.2068399996,2424998.69,398061.58,21601174.666719999,null,null,363,null,1723.5,null,0.21060000000000001,4,null,0.16639741518578352,1857,283,363,363]
[763,"Somerset Berkley",0,0,0,0,0,978,46,39,10,0,0,1,199,1024,1,4,0.19719999999999999,null,565199.75,801775.8,5456465.0499999998,865130.70000000007,189191.93,841932.17000000016,437972.51,668898.06999999995,1164838.1199999999,1349066.9199999997,284329.7,12624800.719999999,null,null,199,null,1009,null,0.19719999999999999,4,null,0.10954446854663774,922,112,199,199]
[765,"Southern Berkshire           ",37,0,58,227,158,206,2,25,6,10,1,2,239,670,1,7,0.38669999999999999,null,375476.33,563142.37,3332683.3099999996,684458.8,137594.93,403487.82999999996,247056.61000000002,338187.14999999997,729904.77,970810.8,170597.82,7953400.7199999997,null,null,239,null,618,null,0.38669999999999999,7,null,0.35059760956175301,753,235,239,239]
[766,"Southwick Tolland Granville",19,0,76,454,335,367,79,51,12,36,16,0,422,1321,1,6,0.30449999999999999,null,744365.01,1096124.05,6687873.9299999997,1351175.99,271721.77999999997,852534.73999999987,488376.51,648071.91,1520377.54,1929106.8200000005,341195.64,15930923.920000002,null,null,422,null,1386,null,0.30449999999999999,6,null,0.25450031036623216,1611,336,422,422]
[767,"Spencer East Brookfield      ",47,0,88,603,402,340,59,58,14,32,9,11,647,1516,1,8,0.47110000000000002,null,865332.07999999984,1316779.0900000001,8033946.0300000003,1579297.7000000002,336283.5,930128.09,568827.81999999995,822944.12,1709521.3900000001,2300183.08,398061.58,18861304.479999997,null,null,647,null,1373.5,null,0.47110000000000002,8,null,0.40516767454645408,1819,614,647,647]
[770,"Tantasqua                    ",0,0,0,0,519,660,370,63,12,0,6,7,467,1549,1,5,0.26340000000000002,null,867454.32000000007,1260089.3500000003,8939112.8699999992,1398793.8000000003,339673.17000000004,1303619.4900000002,643343.0199999999,943962.3899999999,2050251.7000000002,2323755.06,341195.64,20411250.809999999,null,null,467,null,1773,null,0.26340000000000002,5,null,0.3016759776536313,1611,467,449,467]
[773,"Triton                       ",25,119,6,809,558,681,0,81,21,11,2,9,576,2127,1.036,5,0.27200000000000002,null,1228263.6046800001,1774542.5818400003,10203703.290199999,2241478.0589600001,417258.11680000008,1276617.9300000002,788851.60172000015,980837.04040000006,2400661.4688000004,2967775.51,597092.37,24877081.573400002,null,null,576,null,2118,null,0.27200000000000002,5,null,0.23334602207841645,2627,496,576,576]
[774,"Upisland",8,0,48,216,125,0,0,15,4,13,8,0,130,393,1,5,0.29749999999999999,null,222564.12,325777.82999999996,1769064.94,441250.44,77638.489999999991,201824.96,128059.39,137675.54999999999,429118.19000000006,573443.80999999994,113731.88,4420149.5999999987,null,null,130,null,437,null,0.29749999999999999,5,null,0.21917808219178081,365,86,130,130]
[775,"Wachusett                    ",55,0,438,2452,1725,2085,0,256,67,88,16,7,1010,6728,1,3,0.15329999999999999,null,3709177.73,5202870.9400000004,28968911.799999997,6885048.3800000008,1169094.22,4008128.08,2311046.5299999998,2492843.7199999997,7337710.96,9050129.660000002,1905008.99,73039971.00999999,null,null,1010,null,6586.5,null,0.15329999999999999,3,null,0.13600907672670542,7051,915,1010,1010]
[778,"Quaboag",37,0,64,395,283,357,0,42,11,14,3,0,579,1118,1,9,0.50549999999999995,null,643916.85,1005051.51,6194242.2599999998,1136107.81,260718.18999999994,678777.98,440807.70000000007,707434.8,1217087.94,1722840.88,312762.67000000004,14319748.589999998,null,null,579,null,1145.5,null,0.50549999999999995,9,null,0.51761942051683629,1277,579,514,579]
[780,"Whitman Hanson               ",81,198,11,1317,926,1134,0,133,35,43,10,14,909,3528,1,5,0.2601,null,1964017.42,2834774.1199999996,16247827.189999999,3581522.5200000005,663264.60000000009,2121596.4400000004,1261283.25,1546772.99,3849445.6,4907435.13,995153.95000000007,39973093.210000001,null,null,909,null,3495,null,0.2601,5,null,0.25756811301715438,3964,909,890,909]
[801,"Assabet Valley               ",0,0,0,0,0,0,891,43,0,0,0,57,482,891,1.03,7,0.41949999999999998,null,531946.4767,827744.96669999987,8684148.8440999985,863956.52220000001,303769.59820000001,1245275.02,435960.89000000007,807432.9547,1836332.1010000003,1747336.76,0,17283904.1336,null,null,482,null,1149,null,0.41949999999999998,7,null,0.54104979811574694,743,482,424,482]
[805,"Blackstone Valley            ",0,0,0,0,0,0,1243,60,0,0,0,5,172,1243,1,3,0.13969999999999999,null,681469.62,954891.97,10169784.939999999,1159273.6400000001,334782.47000000003,1718115.9999999998,524402.18000000005,773176.92999999993,2468362.87,2175276.1700000004,0,20959536.790000003,null,null,172,null,1231,null,0.13969999999999999,3,null,0.13870431893687707,1204,172,152,172]
[806,"Blue Hills                   ",0,0,0,0,0,0,896,43,0,0,0,13,335,896,1.06,7,0.37640000000000001,null,535904.78300000005,802654.9384000001,8477079.0745999999,884970.00160000019,289996.87759999995,1244275.0100000002,429608.06780000008,737988.5466,1887735.132,1675924.69,0,16966137.121600002,null,null,335,null,890,null,0.37640000000000001,7,null,0.37356321839080459,870,335,319,335]
[810,"Bristol Plymouth             ",0,0,0,0,0,0,1355,65,0,0,0,4,497,1355,1,7,0.37709999999999999,null,762562.19000000006,1139967.25,12049788.809999999,1260013.48,411709.23000000004,1879819.51,610794.47000000009,1046686.6799999999,2689136.95,2526230.7200000002,0,24376709.289999995,null,null,497,null,1318,null,0.37709999999999999,7,null,0.36701337295690933,1346,497,443,497]
[815,"Cape Cod                     ",0,0,0,0,0,2,631,30,0,0,0,14,318,633,1,9,0.50800000000000001,null,363046.03,566590.80999999994,5947079.4900000002,587268.22000000009,207773.94,880487.87,298853.14,555469.32000000007,1256473.7400000002,1231717.23,0,11894759.790000001,null,null,318,null,626,null,0.50800000000000001,9,null,0.43098159509202455,652,273,318,318]
[817,"Essex North Shore",0,0,0,0,0,0,1225,59,0,0,0,5,498,1225,1,6,0.31840000000000002,null,692099.27,1039905.83,10986181.49,1141366.4600000002,376683.16,1700369.7,555880.38,964990.51,2432226.7799999998,2299392.9000000004,0,22189096.480000004,null,null,498,null,1564,null,0.31840000000000002,6,null,0.40684410646387831,789,498,336,498]
[818,"Franklin County              ",0,0,0,0,0,177,355,24,2,0,0,1,279,532,1,9,0.50819999999999999,null,307593.71999999997,478329.3,4479121.07,481609.44,159402.32999999999,636443.74000000011,251962.81000000003,474277.83999999997,899748.13,957218.47,56865.94,9182572.7899999991,null,null,279,null,549,null,0.50819999999999999,9,null,0.52510460251046021,478,279,248,279]
[821,"Greater Fall River           ",0,0,0,0,0,1,1497,72,0,0,0,25,788,1498,1,10,0.54269999999999996,null,865435.93,1359342.28,14278392.449999999,1397235.4200000002,501475.75000000006,2086824.8399999999,714511.74,1354826.13,2977726.5700000003,2949300.5500000007,0,28485071.66,null,null,788,null,1452,null,0.54269999999999996,10,null,0.52578018995929443,1474,788,644,788]
[823,"Greater Lawrence             ",0,0,0,0,0,0,1645,79,0,0,0,153,1181,1645,1.0880000000000001,11,0.7228,null,1071409.0988800002,1767854.0448000003,18409984.493439998,1688920.4825600001,663516.74560000002,2313698.4999999995,911176.24896000011,1875446.3756800001,3593050.7814400005,3447466.9099999997,0,35742523.681359999,null,null,1181,null,1634,null,0.7228,11,null,0.71812080536912748,1490,1181,1097,1181]
[825,"Greater New Bedford          ",0,0,0,0,0,0,2123,102,0,0,0,88,1218,2123,1,10,0.57640000000000002,null,1237858.03,1967512.99,20618622.09,1987609.1800000002,728783.38,2966264.53,1029095.52,1989520.4,4234490.3600000003,4245013.9700000007,0,41004770.449999996,null,null,1218,null,2113,null,0.57640000000000002,10,null,0.57349510032664486,2143,1218,998,1218]
[828,"Greater Lowell               ",0,0,0,0,0,0,2373,114,0,0,0,232,1388,2373,1,10,0.60450000000000004,null,1396708.95,2227661.37,23269834.829999998,2241295.94,824368.52,3330284.55,1162184.56,2244553.7599999998,4766916.5999999996,4789642.6500000004,0,46253451.729999997,null,null,1388,null,2296,null,0.60450000000000004,10,null,0.58496583143507974,2195,1388,1209,1388]
[829,"South Middlesex              ",0,0,0,0,0,14,803,40,0,0,0,149,515,817,1.022,10,0.63039999999999996,null,502189.42997999996,806730.30437999999,8346096.5495600002,805675.95808000001,297985.78684000002,1146886.2599999998,418328.2490800001,816876.31157999986,1685363.5107400003,1680826.8800000004,0,16506959.24024,null,null,515,null,817,null,0.63039999999999996,10,null,0.62978723404255321,705,515,451,515]
[830,"Minuteman                    ",0,0,0,0,0,0,491,24,0,0,0,6,250,491,1.093,7,0.39369999999999999,null,308587.02882999997,474882.86914999998,5003229.30535,503983.23997999995,174216.76760000002,683332.15,251180.86538,461186.08173999994,1067846.7035600001,950771.29,0,9879216.3015899993,null,null,250,null,635,null,0.39369999999999999,7,null,0.50966183574879231,414,250,130,250]
[832,"Montachusett                 ",0,0,0,0,0,0,1461,70,0,0,0,15,452,1461,1,6,0.31900000000000001,null,816610.64,1201019.75,12712698.84,1359428.8800000001,430261.27,2025816.1199999999,647510.42000000004,1067774.23,2901943.9899999998,2679126.9299999997,0,25842191.07,null,null,452,null,1417,null,0.31900000000000001,6,null,0.30955585464333785,1486,452,437,452]
[851,"Northern Berkshire           ",0,0,0,0,0,0,463,22,0,0,0,0,216,463,1,8,0.46250000000000002,null,263239.20999999996,405324.91000000003,4270231.8499999996,428528.62,148106.96,643265.81000000006,214945.52000000002,390488.56,917867.96,887412.2300000001,0,8569411.629999999,null,null,216,null,467,null,0.46250000000000002,8,null,0.3936842105263158,475,182,216,216]
[852,"Nashoba Valley               ",0,0,0,0,0,0,667,32,0,0,0,2,203,667,1.0129999999999999,5,0.27960000000000002,null,376276.05411999993,549554.67794999992,5824223.9896199992,628342.80934000004,196355.48305999997,923994.56,297105.25185,483115.17863999994,1340958.26376,1214103.05,0,11834029.31834,null,null,203,null,726,null,0.27960000000000002,5,null,0.30397727272727271,704,203,194,203]
[853,"Northeast Metropolitan       ",0,0,0,0,0,0,1281,62,0,0,0,64,661,1281,1.0629999999999999,9,0.51600000000000001,null,789258.23843999999,1230342.6580700001,12915814.215689998,1280733.8010199999,452357.46022000007,1788864.8699999999,647620.94007000001,1207840.90399,2720464.5514400001,2516004.87,0,25549302.50894,null,null,661,null,1281,null,0.51600000000000001,9,null,0.51581508515815089,1233,661,571,661]
[855,"Old Colony                   ",0,0,0,0,0,0,498,24,0,0,0,0,157,498,1,5,0.27889999999999998,null,277812.87000000005,406268.54,4306249.7299999995,463827,145391.1,689868.25000000012,219455.67,359008.89999999997,988306.2,908795.14000000013,0,8764983.4000000004,null,null,157,null,563,null,0.27889999999999998,5,null,0.31524008350730687,479,157,119,157]
[860,"Pathfinder                   ",0,0,0,0,0,7,554,27,0,0,0,1,292,561,1,8,0.47870000000000001,null,321965.44999999995,500566.19,5247796.9499999993,522339.98,183417.24,776254.25,264181.50000000006,492267.01,1107494.7000000002,1088302.6500000001,0,10504585.92,null,null,292,null,610,null,0.47870000000000001,8,null,0.52040816326530615,588,292,262,292]
[871,"Shawsheen Valley             ",0,0,0,0,0,0,1315,63,0,0,0,1,251,1315,1.0009999999999999,4,0.19189999999999999,null,723947.42419999989,1029422.9045099999,10944750.016199999,1222914.0323400002,363062.64994999999,1818365.52,562509.85791000002,857396.20966999978,2611378.6298599998,2328327.0699999998,0,22462074.314639993,null,null,251,null,1308,null,0.19189999999999999,4,null,0.19078473722102232,1389,251,245,251]
[872,"Southeastern                 ",0,0,0,0,0,0,1624,78,0,0,0,58,889,1624,1,10,0.58220000000000005,null,943086.71000000008,1489648.6999999997,15625449.059999999,1518837.6,550435.53,2267048.3600000003,781074.79999999993,1492868.06,3236758.72,3222831.79,0,31128039.329999998,null,null,889,null,1527,null,0.58220000000000005,10,null,0.54731638418079098,1416,889,657,889]
[873,"South Shore                  ",0,0,0,0,0,0,561,27,0,0,0,5,199,561,1.0349999999999999,6,0.308,null,326412.27629999997,484720.79444999993,5126113.3067999994,541233.02610000002,174581.61614999999,778374.97000000009,260260.00289999999,439796.25719999999,1153492.1613,1040472.7000000001,0,10325457.111199999,null,null,199,null,646,null,0.308,6,null,0.35544217687074831,588,199,180,199]
[876,"Southern Worcester           ",0,0,0,0,0,0,1200,58,0,0,0,10,408,1200,1,6,0.34839999999999999,null,674161.15999999992,996622.27999999991,10546417.76,1120585.52,358497.48000000004,1664628.9000000001,535840.28,898542.66,2384518.36,2218346.98,0,21398161.379999999,null,null,408,null,1171,null,0.34839999999999999,6,null,0.33972125435540068,1148,408,337,408]
[878,"Tri County                   ",0,0,0,0,0,0,905,44,0,0,0,16,305,905,1.0549999999999999,6,0.32,null,537736.91819999984,793461.67035000003,8395003.6591999996,895255.67690000008,285349.21544999996,1256343.78,426581.82279999991,713437.93695,1900341.9389,1674661.59,0,16878174.208749998,null,null,305,null,953,null,0.32,6,null,0.33647798742138363,954,305,216,305]
[879,"Upper Cape Cod               ",0,0,0,0,0,0,761,37,0,0,0,0,258,761,1,6,0.35730000000000001,null,427561.82,630877.01,6681585.2399999993,711583.76,227076.81000000003,1055053.07,339327.28,569257.69999999995,1511259.6300000001,1405769.76,0,13559352.08,null,null,258,null,722,null,0.35730000000000001,6,null,0.32686980609418281,722,249,258,258]
[885,"Whittier                     ",0,0,0,0,0,0,1244,60,0,0,0,16,553,1244,1,8,0.44280000000000003,null,709343.47,1082996.6499999999,11416089.84,1161413.44,395029.27,1729765.4599999997,575211.81999999995,1032253.02,2472980.36,2377915.2800000003,0,22952998.609999996,null,null,553,null,1249,null,0.44280000000000003,8,null,0.44482463644140291,1169,553,482,553]
[910,"Bristol County               ",0,0,0,0,0,0,382,18,0,0,0,0,133,382,1,5,0.2969,null,212659.44999999998,314971.86,3331972.83,352256.08000000007,112922.56000000001,529259.05000000005,169656.23,282236.90000000002,756818.14000000013,700925.60000000009,0,6763678.7000000011,null,null,133,null,448,null,0.2969,5,null,0.29166666666666669,384,111,133,133]
[915,"Norfolk County               ",0,0,0,0,0,0,284,14,0,0,0,1,108,284,1.0449999999999999,4,0.1837,null,167539.55185000002,246885.49269999997,2615469.1062499997,279390.67749999999,89022.243749999994,393966.23,132675.14369999999,223456.83304999996,590262.3875500001,526589.14,0,5265256.8063499993,null,null,108,null,588,null,0.1837,4,null,0.27306273062730629,271,78,108,108]
[999,"State Total",18250,5614,51995,331070,215709,243784,52930,34824,8457,57109,15241,20891,382088,907506,null,null,null,null,537336181.36609042,819795500.0804801,5142993476.3215532,965038809.36792076,211946961.90561998,591482688.25000048,360668809.83721012,532189645.1626507,1081975021.3512197,1399673067.6300004,240457627.28999981,11883557788.562744,null,null,382088,null,894279,null,null,null,null,null,942121,367440,353630,382088]

{"sheet":"leas","index":17,"n_rows":537,"n_cols":18,"rows_kept":537,"cut":false,"hidden":true,"merged":[[1,0,1,4],[1,11,1,16]]}
[]
["leas",null,null,null,null,null,null,null,null,null,null,"regdetail"]
[{"$f":"Index!C4","v":999},{"$f":"'Regional District Members'!G4","v":1}]
["lea_order","reg_order","lea_list and reg_list ","LEA","District","org4code","org4code",null,"regcount",null,null,null,"Record"]
[null,null,null,null,"Select a district",999,"0999"]
[1,null,{"$f":"PROPER(D6&\" \"&E6)","v":"1 Abington"},1,"Abington",1,"0001",null,406,1,null,"code","Number","fraclea","District","memlea","Town"]
[2,null,"2 Acton",2,"Acton",2,"0002",null,600,2,null,40601,1,406,"NORTHAMPTON SMITH",210,{"$f":"VLOOKUP(P7,'Townwide Contributions'!$A$9:$B$361,2,0)","v":"Northampton"},"NORTHAMPTON                  "]
[355,null,"600 Acton Boxborough",600,"Acton Boxborough",600,"0600",null,603,2,null,60001,1,600,"ACTON BOXBOROUGH",2,{"$f":"VLOOKUP(P8,'Townwide Contributions'!$A$9:$B$361,2,0)","v":"Acton"},"ACTON                        "]
[3,null,"3 Acushnet",3,"Acushnet",3,"0003",null,605,4,null,60002,2,600,"ACTON BOXBOROUGH",37,{"$f":"VLOOKUP(P9,'Townwide Contributions'!$A$9:$B$361,2,0)","v":"Boxborough"},"BOXBOROUGH                   "]
[4,null,"4 Adams",4,"Adams",4,"0004",null,610,2,null,60301,1,603,"HOOSAC VALLEY",4,{"$f":"VLOOKUP(P10,'Townwide Contributions'!$A$9:$B$361,2,0)","v":"Adams"},"ADAMS                        "]
[5,null,"5 Agawam",5,"Agawam",5,"0005",null,615,2,null,60302,2,603,"HOOSAC VALLEY",58,{"$f":"VLOOKUP(P11,'Townwide Contributions'!$A$9:$B$361,2,0)","v":"Cheshire"},"CHESHIRE                     "]
[6,null,"6 Alford",6,"Alford",6,"0006",null,616,2,null,60501,1,605,"AMHERST PELHAM",8,{"$f":"VLOOKUP(P12,'Townwide Contributions'!$A$9:$B$361,2,0)","v":"Amherst"},"AMHERST                      "]
[7,null,"7 Amesbury",7,"Amesbury",7,"0007",null,618,3,null,60502,2,605,"AMHERST PELHAM",154,{"$f":"VLOOKUP(P13,'Townwide Contributions'!$A$9:$B$361,2,0)","v":"Leverett"},"LEVERETT                     "]
[8,null,"8 Amherst",8,"Amherst",8,"0008",null,620,2,null,60503,3,605,"AMHERST PELHAM",230,{"$f":"VLOOKUP(P14,'Townwide Contributions'!$A$9:$B$361,2,0)","v":"Pelham"},"PELHAM                       "]
[357,null,"605 Amherst Pelham",605,"Amherst Pelham",605,"0605",null,622,2,null,60504,4,605,"AMHERST PELHAM",272,{"$f":"VLOOKUP(P15,'Townwide Contributions'!$A$9:$B$361,2,0)","v":"Shutesbury"},"SHUTESBURY                   "]
[9,null,"9 Andover",9,"Andover",9,"0009",null,625,2,null,61001,1,610,"ASHBURNHAM WESTMINSTER",11,{"$f":"VLOOKUP(P16,'Townwide Contributions'!$A$9:$B$361,2,0)","v":"Ashburnham"},"ASHBURNHAM                   "]
[104,null,"104 Aquinnah",104,"Aquinnah",104,"0104",null,632,2,null,61002,2,610,"ASHBURNHAM WESTMINSTER",328,{"$f":"VLOOKUP(P17,'Townwide Contributions'!$A$9:$B$361,2,0)","v":"Westminster"},"WESTMINSTER                  "]
[10,null,"10 Arlington",10,"Arlington",10,"0010",null,635,7,null,61501,1,615,"ATHOL ROYALSTON",15,{"$f":"VLOOKUP(P18,'Townwide Contributions'!$A$9:$B$361,2,0)","v":"Athol"},"ATHOL                        "]
[11,null,"11 Ashburnham",11,"Ashburnham",11,"0011",null,640,2,null,61502,2,615,"ATHOL ROYALSTON",255,{"$f":"VLOOKUP(P19,'Townwide Contributions'!$A$9:$B$361,2,0)","v":"Royalston"},"ROYALSTON                    "]
[358,null,"610 Ashburnham Westminster",610,"Ashburnham Westminster",610,"0610",null,645,2,null,61601,1,616,"AYER SHIRLEY",19,{"$f":"VLOOKUP(P20,'Townwide Contributions'!$A$9:$B$361,2,0)","v":"Ayer"},"AYER                         "]
[12,null,"12 Ashby",12,"Ashby",12,"0012",null,650,2,null,61602,2,616,"AYER SHIRLEY",270,{"$f":"VLOOKUP(P21,'Townwide Contributions'!$A$9:$B$361,2,0)","v":"Shirley"},"SHIRLEY                      "]
[13,null,"13 Ashfield",13,"Ashfield",13,"0013",null,655,2,null,61801,1,618,"BERKSHIRE HILLS",113,{"$f":"VLOOKUP(P22,'Townwide Contributions'!$A$9:$B$361,2,0)","v":"Great Barrington"},"GREAT BARRINGTON             "]
[14,null,"14 Ashland",14,"Ashland",14,"0014",null,658,2,null,61802,2,618,"BERKSHIRE HILLS",283,{"$f":"VLOOKUP(P23,'Townwide Contributions'!$A$9:$B$361,2,0)","v":"Stockbridge"},"STOCKBRIDGE                  "]
[413,null,"801 Assabet Valley",801,"Assabet Valley",801,"0801",null,660,4,null,61803,3,618,"BERKSHIRE HILLS",333,{"$f":"VLOOKUP(P24,'Townwide Contributions'!$A$9:$B$361,2,0)","v":"West Stockbridge"},"WEST STOCKBRIDGE             "]
[15,null,"15 Athol",15,"Athol",15,"0015",null,662,2,null,62001,1,620,"BERLIN BOYLSTON",28,{"$f":"VLOOKUP(P25,'Townwide Contributions'!$A$9:$B$361,2,0)","v":"Berlin"},"BERLIN                       "]
[359,null,"615 Athol Royalston",615,"Athol Royalston",615,"0615",null,665,2,null,62002,2,620,"BERLIN BOYLSTON",39,{"$f":"VLOOKUP(P26,'Townwide Contributions'!$A$9:$B$361,2,0)","v":"Boylston"},"BOYLSTON                     "]
[16,null,"16 Attleboro",16,"Attleboro",16,"0016",null,670,4,null,62201,1,622,"BLACKSTONE MILLVILLE",32,{"$f":"VLOOKUP(P27,'Townwide Contributions'!$A$9:$B$361,2,0)","v":"Blackstone"},"BLACKSTONE                   "]
[17,null,"17 Auburn",17,"Auburn",17,"0017",null,672,6,null,62202,2,622,"BLACKSTONE MILLVILLE",188,{"$f":"VLOOKUP(P28,'Townwide Contributions'!$A$9:$B$361,2,0)","v":"Millville"},"MILLVILLE                    "]
[18,null,"18 Avon",18,"Avon",18,"0018",null,673,2,null,62501,1,625,"BRIDGEWATER RAYNHAM",42,{"$f":"VLOOKUP(P29,'Townwide Contributions'!$A$9:$B$361,2,0)","v":"Bridgewater"},"BRIDGEWATER                  "]
[19,null,"19 Ayer",19,"Ayer",19,"0019",null,674,2,null,62502,2,625,"BRIDGEWATER RAYNHAM",245,{"$f":"VLOOKUP(P30,'Townwide Contributions'!$A$9:$B$361,2,0)","v":"Raynham"},"RAYNHAM                      "]
[360,null,"616 Ayer Shirley",616,"Ayer Shirley",616,"0616",null,675,2,null,63201,1,632,"CHESTERFIELD GOSHEN",60,{"$f":"VLOOKUP(P31,'Townwide Contributions'!$A$9:$B$361,2,0)","v":"Chesterfield"},"CHESTERFIELD                 "]
[20,null,"20 Barnstable",20,"Barnstable",20,"0020",null,680,2,null,63202,2,632,"CHESTERFIELD GOSHEN",108,{"$f":"VLOOKUP(P32,'Townwide Contributions'!$A$9:$B$361,2,0)","v":"Goshen"},"GOSHEN                       "]
[21,null,"21 Barre",21,"Barre",21,"0021",null,683,5,null,63501,1,635,"CENTRAL BERKSHIRE",22,{"$f":"VLOOKUP(P33,'Townwide Contributions'!$A$9:$B$361,2,0)","v":"Becket"},"BECKET                       "]
[22,null,"22 Becket",22,"Becket",22,"0022",null,685,2,null,63502,2,635,"CENTRAL BERKSHIRE",69,{"$f":"VLOOKUP(P34,'Townwide Contributions'!$A$9:$B$361,2,0)","v":"Cummington"},"CUMMINGTON                   "]
[23,null,"23 Bedford",23,"Bedford",23,"0023",null,690,3,null,63503,3,635,"CENTRAL BERKSHIRE",70,{"$f":"VLOOKUP(P35,'Townwide Contributions'!$A$9:$B$361,2,0)","v":"Dalton"},"DALTON                       "]
[24,null,"24 Belchertown",24,"Belchertown",24,"0024",null,695,2,null,63504,4,635,"CENTRAL BERKSHIRE",132,{"$f":"VLOOKUP(P36,'Townwide Contributions'!$A$9:$B$361,2,0)","v":"Hinsdale"},"HINSDALE                     "]
[25,null,"25 Bellingham",25,"Bellingham",25,"0025",null,698,2,null,63505,5,635,"CENTRAL BERKSHIRE",233,{"$f":"VLOOKUP(P37,'Townwide Contributions'!$A$9:$B$361,2,0)","v":"Peru"},"PERU                         "]
[26,null,"26 Belmont",26,"Belmont",26,"0026",null,700,6,null,63506,6,635,"CENTRAL BERKSHIRE",313,{"$f":"VLOOKUP(P38,'Townwide Contributions'!$A$9:$B$361,2,0)","v":"Washington"},"WASHINGTON                   "]
[27,null,"27 Berkley",27,"Berkley",27,"0027",null,705,3,null,63507,7,635,"CENTRAL BERKSHIRE",345,{"$f":"VLOOKUP(P39,'Townwide Contributions'!$A$9:$B$361,2,0)","v":"Windsor"},"WINDSOR                      "]
[361,null,"618 Berkshire Hills",618,"Berkshire Hills",618,"0618",null,710,2,null,64001,1,640,"CONCORD CARLISLE",51,{"$f":"VLOOKUP(P40,'Townwide Contributions'!$A$9:$B$361,2,0)","v":"Carlisle"},"CARLISLE                     "]
[28,null,"28 Berlin",28,"Berlin",28,"0028",null,712,2,null,64002,2,640,"CONCORD CARLISLE",67,{"$f":"VLOOKUP(P41,'Townwide Contributions'!$A$9:$B$361,2,0)","v":"Concord"},"CONCORD                      "]
[362,null,"620 Berlin Boylston",620,"Berlin Boylston",620,"0620",null,715,2,null,64501,1,645,"DENNIS YARMOUTH",75,{"$f":"VLOOKUP(P42,'Townwide Contributions'!$A$9:$B$361,2,0)","v":"Dennis"},"DENNIS                       "]
[29,null,"29 Bernardston",29,"Bernardston",29,"0029",null,717,8,null,64502,2,645,"DENNIS YARMOUTH",351,{"$f":"VLOOKUP(P43,'Townwide Contributions'!$A$9:$B$361,2,0)","v":"Yarmouth"},"YARMOUTH                     "]
[30,null,"30 Beverly",30,"Beverly",30,"0030",null,720,2,null,65001,1,650,"DIGHTON REHOBOTH",76,{"$f":"VLOOKUP(P44,'Townwide Contributions'!$A$9:$B$361,2,0)","v":"Dighton"},"DIGHTON                      "]
[31,null,"31 Billerica",31,"Billerica",31,"0031",null,725,3,null,65002,2,650,"DIGHTON REHOBOTH",247,{"$f":"VLOOKUP(P45,'Townwide Contributions'!$A$9:$B$361,2,0)","v":"Rehoboth"},"REHOBOTH                     "]
[32,null,"32 Blackstone",32,"Blackstone",32,"0032",null,728,2,null,65501,1,655,"DOVER SHERBORN",78,{"$f":"VLOOKUP(P46,'Townwide Contributions'!$A$9:$B$361,2,0)","v":"Dover"},"DOVER                        "]
[363,null,"622 Blackstone Millville",622,"Blackstone Millville",622,"0622",null,730,2,null,65502,2,655,"DOVER SHERBORN",269,{"$f":"VLOOKUP(P47,'Townwide Contributions'!$A$9:$B$361,2,0)","v":"Sherborn"},"SHERBORN                     "]
[414,null,"805 Blackstone Valley",805,"Blackstone Valley",805,"0805",null,735,3,null,65801,1,658,"DUDLEY CHARLTON",54,{"$f":"VLOOKUP(P48,'Townwide Contributions'!$A$9:$B$361,2,0)","v":"Charlton"},"CHARLTON                     "]
[33,null,"33 Blandford",33,"Blandford",33,"0033",null,740,3,null,65802,2,658,"DUDLEY CHARLTON",80,{"$f":"VLOOKUP(P49,'Townwide Contributions'!$A$9:$B$361,2,0)","v":"Dudley"},"DUDLEY                       "]
[415,null,"806 Blue Hills",806,"Blue Hills",806,"0806",null,745,3,null,66001,1,660,"NAUSET",41,{"$f":"VLOOKUP(P50,'Townwide Contributions'!$A$9:$B$361,2,0)","v":"Brewster"},"BREWSTER                     "]
[34,null,"34 Bolton",34,"Bolton",34,"0034",null,750,4,null,66002,2,660,"NAUSET",85,{"$f":"VLOOKUP(P51,'Townwide Contributions'!$A$9:$B$361,2,0)","v":"Eastham"},"EASTHAM                      "]
[35,null,"35 Boston",35,"Boston",35,"0035",null,753,5,null,66003,3,660,"NAUSET",224,{"$f":"VLOOKUP(P52,'Townwide Contributions'!$A$9:$B$361,2,0)","v":"Orleans"},"ORLEANS                      "]
[36,null,"36 Bourne",36,"Bourne",36,"0036",null,755,4,null,66004,4,660,"NAUSET",318,{"$f":"VLOOKUP(P53,'Townwide Contributions'!$A$9:$B$361,2,0)","v":"Wellfleet"},"WELLFLEET                    "]
[37,null,"37 Boxborough",37,"Boxborough",37,"0037",null,760,3,null,66201,1,662,"FARMINGTON RIVER",225,{"$f":"VLOOKUP(P54,'Townwide Contributions'!$A$9:$B$361,2,0)","v":"Otis"},"OTIS                         "]
[38,null,"38 Boxford",38,"Boxford",38,"0038",null,763,2,null,66202,2,662,"FARMINGTON RIVER",260,{"$f":"VLOOKUP(P55,'Townwide Contributions'!$A$9:$B$361,2,0)","v":"Sandisfield"},"SANDISFIELD                  "]
[39,null,"39 Boylston",39,"Boylston",39,"0039",null,765,5,null,66501,1,665,"FREETOWN LAKEVILLE",102,{"$f":"VLOOKUP(P56,'Townwide Contributions'!$A$9:$B$361,2,0)","v":"Freetown"},"FREETOWN                     "]
[40,null,"40 Braintree",40,"Braintree",40,"0040",null,766,3,null,66502,2,665,"FREETOWN LAKEVILLE",146,{"$f":"VLOOKUP(P57,'Townwide Contributions'!$A$9:$B$361,2,0)","v":"Lakeville"},"LAKEVILLE                    "]
[41,null,"41 Brewster",41,"Brewster",41,"0041",null,767,2,null,67001,1,670,"FRONTIER",68,{"$f":"VLOOKUP(P58,'Townwide Contributions'!$A$9:$B$361,2,0)","v":"Conway"},"CONWAY                       "]
[42,null,"42 Bridgewater",42,"Bridgewater",42,"0042",null,770,5,null,67002,2,670,"FRONTIER",74,{"$f":"VLOOKUP(P59,'Townwide Contributions'!$A$9:$B$361,2,0)","v":"Deerfield"},"DEERFIELD                    "]
[364,null,"625 Bridgewater Raynham",625,"Bridgewater Raynham",625,"0625",null,773,3,null,67003,3,670,"FRONTIER",289,{"$f":"VLOOKUP(P60,'Townwide Contributions'!$A$9:$B$361,2,0)","v":"Sunderland"},"SUNDERLAND                   "]
[43,null,"43 Brimfield",43,"Brimfield",43,"0043",null,774,3,null,67004,4,670,"FRONTIER",337,{"$f":"VLOOKUP(P61,'Townwide Contributions'!$A$9:$B$361,2,0)","v":"Whately"},"WHATELY                      "]
[439,null,"910 Bristol County",910,"Bristol County",910,"0910",null,775,5,null,67201,1,672,"GATEWAY",33,{"$f":"VLOOKUP(P62,'Townwide Contributions'!$A$9:$B$361,2,0)","v":"Blandford"},"BLANDFORD                    "]
[416,null,"810 Bristol Plymouth",810,"Bristol Plymouth",810,"0810",null,778,2,null,67202,2,672,"GATEWAY",59,{"$f":"VLOOKUP(P63,'Townwide Contributions'!$A$9:$B$361,2,0)","v":"Chester"},"CHESTER                      "]
[44,null,"44 Brockton",44,"Brockton",44,"0044",null,780,2,null,67203,3,672,"GATEWAY",143,{"$f":"VLOOKUP(P64,'Townwide Contributions'!$A$9:$B$361,2,0)","v":"Huntington"},"HUNTINGTON                   "]
[45,null,"45 Brookfield",45,"Brookfield",45,"0045",null,801,7,null,67204,4,672,"GATEWAY",183,{"$f":"VLOOKUP(P65,'Townwide Contributions'!$A$9:$B$361,2,0)","v":"Middlefield"},"MIDDLEFIELD                  "]
[46,null,"46 Brookline",46,"Brookline",46,"0046",null,805,13,null,67205,5,672,"GATEWAY",194,{"$f":"VLOOKUP(P66,'Townwide Contributions'!$A$9:$B$361,2,0)","v":"Montgomery"},"MONTGOMERY                   "]
[47,null,"47 Buckland",47,"Buckland",47,"0047",null,806,9,null,67206,6,672,"GATEWAY",256,{"$f":"VLOOKUP(P67,'Townwide Contributions'!$A$9:$B$361,2,0)","v":"Russell"},"RUSSELL                      "]
[48,null,"48 Burlington",48,"Burlington",48,"0048",null,810,7,null,67301,1,673,"GROTON DUNSTABLE",81,{"$f":"VLOOKUP(P68,'Townwide Contributions'!$A$9:$B$361,2,0)","v":"Dunstable"},"DUNSTABLE                    "]
[49,null,"49 Cambridge",49,"Cambridge",49,"0049",null,815,12,null,67302,2,673,"GROTON DUNSTABLE",115,{"$f":"VLOOKUP(P69,'Townwide Contributions'!$A$9:$B$361,2,0)","v":"Groton"},"GROTON                       "]
[50,null,{"$f":"PROPER(D70&\" \"&E70)","v":"50 Canton"},50,"Canton",50,"0050",null,817,17,null,67401,1,674,"GILL MONTAGUE",106,{"$f":"VLOOKUP(P70,'Townwide Contributions'!$A$9:$B$361,2,0)","v":"Gill"},"GILL                         "]
[417,null,"815 Cape Cod",815,"Cape Cod",815,"0815",null,818,19,null,67402,2,674,"GILL MONTAGUE",192,{"$f":"VLOOKUP(P71,'Townwide Contributions'!$A$9:$B$361,2,0)","v":"Montague"},"MONTAGUE                     "]
[51,null,"51 Carlisle",51,"Carlisle",51,"0051",null,821,4,null,67501,1,675,"HAMILTON WENHAM",119,{"$f":"VLOOKUP(P72,'Townwide Contributions'!$A$9:$B$361,2,0)","v":"Hamilton"},"HAMILTON                     "]
[52,null,"52 Carver",52,"Carver",52,"0052",null,823,4,null,67502,2,675,"HAMILTON WENHAM",320,{"$f":"VLOOKUP(P73,'Townwide Contributions'!$A$9:$B$361,2,0)","v":"Wenham"},"WENHAM                       "]
[366,null,"635 Central Berkshire",635,"Central Berkshire",635,"0635",null,825,3,null,68001,1,680,"HAMPDEN WILBRAHAM",120,{"$f":"VLOOKUP(P74,'Townwide Contributions'!$A$9:$B$361,2,0)","v":"Hampden"},"HAMPDEN                      "]
[53,null,"53 Charlemont",53,"Charlemont",53,"0053",null,828,4,null,68002,2,680,"HAMPDEN WILBRAHAM",339,{"$f":"VLOOKUP(P75,'Townwide Contributions'!$A$9:$B$361,2,0)","v":"Wilbraham"},"WILBRAHAM                    "]
[54,null,"54 Charlton",54,"Charlton",54,"0054",null,829,5,null,68301,1,683,"HAMPSHIRE",60,{"$f":"VLOOKUP(P76,'Townwide Contributions'!$A$9:$B$361,2,0)","v":"Chesterfield"},"CHESTERFIELD                 "]
[55,null,"55 Chatham",55,"Chatham",55,"0055",null,830,9,null,68302,2,683,"HAMPSHIRE",108,{"$f":"VLOOKUP(P77,'Townwide Contributions'!$A$9:$B$361,2,0)","v":"Goshen"},"GOSHEN                       "]
[56,null,"56 Chelmsford",56,"Chelmsford",56,"0056",null,832,18,null,68303,3,683,"HAMPSHIRE",275,{"$f":"VLOOKUP(P78,'Townwide Contributions'!$A$9:$B$361,2,0)","v":"Southampton"},"SOUTHAMPTON                  "]
[57,null,"57 Chelsea",57,"Chelsea",57,"0057",null,851,9,null,68304,4,683,"HAMPSHIRE",327,{"$f":"VLOOKUP(P79,'Townwide Contributions'!$A$9:$B$361,2,0)","v":"Westhampton"},"WESTHAMPTON                  "]
[58,null,"58 Cheshire",58,"Cheshire",58,"0058",null,852,8,null,68305,5,683,"HAMPSHIRE",340,{"$f":"VLOOKUP(P80,'Townwide Contributions'!$A$9:$B$361,2,0)","v":"Williamsburg"},"WILLIAMSBURG                 "]
[59,null,"59 Chester",59,"Chester",59,"0059",null,853,12,null,68501,1,685,"HAWLEMONT",53,{"$f":"VLOOKUP(P81,'Townwide Contributions'!$A$9:$B$361,2,0)","v":"Charlemont"},"CHARLEMONT                   "]
[60,null,"60 Chesterfield",60,"Chesterfield",60,"0060",null,855,5,null,68502,2,685,"HAWLEMONT",129,{"$f":"VLOOKUP(P82,'Townwide Contributions'!$A$9:$B$361,2,0)","v":"Hawley"},"HAWLEY                       "]
[365,null,"632 Chesterfield Goshen",632,"Chesterfield Goshen",632,"0632",null,860,9,null,69001,1,690,"KING PHILIP",208,{"$f":"VLOOKUP(P83,'Townwide Contributions'!$A$9:$B$361,2,0)","v":"Norfolk"},"NORFOLK                      "]
[61,null,"61 Chicopee",61,"Chicopee",61,"0061",null,871,5,null,69002,2,690,"KING PHILIP",238,{"$f":"VLOOKUP(P84,'Townwide Contributions'!$A$9:$B$361,2,0)","v":"Plainville"},"PLAINVILLE                   "]
[62,null,"62 Chilmark",62,"Chilmark",62,"0062",null,872,9,null,69003,3,690,"KING PHILIP",350,{"$f":"VLOOKUP(P85,'Townwide Contributions'!$A$9:$B$361,2,0)","v":"Wrentham"},"WRENTHAM                     "]
[63,null,"63 Clarksburg",63,"Clarksburg",63,"0063",null,873,8,null,69501,1,695,"LINCOLN SUDBURY",157,{"$f":"VLOOKUP(P86,'Townwide Contributions'!$A$9:$B$361,2,0)","v":"Lincoln"},"LINCOLN                      "]
[64,null,"64 Clinton",64,"Clinton",64,"0064",null,876,10,null,69502,2,695,"LINCOLN SUDBURY",288,{"$f":"VLOOKUP(P87,'Townwide Contributions'!$A$9:$B$361,2,0)","v":"Sudbury"},"SUDBURY                      "]
[65,null,"65 Cohasset",65,"Cohasset",65,"0065",null,878,11,null,69801,1,698,"MANCHESTER ESSEX",92,{"$f":"VLOOKUP(P88,'Townwide Contributions'!$A$9:$B$361,2,0)","v":"Essex"},"ESSEX                        "]
[66,null,"66 Colrain",66,"Colrain",66,"0066",null,879,5,null,69802,2,698,"MANCHESTER ESSEX",166,{"$f":"VLOOKUP(P89,'Townwide Contributions'!$A$9:$B$361,2,0)","v":"Manchester"},"MANCHESTER                   "]
[67,null,"67 Concord",67,"Concord",67,"0067",null,885,11,null,70001,1,700,"MARTHAS VINEYARD",62,{"$f":"VLOOKUP(P90,'Townwide Contributions'!$A$9:$B$361,2,0)","v":"Chilmark"},"CHILMARK                     "]
[367,null,"640 Concord Carlisle",640,"Concord Carlisle",640,"0640",null,910,20,null,70002,2,700,"MARTHAS VINEYARD",89,{"$f":"VLOOKUP(P91,'Townwide Contributions'!$A$9:$B$361,2,0)","v":"Edgartown"},"EDGARTOWN                    "]
[68,null,"68 Conway",68,"Conway",68,"0068",null,915,28,null,70003,3,700,"MARTHAS VINEYARD",104,{"$f":"VLOOKUP(P92,'Townwide Contributions'!$A$9:$B$361,2,0)","v":"Aquinnah"},"AQUINNAH"]
[69,null,"69 Cummington",69,"Cummington",69,"0069",null,999,0,null,70004,4,700,"MARTHAS VINEYARD",221,{"$f":"VLOOKUP(P93,'Townwide Contributions'!$A$9:$B$361,2,0)","v":"Oak Bluffs"},"OAK BLUFFS                   "]
[70,null,"70 Dalton",70,"Dalton",70,"0070",null,null,null,null,70005,5,700,"MARTHAS VINEYARD",296,{"$f":"VLOOKUP(P94,'Townwide Contributions'!$A$9:$B$361,2,0)","v":"Tisbury"},"TISBURY                      "]
[71,null,"71 Danvers",71,"Danvers",71,"0071",null,null,null,null,70006,6,700,"MARTHAS VINEYARD",334,{"$f":"VLOOKUP(P95,'Townwide Contributions'!$A$9:$B$361,2,0)","v":"West Tisbury"},"WEST TISBURY                 "]
[72,null,"72 Dartmouth",72,"Dartmouth",72,"0072",null,null,null,null,70501,1,705,"MASCONOMET",38,{"$f":"VLOOKUP(P96,'Townwide Contributions'!$A$9:$B$361,2,0)","v":"Boxford"},"BOXFORD                      "]
[73,null,"73 Dedham",73,"Dedham",73,"0073",null,null,null,null,70502,2,705,"MASCONOMET",184,{"$f":"VLOOKUP(P97,'Townwide Contributions'!$A$9:$B$361,2,0)","v":"Middleton"},"MIDDLETON                    "]
[74,null,"74 Deerfield",74,"Deerfield",74,"0074",null,null,null,null,70503,3,705,"MASCONOMET",298,{"$f":"VLOOKUP(P98,'Townwide Contributions'!$A$9:$B$361,2,0)","v":"Topsfield"},"TOPSFIELD                    "]
[75,null,"75 Dennis",75,"Dennis",75,"0075",null,null,null,null,71001,1,710,"MENDON UPTON",179,{"$f":"VLOOKUP(P99,'Townwide Contributions'!$A$9:$B$361,2,0)","v":"Mendon"},"MENDON                       "]
[368,null,"645 Dennis Yarmouth",645,"Dennis Yarmouth",645,"0645",null,null,null,null,71002,2,710,"MENDON UPTON",303,{"$f":"VLOOKUP(P100,'Townwide Contributions'!$A$9:$B$361,2,0)","v":"Upton"},"UPTON                        "]
[352,null,"352 Devens",352,"Devens",352,"0352",null,null,null,null,71201,1,712,"MONOMOY",55,{"$f":"VLOOKUP(P101,'Townwide Contributions'!$A$9:$B$361,2,0)","v":"Chatham"},"CHATHAM                      "]
[76,null,"76 Dighton",76,"Dighton",76,"0076",null,null,null,null,71202,2,712,"MONOMOY",126,{"$f":"VLOOKUP(P102,'Townwide Contributions'!$A$9:$B$361,2,0)","v":"Harwich"},"HARWICH                      "]
[369,null,"650 Dighton Rehoboth",650,"Dighton Rehoboth",650,"0650",null,null,null,null,71501,1,715,"MOUNT GREYLOCK",148,{"$f":"VLOOKUP(P103,'Townwide Contributions'!$A$9:$B$361,2,0)","v":"Lanesborough"},"LANESBOROUGH                 "]
[77,null,"77 Douglas",77,"Douglas",77,"0077",null,null,null,null,71502,2,715,"MOUNT GREYLOCK",341,{"$f":"VLOOKUP(P104,'Townwide Contributions'!$A$9:$B$361,2,0)","v":"Williamstown"},"WILLIAMSTOWN                 "]
[78,null,"78 Dover",78,"Dover",78,"0078",null,null,null,null,71701,1,717,"MOHAWK TRAIL",13,{"$f":"VLOOKUP(P105,'Townwide Contributions'!$A$9:$B$361,2,0)","v":"Ashfield"},"ASHFIELD                     "]
[370,null,"655 Dover Sherborn",655,"Dover Sherborn",655,"0655",null,null,null,null,71702,2,717,"MOHAWK TRAIL",47,{"$f":"VLOOKUP(P106,'Townwide Contributions'!$A$9:$B$361,2,0)","v":"Buckland"},"BUCKLAND                     "]
[79,null,"79 Dracut",79,"Dracut",79,"0079",null,null,null,null,71703,3,717,"MOHAWK TRAIL",53,{"$f":"VLOOKUP(P107,'Townwide Contributions'!$A$9:$B$361,2,0)","v":"Charlemont"},"CHARLEMONT                   "]
[80,null,"80 Dudley",80,"Dudley",80,"0080",null,null,null,null,71704,4,717,"MOHAWK TRAIL",66,{"$f":"VLOOKUP(P108,'Townwide Contributions'!$A$9:$B$361,2,0)","v":"Colrain"},"COLRAIN                      "]
[371,null,"658 Dudley Charlton",658,"Dudley Charlton",658,"0658",null,null,null,null,71705,5,717,"MOHAWK TRAIL",129,{"$f":"VLOOKUP(P109,'Townwide Contributions'!$A$9:$B$361,2,0)","v":"Hawley"},"HAWLEY                       "]
[81,null,"81 Dunstable",81,"Dunstable",81,"0081",null,null,null,null,71706,6,717,"MOHAWK TRAIL",130,{"$f":"VLOOKUP(P110,'Townwide Contributions'!$A$9:$B$361,2,0)","v":"Heath"},"HEATH                        "]
[82,null,"82 Duxbury",82,"Duxbury",82,"0082",null,null,null,null,71707,7,717,"MOHAWK TRAIL",237,{"$f":"VLOOKUP(P111,'Townwide Contributions'!$A$9:$B$361,2,0)","v":"Plainfield"},"PLAINFIELD                   "]
[83,null,"83 East Bridgewater",83,"East Bridgewater",83,"0083",null,null,null,null,71708,8,717,"MOHAWK TRAIL",268,{"$f":"VLOOKUP(P112,'Townwide Contributions'!$A$9:$B$361,2,0)","v":"Shelburne"},"SHELBURNE                    "]
[84,null,"84 East Brookfield",84,"East Brookfield",84,"0084",null,null,null,null,72001,1,720,"NARRAGANSETT",235,{"$f":"VLOOKUP(P113,'Townwide Contributions'!$A$9:$B$361,2,0)","v":"Phillipston"},"PHILLIPSTON                  "]
[87,null,"87 East Longmeadow",87,"East Longmeadow",87,"0087",null,null,null,null,72002,2,720,"NARRAGANSETT",294,{"$f":"VLOOKUP(P114,'Townwide Contributions'!$A$9:$B$361,2,0)","v":"Templeton"},"TEMPLETON                    "]
[85,null,"85 Eastham",85,"Eastham",85,"0085",null,null,null,null,72501,1,725,"NASHOBA",34,{"$f":"VLOOKUP(P115,'Townwide Contributions'!$A$9:$B$361,2,0)","v":"Bolton"},"BOLTON                       "]
[86,null,"86 Easthampton",86,"Easthampton",86,"0086",null,null,null,null,72502,2,725,"NASHOBA",147,{"$f":"VLOOKUP(P116,'Townwide Contributions'!$A$9:$B$361,2,0)","v":"Lancaster"},"LANCASTER                    "]
[88,null,"88 Easton",88,"Easton",88,"0088",null,null,null,null,72503,3,725,"NASHOBA",286,{"$f":"VLOOKUP(P117,'Townwide Contributions'!$A$9:$B$361,2,0)","v":"Stow"},"STOW                         "]
[89,null,"89 Edgartown",89,"Edgartown",89,"0089",null,null,null,null,72801,1,728,"NEW SALEM WENDELL",206,{"$f":"VLOOKUP(P118,'Townwide Contributions'!$A$9:$B$361,2,0)","v":"New Salem"},"NEW SALEM                    "]
[90,null,"90 Egremont",90,"Egremont",90,"0090",null,null,null,null,72802,2,728,"NEW SALEM WENDELL",319,{"$f":"VLOOKUP(P119,'Townwide Contributions'!$A$9:$B$361,2,0)","v":"Wendell"},"WENDELL                      "]
[91,null,"91 Erving",91,"Erving",91,"0091",null,null,null,null,73001,1,730,"NORTHBORO SOUTHBORO",213,{"$f":"VLOOKUP(P120,'Townwide Contributions'!$A$9:$B$361,2,0)","v":"Northborough"},"NORTHBOROUGH                 "]
[92,null,"92 Essex",92,"Essex",92,"0092",null,null,null,null,73002,2,730,"NORTHBORO SOUTHBORO",276,{"$f":"VLOOKUP(P121,'Townwide Contributions'!$A$9:$B$361,2,0)","v":"Southborough"},"SOUTHBOROUGH                 "]
[418,null,"817 Essex North Shore",817,"Essex North Shore",817,"0817",null,null,null,null,73501,1,735,"NORTH MIDDLESEX",12,{"$f":"VLOOKUP(P122,'Townwide Contributions'!$A$9:$B$361,2,0)","v":"Ashby"},"ASHBY                        "]
[93,null,"93 Everett",93,"Everett",93,"0093",null,null,null,null,73502,2,735,"NORTH MIDDLESEX",232,{"$f":"VLOOKUP(P123,'Townwide Contributions'!$A$9:$B$361,2,0)","v":"Pepperell"},"PEPPERELL                    "]
[94,null,"94 Fairhaven",94,"Fairhaven",94,"0094",null,null,null,null,73503,3,735,"NORTH MIDDLESEX",299,{"$f":"VLOOKUP(P124,'Townwide Contributions'!$A$9:$B$361,2,0)","v":"Townsend"},"TOWNSEND                     "]
[95,null,"95 Fall River",95,"Fall River",95,"0095",null,null,null,null,74001,1,740,"OLD ROCHESTER",169,{"$f":"VLOOKUP(P125,'Townwide Contributions'!$A$9:$B$361,2,0)","v":"Marion"},"MARION                       "]
[96,null,"96 Falmouth",96,"Falmouth",96,"0096",null,null,null,null,74002,2,740,"OLD ROCHESTER",173,{"$f":"VLOOKUP(P126,'Townwide Contributions'!$A$9:$B$361,2,0)","v":"Mattapoisett"},"MATTAPOISETT                 "]
[373,null,"662 Farmington River",662,"Farmington River",662,"0662",null,null,null,null,74003,3,740,"OLD ROCHESTER",250,{"$f":"VLOOKUP(P127,'Townwide Contributions'!$A$9:$B$361,2,0)","v":"Rochester"},"ROCHESTER                    "]
[97,null,"97 Fitchburg",97,"Fitchburg",97,"0097",null,null,null,null,74501,1,745,"PENTUCKET",116,{"$f":"VLOOKUP(P128,'Townwide Contributions'!$A$9:$B$361,2,0)","v":"Groveland"},"GROVELAND                    "]
[98,null,"98 Florida",98,"Florida",98,"0098",null,null,null,null,74502,2,745,"PENTUCKET",180,{"$f":"VLOOKUP(P129,'Townwide Contributions'!$A$9:$B$361,2,0)","v":"Merrimac"},"MERRIMAC                     "]
[99,null,"99 Foxborough",99,"Foxborough",99,"0099",null,null,null,null,74503,3,745,"PENTUCKET",329,{"$f":"VLOOKUP(P130,'Townwide Contributions'!$A$9:$B$361,2,0)","v":"West Newbury"},"WEST NEWBURY                 "]
[100,null,"100 Framingham",100,"Framingham",100,"0100",null,null,null,null,75001,1,750,"PIONEER",29,{"$f":"VLOOKUP(P131,'Townwide Contributions'!$A$9:$B$361,2,0)","v":"Bernardston"},"BERNARDSTON                  "]
[101,null,"101 Franklin",101,"Franklin",101,"0101",null,null,null,null,75002,2,750,"PIONEER",156,{"$f":"VLOOKUP(P132,'Townwide Contributions'!$A$9:$B$361,2,0)","v":"Leyden"},"LEYDEN                       "]
[419,null,"818 Franklin County",818,"Franklin County",818,"0818",null,null,null,null,75003,3,750,"PIONEER",216,{"$f":"VLOOKUP(P133,'Townwide Contributions'!$A$9:$B$361,2,0)","v":"Northfield"},"NORTHFIELD                   "]
[102,null,{"$f":"PROPER(D134&\" \"&E134)","v":"102 Freetown"},102,"Freetown",102,"0102",null,null,null,null,75004,4,750,"PIONEER",312,{"$f":"VLOOKUP(P134,'Townwide Contributions'!$A$9:$B$361,2,0)","v":"Warwick"},"WARWICK                      "]
[374,null,"665 Freetown Lakeville",665,"Freetown Lakeville",665,"0665",null,null,null,null,75301,1,753,"QUABBIN",21,{"$f":"VLOOKUP(P135,'Townwide Contributions'!$A$9:$B$361,2,0)","v":"Barre"},"BARRE                        "]
[375,null,"670 Frontier",670,"Frontier",670,"0670",null,null,null,null,75302,2,753,"QUABBIN",124,{"$f":"VLOOKUP(P136,'Townwide Contributions'!$A$9:$B$361,2,0)","v":"Hardwick"},"HARDWICK                     "]
[103,null,"103 Gardner",103,"Gardner",103,"0103",null,null,null,null,75303,3,753,"QUABBIN",140,{"$f":"VLOOKUP(P137,'Townwide Contributions'!$A$9:$B$361,2,0)","v":"Hubbardston"},"HUBBARDSTON                  "]
[376,null,"672 Gateway",672,"Gateway",672,"0672",null,null,null,null,75304,4,753,"QUABBIN",202,{"$f":"VLOOKUP(P138,'Townwide Contributions'!$A$9:$B$361,2,0)","v":"New Braintree"},"NEW BRAINTREE                "]
[105,null,"105 Georgetown",105,"Georgetown",105,"0105",null,null,null,null,75305,5,753,"QUABBIN",222,{"$f":"VLOOKUP(P139,'Townwide Contributions'!$A$9:$B$361,2,0)","v":"Oakham"},"OAKHAM                       "]
[106,null,"106 Gill",106,"Gill",106,"0106",null,null,null,null,75501,1,755,"RALPH C MAHAR",206,{"$f":"VLOOKUP(P140,'Townwide Contributions'!$A$9:$B$361,2,0)","v":"New Salem"},"NEW SALEM                    "]
[378,null,"674 Gill Montague",674,"Gill Montague",674,"0674",null,null,null,null,75502,2,755,"RALPH C MAHAR",223,{"$f":"VLOOKUP(P141,'Townwide Contributions'!$A$9:$B$361,2,0)","v":"Orange"},"ORANGE                       "]
[107,null,"107 Gloucester",107,"Gloucester",107,"0107",null,null,null,null,75503,3,755,"RALPH C MAHAR",234,{"$f":"VLOOKUP(P142,'Townwide Contributions'!$A$9:$B$361,2,0)","v":"Petersham"},"PETERSHAM                    "]
[108,null,"108 Goshen",108,"Goshen",108,"0108",null,null,null,null,75504,4,755,"RALPH C MAHAR",319,{"$f":"VLOOKUP(P143,'Townwide Contributions'!$A$9:$B$361,2,0)","v":"Wendell"},"WENDELL                      "]
[109,null,"109 Gosnold",109,"Gosnold",109,"0109",null,null,null,null,76001,1,760,"SILVER LAKE",118,{"$f":"VLOOKUP(P144,'Townwide Contributions'!$A$9:$B$361,2,0)","v":"Halifax"},"HALIFAX                      "]
[110,null,"110 Grafton",110,"Grafton",110,"0110",null,null,null,null,76002,2,760,"SILVER LAKE",145,{"$f":"VLOOKUP(P145,'Townwide Contributions'!$A$9:$B$361,2,0)","v":"Kingston"},"KINGSTON                     "]
[111,null,"111 Granby",111,"Granby",111,"0111",null,null,null,null,76003,3,760,"SILVER LAKE",240,{"$f":"VLOOKUP(P146,'Townwide Contributions'!$A$9:$B$361,2,0)","v":"Plympton"},"PLYMPTON                     "]
[112,null,"112 Granville",112,"Granville",112,"0112",null,null,null,null,76301,1,763,"SOMERSET BERKLEY",27,{"$f":"VLOOKUP(P147,'Townwide Contributions'!$A$9:$B$361,2,0)","v":"Berkley"},"BERKLEY                      "]
[113,null,"113 Great Barrington",113,"Great Barrington",113,"0113",null,null,null,null,76302,2,763,"SOMERSET BERKLEY",273,{"$f":"VLOOKUP(P148,'Townwide Contributions'!$A$9:$B$361,2,0)","v":"Somerset"},"SOMERSET                     "]
[420,null,"821 Greater Fall River",821,"Greater Fall River",821,"0821",null,null,null,null,76501,1,765,"SOUTHERN BERKSHIRE",6,{"$f":"VLOOKUP(P149,'Townwide Contributions'!$A$9:$B$361,2,0)","v":"Alford"},"ALFORD                       "]
[421,null,"823 Greater Lawrence",823,"Greater Lawrence",823,"0823",null,null,null,null,76502,2,765,"SOUTHERN BERKSHIRE",90,{"$f":"VLOOKUP(P150,'Townwide Contributions'!$A$9:$B$361,2,0)","v":"Egremont"},"EGREMONT                     "]
[423,null,"828 Greater Lowell",828,"Greater Lowell",828,"0828",null,null,null,null,76503,3,765,"SOUTHERN BERKSHIRE",193,{"$f":"VLOOKUP(P151,'Townwide Contributions'!$A$9:$B$361,2,0)","v":"Monterey"},"MONTEREY                     "]
[422,null,"825 Greater New Bedford",825,"Greater New Bedford",825,"0825",null,null,null,null,76504,4,765,"SOUTHERN BERKSHIRE",205,{"$f":"VLOOKUP(P152,'Townwide Contributions'!$A$9:$B$361,2,0)","v":"New Marlborough"},"NEW MARLBOROUGH              "]
[114,null,"114 Greenfield",114,"Greenfield",114,"0114",null,null,null,null,76505,5,765,"SOUTHERN BERKSHIRE",267,{"$f":"VLOOKUP(P153,'Townwide Contributions'!$A$9:$B$361,2,0)","v":"Sheffield"},"SHEFFIELD                    "]
[115,null,"115 Groton",115,"Groton",115,"0115",null,null,null,null,76601,1,766,"SOUTHWICK TOLLAND GRANVILLE",112,{"$f":"VLOOKUP(P154,'Townwide Contributions'!$A$9:$B$361,2,0)","v":"Granville"},"GRANVILLE                    "]
[377,null,"673 Groton Dunstable",673,"Groton Dunstable",673,"0673",null,null,null,null,76602,2,766,"SOUTHWICK TOLLAND GRANVILLE",279,{"$f":"VLOOKUP(P155,'Townwide Contributions'!$A$9:$B$361,2,0)","v":"Southwick"},"SOUTHWICK                    "]
[116,null,"116 Groveland",116,"Groveland",116,"0116",null,null,null,null,76603,3,766,"SOUTHWICK TOLLAND GRANVILLE",297,{"$f":"VLOOKUP(P156,'Townwide Contributions'!$A$9:$B$361,2,0)","v":"Tolland"},"TOLLAND                      "]
[117,null,"117 Hadley",117,"Hadley",117,"0117",null,null,null,null,76701,1,767,"SPENCER EAST BROOKFIELD",84,{"$f":"VLOOKUP(P157,'Townwide Contributions'!$A$9:$B$361,2,0)","v":"East Brookfield"},"EAST BROOKFIELD              "]
[118,null,"118 Halifax",118,"Halifax",118,"0118",null,null,null,null,76702,2,767,"SPENCER EAST BROOKFIELD",280,{"$f":"VLOOKUP(P158,'Townwide Contributions'!$A$9:$B$361,2,0)","v":"Spencer"},"SPENCER                      "]
[119,null,"119 Hamilton",119,"Hamilton",119,"0119",null,null,null,null,77001,1,770,"TANTASQUA",43,{"$f":"VLOOKUP(P159,'Townwide Contributions'!$A$9:$B$361,2,0)","v":"Brimfield"},"BRIMFIELD                    "]
[379,null,"675 Hamilton Wenham",675,"Hamilton Wenham",675,"0675",null,null,null,null,77002,2,770,"TANTASQUA",45,{"$f":"VLOOKUP(P160,'Townwide Contributions'!$A$9:$B$361,2,0)","v":"Brookfield"},"BROOKFIELD                   "]
[120,null,"120 Hampden",120,"Hampden",120,"0120",null,null,null,null,77003,3,770,"TANTASQUA",135,{"$f":"VLOOKUP(P161,'Townwide Contributions'!$A$9:$B$361,2,0)","v":"Holland"},"HOLLAND                      "]
[380,null,"680 Hampden Wilbraham",680,"Hampden Wilbraham",680,"0680",null,null,null,null,77004,4,770,"TANTASQUA",287,{"$f":"VLOOKUP(P162,'Townwide Contributions'!$A$9:$B$361,2,0)","v":"Sturbridge"},"STURBRIDGE                   "]
[381,null,"683 Hampshire",683,"Hampshire",683,"0683",null,null,null,null,77005,5,770,"TANTASQUA",306,{"$f":"VLOOKUP(P163,'Townwide Contributions'!$A$9:$B$361,2,0)","v":"Wales"},"WALES                        "]
[121,null,"121 Hancock",121,"Hancock",121,"0121",null,null,null,null,77301,1,773,"TRITON",203,{"$f":"VLOOKUP(P164,'Townwide Contributions'!$A$9:$B$361,2,0)","v":"Newbury"},"NEWBURY                      "]
[122,null,"122 Hanover",122,"Hanover",122,"0122",null,null,null,null,77302,2,773,"TRITON",254,{"$f":"VLOOKUP(P165,'Townwide Contributions'!$A$9:$B$361,2,0)","v":"Rowley"},"ROWLEY                       "]
[123,null,"123 Hanson",123,"Hanson",123,"0123",null,null,null,null,77303,3,773,"TRITON",259,{"$f":"VLOOKUP(P166,'Townwide Contributions'!$A$9:$B$361,2,0)","v":"Salisbury"},"SALISBURY                    "]
[124,null,"124 Hardwick",124,"Hardwick",124,"0124",null,null,null,null,77401,1,774,"UPISLAND",62,{"$f":"VLOOKUP(P167,'Townwide Contributions'!$A$9:$B$361,2,0)","v":"Chilmark"},"CHILMARK                     "]
[125,null,"125 Harvard",125,"Harvard",125,"0125",null,null,null,null,77402,2,774,"UPISLAND",104,{"$f":"VLOOKUP(P168,'Townwide Contributions'!$A$9:$B$361,2,0)","v":"Aquinnah"},"AQUINNAH"]
[126,null,"126 Harwich",126,"Harwich",126,"0126",null,null,null,null,77403,3,774,"UPISLAND",334,{"$f":"VLOOKUP(P169,'Townwide Contributions'!$A$9:$B$361,2,0)","v":"West Tisbury"},"WEST TISBURY                 "]
[127,null,"127 Hatfield",127,"Hatfield",127,"0127",null,null,null,null,77501,1,775,"WACHUSETT",134,{"$f":"VLOOKUP(P170,'Townwide Contributions'!$A$9:$B$361,2,0)","v":"Holden"},"HOLDEN                       "]
[128,null,"128 Haverhill",128,"Haverhill",128,"0128",null,null,null,null,77502,2,775,"WACHUSETT",228,{"$f":"VLOOKUP(P171,'Townwide Contributions'!$A$9:$B$361,2,0)","v":"Paxton"},"PAXTON                       "]
[382,null,"685 Hawlemont",685,"Hawlemont",685,"0685",null,null,null,null,77503,3,775,"WACHUSETT",241,{"$f":"VLOOKUP(P172,'Townwide Contributions'!$A$9:$B$361,2,0)","v":"Princeton"},"PRINCETON                    "]
[129,null,"129 Hawley",129,"Hawley",129,"0129",null,null,null,null,77504,4,775,"WACHUSETT",257,{"$f":"VLOOKUP(P173,'Townwide Contributions'!$A$9:$B$361,2,0)","v":"Rutland"},"RUTLAND                      "]
[130,null,"130 Heath",130,"Heath",130,"0130",null,null,null,null,77505,5,775,"WACHUSETT",282,{"$f":"VLOOKUP(P174,'Townwide Contributions'!$A$9:$B$361,2,0)","v":"Sterling"},"STERLING                     "]
[131,null,"131 Hingham",131,"Hingham",131,"0131",null,null,null,null,77801,1,778,"QUABOAG",311,{"$f":"VLOOKUP(P175,'Townwide Contributions'!$A$9:$B$361,2,0)","v":"Warren"},"WARREN                       "]
[132,null,"132 Hinsdale",132,"Hinsdale",132,"0132",null,null,null,null,77802,2,778,"QUABOAG",324,{"$f":"VLOOKUP(P176,'Townwide Contributions'!$A$9:$B$361,2,0)","v":"West Brookfield"},"WEST BROOKFIELD              "]
[133,null,"133 Holbrook",133,"Holbrook",133,"0133",null,null,null,null,78001,1,780,"WHITMAN HANSON",123,{"$f":"VLOOKUP(P177,'Townwide Contributions'!$A$9:$B$361,2,0)","v":"Hanson"},"HANSON                       "]
[134,null,"134 Holden",134,"Holden",134,"0134",null,null,null,null,78002,2,780,"WHITMAN HANSON",338,{"$f":"VLOOKUP(P178,'Townwide Contributions'!$A$9:$B$361,2,0)","v":"Whitman"},"WHITMAN                      "]
[135,null,"135 Holland",135,"Holland",135,"0135",null,null,null,null,80101,1,801,"ASSABET VALLEY",28,{"$f":"VLOOKUP(P179,'Townwide Contributions'!$A$9:$B$361,2,0)","v":"Berlin"},"BERLIN                       "]
[136,null,"136 Holliston",136,"Holliston",136,"0136",null,null,null,null,80102,2,801,"ASSABET VALLEY",141,{"$f":"VLOOKUP(P180,'Townwide Contributions'!$A$9:$B$361,2,0)","v":"Hudson"},"HUDSON                       "]
[137,null,"137 Holyoke",137,"Holyoke",137,"0137",null,null,null,null,80103,3,801,"ASSABET VALLEY",170,{"$f":"VLOOKUP(P181,'Townwide Contributions'!$A$9:$B$361,2,0)","v":"Marlborough"},"MARLBOROUGH                  "]
[356,null,"603 Hoosac Valley",603,"Hoosac Valley",603,"0603",null,null,null,null,80104,4,801,"ASSABET VALLEY",174,{"$f":"VLOOKUP(P182,'Townwide Contributions'!$A$9:$B$361,2,0)","v":"Maynard"},"MAYNARD                      "]
[138,null,"138 Hopedale",138,"Hopedale",138,"0138",null,null,null,null,80105,5,801,"ASSABET VALLEY",213,{"$f":"VLOOKUP(P183,'Townwide Contributions'!$A$9:$B$361,2,0)","v":"Northborough"},"NORTHBOROUGH                 "]
[139,null,"139 Hopkinton",139,"Hopkinton",139,"0139",null,null,null,null,80106,6,801,"ASSABET VALLEY",276,{"$f":"VLOOKUP(P184,'Townwide Contributions'!$A$9:$B$361,2,0)","v":"Southborough"},"SOUTHBOROUGH                 "]
[140,null,"140 Hubbardston",140,"Hubbardston",140,"0140",null,null,null,null,80107,7,801,"ASSABET VALLEY",321,{"$f":"VLOOKUP(P185,'Townwide Contributions'!$A$9:$B$361,2,0)","v":"Westborough"},"WESTBOROUGH                  "]
[141,null,"141 Hudson",141,"Hudson",141,"0141",null,null,null,null,80501,1,805,"BLACKSTONE VALLEY",25,{"$f":"VLOOKUP(P186,'Townwide Contributions'!$A$9:$B$361,2,0)","v":"Bellingham"},"BELLINGHAM                   "]
[142,null,"142 Hull",142,"Hull",142,"0142",null,null,null,null,80502,2,805,"BLACKSTONE VALLEY",32,{"$f":"VLOOKUP(P187,'Townwide Contributions'!$A$9:$B$361,2,0)","v":"Blackstone"},"BLACKSTONE                   "]
[143,null,"143 Huntington",143,"Huntington",143,"0143",null,null,null,null,80503,3,805,"BLACKSTONE VALLEY",77,{"$f":"VLOOKUP(P188,'Townwide Contributions'!$A$9:$B$361,2,0)","v":"Douglas"},"DOUGLAS                      "]
[144,null,"144 Ipswich",144,"Ipswich",144,"0144",null,null,null,null,80504,4,805,"BLACKSTONE VALLEY",110,{"$f":"VLOOKUP(P189,'Townwide Contributions'!$A$9:$B$361,2,0)","v":"Grafton"},"GRAFTON                      "]
[383,null,"690 King Philip",690,"King Philip",690,"0690",null,null,null,null,80505,5,805,"BLACKSTONE VALLEY",138,{"$f":"VLOOKUP(P190,'Townwide Contributions'!$A$9:$B$361,2,0)","v":"Hopedale"},"HOPEDALE                     "]
[145,null,"145 Kingston",145,"Kingston",145,"0145",null,null,null,null,80506,6,805,"BLACKSTONE VALLEY",179,{"$f":"VLOOKUP(P191,'Townwide Contributions'!$A$9:$B$361,2,0)","v":"Mendon"},"MENDON                       "]
[146,null,"146 Lakeville",146,"Lakeville",146,"0146",null,null,null,null,80507,7,805,"BLACKSTONE VALLEY",185,{"$f":"VLOOKUP(P192,'Townwide Contributions'!$A$9:$B$361,2,0)","v":"Milford"},"MILFORD                      "]
[147,null,"147 Lancaster",147,"Lancaster",147,"0147",null,null,null,null,80508,8,805,"BLACKSTONE VALLEY",186,{"$f":"VLOOKUP(P193,'Townwide Contributions'!$A$9:$B$361,2,0)","v":"Millbury"},"MILLBURY                     "]
[148,null,"148 Lanesborough",148,"Lanesborough",148,"0148",null,null,null,null,80509,9,805,"BLACKSTONE VALLEY",188,{"$f":"VLOOKUP(P194,'Townwide Contributions'!$A$9:$B$361,2,0)","v":"Millville"},"MILLVILLE                    "]
[149,null,"149 Lawrence",149,"Lawrence",149,"0149",null,null,null,null,80510,10,805,"BLACKSTONE VALLEY",214,{"$f":"VLOOKUP(P195,'Townwide Contributions'!$A$9:$B$361,2,0)","v":"Northbridge"},"NORTHBRIDGE                  "]
[150,null,"150 Lee",150,"Lee",150,"0150",null,null,null,null,80511,11,805,"BLACKSTONE VALLEY",290,{"$f":"VLOOKUP(P196,'Townwide Contributions'!$A$9:$B$361,2,0)","v":"Sutton"},"SUTTON                       "]
[151,null,"151 Leicester",151,"Leicester",151,"0151",null,null,null,null,80512,12,805,"BLACKSTONE VALLEY",303,{"$f":"VLOOKUP(P197,'Townwide Contributions'!$A$9:$B$361,2,0)","v":"Upton"},"UPTON                        "]
[152,null,{"$f":"PROPER(D198&\" \"&E198)","v":"152 Lenox"},152,"Lenox",152,"0152",null,null,null,null,80513,13,805,"BLACKSTONE VALLEY",304,{"$f":"VLOOKUP(P198,'Townwide Contributions'!$A$9:$B$361,2,0)","v":"Uxbridge"},"UXBRIDGE                     "]
[153,null,"153 Leominster",153,"Leominster",153,"0153",null,null,null,null,80601,1,806,"BLUE HILLS",18,{"$f":"VLOOKUP(P199,'Townwide Contributions'!$A$9:$B$361,2,0)","v":"Avon"},"AVON                         "]
[154,null,"154 Leverett",154,"Leverett",154,"0154",null,null,null,null,80602,2,806,"BLUE HILLS",40,{"$f":"VLOOKUP(P200,'Townwide Contributions'!$A$9:$B$361,2,0)","v":"Braintree"},"BRAINTREE                    "]
[155,null,"155 Lexington",155,"Lexington",155,"0155",null,null,null,null,80603,3,806,"BLUE HILLS",50,{"$f":"VLOOKUP(P201,'Townwide Contributions'!$A$9:$B$361,2,0)","v":"Canton"},"CANTON                       "]
[156,null,"156 Leyden",156,"Leyden",156,"0156",null,null,null,null,80604,4,806,"BLUE HILLS",73,{"$f":"VLOOKUP(P202,'Townwide Contributions'!$A$9:$B$361,2,0)","v":"Dedham"},"DEDHAM                       "]
[157,null,"157 Lincoln",157,"Lincoln",157,"0157",null,null,null,null,80605,5,806,"BLUE HILLS",133,{"$f":"VLOOKUP(P203,'Townwide Contributions'!$A$9:$B$361,2,0)","v":"Holbrook"},"HOLBROOK                     "]
[384,null,"695 Lincoln Sudbury",695,"Lincoln Sudbury",695,"0695",null,null,null,null,80606,6,806,"BLUE HILLS",189,{"$f":"VLOOKUP(P204,'Townwide Contributions'!$A$9:$B$361,2,0)","v":"Milton"},"MILTON                       "]
[158,null,"158 Littleton",158,"Littleton",158,"0158",null,null,null,null,80607,7,806,"BLUE HILLS",220,{"$f":"VLOOKUP(P205,'Townwide Contributions'!$A$9:$B$361,2,0)","v":"Norwood"},"NORWOOD                      "]
[159,null,"159 Longmeadow",159,"Longmeadow",159,"0159",null,null,null,null,80608,8,806,"BLUE HILLS",244,{"$f":"VLOOKUP(P206,'Townwide Contributions'!$A$9:$B$361,2,0)","v":"Randolph"},"RANDOLPH                     "]
[160,null,"160 Lowell",160,"Lowell",160,"0160",null,null,null,null,80609,9,806,"BLUE HILLS",335,{"$f":"VLOOKUP(P207,'Townwide Contributions'!$A$9:$B$361,2,0)","v":"Westwood"},"WESTWOOD                     "]
[161,null,"161 Ludlow",161,"Ludlow",161,"0161",null,null,null,null,81001,1,810,"BRISTOL PLYMOUTH",27,{"$f":"VLOOKUP(P208,'Townwide Contributions'!$A$9:$B$361,2,0)","v":"Berkley"},"BERKLEY                      "]
[162,null,"162 Lunenburg",162,"Lunenburg",162,"0162",null,null,null,null,81002,2,810,"BRISTOL PLYMOUTH",42,{"$f":"VLOOKUP(P209,'Townwide Contributions'!$A$9:$B$361,2,0)","v":"Bridgewater"},"BRIDGEWATER                  "]
[163,null,"163 Lynn",163,"Lynn",163,"0163",null,null,null,null,81003,3,810,"BRISTOL PLYMOUTH",76,{"$f":"VLOOKUP(P210,'Townwide Contributions'!$A$9:$B$361,2,0)","v":"Dighton"},"DIGHTON                      "]
[164,null,"164 Lynnfield",164,"Lynnfield",164,"0164",null,null,null,null,81004,4,810,"BRISTOL PLYMOUTH",182,{"$f":"VLOOKUP(P211,'Townwide Contributions'!$A$9:$B$361,2,0)","v":"Middleborough"},"MIDDLEBOROUGH                "]
[165,null,"165 Malden",165,"Malden",165,"0165",null,null,null,null,81005,5,810,"BRISTOL PLYMOUTH",245,{"$f":"VLOOKUP(P212,'Townwide Contributions'!$A$9:$B$361,2,0)","v":"Raynham"},"RAYNHAM                      "]
[166,null,"166 Manchester",166,"Manchester",166,"0166",null,null,null,null,81006,6,810,"BRISTOL PLYMOUTH",247,{"$f":"VLOOKUP(P213,'Townwide Contributions'!$A$9:$B$361,2,0)","v":"Rehoboth"},"REHOBOTH                     "]
[385,null,"698 Manchester Essex",698,"Manchester Essex",698,"0698",null,null,null,null,81007,7,810,"BRISTOL PLYMOUTH",293,{"$f":"VLOOKUP(P214,'Townwide Contributions'!$A$9:$B$361,2,0)","v":"Taunton"},"TAUNTON                      "]
[167,null,"167 Mansfield",167,"Mansfield",167,"0167",null,null,null,null,81501,1,815,"CAPE COD",20,{"$f":"VLOOKUP(P215,'Townwide Contributions'!$A$9:$B$361,2,0)","v":"Barnstable"},"BARNSTABLE                   "]
[168,null,"168 Marblehead",168,"Marblehead",168,"0168",null,null,null,null,81502,2,815,"CAPE COD",41,{"$f":"VLOOKUP(P216,'Townwide Contributions'!$A$9:$B$361,2,0)","v":"Brewster"},"BREWSTER                     "]
[169,null,"169 Marion",169,"Marion",169,"0169",null,null,null,null,81503,3,815,"CAPE COD",55,{"$f":"VLOOKUP(P217,'Townwide Contributions'!$A$9:$B$361,2,0)","v":"Chatham"},"CHATHAM                      "]
[170,null,"170 Marlborough",170,"Marlborough",170,"0170",null,null,null,null,81504,4,815,"CAPE COD",75,{"$f":"VLOOKUP(P218,'Townwide Contributions'!$A$9:$B$361,2,0)","v":"Dennis"},"DENNIS                       "]
[171,null,"171 Marshfield",171,"Marshfield",171,"0171",null,null,null,null,81505,5,815,"CAPE COD",85,{"$f":"VLOOKUP(P219,'Townwide Contributions'!$A$9:$B$361,2,0)","v":"Eastham"},"EASTHAM                      "]
[386,null,"700 Marthas Vineyard",700,"Marthas Vineyard",700,"0700",null,null,null,null,81506,6,815,"CAPE COD",126,{"$f":"VLOOKUP(P220,'Townwide Contributions'!$A$9:$B$361,2,0)","v":"Harwich"},"HARWICH                      "]
[387,null,"705 Masconomet",705,"Masconomet",705,"0705",null,null,null,null,81507,7,815,"CAPE COD",172,{"$f":"VLOOKUP(P221,'Townwide Contributions'!$A$9:$B$361,2,0)","v":"Mashpee"},"MASHPEE                      "]
[172,null,"172 Mashpee",172,"Mashpee",172,"0172",null,null,null,null,81508,8,815,"CAPE COD",224,{"$f":"VLOOKUP(P222,'Townwide Contributions'!$A$9:$B$361,2,0)","v":"Orleans"},"ORLEANS                      "]
[173,null,"173 Mattapoisett",173,"Mattapoisett",173,"0173",null,null,null,null,81509,9,815,"CAPE COD",242,{"$f":"VLOOKUP(P223,'Townwide Contributions'!$A$9:$B$361,2,0)","v":"Provincetown"},"PROVINCETOWN                 "]
[174,null,"174 Maynard",174,"Maynard",174,"0174",null,null,null,null,81510,10,815,"CAPE COD",300,{"$f":"VLOOKUP(P224,'Townwide Contributions'!$A$9:$B$361,2,0)","v":"Truro"},"TRURO                        "]
[175,null,"175 Medfield",175,"Medfield",175,"0175",null,null,null,null,81511,11,815,"CAPE COD",318,{"$f":"VLOOKUP(P225,'Townwide Contributions'!$A$9:$B$361,2,0)","v":"Wellfleet"},"WELLFLEET                    "]
[176,null,"176 Medford",176,"Medford",176,"0176",null,null,null,null,81512,12,815,"CAPE COD",351,{"$f":"VLOOKUP(P226,'Townwide Contributions'!$A$9:$B$361,2,0)","v":"Yarmouth"},"YARMOUTH                     "]
[177,null,"177 Medway",177,"Medway",177,"0177",null,null,null,null,81701,1,817,"ESSEX NORTH SHORE",30,{"$f":"VLOOKUP(P227,'Townwide Contributions'!$A$9:$B$361,2,0)","v":"Beverly"},"BEVERLY                      "]
[178,null,"178 Melrose",178,"Melrose",178,"0178",null,null,null,null,81702,2,817,"ESSEX NORTH SHORE",38,{"$f":"VLOOKUP(P228,'Townwide Contributions'!$A$9:$B$361,2,0)","v":"Boxford"},"BOXFORD                      "]
[179,null,"179 Mendon",179,"Mendon",179,"0179",null,null,null,null,81703,3,817,"ESSEX NORTH SHORE",71,{"$f":"VLOOKUP(P229,'Townwide Contributions'!$A$9:$B$361,2,0)","v":"Danvers"},"DANVERS                      "]
[388,null,"710 Mendon Upton",710,"Mendon Upton",710,"0710",null,null,null,null,81704,4,817,"ESSEX NORTH SHORE",92,{"$f":"VLOOKUP(P230,'Townwide Contributions'!$A$9:$B$361,2,0)","v":"Essex"},"ESSEX                        "]
[180,null,"180 Merrimac",180,"Merrimac",180,"0180",null,null,null,null,81705,5,817,"ESSEX NORTH SHORE",107,{"$f":"VLOOKUP(P231,'Townwide Contributions'!$A$9:$B$361,2,0)","v":"Gloucester"},"GLOUCESTER                   "]
[181,null,"181 Methuen",181,"Methuen",181,"0181",null,null,null,null,81706,6,817,"ESSEX NORTH SHORE",119,{"$f":"VLOOKUP(P232,'Townwide Contributions'!$A$9:$B$361,2,0)","v":"Hamilton"},"HAMILTON                     "]
[182,null,"182 Middleborough",182,"Middleborough",182,"0182",null,null,null,null,81707,7,817,"ESSEX NORTH SHORE",164,{"$f":"VLOOKUP(P233,'Townwide Contributions'!$A$9:$B$361,2,0)","v":"Lynnfield"},"LYNNFIELD                    "]
[183,null,"183 Middlefield",183,"Middlefield",183,"0183",null,null,null,null,81708,8,817,"ESSEX NORTH SHORE",166,{"$f":"VLOOKUP(P234,'Townwide Contributions'!$A$9:$B$361,2,0)","v":"Manchester"},"MANCHESTER                   "]
[184,null,"184 Middleton",184,"Middleton",184,"0184",null,null,null,null,81709,9,817,"ESSEX NORTH SHORE",168,{"$f":"VLOOKUP(P235,'Townwide Contributions'!$A$9:$B$361,2,0)","v":"Marblehead"},"MARBLEHEAD                   "]
[185,null,"185 Milford",185,"Milford",185,"0185",null,null,null,null,81710,10,817,"ESSEX NORTH SHORE",184,{"$f":"VLOOKUP(P236,'Townwide Contributions'!$A$9:$B$361,2,0)","v":"Middleton"},"MIDDLETON                    "]
[186,null,"186 Millbury",186,"Millbury",186,"0186",null,null,null,null,81711,11,817,"ESSEX NORTH SHORE",196,{"$f":"VLOOKUP(P237,'Townwide Contributions'!$A$9:$B$361,2,0)","v":"Nahant"},"NAHANT                       "]
[187,null,"187 Millis",187,"Millis",187,"0187",null,null,null,null,81712,12,817,"ESSEX NORTH SHORE",229,{"$f":"VLOOKUP(P238,'Townwide Contributions'!$A$9:$B$361,2,0)","v":"Peabody"},"PEABODY"]
[188,null,"188 Millville",188,"Millville",188,"0188",null,null,null,null,81713,13,817,"ESSEX NORTH SHORE",252,{"$f":"VLOOKUP(P239,'Townwide Contributions'!$A$9:$B$361,2,0)","v":"Rockport"},"ROCKPORT                     "]
[189,null,"189 Milton",189,"Milton",189,"0189",null,null,null,null,81714,14,817,"ESSEX NORTH SHORE",258,{"$f":"VLOOKUP(P240,'Townwide Contributions'!$A$9:$B$361,2,0)","v":"Salem"},"SALEM                        "]
[425,null,"830 Minuteman",830,"Minuteman",830,"0830",null,null,null,null,81715,15,817,"ESSEX NORTH SHORE",291,{"$f":"VLOOKUP(P241,'Townwide Contributions'!$A$9:$B$361,2,0)","v":"Swampscott"},"SWAMPSCOTT                   "]
[391,null,"717 Mohawk Trail",717,"Mohawk Trail",717,"0717",null,null,null,null,81716,16,817,"ESSEX NORTH SHORE",298,{"$f":"VLOOKUP(P242,'Townwide Contributions'!$A$9:$B$361,2,0)","v":"Topsfield"},"TOPSFIELD                    "]
[389,null,"712 Monomoy",712,"Monomoy",712,"0712",null,null,null,null,81717,17,817,"ESSEX NORTH SHORE",320,{"$f":"VLOOKUP(P243,'Townwide Contributions'!$A$9:$B$361,2,0)","v":"Wenham"},"WENHAM                       "]
[190,null,"190 Monroe",190,"Monroe",190,"0190",null,null,null,null,81801,1,818,"FRANKLIN COUNTY",29,{"$f":"VLOOKUP(P244,'Townwide Contributions'!$A$9:$B$361,2,0)","v":"Bernardston"},"BERNARDSTON                  "]
[191,null,"191 Monson",191,"Monson",191,"0191",null,null,null,null,81802,2,818,"FRANKLIN COUNTY",47,{"$f":"VLOOKUP(P245,'Townwide Contributions'!$A$9:$B$361,2,0)","v":"Buckland"},"BUCKLAND                     "]
[426,null,"832 Montachusett",832,"Montachusett",832,"0832",null,null,null,null,81803,3,818,"FRANKLIN COUNTY",66,{"$f":"VLOOKUP(P246,'Townwide Contributions'!$A$9:$B$361,2,0)","v":"Colrain"},"COLRAIN                      "]
[192,null,"192 Montague",192,"Montague",192,"0192",null,null,null,null,81804,4,818,"FRANKLIN COUNTY",68,{"$f":"VLOOKUP(P247,'Townwide Contributions'!$A$9:$B$361,2,0)","v":"Conway"},"CONWAY                       "]
[193,null,"193 Monterey",193,"Monterey",193,"0193",null,null,null,null,81805,5,818,"FRANKLIN COUNTY",74,{"$f":"VLOOKUP(P248,'Townwide Contributions'!$A$9:$B$361,2,0)","v":"Deerfield"},"DEERFIELD                    "]
[194,null,"194 Montgomery",194,"Montgomery",194,"0194",null,null,null,null,81806,6,818,"FRANKLIN COUNTY",91,{"$f":"VLOOKUP(P249,'Townwide Contributions'!$A$9:$B$361,2,0)","v":"Erving"},"ERVING                       "]
[390,null,"715 Mount Greylock",715,"Mount Greylock",715,"0715",null,null,null,null,81807,7,818,"FRANKLIN COUNTY",106,{"$f":"VLOOKUP(P250,'Townwide Contributions'!$A$9:$B$361,2,0)","v":"Gill"},"GILL                         "]
[195,null,"195 Mount Washington",195,"Mount Washington",195,"0195",null,null,null,null,81808,8,818,"FRANKLIN COUNTY",114,{"$f":"VLOOKUP(P251,'Townwide Contributions'!$A$9:$B$361,2,0)","v":"Greenfield"},"GREENFIELD                   "]
[196,null,"196 Nahant",196,"Nahant",196,"0196",null,null,null,null,81809,9,818,"FRANKLIN COUNTY",130,{"$f":"VLOOKUP(P252,'Townwide Contributions'!$A$9:$B$361,2,0)","v":"Heath"},"HEATH                        "]
[197,null,"197 Nantucket",197,"Nantucket",197,"0197",null,null,null,null,81810,10,818,"FRANKLIN COUNTY",156,{"$f":"VLOOKUP(P253,'Townwide Contributions'!$A$9:$B$361,2,0)","v":"Leyden"},"LEYDEN                       "]
[392,null,"720 Narragansett",720,"Narragansett",720,"0720",null,null,null,null,81811,11,818,"FRANKLIN COUNTY",192,{"$f":"VLOOKUP(P254,'Townwide Contributions'!$A$9:$B$361,2,0)","v":"Montague"},"MONTAGUE                     "]
[393,null,"725 Nashoba",725,"Nashoba",725,"0725",null,null,null,null,81812,12,818,"FRANKLIN COUNTY",206,{"$f":"VLOOKUP(P255,'Townwide Contributions'!$A$9:$B$361,2,0)","v":"New Salem"},"NEW SALEM                    "]
[428,null,"852 Nashoba Valley",852,"Nashoba Valley",852,"0852",null,null,null,null,81813,13,818,"FRANKLIN COUNTY",216,{"$f":"VLOOKUP(P256,'Townwide Contributions'!$A$9:$B$361,2,0)","v":"Northfield"},"NORTHFIELD                   "]
[198,null,"198 Natick",198,"Natick",198,"0198",null,null,null,null,81814,14,818,"FRANKLIN COUNTY",223,{"$f":"VLOOKUP(P257,'Townwide Contributions'!$A$9:$B$361,2,0)","v":"Orange"},"ORANGE                       "]
[372,null,"660 Nauset",660,"Nauset",660,"0660",null,null,null,null,81815,15,818,"FRANKLIN COUNTY",268,{"$f":"VLOOKUP(P258,'Townwide Contributions'!$A$9:$B$361,2,0)","v":"Shelburne"},"SHELBURNE                    "]
[199,null,"199 Needham",199,"Needham",199,"0199",null,null,null,null,81816,16,818,"FRANKLIN COUNTY",289,{"$f":"VLOOKUP(P259,'Townwide Contributions'!$A$9:$B$361,2,0)","v":"Sunderland"},"SUNDERLAND                   "]
[200,null,"200 New Ashford",200,"New Ashford",200,"0200",null,null,null,null,81817,17,818,"FRANKLIN COUNTY",312,{"$f":"VLOOKUP(P260,'Townwide Contributions'!$A$9:$B$361,2,0)","v":"Warwick"},"WARWICK                      "]
[201,null,"201 New Bedford",201,"New Bedford",201,"0201",null,null,null,null,81818,18,818,"FRANKLIN COUNTY",319,{"$f":"VLOOKUP(P261,'Townwide Contributions'!$A$9:$B$361,2,0)","v":"Wendell"},"WENDELL                      "]
[202,null,{"$f":"PROPER(D262&\" \"&E262)","v":"202 New Braintree"},202,"New Braintree",202,"0202",null,null,null,null,81819,19,818,"FRANKLIN COUNTY",337,{"$f":"VLOOKUP(P262,'Townwide Contributions'!$A$9:$B$361,2,0)","v":"Whately"},"WHATELY                      "]
[205,null,"205 New Marlborough",205,"New Marlborough",205,"0205",null,null,null,null,82101,1,821,"GREATER FALL RIVER",95,{"$f":"VLOOKUP(P263,'Townwide Contributions'!$A$9:$B$361,2,0)","v":"Fall River"},"FALL RIVER                   "]
[206,null,"206 New Salem",206,"New Salem",206,"0206",null,null,null,null,82102,2,821,"GREATER FALL RIVER",273,{"$f":"VLOOKUP(P264,'Townwide Contributions'!$A$9:$B$361,2,0)","v":"Somerset"},"SOMERSET                     "]
[394,null,"728 New Salem Wendell",728,"New Salem Wendell",728,"0728",null,null,null,null,82103,3,821,"GREATER FALL RIVER",292,{"$f":"VLOOKUP(P265,'Townwide Contributions'!$A$9:$B$361,2,0)","v":"Swansea"},"SWANSEA                      "]
[203,null,"203 Newbury",203,"Newbury",203,"0203",null,null,null,null,82104,4,821,"GREATER FALL RIVER",331,{"$f":"VLOOKUP(P266,'Townwide Contributions'!$A$9:$B$361,2,0)","v":"Westport"},"WESTPORT                     "]
[204,null,"204 Newburyport",204,"Newburyport",204,"0204",null,null,null,null,82301,1,823,"GREATER LAWRENCE",9,{"$f":"VLOOKUP(P267,'Townwide Contributions'!$A$9:$B$361,2,0)","v":"Andover"},"ANDOVER                      "]
[207,null,"207 Newton",207,"Newton",207,"0207",null,null,null,null,82302,2,823,"GREATER LAWRENCE",149,{"$f":"VLOOKUP(P268,'Townwide Contributions'!$A$9:$B$361,2,0)","v":"Lawrence"},"LAWRENCE                     "]
[208,null,"208 Norfolk",208,"Norfolk",208,"0208",null,null,null,null,82303,3,823,"GREATER LAWRENCE",181,{"$f":"VLOOKUP(P269,'Townwide Contributions'!$A$9:$B$361,2,0)","v":"Methuen"},"METHUEN                      "]
[440,null,"915 Norfolk County",915,"Norfolk County",915,"0915",null,null,null,null,82304,4,823,"GREATER LAWRENCE",211,{"$f":"VLOOKUP(P270,'Townwide Contributions'!$A$9:$B$361,2,0)","v":"North Andover"},"NORTH ANDOVER                "]
[209,null,"209 North Adams",209,"North Adams",209,"0209",null,null,null,null,82501,1,825,"GREATER NEW BEDFORD",72,{"$f":"VLOOKUP(P271,'Townwide Contributions'!$A$9:$B$361,2,0)","v":"Dartmouth"},"DARTMOUTH                    "]
[211,null,"211 North Andover",211,"North Andover",211,"0211",null,null,null,null,82502,2,825,"GREATER NEW BEDFORD",94,{"$f":"VLOOKUP(P272,'Townwide Contributions'!$A$9:$B$361,2,0)","v":"Fairhaven"},"FAIRHAVEN                    "]
[212,null,"212 North Attleborough",212,"North Attleborough",212,"0212",null,null,null,null,82503,3,825,"GREATER NEW BEDFORD",201,{"$f":"VLOOKUP(P273,'Townwide Contributions'!$A$9:$B$361,2,0)","v":"New Bedford"},"NEW BEDFORD                  "]
[215,null,"215 North Brookfield",215,"North Brookfield",215,"0215",null,null,null,null,82801,1,828,"GREATER LOWELL",79,{"$f":"VLOOKUP(P274,'Townwide Contributions'!$A$9:$B$361,2,0)","v":"Dracut"},"DRACUT                       "]
[396,null,"735 North Middlesex",735,"North Middlesex",735,"0735",null,null,null,null,82802,2,828,"GREATER LOWELL",81,{"$f":"VLOOKUP(P275,'Townwide Contributions'!$A$9:$B$361,2,0)","v":"Dunstable"},"DUNSTABLE                    "]
[217,null,"217 North Reading",217,"North Reading",217,"0217",null,null,null,null,82803,3,828,"GREATER LOWELL",160,{"$f":"VLOOKUP(P276,'Townwide Contributions'!$A$9:$B$361,2,0)","v":"Lowell"},"LOWELL                       "]
[210,null,"210 Northampton",210,"Northampton",210,"0210",null,null,null,null,82804,4,828,"GREATER LOWELL",301,{"$f":"VLOOKUP(P277,'Townwide Contributions'!$A$9:$B$361,2,0)","v":"Tyngsborough"},"TYNGSBOROUGH                 "]
[354,null,"406 Northampton Smith",406,"Northampton Smith",406,"0406",null,null,null,null,82901,1,829,"SOUTH MIDDLESEX",14,{"$f":"VLOOKUP(P278,'Townwide Contributions'!$A$9:$B$361,2,0)","v":"Ashland"},"ASHLAND                      "]
[395,null,"730 Northboro Southboro",730,"Northboro Southboro",730,"0730",null,null,null,null,82902,2,829,"SOUTH MIDDLESEX",100,{"$f":"VLOOKUP(P279,'Townwide Contributions'!$A$9:$B$361,2,0)","v":"Framingham"},"FRAMINGHAM                   "]
[213,null,"213 Northborough",213,"Northborough",213,"0213",null,null,null,null,82903,3,829,"SOUTH MIDDLESEX",136,{"$f":"VLOOKUP(P280,'Townwide Contributions'!$A$9:$B$361,2,0)","v":"Holliston"},"HOLLISTON                    "]
[214,null,"214 Northbridge",214,"Northbridge",214,"0214",null,null,null,null,82904,4,829,"SOUTH MIDDLESEX",139,{"$f":"VLOOKUP(P281,'Townwide Contributions'!$A$9:$B$361,2,0)","v":"Hopkinton"},"HOPKINTON                    "]
[429,null,"853 Northeast Metropolitan",853,"Northeast Metropolitan",853,"0853",null,null,null,null,82905,5,829,"SOUTH MIDDLESEX",198,{"$f":"VLOOKUP(P282,'Townwide Contributions'!$A$9:$B$361,2,0)","v":"Natick"},"NATICK                       "]
[427,null,"851 Northern Berkshire",851,"Northern Berkshire",851,"0851",null,null,null,null,83001,1,830,"MINUTEMAN",2,{"$f":"VLOOKUP(P283,'Townwide Contributions'!$A$9:$B$361,2,0)","v":"Acton"},"ACTON                        "]
[216,null,"216 Northfield",216,"Northfield",216,"0216",null,null,null,null,83002,2,830,"MINUTEMAN",10,{"$f":"VLOOKUP(P284,'Townwide Contributions'!$A$9:$B$361,2,0)","v":"Arlington"},"ARLINGTON                    "]
[218,null,"218 Norton",218,"Norton",218,"0218",null,null,null,null,83003,3,830,"MINUTEMAN",34,{"$f":"VLOOKUP(P285,'Townwide Contributions'!$A$9:$B$361,2,0)","v":"Bolton"},"BOLTON                       "]
[219,null,"219 Norwell",219,"Norwell",219,"0219",null,null,null,null,83004,4,830,"MINUTEMAN",67,{"$f":"VLOOKUP(P286,'Townwide Contributions'!$A$9:$B$361,2,0)","v":"Concord"},"CONCORD                      "]
[220,null,"220 Norwood",220,"Norwood",220,"0220",null,null,null,null,83005,5,830,"MINUTEMAN",78,{"$f":"VLOOKUP(P287,'Townwide Contributions'!$A$9:$B$361,2,0)","v":"Dover"},"DOVER                        "]
[221,null,"221 Oak Bluffs",221,"Oak Bluffs",221,"0221",null,null,null,null,83006,6,830,"MINUTEMAN",147,{"$f":"VLOOKUP(P288,'Townwide Contributions'!$A$9:$B$361,2,0)","v":"Lancaster"},"LANCASTER                    "]
[222,null,"222 Oakham",222,"Oakham",222,"0222",null,null,null,null,83007,7,830,"MINUTEMAN",155,{"$f":"VLOOKUP(P289,'Townwide Contributions'!$A$9:$B$361,2,0)","v":"Lexington"},"LEXINGTON                    "]
[430,null,"855 Old Colony",855,"Old Colony",855,"0855",null,null,null,null,83008,8,830,"MINUTEMAN",199,{"$f":"VLOOKUP(P290,'Townwide Contributions'!$A$9:$B$361,2,0)","v":"Needham"},"NEEDHAM                      "]
[397,null,"740 Old Rochester",740,"Old Rochester",740,"0740",null,null,null,null,83009,9,830,"MINUTEMAN",286,{"$f":"VLOOKUP(P291,'Townwide Contributions'!$A$9:$B$361,2,0)","v":"Stow"},"STOW                         "]
[223,null,"223 Orange",223,"Orange",223,"0223",null,null,null,null,83201,1,832,"MONTACHUSETT",11,{"$f":"VLOOKUP(P292,'Townwide Contributions'!$A$9:$B$361,2,0)","v":"Ashburnham"},"ASHBURNHAM                   "]
[224,null,"224 Orleans",224,"Orleans",224,"0224",null,null,null,null,83202,2,832,"MONTACHUSETT",12,{"$f":"VLOOKUP(P293,'Townwide Contributions'!$A$9:$B$361,2,0)","v":"Ashby"},"ASHBY                        "]
[225,null,"225 Otis",225,"Otis",225,"0225",null,null,null,null,83203,3,832,"MONTACHUSETT",15,{"$f":"VLOOKUP(P294,'Townwide Contributions'!$A$9:$B$361,2,0)","v":"Athol"},"ATHOL                        "]
[226,null,"226 Oxford",226,"Oxford",226,"0226",null,null,null,null,83204,4,832,"MONTACHUSETT",21,{"$f":"VLOOKUP(P295,'Townwide Contributions'!$A$9:$B$361,2,0)","v":"Barre"},"BARRE                        "]
[227,null,"227 Palmer",227,"Palmer",227,"0227",null,null,null,null,83205,5,832,"MONTACHUSETT",97,{"$f":"VLOOKUP(P296,'Townwide Contributions'!$A$9:$B$361,2,0)","v":"Fitchburg"},"FITCHBURG                    "]
[431,null,"860 Pathfinder",860,"Pathfinder",860,"0860",null,null,null,null,83206,6,832,"MONTACHUSETT",103,{"$f":"VLOOKUP(P297,'Townwide Contributions'!$A$9:$B$361,2,0)","v":"Gardner"},"GARDNER                      "]
[228,null,"228 Paxton",228,"Paxton",228,"0228",null,null,null,null,83207,7,832,"MONTACHUSETT",125,{"$f":"VLOOKUP(P298,'Townwide Contributions'!$A$9:$B$361,2,0)","v":"Harvard"},"HARVARD                      "]
[229,null,"229 Peabody",229,"Peabody",229,"0229",null,null,null,null,83208,8,832,"MONTACHUSETT",134,{"$f":"VLOOKUP(P299,'Townwide Contributions'!$A$9:$B$361,2,0)","v":"Holden"},"HOLDEN                       "]
[230,null,"230 Pelham",230,"Pelham",230,"0230",null,null,null,null,83209,9,832,"MONTACHUSETT",140,{"$f":"VLOOKUP(P300,'Townwide Contributions'!$A$9:$B$361,2,0)","v":"Hubbardston"},"HUBBARDSTON                  "]
[231,null,"231 Pembroke",231,"Pembroke",231,"0231",null,null,null,null,83210,10,832,"MONTACHUSETT",162,{"$f":"VLOOKUP(P301,'Townwide Contributions'!$A$9:$B$361,2,0)","v":"Lunenburg"},"LUNENBURG                    "]
[398,null,"745 Pentucket",745,"Pentucket",745,"0745",null,null,null,null,83211,11,832,"MONTACHUSETT",234,{"$f":"VLOOKUP(P302,'Townwide Contributions'!$A$9:$B$361,2,0)","v":"Petersham"},"PETERSHAM                    "]
[232,null,"232 Pepperell",232,"Pepperell",232,"0232",null,null,null,null,83212,12,832,"MONTACHUSETT",235,{"$f":"VLOOKUP(P303,'Townwide Contributions'!$A$9:$B$361,2,0)","v":"Phillipston"},"PHILLIPSTON                  "]
[233,null,"233 Peru",233,"Peru",233,"0233",null,null,null,null,83213,13,832,"MONTACHUSETT",241,{"$f":"VLOOKUP(P304,'Townwide Contributions'!$A$9:$B$361,2,0)","v":"Princeton"},"PRINCETON                    "]
[234,null,"234 Petersham",234,"Petersham",234,"0234",null,null,null,null,83214,14,832,"MONTACHUSETT",255,{"$f":"VLOOKUP(P305,'Townwide Contributions'!$A$9:$B$361,2,0)","v":"Royalston"},"ROYALSTON                    "]
[235,null,"235 Phillipston",235,"Phillipston",235,"0235",null,null,null,null,83215,15,832,"MONTACHUSETT",282,{"$f":"VLOOKUP(P306,'Townwide Contributions'!$A$9:$B$361,2,0)","v":"Sterling"},"STERLING                     "]
[399,null,"750 Pioneer",750,"Pioneer",750,"0750",null,null,null,null,83216,16,832,"MONTACHUSETT",294,{"$f":"VLOOKUP(P307,'Townwide Contributions'!$A$9:$B$361,2,0)","v":"Templeton"},"TEMPLETON                    "]
[236,null,"236 Pittsfield",236,"Pittsfield",236,"0236",null,null,null,null,83217,17,832,"MONTACHUSETT",328,{"$f":"VLOOKUP(P308,'Townwide Contributions'!$A$9:$B$361,2,0)","v":"Westminster"},"WESTMINSTER                  "]
[237,null,"237 Plainfield",237,"Plainfield",237,"0237",null,null,null,null,83218,18,832,"MONTACHUSETT",343,{"$f":"VLOOKUP(P309,'Townwide Contributions'!$A$9:$B$361,2,0)","v":"Winchendon"},"WINCHENDON                   "]
[238,null,"238 Plainville",238,"Plainville",238,"0238",null,null,null,null,85101,1,851,"NORTHERN BERKSHIRE",4,{"$f":"VLOOKUP(P310,'Townwide Contributions'!$A$9:$B$361,2,0)","v":"Adams"},"ADAMS                        "]
[239,null,"239 Plymouth",239,"Plymouth",239,"0239",null,null,null,null,85102,2,851,"NORTHERN BERKSHIRE",58,{"$f":"VLOOKUP(P311,'Townwide Contributions'!$A$9:$B$361,2,0)","v":"Cheshire"},"CHESHIRE"]
[240,null,"240 Plympton",240,"Plympton",240,"0240",null,null,null,null,85103,3,851,"NORTHERN BERKSHIRE",63,{"$f":"VLOOKUP(P312,'Townwide Contributions'!$A$9:$B$361,2,0)","v":"Clarksburg"},"CLARKSBURG                   "]
[241,null,"241 Princeton",241,"Princeton",241,"0241",null,null,null,null,85104,4,851,"NORTHERN BERKSHIRE",98,{"$f":"VLOOKUP(P313,'Townwide Contributions'!$A$9:$B$361,2,0)","v":"Florida"},"FLORIDA                      "]
[242,null,"242 Provincetown",242,"Provincetown",242,"0242",null,null,null,null,85105,5,851,"NORTHERN BERKSHIRE",148,{"$f":"VLOOKUP(P314,'Townwide Contributions'!$A$9:$B$361,2,0)","v":"Lanesborough"},"LANESBOROUGH                 "]
[400,null,"753 Quabbin",753,"Quabbin",753,"0753",null,null,null,null,85106,6,851,"NORTHERN BERKSHIRE",190,{"$f":"VLOOKUP(P315,'Townwide Contributions'!$A$9:$B$361,2,0)","v":"Monroe"},"MONROE                       "]
[411,null,"778 Quaboag",778,"Quaboag",778,"0778",null,null,null,null,85107,7,851,"NORTHERN BERKSHIRE",209,{"$f":"VLOOKUP(P316,'Townwide Contributions'!$A$9:$B$361,2,0)","v":"North Adams"},"NORTH ADAMS                  "]
[243,null,"243 Quincy",243,"Quincy",243,"0243",null,null,null,null,85108,8,851,"NORTHERN BERKSHIRE",263,{"$f":"VLOOKUP(P317,'Townwide Contributions'!$A$9:$B$361,2,0)","v":"Savoy"},"SAVOY                        "]
[401,null,"755 Ralph C Mahar",755,"Ralph C Mahar",755,"0755",null,null,null,null,85109,9,851,"NORTHERN BERKSHIRE",341,{"$f":"VLOOKUP(P318,'Townwide Contributions'!$A$9:$B$361,2,0)","v":"Williamstown"},"WILLIAMSTOWN                 "]
[244,null,"244 Randolph",244,"Randolph",244,"0244",null,null,null,null,85201,1,852,"NASHOBA VALLEY",19,{"$f":"VLOOKUP(P319,'Townwide Contributions'!$A$9:$B$361,2,0)","v":"Ayer"},"AYER"]
[245,null,"245 Raynham",245,"Raynham",245,"0245",null,null,null,null,85202,2,852,"NASHOBA VALLEY",56,{"$f":"VLOOKUP(P320,'Townwide Contributions'!$A$9:$B$361,2,0)","v":"Chelmsford"},"CHELMSFORD                   "]
[246,null,"246 Reading",246,"Reading",246,"0246",null,null,null,null,85203,3,852,"NASHOBA VALLEY",115,{"$f":"VLOOKUP(P321,'Townwide Contributions'!$A$9:$B$361,2,0)","v":"Groton"},"GROTON                       "]
[247,null,"247 Rehoboth",247,"Rehoboth",247,"0247",null,null,null,null,85204,4,852,"NASHOBA VALLEY",158,{"$f":"VLOOKUP(P322,'Townwide Contributions'!$A$9:$B$361,2,0)","v":"Littleton"},"LITTLETON                    "]
[248,null,"248 Revere",248,"Revere",248,"0248",null,null,null,null,85205,5,852,"NASHOBA VALLEY",232,{"$f":"VLOOKUP(P323,'Townwide Contributions'!$A$9:$B$361,2,0)","v":"Pepperell"},"PEPPERELL                    "]
[249,null,"249 Richmond",249,"Richmond",249,"0249",null,null,null,null,85206,6,852,"NASHOBA VALLEY",270,{"$f":"VLOOKUP(P324,'Townwide Contributions'!$A$9:$B$361,2,0)","v":"Shirley"},"SHIRLEY                      "]
[250,null,"250 Rochester",250,"Rochester",250,"0250",null,null,null,null,85207,7,852,"NASHOBA VALLEY",299,{"$f":"VLOOKUP(P325,'Townwide Contributions'!$A$9:$B$361,2,0)","v":"Townsend"},"TOWNSEND                     "]
[251,null,{"$f":"PROPER(D326&\" \"&E326)","v":"251 Rockland"},251,"Rockland",251,"0251",null,null,null,null,85208,8,852,"NASHOBA VALLEY",326,{"$f":"VLOOKUP(P326,'Townwide Contributions'!$A$9:$B$361,2,0)","v":"Westford"},"WESTFORD                     "]
[252,null,"252 Rockport",252,"Rockport",252,"0252",null,null,null,null,85301,1,853,"NORTHEAST METROPOLITAN",57,{"$f":"VLOOKUP(P327,'Townwide Contributions'!$A$9:$B$361,2,0)","v":"Chelsea"},"CHELSEA                      "]
[253,null,"253 Rowe",253,"Rowe",253,"0253",null,null,null,null,85302,2,853,"NORTHEAST METROPOLITAN",165,{"$f":"VLOOKUP(P328,'Townwide Contributions'!$A$9:$B$361,2,0)","v":"Malden"},"MALDEN                       "]
[254,null,"254 Rowley",254,"Rowley",254,"0254",null,null,null,null,85303,3,853,"NORTHEAST METROPOLITAN",178,{"$f":"VLOOKUP(P329,'Townwide Contributions'!$A$9:$B$361,2,0)","v":"Melrose"},"MELROSE                      "]
[255,null,"255 Royalston",255,"Royalston",255,"0255",null,null,null,null,85304,4,853,"NORTHEAST METROPOLITAN",217,{"$f":"VLOOKUP(P330,'Townwide Contributions'!$A$9:$B$361,2,0)","v":"North Reading"},"NORTH READING                "]
[256,null,"256 Russell",256,"Russell",256,"0256",null,null,null,null,85305,5,853,"NORTHEAST METROPOLITAN",246,{"$f":"VLOOKUP(P331,'Townwide Contributions'!$A$9:$B$361,2,0)","v":"Reading"},"READING                      "]
[257,null,"257 Rutland",257,"Rutland",257,"0257",null,null,null,null,85306,6,853,"NORTHEAST METROPOLITAN",248,{"$f":"VLOOKUP(P332,'Townwide Contributions'!$A$9:$B$361,2,0)","v":"Revere"},"REVERE                       "]
[258,null,"258 Salem",258,"Salem",258,"0258",null,null,null,null,85307,7,853,"NORTHEAST METROPOLITAN",262,{"$f":"VLOOKUP(P333,'Townwide Contributions'!$A$9:$B$361,2,0)","v":"Saugus"},"SAUGUS                       "]
[259,null,"259 Salisbury",259,"Salisbury",259,"0259",null,null,null,null,85308,8,853,"NORTHEAST METROPOLITAN",284,{"$f":"VLOOKUP(P334,'Townwide Contributions'!$A$9:$B$361,2,0)","v":"Stoneham"},"STONEHAM                     "]
[260,null,"260 Sandisfield",260,"Sandisfield",260,"0260",null,null,null,null,85309,9,853,"NORTHEAST METROPOLITAN",305,{"$f":"VLOOKUP(P335,'Townwide Contributions'!$A$9:$B$361,2,0)","v":"Wakefield"},"WAKEFIELD                    "]
[261,null,"261 Sandwich",261,"Sandwich",261,"0261",null,null,null,null,85310,10,853,"NORTHEAST METROPOLITAN",344,{"$f":"VLOOKUP(P336,'Townwide Contributions'!$A$9:$B$361,2,0)","v":"Winchester"},"WINCHESTER                   "]
[262,null,"262 Saugus",262,"Saugus",262,"0262",null,null,null,null,85311,11,853,"NORTHEAST METROPOLITAN",346,{"$f":"VLOOKUP(P337,'Townwide Contributions'!$A$9:$B$361,2,0)","v":"Winthrop"},"WINTHROP                     "]
[263,null,"263 Savoy",263,"Savoy",263,"0263",null,null,null,null,85312,12,853,"NORTHEAST METROPOLITAN",347,{"$f":"VLOOKUP(P338,'Townwide Contributions'!$A$9:$B$361,2,0)","v":"Woburn"},"WOBURN"]
[264,null,"264 Scituate",264,"Scituate",264,"0264",null,null,null,null,85501,1,855,"OLD COLONY",3,{"$f":"VLOOKUP(P339,'Townwide Contributions'!$A$9:$B$361,2,0)","v":"Acushnet"},"ACUSHNET                     "]
[265,null,"265 Seekonk",265,"Seekonk",265,"0265",null,null,null,null,85502,2,855,"OLD COLONY",52,{"$f":"VLOOKUP(P340,'Townwide Contributions'!$A$9:$B$361,2,0)","v":"Carver"},"CARVER                       "]
[266,null,{"$f":"PROPER(D341&\" \"&E341)","v":"266 Sharon"},266,"Sharon",266,"0266",null,null,null,null,85503,3,855,"OLD COLONY",146,{"$f":"VLOOKUP(P341,'Townwide Contributions'!$A$9:$B$361,2,0)","v":"Lakeville"},"LAKEVILLE                    "]
[432,null,"871 Shawsheen Valley",871,"Shawsheen Valley",871,"0871",null,null,null,null,85504,4,855,"OLD COLONY",173,{"$f":"VLOOKUP(P342,'Townwide Contributions'!$A$9:$B$361,2,0)","v":"Mattapoisett"},"MATTAPOISETT                 "]
[267,null,"267 Sheffield",267,"Sheffield",267,"0267",null,null,null,null,85505,5,855,"OLD COLONY",250,{"$f":"VLOOKUP(P343,'Townwide Contributions'!$A$9:$B$361,2,0)","v":"Rochester"},"ROCHESTER                    "]
[268,null,"268 Shelburne",268,"Shelburne",268,"0268",null,null,null,null,86001,1,860,"PATHFINDER",24,{"$f":"VLOOKUP(P344,'Townwide Contributions'!$A$9:$B$361,2,0)","v":"Belchertown"},"BELCHERTOWN                  "]
[269,null,"269 Sherborn",269,"Sherborn",269,"0269",null,null,null,null,86002,2,860,"PATHFINDER",111,{"$f":"VLOOKUP(P345,'Townwide Contributions'!$A$9:$B$361,2,0)","v":"Granby"},"GRANBY                       "]
[270,null,"270 Shirley",270,"Shirley",270,"0270",null,null,null,null,86003,3,860,"PATHFINDER",124,{"$f":"VLOOKUP(P346,'Townwide Contributions'!$A$9:$B$361,2,0)","v":"Hardwick"},"HARDWICK                     "]
[271,null,"271 Shrewsbury",271,"Shrewsbury",271,"0271",null,null,null,null,86004,4,860,"PATHFINDER",191,{"$f":"VLOOKUP(P347,'Townwide Contributions'!$A$9:$B$361,2,0)","v":"Monson"},"MONSON                       "]
[272,null,"272 Shutesbury",272,"Shutesbury",272,"0272",null,null,null,null,86005,5,860,"PATHFINDER",202,{"$f":"VLOOKUP(P348,'Townwide Contributions'!$A$9:$B$361,2,0)","v":"New Braintree"},"NEW BRAINTREE                "]
[402,null,"760 Silver Lake",760,"Silver Lake",760,"0760",null,null,null,null,86006,6,860,"PATHFINDER",222,{"$f":"VLOOKUP(P349,'Townwide Contributions'!$A$9:$B$361,2,0)","v":"Oakham"},"OAKHAM                       "]
[273,null,"273 Somerset",273,"Somerset",273,"0273",null,null,null,null,86007,7,860,"PATHFINDER",227,{"$f":"VLOOKUP(P350,'Townwide Contributions'!$A$9:$B$361,2,0)","v":"Palmer"},"PALMER                       "]
[403,null,"763 Somerset Berkley",763,"Somerset Berkley",763,"0763",null,null,null,null,86008,8,860,"PATHFINDER",309,{"$f":"VLOOKUP(P351,'Townwide Contributions'!$A$9:$B$361,2,0)","v":"Ware"},"WARE                         "]
[274,null,"274 Somerville",274,"Somerville",274,"0274",null,null,null,null,86009,9,860,"PATHFINDER",311,{"$f":"VLOOKUP(P352,'Townwide Contributions'!$A$9:$B$361,2,0)","v":"Warren"},"WARREN                       "]
[278,null,"278 South Hadley",278,"South Hadley",278,"0278",null,null,null,null,87101,1,871,"SHAWSHEEN VALLEY",23,{"$f":"VLOOKUP(P353,'Townwide Contributions'!$A$9:$B$361,2,0)","v":"Bedford"},"BEDFORD                      "]
[424,null,"829 South Middlesex",829,"South Middlesex",829,"0829",null,null,null,null,87102,2,871,"SHAWSHEEN VALLEY",31,{"$f":"VLOOKUP(P354,'Townwide Contributions'!$A$9:$B$361,2,0)","v":"Billerica"},"BILLERICA                    "]
[434,null,"873 South Shore",873,"South Shore",873,"0873",null,null,null,null,87103,3,871,"SHAWSHEEN VALLEY",48,{"$f":"VLOOKUP(P355,'Townwide Contributions'!$A$9:$B$361,2,0)","v":"Burlington"},"BURLINGTON                   "]
[275,null,"275 Southampton",275,"Southampton",275,"0275",null,null,null,null,87104,4,871,"SHAWSHEEN VALLEY",295,{"$f":"VLOOKUP(P356,'Townwide Contributions'!$A$9:$B$361,2,0)","v":"Tewksbury"},"TEWKSBURY                    "]
[276,null,"276 Southborough",276,"Southborough",276,"0276",88,null,null,null,87105,5,871,"SHAWSHEEN VALLEY",342,{"$f":"VLOOKUP(P357,'Townwide Contributions'!$A$9:$B$361,2,0)","v":"Wilmington"},"WILMINGTON                   "]
[277,null,"277 Southbridge",277,"Southbridge",277,"0277",{"$f":"B358","v":0},null,null,null,87201,1,872,"SOUTHEASTERN",44,{"$f":"VLOOKUP(P358,'Townwide Contributions'!$A$9:$B$361,2,0)","v":"Brockton"},"BROCKTON                     "]
[433,null,"872 Southeastern",872,"Southeastern",872,"0872",{"$f":"B359","v":0},null,null,null,87202,2,872,"SOUTHEASTERN",83,{"$f":"VLOOKUP(P359,'Townwide Contributions'!$A$9:$B$361,2,0)","v":"East Bridgewater"},"EAST BRIDGEWATER             "]
[404,null,"765 Southern Berkshire",765,"Southern Berkshire",765,"0765",0,null,null,null,87203,3,872,"SOUTHEASTERN",88,{"$f":"VLOOKUP(P360,'Townwide Contributions'!$A$9:$B$361,2,0)","v":"Easton"},"EASTON                       "]
[435,null,"876 Southern Worcester",876,"Southern Worcester",876,"0876",0,null,null,null,87204,4,872,"SOUTHEASTERN",99,{"$f":"VLOOKUP(P361,'Townwide Contributions'!$A$9:$B$361,2,0)","v":"Foxborough"},"FOXBOROUGH                   "]
[279,null,"279 Southwick",279,"Southwick",279,"0279",0,null,null,null,87205,5,872,"SOUTHEASTERN",167,{"$f":"VLOOKUP(P362,'Townwide Contributions'!$A$9:$B$361,2,0)","v":"Mansfield"},"MANSFIELD                    "]
[405,null,"766 Southwick Tolland Granville",766,"Southwick Tolland Granville",766,"0766",0,null,null,null,87206,6,872,"SOUTHEASTERN",218,{"$f":"VLOOKUP(P363,'Townwide Contributions'!$A$9:$B$361,2,0)","v":"Norton"},"NORTON                       "]
[280,null,"280 Spencer",280,"Spencer",280,"0280",0,null,null,null,87207,7,872,"SOUTHEASTERN",266,{"$f":"VLOOKUP(P364,'Townwide Contributions'!$A$9:$B$361,2,0)","v":"Sharon"},"SHARON                       "]
[406,null,"767 Spencer East Brookfield",767,"Spencer East Brookfield",767,"0767",0,null,null,null,87208,8,872,"SOUTHEASTERN",285,{"$f":"VLOOKUP(P365,'Townwide Contributions'!$A$9:$B$361,2,0)","v":"Stoughton"},"STOUGHTON                    "]
[281,null,"281 Springfield",281,"Springfield",281,"0281",0,null,null,null,87209,9,872,"SOUTHEASTERN",323,{"$f":"VLOOKUP(P366,'Townwide Contributions'!$A$9:$B$361,2,0)","v":"West Bridgewater"},"WEST BRIDGEWATER             "]
[282,null,"282 Sterling",282,"Sterling",282,"0282",0,null,null,null,87301,1,873,"SOUTH SHORE",1,{"$f":"VLOOKUP(P367,'Townwide Contributions'!$A$9:$B$361,2,0)","v":"Abington"},"ABINGTON                     "]
[283,null,"283 Stockbridge",283,"Stockbridge",283,"0283",0,null,null,null,87302,2,873,"SOUTH SHORE",65,{"$f":"VLOOKUP(P368,'Townwide Contributions'!$A$9:$B$361,2,0)","v":"Cohasset"},"COHASSET                     "]
[284,null,"284 Stoneham",284,"Stoneham",284,"0284",0,null,null,null,87303,3,873,"SOUTH SHORE",122,{"$f":"VLOOKUP(P369,'Townwide Contributions'!$A$9:$B$361,2,0)","v":"Hanover"},"HANOVER                      "]
[285,null,"285 Stoughton",285,"Stoughton",285,"0285",0,null,null,null,87304,4,873,"SOUTH SHORE",123,{"$f":"VLOOKUP(P370,'Townwide Contributions'!$A$9:$B$361,2,0)","v":"Hanson"},"HANSON                       "]
[286,null,"286 Stow",286,"Stow",286,"0286",0,null,null,null,87305,5,873,"SOUTH SHORE",219,{"$f":"VLOOKUP(P371,'Townwide Contributions'!$A$9:$B$361,2,0)","v":"Norwell"},"NORWELL                      "]
[287,null,"287 Sturbridge",287,"Sturbridge",287,"0287",0,null,null,null,87306,6,873,"SOUTH SHORE",251,{"$f":"VLOOKUP(P372,'Townwide Contributions'!$A$9:$B$361,2,0)","v":"Rockland"},"ROCKLAND                     "]
[288,null,{"$f":"PROPER(D373&\" \"&E373)","v":"288 Sudbury"},288,"Sudbury",288,"0288",0,null,null,null,87307,7,873,"SOUTH SHORE",264,{"$f":"VLOOKUP(P373,'Townwide Contributions'!$A$9:$B$361,2,0)","v":"Scituate"},"SCITUATE                     "]
[289,null,"289 Sunderland",289,"Sunderland",289,"0289",0,null,null,null,87308,8,873,"SOUTH SHORE",338,{"$f":"VLOOKUP(P374,'Townwide Contributions'!$A$9:$B$361,2,0)","v":"Whitman"},"WHITMAN                      "]
[290,null,"290 Sutton",290,"Sutton",290,"0290",0,null,null,null,87601,1,876,"SOUTHERN WORCESTER",17,{"$f":"VLOOKUP(P375,'Townwide Contributions'!$A$9:$B$361,2,0)","v":"Auburn"},"AUBURN                       "]
[291,null,"291 Swampscott",291,"Swampscott",291,"0291",0,null,null,null,87602,2,876,"SOUTHERN WORCESTER",54,{"$f":"VLOOKUP(P376,'Townwide Contributions'!$A$9:$B$361,2,0)","v":"Charlton"},"CHARLTON                     "]
[292,null,"292 Swansea",292,"Swansea",292,"0292",0,null,null,null,87603,3,876,"SOUTHERN WORCESTER",80,{"$f":"VLOOKUP(P377,'Townwide Contributions'!$A$9:$B$361,2,0)","v":"Dudley"},"DUDLEY                       "]
[407,null,"770 Tantasqua",770,"Tantasqua",770,"0770",0,null,null,null,87604,4,876,"SOUTHERN WORCESTER",215,{"$f":"VLOOKUP(P378,'Townwide Contributions'!$A$9:$B$361,2,0)","v":"North Brookfield"},"NORTH BROOKFIELD             "]
[293,null,"293 Taunton",293,"Taunton",293,"0293",0,null,null,null,87605,5,876,"SOUTHERN WORCESTER",226,{"$f":"VLOOKUP(P379,'Townwide Contributions'!$A$9:$B$361,2,0)","v":"Oxford"},"OXFORD                       "]
[294,null,"294 Templeton",294,"Templeton",294,"0294",0,null,null,null,87606,6,876,"SOUTHERN WORCESTER",228,{"$f":"VLOOKUP(P380,'Townwide Contributions'!$A$9:$B$361,2,0)","v":"Paxton"},"PAXTON                       "]
[295,null,"295 Tewksbury",295,"Tewksbury",295,"0295",0,null,null,null,87607,7,876,"SOUTHERN WORCESTER",257,{"$f":"VLOOKUP(P381,'Townwide Contributions'!$A$9:$B$361,2,0)","v":"Rutland"},"RUTLAND                      "]
[296,null,"296 Tisbury",296,"Tisbury",296,"0296",0,null,null,null,87608,8,876,"SOUTHERN WORCESTER",277,{"$f":"VLOOKUP(P382,'Townwide Contributions'!$A$9:$B$361,2,0)","v":"Southbridge"},"SOUTHBRIDGE                  "]
[297,null,"297 Tolland",297,"Tolland",297,"0297",0,null,null,null,87609,9,876,"SOUTHERN WORCESTER",280,{"$f":"VLOOKUP(P383,'Townwide Contributions'!$A$9:$B$361,2,0)","v":"Spencer"},"SPENCER                      "]
[298,null,"298 Topsfield",298,"Topsfield",298,"0298",0,null,null,null,87610,10,876,"SOUTHERN WORCESTER",316,{"$f":"VLOOKUP(P384,'Townwide Contributions'!$A$9:$B$361,2,0)","v":"Webster"},"WEBSTER                      "]
[299,null,"299 Townsend",299,"Townsend",299,"0299",0,null,null,null,87801,1,878,"TRI COUNTY",101,{"$f":"VLOOKUP(P385,'Townwide Contributions'!$A$9:$B$361,2,0)","v":"Franklin"},"FRANKLIN                     "]
[436,null,"878 Tri County",878,"Tri County",878,"0878",0,null,null,null,87802,2,878,"TRI COUNTY",175,{"$f":"VLOOKUP(P386,'Townwide Contributions'!$A$9:$B$361,2,0)","v":"Medfield"},"MEDFIELD                     "]
[408,null,"773 Triton",773,"Triton",773,"0773",0,null,null,null,87803,3,878,"TRI COUNTY",177,{"$f":"VLOOKUP(P387,'Townwide Contributions'!$A$9:$B$361,2,0)","v":"Medway"},"MEDWAY                       "]
[300,null,"300 Truro",300,"Truro",300,"0300",0,null,null,null,87804,4,878,"TRI COUNTY",187,{"$f":"VLOOKUP(P388,'Townwide Contributions'!$A$9:$B$361,2,0)","v":"Millis"},"MILLIS                       "]
[301,null,"301 Tyngsborough",301,"Tyngsborough",301,"0301",0,null,null,null,87805,5,878,"TRI COUNTY",208,{"$f":"VLOOKUP(P389,'Townwide Contributions'!$A$9:$B$361,2,0)","v":"Norfolk"},"NORFOLK                      "]
[302,null,"302 Tyringham",302,"Tyringham",302,"0302",0,null,null,null,87806,6,878,"TRI COUNTY",212,{"$f":"VLOOKUP(P390,'Townwide Contributions'!$A$9:$B$361,2,0)","v":"North Attleborough"},"NORTH ATTLEBOROUGH           "]
[409,null,"774 Upisland",774,"Upisland",774,"0774",0,null,null,null,87807,7,878,"TRI COUNTY",238,{"$f":"VLOOKUP(P391,'Townwide Contributions'!$A$9:$B$361,2,0)","v":"Plainville"},"PLAINVILLE                   "]
[437,null,"879 Upper Cape Cod",879,"Upper Cape Cod",879,"0879",0,null,null,null,87808,8,878,"TRI COUNTY",265,{"$f":"VLOOKUP(P392,'Townwide Contributions'!$A$9:$B$361,2,0)","v":"Seekonk"},"SEEKONK                      "]
[303,null,"303 Upton",303,"Upton",303,"0303",0,null,null,null,87809,9,878,"TRI COUNTY",269,{"$f":"VLOOKUP(P393,'Townwide Contributions'!$A$9:$B$361,2,0)","v":"Sherborn"},"SHERBORN                     "]
[304,null,"304 Uxbridge",304,"Uxbridge",304,"0304",0,null,null,null,87810,10,878,"TRI COUNTY",307,{"$f":"VLOOKUP(P394,'Townwide Contributions'!$A$9:$B$361,2,0)","v":"Walpole"},"WALPOLE                      "]
[410,null,"775 Wachusett",775,"Wachusett",775,"0775",0,null,null,null,87811,11,878,"TRI COUNTY",350,{"$f":"VLOOKUP(P395,'Townwide Contributions'!$A$9:$B$361,2,0)","v":"Wrentham"},"WRENTHAM                     "]
[305,null,"305 Wakefield",305,"Wakefield",305,"0305",0,null,null,null,87901,1,879,"UPPER CAPE COD",36,{"$f":"VLOOKUP(P396,'Townwide Contributions'!$A$9:$B$361,2,0)","v":"Bourne"},"BOURNE                       "]
[306,null,"306 Wales",306,"Wales",306,"0306",0,null,null,null,87902,2,879,"UPPER CAPE COD",96,{"$f":"VLOOKUP(P397,'Townwide Contributions'!$A$9:$B$361,2,0)","v":"Falmouth"},"FALMOUTH                     "]
[307,null,"307 Walpole",307,"Walpole",307,"0307",0,null,null,null,87903,3,879,"UPPER CAPE COD",169,{"$f":"VLOOKUP(P398,'Townwide Contributions'!$A$9:$B$361,2,0)","v":"Marion"},"MARION                       "]
[308,null,"308 Waltham",308,"Waltham",308,"0308",0,null,null,null,87904,4,879,"UPPER CAPE COD",261,{"$f":"VLOOKUP(P399,'Townwide Contributions'!$A$9:$B$361,2,0)","v":"Sandwich"},"SANDWICH                     "]
[309,null,"309 Ware",309,"Ware",309,"0309",0,null,null,null,87905,5,879,"UPPER CAPE COD",310,{"$f":"VLOOKUP(P400,'Townwide Contributions'!$A$9:$B$361,2,0)","v":"Wareham"},"WAREHAM                      "]
[310,null,"310 Wareham",310,"Wareham",310,"0310",0,null,null,null,88501,1,885,"WHITTIER",7,{"$f":"VLOOKUP(P401,'Townwide Contributions'!$A$9:$B$361,2,0)","v":"Amesbury"},"AMESBURY                     "]
[311,null,"311 Warren",311,"Warren",311,"0311",0,null,null,null,88502,2,885,"WHITTIER",105,{"$f":"VLOOKUP(P402,'Townwide Contributions'!$A$9:$B$361,2,0)","v":"Georgetown"},"GEORGETOWN                   "]
[312,null,"312 Warwick",312,"Warwick",312,"0312",0,null,null,null,88503,3,885,"WHITTIER",116,{"$f":"VLOOKUP(P403,'Townwide Contributions'!$A$9:$B$361,2,0)","v":"Groveland"},"GROVELAND                    "]
[313,null,"313 Washington",313,"Washington",313,"0313",0,null,null,null,88504,4,885,"WHITTIER",128,{"$f":"VLOOKUP(P404,'Townwide Contributions'!$A$9:$B$361,2,0)","v":"Haverhill"},"HAVERHILL                    "]
[314,null,{"$f":"PROPER(D405&\" \"&E405)","v":"314 Watertown"},314,"Watertown",314,"0314",0,null,null,null,88505,5,885,"WHITTIER",144,{"$f":"VLOOKUP(P405,'Townwide Contributions'!$A$9:$B$361,2,0)","v":"Ipswich"},"IPSWICH                      "]
[315,null,"315 Wayland",315,"Wayland",315,"0315",0,null,null,null,88506,6,885,"WHITTIER",180,{"$f":"VLOOKUP(P406,'Townwide Contributions'!$A$9:$B$361,2,0)","v":"Merrimac"},"MERRIMAC                     "]
[316,null,"316 Webster",316,"Webster",316,"0316",0,null,null,null,88507,7,885,"WHITTIER",203,{"$f":"VLOOKUP(P407,'Townwide Contributions'!$A$9:$B$361,2,0)","v":"Newbury"},"NEWBURY                      "]
[317,null,"317 Wellesley",317,"Wellesley",317,"0317",0,null,null,null,88508,8,885,"WHITTIER",204,{"$f":"VLOOKUP(P408,'Townwide Contributions'!$A$9:$B$361,2,0)","v":"Newburyport"},"NEWBURYPORT                  "]
[318,null,"318 Wellfleet",318,"Wellfleet",318,"0318",0,null,null,null,88509,9,885,"WHITTIER",254,{"$f":"VLOOKUP(P409,'Townwide Contributions'!$A$9:$B$361,2,0)","v":"Rowley"},"ROWLEY                       "]
[319,null,"319 Wendell",319,"Wendell",319,"0319",0,null,null,null,88510,10,885,"WHITTIER",259,{"$f":"VLOOKUP(P410,'Townwide Contributions'!$A$9:$B$361,2,0)","v":"Salisbury"},"SALISBURY                    "]
[320,null,"320 Wenham",320,"Wenham",320,"0320",0,null,null,null,88511,11,885,"WHITTIER",329,{"$f":"VLOOKUP(P411,'Townwide Contributions'!$A$9:$B$361,2,0)","v":"West Newbury"},"WEST NEWBURY                 "]
[322,null,"322 West Boylston",322,"West Boylston",322,"0322",0,null,null,null,91001,1,910,"BRISTOL COUNTY",3,{"$f":"VLOOKUP(P412,'Townwide Contributions'!$A$9:$B$361,2,0)","v":"Acushnet"},"ACUSHNET                     "]
[323,null,"323 West Bridgewater",323,"West Bridgewater",323,"0323",0,null,null,null,91002,2,910,"BRISTOL COUNTY",16,{"$f":"VLOOKUP(P413,'Townwide Contributions'!$A$9:$B$361,2,0)","v":"Attleboro"},"ATTLEBORO                    "]
[324,null,"324 West Brookfield",324,"West Brookfield",324,"0324",0,null,null,null,91003,3,910,"BRISTOL COUNTY",27,{"$f":"VLOOKUP(P414,'Townwide Contributions'!$A$9:$B$361,2,0)","v":"Berkley"},"BERKLEY                      "]
[329,null,"329 West Newbury",329,"West Newbury",329,"0329",0,null,null,null,91004,4,910,"BRISTOL COUNTY",72,{"$f":"VLOOKUP(P415,'Townwide Contributions'!$A$9:$B$361,2,0)","v":"Dartmouth"},"DARTMOUTH                    "]
[332,null,"332 West Springfield",332,"West Springfield",332,"0332",0,null,null,null,91005,5,910,"BRISTOL COUNTY",76,{"$f":"VLOOKUP(P416,'Townwide Contributions'!$A$9:$B$361,2,0)","v":"Dighton"},"DIGHTON                      "]
[333,null,"333 West Stockbridge",333,"West Stockbridge",333,"0333",0,null,null,null,91006,6,910,"BRISTOL COUNTY",88,{"$f":"VLOOKUP(P417,'Townwide Contributions'!$A$9:$B$361,2,0)","v":"Easton"},"EASTON                       "]
[334,null,"334 West Tisbury",334,"West Tisbury",334,"0334",0,null,null,null,91007,7,910,"BRISTOL COUNTY",94,{"$f":"VLOOKUP(P418,'Townwide Contributions'!$A$9:$B$361,2,0)","v":"Fairhaven"},"FAIRHAVEN                    "]
[321,null,"321 Westborough",321,"Westborough",321,"0321",0,null,null,null,91008,8,910,"BRISTOL COUNTY",95,{"$f":"VLOOKUP(P419,'Townwide Contributions'!$A$9:$B$361,2,0)","v":"Fall River"},"FALL RIVER                   "]
[325,null,"325 Westfield",325,"Westfield",325,"0325",0,null,null,null,91009,9,910,"BRISTOL COUNTY",102,{"$f":"VLOOKUP(P420,'Townwide Contributions'!$A$9:$B$361,2,0)","v":"Freetown"},"FREETOWN                     "]
[326,null,"326 Westford",326,"Westford",326,"0326",0,null,null,null,91010,10,910,"BRISTOL COUNTY",167,{"$f":"VLOOKUP(P421,'Townwide Contributions'!$A$9:$B$361,2,0)","v":"Mansfield"},"MANSFIELD                    "]
[327,null,"327 Westhampton",327,"Westhampton",327,"0327",0,null,null,null,91011,11,910,"BRISTOL COUNTY",201,{"$f":"VLOOKUP(P422,'Townwide Contributions'!$A$9:$B$361,2,0)","v":"New Bedford"},"NEW BEDFORD                  "]
[328,null,"328 Westminster",328,"Westminster",328,"0328",{"$f":"B423","v":0},null,null,null,91012,12,910,"BRISTOL COUNTY",212,{"$f":"VLOOKUP(P423,'Townwide Contributions'!$A$9:$B$361,2,0)","v":"North Attleborough"},"NORTH ATTLEBOROUGH           "]
[330,null,"330 Weston",330,"Weston",330,"0330",0,null,null,null,91013,13,910,"BRISTOL COUNTY",218,{"$f":"VLOOKUP(P424,'Townwide Contributions'!$A$9:$B$361,2,0)","v":"Norton"},"NORTON                       "]
[331,null,"331 Westport",331,"Westport",331,"0331",0,null,null,null,91014,14,910,"BRISTOL COUNTY",245,{"$f":"VLOOKUP(P425,'Townwide Contributions'!$A$9:$B$361,2,0)","v":"Raynham"},"RAYNHAM                      "]
[335,null,"335 Westwood",335,"Westwood",335,"0335",0,null,null,null,91015,15,910,"BRISTOL COUNTY",247,{"$f":"VLOOKUP(P426,'Townwide Contributions'!$A$9:$B$361,2,0)","v":"Rehoboth"},"REHOBOTH                     "]
[336,null,"336 Weymouth",336,"Weymouth",336,"0336",0,null,null,null,91016,16,910,"BRISTOL COUNTY",265,{"$f":"VLOOKUP(P427,'Townwide Contributions'!$A$9:$B$361,2,0)","v":"Seekonk"},"SEEKONK                      "]
[337,null,"337 Whately",337,"Whately",337,"0337",0,null,null,null,91017,17,910,"BRISTOL COUNTY",273,{"$f":"VLOOKUP(P428,'Townwide Contributions'!$A$9:$B$361,2,0)","v":"Somerset"},"SOMERSET                     "]
[338,null,"338 Whitman",338,"Whitman",338,"0338",0,null,null,null,91018,18,910,"BRISTOL COUNTY",292,{"$f":"VLOOKUP(P429,'Townwide Contributions'!$A$9:$B$361,2,0)","v":"Swansea"},"SWANSEA                      "]
[412,null,"780 Whitman Hanson",780,"Whitman Hanson",780,"0780",0,null,null,null,91019,19,910,"BRISTOL COUNTY",293,{"$f":"VLOOKUP(P430,'Townwide Contributions'!$A$9:$B$361,2,0)","v":"Taunton"},"TAUNTON                      "]
[438,null,"885 Whittier",885,"Whittier",885,"0885",0,null,null,null,91020,20,910,"BRISTOL COUNTY",331,{"$f":"VLOOKUP(P431,'Townwide Contributions'!$A$9:$B$361,2,0)","v":"Westport"},"WESTPORT                     "]
[339,null,"339 Wilbraham",339,"Wilbraham",339,"0339",0,null,null,null,91501,1,915,"NORFOLK COUNTY",18,{"$f":"VLOOKUP(P432,'Townwide Contributions'!$A$9:$B$361,2,0)","v":"Avon"},"AVON                         "]
[340,null,"340 Williamsburg",340,"Williamsburg",340,"0340",0,null,null,null,91502,2,915,"NORFOLK COUNTY",25,{"$f":"VLOOKUP(P433,'Townwide Contributions'!$A$9:$B$361,2,0)","v":"Bellingham"},"BELLINGHAM                   "]
[341,null,"341 Williamstown",341,"Williamstown",341,"0341",0,null,null,null,91503,3,915,"NORFOLK COUNTY",40,{"$f":"VLOOKUP(P434,'Townwide Contributions'!$A$9:$B$361,2,0)","v":"Braintree"},"BRAINTREE                    "]
[342,null,"342 Wilmington",342,"Wilmington",342,"0342",0,null,null,null,91504,4,915,"NORFOLK COUNTY",46,{"$f":"VLOOKUP(P435,'Townwide Contributions'!$A$9:$B$361,2,0)","v":"Brookline"},"BROOKLINE                    "]
[343,null,"343 Winchendon",343,"Winchendon",343,"0343",0,null,null,null,91505,5,915,"NORFOLK COUNTY",50,{"$f":"VLOOKUP(P436,'Townwide Contributions'!$A$9:$B$361,2,0)","v":"Canton"},"CANTON                       "]
[344,null,{"$f":"PROPER(D437&\" \"&E437)","v":"344 Winchester"},344,"Winchester",344,"0344",0,null,null,null,91506,6,915,"NORFOLK COUNTY",65,{"$f":"VLOOKUP(P437,'Townwide Contributions'!$A$9:$B$361,2,0)","v":"Cohasset"},"COHASSET                     "]
[345,null,"345 Windsor",345,"Windsor",345,"0345",0,null,null,null,91507,7,915,"NORFOLK COUNTY",73,{"$f":"VLOOKUP(P438,'Townwide Contributions'!$A$9:$B$361,2,0)","v":"Dedham"},"DEDHAM                       "]
[346,null,"346 Winthrop",346,"Winthrop",346,"0346",0,null,null,null,91508,8,915,"NORFOLK COUNTY",78,{"$f":"VLOOKUP(P439,'Townwide Contributions'!$A$9:$B$361,2,0)","v":"Dover"},"DOVER                        "]
[347,null,"347 Woburn",347,"Woburn",347,"0347",0,null,null,null,91509,9,915,"NORFOLK COUNTY",99,{"$f":"VLOOKUP(P440,'Townwide Contributions'!$A$9:$B$361,2,0)","v":"Foxborough"},"FOXBOROUGH                   "]
[348,null,"348 Worcester",348,"Worcester",348,"0348",0,null,null,null,91510,10,915,"NORFOLK COUNTY",101,{"$f":"VLOOKUP(P441,'Townwide Contributions'!$A$9:$B$361,2,0)","v":"Franklin"},"FRANKLIN                     "]
[349,null,"349 Worthington",349,"Worthington",349,"0349",0,null,null,null,91511,11,915,"NORFOLK COUNTY",133,{"$f":"VLOOKUP(P442,'Townwide Contributions'!$A$9:$B$361,2,0)","v":"Holbrook"},"HOLBROOK                     "]
[350,null,"350 Wrentham",350,"Wrentham",350,"0350",0,null,null,null,91512,12,915,"NORFOLK COUNTY",175,{"$f":"VLOOKUP(P443,'Townwide Contributions'!$A$9:$B$361,2,0)","v":"Medfield"},"MEDFIELD                     "]
[351,null,"351 Yarmouth",351,"Yarmouth",351,"0351",0,null,null,null,91513,13,915,"NORFOLK COUNTY",177,{"$f":"VLOOKUP(P444,'Townwide Contributions'!$A$9:$B$361,2,0)","v":"Medway"},"MEDWAY                       "]
[441,null,{"$f":"PROPER(D445&\" \"&E445)","v":"999 State Total"},999,"State Total",999,"0999",88,null,null,null,91514,14,915,"NORFOLK COUNTY",187,{"$f":"VLOOKUP(P445,'Townwide Contributions'!$A$9:$B$361,2,0)","v":"Millis"},"MILLIS                       "]
[null,null,null,null,null,null,null,null,null,null,null,91515,15,915,"NORFOLK COUNTY",189,{"$f":"VLOOKUP(P446,'Townwide Contributions'!$A$9:$B$361,2,0)","v":"Milton"},"MILTON                       "]
[null,null,null,null,null,null,null,null,null,null,null,91516,16,915,"NORFOLK COUNTY",199,{"$f":"VLOOKUP(P447,'Townwide Contributions'!$A$9:$B$361,2,0)","v":"Needham"},"NEEDHAM                      "]
[null,null,null,null,null,null,null,null,null,null,null,91517,17,915,"NORFOLK COUNTY",208,{"$f":"VLOOKUP(P448,'Townwide Contributions'!$A$9:$B$361,2,0)","v":"Norfolk"},"NORFOLK                      "]
[null,88,"Select a regional district",null,"Select a regional district",999,"0999",88,null,null,null,91518,18,915,"NORFOLK COUNTY",220,{"$f":"VLOOKUP(P449,'Townwide Contributions'!$A$9:$B$361,2,0)","v":"Norwood"},"NORWOOD                      "]
[null,1,{"$f":"PROPER(D450&\" \"&E450)","v":"600 Acton Boxborough"},600,"Acton Boxborough",{"$f":"D450","v":600},{"$f":"TEXT(D450,\"0000\")","v":"0600"},{"$f":"B450","v":1},null,null,null,91519,19,915,"NORFOLK COUNTY",238,{"$f":"VLOOKUP(P450,'Townwide Contributions'!$A$9:$B$361,2,0)","v":"Plainville"},"PLAINVILLE                   "]
[null,{"$f":"B450+1","v":2},"605 Amherst Pelham",605,"Amherst Pelham",{"$f":"D451","v":605},{"$f":"TEXT(D451,\"0000\")","v":"0605"},2,null,null,null,91520,20,915,"NORFOLK COUNTY",243,{"$f":"VLOOKUP(P451,'Townwide Contributions'!$A$9:$B$361,2,0)","v":"Quincy"},"QUINCY                       "]
[null,{"$f":"B451+1","v":3},"610 Ashburnham Westminster",610,"Ashburnham Westminster",610,"0610",3,null,null,null,91521,21,915,"NORFOLK COUNTY",244,{"$f":"VLOOKUP(P452,'Townwide Contributions'!$A$9:$B$361,2,0)","v":"Randolph"},"RANDOLPH                     "]
[null,4,"801 Assabet Valley",801,"Assabet Valley",801,"0801",4,null,null,null,91522,22,915,"NORFOLK COUNTY",266,{"$f":"VLOOKUP(P453,'Townwide Contributions'!$A$9:$B$361,2,0)","v":"Sharon"},"SHARON                       "]
[null,5,"615 Athol Royalston",615,"Athol Royalston",615,"0615",5,null,null,null,91523,23,915,"NORFOLK COUNTY",285,{"$f":"VLOOKUP(P454,'Townwide Contributions'!$A$9:$B$361,2,0)","v":"Stoughton"},"STOUGHTON                    "]
[null,6,"616 Ayer Shirley",616,"Ayer Shirley",616,"0616",6,null,null,null,91524,24,915,"NORFOLK COUNTY",307,{"$f":"VLOOKUP(P455,'Townwide Contributions'!$A$9:$B$361,2,0)","v":"Walpole"},"WALPOLE                      "]
[null,7,"618 Berkshire Hills",618,"Berkshire Hills",618,"0618",7,null,null,null,91525,25,915,"NORFOLK COUNTY",317,{"$f":"VLOOKUP(P456,'Townwide Contributions'!$A$9:$B$361,2,0)","v":"Wellesley"},"WELLESLEY                    "]
[null,8,"620 Berlin Boylston",620,"Berlin Boylston",620,"0620",8,null,null,null,91526,26,915,"NORFOLK COUNTY",335,{"$f":"VLOOKUP(P457,'Townwide Contributions'!$A$9:$B$361,2,0)","v":"Westwood"},"WESTWOOD                     "]
[null,9,"622 Blackstone Millville",622,"Blackstone Millville",622,"0622",9,null,null,null,91527,27,915,"NORFOLK COUNTY",336,{"$f":"VLOOKUP(P458,'Townwide Contributions'!$A$9:$B$361,2,0)","v":"Weymouth"},"WEYMOUTH                     "]
[null,10,"805 Blackstone Valley",805,"Blackstone Valley",805,"0805",10,null,null,null,91528,28,915,"NORFOLK COUNTY",350,{"$f":"VLOOKUP(P459,'Townwide Contributions'!$A$9:$B$361,2,0)","v":"Wrentham"},"WRENTHAM                     "]
[null,11,"806 Blue Hills",806,"Blue Hills",806,"0806",11,null,null,null,99901,1,999," "," "," "]
[null,12,"625 Bridgewater Raynham",625,"Bridgewater Raynham",625,"0625",12]
[null,13,"910 Bristol County",910,"Bristol County",910,"0910",13]
[null,14,"810 Bristol Plymouth",810,"Bristol Plymouth",810,"0810",14]
[null,15,"815 Cape Cod",815,"Cape Cod",815,"0815",15]
[null,16,"635 Central Berkshire",635,"Central Berkshire",635,"0635",16]
[null,17,"632 Chesterfield Goshen",632,"Chesterfield Goshen",632,"0632",17]
[null,18,"640 Concord Carlisle",640,"Concord Carlisle",640,"0640",18]
[null,19,"645 Dennis Yarmouth",645,"Dennis Yarmouth",645,"0645",19]
[null,20,"650 Dighton Rehoboth",650,"Dighton Rehoboth",650,"0650",20]
[null,21,"655 Dover Sherborn",655,"Dover Sherborn",655,"0655",21]
[null,22,"658 Dudley Charlton",658,"Dudley Charlton",658,"0658",22]
[null,23,"817 Essex North Shore",817,"Essex North Shore",817,"0817",23]
[null,24,"662 Farmington River",662,"Farmington River",662,"0662",24]
[null,25,"818 Franklin County",818,"Franklin County",818,"0818",25]
[null,26,"665 Freetown Lakeville",665,"Freetown Lakeville",665,"0665",26]
[null,27,"670 Frontier",670,"Frontier",670,"0670",27]
[null,28,"672 Gateway",672,"Gateway",672,"0672",28]
[null,29,"674 Gill Montague",674,"Gill Montague",674,"0674",29]
[null,30,"821 Greater Fall River",821,"Greater Fall River",821,"0821",30]
[null,31,"823 Greater Lawrence",823,"Greater Lawrence",823,"0823",31]
[null,32,"828 Greater Lowell",828,"Greater Lowell",828,"0828",32]
[null,33,{"$f":"PROPER(D482&\" \"&E482)","v":"825 Greater New Bedford"},825,"Greater New Bedford",825,"0825",33]
[null,34,"673 Groton Dunstable",673,"Groton Dunstable",673,"0673",34]
[null,35,"675 Hamilton Wenham",675,"Hamilton Wenham",675,"0675",35]
[null,36,"680 Hampden Wilbraham",680,"Hampden Wilbraham",680,"0680",36]
[null,37,"683 Hampshire",683,"Hampshire",683,"0683",37]
[null,38,"685 Hawlemont",685,"Hawlemont",685,"0685",38]
[null,39,"603 Hoosac Valley",603,"Hoosac Valley",603,"0603",39]
[null,40,"690 King Philip",690,"King Philip",690,"0690",40]
[null,41,"695 Lincoln Sudbury",695,"Lincoln Sudbury",695,"0695",41]
[null,42,"698 Manchester Essex",698,"Manchester Essex",698,"0698",42]
[null,43,"700 Marthas Vineyard",700,"Marthas Vineyard",700,"0700",43]
[null,44,"705 Masconomet",705,"Masconomet",705,"0705",44]
[null,45,"710 Mendon Upton",710,"Mendon Upton",710,"0710",45]
[null,46,"830 Minuteman",830,"Minuteman",830,"0830",46]
[null,47,"717 Mohawk Trail",717,"Mohawk Trail",717,"0717",47]
[null,48,"712 Monomoy",712,"Monomoy",712,"0712",48]
[null,49,"832 Montachusett",832,"Montachusett",832,"0832",49]
[null,50,"715 Mount Greylock",715,"Mount Greylock",715,"0715",50]
[null,51,"720 Narragansett",720,"Narragansett",720,"0720",51]
[null,52,"725 Nashoba",725,"Nashoba",725,"0725",52]
[null,53,"852 Nashoba Valley",852,"Nashoba Valley",852,"0852",53]
[null,54,"660 Nauset",660,"Nauset",660,"0660",54]
[null,55,"728 New Salem Wendell",728,"New Salem Wendell",728,"0728",55]
[null,56,"915 Norfolk County",915,"Norfolk County",915,"0915",56]
[null,57,"735 North Middlesex",735,"North Middlesex",735,"0735",57]
[null,58,"406 Northampton Smith",406,"Northampton Smith",406,"0406",58]
[null,59,"730 Northboro Southboro",730,"Northboro Southboro",730,"0730",59]
[null,60,"853 Northeast Metropolitan",853,"Northeast Metropolitan",853,"0853",60]
[null,61,"851 Northern Berkshire",851,"Northern Berkshire",851,"0851",61]
[null,62,"855 Old Colony",855,"Old Colony",855,"0855",62]
[null,63,"740 Old Rochester",740,"Old Rochester",740,"0740",63]
[null,64,"860 Pathfinder",860,"Pathfinder",860,"0860",64]
[null,65,{"$f":"PROPER(D514&\" \"&E514)","v":"745 Pentucket"},745,"Pentucket",745,"0745",{"$f":"B514","v":65}]
[null,66,"750 Pioneer",750,"Pioneer",{"$f":"D515","v":750},{"$f":"TEXT(D515,\"0000\")","v":"0750"},66]
[null,{"$f":"B515+1","v":67},"753 Quabbin",753,"Quabbin",753,"0753",67]
[null,68,"778 Quaboag",778,"Quaboag",778,"0778",68]
[null,69,"755 Ralph C Mahar",755,"Ralph C Mahar",755,"0755",69]
[null,70,"871 Shawsheen Valley",871,"Shawsheen Valley",871,"0871",70]
[null,71,"760 Silver Lake",760,"Silver Lake",760,"0760",71]
[null,72,"763 Somerset Berkley",763,"Somerset Berkley",763,"0763",72]
[null,73,"829 South Middlesex",829,"South Middlesex",829,"0829",73]
[null,74,"873 South Shore",873,"South Shore",873,"0873",74]
[null,75,"872 Southeastern",872,"Southeastern",872,"0872",75]
[null,76,"765 Southern Berkshire",765,"Southern Berkshire",765,"0765",76]
[null,77,"876 Southern Worcester",876,"Southern Worcester",876,"0876",77]
[null,78,"766 Southwick Tolland Granville",766,"Southwick Tolland Granville",766,"0766",78]
[null,79,"767 Spencer East Brookfield",767,"Spencer East Brookfield",767,"0767",79]
[null,80,{"$f":"PROPER(D529&\" \"&E529)","v":"770 Tantasqua"},770,"Tantasqua",770,"0770",80]
[null,81,"878 Tri County",878,"Tri County",878,"0878",81]
[null,82,"773 Triton",773,"Triton",773,"0773",82]
[null,83,"774 Upisland",774,"Upisland",774,"0774",83]
[null,84,"879 Upper Cape Cod",879,"Upper Cape Cod",879,"0879",84]
[null,85,"775 Wachusett",775,"Wachusett",775,"0775",85]
[null,86,"780 Whitman Hanson",780,"Whitman Hanson",780,"0780",86]
[null,87,"885 Whittier",885,"Whittier",885,"0885",87]
[null,null,"999 State Total",999,"State Total",999,"0999"]

{"sheet":"frac","index":18,"n_rows":462,"n_cols":21,"rows_kept":462,"cut":false,"hidden":true,"merged":[[0,6,0,10],[1,6,1,10],[4,13,4,19]]}
[]
[null,null,null,null,null,null,"2021-01-20"]
[]
["fraclea","regorder",null,null,"memlea",null,null,null,null,null,"memeffpct"]
[null,null,null,null,null,null,"distfrac22_prelim","distfrac22_prelim","distfrac22_prelim",null,null,null,null,"1/20/2021: distfrac22prelim_updated"]
[]
[null,null,null,null,null,null,null,"FY22","FY22","town ","weighted",null,null,null,null,null,null,null,"FY22","FY22","FY22"]
[null,"Record",null,null,null,null,"Foundation","Reg'l Total","Member","effort ","effort goal",null,null,null,"regl",null,"mem",null,"town ","district","current"]
["fraclea","Number","fraconcat","District","memlea","Town","Percentage","Enrollment","Enrollment","goal pct","percentage",null,null,"concat","lea","regional name","lea","member name","total","total","fraction"]
[406,1,{"$f":"A10*1000+E10","v":406210},"NORTHAMPTON SMITH            ",210,"NORTHAMPTON                  ",1,116,116,{"$f":"ROUND(VLOOKUP(E10,town351,12),2)","v":82.5},{"$f":"G10*J10","v":82.5},null,{"$f":"VALUE(N10)=C10","v":true},"406210",406,"NORTHAMPTON SMITH            ",210,"NORTHAMPTON                  ",116,116,1]
[600,2,600002,"ACTON BOXBOROUGH             ",2,"ACTON                        ",0.83732515807999996,5219,4370,80.22,{"$f":"G11*J11","v":67.170224181177602},null,{"$f":"VALUE(N11)=C11","v":true},"600002",600,"ACTON BOXBOROUGH             ","002","ACTON                        ",4370,5219,0.83732515807999996]
[600,3,600037,"ACTON BOXBOROUGH             ",37,"BOXBOROUGH                   ",0.16267484192000001,5219,849,82.5,13.420674458400001,null,true,"600037",600,"ACTON BOXBOROUGH             ","037","BOXBOROUGH                   ",849,5219,0.16267484192000001]
[603,4,603004,"HOOSAC VALLEY",4,"ADAMS                        ",0.73215785055000004,1191,872,33.020000000000003,24.175852225161005,null,true,"603004",603,"ADAMS CHESHIRE               ","004","ADAMS                        ",872,1191,0.73215785055000004]
[603,5,603058,"HOOSAC VALLEY",58,"CHESHIRE                     ",0.26784214945000001,1191,319,50.27,13.464424852851501,null,true,"603058",603,"ADAMS CHESHIRE               ","058","CHESHIRE                     ",319,1191,0.26784214945000001]
[605,6,605008,"AMHERST PELHAM               ",8,"AMHERST                      ",0.81113619263000003,1329,1078,77.3,62.700827690299,null,true,"605008",605,"AMHERST PELHAM               ","008","AMHERST                      ",1078,1329,0.81113619263000003]
[605,7,605154,"AMHERST PELHAM               ",154,"LEVERETT                     ",6.3205417609999995E-2,1329,84,82.5,5.2144469528249999,null,true,"605154",605,"AMHERST PELHAM               ",154,"LEVERETT                     ",84,1329,6.3205417609999995E-2]
[605,8,605230,"AMHERST PELHAM               ",230,"PELHAM                       ",4.589917231E-2,1329,61,82.5,3.7866817155749999,null,true,"605230",605,"AMHERST PELHAM               ",230,"PELHAM                       ",61,1329,4.589917231E-2]
[605,9,605272,"AMHERST PELHAM               ",272,"SHUTESBURY                   ",7.9759217460000004E-2,1329,106,60.95,4.8613243041870007,null,true,"605272",605,"AMHERST PELHAM               ",272,"SHUTESBURY                   ",106,1329,7.9759217460000004E-2]
[610,10,610011,"ASHBURNHAM WESTMINSTER       ",11,"ASHBURNHAM                   ",0.45929968167000002,2199,1010,47.44,21.789176898424799,null,true,"610011",610,"ASHBURNHAM WESTMINSTER       ","011","ASHBURNHAM                   ",1010,2199,0.45929968167000002]
[610,11,610328,"ASHBURNHAM WESTMINSTER       ",328,"WESTMINSTER                  ",0.54070031832999998,2199,1189,56.08,30.322473851946398,null,true,"610328",610,"ASHBURNHAM WESTMINSTER       ",328,"WESTMINSTER                  ",1189,2199,0.54070031832999998]
[615,12,615015,"ATHOL ROYALSTON              ",15,"ATHOL                        ",0.92890995260999998,1688,1568,29.62,27.5143127963082,null,true,"615015",615,"ATHOL ROYALSTON              ","015","ATHOL                        ",1568,1688,0.92890995260999998]
[615,13,615255,"ATHOL ROYALSTON              ",255,"ROYALSTON                    ",7.1090047389999994E-2,1688,120,54.31,3.8609004737508998,null,true,"615255",615,"ATHOL ROYALSTON              ",255,"ROYALSTON                    ",120,1688,7.1090047389999994E-2]
[616,14,616019,"AYER SHIRLEY",19,"AYER",0.56553398058000004,1648,932,74.709999999999994,42.251043689131798,null,true,"616019",616,"AYER SHIRLEY","019","AYER",932,1648,0.56553398058000004]
[616,15,616270,"AYER SHIRLEY",270,"SHIRLEY",0.43446601942000002,1648,716,61.4,26.676213592387999,null,true,"616270",616,"AYER SHIRLEY",270,"SHIRLEY",716,1648,0.43446601942000002]
[618,16,618113,"BERKSHIRE HILLS              ",113,"GREAT BARRINGTON             ",0.74337221632999995,943,701,82.5,61.328207847224995,null,true,"618113",618,"BERKSHIRE HILLS              ",113,"GREAT BARRINGTON             ",701,943,0.74337221632999995]
[618,17,618283,"BERKSHIRE HILLS              ",283,"STOCKBRIDGE                  ",0.12831389183,943,121,82.5,10.585896075975,null,true,"618283",618,"BERKSHIRE HILLS              ",283,"STOCKBRIDGE                  ",121,943,0.12831389183]
[618,18,618333,"BERKSHIRE HILLS              ",333,"WEST STOCKBRIDGE             ",0.12831389183,943,121,82.5,10.585896075975,null,true,"618333",618,"BERKSHIRE HILLS              ",333,"WEST STOCKBRIDGE             ",121,943,0.12831389183]
[620,19,620028,"BERLIN BOYLSTON              ",28,"BERLIN                       ",0.35605289929,983,350,82.5,29.374364191424998,null,true,"620028",620,"BERLIN BOYLSTON              ","028","BERLIN                       ",350,983,0.35605289929]
[620,20,620039,"BERLIN BOYLSTON              ",39,"BOYLSTON                     ",0.64394710071000005,983,633,82.5,53.125635808575005,null,true,"620039",620,"BERLIN BOYLSTON              ","039","BOYLSTON                     ",633,983,0.64394710071000005]
[622,21,622032,"BLACKSTONE MILLVILLE         ",32,"BLACKSTONE                   ",0.74911660777,1698,1272,48.78,36.541908127020598,null,true,"622032",622,"BLACKSTONE MILLVILLE         ","032","BLACKSTONE                   ",1272,1698,0.74911660777]
[622,22,622188,"BLACKSTONE MILLVILLE         ",188,"MILLVILLE                    ",0.25088339223,1698,426,46.94,11.7764664312762,null,true,"622188",622,"BLACKSTONE MILLVILLE         ",188,"MILLVILLE                    ",426,1698,0.25088339223]
[625,23,625042,"BRIDGEWATER RAYNHAM          ",42,"BRIDGEWATER                  ",0.60051029707000003,5487,3295,64.209999999999994,38.558766174864701,null,true,"625042",625,"BRIDGEWATER RAYNHAM          ","042","BRIDGEWATER                  ",3295,5487,0.60051029707000003]
[625,24,625245,"BRIDGEWATER RAYNHAM          ",245,"RAYNHAM                      ",0.39948970293000002,5487,2192,61.59,24.604570803458703,null,true,"625245",625,"BRIDGEWATER RAYNHAM          ",245,"RAYNHAM                      ",2192,5487,0.39948970293000002]
[632,25,632060,"CHESTERFIELD GOSHEN",60,"CHESTERFIELD                 ",0.44554455446000002,101,45,78.150000000000006,34.819306931049006,null,true,"632060",632,"CHESTERFIELD GOSHEN","060","CHESTERFIELD                 ",45,101,0.44554455446000002]
[632,26,632108,"CHESTERFIELD GOSHEN",108,"GOSHEN                       ",0.55445544554000004,101,56,64.97,36.022970296733803,null,true,"632108",632,"CHESTERFIELD GOSHEN",108,"GOSHEN                       ",56,101,0.55445544554000004]
[635,27,635022,"CENTRAL BERKSHIRE            ",22,"BECKET                       ",0.12825520833000001,1536,197,82.5,10.581054687225,null,true,"635022",635,"CENTRAL BERKSHIRE            ","022","BECKET                       ",197,1536,0.12825520833000001]
[635,28,635069,"CENTRAL BERKSHIRE            ",69,"CUMMINGTON                   ",3.6458333330000002E-2,1536,56,82.5,3.007812499725,null,true,"635069",635,"CENTRAL BERKSHIRE            ","069","CUMMINGTON                   ",56,1536,3.6458333330000002E-2]
[635,29,635070,"CENTRAL BERKSHIRE            ",70,"DALTON                       ",0.58072916666999996,1536,892,49.68,28.850625000165596,null,true,"635070",635,"CENTRAL BERKSHIRE            ","070","DALTON                       ",892,1536,0.58072916666999996]
[635,30,635132,"CENTRAL BERKSHIRE            ",132,"HINSDALE                     ",0.11979166667,1536,184,82.5,9.8828125002749996,null,true,"635132",635,"CENTRAL BERKSHIRE            ",132,"HINSDALE                     ",184,1536,0.11979166667]
[635,31,635233,"CENTRAL BERKSHIRE            ",233,"PERU                         ",5.7942708330000002E-2,1536,89,47.89,2.7748763019237002,null,true,"635233",635,"CENTRAL BERKSHIRE            ",233,"PERU                         ",89,1536,5.7942708330000002E-2]
[635,32,635313,"CENTRAL BERKSHIRE            ",313,"WASHINGTON                   ",3.8411458330000002E-2,1536,59,73.739999999999995,2.8324609372541998,null,true,"635313",635,"CENTRAL BERKSHIRE            ",313,"WASHINGTON                   ",59,1536,3.8411458330000002E-2]
[635,33,635345,"CENTRAL BERKSHIRE            ",345,"WINDSOR                      ",3.8411458330000002E-2,1536,59,82.5,3.168945312225,null,true,"635345",635,"CENTRAL BERKSHIRE            ",345,"WINDSOR                      ",59,1536,3.8411458330000002E-2]
[640,34,640051,"CONCORD CARLISLE             ",51,"CARLISLE                     ",0.22870662460999999,1268,290,82.5,18.868296530325001,null,true,"640051",640,"CONCORD CARLISLE             ","051","CARLISLE                     ",290,1268,0.22870662460999999]
[640,35,640067,"CONCORD CARLISLE             ",67,"CONCORD                      ",0.77129337538999998,1268,978,82.5,63.631703469674996,null,true,"640067",640,"CONCORD CARLISLE             ","067","CONCORD                      ",978,1268,0.77129337538999998]
[645,36,645075,"DENNIS YARMOUTH              ",75,"DENNIS                       ",0.30705919594999997,3159,970,82.5,25.332383665875,null,true,"645075",645,"DENNIS YARMOUTH              ","075","DENNIS                       ",970,3159,0.30705919594999997]
[645,37,645351,"DENNIS YARMOUTH              ",351,"YARMOUTH                     ",0.69294080405000003,3159,2189,82.5,57.167616334125,null,true,"645351",645,"DENNIS YARMOUTH              ",351,"YARMOUTH                     ",2189,3159,0.69294080405000003]
[650,38,650076,"DIGHTON REHOBOTH             ",76,"DIGHTON                      ",0.44,2675,1177,51.48,22.651199999999999,null,true,"650076",650,"DIGHTON REHOBOTH             ","076","DIGHTON                      ",1177,2675,0.44]
[650,39,650247,"DIGHTON REHOBOTH             ",247,"REHOBOTH                     ",0.56000000000000005,2675,1498,82.5,46.2,null,true,"650247",650,"DIGHTON REHOBOTH             ",247,"REHOBOTH                     ",1498,2675,0.56000000000000005]
[655,40,655078,"DOVER SHERBORN               ",78,"DOVER                        ",0.55897009967,1204,673,82.5,46.115033222774997,null,true,"655078",655,"DOVER SHERBORN               ","078","DOVER                        ",673,1204,0.55897009967]
[655,41,655269,"DOVER SHERBORN               ",269,"SHERBORN                     ",0.44102990033,1204,531,82.5,36.384966777225003,null,true,"655269",655,"DOVER SHERBORN               ",269,"SHERBORN                     ",531,1204,0.44102990033]
[658,42,658054,"DUDLEY CHARLTON              ",54,"CHARLTON                     ",0.52958756724,3346,1772,56.02,29.6674955167848,null,true,"658054",658,"DUDLEY CHARLTON              ","054","CHARLTON                     ",1772,3346,0.52958756724]
[658,43,658080,"DUDLEY CHARLTON              ",80,"DUDLEY                       ",0.47041243276,3346,1574,42.75,20.110131500489999,null,true,"658080",658,"DUDLEY CHARLTON              ","080","DUDLEY                       ",1574,3346,0.47041243276]
[660,44,660041,"NAUSET                       ",41,"BREWSTER                     ",0.48319327731,1190,575,82.5,39.863445378074999,null,true,"660041",660,"NAUSET                       ","041","BREWSTER                     ",575,1190,0.48319327731]
[660,45,660085,"NAUSET                       ",85,"EASTHAM                      ",0.19915966387,1190,237,82.5,16.430672269275,null,true,"660085",660,"NAUSET                       ","085","EASTHAM                      ",237,1190,0.19915966387]
[660,46,660224,"NAUSET                       ",224,"ORLEANS                      ",0.18991596639,1190,226,82.5,15.668067227174999,null,true,"660224",660,"NAUSET                       ",224,"ORLEANS                      ",226,1190,0.18991596639]
[660,47,660318,"NAUSET                       ",318,"WELLFLEET                    ",0.12773109244,1190,152,82.5,10.5378151263,null,true,"660318",660,"NAUSET                       ",318,"WELLFLEET                    ",152,1190,0.12773109244]
[662,48,662225,"FARMINGTON RIVER",225,"OTIS                         ",0.56018518519000005,216,121,82.5,46.215277778175,null,true,"662225",662,"FARMINGTON RIVER",225,"OTIS                         ",121,216,0.56018518519000005]
[662,49,662260,"FARMINGTON RIVER",260,"SANDISFIELD                  ",0.43981481481000001,216,95,82.5,36.284722221825,null,true,"662260",662,"FARMINGTON RIVER",260,"SANDISFIELD                  ",95,216,0.43981481481000001]
[665,50,665102,"FREETOWN LAKEVILLE           ",102,"FREETOWN                     ",0.43575624081999997,2724,1187,71.42,31.121710719364398,null,true,"665102",665,"FREETOWN LAKEVILLE           ",102,"FREETOWN                     ",1187,2724,0.43575624081999997]
[665,51,665146,"FREETOWN LAKEVILLE           ",146,"LAKEVILLE                    ",0.56424375918000003,2724,1537,70.34,39.688906020721205,null,true,"665146",665,"FREETOWN LAKEVILLE           ",146,"LAKEVILLE                    ",1537,2724,0.56424375918000003]
[670,52,670068,"FRONTIER                     ",68,"CONWAY                       ",0.18392857142999999,560,103,82.5,15.174107142975,null,true,"670068",670,"FRONTIER                     ","068","CONWAY                       ",103,560,0.18392857142999999]
[670,53,670074,"FRONTIER                     ",74,"DEERFIELD                    ",0.47678571429,560,267,82.5,39.334821428924997,null,true,"670074",670,"FRONTIER                     ","074","DEERFIELD                    ",267,560,0.47678571429]
[670,54,670289,"FRONTIER                     ",289,"SUNDERLAND                   ",0.23214285713999999,560,130,82.5,19.15178571405,null,true,"670289",670,"FRONTIER                     ",289,"SUNDERLAND                   ",130,560,0.23214285713999999]
[670,55,670337,"FRONTIER                     ",337,"WHATELY                      ",0.10714285714000001,560,60,81.19,8.6989285711965998,null,true,"670337",670,"FRONTIER                     ",337,"WHATELY                      ",60,560,0.10714285714000001]
[672,56,672033,"GATEWAY                      ",33,"BLANDFORD                    ",0.12232030265,793,97,82.5,10.091424968625001,null,true,"672033",672,"GATEWAY                      ","033","BLANDFORD                    ",97,793,0.12232030265]
[672,57,672059,"GATEWAY                      ",59,"CHESTER                      ",0.18158890289999999,793,144,47.74,8.6690542244460005,null,true,"672059",672,"GATEWAY                      ","059","CHESTER                      ",144,793,0.18158890289999999]
[672,58,672143,"GATEWAY                      ",143,"HUNTINGTON                   ",0.33039092055000002,793,262,45.92,15.171551071656001,null,true,"672143",672,"GATEWAY                      ",143,"HUNTINGTON                   ",262,793,0.33039092055000002]
[672,59,672183,"GATEWAY                      ",183,"MIDDLEFIELD                  ",3.2786885250000002E-2,793,26,82.5,2.7049180331250002,null,true,"672183",672,"GATEWAY                      ",183,"MIDDLEFIELD                  ",26,793,3.2786885250000002E-2]
[672,60,672194,"GATEWAY                      ",194,"MONTGOMERY                   ",8.701134931E-2,793,69,82.5,7.1784363180749997,null,true,"672194",672,"GATEWAY                      ",194,"MONTGOMERY                   ",69,793,8.701134931E-2]
[672,61,672256,"GATEWAY                      ",256,"RUSSELL                      ",0.24590163934000001,793,195,43.37,10.6647540981758,null,true,"672256",672,"GATEWAY                      ",256,"RUSSELL                      ",195,793,0.24590163934000001]
[673,62,673081,"GROTON DUNSTABLE             ",81,"DUNSTABLE                    ",0.23056994819000001,2316,534,82.5,19.022020725675002,null,true,"673081",673,"GROTON DUNSTABLE             ","081","DUNSTABLE                    ",534,2316,0.23056994819000001]
[673,63,673115,"GROTON DUNSTABLE             ",115,"GROTON                       ",0.76943005181000002,2316,1782,82.5,63.477979274325001,null,true,"673115",673,"GROTON DUNSTABLE             ",115,"GROTON                       ",1782,2316,0.76943005181000002]
[674,64,{"$f":"A73*1000+E73","v":674106},"GILL MONTAGUE                ",106,"GILL                         ",0.11359026369,986,112,67.84,7.7059634887296005,null,true,"674106",674,"GILL MONTAGUE                ",106,"GILL                         ",112,986,0.11359026369]
[674,65,674192,"GILL MONTAGUE                ",192,"MONTAGUE                     ",0.88640973630999997,986,874,{"$f":"ROUND(VLOOKUP(E74,town351,12),2)","v":47.38},41.998093306367799,null,true,"674192",674,"GILL MONTAGUE                ",192,"MONTAGUE                     ",874,986,0.88640973630999997]
[675,66,675119,"HAMILTON WENHAM              ",119,"HAMILTON                     ",0.65676167374000005,1649,1083,82.5,{"$f":"G75*J75","v":54.182838083550003},null,{"$f":"VALUE(N75)=C75","v":true},"675119",675,"HAMILTON WENHAM              ",119,"HAMILTON                     ",1083,1649,0.65676167374000005]
[675,67,675320,"HAMILTON WENHAM              ",320,"WENHAM                       ",0.34323832626,1649,566,82.5,28.317161916450001,null,true,"675320",675,"HAMILTON WENHAM              ",320,"WENHAM                       ",566,1649,0.34323832626]
[680,68,680120,"HAMPDEN WILBRAHAM            ",120,"HAMPDEN                      ",0.20564373897999999,2835,583,79.88,16.426821869722399,null,true,"680120",680,"HAMPDEN WILBRAHAM            ",120,"HAMPDEN                      ",583,2835,0.20564373897999999]
[680,69,680339,"HAMPDEN WILBRAHAM            ",339,"WILBRAHAM                    ",0.79435626102000001,2835,2252,66.510000000000005,52.832634920440206,null,true,"680339",680,"HAMPDEN WILBRAHAM            ",339,"WILBRAHAM                    ",2252,2835,0.79435626102000001]
[683,70,683060,"HAMPSHIRE                    ",60,"CHESTERFIELD                 ",5.8084772370000003E-2,637,37,78.150000000000006,4.5393249607155006,null,true,"683060",683,"HAMPSHIRE                    ","060","CHESTERFIELD                 ",37,637,5.8084772370000003E-2]
[683,71,683108,"HAMPSHIRE                    ",108,"GOSHEN                       ",5.9654631079999999E-2,637,38,64.97,3.8757613812675999,null,true,"683108",683,"HAMPSHIRE                    ",108,"GOSHEN                       ",38,637,5.9654631079999999E-2]
[683,72,683275,"HAMPSHIRE                    ",275,"SOUTHAMPTON                  ",0.56514913657999999,637,360,69.489999999999995,39.272213500944197,null,true,"683275",683,"HAMPSHIRE                    ",275,"SOUTHAMPTON                  ",360,637,0.56514913657999999]
[683,73,683327,"HAMPSHIRE                    ",327,"WESTHAMPTON                  ",0.13814756672,637,88,82.5,11.397174254399999,null,true,"683327",683,"HAMPSHIRE                    ",327,"WESTHAMPTON                  ",88,637,0.13814756672]
[683,74,683340,"HAMPSHIRE                    ",340,"WILLIAMSBURG                 ",0.17896389325000001,637,114,63.27,11.323045525927501,null,true,"683340",683,"HAMPSHIRE                    ",340,"WILLIAMSBURG                 ",114,637,0.17896389325000001]
[685,75,685053,"HAWLEMONT                    ",53,"CHARLEMONT                   ",0.84523809524000004,84,71,52.18,44.104523809623203,null,true,"685053",685,"HAWLEMONT                    ","053","CHARLEMONT                   ",71,84,0.84523809524000004]
[685,76,685129,"HAWLEMONT                    ",129,"HAWLEY                       ",0.15476190476000001,84,13,80.66,12.483095237941601,null,true,"685129",685,"HAWLEMONT                    ",129,"HAWLEY                       ",13,84,0.15476190476000001]
[690,77,690208,"KING PHILIP                  ",208,"NORFOLK                      ",0.33217993080000002,2023,672,82.5,27.404844291000003,null,true,"690208",690,"KING PHILIP                  ",208,"NORFOLK                      ",672,2023,0.33217993080000002]
[690,78,690238,"KING PHILIP                  ",238,"PLAINVILLE                   ",0.26693030153000002,2023,540,76.11,20.3160652494483,null,true,"690238",690,"KING PHILIP                  ",238,"PLAINVILLE                   ",540,2023,0.26693030153000002]
[690,79,690350,"KING PHILIP                  ",350,"WRENTHAM                     ",0.40088976767000001,2023,811,82.5,33.073405832775002,null,true,"690350",690,"KING PHILIP                  ",350,"WRENTHAM                     ",811,2023,0.40088976767000001]
[695,80,695157,"LINCOLN SUDBURY              ",157,"LINCOLN                      ",0.12704918033000001,1464,186,82.5,10.481557377225,null,true,"695157",695,"LINCOLN SUDBURY              ",157,"LINCOLN                      ",186,1464,0.12704918033000001]
[695,81,695288,"LINCOLN SUDBURY              ",288,"SUDBURY                      ",0.87295081966999999,1464,1278,82.5,72.018442622774998,null,true,"695288",695,"LINCOLN SUDBURY              ",288,"SUDBURY                      ",1278,1464,0.87295081966999999]
[698,82,698092,"MANCHESTER ESSEX",92,"ESSEX",0.39555202542000001,1259,498,82.5,32.633042097150003,null,true,"698092",698,"MANCHESTER ESSEX","092","ESSEX",498,1259,0.39555202542000001]
[698,83,698166,"MANCHESTER ESSEX",166,"MANCHESTER",0.60444797457999999,1259,761,82.5,49.866957902849997,null,true,"698166",698,"MANCHESTER ESSEX",166,"MANCHESTER",761,1259,0.60444797457999999]
[700,84,700062,"MARTHAS VINEYARD             ",62,"CHILMARK                     ",5.4274084120000003E-2,737,40,82.5,4.4776119399000001,null,true,"700062",700,"MARTHAS VINEYARD             ","062","CHILMARK                     ",40,737,5.4274084120000003E-2]
[700,85,700089,"MARTHAS VINEYARD             ",89,"EDGARTOWN                    ",0.26594301221,737,196,82.5,21.940298507325,null,true,"700089",700,"MARTHAS VINEYARD             ","089","EDGARTOWN                    ",196,737,0.26594301221]
[700,86,700104,"MARTHAS VINEYARD             ",104,"GAY HEAD                     ",2.4423337860000002E-2,737,18,82.5,2.0149253734500001,null,true,"700104",700,"MARTHAS VINEYARD             ",104,"GAY HEAD                     ",18,737,2.4423337860000002E-2]
[700,87,700221,"MARTHAS VINEYARD             ",221,"OAK BLUFFS                   ",0.28086838535000003,737,207,82.5,23.171641791375002,null,true,"700221",700,"MARTHAS VINEYARD             ",221,"OAK BLUFFS                   ",207,737,0.28086838535000003]
[700,88,700296,"MARTHAS VINEYARD             ",296,"TISBURY                      ",0.25237449117999999,737,186,82.5,20.82089552235,null,true,"700296",700,"MARTHAS VINEYARD             ",296,"TISBURY                      ",186,737,0.25237449117999999]
[700,89,700334,"MARTHAS VINEYARD             ",334,"WEST TISBURY                 ",0.12211668928,737,90,82.5,10.074626865599999,null,true,"700334",700,"MARTHAS VINEYARD             ",334,"WEST TISBURY                 ",90,737,0.12211668928]
[705,90,705038,"MASCONOMET                   ",38,"BOXFORD                      ",0.36358381502999998,1730,629,82.5,29.995664739974998,null,true,"705038",705,"MASCONOMET                   ","038","BOXFORD                      ",629,1730,0.36358381502999998]
[705,91,705184,"MASCONOMET                   ",184,"MIDDLETON                    ",0.35375722542999999,1730,612,82.5,29.184971097974998,null,true,"705184",705,"MASCONOMET                   ",184,"MIDDLETON                    ",612,1730,0.35375722542999999]
[705,92,705298,"MASCONOMET                   ",298,"TOPSFIELD                    ",0.28265895953999998,1730,489,82.5,23.319364162049997,null,true,"705298",705,"MASCONOMET                   ",298,"TOPSFIELD                    ",489,1730,0.28265895953999998]
[710,93,710179,"MENDON UPTON                 ",179,"MENDON                       ",0.44496707431999999,2126,946,76.28,33.942088429129598,null,true,"710179",710,"MENDON UPTON                 ",179,"MENDON                       ",946,2126,0.44496707431999999]
[710,94,710303,"MENDON UPTON                 ",303,"UPTON                        ",0.55503292567999996,2126,1180,75.83,42.088146754314394,null,true,"710303",710,"MENDON UPTON                 ",303,"UPTON                        ",1180,2126,0.55503292567999996]
[712,95,712055,"MONOMOY",55,"CHATHAM                      ",0.22547332185999999,1743,393,82.5,18.60154905345,null,true,"712055",712,"MONOMOY","055","CHATHAM                      ",393,1743,0.22547332185999999]
[712,96,712126,"MONOMOY",126,"HARWICH                      ",0.77452667813999998,1743,1350,82.5,63.89845094655,null,true,"712126",712,"MONOMOY",126,"HARWICH                      ",1350,1743,0.77452667813999998]
[715,97,715148,"MOUNT GREYLOCK               ",148,"LANESBOROUGH                 ",0.36168132941999998,1023,370,56.82,20.5507331376444,null,true,"715148",715,"MOUNT GREYLOCK               ",148,"LANESBOROUGH                 ",370,1023,0.36168132941999998]
[715,98,715341,"MOUNT GREYLOCK               ",341,"WILLIAMSTOWN                 ",0.63831867058000002,1023,653,82.5,52.66129032285,null,true,"715341",715,"MOUNT GREYLOCK               ",341,"WILLIAMSTOWN                 ",653,1023,0.63831867058000002]
[717,99,717013,"MOHAWK TRAIL                 ",13,"ASHFIELD                     ",0.16765755054000001,841,141,82.5,13.831747919550001,null,true,"717013",717,"MOHAWK TRAIL                 ","013","ASHFIELD                     ",141,841,0.16765755054000001]
[717,100,717047,"MOHAWK TRAIL                 ",47,"BUCKLAND                     ",0.21521997622,841,181,61.83,13.3070511296826,null,true,"717047",717,"MOHAWK TRAIL                 ","047","BUCKLAND                     ",181,841,0.21521997622]
[717,101,717053,"MOHAWK TRAIL                 ",53,"CHARLEMONT                   ",6.6587395960000004E-2,841,56,52.18,3.4745303211928,null,true,"717053",717,"MOHAWK TRAIL                 ","053","CHARLEMONT                   ",56,841,6.6587395960000004E-2]
[717,102,717066,"MOHAWK TRAIL                 ",66,"COLRAIN                      ",0.17598097502999999,841,148,65.3,11.491557669458999,null,true,"717066",717,"MOHAWK TRAIL                 ","066","COLRAIN                      ",148,841,0.17598097502999999]
[717,103,717129,"MOHAWK TRAIL                 ",129,"HAWLEY                       ",1.3079667059999999E-2,841,11,80.66,1.0550059450595999,null,true,"717129",717,"MOHAWK TRAIL                 ",129,"HAWLEY                       ",11,841,1.3079667059999999E-2]
[717,104,717130,"MOHAWK TRAIL                 ",130,"HEATH                        ",9.9881093939999999E-2,841,84,42.32,4.2269678955407999,null,true,"717130",717,"MOHAWK TRAIL                 ",130,"HEATH                        ",84,841,9.9881093939999999E-2]
[717,105,717237,"MOHAWK TRAIL                 ",237,"PLAINFIELD                   ",6.7776456600000007E-2,841,57,79.48,5.3868727705680008,null,true,"717237",717,"MOHAWK TRAIL                 ",237,"PLAINFIELD                   ",57,841,6.7776456600000007E-2]
[717,106,717268,"MOHAWK TRAIL                 ",268,"SHELBURNE                    ",0.19381688465999999,841,163,74.94,14.524637336420399,null,true,"717268",717,"MOHAWK TRAIL                 ",268,"SHELBURNE                    ",163,841,0.19381688465999999]
[720,107,720235,"NARRAGANSETT                 ",235,"PHILLIPSTON                  ",0.14239742557999999,1243,177,62.47,8.8955671759825989,null,true,"720235",720,"NARRAGANSETT                 ",235,"PHILLIPSTON                  ",177,1243,0.14239742557999999]
[720,108,720294,"NARRAGANSETT                 ",294,"TEMPLETON                    ",0.85760257441999999,1243,1066,39.71,34.055398230218202,null,true,"720294",720,"NARRAGANSETT                 ",294,"TEMPLETON                    ",1066,1243,0.85760257441999999]
[725,109,725034,"NASHOBA                      ",34,"BOLTON                       ",0.33597213426,3158,1061,82.5,27.717701076449998,null,true,"725034",725,"NASHOBA                      ","034","BOLTON                       ",1061,3158,0.33597213426]
[725,110,725147,"NASHOBA                      ",147,"LANCASTER                    ",0.30873970868,3158,975,72.569999999999993,22.405240658907598,null,true,"725147",725,"NASHOBA                      ",147,"LANCASTER                    ",975,3158,0.30873970868]
[725,111,725286,"NASHOBA                      ",286,"STOW                         ",0.35528815706,3158,1122,82.5,29.311272957450001,null,true,"725286",725,"NASHOBA                      ",286,"STOW                         ",1122,3158,0.35528815706]
[728,112,728206,"NEW SALEM WENDELL            ",206,"NEW SALEM                    ",0.37272727273,110,41,61.09,22.7699090910757,null,true,"728206",728,"NEW SALEM WENDELL            ",206,"NEW SALEM                    ",41,110,0.37272727273]
[728,113,728319,"NEW SALEM WENDELL            ",319,"WENDELL                      ",0.62727272727000005,110,69,38.49,24.143727272622304,null,true,"728319",728,"NEW SALEM WENDELL            ",319,"WENDELL                      ",69,110,0.62727272727000005]
[730,114,730213,"NORTHBORO SOUTHBORO          ",213,"NORTHBOROUGH                 ",0.63405797101000005,1380,875,82.5,52.309782608325001,null,true,"730213",730,"NORTHBORO SOUTHBORO          ",213,"NORTHBOROUGH                 ",875,1380,0.63405797101000005]
[730,115,730276,"NORTHBORO SOUTHBORO          ",276,"SOUTHBOROUGH                 ",0.36594202899,1380,505,82.5,30.190217391674999,null,true,"730276",730,"NORTHBORO SOUTHBORO          ",276,"SOUTHBOROUGH                 ",505,1380,0.36594202899]
[735,116,735012,"NORTH MIDDLESEX              ",12,"ASHBY                        ",0.11668882979,3008,351,59.65,6.9604886969735,null,true,"735012",735,"NORTH MIDDLESEX              ","012","ASHBY                        ",351,3008,0.11668882979]
[735,117,735232,"NORTH MIDDLESEX              ",232,"PEPPERELL                    ",0.4763962766,3008,1433,65.02,30.975285904531997,null,true,"735232",735,"NORTH MIDDLESEX              ",232,"PEPPERELL                    ",1433,3008,0.4763962766]
[735,118,735299,"NORTH MIDDLESEX              ",299,"TOWNSEND                     ",0.40691489362,3008,1224,54.03,21.985611702288601,null,true,"735299",735,"NORTH MIDDLESEX              ",299,"TOWNSEND                     ",1224,3008,0.40691489362]
[740,119,740169,"OLD ROCHESTER                ",169,"MARION                       ",0.30285714285999998,1050,318,82.5,24.985714285949999,null,true,"740169",740,"OLD ROCHESTER                ",169,"MARION                       ",318,1050,0.30285714285999998]
[740,120,740173,"OLD ROCHESTER                ",173,"MATTAPOISETT                 ",0.36666666666999997,1050,385,82.5,30.250000000274998,null,true,"740173",740,"OLD ROCHESTER                ",173,"MATTAPOISETT                 ",385,1050,0.36666666666999997]
[740,121,740250,"OLD ROCHESTER                ",250,"ROCHESTER                    ",0.33047619047999999,1050,347,68,22.472380952639998,null,true,"740250",740,"OLD ROCHESTER                ",250,"ROCHESTER                    ",347,1050,0.33047619047999999]
[745,122,745116,"PENTUCKET                    ",116,"GROVELAND                    ",0.38701298700999998,2310,894,75.64,29.273662337436399,null,true,"745116",745,"PENTUCKET                    ",116,"GROVELAND                    ",894,2310,0.38701298700999998]
[745,123,745180,"PENTUCKET                    ",180,"MERRIMAC                     ",0.35367965367999998,2310,817,73.349999999999994,25.942402597427996,null,true,"745180",745,"PENTUCKET                    ",180,"MERRIMAC                     ",817,2310,0.35367965367999998]
[745,124,745329,"PENTUCKET                    ",329,"WEST NEWBURY                 ",0.25930735930999999,2310,599,82.5,21.392857143074998,null,true,"745329",745,"PENTUCKET                    ",329,"WEST NEWBURY                 ",599,2310,0.25930735930999999]
[750,125,750029,"PIONEER                      ",29,"BERNARDSTON                  ",0.37459807074000001,622,233,52.5,19.66639871385,null,true,"750029",750,"PIONEER                      ","029","BERNARDSTON                  ",233,622,0.37459807074000001]
[750,126,750156,"PIONEER                      ",156,"LEYDEN                       ",8.1993569129999999E-2,622,51,82.5,6.7644694532249998,null,true,"750156",750,"PIONEER                      ",156,"LEYDEN                       ",51,622,8.1993569129999999E-2]
[750,127,750216,"PIONEER                      ",216,"NORTHFIELD                   ",0.45980707394999998,622,286,78.959999999999994,36.306366559091998,null,true,"750216",750,"PIONEER                      ",216,"NORTHFIELD                   ",286,622,0.45980707394999998]
[750,128,{"$f":"A137*1000+E137","v":750312},"PIONEER                      ",312,"WARWICK                      ",8.3601286169999997E-2,622,52,75.06,6.2751125399202001,null,true,"750312",750,"PIONEER                      ",312,"WARWICK                      ",52,622,8.3601286169999997E-2]
[753,129,753021,"QUABBIN                      ",21,"BARRE                        ",0.37570766854999998,1943,730,{"$f":"ROUND(VLOOKUP(E138,town351,12),2)","v":40.880000000000003},15.358929490324,null,true,"753021",753,"QUABBIN                      ","021","BARRE                        ",730,1943,0.37570766854999998]
[753,130,753124,"QUABBIN                      ",124,"HARDWICK                     ",0.18064848173,1943,351,39.65,{"$f":"G139*J139","v":7.1627123005944995},null,{"$f":"VALUE(N139)=C139","v":true},"753124",753,"QUABBIN                      ",124,"HARDWICK                     ",351,1943,0.18064848173]
[753,131,753140,"QUABBIN                      ",140,"HUBBARDSTON                  ",0.25476067936000002,1943,495,63.81,16.256278949961601,null,true,"753140",753,"QUABBIN                      ",140,"HUBBARDSTON                  ",495,1943,0.25476067936000002]
[753,132,753202,"QUABBIN                      ",202,"NEW BRAINTREE                ",6.1245496650000002E-2,1943,119,64.09,3.9252238802985002,null,true,"753202",753,"QUABBIN                      ",202,"NEW BRAINTREE                ",119,1943,6.1245496650000002E-2]
[753,133,753222,"QUABBIN                      ",222,"OAKHAM                       ",0.12763767370000001,1943,248,56.1,7.1604734945700006,null,true,"753222",753,"QUABBIN                      ",222,"OAKHAM                       ",248,1943,0.12763767370000001]
[755,134,755206,"RALPH C MAHAR                ",206,"NEW SALEM                    ",7.5533661739999994E-2,609,46,61.09,4.6143513956966,null,true,"755206",755,"RALPH C MAHAR                ",206,"NEW SALEM                    ",46,609,7.5533661739999994E-2]
[755,135,755223,"RALPH C MAHAR                ",223,"ORANGE                       ",0.76354679803000003,609,465,30.45,23.2500000000135,null,true,"755223",755,"RALPH C MAHAR                ",223,"ORANGE                       ",465,609,0.76354679803000003]
[755,136,755234,"RALPH C MAHAR                ",234,"PETERSHAM                    ",9.3596059110000004E-2,609,57,68.34,6.3963546795774002,null,true,"755234",755,"RALPH C MAHAR                ",234,"PETERSHAM                    ",57,609,9.3596059110000004E-2]
[755,137,755319,"RALPH C MAHAR                ",319,"WENDELL                      ",6.7323481120000001E-2,609,41,38.49,2.5912807883088003,null,true,"755319",755,"RALPH C MAHAR                ",319,"WENDELL                      ",41,609,6.7323481120000001E-2]
[760,138,760118,"SILVER LAKE                  ",118,"HALIFAX                      ",0.30287356321999997,1740,527,55.54,16.821597701238797,null,true,"760118",760,"SILVER LAKE                  ",118,"HALIFAX                      ",527,1740,0.30287356321999997]
[760,139,760145,"SILVER LAKE                  ",145,"KINGSTON                     ",0.57931034482999999,1740,1008,66.7,38.640000000161002,null,true,"760145",760,"SILVER LAKE                  ",145,"KINGSTON                     ",1008,1740,0.57931034482999999]
[760,140,760240,"SILVER LAKE                  ",240,"PLYMPTON                     ",0.11781609194999999,1740,205,75.16,8.8550574709619987,null,true,"760240",760,"SILVER LAKE                  ",240,"PLYMPTON                     ",205,1740,0.11781609194999999]
[763,141,763027,"SOMERSET BERKLEY",27,"BERKLEY                      ",0.26810176125000001,1022,274,53.35,14.303228962687502,null,true,"763027",763,"SOMERSET BERKLEY","027","BERKLEY                      ",274,1022,0.26810176125000001]
[763,142,763273,"SOMERSET BERKLEY",273,"SOMERSET                     ",0.73189823875000004,1022,748,54.18,39.654246575475,null,true,"763273",763,"SOMERSET BERKLEY",273,"SOMERSET                     ",748,1022,0.73189823875000004]
[765,143,765006,"SOUTHERN BERKSHIRE           ",6,"ALFORD                       ",3.052325581E-2,688,21,82.5,2.518168604325,null,true,"765006",765,"SOUTHERN BERKSHIRE           ","006","ALFORD                       ",21,688,3.052325581E-2]
[765,144,765090,"SOUTHERN BERKSHIRE           ",90,"EGREMONT                     ",0.12354651162999999,688,85,82.5,10.192587209474999,null,true,"765090",765,"SOUTHERN BERKSHIRE           ","090","EGREMONT                     ",85,688,0.12354651162999999]
[765,145,765193,"SOUTHERN BERKSHIRE           ",193,"MONTEREY                     ",0.11627906976999999,688,80,82.5,9.5930232560249991,null,true,"765193",765,"SOUTHERN BERKSHIRE           ",193,"MONTEREY                     ",80,688,0.11627906976999999]
[765,146,765205,"SOUTHERN BERKSHIRE           ",205,"NEW MARLBOROUGH              ",0.18313953488000001,688,126,82.5,15.109011627600001,null,true,"765205",765,"SOUTHERN BERKSHIRE           ",205,"NEW MARLBOROUGH              ",126,688,0.18313953488000001]
[765,147,765267,"SOUTHERN BERKSHIRE           ",267,"SHEFFIELD                    ",0.54651162790999996,688,376,82.5,45.087209302574998,null,true,"765267",765,"SOUTHERN BERKSHIRE           ",267,"SHEFFIELD                    ",376,688,0.54651162790999996]
[766,148,766112,"SOUTHWICK TOLLAND",112,"GRANVILLE",0.12671755725,1310,166,72.790000000000006,9.2237709922275002,null,true,"766112",766,"SOUTHWICK TOLLAND",112,"GRANVILLE",166,1310,0.12671755725]
[766,149,766279,"SOUTHWICK TOLLAND",279,"SOUTHWICK                    ",0.84351145037999997,1310,1105,68.2,57.527480915916001,null,true,"766279",766,"SOUTHWICK TOLLAND",279,"SOUTHWICK                    ",1105,1310,0.84351145037999997]
[766,150,766297,"SOUTHWICK TOLLAND",297,"TOLLAND                      ",2.9770992369999999E-2,1310,39,82.5,2.4561068705249998,null,true,"766297",766,"SOUTHWICK TOLLAND",297,"TOLLAND                      ",39,1310,2.9770992369999999E-2]
[767,151,767084,"SPENCER EAST BROOKFIELD      ",84,"EAST BROOKFIELD              ",0.18648473033999999,1539,287,51.08,9.5256400257671991,null,true,"767084",767,"SPENCER EAST BROOKFIELD      ","084","EAST BROOKFIELD              ",287,1539,0.18648473033999999]
[767,152,767280,"SPENCER EAST BROOKFIELD      ",280,"SPENCER                      ",0.81351526965999998,1539,1252,49.65,40.391033138619001,null,true,"767280",767,"SPENCER EAST BROOKFIELD      ",280,"SPENCER                      ",1252,1539,0.81351526965999998]
[770,153,770043,"TANTASQUA                    ",43,"BRIMFIELD                    ",0.15171078115,1549,235,59.58,9.0389283409169998,null,true,"770043",770,"TANTASQUA                    ","043","BRIMFIELD                    ",235,1549,0.15171078115]
[770,154,770045,"TANTASQUA                    ",45,"BROOKFIELD                   ",0.15041962555999999,1549,233,42.04,6.3236410585423997,null,true,"770045",770,"TANTASQUA                    ","045","BROOKFIELD                   ",233,1549,0.15041962555999999]
[770,155,770135,"TANTASQUA                    ",135,"HOLLAND                      ",9.6191091029999995E-2,1549,149,65.930000000000007,6.3418786316079006,null,true,"770135",770,"TANTASQUA                    ",135,"HOLLAND                      ",149,1549,9.6191091029999995E-2]
[770,156,770287,"TANTASQUA                    ",287,"STURBRIDGE                   ",0.51000645578000003,1549,790,60.39,30.799289864554201,null,true,"770287",770,"TANTASQUA                    ",287,"STURBRIDGE                   ",790,1549,0.51000645578000003]
[770,157,770306,"TANTASQUA                    ",306,"WALES                        ",9.1672046480000005E-2,1549,142,36.51,3.3469464169848,null,true,"770306",770,"TANTASQUA                    ",306,"WALES                        ",142,1549,9.1672046480000005E-2]
[773,158,773203,"TRITON                       ",203,"NEWBURY                      ",0.28798908097999998,2198,633,82.5,23.759099180849997,null,true,"773203",773,"TRITON                       ",203,"NEWBURY                      ",633,2198,0.28798908097999998]
[773,159,773254,"TRITON                       ",254,"ROWLEY                       ",0.31119199271999998,2198,684,82.5,25.6733393994,null,true,"773254",773,"TRITON                       ",254,"ROWLEY                       ",684,2198,0.31119199271999998]
[773,160,773259,"TRITON                       ",259,"SALISBURY                    ",0.40081892629999999,2198,881,82.5,33.06756141975,null,true,"773259",773,"TRITON                       ",259,"SALISBURY                    ",881,2198,0.40081892629999999]
[774,161,774062,"UPISLAND",62,"CHILMARK                     ",0.19647355163999999,397,78,82.5,16.209068010300001,null,true,"774062",774,"UPISLAND","062","CHILMARK                     ",78,397,0.19647355163999999]
[774,162,774104,"UPISLAND",104,"AQUINNAH",0.11083123425999999,397,44,82.5,9.1435768264499995,null,true,"774104",774,"UPISLAND",104,"AQUINNAH",44,397,0.11083123425999999]
[774,163,774334,"UPISLAND",334,"WEST TISBURY                 ",0.69269521411000001,397,275,82.5,57.147355164075002,null,true,"774334",774,"UPISLAND",334,"WEST TISBURY                 ",275,397,0.69269521411000001]
[775,164,775134,"WACHUSETT                    ",134,"HOLDEN                       ",0.47593662075999998,6753,3214,59.07,28.113576188293198,null,true,"775134",775,"WACHUSETT                    ",134,"HOLDEN                       ",3214,6753,0.47593662075999998]
[775,165,775228,"WACHUSETT                    ",228,"PAXTON                       ",9.5957352290000006E-2,6753,648,67.8,6.5059084852620002,null,true,"775228",775,"WACHUSETT                    ",228,"PAXTON                       ",648,6753,9.5957352290000006E-2]
[775,166,775241,"WACHUSETT                    ",241,"PRINCETON                    ",6.026950985E-2,6753,407,82.5,4.9722345626250002,null,true,"775241",775,"WACHUSETT                    ",241,"PRINCETON                    ",407,6753,6.026950985E-2]
[775,167,775257,"WACHUSETT                    ",257,"RUTLAND                      ",0.22656597068000001,6753,1530,46.36,10.503598400724799,null,true,"775257",775,"WACHUSETT                    ",257,"RUTLAND                      ",1530,6753,0.22656597068000001]
[775,168,775282,"WACHUSETT                    ",282,"STERLING                     ",0.14127054642,6753,954,82.5,11.654820079649999,null,true,"775282",775,"WACHUSETT                    ",282,"STERLING                     ",954,6753,0.14127054642]
[778,169,778311,"QUABOAG",311,"WARREN                       ",0.59219858156000005,1128,668,31.49,18.648333333324402,null,true,"778311",778,"QUABOAG",311,"WARREN                       ",668,1128,0.59219858156000005]
[778,170,778324,"QUABOAG",324,"WEST BROOKFIELD              ",0.40780141844000001,1128,460,55.87,22.783865248242801,null,true,"778324",778,"QUABOAG",324,"WEST BROOKFIELD              ",460,1128,0.40780141844000001]
[780,171,780123,"WHITMAN HANSON               ",123,"HANSON                       ",0.39345156888999999,3665,1442,63.18,24.858270122470199,null,true,"780123",780,"WHITMAN HANSON               ",123,"HANSON                       ",1442,3665,0.39345156888999999]
[780,172,780338,"WHITMAN HANSON               ",338,"WHITMAN                      ",0.60654843111000001,3665,2223,49.73,30.163653479100297,null,true,"780338",780,"WHITMAN HANSON               ",338,"WHITMAN                      ",2223,3665,0.60654843111000001]
[801,173,801028,"ASSABET VALLEY               ",28,"BERLIN                       ",3.3670033670000002E-2,891,30,82.5,2.7777777777750003,null,true,"801028",801,"ASSABET VALLEY               ","028","BERLIN                       ",30,891,3.3670033670000002E-2]
[801,174,801141,"ASSABET VALLEY               ",141,"HUDSON                       ",0.25364758698000001,891,226,63.94,16.218226711501199,null,true,"801141",801,"ASSABET VALLEY               ",141,"HUDSON                       ",226,891,0.25364758698000001]
[801,175,801170,"ASSABET VALLEY               ",170,"MARLBOROUGH                  ",0.48484848484999998,891,432,57.63,27.9418181819055,null,true,"801170",801,"ASSABET VALLEY               ",170,"MARLBOROUGH                  ",432,891,0.48484848484999998]
[801,176,801174,"ASSABET VALLEY               ",174,"MAYNARD                      ",8.3052749719999999E-2,891,74,73.27,6.0852749719843997,null,true,"801174",801,"ASSABET VALLEY               ",174,"MAYNARD                      ",74,891,8.3052749719999999E-2]
[801,177,801213,"ASSABET VALLEY               ",213,"NORTHBOROUGH                 ",6.6217732880000005E-2,891,59,82.5,5.4629629626000007,null,true,"801213",801,"ASSABET VALLEY               ",213,"NORTHBOROUGH                 ",59,891,6.6217732880000005E-2]
[801,178,801276,"ASSABET VALLEY               ",276,"SOUTHBOROUGH                 ",2.8058361390000001E-2,891,25,82.5,2.3148148146750001,null,true,"801276",801,"ASSABET VALLEY               ",276,"SOUTHBOROUGH                 ",25,891,2.8058361390000001E-2]
[801,179,801321,"ASSABET VALLEY               ",321,"WESTBOROUGH                  ",5.0505050510000003E-2,891,45,75.53,3.8146464650203002,null,true,"801321",801,"ASSABET VALLEY               ",321,"WESTBOROUGH                  ",45,891,5.0505050510000003E-2]
[805,180,805025,"BLACKSTONE VALLEY            ",25,"BELLINGHAM                   ",5.6315366050000003E-2,1243,70,69.930000000000007,3.9381335478765007,null,true,"805025",805,"BLACKSTONE VALLEY            ","025","BELLINGHAM                   ",70,1243,5.6315366050000003E-2]
[805,181,805032,"BLACKSTONE VALLEY            ",32,"BLACKSTONE                   ",6.1142397430000002E-2,1243,76,48.78,2.9825261466354003,null,true,"805032",805,"BLACKSTONE VALLEY            ","032","BLACKSTONE                   ",76,1243,6.1142397430000002E-2]
[805,182,805077,"BLACKSTONE VALLEY            ",77,"DOUGLAS                      ",9.8149637969999995E-2,1243,122,60.63,5.9508125501210998,null,true,"805077",805,"BLACKSTONE VALLEY            ","077","DOUGLAS                      ",122,1243,9.8149637969999995E-2]
[805,183,805110,"BLACKSTONE VALLEY            ",110,"GRAFTON                      ",5.3901850360000003E-2,1243,67,67.44,3.6351407882784001,null,true,"805110",805,"BLACKSTONE VALLEY            ",110,"GRAFTON                      ",67,1243,5.3901850360000003E-2]
[805,184,805138,"BLACKSTONE VALLEY            ",138,"HOPEDALE                     ",4.1834271919999999E-2,1243,52,58.97,2.4669670151223997,null,true,"805138",805,"BLACKSTONE VALLEY            ",138,"HOPEDALE                     ",52,1243,4.1834271919999999E-2]
[805,185,805179,"BLACKSTONE VALLEY            ",179,"MENDON                       ",5.6315366050000003E-2,1243,70,76.28,4.2957361222940005,null,true,"805179",805,"BLACKSTONE VALLEY            ",179,"MENDON                       ",70,1243,5.6315366050000003E-2]
[805,186,805185,"BLACKSTONE VALLEY            ",185,"MILFORD                      ",0.12228479485,1243,152,44.67,5.4624617859495004,null,true,"805185",805,"BLACKSTONE VALLEY            ",185,"MILFORD                      ",152,1243,0.12228479485]
[805,187,805186,"BLACKSTONE VALLEY            ",186,"MILLBURY                     ",7.7232502009999995E-2,1243,96,64.88,5.0108447304087997,null,true,"805186",805,"BLACKSTONE VALLEY            ",186,"MILLBURY                     ",96,1243,7.7232502009999995E-2]
[805,188,805188,"BLACKSTONE VALLEY            ",188,"MILLVILLE                    ",2.73531778E-2,1243,34,46.94,1.2839581659319999,null,true,"805188",805,"BLACKSTONE VALLEY            ",188,"MILLVILLE                    ",34,1243,2.73531778E-2]
[805,189,805214,"BLACKSTONE VALLEY            ",214,"NORTHBRIDGE                  ",0.13596138375,1243,169,55.1,7.4914722446250002,null,true,"805214",805,"BLACKSTONE VALLEY            ",214,"NORTHBRIDGE                  ",169,1243,0.13596138375]
[805,190,805290,"BLACKSTONE VALLEY            ",290,"SUTTON                       ",9.6540627510000004E-2,1243,120,82.5,7.9646017695750002,null,true,"805290",805,"BLACKSTONE VALLEY            ",290,"SUTTON                       ",120,1243,9.6540627510000004E-2]
[805,191,805303,"BLACKSTONE VALLEY            ",303,"UPTON                        ",6.9187449720000002E-2,1243,86,75.83,5.2464843122675999,null,true,"805303",805,"BLACKSTONE VALLEY            ",303,"UPTON                        ",86,1243,6.9187449720000002E-2]
[805,192,{"$f":"A201*1000+E201","v":805304},"BLACKSTONE VALLEY            ",304,"UXBRIDGE                     ",0.10378117458,1243,129,66.53,6.9045615448074003,null,true,"805304",805,"BLACKSTONE VALLEY            ",304,"UXBRIDGE                     ",129,1243,0.10378117458]
[806,193,806018,"BLUE HILLS                   ",18,"AVON                         ",6.5848214289999998E-2,896,59,{"$f":"ROUND(VLOOKUP(E202,town351,12),2)","v":66.69},4.3914174110000994,null,true,"806018",806,"BLUE HILLS                   ","018","AVON                         ",59,896,6.5848214289999998E-2]
[806,194,806040,"BLUE HILLS                   ",40,"BRAINTREE                    ",0.14285714286000001,896,128,77.989999999999995,{"$f":"G203*J203","v":11.141428571651399},null,{"$f":"VALUE(N203)=C203","v":true},"806040",806,"BLUE HILLS                   ","040","BRAINTREE                    ",128,896,0.14285714286000001]
[806,195,806050,"BLUE HILLS                   ",50,"CANTON                       ",7.5892857140000006E-2,896,68,82.5,6.2611607140500007,null,true,"806050",806,"BLUE HILLS                   ","050","CANTON                       ",68,896,7.5892857140000006E-2]
[806,196,806073,"BLUE HILLS                   ",73,"DEDHAM                       ",0.10491071429,896,94,82.5,8.6551339289250002,null,true,"806073",806,"BLUE HILLS                   ","073","DEDHAM                       ",94,896,0.10491071429]
[806,197,806133,"BLUE HILLS                   ",133,"HOLBROOK                     ",0.12946428570999999,896,116,50.87,6.585848214067699,null,true,"806133",806,"BLUE HILLS                   ",133,"HOLBROOK                     ",116,896,0.12946428570999999]
[806,198,806189,"BLUE HILLS                   ",189,"MILTON                       ",4.7991071429999997E-2,896,43,82.5,3.9592633929749996,null,true,"806189",806,"BLUE HILLS                   ",189,"MILTON                       ",43,896,4.7991071429999997E-2]
[806,199,806220,"BLUE HILLS                   ",220,"NORWOOD                      ",0.10714285714000001,896,96,82.5,8.8392857140499999,null,true,"806220",806,"BLUE HILLS                   ",220,"NORWOOD                      ",96,896,0.10714285714000001]
[806,200,806244,"BLUE HILLS                   ",244,"RANDOLPH                     ",0.31919642857000002,896,286,56.08,17.900535714205599,null,true,"806244",806,"BLUE HILLS                   ",244,"RANDOLPH                     ",286,896,0.31919642857000002]
[806,201,806335,"BLUE HILLS                   ",335,"WESTWOOD                     ",6.6964285700000003E-3,896,6,82.5,0.55245535702500004,null,true,"806335",806,"BLUE HILLS                   ",335,"WESTWOOD                     ",6,896,6.6964285700000003E-3]
[810,202,810027,"BRISTOL PLYMOUTH             ",27,"BERKLEY                      ",7.0318282750000002E-2,1351,95,53.35,3.7514803847125004,null,true,"810027",810,"BRISTOL PLYMOUTH             ","027","BERKLEY                      ",95,1351,7.0318282750000002E-2]
[810,203,810042,"BRISTOL PLYMOUTH             ",42,"BRIDGEWATER                  ",0.10436713546,1351,141,64.209999999999994,6.7014137678865993,null,true,"810042",810,"BRISTOL PLYMOUTH             ","042","BRIDGEWATER                  ",141,1351,0.10436713546]
[810,204,810076,"BRISTOL PLYMOUTH             ",76,"DIGHTON",7.7720207250000006E-2,1351,105,51.48,4.0010362692300001,null,true,"810076",810,"BRISTOL PLYMOUTH             ","076","DIGHTON                      ",105,1351,7.7720207250000006E-2]
[810,205,810182,"BRISTOL PLYMOUTH             ",182,"MIDDLEBOROUGH                ",0.15247964471,1351,206,53.23,8.116491487913299,null,true,"810182",810,"BRISTOL PLYMOUTH             ",182,"MIDDLEBOROUGH                ",206,1351,0.15247964471]
[810,206,810245,"BRISTOL PLYMOUTH             ",245,"RAYNHAM                      ",0.12953367875999999,1351,175,61.59,7.9779792748284004,null,true,"810245",810,"BRISTOL PLYMOUTH             ",245,"RAYNHAM                      ",175,1351,0.12953367875999999]
[810,207,810247,"BRISTOL PLYMOUTH             ",247,"REHOBOTH                     ",5.3293856399999999E-2,1351,72,82.5,4.3967431530000001,null,true,"810247",810,"BRISTOL PLYMOUTH             ",247,"REHOBOTH                     ",72,1351,5.3293856399999999E-2]
[810,208,810293,"BRISTOL PLYMOUTH             ",293,"TAUNTON                      ",0.41228719467000002,1351,557,36.14,14.900059215373801,null,true,"810293",810,"BRISTOL PLYMOUTH             ",293,"TAUNTON                      ",557,1351,0.41228719467000002]
[815,209,815020,"CAPE COD                     ",20,"BARNSTABLE                   ",0.26856240126000003,633,170,82.5,22.156398103950004,null,true,"815020",815,"CAPE COD                     ","020","BARNSTABLE                   ",170,633,0.26856240126000003]
[815,210,815041,"CAPE COD                     ",41,"BREWSTER                     ",6.4770932069999995E-2,633,41,82.5,5.3436018957749996,null,true,"815041",815,"CAPE COD                     ","041","BREWSTER                     ",41,633,6.4770932069999995E-2]
[815,211,815055,"CAPE COD                     ",55,"CHATHAM                      ",2.369668246E-2,633,15,82.5,1.95497630295,null,true,"815055",815,"CAPE COD                     ","055","CHATHAM                      ",15,633,2.369668246E-2]
[815,212,815075,"CAPE COD                     ",75,"DENNIS                       ",0.11532385466,633,73,82.5,9.5142180094499995,null,true,"815075",815,"CAPE COD                     ","075","DENNIS                       ",73,633,0.11532385466]
[815,213,815085,"CAPE COD                     ",85,"EASTHAM                      ",3.6334913109999999E-2,633,23,82.5,2.9976303315749999,null,true,"815085",815,"CAPE COD                     ","085","EASTHAM                      ",23,633,3.6334913109999999E-2]
[815,214,815126,"CAPE COD                     ",126,"HARWICH                      ",8.056872038E-2,633,51,82.5,6.6469194313499997,null,true,"815126",815,"CAPE COD                     ",126,"HARWICH                      ",51,633,8.056872038E-2]
[815,215,815172,"CAPE COD                     ",172,"MASHPEE                      ",7.8988941549999997E-2,633,50,82.5,6.516587677875,null,true,"815172",815,"CAPE COD                     ",172,"MASHPEE                      ",50,633,7.8988941549999997E-2]
[815,216,815224,"CAPE COD                     ",224,"ORLEANS                      ",2.0537124800000001E-2,633,13,82.5,1.694312796,null,true,"815224",815,"CAPE COD                     ",224,"ORLEANS                      ",13,633,2.0537124800000001E-2]
[815,217,815242,"CAPE COD                     ",242,"PROVINCETOWN                 ",1.7377567140000001E-2,633,11,82.5,1.4336492890500001,null,true,"815242",815,"CAPE COD                     ",242,"PROVINCETOWN                 ",11,633,1.7377567140000001E-2]
[815,218,815300,"CAPE COD                     ",300,"TRURO                        ",1.7377567140000001E-2,633,11,82.5,1.4336492890500001,null,true,"815300",815,"CAPE COD                     ",300,"TRURO                        ",11,633,1.7377567140000001E-2]
[815,219,815318,"CAPE COD                     ",318,"WELLFLEET                    ",2.5276461300000001E-2,633,16,82.5,2.0853080572500002,null,true,"815318",815,"CAPE COD                     ",318,"WELLFLEET                    ",16,633,2.5276461300000001E-2]
[815,220,815351,"CAPE COD                     ",351,"YARMOUTH                     ",0.25118483411999998,633,159,82.5,20.722748814899997,null,true,"815351",815,"CAPE COD                     ",351,"YARMOUTH                     ",159,633,0.25118483411999998]
[817,221,817030,"ESSEX NORTH SHORE                  ",30,"BEVERLY                      ",9.469387755E-2,1225,116,82.5,7.8122448978749999,null,true,"817030",817,"ESSEX NORTH SHORE","030","BEVERLY                      ",116,1225,9.469387755E-2]
[817,222,817038,"ESSEX NORTH SHORE                  ",38,"BOXFORD                      ",1.9591836729999999E-2,1225,24,82.5,1.6163265302249998,null,true,"817038",817,"ESSEX NORTH SHORE","038","BOXFORD                      ",24,1225,1.9591836729999999E-2]
[817,223,817071,"ESSEX NORTH SHORE                  ",71,"DANVERS                      ",0.16571428570999999,1225,203,82.5,13.671428571074999,null,true,"817071",817,"ESSEX NORTH SHORE","071","DANVERS                      ",203,1225,0.16571428570999999]
[817,224,817092,"ESSEX NORTH SHORE                  ",92,"ESSEX                        ",1.06122449E-2,1225,13,82.5,0.87551020424999992,null,true,"817092",817,"ESSEX NORTH SHORE","092","ESSEX                        ",13,1225,1.06122449E-2]
[817,225,817107,"ESSEX NORTH SHORE                  ",107,"GLOUCESTER                   ",7.9183673469999993E-2,1225,97,82.5,6.5326530612749991,null,true,"817107",817,"ESSEX NORTH SHORE",107,"GLOUCESTER                   ",97,1225,7.9183673469999993E-2]
[817,226,817119,"ESSEX NORTH SHORE                  ",119,"HAMILTON                     ",1.387755102E-2,1225,17,82.5,1.1448979591499999,null,true,"817119",817,"ESSEX NORTH SHORE",119,"HAMILTON                     ",17,1225,1.387755102E-2]
[817,227,817164,"ESSEX NORTH SHORE                  ",164,"LYNNFIELD                    ",3.8367346939999998E-2,1225,47,82.5,3.1653061225499997,null,true,"817164",817,"ESSEX NORTH SHORE",164,"LYNNFIELD                    ",47,1225,3.8367346939999998E-2]
[817,228,817166,"ESSEX NORTH SHORE                  ",166,"MANCHESTER                   ",8.9795918400000004E-3,1225,11,82.5,0.74081632679999998,null,true,"817166",817,"ESSEX NORTH SHORE",166,"MANCHESTER                   ",11,1225,8.9795918400000004E-3]
[817,229,817168,"ESSEX NORTH SHORE                  ",168,"MARBLEHEAD                   ",3.183673469E-2,1225,39,82.5,2.6265306119249998,null,true,"817168",817,"ESSEX NORTH SHORE",168,"MARBLEHEAD                   ",39,1225,3.183673469E-2]
[817,230,817184,"ESSEX NORTH SHORE                  ",184,"MIDDLETON                    ",0.04,1225,49,82.5,3.3000000000000003,null,true,"817184",817,"ESSEX NORTH SHORE",184,"MIDDLETON                    ",49,1225,0.04]
[817,231,817196,"ESSEX NORTH SHORE                  ",196,"NAHANT                       ",8.9795918400000004E-3,1225,11,82.5,0.74081632679999998,null,true,"817196",817,"ESSEX NORTH SHORE",196,"NAHANT                       ",11,1225,8.9795918400000004E-3]
[817,232,817229,"ESSEX NORTH SHORE                  ",229,"PEABODY",0.2506122449,1225,307,70.83,17.750865306266999,null,true,"817229",817,"ESSEX NORTH SHORE",229,"PEABODY",307,1225,0.2506122449]
[817,233,817252,"ESSEX NORTH SHORE                  ",252,"ROCKPORT                     ",1.795918367E-2,1225,22,82.5,1.4816326527749999,null,true,"817252",817,"ESSEX NORTH SHORE",252,"ROCKPORT                     ",22,1225,1.795918367E-2]
[817,234,817258,"ESSEX NORTH SHORE                  ",258,"SALEM                        ",0.16326530612000001,1225,200,67.040000000000006,10.945306122284801,null,true,"817258",817,"ESSEX NORTH SHORE",258,"SALEM                        ",200,1225,0.16326530612000001]
[817,235,817291,"ESSEX NORTH SHORE                  ",291,"SWAMPSCOTT                   ",2.8571428570000001E-2,1225,35,82.5,2.3571428570249999,null,true,"817291",817,"ESSEX NORTH SHORE",291,"SWAMPSCOTT                   ",35,1225,2.8571428570000001E-2]
[817,236,817298,"ESSEX NORTH SHORE                  ",298,"TOPSFIELD                    ",2.0408163270000002E-2,1225,25,82.5,1.6836734697750002,null,true,"817298",817,"ESSEX NORTH SHORE",298,"TOPSFIELD                    ",25,1225,2.0408163270000002E-2]
[817,237,817320,"ESSEX NORTH SHORE                  ",320,"WENHAM                       ",7.3469387800000003E-3,1225,9,82.5,0.60612244935000004,null,true,"817320",817,"ESSEX NORTH SHORE",320,"WENHAM                       ",9,1225,7.3469387800000003E-3]
[818,238,818029,"FRANKLIN COUNTY              ",29,"BERNARDSTON                  ",6.7669172929999993E-2,532,36,52.5,3.5526315788249998,null,true,"818029",818,"FRANKLIN COUNTY              ","029","BERNARDSTON                  ",36,532,6.7669172929999993E-2]
[818,239,818047,"FRANKLIN COUNTY              ",47,"BUCKLAND                     ",1.503759398E-2,532,8,61.83,0.92977443578339991,null,true,"818047",818,"FRANKLIN COUNTY              ","047","BUCKLAND                     ",8,532,1.503759398E-2]
[818,240,818066,"FRANKLIN COUNTY              ",66,"COLRAIN                      ",4.511278195E-2,532,24,65.3,2.9458646613349999,null,true,"818066",818,"FRANKLIN COUNTY              ","066","COLRAIN                      ",24,532,4.511278195E-2]
[818,241,818068,"FRANKLIN COUNTY              ",68,"CONWAY                       ",7.5187969899999998E-3,532,4,82.5,0.62030075167499998,null,true,"818068",818,"FRANKLIN COUNTY              ","068","CONWAY                       ",4,532,7.5187969899999998E-3]
[818,242,818074,"FRANKLIN COUNTY              ",74,"DEERFIELD                    ",3.3834586469999997E-2,532,18,82.5,2.7913533837749998,null,true,"818074",818,"FRANKLIN COUNTY              ","074","DEERFIELD                    ",18,532,3.3834586469999997E-2]
[818,243,818091,"FRANKLIN COUNTY              ",91,"ERVING                       ",5.0751879700000002E-2,532,27,82.5,4.18703007525,null,true,"818091",818,"FRANKLIN COUNTY              ","091","ERVING                       ",27,532,5.0751879700000002E-2]
[818,244,818106,"FRANKLIN COUNTY              ",106,"GILL                         ",2.8195488719999998E-2,532,15,67.84,1.9127819547648,null,true,"818106",818,"FRANKLIN COUNTY              ","106","GILL                         ",15,532,2.8195488719999998E-2]
[818,245,818114,"FRANKLIN COUNTY              ",114,"GREENFIELD                   ",0.23120300752,532,123,42.98,9.9371052632095989,null,true,"818114",818,"FRANKLIN COUNTY              ",114,"GREENFIELD                   ",123,532,0.23120300752]
[818,246,818130,"FRANKLIN COUNTY              ",130,"HEATH                        ",1.127819549E-2,532,6,42.32,0.4772932331368,null,true,"818130",818,"FRANKLIN COUNTY              ",130,"HEATH                        ",6,532,1.127819549E-2]
[818,247,818156,"FRANKLIN COUNTY              ",156,"LEYDEN                       ",1.87969925E-3,532,1,82.5,0.15507518812499999,null,true,"818156",818,"FRANKLIN COUNTY              ",156,"LEYDEN                       ",1,532,1.87969925E-3]
[818,248,818192,"FRANKLIN COUNTY              ",192,"MONTAGUE                     ",0.20112781955,532,107,47.38,9.5294360902790007,null,true,"818192",818,"FRANKLIN COUNTY              ",192,"MONTAGUE                     ",107,532,0.20112781955]
[818,249,818206,"FRANKLIN COUNTY              ",206,"NEW SALEM                    ",1.6917293230000002E-2,532,9,61.09,1.0334774434207001,null,true,"818206",818,"FRANKLIN COUNTY              ",206,"NEW SALEM                    ",9,532,1.6917293230000002E-2]
[818,250,818216,"FRANKLIN COUNTY              ",216,"NORTHFIELD                   ",5.0751879700000002E-2,532,27,78.959999999999994,4.007368421112,null,true,"818216",818,"FRANKLIN COUNTY              ",216,"NORTHFIELD                   ",27,532,5.0751879700000002E-2]
[818,251,818223,"FRANKLIN COUNTY              ",223,"ORANGE                       ",0.14285714286000001,532,76,30.45,4.3500000000870003,null,true,"818223",818,"FRANKLIN COUNTY              ",223,"ORANGE                       ",76,532,0.14285714286000001]
[818,252,818268,"FRANKLIN COUNTY              ",268,"SHELBURNE                    ",3.1954887219999999E-2,532,17,74.94,2.3946992482667997,null,true,"818268",818,"FRANKLIN COUNTY              ",268,"SHELBURNE                    ",17,532,3.1954887219999999E-2]
[818,253,818289,"FRANKLIN COUNTY              ",289,"SUNDERLAND                   ",1.503759398E-2,532,8,82.5,1.24060150335,null,true,"818289",818,"FRANKLIN COUNTY              ",289,"SUNDERLAND                   ",8,532,1.503759398E-2]
[818,254,818312,"FRANKLIN COUNTY              ",312,"WARWICK                      ",1.127819549E-2,532,6,75.06,0.84654135347940007,null,true,"818312",818,"FRANKLIN COUNTY              ",312,"WARWICK                      ",6,532,1.127819549E-2]
[818,255,818319,"FRANKLIN COUNTY              ",319,"WENDELL                      ",1.6917293230000002E-2,532,9,38.49,0.65114661642270011,null,true,"818319",818,"FRANKLIN COUNTY              ",319,"WENDELL                      ",9,532,1.6917293230000002E-2]
[818,256,{"$f":"A265*1000+E265","v":818337},"FRANKLIN COUNTY              ",337,"WHATELY                      ",2.0676691729999998E-2,532,11,81.19,1.6787406015586999,null,true,"818337",818,"FRANKLIN COUNTY              ",337,"WHATELY                      ",11,532,2.0676691729999998E-2]
[821,257,821095,"GREATER FALL RIVER           ",95,"FALL RIVER                   ",0.74098798397999999,1498,1110,{"$f":"ROUND(VLOOKUP(E266,town351,12),2)","v":22.31},16.5314419225938,null,true,"821095",821,"GREATER FALL RIVER           ","095","FALL RIVER                   ",1110,1498,0.74098798397999999]
[821,258,821273,"GREATER FALL RIVER           ",273,"SOMERSET                     ",9.6128170890000003E-2,1498,144,54.18,{"$f":"G267*J267","v":5.2082242988202001},null,{"$f":"VALUE(N267)=C267","v":true},"821273",821,"GREATER FALL RIVER           ",273,"SOMERSET                     ",144,1498,9.6128170890000003E-2]
[821,259,821292,"GREATER FALL RIVER           ",292,"SWANSEA                      ",8.4112149529999999E-2,1498,126,61.49,5.1720560745997002,null,true,"821292",821,"GREATER FALL RIVER           ",292,"SWANSEA                      ",126,1498,8.4112149529999999E-2]
[821,260,821331,"GREATER FALL RIVER           ",331,"WESTPORT                     ",7.8771695589999996E-2,1498,118,82.5,6.4986648861749998,null,true,"821331",821,"GREATER FALL RIVER           ",331,"WESTPORT                     ",118,1498,7.8771695589999996E-2]
[823,261,823009,"GREATER LAWRENCE             ",9,"ANDOVER                      ",2.796352584E-2,1645,46,82.5,2.3069908818,null,true,"823009",823,"GREATER LAWRENCE             ","009","ANDOVER                      ",46,1645,2.796352584E-2]
[823,262,823149,"GREATER LAWRENCE             ",149,"LAWRENCE                     ",0.76717325228,1645,1262,14.57,11.177714285719601,null,true,"823149",823,"GREATER LAWRENCE             ",149,"LAWRENCE                     ",1262,1645,0.76717325228]
[823,263,823181,"GREATER LAWRENCE             ",181,"METHUEN                      ",0.18358662613999999,1645,302,46.93,8.6157203647501994,null,true,"823181",823,"GREATER LAWRENCE             ",181,"METHUEN                      ",302,1645,0.18358662613999999]
[823,264,823211,"GREATER LAWRENCE             ",211,"NORTH ANDOVER                ",2.1276595740000001E-2,1645,35,82.5,1.7553191485500002,null,true,"823211",823,"GREATER LAWRENCE             ",211,"NORTH ANDOVER                ",35,1645,2.1276595740000001E-2]
[825,265,825072,"GREATER NEW BEDFORD          ",72,"DARTMOUTH                    ",0.15214319359,2123,323,82.5,12.551813471175,null,true,"825072",825,"GREATER NEW BEDFORD          ","072","DARTMOUTH                    ",323,2123,0.15214319359]
[825,266,825094,"GREATER NEW BEDFORD          ",94,"FAIRHAVEN                    ",8.1959491290000006E-2,2123,174,62.92,5.1568911919668006,null,true,"825094",825,"GREATER NEW BEDFORD          ","094","FAIRHAVEN                    ",174,2123,8.1959491290000006E-2]
[825,267,825201,"GREATER NEW BEDFORD          ",201,"NEW BEDFORD                  ",0.76589731512000003,2123,1626,20.6,15.777484691472003,null,true,"825201",825,"GREATER NEW BEDFORD          ",201,"NEW BEDFORD                  ",1626,2123,0.76589731512000003]
[828,268,828079,"GREATER LOWELL               ",79,"DRACUT                       ",0.18289085546,2373,434,55.32,10.1175221240472,null,true,"828079",828,"GREATER LOWELL               ","079","DRACUT                       ",434,2373,0.18289085546]
[828,269,828081,"GREATER LOWELL               ",81,"DUNSTABLE                    ",6.3211125199999999E-3,2373,15,82.5,0.52149178289999998,null,true,"828081",828,"GREATER LOWELL               ","081","DUNSTABLE                    ",15,2373,6.3211125199999999E-3]
[828,270,828160,"GREATER LOWELL               ",160,"LOWELL                       ",0.76991150442,2373,1827,25.92,19.956106194566402,null,true,"828160",828,"GREATER LOWELL               ",160,"LOWELL                       ",1827,2373,0.76991150442]
[828,271,828301,"GREATER LOWELL               ",301,"TYNGSBOROUGH                 ",4.0876527599999997E-2,2373,97,69.66,2.8474589126159997,null,true,"828301",828,"GREATER LOWELL               ",301,"TYNGSBOROUGH                 ",97,2373,4.0876527599999997E-2]
[829,272,829014,"SOUTH MIDDLESEX              ",14,"ASHLAND                      ",7.7205882350000005E-2,816,63,78.02,6.0236029409469998,null,true,"829014",829,"SOUTH MIDDLESEX              ","014","ASHLAND                      ",63,816,7.7205882350000005E-2]
[829,273,829100,"SOUTH MIDDLESEX              ",100,"FRAMINGHAM                   ",0.73774509803999999,816,602,55.45,40.907965686318001,null,true,"829100",829,"SOUTH MIDDLESEX              ",100,"FRAMINGHAM                   ",602,816,0.73774509803999999]
[829,274,829136,"SOUTH MIDDLESEX              ",136,"HOLLISTON                    ",8.3333333329999995E-2,816,68,75.47,6.2891666664150998,null,true,"829136",829,"SOUTH MIDDLESEX              ",136,"HOLLISTON                    ",68,816,8.3333333329999995E-2]
[829,275,829139,"SOUTH MIDDLESEX              ",139,"HOPKINTON                    ",3.3088235289999997E-2,816,27,82.5,2.7297794114249996,null,true,"829139",829,"SOUTH MIDDLESEX              ",139,"HOPKINTON                    ",27,816,3.3088235289999997E-2]
[829,276,829198,"SOUTH MIDDLESEX              ",198,"NATICK                       ",6.8627450980000004E-2,816,56,82.5,5.6617647058500005,null,true,"829198",829,"SOUTH MIDDLESEX              ",198,"NATICK                       ",56,816,6.8627450980000004E-2]
[830,277,830002,"MINUTEMAN                    ",2,"ACTON                        ",0.12423625255,491,61,80.22,9.9662321795609987,null,true,"830002",830,"MINUTEMAN                    ","002","ACTON                        ",61,491,0.12423625255]
[830,278,830010,"MINUTEMAN                    ",10,"ARLINGTON                    ",0.35437881873999999,491,174,82.5,29.23625254605,null,true,"830010",830,"MINUTEMAN                    ","010","ARLINGTON                    ",174,491,0.35437881873999999]
[830,280,830034,"MINUTEMAN                    ",34,"BOLTON                       ",3.4623217919999998E-2,491,17,82.5,2.8564154783999998,null,true,"830034",830,"MINUTEMAN                    ","034","BOLTON                       ",17,491,3.4623217919999998E-2]
[830,281,830067,"MINUTEMAN                    ",67,"CONCORD                      ",5.9063136459999999E-2,491,29,82.5,4.8727087579499999,null,true,"830067",830,"MINUTEMAN                    ","067","CONCORD                      ",29,491,5.9063136459999999E-2]
[830,282,830078,"MINUTEMAN                    ",78,"DOVER                        ",8.1466395099999995E-3,491,4,82.5,0.67209775957499995,null,true,"830078",830,"MINUTEMAN                    ","078","DOVER                        ",4,491,8.1466395099999995E-3]
[830,283,830147,"MINUTEMAN                    ",147,"LANCASTER                    ",0.11812627291,491,58,72.569999999999993,8.5724236250786987,null,true,"830147",830,"MINUTEMAN                    ",147,"LANCASTER                    ",58,491,0.11812627291]
[830,284,830155,"MINUTEMAN                    ",155,"LEXINGTON                    ",0.15478615070999999,491,76,82.5,12.769857433574998,null,true,"830155",830,"MINUTEMAN                    ",155,"LEXINGTON                    ",76,491,0.15478615070999999]
[830,285,830199,"MINUTEMAN                    ",199,"NEEDHAM                      ",5.7026476579999999E-2,491,28,82.5,4.70468431785,null,true,"830199",830,"MINUTEMAN                    ",199,"NEEDHAM                      ",28,491,5.7026476579999999E-2]
[830,286,830286,"MINUTEMAN                    ",286,"STOW                         ",8.9613034620000004E-2,491,44,82.5,7.3930753561500007,null,true,"830286",830,"MINUTEMAN                    ",286,"STOW                         ",44,491,8.9613034620000004E-2]
[832,287,832011,"MONTACHUSETT                 ",11,"ASHBURNHAM                   ",4.7912388770000001E-2,1461,70,47.44,2.2729637232487998,null,true,"832011",832,"MONTACHUSETT                 ","011","ASHBURNHAM                   ",70,1461,4.7912388770000001E-2]
[832,288,832012,"MONTACHUSETT                 ",12,"ASHBY                        ",2.5325119779999999E-2,1461,37,59.65,1.5106433948769999,null,true,"832012",832,"MONTACHUSETT                 ","012","ASHBY                        ",37,1461,2.5325119779999999E-2]
[832,289,832015,"MONTACHUSETT                 ",15,"ATHOL                        ",7.7344284740000005E-2,1461,113,29.62,2.2909377139988001,null,true,"832015",832,"MONTACHUSETT                 ","015","ATHOL                        ",113,1461,7.7344284740000005E-2]
[832,290,832021,"MONTACHUSETT                 ",21,"BARRE                        ",3.2854209449999998E-2,1461,48,40.880000000000003,1.3430800823160001,null,true,"832021",832,"MONTACHUSETT                 ","021","BARRE                        ",48,1461,3.2854209449999998E-2]
[832,291,832097,"MONTACHUSETT                 ",97,"FITCHBURG                    ",0.26283367555999998,1461,384,25.52,6.7075154002911992,null,true,"832097",832,"MONTACHUSETT                 ","097","FITCHBURG                    ",384,1461,0.26283367555999998]
[832,292,832103,"MONTACHUSETT                 ",103,"GARDNER                      ",0.12183436003000001,1461,178,33.92,4.1326214922176003,null,true,"832103",832,"MONTACHUSETT                 ",103,"GARDNER                      ",178,1461,0.12183436003000001]
[832,293,832125,"MONTACHUSETT                 ",125,"HARVARD                      ",2.7378507899999999E-3,1461,4,82.5,0.225872690175,null,true,"832125",832,"MONTACHUSETT                 ",125,"HARVARD                      ",4,1461,2.7378507899999999E-3]
[832,294,832134,"MONTACHUSETT                 ",134,"HOLDEN",6.0232717319999997E-2,1461,88,59.07,3.5579466120923997,null,true,"832134",832,"MONTACHUSETT                 ",134,"HOLDEN",88,1461,6.0232717319999997E-2]
[832,295,832140,"MONTACHUSETT                 ",140,"HUBBARDSTON                  ",2.874743326E-2,1461,42,63.81,1.8343737163206,null,true,"832140",832,"MONTACHUSETT                 ",140,"HUBBARDSTON                  ",42,1461,2.874743326E-2]
[832,296,832162,"MONTACHUSETT                 ",162,"LUNENBURG                    ",5.6810403830000002E-2,1461,83,60.52,3.4381656397916003,null,true,"832162",832,"MONTACHUSETT                 ",162,"LUNENBURG                    ",83,1461,5.6810403830000002E-2]
[832,297,832234,"MONTACHUSETT                 ",234,"PETERSHAM                    ",3.42231348E-3,1461,5,68.34,0.23388090322320002,null,true,"832234",832,"MONTACHUSETT                 ",234,"PETERSHAM                    ",5,1461,3.42231348E-3]
[832,298,832235,"MONTACHUSETT                 ",235,"PHILLIPSTON                  ",1.232032854E-2,1461,18,62.47,0.76965092389379997,null,true,"832235",832,"MONTACHUSETT                 ",235,"PHILLIPSTON                  ",18,1461,1.232032854E-2]
[832,299,832241,"MONTACHUSETT                 ",241,"PRINCETON                    ",1.9849418210000001E-2,1461,29,82.5,1.637577002325,null,true,"832241",832,"MONTACHUSETT                 ",241,"PRINCETON                    ",29,1461,1.9849418210000001E-2]
[832,300,832255,"MONTACHUSETT                 ",255,"ROYALSTON                    ",8.2135523599999993E-3,1461,12,54.31,0.44607802867159996,null,true,"832255",832,"MONTACHUSETT                 ",255,"ROYALSTON                    ",12,1461,8.2135523599999993E-3]
[832,301,832282,"MONTACHUSETT                 ",282,"STERLING                     ",4.3805612590000001E-2,1461,64,82.5,3.6139630386750001,null,true,"832282",832,"MONTACHUSETT                 ",282,"STERLING                     ",64,1461,4.3805612590000001E-2]
[832,302,832294,"MONTACHUSETT                 ",294,"TEMPLETON                    ",6.0917180010000002E-2,1461,89,39.71,2.4190212181971003,null,true,"832294",832,"MONTACHUSETT                 ",294,"TEMPLETON                    ",89,1461,6.0917180010000002E-2]
[832,303,832328,"MONTACHUSETT                 ",328,"WESTMINSTER                  ",5.5441478439999997E-2,1461,81,56.08,3.1091581109151996,null,true,"832328",832,"MONTACHUSETT                 ",328,"WESTMINSTER                  ",81,1461,5.5441478439999997E-2]
[832,304,832343,"MONTACHUSETT                 ",343,"WINCHENDON                   ",7.9397672830000002E-2,1461,116,34.65,2.7511293635595,null,true,"832343",832,"MONTACHUSETT                 ",343,"WINCHENDON                   ",116,1461,7.9397672830000002E-2]
[851,305,851004,"NORTHERN BERKSHIRE           ",4,"ADAMS                        ",0.29805615550999998,463,138,33.020000000000003,9.8418142549401999,null,true,"851004",851,"NORTHERN BERKSHIRE           ","004","ADAMS                        ",138,463,0.29805615550999998]
[851,306,851058,"NORTHERN BERKSHIRE           ",58,"CHESIRE",9.9352051839999997E-2,463,46,50.27,4.9944276459968,null,true,"851058",851,"NORTHERN BERKSHIRE           ","058","CHESIRE",46,463,9.9352051839999997E-2]
[851,307,851063,"NORTHERN BERKSHIRE           ",63,"CLARKSBURG                   ",9.5032397409999997E-2,463,44,35.119999999999997,3.3375377970391997,null,true,"851063",851,"NORTHERN BERKSHIRE           ","063","CLARKSBURG                   ",44,463,9.5032397409999997E-2]
[851,308,851098,"NORTHERN BERKSHIRE           ",98,"FLORIDA                      ",4.7516198699999998E-2,463,22,71.88,3.4154643625559995,null,true,"851098",851,"NORTHERN BERKSHIRE           ","098","FLORIDA                      ",22,463,4.7516198699999998E-2]
[851,309,851148,"NORTHERN BERKSHIRE           ",148,"LANESBOROUGH                 ",4.9676025919999998E-2,463,23,56.82,2.8225917927744,null,true,"851148",851,"NORTHERN BERKSHIRE           ",148,"LANESBOROUGH                 ",23,463,4.9676025919999998E-2]
[851,310,851190,"NORTHERN BERKSHIRE           ",190,"MONROE                       ",6.4794816399999997E-3,463,3,54.96,0.35611231093439999,null,true,"851190",851,"NORTHERN BERKSHIRE           ",190,"MONROE                       ",3,463,6.4794816399999997E-3]
[851,311,851209,"NORTHERN BERKSHIRE           ",209,"NORTH ADAMS                  ",0.35637149027999998,463,165,28.21,10.0532397407988,null,true,"851209",851,"NORTHERN BERKSHIRE           ",209,"NORTH ADAMS                  ",165,463,0.35637149027999998]
[851,312,851263,"NORTHERN BERKSHIRE           ",263,"SAVOY                        ",1.079913607E-2,463,5,82.5,0.89092872577499993,null,true,"851263",851,"NORTHERN BERKSHIRE           ",263,"SAVOY                        ",5,463,1.079913607E-2]
[851,313,851341,"NORTHERN BERKSHIRE           ",341,"WILLIAMSTOWN                 ",3.6717062629999998E-2,463,17,82.5,3.0291576669749998,null,true,"851341",851,"NORTHERN BERKSHIRE           ",341,"WILLIAMSTOWN                 ",17,463,3.6717062629999998E-2]
[852,314,{"$f":"A322*1000+E322","v":852019},"NASHOBA VALLEY               ",19,"AYER",8.8455772109999997E-2,667,59,74.709999999999994,6.6085307343380997,null,true,"852019",852,"NASHOBA VALLEY               ","019","AYER",59,667,8.8455772109999997E-2]
[852,315,852056,"NASHOBA VALLEY               ",56,"CHELMSFORD                   ",0.31784107946000001,667,212,82.5,26.221889055449999,null,true,"852056",852,"NASHOBA VALLEY               ","056","CHELMSFORD                   ",212,667,0.31784107946000001]
[852,316,852115,"NASHOBA VALLEY               ",115,"GROTON                       ",6.8965517239999996E-2,667,46,82.5,5.6896551722999993,null,true,"852115",852,"NASHOBA VALLEY               ",115,"GROTON                       ",46,667,6.8965517239999996E-2]
[852,317,852158,"NASHOBA VALLEY               ",158,"LITTLETON                    ",5.5472263870000003E-2,667,37,82.5,4.5764617692750003,null,true,"852158",852,"NASHOBA VALLEY               ",158,"LITTLETON                    ",37,667,5.5472263870000003E-2]
[852,318,852232,"NASHOBA VALLEY               ",232,"PEPPERELL                    ",0.16341829085000001,667,109,65.02,10.625457271067001,null,true,"852232",852,"NASHOBA VALLEY               ",232,"PEPPERELL                    ",109,667,0.16341829085000001]
[852,319,852270,"NASHOBA VALLEY               ",270,"SHIRLEY                      ",8.0959520239999999E-2,667,54,61.4,4.9709145427359998,null,true,"852270",852,"NASHOBA VALLEY               ",270,"SHIRLEY                      ",54,667,8.0959520239999999E-2]
[852,320,852299,"NASHOBA VALLEY               ",299,"TOWNSEND                     ",0.11844077961,667,79,54.03,6.3993553223283,null,true,"852299",852,"NASHOBA VALLEY               ",299,"TOWNSEND                     ",79,667,0.11844077961]
[852,321,852326,"NASHOBA VALLEY               ",326,"WESTFORD                     ",0.10644677661,667,71,{"$f":"ROUND(VLOOKUP(E329,town351,12),2)","v":77.59},8.2592053971699002,null,true,"852326",852,"NASHOBA VALLEY               ",326,"WESTFORD                     ",71,667,0.10644677661]
[853,322,853057,"NORTHEAST METROPOLITAN       ",57,"CHELSEA                      ",0.18579234973,1281,238,21.69,4.0298360656437007,null,true,"853057",853,"NORTHEAST METROPOLITAN       ","057","CHELSEA                      ",238,1281,0.18579234973]
[853,323,853165,"NORTHEAST METROPOLITAN       ",165,"MALDEN                       ",0.11865729899000001,1281,152,56.54,{"$f":"G331*J331","v":6.7088836848945999},null,{"$f":"VALUE(N331)=C331","v":true},"853165",853,"NORTHEAST METROPOLITAN       ",165,"MALDEN                       ",152,1281,0.11865729899000001]
[853,324,853178,"NORTHEAST METROPOLITAN       ",178,"MELROSE                      ",3.43481655E-2,1281,44,82.5,2.8337236537499999,null,true,"853178",853,"NORTHEAST METROPOLITAN       ",178,"MELROSE                      ",44,1281,3.43481655E-2]
[853,325,853217,"NORTHEAST METROPOLITAN       ",217,"NORTH READING                ",2.6541764249999999E-2,1281,34,82.5,2.1896955506249998,null,true,"853217",853,"NORTHEAST METROPOLITAN       ",217,"NORTH READING                ",34,1281,2.6541764249999999E-2]
[853,326,853246,"NORTHEAST METROPOLITAN       ",246,"READING                      ",2.5761124119999999E-2,1281,33,82.5,2.1252927398999999,null,true,"853246",853,"NORTHEAST METROPOLITAN       ",246,"READING                      ",33,1281,2.5761124119999999E-2]
[853,327,853248,"NORTHEAST METROPOLITAN       ",248,"REVERE                       ",0.19359875098000001,1281,248,37.36,7.2328493366128006,null,true,"853248",853,"NORTHEAST METROPOLITAN       ",248,"REVERE                       ",248,1281,0.19359875098000001]
[853,328,853262,"NORTHEAST METROPOLITAN       ",262,"SAUGUS                       ",0.13270882123,1281,170,82.5,10.948477751475,null,true,"853262",853,"NORTHEAST METROPOLITAN       ",262,"SAUGUS                       ",170,1281,0.13270882123]
[853,329,853284,"NORTHEAST METROPOLITAN       ",284,"STONEHAM                     ",6.2451209989999999E-2,1281,80,82.5,5.1522248241749997,null,true,"853284",853,"NORTHEAST METROPOLITAN       ",284,"STONEHAM                     ",80,1281,6.2451209989999999E-2]
[853,330,853305,"NORTHEAST METROPOLITAN       ",305,"WAKEFIELD                    ",7.8064012490000001E-2,1281,100,82.5,6.440281030425,null,true,"853305",853,"NORTHEAST METROPOLITAN       ",305,"WAKEFIELD                    ",100,1281,7.8064012490000001E-2]
[853,331,853344,"NORTHEAST METROPOLITAN       ",344,"WINCHESTER                   ",8.5870413699999995E-3,1281,11,82.5,0.70843091302499994,null,true,"853344",853,"NORTHEAST METROPOLITAN       ",344,"WINCHESTER                   ",11,1281,8.5870413699999995E-3]
[853,332,853346,"NORTHEAST METROPOLITAN       ",346,"WINTHROP                     ",4.4496487119999997E-2,1281,57,79.319999999999993,3.5294613583583994,null,true,"853346",853,"NORTHEAST METROPOLITAN       ",346,"WINTHROP                     ",57,1281,4.4496487119999997E-2]
[853,333,853347,"NORTHEAST METROPOLITAN       ",347,"WOBURN",8.8992974239999995E-2,1281,114,82.5,7.3419203747999999,null,true,"853347",853,"NORTHEAST METROPOLITAN       ",347,"WOBURN",114,1281,8.8992974239999995E-2]
[855,334,855003,"OLD COLONY                   ",3,"ACUSHNET                     ",0.28915662651000001,498,144,58.26,16.8462650604726,null,true,"855003",855,"OLD COLONY                   ","003","ACUSHNET                     ",144,498,0.28915662651000001]
[855,335,855052,"OLD COLONY                   ",52,"CARVER                       ",0.19277108434000001,498,96,54.73,10.5503614459282,null,true,"855052",855,"OLD COLONY                   ","052","CARVER                       ",96,498,0.19277108434000001]
[855,336,855146,"OLD COLONY                   ",146,"LAKEVILLE                    ",0.27510040160999999,498,137,70.34,19.3505622492474,null,true,"855146",855,"OLD COLONY                   ",146,"LAKEVILLE                    ",137,498,0.27510040160999999]
[855,337,855173,"OLD COLONY                   ",173,"MATTAPOISETT                 ",8.8353413650000004E-2,498,44,82.5,7.289156626125,null,true,"855173",855,"OLD COLONY                   ",173,"MATTAPOISETT                 ",44,498,8.8353413650000004E-2]
[855,338,855250,"OLD COLONY                   ",250,"ROCHESTER                    ",0.1546184739,498,77,68,10.514056225199999,null,true,"855250",855,"OLD COLONY                   ",250,"ROCHESTER                    ",77,498,0.1546184739]
[860,339,860024,"PATHFINDER                   ",24,"BELCHERTOWN                  ",0.14973262032000001,561,84,51.75,7.74866310156,null,true,"860024",860,"PATHFINDER                   ","024","BELCHERTOWN                  ",84,561,0.14973262032000001]
[860,340,860111,"PATHFINDER                   ",111,"GRANBY                       ",3.5650623889999997E-2,561,20,61.91,2.2071301250298996,null,true,"860111",860,"PATHFINDER                   ",111,"GRANBY                       ",20,561,3.5650623889999997E-2]
[860,341,860124,"PATHFINDER                   ",124,"HARDWICK",4.2780748659999999E-2,561,24,39.65,1.6962566843689999,null,true,"860124",860,"PATHFINDER                   ",124,"HARDWICK",24,561,4.2780748659999999E-2]
[860,342,860191,"PATHFINDER                   ",191,"MONSON                       ",0.12834224598999999,561,72,57.59,7.3912299465641,null,true,"860191",860,"PATHFINDER                   ",191,"MONSON                       ",72,561,0.12834224598999999]
[860,343,860202,"PATHFINDER                   ",202,"NEW BRAINTREE                ",1.2477718360000001E-2,561,7,64.09,0.79969696969240012,null,true,"860202",860,"PATHFINDER                   ",202,"NEW BRAINTREE                ",7,561,1.2477718360000001E-2]
[860,344,860222,"PATHFINDER                   ",222,"OAKHAM",1.7825311940000001E-2,561,10,56.1,0.99999999983400012,null,true,"860222",860,"PATHFINDER                   ",222,"OAKHAM",10,561,1.7825311940000001E-2]
[860,345,860227,"PATHFINDER                   ",227,"PALMER                       ",0.33333333332999998,561,187,41.78,13.926666666527399,null,true,"860227",860,"PATHFINDER                   ",227,"PALMER                       ",187,561,0.33333333332999998]
[860,346,860309,"PATHFINDER                   ",309,"WARE                         ",0.20320855615,561,114,32.46,6.5961497326289997,null,true,"860309",860,"PATHFINDER                   ",309,"WARE                         ",114,561,0.20320855615]
[860,347,860311,"PATHFINDER                   ",311,"WARREN                       ",7.6648841349999997E-2,561,43,31.49,2.4136720141114996,null,true,"860311",860,"PATHFINDER                   ",311,"WARREN                       ",43,561,7.6648841349999997E-2]
[871,348,871023,"SHAWSHEEN VALLEY             ",23,"BEDFORD                      ",3.1178707220000001E-2,1315,41,82.5,2.57224334565,null,true,"871023",871,"SHAWSHEEN VALLEY             ","023","BEDFORD                      ",41,1315,3.1178707220000001E-2]
[871,349,871031,"SHAWSHEEN VALLEY             ",31,"BILLERICA                    ",0.38555133079999998,1315,507,82.5,31.807984790999999,null,true,"871031",871,"SHAWSHEEN VALLEY             ","031","BILLERICA                    ",507,1315,0.38555133079999998]
[871,350,871048,"SHAWSHEEN VALLEY             ",48,"BURLINGTON                   ",0.10266159696,1315,135,82.5,8.4695817491999996,null,true,"871048",871,"SHAWSHEEN VALLEY             ","048","BURLINGTON                   ",135,1315,0.10266159696]
[871,351,871295,"SHAWSHEEN VALLEY             ",295,"TEWKSBURY                    ",0.27148288973000001,1315,357,82.5,22.397338402725001,null,true,"871295",871,"SHAWSHEEN VALLEY             ",295,"TEWKSBURY                    ",357,1315,0.27148288973000001]
[871,352,871342,"SHAWSHEEN VALLEY             ",342,"WILMINGTON                   ",0.20912547529,1315,275,82.5,17.252851711424999,null,true,"871342",871,"SHAWSHEEN VALLEY             ",342,"WILMINGTON                   ",275,1315,0.20912547529]
[872,353,872044,"SOUTHEASTERN                 ",44,"BROCKTON                     ",0.62368908080999996,1621,1011,21.6,13.471684145496001,null,true,"872044",872,"SOUTHEASTERN                 ","044","BROCKTON                     ",1011,1621,0.62368908080999996]
[872,354,872083,"SOUTHEASTERN                 ",83,"EAST BRIDGEWATER             ",5.5521283159999997E-2,1621,90,55.66,3.0903146206855996,null,true,"872083",872,"SOUTHEASTERN                 ","083","EAST BRIDGEWATER             ",90,1621,5.5521283159999997E-2]
[872,355,872088,"SOUTHEASTERN                 ",88,"EASTON                       ",5.2436767430000003E-2,1621,85,82.49,4.3255089453007001,null,true,"872088",872,"SOUTHEASTERN                 ","088","EASTON                       ",85,1621,5.2436767430000003E-2]
[872,356,872099,"SOUTHEASTERN                 ",99,"FOXBOROUGH                   ",2.8994447869999999E-2,1621,47,82.5,2.3920419492749998,null,true,"872099",872,"SOUTHEASTERN                 ","099","FOXBOROUGH                   ",47,1621,2.8994447869999999E-2]
[872,357,872167,"SOUTHEASTERN                 ",167,"MANSFIELD                    ",6.4157927209999993E-2,1621,104,71.739999999999995,4.6026896980453991,null,true,"872167",872,"SOUTHEASTERN                 ",167,"MANSFIELD                    ",104,1621,6.4157927209999993E-2]
[872,358,872218,"SOUTHEASTERN                 ",218,"NORTON                       ",6.7859346079999994E-2,1621,110,71.819999999999993,4.8736582354655988,null,true,"872218",872,"SOUTHEASTERN                 ",218,"NORTON                       ",110,1621,6.7859346079999994E-2]
[872,359,872266,"SOUTHEASTERN                 ",266,"SHARON                       ",9.2535471899999992E-3,1621,15,80.2,0.74213448463799991,null,true,"872266",872,"SOUTHEASTERN                 ",266,"SHARON                       ",15,1621,9.2535471899999992E-3]
[872,360,872285,"SOUTHEASTERN                 ",285,"STOUGHTON                    ",6.8476249229999994E-2,1621,111,62.91,4.307840839059299,null,true,"872285",872,"SOUTHEASTERN                 ",285,"STOUGHTON                    ",111,1621,6.8476249229999994E-2]
[872,361,872323,"SOUTHEASTERN                 ",323,"WEST BRIDGEWATER             ",2.9611351019999999E-2,1621,48,64.72,1.9164466380143999,null,true,"872323",872,"SOUTHEASTERN                 ",323,"WEST BRIDGEWATER             ",48,1621,2.9611351019999999E-2]
[873,362,873001,"SOUTH SHORE                  ",1,"ABINGTON                     ",0.15686274510000001,561,88,60.3,9.4588235295299992,null,true,"873001",873,"SOUTH SHORE                  ","001","ABINGTON                     ",88,561,0.15686274510000001]
[873,363,873065,"SOUTH SHORE                  ",65,"COHASSET                     ",1.2477718360000001E-2,561,7,82.5,1.0294117647000001,null,true,"873065",873,"SOUTH SHORE                  ","065","COHASSET                     ",7,561,1.2477718360000001E-2]
[873,364,873122,"SOUTH SHORE                  ",122,"HANOVER                      ",9.0909090910000004E-2,561,51,76.92,6.9927272727972003,null,true,"873122",873,"SOUTH SHORE                  ",122,"HANOVER                      ",51,561,9.0909090910000004E-2]
[873,365,873123,"SOUTH SHORE                  ",123,"HANSON                       ",0.14973262032000001,561,84,63.18,9.4601069518176004,null,true,"873123",873,"SOUTH SHORE                  ",123,"HANSON                       ",84,561,0.14973262032000001]
[873,366,873219,"SOUTH SHORE                  ",219,"NORWELL                      ",4.0998217470000001E-2,561,23,82.5,3.3823529412750002,null,true,"873219",873,"SOUTH SHORE                  ",219,"NORWELL                      ",23,561,4.0998217470000001E-2]
[873,367,873251,"SOUTH SHORE                  ",251,"ROCKLAND                     ",0.25490196077999999,561,143,50.27,12.813921568410601,null,true,"873251",873,"SOUTH SHORE                  ",251,"ROCKLAND                     ",143,561,0.25490196077999999]
[873,368,873264,"SOUTH SHORE                  ",264,"SCITUATE                     ",5.3475935830000002E-2,561,30,82.5,4.411764705975,null,true,"873264",873,"SOUTH SHORE                  ",264,"SCITUATE                     ",30,561,5.3475935830000002E-2]
[873,369,873338,"SOUTH SHORE                  ",338,"WHITMAN                      ",0.24064171123,561,135,49.73,11.9671122994679,null,true,"873338",873,"SOUTH SHORE                  ",338,"WHITMAN                      ",135,561,0.24064171123]
[876,370,876017,"SOUTHERN WORCESTER           ",17,"AUBURN                       ",8.2500000000000004E-2,1200,99,56.72,4.6794000000000002,null,true,"876017",876,"SOUTHERN WORCESTER           ","017","AUBURN                       ",99,1200,8.2500000000000004E-2]
[876,371,876054,"SOUTHERN WORCESTER           ",54,"CHARLTON                     ",0.18166666667,1200,218,56.02,10.176966666853401,null,true,"876054",876,"SOUTHERN WORCESTER           ","054","CHARLTON                     ",218,1200,0.18166666667]
[876,372,876080,"SOUTHERN WORCESTER           ",80,"DUDLEY                       ",0.10666666666999999,1200,128,42.75,4.5600000001424998,null,true,"876080",876,"SOUTHERN WORCESTER           ","080","DUDLEY                       ",128,1200,0.10666666666999999]
[876,373,876215,"SOUTHERN WORCESTER           ",215,"NORTH BROOKFIELD",3.5833333330000001E-2,1200,43,45.29,1.6228916665157,null,true,"876215",876,"SOUTHERN WORCESTER           ",215,"NORTH BROOKFIELD",43,1200,3.5833333330000001E-2]
[876,374,876226,"SOUTHERN WORCESTER           ",226,"OXFORD                       ",0.11166666667,1200,134,54.29,6.0623833335142994,null,true,"876226",876,"SOUTHERN WORCESTER           ",226,"OXFORD                       ",134,1200,0.11166666667]
[876,375,876228,"SOUTHERN WORCESTER           ",228,"PAXTON                       ",1.7500000000000002E-2,1200,21,67.8,1.1865000000000001,null,true,"876228",876,"SOUTHERN WORCESTER           ",228,"PAXTON                       ",21,1200,1.7500000000000002E-2]
[876,376,876257,"SOUTHERN WORCESTER           ",257,"RUTLAND",5.166666667E-2,1200,62,46.36,2.3952666668211999,null,true,"876257",876,"SOUTHERN WORCESTER           ",257,"RUTLAND",62,1200,5.166666667E-2]
[876,377,876277,"SOUTHERN WORCESTER           ",277,"SOUTHBRIDGE                  ",0.17249999999999999,1200,207,25.95,4.4763749999999991,null,true,"876277",876,"SOUTHERN WORCESTER           ",277,"SOUTHBRIDGE                  ",207,1200,0.17249999999999999]
[876,378,{"$f":"A386*1000+E386","v":876280},"SOUTHERN WORCESTER           ",280,"SPENCER                      ",0.12333333333,1200,148,49.65,6.1234999998345003,null,true,"876280",876,"SOUTHERN WORCESTER           ",280,"SPENCER                      ",148,1200,0.12333333333]
[876,379,876316,"SOUTHERN WORCESTER           ",316,"WEBSTER                      ",0.11666666667,1200,140,46.76,5.4553333334892002,null,true,"876316",876,"SOUTHERN WORCESTER           ",316,"WEBSTER                      ",140,1200,0.11666666667]
[878,380,878101,"TRI COUNTY                   ",101,"FRANKLIN                     ",0.17920353982000001,904,162,71.25,12.768252212175,null,true,"878101",878,"TRI COUNTY                   ",101,"FRANKLIN                     ",162,904,0.17920353982000001]
[878,381,878175,"TRI COUNTY                   ",175,"MEDFIELD                     ",9.95575221E-3,904,9,82.5,0.82134955732500003,null,true,"878175",878,"TRI COUNTY                   ",175,"MEDFIELD                     ",9,904,9.95575221E-3]
[878,382,878177,"TRI COUNTY                   ",177,"MEDWAY                       ",7.3008849560000005E-2,904,66,76.84,5.6100000001904009,null,true,"878177",878,"TRI COUNTY                   ",177,"MEDWAY                       ",66,904,7.3008849560000005E-2]
[878,383,878187,"TRI COUNTY                   ",187,"MILLIS                       ",6.5265486730000002E-2,904,59,77.28,5.0437168144944007,null,true,"878187",878,"TRI COUNTY                   ",187,"MILLIS                       ",59,904,6.5265486730000002E-2]
[878,384,878208,"TRI COUNTY                   ",208,"NORFOLK                      ",2.765486726E-2,904,25,82.5,2.2815265489500001,null,true,"878208",878,"TRI COUNTY                   ",208,"NORFOLK                      ",25,904,2.765486726E-2]
[878,385,878212,"TRI COUNTY                   ",212,"NORTH ATTLEBOROUGH           ",0.28982300885000001,904,262,{"$f":"ROUND(VLOOKUP(E393,town351,12),2)","v":63.3},18.345796460205001,null,true,"878212",878,"TRI COUNTY                   ",212,"NORTH ATTLEBOROUGH           ",262,904,0.28982300885000001]
[878,386,878238,"TRI COUNTY                   ",238,"PLAINVILLE                   ",9.623893805E-2,904,87,76.11,7.3247455749855002,null,true,"878238",878,"TRI COUNTY                   ",238,"PLAINVILLE                   ",87,904,9.623893805E-2]
[878,387,878265,"TRI COUNTY                   ",265,"SEEKONK                      ",9.1814159290000003E-2,904,83,72.03,{"$f":"G395*J395","v":6.6133738936587001},null,{"$f":"VALUE(N395)=C395","v":true},"878265",878,"TRI COUNTY                   ",265,"SEEKONK                      ",83,904,9.1814159290000003E-2]
[878,388,878269,"TRI COUNTY                   ",269,"SHERBORN                     ",2.2123893800000002E-3,904,2,82.5,0.18252212385000002,null,true,"878269",878,"TRI COUNTY                   ",269,"SHERBORN                     ",2,904,2.2123893800000002E-3]
[878,389,878307,"TRI COUNTY                   ",307,"WALPOLE                      ",9.1814159290000003E-2,904,83,82.5,7.5746681414250006,null,true,"878307",878,"TRI COUNTY                   ",307,"WALPOLE                      ",83,904,9.1814159290000003E-2]
[878,390,878350,"TRI COUNTY                   ",350,"WRENTHAM                     ",7.3008849560000005E-2,904,66,82.5,6.0232300887000001,null,true,"878350",878,"TRI COUNTY                   ",350,"WRENTHAM                     ",66,904,7.3008849560000005E-2]
[879,391,879036,"UPPER CAPE COD               ",36,"BOURNE                       ",0.23614775726000001,758,179,82.5,19.48218997395,null,true,"879036",879,"UPPER CAPE COD               ","036","BOURNE                       ",179,758,0.23614775726000001]
[879,392,879096,"UPPER CAPE COD               ",96,"FALMOUTH                     ",0.2401055409,758,182,82.5,19.808707124249999,null,true,"879096",879,"UPPER CAPE COD               ","096","FALMOUTH                     ",182,758,0.2401055409]
[879,393,879169,"UPPER CAPE COD               ",169,"MARION                       ",2.242744063E-2,758,17,82.5,1.8502638519750001,null,true,"879169",879,"UPPER CAPE COD               ",169,"MARION                       ",17,758,2.242744063E-2]
[879,394,879261,"UPPER CAPE COD               ",261,"SANDWICH                     ",0.172823219,758,131,82.5,14.2579155675,null,true,"879261",879,"UPPER CAPE COD               ",261,"SANDWICH                     ",131,758,0.172823219]
[879,395,879310,"UPPER CAPE COD               ",310,"WAREHAM                      ",0.32849604222000001,758,249,64.91,21.322678100500198,null,true,"879310",879,"UPPER CAPE COD               ",310,"WAREHAM                      ",249,758,0.32849604222000001]
[885,396,885007,"WHITTIER                     ",7,"AMESBURY                     ",8.5209003219999996E-2,1244,106,77.97,6.6437459810633994,null,true,"885007",885,"WHITTIER                     ","007","AMESBURY                     ",106,1244,8.5209003219999996E-2]
[885,397,885105,"WHITTIER                     ",105,"GEORGETOWN                   ",3.1350482319999998E-2,1244,39,80.25,2.5158762061799997,null,true,"885105",885,"WHITTIER                     ",105,"GEORGETOWN                   ",39,1244,3.1350482319999998E-2]
[885,398,885116,"WHITTIER                     ",116,"GROVELAND                    ",3.1350482319999998E-2,1244,39,75.64,2.3713504826847998,null,true,"885116",885,"WHITTIER                     ",116,"GROVELAND                    ",39,1244,3.1350482319999998E-2]
[885,399,885128,"WHITTIER                     ",128,"HAVERHILL                    ",0.69935691318000004,1244,870,42.64,29.820578777995202,null,true,"885128",885,"WHITTIER                     ",128,"HAVERHILL                    ",870,1244,0.69935691318000004]
[885,400,885144,"WHITTIER                     ",144,"IPSWICH                      ",2.2508038590000001E-2,1244,28,82.5,1.8569131836750001,null,true,"885144",885,"WHITTIER                     ",144,"IPSWICH                      ",28,1244,2.2508038590000001E-2]
[885,401,885180,"WHITTIER                     ",180,"MERRIMAC                     ",4.0192926050000001E-2,1244,50,73.349999999999994,2.9481511257674997,null,true,"885180",885,"WHITTIER                     ",180,"MERRIMAC                     ",50,1244,4.0192926050000001E-2]
[885,402,885203,"WHITTIER                     ",203,"NEWBURY                      ",1.366559486E-2,1244,17,82.5,1.1274115759500001,null,true,"885203",885,"WHITTIER                     ",203,"NEWBURY                      ",17,1244,1.366559486E-2]
[885,403,885204,"WHITTIER                     ",204,"NEWBURYPORT                  ",2.652733119E-2,1244,33,82.5,2.1885048231750002,null,true,"885204",885,"WHITTIER                     ",204,"NEWBURYPORT                  ",33,1244,2.652733119E-2]
[885,404,885254,"WHITTIER                     ",254,"ROWLEY                       ",1.5273311899999999E-2,1244,19,82.5,1.2600482317499999,null,true,"885254",885,"WHITTIER                     ",254,"ROWLEY                       ",19,1244,1.5273311899999999E-2]
[885,405,885259,"WHITTIER                     ",259,"SALISBURY                    ",2.7331189709999999E-2,1244,34,82.5,2.2548231510750001,null,true,"885259",885,"WHITTIER                     ",259,"SALISBURY                    ",34,1244,2.7331189709999999E-2]
[885,406,885329,"WHITTIER                     ",329,"WEST NEWBURY                 ",7.2347266900000002E-3,1244,9,82.5,0.596864951925,null,true,"885329",885,"WHITTIER                     ",329,"WEST NEWBURY                 ",9,1244,7.2347266900000002E-3]
[910,407,910003,"BRISTOL COUNTY               ",3,"ACUSHNET                     ",2.6178010469999999E-2,382,10,58.26,1.5251308899821998,null,true,"910003",910,"BRISTOL COUNTY               ","003","ACUSHNET                     ",10,382,2.6178010469999999E-2]
[910,408,910016,"BRISTOL COUNTY               ",16,"ATTLEBORO                    ",5.2356020939999998E-2,382,20,48.69,2.5492146595685998,null,true,"910016",910,"BRISTOL COUNTY               ","016","ATTLEBORO                    ",20,382,5.2356020939999998E-2]
[910,409,910027,"BRISTOL COUNTY               ",27,"BERKLEY                      ",2.3560209419999999E-2,382,9,53.35,1.256937172557,null,true,"910027",910,"BRISTOL COUNTY               ","027","BERKLEY                      ",9,382,2.3560209419999999E-2]
[910,410,910072,"BRISTOL COUNTY               ",72,"DARTMOUTH                    ",4.7120418849999998E-2,382,18,82.5,3.887434555125,null,true,"910072",910,"BRISTOL COUNTY               ","072","DARTMOUTH                    ",18,382,4.7120418849999998E-2]
[910,411,910076,"BRISTOL COUNTY               ",76,"DIGHTON                      ",3.1413612569999999E-2,382,12,51.48,1.6171727751035998,null,true,"910076",910,"BRISTOL COUNTY               ","076","DIGHTON                      ",12,382,3.1413612569999999E-2]
[910,412,910088,"BRISTOL COUNTY               ",88,"EASTON                       ",2.0942408379999999E-2,382,8,82.49,1.7275392672661998,null,true,"910088",910,"BRISTOL COUNTY               ","088","EASTON                       ",8,382,2.0942408379999999E-2]
[910,413,910094,"BRISTOL COUNTY               ",94,"FAIRHAVEN                    ",5.2356020939999998E-2,382,20,62.92,3.2942408375448,null,true,"910094",910,"BRISTOL COUNTY               ","094","FAIRHAVEN                    ",20,382,5.2356020939999998E-2]
[910,414,910095,"BRISTOL COUNTY               ",95,"FALL RIVER                   ",0.10994764398,382,42,22.31,2.4529319371937999,null,true,"910095",910,"BRISTOL COUNTY               ","095","FALL RIVER                   ",42,382,0.10994764398]
[910,415,910102,"BRISTOL COUNTY               ",102,"FREETOWN                     ",3.1413612569999999E-2,382,12,71.42,2.2435602097494001,null,true,"910102",910,"BRISTOL COUNTY               ",102,"FREETOWN                     ",12,382,3.1413612569999999E-2]
[910,416,910167,"BRISTOL COUNTY               ",167,"MANSFIELD                    ",7.8534031399999996E-3,382,3,71.739999999999995,0.56340314126359992,null,true,"910167",910,"BRISTOL COUNTY               ",167,"MANSFIELD                    ",3,382,7.8534031399999996E-3]
[910,417,910201,"BRISTOL COUNTY               ",201,"NEW BEDFORD                  ",0.13612565444999999,382,52,20.6,2.8041884816700002,null,true,"910201",910,"BRISTOL COUNTY               ",201,"NEW BEDFORD                  ",52,382,0.13612565444999999]
[910,418,910212,"BRISTOL COUNTY               ",212,"NORTH ATTLEBOROUGH           ",2.8795811519999999E-2,382,11,63.3,1.822774869216,null,true,"910212",910,"BRISTOL COUNTY               ",212,"NORTH ATTLEBOROUGH           ",11,382,2.8795811519999999E-2]
[910,419,910218,"BRISTOL COUNTY               ",218,"NORTON                       ",2.3560209419999999E-2,382,9,71.819999999999993,1.6920942405443997,null,true,"910218",910,"BRISTOL COUNTY               ",218,"NORTON                       ",9,382,2.3560209419999999E-2]
[910,420,910245,"BRISTOL COUNTY               ",245,"RAYNHAM                      ",3.1413612569999999E-2,382,12,61.59,1.9347643981863001,null,true,"910245",910,"BRISTOL COUNTY               ",245,"RAYNHAM                      ",12,382,3.1413612569999999E-2]
[910,421,910247,"BRISTOL COUNTY               ",247,"REHOBOTH                     ",5.7591623039999998E-2,382,22,82.5,4.7513089007999998,null,true,"910247",910,"BRISTOL COUNTY               ",247,"REHOBOTH                     ",22,382,5.7591623039999998E-2]
[910,422,910265,"BRISTOL COUNTY               ",265,"SEEKONK                      ",4.7120418849999998E-2,382,18,72.03,3.3940837697655,null,true,"910265",910,"BRISTOL COUNTY               ",265,"SEEKONK                      ",18,382,4.7120418849999998E-2]
[910,423,910273,"BRISTOL COUNTY               ",273,"SOMERSET                     ",4.7120418849999998E-2,382,18,54.18,2.552984293293,null,true,"910273",910,"BRISTOL COUNTY               ",273,"SOMERSET                     ",18,382,4.7120418849999998E-2]
[910,424,910292,"BRISTOL COUNTY               ",292,"SWANSEA                      ",4.7120418849999998E-2,382,18,61.49,2.8974345550864999,null,true,"910292",910,"BRISTOL COUNTY               ",292,"SWANSEA                      ",18,382,4.7120418849999998E-2]
[910,425,910293,"BRISTOL COUNTY               ",293,"TAUNTON                      ",0.10209424084,382,39,36.14,3.6896858639576,null,true,"910293",910,"BRISTOL COUNTY               ",293,"TAUNTON                      ",39,382,0.10209424084]
[910,426,910331,"BRISTOL COUNTY               ",331,"WESTPORT                     ",7.5916230370000004E-2,382,29,82.5,6.2630890055249999,null,true,"910331",910,"BRISTOL COUNTY               ",331,"WESTPORT                     ",29,382,7.5916230370000004E-2]
[915,427,915018,"NORFOLK COUNTY               ",18,"AVON                         ",1.7605633799999999E-2,284,5,66.69,1.174119718122,null,true,"915018",915,"NORFOLK COUNTY               ","018","AVON                         ",5,284,1.7605633799999999E-2]
[915,428,915025,"NORFOLK COUNTY               ",25,"BELLINGHAM                   ",8.0985915490000004E-2,284,23,69.930000000000007,5.6633450702157004,null,true,"915025",915,"NORFOLK COUNTY               ","025","BELLINGHAM                   ",23,284,8.0985915490000004E-2]
[915,429,915040,"NORFOLK COUNTY               ",40,"BRAINTREE                    ",7.7464788729999998E-2,284,22,77.989999999999995,6.0414788730526992,null,true,"915040",915,"NORFOLK COUNTY               ","040","BRAINTREE                    ",22,284,7.7464788729999998E-2]
[915,430,915046,"NORFOLK COUNTY               ",46,"BROOKLINE                    ",3.5211267599999999E-3,284,1,82.5,0.2904929577,null,true,"915046",915,"NORFOLK COUNTY               ","046","BROOKLINE                    ",1,284,3.5211267599999999E-3]
[915,431,915050,"NORFOLK COUNTY               ",50,"CANTON                       ",2.8169014079999999E-2,284,8,82.5,2.3239436616,null,true,"915050",915,"NORFOLK COUNTY               ","050","CANTON                       ",8,284,2.8169014079999999E-2]
[915,432,915065,"NORFOLK COUNTY               ",65,"COHASSET                     ",0,284,0,82.5,0,null,true,"915065",915,"NORFOLK COUNTY               ","065","COHASSET                     ",0,284,0]
[915,433,915073,"NORFOLK COUNTY               ",73,"DEDHAM                       ",3.8732394369999999E-2,284,11,82.5,3.1954225355250001,null,true,"915073",915,"NORFOLK COUNTY               ","073","DEDHAM                       ",11,284,3.8732394369999999E-2]
[915,434,915078,"NORFOLK COUNTY               ",78,"DOVER                        ",0,284,0,82.5,0,null,true,"915078",915,"NORFOLK COUNTY               ","078","DOVER                        ",0,284,0]
[915,435,915099,"NORFOLK COUNTY               ",99,"FOXBOROUGH                   ",4.5774647889999999E-2,284,13,82.5,3.776408450925,null,true,"915099",915,"NORFOLK COUNTY               ","099","FOXBOROUGH                   ",13,284,4.5774647889999999E-2]
[915,436,915101,"NORFOLK COUNTY               ",101,"FRANKLIN                     ",4.5774647889999999E-2,284,13,71.25,3.2614436621624998,null,true,"915101",915,"NORFOLK COUNTY               ",101,"FRANKLIN                     ",13,284,4.5774647889999999E-2]
[915,437,915133,"NORFOLK COUNTY               ",133,"HOLBROOK                     ",1.4084507039999999E-2,284,4,50.87,0.71647887312479996,null,true,"915133",915,"NORFOLK COUNTY               ",133,"HOLBROOK                     ",4,284,1.4084507039999999E-2]
[915,438,915175,"NORFOLK COUNTY               ",175,"MEDFIELD                     ",2.1126760559999999E-2,284,6,82.5,1.7429577461999999,null,true,"915175",915,"NORFOLK COUNTY               ",175,"MEDFIELD                     ",6,284,2.1126760559999999E-2]
[915,439,915177,"NORFOLK COUNTY               ",177,"MEDWAY                       ",4.2253521129999999E-2,284,12,76.84,3.2467605636292003,null,true,"915177",915,"NORFOLK COUNTY               ",177,"MEDWAY                       ",12,284,4.2253521129999999E-2]
[915,440,915187,"NORFOLK COUNTY               ",187,"MILLIS                       ",3.8732394369999999E-2,284,11,77.28,2.9932394369135999,null,true,"915187",915,"NORFOLK COUNTY               ",187,"MILLIS                       ",11,284,3.8732394369999999E-2]
[915,441,915189,"NORFOLK COUNTY               ",189,"MILTON                       ",1.056338028E-2,284,3,82.5,0.87147887309999994,null,true,"915189",915,"NORFOLK COUNTY               ",189,"MILTON                       ",3,284,1.056338028E-2]
[915,442,{"$f":"A450*1000+E450","v":915199},"NORFOLK COUNTY               ",199,"NEEDHAM                      ",7.0422535199999997E-3,284,2,82.5,0.5809859154,null,true,"915199",915,"NORFOLK COUNTY               ",199,"NEEDHAM                      ",2,284,7.0422535199999997E-3]
[915,443,915208,"NORFOLK COUNTY               ",208,"NORFOLK                      ",4.9295774649999999E-2,284,14,82.5,4.0669014086250002,null,true,"915208",915,"NORFOLK COUNTY               ",208,"NORFOLK                      ",14,284,4.9295774649999999E-2]
[915,444,915220,"NORFOLK COUNTY               ",220,"NORWOOD                      ",5.9859154929999998E-2,284,17,82.5,4.9383802817250002,null,true,"915220",915,"NORFOLK COUNTY               ",220,"NORWOOD                      ",17,284,5.9859154929999998E-2]
[915,445,915238,"NORFOLK COUNTY               ",238,"PLAINVILLE                   ",2.8169014079999999E-2,284,8,76.11,2.1439436616287999,null,true,"915238",915,"NORFOLK COUNTY               ",238,"PLAINVILLE                   ",8,284,2.8169014079999999E-2]
[915,446,915243,"NORFOLK COUNTY               ",243,"QUINCY                       ",5.6338028169999999E-2,284,16,81.040000000000006,4.5656338028968007,null,true,"915243",915,"NORFOLK COUNTY               ",243,"QUINCY                       ",16,284,5.6338028169999999E-2]
[915,447,915244,"NORFOLK COUNTY               ",244,"RANDOLPH                     ",3.169014085E-2,284,9,56.08,1.777183098868,null,true,"915244",915,"NORFOLK COUNTY               ",244,"RANDOLPH                     ",9,284,3.169014085E-2]
[915,448,915266,"NORFOLK COUNTY               ",266,"SHARON                       ",1.7605633799999999E-2,284,5,80.2,1.41197183076,null,true,"915266",915,"NORFOLK COUNTY               ",266,"SHARON                       ",5,284,1.7605633799999999E-2]
[915,449,915285,"NORFOLK COUNTY               ",285,"STOUGHTON                    ",4.2253521129999999E-2,284,12,{"$f":"ROUND(VLOOKUP(E457,town351,12),2)","v":62.91},2.6581690142882999,null,true,"915285",915,"NORFOLK COUNTY               ",285,"STOUGHTON                    ",12,284,4.2253521129999999E-2]
[915,450,915307,"NORFOLK COUNTY               ",307,"WALPOLE                      ",7.7464788729999998E-2,284,22,82.5,6.3908450702249997,null,true,"915307",915,"NORFOLK COUNTY               ",307,"WALPOLE                      ",22,284,7.7464788729999998E-2]
[915,451,915317,"NORFOLK COUNTY               ",317,"WELLESLEY",3.5211267599999999E-3,284,1,82.5,{"$f":"G459*J459","v":0.2904929577},null,{"$f":"VALUE(N459)=C459","v":true},"915317",915,"NORFOLK COUNTY               ",317,"WELLESLEY",1,284,3.5211267599999999E-3]
[915,452,915335,"NORFOLK COUNTY               ",335,"WESTWOOD                     ",3.8732394369999999E-2,284,11,82.5,3.1954225355250001,null,{"$f":"VALUE(N460)=C460","v":true},"915335",915,"NORFOLK COUNTY               ",335,"WESTWOOD                     ",11,284,3.8732394369999999E-2]
[915,453,915336,"NORFOLK COUNTY               ",336,"WEYMOUTH                     ",8.8028169010000004E-2,284,25,80.42,7.0792253517842001,null,{"$f":"VALUE(N461)=C461","v":true},"915336",915,"NORFOLK COUNTY               ",336,"WEYMOUTH                     ",25,284,8.8028169010000004E-2]
[915,454,915350,"NORFOLK COUNTY               ",350,"WRENTHAM                     ",3.5211267609999999E-2,284,10,82.5,2.9049295778249999,null,{"$f":"VALUE(N462)=C462","v":true},"915350",915,"NORFOLK COUNTY               ",350,"WRENTHAM                     ",10,284,3.5211267609999999E-2]