{"text_format":"1","workbook":"xlsx","n_sheets":19,"sheets":["notes","parameters","localcont","Index","MoreAboutData","Foundation Budget","Municipal Contribution","Regional Allocation","Summary","Regional District Members","Comparison to FY23","Rates","Townwide Contributions","Aid436","ceyregionalcalc","disthist","dist435","leas","frac"],"not_rendered":{"charts":6,"images":7,"macros":1,"external_links":0,"defined_names":152,"comments":1,"pivot_tables":0},"unopened":[],"bounds":{"document_bytes":16777216,"sheet_cells":100000,"rows_first":2000,"rows_last":500,"rows_between":2000,"halvings":0,"cell_chars":16384,"cell_head_chars":4096},"cells_cut":0,"cells_raw":0,"read":"whole","date_system":"1900"}

{"sheet":"notes","index":0,"n_rows":30,"n_cols":4,"rows_kept":30,"cut":false,"hidden":true,"merged":[]}
["FY24 Chapter 70"]
[]
["Tabs","What happens on this sheet","Data source (if any)","Notes"]
["Parameters","Allows the user to adjust all of the policy levers in Chapter 70, except for changes to foundation.  Foundation budget scenarios can be changed, but they must 1st be run separately and dropped into localcont (all the way to the right).  Up to 11 alternatives can be included."]
["Index","Controls the district being viewed for all reports except regional dist members","Dropdown box reads LEAs"]
["Rates","CY and PY foundation budget rates\nUsed to calculate foundation budget report","Copied in from found file","Copied in FY24 rates"]
["Foundation Budget","1 district report showing build-up of foundation budget","Rates, dist435"]
["Municipal Contribution","1 city/town report showing build-up of required local contribution (municipal level)","townwide contributions"]
["Regional Allocation","1 city/town report showing allocation of total municipal required local contribution based on proportion of foundation budget at each district to which it belongs","localcont"]
["Summary","1 district report summarizing C70 calculation and comparison to PY","aid436, disthist"]
["Regional Dist Members","1 regional district report summarizing enrollment and local contribution for each member town\nChanged in FY18 to vlookup on localcont","localcont, leas"]
["LocalCont","Results from distfrac get copied into the far right (up to 11 versions of foundation budget can be entered).  Toggle is on parameters sheet.\nData is organized in 5 row format for each city/town (municipality and its districts, blanks are 998 and total is 999).\nUsed to calculate each municipal-district combination's RLC.","found file, distfrac (allocate sheet)","Copied in FY23 foundation budget, %s, RLCs and enro. Starting in FY24, Warwick will no longer be part of Pioneer. Removed Warwick/Pioneer combination on this tab."]
[]
["Comparison to FY23","2 year comparison for operating districts","aid436, disthist, localcont","Only includes districts operating in both FY23 and FY24"]
["Townwide Contributions","Calculates municipal required local contributions","DOR (EQV, Income, MRGFs), PY file (RLCs), parameters","Copied FY23 RLCs into PY RLC column; updated formulas in columns I, Q, and Y to return value = 0 if townwide foundation budget = 0"]
["Aid436","Calculates district Ch 70 aid","disthist, localcont, frac, parameters\nStarting w/ LEA 406, in col J (target aid %), formula changes to pull from frac tab.","min aid adjustment only applied to operating districts; adjusted base aid for Warwick and Pioneer Valley"]
["Frac","Calculates target aid percentage for regional districts",null,"Copied from distfrac24"]
["DistHist","***Don't forget to copy in target aid %s from PY\nHistorical C70 data used in summary report, and other places",null,"Copied in FY23 FB, RLC and Aid\nCopied in target aid %s from FY23\n"]
["Dist435","Data source for foundation budget report, shows detailed enrollment and budget columns","found24"]
[]
["Data","Source","Year","Notes"]
["Inflation","BEA website","Q3 2021 to Q3 2022","Table 1.1.9. Implicit Price Deflators for Gross Domestic Product"]
["Wage Adjustment Factor Inputs","EOLWD",2021]
["EQV","DOR",2022]
["Income","DOR",2020]
["Enrollment incl. Postgrads","DESE","2022-10-01","found24"]
["MRGFs","DOR/ANF",2024]
[]
[]
["12/7/22: Starting in FY24, Warwick will no longer be part of Pioneer."]

{"sheet":"parameters","index":1,"n_rows":50,"n_cols":29,"rows_kept":50,"cut":false,"hidden":true,"merged":[[4,10,4,30]]}
["Cyr","FY24",24]
["Pyr","FY23",23]
["As of","2023-02-14"]
[]
["Parameters",null,null,"Base",null,null,null,null,null,null,"Analysis of Aggregate Wealth Model Implementation"]
[null,"Which version of foundation budget? ",1,1,null,null,"FY23 C70 including Devens",5998209886.6000023]
[null,"Effort reduction",1,0,null,null,null,null,null,null,"Progress Towards Target Local Share"]
[null,"Pct downpayment on target aid share",0,0,null,null,"FY24 foundation aid increase",{"$f":"'Aid436'!L448","v":578427445.99999893}]
[null,null,null,0,null,null,null,null,null,null,null,"FY07","FY08","FY09","FY10","FY11","FY12","FY13","FY14","FY15","FY16","FY17","FY18","FY19","FY20","FY21","FY22","FY23",{"$f":"CYr","v":"FY24"}]
[null,null,null,null,null,null,"Minimum per pupil aid increase",{"$f":"'Aid436'!R448","v":7672268.9999991721},null,null,"excess effort before effort reduction",621.084157,494.05891200000002,372.382091,228.110232,366,293.3,229.8,234.5,307.90301399999998,235.358789,299.86437000000001,151.670894,68.664220999999998,21.435137000000001,104.649236,93.814687000000006,3.8705799999999999,{"$f":"'Townwide Contributions'!V361/1000000","v":2.463965}]
[null,null,null,null,null,null,"Min aid adjustment increase",{"$f":"'Aid436'!U448","v":354574.00000000058},null,null,"effort reduction",124.21683139999998,123.51472800000001,122.88609003000001,34.216535,109.8,58.7,34.5,35.200000000000003,153.95150699999999,117.6793945,254.88471449999989,128.92025990000005,68.664220999999998,21.435137000000001,104.649236,93.814687000000006,3.8705799999999999,{"$f":"'Townwide Contributions'!V361/1000000","v":2.463965}]
[null,null,null,null,null,null,"Non-op reduction",{"$f":"'Aid436'!W448","v":68265.000000000015},null,null,"net excess after effort reduction",496.86732560000002,370.54418399999997,249.49600097000001,193.893697,256.2,{"$f":"Q10-Q11","v":234.60000000000002},{"$f":"R10-R11","v":195.3},199.3,152.08069825743701,117.482913201,44.978793475999993,22.749214023213945,0,0,0,0,0,{"$f":"'Townwide Contributions'!AC361/1000000","v":0}]
[null,null,null,null,null,null,"FY24 Chapter 70",{"$f":"'Aid436'!Y448","v":6584287352.5999994},null,null,"shortfall below target before increment",-321.45232199999998,-352.17487499999999,-359.19356299999998,-427.2,-228,-211,-200,-180.2,-162.97221500000001,-132.627218,-96.928090999999995,-103.17317,-117.254713,-207.485209,-163.71,-228.99932699999999,-494.81849599999998,{"$f":"'Townwide Contributions'!AA361/1000000","v":-746.81128999999999}]
[null,"Per pupil guaranteed increase",30,0,null,null,"Devens",{"$f":"308558","v":308558},null,null,"additional increments toward target",0,-19.739149000000001,-21.387588000000001,-121.2,-10.6,-10,-4.2,-3.9,-7.5630930000000003,-5.8487390000000001,-2.4742150000000001,-3.6281780000000001,-5.3203490000000002,-19.253945000000002,-9.3782169999999994,-20.199767999999999,-56.264627000000004,{"$f":"('Townwide Contributions'!T361/1000000*-1)+('Townwide Contributions'!W361/1000000*-1)","v":-73.834959999999995}]
[null,"Which version of mrgf? ",1,1,null,null,null,null,null,null,"net shortfall below target after increment",-321.45232199999998,-332.43572599999999,-337.80597499999999,-306,-217.4,-200.9,-195.7,-176.3,-155.409122,-126.778479,-94.453875999999994,-99.544991999999993,-111.934364,-188.23126400000001,-154.331783,-208.79955899999999,-438.55386900000002,{"$f":"'Townwide Contributions'!AB361/1000000","v":-672.97632999999996}]
[null,"Below effort threshold 1",2.5,2.5,null,null,"Change in C70 Appropriation",{"$f":"H13+H14-H6","v":586386023.99999714},null,null,"n of municipalities with effort too high",232,218,214,193,282,257,249,255,279,278,303,291,0,0,0,0,0,{"$f":"'Townwide Contributions'!AC364","v":0}]
[null,"Below effort threshold 2",7.5,7.5,null,null,"Percent Change",{"$f":"H16/H6","v":9.7760170965338039E-2}]
[null,"Below effort contribution increment, 5-10% under",0.01,0.01]
[null,"Below effort contribution increment, >10% under",0.02,0.02,null,null,"N of Foundation Aid Districts",{"$f":"'Aid436'!P448","v":203}]
[null,"Maximum local contribution pct of foundation",0.82499999999999996,0.82499999999999996,null,null,"N of Operating Districts with an Aid Increase",{"$f":"'Comparison to FY23'!N331","v":318}]
[null,"Statewide target for local contribution % of foundation",0.59,0.59,null,null,"Total C70 Including Devens",{"$f":"H13+H14","v":6584595910.5999994}]
[null,"Cap contributions at fixed percentage of foundation",0.9,0.9]
[null,null,null,0]
["Eqv/income percentages"]
[]
[null,"Target effort",{"$f":"C21*localcont!K1765","v":8239359811.3059101}]
[null,"Effort based upon following percentages",{"$f":"'Townwide Contributions'!K361","v":8239359807}]
[null,"Difference  from target",{"$f":"IF(ABS(C27-C26)<10,0,C27-C26)","v":0}]
[null,"           Percentage of EQV ",3.533667422686299E-3]
[null,"           Percentage of INCOME",{"$f":"C29*1/C34","v":1.5329439843376258E-2}]
[]
[null,"Total EQV",{"$f":"'Townwide Contributions'!C361","v":1583183946900}]
[null,"Total Income",{"$f":"'Townwide Contributions'!E361","v":364947812473.25}]
[null,"State Average % of EQV",{"$f":"C33/C32","v":0.2305151041910492}]
[]
[]
["See Progress Towards Targets"]
[]
[]
[]
[]
[null,null,null,null,null,null,null,null,null,null,"Progress Towards Target Aid Share"]
[]
[null,null,null,null,null,null,null,null,null,null,null,"FY07","FY08","FY09","FY10","FY11","FY12","FY13","FY14","FY15","FY16","FY17","FY18","FY19","FY20","FY21","FY22","FY23",{"$f":"CYr","v":"FY24"}]
[null,null,null,null,null,null,null,null,null,null,"aid above target",394.9,421,440.4,413.59914561056684,489.29058672761249,360.5802896250691,372.91397258755205,385.3,404.65393358144092,419.07307786449184,488.13621374028867,497.40384494550671,487.80696944632837,518.44879540449108,516.49432754833651,613.17696001292984,712.80310162890635,{"$f":"'Aid436'!AE449/1000000","v":858.57986189753001}]
[null,null,null,null,null,null,null,null,null,null,"aid below target",-176.3,-143,-105.5,-97.823632622684812,-75.730739773442338,-110.4290612110001,-84.706296922117531,-66.900000000000006,-49.399214270156875,-44.487988876901781,-13.013026762936654,-7.2026888360463408,-1.8096836867057722E-2,-1.1899810261307884E-3,-1.2838879272505514E-2,-1.7719228420077125E-3,-1.9628827480482868E-6,{"$f":"'Aid436'!AE450/1000000","v":-2.8346779994899409E-6}]
[]
[]
[]
[null,null,{"$f":"TEXT(effortred,\"0%\")","v":"100%"}]

{"sheet":"localcont","index":2,"n_rows":1765,"n_cols":93,"rows_kept":1765,"cut":false,"hidden":true,"merged":[[5,95,5,99],[4,95,4,99],[4,61,4,65],[5,61,5,65],[4,67,4,71],[5,67,5,71],[4,85,4,89],[5,85,5,89],[4,73,4,77],[5,73,5,77],[4,79,4,83],[5,79,5,83],[4,55,4,59],[5,55,5,59],[5,19,5,23],[4,43,4,47],[5,43,5,47],[4,49,4,53],[5,49,5,53],[5,25,5,29],[4,31,4,35],[5,31,5,35],[4,37,4,41],[5,37,5,41],[4,25,4,29]]}
[null,null,null,null,null,null,null,null,"c70fy23","c70fy23",null,null,null,null,"c70fy23",null,null,"c70fy23",null,null,null,null,null,null,null,"2023-02-14",null,null,null,null,null,null,null,null,null,null,null,null,null,null,null,null,null,null,null,null,null,null,null,null,null,null,null,null,null,null,null,null,null,null,null,null,null,null,null,null,null,null,null,null,null,null,null,null,null,null,null,null,null,null,null,null,null,null,null,null,null,null,null,null,"Lookup table for foundation budget scenarios",1,2]
[null,null,null,null,null,null,null,null,null,null,null,null,null,null,null,null,null,null,null,null,null,null,null,null,null,null,null,null,null,null,null,null,null,null,null,null,null,null,null,null,null,null,null,null,null,null,null,null,null,null,null,null,null,null,null,null,null,null,null,null,null,null,null,null,null,null,null,null,null,null,null,null,null,null,null,null,null,null,null,null,null,null,null,null,null,null,null,null,null,null,null,2,8]
[null,null,null,1,2,3,4,5,6,7,8,9,10,11,12,13,14,15,16,17,18,19,20,21,1,null,null,null,null,null,null,null,null,null,null,null,null,null,null,null,null,null,null,null,null,null,null,null,null,null,null,null,null,null,null,32,33,34,35,36,37,38,39,40,41,42,43,44,45,46,47,48,49,50,51,52,53,54,55,56,57,58,59,60,61,62,63,64,65,66,null,3,14]
[null,null,null,null,null,null,"lea1755",null,null,null,"found1755",null,null,"prelcont1755","pynetmin",null,null,"pyenro",null,null,null,null,"enro1755",null,null,null,null,null,null,null,null,null,null,null,null,null,null,null,null,null,null,null,null,null,null,null,null,null,null,null,null,null,null,null,null,null,null,null,null,null,null,null,null,null,null,null,null,null,null,null,null,null,null,null,null,null,null,null,null,null,null,null,null,null,null,null,null,null,null,null,null,4,20]
[null,null,null,null,null,null,null,null,null,null,null,null,null,null,null,null,null,null,null,null,null,null,null,null,null,1,null,null,null,null,null,2,null,null,null,null,null,null,null,null,null,null,null,null,null,null,null,null,null,null,null,null,null,null,null,6,null,null,null,null,null,7,null,null,null,null,null,8,null,null,null,null,null,9,null,null,null,null,null,10,null,null,null,null,null,11,null,null,null,null,null,5,26]
[null,null,null,null,null,null,null,null,null,null,null,null,null,null,null,null,null,null,null,{"$f":"parameters!$C$6","v":1},null,null,null,null,null,"3/6th SOA with inflation capped + incremental rate benefits inflation fix",null,null,null,null,null,null,null,null,null,null,null,null,null,null,null,null,null,null,null,null,null,null,null,null,null,null,null,null,null,null,null,null,null,null,null,null,null,null,null,null,null,null,null,null,null,null,null,null,null,null,null,null,null,null,null,null,null,null,null,null,null,null,null,null,null,6,32]
[null,null,null,null,null,null,null,null,{"$f":"PYr","v":"FY23"},{"$f":"PYr","v":"FY23"},{"$f":"CYr","v":"FY24"},{"$f":"CYr","v":"FY24"},{"$f":"CYr","v":"FY24"},{"$f":"CYr","v":"FY24"},{"$f":"PYr","v":"FY23"},null,null,null,null,null,null,null,null,null,null,null,null,null,null,null,null,null,null,null,null,null,null,null,null,null,null,null,null,null,null,null,null,null,null,null,null,null,null,null,null,null,null,null,null,null,null,null,null,null,null,null,null,null,null,null,null,null,null,null,null,null,null,null,null,null,null,null,null,null,null,null,null,null,null,null,null,7,38]
[null,null,null,null,null,null,null,null,"Foundation","Share of Total","Foundation","Share of Total","Townwide","Net Minimum","Net Minimum",{"$f":"PYr&\" to \"&CYr","v":"FY23 to FY24"},"Percent",{"$f":"PYr","v":"FY23"},{"$f":"CYr","v":"FY24"},null,null,null,"final","foundation",null,null,null,null,null,null,null,null,null,null,null,null,null,null,null,null,null,null,null,null,null,null,null,null,null,null,null,null,null,null,null,null,null,null,"final","foundation",null,null,null,null,"final","foundation",null,null,null,null,"final","foundation",null,null,null,null,"final","foundation",null,null,null,null,"final","foundation",null,null,null,null,"final","foundation",null,8,44]
["TownLEA","Town","LEA","Order","Town","City or Town","LEA","School District","Budget","Foundation","Budget","Foundation","Contribution","Contribution","Contribution","Change","Change","Enrollment","Enrollment","Town","LEA","Order","enrollment","budget",null,null,null,null,null,null,null,null,null,null,null,null,null,null,null,null,null,null,null,null,null,null,null,null,null,null,null,null,null,null,null,"Town","LEA","Order","enrollment","budget",null,"Town","LEA","Order","enrollment","budget",null,"Town","LEA","Order","enrollment","budget",null,"Town","LEA","Order","enrollment","budget",null,"Town","LEA","Order","enrollment","budget",null,"Town","LEA","Order","enrollment","budget",null,9,50]
[{"$f":"B10&C10","v":"00010001"},"0001","0001",1,1,"Abington                     ",1,"Abington",29563170.916989997,0.93981623737671993,{"$f":"X10","v":31287579.078960005},{"$f":"IF(K14>0, K10/K14, 0)","v":0.93586395244784271},null,{"$f":"ROUND(M14*L10,0)","v":17104459},16599047,{"$f":"N10-O10","v":505412},{"$f":"IF(O10>0,P10*100/O10,IF(P10>0,100,0))","v":3.0448254047355849},2238,{"$f":"W10","v":2206},{"$f":"VLOOKUP($D10, foundoptions, VLOOKUP($T$6, foundoptcell, 2, FALSE), FALSE)","v":1},{"$f":"VLOOKUP($D10, foundoptions, VLOOKUP($T$6, foundoptcell, 2, FALSE)+1, FALSE)","v":1},{"$f":"VLOOKUP($D10, foundoptions, VLOOKUP($T$6, foundoptcell, 2, FALSE)+2, FALSE)","v":1},{"$f":"VLOOKUP($D10, foundoptions, VLOOKUP($T$6, foundoptcell, 2, FALSE)+3, FALSE)","v":2206},{"$f":"VLOOKUP($D10, foundoptions, VLOOKUP($T$6, foundoptcell, 2, FALSE)+4, FALSE)","v":31287579.078960005},{"$f":"D10","v":1},1,1,1,2206,31287579.078960005,null,null,null,null,null,null,null,null,null,null,null,null,null,null,null,null,null,null,null,null,null,null,null,null,null,null,null,null,null,null,null,null,null,null,null,null,null,null,null,null,null,null,null,null,null,null,null,null,null,null,null,null,null,null,null,null,null,null,null,null,null,10,56]
["00010873","0001","0873",2,1,"Abington                     ",873,"South Shore",1893160.3755068884,6.018376262328004E-2,{"$f":"X11","v":2144180.9510361422},{"$f":"IF(K14>0, K11/K14, 0)","v":6.4136047552157224E-2},null,{"$f":"ROUND(M14*L11,0)","v":1172192},1062966,{"$f":"N11-O11","v":109226},10.27558736591763,96.999999997070006,{"$f":"W11","v":103.00000000120001},1,873,2,103.00000000120001,2144180.9510361422,{"$f":"D11","v":2},1,873,2,103.00000000120001,2144180.9510361422,null,null,null,null,null,null,null,null,null,null,null,null,null,null,null,null,null,null,null,null,null,null,null,null,null,null,null,null,null,null,null,null,null,null,null,null,null,null,null,null,null,null,null,null,null,null,null,null,null,null,null,null,null,null,null,null,null,null,null,null,null,11,62]
["00010998","0001","0998",3,1,"",998,"",0,0,{"$f":"X12","v":0},{"$f":"IF(K14>0, K12/K14, 0)","v":0},null,{"$f":"ROUND(M14*L12,0)","v":0},0,{"$f":"N12-O12","v":0},0,0,0,1,998,3,0,0,3,1,998,3,0,0]
["00010998","0001","0998",4,1,"",998,"",0,0,{"$f":"X13","v":0},{"$f":"IF(K14>0, K13/K14, 0)","v":0},null,{"$f":"ROUND(M14*L13,0)","v":0},0,{"$f":"N13-O13","v":0},0,0,0,1,998,4,0,0,4,1,998,4,0,0]
["00010999","0001","0999",5,1,"Abington                     ",999,"Total",31456331.292496886,1,{"$f":"SUM(K10:K13)","v":33431760.029996149},{"$f":"SUM(L10:L13)","v":0.99999999999999989},{"$f":"VLOOKUP(E14,town351,24)","v":18276651},{"$f":"SUM(N10:N13)","v":18276651},17662013,{"$f":"SUM(P10:P13)","v":614638},3.4799997033180761,2334.9999999970701,2309.0000000012001,1,999,5,2309.0000000012001,33431760.029996149,5,1,999,5,2309.0000000012001,33431760.029996149]
["00020002","0002","0002",6,2,"Acton                        ",2,"Acton",0,0,{"$f":"X15","v":0},{"$f":"IF(K19>0, K15/K19, 0)","v":0},null,{"$f":"ROUND(M19*L15,0)","v":0},0,{"$f":"N15-O15","v":0},0,0,0,2,2,6,0,0,6,2,2,6,0,0]
["00020600","0002","0600",7,2,"Acton                        ",600,"Acton Boxborough",51261692.023026124,0.96970721799451987,54393796.531999081,{"$f":"IF(K19>0, K16/K19, 0)","v":0.96734767478128469},null,{"$f":"ROUND(M19*L16,0)","v":41998078},40380318,{"$f":"N16-O16","v":1617760},4.0063082217430779,4230.1558315779703,4243.0606238719993,2,600,7,4243.0606238719993,54393796.531999081,7,2,600,7,4243.0606238719993,54393796.531999081]
["00020830","0002","0830",8,2,"Acton                        ",830,"Minuteman",1601369.1894519448,3.0292782005480023E-2,1836034.7376087203,{"$f":"IF(K19>0, K17/K19, 0)","v":3.2652325218715285E-2},null,{"$f":"ROUND(M19*L17,0)","v":1417624},1261445,{"$f":"N17-O17","v":156179},12.380959930872928,81.147272725769994,88.000000002180002,2,830,8,88.000000002180002,1836034.7376087203,8,2,830,8,88.000000002180002,1836034.7376087203]
["00020998","0002","0998",9,2,"",998,"",0,0,0,{"$f":"IF(K19>0, K18/K19, 0)","v":0},null,{"$f":"ROUND(M19*L18,0)","v":0},0,{"$f":"N18-O18","v":0},0,0,0,2,998,9,0,0,9,2,998,9,0,0]
["00020999","0002","0999",10,2,"Acton                        ",999,"Total",52863061.212478071,0.99999999999999989,{"$f":"SUM(K15:K18)","v":56229831.269607805},{"$f":"SUM(L15:L18)","v":1},{"$f":"VLOOKUP(E19,town351,24)","v":43415702},{"$f":"SUM(N15:N18)","v":43415702},41641763,{"$f":"SUM(P15:P18)","v":1773939},{"$f":"IF(O19>0,P19*100/O19,IF(P19>0,100,0))","v":4.2599997507310148},4311.3031043037399,4331.0606238741793,2,999,10,4331.0606238741793,56229831.269607805,10,2,999,10,4331.0606238741793,56229831.269607805]
["00030003","0003","0003",11,3,"Acushnet                     ",3,"Acushnet",14410940.639999999,0.82516695267342122,{"$f":"X20","v":15911255.389999999},{"$f":"IF(K24>0, K20/K24, 0)","v":0.81846525705829687},null,{"$f":"ROUND(M24*L20,0)","v":8740925},8355453,{"$f":"N20-O20","v":385472},4.6134183269297306,1192,1221,3,3,11,1221,15911255.389999999,11,3,3,11,1221,15911255.389999999]
["00030855","0003","0855",12,3,"Acushnet                     ",855,"Old Colony",2748814.1387455277,0.1573964283801437,3264388.4537164452,{"$f":"IF(K24>0, K21/K24, 0)","v":0.16791814784070078},null,{"$f":"ROUND(M24*L21,0)","v":1793308},1593761,{"$f":"N21-O21","v":199547},12.520509662364683,149.28653846234002,167.99999999946002,3,855,12,167.99999999946002,3264388.4537164452,12,3,855,12,167.99999999946002,3264388.4537164452]
["00030910","0003","0910",13,3,"Acushnet                     ",910,"Bristol County",304517.86730584805,1.7436618946435122E-2,264711.44660797651,{"$f":"IF(K24>0, K22/K24, 0)","v":1.3616595101002344E-2},null,{"$f":"ROUND(M24*L22,0)","v":145421},176559,{"$f":"N22-O22","v":-31138},-17.636031015128086,16.000000001299998,12.999999997790001,3,910,13,12.999999997790001,264711.44660797651,13,3,910,13,12.999999997790001,264711.44660797651]
["00030998","0003","0998",14,3,"",998,"",0,0,0,{"$f":"IF(K24>0, K23/K24, 0)","v":0},null,{"$f":"ROUND(M24*L23,0)","v":0},0,{"$f":"N23-O23","v":0},0,0,0,3,998,14,0,0,14,3,998,14,0,0]
["00030999","0003","0999",15,3,"Acushnet                     ",999,"Total",17464272.646051373,1,{"$f":"SUM(K20:K23)","v":19440355.29032442},{"$f":"SUM(L20:L23)","v":1},{"$f":"VLOOKUP(E24,town351,24)","v":10679653},{"$f":"SUM(N20:N23)","v":10679654},10125773,{"$f":"SUM(P20:P23)","v":553881},5.470012017847921,1357.28653846364,1401.9999999972499,3,999,15,1401.9999999972499,19440355.29032442,15,3,999,15,1401.9999999972499,19440355.29032442]
["00040004","0004","0004",16,4,"Adams                        ",4,"Adams",0,0,{"$f":"X25","v":0},{"$f":"IF(K29>0, K25/K29, 0)","v":0},null,{"$f":"ROUND(M29*L25,0)","v":0},0,{"$f":"N25-O25","v":0},0,0,0,4,4,16,0,0,16,4,4,16,0,0]
["00040603","0004","0603",17,4,"Adams                        ",603,"Hoosac Valley",12093284.316988971,0.81410907706205859,12998538.142637189,{"$f":"IF(K29>0, K26/K29, 0)","v":0.81549770499619512},null,{"$f":"ROUND(M29*L26,0)","v":3947597},3790761,{"$f":"N26-O26","v":156836},4.1373222949165092,862.05527638577996,856.0834752950999,4,603,17,856.0834752950999,12998538.142637189,17,4,603,17,856.0834752950999,12998538.142637189]
["00040851","0004","0851",18,4,"Adams                        ",851,"Northern Berkshire",2761339.7840356557,0.18589092293794138,2940854.5288576209,{"$f":"IF(K29>0, K27/K29, 0)","v":0.18450229500380488},null,{"$f":"ROUND(M29*L27,0)","v":893124},865570,{"$f":"N27-O27","v":27554},3.1833358365008029,137.99999999808,138.99999999977999,4,851,18,138.99999999977999,2940854.5288576209,18,4,851,18,138.99999999977999,2940854.5288576209]
["00040998","0004","0998",19,4,"",998,"",0,0,0,{"$f":"IF(K29>0, K28/K29, 0)","v":0},null,{"$f":"ROUND(M29*L28,0)","v":0},0,{"$f":"N28-O28","v":0},0,0,0,4,998,19,0,0,19,4,998,19,0,0]
["00040999","0004","0999",20,4,"Adams                        ",999,"Total",14854624.101024628,1,{"$f":"SUM(K25:K28)","v":15939392.67149481},{"$f":"SUM(L25:L28)","v":1},{"$f":"VLOOKUP(E29,town351,24)","v":4840721},{"$f":"SUM(N25:N28)","v":4840721},4656331,{"$f":"SUM(P25:P28)","v":184390},3.9599848034858347,1000.05527638386,995.08347529487992,4,999,20,995.08347529487992,15939392.67149481,20,4,999,20,995.08347529487992,15939392.67149481]
["00050005","0005","0005",21,5,"Agawam                       ",5,"Agawam",46476254.920000002,1,{"$f":"X30","v":50397491.299999997},{"$f":"IF(K34>0, K30/K34, 0)","v":1},null,{"$f":"ROUND(M34*L30,0)","v":25373043},24515018,{"$f":"N30-O30","v":858025},3.4999974301466961,3420,3421,5,5,21,3421,50397491.299999997,21,5,5,21,3421,50397491.299999997]
["00050998","0005","0998",22,5,"",998,"",0,0,0,{"$f":"IF(K34>0, K31/K34, 0)","v":0},null,{"$f":"ROUND(M34*L31,0)","v":0},0,{"$f":"N31-O31","v":0},0,0,0,5,998,22,0,0,22,5,998,22,0,0]
["00050998","0005","0998",23,5,"",998,"",0,0,0,{"$f":"IF(K34>0, K32/K34, 0)","v":0},null,{"$f":"ROUND(M34*L32,0)","v":0},0,{"$f":"N32-O32","v":0},0,0,0,5,998,23,0,0,23,5,998,23,0,0]
["00050998","0005","0998",24,5,"",998,"",0,0,0,{"$f":"IF(K34>0, K33/K34, 0)","v":0},null,{"$f":"ROUND(M34*L33,0)","v":0},0,{"$f":"N33-O33","v":0},0,0,0,5,998,24,0,0,24,5,998,24,0,0]
["00050999","0005","0999",25,5,"Agawam                       ",999,"Total",46476254.920000002,1,{"$f":"SUM(K30:K33)","v":50397491.299999997},{"$f":"SUM(L30:L33)","v":1},{"$f":"VLOOKUP(E34,town351,24)","v":25373043},{"$f":"SUM(N30:N33)","v":25373043},24515018,{"$f":"SUM(P30:P33)","v":858025},3.4999974301466961,3420,3421,5,999,25,3421,50397491.299999997,25,5,999,25,3421,50397491.299999997]
["00060006","0006","0006",26,6,"Alford                       ",6,"Alford",0,0,{"$f":"X35","v":0},{"$f":"IF(K39>0, K35/K39, 0)","v":0},null,{"$f":"ROUND(M39*L35,0)","v":0},0,{"$f":"N35-O35","v":0},0,0,0,6,6,26,0,0,26,6,6,26,0,0]
["00060765","0006","0765",27,6,"Alford                       ",765,"Southern Berkshire",248350.65417615589,1,278259.71248189872,{"$f":"IF(K39>0, K36/K39, 0)","v":1},null,{"$f":"ROUND(M39*L36,0)","v":229564},204889,{"$f":"N36-O36","v":24675},12.043106267295951,18.432835823999998,19.398496240650001,6,765,27,19.398496240650001,278259.71248189872,27,6,765,27,19.398496240650001,278259.71248189872]
["00060998","0006","0998",28,6,"",998,"",0,0,0,{"$f":"IF(K39>0, K37/K39, 0)","v":0},null,{"$f":"ROUND(M39*L37,0)","v":0},0,{"$f":"N37-O37","v":0},0,0,0,6,998,28,0,0,28,6,998,28,0,0]
["00060998","0006","0998",29,6,"",998,"",0,0,0,{"$f":"IF(K39>0, K38/K39, 0)","v":0},null,{"$f":"ROUND(M39*L38,0)","v":0},0,{"$f":"N38-O38","v":0},0,0,0,6,998,29,0,0,29,6,998,29,0,0]
["00060999","0006","0999",30,6,"Alford                       ",999,"Total",248350.65417615589,1,{"$f":"SUM(K35:K38)","v":278259.71248189872},{"$f":"SUM(L35:L38)","v":1},{"$f":"VLOOKUP(E39,town351,24)","v":229564},{"$f":"SUM(N35:N38)","v":229564},204889,{"$f":"SUM(P35:P38)","v":24675},12.043106267295951,18.432835823999998,19.398496240650001,6,999,30,19.398496240650001,278259.71248189872,30,6,999,30,19.398496240650001,278259.71248189872]
["00070007","0007","0007",31,7,"Amesbury                     ",7,"Amesbury",23505262.730000008,0.91270431532295571,{"$f":"X40","v":24965747.029999997},{"$f":"IF(K44>0, K40/K44, 0)","v":0.91118219970739744},null,{"$f":"ROUND(M44*L40,0)","v":18234602},17438478,{"$f":"N40-O40","v":796124},4.5653296119076447,1878,1847,7,7,31,1847,24965747.029999997,31,7,7,31,1847,24965747.029999997]
["00070885","0007","0885",32,7,"Amesbury                     ",885,"Whittier",2248162.9253643942,8.7295684677044322E-2,2433544.8328317194,{"$f":"IF(K44>0, K41/K44, 0)","v":8.8817800292602625E-2},null,{"$f":"ROUND(M44*L41,0)","v":1777424},1667905,{"$f":"N41-O41","v":109519},6.5662612678779668,115.0000000006,116.999999997,7,885,32,116.999999997,2433544.8328317194,32,7,885,32,116.999999997,2433544.8328317194]
["00070998","0007","0998",33,7,"",998,null,0,0,0,{"$f":"IF(K44>0, K42/K44, 0)","v":0},null,{"$f":"ROUND(M44*L42,0)","v":0},0,{"$f":"N42-O42","v":0},0,0,0,7,998,33,0,0,33,7,998,33,0,0]
["00070998","0007","0998",34,7,"",998,"",0,0,0,{"$f":"IF(K44>0, K43/K44, 0)","v":0},null,{"$f":"ROUND(M44*L43,0)","v":0},0,{"$f":"N43-O43","v":0},0,0,0,7,998,34,0,0,34,7,998,34,0,0]
["00070999","0007","0999",35,7,"Amesbury                     ",999,"Total",25753425.655364402,1,{"$f":"SUM(K40:K43)","v":27399291.862831715},{"$f":"SUM(L40:L43)","v":1},{"$f":"VLOOKUP(E44,town351,24)","v":20012026},{"$f":"SUM(N40:N43)","v":20012026},19106383,{"$f":"SUM(P40:P43)","v":905643},4.7400023332516676,1993.0000000006,1963.999999997,7,999,35,1963.999999997,27399291.862831715,35,7,999,35,1963.999999997,27399291.862831715]
["00080008","0008","0008",36,8,"Amherst                      ",8,"Amherst",13429756.490000002,0.49160679618620517,{"$f":"X45","v":14207190.940000001},{"$f":"IF(K49>0, K45/K49, 0)","v":0.50104736599661925},null,{"$f":"ROUND(M49*L45,0)","v":11168148},10461831,{"$f":"N45-O45","v":706317},6.7513707686541675,1065,1055,8,8,36,1055,14207190.940000001,36,8,8,36,1055,14207190.940000001]
["00080605","0008","0605",37,8,"Amherst                      ",605,"Amherst Pelham",13888329.008788005,0.50839320381379483,14147794.844110202,{"$f":"IF(K49>0, K46/K49, 0)","v":0.49895263400338075},null,{"$f":"ROUND(M49*L46,0)","v":11121458},10819061,{"$f":"N46-O46","v":302397},2.795039236769254,1037.0000000064001,997.00000000146008,8,605,37,997.00000000146008,14147794.844110202,37,8,605,37,997.00000000146008,14147794.844110202]
["00080998","0008","0998",38,8,"",998,"",0,0,0,{"$f":"IF(K49>0, K47/K49, 0)","v":0},null,{"$f":"ROUND(M49*L47,0)","v":0},0,{"$f":"N47-O47","v":0},0,0,0,8,998,38,0,0,38,8,998,38,0,0]
["00080998","0008","0998",39,8,"",998,"",0,0,0,{"$f":"IF(K49>0, K48/K49, 0)","v":0},null,{"$f":"ROUND(M49*L48,0)","v":0},0,{"$f":"N48-O48","v":0},0,0,0,8,998,39,0,0,39,8,998,39,0,0]
["00080999","0008","0999",40,8,"Amherst                      ",999,"Total",27318085.498788007,1,{"$f":"SUM(K45:K48)","v":28354985.784110203},{"$f":"SUM(L45:L48)","v":1},{"$f":"VLOOKUP(E49,town351,24)","v":22289606},{"$f":"SUM(N45:N48)","v":22289606},21280892,{"$f":"SUM(P45:P48)","v":1008714},4.7399986805064378,2102.0000000064001,2052.0000000014602,8,999,40,2052.0000000014602,28354985.784110203,40,8,999,40,2052.0000000014602,28354985.784110203]
["00090009","0009","0009",41,9,"Andover                      ",9,"Andover",67357496.128189996,0.98221435336093277,{"$f":"X50","v":72244408.493600011},{"$f":"IF(K54>0, K50/K54, 0)","v":0.98203971390325528},null,{"$f":"ROUND(M54*L50,0)","v":58293608},55569934,{"$f":"N50-O50","v":2723674},4.9013446731824439,5500,5554,9,9,41,5554,72244408.493600011,41,9,9,41,5554,72244408.493600011]
["00090823","0009","0823",42,9,"Andover                      ",823,"Greater Lawrence",1219689.5927340421,1.7785646639067235E-2,1321260.4613289325,{"$f":"IF(K54>0, K51/K54, 0)","v":1.7960286096744684E-2},null,{"$f":"ROUND(M54*L51,0)","v":1066118},1006244,{"$f":"N51-O51","v":59874},5.9502466598558597,51.999999997949999,52.0000000056,9,823,42,52.0000000056,1321260.4613289325,42,9,823,42,52.0000000056,1321260.4613289325]
["00090998","0009","0998",43,9,"",998,null,0,0,0,{"$f":"IF(K54>0, K52/K54, 0)","v":0},null,{"$f":"ROUND(M54*L52,0)","v":0},0,{"$f":"N52-O52","v":0},0,0,0,9,998,43,0,0,43,9,998,43,0,0]
["00090998","0009","0998",44,9,"",998,"",0,0,0,{"$f":"IF(K54>0, K53/K54, 0)","v":0},null,{"$f":"ROUND(M54*L53,0)","v":0},0,{"$f":"N53-O53","v":0},0,0,0,9,998,44,0,0,44,9,998,44,0,0]
["00090999","0009","0999",45,9,"Andover                      ",999,"Total",68577185.720924035,1,{"$f":"SUM(K50:K53)","v":73565668.954928949},{"$f":"SUM(L50:L53)","v":1},{"$f":"VLOOKUP(E54,town351,24)","v":59359726},{"$f":"SUM(N50:N53)","v":59359726},56576178,{"$f":"SUM(P50:P53)","v":2783548},4.9200000749432027,5551.99999999795,5606.0000000055998,9,999,45,5606.0000000055998,73565668.954928949,45,9,999,45,5606.0000000055998,73565668.954928949]
["00100010","0010","0010",46,10,"Arlington                    ",10,"Arlington",69496899.573259994,0.94642288443204814,{"$f":"X55","v":74896748.635400012},{"$f":"IF(K59>0, K55/K59, 0)","v":0.94274840919034142},null,{"$f":"ROUND(M59*L55,0)","v":56193340},53603535,{"$f":"N55-O55","v":2589805},4.831407107758845,5910,6002,10,10,46,6002,74896748.635400012,46,10,10,46,6002,74896748.635400012]
["00100830","0010","0830",47,10,"Arlington                    ",830,"Minuteman",3934228.0087461695,5.3577115567951972E-2,4548358.7816715501,{"$f":"IF(K59>0, K56/K59, 0)","v":5.725159080965854E-2},null,{"$f":"ROUND(M59*L56,0)","v":3412531},3034503,{"$f":"N56-O56","v":378028},12.457657810850739,199.36181818281997,217.99999999907999,10,830,47,217.99999999907999,4548358.7816715501,47,10,830,47,217.99999999907999,4548358.7816715501]
["00100998","0010","0998",48,10,"",998,"",0,0,0,{"$f":"IF(K59>0, K57/K59, 0)","v":0},null,{"$f":"ROUND(M59*L57,0)","v":0},0,{"$f":"N57-O57","v":0},0,0,0,10,998,48,0,0,48,10,998,48,0,0]
["00100998","0010","0998",49,10,"",998,"",0,0,0,{"$f":"IF(K59>0, K58/K59, 0)","v":0},null,{"$f":"ROUND(M59*L58,0)","v":0},0,{"$f":"N58-O58","v":0},0,0,0,10,998,49,0,0,49,10,998,49,0,0]
["00100999","0010","0999",50,10,"Arlington                    ",999,"Total",73431127.582006156,1,{"$f":"SUM(K55:K58)","v":79445107.417071566},{"$f":"SUM(L55:L58)","v":1},{"$f":"VLOOKUP(E59,town351,24)","v":59605871},{"$f":"SUM(N55:N58)","v":59605871},56638038,{"$f":"SUM(P55:P58)","v":2967833},5.2399996624176843,6109.3618181828197,6219.9999999990796,10,999,50,6219.9999999990796,79445107.417071566,50,10,999,50,6219.9999999990796,79445107.417071566]
["00110011","0011","0011",51,11,"Ashburnham                   ",11,"Ashburnham",0,0,{"$f":"X60","v":0},{"$f":"IF(K64>0, K60/K64, 0)","v":0},null,{"$f":"ROUND(M64*L60,0)","v":0},0,{"$f":"N60-O60","v":0},0,0,0,11,11,51,0,0,51,11,11,51,0,0]
["00110610","0011","0610",52,11,"Ashburnham                   ",610,"Ashburnham Westminster",12545194.172349513,0.90762839842256204,13603235.593604924,{"$f":"IF(K64>0, K61/K64, 0)","v":0.90360775886285738},null,{"$f":"ROUND(M64*L61,0)","v":5653276},5386483,{"$f":"N61-O61","v":266793},4.9530092269854,1042.15384615732,1047.1046962601399,11,610,52,1047.1046962601399,13603235.593604924,52,11,610,52,1047.1046962601399,13603235.593604924]
["00110832","0011","0832",53,11,"Ashburnham                   ",832,"Montachusett",1276755.6412005925,9.2371601577437915E-2,1451123.4025195427,{"$f":"IF(K64>0, K62/K64, 0)","v":9.6392241137142676E-2},null,{"$f":"ROUND(M64*L62,0)","v":603063},548196,{"$f":"N62-O62","v":54867},10.008646542477509,67.045702596029997,72.098427886750002,11,832,53,72.098427886750002,1451123.4025195427,53,11,832,53,72.098427886750002,1451123.4025195427]
["00110998","0011","0998",54,11,"",998,"",0,0,0,{"$f":"IF(K64>0, K63/K64, 0)","v":0},null,{"$f":"ROUND(M64*L63,0)","v":0},0,{"$f":"N63-O63","v":0},0,0,0,11,998,54,0,0,54,11,998,54,0,0]
["00110999","0011","0999",55,11,"Ashburnham                   ",999,"Total",13821949.813550105,1,{"$f":"SUM(K60:K63)","v":15054358.996124467},{"$f":"SUM(L60:L63)","v":1},{"$f":"VLOOKUP(E64,town351,24)","v":6256339},{"$f":"SUM(N60:N63)","v":6256339},5934679,{"$f":"SUM(P60:P63)","v":321660},5.4200067097142073,1109.19954875335,1119.2031241468899,11,999,55,1119.2031241468899,15054358.996124467,55,11,999,55,1119.2031241468899,15054358.996124467]
["00120012","0012","0012",56,12,"Ashby                        ",12,"Ashby",0,0,{"$f":"X65","v":0},{"$f":"IF(K69>0, K65/K69, 0)","v":0},null,{"$f":"ROUND(M69*L65,0)","v":0},0,{"$f":"N65-O65","v":0},0,0,0,12,12,56,0,0,56,12,12,56,0,0]
["00120735","0012","0735",57,12,"Ashby                        ",735,"North Middlesex",4822549.1822778471,0.88156271387128349,5218991.297808446,{"$f":"IF(K69>0, K66/K69, 0)","v":0.87497858126248218},null,{"$f":"ROUND(M69*L66,0)","v":2618646},2511041,{"$f":"N66-O66","v":107605},4.2852745136379689,393.12757730568001,398.46575342808001,12,735,57,398.46575342808001,5218991.297808446,57,12,735,57,398.46575342808001,5218991.297808446]
["00120832","0012","0832",58,12,"Ashby                        ",832,"Montachusett",647905.84763166937,0.11843728612871642,745716.19283447799,{"$f":"IF(K69>0, K67/K69, 0)","v":0.12502141873751779},null,{"$f":"ROUND(M69*L67,0)","v":374166},337357,{"$f":"N67-O67","v":36809},10.91099339868448,34.023192354720003,37.050580991049998,12,832,58,37.050580991049998,745716.19283447799,58,12,832,58,37.050580991049998,745716.19283447799]
["00120998","0012","0998",59,12,"",998,"",0,0,0,{"$f":"IF(K69>0, K68/K69, 0)","v":0},null,{"$f":"ROUND(M69*L68,0)","v":0},0,{"$f":"N68-O68","v":0},0,0,0,12,998,59,0,0,59,12,998,59,0,0]
["00120999","0012","0999",60,12,"Ashby                        ",999,"Total",5470455.0299095167,0.99999999999999989,{"$f":"SUM(K65:K68)","v":5964707.4906429239},{"$f":"SUM(L65:L68)","v":1},{"$f":"VLOOKUP(E69,town351,24)","v":2992812},{"$f":"SUM(N65:N68)","v":2992812},2848398,{"$f":"SUM(P65:P68)","v":144414},5.0700077727901789,427.15076966039999,435.51633441912998,12,999,60,435.51633441912998,5964707.4906429239,60,12,999,60,435.51633441912998,5964707.4906429239]
["00130013","0013","0013",61,13,"Ashfield                     ",13,"Ashfield",141279.39000000001,7.3404237869264616E-2,{"$f":"X70","v":245151},{"$f":"IF(K74>0, K70/K74, 0)","v":0.1113203452122954},null,{"$f":"ROUND(M74*L70,0)","v":179015},110785,{"$f":"N70-O70","v":68230},61.587760075822537,9,13,13,13,61,13,245151,61,13,13,61,13,245151]
["00130717","0013","0717",62,13,"Ashfield                     ",717,"Mohawk Trail",1783396.8153660076,0.92659576213073547,1957060.9993652601,{"$f":"IF(K74>0, K71/K74, 0)","v":0.88867965478770472},null,{"$f":"ROUND(M74*L71,0)","v":1429088},1398462,{"$f":"N71-O71","v":30626},2.1899772750350026,135.26254375452001,136.01341463240999,13,717,62,136.01341463240999,1957060.9993652601,62,13,717,62,136.01341463240999,1957060.9993652601]
["00130998","0013","0998",63,13,"",998,"",0,0,0,{"$f":"IF(K74>0, K72/K74, 0)","v":0},null,{"$f":"ROUND(M74*L72,0)","v":0},0,{"$f":"N72-O72","v":0},0,0,0,13,998,63,0,0,63,13,998,63,0,0]
["00130998","0013","0998",64,13,"",998,"",0,0,0,{"$f":"IF(K74>0, K73/K74, 0)","v":0},null,{"$f":"ROUND(M74*L73,0)","v":0},0,{"$f":"N73-O73","v":0},0,0,0,13,998,64,0,0,64,13,998,64,0,0]
[{"$f":"B74&C74","v":"00130999"},"0013","0999",65,13,"Ashfield                     ",999,"Total",1924676.2053660075,1,{"$f":"SUM(K70:K73)","v":2202211.9993652599},{"$f":"SUM(L70:L73)","v":1.0000000000000002},{"$f":"VLOOKUP(E74,town351,24)","v":1608103},{"$f":"SUM(N70:N73)","v":1608103},1509247,{"$f":"SUM(P70:P73)","v":98856},6.550021302013521,144.26254375452001,149.01341463240999,{"$f":"VLOOKUP($D74, foundoptions, VLOOKUP($T$6, foundoptcell, 2, FALSE), FALSE)","v":13},{"$f":"VLOOKUP($D74, foundoptions, VLOOKUP($T$6, foundoptcell, 2, FALSE)+1, FALSE)","v":999},{"$f":"VLOOKUP($D74, foundoptions, VLOOKUP($T$6, foundoptcell, 2, FALSE)+2, FALSE)","v":65},{"$f":"VLOOKUP($D74, foundoptions, VLOOKUP($T$6, foundoptcell, 2, FALSE)+3, FALSE)","v":149.01341463240999},{"$f":"VLOOKUP($D74, foundoptions, VLOOKUP($T$6, foundoptcell, 2, FALSE)+4, FALSE)","v":2202211.9993652599},65,13,999,65,149.01341463240999,2202211.9993652599]
["00140014","0014","0014",66,14,"Ashland                      ",14,"Ashland",33942250.529999994,0.96633561121904998,{"$f":"X75","v":36758230.609999992},{"$f":"IF(K79>0, K75/K79, 0)","v":0.96451883830644969},null,{"$f":"ROUND(M79*L75,0)","v":25484731},24208528,{"$f":"N75-O75","v":1276203},5.2717083830954117,2814,{"$f":"W75","v":2839},14,14,66,2839,36758230.609999992,{"$f":"D75","v":66},14,14,66,2839,36758230.609999992]
["00140829","0014","0829",67,14,"Ashland                      ",829,"South Middlesex",1182451.629305952,3.3664388780950079E-2,1352202.4371574153,{"$f":"IF(K79>0, K76/K79, 0)","v":3.5481161693550312E-2},null,{"$f":"ROUND(M79*L76,0)","v":937491},843356,{"$f":"N76-O76","v":94135},11.161952959367101,55.130023639839997,59.211217180719999,14,829,67,59.211217180719999,1352202.4371574153,67,14,829,67,59.211217180719999,1352202.4371574153]
["00140998","0014","0998",68,14,"",998,"",0,0,0,{"$f":"IF(K79>0, K77/K79, 0)","v":0},null,{"$f":"ROUND(M79*L77,0)","v":0},0,{"$f":"N77-O77","v":0},0,0,0,14,998,68,0,0,68,14,998,68,0,0]
["00140998","0014","0998",69,14,"",998,"",0,0,0,{"$f":"IF(K79>0, K78/K79, 0)","v":0},null,{"$f":"ROUND(M79*L78,0)","v":0},0,{"$f":"N78-O78","v":0},0,0,0,14,998,69,0,0,69,14,998,69,0,0]
["00140999","0014","0999",70,14,"Ashland                      ",999,"Total",35124702.159305945,1,{"$f":"SUM(K75:K78)","v":38110433.047157407},{"$f":"SUM(L75:L78)","v":1},{"$f":"VLOOKUP(E79,town351,24)","v":26422222},{"$f":"SUM(N75:N78)","v":26422222},25051884,{"$f":"SUM(P75:P78)","v":1370338},5.4699997812539767,2869.1300236398401,2898.2112171807198,14,999,70,2898.2112171807198,38110433.047157407,70,14,999,70,2898.2112171807198,38110433.047157407]
["00150015","0015","0015",71,15,"Athol                        ",15,"Athol",0,0,{"$f":"X80","v":0},{"$f":"IF(K84>0, K80/K84, 0)","v":0},null,{"$f":"ROUND(M84*L80,0)","v":0},0,{"$f":"N80-O80","v":0},{"$f":"IF(O80>0,P80*100/O80,IF(P80>0,100,0))","v":0},0,0,15,15,71,0,0,71,15,15,71,0,0]
["00150615","0015","0615",72,15,"Athol                        ",615,"Athol Royalston",23336352.347542945,0.91483742518343347,25947947.695697732,{"$f":"IF(K84>0, K81/K84, 0)","v":0.92062654116875831},null,{"$f":"ROUND(M84*L81,0)","v":3730491},3516775,{"$f":"N81-O81","v":213716},{"$f":"IF(O81>0,P81*100/O81,IF(P81>0,100,0))","v":6.0770450199401438},1635.389291685,1632.08773903158,15,615,72,1632.08773903158,25947947.695697732,72,15,615,72,1632.08773903158,25947947.695697732]
["00150832","0015","0832",73,15,"Athol                        ",832,"Montachusett",2172390.1952796648,8.5162574816566555E-2,2237148.5787982941,{"$f":"IF(K84>0, K82/K84, 0)","v":7.9373458831241694E-2},null,{"$f":"ROUND(M84*L82,0)","v":321631},327378,{"$f":"N82-O82","v":-5747},{"$f":"IF(O82>0,P82*100/O82,IF(P82>0,100,0))","v":-1.755463103812718},114.07776261578999,111.15174298780001,15,832,73,111.15174298780001,2237148.5787982941,73,15,832,73,111.15174298780001,2237148.5787982941]
["00150998","0015","0998",74,15,"",998,"",0,0,0,{"$f":"IF(K84>0, K83/K84, 0)","v":0},null,{"$f":"ROUND(M84*L83,0)","v":0},0,{"$f":"N83-O83","v":0},{"$f":"IF(O83>0,P83*100/O83,IF(P83>0,100,0))","v":0},0,0,15,998,74,0,0,74,15,998,74,0,0]
["00150999","0015","0999",75,15,"Athol                        ",999,"Total",25508742.542822611,1,{"$f":"SUM(K80:K83)","v":28185096.274496026},{"$f":"SUM(L80:L83)","v":1},{"$f":"VLOOKUP(E84,town351,24)","v":4052122},{"$f":"SUM(N80:N83)","v":4052122},3844153,{"$f":"SUM(P80:P83)","v":207969},{"$f":"IF(O84>0,P84*100/O84,IF(P84>0,100,0))","v":5.4100083945670221},1749.4670543007901,1743.2394820193799,15,999,75,1743.2394820193799,28185096.274496026,75,15,999,75,1743.2394820193799,28185096.274496026]
["00160016","0016","0016",76,16,"Attleboro                    ",16,"Attleboro",89310929.609999999,0.99639033735088067,{"$f":"X85","v":97105120.719999999},{"$f":"IF(K89>0, K85/K89, 0)","v":0.99603161352710678},null,{"$f":"ROUND(M89*L85,0)","v":43712969},41515915,{"$f":"N85-O85","v":2197054},5.2920765446215023,6237,6238,16,16,76,6238,97105120.719999999,76,16,16,76,6238,97105120.719999999]
["00160910","0016","0910",77,16,"Attleboro                    ",910,"Bristol County",323550.23396600084,3.6096626491193E-3,386885.96052620758,{"$f":"IF(K89>0, K86/K89, 0)","v":3.9683864728931369E-3},null,{"$f":"ROUND(M89*L86,0)","v":174161},150401,{"$f":"N86-O86","v":23760},15.797767302079109,16.999999998939998,19.00000000164,16,910,77,19.00000000164,386885.96052620758,77,16,910,77,19.00000000164,386885.96052620758]
["00160998","0016","0998",78,16,"",998,"",0,0,0,{"$f":"IF(K89>0, K87/K89, 0)","v":0},null,{"$f":"ROUND(M89*L87,0)","v":0},0,{"$f":"N87-O87","v":0},0,0,0,16,998,78,0,0,78,16,998,78,0,0]
["00160998","0016","0998",79,16,"",998,"",0,0,0,{"$f":"IF(K89>0, K88/K89, 0)","v":0},null,{"$f":"ROUND(M89*L88,0)","v":0},0,{"$f":"N88-O88","v":0},0,0,0,16,998,79,0,0,79,16,998,79,0,0]
["00160999","0016","0999",80,16,"Attleboro                    ",999,"Total",89634479.843966007,1,{"$f":"SUM(K85:K88)","v":97492006.680526212},{"$f":"SUM(L85:L88)","v":0.99999999999999989},{"$f":"VLOOKUP(E89,town351,24)","v":43887130},{"$f":"SUM(N85:N88)","v":43887130},41666316,{"$f":"SUM(P85:P88)","v":2220814},5.329998457267016,6253.9999999989404,6257.0000000016398,16,999,80,6257.0000000016398,97492006.680526212,80,16,999,80,6257.0000000016398,97492006.680526212]
["00170017","0017","0017",81,17,"Auburn                       ",17,"Auburn",30252650.170000002,0.93086070757257289,{"$f":"X90","v":32176028.359999999},{"$f":"IF(K94>0, K90/K94, 0)","v":0.9315018493685584},null,{"$f":"ROUND(M94*L90,0)","v":17041707},16217482,{"$f":"N90-O90","v":824225},5.0823241240532901,2425,2422,17,17,81,2422,32176028.359999999,81,17,17,81,2422,32176028.359999999]
["00170876","0017","0876",82,17,"Auburn                       ",876,"Southern Worcester",2247003.0261162487,6.913929242742714E-2,2366069.8460436207,{"$f":"IF(K94>0, K91/K94, 0)","v":6.8498150631441476E-2},null,{"$f":"ROUND(M94*L91,0)","v":1253165},1204547,{"$f":"N91-O91","v":48618},4.0362061422260815,118.00000000112,117.00000000304,17,876,82,117.00000000304,2366069.8460436207,82,17,876,82,117.00000000304,2366069.8460436207]
["00170998","0017","0998",83,17,"",998,"",0,0,0,{"$f":"IF(K94>0, K92/K94, 0)","v":0},null,{"$f":"ROUND(M94*L92,0)","v":0},0,{"$f":"N92-O92","v":0},0,0,0,17,998,83,0,0,83,17,998,83,0,0]
["00170998","0017","0998",84,17,"",998,"",0,0,0,{"$f":"IF(K94>0, K93/K94, 0)","v":0},null,{"$f":"ROUND(M94*L93,0)","v":0},0,{"$f":"N93-O93","v":0},0,0,0,17,998,84,0,0,84,17,998,84,0,0]
["00170999","0017","0999",85,17,"Auburn                       ",999,"Total",32499653.19611625,1,{"$f":"SUM(K90:K93)","v":34542098.206043623},{"$f":"SUM(L90:L93)","v":0.99999999999999989},{"$f":"VLOOKUP(E94,town351,24)","v":18294872},{"$f":"SUM(N90:N93)","v":18294872},17422029,{"$f":"SUM(P90:P93)","v":872843},5.0099962524456823,2543.00000000112,2539.00000000304,17,999,85,2539.00000000304,34542098.206043623,85,17,999,85,2539.00000000304,34542098.206043623]
["00180018","0018","0018",86,18,"Avon                         ",18,"Avon",8289241.6600000001,0.8825659135533751,{"$f":"X95","v":9536788.9200000018},{"$f":"IF(K99>0, K95/K99, 0)","v":0.89554374588398411},null,{"$f":"ROUND(M99*L95,0)","v":5390722},5081884,{"$f":"N95-O95","v":308838},6.0772343485211389,563,586,18,18,86,586,9536788.9200000018,86,18,18,86,586,9536788.9200000018]
["00180806","0018","0806",87,18,"Avon                         ",806,"Blue Hills",1022255.4742429927,0.10884081723227328,1090844.7131462945,{"$f":"IF(K99>0, K96/K99, 0)","v":0.10243480995370216},null,{"$f":"ROUND(M99*L96,0)","v":616606},626714,{"$f":"N96-O96","v":-10108},-1.6128569012340557,49.999999999960004,49.999999996250004,18,806,87,49.999999996250004,1090844.7131462945,87,18,806,87,49.999999996250004,1090844.7131462945]
["00180915","0018","0915",88,18,"Avon                         ",915,"Norfolk County",80709.762379567459,8.593269214351603E-3,21526.682954523571,{"$f":"IF(K99>0, K97/K99, 0)","v":2.0214441623135921E-3},null,{"$f":"ROUND(M99*L97,0)","v":12168},49481,{"$f":"N97-O97","v":-37313},-75.408742749742331,4.0000000011000001,1.00000000001,18,915,88,1.00000000001,21526.682954523571,88,18,915,88,1.00000000001,21526.682954523571]
["00180998","0018","0998",89,18,"",998,"",0,0,0,{"$f":"IF(K99>0, K98/K99, 0)","v":0},null,{"$f":"ROUND(M99*L98,0)","v":0},0,{"$f":"N98-O98","v":0},0,0,0,18,998,89,0,0,89,18,998,89,0,0]
["00180999","0018","0999",90,18,"Avon                         ",999,"Total",9392206.8966225609,0.99999999999999989,{"$f":"SUM(K95:K98)","v":10649160.316100821},{"$f":"SUM(L95:L98)","v":0.99999999999999989},{"$f":"VLOOKUP(E99,town351,24)","v":6019496},{"$f":"SUM(N95:N98)","v":6019496},5758079,{"$f":"SUM(P95:P98)","v":261417},4.5400037060971199,617.00000000106002,636.99999999626004,18,999,90,636.99999999626004,10649160.316100821,90,18,999,90,636.99999999626004,10649160.316100821]
["00190019","0019","0019",91,19,"Ayer                         ",19,"Ayer",0,0,{"$f":"X100","v":0},{"$f":"IF(K104>0, K100/K104, 0)","v":0},null,{"$f":"ROUND(M104*L100,0)","v":0},0,{"$f":"N100-O100","v":0},0,0,0,19,19,91,0,0,91,19,19,91,0,0]
["00190616","0019","0616",92,19,"Ayer                         ",616,"Ayer Shirley",12015199.51281566,0.91222414553899567,13108566.86880208,{"$f":"IF(K104>0, K101/K104, 0)","v":0.90325983596775994},null,{"$f":"ROUND(M104*L101,0)","v":9087237},8677592,{"$f":"N101-O101","v":409645},4.7207220620651444,958.57815329463995,970.69120184128008,19,616,92,970.69120184128008,13108566.86880208,92,19,616,92,970.69120184128008,13108566.86880208]
["00190852","0019","0852",93,19,"Ayer                         ",852,"Nashoba Valley",1156124.1926277808,8.7775854461004416E-2,1403942.5408047966,{"$f":"IF(K104>0, K102/K104, 0)","v":9.6740164032240061E-2},null,{"$f":"ROUND(M104*L102,0)","v":973253},834974,{"$f":"N102-O102","v":138279},16.560874949399622,61.000000001599993,68.999999997499998,19,852,93,68.999999997499998,1403942.5408047966,93,19,852,93,68.999999997499998,1403942.5408047966]
["00190998","0019","0998",94,19,"",998,"",0,0,0,{"$f":"IF(K104>0, K103/K104, 0)","v":0},null,{"$f":"ROUND(M104*L103,0)","v":0},0,{"$f":"N103-O103","v":0},0,0,0,19,998,94,0,0,94,19,998,94,0,0]
["00190999","0019","0999",95,19,"Ayer                         ",999,"Total",13171323.70544344,1,{"$f":"SUM(K100:K103)","v":14512509.409606876},{"$f":"SUM(L100:L103)","v":1},{"$f":"VLOOKUP(E104,town351,24)","v":10060490},{"$f":"SUM(N100:N103)","v":10060490},9512566,{"$f":"SUM(P100:P103)","v":547924},5.7600020856622702,1019.57815329624,1039.69120183878,19,999,95,1039.69120183878,14512509.409606876,95,19,999,95,1039.69120183878,14512509.409606876]
["00200020","0020","0020",96,20,"Barnstable                   ",20,"Barnstable",75594779.840000004,0.95196054262254426,{"$f":"X105","v":84542110.140000001},{"$f":"IF(K109>0, K105/K109, 0)","v":0.95241611188952036},null,{"$f":"ROUND(M109*L105,0)","v":59790057},56888584,{"$f":"N105-O105","v":2901473},5.1002728420872634,5193,5302,20,20,96,5302,84542110.140000001,96,20,20,96,5302,84542110.140000001]
["00200815","0020","0815",97,20,"Barnstable                   ",815,"Cape Cod",3814792.7792021269,4.8039457377455609E-2,4223828.4918811265,{"$f":"IF(K109>0, K106/K109, 0)","v":4.7583888110479554E-2},null,{"$f":"ROUND(M109*L106,0)","v":2987185},2870809,{"$f":"N106-O106","v":116376},4.0537702090247034,186.28353658808999,194.58170914298998,20,815,97,194.58170914298998,4223828.4918811265,97,20,815,97,194.58170914298998,4223828.4918811265]
["00200998","0020","0998",98,20,"",998,"",0,0,0,{"$f":"IF(K109>0, K107/K109, 0)","v":0},null,{"$f":"ROUND(M109*L107,0)","v":0},0,{"$f":"N107-O107","v":0},0,0,0,20,998,98,0,0,98,20,998,98,0,0]
["00200998","0020","0998",99,20,"",998,"",0,0,0,{"$f":"IF(K109>0, K108/K109, 0)","v":0},null,{"$f":"ROUND(M109*L108,0)","v":0},0,{"$f":"N108-O108","v":0},0,0,0,20,998,99,0,0,99,20,998,99,0,0]
["00200999","0020","0999",100,20,"Barnstable                   ",999,"Total",79409572.619202137,0.99999999999999989,{"$f":"SUM(K105:K108)","v":88765938.631881133},{"$f":"SUM(L105:L108)","v":0.99999999999999989},{"$f":"VLOOKUP(E109,town351,24)","v":62777242},{"$f":"SUM(N105:N108)","v":62777242},59759393,{"$f":"SUM(P105:P108)","v":3017849},5.0499994201748333,5379.2835365880901,5496.5817091429899,20,999,100,5496.5817091429899,88765938.631881133,100,20,999,100,5496.5817091429899,88765938.631881133]
["00210021","0021","0021",101,21,"Barre                        ",21,"Barre",0,0,{"$f":"X110","v":0},{"$f":"IF(K114>0, K110/K114, 0)","v":0},null,{"$f":"ROUND(M114*L110,0)","v":0},0,{"$f":"N110-O110","v":0},0,0,0,21,21,101,0,0,101,21,21,101,0,0]
["00210753","0021","0753",102,21,"Barre                        ",753,"Quabbin",9863169.7672110349,0.91190780868370847,10294721.162142074,{"$f":"IF(K114>0, K111/K114, 0)","v":0.92402183734006804},null,{"$f":"ROUND(M114*L111,0)","v":3851659},3621535,{"$f":"N111-O111","v":230124},6.3543221313614255,757.42532147151996,742.77634195727001,21,753,102,742.77634195727001,10294721.162142074,102,21,753,102,742.77634195727001,10294721.162142074]
["00210832","0021","0832",103,21,"Barre                        ",832,"Montachusett",952802.71738475794,8.8092191316291563E-2,846488.65144516155,{"$f":"IF(K114>0, K112/K114, 0)","v":7.5978162659931986E-2},null,{"$f":"ROUND(M114*L112,0)","v":316705},349848,{"$f":"N112-O112","v":-33143},-9.4735427957284308,50.034106418670007,42.057416266049998,21,832,103,42.057416266049998,846488.65144516155,103,21,832,103,42.057416266049998,846488.65144516155]
["00210998","0021","0998",104,21,"",998,"",0,0,0,{"$f":"IF(K114>0, K113/K114, 0)","v":0},null,{"$f":"ROUND(M114*L113,0)","v":0},0,{"$f":"N113-O113","v":0},0,0,0,21,998,104,0,0,104,21,998,104,0,0]
["00210999","0021","0999",105,21,"Barre                        ",999,"Total",10815972.484595792,1,{"$f":"SUM(K110:K113)","v":11141209.813587235},{"$f":"SUM(L110:L113)","v":1},{"$f":"VLOOKUP(E114,town351,24)","v":4168364},{"$f":"SUM(N110:N113)","v":4168364},3971383,{"$f":"SUM(P110:P113)","v":196981},4.9600101526344851,807.45942789019,784.83375822332005,21,999,105,784.83375822332005,11141209.813587235,105,21,999,105,784.83375822332005,11141209.813587235]
["00220022","0022","0022",106,22,"Becket                       ",22,"Becket",202094.16,7.2231876212277224E-2,{"$f":"X115","v":261641.76000000004},{"$f":"IF(K119>0, K115/K119, 0)","v":8.3916606743312486E-2},null,{"$f":"ROUND(M119*L115,0)","v":189361},153855,{"$f":"N115-O115","v":35506},23.077573039550227,11,14,22,22,106,14,261641.76000000004,106,22,22,106,14,261641.76000000004]
["00220635","0022","0635",107,22,"Becket                       ",635,"Central Berkshire",2595758.6800131761,0.92776812378772278,2856236.454503125,{"$f":"IF(K119>0, K116/K119, 0)","v":0.91608339325668742},null,{"$f":"ROUND(M119*L116,0)","v":2067171},1976155,{"$f":"N116-O116","v":91016},4.6057115965093836,193.65883887899997,199.70668396823999,22,635,107,199.70668396823999,2856236.454503125,107,22,635,107,199.70668396823999,2856236.454503125]
["00220998","0022","0998",108,22,"",998,"",0,0,0,{"$f":"IF(K119>0, K117/K119, 0)","v":0},null,{"$f":"ROUND(M119*L117,0)","v":0},0,{"$f":"N117-O117","v":0},0,0,0,22,998,108,0,0,108,22,998,108,0,0]
["00220998","0022","0998",109,22,"",998,"",0,0,0,{"$f":"IF(K119>0, K118/K119, 0)","v":0},null,{"$f":"ROUND(M119*L118,0)","v":0},0,{"$f":"N118-O118","v":0},0,0,0,22,998,109,0,0,109,22,998,109,0,0]
["00220999","0022","0999",110,22,"Becket                       ",999,"Total",2797852.8400131762,1,{"$f":"SUM(K115:K118)","v":3117878.2145031253},{"$f":"SUM(L115:L118)","v":0.99999999999999989},{"$f":"VLOOKUP(E119,town351,24)","v":2256532},{"$f":"SUM(N115:N118)","v":2256532},2130010,{"$f":"SUM(P115:P118)","v":126522},5.9399721128069825,204.65883887899997,213.70668396823999,22,999,110,213.70668396823999,3117878.2145031253,110,22,999,110,213.70668396823999,3117878.2145031253]
["00230023","0023","0023",111,23,"Bedford                      ",23,"Bedford",32246555.756910007,0.97900954116465932,{"$f":"X120","v":33265363.043120004},{"$f":"IF(K124>0, K120/K124, 0)","v":0.97844643397163145},null,{"$f":"ROUND(M124*L120,0)","v":27443924},26379003,{"$f":"N120-O120","v":1064921},4.0370024598731042,2624,2549,23,23,111,2549,33265363.043120004,111,23,23,111,2549,33265363.043120004]
["00230871","0023","0871",112,23,"Bedford                      ",871,"Shawsheen Valley",691382.43575411185,2.0990458835340682E-2,732781.24781670235,{"$f":"IF(K124>0, K121/K124, 0)","v":2.1553566028368453E-2},null,{"$f":"ROUND(M124*L121,0)","v":604545},565579,{"$f":"N121-O121","v":38966},6.8895768760862763,37.999999998450001,37.999999995300001,23,871,112,37.999999995300001,732781.24781670235,112,23,871,112,37.999999995300001,732781.24781670235]
["00230998","0023","0998",113,23,"",998,null,0,0,0,{"$f":"IF(K124>0, K122/K124, 0)","v":0},null,{"$f":"ROUND(M124*L122,0)","v":0},0,{"$f":"N122-O122","v":0},0,0,0,23,998,113,0,0,113,23,998,113,0,0]
["00230998","0023","0998",114,23,"",998,"",0,0,0,{"$f":"IF(K124>0, K123/K124, 0)","v":0},null,{"$f":"ROUND(M124*L123,0)","v":0},0,{"$f":"N123-O123","v":0},0,0,0,23,998,114,0,0,114,23,998,114,0,0]
["00230999","0023","0999",115,23,"Bedford                      ",999,"Total",32937938.19266412,1,{"$f":"SUM(K120:K123)","v":33998144.290936708},{"$f":"SUM(L120:L123)","v":0.99999999999999989},{"$f":"VLOOKUP(E124,town351,24)","v":28048469},{"$f":"SUM(N120:N123)","v":28048469},26944582,{"$f":"SUM(P120:P123)","v":1103887},4.0968792909832485,2661.9999999984502,2586.9999999953002,23,999,115,2586.9999999953002,33998144.290936708,115,23,999,115,2586.9999999953002,33998144.290936708]
["00240024","0024","0024",116,24,"Belchertown                  ",24,"Belchertown",26384198.330000002,0.92826119905609872,{"$f":"X125","v":27713334.379999995},{"$f":"IF(K129>0, K125/K129, 0)","v":0.92483591537650744},null,{"$f":"ROUND(M129*L125,0)","v":13763232},13099002,{"$f":"N125-O125","v":664230},5.0708443284457854,2177,2152,24,24,116,2152,27713334.379999995,116,24,24,116,2152,27713334.379999995]
["00240860","0024","0860",117,24,"Belchertown                  ",860,"Pathfinder",2039049.735122985,7.1738800943901268E-2,2252342.6868532035,{"$f":"IF(K129>0, K126/K129, 0)","v":7.5164084623492541E-2},null,{"$f":"ROUND(M129*L126,0)","v":1118578},1012330,{"$f":"N126-O126","v":106248},10.495391818873292,103.00000000234,106.00000000044,24,860,117,106.00000000044,2252342.6868532035,117,24,860,117,106.00000000044,2252342.6868532035]
["00240998","0024","0998",118,24,"",998,"",0,0,0,{"$f":"IF(K129>0, K127/K129, 0)","v":0},null,{"$f":"ROUND(M129*L127,0)","v":0},0,{"$f":"N127-O127","v":0},0,0,0,24,998,118,0,0,118,24,998,118,0,0]
["00240998","0024","0998",119,24,"",998,"",0,0,0,{"$f":"IF(K129>0, K128/K129, 0)","v":0},null,{"$f":"ROUND(M129*L128,0)","v":0},0,{"$f":"N128-O128","v":0},0,0,0,24,998,119,0,0,119,24,998,119,0,0]
["00240999","0024","0999",120,24,"Belchertown                  ",999,"Total",28423248.065122988,1,{"$f":"SUM(K125:K128)","v":29965677.066853199},{"$f":"SUM(L125:L128)","v":1},{"$f":"VLOOKUP(E129,town351,24)","v":14881810},{"$f":"SUM(N125:N128)","v":14881810},14111332,{"$f":"SUM(P125:P128)","v":770478},5.4599948466948405,2280.0000000023401,2258.0000000004402,24,999,120,2258.0000000004402,29965677.066853199,120,24,999,120,2258.0000000004402,29965677.066853199]
["00250025","0025","0025",121,25,"Bellingham                   ",25,"Bellingham",27015991.390000001,0.94251623136259743,{"$f":"X130","v":29660512.23},{"$f":"IF(K134>0, K130/K134, 0)","v":0.94332109623550786},null,{"$f":"ROUND(M134*L130,0)","v":19686080},18432465,{"$f":"N130-O130","v":1253615},6.8011250801235752,2158,2175,25,25,121,2175,29660512.23,121,25,25,121,2175,29660512.23]
["00250805","0025","0805",122,25,"Bellingham                   ",805,"Blackstone Valley",1284502.8908160001,4.4812896419355069E-2,1416181.1527912768,{"$f":"IF(K134>0, K131/K134, 0)","v":4.5040137781839393E-2},null,{"$f":"ROUND(M134*L131,0)","v":939938},876390,{"$f":"N131-O131","v":63548},7.2511096657880625,72,75.000000003080004,25,805,122,75.000000003080004,1416181.1527912768,122,25,805,122,75.000000003080004,1416181.1527912768]
["00250915","0025","0915",123,25,"Bellingham                   ",915,"Norfolk County",363193.93062512425,1.2670872218047474E-2,365953.61022690072,{"$f":"IF(K134>0, K132/K134, 0)","v":1.1638765982652814E-2},null,{"$f":"ROUND(M134*L132,0)","v":242888},247800,{"$f":"N132-O132","v":-4912},-1.9822437449556094,18.00000000084,17.000000000170001,25,915,123,17.000000000170001,365953.61022690072,123,25,915,123,17.000000000170001,365953.61022690072]
["00250998","0025","0998",124,25,"",998,"",0,0,0,{"$f":"IF(K134>0, K133/K134, 0)","v":0},null,{"$f":"ROUND(M134*L133,0)","v":0},0,{"$f":"N133-O133","v":0},0,0,0,25,998,124,0,0,124,25,998,124,0,0]
["00250999","0025","0999",125,25,"Bellingham                   ",999,"Total",28663688.211441126,1,{"$f":"SUM(K130:K133)","v":31442646.993018176},{"$f":"SUM(L130:L133)","v":1},{"$f":"VLOOKUP(E134,town351,24)","v":20868907},{"$f":"SUM(N130:N133)","v":20868906},19556655,{"$f":"SUM(P130:P133)","v":1312251},6.7099971851014395,2248.0000000008399,2267.0000000032501,25,999,125,2267.0000000032501,31442646.993018176,125,25,999,125,2267.0000000032501,31442646.993018176]
["00260026","0026","0026",126,26,"Belmont                      ",26,"Belmont",53256083.380400002,1,{"$f":"X135","v":57423975.883839987},{"$f":"IF(K139>0, K135/K139, 0)","v":1},null,{"$f":"ROUND(M139*L135,0)","v":45639441},43686648,{"$f":"N135-O135","v":1952793},4.4699996209368136,4449,4505,26,26,126,4505,57423975.883839987,126,26,26,126,4505,57423975.883839987]
["00260830","0026","0830",127,26,null,998,null,0,0,0,{"$f":"IF(K139>0, K136/K139, 0)","v":0},null,{"$f":"ROUND(M139*L136,0)","v":0},0,{"$f":"N136-O136","v":0},0,0,0,26,830,127,0,0,127,26,830,127,0,0]
["00260998","0026","0998",128,26,"",998,"",0,0,0,{"$f":"IF(K139>0, K137/K139, 0)","v":0},null,{"$f":"ROUND(M139*L137,0)","v":0},0,{"$f":"N137-O137","v":0},0,0,0,26,998,128,0,0,128,26,998,128,0,0]
[{"$f":"B138&C138","v":"00260998"},"0026","0998",129,26,"",998,"",0,0,0,{"$f":"IF(K139>0, K138/K139, 0)","v":0},null,{"$f":"ROUND(M139*L138,0)","v":0},0,{"$f":"N138-O138","v":0},0,0,0,{"$f":"VLOOKUP($D138, foundoptions, VLOOKUP($T$6, foundoptcell, 2, FALSE), FALSE)","v":26},{"$f":"VLOOKUP($D138, foundoptions, VLOOKUP($T$6, foundoptcell, 2, FALSE)+1, FALSE)","v":998},{"$f":"VLOOKUP($D138, foundoptions, VLOOKUP($T$6, foundoptcell, 2, FALSE)+2, FALSE)","v":129},{"$f":"VLOOKUP($D138, foundoptions, VLOOKUP($T$6, foundoptcell, 2, FALSE)+3, FALSE)","v":0},{"$f":"VLOOKUP($D138, foundoptions, VLOOKUP($T$6, foundoptcell, 2, FALSE)+4, FALSE)","v":0},129,26,998,129,0,0]
["00260999","0026","0999",130,26,"Belmont                      ",999,"Total",53256083.380400002,1,{"$f":"SUM(K135:K138)","v":57423975.883839987},{"$f":"SUM(L135:L138)","v":1},{"$f":"VLOOKUP(E139,town351,24)","v":45639441},{"$f":"SUM(N135:N138)","v":45639441},43686648,{"$f":"SUM(P135:P138)","v":1952793},4.4699996209368136,4449,{"$f":"W139","v":4505},26,999,130,4505,57423975.883839987,{"$f":"D139","v":130},26,999,130,4505,57423975.883839987]
["00270027","0027","0027",131,27,"Berkley                      ",27,"Berkley",8601441.5,0.61263007940626468,{"$f":"X140","v":8929788.1399999987},{"$f":"IF(K144>0, K140/K144, 0)","v":0.6046882924687379},null,{"$f":"ROUND(M144*L140,0)","v":4777868},4571797,{"$f":"N140-O140","v":206071},4.5074398535193057,725,698,27,27,131,698,8929788.1399999987,131,27,27,131,698,8929788.1399999987]
["00270763","0027","0763",132,27,"Berkley                      ",763,"Somerset Berkley",3452748.8185481685,0.24591898728568359,3647366.8512679655,{"$f":"IF(K144>0, K141/K144, 0)","v":0.24698458672506687},null,{"$f":"ROUND(M144*L141,0)","v":1951517},1835188,{"$f":"N141-O141","v":116329},6.3388056155554633,257.00000000260002,257.51606425298002,27,763,132,257.51606425298002,3647366.8512679655,132,27,763,132,257.51606425298002,3647366.8512679655]
["00270810","0027","0810",133,27,"Berkley                      ",810,"Bristol Plymouth",1700512.1983235888,0.1211174804932757,1864635.2451007736,{"$f":"IF(K144>0, K142/K144, 0)","v":0.12626538107734028},null,{"$f":"ROUND(M144*L142,0)","v":997670},903848,{"$f":"N142-O142","v":93822},10.380285180694099,89.262924663779998,92.49047982239999,27,810,133,92.49047982239999,1864635.2451007736,133,27,810,133,92.49047982239999,1864635.2451007736]
["00270910","0027","0910",134,27,"Berkley                      ",910,"Bristol County",285485.50056309486,2.0333452814775992E-2,325798.70361667447,{"$f":"IF(K144>0, K143/K144, 0)","v":2.2061739728854904E-2},null,{"$f":"ROUND(M144*L143,0)","v":174318},151740,{"$f":"N143-O143","v":22578},14.879398971925662,14.99999999932,16.000000002149999,27,910,134,16.000000002149999,325798.70361667447,134,27,910,134,16.000000002149999,325798.70361667447]
["00270999","0027","0999",135,27,"Berkley                      ",999,"Total",14040188.017434852,0.99999999999999989,{"$f":"SUM(K140:K143)","v":14767588.939985413},{"$f":"SUM(L140:L143)","v":1},{"$f":"VLOOKUP(E144,town351,24)","v":7901373},{"$f":"SUM(N140:N143)","v":7901373},7462573,{"$f":"SUM(P140:P143)","v":438800},{"$f":"IF(O144>0,P144*100/O144,IF(P144>0,100,0))","v":5.8800094819842972},1086.2629246657,1064.00654407753,27,999,135,1064.00654407753,14767588.939985413,135,27,999,135,1064.00654407753,14767588.939985413]
["00280028","0028","0028",136,28,"Berlin                       ",28,"Berlin",0,0,{"$f":"X145","v":0},{"$f":"IF(K149>0, K145/K149, 0)","v":0},null,{"$f":"ROUND(M149*L145,0)","v":0},0,{"$f":"N145-O145","v":0},0,0,0,28,28,136,0,0,136,28,28,136,0,0]
["00280620","0028","0620",137,28,"Berlin                       ",620,"Berlin Boylston",4346852.5826353105,0.84969113287586007,4843565.8674703222,{"$f":"IF(K149>0, K146/K149, 0)","v":0.83298218680157909},null,{"$f":"ROUND(M149*L146,0)","v":3383257},3146824,{"$f":"N146-O146","v":236433},7.5133849239741402,371.71719226947999,389.67128712752003,28,620,137,389.67128712752003,4843565.8674703222,137,28,620,137,389.67128712752003,4843565.8674703222]
["00280801","0028","0801",138,28,"Berlin                       ",801,"Assabet Valley",768950.57741765643,0.15030886712413991,971163.35989559989,{"$f":"IF(K149>0, K147/K149, 0)","v":0.16701781319842091},null,{"$f":"ROUND(M149*L147,0)","v":678363},556668,{"$f":"N147-O147","v":121695},21.861324883054174,37.000000000600004,44.000000004069996,28,801,138,44.000000004069996,971163.35989559989,138,28,801,138,44.000000004069996,971163.35989559989]
["00280998","0028","0998",139,28,"",998,"",0,0,0,{"$f":"IF(K149>0, K148/K149, 0)","v":0},null,{"$f":"ROUND(M149*L148,0)","v":0},0,{"$f":"N148-O148","v":0},0,0,0,28,998,139,0,0,139,28,998,139,0,0]
["00280999","0028","0999",140,28,"Berlin                       ",999,"Total",5115803.1600529673,1,{"$f":"SUM(K145:K148)","v":5814729.2273659222},{"$f":"SUM(L145:L148)","v":1},{"$f":"VLOOKUP(E149,town351,24)","v":4061620},{"$f":"SUM(N145:N148)","v":4061620},3703492,{"$f":"SUM(P145:P148)","v":358128},9.6700087376994475,408.71719227007998,433.67128713159002,28,999,140,433.67128713159002,5814729.2273659222,140,28,999,140,433.67128713159002,5814729.2273659222]
["00290029","0029","0029",141,29,"Bernardston                  ",29,"Bernardston",0,0,{"$f":"X150","v":0},{"$f":"IF(K154>0, K150/K154, 0)","v":0},null,{"$f":"ROUND(M154*L150,0)","v":0},0,{"$f":"N150-O150","v":0},0,0,0,29,29,141,0,0,141,29,29,141,0,0]
["00290750","0029","0750",142,29,"Bernardston                  ",750,"Pioneer",2923168.8821228389,0.84856334702164304,3105454.8823304903,{"$f":"IF(K154>0, K151/K154, 0)","v":0.85328256448704143},null,{"$f":"ROUND(M154*L151,0)","v":1622998},1542305,{"$f":"N151-O151","v":80693},5.2319742204038757,227.13841368645001,224.86254295736001,29,750,142,224.86254295736001,3105454.8823304903,142,29,750,142,224.86254295736001,3105454.8823304903]
["00290818","0029","0818",143,29,"Bernardston                  ",818,"Franklin County",521675.73953424301,0.15143665297835698,533966.58434082626,{"$f":"IF(K154>0, K152/K154, 0)","v":0.14671743551295865},null,{"$f":"ROUND(M154*L152,0)","v":279066},275243,{"$f":"N152-O152","v":3823},1.3889544874892368,26.00000000052,24.9999999984,29,818,143,24.9999999984,533966.58434082626,143,29,818,143,24.9999999984,533966.58434082626]
["00290998","0029","0998",144,29,"",998,"",0,0,0,{"$f":"IF(K154>0, K153/K154, 0)","v":0},null,{"$f":"ROUND(M154*L153,0)","v":0},0,{"$f":"N153-O153","v":0},0,0,0,29,998,144,0,0,144,29,998,144,0,0]
["00290999","0029","0999",145,29,"Bernardston                  ",999,"Total",3444844.6216570819,1,{"$f":"SUM(K150:K153)","v":3639421.4666713164},{"$f":"SUM(L150:L153)","v":1},{"$f":"VLOOKUP(E154,town351,24)","v":1902064},{"$f":"SUM(N150:N153)","v":1902064},1817548,{"$f":"SUM(P150:P153)","v":84516},4.6500009903452346,253.13841368697001,249.86254295576001,29,999,145,249.86254295576001,3639421.4666713164,145,29,999,145,249.86254295576001,3639421.4666713164]
["00300030","0030","0030",146,30,"Beverly                      ",30,"Beverly",58610573.329999998,0.95686066136235981,{"$f":"X155","v":61798815.259999998},{"$f":"IF(K159>0, K155/K159, 0)","v":0.94797095007330001},null,{"$f":"ROUND(M159*L155,0)","v":47254334},45452132,{"$f":"N155-O155","v":1802202},3.9650549285564867,4595,4541,30,30,146,4541,61798815.259999998,146,30,30,146,4541,61798815.259999998]
["00300817","0030","0817",147,30,"Beverly                      ",817,"Essex North Shore",2642413.3342771116,4.3139338637640239E-2,3391806.0931348493,{"$f":"IF(K159>0, K156/K159, 0)","v":5.2029049926700016E-2},null,{"$f":"ROUND(M159*L156,0)","v":2593537},2049175,{"$f":"N156-O156","v":544362},26.564934668830141,141.99999999405,172.00000000473,30,817,147,172.00000000473,3391806.0931348493,147,30,817,147,172.00000000473,3391806.0931348493]
["00300998","0030","0998",148,30,"",998,null,0,0,0,{"$f":"IF(K159>0, K157/K159, 0)","v":0},null,{"$f":"ROUND(M159*L157,0)","v":0},0,{"$f":"N157-O157","v":0},0,0,0,30,998,148,0,0,148,30,998,148,0,0]
["00300998","0030","0998",149,30,"",998,"",0,0,0,{"$f":"IF(K159>0, K158/K159, 0)","v":0},null,{"$f":"ROUND(M159*L158,0)","v":0},0,{"$f":"N158-O158","v":0},0,0,0,30,998,149,0,0,149,30,998,149,0,0]
["00300999","0030","0999",150,30,"Beverly                      ",999,"Total",61252986.664277107,1,{"$f":"SUM(K155:K158)","v":65190621.353134848},{"$f":"SUM(L155:L158)","v":1},{"$f":"VLOOKUP(E159,town351,24)","v":49847871},{"$f":"SUM(N155:N158)","v":49847871},47501307,{"$f":"SUM(P155:P158)","v":2346564},4.9399988088748801,4736.9999999940501,4713.0000000047303,30,999,150,4713.0000000047303,65190621.353134848,150,30,999,150,4713.0000000047303,65190621.353134848]
["00310031","0031","0031",151,31,"Billerica                    ",31,"Billerica",57705837.690000005,0.86712773389412745,{"$f":"X160","v":63590856.680000007},{"$f":"IF(K164>0, K160/K164, 0)","v":0.87618386508407153},null,{"$f":"ROUND(M164*L160,0)","v":49635324},46197969,{"$f":"N160-O160","v":3437355},7.4404894293080286,4792,4879,31,31,151,4879,63590856.680000007,151,31,31,151,4879,63590856.680000007]
["00310871","0031","0871",152,31,"Billerica                    ",871,"Shawsheen Valley",8842417.4682713412,0.13287226610587263,8986212.1455008425,{"$f":"IF(K164>0, K161/K164, 0)","v":0.12381613491592852},null,{"$f":"ROUND(M164*L161,0)","v":7014115},7079036,{"$f":"N161-O161","v":-64921},-0.91708814590009147,486.00000000594002,466.00000000575,31,871,152,466.00000000575,8986212.1455008425,152,31,871,152,466.00000000575,8986212.1455008425]
["00310998","0031","0998",153,31,"",998,null,0,0,0,{"$f":"IF(K164>0, K162/K164, 0)","v":0},null,{"$f":"ROUND(M164*L162,0)","v":0},0,{"$f":"N162-O162","v":0},0,0,0,31,998,153,0,0,153,31,998,153,0,0]
["00310998","0031","0998",154,31,"",998,"",0,0,0,{"$f":"IF(K164>0, K163/K164, 0)","v":0},null,{"$f":"ROUND(M164*L163,0)","v":0},0,{"$f":"N163-O163","v":0},0,0,0,31,998,154,0,0,154,31,998,154,0,0]
["00310999","0031","0999",155,31,"Billerica                    ",999,"Total",66548255.158271343,1,{"$f":"SUM(K160:K163)","v":72577068.825500846},{"$f":"SUM(L160:L163)","v":1},{"$f":"VLOOKUP(E164,town351,24)","v":56649439},{"$f":"SUM(N160:N163)","v":56649439},53277005,{"$f":"SUM(P160:P163)","v":3372434},6.3299992182368356,5278.0000000059399,5345.0000000057498,31,999,155,5345.0000000057498,72577068.825500846,155,31,999,155,5345.0000000057498,72577068.825500846]
["00320032","0032","0032",156,32,"Blackstone                   ",32,"Blackstone",437559.81000000006,2.5662719060384455E-2,{"$f":"X165","v":393567.83999999997},{"$f":"IF(K169>0, K165/K169, 0)","v":2.2649642950160569E-2},null,{"$f":"ROUND(M169*L165,0)","v":197879},213832,{"$f":"N165-O165","v":-15953},-7.4605297616820678,26,22,32,32,156,22,393567.83999999997,156,32,32,156,22,393567.83999999997]
["00320622","0032","0622",157,32,"Blackstone                   ",622,"Blackstone Millville",15399705.777179187,0.90318697910653378,15849824.730998944,{"$f":"IF(K169>0, K166/K169, 0)","v":0.91214991290891778},null,{"$f":"ROUND(M169*L166,0)","v":7969016},7525714,{"$f":"N166-O166","v":443302},5.8904975660781158,1225.13568439504,1179.64669548954,32,622,157,1179.64669548954,15849824.730998944,157,32,622,157,1179.64669548954,15849824.730998944]
["00320805","0032","0805",158,32,"Blackstone                   ",805,"Blackstone Valley",1213141.619104,7.1150301833081686E-2,1132944.9220920831,{"$f":"IF(K169>0, K167/K169, 0)","v":6.520044414092159E-2},null,{"$f":"ROUND(M169*L167,0)","v":569625},592853,{"$f":"N167-O167","v":-23228},-3.9180032824325761,68,59.999999994999996,32,805,158,59.999999994999996,1132944.9220920831,158,32,805,158,59.999999994999996,1132944.9220920831]
["00320998","0032","0998",159,32,"",998,"",0,0,0,{"$f":"IF(K169>0, K168/K169, 0)","v":0},null,{"$f":"ROUND(M169*L168,0)","v":0},0,{"$f":"N168-O168","v":0},0,0,0,32,998,159,0,0,159,32,998,159,0,0]
["00320999","0032","0999",160,32,"Blackstone                   ",999,"Total",17050407.206283189,0.99999999999999989,{"$f":"SUM(K165:K168)","v":17376337.493091028},{"$f":"SUM(L165:L168)","v":1},{"$f":"VLOOKUP(E169,town351,24)","v":8736520},{"$f":"SUM(N165:N168)","v":8736520},8332399,{"$f":"SUM(P165:P168)","v":404121},4.8499957815270252,1319.13568439504,1261.64669548454,32,999,160,1261.64669548454,17376337.493091028,160,32,999,160,1261.64669548454,17376337.493091028]
["00330033","0033","0033",161,33,"Blandford                    ",33,"Blandford",156977.1,0.1195101770449296,{"$f":"X170","v":245151},{"$f":"IF(K174>0, K170/K174, 0)","v":0.16331458685841688},null,{"$f":"ROUND(M174*L170,0)","v":186549},129506,{"$f":"N170-O170","v":57043},44.046607879171624,10,13,33,33,161,13,245151,161,33,33,161,13,245151]
["00330672","0033","0672",162,33,"Blandford                    ",672,"Gateway",1156526.9369071228,0.88048982295507028,1255945.7771821262,{"$f":"IF(K174>0, K171/K174, 0)","v":0.83668541314158307},null,{"$f":"ROUND(M174*L171,0)","v":955717},954135,{"$f":"N171-O171","v":1582},0.16580462932394263,85.2853470469,85.309756100819996,33,672,162,85.309756100819996,1255945.7771821262,162,33,672,162,85.309756100819996,1255945.7771821262]
["00330998","0033","0998",163,33,"",998,"",0,0,0,{"$f":"IF(K174>0, K172/K174, 0)","v":0},null,{"$f":"ROUND(M174*L172,0)","v":0},0,{"$f":"N172-O172","v":0},0,0,0,33,998,163,0,0,163,33,998,163,0,0]
["00330998","0033","0998",164,33,"",998,"",0,0,0,{"$f":"IF(K174>0, K173/K174, 0)","v":0},null,{"$f":"ROUND(M174*L173,0)","v":0},0,{"$f":"N173-O173","v":0},0,0,0,33,998,164,0,0,164,33,998,164,0,0]
["00330999","0033","0999",165,33,"Blandford                    ",999,"Total",1313504.0369071229,0.99999999999999989,{"$f":"SUM(K170:K173)","v":1501096.7771821262},{"$f":"SUM(L170:L173)","v":1},{"$f":"VLOOKUP(E174,town351,24)","v":1142266},{"$f":"SUM(N170:N173)","v":1142266},1083641,{"$f":"SUM(P170:P173)","v":58625},5.4100020209645079,95.2853470469,98.309756100819996,33,999,165,98.309756100819996,1501096.7771821262,165,33,999,165,98.309756100819996,1501096.7771821262]
["00340034","0034","0034",166,34,"Bolton                       ",34,"Bolton",0,0,{"$f":"X175","v":0},{"$f":"IF(K179>0, K175/K179, 0)","v":0},null,{"$f":"ROUND(M179*L175,0)","v":0},0,{"$f":"N175-O175","v":0},0,0,0,34,34,166,0,0,166,34,34,166,0,0]
["00340725","0034","0725",167,34,"Bolton                       ",725,"Nashoba",12215898.24096385,0.96261106171509092,12637109.936949397,{"$f":"IF(K179>0, K176/K179, 0)","v":0.94833164434859141},null,{"$f":"ROUND(M179*L176,0)","v":10037536},9705349,{"$f":"N176-O176","v":332187},3.4227208109672307,1030.45937400404,1010.6155315213099,34,725,167,1010.6155315213099,12637109.936949397,167,34,725,167,1010.6155315213099,12637109.936949397]
["00340830","0034","0830",168,34,"Bolton                       ",830,"Minuteman",474479.75988593994,3.7388938284909023E-2,688513.02655491768,{"$f":"IF(K179>0, K177/K179, 0)","v":5.1668355651408551E-2},null,{"$f":"ROUND(M179*L177,0)","v":546879},376967,{"$f":"N177-O177","v":169912},45.073441441823817,24.043636365640001,32.999999998500002,34,830,168,32.999999998500002,688513.02655491768,168,34,830,168,32.999999998500002,688513.02655491768]
["00340998","0034","0998",169,34,"",998,"",0,0,0,{"$f":"IF(K179>0, K178/K179, 0)","v":0},null,{"$f":"ROUND(M179*L178,0)","v":0},0,{"$f":"N178-O178","v":0},0,0,0,34,998,169,0,0,169,34,998,169,0,0]
["00340999","0034","0999",170,34,"Bolton                       ",999,"Total",12690378.000849791,1,{"$f":"SUM(K175:K178)","v":13325622.963504314},{"$f":"SUM(L175:L178)","v":1},{"$f":"VLOOKUP(E179,town351,24)","v":10584415},{"$f":"SUM(N175:N178)","v":10584415},10082316,{"$f":"SUM(P175:P178)","v":502099},4.9799966594976786,1054.5030103696799,1043.6155315198098,34,999,170,1043.6155315198098,13325622.963504314,170,34,999,170,1043.6155315198098,13325622.963504314]
["00350035","0035","0035",171,35,"Boston                       ",35,"Boston",1012695285.9958402,1,{"$f":"X180","v":1095713386.0691998},{"$f":"IF(K184>0, K180/K184, 0)","v":1},null,{"$f":"ROUND(M184*L180,0)","v":880485066},827212576,{"$f":"N180-O180","v":53272490},6.4400000127657631,58339,57738,35,35,171,57738,1095713386.0691998,171,35,35,171,57738,1095713386.0691998]
["00350998","0035","0998",172,35,"",998,null,0,0,0,{"$f":"IF(K184>0, K181/K184, 0)","v":0},null,{"$f":"ROUND(M184*L181,0)","v":0},0,{"$f":"N181-O181","v":0},0,0,0,35,998,172,0,0,172,35,998,172,0,0]
["00350998","0035","0998",173,35,"",998,"",0,0,0,{"$f":"IF(K184>0, K182/K184, 0)","v":0},null,{"$f":"ROUND(M184*L182,0)","v":0},0,{"$f":"N182-O182","v":0},0,0,0,35,998,173,0,0,173,35,998,173,0,0]
["00350998","0035","0998",174,35,"",998,"",0,0,0,{"$f":"IF(K184>0, K183/K184, 0)","v":0},null,{"$f":"ROUND(M184*L183,0)","v":0},0,{"$f":"N183-O183","v":0},0,0,0,35,998,174,0,0,174,35,998,174,0,0]
["00350999","0035","0999",175,35,"Boston                       ",999,"Total",1012695285.9958402,1,{"$f":"SUM(K180:K183)","v":1095713386.0691998},{"$f":"SUM(L180:L183)","v":1},{"$f":"VLOOKUP(E184,town351,24)","v":880485066},{"$f":"SUM(N180:N183)","v":880485066},827212576,{"$f":"SUM(P180:P183)","v":53272490},6.4400000127657631,58339,57738,35,999,175,57738,1095713386.0691998,175,35,999,175,57738,1095713386.0691998]
["00360036","0036","0036",176,36,"Bourne                       ",36,"Bourne",21855345.039999999,0.86171952644733518,{"$f":"X185","v":22858350.509999994},{"$f":"IF(K189>0, K185/K189, 0)","v":0.84980756347126463},null,{"$f":"ROUND(M189*L185,0)","v":18409357},17827720,{"$f":"N185-O185","v":581637},3.2625428265644736,1717,1678,36,36,176,1678,22858350.509999994,176,36,36,176,1678,22858350.509999994]
["00360879","0036","0879",177,36,"Bourne                       ",879,"Upper Cape Cod",3507135.8708183863,0.13828047355266473,4039916.2183272927,{"$f":"IF(K189>0, K186/K189, 0)","v":0.15019243652873546},null,{"$f":"ROUND(M189*L186,0)","v":3253614},2860821,{"$f":"N186-O186","v":392793},13.730079582050047,179.93229166923999,192.97338402680001,36,879,177,192.97338402680001,4039916.2183272927,177,36,879,177,192.97338402680001,4039916.2183272927]
["00360998","0036","0998",178,36,"",998,"",0,0,0,{"$f":"IF(K189>0, K187/K189, 0)","v":0},null,{"$f":"ROUND(M189*L187,0)","v":0},0,{"$f":"N187-O187","v":0},0,0,0,36,998,178,0,0,178,36,998,178,0,0]
["00360998","0036","0998",179,36,"",998,"",0,0,0,{"$f":"IF(K189>0, K188/K189, 0)","v":0},null,{"$f":"ROUND(M189*L188,0)","v":0},0,{"$f":"N188-O188","v":0},0,0,0,36,998,179,0,0,179,36,998,179,0,0]
["00360999","0036","0999",180,36,"Bourne                       ",999,"Total",25362480.910818387,0.99999999999999989,{"$f":"SUM(K185:K188)","v":26898266.728327285},{"$f":"SUM(L185:L188)","v":1},{"$f":"VLOOKUP(E189,town351,24)","v":21662971},{"$f":"SUM(N185:N188)","v":21662971},20688541,{"$f":"SUM(P185:P188)","v":974430},4.7099986412768304,1896.9322916692399,1870.9733840268,36,999,180,1870.9733840268,26898266.728327285,180,36,999,180,1870.9733840268,26898266.728327285]
["00370037","0037","0037",181,37,"Boxborough                   ",37,"Boxborough",171344.57700000002,1.7015366533549705E-2,{"$f":"X190","v":107478.84312000001},{"$f":"IF(K194>0, K190/K194, 0)","v":9.4700201089616132E-3},null,{"$f":"ROUND(M194*L190,0)","v":81354},138436,{"$f":"N190-O190","v":-57082},-41.233494177815018,10,6,37,37,181,6,107478.84312000001,181,37,37,181,6,107478.84312000001]
["00370600","0037","0600",182,37,"Boxborough                   ",600,"Acton Boxborough",9898645.7850738838,0.98298463346645037,11241899.709760925,{"$f":"IF(K194>0, K191/K194, 0)","v":0.99052997989103841},null,{"$f":"ROUND(M194*L191,0)","v":8509388},7997507,{"$f":"N191-O191","v":511881},6.4005070580119527,816.84416842203007,876.93937612800005,37,600,182,876.93937612800005,11241899.709760925,182,37,600,182,876.93937612800005,11241899.709760925]
["00370830","0037","0830",183,37,null,998,null,0,0,0,{"$f":"IF(K194>0, K192/K194, 0)","v":0},null,{"$f":"ROUND(M194*L192,0)","v":0},0,{"$f":"N192-O192","v":0},0,0,0,37,998,183,0,0,183,37,998,183,0,0]
["00370998","0037","0998",184,37,"",998,"",0,0,0,{"$f":"IF(K194>0, K193/K194, 0)","v":0},null,{"$f":"ROUND(M194*L193,0)","v":0},0,{"$f":"N193-O193","v":0},0,0,0,37,998,184,0,0,184,37,998,184,0,0]
["00370999","0037","0999",185,37,"Boxborough",999,"Total",10069990.362073883,1,{"$f":"SUM(K190:K193)","v":11349378.552880924},{"$f":"SUM(L190:L193)","v":1},{"$f":"VLOOKUP(E194,town351,24)","v":8590742},{"$f":"SUM(N190:N193)","v":8590742},8135943,{"$f":"SUM(P190:P193)","v":454799},5.5899973733837616,826.84416842203007,882.93937612800005,37,999,185,882.93937612800005,11349378.552880924,185,37,999,185,882.93937612800005,11349378.552880924]
["00380038","0038","0038",186,38,"Boxford",38,"Boxford",8106140.9460000005,0.49865139129226671,{"$f":"X195","v":8528050.2678800002},{"$f":"IF(K199>0, K195/K199, 0)","v":0.50843132196794627},null,{"$f":"ROUND(M199*L195,0)","v":6718468},6300062,{"$f":"N195-O195","v":418406},6.6412997205424329,729,721,38,38,186,721,8528050.2678800002,186,38,38,186,721,8528050.2678800002]
["00380705","0038","0705",187,38,"Boxford",705,"Masconomet",7684773.6429915177,0.47273087087571358,7811373.1100884592,{"$f":"IF(K199>0, K196/K199, 0)","v":0.46570395717595076},null,{"$f":"ROUND(M199*L196,0)","v":6153864},5972577,{"$f":"N196-O196","v":181287},3.0353229435133278,630.74512122885994,605.75108628783005,38,705,187,605.75108628783005,7811373.1100884592,187,38,705,187,605.75108628783005,7811373.1100884592]
["00380817","0038","0817",188,38,"Boxford",817,"Essex North Shore",465213.61510863929,2.8617737832019683E-2,433835.66294020851,{"$f":"IF(K199>0, K197/K199, 0)","v":2.5864720856102991E-2},null,{"$f":"ROUND(M199*L197,0)","v":341779},361562,{"$f":"N197-O197","v":-19783},-5.4715373850128053,24.999999994600003,21.999999993749999,38,817,188,21.999999993749999,433835.66294020851,188,38,817,188,21.999999993749999,433835.66294020851]
["00380998","0038","0998",189,38,"",998,null,0,0,0,{"$f":"IF(K199>0, K198/K199, 0)","v":0},null,{"$f":"ROUND(M199*L198,0)","v":0},0,{"$f":"N198-O198","v":0},0,0,0,38,998,189,0,0,189,38,998,189,0,0]
["00380999","0038","0999",190,38,"Boxford                      ",999,"Total",16256128.204100158,1,{"$f":"SUM(K195:K198)","v":16773259.040908668},{"$f":"SUM(L195:L198)","v":1},{"$f":"VLOOKUP(E199,town351,24)","v":13214112},{"$f":"SUM(N195:N198)","v":13214111},12634201,{"$f":"SUM(P195:P198)","v":579910},4.5900013780056215,1384.74512122346,1348.75108628158,38,999,190,1348.75108628158,16773259.040908668,190,38,999,190,1348.75108628158,16773259.040908668]
["00390039","0039","0039",191,39,"Boylston                     ",39,"Boylston",500350.65000000008,6.6022260705225072E-2,{"$f":"X200","v":377077.07999999996},{"$f":"IF(K204>0, K200/K204, 0)","v":4.7057537445139783E-2},null,{"$f":"ROUND(M204*L200,0)","v":311089},412789,{"$f":"N200-O200","v":-101700},-24.637284423761294,30,21,39,39,191,21,377077.07999999996,191,39,39,191,21,377077.07999999996]
["00390620","0039","0620",192,39,"Boylston                     ",620,"Berlin Boylston",7078163.697364687,0.9339777392947749,7636029.8625296801,{"$f":"IF(K204>0, K201/K204, 0)","v":0.95294246255486026},null,{"$f":"ROUND(M204*L201,0)","v":6299724},5839485,{"$f":"N201-O201","v":460239},7.8814998240427023,605.28280773052006,614.32871287248008,39,620,192,614.32871287248008,7636029.8625296801,192,39,620,192,614.32871287248008,7636029.8625296801]
[{"$f":"B202&C202","v":"00390998"},"0039","0998",193,39,"",998,"",0,0,0,{"$f":"IF(K204>0, K202/K204, 0)","v":0},null,{"$f":"ROUND(M204*L202,0)","v":0},0,{"$f":"N202-O202","v":0},0,0,0,{"$f":"VLOOKUP($D202, foundoptions, VLOOKUP($T$6, foundoptcell, 2, FALSE), FALSE)","v":39},{"$f":"VLOOKUP($D202, foundoptions, VLOOKUP($T$6, foundoptcell, 2, FALSE)+1, FALSE)","v":998},{"$f":"VLOOKUP($D202, foundoptions, VLOOKUP($T$6, foundoptcell, 2, FALSE)+2, FALSE)","v":193},{"$f":"VLOOKUP($D202, foundoptions, VLOOKUP($T$6, foundoptcell, 2, FALSE)+3, FALSE)","v":0},{"$f":"VLOOKUP($D202, foundoptions, VLOOKUP($T$6, foundoptcell, 2, FALSE)+4, FALSE)","v":0},193,39,998,193,0,0]
["00390998","0039","0998",194,39,"",998,"",0,0,0,{"$f":"IF(K204>0, K203/K204, 0)","v":0},null,{"$f":"ROUND(M204*L203,0)","v":0},0,{"$f":"N203-O203","v":0},0,0,{"$f":"W203","v":0},39,998,194,0,0,{"$f":"D203","v":194},39,998,194,0,0]
["00390999","0039","0999",195,39,"Boylston                     ",999,"Total",7578514.3473646874,1,{"$f":"SUM(K200:K203)","v":8013106.9425296802},{"$f":"SUM(L200:L203)","v":1},{"$f":"VLOOKUP(E204,town351,24)","v":6610813},{"$f":"SUM(N200:N203)","v":6610813},6252274,{"$f":"SUM(P200:P203)","v":358539},5.7345375458593146,635.28280773052006,635.32871287248008,39,999,195,635.32871287248008,8013106.9425296802,195,39,999,195,635.32871287248008,8013106.9425296802]
["00400040","0040","0040",196,40,"Braintree                    ",40,"Braintree",68308994.308569983,0.95112535027135447,{"$f":"X205","v":72501248.639650002},{"$f":"IF(K209>0, K205/K209, 0)","v":0.94896812918245022},null,{"$f":"ROUND(M209*L205,0)","v":51848673},48941926,{"$f":"N205-O205","v":2906747},5.9391757488252503,5273,5244,40,40,196,5244,72501248.639650002,196,40,40,196,5244,72501248.639650002]
["00400806","0040","0806",197,40,"Braintree                    ",806,"Blue Hills",3025876.2037516613,4.2131897758154895E-2,3425252.3995417133,{"$f":"IF(K209>0, K206/K209, 0)","v":4.4833094912977343E-2},null,{"$f":"ROUND(M209*L206,0)","v":2449541},2167975,{"$f":"N206-O206","v":281566},12.987511387354559,147.99999999951001,157.00000000025,40,806,197,157.00000000025,3425252.3995417133,197,40,806,197,157.00000000025,3425252.3995417133]
["00400915","0040","0915",198,40,"Braintree                    ",915,"Norfolk County",484258.57416683238,6.7427519704905074E-3,473587.02499951859,{"$f":"IF(K209>0, K207/K209, 0)","v":6.1987759045724067E-3},null,{"$f":"ROUND(M209*L207,0)","v":338682},346961,{"$f":"N207-O207","v":-8279},-2.3861471462210448,24.00000000112,22.000000000220002,40,915,198,22.000000000220002,473587.02499951859,198,40,915,198,22.000000000220002,473587.02499951859]
["00400998","0040","0998",199,40,"",998,"",0,0,0,{"$f":"IF(K209>0, K208/K209, 0)","v":0},null,{"$f":"ROUND(M209*L208,0)","v":0},0,{"$f":"N208-O208","v":0},{"$f":"IF(O208>0,P208*100/O208,IF(P208>0,100,0))","v":0},0,0,40,998,199,0,0,199,40,998,199,0,0]
["00400999","0040","0999",200,40,"Braintree                    ",999,"Total",71819129.086488485,0.99999999999999978,{"$f":"SUM(K205:K208)","v":76400088.064191237},{"$f":"SUM(L205:L208)","v":1},{"$f":"VLOOKUP(E209,town351,24)","v":54636896},{"$f":"SUM(N205:N208)","v":54636896},51456862,{"$f":"SUM(P205:P208)","v":3180034},{"$f":"IF(O209>0,P209*100/O209,IF(P209>0,100,0))","v":6.1799998608543207},5445.0000000006294,5423.0000000004702,40,999,200,5423.0000000004702,76400088.064191237,200,40,999,200,5423.0000000004702,76400088.064191237]
["00410041","0041","0041",201,41,"Brewster                     ",41,"Brewster",5580574.6600000001,0.38553442981728647,{"$f":"X210","v":5743102.1100000003},{"$f":"IF(K214>0, K210/K214, 0)","v":0.38019142842181958},null,{"$f":"ROUND(M214*L210,0)","v":4394765},4228204,{"$f":"N210-O210","v":166561},3.9392848594817091,440,418,41,41,201,418,5743102.1100000003,201,41,41,201,418,5743102.1100000003]
["00410660","0041","0660",202,41,"Brewster                     ",660,"Nauset",7684262.7370108012,0.53086788249862427,8208782.277749504,{"$f":"IF(K214>0, K211/K214, 0)","v":0.54341862638087446},null,{"$f":"ROUND(M214*L211,0)","v":6281565},5822094,{"$f":"N211-O211","v":459471},7.8918512823736613,574.00000000161003,571.99999999997999,41,660,202,571.99999999997999,8208782.277749504,202,41,660,202,571.99999999997999,8208782.277749504]
["00410815","0041","0815",203,41,"Brewster                     ",815,"Cape Cod",1210068.6772528158,8.359768768408922E-2,1153932.5262185577,{"$f":"IF(K214>0, K212/K214, 0)","v":7.6389945197305964E-2},null,{"$f":"ROUND(M214*L212,0)","v":883018},916826,{"$f":"N212-O212","v":-33808},-3.6875044992179542,59.089939024229999,53.15892054303,41,815,203,53.15892054303,1153932.5262185577,203,41,815,203,53.15892054303,1153932.5262185577]
["00410998","0041","0998",204,41,"",998,"",0,0,0,{"$f":"IF(K214>0, K213/K214, 0)","v":0},null,{"$f":"ROUND(M214*L213,0)","v":0},0,{"$f":"N213-O213","v":0},0,0,0,41,998,204,0,0,204,41,998,204,0,0]
["00410999","0041","0999",205,41,"Brewster                     ",999,"Total",14474906.074263617,1,{"$f":"SUM(K210:K213)","v":15105816.913968062},{"$f":"SUM(L210:L213)","v":1},{"$f":"VLOOKUP(E214,town351,24)","v":11559348},{"$f":"SUM(N210:N213)","v":11559348},10967124,{"$f":"SUM(P210:P213)","v":592224},5.3999936537600925,1073.0899390258401,1043.15892054301,41,999,205,1043.15892054301,15105816.913968062,205,41,999,205,1043.15892054301,15105816.913968062]
["00420042","0042","0042",206,42,"Bridgewater                  ",42,"Bridgewater",156977.1,3.6005907313433603E-3,{"$f":"X215","v":228660.24000000002},{"$f":"IF(K219>0, K215/K219, 0)","v":4.7710110570242442E-3},null,{"$f":"ROUND(M219*L215,0)","v":131975},93380,{"$f":"N215-O215","v":38595},41.331120154208612,10,12,42,42,206,12,228660.24000000002,206,42,42,206,12,228660.24000000002]
["00420625","0042","0625",207,42,"Bridgewater                  ",625,"Bridgewater Raynham",40612800.843734093,0.93153762104053883,44698707.696071327,{"$f":"IF(K219>0, K216/K219, 0)","v":0.93264149750149372},null,{"$f":"ROUND(M219*L216,0)","v":25798609},24159079,{"$f":"N216-O216","v":1639530},6.7863928090967374,3326.0813474299498,3422.8421608447402,42,625,207,3422.8421608447402,44698707.696071327,207,42,625,207,3422.8421608447402,44698707.696071327]
["00420810","0042","0810",208,42,"Bridgewater                  ",810,"Bristol Plymouth",2827818.0378099461,6.4861788228117737E-2,2999630.611406167,{"$f":"IF(K219>0, K217/K219, 0)","v":6.2587491441481971E-2},null,{"$f":"ROUND(M219*L217,0)","v":1731287},1682166,{"$f":"N217-O217","v":49121},2.9201041989910625,148.43722304418,148.789032744,42,810,208,148.789032744,2999630.611406167,208,42,810,208,148.789032744,2999630.611406167]
["00420998","0042","0998",209,42,"",998,"",0,0,0,{"$f":"IF(K219>0, K218/K219, 0)","v":0},null,{"$f":"ROUND(M219*L218,0)","v":0},0,{"$f":"N218-O218","v":0},0,0,0,42,998,209,0,0,209,42,998,209,0,0]
["00420999","0042","0999",210,42,"Bridgewater                  ",999,"Total",43597595.98154404,0.99999999999999989,{"$f":"SUM(K215:K218)","v":47926998.547477499},{"$f":"SUM(L215:L218)","v":1},{"$f":"VLOOKUP(E219,town351,24)","v":27661871},{"$f":"SUM(N215:N218)","v":27661871},25934625,{"$f":"SUM(P215:P218)","v":1727246},6.6599999036037731,3484.5185704741298,3583.6311935887402,42,999,210,3583.6311935887402,47926998.547477499,210,42,999,210,3583.6311935887402,47926998.547477499]
["00430043","0043","0043",211,43,"Brimfield                    ",43,"Brimfield",3134102.29,0.47520429895438099,{"$f":"X220","v":3511281.75},{"$f":"IF(K224>0, K220/K224, 0)","v":0.49328910650079311},null,{"$f":"ROUND(M224*L220,0)","v":1913482},1768013,{"$f":"N220-O220","v":145469},8.2278241166778745,256,264,43,43,211,264,3511281.75,211,43,43,211,264,3511281.75]
["00430770","0043","0770",212,43,"Brimfield                    ",770,"Tantasqua",3461171.1469115419,0.52479570104561901,3606819.387297981,{"$f":"IF(K224>0, K221/K224, 0)","v":0.50671089349920695},null,{"$f":"ROUND(M224*L221,0)","v":1965545},1952520,{"$f":"N221-O221","v":13025},0.66708663675660174,246.00000000207999,239.99999999975998,43,770,212,239.99999999975998,3606819.387297981,212,43,770,212,239.99999999975998,3606819.387297981]
["00430998","0043","0998",213,43,"",998,"",0,0,0,{"$f":"IF(K224>0, K222/K224, 0)","v":0},null,{"$f":"ROUND(M224*L222,0)","v":0},0,{"$f":"N222-O222","v":0},0,0,0,43,998,213,0,0,213,43,998,213,0,0]
["00430998","0043","0998",214,43,"",998,"",0,0,0,{"$f":"IF(K224>0, K223/K224, 0)","v":0},null,{"$f":"ROUND(M224*L223,0)","v":0},0,{"$f":"N223-O223","v":0},0,0,0,43,998,214,0,0,214,43,998,214,0,0]
["00430999","0043","0999",215,43,"Brimfield                    ",999,"Total",6595273.436911542,1,{"$f":"SUM(K220:K223)","v":7118101.1372979805},{"$f":"SUM(L220:L223)","v":1},{"$f":"VLOOKUP(E224,town351,24)","v":3879027},{"$f":"SUM(N220:N223)","v":3879027},3720533,{"$f":"SUM(P220:P223)","v":158494},4.2599810295997909,502.00000000208001,503.99999999976001,43,999,215,503.99999999976001,7118101.1372979805,215,43,999,215,503.99999999976001,7118101.1372979805]
["00440044","0044","0044",216,44,"Brockton                     ",44,"Brockton",276250953.13999999,0.93288093847145781,{"$f":"X225","v":295646847.72000003},{"$f":"IF(K229>0, K225/K229, 0)","v":0.93267417034262068},null,{"$f":"ROUND(M229*L225,0)","v":54579267},52190600,{"$f":"N225-O225","v":2388667},4.5768145987974842,16975,16619,44,44,216,16619,295646847.72000003,216,44,44,216,16619,295646847.72000003]
["00440872","0044","0872",217,44,"Brockton                     ",872,"Southeastern",19875746.149881683,6.7119061528542218E-2,21341503.754763428,{"$f":"IF(K229>0, K226/K229, 0)","v":6.7325829657379377E-2},null,{"$f":"ROUND(M229*L226,0)","v":3939848},3755017,{"$f":"N226-O226","v":184831},4.9222413640204561,1001.68492307065,1004.29447853524,44,872,217,1004.29447853524,21341503.754763428,217,44,872,217,1004.29447853524,21341503.754763428]
["00440998","0044","0998",218,44,"",998,"",0,0,0,{"$f":"IF(K229>0, K227/K229, 0)","v":0},null,{"$f":"ROUND(M229*L227,0)","v":0},0,{"$f":"N227-O227","v":0},0,0,0,44,998,218,0,0,218,44,998,218,0,0]
["00440998","0044","0998",219,44,"",998,"",0,0,0,{"$f":"IF(K229>0, K228/K229, 0)","v":0},null,{"$f":"ROUND(M229*L228,0)","v":0},0,{"$f":"N228-O228","v":0},0,0,0,44,998,219,0,0,219,44,998,219,0,0]
["00440999","0044","0999",220,44,"Brockton                     ",999,"Total",296126699.28988165,1,{"$f":"SUM(K225:K228)","v":316988351.47476345},{"$f":"SUM(L225:L228)","v":1},{"$f":"VLOOKUP(E229,town351,24)","v":58519115},{"$f":"SUM(N225:N228)","v":58519115},55945617,{"$f":"SUM(P225:P228)","v":2573498},4.5999993171940528,17976.68492307065,17623.294478535241,44,999,220,17623.294478535241,316988351.47476345,220,44,999,220,17623.294478535241,316988351.47476345]
["00450045","0045","0045",221,45,"Brookfield                   ",45,"Brookfield",2950079.4100000006,0.48685150949279177,{"$f":"X230","v":3240938.5500000003},{"$f":"IF(K234>0, K230/K234, 0)","v":0.49501216870074938},null,{"$f":"ROUND(M234*L230,0)","v":1329203},1240313,{"$f":"N230-O230","v":88890},7.1667393633703753,228,223,45,45,221,223,3240938.5500000003,221,45,45,221,223,3240938.5500000003]
["00450770","0045","0770",222,45,"Brookfield                   ",770,"Tantasqua",3109426.1116598411,0.51314849050720823,3306251.104966342,{"$f":"IF(K234>0, K231/K234, 0)","v":0.50498783129925062},null,{"$f":"ROUND(M234*L231,0)","v":1355989},1307308,{"$f":"N231-O231","v":48681},3.7237590529546214,221.00000000212,219.99999999599999,45,770,222,219.99999999599999,3306251.104966342,222,45,770,222,219.99999999599999,3306251.104966342]
["00450998","0045","0998",223,45,"",998,"",0,0,0,{"$f":"IF(K234>0, K232/K234, 0)","v":0},null,{"$f":"ROUND(M234*L232,0)","v":0},0,{"$f":"N232-O232","v":0},0,0,0,45,998,223,0,0,223,45,998,223,0,0]
["00450998","0045","0998",224,45,"",998,"",0,0,0,{"$f":"IF(K234>0, K233/K234, 0)","v":0},null,{"$f":"ROUND(M234*L233,0)","v":0},0,{"$f":"N233-O233","v":0},0,0,0,45,998,224,0,0,224,45,998,224,0,0]
["00450999","0045","0999",225,45,"Brookfield                   ",999,"Total",6059505.5216598418,1,{"$f":"SUM(K230:K233)","v":6547189.6549663423},{"$f":"SUM(L230:L233)","v":1},{"$f":"VLOOKUP(E234,town351,24)","v":2685192},{"$f":"SUM(N230:N233)","v":2685192},2547621,{"$f":"SUM(P230:P233)","v":137571},5.3999790392684002,449.00000000212003,442.99999999599999,45,999,225,442.99999999599999,6547189.6549663423,225,45,999,225,442.99999999599999,6547189.6549663423]
["00460046","0046","0046",226,46,"Brookline                    ",46,"Brookline",82255132.52319999,0.99975475703929184,{"$f":"X235","v":89394640.063260004},{"$f":"IF(K239>0, K235/K239, 0)","v":1},null,{"$f":"ROUND(M239*L235,0)","v":73750578},67860485,{"$f":"N235-O235","v":5890093},8.679709554094698,6799,6913,46,46,226,6913,89394640.063260004,226,46,46,226,6913,89394640.063260004]
["00460915","0046","0915",227,46,"Brookline                    ",915,"Norfolk County",20177.440608713412,2.4524296070824983E-4,0,{"$f":"IF(K239>0, K236/K239, 0)","v":0},null,{"$f":"ROUND(M239*L236,0)","v":0},16646,{"$f":"N236-O236","v":-16646},-100,1.0000000009599999,0,46,915,227,0,0,227,46,915,227,0,0]
["00460998","0046","0998",228,46,"",998,"",0,0,0,{"$f":"IF(K239>0, K237/K239, 0)","v":0},null,{"$f":"ROUND(M239*L237,0)","v":0},0,{"$f":"N237-O237","v":0},0,0,0,46,998,228,0,0,228,46,998,228,0,0]
["00460998","0046","0998",229,46,"",998,"",0,0,0,{"$f":"IF(K239>0, K238/K239, 0)","v":0},null,{"$f":"ROUND(M239*L238,0)","v":0},0,{"$f":"N238-O238","v":0},0,0,0,46,998,229,0,0,229,46,998,229,0,0]
["00460999","0046","0999",230,46,"Brookline                    ",999,"Total",82275309.9638087,1,{"$f":"SUM(K235:K238)","v":89394640.063260004},{"$f":"SUM(L235:L238)","v":1},{"$f":"VLOOKUP(E239,town351,24)","v":73750578},{"$f":"SUM(N235:N238)","v":73750578},67877131,{"$f":"SUM(P235:P238)","v":5873447},8.6530572425048433,6800.0000000009604,6913,46,999,230,6913,89394640.063260004,230,46,999,230,6913,89394640.063260004]
["00470047","0047","0047",231,47,"Buckland                     ",47,"Buckland",15697.710000000001,5.5865314491724723E-3,{"$f":"X240","v":16490.760000000002},{"$f":"IF(K244>0, K240/K244, 0)","v":5.6215627082629215E-3},null,{"$f":"ROUND(M244*L240,0)","v":8510},8117,{"$f":"N240-O240","v":393},4.8416902796599732,1,1,47,47,231,1,16490.760000000002,231,47,47,231,1,16490.760000000002]
["00470717","0047","0717",232,47,"Buckland                     ",717,"Mohawk Trail",2433062.7981228572,0.86588310266433222,2553895.204850289,{"$f":"IF(K244>0, K241/K244, 0)","v":0.87060160019294919},null,{"$f":"ROUND(M244*L241,0)","v":1317898},1258042,{"$f":"N241-O241","v":59856},4.7578697690538156,184.53675612347999,177.49268292490001,47,717,232,177.49268292490001,2553895.204850289,232,47,717,232,177.49268292490001,2553895.204850289]
["00470818","0047","0818",233,47,"Buckland                     ",818,"Franklin County",361160.1273951417,0.12853036588649525,363097.2774091739,{"$f":"IF(K244>0, K242/K244, 0)","v":0.12377683709878796},null,{"$f":"ROUND(M244*L242,0)","v":187371},186742,{"$f":"N242-O242","v":629},0.33682835141532169,18.000000001619998,17.0000000016,47,818,233,17.0000000016,363097.2774091739,233,47,818,233,17.0000000016,363097.2774091739]
["00470998","0047","0998",234,47,"",998,"",0,0,0,{"$f":"IF(K244>0, K243/K244, 0)","v":0},null,{"$f":"ROUND(M244*L243,0)","v":0},0,{"$f":"N243-O243","v":0},0,0,0,47,998,234,0,0,234,47,998,234,0,0]
["00470999","0047","0999",235,47,"Buckland                     ",999,"Total",2809920.6355179991,0.99999999999999989,{"$f":"SUM(K240:K243)","v":2933483.2422594628},{"$f":"SUM(L240:L243)","v":1.0000000000000002},{"$f":"VLOOKUP(E244,town351,24)","v":1513778},{"$f":"SUM(N240:N243)","v":1513779},1452901,{"$f":"SUM(P240:P243)","v":60878},4.1900996695576644,203.5367561251,195.49268292650001,47,999,235,195.49268292650001,2933483.2422594628,235,47,999,235,195.49268292650001,2933483.2422594628]
["00480048","0048","0048",236,48,"Burlington                   ",48,"Burlington",44168133.059200004,0.94917078329576332,{"$f":"X245","v":46103747.98904001},{"$f":"IF(K249>0, K245/K249, 0)","v":0.9491823984667801},null,{"$f":"ROUND(M249*L245,0)","v":36818680},35018289,{"$f":"N245-O245","v":1800391},5.1412877425279113,3470,3424,48,48,236,3424,46103747.98904001,236,48,48,236,3424,46103747.98904001]
["00480871","0048","0871",237,48,"Burlington                   ",871,"Shawsheen Valley",2365255.7012894046,5.082921670423661E-2,2468315.7823822862,{"$f":"IF(K249>0, K246/K249, 0)","v":5.0817601533219937E-2},null,{"$f":"ROUND(M249*L246,0)","v":1971209},1875271,{"$f":"N246-O246","v":95938},5.1159539074619085,129.99999999609,127.9999999978,48,871,237,127.9999999978,2468315.7823822862,237,48,871,237,127.9999999978,2468315.7823822862]
["00480998","0048","0998",238,48,"",998,"",0,0,0,{"$f":"IF(K249>0, K247/K249, 0)","v":0},null,{"$f":"ROUND(M249*L247,0)","v":0},0,{"$f":"N247-O247","v":0},0,0,0,48,998,238,0,0,238,48,998,238,0,0]
["00480998","0048","0998",239,48,"",998,"",0,0,0,{"$f":"IF(K249>0, K248/K249, 0)","v":0},null,{"$f":"ROUND(M249*L248,0)","v":0},0,{"$f":"N248-O248","v":0},0,0,0,48,998,239,0,0,239,48,998,239,0,0]
["00480999","0048","0999",240,48,"Burlington                   ",999,"Total",46533388.760489412,0.99999999999999989,{"$f":"SUM(K245:K248)","v":48572063.771422297},{"$f":"SUM(L245:L248)","v":1},{"$f":"VLOOKUP(E249,town351,24)","v":38789889},{"$f":"SUM(N245:N248)","v":38789889},36893560,{"$f":"SUM(P245:P248)","v":1896329},5.1400000433680022,3599.9999999960901,3551.9999999977999,48,999,240,3551.9999999977999,48572063.771422297,240,48,999,240,3551.9999999977999,48572063.771422297]
["00490049","0049","0049",241,49,"Cambridge                    ",49,"Cambridge",105936291.71016,1,{"$f":"X250","v":112732473.50964999},{"$f":"IF(K254>0, K250/K254, 0)","v":1},null,{"$f":"ROUND(M254*L250,0)","v":93004291},87397441,{"$f":"N250-O250","v":5606850},6.4153480191714083,7074,7030,49,49,241,7030,112732473.50964999,241,49,49,241,7030,112732473.50964999]
["00490998","0049","0998",242,49,"",998,"",0,0,0,{"$f":"IF(K254>0, K251/K254, 0)","v":0},null,{"$f":"ROUND(M254*L251,0)","v":0},0,{"$f":"N251-O251","v":0},0,0,0,49,998,242,0,0,242,49,998,242,0,0]
["00490998","0049","0998",243,49,"",998,"",0,0,0,{"$f":"IF(K254>0, K252/K254, 0)","v":0},null,{"$f":"ROUND(M254*L252,0)","v":0},0,{"$f":"N252-O252","v":0},0,0,0,49,998,243,0,0,243,49,998,243,0,0]
["00490998","0049","0998",244,49,"",998,"",0,0,0,{"$f":"IF(K254>0, K253/K254, 0)","v":0},null,{"$f":"ROUND(M254*L253,0)","v":0},0,{"$f":"N253-O253","v":0},0,0,0,49,998,244,0,0,244,49,998,244,0,0]
["00490999","0049","0999",245,49,"Cambridge                    ",999,"Total",105936291.71016,1,{"$f":"SUM(K250:K253)","v":112732473.50964999},{"$f":"SUM(L250:L253)","v":1},{"$f":"VLOOKUP(E254,town351,24)","v":93004291},{"$f":"SUM(N250:N253)","v":93004291},87397441,{"$f":"SUM(P250:P253)","v":5606850},6.4153480191714083,7074,7030,49,999,245,7030,112732473.50964999,245,49,999,245,7030,112732473.50964999]
["00500050","0050","0050",246,50,"Canton                       ",50,"Canton",40961226.355149999,0.95935453438706408,{"$f":"X255","v":43350134.769279994},{"$f":"IF(K259>0, K255/K259, 0)","v":0.95626295218147261},null,{"$f":"ROUND(M259*L255,0)","v":34684949},33070790,{"$f":"N255-O255","v":1614159},4.8809205948814647,3287,3260,50,50,246,3260,43350134.769279994,246,50,50,246,3260,43350134.769279994]
["00500806","0050","0806",247,50,"Canton                       ",806,"Blue Hills",1553828.3207581802,3.6392275764736165E-2,1788985.3297213679,{"$f":"IF(K259>0, K256/K259, 0)","v":3.946332351476365E-2},null,{"$f":"ROUND(M259*L256,0)","v":1431388},1254512,{"$f":"N256-O256","v":176876},14.099187572538167,75.999999995479996,82.000000001250001,50,806,247,82.000000001250001,1788985.3297213679,247,50,806,247,82.000000001250001,1788985.3297213679]
["00500915","0050","0915",248,50,"Canton                       ",915,"Norfolk County",181596.96531256213,4.2531898481997709E-3,193740.14659071216,{"$f":"IF(K259>0, K257/K259, 0)","v":4.2737243037637455E-3},null,{"$f":"ROUND(M259*L257,0)","v":155014},146616,{"$f":"N257-O257","v":8398},5.7278878157909094,9.00000000042,9.0000000000900009,50,915,248,9.0000000000900009,193740.14659071216,248,50,915,248,9.0000000000900009,193740.14659071216]
["00500998","0050","0998",249,50,"",998,"",0,0,0,{"$f":"IF(K259>0, K258/K259, 0)","v":0},null,{"$f":"ROUND(M259*L258,0)","v":0},0,{"$f":"N258-O258","v":0},0,0,0,50,998,249,0,0,249,50,998,249,0,0]
["00500999","0050","0999",250,50,"Canton                       ",999,"Total",42696651.641220741,1,{"$f":"SUM(K255:K258)","v":45332860.245592073},{"$f":"SUM(L255:L258)","v":1},{"$f":"VLOOKUP(E259,town351,24)","v":36271351},{"$f":"SUM(N255:N258)","v":36271351},34471918,{"$f":"SUM(P255:P258)","v":1799433},5.2199967521389441,3371.9999999959,3351.0000000013401,50,999,250,3351.0000000013401,45332860.245592073,250,50,999,250,3351.0000000013401,45332860.245592073]
["00510051","0051","0051",251,51,"Carlisle                     ",51,"Carlisle",6420143.4459200008,0.61683827234568356,{"$f":"X260","v":6639945.1630799994},{"$f":"IF(K264>0, K260/K264, 0)","v":0.60475471867337616},null,{"$f":"ROUND(M264*L260,0)","v":5477955},5066173,{"$f":"N260-O260","v":411782},8.1280682677042417,580,567,51,51,251,567,6639945.1630799994,251,51,51,251,567,6639945.1630799994]
["00510640","0051","0640",252,51,"Carlisle                     ",640,"Concord Carlisle",3988003.6061521447,0.38316172765431655,4339622.1855564127,{"$f":"IF(K264>0, K261/K264, 0)","v":0.3952452813266239},null,{"$f":"ROUND(M264*L261,0)","v":3580188},3146957,{"$f":"N261-O261","v":433231},13.766664113936098,307.49999999631001,318.20836622460001,51,640,252,318.20836622460001,4339622.1855564127,252,51,640,252,318.20836622460001,4339622.1855564127]
["00510830","0051","0830",253,51,null,998,null,0,0,0,{"$f":"IF(K264>0, K262/K264, 0)","v":0},null,{"$f":"ROUND(M264*L262,0)","v":0},0,{"$f":"N262-O262","v":0},0,0,0,51,998,253,0,0,253,51,998,253,0,0]
["00510998","0051","0998",254,51,"",998,"",0,0,0,{"$f":"IF(K264>0, K263/K264, 0)","v":0},null,{"$f":"ROUND(M264*L263,0)","v":0},0,{"$f":"N263-O263","v":0},0,0,0,51,998,254,0,0,254,51,998,254,0,0]
["00510999","0051","0999",255,51,"Carlisle                     ",999,"Total",10408147.052072145,1,{"$f":"SUM(K260:K263)","v":10979567.348636411},{"$f":"SUM(L260:L263)","v":1},{"$f":"VLOOKUP(E264,town351,24)","v":9058143},{"$f":"SUM(N260:N263)","v":9058143},8213130,{"$f":"SUM(P260:P263)","v":845013},10.288562338596856,887.49999999630995,885.20836622460001,51,999,255,885.20836622460001,10979567.348636411,255,51,999,255,885.20836622460001,10979567.348636411]
["00520052","0052","0052",256,52,"Carver                       ",52,"Carver",19740695.12156,0.92801688492841938,{"$f":"X265","v":21283331.499319997},{"$f":"IF(K269>0, K265/K269, 0)","v":0.92407211276979428},null,{"$f":"ROUND(M269*L265,0)","v":10820042},10252128,{"$f":"N265-O265","v":567914},5.5394743413269909,1513,1535,52,52,256,1535,21283331.499319997,256,52,52,256,1535,21283331.499319997]
[{"$f":"B266&C266","v":"00520855"},"0052","0855",257,52,"Carver                       ",855,"Old Colony",1531218.6142365837,7.1983115071580714E-2,1748779.5288180409,{"$f":"IF(K269>0, K266/K269, 0)","v":7.5927887230205646E-2},null,{"$f":"ROUND(M269*L266,0)","v":889046},795223,{"$f":"N266-O266","v":93823},11.798325752650515,83.159615387019997,90.000000001840007,{"$f":"VLOOKUP($D266, foundoptions, VLOOKUP($T$6, foundoptcell, 2, FALSE), FALSE)","v":52},{"$f":"VLOOKUP($D266, foundoptions, VLOOKUP($T$6, foundoptcell, 2, FALSE)+1, FALSE)","v":855},{"$f":"VLOOKUP($D266, foundoptions, VLOOKUP($T$6, foundoptcell, 2, FALSE)+2, FALSE)","v":257},{"$f":"VLOOKUP($D266, foundoptions, VLOOKUP($T$6, foundoptcell, 2, FALSE)+3, FALSE)","v":90.000000001840007},{"$f":"VLOOKUP($D266, foundoptions, VLOOKUP($T$6, foundoptcell, 2, FALSE)+4, FALSE)","v":1748779.5288180409},257,52,855,257,90.000000001840007,1748779.5288180409]
["00520998","0052","0998",258,52,"",998,"",0,0,0,{"$f":"IF(K269>0, K267/K269, 0)","v":0},null,{"$f":"ROUND(M269*L267,0)","v":0},0,{"$f":"N267-O267","v":0},0,0,{"$f":"W267","v":0},52,998,258,0,0,{"$f":"D267","v":258},52,998,258,0,0]
["00520998","0052","0998",259,52,"",998,"",0,0,0,{"$f":"IF(K269>0, K268/K269, 0)","v":0},null,{"$f":"ROUND(M269*L268,0)","v":0},0,{"$f":"N268-O268","v":0},0,0,0,52,998,259,0,0,259,52,998,259,0,0]
["00520999","0052","0999",260,52,"Carver                       ",999,"Total",21271913.735796582,1,{"$f":"SUM(K265:K268)","v":23032111.028138038},{"$f":"SUM(L265:L268)","v":0.99999999999999989},{"$f":"VLOOKUP(E269,town351,24)","v":11709088},{"$f":"SUM(N265:N268)","v":11709088},11047351,{"$f":"SUM(P265:P268)","v":661737},5.9900061109672356,1596.15961538702,1625.0000000018399,52,999,260,1625.0000000018399,23032111.028138038,260,52,999,260,1625.0000000018399,23032111.028138038]
["00530053","0053","0053",261,53,"Charlemont                   ",53,"Charlemont",109883.97,5.7301537108609288E-2,{"$f":"X270","v":131926.08000000002},{"$f":"IF(K274>0, K270/K274, 0)","v":6.9146702891909342E-2},null,{"$f":"ROUND(M274*L270,0)","v":67011},52817,{"$f":"N270-O270","v":14194},26.87392316867675,7,8,53,53,261,8,131926.08000000002,261,53,53,261,8,131926.08000000002]
["00530685","0053","0685",262,53,"Charlemont                   ",685,"Hawlemont",1005231.8325904076,0.52420138404113503,1179155.413781614,{"$f":"IF(K274>0, K271/K274, 0)","v":0.61803328849112837},null,{"$f":"ROUND(M274*L271,0)","v":598941},483173,{"$f":"N271-O271","v":115768},23.959948093126066,64.740740740600003,79.795918367759995,53,685,262,79.795918367759995,1179155.413781614,262,53,685,262,79.795918367759995,1179155.413781614]
["00530717","0053","0717",263,53,"Charlemont                   ",717,"Mohawk Trail",802528.56690924498,0.41849707885025567,596834.20548502891,{"$f":"IF(K274>0, K272/K274, 0)","v":0.3128200086169623},null,{"$f":"ROUND(M274*L272,0)","v":303156},385742,{"$f":"N272-O272","v":-82586},{"$f":"IF(O272>0,P272*100/O272,IF(P272>0,100,0))","v":-21.409646862410625},60.868144689120001,41.479268292489998,53,717,263,41.479268292489998,596834.20548502891,263,53,717,263,41.479268292489998,596834.20548502891]
["00530998","0053","0998",264,53,"",998,"",0,0,0,{"$f":"IF(K274>0, K273/K274, 0)","v":0},null,{"$f":"ROUND(M274*L273,0)","v":0},0,{"$f":"N273-O273","v":0},{"$f":"IF(O273>0,P273*100/O273,IF(P273>0,100,0))","v":0},0,0,53,998,264,0,0,264,53,998,264,0,0]
["00530999","0053","0999",265,53,"Charlemont                   ",999,"Total",1917644.3694996526,1,{"$f":"SUM(K270:K273)","v":1907915.699266643},{"$f":"SUM(L270:L273)","v":1},{"$f":"VLOOKUP(E274,town351,24)","v":969108},{"$f":"SUM(N270:N273)","v":969108},921732,{"$f":"SUM(P270:P273)","v":47376},{"$f":"IF(O274>0,P274*100/O274,IF(P274>0,100,0))","v":5.1398888180078375},132.60888542972,129.27518666025,53,999,265,129.27518666025,1907915.699266643,265,53,999,265,129.27518666025,1907915.699266643]
["00540054","0054","0054",266,54,"Charlton                     ",54,"Charlton",15697.710000000001,6.0072873734979225E-4,{"$f":"X275","v":0},{"$f":"IF(K279>0, K275/K279, 0)","v":0},null,{"$f":"ROUND(M279*L275,0)","v":0},8363,{"$f":"N275-O275","v":-8363},-100,1,0,54,54,266,0,0,266,54,54,266,0,0]
["00540658","0054","0658",267,54,"Charlton                     ",658,"Dudley Charlton",22135553.135586288,0.84709571559673247,24022479.694616977,{"$f":"IF(K279>0, K276/K279, 0)","v":0.84916609790503617},null,{"$f":"ROUND(M279*L276,0)","v":12737269},11793404,{"$f":"N276-O276","v":943865},8.0033296578324631,1745.47868850795,1757.39017692275,54,658,267,1757.39017692275,24022479.694616977,267,54,658,267,1757.39017692275,24022479.694616977]
["00540876","0054","0876",268,54,"Charlton                     ",876,"Southern Worcester",3979861.2920698486,0.15230355566591769,4267014.8505402626,{"$f":"IF(K279>0, K277/K279, 0)","v":0.15083390209496392},null,{"$f":"ROUND(M279*L277,0)","v":2262469},2120395,{"$f":"N277-O277","v":142074},6.7003553583176716,209.00000000463001,211.00000000463999,54,876,268,211.00000000463999,4267014.8505402626,268,54,876,268,211.00000000463999,4267014.8505402626]
["00540998","0054","0998",269,54,"",998,"",0,0,0,{"$f":"IF(K279>0, K278/K279, 0)","v":0},null,{"$f":"ROUND(M279*L278,0)","v":0},0,{"$f":"N278-O278","v":0},0,0,0,54,998,269,0,0,269,54,998,269,0,0]
["00540999","0054","0999",270,54,"Charlton                     ",999,"Total",26131112.137656137,1,{"$f":"SUM(K275:K278)","v":28289494.545157239},{"$f":"SUM(L275:L278)","v":1},{"$f":"VLOOKUP(E279,town351,24)","v":14999738},{"$f":"SUM(N275:N278)","v":14999738},13922162,{"$f":"SUM(P275:P278)","v":1077576},7.7400047492623631,1955.47868851258,1968.39017692739,54,999,270,1968.39017692739,28289494.545157239,270,54,999,270,1968.39017692739,28289494.545157239]
["00550055","0055","0055",271,55,"Chatham                      ",55,"Chatham",0,0,{"$f":"X280","v":0},{"$f":"IF(K284>0, K280/K284, 0)","v":0},null,{"$f":"ROUND(M284*L280,0)","v":0},0,{"$f":"N280-O280","v":0},0,0,0,55,55,271,0,0,271,55,55,271,0,0]
["00550712","0055","0712",272,55,"Chatham                      ",712,"Monomoy",5201395.416943565,0.95482053003804068,5535348.1678401707,{"$f":"IF(K284>0, K281/K284, 0)","v":0.95135421653274488},null,{"$f":"ROUND(M284*L281,0)","v":4566662},4291152,{"$f":"N281-O281","v":275510},6.4204204372159275,392.34751348739997,386.19807923344001,55,712,272,386.19807923344001,5535348.1678401707,272,55,712,272,386.19807923344001,5535348.1678401707]
["00550815","0055","0815",273,55,"Chatham                      ",815,"Cape Cod",246115.66321339173,4.5179469961959311E-2,283040.0535459778,{"$f":"IF(K284>0, K282/K284, 0)","v":4.8645783467255045E-2},null,{"$f":"ROUND(M284*L282,0)","v":233508},203045,{"$f":"N282-O282","v":30463},15.003078135388707,12.018292685010001,13.038980508030001,55,815,273,13.038980508030001,283040.0535459778,273,55,815,273,13.038980508030001,283040.0535459778]
["00550998","0055","0998",274,55,"",998,"",0,0,0,{"$f":"IF(K284>0, K283/K284, 0)","v":0},null,{"$f":"ROUND(M284*L283,0)","v":0},0,{"$f":"N283-O283","v":0},0,0,0,55,998,274,0,0,274,55,998,274,0,0]
["00550999","0055","0999",275,55,"Chatham                      ",999,"Total",5447511.0801569568,1,{"$f":"SUM(K280:K283)","v":5818388.2213861486},{"$f":"SUM(L280:L283)","v":0.99999999999999989},{"$f":"VLOOKUP(E284,town351,24)","v":4800170},{"$f":"SUM(N280:N283)","v":4800170},4494197,{"$f":"SUM(P280:P283)","v":305973},6.8081795257306252,404.36580617240998,399.23705974147003,55,999,275,399.23705974147003,5818388.2213861486,275,55,999,275,399.23705974147003,5818388.2213861486]
["00560056","0056","0056",276,56,"Chelmsford                   ",56,"Chelmsford",59337599.049999997,0.93798310135524632,{"$f":"X285","v":63812307.760000005},{"$f":"IF(K289>0, K285/K289, 0)","v":0.93668245899639191},null,{"$f":"ROUND(M289*L285,0)","v":49670508},47375444,{"$f":"N285-O285","v":2295064},4.8444168671010237,5047,5108,56,56,276,5108,63812307.760000005,276,56,56,276,5108,63812307.760000005]
["00560852","0056","0852",277,56,"Chelmsford                   ",852,"Nashoba Valley",3923241.1125423568,6.2016898644753758E-2,4313562.5892447969,{"$f":"IF(K289>0, K286/K289, 0)","v":6.3317541003608091E-2},null,{"$f":"ROUND(M289*L286,0)","v":3357610},3132336,{"$f":"N286-O286","v":225274},7.1918849063446579,206.99999999776,211.99999999750003,56,852,277,211.99999999750003,4313562.5892447969,277,56,852,277,211.99999999750003,4313562.5892447969]
["00560998","0056","0998",278,56,"",998,"",0,0,0,{"$f":"IF(K289>0, K287/K289, 0)","v":0},null,{"$f":"ROUND(M289*L287,0)","v":0},0,{"$f":"N287-O287","v":0},0,0,0,56,998,278,0,0,278,56,998,278,0,0]
["00560998","0056","0998",279,56,"",998,"",0,0,0,{"$f":"IF(K289>0, K288/K289, 0)","v":0},null,{"$f":"ROUND(M289*L288,0)","v":0},0,{"$f":"N288-O288","v":0},0,0,0,56,998,279,0,0,279,56,998,279,0,0]
["00560999","0056","0999",280,56,"Chelmsford                   ",999,"Total",63260840.162542351,1,{"$f":"SUM(K285:K288)","v":68125870.349244803},{"$f":"SUM(L285:L288)","v":1},{"$f":"VLOOKUP(E289,town351,24)","v":53028118},{"$f":"SUM(N285:N288)","v":53028118},50507780,{"$f":"SUM(P285:P288)","v":2520338},4.9899995604637546,5253.9999999977599,5319.9999999974998,56,999,280,5319.9999999974998,68125870.349244803,280,56,999,280,5319.9999999974998,68125870.349244803]
["00570057","0057","0057",281,57,"Chelsea                      ",57,"Chelsea",125093687.61760001,0.96034579561982081,{"$f":"X290","v":138863180.45907998},{"$f":"IF(K294>0, K290/K294, 0)","v":0.96299432736958424},null,{"$f":"ROUND(M294*L290,0)","v":22081668},20484593,{"$f":"N290-O290","v":1597075},7.7964692781545626,7089,7110,57,57,281,7110,138863180.45907998,281,57,57,281,7110,138863180.45907998]
["00570853","0057","0853",282,57,"Chelsea                      ",853,"Northeast Metropolitan",5165317.199370903,3.9654204380179137E-2,5336194.8772050263,{"$f":"IF(K294>0, K291/K294, 0)","v":3.7005672630415869E-2},null,{"$f":"ROUND(M294*L291,0)","v":848548},845841,{"$f":"N291-O291","v":2707},0.32003650804347389,240.99999999760001,232.00000000632002,57,853,282,232.00000000632002,5336194.8772050263,282,57,853,282,232.00000000632002,5336194.8772050263]
["00570998","0057","0998",283,57,"",998,"",0,0,0,{"$f":"IF(K294>0, K292/K294, 0)","v":0},null,{"$f":"ROUND(M294*L292,0)","v":0},0,{"$f":"N292-O292","v":0},0,0,0,57,998,283,0,0,283,57,998,283,0,0]
["00570998","0057","0998",284,57,"",998,"",0,0,0,{"$f":"IF(K294>0, K293/K294, 0)","v":0},null,{"$f":"ROUND(M294*L293,0)","v":0},0,{"$f":"N293-O293","v":0},0,0,0,57,998,284,0,0,284,57,998,284,0,0]
["00570999","0057","0999",285,57,"Chelsea                      ",999,"Total",130259004.81697091,1,{"$f":"SUM(K290:K293)","v":144199375.336285},{"$f":"SUM(L290:L293)","v":1},{"$f":"VLOOKUP(E294,town351,24)","v":22930216},{"$f":"SUM(N290:N293)","v":22930216},21330434,{"$f":"SUM(P290:P293)","v":1599782},7.4999974215245695,7329.9999999975998,7342.0000000063201,57,999,285,7342.0000000063201,144199375.336285,285,57,999,285,7342.0000000063201,144199375.336285]
["00580058","0058","0058",286,58,"Cheshire                     ",58,"Cheshire",31395.420000000002,6.1203347990407926E-3,{"$f":"X295","v":32981.520000000004},{"$f":"IF(K299>0, K295/K299, 0)","v":6.0044388395532004E-3},null,{"$f":"ROUND(M299*L295,0)","v":16631},15812,{"$f":"N295-O295","v":819},5.1796104224639512,2,2,58,58,286,2,32981.520000000004,286,58,58,286,2,32981.520000000004]
["00580603","0058","0603",287,58,"Cheshire                     ",603,"Hoosac Valley",4277896.4930110304,0.83394835211218632,4402013.4873628132,{"$f":"IF(K299>0, K296/K299, 0)","v":0.8014069926358246},null,{"$f":"ROUND(M299*L296,0)","v":2219724},2154516,{"$f":"N296-O296","v":65208},3.0265730215045976,304.94472361421998,289.91652470489998,58,603,287,289.91652470489998,4402013.4873628132,287,58,603,287,289.91652470489998,4402013.4873628132]
["00580851","0058","0851",288,58,"Cheshire                     ",851,"Northern Berkshire",820398.05181253434,0.15993131308877298,1057861.3413004396,{"$f":"IF(K299>0, K297/K299, 0)","v":0.19258856852462233},null,{"$f":"ROUND(M299*L297,0)","v":533429},413185,{"$f":"N297-O297","v":120244},29.101734090056514,41.00000000112,49.9999999992,58,851,288,49.9999999992,1057861.3413004396,288,58,851,288,49.9999999992,1057861.3413004396]
["00580998","0058","0998",289,58,"",998,"",0,0,0,{"$f":"IF(K299>0, K298/K299, 0)","v":0},null,{"$f":"ROUND(M299*L298,0)","v":0},0,{"$f":"N298-O298","v":0},0,0,0,58,998,289,0,0,289,58,998,289,0,0]
["00580999","0058","0999",290,58,"Cheshire                     ",999,"Total",5129689.9648235645,1.0000000000000002,{"$f":"SUM(K295:K298)","v":5492856.3486632518},{"$f":"SUM(L295:L298)","v":1},{"$f":"VLOOKUP(E299,town351,24)","v":2769784},{"$f":"SUM(N295:N298)","v":2769784},2583513,{"$f":"SUM(P295:P298)","v":186271},7.2099888794830918,347.94472361533997,341.91652470409997,58,999,290,341.91652470409997,5492856.3486632518,290,58,999,290,341.91652470409997,5492856.3486632518]
["00590059","0059","0059",291,59,"Chester                      ",59,"Chester",109883.97,6.1768566083368122E-2,{"$f":"X300","v":98944.56},{"$f":"IF(K304>0, K300/K304, 0)","v":4.9722905798255113E-2},null,{"$f":"ROUND(M304*L300,0)","v":48005},57072,{"$f":"N300-O300","v":-9067},-15.88694981777404,7,6,59,59,291,6,98944.56,291,59,59,291,6,98944.56]
["00590672","0059","0672",292,59,"Chester                      ",672,"Gateway",1669078.6475179659,0.93823143391663189,1890974.5408959936,{"$f":"IF(K304>0, K301/K304, 0)","v":0.95027709420174489},null,{"$f":"ROUND(M304*L301,0)","v":917452},866898,{"$f":"N301-O301","v":50554},5.8315972582702926,123.08226221069999,128.44390244189998,59,672,292,128.44390244189998,1890974.5408959936,292,59,672,292,128.44390244189998,1890974.5408959936]
["00590998","0059","0998",293,59,"",998,"",0,0,0,{"$f":"IF(K304>0, K302/K304, 0)","v":0},null,{"$f":"ROUND(M304*L302,0)","v":0},0,{"$f":"N302-O302","v":0},0,0,0,59,998,293,0,0,293,59,998,293,0,0]
["00590998","0059","0998",294,59,"",998,"",0,0,0,{"$f":"IF(K304>0, K303/K304, 0)","v":0},null,{"$f":"ROUND(M304*L303,0)","v":0},0,{"$f":"N303-O303","v":0},0,0,0,59,998,294,0,0,294,59,998,294,0,0]
["00590999","0059","0999",295,59,"Chester                      ",999,"Total",1778962.6175179658,1,{"$f":"SUM(K300:K303)","v":1989919.1008959936},{"$f":"SUM(L300:L303)","v":1},{"$f":"VLOOKUP(E304,town351,24)","v":965457},{"$f":"SUM(N300:N303)","v":965457},923970,{"$f":"SUM(P300:P303)","v":41487},4.4900808467807396,130.08226221069998,134.44390244189998,59,999,295,134.44390244189998,1989919.1008959936,295,59,999,295,134.44390244189998,1989919.1008959936]
["00600060","0060","0060",296,60,"Chesterfield                 ",60,"Chesterfield",296280.42,0.21446336436893443,{"$f":"X305","v":294623.28000000003},{"$f":"IF(K309>0, K305/K309, 0)","v":0.2077992049650268},null,{"$f":"ROUND(M309*L305,0)","v":216744},213654,{"$f":"N305-O305","v":3090},1.4462635850487235,17,16,60,60,296,16,294623.28000000003,296,60,60,296,16,294623.28000000003]
["00600632","0060","0632",297,60,"Chesterfield                 ",632,"Chesterfield Goshen",746045.63394172536,0.54002710212135152,791623.18395320256,{"$f":"IF(K309>0, K306/K309, 0)","v":0.55833560829734374},null,{"$f":"ROUND(M309*L306,0)","v":582370},537988,{"$f":"N306-O306","v":44382},8.2496263857186403,59.151515151699996,58.00840336161,60,632,297,58.00840336161,791623.18395320256,297,60,632,297,58.00840336161,791623.18395320256]
["00600683","0060","0683",298,60,"Chesterfield                 ",683,"Hampshire",339170.59874678846,0.24550953350971405,331580.32729744731,{"$f":"IF(K309>0, K307/K309, 0)","v":0.23386518673762954},null,{"$f":"ROUND(M309*L307,0)","v":243932},244583,{"$f":"N307-O307","v":-651},-0.26616731334557187,27.044554458150003,25.043177893600003,60,683,298,25.043177893600003,331580.32729744731,298,60,683,298,25.043177893600003,331580.32729744731]
["00600998","0060","0998",299,60,"",998,"",0,0,0,{"$f":"IF(K309>0, K308/K309, 0)","v":0},null,{"$f":"ROUND(M309*L308,0)","v":0},0,{"$f":"N308-O308","v":0},0,0,0,60,998,299,0,0,299,60,998,299,0,0]
["00600999","0060","0999",300,60,"Chesterfield                 ",999,"Total",1381496.6526885137,1,{"$f":"SUM(K305:K308)","v":1417826.7912506498},{"$f":"SUM(L305:L308)","v":1},{"$f":"VLOOKUP(E309,town351,24)","v":1043047},{"$f":"SUM(N305:N308)","v":1043046},996225,{"$f":"SUM(P305:P308)","v":46821},4.699841903184522,103.19606960985,99.051581255209996,60,999,300,99.051581255209996,1417826.7912506498,300,60,999,300,99.051581255209996,1417826.7912506498]
["00610061","0061","0061",301,61,"Chicopee                     ",61,"Chicopee",112893440.48,1,{"$f":"X310","v":122693363.2},{"$f":"IF(K314>0, K310/K314, 0)","v":1},null,{"$f":"ROUND(M314*L310,0)","v":33865812},32109426,{"$f":"N310-O310","v":1756386},5.4700012388885435,7202,7166,61,61,301,7166,122693363.2,301,61,61,301,7166,122693363.2]
["00610998","0061","0998",302,61,"",998,"",0,0,0,{"$f":"IF(K314>0, K311/K314, 0)","v":0},null,{"$f":"ROUND(M314*L311,0)","v":0},0,{"$f":"N311-O311","v":0},0,0,0,61,998,302,0,0,302,61,998,302,0,0]
["00610998","0061","0998",303,61,"",998,"",0,0,0,{"$f":"IF(K314>0, K312/K314, 0)","v":0},null,{"$f":"ROUND(M314*L312,0)","v":0},0,{"$f":"N312-O312","v":0},0,0,0,61,998,303,0,0,303,61,998,303,0,0]
["00610998","0061","0998",304,61,"",998,"",0,0,0,{"$f":"IF(K314>0, K313/K314, 0)","v":0},null,{"$f":"ROUND(M314*L313,0)","v":0},0,{"$f":"N313-O313","v":0},0,0,0,61,998,304,0,0,304,61,998,304,0,0]
["00610999","0061","0999",305,61,"Chicopee                     ",999,"Total",112893440.48,1,{"$f":"SUM(K310:K313)","v":122693363.2},{"$f":"SUM(L310:L313)","v":1},{"$f":"VLOOKUP(E314,town351,24)","v":33865812},{"$f":"SUM(N310:N313)","v":33865812},32109426,{"$f":"SUM(P310:P313)","v":1756386},5.4700012388885435,7202,7166,61,999,305,7166,122693363.2,305,61,999,305,7166,122693363.2]
["00620062","0062","0062",306,62,"Chilmark                     ",62,"Chilmark",0,0,{"$f":"X315","v":0},{"$f":"IF(K319>0, K315/K319, 0)","v":0},null,{"$f":"ROUND(M319*L315,0)","v":0},0,{"$f":"N315-O315","v":0},0,0,0,62,62,306,0,0,306,62,62,306,0,0]
["00620700","0062","0700",307,62,"Chilmark                     ",700,"Marthas Vineyard",589215.04680704116,0.3942402642153246,627821.16202091111,{"$f":"IF(K319>0, K316/K319, 0)","v":0.39284202283166897},null,{"$f":"ROUND(M319*L316,0)","v":517952},486103,{"$f":"N316-O316","v":31849},6.5519036089059313,38.000000001650001,34.99999999744,62,700,307,34.99999999744,627821.16202091111,307,62,700,307,34.99999999744,627821.16202091111]
["00620774","0062","0774",308,62,"Chilmark                     ",774,"Upisland",905343.22206938686,0.60575973578467535,970330.57718324638,{"$f":"IF(K319>0, K317/K319, 0)","v":0.60715797716833098},null,{"$f":"ROUND(M319*L317,0)","v":800523},746908,{"$f":"N317-O317","v":53615},7.178260240886428,72.460591135009992,72.298076922760004,62,774,308,72.298076922760004,970330.57718324638,308,62,774,308,72.298076922760004,970330.57718324638]
["00620998","0062","0998",309,62,"",998,"",0,0,0,{"$f":"IF(K319>0, K318/K319, 0)","v":0},null,{"$f":"ROUND(M319*L318,0)","v":0},0,{"$f":"N318-O318","v":0},0,0,0,62,998,309,0,0,309,62,998,309,0,0]
["00620999","0062","0999",310,62,"Chilmark                     ",999,"Total",1494558.268876428,1,{"$f":"SUM(K315:K318)","v":1598151.7392041576},{"$f":"SUM(L315:L318)","v":1},{"$f":"VLOOKUP(E319,town351,24)","v":1318475},{"$f":"SUM(N315:N318)","v":1318475},1233011,{"$f":"SUM(P315:P318)","v":85464},6.9313250246753677,110.46059113665999,107.2980769202,62,999,310,107.2980769202,1598151.7392041576,310,62,999,310,107.2980769202,1598151.7392041576]
["00630063","0063","0063",311,63,"Clarksburg                   ",63,"Clarksburg",2565630.8000000003,0.72761212663467245,{"$f":"X320","v":2395286.75},{"$f":"IF(K324>0, K320/K324, 0)","v":0.67705984603216862},null,{"$f":"ROUND(M324*L320,0)","v":736864},761205,{"$f":"N320-O320","v":-24341},-3.197693131285265,196,171,63,63,311,171,2395286.75,311,63,63,311,171,2395286.75]
["00630851","0063","0851",312,63,"Clarksburg                   ",851,"Northern Berkshire",960466.01186385774,0.27238787336532755,1142490.2486468737,{"$f":"IF(K324>0, K321/K324, 0)","v":0.32294015396783132},null,{"$f":"ROUND(M324*L321,0)","v":351465},284963,{"$f":"N321-O321","v":66502},23.33706481192295,48.000000000599996,54.000000001140002,63,851,312,54.000000001140002,1142490.2486468737,312,63,851,312,54.000000001140002,1142490.2486468737]
["00630998","0063","0998",313,63,"",998,"",0,0,0,{"$f":"IF(K324>0, K322/K324, 0)","v":0},null,{"$f":"ROUND(M324*L322,0)","v":0},0,{"$f":"N322-O322","v":0},0,0,0,63,998,313,0,0,313,63,998,313,0,0]
["00630998","0063","0998",314,63,"",998,"",0,0,0,{"$f":"IF(K324>0, K323/K324, 0)","v":0},null,{"$f":"ROUND(M324*L323,0)","v":0},0,{"$f":"N323-O323","v":0},0,0,0,63,998,314,0,0,314,63,998,314,0,0]
["00630999","0063","0999",315,63,"Clarksburg                   ",999,"Total",3526096.8118638583,1,{"$f":"SUM(K320:K323)","v":3537776.998646874},{"$f":"SUM(L320:L323)","v":1},{"$f":"VLOOKUP(E324,town351,24)","v":1088329},{"$f":"SUM(N320:N323)","v":1088329},1046168,{"$f":"SUM(P320:P323)","v":42161},4.0300410641503088,244.00000000059998,225.00000000113999,63,999,315,225.00000000113999,3537776.998646874,315,63,999,315,225.00000000113999,3537776.998646874]
["00640064","0064","0064",316,64,"Clinton                      ",64,"Clinton",29918745.999999996,1,{"$f":"X325","v":32534279.410000004},{"$f":"IF(K329>0, K325/K329, 0)","v":1},null,{"$f":"ROUND(M329*L325,0)","v":13217258},12528207,{"$f":"N325-O325","v":689051},5.499996926934557,2064,2062,64,64,316,2062,32534279.410000004,316,64,64,316,2062,32534279.410000004]
["00640998","0064","0998",317,64,"",998,"",0,0,0,{"$f":"IF(K329>0, K326/K329, 0)","v":0},null,{"$f":"ROUND(M329*L326,0)","v":0},0,{"$f":"N326-O326","v":0},0,0,0,64,998,317,0,0,317,64,998,317,0,0]
["00640998","0064","0998",318,64,"",998,"",0,0,0,{"$f":"IF(K329>0, K327/K329, 0)","v":0},null,{"$f":"ROUND(M329*L327,0)","v":0},0,{"$f":"N327-O327","v":0},0,0,0,64,998,318,0,0,318,64,998,318,0,0]
["00640998","0064","0998",319,64,"",998,"",0,0,0,{"$f":"IF(K329>0, K328/K329, 0)","v":0},null,{"$f":"ROUND(M329*L328,0)","v":0},0,{"$f":"N328-O328","v":0},0,0,0,64,998,319,0,0,319,64,998,319,0,0]
["00640999","0064","0999",320,64,"Clinton                      ",999,"Total",29918745.999999996,1,{"$f":"SUM(K325:K328)","v":32534279.410000004},{"$f":"SUM(L325:L328)","v":1},{"$f":"VLOOKUP(E329,town351,24)","v":13217258},{"$f":"SUM(N325:N328)","v":13217258},12528207,{"$f":"SUM(P325:P328)","v":689051},5.499996926934557,2064,2062,64,999,320,2062,32534279.410000004,320,64,999,320,2062,32534279.410000004]
[{"$f":"B330&C330","v":"00650065"},"0065","0065",321,65,"Cohasset                     ",65,"Cohasset",15911489.32886,0.99028251369900133,{"$f":"X330","v":16687439.717179999},{"$f":"IF(K334>0, K330/K334, 0)","v":0.98646344413438647},null,{"$f":"ROUND(M334*L330,0)","v":13767138},13126979,{"$f":"N330-O330","v":640159},4.8766665963280662,1381,1367,{"$f":"VLOOKUP($D330, foundoptions, VLOOKUP($T$6, foundoptcell, 2, FALSE), FALSE)","v":65},{"$f":"VLOOKUP($D330, foundoptions, VLOOKUP($T$6, foundoptcell, 2, FALSE)+1, FALSE)","v":65},{"$f":"VLOOKUP($D330, foundoptions, VLOOKUP($T$6, foundoptcell, 2, FALSE)+2, FALSE)","v":321},{"$f":"VLOOKUP($D330, foundoptions, VLOOKUP($T$6, foundoptcell, 2, FALSE)+3, FALSE)","v":1367},{"$f":"VLOOKUP($D330, foundoptions, VLOOKUP($T$6, foundoptcell, 2, FALSE)+4, FALSE)","v":16687439.717179999},321,65,65,321,1367,16687439.717179999]
["00650873","0065","0873",322,65,"Cohasset                     ",873,"South Shore",156136.93813913106,9.7174863009987077E-3,228990.19860171591,{"$f":"IF(K334>0, K331/K334, 0)","v":1.3536555865613574E-2},null,{"$f":"ROUND(M334*L331,0)","v":188917},128813,{"$f":"N331-O331","v":60104},46.659886812666421,7.9999999973499998,{"$f":"W331","v":10.9999999976},65,873,322,10.9999999976,228990.19860171591,{"$f":"D331","v":322},65,873,322,10.9999999976,228990.19860171591]
["00650915","0065","0915",323,65,"Cohasset                     ",915,"Norfolk County",0,0,0,{"$f":"IF(K334>0, K332/K334, 0)","v":0},null,{"$f":"ROUND(M334*L332,0)","v":0},0,{"$f":"N332-O332","v":0},0,0,0,65,915,323,0,0,323,65,915,323,0,0]
["00650998","0065","0998",324,65,"",998,"",0,0,0,{"$f":"IF(K334>0, K333/K334, 0)","v":0},null,{"$f":"ROUND(M334*L333,0)","v":0},0,{"$f":"N333-O333","v":0},0,0,0,65,998,324,0,0,324,65,998,324,0,0]
["00650999","0065","0999",325,65,"Cohasset                     ",999,"Total",16067626.266999131,1,{"$f":"SUM(K330:K333)","v":16916429.915781714},{"$f":"SUM(L330:L333)","v":1},{"$f":"VLOOKUP(E334,town351,24)","v":13956055},{"$f":"SUM(N330:N333)","v":13956055},13255792,{"$f":"SUM(P330:P333)","v":700263},5.282694538357271,1388.99999999735,1377.9999999976001,65,999,325,1377.9999999976001,16916429.915781714,325,65,999,325,1377.9999999976001,16916429.915781714]
["00660066","0066","0066",326,66,"Colrain                      ",66,"Colrain",0,0,{"$f":"X335","v":0},{"$f":"IF(K339>0, K335/K339, 0)","v":0},null,{"$f":"ROUND(M339*L335,0)","v":0},0,{"$f":"N335-O335","v":0},0,0,0,66,66,326,0,0,326,66,66,326,0,0]
["00660717","0066","0717",327,66,"Colrain                      ",717,"Mohawk Trail",1872566.6561943509,0.77561253588831236,1998700.5951497108,{"$f":"IF(K339>0, K336/K339, 0)","v":0.81671871139944507},null,{"$f":"ROUND(M339*L336,0)","v":1157136},1055819,{"$f":"N336-O336","v":101317},{"$f":"IF(O336>0,P336*100/O336,IF(P336>0,100,0))","v":9.5960576576098742},142.02567094680001,138.9073170751,66,717,327,138.9073170751,1998700.5951497108,327,66,717,327,138.9073170751,1998700.5951497108]
["00660818","0066","0818",328,66,"Colrain                      ",818,"Franklin County",541740.19103793672,0.22438746411168764,448531.93087500008,{"$f":"IF(K339>0, K337/K339, 0)","v":0.18328128860055493},null,{"$f":"ROUND(M339*L337,0)","v":259675},305452,{"$f":"N337-O337","v":-45777},{"$f":"IF(O337>0,P337*100/O337,IF(P337>0,100,0))","v":-14.986642745832405},26.999999999699998,21,66,818,328,21,448531.93087500008,328,66,818,328,21,448531.93087500008]
["00660998","0066","0998",329,66,"",998,"",0,0,0,{"$f":"IF(K339>0, K338/K339, 0)","v":0},null,{"$f":"ROUND(M339*L338,0)","v":0},0,{"$f":"N338-O338","v":0},{"$f":"IF(O338>0,P338*100/O338,IF(P338>0,100,0))","v":0},0,0,66,998,329,0,0,329,66,998,329,0,0]
["00660999","0066","0999",330,66,"Colrain                      ",999,"Total",2414306.8472322877,1,{"$f":"SUM(K335:K338)","v":2447232.5260247109},{"$f":"SUM(L335:L338)","v":1},{"$f":"VLOOKUP(E339,town351,24)","v":1416811},{"$f":"SUM(N335:N338)","v":1416811},1361271,{"$f":"SUM(P335:P338)","v":55540},{"$f":"IF(O339>0,P339*100/O339,IF(P339>0,100,0))","v":4.0800105195805978},169.02567094650001,159.9073170751,66,999,330,159.9073170751,2447232.5260247109,330,66,999,330,159.9073170751,2447232.5260247109]
["00670067","0067","0067",331,67,"Concord                      ",67,"Concord",22336390.42678,0.61082157551669969,{"$f":"X340","v":23075622.333200004},{"$f":"IF(K344>0, K340/K344, 0)","v":0.61219263121600742},null,{"$f":"ROUND(M344*L340,0)","v":19037389},18427522,{"$f":"N340-O340","v":609867},3.3095442783896827,1977,1925,67,67,331,1925,23075622.333200004,331,67,67,331,1925,23075622.333200004]
["00670640","0067","0640",332,67,"Concord                      ",640,"Concord Carlisle",13559212.261127857,0.37079667922430004,13866673.539643588,{"$f":"IF(K344>0, K341/K344, 0)","v":0.36788066808643144},null,{"$f":"ROUND(M344*L341,0)","v":11440006},11186350,{"$f":"N341-O341","v":253656},2.2675492899828811,1045.50000000369,1016.7916337754,67,640,332,1016.7916337754,13866673.539643588,332,67,640,332,1016.7916337754,13866673.539643588]
["00670830","0067","0830",333,67,"Concord                      ",830,"Minuteman",672179.65980216989,1.8381745259000198E-2,751105.11985464836,{"$f":"IF(K344>0, K342/K344, 0)","v":1.9926700697561046E-2},null,{"$f":"ROUND(M344*L342,0)","v":619662},554548,{"$f":"N342-O342","v":65114},11.741814955603482,34.061818182819998,35.999999997239996,67,830,333,35.999999997239996,751105.11985464836,333,67,830,333,35.999999997239996,751105.11985464836]
["00670998","0067","0998",334,67,"",998,"",0,0,0,{"$f":"IF(K344>0, K343/K344, 0)","v":0},null,{"$f":"ROUND(M344*L343,0)","v":0},0,{"$f":"N343-O343","v":0},0,0,0,67,998,334,0,0,334,67,998,334,0,0]
["00670999","0067","0999",335,67,"Concord                      ",999,"Total",36567782.347710028,0.99999999999999989,{"$f":"SUM(K340:K343)","v":37693400.992698245},{"$f":"SUM(L340:L343)","v":0.99999999999999989},{"$f":"VLOOKUP(E344,town351,24)","v":31097056},{"$f":"SUM(N340:N343)","v":31097057},30168420,{"$f":"SUM(P340:P343)","v":928637},3.0781757877939913,3056.5618181865098,2977.7916337726401,67,999,335,2977.7916337726401,37693400.992698245,335,67,999,335,2977.7916337726401,37693400.992698245]
["00680068","0068","0068",336,68,"Conway                       ",68,"Conway",1051296.6600000004,0.41755534203563582,{"$f":"X345","v":941811.15000000014},{"$f":"IF(K349>0, K345/K349, 0)","v":0.40399129109575599},null,{"$f":"ROUND(M349*L345,0)","v":776994},810426,{"$f":"N345-O345","v":-33432},-4.1252378378778571,78,66,68,68,336,66,941811.15000000014,336,68,68,336,66,941811.15000000014]
["00680670","0068","0670",337,68,"Conway                       ",670,"Frontier",1265800.9158277283,0.50275241467757348,1197226.8518503029,{"$f":"IF(K349>0, K346/K349, 0)","v":0.51355223561911667},null,{"$f":"ROUND(M349*L346,0)","v":987712},975784,{"$f":"N346-O346","v":11928},1.2224016790601198,96.186770430300001,85.174537987839997,68,670,337,85.174537987839997,1197226.8518503029,337,68,670,337,85.174537987839997,1197226.8518503029]
["00680818","0068","0818",338,68,"Conway                       ",818,"Franklin County",200644.5152560405,7.9692243286790532E-2,192227.97035791312,{"$f":"IF(K349>0, K347/K349, 0)","v":8.2456473285127299E-2},null,{"$f":"ROUND(M349*L347,0)","v":158588},154673,{"$f":"N347-O347","v":3915},2.5311463539208523,10.00000000272,8.9999999991999999,68,818,338,8.9999999991999999,192227.97035791312,338,68,818,338,8.9999999991999999,192227.97035791312]
["00680998","0068","0998",339,68,"",998,"",0,0,0,{"$f":"IF(K349>0, K348/K349, 0)","v":0},null,{"$f":"ROUND(M349*L348,0)","v":0},0,{"$f":"N348-O348","v":0},0,0,0,68,998,339,0,0,339,68,998,339,0,0]
["00680999","0068","0999",340,68,"Conway                       ",999,"Total",2517742.0910837697,0.99999999999999978,{"$f":"SUM(K345:K348)","v":2331265.9722082163},{"$f":"SUM(L345:L348)","v":0.99999999999999989},{"$f":"VLOOKUP(E349,town351,24)","v":1923294},{"$f":"SUM(N345:N348)","v":1923294},1940883,{"$f":"SUM(P345:P348)","v":-17589},-0.90623700655835515,184.18677043302,160.17453798703997,68,999,340,160.17453798703997,2331265.9722082163,340,68,999,340,160.17453798703997,2331265.9722082163]
["00690069","0069","0069",341,69,"Cummington                   ",69,"Cummington",78488.55,9.0312751503564215E-2,{"$f":"X350","v":98944.56},{"$f":"IF(K354>0, K350/K354, 0)","v":0.12550348984374107},null,{"$f":"ROUND(M354*L350,0)","v":81629},57133,{"$f":"N350-O350","v":24496},42.875396005811005,5,6,69,69,341,6,98944.56,341,69,69,341,6,98944.56]
["00690635","0069","0635",342,69,"Cummington                   ",635,"Central Berkshire",790586.40002964705,0.90968724849643579,689436.38560710277,{"$f":"IF(K354>0, K351/K354, 0)","v":0.87449651015625895},null,{"$f":"ROUND(M354*L351,0)","v":568785},575479,{"$f":"N351-O351","v":-6694},-1.1632049127770083,58.982387477750002,48.205061650120001,69,635,342,48.205061650120001,689436.38560710277,342,69,635,342,48.205061650120001,689436.38560710277]
["00690998","0069","0998",343,69,"",998,"",0,0,0,{"$f":"IF(K354>0, K352/K354, 0)","v":0},null,{"$f":"ROUND(M354*L352,0)","v":0},0,{"$f":"N352-O352","v":0},0,0,0,69,998,343,0,0,343,69,998,343,0,0]
["00690998","0069","0998",344,69,"",998,"",0,0,0,{"$f":"IF(K354>0, K353/K354, 0)","v":0},null,{"$f":"ROUND(M354*L353,0)","v":0},0,{"$f":"N353-O353","v":0},0,0,0,69,998,344,0,0,344,69,998,344,0,0]
["00690999","0069","0999",345,69,"Cummington                   ",999,"Total",869074.95002964709,1,{"$f":"SUM(K350:K353)","v":788380.94560710271},{"$f":"SUM(L350:L353)","v":1},{"$f":"VLOOKUP(E354,town351,24)","v":650414},{"$f":"SUM(N350:N353)","v":650414},632612,{"$f":"SUM(P350:P353)","v":17802},2.8140471568670846,63.982387477750002,54.205061650120001,69,999,345,54.205061650120001,788380.94560710271,345,69,999,345,54.205061650120001,788380.94560710271]
["00700070","0070","0070",346,70,"Dalton                       ",70,"Dalton",264885,2.2235218524990569E-2,{"$f":"X355","v":212169.47999999998},{"$f":"IF(K359>0, K355/K359, 0)","v":1.6642498375335629E-2},null,{"$f":"ROUND(M359*L355,0)","v":97790},125579,{"$f":"N355-O355","v":-27789},-22.128699862238115,15,11,70,70,346,11,212169.47999999998,346,70,70,346,11,212169.47999999998]
["00700635","0070","0635",347,70,"Dalton                       ",635,"Central Berkshire",11647972.96010014,0.97776478147500945,12536486.113347543,{"$f":"IF(K359>0, K356/K359, 0)","v":0.98335750162466429},null,{"$f":"ROUND(M359*L356,0)","v":5778147},5522188,{"$f":"N356-O356","v":255959},4.6351011591782099,869.00717548039995,876.54510058623998,70,635,347,876.54510058623998,12536486.113347543,347,70,635,347,876.54510058623998,12536486.113347543]
["00700998","0070","0998",348,70,"",998,"",0,0,0,{"$f":"IF(K359>0, K357/K359, 0)","v":0},null,{"$f":"ROUND(M359*L357,0)","v":0},0,{"$f":"N357-O357","v":0},0,0,0,70,998,348,0,0,348,70,998,348,0,0]
["00700998","0070","0998",349,70,"",998,"",0,0,0,{"$f":"IF(K359>0, K358/K359, 0)","v":0},null,{"$f":"ROUND(M359*L358,0)","v":0},0,{"$f":"N358-O358","v":0},0,0,0,70,998,349,0,0,349,70,998,349,0,0]
["00700999","0070","0999",350,70,"Dalton                       ",999,"Total",11912857.96010014,1,{"$f":"SUM(K355:K358)","v":12748655.593347544},{"$f":"SUM(L355:L358)","v":0.99999999999999989},{"$f":"VLOOKUP(E359,town351,24)","v":5875937},{"$f":"SUM(N355:N358)","v":5875937},5647767,{"$f":"SUM(P355:P358)","v":228170},4.0400037749432656,884.00717548039995,887.54510058623998,70,999,350,887.54510058623998,12748655.593347544,350,70,999,350,887.54510058623998,12748655.593347544]
["00710071","0071","0071",351,71,"Danvers                      ",71,"Danvers",39586571.120000005,0.90204945632663425,{"$f":"X360","v":42331707.480000004},{"$f":"IF(K364>0, K360/K364, 0)","v":0.89718554927237626},null,{"$f":"ROUND(M364*L360,0)","v":33039603},31703302,{"$f":"N360-O360","v":1336301},4.2150215141627836,3300,3315,71,71,351,3315,42331707.480000004,351,71,71,351,3315,42331707.480000004]
["00710817","0071","0817",352,71,"Danvers                      ",817,"Essex North Shore",4298573.804543484,9.7950543673365795E-2,4851071.5051623378,{"$f":"IF(K364>0, K361/K364, 0)","v":0.10281445072762381},null,{"$f":"ROUND(M364*L361,0)","v":3786227},3442556,{"$f":"N361-O361","v":343671},9.9830184316536901,231.00000000059998,245.99999999990999,71,817,352,245.99999999990999,4851071.5051623378,352,71,817,352,245.99999999990999,4851071.5051623378]
["00710998","0071","0998",353,71,"",998,null,0,0,0,{"$f":"IF(K364>0, K362/K364, 0)","v":0},null,{"$f":"ROUND(M364*L362,0)","v":0},0,{"$f":"N362-O362","v":0},0,0,0,71,998,353,0,0,353,71,998,353,0,0]
["00710998","0071","0998",354,71,"",998,"",0,0,0,{"$f":"IF(K364>0, K363/K364, 0)","v":0},null,{"$f":"ROUND(M364*L363,0)","v":0},0,{"$f":"N363-O363","v":0},0,0,0,71,998,354,0,0,354,71,998,354,0,0]
["00710999","0071","0999",355,71,"Danvers                      ",999,"Total",43885144.924543485,1,{"$f":"SUM(K360:K363)","v":47182778.98516234},{"$f":"SUM(L360:L363)","v":1},{"$f":"VLOOKUP(E364,town351,24)","v":36825830},{"$f":"SUM(N360:N363)","v":36825830},35145858,{"$f":"SUM(P360:P363)","v":1679972},4.7799999647184599,3531.0000000005998,3560.99999999991,71,999,355,3560.99999999991,47182778.98516234,355,71,999,355,3560.99999999991,47182778.98516234]
["00720072","0072","0072",356,72,"Dartmouth                    ",72,"Dartmouth",42137530.870000005,0.84696650281934882,{"$f":"X365","v":43916766.759999998},{"$f":"IF(K369>0, K365/K369, 0)","v":0.85126874424979726},null,{"$f":"ROUND(M369*L365,0)","v":34831363},33036538,{"$f":"N365-O365","v":1794825},5.4328483208500842,3366,3303,72,72,356,3303,43916766.759999998,356,72,72,356,3303,43916766.759999998]
["00720825","0072","0825",357,72,"Dartmouth                    ",825,"Greater New Bedford",7118746.1224858658,0.1430871572997949,7265764.3004888985,{"$f":"IF(K369>0, K366/K369, 0)","v":0.14083728171277132},null,{"$f":"ROUND(M369*L366,0)","v":5762639},5581218,{"$f":"N366-O366","v":181421},3.2505628699685265,347.00000000624999,328.99999999415996,72,825,357,328.99999999415996,7265764.3004888985,357,72,825,357,328.99999999415996,7265764.3004888985]
["00720910","0072","0910",358,72,"Dartmouth                    ",910,"Bristol County",494841.53432037786,9.9463398808562215E-3,407248.37949605187,{"$f":"IF(K369>0, K367/K369, 0)","v":7.8939740374313703E-3},null,{"$f":"ROUND(M369*L367,0)","v":322998},387964,{"$f":"N367-O367","v":-64966},-16.745368126939614,25.9999999994,20.000000001469999,72,910,358,20.000000001469999,407248.37949605187,358,72,910,358,20.000000001469999,407248.37949605187]
["00720998","0072","0998",359,72,"",998,"",0,0,0,{"$f":"IF(K369>0, K368/K369, 0)","v":0},null,{"$f":"ROUND(M369*L368,0)","v":0},0,{"$f":"N368-O368","v":0},0,0,0,72,998,359,0,0,359,72,998,359,0,0]
["00720999","0072","0999",360,72,"Dartmouth                    ",999,"Total",49751118.52680625,1,{"$f":"SUM(K365:K368)","v":51589779.439984947},{"$f":"SUM(L365:L368)","v":1},{"$f":"VLOOKUP(E369,town351,24)","v":40917000},{"$f":"SUM(N365:N368)","v":40917000},39005720,{"$f":"SUM(P365:P368)","v":1911280},4.8999992821565659,3739.0000000056502,3651.9999999956303,72,999,360,3651.9999999956303,51589779.439984947,360,72,999,360,3651.9999999956303,51589779.439984947]
["00730073","0073","0073",361,73,"Dedham                       ",73,"Dedham",33049835.113800008,0.93100137995620436,{"$f":"X370","v":34648058.12985},{"$f":"IF(K374>0, K370/K374, 0)","v":0.93366116495180129},null,{"$f":"ROUND(M374*L370,0)","v":27655361},26263407,{"$f":"N370-O370","v":1391954},5.2999749803976304,2566,2529,73,73,361,2529,34648058.12985,361,73,73,361,2529,34648058.12985]
["00730806","0073","0806",362,73,"Dedham                       ",806,"Blue Hills",2146736.4958343105,6.0472756766933616E-2,2203506.3207371407,{"$f":"IF(K374>0, K371/K374, 0)","v":5.9377881169786734E-2},null,{"$f":"ROUND(M374*L371,0)","v":1758793},1705927,{"$f":"N371-O371","v":52866},3.0989602720397764,104.9999999962,101.00000000074999,73,806,362,101.00000000074999,2203506.3207371407,362,73,806,362,101.00000000074999,2203506.3207371407]
["00730915","0073","0915",363,73,"Dedham                       ",915,"Norfolk County",302661.60885427025,8.5258632768619655E-3,258320.19545428283,{"$f":"IF(K374>0, K372/K374, 0)","v":6.9609538784119688E-3},null,{"$f":"ROUND(M374*L372,0)","v":206186},240513,{"$f":"N372-O372","v":-34327},-14.272409391592138,15.0000000007,12.00000000012,73,915,363,12.00000000012,258320.19545428283,363,73,915,363,12.00000000012,258320.19545428283]
["00730998","0073","0998",364,73,"",998,"",0,0,0,{"$f":"IF(K374>0, K373/K374, 0)","v":0},null,{"$f":"ROUND(M374*L373,0)","v":0},0,{"$f":"N373-O373","v":0},0,0,0,73,998,364,0,0,364,73,998,364,0,0]
["00730999","0073","0999",365,73,"Dedham                       ",999,"Total",35499233.218488589,1,{"$f":"SUM(K370:K373)","v":37109884.646041423},{"$f":"SUM(L370:L373)","v":1},{"$f":"VLOOKUP(E374,town351,24)","v":29620340},{"$f":"SUM(N370:N373)","v":29620340},28209847,{"$f":"SUM(P370:P373)","v":1410493},5.0000023041599624,2685.9999999969,2642.0000000008699,73,999,365,2642.0000000008699,37109884.646041423,365,73,999,365,2642.0000000008699,37109884.646041423]
["00740074","0074","0074",366,74,"Deerfield                    ",74,"Deerfield",3310653.2399999988,0.48265575789904186,{"$f":"X375","v":3505682.31},{"$f":"IF(K379>0, K375/K379, 0)","v":0.48630737730481977},null,{"$f":"ROUND(M379*L375,0)","v":2863682},2731289,{"$f":"N375-O375","v":132393},4.8472717460510406,284,281,74,74,366,281,3505682.31,366,74,74,366,281,3505682.31]
["00740670","0074","0670",367,74,"Deerfield                    ",670,"Frontier",2966720.896390758,0.43251431633546938,3169129.9019607189,{"$f":"IF(K379>0, K376/K379, 0)","v":0.43962091104621448},null,{"$f":"ROUND(M379*L376,0)","v":2588763},2447545,{"$f":"N376-O376","v":141218},5.7697815566210222,225.4377431899,225.46201232103999,74,670,367,225.46201232103999,3169129.9019607189,367,74,670,367,225.46201232103999,3169129.9019607189]
["00740818","0074","0818",368,74,"Deerfield                    ",818,"Franklin County",581869.09404532402,8.4829925765488756E-2,533966.58434082626,{"$f":"IF(K379>0, K377/K379, 0)","v":7.4071711648965713E-2},null,{"$f":"ROUND(M379*L377,0)","v":436181},480042,{"$f":"N377-O377","v":-43861},-9.1369088538086256,28.999999998060002,24.9999999984,74,818,368,24.9999999984,533966.58434082626,368,74,818,368,24.9999999984,533966.58434082626]
["00740998","0074","0998",369,74,"",998,"",0,0,0,{"$f":"IF(K379>0, K378/K379, 0)","v":0},null,{"$f":"ROUND(M379*L378,0)","v":0},0,{"$f":"N378-O378","v":0},0,0,0,74,998,369,0,0,369,74,998,369,0,0]
["00740999","0074","0999",370,74,"Deerfield                    ",999,"Total",6859243.2304360811,1,{"$f":"SUM(K375:K378)","v":7208778.7963015456},{"$f":"SUM(L375:L378)","v":1},{"$f":"VLOOKUP(E379,town351,24)","v":5888626},{"$f":"SUM(N375:N378)","v":5888626},5658876,{"$f":"SUM(P375:P378)","v":229750},4.0599935393530444,538.43774318796,531.46201231943996,74,999,370,531.46201231943996,7208778.7963015456,370,74,999,370,531.46201231943996,7208778.7963015456]
["00750075","0075","0075",371,75,"Dennis                       ",75,"Dennis",0,0,{"$f":"X380","v":0},{"$f":"IF(K384>0, K380/K384, 0)","v":0},null,{"$f":"ROUND(M384*L380,0)","v":0},0,{"$f":"N380-O380","v":0},0,0,0,75,75,371,0,0,371,75,75,371,0,0]
["00750645","0075","0645",372,75,"Dennis                       ",645,"Dennis Yarmouth",13933874.271783564,0.90417653943844023,15222380.63594093,{"$f":"IF(K384>0, K381/K384, 0)","v":0.91136165606478103},null,{"$f":"ROUND(M384*L381,0)","v":12558464},11495446,{"$f":"N381-O381","v":1063018},9.2472967121066905,972.36522282288001,979.76441567316999,75,645,372,979.76441567316999,15222380.63594093,372,75,645,372,979.76441567316999,15222380.63594093]
["00750815","0075","0815",373,75,"Dennis                       ",815,"Cape Cod",1476693.9790112639,9.5823460561559812E-2,1480517.2033981644,{"$f":"IF(K384>0, K382/K384, 0)","v":8.8638343935218966E-2},null,{"$f":"ROUND(M384*L382,0)","v":1221427},1218273,{"$f":"N382-O382","v":3154},0.25889106957143432,72.109756096919995,68.203898052810004,75,815,373,68.203898052810004,1480517.2033981644,373,75,815,373,68.203898052810004,1480517.2033981644]
["00750998","0075","0998",374,75,"",998,"",0,0,0,{"$f":"IF(K384>0, K383/K384, 0)","v":0},null,{"$f":"ROUND(M384*L383,0)","v":0},0,{"$f":"N383-O383","v":0},0,0,0,75,998,374,0,0,374,75,998,374,0,0]
["00750999","0075","0999",375,75,"Dennis                       ",999,"Total",15410568.250794828,1,{"$f":"SUM(K380:K383)","v":16702897.839339094},{"$f":"SUM(L380:L383)","v":1},{"$f":"VLOOKUP(E384,town351,24)","v":13779891},{"$f":"SUM(N380:N383)","v":13779891},12713719,{"$f":"SUM(P380:P383)","v":1066172},8.3859962612041379,1044.4749789197999,1047.9683137259799,75,999,375,1047.9683137259799,16702897.839339094,375,75,999,375,1047.9683137259799,16702897.839339094]
["00760076","0076","0076",376,76,"Dighton                      ",76,"Dighton",0,0,{"$f":"X385","v":0},{"$f":"IF(K389>0, K385/K389, 0)","v":0},null,{"$f":"ROUND(M389*L385,0)","v":0},0,{"$f":"N385-O385","v":0},0,0,0,76,76,376,0,0,376,76,76,376,0,0]
["00760650","0076","0650",377,76,"Dighton                      ",650,"Dighton Rehoboth",14088584.204910824,0.86110194924990169,14602231.109717995,{"$f":"IF(K389>0, K386/K389, 0)","v":0.84109319037043451},null,{"$f":"ROUND(M389*L386,0)","v":7355766},7204393,{"$f":"N386-O386","v":151373},2.1011208022660619,1150.6110476091199,1129.91538461142,76,650,377,1129.91538461142,14602231.109717995,377,76,650,377,1129.91538461142,14602231.109717995]
["00760810","0076","0810",378,76,"Dighton                      ",810,"Bristol Plymouth",1968008.4991660381,0.12028575264372886,2249722.9585546255,{"$f":"IF(K389>0, K387/K389, 0)","v":0.12958476320793325},null,{"$f":"ROUND(M389*L387,0)","v":1133281},1006368,{"$f":"N387-O387","v":126913},12.610993195332124,103.30428359874,111.591774558,76,810,378,111.591774558,2249722.9585546255,378,76,810,378,111.591774558,2249722.9585546255]
["00760910","0076","0910",379,76,"Dighton                      ",910,"Bristol County",304517.86730584805,1.8612298106369475E-2,509060.47434527357,{"$f":"IF(K389>0, K388/K389, 0)","v":2.9322046421632195E-2},null,{"$f":"ROUND(M389*L388,0)","v":256435},155719,{"$f":"N388-O388","v":100716},64.678041857448349,16.000000001299998,25.000000000619998,76,910,379,25.000000000619998,509060.47434527357,379,76,910,379,25.000000000619998,509060.47434527357]
["00760999","0076","0999",380,76,"Dighton                      ",999,"Total",16361110.571382711,1,{"$f":"SUM(K385:K388)","v":17361014.542617895},{"$f":"SUM(L385:L388)","v":0.99999999999999989},{"$f":"VLOOKUP(E389,town351,24)","v":8745483},{"$f":"SUM(N385:N388)","v":8745482},8366480,{"$f":"SUM(P385:P388)","v":379002},4.5300054503208038,1269.9153312091598,1266.50715917004,76,999,380,1266.50715917004,17361014.542617895,380,76,999,380,1266.50715917004,17361014.542617895]
["00770077","0077","0077",381,77,"Douglas                      ",77,"Douglas",13450769.330000004,0.86467167553488233,{"$f":"X390","v":14574247.939999998},{"$f":"IF(K394>0, K390/K394, 0)","v":0.87032644596130404},null,{"$f":"ROUND(M394*L390,0)","v":8454786},7945377,{"$f":"N390-O390","v":509409},6.4113886603492825,1114,1132,77,77,381,1132,14574247.939999998,381,77,77,381,1132,14574247.939999998]
["00770805","0077","0805",382,77,"Douglas                      ",805,"Blackstone Valley",2105157.5155039998,0.13532832446511764,2171477.7674410334,{"$f":"IF(K394>0, K391/K394, 0)","v":0.12967355403869588},null,{"$f":"ROUND(M394*L391,0)","v":1259714},1243518,{"$f":"N391-O391","v":16196},1.3024339012382611,118,114.99999999559999,77,805,382,114.99999999559999,2171477.7674410334,382,77,805,382,114.99999999559999,2171477.7674410334]
["00770998","0077","0998",383,77,"",998,"",0,0,0,{"$f":"IF(K394>0, K392/K394, 0)","v":0},null,{"$f":"ROUND(M394*L392,0)","v":0},0,{"$f":"N392-O392","v":0},0,0,0,77,998,383,0,0,383,77,998,383,0,0]
["00770998","0077","0998",384,77,"",998,"",0,0,0,{"$f":"IF(K394>0, K393/K394, 0)","v":0},null,{"$f":"ROUND(M394*L393,0)","v":0},0,{"$f":"N393-O393","v":0},0,0,0,77,998,384,0,0,384,77,998,384,0,0]
[{"$f":"B394&C394","v":"00770999"},"0077","0999",385,77,"Douglas                      ",999,"Total",15555926.845504005,1,{"$f":"SUM(K390:K393)","v":16745725.707441032},{"$f":"SUM(L390:L393)","v":0.99999999999999989},{"$f":"VLOOKUP(E394,town351,24)","v":9714500},{"$f":"SUM(N390:N393)","v":9714500},9188895,{"$f":"SUM(P390:P393)","v":525605},5.720002241836478,1232,1246.9999999956001,{"$f":"VLOOKUP($D394, foundoptions, VLOOKUP($T$6, foundoptcell, 2, FALSE), FALSE)","v":77},{"$f":"VLOOKUP($D394, foundoptions, VLOOKUP($T$6, foundoptcell, 2, FALSE)+1, FALSE)","v":999},{"$f":"VLOOKUP($D394, foundoptions, VLOOKUP($T$6, foundoptcell, 2, FALSE)+2, FALSE)","v":385},{"$f":"VLOOKUP($D394, foundoptions, VLOOKUP($T$6, foundoptcell, 2, FALSE)+3, FALSE)","v":1246.9999999956001},{"$f":"VLOOKUP($D394, foundoptions, VLOOKUP($T$6, foundoptcell, 2, FALSE)+4, FALSE)","v":16745725.707441032},385,77,999,385,1246.9999999956001,16745725.707441032]
["00780078","0078","0078",386,78,"Dover                        ",78,"Dover",5377259.1472499995,0.40228748638034301,{"$f":"X395","v":5901407.9242000002},{"$f":"IF(K399>0, K395/K399, 0)","v":0.4189649530905164},null,{"$f":"ROUND(M399*L395,0)","v":4868661},4436239,{"$f":"N395-O395","v":432422},9.7474910616853592,485,{"$f":"W395","v":500},78,78,386,500,5901407.9242000002,{"$f":"D395","v":386},78,78,386,500,5901407.9242000002]
["00780655","0078","0655",387,78,"Dover                        ",655,"Dover Sherborn",7930138.347753454,0.59327537230516614,8079293.2395034535,{"$f":"IF(K399>0, K396/K399, 0)","v":0.57358189038456553},null,{"$f":"ROUND(M399*L396,0)","v":6665417},6542364,{"$f":"N396-O396","v":123053},1.8808644703963278,666.36061380567003,637.80119965936001,78,655,387,637.80119965936001,8079293.2395034535,387,78,655,387,637.80119965936001,8079293.2395034535]
["00780830","0078","0830",388,78,"Dover                        ",830,"Minuteman",59309.969931375017,4.437141314490807E-3,83456.124442620901,{"$f":"IF(K399>0, K397/K399, 0)","v":5.9248897400968727E-3},null,{"$f":"ROUND(M399*L397,0)","v":68851},48931,{"$f":"N397-O397","v":19920},40.710388097525083,3.0054545429499999,4.00000000038,78,830,388,4.00000000038,83456.124442620901,388,78,830,388,4.00000000038,83456.124442620901]
["00780915","0078","0915",389,78,"Dover                        ",915,"Norfolk County",0,0,21526.682954523571,{"$f":"IF(K399>0, K398/K399, 0)","v":1.5282667848213526E-3},null,{"$f":"ROUND(M399*L398,0)","v":17760},0,{"$f":"N398-O398","v":17760},100,0,1.00000000001,78,915,389,1.00000000001,21526.682954523571,389,78,915,389,1.00000000001,21526.682954523571]
["00780999","0078","0999",390,78,"Dover                        ",999,"Total",13366707.46493483,1,{"$f":"SUM(K395:K398)","v":14085683.971100597},{"$f":"SUM(L395:L398)","v":1.0000000000000002},{"$f":"VLOOKUP(E399,town351,24)","v":11620689},{"$f":"SUM(N395:N398)","v":11620689},11027534,{"$f":"SUM(P395:P398)","v":593155},5.3788544202176114,1154.36606834862,1142.80119965975,78,999,390,1142.80119965975,14085683.971100597,390,78,999,390,1142.80119965975,14085683.971100597]
["00790079","0079","0079",391,79,"Dracut                       ",79,"Dracut",50418700.75,0.84163320483829873,{"$f":"X400","v":54539267.460000008},{"$f":"IF(K404>0, K400/K404, 0)","v":0.84380884676411161},null,{"$f":"ROUND(M404*L400,0)","v":27369124},26100541,{"$f":"N400-O400","v":1268583},{"$f":"IF(O400>0,P400*100/O400,IF(P400>0,100,0))","v":4.8603705187566799},3936,3900,79,79,391,3900,54539267.460000008,391,79,79,391,3900,54539267.460000008]
["00790828","0079","0828",392,79,"Dracut                       ",828,"Greater Lowell",9487087.7338168267,0.15836679516170135,10095356.44700267,{"$f":"IF(K404>0, K401/K404, 0)","v":0.15619115323588836},null,{"$f":"ROUND(M404*L401,0)","v":5066094},4911236,{"$f":"N401-O401","v":154858},{"$f":"IF(O401>0,P401*100/O401,IF(P401>0,100,0))","v":3.1531370107239809},455.99999999459999,457.00000000104001,79,828,392,457.00000000104001,10095356.44700267,392,79,828,392,457.00000000104001,10095356.44700267]
["00790998","0079","0998",393,79,"",998,null,0,0,0,{"$f":"IF(K404>0, K402/K404, 0)","v":0},null,{"$f":"ROUND(M404*L402,0)","v":0},0,{"$f":"N402-O402","v":0},{"$f":"IF(O402>0,P402*100/O402,IF(P402>0,100,0))","v":0},0,0,79,998,393,0,0,393,79,998,393,0,0]
["00790998","0079","0998",394,79,"",998,"",0,0,0,{"$f":"IF(K404>0, K403/K404, 0)","v":0},null,{"$f":"ROUND(M404*L403,0)","v":0},0,{"$f":"N403-O403","v":0},{"$f":"IF(O403>0,P403*100/O403,IF(P403>0,100,0))","v":0},0,0,79,998,394,0,0,394,79,998,394,0,0]
["00790999","0079","0999",395,79,"Dracut                       ",999,"Total",59905788.483816825,1,{"$f":"SUM(K400:K403)","v":64634623.90700268},{"$f":"SUM(L400:L403)","v":1},{"$f":"VLOOKUP(E404,town351,24)","v":32435218},{"$f":"SUM(N400:N403)","v":32435218},31011777,{"$f":"SUM(P400:P403)","v":1423441},{"$f":"IF(O404>0,P404*100/O404,IF(P404>0,100,0))","v":4.5900014049501259},4391.9999999946003,4357.0000000010405,79,999,395,4357.0000000010405,64634623.90700268,395,79,999,395,4357.0000000010405,64634623.90700268]
["00800080","0080","0080",396,80,"Dudley                       ",80,"Dudley",0,0,{"$f":"X405","v":16490.760000000002},{"$f":"IF(K409>0, K405/K409, 0)","v":7.0380912970601081E-4},null,{"$f":"ROUND(M409*L405,0)","v":5890},0,{"$f":"N405-O405","v":5890},100,0,1,80,80,396,1,16490.760000000002,396,80,80,396,1,16490.760000000002]
["00800658","0080","0658",397,80,"Dudley                       ",658,"Dudley Charlton",20132392.664413705,0.89050237666671395,20744824.705383021,{"$f":"IF(K409>0, K406/K409, 0)","v":0.88536835305342965},null,{"$f":"ROUND(M409*L406,0)","v":7409875},7197338,{"$f":"N406-O406","v":212537},2.9529945654907412,1587.52131149205,1517.60982307725,80,658,397,1517.60982307725,20744824.705383021,397,80,658,397,1517.60982307725,20744824.705383021]
["00800876","0080","0876",398,80,"Dudley                       ",876,"Southern Worcester",2475511.808309115,0.10949762333328598,2669412.1338573876,{"$f":"IF(K409>0, K407/K409, 0)","v":0.11392783781686429},null,{"$f":"ROUND(M409*L407,0)","v":953491},884996,{"$f":"N407-O407","v":68495},7.7395830037649889,129.99999999471999,131.99999999648,80,876,398,131.99999999648,2669412.1338573876,398,80,876,398,131.99999999648,2669412.1338573876]
["00800998","0080","0998",399,80,"",998,"",0,0,0,{"$f":"IF(K409>0, K408/K409, 0)","v":0},null,{"$f":"ROUND(M409*L408,0)","v":0},0,{"$f":"N408-O408","v":0},0,0,0,80,998,399,0,0,399,80,998,399,0,0]
["00800999","0080","0999",400,80,"Dudley                       ",999,"Total",22607904.472722821,0.99999999999999989,{"$f":"SUM(K405:K408)","v":23430727.599240411},{"$f":"SUM(L405:L408)","v":1},{"$f":"VLOOKUP(E409,town351,24)","v":8369257},{"$f":"SUM(N405:N408)","v":8369256},8082334,{"$f":"SUM(P405:P408)","v":286922},3.5499893966272613,1717.5213114867699,1650.60982307373,80,999,400,1650.60982307373,23430727.599240411,400,80,999,400,1650.60982307373,23430727.599240411]
["00810081","0081","0081",401,81,"Dunstable                    ",81,"Dunstable",0,0,{"$f":"X410","v":0},{"$f":"IF(K414>0, K410/K414, 0)","v":0},null,{"$f":"ROUND(M414*L410,0)","v":0},0,{"$f":"N410-O410","v":0},0,0,0,81,81,401,0,0,401,81,81,401,0,0]
["00810673","0081","0673",402,81,"Dunstable                    ",673,"Groton Dunstable",5868641.0286276042,0.94950823820856856,6297868.3222599598,{"$f":"IF(K414>0, K411/K414, 0)","v":0.96284963895580844},null,{"$f":"ROUND(M414*L411,0)","v":5070243},4747876,{"$f":"N411-O411","v":322367},6.7897097565311313,516.30589218208002,524.17293869361004,81,673,402,524.17293869361004,6297868.3222599598,402,81,673,402,524.17293869361004,6297868.3222599598]
["00810828","0081","0828",403,81,"Dunstable                    ",828,"Greater Lowell",312075.25425576878,5.049176179143143E-2,242995.45070657946,{"$f":"IF(K414>0, K412/K414, 0)","v":3.7150361044191484E-2},null,{"$f":"ROUND(M414*L412,0)","v":195629},252477,{"$f":"N412-O412","v":-56848},-22.516110378371099,14.999999992800001,11.00000000556,81,828,403,11.00000000556,242995.45070657946,403,81,828,403,11.00000000556,242995.45070657946]
["00810998","0081","0998",404,81,"",998,"",0,0,0,{"$f":"IF(K414>0, K413/K414, 0)","v":0},null,{"$f":"ROUND(M414*L413,0)","v":0},0,{"$f":"N413-O413","v":0},0,0,0,81,998,404,0,0,404,81,998,404,0,0]
["00810999","0081","0999",405,81,"Dunstable                    ",999,"Total",6180716.2828833731,1,{"$f":"SUM(K410:K413)","v":6540863.7729665395},{"$f":"SUM(L410:L413)","v":0.99999999999999989},{"$f":"VLOOKUP(E414,town351,24)","v":5265872},{"$f":"SUM(N410:N413)","v":5265872},5000353,{"$f":"SUM(P410:P413)","v":265519},5.3100051136389768,531.30589217488,535.17293869917,81,999,405,535.17293869917,6540863.7729665395,405,81,999,405,535.17293869917,6540863.7729665395]
["00820082","0082","0082",406,82,"Duxbury                      ",82,"Duxbury",31970862.733219996,1,{"$f":"X415","v":33659011.201460004},{"$f":"IF(K419>0, K415/K419, 0)","v":1},null,{"$f":"ROUND(M419*L415,0)","v":26987503},25660838,{"$f":"N415-O415","v":1326665},5.1699987350374137,2738,2729,82,82,406,2729,33659011.201460004,406,82,82,406,2729,33659011.201460004]
["00820998","0082","0998",407,82,"",998,"",0,0,0,{"$f":"IF(K419>0, K416/K419, 0)","v":0},null,{"$f":"ROUND(M419*L416,0)","v":0},0,{"$f":"N416-O416","v":0},0,0,0,82,998,407,0,0,407,82,998,407,0,0]
["00820998","0082","0998",408,82,"",998,"",0,0,0,{"$f":"IF(K419>0, K417/K419, 0)","v":0},null,{"$f":"ROUND(M419*L417,0)","v":0},0,{"$f":"N417-O417","v":0},0,0,0,82,998,408,0,0,408,82,998,408,0,0]
["00820998","0082","0998",409,82,"",998,"",0,0,0,{"$f":"IF(K419>0, K418/K419, 0)","v":0},null,{"$f":"ROUND(M419*L418,0)","v":0},0,{"$f":"N418-O418","v":0},0,0,0,82,998,409,0,0,409,82,998,409,0,0]
["00820999","0082","0999",410,82,"Duxbury                      ",999,"Total",31970862.733219996,1,{"$f":"SUM(K415:K418)","v":33659011.201460004},{"$f":"SUM(L415:L418)","v":1},{"$f":"VLOOKUP(E419,town351,24)","v":26987503},{"$f":"SUM(N415:N418)","v":26987503},25660838,{"$f":"SUM(P415:P418)","v":1326665},5.1699987350374137,2738,2729,82,999,410,2729,33659011.201460004,410,82,999,410,2729,33659011.201460004]
["00830083","0083","0083",411,83,"East Bridgewater             ",83,"East Bridgewater",25682682.969999995,0.93273433764834823,{"$f":"X420","v":26867274.059999999},{"$f":"IF(K424>0, K420/K424, 0)","v":0.92641222226308084},null,{"$f":"ROUND(M424*L420,0)","v":13993957},13482733,{"$f":"N420-O420","v":511224},3.7916941617103892,2074,2022,83,83,411,2022,26867274.059999999,411,83,83,411,2022,26867274.059999999]
["00830872","0083","0872",412,83,"East Bridgewater             ",872,"Southeastern",1852148.6893043364,6.7265662351651767E-2,2134150.3754067691,{"$f":"IF(K424>0, K421/K424, 0)","v":7.3587777736919144E-2},null,{"$f":"ROUND(M424*L421,0)","v":1111583},972329,{"$f":"N421-O421","v":139254},14.321695640055989,93.343384614130002,100.42944785025,83,872,412,100.42944785025,2134150.3754067691,412,83,872,412,100.42944785025,2134150.3754067691]
["00830998","0083","0998",413,83,"",998,"",0,0,0,{"$f":"IF(K424>0, K422/K424, 0)","v":0},null,{"$f":"ROUND(M424*L422,0)","v":0},0,{"$f":"N422-O422","v":0},0,0,0,83,998,413,0,0,413,83,998,413,0,0]
["00830998","0083","0998",414,83,"",998,"",0,0,0,{"$f":"IF(K424>0, K423/K424, 0)","v":0},null,{"$f":"ROUND(M424*L423,0)","v":0},0,{"$f":"N423-O423","v":0},0,0,0,83,998,414,0,0,414,83,998,414,0,0]
["00830999","0083","0999",415,83,"East Bridgewater             ",999,"Total",27534831.659304332,1,{"$f":"SUM(K420:K423)","v":29001424.435406767},{"$f":"SUM(L420:L423)","v":1},{"$f":"VLOOKUP(E424,town351,24)","v":15105540},{"$f":"SUM(N420:N423)","v":15105540},14455062,{"$f":"SUM(P420:P423)","v":650478},4.5000014527782728,2167.3433846141302,2122.4294478502502,83,999,415,2122.4294478502502,29001424.435406767,415,83,999,415,2122.4294478502502,29001424.435406767]
["00840084","0084","0084",416,84,"East Brookfield              ",84,"East Brookfield",264885,6.8540645240148981E-2,{"$f":"X425","v":278132.51999999996},{"$f":"IF(K429>0, K425/K429, 0)","v":6.7836763371227529E-2},null,{"$f":"ROUND(M429*L425,0)","v":144480},139226,{"$f":"N425-O425","v":5254},3.7737204257825407,15,15,84,84,416,15,278132.51999999996,416,84,84,416,15,278132.51999999996]
["00840767","0084","0767",417,84,"East Brookfield              ",767,"Spencer East Brookfield",3599756.1785577792,0.93145935475985098,3821893.869495579,{"$f":"IF(K429>0, K426/K429, 0)","v":0.93216323662877243},null,{"$f":"ROUND(M429*L426,0)","v":1985335},1892071,{"$f":"N426-O426","v":93264},4.9292019168413868,259.77966101919003,253.29317268527998,84,767,417,253.29317268527998,3821893.869495579,417,84,767,417,253.29317268527998,3821893.869495579]
["00840998","0084","0998",418,84,"",998,"",0,0,0,{"$f":"IF(K429>0, K427/K429, 0)","v":0},null,{"$f":"ROUND(M429*L427,0)","v":0},0,{"$f":"N427-O427","v":0},0,0,0,84,998,418,0,0,418,84,998,418,0,0]
["00840998","0084","0998",419,84,"",998,"",0,0,0,{"$f":"IF(K429>0, K428/K429, 0)","v":0},null,{"$f":"ROUND(M429*L428,0)","v":0},0,{"$f":"N428-O428","v":0},0,0,0,84,998,419,0,0,419,84,998,419,0,0]
["00840999","0084","0999",420,84,"East Brookfield              ",999,"Total",3864641.1785577792,1,{"$f":"SUM(K425:K428)","v":4100026.3894955791},{"$f":"SUM(L425:L428)","v":1},{"$f":"VLOOKUP(E429,town351,24)","v":2129815},{"$f":"SUM(N425:N428)","v":2129815},2031297,{"$f":"SUM(P425:P428)","v":98518},4.8500047014296781,274.77966101919003,268.29317268527996,84,999,420,268.29317268527996,4100026.3894955791,420,84,999,420,268.29317268527996,4100026.3894955791]
["00850085","0085","0085",421,85,"Eastham                      ",85,"Eastham",2709776.2300000004,0.43251871637201911,{"$f":"X430","v":2896212.01},{"$f":"IF(K434>0, K430/K434, 0)","v":0.43664445697882981},null,{"$f":"ROUND(M434*L430,0)","v":2389375},2235566,{"$f":"N430-O430","v":153809},6.8800921109016686,199,197,85,85,421,197,2896212.01,421,85,85,421,197,2896212.01]
["00850660","0085","0660",422,85,"Eastham                      ",660,"Nauset",3186157.7201450383,0.50855595824454136,3257681.0787673928,{"$f":"IF(K434>0, K431/K434, 0)","v":0.49114097336009488},null,{"$f":"ROUND(M434*L431,0)","v":2687587},2628580,{"$f":"N431-O431","v":59007},2.244824201660212,237.99999999476998,227.0000000007,85,660,422,227.0000000007,3257681.0787673928,422,85,660,422,227.0000000007,3257681.0787673928]
["00850815","0085","0815",423,85,"Eastham                      ",815,"Cape Cod",369173.49475281598,5.89253253834396E-2,478990.85996991891,{"$f":"IF(K434>0, K432/K434, 0)","v":7.2214569661075326E-2},null,{"$f":"ROUND(M434*L432,0)","v":395167},304568,{"$f":"N432-O432","v":90599},29.746723227653593,18.027439024229999,22.065967019249999,85,815,423,22.065967019249999,478990.85996991891,423,85,815,423,22.065967019249999,478990.85996991891]
["00850998","0085","0998",424,85,"",998,"",0,0,0,{"$f":"IF(K434>0, K433/K434, 0)","v":0},null,{"$f":"ROUND(M434*L433,0)","v":0},0,{"$f":"N433-O433","v":0},0,0,0,85,998,424,0,0,424,85,998,424,0,0]
["00850999","0085","0999",425,85,"Eastham                      ",999,"Total",6265107.4448978547,1,{"$f":"SUM(K430:K433)","v":6632883.9487373112},{"$f":"SUM(L430:L433)","v":1},{"$f":"VLOOKUP(E434,town351,24)","v":5472129},{"$f":"SUM(N430:N433)","v":5472129},5168714,{"$f":"SUM(P430:P433)","v":303415},5.8702222641840889,455.02743901899993,446.06596701994999,85,999,425,446.06596701994999,6632883.9487373112,425,85,999,425,446.06596701994999,6632883.9487373112]
["00860086","0086","0086",426,86,"Easthampton                  ",86,"Easthampton",21391869.32,1,{"$f":"X435","v":22559015.459999997},{"$f":"IF(K439>0, K435/K439, 0)","v":1},null,{"$f":"ROUND(M439*L435,0)","v":13894543},13077217,{"$f":"N435-O435","v":817326},6.2499995220695661,1608,1591,86,86,426,1591,22559015.459999997,426,86,86,426,1591,22559015.459999997]
["00860998","0086","0998",427,86,"",998,"",0,0,0,{"$f":"IF(K439>0, K436/K439, 0)","v":0},null,{"$f":"ROUND(M439*L436,0)","v":0},0,{"$f":"N436-O436","v":0},0,0,0,86,998,427,0,0,427,86,998,427,0,0]
["00860998","0086","0998",428,86,"",998,"",0,0,0,{"$f":"IF(K439>0, K437/K439, 0)","v":0},null,{"$f":"ROUND(M439*L437,0)","v":0},0,{"$f":"N437-O437","v":0},0,0,0,86,998,428,0,0,428,86,998,428,0,0]
["00860998","0086","0998",429,86,"",998,"",0,0,0,{"$f":"IF(K439>0, K438/K439, 0)","v":0},null,{"$f":"ROUND(M439*L438,0)","v":0},0,{"$f":"N438-O438","v":0},0,0,0,86,998,429,0,0,429,86,998,429,0,0]
["00860999","0086","0999",430,86,"Easthampton                  ",999,"Total",21391869.32,1,{"$f":"SUM(K435:K438)","v":22559015.459999997},{"$f":"SUM(L435:L438)","v":1},{"$f":"VLOOKUP(E439,town351,24)","v":13894543},{"$f":"SUM(N435:N438)","v":13894543},13077217,{"$f":"SUM(P435:P438)","v":817326},6.2499995220695661,1608,1591,86,999,430,1591,22559015.459999997,430,86,999,430,1591,22559015.459999997]
["00870087","0087","0087",431,87,"East Longmeadow              ",87,"East Longmeadow",31009727.380000003,1,{"$f":"X440","v":33881345.879999995},{"$f":"IF(K444>0, K440/K444, 0)","v":1},null,{"$f":"ROUND(M444*L440,0)","v":18843898},17979103,{"$f":"N440-O440","v":864795},4.8100008103852563,2535,2552,87,87,431,2552,33881345.879999995,431,87,87,431,2552,33881345.879999995]
["00870998","0087","0998",432,87,"",998,"",0,0,0,{"$f":"IF(K444>0, K441/K444, 0)","v":0},null,{"$f":"ROUND(M444*L441,0)","v":0},0,{"$f":"N441-O441","v":0},0,0,0,87,998,432,0,0,432,87,998,432,0,0]
["00870998","0087","0998",433,87,"",998,"",0,0,0,{"$f":"IF(K444>0, K442/K444, 0)","v":0},null,{"$f":"ROUND(M444*L442,0)","v":0},0,{"$f":"N442-O442","v":0},0,0,0,87,998,433,0,0,433,87,998,433,0,0]
["00870998","0087","0998",434,87,"",998,"",0,0,0,{"$f":"IF(K444>0, K443/K444, 0)","v":0},null,{"$f":"ROUND(M444*L443,0)","v":0},0,{"$f":"N443-O443","v":0},0,0,0,87,998,434,0,0,434,87,998,434,0,0]
["00870999","0087","0999",435,87,"East Longmeadow              ",999,"Total",31009727.380000003,1,{"$f":"SUM(K440:K443)","v":33881345.879999995},{"$f":"SUM(L440:L443)","v":1},{"$f":"VLOOKUP(E444,town351,24)","v":18843898},{"$f":"SUM(N440:N443)","v":18843898},17979103,{"$f":"SUM(P440:P443)","v":864795},4.8100008103852563,2535,2552,87,999,435,2552,33881345.879999995,435,87,999,435,2552,33881345.879999995]
["00880088","0088","0088",436,88,"Easton                       ",88,"Easton",39647570.750000007,0.95276816759421101,{"$f":"X445","v":43192301.489999995},{"$f":"IF(K449>0, K445/K449, 0)","v":0.96077232305984028},null,{"$f":"ROUND(M449*L445,0)","v":33376275},31564199,{"$f":"N445-O445","v":1812076},5.7409218589706645,3345,3418,88,88,436,3418,43192301.489999995,436,88,88,436,3418,43192301.489999995]
["00880872","0088","0872",437,88,"Easton                       ",872,"Southeastern",1832233.1121739822,4.4030273529215992E-2,1600612.7816420437,{"$f":"IF(K449>0, K446/K449, 0)","v":3.5604133317451048E-2},null,{"$f":"ROUND(M449*L446,0)","v":1236852},1458676,{"$f":"N446-O446","v":-221824},-15.207215310322512,92.339692315220006,75.322085891780006,88,872,437,75.322085891780006,1600612.7816420437,437,88,872,437,75.322085891780006,1600612.7816420437]
["00880910","0088","0910",438,88,"Easton                       ",910,"Bristol County",133226.56695147106,3.2015588765730504E-3,162899.35175875475,{"$f":"IF(K449>0, K447/K449, 0)","v":3.6235436227086983E-3},null,{"$f":"ROUND(M449*L447,0)","v":125878},106064,{"$f":"N447-O447","v":19814},18.681173631015238,7.0000000008399992,7.999999998639999,88,910,438,7.999999998639999,162899.35175875475,438,88,910,438,7.999999998639999,162899.35175875475]
["00880998","0088","0998",439,88,"",998,"",0,0,0,{"$f":"IF(K449>0, K448/K449, 0)","v":0},null,{"$f":"ROUND(M449*L448,0)","v":0},0,{"$f":"N448-O448","v":0},0,0,0,88,998,439,0,0,439,88,998,439,0,0]
["00880999","0088","0999",440,88,"Easton                       ",999,"Total",41613030.429125458,1,{"$f":"SUM(K445:K448)","v":44955813.623400792},{"$f":"SUM(L445:L448)","v":1},{"$f":"VLOOKUP(E449,town351,24)","v":34739005},{"$f":"SUM(N445:N448)","v":34739005},33128939,{"$f":"SUM(P445:P448)","v":1610066},4.8599986857411883,3444.3396923160599,3501.3220858904197,88,999,440,3501.3220858904197,44955813.623400792,440,88,999,440,3501.3220858904197,44955813.623400792]
["00890089","0089","0089",441,89,"Edgartown                    ",89,"Edgartown",5932989.4900000002,0.67054178110867102,{"$f":"X450","v":6660865.3400000008},{"$f":"IF(K454>0, K450/K454, 0)","v":0.66388496745276215},null,{"$f":"ROUND(M454*L450,0)","v":5495214},4894716,{"$f":"N450-O450","v":600498},12.268290948851782,425,438,89,89,441,438,6660865.3400000008,441,89,89,441,438,6660865.3400000008]
["00890700","0089","0700",442,89,"Edgartown                    ",700,"Marthas Vineyard",2915063.9156959434,0.32945821889132904,3372296.5277206232,{"$f":"IF(K454>0, K451/K454, 0)","v":0.33611503254723785},null,{"$f":"ROUND(M454*L451,0)","v":2782145},2404928,{"$f":"N451-O451","v":377217},15.685168121457274,188.00000000259999,188.00000000263998,89,700,442,188.00000000263998,3372296.5277206232,442,89,700,442,188.00000000263998,3372296.5277206232]
["00890998","0089","0998",443,89,"",998,"",0,0,0,{"$f":"IF(K454>0, K452/K454, 0)","v":0},null,{"$f":"ROUND(M454*L452,0)","v":0},0,{"$f":"N452-O452","v":0},0,0,0,89,998,443,0,0,443,89,998,443,0,0]
["00890998","0089","0998",444,89,"",998,"",0,0,0,{"$f":"IF(K454>0, K453/K454, 0)","v":0},null,{"$f":"ROUND(M454*L453,0)","v":0},0,{"$f":"N453-O453","v":0},0,0,0,89,998,444,0,0,444,89,998,444,0,0]
["00890999","0089","0999",445,89,"Edgartown                    ",999,"Total",8848053.4056959432,1,{"$f":"SUM(K450:K453)","v":10033161.867720624},{"$f":"SUM(L450:L453)","v":1},{"$f":"VLOOKUP(E454,town351,24)","v":8277359},{"$f":"SUM(N450:N453)","v":8277359},7299644,{"$f":"SUM(P450:P453)","v":977715},13.394009351688931,613.00000000260002,626.00000000264004,89,999,445,626.00000000264004,10033161.867720624,445,89,999,445,626.00000000264004,10033161.867720624]
["00900090","0090","0090",446,90,"Egremont                     ",90,"Egremont",0,0,{"$f":"X455","v":0},{"$f":"IF(K459>0, K455/K459, 0)","v":0},null,{"$f":"ROUND(M459*L455,0)","v":0},0,{"$f":"N455-O455","v":0},0,0,0,90,90,446,0,0,446,90,90,446,0,0]
["00900765","0090","0765",447,90,"Egremont                     ",765,"Southern Berkshire",1189468.9224119224,1,1293907.663036203,{"$f":"IF(K459>0, K456/K459, 0)","v":1},null,{"$f":"ROUND(M459*L456,0)","v":1067474},981312,{"$f":"N456-O456","v":86162},8.7802859844779242,88.283582088000003,90.203007518700005,90,765,447,90.203007518700005,1293907.663036203,447,90,765,447,90.203007518700005,1293907.663036203]
["00900998","0090","0998",448,90,"",998,"",0,0,0,{"$f":"IF(K459>0, K457/K459, 0)","v":0},null,{"$f":"ROUND(M459*L457,0)","v":0},0,{"$f":"N457-O457","v":0},0,0,0,90,998,448,0,0,448,90,998,448,0,0]
[{"$f":"B458&C458","v":"00900998"},"0090","0998",449,90,"",998,"",0,0,0,{"$f":"IF(K459>0, K458/K459, 0)","v":0},null,{"$f":"ROUND(M459*L458,0)","v":0},0,{"$f":"N458-O458","v":0},0,0,0,{"$f":"VLOOKUP($D458, foundoptions, VLOOKUP($T$6, foundoptcell, 2, FALSE), FALSE)","v":90},{"$f":"VLOOKUP($D458, foundoptions, VLOOKUP($T$6, foundoptcell, 2, FALSE)+1, FALSE)","v":998},{"$f":"VLOOKUP($D458, foundoptions, VLOOKUP($T$6, foundoptcell, 2, FALSE)+2, FALSE)","v":449},{"$f":"VLOOKUP($D458, foundoptions, VLOOKUP($T$6, foundoptcell, 2, FALSE)+3, FALSE)","v":0},{"$f":"VLOOKUP($D458, foundoptions, VLOOKUP($T$6, foundoptcell, 2, FALSE)+4, FALSE)","v":0},449,90,998,449,0,0]
["00900999","0090","0999",450,90,"Egremont                     ",999,"Total",1189468.9224119224,1,{"$f":"SUM(K455:K458)","v":1293907.663036203},{"$f":"SUM(L455:L458)","v":1},{"$f":"VLOOKUP(E459,town351,24)","v":1067474},{"$f":"SUM(N455:N458)","v":1067474},981312,{"$f":"SUM(P455:P458)","v":86162},8.7802859844779242,88.283582088000003,{"$f":"W459","v":90.203007518700005},90,999,450,90.203007518700005,1293907.663036203,{"$f":"D459","v":450},90,999,450,90.203007518700005,1293907.663036203]
["00910091","0091","0091",451,91,"Erving                       ",91,"Erving",2504088.0100000002,0.81675658406503793,{"$f":"X460","v":2671388.7799999998},{"$f":"IF(K464>0, K460/K464, 0)","v":0.81708055326597928},null,{"$f":"ROUND(M464*L460,0)","v":2115389},2013666,{"$f":"N460-O460","v":101723},5.0516321971965557,205,203,91,91,451,203,2671388.7799999998,451,91,91,451,203,2671388.7799999998]
["00910818","0091","0818",452,91,"Erving                       ",818,"Franklin County",561804.64254163031,0.18324341593496213,598042.5745000001,{"$f":"IF(K464>0, K461/K464, 0)","v":0.18291944673402077},null,{"$f":"ROUND(M464*L461,0)","v":473571},451776,{"$f":"N461-O461","v":21795},4.8242934551636205,27.99999999888,28,91,818,452,28,598042.5745000001,452,91,818,452,28,598042.5745000001]
["00910998","0091","0998",453,91,"",998,"",0,0,0,{"$f":"IF(K464>0, K462/K464, 0)","v":0},null,{"$f":"ROUND(M464*L462,0)","v":0},0,{"$f":"N462-O462","v":0},0,0,0,91,998,453,0,0,453,91,998,453,0,0]
["00910998","0091","0998",454,91,"",998,"",0,0,0,{"$f":"IF(K464>0, K463/K464, 0)","v":0},null,{"$f":"ROUND(M464*L463,0)","v":0},0,{"$f":"N463-O463","v":0},0,0,0,91,998,454,0,0,454,91,998,454,0,0]
["00910999","0091","0999",455,91,"Erving                       ",999,"Total",3065892.6525416304,1,{"$f":"SUM(K460:K463)","v":3269431.3544999999},{"$f":"SUM(L460:L463)","v":1},{"$f":"VLOOKUP(E464,town351,24)","v":2588960},{"$f":"SUM(N460:N463)","v":2588960},2465442,{"$f":"SUM(P460:P463)","v":123518},{"$f":"IF(O464>0,P464*100/O464,IF(P464>0,100,0))","v":5.0099738708109944},232.99999999888001,231,91,999,455,231,3269431.3544999999,455,91,999,455,231,3269431.3544999999]
["00920092","0092","0092",456,92,"Essex                        ",92,"Essex",0,0,{"$f":"X465","v":0},{"$f":"IF(K469>0, K465/K469, 0)","v":0},null,{"$f":"ROUND(M469*L465,0)","v":0},0,{"$f":"N465-O465","v":0},0,0,0,92,92,456,0,0,456,92,92,456,0,0]
["00920698","0092","0698",457,92,"Essex                        ",698,"Manchester Essex",6126941.2339295112,0.95365733253029394,6338341.5474519432,{"$f":"IF(K469>0, K466/K469, 0)","v":0.93593852472223082},null,{"$f":"ROUND(M469*L466,0)","v":4838954},4705185,{"$f":"N466-O466","v":133769},2.8430125489220934,510.86012861284001,496.23697478962004,92,698,457,496.23697478962004,6338341.5474519432,457,92,698,457,496.23697478962004,6338341.5474519432]
["00920817","0092","0817",458,92,"Essex                        ",817,"Essex North Shore",297736.71372825769,4.6342667469706077E-2,433835.66294020851,{"$f":"IF(K469>0, K467/K469, 0)","v":6.4061475277769148E-2},null,{"$f":"ROUND(M469*L467,0)","v":331208},228647,{"$f":"N467-O467","v":102561},44.855607114897637,15.999999999699998,21.999999993749999,92,817,458,21.999999993749999,433835.66294020851,458,92,817,458,21.999999993749999,433835.66294020851]
["00920998","0092","0998",459,92,"",998,"",0,0,0,{"$f":"IF(K469>0, K468/K469, 0)","v":0},null,{"$f":"ROUND(M469*L468,0)","v":0},0,{"$f":"N468-O468","v":0},0,0,0,92,998,459,0,0,459,92,998,459,0,0]
["00920999","0092","0999",460,92,"Essex                        ",999,"Total",6424677.9476577686,1,{"$f":"SUM(K465:K468)","v":6772177.210392152},{"$f":"SUM(L465:L468)","v":1},{"$f":"VLOOKUP(E469,town351,24)","v":5170162},{"$f":"SUM(N465:N468)","v":5170162},4933832,{"$f":"SUM(P465:P468)","v":236330},4.789988795727135,526.86012861254005,518.23697478336999,92,999,460,518.23697478336999,6772177.210392152,460,92,999,460,518.23697478336999,6772177.210392152]
["00930093","0093","0093",461,93,"Everett                      ",93,"Everett",131079661.89111,1,{"$f":"X470","v":152643280.48403001},{"$f":"IF(K474>0, K470/K474, 0)","v":1},null,{"$f":"ROUND(M474*L470,0)","v":40961068},38446657,{"$f":"N470-O470","v":2514411},6.5399990433498552,7437,7937,93,93,461,7937,152643280.48403001,461,93,93,461,7937,152643280.48403001]
["00930998","0093","0998",462,93,"",998,"",0,0,0,{"$f":"IF(K474>0, K471/K474, 0)","v":0},null,{"$f":"ROUND(M474*L471,0)","v":0},0,{"$f":"N471-O471","v":0},0,0,0,93,998,462,0,0,462,93,998,462,0,0]
["00930998","0093","0998",463,93,"",998,"",0,0,0,{"$f":"IF(K474>0, K472/K474, 0)","v":0},null,{"$f":"ROUND(M474*L472,0)","v":0},0,{"$f":"N472-O472","v":0},0,0,0,93,998,463,0,0,463,93,998,463,0,0]
["00930998","0093","0998",464,93,"",998,"",0,0,0,{"$f":"IF(K474>0, K473/K474, 0)","v":0},null,{"$f":"ROUND(M474*L473,0)","v":0},0,{"$f":"N473-O473","v":0},0,0,0,93,998,464,0,0,464,93,998,464,0,0]
["00930999","0093","0999",465,93,"Everett                      ",999,"Total",131079661.89111,1,{"$f":"SUM(K470:K473)","v":152643280.48403001},{"$f":"SUM(L470:L473)","v":1},{"$f":"VLOOKUP(E474,town351,24)","v":40961068},{"$f":"SUM(N470:N473)","v":40961068},38446657,{"$f":"SUM(P470:P473)","v":2514411},6.5399990433498552,7437,7937,93,999,465,7937,152643280.48403001,465,93,999,465,7937,152643280.48403001]
["00940094","0094","0094",466,94,"Fairhaven                    ",94,"Fairhaven",22300570.939999998,0.85089610496759183,{"$f":"X475","v":23768492.649999999},{"$f":"IF(K479>0, K475/K479, 0)","v":0.8452968673112673},null,{"$f":"ROUND(M479*L475,0)","v":14136790},13273418,{"$f":"N475-O475","v":863372},6.5045190319479129,1679,1659,94,94,466,1659,23768492.649999999,466,94,94,466,1659,23768492.649999999]
["00940825","0094","0825",467,94,"Fairhaven                    ",825,"Greater New Bedford",3508085.2651133863,0.13385379665885733,3820599.4650312057,{"$f":"IF(K479>0, K476/K479, 0)","v":0.13587486621882949},null,{"$f":"ROUND(M479*L476,0)","v":2272379},2088031,{"$f":"N476-O476","v":184348},8.828796124195474,171.00000001000001,172.9999999984,94,825,467,172.9999999984,3820599.4650312057,467,94,825,467,172.9999999984,3820599.4650312057]
["00940910","0094","0910",468,94,"Fairhaven                    ",910,"Bristol County",399679.7007718127,1.5250098373550793E-2,529422.89331511792,{"$f":"IF(K479>0, K477/K479, 0)","v":1.8828266469903234E-2},null,{"$f":"ROUND(M479*L477,0)","v":314885},237891,{"$f":"N477-O477","v":76994},32.365242905364219,20.999999998179998,26.000000000450001,94,910,468,26.000000000450001,529422.89331511792,468,94,910,468,26.000000000450001,529422.89331511792]
["00940998","0094","0998",469,94,"",998,"",0,0,0,{"$f":"IF(K479>0, K478/K479, 0)","v":0},null,{"$f":"ROUND(M479*L478,0)","v":0},0,{"$f":"N478-O478","v":0},0,0,0,94,998,469,0,0,469,94,998,469,0,0]
["00940999","0094","0999",470,94,"Fairhaven                    ",999,"Total",26208335.905885197,1,{"$f":"SUM(K475:K478)","v":28118515.008346323},{"$f":"SUM(L475:L478)","v":1},{"$f":"VLOOKUP(E479,town351,24)","v":16724054},{"$f":"SUM(N475:N478)","v":16724054},15599340,{"$f":"SUM(P475:P478)","v":1124714},7.2100101670968133,1871.00000000818,1857.9999999988499,94,999,470,1857.9999999988499,28118515.008346323,470,94,999,470,1857.9999999988499,28118515.008346323]
["00950095","0095","0095",471,95,"Fall River                   ",95,"Fall River",204753290.08000001,0.90229287682015658,{"$f":"X480","v":226544925.61000004},{"$f":"IF(K484>0, K480/K484, 0)","v":0.90556743182564459},null,{"$f":"ROUND(M484*L480,0)","v":38520449},36332032,{"$f":"N480-O480","v":2188417},6.0233817915827004,12103,12238,95,95,471,12238,226544925.61000004,471,95,95,471,12238,226544925.61000004]
["00950821","0095","0821",472,95,"Fall River                   ",821,"Greater Fall River",21391913.763280679,9.4268431059729235E-2,22524533.313323878,{"$f":"IF(K484>0, K481/K484, 0)","v":9.0037257425630485E-2},null,{"$f":"ROUND(M484*L481,0)","v":3829947},3795845,{"$f":"N481-O481","v":34102},0.89840338580737622,1074.00000000249,1059.0000000054999,95,821,472,1059.0000000054999,22524533.313323878,472,95,821,472,1059.0000000054999,22524533.313323878]
["00950910","0095","0910",473,95,"Fall River                   ",910,"Bristol County",780327.03488347272,3.4386921201141913E-3,1099570.6245699245,{"$f":"IF(K484>0, K482/K484, 0)","v":4.3953107487248585E-3},null,{"$f":"ROUND(M484*L482,0)","v":186965},138464,{"$f":"N482-O482","v":48501},35.027877282181649,40.99999999872,54.00000000056,95,910,473,54.00000000056,1099570.6245699245,473,95,910,473,54.00000000056,1099570.6245699245]
["00950998","0095","0998",474,95,"",998,"",0,0,0,{"$f":"IF(K484>0, K483/K484, 0)","v":0},null,{"$f":"ROUND(M484*L483,0)","v":0},0,{"$f":"N483-O483","v":0},0,0,0,95,998,474,0,0,474,95,998,474,0,0]
["00950999","0095","0999",475,95,"Fall River                   ",999,"Total",226925530.87816417,1,{"$f":"SUM(K480:K483)","v":250169029.54789385},{"$f":"SUM(L480:L483)","v":1},{"$f":"VLOOKUP(E484,town351,24)","v":42537361},{"$f":"SUM(N480:N483)","v":42537361},40266341,{"$f":"SUM(P480:P483)","v":2271020},5.6399959459937019,13218.00000000121,13351.000000006061,95,999,475,13351.000000006061,250169029.54789385,475,95,999,475,13351.000000006061,250169029.54789385]
["00960096","0096","0096",476,96,"Falmouth                     ",96,"Falmouth",41087216.109999992,0.91532237784208292,{"$f":"X485","v":42847018.859999999},{"$f":"IF(K489>0, K485/K489, 0)","v":0.91589216223637149},null,{"$f":"ROUND(M489*L485,0)","v":33524110},32002344,{"$f":"N485-O485","v":1521766},4.755170433765727,3025,2959,96,96,476,2959,42847018.859999999,476,96,96,476,2959,42847018.859999999]
["00960879","0096","0879",477,96,"Falmouth                     ",879,"Upper Cape Cod",3801029.9382011993,8.4677622157917187E-2,3934710.0668844432,{"$f":"IF(K489>0, K486/K489, 0)","v":8.4107837763628499E-2},null,{"$f":"ROUND(M489*L486,0)","v":3078572},2960577,{"$f":"N486-O486","v":117995},3.9855406564328506,195.01041666924002,187.94803548807002,96,879,477,187.94803548807002,3934710.0668844432,477,96,879,477,187.94803548807002,3934710.0668844432]
["00960998","0096","0998",478,96,"",998,"",0,0,0,{"$f":"IF(K489>0, K487/K489, 0)","v":0},null,{"$f":"ROUND(M489*L487,0)","v":0},0,{"$f":"N487-O487","v":0},0,0,0,96,998,478,0,0,478,96,998,478,0,0]
["00960998","0096","0998",479,96,"",998,"",0,0,0,{"$f":"IF(K489>0, K488/K489, 0)","v":0},null,{"$f":"ROUND(M489*L488,0)","v":0},0,{"$f":"N488-O488","v":0},0,0,0,96,998,479,0,0,479,96,998,479,0,0]
["00960999","0096","0999",480,96,"Falmouth                     ",999,"Total",44888246.048201188,1,{"$f":"SUM(K485:K488)","v":46781728.926884443},{"$f":"SUM(L485:L488)","v":1},{"$f":"VLOOKUP(E489,town351,24)","v":36602682},{"$f":"SUM(N485:N488)","v":36602682},34962921,{"$f":"SUM(P485:P488)","v":1639761},4.6900000145868823,3220.0104166692399,3146.9480354880702,96,999,480,3146.9480354880702,46781728.926884443,480,96,999,480,3146.9480354880702,46781728.926884443]
["00970097","0097","0097",481,97,"Fitchburg                    ",97,"Fitchburg",88839002.539999992,0.92555067278144065,{"$f":"X490","v":96678430.429999992},{"$f":"IF(K494>0, K490/K494, 0)","v":0.92964935915175884},null,{"$f":"ROUND(M494*L490,0)","v":21950317},20577723,{"$f":"N490-O490","v":1372594},6.6702909743706824,5658,5661,97,97,481,5661,96678430.429999992,481,97,97,481,5661,96678430.429999992]
["00970832","0097","0832",482,97,"Fitchburg                    ",832,"Montachusett",7146020.3794079171,7.4449327218559347E-2,7316080.4877641238,{"$f":"IF(K494>0, K491/K494, 0)","v":7.0350640848241219E-2},null,{"$f":"ROUND(M494*L491,0)","v":1661077},1655228,{"$f":"N491-O491","v":5849},0.35336521615149091,375.25579808867997,363.49624059874998,97,832,482,363.49624059874998,7316080.4877641238,482,97,832,482,363.49624059874998,7316080.4877641238]
["00970998","0097","0998",483,97,"",998,"",0,0,0,{"$f":"IF(K494>0, K492/K494, 0)","v":0},null,{"$f":"ROUND(M494*L492,0)","v":0},0,{"$f":"N492-O492","v":0},0,0,0,97,998,483,0,0,483,97,998,483,0,0]
["00970998","0097","0998",484,97,"",998,"",0,0,0,{"$f":"IF(K494>0, K493/K494, 0)","v":0},null,{"$f":"ROUND(M494*L493,0)","v":0},0,{"$f":"N493-O493","v":0},0,0,0,97,998,484,0,0,484,97,998,484,0,0]
["00970999","0097","0999",485,97,"Fitchburg                    ",999,"Total",95985022.919407904,1,{"$f":"SUM(K490:K493)","v":103994510.91776411},{"$f":"SUM(L490:L493)","v":1},{"$f":"VLOOKUP(E494,town351,24)","v":23611394},{"$f":"SUM(N490:N493)","v":23611394},22232951,{"$f":"SUM(P490:P493)","v":1378443},6.2000001709174821,6033.2557980886795,6024.4962405987499,97,999,485,6024.4962405987499,103994510.91776411,485,97,999,485,6024.4962405987499,103994510.91776411]
["00980098","0098","0098",486,98,"Florida                      ",98,"Florida",969371.9800000001,0.64212379177232592,{"$f":"X495","v":917915.93000000017},{"$f":"IF(K499>0, K495/K499, 0)","v":0.56798058426524212},null,{"$f":"ROUND(M499*L495,0)","v":425391},458631,{"$f":"N495-O495","v":-33240},-7.2476566128325386,64,57,98,98,486,57,917915.93000000017,486,98,98,486,57,917915.93000000017]
["00980851","0098","0851",487,98,"Florida                      ",851,"Northern Berkshire",540262.13170988765,0.35787620822767413,698188.4852370905,{"$f":"IF(K499>0, K496/K499, 0)","v":0.43201941573475794},null,{"$f":"ROUND(M499*L496,0)","v":323562},255610,{"$f":"N496-O496","v":67952},26.584249442510075,27.00000000216,32.999999998469995,98,851,487,32.999999998469995,698188.4852370905,487,98,851,487,32.999999998469995,698188.4852370905]
["00980998","0098","0998",488,98,"",998,"",0,0,0,{"$f":"IF(K499>0, K497/K499, 0)","v":0},null,{"$f":"ROUND(M499*L497,0)","v":0},0,{"$f":"N497-O497","v":0},0,0,0,98,998,488,0,0,488,98,998,488,0,0]
["00980998","0098","0998",489,98,"",998,"",0,0,0,{"$f":"IF(K499>0, K498/K499, 0)","v":0},null,{"$f":"ROUND(M499*L498,0)","v":0},0,{"$f":"N498-O498","v":0},0,0,0,98,998,489,0,0,489,98,998,489,0,0]
["00980999","0098","0999",490,98,"Florida                      ",999,"Total",1509634.1117098876,1,{"$f":"SUM(K495:K498)","v":1616104.4152370906},{"$f":"SUM(L495:L498)","v":1},{"$f":"VLOOKUP(E499,town351,24)","v":748953},{"$f":"SUM(N495:N498)","v":748953},714241,{"$f":"SUM(P495:P498)","v":34712},4.8599842350131119,91.000000002159993,89.999999998470003,98,999,490,89.999999998470003,1616104.4152370906,490,98,999,490,89.999999998470003,1616104.4152370906]
["00990099","0099","0099",491,99,"Foxborough                   ",99,"Foxborough",32116850.096899997,0.96115739027832658,{"$f":"X500","v":34005786.001159996},{"$f":"IF(K504>0, K500/K504, 0)","v":0.96657347939709748},null,{"$f":"ROUND(M504*L500,0)","v":27296530},25779824,{"$f":"N500-O500","v":1516706},5.8833062630683592,2543,2537,99,99,491,2537,34005786.001159996,491,99,99,491,2537,34005786.001159996]
["00990872","0099","0872",492,99,"Foxborough                   ",872,"Southeastern",1035610.0198400001,3.0992585543486332E-2,917684.66151187732,{"$f":"IF(K504>0, K501/K504, 0)","v":2.608408040433547E-2},null,{"$f":"ROUND(M504*L501,0)","v":736628},831272,{"$f":"N501-O501","v":-94644},-11.385443031883668,52.192,43.184662579699996,99,872,492,43.184662579699996,917684.66151187732,492,99,872,492,43.184662579699996,917684.66151187732]
["00990915","0099","0915",493,99,"Foxborough                   ",915,"Norfolk County",262306.72763684345,7.8500241781871184E-3,258320.19545428283,{"$f":"IF(K504>0, K502/K504, 0)","v":7.3424401985670096E-3},null,{"$f":"ROUND(M504*L502,0)","v":207354},210551,{"$f":"N502-O502","v":-3197},-1.5183969679555072,12.999999998780002,12.00000000012,99,915,493,12.00000000012,258320.19545428283,493,99,915,493,12.00000000012,258320.19545428283]
["00990998","0099","0998",494,99,"",998,"",0,0,0,{"$f":"IF(K504>0, K503/K504, 0)","v":0},null,{"$f":"ROUND(M504*L503,0)","v":0},0,{"$f":"N503-O503","v":0},0,0,0,99,998,494,0,0,494,99,998,494,0,0]
["00990999","0099","0999",495,99,"Foxborough                   ",999,"Total",33414766.84437684,1,{"$f":"SUM(K500:K503)","v":35181790.858126156},{"$f":"SUM(L500:L503)","v":1},{"$f":"VLOOKUP(E504,town351,24)","v":28240512},{"$f":"SUM(N500:N503)","v":28240512},26821647,{"$f":"SUM(P500:P503)","v":1418865},5.2899995291116912,2608.1919999987799,2592.1846625798203,99,999,495,2592.1846625798203,35181790.858126156,495,99,999,495,2592.1846625798203,35181790.858126156]
["01000100","0100","0100",496,100,"Framingham                   ",100,"Framingham",139318256.59154996,0.90960368215265119,{"$f":"X505","v":159351946.7809},{"$f":"IF(K509>0, K505/K509, 0)","v":0.91595229430405023},null,{"$f":"ROUND(M509*L505,0)","v":74355413},70464780,{"$f":"N505-O505","v":3890633},5.5213867126243779,9344,9759,100,100,496,9759,159351946.7809,496,100,100,496,9759,159351946.7809]
["01000829","0100","0829",497,100,"Framingham                   ",829,"South Middlesex",13845433.623337861,9.0396317847348764E-2,14622121.270293891,{"$f":"IF(K509>0, K506/K509, 0)","v":8.4047705695949826E-2},null,{"$f":"ROUND(M509*L506,0)","v":6822846},7002782,{"$f":"N506-O506","v":-179936},-2.5694930957439488,645.52245862815994,640.28400954390997,100,829,497,640.28400954390997,14622121.270293891,497,100,829,497,640.28400954390997,14622121.270293891]
["01000998","0100","0998",498,100,"",998,"",0,0,0,{"$f":"IF(K509>0, K507/K509, 0)","v":0},null,{"$f":"ROUND(M509*L507,0)","v":0},0,{"$f":"N507-O507","v":0},0,0,0,100,998,498,0,0,498,100,998,498,0,0]
["01000998","0100","0998",499,100,"",998,"",0,0,0,{"$f":"IF(K509>0, K508/K509, 0)","v":0},null,{"$f":"ROUND(M509*L508,0)","v":0},0,{"$f":"N508-O508","v":0},0,0,0,100,998,499,0,0,499,100,998,499,0,0]
["01000999","0100","0999",500,100,"Framingham                   ",999,"Total",153163690.21488783,1,{"$f":"SUM(K505:K508)","v":173974068.05119389},{"$f":"SUM(L505:L508)","v":1},{"$f":"VLOOKUP(E509,town351,24)","v":81178259},{"$f":"SUM(N505:N508)","v":81178259},77467562,{"$f":"SUM(P505:P508)","v":3710697},4.7900010071312167,9989.5224586281602,10399.28400954391,100,999,500,10399.28400954391,173974068.05119389,500,100,999,500,10399.28400954391,173974068.05119389]
["01010101","0101","0101",501,101,"Franklin                     ",101,"Franklin",62458712.611599997,0.94889942532678662,{"$f":"X510","v":65275976.234380007},{"$f":"IF(K514>0, K510/K514, 0)","v":0.94625658674600399},null,{"$f":"ROUND(M514*L510,0)","v":47235495},44800360,{"$f":"N510-O510","v":2435135},5.4355255180985154,5180,5104,101,101,501,5104,65275976.234380007,501,101,101,501,5104,65275976.234380007]
["01010878","0101","0878",502,101,"Franklin                     ",878,"Tri County",3081071.570765113,4.6808954598060858E-2,3362975.2884270456,{"$f":"IF(K514>0, K511/K514, 0)","v":4.8750515906678872E-2},null,{"$f":"ROUND(M514*L511,0)","v":2433542},2209990,{"$f":"N511-O511","v":223552},10.115520884709886,157.35123042688002,164.00000000120002,101,878,502,164.00000000120002,3362975.2884270456,502,101,878,502,164.00000000120002,3362975.2884270456]
["01010915","0101","0915",503,101,"Franklin                     ",915,"Norfolk County",282484.16824555682,4.2916200751525156E-3,344426.92727237713,{"$f":"IF(K514>0, K512/K514, 0)","v":4.9928973473171573E-3},null,{"$f":"ROUND(M514*L512,0)","v":249237},202620,{"$f":"N512-O512","v":46617},23.007106899615042,13.99999999974,16.00000000016,101,915,503,16.00000000016,344426.92727237713,503,101,915,503,16.00000000016,344426.92727237713]
["01010998","0101","0998",504,101,"",998,"",0,0,0,{"$f":"IF(K514>0, K513/K514, 0)","v":0},null,{"$f":"ROUND(M514*L513,0)","v":0},0,{"$f":"N513-O513","v":0},0,0,0,101,998,504,0,0,504,101,998,504,0,0]
["01010999","0101","0999",505,101,"Franklin                     ",999,"Total",65822268.350610666,1,{"$f":"SUM(K510:K513)","v":68983378.450079426},{"$f":"SUM(L510:L513)","v":1},{"$f":"VLOOKUP(E514,town351,24)","v":49918273},{"$f":"SUM(N510:N513)","v":49918274},47212970,{"$f":"SUM(P510:P513)","v":2705304},5.7300017346928183,5351.3512304266196,5284.0000000013597,101,999,505,5284.0000000013597,68983378.450079426,505,101,999,505,5284.0000000013597,68983378.450079426]
["01020102","0102","0102",506,102,"Freetown                     ",102,"Freetown",1030120.6499999999,6.4797366449180327E-2,{"$f":"X515","v":966323.64},{"$f":"IF(K519>0, K515/K519, 0)","v":5.8024526046887966E-2},null,{"$f":"ROUND(M519*L515,0)","v":674176},716199,{"$f":"N515-O515","v":-42023},-5.8675033056454984,60,53,102,102,506,53,966323.64,506,102,102,506,53,966323.64]
["01020665","0102","0665",507,102,"Freetown                     ",665,"Freetown Lakeville",14562931.190375237,0.91604763861101335,15320862.996431844,{"$f":"IF(K519>0, K516/K519, 0)","v":0.91996695227000913},null,{"$f":"ROUND(M519*L516,0)","v":10688928},10124990,{"$f":"N516-O516","v":563938},5.5697635256923714,1212.2035112856001,1200.6825510483,102,665,507,1200.6825510483,15320862.996431844,507,102,665,507,1200.6825510483,15320862.996431844]
["01020910","0102","0910",508,102,"Freetown                     ",910,"Bristol County",304517.86730584805,1.9154994939806231E-2,366523.54155636317,{"$f":"IF(K519>0, K517/K519, 0)","v":2.2008521683102793E-2},null,{"$f":"ROUND(M519*L517,0)","v":255713},211718,{"$f":"N517-O517","v":43995},20.779999811069441,16.000000001299998,18.000000001809997,102,910,508,18.000000001809997,366523.54155636317,508,102,910,508,18.000000001809997,366523.54155636317]
["01020998","0102","0998",509,102,"",998,"",0,0,0,{"$f":"IF(K519>0, K518/K519, 0)","v":0},null,{"$f":"ROUND(M519*L518,0)","v":0},0,{"$f":"N518-O518","v":0},0,0,0,102,998,509,0,0,509,102,998,509,0,0]
["01020999","0102","0999",510,102,"Freetown                     ",999,"Total",15897569.707681086,0.99999999999999989,{"$f":"SUM(K515:K518)","v":16653710.177988209},{"$f":"SUM(L515:L518)","v":0.99999999999999989},{"$f":"VLOOKUP(E519,town351,24)","v":11618817},{"$f":"SUM(N515:N518)","v":11618817},11052907,{"$f":"SUM(P515:P518)","v":565910},5.1200105094524,1288.2035112869,1271.6825510501099,102,999,510,1271.6825510501099,16653710.177988209,510,102,999,510,1271.6825510501099,16653710.177988209]
["01030103","0103","0103",511,103,"Gardner                      ",103,"Gardner",34029130.219999999,0.90981987743290815,{"$f":"X520","v":38690363.829999998},{"$f":"IF(K524>0, K520/K524, 0)","v":0.91733125755112255},null,{"$f":"ROUND(M524*L520,0)","v":11262118},10721731,{"$f":"N520-O520","v":540387},5.0401096613970262,2284,2397,103,103,511,2397,38690363.829999998,511,103,103,511,2397,38690363.829999998]
["01030832","0103","0832",512,103,"Gardner                      ",832,"Montachusett",3372921.6191118257,9.0180122567091792E-2,3486727.0643913299,{"$f":"IF(K524>0, K521/K524, 0)","v":8.2668742448877425E-2},null,{"$f":"ROUND(M524*L521,0)","v":1014928},1062724,{"$f":"N521-O521","v":-47796},-4.4974988802360727,177.12073669950001,173.23650033920001,103,832,512,173.23650033920001,3486727.0643913299,512,103,832,512,173.23650033920001,3486727.0643913299]
[{"$f":"B522&C522","v":"01030998"},"0103","0998",513,103,"",998,"",0,0,0,{"$f":"IF(K524>0, K522/K524, 0)","v":0},null,{"$f":"ROUND(M524*L522,0)","v":0},0,{"$f":"N522-O522","v":0},0,0,0,{"$f":"VLOOKUP($D522, foundoptions, VLOOKUP($T$6, foundoptcell, 2, FALSE), FALSE)","v":103},{"$f":"VLOOKUP($D522, foundoptions, VLOOKUP($T$6, foundoptcell, 2, FALSE)+1, FALSE)","v":998},{"$f":"VLOOKUP($D522, foundoptions, VLOOKUP($T$6, foundoptcell, 2, FALSE)+2, FALSE)","v":513},{"$f":"VLOOKUP($D522, foundoptions, VLOOKUP($T$6, foundoptcell, 2, FALSE)+3, FALSE)","v":0},{"$f":"VLOOKUP($D522, foundoptions, VLOOKUP($T$6, foundoptcell, 2, FALSE)+4, FALSE)","v":0},513,103,998,513,0,0]
["01030998","0103","0998",514,103,"",998,"",0,0,0,{"$f":"IF(K524>0, K523/K524, 0)","v":0},null,{"$f":"ROUND(M524*L523,0)","v":0},0,{"$f":"N523-O523","v":0},0,0,{"$f":"W523","v":0},103,998,514,0,0,{"$f":"D523","v":514},103,998,514,0,0]
["01030999","0103","0999",515,103,"Gardner                      ",999,"Total",37402051.839111827,1,{"$f":"SUM(K520:K523)","v":42177090.894391328},{"$f":"SUM(L520:L523)","v":1},{"$f":"VLOOKUP(E524,town351,24)","v":12277046},{"$f":"SUM(N520:N523)","v":12277046},11784455,{"$f":"SUM(P520:P523)","v":492591},4.1800066273747918,2461.1207366995,2570.2365003392001,103,999,515,2570.2365003392001,42177090.894391328,515,103,999,515,2570.2365003392001,42177090.894391328]
["01040104","0104","0104",516,104,"Aquinnah",104,"Aquinnah",0,0,{"$f":"X525","v":0},{"$f":"IF(K529>0, K525/K529, 0)","v":0},null,{"$f":"ROUND(M529*L525,0)","v":0},0,{"$f":"N525-O525","v":0},0,0,0,104,104,516,0,0,516,104,104,516,0,0]
["01040700","0104","0700",517,104,"Aquinnah",700,"Marthas Vineyard",279101.86423388933,0.35437802858285505,287003.95983068057,{"$f":"IF(K529>0, K526/K529, 0)","v":0.32424222413576298},null,{"$f":"ROUND(M529*L526,0)","v":236778},230259,{"$f":"N526-O526","v":6519},2.831159694083619,17.999999998,16.0000000016,104,700,517,16.0000000016,287003.95983068057,517,104,700,517,16.0000000016,287003.95983068057]
["01040774","0104","0774",518,104,"Aquinnah",774,"Upisland",508480.4397537692,0.64562197141714484,598148.98592048592,{"$f":"IF(K529>0, K527/K529, 0)","v":0.67575777586423702},null,{"$f":"ROUND(M529*L527,0)","v":493473},419496,{"$f":"N527-O527","v":73977},17.63473310830139,40.697044333009998,44.56730769104,104,774,518,44.56730769104,598148.98592048592,518,104,774,518,44.56730769104,598148.98592048592]
["01040998","0104","0998",519,104,"",998,"",0,0,0,{"$f":"IF(K529>0, K528/K529, 0)","v":0},null,{"$f":"ROUND(M529*L528,0)","v":0},0,{"$f":"N528-O528","v":0},{"$f":"IF(O528>0,P528*100/O528,IF(P528>0,100,0))","v":0},0,0,104,998,519,0,0,519,104,998,519,0,0]
["01040999","0104","0999",520,104,"Aquinnah",999,"Total",787582.30398765858,0.99999999999999989,{"$f":"SUM(K525:K528)","v":885152.94575116644},{"$f":"SUM(L525:L528)","v":1},{"$f":"VLOOKUP(E529,town351,24)","v":730251},{"$f":"SUM(N525:N528)","v":730251},649755,{"$f":"SUM(P525:P528)","v":80496},{"$f":"IF(O529>0,P529*100/O529,IF(P529>0,100,0))","v":12.388669575455364},58.697044331009998,60.56730769264,104,999,520,60.56730769264,885152.94575116644,520,104,999,520,60.56730769264,885152.94575116644]
["01050105","0105","0105",521,105,"Georgetown                   ",105,"Georgetown",14264533.799999997,0.94312834919613608,{"$f":"X530","v":15011687.49},{"$f":"IF(K534>0, K530/K534, 0)","v":0.92919051549336495},null,{"$f":"ROUND(M534*L530,0)","v":11377637},11007817,{"$f":"N530-O530","v":369820},3.3596125371633629,1247,1229,105,105,521,1229,15011687.49,521,105,105,521,1229,15011687.49]
["01050885","0105","0885",522,105,"Georgetown                   ",885,"Whittier",860166.68446555524,5.6871650803863846E-2,1143974.0666930992,{"$f":"IF(K534>0, K531/K534, 0)","v":7.0809484506635031E-2},null,{"$f":"ROUND(M534*L531,0)","v":867039},663783,{"$f":"N531-O531","v":203256},30.620850488789259,43.99999999912,54.999999997499998,105,885,522,54.999999997499998,1143974.0666930992,522,105,885,522,54.999999997499998,1143974.0666930992]
["01050998","0105","0998",523,105,"",998,null,0,0,0,{"$f":"IF(K534>0, K532/K534, 0)","v":0},null,{"$f":"ROUND(M534*L532,0)","v":0},0,{"$f":"N532-O532","v":0},0,0,0,105,998,523,0,0,523,105,998,523,0,0]
["01050998","0105","0998",524,105,"",998,"",0,0,0,{"$f":"IF(K534>0, K533/K534, 0)","v":0},null,{"$f":"ROUND(M534*L533,0)","v":0},0,{"$f":"N533-O533","v":0},0,0,0,105,998,524,0,0,524,105,998,524,0,0]
["01050999","0105","0999",525,105,"Georgetown                   ",999,"Total",15124700.484465552,0.99999999999999989,{"$f":"SUM(K530:K533)","v":16155661.556693099},{"$f":"SUM(L530:L533)","v":1},{"$f":"VLOOKUP(E534,town351,24)","v":12244676},{"$f":"SUM(N530:N533)","v":12244676},11671600,{"$f":"SUM(P530:P533)","v":573076},4.9100037698344696,1290.9999999991201,1283.9999999975,105,999,525,1283.9999999975,16155661.556693099,525,105,999,525,1283.9999999975,16155661.556693099]
["01060106","0106","0106",526,106,"Gill                         ",106,"Gill",0,0,{"$f":"X535","v":0},{"$f":"IF(K539>0, K535/K539, 0)","v":0},null,{"$f":"ROUND(M539*L535,0)","v":0},0,{"$f":"N535-O535","v":0},0,0,0,106,106,526,0,0,526,106,106,526,0,0]
["01060674","0106","0674",527,106,"Gill                         ",674,"Gill Montague",1705814.2686294685,0.83336068262090435,1608964.2348228607,{"$f":"IF(K539>0, K536/K539, 0)","v":0.83394359954837272},null,{"$f":"ROUND(M539*L536,0)","v":1013921},979422,{"$f":"N536-O536","v":34499},3.5223836099250376,121.96721311260001,104.89544513585,106,674,527,104.89544513585,1608964.2348228607,527,106,674,527,104.89544513585,1608964.2348228607]
["01060818","0106","0818",528,106,"Gill                         ",818,"Franklin County",341095.67589144805,0.16663931737909563,320379.95067626081,{"$f":"IF(K539>0, K537/K539, 0)","v":0.16605640045162728},null,{"$f":"ROUND(M539*L537,0)","v":201894},195846,{"$f":"N537-O537","v":6048},3.0881406819644006,17.00000000244,15.000000002399998,106,818,528,15.000000002399998,320379.95067626081,528,106,818,528,15.000000002399998,320379.95067626081]
["01060998","0106","0998",529,106,"",998,"",0,0,0,{"$f":"IF(K539>0, K538/K539, 0)","v":0},null,{"$f":"ROUND(M539*L538,0)","v":0},0,{"$f":"N538-O538","v":0},0,0,0,106,998,529,0,0,529,106,998,529,0,0]
["01060999","0106","0999",530,106,"Gill                         ",999,"Total",2046909.9445209166,1,{"$f":"SUM(K535:K538)","v":1929344.1854991214},{"$f":"SUM(L535:L538)","v":1},{"$f":"VLOOKUP(E539,town351,24)","v":1215815},{"$f":"SUM(N535:N538)","v":1215815},1175268,{"$f":"SUM(P535:P538)","v":40547},3.4500216120918803,138.96721311504001,119.89544513825,106,999,530,119.89544513825,1929344.1854991214,530,106,999,530,119.89544513825,1929344.1854991214]
["01070107","0107","0107",531,107,"Gloucester                   ",107,"Gloucester",43648880.139679991,0.95950318060050788,{"$f":"X540","v":47045109.888499998},{"$f":"IF(K544>0, K540/K544, 0)","v":0.95707428790130167},null,{"$f":"ROUND(M544*L540,0)","v":35714197},33989778,{"$f":"N540-O540","v":1724419},5.0733458747509328,3051,3035,107,107,531,3035,47045109.888499998,531,107,107,531,3035,47045109.888499998]
["01070817","0107","0817",532,107,"Gloucester                   ",817,"Essex North Shore",1842245.9161630068,4.0496819399492179E-2,2110018.9068433391,{"$f":"IF(K544>0, K541/K544, 0)","v":4.2925712098698228E-2},null,{"$f":"ROUND(M544*L541,0)","v":1601816},1434574,{"$f":"N541-O541","v":167242},11.657955602150883,98.999999996500009,107.00000000636999,107,817,532,107.00000000636999,2110018.9068433391,532,107,817,532,107.00000000636999,2110018.9068433391]
["01070998","0107","0998",533,107,"",998,null,0,0,0,{"$f":"IF(K544>0, K542/K544, 0)","v":0},null,{"$f":"ROUND(M544*L542,0)","v":0},0,{"$f":"N542-O542","v":0},0,0,0,107,998,533,0,0,533,107,998,533,0,0]
["01070998","0107","0998",534,107,"",998,"",0,0,0,{"$f":"IF(K544>0, K543/K544, 0)","v":0},null,{"$f":"ROUND(M544*L543,0)","v":0},0,{"$f":"N543-O543","v":0},0,0,0,107,998,534,0,0,534,107,998,534,0,0]
["01070999","0107","0999",535,107,"Gloucester                   ",999,"Total",45491126.055842996,1,{"$f":"SUM(K540:K543)","v":49155128.795343339},{"$f":"SUM(L540:L543)","v":0.99999999999999989},{"$f":"VLOOKUP(E544,town351,24)","v":37316013},{"$f":"SUM(N540:N543)","v":37316013},35424352,{"$f":"SUM(P540:P543)","v":1891661},5.3400017027834412,3149.9999999964998,3142.0000000063701,107,999,535,3142.0000000063701,49155128.795343339,535,107,999,535,3142.0000000063701,49155128.795343339]
["01080108","0108","0108",536,108,"Goshen                       ",108,"Goshen",125581.68000000001,8.7617652158637552E-2,{"$f":"X545","v":148416.84},{"$f":"IF(K549>0, K545/K549, 0)","v":0.10469069557541419},null,{"$f":"ROUND(M549*L545,0)","v":89000},71786,{"$f":"N545-O545","v":17214},23.979606051319198,8,9,108,108,536,9,148416.84,536,108,108,536,9,148416.84]
["01080632","0108","0632",537,108,"Goshen                       ",632,"Chesterfield Goshen",792673.48605827475,0.55304396132324829,805040.52604679752,{"$f":"IF(K549>0, K546/K549, 0)","v":0.56786179141286519},null,{"$f":"ROUND(M549*L546,0)","v":482750},453116,{"$f":"N546-O546","v":29634},6.5400471402466476,62.848484848300004,58.991596638390007,108,632,537,58.991596638390007,805040.52604679752,537,108,632,537,58.991596638390007,805040.52604679752]
["01080683","0108","0683",538,108,"Goshen                       ",683,"Hampshire",515036.83510863705,0.35933838651811412,464212.45823178499,{"$f":"IF(K549>0, K547/K549, 0)","v":0.32744751301172076},null,{"$f":"ROUND(M549*L547,0)","v":278369},294411,{"$f":"N547-O547","v":-16042},-5.4488453216761599,41.067656767759999,35.060449052199999,108,683,538,35.060449052199999,464212.45823178499,538,108,683,538,35.060449052199999,464212.45823178499]
["01080998","0108","0998",539,108,"",998,"",0,0,0,{"$f":"IF(K549>0, K548/K549, 0)","v":0},null,{"$f":"ROUND(M549*L548,0)","v":0},0,{"$f":"N548-O548","v":0},0,0,0,108,998,539,0,0,539,108,998,539,0,0]
["01080999","0108","0999",540,108,"Goshen                       ",999,"Total",1433292.0011669118,1,{"$f":"SUM(K545:K548)","v":1417669.8242785824},{"$f":"SUM(L545:L548)","v":1.0000000000000002},{"$f":"VLOOKUP(E549,town351,24)","v":850119},{"$f":"SUM(N545:N548)","v":850119},819313,{"$f":"SUM(P545:P548)","v":30806},3.759979397373165,111.91614161606,103.05204569059001,108,999,540,103.05204569059001,1417669.8242785824,540,108,999,540,103.05204569059001,1417669.8242785824]
["01090109","0109","0109",541,109,"Gosnold                      ",109,"Gosnold",8618.84,1,{"$f":"X550","v":0},{"$f":"IF(K554>0, K550/K554, 0)","v":0},null,{"$f":"ROUND(M554*L550,0)","v":0},7111,{"$f":"N550-O550","v":-7111},-100,1,0,109,109,541,0,0,541,109,109,541,0,0]
["01090998","0109","0998",542,109,"",998,"",0,0,0,{"$f":"IF(K554>0, K551/K554, 0)","v":0},null,{"$f":"ROUND(M554*L551,0)","v":0},0,{"$f":"N551-O551","v":0},0,0,0,109,998,542,0,0,542,109,998,542,0,0]
["01090998","0109","0998",543,109,"",998,"",0,0,0,{"$f":"IF(K554>0, K552/K554, 0)","v":0},null,{"$f":"ROUND(M554*L552,0)","v":0},0,{"$f":"N552-O552","v":0},0,0,0,109,998,543,0,0,543,109,998,543,0,0]
["01090998","0109","0998",544,109,"",998,"",0,0,0,{"$f":"IF(K554>0, K553/K554, 0)","v":0},null,{"$f":"ROUND(M554*L553,0)","v":0},0,{"$f":"N553-O553","v":0},0,0,0,109,998,544,0,0,544,109,998,544,0,0]
["01090999","0109","0999",545,109,"Gosnold                      ",999,"Total",8618.84,1,{"$f":"SUM(K550:K553)","v":0},{"$f":"SUM(L550:L553)","v":0},{"$f":"VLOOKUP(E554,town351,24)","v":0},{"$f":"SUM(N550:N553)","v":0},7111,{"$f":"SUM(P550:P553)","v":-7111},-100,1,0,109,999,545,0,0,545,109,999,545,0,0]
["01100110","0110","0110",546,110,"Grafton                      ",110,"Grafton",36001737.560000002,0.95821459816887389,{"$f":"X555","v":36858149.159999996},{"$f":"IF(K559>0, K555/K559, 0)","v":0.95265943561363176},null,{"$f":"ROUND(M559*L555,0)","v":24436656},23384218,{"$f":"N555-O555","v":1052438},4.5006337180058793,3053,2950,110,110,546,2950,36858149.159999996,546,110,110,546,2950,36858149.159999996]
["01100805","0110","0805",547,110,"Grafton                      ",805,"Blackstone Valley",1569947.9776640001,4.1785401831126119E-2,1831594.290930857,{"$f":"IF(K559>0, K556/K559, 0)","v":4.7340564386368134E-2},null,{"$f":"ROUND(M559*L556,0)","v":1214332},1019729,{"$f":"N556-O556","v":194603},19.083795792803773,88,97.000000003319997,110,805,547,97.000000003319997,1831594.290930857,547,110,805,547,97.000000003319997,1831594.290930857]
["01100998","0110","0998",548,110,"",998,"",0,0,0,{"$f":"IF(K559>0, K557/K559, 0)","v":0},null,{"$f":"ROUND(M559*L557,0)","v":0},0,{"$f":"N557-O557","v":0},0,0,0,110,998,548,0,0,548,110,998,548,0,0]
["01100998","0110","0998",549,110,"",998,"",0,0,0,{"$f":"IF(K559>0, K558/K559, 0)","v":0},null,{"$f":"ROUND(M559*L558,0)","v":0},0,{"$f":"N558-O558","v":0},0,0,0,110,998,549,0,0,549,110,998,549,0,0]
["01100999","0110","0999",550,110,"Grafton                      ",999,"Total",37571685.537664004,1,{"$f":"SUM(K555:K558)","v":38689743.450930856},{"$f":"SUM(L555:L558)","v":0.99999999999999989},{"$f":"VLOOKUP(E559,town351,24)","v":25650988},{"$f":"SUM(N555:N558)","v":25650988},24403947,{"$f":"SUM(P555:P558)","v":1247041},5.1099971656224294,3141,3047.0000000033201,110,999,550,3047.0000000033201,38689743.450930856,550,110,999,550,3047.0000000033201,38689743.450930856]
["01110111","0111","0111",551,111,"Granby                       ",111,"Granby",8631463.3900000025,0.9667411206080011,{"$f":"X560","v":9588488.8899999987},{"$f":"IF(K564>0, K560/K564, 0)","v":0.96369495817839523},null,{"$f":"ROUND(M564*L560,0)","v":5667319},5431578,{"$f":"N560-O560","v":235741},4.3401935864678736,663,672,111,111,551,672,9588488.8899999987,551,111,111,551,672,9588488.8899999987]
["01110860","0111","0860",552,111,"Granby                       ",860,"Pathfinder",296948.99052594212,3.325887939199889E-2,361224.77055960952,{"$f":"IF(K564>0, K561/K564, 0)","v":3.6305041821604836E-2},null,{"$f":"ROUND(M564*L561,0)","v":213503},186863,{"$f":"N561-O561","v":26640},14.25643385796011,14.999999999029999,17.00000000132,111,860,552,17.00000000132,361224.77055960952,552,111,860,552,17.00000000132,361224.77055960952]
["01110998","0111","0998",553,111,"",998,"",0,0,0,{"$f":"IF(K564>0, K562/K564, 0)","v":0},null,{"$f":"ROUND(M564*L562,0)","v":0},0,{"$f":"N562-O562","v":0},0,0,0,111,998,553,0,0,553,111,998,553,0,0]
["01110998","0111","0998",554,111,"",998,"",0,0,0,{"$f":"IF(K564>0, K563/K564, 0)","v":0},null,{"$f":"ROUND(M564*L563,0)","v":0},0,{"$f":"N563-O563","v":0},0,0,0,111,998,554,0,0,554,111,998,554,0,0]
["01110999","0111","0999",555,111,"Granby                       ",999,"Total",8928412.3805259448,1,{"$f":"SUM(K560:K563)","v":9949713.6605596077},{"$f":"SUM(L560:L563)","v":1},{"$f":"VLOOKUP(E564,town351,24)","v":5880822},{"$f":"SUM(N560:N563)","v":5880822},5618441,{"$f":"SUM(P560:P563)","v":262381},4.669996534625886,677.99999999903002,689.00000000132002,111,999,555,689.00000000132002,9949713.6605596077,555,111,999,555,689.00000000132002,9949713.6605596077]
["01120112","0112","0112",556,112,"Granville                    ",112,"Granville",0,0,{"$f":"X565","v":0},{"$f":"IF(K569>0, K565/K569, 0)","v":0},null,{"$f":"ROUND(M569*L565,0)","v":0},0,{"$f":"N565-O565","v":0},0,0,0,112,112,556,0,0,556,112,112,556,0,0]
["01120766","0112","0766",557,112,"Granville                    ",766,"Southwick Tolland Granville",2134237.7065372965,1,2332677.3568332344,{"$f":"IF(K569>0, K566/K569, 0)","v":1},null,{"$f":"ROUND(M569*L566,0)","v":1631275},1556263,{"$f":"N566-O566","v":75012},4.8200079292510329,161.11455108628999,165.03063629493002,112,766,557,165.03063629493002,2332677.3568332344,557,112,766,557,165.03063629493002,2332677.3568332344]
["01120998","0112","0998",558,112,"",998,"",0,0,0,{"$f":"IF(K569>0, K567/K569, 0)","v":0},null,{"$f":"ROUND(M569*L567,0)","v":0},0,{"$f":"N567-O567","v":0},0,0,0,112,998,558,0,0,558,112,998,558,0,0]
["01120998","0112","0998",559,112,"",998,"",0,0,0,{"$f":"IF(K569>0, K568/K569, 0)","v":0},null,{"$f":"ROUND(M569*L568,0)","v":0},0,{"$f":"N568-O568","v":0},0,0,0,112,998,559,0,0,559,112,998,559,0,0]
["01120999","0112","0999",560,112,"Granville                    ",999,"Total",2134237.7065372965,1,{"$f":"SUM(K565:K568)","v":2332677.3568332344},{"$f":"SUM(L565:L568)","v":1},{"$f":"VLOOKUP(E569,town351,24)","v":1631275},{"$f":"SUM(N565:N568)","v":1631275},1556263,{"$f":"SUM(P565:P568)","v":75012},4.8200079292510329,161.11455108628999,165.03063629493002,112,999,560,165.03063629493002,2332677.3568332344,560,112,999,560,165.03063629493002,2332677.3568332344]
["01130113","0113","0113",561,113,"Great Barrington             ",113,"Great Barrington",0,0,{"$f":"X570","v":0},{"$f":"IF(K574>0, K570/K574, 0)","v":0},null,{"$f":"ROUND(M574*L570,0)","v":0},0,{"$f":"N570-O570","v":0},0,0,0,113,113,561,0,0,561,113,113,561,0,0]
["01130618","0113","0618",562,113,"Great Barrington             ",618,"Berkshire Hills",9869535.0883891936,1,10476266.953148777,{"$f":"IF(K574>0, K571/K574, 0)","v":1},null,{"$f":"ROUND(M574*L571,0)","v":8090456},7696400,{"$f":"N571-O571","v":394056},5.1200041577880571,692.32873807303997,685.58262712019996,113,618,562,685.58262712019996,10476266.953148777,562,113,618,562,685.58262712019996,10476266.953148777]
["01130998","0113","0998",563,113,"",998,"",0,0,0,{"$f":"IF(K574>0, K572/K574, 0)","v":0},null,{"$f":"ROUND(M574*L572,0)","v":0},0,{"$f":"N572-O572","v":0},0,0,0,113,998,563,0,0,563,113,998,563,0,0]
["01130998","0113","0998",564,113,"",998,"",0,0,0,{"$f":"IF(K574>0, K573/K574, 0)","v":0},null,{"$f":"ROUND(M574*L573,0)","v":0},0,{"$f":"N573-O573","v":0},0,0,0,113,998,564,0,0,564,113,998,564,0,0]
["01130999","0113","0999",565,113,"Great Barrington             ",999,"Total",9869535.0883891936,1,{"$f":"SUM(K570:K573)","v":10476266.953148777},{"$f":"SUM(L570:L573)","v":1},{"$f":"VLOOKUP(E574,town351,24)","v":8090456},{"$f":"SUM(N570:N573)","v":8090456},7696400,{"$f":"SUM(P570:P573)","v":394056},5.1200041577880571,692.32873807303997,685.58262712019996,113,999,565,685.58262712019996,10476266.953148777,565,113,999,565,685.58262712019996,10476266.953148777]
["01140114","0114","0114",566,114,"Greenfield                   ",114,"Greenfield",26326536.470000003,0.91492913411771759,{"$f":"X575","v":27294290.690000001},{"$f":"IF(K579>0, K575/K579, 0)","v":0.91612317374534824},null,{"$f":"ROUND(M579*L575,0)","v":11091044},10621969,{"$f":"N575-O575","v":469075},4.4160833080947608,1848,1791,114,114,566,1791,27294290.690000001,566,114,114,566,1791,27294290.690000001]
["01140818","0114","0818",567,114,"Greenfield                   ",818,"Franklin County",2447863.085422562,8.5070865882282493E-2,2498963.6148920874,{"$f":"IF(K579>0, K576/K579, 0)","v":8.387682625465169E-2},null,{"$f":"ROUND(M579*L576,0)","v":1015455},987639,{"$f":"N576-O576","v":27816},2.8164136896173604,121.99999999824,117.00000000079999,114,818,567,117.00000000079999,2498963.6148920874,567,114,818,567,117.00000000079999,2498963.6148920874]
["01140998","0114","0998",568,114,"",998,"",0,0,0,{"$f":"IF(K579>0, K577/K579, 0)","v":0},null,{"$f":"ROUND(M579*L577,0)","v":0},0,{"$f":"N577-O577","v":0},0,0,0,114,998,568,0,0,568,114,998,568,0,0]
["01140998","0114","0998",569,114,"",998,"",0,0,0,{"$f":"IF(K579>0, K578/K579, 0)","v":0},null,{"$f":"ROUND(M579*L578,0)","v":0},0,{"$f":"N578-O578","v":0},0,0,0,114,998,569,0,0,569,114,998,569,0,0]
["01140999","0114","0999",570,114,"Greenfield                   ",999,"Total",28774399.555422563,1,{"$f":"SUM(K575:K578)","v":29793254.304892089},{"$f":"SUM(L575:L578)","v":0.99999999999999989},{"$f":"VLOOKUP(E579,town351,24)","v":12106499},{"$f":"SUM(N575:N578)","v":12106499},11609608,{"$f":"SUM(P575:P578)","v":496891},4.2799980843453111,1969.9999999982399,1908.0000000007999,114,999,570,1908.0000000007999,29793254.304892089,570,114,999,570,1908.0000000007999,29793254.304892089]
["01150115","0115","0115",571,115,"Groton                       ",115,"Groton",0,0,{"$f":"X580","v":0},{"$f":"IF(K584>0, K580/K584, 0)","v":0},null,{"$f":"ROUND(M584*L580,0)","v":0},0,{"$f":"N580-O580","v":0},0,0,0,115,115,571,0,0,571,115,115,571,0,0]
["01150673","0115","0673",572,115,"Groton                       ",673,"Groton Dunstable",20138133.011372399,0.95936934710791644,21132073.817740038,{"$f":"IF(K584>0, K581/K584, 0)","v":0.96202242951961148},null,{"$f":"ROUND(M584*L581,0)","v":16859341},16061183,{"$f":"N581-O581","v":798158},4.9694845018576776,1771.69410781792,1758.8270613063901,115,673,572,1758.8270613063901,21132073.817740038,572,115,673,572,1758.8270613063901,21132073.817740038]
["01150852","0115","0852",573,115,"Groton                       ",852,"Nashoba Valley",852878.50268124416,4.0630652892083619E-2,834226.72713644546,{"$f":"IF(K584>0, K582/K584, 0)","v":3.7977570480388613E-2},null,{"$f":"ROUND(M584*L582,0)","v":665553},680214,{"$f":"N582-O582","v":-14661},-2.1553511100918241,44.99999999712,40.999999998100002,115,852,573,40.999999998100002,834226.72713644546,573,115,852,573,40.999999998100002,834226.72713644546]
["01150998","0115","0998",574,115,"",998,"",0,0,0,{"$f":"IF(K584>0, K583/K584, 0)","v":0},null,{"$f":"ROUND(M584*L583,0)","v":0},0,{"$f":"N583-O583","v":0},0,0,0,115,998,574,0,0,574,115,998,574,0,0]
["01150999","0115","0999",575,115,"Groton                       ",999,"Total",20991011.514053643,1,{"$f":"SUM(K580:K583)","v":21966300.544876482},{"$f":"SUM(L580:L583)","v":1},{"$f":"VLOOKUP(E584,town351,24)","v":17524894},{"$f":"SUM(N580:N583)","v":17524894},16741397,{"$f":"SUM(P580:P583)","v":783497},4.6799977325667621,1816.6941078150401,1799.8270613044901,115,999,575,1799.8270613044901,21966300.544876482,575,115,999,575,1799.8270613044901,21966300.544876482]
["01160116","0116","0116",576,116,"Groveland                    ",116,"Groveland",125581.68000000001,1.1432609913350012E-2,{"$f":"X585","v":148416.84},{"$f":"IF(K589>0, K585/K589, 0)","v":1.25589689004184E-2},null,{"$f":"ROUND(M589*L585,0)","v":106462},92564,{"$f":"N585-O585","v":13898},15.014476470334039,8,9,116,116,576,9,148416.84,576,116,116,576,9,148416.84]
[{"$f":"B586&C586","v":"01160745"},"0116","0745",577,116,"Groveland                    ",745,"Pentucket",9959668.579997329,0.90670076830759139,10941197.204429345,{"$f":"IF(K589>0, K586/K589, 0)","v":0.92583938199851779},null,{"$f":"ROUND(M589*L586,0)","v":7848340},7341071,{"$f":"N586-O586","v":507269},6.9100135388964361,866.44134321750005,894.62269806623999,{"$f":"VLOOKUP($D586, foundoptions, VLOOKUP($T$6, foundoptcell, 2, FALSE), FALSE)","v":116},{"$f":"VLOOKUP($D586, foundoptions, VLOOKUP($T$6, foundoptcell, 2, FALSE)+1, FALSE)","v":745},{"$f":"VLOOKUP($D586, foundoptions, VLOOKUP($T$6, foundoptcell, 2, FALSE)+2, FALSE)","v":577},{"$f":"VLOOKUP($D586, foundoptions, VLOOKUP($T$6, foundoptcell, 2, FALSE)+3, FALSE)","v":894.62269806623999},{"$f":"VLOOKUP($D586, foundoptions, VLOOKUP($T$6, foundoptcell, 2, FALSE)+4, FALSE)","v":10941197.204429345},577,116,745,577,894.62269806623999,10941197.204429345]
["01160885","0116","0885",578,116,"Groveland                    ",885,"Whittier",899265.17014575761,8.1866621779058638E-2,727983.49696240912,{"$f":"IF(K589>0, K587/K589, 0)","v":6.1601649101063798E-2},null,{"$f":"ROUND(M589*L587,0)","v":522197},662830,{"$f":"N587-O587","v":-140633},-21.217054146613762,46.00000000024,{"$f":"W587","v":34.999999997250001},116,885,578,34.999999997250001,727983.49696240912,{"$f":"D587","v":578},116,885,578,34.999999997250001,727983.49696240912]
["01160998","0116","0998",579,116,"",998,null,0,0,0,{"$f":"IF(K589>0, K588/K589, 0)","v":0},null,{"$f":"ROUND(M589*L588,0)","v":0},0,{"$f":"N588-O588","v":0},0,0,0,116,998,579,0,0,579,116,998,579,0,0]
["01160999","0116","0999",580,116,"Groveland                    ",999,"Total",10984515.430143086,1,{"$f":"SUM(K585:K588)","v":11817597.541391755},{"$f":"SUM(L585:L588)","v":1},{"$f":"VLOOKUP(E589,town351,24)","v":8476999},{"$f":"SUM(N585:N588)","v":8476999},8096465,{"$f":"SUM(P585:P588)","v":380534},4.7000017909050431,920.44134321774004,938.62269806349002,116,999,580,938.62269806349002,11817597.541391755,580,116,999,580,938.62269806349002,11817597.541391755]
["01170117","0117","0117",581,117,"Hadley                       ",117,"Hadley",6025430.8700000001,1,{"$f":"X590","v":6277106.5899999999},{"$f":"IF(K594>0, K590/K594, 0)","v":1},null,{"$f":"ROUND(M594*L590,0)","v":5178613},4970980,{"$f":"N590-O590","v":207633},4.1769027435234101,473,456,117,117,581,456,6277106.5899999999,581,117,117,581,456,6277106.5899999999]
["01170998","0117","0998",582,117,"",998,"",0,0,0,{"$f":"IF(K594>0, K591/K594, 0)","v":0},null,{"$f":"ROUND(M594*L591,0)","v":0},0,{"$f":"N591-O591","v":0},0,0,0,117,998,582,0,0,582,117,998,582,0,0]
["01170998","0117","0998",583,117,"",998,"",0,0,0,{"$f":"IF(K594>0, K592/K594, 0)","v":0},null,{"$f":"ROUND(M594*L592,0)","v":0},0,{"$f":"N592-O592","v":0},{"$f":"IF(O592>0,P592*100/O592,IF(P592>0,100,0))","v":0},0,0,117,998,583,0,0,583,117,998,583,0,0]
["01170998","0117","0998",584,117,"",998,"",0,0,0,{"$f":"IF(K594>0, K593/K594, 0)","v":0},null,{"$f":"ROUND(M594*L593,0)","v":0},0,{"$f":"N593-O593","v":0},{"$f":"IF(O593>0,P593*100/O593,IF(P593>0,100,0))","v":0},0,0,117,998,584,0,0,584,117,998,584,0,0]
["01170999","0117","0999",585,117,"Hadley                       ",999,"Total",6025430.8700000001,1,{"$f":"SUM(K590:K593)","v":6277106.5899999999},{"$f":"SUM(L590:L593)","v":1},{"$f":"VLOOKUP(E594,town351,24)","v":5178613},{"$f":"SUM(N590:N593)","v":5178613},4970980,{"$f":"SUM(P590:P593)","v":207633},{"$f":"IF(O594>0,P594*100/O594,IF(P594>0,100,0))","v":4.1769027435234101},473,456,117,999,585,456,6277106.5899999999,585,117,999,585,456,6277106.5899999999]
["01180118","0118","0118",586,118,"Halifax                      ",118,"Halifax",7179616.2489300007,0.50719787905233515,{"$f":"X595","v":7849455.0234599989},{"$f":"IF(K599>0, K595/K599, 0)","v":0.51963717642375629},null,{"$f":"ROUND(M599*L595,0)","v":4340378},4006503,{"$f":"N595-O595","v":333875},8.333327093477779,604,613,118,118,586,613,7849455.0234599989,586,118,118,586,613,7849455.0234599989]
["01180760","0118","0760",587,118,"Halifax                      ",760,"Silver Lake",6975837.757196025,0.4928021209476649,7256190.5684921956,{"$f":"IF(K599>0, K596/K599, 0)","v":0.48036282357624377},null,{"$f":"ROUND(M599*L596,0)","v":4012330},3892786,{"$f":"N596-O596","v":119544},3.0709111674774827,508.71197224629998,485.94427619958003,118,760,587,485.94427619958003,7256190.5684921956,587,118,760,587,485.94427619958003,7256190.5684921956]
["01180998","0118","0998",588,118,"",998,"",0,0,0,{"$f":"IF(K599>0, K597/K599, 0)","v":0},null,{"$f":"ROUND(M599*L597,0)","v":0},0,{"$f":"N597-O597","v":0},0,0,0,118,998,588,0,0,588,118,998,588,0,0]
["01180998","0118","0998",589,118,"",998,"",0,0,0,{"$f":"IF(K599>0, K598/K599, 0)","v":0},null,{"$f":"ROUND(M599*L598,0)","v":0},0,{"$f":"N598-O598","v":0},0,0,0,118,998,589,0,0,589,118,998,589,0,0]
["01180999","0118","0999",590,118,"Halifax                      ",999,"Total",14155454.006126026,1,{"$f":"SUM(K595:K598)","v":15105645.591952194},{"$f":"SUM(L595:L598)","v":1},{"$f":"VLOOKUP(E599,town351,24)","v":8352708},{"$f":"SUM(N595:N598)","v":8352708},7899289,{"$f":"SUM(P595:P598)","v":453419},5.7399976124433474,1112.7119722462999,1098.9442761995801,118,999,590,1098.9442761995801,15105645.591952194,590,118,999,590,1098.9442761995801,15105645.591952194]
["01190119","0119","0119",591,119,"Hamilton                     ",119,"Hamilton",0,0,{"$f":"X600","v":0},{"$f":"IF(K604>0, K600/K604, 0)","v":0},null,{"$f":"ROUND(M604*L600,0)","v":0},0,{"$f":"N600-O600","v":0},0,0,0,119,119,591,0,0,591,119,119,591,0,0]
["01190675","0119","0675",592,119,"Hamilton                     ",675,"Hamilton Wenham",12671456.83023609,0.97285513804651591,13208580.790168677,{"$f":"IF(K604>0, K601/K604, 0)","v":0.97383009718274482},null,{"$f":"ROUND(M604*L601,0)","v":10584038},10099763,{"$f":"N601-O601","v":484275},4.7949144945282383,1088.0073126087,1073.349753687,119,675,592,1073.349753687,13208580.790168677,592,119,675,592,1073.349753687,13208580.790168677]
["01190817","0119","0817",593,119,"Hamilton                     ",817,"Essex North Shore",353562.34752171824,2.7144861953484065E-2,354956.45147195621,{"$f":"IF(K604>0, K602/K604, 0)","v":2.616990281725514E-2},null,{"$f":"ROUND(M604*L602,0)","v":284427},281806,{"$f":"N602-O602","v":2621},0.93007246119670983,18.999999998,17.999999993639999,119,817,593,17.999999993639999,354956.45147195621,593,119,817,593,17.999999993639999,354956.45147195621]
["01190998","0119","0998",594,119,"",998,null,0,0,0,{"$f":"IF(K604>0, K603/K604, 0)","v":0},null,{"$f":"ROUND(M604*L603,0)","v":0},0,{"$f":"N603-O603","v":0},0,0,0,119,998,594,0,0,594,119,998,594,0,0]
["01190999","0119","0999",595,119,"Hamilton                     ",999,"Total",13025019.177757809,1,{"$f":"SUM(K600:K603)","v":13563537.241640633},{"$f":"SUM(L600:L603)","v":1},{"$f":"VLOOKUP(E604,town351,24)","v":10868465},{"$f":"SUM(N600:N603)","v":10868465},10381569,{"$f":"SUM(P600:P603)","v":486896},4.6900039868732755,1107.0073126067,1091.3497536806399,119,999,595,1091.3497536806399,13563537.241640633,595,119,999,595,1091.3497536806399,13563537.241640633]
["01200120","0120","0120",596,120,"Hampden                      ",120,"Hampden",0,0,{"$f":"X605","v":0},{"$f":"IF(K609>0, K605/K609, 0)","v":0},null,{"$f":"ROUND(M609*L605,0)","v":0},0,{"$f":"N605-O605","v":0},0,0,0,120,120,596,0,0,596,120,120,596,0,0]
["01200680","0120","0680",597,120,"Hampden                      ",680,"Hampden Wilbraham",6915511.4683944145,1,7147465.3910503788,{"$f":"IF(K609>0, K606/K609, 0)","v":1},null,{"$f":"ROUND(M609*L606,0)","v":5737268},5471360,{"$f":"N606-O606","v":265908},4.8599982454088195,571.74878557454997,556.02971347991991,120,680,597,556.02971347991991,7147465.3910503788,597,120,680,597,556.02971347991991,7147465.3910503788]
["01200998","0120","0998",598,120,"",998,"",0,0,0,{"$f":"IF(K609>0, K607/K609, 0)","v":0},null,{"$f":"ROUND(M609*L607,0)","v":0},0,{"$f":"N607-O607","v":0},0,0,0,120,998,598,0,0,598,120,998,598,0,0]
["01200998","0120","0998",599,120,"",998,"",0,0,0,{"$f":"IF(K609>0, K608/K609, 0)","v":0},null,{"$f":"ROUND(M609*L608,0)","v":0},0,{"$f":"N608-O608","v":0},0,0,0,120,998,599,0,0,599,120,998,599,0,0]
["01200999","0120","0999",600,120,"Hampden                      ",999,"Total",6915511.4683944145,1,{"$f":"SUM(K605:K608)","v":7147465.3910503788},{"$f":"SUM(L605:L608)","v":1},{"$f":"VLOOKUP(E609,town351,24)","v":5737268},{"$f":"SUM(N605:N608)","v":5737268},5471360,{"$f":"SUM(P605:P608)","v":265908},4.8599982454088195,571.74878557454997,556.02971347991991,120,999,600,556.02971347991991,7147465.3910503788,600,120,999,600,556.02971347991991,7147465.3910503788]
["01210121","0121","0121",601,121,"Hancock                      ",121,"Hancock",1024022.3699999999,1,{"$f":"X610","v":1216494.7500000002},{"$f":"IF(K614>0, K610/K614, 0)","v":1},null,{"$f":"ROUND(M614*L610,0)","v":780690},729685,{"$f":"N610-O610","v":51005},6.9900025353405919,81,86,121,121,601,86,1216494.7500000002,601,121,121,601,86,1216494.7500000002]
["01210998","0121","0998",602,121,"",998,"",0,0,0,{"$f":"IF(K614>0, K611/K614, 0)","v":0},null,{"$f":"ROUND(M614*L611,0)","v":0},0,{"$f":"N611-O611","v":0},0,0,0,121,998,602,0,0,602,121,998,602,0,0]
["01210998","0121","0998",603,121,"",998,"",0,0,0,{"$f":"IF(K614>0, K612/K614, 0)","v":0},null,{"$f":"ROUND(M614*L612,0)","v":0},0,{"$f":"N612-O612","v":0},0,0,0,121,998,603,0,0,603,121,998,603,0,0]
["01210998","0121","0998",604,121,"",998,"",0,0,0,{"$f":"IF(K614>0, K613/K614, 0)","v":0},null,{"$f":"ROUND(M614*L613,0)","v":0},0,{"$f":"N613-O613","v":0},0,0,0,121,998,604,0,0,604,121,998,604,0,0]
["01210999","0121","0999",605,121,"Hancock                      ",999,"Total",1024022.3699999999,1,{"$f":"SUM(K610:K613)","v":1216494.7500000002},{"$f":"SUM(L610:L613)","v":1},{"$f":"VLOOKUP(E614,town351,24)","v":780690},{"$f":"SUM(N610:N613)","v":780690},729685,{"$f":"SUM(P610:P613)","v":51005},6.9900025353405919,81,86,121,999,605,86,1216494.7500000002,605,121,999,605,86,1216494.7500000002]
["01220122","0122","0122",606,122,"Hanover                      ",122,"Hanover",29637166.854109999,0.96138071511687617,{"$f":"X615","v":30800181.273539998},{"$f":"IF(K619>0, K615/K619, 0)","v":0.9566777110543172},null,{"$f":"ROUND(M619*L615,0)","v":23372172},22439160,{"$f":"N615-O615","v":933012},4.1579631323097654,2528,2481,122,122,606,2481,30800181.273539998,606,122,122,606,2481,30800181.273539998]
["01220873","0122","0873",607,122,"Hanover                      ",873,"South Shore",1190544.1537054372,3.8619284883123842E-2,1394758.4827090709,{"$f":"IF(K619>0, K616/K619, 0)","v":4.3322288945682741E-2},null,{"$f":"ROUND(M619*L616,0)","v":1058388},901396,{"$f":"N616-O616","v":156992},17.416540565966567,61.000000000009997,67.000000000599996,122,873,607,67.000000000599996,1394758.4827090709,607,122,873,607,67.000000000599996,1394758.4827090709]
["01220998","0122","0998",608,122,"",998,"",0,0,0,{"$f":"IF(K619>0, K617/K619, 0)","v":0},null,{"$f":"ROUND(M619*L617,0)","v":0},0,{"$f":"N617-O617","v":0},0,0,0,122,998,608,0,0,608,122,998,608,0,0]
["01220998","0122","0998",609,122,"",998,"",0,0,0,{"$f":"IF(K619>0, K618/K619, 0)","v":0},null,{"$f":"ROUND(M619*L618,0)","v":0},0,{"$f":"N618-O618","v":0},0,0,0,122,998,609,0,0,609,122,998,609,0,0]
["01220999","0122","0999",610,122,"Hanover                      ",999,"Total",30827711.007815436,1,{"$f":"SUM(K615:K618)","v":32194939.75624907},{"$f":"SUM(L615:L618)","v":1},{"$f":"VLOOKUP(E619,town351,24)","v":24430560},{"$f":"SUM(N615:N618)","v":24430560},23340556,{"$f":"SUM(P615:P618)","v":1090004},4.6700001490967056,2589.00000000001,2548.0000000005998,122,999,610,2548.0000000005998,32194939.75624907,610,122,999,610,2548.0000000005998,32194939.75624907]
["01230123","0123","0123",611,123,"Hanson                       ",123,"Hanson",47093.130000000005,2.5512518538332121E-3,{"$f":"X620","v":82453.8},{"$f":"IF(K624>0, K620/K624, 0)","v":4.0325334236334977E-3},null,{"$f":"ROUND(M624*L620,0)","v":47057},28410,{"$f":"N620-O620","v":18647},65.635339669130587,3,5,123,123,611,5,82453.8,611,123,123,611,5,82453.8]
["01230780","0123","0780",612,123,"Hanson                       ",780,"Whitman Hanson",16811335.504534263,0.91074750969738327,18574405.27594291,{"$f":"IF(K624>0, K621/K624, 0)","v":0.90841065056254733},null,{"$f":"ROUND(M624*L621,0)","v":10600456},10141928,{"$f":"N621-O621","v":458528},4.5211127509483404,1355.79339304416,1390.3067993493,123,780,612,1390.3067993493,18574405.27594291,612,123,780,612,1390.3067993493,18574405.27594291]
["01230873","0123","0873",613,123,"Hanson                       ",873,"South Shore",1600403.6164814041,8.6701238448783483E-2,1790287.0076487141,{"$f":"IF(K624>0, K622/K624, 0)","v":8.7556816013819122E-2},null,{"$f":"ROUND(M624*L622,0)","v":1021721},965490,{"$f":"N622-O622","v":56231},5.8240893225201713,82.000000001290005,86.000000000400007,123,873,613,86.000000000400007,1790287.0076487141,613,123,873,613,86.000000000400007,1790287.0076487141]
["01230998","0123","0998",614,123,"",998,"",0,0,0,{"$f":"IF(K624>0, K623/K624, 0)","v":0},null,{"$f":"ROUND(M624*L623,0)","v":0},0,{"$f":"N623-O623","v":0},0,0,0,123,998,614,0,0,614,123,998,614,0,0]
["01230999","0123","0999",615,123,"Hanson                       ",999,"Total",18458832.251015667,1,{"$f":"SUM(K620:K623)","v":20447146.083591625},{"$f":"SUM(L620:L623)","v":1},{"$f":"VLOOKUP(E624,town351,24)","v":11669234},{"$f":"SUM(N620:N623)","v":11669234},11135828,{"$f":"SUM(P620:P623)","v":533406},4.7899985524201707,1440.7933930454501,1481.3067993497,123,999,615,1481.3067993497,20447146.083591625,615,123,999,615,1481.3067993497,20447146.083591625]
["01240124","0124","0124",616,124,"Hardwick                     ",124,"Hardwick",31395.420000000002,6.5221368666255755E-3,{"$f":"X625","v":0},{"$f":"IF(K629>0, K625/K629, 0)","v":0},null,{"$f":"ROUND(M629*L625,0)","v":0},11967,{"$f":"N625-O625","v":-11967},-100,2,0,124,124,616,0,0,616,124,124,616,0,0]
["01240753","0124","0753",617,124,"Hardwick                     ",753,"Quabbin",4406140.0244394587,0.91533887085795018,4381304.3064969378,{"$f":"IF(K629>0, K626/K629, 0)","v":0.91158010071719009},null,{"$f":"ROUND(M629*L626,0)","v":1746639},1679441,{"$f":"N626-O626","v":67198},4.0012123081430069,338.36201781238003,316.11630218300002,124,753,617,316.11630218300002,4381304.3064969378,617,124,753,617,316.11630218300002,4381304.3064969378]
["01240860","0124","0860",618,124,"Hardwick                     ",860,"Pathfinder",376135.3879917796,7.8138992275424257E-2,424970.3182452271,{"$f":"IF(K629>0, K627/K629, 0)","v":8.8419899282809883E-2},null,{"$f":"ROUND(M629*L627,0)","v":169417},143367,{"$f":"N627-O627","v":26050},18.17015073203736,18.999999998380002,19.99999999872,124,860,618,19.99999999872,424970.3182452271,618,124,860,618,19.99999999872,424970.3182452271]
["01240998","0124","0998",619,124,"",998,"",0,0,0,{"$f":"IF(K629>0, K628/K629, 0)","v":0},null,{"$f":"ROUND(M629*L628,0)","v":0},0,{"$f":"N628-O628","v":0},0,0,0,124,998,619,0,0,619,124,998,619,0,0]
["01240999","0124","0999",620,124,"Hardwick                     ",999,"Total",4813670.8324312381,1,{"$f":"SUM(K625:K628)","v":4806274.6247421652},{"$f":"SUM(L625:L628)","v":1},{"$f":"VLOOKUP(E629,town351,24)","v":1916056},{"$f":"SUM(N625:N628)","v":1916056},1834775,{"$f":"SUM(P625:P628)","v":81281},4.4300254799634828,359.36201781076005,336.11630218172002,124,999,620,336.11630218172002,4806274.6247421652,620,124,999,620,336.11630218172002,4806274.6247421652]
["01250125","0125","0125",621,125,"Harvard                      ",125,"Harvard",9947885.4299999997,0.98490659449693008,{"$f":"X630","v":10576374.949999999},{"$f":"IF(K634>0, K630/K634, 0)","v":0.98869556534353231},null,{"$f":"ROUND(M634*L630,0)","v":8379508},8018632,{"$f":"N630-O630","v":360876},4.500468409075264,873,875,125,125,621,875,10576374.949999999,621,125,125,621,875,10576374.949999999]
["01250832","0125","0832",622,125,"Harvard                      ",832,"Montachusett",152448.43473686336,1.5093405503069972E-2,120926.95033282033,{"$f":"IF(K634>0, K631/K634, 0)","v":1.1304434656467721E-2},null,{"$f":"ROUND(M634*L631,0)","v":95809},122883,{"$f":"N631-O631","v":-27074},-22.032339705248081,8.0054570246400001,6.0082023300000005,125,832,622,6.0082023300000005,120926.95033282033,622,125,832,622,6.0082023300000005,120926.95033282033]
["01250998","0125","0998",623,125,"",998,"",0,0,0,{"$f":"IF(K634>0, K632/K634, 0)","v":0},null,{"$f":"ROUND(M634*L632,0)","v":0},0,{"$f":"N632-O632","v":0},0,0,0,125,998,623,0,0,623,125,998,623,0,0]
["01250998","0125","0998",624,125,"",998,"",0,0,0,{"$f":"IF(K634>0, K633/K634, 0)","v":0},null,{"$f":"ROUND(M634*L633,0)","v":0},0,{"$f":"N633-O633","v":0},0,0,0,125,998,624,0,0,624,125,998,624,0,0]
["01250999","0125","0999",625,125,"Harvard                      ",999,"Total",10100333.864736862,1,{"$f":"SUM(K630:K633)","v":10697301.90033282},{"$f":"SUM(L630:L633)","v":1},{"$f":"VLOOKUP(E634,town351,24)","v":8475317},{"$f":"SUM(N630:N633)","v":8475317},8141515,{"$f":"SUM(P630:P633)","v":333802},4.099998587486481,881.00545702464001,881.00820233000002,125,999,625,881.00820233000002,10697301.90033282,625,125,999,625,881.00820233000002,10697301.90033282]
["01260126","0126","0126",626,126,"Harwich                      ",126,"Harwich",0,0,{"$f":"X635","v":0},{"$f":"IF(K639>0, K635/K639, 0)","v":0},null,{"$f":"ROUND(M639*L635,0)","v":0},0,{"$f":"N635-O635","v":0},0,0,0,126,126,626,0,0,626,126,126,626,0,0]
["01260712","0126","0712",627,126,"Harwich                      ",712,"Monomoy",16831926.793056436,0.9203753558891612,18171310.052159831,{"$f":"IF(K639>0, K636/K639, 0)","v":0.9226182761929983},null,{"$f":"ROUND(M639*L636,0)","v":14991331},13626305,{"$f":"N636-O636","v":1365026},10.017579967570079,1269.6524865126,1267.80192076656,126,712,627,1267.80192076656,18171310.052159831,627,126,712,627,1267.80192076656,18171310.052159831]
["01260815","0126","0815",628,126,"Harwich                      ",815,"Cape Cod",1456184.3404662076,7.9624644110838708E-2,1524061.8270317935,{"$f":"IF(K639>0, K637/K639, 0)","v":7.7381723807001659E-2},null,{"$f":"ROUND(M639*L637,0)","v":1257351},1178856,{"$f":"N637-O637","v":78495},6.6585740752051139,71.108231709240002,70.209895054560008,126,815,628,70.209895054560008,1524061.8270317935,628,126,815,628,70.209895054560008,1524061.8270317935]
["01260998","0126","0998",629,126,"",998,"",0,0,0,{"$f":"IF(K639>0, K638/K639, 0)","v":0},null,{"$f":"ROUND(M639*L638,0)","v":0},0,{"$f":"N638-O638","v":0},0,0,0,126,998,629,0,0,629,126,998,629,0,0]
["01260999","0126","0999",630,126,"Harwich                      ",999,"Total",18288111.133522645,0.99999999999999989,{"$f":"SUM(K635:K638)","v":19695371.879191626},{"$f":"SUM(L635:L638)","v":1},{"$f":"VLOOKUP(E639,town351,24)","v":16248682},{"$f":"SUM(N635:N638)","v":16248682},14805161,{"$f":"SUM(P635:P638)","v":1443521},9.7501202452307005,1340.7607182218401,1338.0118158211201,126,999,630,1338.0118158211201,19695371.879191626,630,126,999,630,1338.0118158211201,19695371.879191626]
["01270127","0127","0127",631,127,"Hatfield                     ",127,"Hatfield",4125023.4699999997,1,{"$f":"X640","v":4215602.3500000006},{"$f":"IF(K644>0, K640/K644, 0)","v":1},null,{"$f":"ROUND(M644*L640,0)","v":3472030},3287596,{"$f":"N640-O640","v":184434},5.6099958754056152,331,317,127,127,631,317,4215602.3500000006,631,127,127,631,317,4215602.3500000006]
["01270998","0127","0998",632,127,"",998,"",0,0,0,{"$f":"IF(K644>0, K641/K644, 0)","v":0},null,{"$f":"ROUND(M644*L641,0)","v":0},0,{"$f":"N641-O641","v":0},0,0,0,127,998,632,0,0,632,127,998,632,0,0]
["01270998","0127","0998",633,127,"",998,"",0,0,0,{"$f":"IF(K644>0, K642/K644, 0)","v":0},null,{"$f":"ROUND(M644*L642,0)","v":0},0,{"$f":"N642-O642","v":0},0,0,0,127,998,633,0,0,633,127,998,633,0,0]
["01270998","0127","0998",634,127,"",998,"",0,0,0,{"$f":"IF(K644>0, K643/K644, 0)","v":0},null,{"$f":"ROUND(M644*L643,0)","v":0},0,{"$f":"N643-O643","v":0},0,0,0,127,998,634,0,0,634,127,998,634,0,0]
["01270999","0127","0999",635,127,"Hatfield                     ",999,"Total",4125023.4699999997,1,{"$f":"SUM(K640:K643)","v":4215602.3500000006},{"$f":"SUM(L640:L643)","v":1},{"$f":"VLOOKUP(E644,town351,24)","v":3472030},{"$f":"SUM(N640:N643)","v":3472030},3287596,{"$f":"SUM(P640:P643)","v":184434},5.6099958754056152,331,317,127,999,635,317,4215602.3500000006,635,127,999,635,317,4215602.3500000006]
["01280128","0128","0128",636,128,"Haverhill                    ",128,"Haverhill",121331843.41000001,0.87668573245079062,{"$f":"X645","v":132551888.25},{"$f":"IF(K649>0, K645/K649, 0)","v":0.88024583004005308},null,{"$f":"ROUND(M649*L645,0)","v":49918077},47425533,{"$f":"N645-O645","v":2492544},5.2557005526959495,8252,8287,128,128,636,8287,132551888.25,636,128,128,636,8287,132551888.25]
["01280885","0128","0885",637,128,"Haverhill                    ",885,"Whittier",17066488.989929296,0.12331426754920938,18033191.197600003,{"$f":"IF(K649>0, K646/K649, 0)","v":0.11975416995994694},null,{"$f":"ROUND(M649*L646,0)","v":6791169},6670857,{"$f":"N646-O646","v":120312},1.8035463809222714,873.00000000400007,867.00000000000011,128,885,637,867.00000000000011,18033191.197600003,637,128,885,637,867.00000000000011,18033191.197600003]
["01280998","0128","0998",638,128,"",998,null,0,0,0,{"$f":"IF(K649>0, K647/K649, 0)","v":0},null,{"$f":"ROUND(M649*L647,0)","v":0},0,{"$f":"N647-O647","v":0},0,0,0,128,998,638,0,0,638,128,998,638,0,0]
["01280998","0128","0998",639,128,"",998,"",0,0,0,{"$f":"IF(K649>0, K648/K649, 0)","v":0},null,{"$f":"ROUND(M649*L648,0)","v":0},0,{"$f":"N648-O648","v":0},0,0,0,128,998,639,0,0,639,128,998,639,0,0]
["01280999","0128","0999",640,128,"Haverhill                    ",999,"Total",138398332.39992931,1,{"$f":"SUM(K645:K648)","v":150585079.44760001},{"$f":"SUM(L645:L648)","v":1},{"$f":"VLOOKUP(E649,town351,24)","v":56709246},{"$f":"SUM(N645:N648)","v":56709246},54096390,{"$f":"SUM(P645:P648)","v":2612856},4.8300006710244432,9125.000000004,9154,128,999,640,9154,150585079.44760001,640,128,999,640,9154,150585079.44760001]
[{"$f":"B650&C650","v":"01290129"},"0129","0129",641,129,"Hawley                       ",129,"Hawley",62790.840000000004,0.1782510482019736,{"$f":"X650","v":65963.040000000008},{"$f":"IF(K654>0, K650/K654, 0)","v":0.18459287070024216},null,{"$f":"ROUND(M654*L650,0)","v":54419},51375,{"$f":"N650-O650","v":3044},5.9250608272506087,4,4,{"$f":"VLOOKUP($D650, foundoptions, VLOOKUP($T$6, foundoptcell, 2, FALSE), FALSE)","v":129},{"$f":"VLOOKUP($D650, foundoptions, VLOOKUP($T$6, foundoptcell, 2, FALSE)+1, FALSE)","v":129},{"$f":"VLOOKUP($D650, foundoptions, VLOOKUP($T$6, foundoptcell, 2, FALSE)+2, FALSE)","v":641},{"$f":"VLOOKUP($D650, foundoptions, VLOOKUP($T$6, foundoptcell, 2, FALSE)+3, FALSE)","v":4},{"$f":"VLOOKUP($D650, foundoptions, VLOOKUP($T$6, foundoptcell, 2, FALSE)+4, FALSE)","v":65963.040000000008},641,129,129,641,4,65963.040000000008]
["01290685","0129","0685",642,129,"Hawley                       ",685,"Hawlemont",174822.92740959272,0.49628847233923679,180341.41621838592,{"$f":"IF(K654>0, K651/K654, 0)","v":0.50467261250996109},null,{"$f":"ROUND(M654*L651,0)","v":148782},143038,{"$f":"N651-O651","v":5744},4.0157161034130793,11.2592592594,{"$f":"W651","v":12.204081632240001},129,685,642,12.204081632240001,180341.41621838592,{"$f":"D651","v":642},129,685,642,12.204081632240001,180341.41621838592]
["01290717","0129","0717",643,129,"Hawley                       ",717,"Mohawk Trail",114646.93811429651,0.3254604794587897,111038.92194011562,{"$f":"IF(K654>0, K652/K654, 0)","v":0.31073451678979686},null,{"$f":"ROUND(M654*L652,0)","v":91607},93803,{"$f":"N652-O652","v":-2196},-2.341076511412215,8.6954492401200003,7.7170731699599999,129,717,643,7.7170731699599999,111038.92194011562,643,129,717,643,7.7170731699599999,111038.92194011562]
["01290998","0129","0998",644,129,"",998,"",0,0,0,{"$f":"IF(K654>0, K653/K654, 0)","v":0},null,{"$f":"ROUND(M654*L653,0)","v":0},0,{"$f":"N653-O653","v":0},0,0,0,129,998,644,0,0,644,129,998,644,0,0]
["01290999","0129","0999",645,129,"Hawley                       ",999,"Total",352260.70552388922,1,{"$f":"SUM(K650:K653)","v":357343.37815850152},{"$f":"SUM(L650:L653)","v":1},{"$f":"VLOOKUP(E654,town351,24)","v":294808},{"$f":"SUM(N650:N653)","v":294808},288216,{"$f":"SUM(P650:P653)","v":6592},2.2871735087573208,23.954708499520002,23.9211548022,129,999,645,23.9211548022,357343.37815850152,645,129,999,645,23.9211548022,357343.37815850152]
["01300130","0130","0130",646,130,"Heath                        ",130,"Heath",0,0,{"$f":"X655","v":0},{"$f":"IF(K659>0, K655/K659, 0)","v":0},null,{"$f":"ROUND(M659*L655,0)","v":0},0,{"$f":"N655-O655","v":0},0,0,0,130,130,646,0,0,646,130,130,646,0,0]
["01300717","0130","0717",647,130,"Heath                        ",717,"Mohawk Trail",1031822.4432470073,0.85105601265536801,1138148.95,{"$f":"IF(K659>0, K656/K659, 0)","v":0.86946759059253553},null,{"$f":"ROUND(M659*L656,0)","v":425801},400177,{"$f":"N656-O656","v":25624},{"$f":"IF(O656>0,P656*100/O656,IF(P656>0,100,0))","v":6.4031665987800395},78.25904317764001,79.100000000000009,130,717,647,79.100000000000009,1138148.95,647,130,717,647,79.100000000000009,1138148.95]
["01300818","0130","0818",648,130,"Heath                        ",818,"Franklin County",180580.06364279494,0.1489439873446321,170869.30705126081,{"$f":"IF(K659>0, K657/K659, 0)","v":0.13053240940746455},null,{"$f":"ROUND(M659*L657,0)","v":63925},70035,{"$f":"N657-O657","v":-6110},{"$f":"IF(O657>0,P657*100/O657,IF(P657>0,100,0))","v":-8.7242093239094736},8.9999999980800016,8.0000000024000002,130,818,648,8.0000000024000002,170869.30705126081,648,130,818,648,8.0000000024000002,170869.30705126081]
["01300998","0130","0998",649,130,"",998,"",0,0,0,{"$f":"IF(K659>0, K658/K659, 0)","v":0},null,{"$f":"ROUND(M659*L658,0)","v":0},0,{"$f":"N658-O658","v":0},{"$f":"IF(O658>0,P658*100/O658,IF(P658>0,100,0))","v":0},0,0,130,998,649,0,0,649,130,998,649,0,0]
["01300999","0130","0999",650,130,"Heath                        ",999,"Total",1212402.5068898022,1,{"$f":"SUM(K655:K658)","v":1309018.2570512607},{"$f":"SUM(L655:L658)","v":1},{"$f":"VLOOKUP(E659,town351,24)","v":489726},{"$f":"SUM(N655:N658)","v":489726},470212,{"$f":"SUM(P655:P658)","v":19514},{"$f":"IF(O659>0,P659*100/O659,IF(P659>0,100,0))","v":4.1500429593459973},87.259043175720009,87.100000002400009,130,999,650,87.100000002400009,1309018.2570512607,650,130,999,650,87.100000002400009,1309018.2570512607]
["01310131","0131","0131",651,131,"Hingham                      ",131,"Hingham",45163141.519900002,1,{"$f":"X660","v":47057670.467040002},{"$f":"IF(K664>0, K660/K664, 0)","v":1},null,{"$f":"ROUND(M664*L660,0)","v":38822578},37259592,{"$f":"N660-O660","v":1562986},4.1948553811324611,3879,3807,131,131,651,3807,47057670.467040002,651,131,131,651,3807,47057670.467040002]
["01310998","0131","0998",652,131,"",998,"",0,0,0,{"$f":"IF(K664>0, K661/K664, 0)","v":0},null,{"$f":"ROUND(M664*L661,0)","v":0},0,{"$f":"N661-O661","v":0},0,0,0,131,998,652,0,0,652,131,998,652,0,0]
["01310998","0131","0998",653,131,"",998,"",0,0,0,{"$f":"IF(K664>0, K662/K664, 0)","v":0},null,{"$f":"ROUND(M664*L662,0)","v":0},0,{"$f":"N662-O662","v":0},0,0,0,131,998,653,0,0,653,131,998,653,0,0]
["01310998","0131","0998",654,131,"",998,"",0,0,0,{"$f":"IF(K664>0, K663/K664, 0)","v":0},null,{"$f":"ROUND(M664*L663,0)","v":0},0,{"$f":"N663-O663","v":0},0,0,0,131,998,654,0,0,654,131,998,654,0,0]
["01310999","0131","0999",655,131,"Hingham                      ",999,"Total",45163141.519900002,1,{"$f":"SUM(K660:K663)","v":47057670.467040002},{"$f":"SUM(L660:L663)","v":1},{"$f":"VLOOKUP(E664,town351,24)","v":38822578},{"$f":"SUM(N660:N663)","v":38822578},37259592,{"$f":"SUM(P660:P663)","v":1562986},4.1948553811324611,3879,3807,131,999,655,3807,47057670.467040002,655,131,999,655,3807,47057670.467040002]
["01320132","0132","0132",656,132,"Hinsdale                     ",132,"Hinsdale",109883.97,4.3357869430780141E-2,{"$f":"X665","v":131926.08000000002},{"$f":"IF(K669>0, K665/K669, 0)","v":4.7028265032246122E-2},null,{"$f":"ROUND(M669*L665,0)","v":99112},85327,{"$f":"N665-O665","v":13785},16.155495915712493,7,8,132,132,656,8,131926.08000000002,656,132,132,656,8,131926.08000000002]
["01320635","0132","0635",657,132,"Hinsdale                     ",635,"Central Berkshire",2424464.9600235857,0.95664213056921976,2673324.760309366,{"$f":"IF(K669>0, K666/K669, 0)","v":0.95297173496775389},null,{"$f":"ROUND(M669*L666,0)","v":2008378},1882635,{"$f":"N666-O666","v":125743},6.6790960542006284,180.87932159341,186.91758597571999,132,635,657,186.91758597571999,2673324.760309366,657,132,635,657,186.91758597571999,2673324.760309366]
["01320998","0132","0998",658,132,"",998,"",0,0,0,{"$f":"IF(K669>0, K667/K669, 0)","v":0},null,{"$f":"ROUND(M669*L667,0)","v":0},0,{"$f":"N667-O667","v":0},0,0,0,132,998,658,0,0,658,132,998,658,0,0]
["01320998","0132","0998",659,132,"",998,"",0,0,0,{"$f":"IF(K669>0, K668/K669, 0)","v":0},null,{"$f":"ROUND(M669*L668,0)","v":0},0,{"$f":"N668-O668","v":0},0,0,0,132,998,659,0,0,659,132,998,659,0,0]
["01320999","0132","0999",660,132,"Hinsdale                     ",999,"Total",2534348.9300235859,0.99999999999999989,{"$f":"SUM(K665:K668)","v":2805250.8403093661},{"$f":"SUM(L665:L668)","v":1},{"$f":"VLOOKUP(E669,town351,24)","v":2107490},{"$f":"SUM(N665:N668)","v":2107490},1967962,{"$f":"SUM(P665:P668)","v":139528},7.0899742982842149,187.87932159341,194.91758597571999,132,999,660,194.91758597571999,2805250.8403093661,660,132,999,660,194.91758597571999,2805250.8403093661]
["01330133","0133","0133",661,133,"Holbrook                     ",133,"Holbrook",18684757.824399997,0.88743524372616156,{"$f":"X670","v":20493828.679550003},{"$f":"IF(K674>0, K670/K674, 0)","v":0.8978316519163495},null,{"$f":"ROUND(M674*L670,0)","v":9611922},8938395,{"$f":"N670-O670","v":673527},7.5352118585047982,1338,1352,133,133,661,1352,20493828.679550003,661,133,133,661,1352,20493828.679550003]
["01330806","0133","0806",662,133,"Holbrook                     ",806,"Blue Hills",2248962.043372571,0.10681477372347549,2159872.53225165,{"$f":"IF(K674>0, K671/K674, 0)","v":9.4623701304544533E-2},null,{"$f":"ROUND(M674*L671,0)","v":1013014},1075856,{"$f":"N671-O671","v":-62842},-5.8411162832200594,110.00000000177,99.000000002749999,133,806,662,99.000000002749999,2159872.53225165,662,133,806,662,99.000000002749999,2159872.53225165]
["01330915","0133","0915",663,133,"Holbrook                     ",915,"Norfolk County",121064.64354170809,5.7499825503628975E-3,172213.46363618856,{"$f":"IF(K674>0, K672/K674, 0)","v":7.5446467791059155E-3},null,{"$f":"ROUND(M674*L672,0)","v":80771},57915,{"$f":"N672-O672","v":22856},39.46473279806613,6.00000000028,8.00000000008,133,915,663,8.00000000008,172213.46363618856,663,133,915,663,8.00000000008,172213.46363618856]
["01330998","0133","0998",664,133,"",998,"",0,0,0,{"$f":"IF(K674>0, K673/K674, 0)","v":0},null,{"$f":"ROUND(M674*L673,0)","v":0},0,{"$f":"N673-O673","v":0},0,0,0,133,998,664,0,0,664,133,998,664,0,0]
["01330999","0133","0999",665,133,"Holbrook                     ",999,"Total",21054784.511314277,0.99999999999999989,{"$f":"SUM(K670:K673)","v":22825914.675437842},{"$f":"SUM(L670:L673)","v":1},{"$f":"VLOOKUP(E674,town351,24)","v":10705706},{"$f":"SUM(N670:N673)","v":10705707},10072166,{"$f":"SUM(P670:P673)","v":633541},6.2900174599981771,1454.00000000205,1459.0000000028301,133,999,665,1459.0000000028301,22825914.675437842,665,133,999,665,1459.0000000028301,22825914.675437842]
["01340134","0134","0134",666,134,"Holden                       ",134,"Holden",15697.710000000001,3.9455166407106722E-4,{"$f":"X675","v":16490.760000000002},{"$f":"IF(K679>0, K675/K679, 0)","v":3.8590976316153476E-4},null,{"$f":"ROUND(M679*L675,0)","v":9127},8905,{"$f":"N675-O675","v":222},2.4929814710836609,1,1,134,134,666,1,16490.760000000002,666,134,134,666,1,16490.760000000002]
["01340775","0134","0775",667,134,"Holden                       ",775,"Wachusett",37731500.883534007,0.9483565731241872,40095591.162160635,{"$f":"IF(K679>0, K676/K679, 0)","v":0.93829999886064286},null,{"$f":"ROUND(M679*L676,0)","v":22192218},21404782,{"$f":"N676-O676","v":787436},3.6787854228087911,3235.2310390120001,3241.5368573825199,134,775,667,3241.5368573825199,40095591.162160635,667,134,775,667,3241.5368573825199,40095591.162160635]
["01340832","0134","0832",668,134,"Holden                       ",832,"Montachusett",2038997.8148849092,5.1248875211741762E-2,2620083.9212240316,{"$f":"IF(K679>0, K677/K679, 0)","v":6.131409137619559E-2},null,{"$f":"ROUND(M679*L677,0)","v":1450171},1156707,{"$f":"N677-O677","v":293464},25.370642695168268,107.07298771922999,130.17771701814999,134,832,668,130.17771701814999,2620083.9212240316,668,134,832,668,130.17771701814999,2620083.9212240316]
["01340998","0134","0998",669,134,"",998,"",0,0,0,{"$f":"IF(K679>0, K678/K679, 0)","v":0},null,{"$f":"ROUND(M679*L678,0)","v":0},0,{"$f":"N678-O678","v":0},0,0,0,134,998,669,0,0,669,134,998,669,0,0]
["01340999","0134","0999",670,134,"Holden                       ",999,"Total",39786196.408418916,1,{"$f":"SUM(K675:K678)","v":42732165.843384668},{"$f":"SUM(L675:L678)","v":1},{"$f":"VLOOKUP(E679,town351,24)","v":23651517},{"$f":"SUM(N675:N678)","v":23651516},22570394,{"$f":"SUM(P675:P678)","v":1081122},4.7900005644562516,3343.3040267312299,3372.7145744006698,134,999,670,3372.7145744006698,42732165.843384668,670,134,999,670,3372.7145744006698,42732165.843384668]
["01350135","0135","0135",671,135,"Holland                      ",135,"Holland",2386918.7400000002,0.54787424085023229,{"$f":"X680","v":2529520.8899999997},{"$f":"IF(K684>0, K680/K684, 0)","v":0.56611804300197688},null,{"$f":"ROUND(M684*L680,0)","v":1516165},1401973,{"$f":"N680-O680","v":114192},8.1450926658359322,171,175,135,135,671,175,2529520.8899999997,671,135,135,671,175,2529520.8899999997]
["01350770","0135","0770",672,135,"Holland                      ",770,"Tantasqua",1969772.1974965339,0.45212575914976783,1938665.4207323126,{"$f":"IF(K684>0, K681/K684, 0)","v":0.43388195699802307},null,{"$f":"ROUND(M684*L681,0)","v":1162014},1156960,{"$f":"N681-O681","v":5054},0.43683446272991289,140.00000000596,129.00000000384,135,770,672,129.00000000384,1938665.4207323126,672,135,770,672,129.00000000384,1938665.4207323126]
["01350998","0135","0998",673,135,"",998,"",0,0,0,{"$f":"IF(K684>0, K682/K684, 0)","v":0},null,{"$f":"ROUND(M684*L682,0)","v":0},0,{"$f":"N682-O682","v":0},0,0,0,135,998,673,0,0,673,135,998,673,0,0]
["01350998","0135","0998",674,135,"",998,"",0,0,0,{"$f":"IF(K684>0, K683/K684, 0)","v":0},null,{"$f":"ROUND(M684*L683,0)","v":0},0,{"$f":"N683-O683","v":0},0,0,0,135,998,674,0,0,674,135,998,674,0,0]
["01350999","0135","0999",675,135,"Holland                      ",999,"Total",4356690.9374965336,1,{"$f":"SUM(K680:K683)","v":4468186.3107323125},{"$f":"SUM(L680:L683)","v":1},{"$f":"VLOOKUP(E684,town351,24)","v":2678179},{"$f":"SUM(N680:N683)","v":2678179},2558933,{"$f":"SUM(P680:P683)","v":119246},4.6599891439127168,311.00000000596003,304.00000000384,135,999,675,304.00000000384,4468186.3107323125,675,135,999,675,304.00000000384,4468186.3107323125]
["01360136","0136","0136",676,136,"Holliston                    ",136,"Holliston",31404798.240489997,0.95364772925103314,{"$f":"X685","v":32828254.537319999},{"$f":"IF(K689>0, K685/K689, 0)","v":0.95277306817180929},null,{"$f":"ROUND(M689*L685,0)","v":23937028},22733659,{"$f":"N685-O685","v":1203369},5.2933361937029142,2724,2686,136,136,676,2686,32828254.537319999,676,136,136,676,2686,32828254.537319999]
["01360829","0136","0829",677,136,"Holliston                    ",829,"South Middlesex",1526437.5578213991,4.6352270748966841E-2,1627226.6616933055,{"$f":"IF(K689>0, K686/K689, 0)","v":4.7226931828190634E-2},null,{"$f":"ROUND(M689*L686,0)","v":1186508},1104975,{"$f":"N686-O686","v":81533},7.3787189755424327,71.167848698239993,71.254176608590001,136,829,677,71.254176608590001,1627226.6616933055,677,136,829,677,71.254176608590001,1627226.6616933055]
["01360998","0136","0998",678,136,"",998,"",0,0,0,{"$f":"IF(K689>0, K687/K689, 0)","v":0},null,{"$f":"ROUND(M689*L687,0)","v":0},0,{"$f":"N687-O687","v":0},0,0,0,136,998,678,0,0,678,136,998,678,0,0]
["01360998","0136","0998",679,136,"",998,"",0,0,0,{"$f":"IF(K689>0, K688/K689, 0)","v":0},null,{"$f":"ROUND(M689*L688,0)","v":0},0,{"$f":"N688-O688","v":0},0,0,0,136,998,679,0,0,679,136,998,679,0,0]
["01360999","0136","0999",680,136,"Holliston                    ",999,"Total",32931235.798311397,1,{"$f":"SUM(K685:K688)","v":34455481.199013308},{"$f":"SUM(L685:L688)","v":0.99999999999999989},{"$f":"VLOOKUP(E689,town351,24)","v":25123536},{"$f":"SUM(N685:N688)","v":25123536},23838634,{"$f":"SUM(P685:P688)","v":1284902},5.3899984369909788,2795.16784869824,2757.2541766085901,136,999,680,2757.2541766085901,34455481.199013308,680,136,999,680,2757.2541766085901,34455481.199013308]
["01370137","0137","0137",681,137,"Holyoke                      ",137,"Holyoke",101613348.83999999,1,{"$f":"X690","v":109412142.28999999},{"$f":"IF(K694>0, K690/K694, 0)","v":1},null,{"$f":"ROUND(M694*L690,0)","v":12452771},11842864,{"$f":"N690-O690","v":609907},5.1499958118238967,6033,5926,137,137,681,5926,109412142.28999999,681,137,137,681,5926,109412142.28999999]
["01370998","0137","0998",682,137,"",998,"",0,0,0,{"$f":"IF(K694>0, K691/K694, 0)","v":0},null,{"$f":"ROUND(M694*L691,0)","v":0},0,{"$f":"N691-O691","v":0},0,0,0,137,998,682,0,0,682,137,998,682,0,0]
["01370998","0137","0998",683,137,"",998,"",0,0,0,{"$f":"IF(K694>0, K692/K694, 0)","v":0},null,{"$f":"ROUND(M694*L692,0)","v":0},0,{"$f":"N692-O692","v":0},0,0,0,137,998,683,0,0,683,137,998,683,0,0]
["01370998","0137","0998",684,137,"",998,"",0,0,0,{"$f":"IF(K694>0, K693/K694, 0)","v":0},null,{"$f":"ROUND(M694*L693,0)","v":0},0,{"$f":"N693-O693","v":0},0,0,0,137,998,684,0,0,684,137,998,684,0,0]
["01370999","0137","0999",685,137,"Holyoke                      ",999,"Total",101613348.83999999,1,{"$f":"SUM(K690:K693)","v":109412142.28999999},{"$f":"SUM(L690:L693)","v":1},{"$f":"VLOOKUP(E694,town351,24)","v":12452771},{"$f":"SUM(N690:N693)","v":12452771},11842864,{"$f":"SUM(P690:P693)","v":609907},5.1499958118238967,6033,5926,137,999,685,5926,109412142.28999999,685,137,999,685,5926,109412142.28999999]
["01380138","0138","0138",686,138,"Hopedale                     ",138,"Hopedale",11008174.74,0.91679533145463321,{"$f":"X695","v":11489500.85},{"$f":"IF(K699>0, K695/K699, 0)","v":0.8928796087463694},null,{"$f":"ROUND(M699*L695,0)","v":6489561},6377665,{"$f":"N695-O695","v":111896},1.7544979236131091,899,875,138,138,686,875,11489500.85,686,138,138,686,875,11489500.85]
["01380805","0138","0805",687,138,"Hopedale                     ",805,"Blackstone Valley",999057.80396799999,8.32046685453669E-2,1378416.3220940237,{"$f":"IF(K699>0, K696/K699, 0)","v":0.10712039125363061},null,{"$f":"ROUND(M699*L696,0)","v":778565},578811,{"$f":"N696-O696","v":199754},34.511092567349273,56,73.000000005320004,138,805,687,73.000000005320004,1378416.3220940237,687,138,805,687,73.000000005320004,1378416.3220940237]
["01380998","0138","0998",688,138,"",998,"",0,0,0,{"$f":"IF(K699>0, K697/K699, 0)","v":0},null,{"$f":"ROUND(M699*L697,0)","v":0},0,{"$f":"N697-O697","v":0},0,0,0,138,998,688,0,0,688,138,998,688,0,0]
["01380998","0138","0998",689,138,"",998,"",0,0,0,{"$f":"IF(K699>0, K698/K699, 0)","v":0},null,{"$f":"ROUND(M699*L698,0)","v":0},0,{"$f":"N698-O698","v":0},0,0,0,138,998,689,0,0,689,138,998,689,0,0]
["01380999","0138","0999",690,138,"Hopedale                     ",999,"Total",12007232.543968,1,{"$f":"SUM(K695:K698)","v":12867917.172094023},{"$f":"SUM(L695:L698)","v":1},{"$f":"VLOOKUP(E699,town351,24)","v":7268126},{"$f":"SUM(N695:N698)","v":7268126},6956476,{"$f":"SUM(P695:P698)","v":311650},4.4799982059882044,955,948.00000000531998,138,999,690,948.00000000531998,12867917.172094023,690,138,999,690,948.00000000531998,12867917.172094023]
["01390139","0139","0139",691,139,"Hopkinton                    ",139,"Hopkinton",46722628.012559995,0.98862723640574346,{"$f":"X700","v":50873294.826880008},{"$f":"IF(K704>0, K700/K704, 0)","v":0.98930352610253147},null,{"$f":"ROUND(M704*L700,0)","v":41073636},37984044,{"$f":"N700-O700","v":3089592},8.1339206536302449,3996,4139,139,139,691,4139,50873294.826880008,691,139,139,691,4139,50873294.826880008]
["01390829","0139","0829",692,139,"Hopkinton                    ",829,"South Middlesex",537478.01327128301,1.1372763594256645E-2,550048.44907178008,{"$f":"IF(K704>0, K701/K704, 0)","v":1.069647389746849E-2},null,{"$f":"ROUND(M704*L701,0)","v":444093},436953,{"$f":"N701-O701","v":7140},1.634043020645241,25.059101652159999,24.085918855740001,139,829,692,24.085918855740001,550048.44907178008,692,139,829,692,24.085918855740001,550048.44907178008]
["01390998","0139","0998",693,139,"",998,"",0,0,0,{"$f":"IF(K704>0, K702/K704, 0)","v":0},null,{"$f":"ROUND(M704*L702,0)","v":0},0,{"$f":"N702-O702","v":0},0,0,0,139,998,693,0,0,693,139,998,693,0,0]
["01390998","0139","0998",694,139,"",998,"",0,0,0,{"$f":"IF(K704>0, K703/K704, 0)","v":0},null,{"$f":"ROUND(M704*L703,0)","v":0},0,{"$f":"N703-O703","v":0},0,0,0,139,998,694,0,0,694,139,998,694,0,0]
["01390999","0139","0999",695,139,"Hopkinton                    ",999,"Total",47260106.025831275,1,{"$f":"SUM(K700:K703)","v":51423343.275951788},{"$f":"SUM(L700:L703)","v":1},{"$f":"VLOOKUP(E704,town351,24)","v":41517729},{"$f":"SUM(N700:N703)","v":41517729},38420997,{"$f":"SUM(P700:P703)","v":3096732},8.0599990676972801,4021.0591016521598,4163.0859188557397,139,999,695,4163.0859188557397,51423343.275951788,695,139,999,695,4163.0859188557397,51423343.275951788]
["01400140","0140","0140",696,140,"Hubbardston                  ",140,"Hubbardston",0,0,{"$f":"X705","v":0},{"$f":"IF(K709>0, K705/K709, 0)","v":0},null,{"$f":"ROUND(M709*L705,0)","v":0},0,{"$f":"N705-O705","v":0},0,0,0,140,140,696,0,0,696,140,140,696,0,0]
["01400753","0140","0753",697,140,"Hubbardston                  ",753,"Quabbin",6786468.5431452692,0.88560966739743907,7418650.2368706735,{"$f":"IF(K709>0, K706/K709, 0)","v":0.90198220786020289},null,{"$f":"ROUND(M709*L706,0)","v":3930063},3718178,{"$f":"N706-O706","v":211885},5.6986244337952625,521.15529178422003,535.26441351974006,140,753,697,535.26441351974006,7418650.2368706735,697,140,753,697,535.26441351974006,7418650.2368706735]
["01400832","0140","0832",698,140,"Hubbardston                  ",832,"Montachusett",876578.50001632608,0.11439033260256094,806179.6680008882,{"$f":"IF(K709>0, K707/K709, 0)","v":9.8017792139797139E-2},null,{"$f":"ROUND(M709*L707,0)","v":427077},480261,{"$f":"N707-O707","v":-53184},-11.073978524177479,46.031377906349995,40.054682156049999,140,832,698,40.054682156049999,806179.6680008882,698,140,832,698,40.054682156049999,806179.6680008882]
["01400998","0140","0998",699,140,"",998,"",0,0,0,{"$f":"IF(K709>0, K708/K709, 0)","v":0},null,{"$f":"ROUND(M709*L708,0)","v":0},0,{"$f":"N708-O708","v":0},0,0,0,140,998,699,0,0,699,140,998,699,0,0]
["01400999","0140","0999",700,140,"Hubbardston                  ",999,"Total",7663047.0431615952,1,{"$f":"SUM(K705:K708)","v":8224829.9048715616},{"$f":"SUM(L705:L708)","v":1},{"$f":"VLOOKUP(E709,town351,24)","v":4357140},{"$f":"SUM(N705:N708)","v":4357140},4198439,{"$f":"SUM(P705:P708)","v":158701},3.7800001381465824,567.18666969057006,575.31909567579009,140,999,700,575.31909567579009,8224829.9048715616,700,140,999,700,575.31909567579009,8224829.9048715616]
["01410141","0141","0141",701,141,"Hudson                       ",141,"Hudson",31921911.970039997,0.88326647682660397,{"$f":"X710","v":34207457.530000001},{"$f":"IF(K714>0, K710/K714, 0)","v":0.88317888323815019},null,{"$f":"ROUND(M714*L710,0)","v":21209511},20140158,{"$f":"N710-O710","v":1069353},5.3095561613766886,2432,2417,141,141,701,2417,34207457.530000001,701,141,141,701,2417,34207457.530000001]
["01410801","0141","0801",702,141,"Hudson                       ",801,"Assabet Valley",4218836.9517677296,0.11673352317339601,4524738.3809567159,{"$f":"IF(K714>0, K711/K714, 0)","v":0.11682111676184979},null,{"$f":"ROUND(M714*L711,0)","v":2805455},2661747,{"$f":"N711-O711","v":143708},5.3990104994952564,203.00000000279999,205.00000000196999,141,801,702,205.00000000196999,4524738.3809567159,702,141,801,702,205.00000000196999,4524738.3809567159]
["01410998","0141","0998",703,141,"",998,"",0,0,0,{"$f":"IF(K714>0, K712/K714, 0)","v":0},null,{"$f":"ROUND(M714*L712,0)","v":0},0,{"$f":"N712-O712","v":0},0,0,0,141,998,703,0,0,703,141,998,703,0,0]
["01410998","0141","0998",704,141,"",998,"",0,0,0,{"$f":"IF(K714>0, K713/K714, 0)","v":0},null,{"$f":"ROUND(M714*L713,0)","v":0},0,{"$f":"N713-O713","v":0},0,0,0,141,998,704,0,0,704,141,998,704,0,0]
[{"$f":"B714&C714","v":"01410999"},"0141","0999",705,141,"Hudson                       ",999,"Total",36140748.921807729,1,{"$f":"SUM(K710:K713)","v":38732195.910956718},{"$f":"SUM(L710:L713)","v":1},{"$f":"VLOOKUP(E714,town351,24)","v":24014966},{"$f":"SUM(N710:N713)","v":24014966},22801905,{"$f":"SUM(P710:P713)","v":1213061},5.3199984825829247,2635.0000000027999,2622.00000000197,{"$f":"VLOOKUP($D714, foundoptions, VLOOKUP($T$6, foundoptcell, 2, FALSE), FALSE)","v":141},{"$f":"VLOOKUP($D714, foundoptions, VLOOKUP($T$6, foundoptcell, 2, FALSE)+1, FALSE)","v":999},{"$f":"VLOOKUP($D714, foundoptions, VLOOKUP($T$6, foundoptcell, 2, FALSE)+2, FALSE)","v":705},{"$f":"VLOOKUP($D714, foundoptions, VLOOKUP($T$6, foundoptcell, 2, FALSE)+3, FALSE)","v":2622.00000000197},{"$f":"VLOOKUP($D714, foundoptions, VLOOKUP($T$6, foundoptcell, 2, FALSE)+4, FALSE)","v":38732195.910956718},705,141,999,705,2622.00000000197,38732195.910956718]
["01420142","0142","0142",706,142,"Hull                         ",142,"Hull",10651125.811000003,1,{"$f":"X715","v":10986735.571280001},{"$f":"IF(K719>0, K715/K719, 0)","v":1},null,{"$f":"ROUND(M719*L715,0)","v":9052274},8780091,{"$f":"N715-O715","v":272183},3.1000020387032436,821,{"$f":"W715","v":791},142,142,706,791,10986735.571280001,{"$f":"D715","v":706},142,142,706,791,10986735.571280001]
["01420998","0142","0998",707,142,"",998,"",0,0,0,{"$f":"IF(K719>0, K716/K719, 0)","v":0},null,{"$f":"ROUND(M719*L716,0)","v":0},0,{"$f":"N716-O716","v":0},0,0,0,142,998,707,0,0,707,142,998,707,0,0]
["01420998","0142","0998",708,142,"",998,"",0,0,0,{"$f":"IF(K719>0, K717/K719, 0)","v":0},null,{"$f":"ROUND(M719*L717,0)","v":0},0,{"$f":"N717-O717","v":0},0,0,0,142,998,708,0,0,708,142,998,708,0,0]
["01420998","0142","0998",709,142,"",998,"",0,0,0,{"$f":"IF(K719>0, K718/K719, 0)","v":0},null,{"$f":"ROUND(M719*L718,0)","v":0},0,{"$f":"N718-O718","v":0},0,0,0,142,998,709,0,0,709,142,998,709,0,0]
["01420999","0142","0999",710,142,"Hull                         ",999,"Total",10651125.811000003,1,{"$f":"SUM(K715:K718)","v":10986735.571280001},{"$f":"SUM(L715:L718)","v":1},{"$f":"VLOOKUP(E719,town351,24)","v":9052274},{"$f":"SUM(N715:N718)","v":9052274},8780091,{"$f":"SUM(P715:P718)","v":272183},3.1000020387032436,821,791,142,999,710,791,10986735.571280001,710,142,999,710,791,10986735.571280001]
["01430143","0143","0143",711,143,"Huntington                   ",143,"Huntington",437559.81000000006,0.10869912108983291,{"$f":"X720","v":572755.80000000005},{"$f":"IF(K724>0, K720/K724, 0)","v":0.12166881902330988},null,{"$f":"ROUND(M724*L720,0)","v":217988},185653,{"$f":"N720-O720","v":32335},{"$f":"IF(O720>0,P720*100/O720,IF(P720>0,100,0))","v":17.416901423623642},26,31,143,143,711,31,572755.80000000005,711,143,143,711,31,572755.80000000005]
["01430672","0143","0672",712,143,"Huntington                   ",672,"Gateway",3587861.9745826432,0.89130087891016707,4134742.8393208012,{"$f":"IF(K724>0, K721/K724, 0)","v":0.87833118097669016},null,{"$f":"ROUND(M724*L721,0)","v":1573659},1522304,{"$f":"N721-O721","v":51355},{"$f":"IF(O721>0,P721*100/O721,IF(P721>0,100,0))","v":3.3735048978390649},264.57840616921999,280.85121951162,143,672,712,280.85121951162,4134742.8393208012,712,143,672,712,280.85121951162,4134742.8393208012]
["01430998","0143","0998",713,143,"",998,"",0,0,0,{"$f":"IF(K724>0, K722/K724, 0)","v":0},null,{"$f":"ROUND(M724*L722,0)","v":0},0,{"$f":"N722-O722","v":0},{"$f":"IF(O722>0,P722*100/O722,IF(P722>0,100,0))","v":0},0,0,143,998,713,0,0,713,143,998,713,0,0]
["01430998","0143","0998",714,143,"",998,"",0,0,0,{"$f":"IF(K724>0, K723/K724, 0)","v":0},null,{"$f":"ROUND(M724*L723,0)","v":0},0,{"$f":"N723-O723","v":0},{"$f":"IF(O723>0,P723*100/O723,IF(P723>0,100,0))","v":0},0,0,143,998,714,0,0,714,143,998,714,0,0]
["01430999","0143","0999",715,143,"Huntington                   ",999,"Total",4025421.7845826433,1,{"$f":"SUM(K720:K723)","v":4707498.639320801},{"$f":"SUM(L720:L723)","v":1},{"$f":"VLOOKUP(E724,town351,24)","v":1791647},{"$f":"SUM(N720:N723)","v":1791647},1707957,{"$f":"SUM(P720:P723)","v":83690},{"$f":"IF(O724>0,P724*100/O724,IF(P724>0,100,0))","v":4.9000062647947225},290.57840616921999,311.85121951162,143,999,715,311.85121951162,4707498.639320801,715,143,999,715,311.85121951162,4707498.639320801]
["01440144","0144","0144",716,144,"Ipswich                      ",144,"Ipswich",19884295.035099998,0.9769483203744127,{"$f":"X725","v":20567036.155019999},{"$f":"IF(K729>0, K725/K729, 0)","v":0.97055423498761917},null,{"$f":"ROUND(M729*L725,0)","v":16419694},15849509,{"$f":"N725-O725","v":570185},3.5974931463176558,1602,1557,144,144,716,1557,20567036.155019999,716,144,144,716,1557,20567036.155019999]
["01440885","0144","0885",717,144,"Ipswich                      ",885,"Whittier",469181.82791298005,2.3051679625587365E-2,623985.85446343815,{"$f":"IF(K729>0, K726/K729, 0)","v":2.9445765012380765E-2},null,{"$f":"ROUND(M729*L726,0)","v":498159},373979,{"$f":"N726-O726","v":124180},33.205073012120998,24.00000000068,29.999999994,144,885,717,29.999999994,623985.85446343815,717,144,885,717,29.999999994,623985.85446343815]
["01440998","0144","0998",718,144,"",998,null,0,0,0,{"$f":"IF(K729>0, K727/K729, 0)","v":0},null,{"$f":"ROUND(M729*L727,0)","v":0},0,{"$f":"N727-O727","v":0},0,0,0,144,998,718,0,0,718,144,998,718,0,0]
["01440998","0144","0998",719,144,"",998,"",0,0,0,{"$f":"IF(K729>0, K728/K729, 0)","v":0},null,{"$f":"ROUND(M729*L728,0)","v":0},0,{"$f":"N728-O728","v":0},0,0,0,144,998,719,0,0,719,144,998,719,0,0]
["01440999","0144","0999",720,144,"Ipswich                      ",999,"Total",20353476.863012977,1,{"$f":"SUM(K725:K728)","v":21191022.009483438},{"$f":"SUM(L725:L728)","v":0.99999999999999989},{"$f":"VLOOKUP(E729,town351,24)","v":16917853},{"$f":"SUM(N725:N728)","v":16917853},16223488,{"$f":"SUM(P725:P728)","v":694365},4.2799982346582928,1626.0000000006801,1586.9999999940001,144,999,720,1586.9999999940001,21191022.009483438,720,144,999,720,1586.9999999940001,21191022.009483438]
["01450145","0145","0145",721,145,"Kingston                     ",145,"Kingston",13087068.680339999,0.49441961159964776,{"$f":"X730","v":14371240.407579998},{"$f":"IF(K734>0, K730/K734, 0)","v":0.50011559072381495},null,{"$f":"ROUND(M734*L730,0)","v":8940323},8280400,{"$f":"N730-O730","v":659923},7.9696995314236023,1094,1125,145,145,721,1125,14371240.407579998,721,145,145,721,1125,14371240.407579998]
["01450760","0145","0760",722,145,"Kingston                     ",760,"Silver Lake",13382489.511330491,0.50558038840035213,14364597.215039546,{"$f":"IF(K734>0, K731/K734, 0)","v":0.4998844092761851},null,{"$f":"ROUND(M734*L731,0)","v":8936191},8467318,{"$f":"N731-O731","v":468873},5.5374440879626823,975.91613650297995,961.99152029869992,145,760,722,961.99152029869992,14364597.215039546,722,145,760,722,961.99152029869992,14364597.215039546]
["01450998","0145","0998",723,145,"",998,"",0,0,0,{"$f":"IF(K734>0, K732/K734, 0)","v":0},null,{"$f":"ROUND(M734*L732,0)","v":0},0,{"$f":"N732-O732","v":0},0,0,0,145,998,723,0,0,723,145,998,723,0,0]
["01450998","0145","0998",724,145,"",998,"",0,0,0,{"$f":"IF(K734>0, K733/K734, 0)","v":0},null,{"$f":"ROUND(M734*L733,0)","v":0},0,{"$f":"N733-O733","v":0},0,0,0,145,998,724,0,0,724,145,998,724,0,0]
["01450999","0145","0999",725,145,"Kingston                     ",999,"Total",26469558.191670492,0.99999999999999989,{"$f":"SUM(K730:K733)","v":28735837.622619543},{"$f":"SUM(L730:L733)","v":1},{"$f":"VLOOKUP(E734,town351,24)","v":17876514},{"$f":"SUM(N730:N733)","v":17876514},16747718,{"$f":"SUM(P730:P733)","v":1128796},6.7399988464100007,2069.91613650298,2086.9915202986999,145,999,725,2086.9915202986999,28735837.622619543,725,145,999,725,2086.9915202986999,28735837.622619543]
["01460146","0146","0146",726,146,"Lakeville                    ",146,"Lakeville",202094.16,9.2764200747256793E-3,{"$f":"X735","v":212169.47999999998},{"$f":"IF(K739>0, K735/K739, 0)","v":9.1243943854862914E-3},null,{"$f":"ROUND(M739*L735,0)","v":138249},132585,{"$f":"N735-O735","v":5664},4.271976467926236,11,11,146,146,726,11,212169.47999999998,726,146,146,726,11,212169.47999999998]
["01460665","0146","0665",727,146,"Lakeville                    ",665,"Freetown Lakeville",18834883.88962476,0.86454895588691127,20165052.873568162,{"$f":"IF(K739>0, K736/K739, 0)","v":0.86720246108261922},null,{"$f":"ROUND(M739*L736,0)","v":13139529},12356687,{"$f":"N736-O736","v":782842},6.335371285199666,1567.7964887143999,1580.3174489517,146,665,727,1580.3174489517,20165052.873568162,727,146,665,727,1580.3174489517,20165052.873568162]
["01460855","0146","0855",728,146,"Lakeville                    ",855,"Old Colony",2748814.1387455277,0.12617462403836305,2875770.780692576,{"$f":"IF(K739>0, K737/K739, 0)","v":0.12367314453189437},null,{"$f":"ROUND(M739*L737,0)","v":1873849},1803368,{"$f":"N737-O737","v":70481},3.9082982508284498,149.28653846234002,148.00000000145999,146,855,728,148.00000000145999,2875770.780692576,728,146,855,728,148.00000000145999,2875770.780692576]
["01460998","0146","0998",729,146,"",998,"",0,0,0,{"$f":"IF(K739>0, K738/K739, 0)","v":0},null,{"$f":"ROUND(M739*L738,0)","v":0},0,{"$f":"N738-O738","v":0},0,0,0,146,998,729,0,0,729,146,998,729,0,0]
["01460999","0146","0999",730,146,"Lakeville                    ",999,"Total",21785792.188370287,1,{"$f":"SUM(K735:K738)","v":23252993.13426074},{"$f":"SUM(L735:L738)","v":0.99999999999999989},{"$f":"VLOOKUP(E739,town351,24)","v":15151628},{"$f":"SUM(N735:N738)","v":15151627},14292640,{"$f":"SUM(P735:P738)","v":858987},6.0099953542522586,1728.08302717674,1739.31744895316,146,999,730,1739.31744895316,23252993.13426074,730,146,999,730,1739.31744895316,23252993.13426074]
["01470147","0147","0147",731,147,"Lancaster                    ",147,"Lancaster",31395.420000000002,2.4737925270527936E-3,{"$f":"X740","v":32981.520000000004},{"$f":"IF(K744>0, K740/K744, 0)","v":2.3698216482543337E-3},null,{"$f":"ROUND(M744*L740,0)","v":21289},21168,{"$f":"N740-O740","v":121},0.57161753590325015,2,2,147,147,731,2,32981.520000000004,731,147,147,731,2,32981.520000000004]
["01470725","0147","0725",732,147,"Lancaster                    ",725,"Nashoba",11651544.905455988,0.91807992107565595,12674205.171358863,{"$f":"IF(K744>0, K741/K744, 0)","v":0.91067985312694066},null,{"$f":"ROUND(M744*L741,0)","v":8180813},7856057,{"$f":"N741-O741","v":324756},4.1338294770519104,982.85393612683004,1013.58211329726,147,725,732,1013.58211329726,12674205.171358863,732,147,725,732,1013.58211329726,12674205.171358863]
["01470830","0147","0830",733,147,"Lancaster                    ",830,"Minuteman",1008269.489703255,7.944628639729126E-2,1210113.8043535333,{"$f":"IF(K744>0, K742/K744, 0)","v":8.6950325224805045E-2},null,{"$f":"ROUND(M744*L742,0)","v":781092},679826,{"$f":"N742-O742","v":101266},14.895870413900028,51.09272727423,58.000000002420002,147,830,733,58.000000002420002,1210113.8043535333,733,147,830,733,58.000000002420002,1210113.8043535333]
["01470998","0147","0998",734,147,"",998,"",0,0,0,{"$f":"IF(K744>0, K743/K744, 0)","v":0},null,{"$f":"ROUND(M744*L743,0)","v":0},0,{"$f":"N743-O743","v":0},0,0,0,147,998,734,0,0,734,147,998,734,0,0]
["01470999","0147","0999",735,147,"Lancaster                    ",999,"Total",12691209.815159243,1,{"$f":"SUM(K740:K743)","v":13917300.495712396},{"$f":"SUM(L740:L743)","v":1},{"$f":"VLOOKUP(E744,town351,24)","v":8983193},{"$f":"SUM(N740:N743)","v":8983194},8557051,{"$f":"SUM(P740:P743)","v":426143},4.98002173879763,1035.9466634010601,1073.58211329968,147,999,735,1073.58211329968,13917300.495712396,735,147,999,735,1073.58211329968,13917300.495712396]
["01480148","0148","0148",736,148,"Lanesborough                 ",148,"Lanesborough",0,0,{"$f":"X745","v":0},{"$f":"IF(K749>0, K745/K749, 0)","v":0},null,{"$f":"ROUND(M749*L745,0)","v":0},0,{"$f":"N745-O745","v":0},0,0,0,148,148,736,0,0,736,148,148,736,0,0]
["01480715","0148","0715",737,148,"Lanesborough                 ",715,"Mount Greylock",4396837.4054929046,0.90524654199381993,4787305.4172518328,{"$f":"IF(K749>0, K746/K749, 0)","v":0.87950534467376884},null,{"$f":"ROUND(M749*L746,0)","v":2532086},2491821,{"$f":"N746-O746","v":40265},1.6158865343858968,362.77079482084002,362.97574123998004,148,715,737,362.97574123998004,4787305.4172518328,737,148,715,737,362.97574123998004,4787305.4172518328]
["01480851","0148","0851",738,148,"Lanesborough                 ",851,"Northern Berkshire",460223.29733927594,9.4753458006179958E-2,655874.0315638734,{"$f":"IF(K749>0, K747/K749, 0)","v":0.12049465532623116},null,{"$f":"ROUND(M749*L747,0)","v":346903},260822,{"$f":"N747-O747","v":86081},33.003734347562705,22.99999999968,30.999999997500002,148,851,738,30.999999997500002,655874.0315638734,738,148,851,738,30.999999997500002,655874.0315638734]
["01480998","0148","0998",739,148,"",998,"",0,0,0,{"$f":"IF(K749>0, K748/K749, 0)","v":0},null,{"$f":"ROUND(M749*L748,0)","v":0},0,{"$f":"N748-O748","v":0},0,0,0,148,998,739,0,0,739,148,998,739,0,0]
["01480999","0148","0999",740,148,"Lanesborough                 ",999,"Total",4857060.702832181,0.99999999999999989,{"$f":"SUM(K745:K748)","v":5443179.4488157062},{"$f":"SUM(L745:L748)","v":1},{"$f":"VLOOKUP(E749,town351,24)","v":2878989},{"$f":"SUM(N745:N748)","v":2878989},2752643,{"$f":"SUM(P745:P748)","v":126346},4.5899886036801725,385.77079482052,393.97574123748007,148,999,740,393.97574123748007,5443179.4488157062,740,148,999,740,393.97574123748007,5443179.4488157062]
["01490149","0149","0149",741,149,"Lawrence                     ",149,"Lawrence",253714474.64999995,0.89774925290191598,{"$f":"X750","v":279873222.13999999},{"$f":"IF(K754>0, K750/K754, 0)","v":0.90168462924556025},null,{"$f":"ROUND(M754*L750,0)","v":13728391},13007684,{"$f":"N750-O750","v":720707},5.5406250643850203,14593,14566,149,149,741,14566,279873222.13999999,741,149,149,741,14566,279873222.13999999]
["01490823","0149","0823",742,149,"Lawrence                     ",823,"Greater Lawrence",28897261.121301942,0.10225074709808406,30516034.882347174,{"$f":"IF(K754>0, K751/K754, 0)","v":9.8315370754439815E-2},null,{"$f":"ROUND(M754*L751,0)","v":1496878},1481533,{"$f":"N751-O751","v":15345},1.0357514817422224,1232.0000000000998,1200.9999999976499,149,823,742,1200.9999999976499,30516034.882347174,742,149,823,742,1200.9999999976499,30516034.882347174]
["01490998","0149","0998",743,149,"",998,null,0,0,0,{"$f":"IF(K754>0, K752/K754, 0)","v":0},null,{"$f":"ROUND(M754*L752,0)","v":0},0,{"$f":"N752-O752","v":0},0,0,0,149,998,743,0,0,743,149,998,743,0,0]
["01490998","0149","0998",744,149,"",998,"",0,0,0,{"$f":"IF(K754>0, K753/K754, 0)","v":0},null,{"$f":"ROUND(M754*L753,0)","v":0},0,{"$f":"N753-O753","v":0},0,0,0,149,998,744,0,0,744,149,998,744,0,0]
["01490999","0149","0999",745,149,"Lawrence                     ",999,"Total",282611735.77130187,1,{"$f":"SUM(K750:K753)","v":310389257.02234715},{"$f":"SUM(L750:L753)","v":1},{"$f":"VLOOKUP(E754,town351,24)","v":15225269},{"$f":"SUM(N750:N753)","v":15225269},14489217,{"$f":"SUM(P750:P753)","v":736052},5.0799984567834136,15825.0000000001,15766.99999999765,149,999,745,15766.99999999765,310389257.02234715,745,149,999,745,15766.99999999765,310389257.02234715]
["01500150","0150","0150",746,150,"Lee                          ",150,"Lee",7917418.4799999995,1,{"$f":"X755","v":8739704.6600000001},{"$f":"IF(K759>0, K755/K759, 0)","v":1},null,{"$f":"ROUND(M759*L755,0)","v":6760874},6383000,{"$f":"N755-O755","v":377874},5.9200062666457782,560,570,150,150,746,570,8739704.6600000001,746,150,150,746,570,8739704.6600000001]
["01500998","0150","0998",747,150,"",998,"",0,0,0,{"$f":"IF(K759>0, K756/K759, 0)","v":0},null,{"$f":"ROUND(M759*L756,0)","v":0},0,{"$f":"N756-O756","v":0},0,0,0,150,998,747,0,0,747,150,998,747,0,0]
["01500998","0150","0998",748,150,"",998,"",0,0,0,{"$f":"IF(K759>0, K757/K759, 0)","v":0},null,{"$f":"ROUND(M759*L757,0)","v":0},0,{"$f":"N757-O757","v":0},0,0,0,150,998,748,0,0,748,150,998,748,0,0]
["01500998","0150","0998",749,150,"",998,"",0,0,0,{"$f":"IF(K759>0, K758/K759, 0)","v":0},null,{"$f":"ROUND(M759*L758,0)","v":0},0,{"$f":"N758-O758","v":0},0,0,0,150,998,749,0,0,749,150,998,749,0,0]
["01500999","0150","0999",750,150,"Lee                          ",999,"Total",7917418.4799999995,1,{"$f":"SUM(K755:K758)","v":8739704.6600000001},{"$f":"SUM(L755:L758)","v":1},{"$f":"VLOOKUP(E759,town351,24)","v":6760874},{"$f":"SUM(N755:N758)","v":6760874},6383000,{"$f":"SUM(P755:P758)","v":377874},5.9200062666457782,560,570,150,999,750,570,8739704.6600000001,750,150,999,750,570,8739704.6600000001]
["01510151","0151","0151",751,151,"Leicester                    ",151,"Leicester",19402050.66,1,{"$f":"X760","v":20759208.559999999},{"$f":"IF(K764>0, K760/K764, 0)","v":1},null,{"$f":"ROUND(M764*L760,0)","v":9660962},9299222,{"$f":"N760-O760","v":361740},3.8900028410978895,1465,1443,151,151,751,1443,20759208.559999999,751,151,151,751,1443,20759208.559999999]
["01510998","0151","0998",752,151,"",998,"",0,0,0,{"$f":"IF(K764>0, K761/K764, 0)","v":0},null,{"$f":"ROUND(M764*L761,0)","v":0},0,{"$f":"N761-O761","v":0},0,0,0,151,998,752,0,0,752,151,998,752,0,0]
["01510998","0151","0998",753,151,"",998,"",0,0,0,{"$f":"IF(K764>0, K762/K764, 0)","v":0},null,{"$f":"ROUND(M764*L762,0)","v":0},0,{"$f":"N762-O762","v":0},0,0,0,151,998,753,0,0,753,151,998,753,0,0]
["01510998","0151","0998",754,151,"",998,"",0,0,0,{"$f":"IF(K764>0, K763/K764, 0)","v":0},null,{"$f":"ROUND(M764*L763,0)","v":0},0,{"$f":"N763-O763","v":0},0,0,0,151,998,754,0,0,754,151,998,754,0,0]
["01510999","0151","0999",755,151,"Leicester                    ",999,"Total",19402050.66,1,{"$f":"SUM(K760:K763)","v":20759208.559999999},{"$f":"SUM(L760:L763)","v":1},{"$f":"VLOOKUP(E764,town351,24)","v":9660962},{"$f":"SUM(N760:N763)","v":9660962},9299222,{"$f":"SUM(P760:P763)","v":361740},3.8900028410978895,1465,1443,151,999,755,1443,20759208.559999999,755,151,999,755,1443,20759208.559999999]
["01520152","0152","0152",756,152,"Lenox                        ",152,"Lenox",6111653.4900000002,1,{"$f":"X765","v":6717817.4100000001},{"$f":"IF(K769>0, K765/K769, 0)","v":1},null,{"$f":"ROUND(M769*L765,0)","v":5422289},5042114,{"$f":"N765-O765","v":380175},7.539992154084576,475,489,152,152,756,489,6717817.4100000001,756,152,152,756,489,6717817.4100000001]
["01520998","0152","0998",757,152,"",998,"",0,0,0,{"$f":"IF(K769>0, K766/K769, 0)","v":0},null,{"$f":"ROUND(M769*L766,0)","v":0},0,{"$f":"N766-O766","v":0},0,0,0,152,998,757,0,0,757,152,998,757,0,0]
["01520998","0152","0998",758,152,"",998,"",0,0,0,{"$f":"IF(K769>0, K767/K769, 0)","v":0},null,{"$f":"ROUND(M769*L767,0)","v":0},0,{"$f":"N767-O767","v":0},0,0,0,152,998,758,0,0,758,152,998,758,0,0]
["01520998","0152","0998",759,152,"",998,"",0,0,0,{"$f":"IF(K769>0, K768/K769, 0)","v":0},null,{"$f":"ROUND(M769*L768,0)","v":0},0,{"$f":"N768-O768","v":0},0,0,0,152,998,759,0,0,759,152,998,759,0,0]
["01520999","0152","0999",760,152,"Lenox                        ",999,"Total",6111653.4900000002,1,{"$f":"SUM(K765:K768)","v":6717817.4100000001},{"$f":"SUM(L765:L768)","v":1},{"$f":"VLOOKUP(E769,town351,24)","v":5422289},{"$f":"SUM(N765:N768)","v":5422289},5042114,{"$f":"SUM(P765:P768)","v":380175},7.539992154084576,475,489,152,999,760,489,6717817.4100000001,760,152,999,760,489,6717817.4100000001]
["01530153","0153","0153",761,153,"Leominster                   ",153,"Leominster",91159936.339999989,1,{"$f":"X770","v":99599000.579999998},{"$f":"IF(K774>0, K770/K774, 0)","v":1},null,{"$f":"ROUND(M774*L770,0)","v":35204065},33607699,{"$f":"N770-O770","v":1596366},4.7500008852138311,5976,6020,153,153,761,6020,99599000.579999998,761,153,153,761,6020,99599000.579999998]
["01530998","0153","0998",762,153,"",998,"",0,0,0,{"$f":"IF(K774>0, K771/K774, 0)","v":0},null,{"$f":"ROUND(M774*L771,0)","v":0},0,{"$f":"N771-O771","v":0},0,0,0,153,998,762,0,0,762,153,998,762,0,0]
["01530998","0153","0998",763,153,"",998,"",0,0,0,{"$f":"IF(K774>0, K772/K774, 0)","v":0},null,{"$f":"ROUND(M774*L772,0)","v":0},0,{"$f":"N772-O772","v":0},0,0,0,153,998,763,0,0,763,153,998,763,0,0]
["01530998","0153","0998",764,153,"",998,"",0,0,0,{"$f":"IF(K774>0, K773/K774, 0)","v":0},null,{"$f":"ROUND(M774*L773,0)","v":0},0,{"$f":"N773-O773","v":0},0,0,0,153,998,764,0,0,764,153,998,764,0,0]
["01530999","0153","0999",765,153,"Leominster                   ",999,"Total",91159936.339999989,1,{"$f":"SUM(K770:K773)","v":99599000.579999998},{"$f":"SUM(L770:L773)","v":1},{"$f":"VLOOKUP(E774,town351,24)","v":35204065},{"$f":"SUM(N770:N773)","v":35204065},33607699,{"$f":"SUM(P770:P773)","v":1596366},4.7500008852138311,5976,6020,153,999,765,6020,99599000.579999998,765,153,999,765,6020,99599000.579999998]
["01540154","0154","0154",766,154,"Leverett                     ",154,"Leverett",1361700.11,0.50666273316940325,{"$f":"X775","v":1255147.3},{"$f":"IF(K779>0, K775/K779, 0)","v":0.46442822786820637},null,{"$f":"ROUND(M779*L775,0)","v":954740},970792,{"$f":"N775-O775","v":-16052},-1.6534952904432669,112,101,154,154,766,101,1255147.3,766,154,154,766,101,1255147.3]
["01540605","0154","0605",767,154,"Leverett                     ",605,"Amherst Pelham",1325886.7616097466,0.49333726683059687,1447417.326102315,{"$f":"IF(K779>0, K776/K779, 0)","v":0.53557177213179352},null,{"$f":"ROUND(M779*L776,0)","v":1100991},945259,{"$f":"N776-O776","v":155732},16.475061332396731,98.999999994799992,102.00000000189999,154,605,767,102.00000000189999,1447417.326102315,767,154,605,767,102.00000000189999,1447417.326102315]
["01540998","0154","0998",768,154,"",998,"",0,0,0,{"$f":"IF(K779>0, K777/K779, 0)","v":0},null,{"$f":"ROUND(M779*L777,0)","v":0},0,{"$f":"N777-O777","v":0},0,0,0,154,998,768,0,0,768,154,998,768,0,0]
[{"$f":"B778&C778","v":"01540998"},"0154","0998",769,154,"",998,"",0,0,0,{"$f":"IF(K779>0, K778/K779, 0)","v":0},null,{"$f":"ROUND(M779*L778,0)","v":0},0,{"$f":"N778-O778","v":0},0,0,0,{"$f":"VLOOKUP($D778, foundoptions, VLOOKUP($T$6, foundoptcell, 2, FALSE), FALSE)","v":154},{"$f":"VLOOKUP($D778, foundoptions, VLOOKUP($T$6, foundoptcell, 2, FALSE)+1, FALSE)","v":998},{"$f":"VLOOKUP($D778, foundoptions, VLOOKUP($T$6, foundoptcell, 2, FALSE)+2, FALSE)","v":769},{"$f":"VLOOKUP($D778, foundoptions, VLOOKUP($T$6, foundoptcell, 2, FALSE)+3, FALSE)","v":0},{"$f":"VLOOKUP($D778, foundoptions, VLOOKUP($T$6, foundoptcell, 2, FALSE)+4, FALSE)","v":0},769,154,998,769,0,0]
["01540999","0154","0999",770,154,"Leverett                     ",999,"Total",2687586.8716097465,1,{"$f":"SUM(K775:K778)","v":2702564.6261023153},{"$f":"SUM(L775:L778)","v":0.99999999999999989},{"$f":"VLOOKUP(E779,town351,24)","v":2055731},{"$f":"SUM(N775:N778)","v":2055731},1916051,{"$f":"SUM(P775:P778)","v":139680},7.2899938467191117,210.99999999479999,{"$f":"W779","v":203.00000000189999},154,999,770,203.00000000189999,2702564.6261023153,{"$f":"D779","v":770},154,999,770,203.00000000189999,2702564.6261023153]
["01550155","0155","0155",771,155,"Lexington                    ",155,"Lexington",84119411.739810005,0.98404219931972681,{"$f":"X780","v":90646899.40639998},{"$f":"IF(K784>0, K780/K784, 0)","v":0.98258568381820754},null,{"$f":"ROUND(M784*L780,0)","v":73037768},69398514,{"$f":"N780-O780","v":3639254},5.2439941293267465,6850,6893,155,155,771,6893,90646899.40639998,771,155,155,771,6893,90646899.40639998]
["01550830","0155","0830",772,155,"Lexington                    ",830,"Minuteman",1364129.3095089751,1.5957800680273089E-2,1606530.3954237476,{"$f":"IF(K784>0, K781/K784, 0)","v":1.7414316181792393E-2},null,{"$f":"ROUND(M784*L781,0)","v":1294445},1125407,{"$f":"N781-O781","v":169038},15.020166037709025,69.12545454295001,77.000000002679997,155,830,772,77.000000002679997,1606530.3954237476,772,155,830,772,77.000000002679997,1606530.3954237476]
["01550998","0155","0998",773,155,"",998,null,0,0,0,{"$f":"IF(K784>0, K782/K784, 0)","v":0},null,{"$f":"ROUND(M784*L782,0)","v":0},0,{"$f":"N782-O782","v":0},0,0,0,155,998,773,0,0,773,155,998,773,0,0]
["01550998","0155","0998",774,155,"",998,"",0,0,0,{"$f":"IF(K784>0, K783/K784, 0)","v":0},null,{"$f":"ROUND(M784*L783,0)","v":0},0,{"$f":"N783-O783","v":0},0,0,0,155,998,774,0,0,774,155,998,774,0,0]
["01550999","0155","0999",775,155,"Lexington                    ",999,"Total",85483541.049318984,0.99999999999999989,{"$f":"SUM(K780:K783)","v":92253429.801823735},{"$f":"SUM(L780:L783)","v":0.99999999999999989},{"$f":"VLOOKUP(E784,town351,24)","v":74332213},{"$f":"SUM(N780:N783)","v":74332213},70523921,{"$f":"SUM(P780:P783)","v":3808292},{"$f":"IF(O784>0,P784*100/O784,IF(P784>0,100,0))","v":5.4000003771769869},6919.1254545429501,6970.0000000026803,155,999,775,6970.0000000026803,92253429.801823735,775,155,999,775,6970.0000000026803,92253429.801823735]
["01560156","0156","0156",776,156,"Leyden                       ",156,"Leyden",0,0,{"$f":"X785","v":0},{"$f":"IF(K789>0, K785/K789, 0)","v":0},null,{"$f":"ROUND(M789*L785,0)","v":0},0,{"$f":"N785-O785","v":0},0,0,0,156,156,776,0,0,776,156,156,776,0,0]
["01560750","0156","0750",777,156,"Leyden                       ",750,"Pioneer",660890.35592480772,1,823620.64266951056,{"$f":"IF(K789>0, K786/K789, 0)","v":0.97472285620230326},null,{"$f":"ROUND(M789*L786,0)","v":551205},530686,{"$f":"N786-O786","v":20519},3.8665048635162789,51.353032656950006,59.637457042639994,156,750,777,59.637457042639994,823620.64266951056,777,156,750,777,59.637457042639994,823620.64266951056]
["01560818","0156","0818",778,156,"Leyden                       ",818,"Franklin County",0,0,21358.663426260795,{"$f":"IF(K789>0, K787/K789, 0)","v":2.5277143797696706E-2},null,{"$f":"ROUND(M789*L787,0)","v":14294},0,{"$f":"N787-O787","v":14294},100,0,1.0000000024,156,818,778,1.0000000024,21358.663426260795,778,156,818,778,1.0000000024,21358.663426260795]
["01560998","0156","0998",779,156,"",998,"",0,0,0,{"$f":"IF(K789>0, K788/K789, 0)","v":0},null,{"$f":"ROUND(M789*L788,0)","v":0},0,{"$f":"N788-O788","v":0},0,0,0,156,998,779,0,0,779,156,998,779,0,0]
["01560999","0156","0999",780,156,"Leyden                       ",999,"Total",660890.35592480772,1,{"$f":"SUM(K785:K788)","v":844979.30609577138},{"$f":"SUM(L785:L788)","v":1},{"$f":"VLOOKUP(E789,town351,24)","v":565499},{"$f":"SUM(N785:N788)","v":565499},530686,{"$f":"SUM(P785:P788)","v":34813},6.5599996985034466,51.353032656950006,60.637457045039994,156,999,780,60.637457045039994,844979.30609577138,780,156,999,780,60.637457045039994,844979.30609577138]
["01570157","0157","0157",781,157,"Lincoln                      ",157,"Lincoln",7110979.0267200004,0.74563639602017528,{"$f":"X790","v":7355301.9672800004},{"$f":"IF(K794>0, K790/K794, 0)","v":0.74579226041639202},null,{"$f":"ROUND(M794*L790,0)","v":6068124},5866558,{"$f":"N790-O790","v":201566},3.4358477321795848,607,586,157,157,781,586,7355301.9672800004,781,157,157,781,586,7355301.9672800004]
["01570695","0157","0695",782,157,"Lincoln                      ",695,"Lincoln Sudbury",2425812.7187939789,0.25436360397982472,2507098.539763846,{"$f":"IF(K794>0, K791/K794, 0)","v":0.25420773958360804},null,{"$f":"ROUND(M794*L791,0)","v":2068356},2001295,{"$f":"N791-O791","v":67061},3.3508803050025109,195.83102492730998,192.13568904192002,157,695,782,192.13568904192002,2507098.539763846,782,157,695,782,192.13568904192002,2507098.539763846]
["01570830","0157","0830",783,157,null,998,null,0,0,0,{"$f":"IF(K794>0, K792/K794, 0)","v":0},null,{"$f":"ROUND(M794*L792,0)","v":0},0,{"$f":"N792-O792","v":0},0,0,0,157,998,783,0,0,783,157,998,783,0,0]
["01570998","0157","0998",784,157,"",998,"",0,0,0,{"$f":"IF(K794>0, K793/K794, 0)","v":0},null,{"$f":"ROUND(M794*L793,0)","v":0},0,{"$f":"N793-O793","v":0},0,0,0,157,998,784,0,0,784,157,998,784,0,0]
["01570999","0157","0999",785,157,"Lincoln                      ",999,"Total",9536791.7455139793,1,{"$f":"SUM(K790:K793)","v":9862400.507043846},{"$f":"SUM(L790:L793)","v":1},{"$f":"VLOOKUP(E794,town351,24)","v":8136480},{"$f":"SUM(N790:N793)","v":8136480},7867853,{"$f":"SUM(P790:P793)","v":268627},3.4142351159839919,802.83102492730995,778.13568904192005,157,999,785,778.13568904192005,9862400.507043846,785,157,999,785,778.13568904192005,9862400.507043846]
["01580158","0158","0158",786,158,"Littleton                    ",158,"Littleton",18465845.970000003,0.95961801218491283,{"$f":"X795","v":20056951.579999998},{"$f":"IF(K799>0, K795/K799, 0)","v":0.95727098428278967},null,{"$f":"ROUND(M799*L795,0)","v":15207996},14142192,{"$f":"N795-O795","v":1065804},7.536342315250705,1624,1665,158,158,786,1665,20056951.579999998,786,158,158,786,1665,20056951.579999998]
["01580852","0158","0852",787,158,"Littleton                    ",852,"Nashoba Valley",777067.08032500581,4.0381987815087138E-2,895267.70723468927,{"$f":"IF(K799>0, K796/K799, 0)","v":4.2729015717210377E-2},null,{"$f":"ROUND(M799*L796,0)","v":678828},595122,{"$f":"N796-O796","v":83706},14.065351306118746,41.00000000288,44.000000001099998,158,852,787,44.000000001099998,895267.70723468927,787,158,852,787,44.000000001099998,895267.70723468927]
["01580998","0158","0998",788,158,"",998,"",0,0,0,{"$f":"IF(K799>0, K797/K799, 0)","v":0},null,{"$f":"ROUND(M799*L797,0)","v":0},0,{"$f":"N797-O797","v":0},0,0,0,158,998,788,0,0,788,158,998,788,0,0]
["01580998","0158","0998",789,158,"",998,"",0,0,0,{"$f":"IF(K799>0, K798/K799, 0)","v":0},null,{"$f":"ROUND(M799*L798,0)","v":0},0,{"$f":"N798-O798","v":0},0,0,0,158,998,789,0,0,789,158,998,789,0,0]
["01580999","0158","0999",790,158,"Littleton                    ",999,"Total",19242913.05032501,1,{"$f":"SUM(K795:K798)","v":20952219.287234686},{"$f":"SUM(L795:L798)","v":1},{"$f":"VLOOKUP(E799,town351,24)","v":15886824},{"$f":"SUM(N795:N798)","v":15886824},14737314,{"$f":"SUM(P795:P798)","v":1149510},7.7999966615354737,1665.0000000028799,1709.0000000011,158,999,790,1709.0000000011,20952219.287234686,790,158,999,790,1709.0000000011,20952219.287234686]
["01590159","0159","0159",791,159,"Longmeadow                   ",159,"Longmeadow",31528951.400000002,1,{"$f":"X800","v":33192700.990000002},{"$f":"IF(K804>0, K800/K804, 0)","v":1},null,{"$f":"ROUND(M804*L800,0)","v":26093332},25041585,{"$f":"N800-O800","v":1051747},4.200001717143703,2742,2725,159,159,791,2725,33192700.990000002,791,159,159,791,2725,33192700.990000002]
["01590998","0159","0998",792,159,"",998,"",0,0,0,{"$f":"IF(K804>0, K801/K804, 0)","v":0},null,{"$f":"ROUND(M804*L801,0)","v":0},0,{"$f":"N801-O801","v":0},0,0,0,159,998,792,0,0,792,159,998,792,0,0]
["01590998","0159","0998",793,159,"",998,"",0,0,0,{"$f":"IF(K804>0, K802/K804, 0)","v":0},null,{"$f":"ROUND(M804*L802,0)","v":0},0,{"$f":"N802-O802","v":0},0,0,0,159,998,793,0,0,793,159,998,793,0,0]
["01590998","0159","0998",794,159,"",998,"",0,0,0,{"$f":"IF(K804>0, K803/K804, 0)","v":0},null,{"$f":"ROUND(M804*L803,0)","v":0},0,{"$f":"N803-O803","v":0},0,0,0,159,998,794,0,0,794,159,998,794,0,0]
["01590999","0159","0999",795,159,"Longmeadow                   ",999,"Total",31528951.400000002,1,{"$f":"SUM(K800:K803)","v":33192700.990000002},{"$f":"SUM(L800:L803)","v":1},{"$f":"VLOOKUP(E804,town351,24)","v":26093332},{"$f":"SUM(N800:N803)","v":26093332},25041585,{"$f":"SUM(P800:P803)","v":1051747},4.200001717143703,2742,2725,159,999,795,2725,33192700.990000002,795,159,999,795,2725,33192700.990000002]
["01600160","0160","0160",796,160,"Lowell                       ",160,"Lowell",257876444.75999999,0.87282510816506853,{"$f":"X805","v":288791629.52999997},{"$f":"IF(K809>0, K805/K809, 0)","v":0.87939015847562108},null,{"$f":"ROUND(M809*L805,0)","v":60097975},56906426,{"$f":"N805-O805","v":3191549},5.6084158228457364,16103,16323,160,160,796,16323,288791629.52999997,796,160,160,796,16323,288791629.52999997]
["01600828","0160","0828",797,160,"Lowell                       ",828,"Greater Lowell",37573860.630653873,0.12717489183493147,39608258.445328116,{"$f":"IF(K809>0, K806/K809, 0)","v":0.12060984152437894},null,{"$f":"ROUND(M809*L806,0)","v":8242538},8291545,{"$f":"N806-O806","v":-49007},-0.59104786864209269,1806.00000001076,1793.0000000079599,160,828,797,1793.0000000079599,39608258.445328116,797,160,828,797,1793.0000000079599,39608258.445328116]
["01600998","0160","0998",798,160,"",998,null,0,0,0,{"$f":"IF(K809>0, K807/K809, 0)","v":0},null,{"$f":"ROUND(M809*L807,0)","v":0},0,{"$f":"N807-O807","v":0},0,0,0,160,998,798,0,0,798,160,998,798,0,0]
["01600998","0160","0998",799,160,"",998,"",0,0,0,{"$f":"IF(K809>0, K808/K809, 0)","v":0},null,{"$f":"ROUND(M809*L808,0)","v":0},0,{"$f":"N808-O808","v":0},0,0,0,160,998,799,0,0,799,160,998,799,0,0]
["01600999","0160","0999",800,160,"Lowell                       ",999,"Total",295450305.39065385,1,{"$f":"SUM(K805:K808)","v":328399887.97532809},{"$f":"SUM(L805:L808)","v":1},{"$f":"VLOOKUP(E809,town351,24)","v":68340513},{"$f":"SUM(N805:N808)","v":68340513},65197971,{"$f":"SUM(P805:P808)","v":3142542},4.8199996898676494,17909.000000010761,18116.00000000796,160,999,800,18116.00000000796,328399887.97532809,800,160,999,800,18116.00000000796,328399887.97532809]
["01610161","0161","0161",801,161,"Ludlow                       ",161,"Ludlow",30691074.190000001,1,{"$f":"X810","v":32627792.160000004},{"$f":"IF(K814>0, K810/K814, 0)","v":1},null,{"$f":"ROUND(M814*L810,0)","v":18168773},17421395,{"$f":"N810-O810","v":747378},4.290000886840577,2311,2248,161,161,801,2248,32627792.160000004,801,161,161,801,2248,32627792.160000004]
["01610998","0161","0998",802,161,"",998,"",0,0,0,{"$f":"IF(K814>0, K811/K814, 0)","v":0},null,{"$f":"ROUND(M814*L811,0)","v":0},0,{"$f":"N811-O811","v":0},0,0,0,161,998,802,0,0,802,161,998,802,0,0]
["01610998","0161","0998",803,161,"",998,"",0,0,0,{"$f":"IF(K814>0, K812/K814, 0)","v":0},null,{"$f":"ROUND(M814*L812,0)","v":0},0,{"$f":"N812-O812","v":0},0,0,0,161,998,803,0,0,803,161,998,803,0,0]
["01610998","0161","0998",804,161,"",998,"",0,0,0,{"$f":"IF(K814>0, K813/K814, 0)","v":0},null,{"$f":"ROUND(M814*L813,0)","v":0},0,{"$f":"N813-O813","v":0},0,0,0,161,998,804,0,0,804,161,998,804,0,0]
["01610999","0161","0999",805,161,"Ludlow                       ",999,"Total",30691074.190000001,1,{"$f":"SUM(K810:K813)","v":32627792.160000004},{"$f":"SUM(L810:L813)","v":1},{"$f":"VLOOKUP(E814,town351,24)","v":18168773},{"$f":"SUM(N810:N813)","v":18168773},17421395,{"$f":"SUM(P810:P813)","v":747378},4.290000886840577,2311,2248,161,999,805,2248,32627792.160000004,805,161,999,805,2248,32627792.160000004]
["01620162","0162","0162",806,162,"Lunenburg                    ",162,"Lunenburg",20056630.419999998,0.91801183879915016,{"$f":"X815","v":20659694.909999996},{"$f":"IF(K819>0, K815/K819, 0)","v":0.91355236321345834},null,{"$f":"ROUND(M819*L815,0)","v":11910986},11334402,{"$f":"N815-O815","v":576584},5.0870262057054267,1671,1615,162,162,806,1615,20659694.909999996,806,162,162,806,1615,20659694.909999996]
["01620832","0162","0832",807,162,"Lunenburg                    ",832,"Montachusett",1791269.1084375065,8.1988161200849896E-2,1954985.6949832402,{"$f":"IF(K819>0, K816/K819, 0)","v":8.6447636786541715E-2},null,{"$f":"ROUND(M819*L816,0)","v":1127113},1012282,{"$f":"N816-O816","v":114831},11.343775746284138,94.064120054189999,97.132604232450007,162,832,807,97.132604232450007,1954985.6949832402,807,162,832,807,97.132604232450007,1954985.6949832402]
["01620998","0162","0998",808,162,"",998,"",0,0,0,{"$f":"IF(K819>0, K817/K819, 0)","v":0},null,{"$f":"ROUND(M819*L817,0)","v":0},0,{"$f":"N817-O817","v":0},0,0,0,162,998,808,0,0,808,162,998,808,0,0]
["01620998","0162","0998",809,162,"",998,"",0,0,0,{"$f":"IF(K819>0, K818/K819, 0)","v":0},null,{"$f":"ROUND(M819*L818,0)","v":0},0,{"$f":"N818-O818","v":0},0,0,0,162,998,809,0,0,809,162,998,809,0,0]
["01620999","0162","0999",810,162,"Lunenburg                    ",999,"Total",21847899.528437503,1,{"$f":"SUM(K815:K818)","v":22614680.604983237},{"$f":"SUM(L815:L818)","v":1},{"$f":"VLOOKUP(E819,town351,24)","v":13038099},{"$f":"SUM(N815:N818)","v":13038099},12346684,{"$f":"SUM(P815:P818)","v":691415},5.6000056371411144,1765.06412005419,1712.1326042324499,162,999,810,1712.1326042324499,22614680.604983237,810,162,999,810,1712.1326042324499,22614680.604983237]
["01630163","0163","0163",811,163,"Lynn                         ",163,"Lynn",299740597.38000005,1,{"$f":"X820","v":329943497.06999999},{"$f":"IF(K824>0, K820/K824, 0)","v":1},null,{"$f":"ROUND(M824*L820,0)","v":60851330},57821484,{"$f":"N820-O820","v":3029846},5.2400004123034964,17808,17895,163,163,811,17895,329943497.06999999,811,163,163,811,17895,329943497.06999999]
["01630998","0163","0998",812,163,"",998,null,0,0,0,{"$f":"IF(K824>0, K821/K824, 0)","v":0},null,{"$f":"ROUND(M824*L821,0)","v":0},0,{"$f":"N821-O821","v":0},0,0,0,163,998,812,0,0,812,163,998,812,0,0]
["01630998","0163","0998",813,163,"",998,"",0,0,0,{"$f":"IF(K824>0, K822/K824, 0)","v":0},null,{"$f":"ROUND(M824*L822,0)","v":0},0,{"$f":"N822-O822","v":0},0,0,0,163,998,813,0,0,813,163,998,813,0,0]
["01630998","0163","0998",814,163,"",998,"",0,0,0,{"$f":"IF(K824>0, K823/K824, 0)","v":0},null,{"$f":"ROUND(M824*L823,0)","v":0},0,{"$f":"N823-O823","v":0},0,0,0,163,998,814,0,0,814,163,998,814,0,0]
["01630999","0163","0999",815,163,"Lynn                         ",999,"Total",299740597.38000005,1,{"$f":"SUM(K820:K823)","v":329943497.06999999},{"$f":"SUM(L820:L823)","v":1},{"$f":"VLOOKUP(E824,town351,24)","v":60851330},{"$f":"SUM(N820:N823)","v":60851330},57821484,{"$f":"SUM(P820:P823)","v":3029846},5.2400004123034964,17808,17895,163,999,815,17895,329943497.06999999,815,163,999,815,17895,329943497.06999999]
["01640164","0164","0164",816,164,"Lynnfield                    ",164,"Lynnfield",25488528.222080003,0.97024909469270693,{"$f":"X825","v":27452371.780520003},{"$f":"IF(K829>0, K825/K829, 0)","v":0.97547511737701031},null,{"$f":"ROUND(M829*L825,0)","v":21507362},20492517,{"$f":"N825-O825","v":1014845},4.9522711143779947,2177,2207,164,164,816,2207,27452371.780520003,816,164,164,816,2207,27452371.780520003]
["01640817","0164","0817",817,164,"Lynnfield                    ",817,"Essex North Shore",781558.87359785207,2.9750905307293015E-2,690193.10041479743,{"$f":"IF(K829>0, K826/K829, 0)","v":2.4524882622989675E-2},null,{"$f":"ROUND(M829*L826,0)","v":540727},628365,{"$f":"N826-O826","v":-87638},-13.946989409021826,42.000000002500002,35.000000004389996,164,817,817,35.000000004389996,690193.10041479743,817,164,817,817,35.000000004389996,690193.10041479743]
["01640998","0164","0998",818,164,"",998,null,0,0,0,{"$f":"IF(K829>0, K827/K829, 0)","v":0},null,{"$f":"ROUND(M829*L827,0)","v":0},0,{"$f":"N827-O827","v":0},0,0,0,164,998,818,0,0,818,164,998,818,0,0]
["01640998","0164","0998",819,164,"",998,"",0,0,0,{"$f":"IF(K829>0, K828/K829, 0)","v":0},null,{"$f":"ROUND(M829*L828,0)","v":0},0,{"$f":"N828-O828","v":0},0,0,0,164,998,819,0,0,819,164,998,819,0,0]
["01640999","0164","0999",820,164,"Lynnfield                    ",999,"Total",26270087.095677856,0.99999999999999989,{"$f":"SUM(K825:K828)","v":28142564.880934801},{"$f":"SUM(L825:L828)","v":1},{"$f":"VLOOKUP(E829,town351,24)","v":22048089},{"$f":"SUM(N825:N828)","v":22048089},21120882,{"$f":"SUM(P825:P828)","v":927207},4.3900013266491431,2219.0000000025002,2242.0000000043901,164,999,820,2242.0000000043901,28142564.880934801,820,164,999,820,2242.0000000043901,28142564.880934801]
["01650165","0165","0165",821,165,"Malden                       ",165,"Malden",105452144.24998,0.9696498938788114,{"$f":"X830","v":117616659.13781999},{"$f":"IF(K834>0, K830/K834, 0)","v":0.96984399121465326},null,{"$f":"ROUND(M834*L830,0)","v":54419682},51377517,{"$f":"N830-O830","v":3042165},5.9211989555664983,6803,6940,165,165,821,6940,117616659.13781999,821,165,165,821,6940,117616659.13781999]
["01650853","0165","0853",822,165,"Malden                       ",853,"Northeast Metropolitan",3300659.1233575558,3.0350106121188634E-2,3657133.557966453,{"$f":"IF(K834>0, K831/K834, 0)","v":3.015600878534672E-2},null,{"$f":"ROUND(M834*L831,0)","v":1692108},1608120,{"$f":"N831-O831","v":83988},5.2227445713006491,154.00000000351,158.99999999919999,165,853,822,158.99999999919999,3657133.557966453,822,165,853,822,158.99999999919999,3657133.557966453]
["01650998","0165","0998",823,165,"",998,null,0,0,0,{"$f":"IF(K834>0, K832/K834, 0)","v":0},null,{"$f":"ROUND(M834*L832,0)","v":0},0,{"$f":"N832-O832","v":0},0,0,0,165,998,823,0,0,823,165,998,823,0,0]
["01650998","0165","0998",824,165,"",998,"",0,0,0,{"$f":"IF(K834>0, K833/K834, 0)","v":0},null,{"$f":"ROUND(M834*L833,0)","v":0},0,{"$f":"N833-O833","v":0},0,0,0,165,998,824,0,0,824,165,998,824,0,0]
["01650999","0165","0999",825,165,"Malden                       ",999,"Total",108752803.37333755,1,{"$f":"SUM(K830:K833)","v":121273792.69578645},{"$f":"SUM(L830:L833)","v":1},{"$f":"VLOOKUP(E834,town351,24)","v":56111790},{"$f":"SUM(N830:N833)","v":56111790},52985637,{"$f":"SUM(P830:P833)","v":3126153},5.9000007870057312,6957.0000000035097,7098.9999999991996,165,999,825,7098.9999999991996,121273792.69578645,825,165,999,825,7098.9999999991996,121273792.69578645]
["01660166","0166","0166",826,166,"Manchester                   ",166,"Manchester",0,0,{"$f":"X835","v":0},{"$f":"IF(K839>0, K835/K839, 0)","v":0},null,{"$f":"ROUND(M839*L835,0)","v":0},0,{"$f":"N835-O835","v":0},0,0,0,166,166,826,0,0,826,166,166,826,0,0]
["01660698","0166","0698",827,166,"Manchester                   ",698,"Manchester Essex",8672893.5137904864,0.97286411862520616,8656939.6483180579,{"$f":"IF(K839>0, K836/K839, 0)","v":0.97123876442751722},null,{"$f":"ROUND(M839*L836,0)","v":7141975},7155137,{"$f":"N836-O836","v":-13162},-0.18395175382386109,723.13987138716004,677.76302521037996,166,698,827,677.76302521037996,8656939.6483180579,827,166,698,827,677.76302521037996,8656939.6483180579]
["01660817","0166","0817",828,166,"Manchester                   ",817,"Essex North Shore",241911.07993479716,2.7135881374793919E-2,256357.4372042304,{"$f":"IF(K839>0, K837/K839, 0)","v":2.8761235572482745E-2},null,{"$f":"ROUND(M839*L837,0)","v":211495},199577,{"$f":"N837-O837","v":11918},5.9716299974445954,13.0000000014,12.999999996930001,166,817,828,12.999999996930001,256357.4372042304,828,166,817,828,12.999999996930001,256357.4372042304]
["01660998","0166","0998",829,166,"",998,"",0,0,0,{"$f":"IF(K839>0, K838/K839, 0)","v":0},null,{"$f":"ROUND(M839*L838,0)","v":0},0,{"$f":"N838-O838","v":0},0,0,0,166,998,829,0,0,829,166,998,829,0,0]
["01660999","0166","0999",830,166,"Manchester                   ",999,"Total",8914804.5937252827,1,{"$f":"SUM(K835:K838)","v":8913297.0855222885},{"$f":"SUM(L835:L838)","v":1},{"$f":"VLOOKUP(E839,town351,24)","v":7353470},{"$f":"SUM(N835:N838)","v":7353470},7354714,{"$f":"SUM(P835:P838)","v":-1244},-1.6914321889335195E-2,736.1398713885601,690.76302520730997,166,999,830,690.76302520730997,8913297.0855222885,830,166,999,830,690.76302520730997,8913297.0855222885]
["01670167","0167","0167",831,167,"Mansfield                    ",167,"Mansfield",43764978.669519998,0.95703923945007952,{"$f":"X840","v":46129087.005899996},{"$f":"IF(K844>0, K840/K844, 0)","v":0.95262369076338049},null,{"$f":"ROUND(M844*L840,0)","v":32585038},31365406,{"$f":"N840-O840","v":1219632},3.888462339687234,3529,3485,167,167,831,3485,46129087.005899996,831,167,167,831,3485,46129087.005899996]
["01670872","0167","0872",832,167,"Mansfield                    ",872,"Southeastern",1812317.5347200001,3.9631208509612076E-2,2070125.8640575996,{"$f":"IF(K844>0, K841/K844, 0)","v":4.2750703925942726E-2},null,{"$f":"ROUND(M844*L841,0)","v":1462312},1298848,{"$f":"N841-O841","v":163464},12.585306363793146,91.335999999999999,97.416564410649997,167,872,832,97.416564410649997,2070125.8640575996,832,167,872,832,97.416564410649997,2070125.8640575996]
[{"$f":"B842&C842","v":"01670910"},"0167","0910",833,167,"Mansfield                    ",910,"Bristol County",152258.93361162383,3.3295520403082792E-3,223986.60866828781,{"$f":"IF(K844>0, K842/K844, 0)","v":4.6256053106766733E-3},null,{"$f":"ROUND(M844*L842,0)","v":158221},109121,{"$f":"N842-O842","v":49100},44.9959219581932,7.9999999984800008,10.999999998129999,{"$f":"VLOOKUP($D842, foundoptions, VLOOKUP($T$6, foundoptcell, 2, FALSE), FALSE)","v":167},{"$f":"VLOOKUP($D842, foundoptions, VLOOKUP($T$6, foundoptcell, 2, FALSE)+1, FALSE)","v":910},{"$f":"VLOOKUP($D842, foundoptions, VLOOKUP($T$6, foundoptcell, 2, FALSE)+2, FALSE)","v":833},{"$f":"VLOOKUP($D842, foundoptions, VLOOKUP($T$6, foundoptcell, 2, FALSE)+3, FALSE)","v":10.999999998129999},{"$f":"VLOOKUP($D842, foundoptions, VLOOKUP($T$6, foundoptcell, 2, FALSE)+4, FALSE)","v":223986.60866828781},833,167,910,833,10.999999998129999,223986.60866828781]
["01670998","0167","0998",834,167,"",998,"",0,0,0,{"$f":"IF(K844>0, K843/K844, 0)","v":0},null,{"$f":"ROUND(M844*L843,0)","v":0},0,{"$f":"N843-O843","v":0},0,0,{"$f":"W843","v":0},167,998,834,0,0,{"$f":"D843","v":834},167,998,834,0,0]
["01670999","0167","0999",835,167,"Mansfield                    ",999,"Total",45729555.137851626,0.99999999999999989,{"$f":"SUM(K840:K843)","v":48423199.478625886},{"$f":"SUM(L840:L843)","v":0.99999999999999989},{"$f":"VLOOKUP(E844,town351,24)","v":34205572},{"$f":"SUM(N840:N843)","v":34205571},32773375,{"$f":"SUM(P840:P843)","v":1432196},4.369998512512062,3628.3359999984796,3593.4165644087802,167,999,835,3593.4165644087802,48423199.478625886,835,167,999,835,3593.4165644087802,48423199.478625886]
["01680168","0168","0168",836,168,"Marblehead                   ",168,"Marblehead",30912361.050000004,0.979943272072475,{"$f":"X845","v":32681938.290000007},{"$f":"IF(K849>0, K845/K849, 0)","v":0.98455429337161449},null,{"$f":"ROUND(M849*L845,0)","v":26962599},25502698,{"$f":"N845-O845","v":1459901},5.7244962866281837,2659,2658,168,168,836,2658,32681938.290000007,836,168,168,836,2658,32681938.290000007]
["01680817","0168","0817",837,168,"Marblehead                   ",817,"Essex North Shore",632690.51673372323,2.0056727927524956E-2,512714.8744084608,{"$f":"IF(K849>0, K846/K849, 0)","v":1.5445706628385477E-2},null,{"$f":"ROUND(M849*L846,0)","v":422990},521970,{"$f":"N846-O846","v":-98980},-18.962775638446654,34.000000002650005,25.999999993860001,168,817,837,25.999999993860001,512714.8744084608,837,168,817,837,25.999999993860001,512714.8744084608]
["01680998","0168","0998",838,168,"",998,null,0,0,0,{"$f":"IF(K849>0, K847/K849, 0)","v":0},null,{"$f":"ROUND(M849*L847,0)","v":0},0,{"$f":"N847-O847","v":0},0,0,0,168,998,838,0,0,838,168,998,838,0,0]
["01680998","0168","0998",839,168,"",998,"",0,0,0,{"$f":"IF(K849>0, K848/K849, 0)","v":0},null,{"$f":"ROUND(M849*L848,0)","v":0},0,{"$f":"N848-O848","v":0},{"$f":"IF(O848>0,P848*100/O848,IF(P848>0,100,0))","v":0},0,0,168,998,839,0,0,839,168,998,839,0,0]
["01680999","0168","0999",840,168,"Marblehead                   ",999,"Total",31545051.566733729,1,{"$f":"SUM(K845:K848)","v":33194653.164408468},{"$f":"SUM(L845:L848)","v":1},{"$f":"VLOOKUP(E849,town351,24)","v":27385589},{"$f":"SUM(N845:N848)","v":27385589},26024668,{"$f":"SUM(P845:P848)","v":1360921},{"$f":"IF(O849>0,P849*100/O849,IF(P849>0,100,0))","v":5.2293500919973308},2693.0000000026498,2683.99999999386,168,999,840,2683.99999999386,33194653.164408468,840,168,999,840,2683.99999999386,33194653.164408468]
["01690169","0169","0169",841,169,"Marion                       ",169,"Marion",4816493.6300000008,0.5267871247479875,{"$f":"X850","v":5068217.2599999988},{"$f":"IF(K854>0, K850/K854, 0)","v":0.52268072520947206},null,{"$f":"ROUND(M854*L850,0)","v":3913467},3774727,{"$f":"N850-O850","v":138740},3.6754975922762094,409,401,169,169,841,401,5068217.2599999988,841,169,169,841,401,5068217.2599999988]
["01690740","0169","0740",842,169,"Marion                       ",740,"Old Rochester",3915204.5434672832,0.4282117869744565,4081294.1834738483,{"$f":"IF(K854>0, K851/K854, 0)","v":0.42090022865580778},null,{"$f":"ROUND(M854*L851,0)","v":3151406},3068379,{"$f":"N851-O851","v":83027},2.705891286571835,314.99999999669001,304.9999999977,169,740,842,304.9999999977,4081294.1834738483,842,169,740,842,304.9999999977,4081294.1834738483]
["01690879","0169","0879",843,169,"Marion                       ",879,"Upper Cape Cod",411451.69433593744,4.5001088277556021E-2,547071.98796766053,{"$f":"IF(K854>0, K852/K854, 0)","v":5.6419046134720055E-2},null,{"$f":"ROUND(M854*L852,0)","v":422426},322458,{"$f":"N852-O852","v":99968},31.001866909799105,21.109375,26.1318124236,169,879,843,26.1318124236,547071.98796766053,843,169,879,843,26.1318124236,547071.98796766053]
["01690998","0169","0998",844,169,"",998,"",0,0,0,{"$f":"IF(K854>0, K853/K854, 0)","v":0},null,{"$f":"ROUND(M854*L853,0)","v":0},0,{"$f":"N853-O853","v":0},0,0,0,169,998,844,0,0,844,169,998,844,0,0]
["01690999","0169","0999",845,169,"Marion                       ",999,"Total",9143149.8678032216,1,{"$f":"SUM(K850:K853)","v":9696583.4314415082},{"$f":"SUM(L850:L853)","v":0.99999999999999989},{"$f":"VLOOKUP(E854,town351,24)","v":7487299},{"$f":"SUM(N850:N853)","v":7487299},7165564,{"$f":"SUM(P850:P853)","v":321735},4.490016417409711,745.10937499669001,732.13181242129997,169,999,845,732.13181242129997,9696583.4314415082,845,169,999,845,732.13181242129997,9696583.4314415082]
["01700170","0170","0170",846,170,"Marlborough                  ",170,"Marlborough",77315386.541280001,0.88974523497423252,{"$f":"X855","v":87221684.996450007},{"$f":"IF(K859>0, K855/K859, 0)","v":0.8856940020073838},null,{"$f":"ROUND(M859*L855,0)","v":41360456},39639041,{"$f":"N855-O855","v":1721415},4.3427261522295657,5218,5370,170,170,846,5370,87221684.996450007,846,170,170,846,5370,87221684.996450007]
["01700801","0170","0801",847,170,"Marlborough                  ",801,"Assabet Valley",9580708.5454434436,0.1102547650257675,11256666.216007294,{"$f":"IF(K859>0, K856/K859, 0)","v":0.11430599799261616},null,{"$f":"ROUND(M859*L856,0)","v":5337903},4911960,{"$f":"N856-O856","v":425943},8.6715486282461587,460.99999999689999,510.00000000347995,170,801,847,510.00000000347995,11256666.216007294,847,170,801,847,510.00000000347995,11256666.216007294]
["01700998","0170","0998",848,170,"",998,"",0,0,0,{"$f":"IF(K859>0, K857/K859, 0)","v":0},null,{"$f":"ROUND(M859*L857,0)","v":0},0,{"$f":"N857-O857","v":0},0,0,0,170,998,848,0,0,848,170,998,848,0,0]
["01700998","0170","0998",849,170,"",998,"",0,0,0,{"$f":"IF(K859>0, K858/K859, 0)","v":0},null,{"$f":"ROUND(M859*L858,0)","v":0},0,{"$f":"N858-O858","v":0},0,0,0,170,998,849,0,0,849,170,998,849,0,0]
["01700999","0170","0999",850,170,"Marlborough                  ",999,"Total",86896095.086723447,1,{"$f":"SUM(K855:K858)","v":98478351.212457299},{"$f":"SUM(L855:L858)","v":1},{"$f":"VLOOKUP(E859,town351,24)","v":46698359},{"$f":"SUM(N855:N858)","v":46698359},44551001,{"$f":"SUM(P855:P858)","v":2147358},4.8199994428856945,5678.9999999969004,5880.0000000034797,170,999,850,5880.0000000034797,98478351.212457299,850,170,999,850,5880.0000000034797,98478351.212457299]
["01710171","0171","0171",851,171,"Marshfield                   ",171,"Marshfield",47025005.911919996,1,{"$f":"X860","v":49950295.557299994},{"$f":"IF(K864>0, K860/K864, 0)","v":1},null,{"$f":"ROUND(M864*L860,0)","v":39070159},37291361,{"$f":"N860-O860","v":1778798},4.7700002153313736,3794,3783,171,171,851,3783,49950295.557299994,851,171,171,851,3783,49950295.557299994]
["01710998","0171","0998",852,171,"",998,"",0,0,0,{"$f":"IF(K864>0, K861/K864, 0)","v":0},null,{"$f":"ROUND(M864*L861,0)","v":0},0,{"$f":"N861-O861","v":0},0,0,0,171,998,852,0,0,852,171,998,852,0,0]
["01710998","0171","0998",853,171,"",998,"",0,0,0,{"$f":"IF(K864>0, K862/K864, 0)","v":0},null,{"$f":"ROUND(M864*L862,0)","v":0},0,{"$f":"N862-O862","v":0},0,0,0,171,998,853,0,0,853,171,998,853,0,0]
["01710998","0171","0998",854,171,"",998,"",0,0,0,{"$f":"IF(K864>0, K863/K864, 0)","v":0},null,{"$f":"ROUND(M864*L863,0)","v":0},0,{"$f":"N863-O863","v":0},0,0,0,171,998,854,0,0,854,171,998,854,0,0]
["01710999","0171","0999",855,171,"Marshfield                   ",999,"Total",47025005.911919996,1,{"$f":"SUM(K860:K863)","v":49950295.557299994},{"$f":"SUM(L860:L863)","v":1},{"$f":"VLOOKUP(E864,town351,24)","v":39070159},{"$f":"SUM(N860:N863)","v":39070159},37291361,{"$f":"SUM(P860:P863)","v":1778798},4.7700002153313736,3794,3783,171,999,855,3783,49950295.557299994,855,171,999,855,3783,49950295.557299994]
["01720172","0172","0172",856,172,"Mashpee                      ",172,"Mashpee",19613343.369999997,0.94936954303693322,{"$f":"X865","v":20496134.48},{"$f":"IF(K869>0, K865/K869, 0)","v":0.94956552255041116},null,{"$f":"ROUND(M869*L865,0)","v":16524355},15743229,{"$f":"N865-O865","v":781126},4.9616632013673945,1458,1422,172,172,856,1422,20496134.48,856,172,172,856,1422,20496134.48]
["01720815","0172","0815",857,172,"Mashpee                      ",815,"Cape Cod",1045991.5684887357,5.0630456963066783E-2,1088615.5906955034,{"$f":"IF(K869>0, K866/K869, 0)","v":5.0434477449588837E-2},null,{"$f":"ROUND(M869*L866,0)","v":877662},839596,{"$f":"N866-O866","v":38066},4.5338472312874289,51.077743903079998,50.149925037060001,172,815,857,50.149925037060001,1088615.5906955034,857,172,815,857,50.149925037060001,1088615.5906955034]
["01720998","0172","0998",858,172,"",998,"",0,0,0,{"$f":"IF(K869>0, K867/K869, 0)","v":0},null,{"$f":"ROUND(M869*L867,0)","v":0},0,{"$f":"N867-O867","v":0},0,0,0,172,998,858,0,0,858,172,998,858,0,0]
["01720998","0172","0998",859,172,"",998,"",0,0,0,{"$f":"IF(K869>0, K868/K869, 0)","v":0},null,{"$f":"ROUND(M869*L868,0)","v":0},0,{"$f":"N868-O868","v":0},0,0,0,172,998,859,0,0,859,172,998,859,0,0]
["01720999","0172","0999",860,172,"Mashpee                      ",999,"Total",20659334.938488733,1,{"$f":"SUM(K865:K868)","v":21584750.070695505},{"$f":"SUM(L865:L868)","v":1},{"$f":"VLOOKUP(E869,town351,24)","v":17402017},{"$f":"SUM(N865:N868)","v":17402017},16582825,{"$f":"SUM(P865:P868)","v":819192},4.9400026834993431,1509.0777439030801,1472.14992503706,172,999,860,1472.14992503706,21584750.070695505,860,172,999,860,1472.14992503706,21584750.070695505]
["01730173","0173","0173",861,173,"Mattapoisett                 ",173,"Mattapoisett",4913934.4400000004,0.48441508810434419,{"$f":"X870","v":5079932.7300000004},{"$f":"IF(K874>0, K870/K874, 0)","v":0.49170375592868526},null,{"$f":"ROUND(M874*L870,0)","v":4120905},3933553,{"$f":"N870-O870","v":187352},4.7629204436803061,424,414,173,173,861,414,5079932.7300000004,861,173,173,861,414,5079932.7300000004]
["01730740","0173","0740",862,173,"Mattapoisett                 ",740,"Old Rochester",4399944.1537087914,0.43374598519736013,4415826.4936010586,{"$f":"IF(K874>0, K871/K874, 0)","v":0.42742268211749268},null,{"$f":"ROUND(M874*L871,0)","v":3582174},3522109,{"$f":"N871-O871","v":60065},1.7053702767290848,354.00000000416003,329.99999999799002,173,740,862,329.99999999799002,4415826.4936010586,862,173,740,862,329.99999999799002,4415826.4936010586]
["01730855","0173","0855",863,173,"Mattapoisett                 ",855,"Old Colony",830178.76674552786,8.1838926698295691E-2,835527.99710663361,{"$f":"IF(K874>0, K872/K874, 0)","v":8.087356195382206E-2},null,{"$f":"ROUND(M874*L872,0)","v":677791},664549,{"$f":"N872-O872","v":13242},1.9926295878859197,45.086538462340002,43.00000000112,173,855,863,43.00000000112,835527.99710663361,863,173,855,863,43.00000000112,835527.99710663361]
["01730998","0173","0998",864,173,"",998,"",0,0,0,{"$f":"IF(K874>0, K873/K874, 0)","v":0},null,{"$f":"ROUND(M874*L873,0)","v":0},0,{"$f":"N873-O873","v":0},0,0,0,173,998,864,0,0,864,173,998,864,0,0]
["01730999","0173","0999",865,173,"Mattapoisett                 ",999,"Total",10144057.360454319,1,{"$f":"SUM(K870:K873)","v":10331287.220707692},{"$f":"SUM(L870:L873)","v":1},{"$f":"VLOOKUP(E874,town351,24)","v":8380870},{"$f":"SUM(N870:N873)","v":8380870},8120211,{"$f":"SUM(P870:P873)","v":260659},3.2100027942623659,823.08653846650009,786.99999999911006,173,999,865,786.99999999911006,10331287.220707692,865,173,999,865,786.99999999911006,10331287.220707692]
["01740174","0174","0174",866,174,"Maynard                      ",174,"Maynard",16124411.021999998,0.91941856026996205,{"$f":"X875","v":17768872.032999996},{"$f":"IF(K879>0, K875/K879, 0)","v":0.92211170447386404},null,{"$f":"ROUND(M879*L875,0)","v":12105654},11396750,{"$f":"N875-O875","v":708904},6.2202294513786827,1239,1240,174,174,866,1240,17768872.032999996,866,174,174,866,1240,17768872.032999996]
["01740801","0174","0801",867,174,"Maynard                      ",801,"Assabet Valley",1413206.4666718701,8.0581439730037854E-2,1500888.8287152452,{"$f":"IF(K879>0, K876/K879, 0)","v":7.7888295526135964E-2},null,{"$f":"ROUND(M879*L876,0)","v":1022532},998856,{"$f":"N876-O876","v":23676},2.3703116365121701,68.000000004300006,67.999999996579987,174,801,867,67.999999996579987,1500888.8287152452,867,174,801,867,67.999999996579987,1500888.8287152452]
["01740998","0174","0998",868,174,"",998,"",0,0,0,{"$f":"IF(K879>0, K877/K879, 0)","v":0},null,{"$f":"ROUND(M879*L877,0)","v":0},0,{"$f":"N877-O877","v":0},0,0,0,174,998,868,0,0,868,174,998,868,0,0]
["01740998","0174","0998",869,174,"",998,"",0,0,0,{"$f":"IF(K879>0, K878/K879, 0)","v":0},null,{"$f":"ROUND(M879*L878,0)","v":0},0,{"$f":"N878-O878","v":0},0,0,0,174,998,869,0,0,869,174,998,869,0,0]
["01740999","0174","0999",870,174,"Maynard                      ",999,"Total",17537617.488671869,0.99999999999999989,{"$f":"SUM(K875:K878)","v":19269760.861715242},{"$f":"SUM(L875:L878)","v":1},{"$f":"VLOOKUP(E879,town351,24)","v":13128186},{"$f":"SUM(N875:N878)","v":13128186},12395606,{"$f":"SUM(P875:P878)","v":732580},5.9099974620038749,1307.0000000043001,1307.9999999965801,174,999,870,1307.9999999965801,19269760.861715242,870,174,999,870,1307.9999999965801,19269760.861715242]
["01750175","0175","0175",871,175,"Medfield                     ",175,"Medfield",28101468.769180004,0.99161206940356783,{"$f":"X880","v":29777088.9976},{"$f":"IF(K884>0, K880/K884, 0)","v":0.99302538520940464},null,{"$f":"ROUND(M884*L880,0)","v":23849002},22588503,{"$f":"N880-O880","v":1260499},5.580267979688605,2429,2427,175,175,871,2427,29777088.9976,871,175,175,871,2427,29777088.9976]
["01750878","0175","0878",872,175,"Medfield                     ",878,"Tri County",156997.27746663138,5.5399380181207231E-3,123035.68129326899,{"$f":"IF(K884>0, K881/K884, 0)","v":4.1030724937752431E-3},null,{"$f":"ROUND(M884*L881,0)","v":98541},126197,{"$f":"N881-O881","v":-27656},-21.914942510519268,8.01789709056,6.0000000005,175,878,872,6.0000000005,123035.68129326899,872,175,878,872,6.0000000005,123035.68129326899]
["01750915","0175","0915",873,175,"Medfield                     ",915,"Norfolk County",80709.762379567459,2.8479925783113599E-3,86106.731818094282,{"$f":"IF(K884>0, K882/K884, 0)","v":2.8715422968201383E-3},null,{"$f":"ROUND(M884*L882,0)","v":68964},64876,{"$f":"N882-O882","v":4088},6.3012516184721621,4.0000000011000001,4.00000000004,175,915,873,4.00000000004,86106.731818094282,873,175,915,873,4.00000000004,86106.731818094282]
["01750998","0175","0998",874,175,"",998,"",0,0,0,{"$f":"IF(K884>0, K883/K884, 0)","v":0},null,{"$f":"ROUND(M884*L883,0)","v":0},0,{"$f":"N883-O883","v":0},0,0,0,175,998,874,0,0,874,175,998,874,0,0]
["01750999","0175","0999",875,175,"Medfield                     ",999,"Total",28339175.809026204,0.99999999999999989,{"$f":"SUM(K880:K883)","v":29986231.410711363},{"$f":"SUM(L880:L883)","v":1},{"$f":"VLOOKUP(E884,town351,24)","v":24016508},{"$f":"SUM(N880:N883)","v":24016507},22779576,{"$f":"SUM(P880:P883)","v":1236931},5.4300001018456179,2441.01789709166,2437.0000000005402,175,999,875,2437.0000000005402,29986231.410711363,875,175,999,875,2437.0000000005402,29986231.410711363]
["01760176","0176","0176",876,176,"Medford                      ",176,"Medford",64950374.201000012,1,{"$f":"X885","v":71888258.341159999},{"$f":"IF(K889>0, K885/K889, 0)","v":1},null,{"$f":"ROUND(M889*L885,0)","v":54480958},51012133,{"$f":"N885-O885","v":3468825},6.7999999137460101,4455,4559,176,176,876,4559,71888258.341159999,876,176,176,876,4559,71888258.341159999]
["01760998","0176","0998",877,176,"",998,null,0,0,0,{"$f":"IF(K889>0, K886/K889, 0)","v":0},null,{"$f":"ROUND(M889*L886,0)","v":0},0,{"$f":"N886-O886","v":0},0,0,0,176,998,877,0,0,877,176,998,877,0,0]
["01760998","0176","0998",878,176,"",998,"",0,0,0,{"$f":"IF(K889>0, K887/K889, 0)","v":0},null,{"$f":"ROUND(M889*L887,0)","v":0},0,{"$f":"N887-O887","v":0},0,0,0,176,998,878,0,0,878,176,998,878,0,0]
["01760998","0176","0998",879,176,"",998,"",0,0,0,{"$f":"IF(K889>0, K888/K889, 0)","v":0},null,{"$f":"ROUND(M889*L888,0)","v":0},0,{"$f":"N888-O888","v":0},0,0,0,176,998,879,0,0,879,176,998,879,0,0]
["01760999","0176","0999",880,176,"Medford                      ",999,"Total",64950374.201000012,1,{"$f":"SUM(K885:K888)","v":71888258.341159999},{"$f":"SUM(L885:L888)","v":1},{"$f":"VLOOKUP(E889,town351,24)","v":54480958},{"$f":"SUM(N885:N888)","v":54480958},51012133,{"$f":"SUM(P885:P888)","v":3468825},6.7999999137460101,4455,4559,176,999,880,4559,71888258.341159999,880,176,999,880,4559,71888258.341159999]
["01770177","0177","0177",881,177,"Medway                       ",177,"Medway",25231553.767439991,0.94681225098213317,{"$f":"X890","v":26890897.844290003},{"$f":"IF(K894>0, K890/K894, 0)","v":0.93351346305115457},null,{"$f":"ROUND(M894*L890,0)","v":19298650},18439545,{"$f":"N890-O890","v":859105},4.6590357842343728,2121,2120,177,177,881,2120,26890897.844290003,881,177,177,881,2120,26890897.844290003]
["01770878","0177","0878",882,177,"Medway                       ",878,"Tri County",1255978.2199084957,4.7130492895394518E-2,1743005.4848601574,{"$f":"IF(K894>0, K891/K894, 0)","v":6.0508172531489636E-2},null,{"$f":"ROUND(M894*L891,0)","v":1250894},917885,{"$f":"N891-O891","v":333009},36.280035080647359,64.143176733440001,85.000000000850008,177,878,882,85.000000000850008,1743005.4848601574,882,177,878,882,85.000000000850008,1743005.4848601574]
["01770915","0177","0915",883,177,"Medway                       ",915,"Norfolk County",161419.52470384873,6.0572561224723851E-3,172213.46363618856,{"$f":"IF(K894>0, K892/K894, 0)","v":5.9783644173557748E-3},null,{"$f":"ROUND(M894*L892,0)","v":123592},117967,{"$f":"N892-O892","v":5625},4.7682826553188606,7.99999999946,8.00000000008,177,915,883,8.00000000008,172213.46363618856,883,177,915,883,8.00000000008,172213.46363618856]
["01770998","0177","0998",884,177,"",998,"",0,0,0,{"$f":"IF(K894>0, K893/K894, 0)","v":0},null,{"$f":"ROUND(M894*L893,0)","v":0},0,{"$f":"N893-O893","v":0},0,0,0,177,998,884,0,0,884,177,998,884,0,0]
["01770999","0177","0999",885,177,"Medway                       ",999,"Total",26648951.512052335,1,{"$f":"SUM(K890:K893)","v":28806116.792786349},{"$f":"SUM(L890:L893)","v":1},{"$f":"VLOOKUP(E894,town351,24)","v":20673135},{"$f":"SUM(N890:N893)","v":20673136},19475397,{"$f":"SUM(P890:P893)","v":1197739},6.1500107032477951,2193.1431767329004,2213.00000000093,177,999,885,2213.00000000093,28806116.792786349,885,177,999,885,2213.00000000093,28806116.792786349]
["01780178","0178","0178",886,178,"Melrose                      ",178,"Melrose",47377571.272,0.97529242965832585,{"$f":"X895","v":51330398.765020005},{"$f":"IF(K899>0, K895/K899, 0)","v":0.97127531046720372},null,{"$f":"ROUND(M899*L895,0)","v":39070041},37697349,{"$f":"N895-O895","v":1372692},3.6413488916687484,3972,4062,178,178,886,4062,51330398.765020005,886,178,178,886,4062,51330398.765020005]
["01780853","0178","0853",887,178,"Melrose                      ",853,"Northeast Metropolitan",1200239.681169997,2.4707570341674156E-2,1518055.4393075095,{"$f":"IF(K899>0, K896/K899, 0)","v":2.8724689532796267E-2},null,{"$f":"ROUND(M899*L896,0)","v":1155465},955006,{"$f":"N896-O896","v":200459},20.99033932771103,55.999999998899995,66.000000006260009,178,853,887,66.000000006260009,1518055.4393075095,887,178,853,887,66.000000006260009,1518055.4393075095]
["01780998","0178","0998",888,178,"",998,null,0,0,0,{"$f":"IF(K899>0, K897/K899, 0)","v":0},null,{"$f":"ROUND(M899*L897,0)","v":0},0,{"$f":"N897-O897","v":0},0,0,0,178,998,888,0,0,888,178,998,888,0,0]
["01780998","0178","0998",889,178,"",998,"",0,0,0,{"$f":"IF(K899>0, K898/K899, 0)","v":0},null,{"$f":"ROUND(M899*L898,0)","v":0},0,{"$f":"N898-O898","v":0},0,0,0,178,998,889,0,0,889,178,998,889,0,0]
["01780999","0178","0999",890,178,"Melrose                      ",999,"Total",48577810.953169994,1,{"$f":"SUM(K895:K898)","v":52848454.204327516},{"$f":"SUM(L895:L898)","v":1},{"$f":"VLOOKUP(E899,town351,24)","v":40225506},{"$f":"SUM(N895:N898)","v":40225506},38652355,{"$f":"SUM(P895:P898)","v":1573151},4.0700003919554186,4027.9999999989,4128.0000000062601,178,999,890,4128.0000000062601,52848454.204327516,890,178,999,890,4128.0000000062601,52848454.204327516]
["01790179","0179","0179",891,179,"Mendon                       ",179,"Mendon",109883.97,9.0998413023184246E-3,{"$f":"X900","v":164907.6},{"$f":"IF(K904>0, K900/K904, 0)","v":1.3252624603471045E-2},null,{"$f":"ROUND(M904*L900,0)","v":126856},82330,{"$f":"N900-O900","v":44526},54.082351512206969,7,10,179,179,891,10,164907.6,891,179,179,891,10,164907.6]
["01790710","0179","0710",892,179,"Mendon                       ",710,"Mendon Upton",10591783.674111068,0.87713931834550474,10673478.869393477,{"$f":"IF(K904>0, K901/K904, 0)","v":0.85776282396416115},null,{"$f":"ROUND(M904*L901,0)","v":8210615},7935812,{"$f":"N901-O901","v":274803},3.4628214478871224,919.06410255660001,866.02532878574993,179,710,892,866.02532878574993,10673478.869393477,892,179,710,892,866.02532878574993,10673478.869393477]
["01790805","0179","0805",893,179,"Mendon                       ",805,"Blackstone Valley",1373704.480456,0.11376084035217678,1605005.3065124403,{"$f":"IF(K904>0, K902/K904, 0)","v":0.12898455143236789},null,{"$f":"ROUND(M904*L902,0)","v":1234657},1029237,{"$f":"N902-O902","v":205420},19.958474092944581,77,85.00000000432,179,805,893,85.00000000432,1605005.3065124403,893,179,805,893,85.00000000432,1605005.3065124403]
["01790998","0179","0998",894,179,"",998,"",0,0,0,{"$f":"IF(K904>0, K903/K904, 0)","v":0},null,{"$f":"ROUND(M904*L903,0)","v":0},0,{"$f":"N903-O903","v":0},0,0,0,179,998,894,0,0,894,179,998,894,0,0]
["01790999","0179","0999",895,179,"Mendon                       ",999,"Total",12075372.124567069,1,{"$f":"SUM(K900:K903)","v":12443391.775905916},{"$f":"SUM(L900:L903)","v":1.0000000000000002},{"$f":"VLOOKUP(E904,town351,24)","v":9572127},{"$f":"SUM(N900:N903)","v":9572128},9047379,{"$f":"SUM(P900:P903)","v":524749},5.8000112518774776,1003.0641025566,961.02532879006992,179,999,895,961.02532879006992,12443391.775905916,895,179,999,895,961.02532879006992,12443391.775905916]
["01800180","0180","0180",896,180,"Merrimac                     ",180,"Merrimac",202094.16,1.9627875648552489E-2,{"$f":"X905","v":164907.6},{"$f":"IF(K909>0, K905/K909, 0)","v":1.4987034968488376E-2},null,{"$f":"ROUND(M909*L905,0)","v":115885},145289,{"$f":"N905-O905","v":-29404},-20.23828369663223,11,10,180,180,896,10,164907.6,896,180,180,896,10,164907.6]
[{"$f":"B906&C906","v":"01800745"},"0180","0745",897,180,"Merrimac                     ",745,"Pentucket",9136275.8207755554,0.88733729713446152,10006461.846343849,{"$f":"IF(K909>0, K906/K909, 0)","v":0.90940134719079058},null,{"$f":"ROUND(M909*L906,0)","v":7031799},6568248,{"$f":"N906-O906","v":463551},7.0574527636593505,794.81029218749995,818.19271948127994,{"$f":"VLOOKUP($D906, foundoptions, VLOOKUP($T$6, foundoptcell, 2, FALSE), FALSE)","v":180},{"$f":"VLOOKUP($D906, foundoptions, VLOOKUP($T$6, foundoptcell, 2, FALSE)+1, FALSE)","v":745},{"$f":"VLOOKUP($D906, foundoptions, VLOOKUP($T$6, foundoptcell, 2, FALSE)+2, FALSE)","v":897},{"$f":"VLOOKUP($D906, foundoptions, VLOOKUP($T$6, foundoptcell, 2, FALSE)+3, FALSE)","v":818.19271948127994},{"$f":"VLOOKUP($D906, foundoptions, VLOOKUP($T$6, foundoptcell, 2, FALSE)+4, FALSE)","v":10006461.846343849},897,180,745,897,818.19271948127994,10006461.846343849]
["01800885","0180","0885",898,180,"Merrimac                     ",885,"Whittier",957912.89866606134,9.3034827216985944E-2,831981.1394613802,{"$f":"IF(K909>0, K907/K909, 0)","v":7.5611617840721165E-2},null,{"$f":"ROUND(M909*L907,0)","v":584655},688662,{"$f":"N907-O907","v":-104007},-15.102764491143697,49.000000001920007,{"$f":"W907","v":40.000000000500002},180,885,898,40.000000000500002,831981.1394613802,{"$f":"D907","v":898},180,885,898,40.000000000500002,831981.1394613802]
["01800998","0180","0998",899,180,"",998,null,0,0,0,{"$f":"IF(K909>0, K908/K909, 0)","v":0},null,{"$f":"ROUND(M909*L908,0)","v":0},0,{"$f":"N908-O908","v":0},0,0,0,180,998,899,0,0,899,180,998,899,0,0]
["01800999","0180","0999",900,180,"Merrimac                     ",999,"Total",10296282.879441617,1,{"$f":"SUM(K905:K908)","v":11003350.585805228},{"$f":"SUM(L905:L908)","v":1.0000000000000002},{"$f":"VLOOKUP(E909,town351,24)","v":7732338},{"$f":"SUM(N905:N908)","v":7732339},7402199,{"$f":"SUM(P905:P908)","v":330140},4.4600260003817782,854.81029218942001,868.19271948177993,180,999,900,868.19271948177993,11003350.585805228,900,180,999,900,868.19271948177993,11003350.585805228]
["01810181","0181","0181",901,181,"Methuen                      ",181,"Methuen",99305681.999999985,0.92465239215297157,{"$f":"X910","v":109298849.82999998},{"$f":"IF(K914>0, K910/K914, 0)","v":0.91414493418554221},null,{"$f":"ROUND(M914*L910,0)","v":44617436},42704657,{"$f":"N910-O910","v":1912779},4.4790876086418399,6737,6775,181,181,901,6775,109298849.82999998,901,181,181,901,6775,109298849.82999998]
["01810823","0181","0823",902,181,"Methuen                      ",823,"Greater Lawrence",8092171.3368366342,7.5347607847028375E-2,10265177.429397166,{"$f":"IF(K914>0, K911/K914, 0)","v":8.5855065814457773E-2},null,{"$f":"ROUND(M914*L911,0)","v":4190400},3479896,{"$f":"N911-O911","v":710504},20.417391784122284,345.00000000464996,404.00000000700004,181,823,902,404.00000000700004,10265177.429397166,902,181,823,902,404.00000000700004,10265177.429397166]
["01810998","0181","0998",903,181,"",998,null,0,0,0,{"$f":"IF(K914>0, K912/K914, 0)","v":0},null,{"$f":"ROUND(M914*L912,0)","v":0},0,{"$f":"N912-O912","v":0},{"$f":"IF(O912>0,P912*100/O912,IF(P912>0,100,0))","v":0},0,0,181,998,903,0,0,903,181,998,903,0,0]
["01810998","0181","0998",904,181,"",998,"",0,0,0,{"$f":"IF(K914>0, K913/K914, 0)","v":0},null,{"$f":"ROUND(M914*L913,0)","v":0},0,{"$f":"N913-O913","v":0},{"$f":"IF(O913>0,P913*100/O913,IF(P913>0,100,0))","v":0},0,0,181,998,904,0,0,904,181,998,904,0,0]
["01810999","0181","0999",905,181,"Methuen                      ",999,"Total",107397853.33683662,1,{"$f":"SUM(K910:K913)","v":119564027.25939715},{"$f":"SUM(L910:L913)","v":1},{"$f":"VLOOKUP(E914,town351,24)","v":48807836},{"$f":"SUM(N910:N913)","v":48807836},46184553,{"$f":"SUM(P910:P913)","v":2623283},{"$f":"IF(O914>0,P914*100/O914,IF(P914>0,100,0))","v":5.6800008435720919},7082.0000000046502,7179.0000000070004,181,999,905,7179.0000000070004,119564027.25939715,905,181,999,905,7179.0000000070004,119564027.25939715]
["01820182","0182","0182",906,182,"Middleborough                ",182,"Middleborough",40901731.939999998,0.92522737556656687,{"$f":"X915","v":44333813.130000003},{"$f":"IF(K919>0, K915/K919, 0)","v":0.93303202336525981},null,{"$f":"ROUND(M919*L915,0)","v":22002952},20691229,{"$f":"N915-O915","v":1311723},6.3395122638679418,3113,3137,182,182,906,3137,44333813.130000003,906,182,182,906,3137,44333813.130000003]
["01820810","0182","0810",907,182,"Middleborough                ",810,"Bristol Plymouth",3305490.0036369925,7.4772624433433132E-2,3182040.5811050124,{"$f":"IF(K919>0, K916/K919, 0)","v":6.6967976634740162E-2},null,{"$f":"ROUND(M919*L916,0)","v":1579252},1672170,{"$f":"N916-O916","v":-92918},-5.5567316720189934,173.51107828712,157.8370144692,182,810,907,157.8370144692,3182040.5811050124,907,182,810,907,157.8370144692,3182040.5811050124]
["01820998","0182","0998",908,182,"",998,"",0,0,0,{"$f":"IF(K919>0, K917/K919, 0)","v":0},null,{"$f":"ROUND(M919*L917,0)","v":0},0,{"$f":"N917-O917","v":0},0,0,0,182,998,908,0,0,908,182,998,908,0,0]
["01820998","0182","0998",909,182,"",998,"",0,0,0,{"$f":"IF(K919>0, K918/K919, 0)","v":0},null,{"$f":"ROUND(M919*L918,0)","v":0},0,{"$f":"N918-O918","v":0},0,0,0,182,998,909,0,0,909,182,998,909,0,0]
["01820999","0182","0999",910,182,"Middleborough                ",999,"Total",44207221.943636991,1,{"$f":"SUM(K915:K918)","v":47515853.711105019},{"$f":"SUM(L915:L918)","v":1},{"$f":"VLOOKUP(E919,town351,24)","v":23582204},{"$f":"SUM(N915:N918)","v":23582204},22363399,{"$f":"SUM(P915:P918)","v":1218805},5.4499989022241211,3286.5110782871202,3294.8370144691999,182,999,910,3294.8370144691999,47515853.711105019,910,182,999,910,3294.8370144691999,47515853.711105019]
["01830183","0183","0183",911,183,"Middlefield                  ",183,"Middlefield",47093.130000000005,0.14576192814895583,{"$f":"X920","v":49472.28},{"$f":"IF(K924>0, K920/K924, 0)","v":0.14914438746955561},null,{"$f":"ROUND(M924*L920,0)","v":40815},38852,{"$f":"N920-O920","v":1963},5.0525069494491914,3,3,183,183,911,3,49472.28,911,183,183,911,3,49472.28]
["01830672","0183","0672",912,183,"Middlefield                  ",672,"Gateway",275989.3826837989,0.85423807185104417,282235.00606933748,{"$f":"IF(K924>0, K921/K924, 0)","v":0.85085561253044428},null,{"$f":"ROUND(M924*L921,0)","v":232844},227691,{"$f":"N921-O921","v":5153},2.2631548897409206,20.352185091679999,19.170731705400001,183,672,912,19.170731705400001,282235.00606933748,912,183,672,912,19.170731705400001,282235.00606933748]
["01830998","0183","0998",913,183,"",998,"",0,0,0,{"$f":"IF(K924>0, K922/K924, 0)","v":0},null,{"$f":"ROUND(M924*L922,0)","v":0},0,{"$f":"N922-O922","v":0},0,0,0,183,998,913,0,0,913,183,998,913,0,0]
["01830998","0183","0998",914,183,"",998,"",0,0,0,{"$f":"IF(K924>0, K923/K924, 0)","v":0},null,{"$f":"ROUND(M924*L923,0)","v":0},0,{"$f":"N923-O923","v":0},0,0,0,183,998,914,0,0,914,183,998,914,0,0]
["01830999","0183","0999",915,183,"Middlefield                  ",999,"Total",323082.51268379891,1,{"$f":"SUM(K920:K923)","v":331707.28606933751},{"$f":"SUM(L920:L923)","v":0.99999999999999989},{"$f":"VLOOKUP(E924,town351,24)","v":273659},{"$f":"SUM(N920:N923)","v":273659},266543,{"$f":"SUM(P920:P923)","v":7116},2.6697380910397195,23.352185091679999,22.170731705400001,183,999,915,22.170731705400001,331707.28606933751,915,183,999,915,22.170731705400001,331707.28606933751]
["01840184","0184","0184",916,184,"Middleton                    ",184,"Middleton",7809075.6739000008,0.49978108031076163,{"$f":"X925","v":8542770.1967999991},{"$f":"IF(K929>0, K925/K929, 0)","v":0.51934102878122923},null,{"$f":"ROUND(M929*L925,0)","v":6914393},6381487,{"$f":"N925-O925","v":532906},8.3508122793323878,685,703,184,184,916,703,8542770.1967999991,916,184,184,916,703,8542770.1967999991]
["01840705","0184","0705",917,184,"Middleton                    ",705,"Masconomet",6904098.2252410259,0.44186249611015843,6920489.2346745217,{"$f":"IF(K929>0, K926/K929, 0)","v":0.42071762625097708},null,{"$f":"ROUND(M929*L926,0)","v":5601343},5641950,{"$f":"N926-O926","v":-40607},-0.71973342550004871,566.66942636978001,536.66542520330995,184,705,917,536.66542520330995,6920489.2346745217,917,184,705,917,536.66542520330995,6920489.2346745217]
["01840817","0184","0817",918,184,"Middleton                    ",817,"Essex North Shore",911818.68570102588,5.8356423579079934E-2,985990.14321797481,{"$f":"IF(K929>0, K927/K929, 0)","v":5.9941344967793582E-2},null,{"$f":"ROUND(M929*L927,0)","v":798046},745128,{"$f":"N927-O927","v":52918},7.1018670617665691,48.999999994150002,49.999999994520003,184,817,918,49.999999994520003,985990.14321797481,918,184,817,918,49.999999994520003,985990.14321797481]
["01840998","0184","0998",919,184,"",998,"",0,0,0,{"$f":"IF(K929>0, K928/K929, 0)","v":0},null,{"$f":"ROUND(M929*L928,0)","v":0},0,{"$f":"N928-O928","v":0},0,0,0,184,998,919,0,0,919,184,998,919,0,0]
["01840999","0184","0999",920,184,"Middleton                    ",999,"Total",15624992.584842052,1,{"$f":"SUM(K925:K928)","v":16449249.574692497},{"$f":"SUM(L925:L928)","v":0.99999999999999989},{"$f":"VLOOKUP(E929,town351,24)","v":13313782},{"$f":"SUM(N925:N928)","v":13313782},12768565,{"$f":"SUM(P925:P928)","v":545217},4.2699943180772468,1300.6694263639299,1289.66542519783,184,999,920,1289.66542519783,16449249.574692497,920,184,999,920,1289.66542519783,16449249.574692497]
["01850185","0185","0185",921,185,"Milford                      ",185,"Milford",66524190.045280002,0.95861042036384325,{"$f":"X930","v":75437511.279999986},{"$f":"IF(K934>0, K930/K934, 0)","v":0.96172474359698923},null,{"$f":"ROUND(M934*L930,0)","v":28632172},27110718,{"$f":"N930-O930","v":1521454},5.612001865830333,4521,4704,185,185,921,4704,75437511.279999986,921,185,185,921,4704,75437511.279999986]
["01850805","0185","0805",922,185,"Milford                      ",805,"Blackstone Valley",2872291.1864080001,4.1389579636156637E-2,3002304.0437201937,{"$f":"IF(K934>0, K931/K934, 0)","v":3.8275256403010646E-2},null,{"$f":"ROUND(M934*L931,0)","v":1139519},1170550,{"$f":"N931-O931","v":-31031},-2.6509760369057283,161,158.99999999608002,185,805,922,158.99999999608002,3002304.0437201937,922,185,805,922,158.99999999608002,3002304.0437201937]
["01850998","0185","0998",923,185,"",998,"",0,0,0,{"$f":"IF(K934>0, K932/K934, 0)","v":0},null,{"$f":"ROUND(M934*L932,0)","v":0},0,{"$f":"N932-O932","v":0},0,0,0,185,998,923,0,0,923,185,998,923,0,0]
["01850998","0185","0998",924,185,"",998,"",0,0,0,{"$f":"IF(K934>0, K933/K934, 0)","v":0},null,{"$f":"ROUND(M934*L933,0)","v":0},0,{"$f":"N933-O933","v":0},0,0,0,185,998,924,0,0,924,185,998,924,0,0]
["01850999","0185","0999",925,185,"Milford                      ",999,"Total",69396481.231688008,0.99999999999999989,{"$f":"SUM(K930:K933)","v":78439815.323720187},{"$f":"SUM(L930:L933)","v":0.99999999999999989},{"$f":"VLOOKUP(E934,town351,24)","v":29771691},{"$f":"SUM(N930:N933)","v":29771691},28281268,{"$f":"SUM(P930:P933)","v":1490423},5.2700006237344095,4682,4862.9999999960801,185,999,925,4862.9999999960801,78439815.323720187,925,185,999,925,4862.9999999960801,78439815.323720187]
["01860186","0186","0186",926,186,"Millbury                     ",186,"Millbury",20670955.990000002,0.91836186181462354,{"$f":"X935","v":22434599.240000002},{"$f":"IF(K939>0, K935/K939, 0)","v":0.92740734033637073},null,{"$f":"ROUND(M939*L935,0)","v":13581840},12891181,{"$f":"N935-O935","v":690659},5.3576084301352997,1618,1638,186,186,926,1638,22434599.240000002,926,186,186,926,1638,22434599.240000002]
["01860805","0186","0805",927,186,"Millbury                     ",805,"Blackstone Valley",1837552.7465840001,8.163813818537656E-2,1756064.6293014532,{"$f":"IF(K939>0, K936/K939, 0)","v":7.2592659663629239E-2},null,{"$f":"ROUND(M939*L936,0)","v":1063116},1145967,{"$f":"N936-O936","v":-82851},-7.2297893394835979,103,92.99999999536,186,805,927,92.99999999536,1756064.6293014532,927,186,805,927,92.99999999536,1756064.6293014532]
["01860998","0186","0998",928,186,"",998,"",0,0,0,{"$f":"IF(K939>0, K937/K939, 0)","v":0},null,{"$f":"ROUND(M939*L937,0)","v":0},0,{"$f":"N937-O937","v":0},0,0,0,186,998,928,0,0,928,186,998,928,0,0]
["01860998","0186","0998",929,186,"",998,"",0,0,0,{"$f":"IF(K939>0, K938/K939, 0)","v":0},null,{"$f":"ROUND(M939*L938,0)","v":0},0,{"$f":"N938-O938","v":0},0,0,0,186,998,929,0,0,929,186,998,929,0,0]
["01860999","0186","0999",930,186,"Millbury                     ",999,"Total",22508508.736584,1,{"$f":"SUM(K935:K938)","v":24190663.869301457},{"$f":"SUM(L935:L938)","v":1},{"$f":"VLOOKUP(E939,town351,24)","v":14644956},{"$f":"SUM(N935:N938)","v":14644956},14037148,{"$f":"SUM(P935:P938)","v":607808},4.3299963781816651,1721,1730.99999999536,186,999,930,1730.99999999536,24190663.869301457,930,186,999,930,1730.99999999536,24190663.869301457]
["01870187","0187","0187",931,187,"Millis                       ",187,"Millis",12954292.108449999,0.91504990515734608,{"$f":"X940","v":14054851.192480003},{"$f":"IF(K944>0, K940/K944, 0)","v":0.93794278208466708},null,{"$f":"ROUND(M944*L940,0)","v":11047181},9957083,{"$f":"N940-O940","v":1090098},10.947965383034369,1064,1089,187,187,931,1089,14054851.192480003,931,187,187,931,1089,14054851.192480003]
["01870878","0187","0878",932,187,"Millis                       ",878,"Tri County",1000857.6440690806,7.0697393930466035E-2,779225.98146012693,{"$f":"IF(K944>0, K941/K944, 0)","v":5.2001218292116506E-2},null,{"$f":"ROUND(M944*L941,0)","v":612475},769291,{"$f":"N941-O941","v":-156816},-20.384483894911028,51.114093963519998,38.000000000050001,187,878,932,38.000000000050001,779225.98146012693,932,187,878,932,38.000000000050001,779225.98146012693]
["01870915","0187","0915",933,187,"Millis                       ",915,"Norfolk County",201774.40586598936,1.4252700912187869E-2,150686.780681665,{"$f":"IF(K944>0, K942/K944, 0)","v":1.0055999623216504E-2},null,{"$f":"ROUND(M944*L942,0)","v":118441},155090,{"$f":"N942-O942","v":-36649},-23.630795022245149,9.9999999986399999,7.00000000007,187,915,933,7.00000000007,150686.780681665,933,187,915,933,7.00000000007,150686.780681665]
["01870998","0187","0998",934,187,"",998,"",0,0,0,{"$f":"IF(K944>0, K943/K944, 0)","v":0},null,{"$f":"ROUND(M944*L943,0)","v":0},0,{"$f":"N943-O943","v":0},0,0,0,187,998,934,0,0,934,187,998,934,0,0]
["01870999","0187","0999",935,187,"Millis                       ",999,"Total",14156924.15838507,1,{"$f":"SUM(K940:K943)","v":14984763.954621794},{"$f":"SUM(L940:L943)","v":1},{"$f":"VLOOKUP(E944,town351,24)","v":11778097},{"$f":"SUM(N940:N943)","v":11778097},10881464,{"$f":"SUM(P940:P943)","v":896633},8.2400033671939727,1125.11409396216,1134.0000000001201,187,999,935,1134.0000000001201,14984763.954621794,935,187,999,935,1134.0000000001201,14984763.954621794]
["01880188","0188","0188",936,188,"Millville                    ",188,"Millville",141279.39000000001,2.4842995534135638E-2,{"$f":"X945","v":98944.56},{"$f":"IF(K949>0, K945/K949, 0)","v":1.6538994410030258E-2},null,{"$f":"ROUND(M949*L945,0)","v":47019},67617,{"$f":"N945-O945","v":-20598},-30.46275344957629,9,6,188,188,936,6,98944.56,936,188,188,936,6,98944.56]
["01880622","0188","0622",937,188,"Millville                    ",622,"Blackstone Millville",5063922.3128208136,0.89045542596565053,5392614.2090010587,{"$f":"IF(K949>0, K946/K949, 0)","v":0.90139787632708912},null,{"$f":"ROUND(M949*L946,0)","v":2562580},2423620,{"$f":"N946-O946","v":138960},5.7335720946352975,402.86431560495998,401.35330451046002,188,622,937,401.35330451046002,5392614.2090010587,937,188,622,937,401.35330451046002,5392614.2090010587]
["01880805","0188","0805",938,188,"Millville                    ",805,"Blackstone Valley",481688.58405600005,8.4701578500213842E-2,490942.79953408649,{"$f":"IF(K949>0, K947/K949, 0)","v":8.2063129262880771E-2},null,{"$f":"ROUND(M949*L947,0)","v":233297},230539,{"$f":"N947-O947","v":2758},1.1963268687727455,27,25.99999999576,188,805,938,25.99999999576,490942.79953408649,938,188,805,938,25.99999999576,490942.79953408649]
["01880998","0188","0998",939,188,"",998,"",0,0,0,{"$f":"IF(K949>0, K948/K949, 0)","v":0},null,{"$f":"ROUND(M949*L948,0)","v":0},0,{"$f":"N948-O948","v":0},0,0,0,188,998,939,0,0,939,188,998,939,0,0]
["01880999","0188","0999",940,188,"Millville                    ",999,"Total",5686890.2868768135,1,{"$f":"SUM(K945:K948)","v":5982501.5685351444},{"$f":"SUM(L945:L948)","v":1.0000000000000002},{"$f":"VLOOKUP(E949,town351,24)","v":2842895},{"$f":"SUM(N945:N948)","v":2842896},2721776,{"$f":"SUM(P945:P948)","v":121120},4.4500355650134322,438.86431560495998,433.35330450622001,188,999,940,433.35330450622001,5982501.5685351444,940,188,999,940,433.35330450622001,5982501.5685351444]
["01890189","0189","0189",941,189,"Milton                       ",189,"Milton",51259127.086869985,0.98200827721293915,{"$f":"X950","v":53957475.515560001},{"$f":"IF(K954>0, K950/K954, 0)","v":0.97674112238927147},null,{"$f":"ROUND(M954*L950,0)","v":42281594},40535520,{"$f":"N950-O950","v":1746074},4.3075159761118149,4316,4294,189,189,941,4294,53957475.515560001,941,189,189,941,4294,53957475.515560001]
["01890806","0189","0806",942,189,"Milton                       ",806,"Blue Hills",838249.48894003325,1.6058953464298909E-2,1112661.607590846,{"$f":"IF(K954>0, K951/K954, 0)","v":2.0141460234260458E-2},null,{"$f":"ROUND(M954*L951,0)","v":871892},662884,{"$f":"N951-O951","v":209008},31.530101797599581,41.000000002939998,51.000000004500002,189,806,942,51.000000004500002,1112661.607590846,942,189,806,942,51.000000004500002,1112661.607590846]
["01890915","0189","0915",943,189,"Milton                       ",915,"Norfolk County",100887.20293299468,1.9327693227620254E-3,172213.46363618856,{"$f":"IF(K954>0, K952/K954, 0)","v":3.117417376468026E-3},null,{"$f":"ROUND(M954*L952,0)","v":134948},79781,{"$f":"N952-O952","v":55167},69.14804276707487,4.9999999993199999,8.00000000008,189,915,943,8.00000000008,172213.46363618856,943,189,915,943,8.00000000008,172213.46363618856]
["01890998","0189","0998",944,189,"",998,"",0,0,0,{"$f":"IF(K954>0, K953/K954, 0)","v":0},null,{"$f":"ROUND(M954*L953,0)","v":0},0,{"$f":"N953-O953","v":0},0,0,0,189,998,944,0,0,944,189,998,944,0,0]
["01890999","0189","0999",945,189,"Milton                       ",999,"Total",52198263.778743006,1,{"$f":"SUM(K950:K953)","v":55242350.586787038},{"$f":"SUM(L950:L953)","v":0.99999999999999989},{"$f":"VLOOKUP(E954,town351,24)","v":43288434},{"$f":"SUM(N950:N953)","v":43288434},41278185,{"$f":"SUM(P950:P953)","v":2010249},4.8700033686074136,4362.0000000022601,4353.0000000045802,189,999,945,4353.0000000045802,55242350.586787038,945,189,999,945,4353.0000000045802,55242350.586787038]
["01900190","0190","0190",946,190,"Monroe                       ",190,"Monroe",226091.72999999998,0.79019660900027577,{"$f":"X955","v":203019.31000000003},{"$f":"IF(K959>0, K955/K959, 0)","v":0.65743436153445745},null,{"$f":"ROUND(M959*L955,0)","v":74223},85510,{"$f":"N955-O955","v":-11287},-13.199625774763186,22,18,190,190,946,18,203019.31000000003,946,190,190,946,18,203019.31000000003]
["01900851","0190","0851",947,190,"Monroe                       ",851,"Northern Berkshire",60029.125777958805,0.20980339099972428,105786.13413004395,{"$f":"IF(K959>0, K956/K959, 0)","v":0.34256563846554261},null,{"$f":"ROUND(M959*L956,0)","v":38675},22703,{"$f":"N956-O956","v":15972},70.351935867506498,3.0000000018600002,4.99999999992,190,851,947,4.99999999992,105786.13413004395,947,190,851,947,4.99999999992,105786.13413004395]
["01900998","0190","0998",948,190,"",998,"",0,0,0,{"$f":"IF(K959>0, K957/K959, 0)","v":0},null,{"$f":"ROUND(M959*L957,0)","v":0},0,{"$f":"N957-O957","v":0},0,0,0,190,998,948,0,0,948,190,998,948,0,0]
["01900998","0190","0998",949,190,"",998,"",0,0,0,{"$f":"IF(K959>0, K958/K959, 0)","v":0},null,{"$f":"ROUND(M959*L958,0)","v":0},0,{"$f":"N958-O958","v":0},0,0,0,190,998,949,0,0,949,190,998,949,0,0]
["01900999","0190","0999",950,190,"Monroe                       ",999,"Total",286120.85577795876,1,{"$f":"SUM(K955:K958)","v":308805.44413004396},{"$f":"SUM(L955:L958)","v":1},{"$f":"VLOOKUP(E959,town351,24)","v":112898},{"$f":"SUM(N955:N958)","v":112898},108213,{"$f":"SUM(P955:P958)","v":4685},4.3294243759991868,25.000000001860002,22.99999999992,190,999,950,22.99999999992,308805.44413004396,950,190,999,950,22.99999999992,308805.44413004396]
["01910191","0191","0191",951,191,"Monson                       ",191,"Monson",11078294.98,0.88320816917370426,{"$f":"X960","v":11361547.17},{"$f":"IF(K964>0, K960/K964, 0)","v":0.86563021396658124},null,{"$f":"ROUND(M964*L960,0)","v":6395027},6264895,{"$f":"N960-O960","v":130132},2.0771617082169773,852,810,191,191,951,810,11361547.17,951,191,191,951,810,11361547.17]
["01910860","0191","0860",952,191,"Monson                       ",860,"Pathfinder",1464948.3534085087,0.11679183082629577,1763626.8207944422,{"$f":"IF(K964>0, K961/K964, 0)","v":0.13436978603341876},null,{"$f":"ROUND(M964*L961,0)","v":992685},828444,{"$f":"N961-O961","v":164241},19.825238640149486,74.000000002649998,82.999999998299998,191,860,952,82.999999998299998,1763626.8207944422,952,191,860,952,82.999999998299998,1763626.8207944422]
["01910998","0191","0998",953,191,"",998,"",0,0,0,{"$f":"IF(K964>0, K962/K964, 0)","v":0},null,{"$f":"ROUND(M964*L962,0)","v":0},0,{"$f":"N962-O962","v":0},0,0,0,191,998,953,0,0,953,191,998,953,0,0]
["01910998","0191","0998",954,191,"",998,"",0,0,0,{"$f":"IF(K964>0, K963/K964, 0)","v":0},null,{"$f":"ROUND(M964*L963,0)","v":0},0,{"$f":"N963-O963","v":0},0,0,0,191,998,954,0,0,954,191,998,954,0,0]
["01910999","0191","0999",955,191,"Monson                       ",999,"Total",12543243.333408508,1,{"$f":"SUM(K960:K963)","v":13125173.990794443},{"$f":"SUM(L960:L963)","v":1},{"$f":"VLOOKUP(E964,town351,24)","v":7387712},{"$f":"SUM(N960:N963)","v":7387712},7093339,{"$f":"SUM(P960:P963)","v":294373},4.1499919854387333,926.00000000265004,892.99999999830004,191,999,955,892.99999999830004,13125173.990794443,955,191,999,955,892.99999999830004,13125173.990794443]
["01920192","0192","0192",956,192,"Montague                     ",192,"Montague",0,0,{"$f":"X965","v":16490.760000000002},{"$f":"IF(K969>0, K965/K969, 0)","v":1.1053031578592482E-3},null,{"$f":"ROUND(M969*L965,0)","v":7445},0,{"$f":"N965-O965","v":7445},100,0,1,192,192,956,1,16490.760000000002,956,192,192,956,1,16490.760000000002]
["01920674","0192","0674",957,192,"Montague                     ",674,"Gill Montague",12559745.381370533,0.8706482944713142,12916825.025177138,{"$f":"IF(K969>0, K966/K969, 0)","v":0.86575800568582961},null,{"$f":"ROUND(M969*L966,0)","v":5831520},5508087,{"$f":"N966-O966","v":323433},5.8719660746099329,898.03278688739999,842.10455486415003,192,674,957,842.10455486415003,12916825.025177138,957,192,674,957,842.10455486415003,12916825.025177138]
["01920818","0192","0818",958,192,"Montague                     ",818,"Franklin County",1865993.9913772377,0.12935170552868575,1986355.6938579136,{"$f":"IF(K969>0, K967/K969, 0)","v":0.13313669115631116},null,{"$f":"ROUND(M969*L967,0)","v":896774},818333,{"$f":"N967-O967","v":78441},9.5854621529377404,93.000000000179995,92.999999999200014,192,818,958,92.999999999200014,1986355.6938579136,958,192,818,958,92.999999999200014,1986355.6938579136]
["01920998","0192","0998",959,192,"",998,"",0,0,0,{"$f":"IF(K969>0, K968/K969, 0)","v":0},null,{"$f":"ROUND(M969*L968,0)","v":0},0,{"$f":"N968-O968","v":0},0,0,0,192,998,959,0,0,959,192,998,959,0,0]
["01920999","0192","0999",960,192,"Montague                     ",999,"Total",14425739.372747771,1,{"$f":"SUM(K965:K968)","v":14919671.479035052},{"$f":"SUM(L965:L968)","v":1},{"$f":"VLOOKUP(E969,town351,24)","v":6735739},{"$f":"SUM(N965:N968)","v":6735739},6326420,{"$f":"SUM(P965:P968)","v":409319},6.4699940882837375,991.03278688757996,936.10455486335002,192,999,960,936.10455486335002,14919671.479035052,960,192,999,960,936.10455486335002,14919671.479035052]
[{"$f":"B970&C970","v":"01930193"},"0193","0193",961,193,"Monterey                     ",193,"Monterey",0,0,{"$f":"X970","v":0},{"$f":"IF(K974>0, K970/K974, 0)","v":0},null,{"$f":"ROUND(M974*L970,0)","v":0},0,{"$f":"N970-O970","v":0},0,0,0,{"$f":"VLOOKUP($D970, foundoptions, VLOOKUP($T$6, foundoptcell, 2, FALSE), FALSE)","v":193},{"$f":"VLOOKUP($D970, foundoptions, VLOOKUP($T$6, foundoptcell, 2, FALSE)+1, FALSE)","v":193},{"$f":"VLOOKUP($D970, foundoptions, VLOOKUP($T$6, foundoptcell, 2, FALSE)+2, FALSE)","v":961},{"$f":"VLOOKUP($D970, foundoptions, VLOOKUP($T$6, foundoptcell, 2, FALSE)+3, FALSE)","v":0},{"$f":"VLOOKUP($D970, foundoptions, VLOOKUP($T$6, foundoptcell, 2, FALSE)+4, FALSE)","v":0},961,193,193,961,0,0]
["01930765","0193","0765",962,193,"Monterey                     ",765,"Southern Berkshire",1124113.4871761561,1,1071299.8930136755,{"$f":"IF(K974>0, K971/K974, 0)","v":1},null,{"$f":"ROUND(M974*L971,0)","v":883822},927394,{"$f":"N971-O971","v":-43572},-4.698326709036289,83.432835823999994,{"$f":"W971","v":74.684210523600001},193,765,962,74.684210523600001,1071299.8930136755,{"$f":"D971","v":962},193,765,962,74.684210523600001,1071299.8930136755]
["01930998","0193","0998",963,193,"",998,"",0,0,0,{"$f":"IF(K974>0, K972/K974, 0)","v":0},null,{"$f":"ROUND(M974*L972,0)","v":0},0,{"$f":"N972-O972","v":0},0,0,0,193,998,963,0,0,963,193,998,963,0,0]
["01930998","0193","0998",964,193,"",998,"",0,0,0,{"$f":"IF(K974>0, K973/K974, 0)","v":0},null,{"$f":"ROUND(M974*L973,0)","v":0},0,{"$f":"N973-O973","v":0},0,0,0,193,998,964,0,0,964,193,998,964,0,0]
["01930999","0193","0999",965,193,"Monterey                     ",999,"Total",1124113.4871761561,1,{"$f":"SUM(K970:K973)","v":1071299.8930136755},{"$f":"SUM(L970:L973)","v":1},{"$f":"VLOOKUP(E974,town351,24)","v":883822},{"$f":"SUM(N970:N973)","v":883822},927394,{"$f":"SUM(P970:P973)","v":-43572},-4.698326709036289,83.432835823999994,74.684210523600001,193,999,965,74.684210523600001,1071299.8930136755,965,193,999,965,74.684210523600001,1071299.8930136755]
["01940194","0194","0194",966,194,"Montgomery                   ",194,"Montgomery",47093.130000000005,5.0057907923476898E-2,{"$f":"X975","v":49472.28},{"$f":"IF(K979>0, K975/K979, 0)","v":4.5823363196205301E-2},null,{"$f":"ROUND(M979*L975,0)","v":37079},38310,{"$f":"N975-O975","v":-1231},-3.2132602453667451,3,3,194,194,966,3,49472.28,966,194,194,966,3,49472.28]
["01940672","0194","0672",967,194,"Montgomery                   ",672,"Gateway",893679.90574074397,0.94994209207652314,1030157.77221094,{"$f":"IF(K979>0, K976/K979, 0)","v":0.95417663680379472},null,{"$f":"ROUND(M979*L976,0)","v":772096},727012,{"$f":"N976-O976","v":45084},{"$f":"IF(O976>0,P976*100/O976,IF(P976>0,100,0))","v":6.2012731564265788},65.902313623379996,69.97317072864,194,672,967,69.97317072864,1030157.77221094,967,194,672,967,69.97317072864,1030157.77221094]
["01940998","0194","0998",968,194,"",998,"",0,0,0,{"$f":"IF(K979>0, K977/K979, 0)","v":0},null,{"$f":"ROUND(M979*L977,0)","v":0},0,{"$f":"N977-O977","v":0},{"$f":"IF(O977>0,P977*100/O977,IF(P977>0,100,0))","v":0},0,0,194,998,968,0,0,968,194,998,968,0,0]
["01940998","0194","0998",969,194,"",998,"",0,0,0,{"$f":"IF(K979>0, K978/K979, 0)","v":0},null,{"$f":"ROUND(M979*L978,0)","v":0},0,{"$f":"N978-O978","v":0},{"$f":"IF(O978>0,P978*100/O978,IF(P978>0,100,0))","v":0},0,0,194,998,969,0,0,969,194,998,969,0,0]
["01940999","0194","0999",970,194,"Montgomery                   ",999,"Total",940773.03574074397,1,{"$f":"SUM(K975:K978)","v":1079630.05221094},{"$f":"SUM(L975:L978)","v":1},{"$f":"VLOOKUP(E979,town351,24)","v":809175},{"$f":"SUM(N975:N978)","v":809175},765322,{"$f":"SUM(P975:P978)","v":43853},{"$f":"IF(O979>0,P979*100/O979,IF(P979>0,100,0))","v":5.7300064547994181},68.902313623379996,72.97317072864,194,999,970,72.97317072864,1079630.05221094,970,194,999,970,72.97317072864,1079630.05221094]
["01950195","0195","0195",971,195,"Mount Washington             ",195,"Mount Washington",47889.06,1,{"$f":"X980","v":78957.830000000016},{"$f":"IF(K984>0, K980/K984, 0)","v":1},null,{"$f":"ROUND(M984*L980,0)","v":65140},39508,{"$f":"N980-O980","v":25632},64.877999392528096,5,8,195,195,971,8,78957.830000000016,971,195,195,971,8,78957.830000000016]
["01950998","0195","0998",972,195,"",998,"",0,0,0,{"$f":"IF(K984>0, K981/K984, 0)","v":0},null,{"$f":"ROUND(M984*L981,0)","v":0},0,{"$f":"N981-O981","v":0},0,0,0,195,998,972,0,0,972,195,998,972,0,0]
["01950998","0195","0998",973,195,"",998,"",0,0,0,{"$f":"IF(K984>0, K982/K984, 0)","v":0},null,{"$f":"ROUND(M984*L982,0)","v":0},0,{"$f":"N982-O982","v":0},0,0,0,195,998,973,0,0,973,195,998,973,0,0]
["01950998","0195","0998",974,195,"",998,"",0,0,0,{"$f":"IF(K984>0, K983/K984, 0)","v":0},null,{"$f":"ROUND(M984*L983,0)","v":0},0,{"$f":"N983-O983","v":0},0,0,0,195,998,974,0,0,974,195,998,974,0,0]
["01950999","0195","0999",975,195,"Mount Washington             ",999,"Total",47889.06,1,{"$f":"SUM(K980:K983)","v":78957.830000000016},{"$f":"SUM(L980:L983)","v":1},{"$f":"VLOOKUP(E984,town351,24)","v":65140},{"$f":"SUM(N980:N983)","v":65140},39508,{"$f":"SUM(P980:P983)","v":25632},64.877999392528096,5,8,195,999,975,8,78957.830000000016,975,195,999,975,8,78957.830000000016]
["01960196","0196","0196",976,196,"Nahant                       ",196,"Nahant",2856293.17,0.93312811197364998,{"$f":"X985","v":2954392.4200000004},{"$f":"IF(K989>0, K985/K989, 0)","v":0.9374290436033369},null,{"$f":"ROUND(M989*L985,0)","v":2437374},2356441,{"$f":"N985-O985","v":80933},3.4345438735788418,252,248,196,196,976,248,2954392.4200000004,976,196,196,976,248,2954392.4200000004]
["01960817","0196","0817",977,196,"Nahant                       ",817,"Essex North Shore",204693.99065758937,6.687188802635001E-2,197198.02853545154,{"$f":"IF(K989>0, K986/K989, 0)","v":6.2570956396663061E-2},null,{"$f":"ROUND(M989*L986,0)","v":162688},168873,{"$f":"N986-O986","v":-6185},-3.662515618245664,10.999999998150001,9.9999999934199995,196,817,977,9.9999999934199995,197198.02853545154,977,196,817,977,9.9999999934199995,197198.02853545154]
["01960998","0196","0998",978,196,"",998,null,0,0,0,{"$f":"IF(K989>0, K987/K989, 0)","v":0},null,{"$f":"ROUND(M989*L987,0)","v":0},0,{"$f":"N987-O987","v":0},0,0,0,196,998,978,0,0,978,196,998,978,0,0]
["01960998","0196","0998",979,196,"",998,"",0,0,0,{"$f":"IF(K989>0, K988/K989, 0)","v":0},null,{"$f":"ROUND(M989*L988,0)","v":0},0,{"$f":"N988-O988","v":0},0,0,0,196,998,979,0,0,979,196,998,979,0,0]
["01960999","0196","0999",980,196,"Nahant                       ",999,"Total",3060987.1606575893,1,{"$f":"SUM(K985:K988)","v":3151590.4485354521},{"$f":"SUM(L985:L988)","v":1},{"$f":"VLOOKUP(E989,town351,24)","v":2600062},{"$f":"SUM(N985:N988)","v":2600062},2525314,{"$f":"SUM(P985:P988)","v":74748},2.9599487430078004,262.99999999814997,257.99999999341998,196,999,980,257.99999999341998,3151590.4485354521,980,196,999,980,257.99999999341998,3151590.4485354521]
["01970197","0197","0197",981,197,"Nantucket                    ",197,"Nantucket",22613557.840000004,1,{"$f":"X990","v":25201462.489999998},{"$f":"IF(K994>0, K990/K994, 0)","v":1},null,{"$f":"ROUND(M994*L990,0)","v":20791207},18656185,{"$f":"N990-O990","v":2135022},11.444043892146224,1668,1713,197,197,981,1713,25201462.489999998,981,197,197,981,1713,25201462.489999998]
["01970998","0197","0998",982,197,"",998,"",0,0,0,{"$f":"IF(K994>0, K991/K994, 0)","v":0},null,{"$f":"ROUND(M994*L991,0)","v":0},0,{"$f":"N991-O991","v":0},0,0,0,197,998,982,0,0,982,197,998,982,0,0]
["01970998","0197","0998",983,197,"",998,"",0,0,0,{"$f":"IF(K994>0, K992/K994, 0)","v":0},null,{"$f":"ROUND(M994*L992,0)","v":0},0,{"$f":"N992-O992","v":0},0,0,0,197,998,983,0,0,983,197,998,983,0,0]
["01970998","0197","0998",984,197,"",998,"",0,0,0,{"$f":"IF(K994>0, K993/K994, 0)","v":0},null,{"$f":"ROUND(M994*L993,0)","v":0},0,{"$f":"N993-O993","v":0},0,0,0,197,998,984,0,0,984,197,998,984,0,0]
["01970999","0197","0999",985,197,"Nantucket                    ",999,"Total",22613557.840000004,1,{"$f":"SUM(K990:K993)","v":25201462.489999998},{"$f":"SUM(L990:L993)","v":1},{"$f":"VLOOKUP(E994,town351,24)","v":20791207},{"$f":"SUM(N990:N993)","v":20791207},18656185,{"$f":"SUM(P990:P993)","v":2135022},11.444043892146224,1668,1713,197,999,985,1713,25201462.489999998,985,197,999,985,1713,25201462.489999998]
["01980198","0198","0198",986,198,"Natick                       ",198,"Natick",61356636.239639997,0.98244354085947028,{"$f":"X995","v":65231071.033819996},{"$f":"IF(K999>0, K995/K999, 0)","v":0.98409513057614495},null,{"$f":"ROUND(M999*L995,0)","v":52065336},49137791,{"$f":"N995-O995","v":2927545},5.9578278559571389,5284,5309,198,198,986,5309,65231071.033819996,986,198,198,986,5309,65231071.033819996]
["01980829","0198","0829",987,198,"Natick                       ",829,"South Middlesex",1096455.1471316197,1.7556459140529643E-2,1054259.5272915491,{"$f":"IF(K999>0, K996/K999, 0)","v":1.5904869423855071E-2},null,{"$f":"ROUND(M999*L996,0)","v":841476},878102,{"$f":"N996-O996","v":-36626},-4.1710416329765794,51.120567373119997,46.164677802630003,198,829,987,46.164677802630003,1054259.5272915491,987,198,829,987,46.164677802630003,1054259.5272915491]
["01980998","0198","0998",988,198,"",998,"",0,0,0,{"$f":"IF(K999>0, K997/K999, 0)","v":0},null,{"$f":"ROUND(M999*L997,0)","v":0},0,{"$f":"N997-O997","v":0},0,0,0,198,998,988,0,0,988,198,998,988,0,0]
["01980998","0198","0998",989,198,"",998,"",0,0,0,{"$f":"IF(K999>0, K998/K999, 0)","v":0},null,{"$f":"ROUND(M999*L998,0)","v":0},0,{"$f":"N998-O998","v":0},0,0,0,198,998,989,0,0,989,198,998,989,0,0]
["01980999","0198","0999",990,198,"Natick                       ",999,"Total",62453091.386771619,0.99999999999999989,{"$f":"SUM(K995:K998)","v":66285330.561111547},{"$f":"SUM(L995:L998)","v":1},{"$f":"VLOOKUP(E999,town351,24)","v":52906812},{"$f":"SUM(N995:N998)","v":52906812},50015893,{"$f":"SUM(P995:P998)","v":2890919},5.7800007689555795,5335.1205673731201,5355.1646778026297,198,999,990,5355.1646778026297,66285330.561111547,990,198,999,990,5355.1646778026297,66285330.561111547]
["01990199","0199","0199",991,199,"Needham                      ",199,"Needham",66681599.624000005,0.99000219738428963,{"$f":"X1000","v":70773642.887999997},{"$f":"IF(K1004>0, K1000/K1004, 0)","v":0.98833630619020385},null,{"$f":"ROUND(M1004*L1000,0)","v":57461187},54310286,{"$f":"N1000-O1000","v":3150901},5.8016652683434593,5565,5558,199,199,991,5558,70773642.887999997,991,199,199,991,5558,70773642.887999997]
["01990830","0199","0830",992,199,"Needham                      ",830,"Minuteman",612869.68976205995,9.0990969472227352E-3,813697.21328331891,{"$f":"IF(K1004>0, K1001/K1004, 0)","v":1.136307904068698E-2},null,{"$f":"ROUND(M1004*L1001,0)","v":660642},499165,{"$f":"N1001-O1001","v":161477},32.349423537307302,31.056363634359997,39.00000000216,199,830,992,39.00000000216,813697.21328331891,992,199,830,992,39.00000000216,813697.21328331891]
["01990915","0199","0915",993,199,"Needham                      ",915,"Norfolk County",60532.321770854047,8.9870566848773432E-4,21526.682954523571,{"$f":"IF(K1004>0, K1002/K1004, 0)","v":3.0061476910931805E-4},null,{"$f":"ROUND(M1004*L1002,0)","v":17478},49302,{"$f":"N1002-O1002","v":-31824},-64.549105512960935,3.00000000014,1.00000000001,199,915,993,1.00000000001,21526.682954523571,993,199,915,993,1.00000000001,21526.682954523571]
["01990998","0199","0998",994,199,"",998,"",0,0,0,{"$f":"IF(K1004>0, K1003/K1004, 0)","v":0},null,{"$f":"ROUND(M1004*L1003,0)","v":0},0,{"$f":"N1003-O1003","v":0},0,0,0,199,998,994,0,0,994,199,998,994,0,0]
["01990999","0199","0999",995,199,"Needham                      ",999,"Total",67355001.635532916,1.0000000000000002,{"$f":"SUM(K1000:K1003)","v":71608866.784237832},{"$f":"SUM(L1000:L1003)","v":1.0000000000000002},{"$f":"VLOOKUP(E1004,town351,24)","v":58139306},{"$f":"SUM(N1000:N1003)","v":58139307},54858753,{"$f":"SUM(P1000:P1003)","v":3280554},5.9800010401257211,5599.0563636345005,5598.0000000021701,199,999,995,5598.0000000021701,71608866.784237832,995,199,999,995,5598.0000000021701,71608866.784237832]
["02000200","0200","0200",996,200,"New Ashford                  ",200,"New Ashford",236678.27999999997,1,{"$f":"X1005","v":223427.56},{"$f":"IF(K1009>0, K1005/K1009, 0)","v":1},null,{"$f":"ROUND(M1009*L1005,0)","v":184328},195260,{"$f":"N1005-O1005","v":-10932},-5.5986889275837344,21,19,200,200,996,19,223427.56,996,200,200,996,19,223427.56]
["02000998","0200","0998",997,200,"",998,"",0,0,0,{"$f":"IF(K1009>0, K1006/K1009, 0)","v":0},null,{"$f":"ROUND(M1009*L1006,0)","v":0},0,{"$f":"N1006-O1006","v":0},0,0,0,200,998,997,0,0,997,200,998,997,0,0]
["02000998","0200","0998",998,200,"",998,"",0,0,0,{"$f":"IF(K1009>0, K1007/K1009, 0)","v":0},null,{"$f":"ROUND(M1009*L1007,0)","v":0},0,{"$f":"N1007-O1007","v":0},0,0,0,200,998,998,0,0,998,200,998,998,0,0]
["02000998","0200","0998",999,200,"",998,"",0,0,0,{"$f":"IF(K1009>0, K1008/K1009, 0)","v":0},null,{"$f":"ROUND(M1009*L1008,0)","v":0},0,{"$f":"N1008-O1008","v":0},0,0,0,200,998,999,0,0,999,200,998,999,0,0]
["02000999","0200","0999",1000,200,"New Ashford                  ",999,"Total",236678.27999999997,1,{"$f":"SUM(K1005:K1008)","v":223427.56},{"$f":"SUM(L1005:L1008)","v":1},{"$f":"VLOOKUP(E1009,town351,24)","v":184328},{"$f":"SUM(N1005:N1008)","v":184328},195260,{"$f":"SUM(P1005:P1008)","v":-10932},-5.5986889275837344,21,19,200,999,1000,19,223427.56,1000,200,999,1000,19,223427.56]
["02010201","0201","0201",1001,201,"New Bedford                  ",201,"New Bedford",233389315.13999999,0.87316989076347173,{"$f":"X1010","v":259908138.25999999},{"$f":"IF(K1014>0, K1010/K1014, 0)","v":0.87686156782804758},null,{"$f":"ROUND(M1014*L1010,0)","v":35809016},34303277,{"$f":"N1010-O1010","v":1505739},4.3894902519080032,14011,14148,201,201,1001,14148,259908138.25999999,1001,201,201,1001,14148,259908138.25999999]
["02010825","0201","0825",1002,201,"New Bedford                  ",825,"Greater New Bedford",32967795.442836691,0.12334106352840724,35379192.734479904,{"$f":"IF(K1014>0, K1011/K1014, 0)","v":0.11936007320637687},null,{"$f":"ROUND(M1014*L1011,0)","v":4874392},4845566,{"$f":"N1011-O1011","v":28826},0.59489438385526061,1607.0000000049999,1602.0000000074401,201,825,1002,1602.0000000074401,35379192.734479904,1002,201,825,1002,1602.0000000074401,35379192.734479904]
["02010910","0201","0910",1003,201,"New Bedford                  ",910,"Bristol County",932585.96857769694,3.4890457081210753E-3,1119933.043539769,{"$f":"IF(K1014>0, K1012/K1014, 0)","v":3.7783589655755439E-3},null,{"$f":"ROUND(M1014*L1012,0)","v":154300},137070,{"$f":"N1012-O1012","v":17230},12.57021959582695,49.000000001539995,55.000000000390003,201,910,1003,55.000000000390003,1119933.043539769,1003,201,910,1003,55.000000000390003,1119933.043539769]
["02010998","0201","0998",1004,201,"",998,"",0,0,0,{"$f":"IF(K1014>0, K1013/K1014, 0)","v":0},null,{"$f":"ROUND(M1014*L1013,0)","v":0},0,{"$f":"N1013-O1013","v":0},0,0,0,201,998,1004,0,0,1004,201,998,1004,0,0]
["02010999","0201","0999",1005,201,"New Bedford                  ",999,"Total",267289696.55141437,1,{"$f":"SUM(K1010:K1013)","v":296407264.03801966},{"$f":"SUM(L1010:L1013)","v":1},{"$f":"VLOOKUP(E1014,town351,24)","v":40837707},{"$f":"SUM(N1010:N1013)","v":40837708},39285913,{"$f":"SUM(P1010:P1013)","v":1551795},3.9500036565269592,15667.000000006541,15805.000000007829,201,999,1005,15805.000000007829,296407264.03801966,1005,201,999,1005,15805.000000007829,296407264.03801966]
["02020202","0202","0202",1006,202,"New Braintree                ",202,"New Braintree",31395.420000000002,1.804359855359711E-2,{"$f":"X1015","v":32981.520000000004},{"$f":"IF(K1019>0, K1015/K1019, 0)","v":1.8437372938231784E-2},null,{"$f":"ROUND(M1019*L1015,0)","v":19885},18664,{"$f":"N1015-O1015","v":1221},6.5420060008572651,2,2,202,202,1006,2,32981.520000000004,1006,202,202,1006,2,32981.520000000004]
["02020753","0202","0753",1007,202,"New Braintree                ",753,"Quabbin",1570003.9168219713,0.90231378980471411,1585870.8839119067,{"$f":"IF(K1019>0, K1016/K1019, 0)","v":0.88653563930853108},null,{"$f":"ROUND(M1019*L1016,0)","v":956165},933329,{"$f":"N1016-O1016","v":22836},2.4467256455119255,120.56577646708,114.42246520483,202,753,1007,114.42246520483,1585870.8839119067,1007,202,753,1007,114.42246520483,1585870.8839119067]
["02020860","0202","0860",1008,202,"New Braintree                ",860,"Pathfinder",138576.19559426713,7.9642611641688774E-2,169988.12724692444,{"$f":"IF(K1019>0, K1017/K1019, 0)","v":9.5026987753237119E-2},null,{"$f":"ROUND(M1019*L1017,0)","v":102491},82380,{"$f":"N1017-O1017","v":20111},24.412478756979848,7.00000000033,7.9999999970799998,202,860,1008,7.9999999970799998,169988.12724692444,1008,202,860,1008,7.9999999970799998,169988.12724692444]
["02020998","0202","0998",1009,202,"",998,"",0,0,0,{"$f":"IF(K1019>0, K1018/K1019, 0)","v":0},null,{"$f":"ROUND(M1019*L1018,0)","v":0},0,{"$f":"N1018-O1018","v":0},0,0,0,202,998,1009,0,0,1009,202,998,1009,0,0]
["02020999","0202","0999",1010,202,"New Braintree                ",999,"Total",1739975.5324162384,1,{"$f":"SUM(K1015:K1018)","v":1788840.5311588312},{"$f":"SUM(L1015:L1018)","v":1},{"$f":"VLOOKUP(E1019,town351,24)","v":1078541},{"$f":"SUM(N1015:N1018)","v":1078541},1034373,{"$f":"SUM(P1015:P1018)","v":44168},4.270026383132584,129.56577646740999,124.42246520191,202,999,1010,124.42246520191,1788840.5311588312,1010,202,999,1010,124.42246520191,1788840.5311588312]
["02030203","0203","0203",1011,203,"Newbury                      ",203,"Newbury",32378.457899999998,3.7533499219696903E-3,{"$f":"X1020","v":17004.397409999998},{"$f":"IF(K1024>0, K1020/K1024, 0)","v":1.885945393122471E-3},null,{"$f":"ROUND(M1024*L1020,0)","v":12936},24501,{"$f":"N1020-O1020","v":-11565},-47.202155014081058,2,1,203,203,1011,1,17004.397409999998,1011,203,203,1011,1,17004.397409999998]
["02030773","0203","0773",1012,203,"Newbury                      ",773,"Triton",8281382.8924260484,0.95998790087802288,8666581.6018287875,{"$f":"IF(K1024>0, K1021/K1024, 0)","v":0.96120428451507056},null,{"$f":"ROUND(M1024*L1021,0)","v":6593143},6266464,{"$f":"N1021-O1021","v":326679},5.2131313608440104,643.86500654897998,633.87461093328,203,773,1012,633.87461093328,8666581.6018287875,1012,203,773,1012,633.87461093328,8666581.6018287875]
["02030885","0203","0885",1013,203,"Newbury                      ",885,"Whittier",312787.88519217056,3.6258749200007385E-2,332792.45583759085,{"$f":"IF(K1024>0, K1022/K1024, 0)","v":3.6909770091806973E-2},null,{"$f":"ROUND(M1024*L1022,0)","v":253173},236684,{"$f":"N1022-O1022","v":16489},6.9666728633959201,15.999999996200001,16.000000002749999,203,885,1013,16.000000002749999,332792.45583759085,1013,203,885,1013,16.000000002749999,332792.45583759085]
["02030998","0203","0998",1014,203,"",998,null,0,0,0,{"$f":"IF(K1024>0, K1023/K1024, 0)","v":0},null,{"$f":"ROUND(M1024*L1023,0)","v":0},0,{"$f":"N1023-O1023","v":0},0,0,0,203,998,1014,0,0,1014,203,998,1014,0,0]
["02030999","0203","0999",1015,203,"Newbury                      ",999,"Total",8626549.2355182189,1,{"$f":"SUM(K1020:K1023)","v":9016378.4550763778},{"$f":"SUM(L1020:L1023)","v":1},{"$f":"VLOOKUP(E1024,town351,24)","v":6859253},{"$f":"SUM(N1020:N1023)","v":6859252},6527649,{"$f":"SUM(P1020:P1023)","v":331603},5.0799759607172508,661.86500654517999,650.87461093602997,203,999,1015,650.87461093602997,9016378.4550763778,1015,203,999,1015,650.87461093602997,9016378.4550763778]
["02040204","0204","0204",1016,204,"Newburyport                  ",204,"Newburyport",25407534.990000002,0.97743798538101467,{"$f":"X1025","v":27448207.989999998},{"$f":"IF(K1029>0, K1025/K1029, 0)","v":0.97849710002557433},null,{"$f":"ROUND(M1029*L1025,0)","v":21788063},20726102,{"$f":"N1025-O1025","v":1061961},5.1237854566189052,2195,2232,204,204,1016,2232,27448207.989999998,1016,204,204,1016,2232,27448207.989999998]
["02040885","0204","0885",1017,204,"Newburyport                  ",885,"Whittier",586477.28495358711,2.2562014618985334E-2,603186.32612276031,{"$f":"IF(K1029>0, K1026/K1029, 0)","v":2.1502899974425664E-2},null,{"$f":"ROUND(M1029*L1026,0)","v":478802},478417,{"$f":"N1026-O1026","v":385},8.0473728985383047E-2,30.00000000404,29.000000001000004,204,885,1017,29.000000001000004,603186.32612276031,1017,204,885,1017,29.000000001000004,603186.32612276031]
["02040998","0204","0998",1018,204,"",998,null,0,0,0,{"$f":"IF(K1029>0, K1027/K1029, 0)","v":0},null,{"$f":"ROUND(M1029*L1027,0)","v":0},0,{"$f":"N1027-O1027","v":0},0,0,0,204,998,1018,0,0,1018,204,998,1018,0,0]
["02040998","0204","0998",1019,204,"",998,"",0,0,0,{"$f":"IF(K1029>0, K1028/K1029, 0)","v":0},null,{"$f":"ROUND(M1029*L1028,0)","v":0},0,{"$f":"N1028-O1028","v":0},0,0,0,204,998,1019,0,0,1019,204,998,1019,0,0]
["02040999","0204","0999",1020,204,"Newburyport                  ",999,"Total",25994012.274953589,1,{"$f":"SUM(K1025:K1028)","v":28051394.316122759},{"$f":"SUM(L1025:L1028)","v":1},{"$f":"VLOOKUP(E1029,town351,24)","v":22266865},{"$f":"SUM(N1025:N1028)","v":22266865},21204519,{"$f":"SUM(P1025:P1028)","v":1062346},5.0099981046492967,2225.00000000404,2261.000000001,204,999,1020,2261.000000001,28051394.316122759,1020,204,999,1020,2261.000000001,28051394.316122759]
["02050205","0205","0205",1021,205,"New Marlborough              ",205,"New Marlborough",0,0,{"$f":"X1030","v":0},{"$f":"IF(K1034>0, K1030/K1034, 0)","v":0},null,{"$f":"ROUND(M1034*L1030,0)","v":0},0,{"$f":"N1030-O1030","v":0},0,0,0,205,205,1021,0,0,1021,205,205,1021,0,0]
["02050765","0205","0765",1022,205,"New Marlborough              ",765,"Southern Berkshire",1490103.9247942066,1,1627819.3179774729,{"$f":"IF(K1034>0, K1031/K1034, 0)","v":1},null,{"$f":"ROUND(M1034*L1031,0)","v":1342951},1229336,{"$f":"N1031-O1031","v":113615},9.2419810369174904,110.5970149245,113.48120300490001,205,765,1022,113.48120300490001,1627819.3179774729,1022,205,765,1022,113.48120300490001,1627819.3179774729]
["02050998","0205","0998",1023,205,"",998,"",0,0,0,{"$f":"IF(K1034>0, K1032/K1034, 0)","v":0},null,{"$f":"ROUND(M1034*L1032,0)","v":0},0,{"$f":"N1032-O1032","v":0},0,0,0,205,998,1023,0,0,1023,205,998,1023,0,0]
["02050998","0205","0998",1024,205,"",998,"",0,0,0,{"$f":"IF(K1034>0, K1033/K1034, 0)","v":0},null,{"$f":"ROUND(M1034*L1033,0)","v":0},0,{"$f":"N1033-O1033","v":0},0,0,0,205,998,1024,0,0,1024,205,998,1024,0,0]
[{"$f":"B1034&C1034","v":"02050999"},"0205","0999",1025,205,"New Marlborough              ",999,"Total",1490103.9247942066,1,{"$f":"SUM(K1030:K1033)","v":1627819.3179774729},{"$f":"SUM(L1030:L1033)","v":1},{"$f":"VLOOKUP(E1034,town351,24)","v":1342951},{"$f":"SUM(N1030:N1033)","v":1342951},1229336,{"$f":"SUM(P1030:P1033)","v":113615},9.2419810369174904,110.5970149245,113.48120300490001,{"$f":"VLOOKUP($D1034, foundoptions, VLOOKUP($T$6, foundoptcell, 2, FALSE), FALSE)","v":205},{"$f":"VLOOKUP($D1034, foundoptions, VLOOKUP($T$6, foundoptcell, 2, FALSE)+1, FALSE)","v":999},{"$f":"VLOOKUP($D1034, foundoptions, VLOOKUP($T$6, foundoptcell, 2, FALSE)+2, FALSE)","v":1025},{"$f":"VLOOKUP($D1034, foundoptions, VLOOKUP($T$6, foundoptcell, 2, FALSE)+3, FALSE)","v":113.48120300490001},{"$f":"VLOOKUP($D1034, foundoptions, VLOOKUP($T$6, foundoptcell, 2, FALSE)+4, FALSE)","v":1627819.3179774729},1025,205,999,1025,113.48120300490001,1627819.3179774729]
["02060206","0206","0206",1026,206,"New Salem                    ",206,"New Salem",0,0,{"$f":"X1035","v":0},{"$f":"IF(K1039>0, K1035/K1039, 0)","v":0},null,{"$f":"ROUND(M1039*L1035,0)","v":0},0,{"$f":"N1035-O1035","v":0},0,0,{"$f":"W1035","v":0},206,206,1026,0,0,{"$f":"D1035","v":1026},206,206,1026,0,0]
["02060728","0206","0728",1027,206,"New Salem                    ",728,"New Salem Wendell",515996.44157673593,0.36545335851268668,640437.94399443094,{"$f":"IF(K1039>0, K1036/K1039, 0)","v":0.44640276730012363},null,{"$f":"ROUND(M1039*L1036,0)","v":386419},296984,{"$f":"N1036-O1036","v":89435},30.114416938286237,39.421052631409999,43.316666666290004,206,728,1027,43.316666666290004,640437.94399443094,1027,206,728,1027,43.316666666290004,640437.94399443094]
["02060755","0206","0755",1028,206,"New Salem                    ",755,"Ralph C Mahar",635100.83593930304,0.44980878701218063,559280.67882690253,{"$f":"IF(K1039>0, K1037/K1039, 0)","v":0.38983393327487165},null,{"$f":"ROUND(M1039*L1037,0)","v":337452},365535,{"$f":"N1037-O1037","v":-28083},-7.6827116418400427,43.074912894249998,34.999999998140005,206,755,1028,34.999999998140005,559280.67882690253,1028,206,755,1028,34.999999998140005,559280.67882690253]
["02060818","0206","0818",1029,206,"New Salem                    ",818,"Franklin County",260837.8697671215,0.18473785447513266,234945.29709082618,{"$f":"IF(K1039>0, K1038/K1039, 0)","v":0.16376329942500487},null,{"$f":"ROUND(M1039*L1038,0)","v":141758},150126,{"$f":"N1038-O1038","v":-8368},-5.5739845196701436,13.00000000026,10.9999999984,206,818,1029,10.9999999984,234945.29709082618,1029,206,818,1029,10.9999999984,234945.29709082618]
["02060999","0206","0999",1030,206,"New Salem                    ",999,"Total",1411935.1472831606,1,{"$f":"SUM(K1035:K1038)","v":1434663.9199121594},{"$f":"SUM(L1035:L1038)","v":1.0000000000000002},{"$f":"VLOOKUP(E1039,town351,24)","v":865629},{"$f":"SUM(N1035:N1038)","v":865629},812645,{"$f":"SUM(P1035:P1038)","v":52984},6.5199441330470256,95.495965525919999,89.316666662830016,206,999,1030,89.316666662830016,1434663.9199121594,1030,206,999,1030,89.316666662830016,1434663.9199121594]
["02070207","0207","0207",1031,207,"Newton                       ",207,"Newton",148413207.17159998,1,{"$f":"X1040","v":156764603.61603001},{"$f":"IF(K1044>0, K1040/K1044, 0)","v":1},null,{"$f":"ROUND(M1044*L1040,0)","v":129330798},122440896,{"$f":"N1040-O1040","v":6889902},{"$f":"IF(O1040>0,P1040*100/O1040,IF(P1040>0,100,0))","v":5.6271247802694946},12007,11885,207,207,1031,11885,156764603.61603001,1031,207,207,1031,11885,156764603.61603001]
["02070998","0207","0998",1032,207,"",998,"",0,0,0,{"$f":"IF(K1044>0, K1041/K1044, 0)","v":0},null,{"$f":"ROUND(M1044*L1041,0)","v":0},0,{"$f":"N1041-O1041","v":0},{"$f":"IF(O1041>0,P1041*100/O1041,IF(P1041>0,100,0))","v":0},0,0,207,998,1032,0,0,1032,207,998,1032,0,0]
["02070998","0207","0998",1033,207,"",998,"",0,0,0,{"$f":"IF(K1044>0, K1042/K1044, 0)","v":0},null,{"$f":"ROUND(M1044*L1042,0)","v":0},0,{"$f":"N1042-O1042","v":0},{"$f":"IF(O1042>0,P1042*100/O1042,IF(P1042>0,100,0))","v":0},0,0,207,998,1033,0,0,1033,207,998,1033,0,0]
["02070998","0207","0998",1034,207,"",998,"",0,0,0,{"$f":"IF(K1044>0, K1043/K1044, 0)","v":0},null,{"$f":"ROUND(M1044*L1043,0)","v":0},0,{"$f":"N1043-O1043","v":0},{"$f":"IF(O1043>0,P1043*100/O1043,IF(P1043>0,100,0))","v":0},0,0,207,998,1034,0,0,1034,207,998,1034,0,0]
["02070999","0207","0999",1035,207,"Newton                       ",999,"Total",148413207.17159998,1,{"$f":"SUM(K1040:K1043)","v":156764603.61603001},{"$f":"SUM(L1040:L1043)","v":1},{"$f":"VLOOKUP(E1044,town351,24)","v":129330798},{"$f":"SUM(N1040:N1043)","v":129330798},122440896,{"$f":"SUM(P1040:P1043)","v":6889902},{"$f":"IF(O1044>0,P1044*100/O1044,IF(P1044>0,100,0))","v":5.6271247802694946},12007,11885,207,999,1035,11885,156764603.61603001,1035,207,999,1035,11885,156764603.61603001]
["02080208","0208","0208",1036,208,"Norfolk                      ",208,"Norfolk",11453635.647089999,0.56435245783137356,{"$f":"X1045","v":11993145.444000002},{"$f":"IF(K1049>0, K1045/K1049, 0)","v":0.54977266605686514},null,{"$f":"ROUND(M1049*L1045,0)","v":9300692},9052188,{"$f":"N1045-O1045","v":248504},2.7452368421866624,1023,1010,208,208,1036,1010,11993145.444000002,1036,208,208,1036,1010,11993145.444000002]
["02080690","0208","0690",1037,208,"Norfolk                      ",690,"King Philip",7911448.0663621202,0.38981903203731683,8700999.626213897,{"$f":"IF(K1049>0, K1046/K1049, 0)","v":0.39885881349471614},null,{"$f":"ROUND(M1049*L1046,0)","v":6747631},6252680,{"$f":"N1046-O1046","v":494951},7.9158216956569021,645.32908162665001,663.34968353709996,208,690,1037,663.34968353709996,8700999.626213897,1037,208,690,1037,663.34968353709996,8700999.626213897]
["02080878","0208","0878",1038,208,"Norfolk                      ",878,"Tri County",647613.76968143776,3.1909730142150788E-2,840743.82210676139,{"$f":"IF(K1049>0, K1047/K1049, 0)","v":3.8540179030490618E-2},null,{"$f":"ROUND(M1049*L1047,0)","v":651997},511831,{"$f":"N1047-O1047","v":140166},27.385211134143887,33.073825505279999,41.000000000300005,208,878,1038,41.000000000300005,840743.82210676139,1038,208,878,1038,41.000000000300005,840743.82210676139]
["02080915","0208","0915",1039,208,"Norfolk                      ",915,"Norfolk County",282484.16824555682,1.3918779989158718E-2,279846.8784088064,{"$f":"IF(K1049>0, K1048/K1049, 0)","v":1.2828341417928095E-2},null,{"$f":"ROUND(M1049*L1048,0)","v":217021},223257,{"$f":"N1048-O1048","v":-6236},-2.7931934944928938,13.99999999974,13.000000000129999,208,915,1039,13.000000000129999,279846.8784088064,1039,208,915,1039,13.000000000129999,279846.8784088064]
["02080999","0208","0999",1040,208,"Norfolk                      ",999,"Total",20295181.651379116,0.99999999999999989,{"$f":"SUM(K1045:K1048)","v":21814735.770729467},{"$f":"SUM(L1045:L1048)","v":1},{"$f":"VLOOKUP(E1049,town351,24)","v":16917341},{"$f":"SUM(N1045:N1048)","v":16917341},16039956,{"$f":"SUM(P1045:P1048)","v":877385},5.4699963017354909,1715.40290713167,1727.3496835375299,208,999,1040,1727.3496835375299,21814735.770729467,1040,208,999,1040,1727.3496835375299,21814735.770729467]
["02090209","0209","0209",1041,209,"North Adams                  ",209,"North Adams",20196370.640000001,0.85080018825818737,{"$f":"X1050","v":21755055.919999998},{"$f":"IF(K1054>0, K1050/K1054, 0)","v":0.86244570647366925},null,{"$f":"ROUND(M1054*L1050,0)","v":5538974},5276853,{"$f":"N1050-O1050","v":262121},4.9673735463163364,1323,1315,209,209,1041,1315,21755055.919999998,1041,209,209,1041,1315,21755055.919999998]
["02090851","0209","0851",1042,209,"North Adams                  ",851,"Northern Berkshire",3541718.4186628843,0.14919981174181263,3469785.1995078409,{"$f":"IF(K1054>0, K1051/K1054, 0)","v":0.13755429352633083},null,{"$f":"ROUND(M1054*L1051,0)","v":883429},925371,{"$f":"N1051-O1051","v":-41942},-4.5324523893659947,176.99999999796,163.99999999938001,209,851,1042,163.99999999938001,3469785.1995078409,1042,209,851,1042,163.99999999938001,3469785.1995078409]
["02090998","0209","0998",1043,209,"",998,"",0,0,0,{"$f":"IF(K1054>0, K1052/K1054, 0)","v":0},null,{"$f":"ROUND(M1054*L1052,0)","v":0},0,{"$f":"N1052-O1052","v":0},0,0,0,209,998,1043,0,0,1043,209,998,1043,0,0]
["02090998","0209","0998",1044,209,"",998,"",0,0,0,{"$f":"IF(K1054>0, K1053/K1054, 0)","v":0},null,{"$f":"ROUND(M1054*L1053,0)","v":0},0,{"$f":"N1053-O1053","v":0},0,0,0,209,998,1044,0,0,1044,209,998,1044,0,0]
["02090999","0209","0999",1045,209,"North Adams                  ",999,"Total",23738089.058662884,1,{"$f":"SUM(K1050:K1053)","v":25224841.119507838},{"$f":"SUM(L1050:L1053)","v":1},{"$f":"VLOOKUP(E1054,town351,24)","v":6422403},{"$f":"SUM(N1050:N1053)","v":6422403},6202224,{"$f":"SUM(P1050:P1053)","v":220179},3.5500007739159374,1499.99999999796,1478.99999999938,209,999,1045,1478.99999999938,25224841.119507838,1045,209,999,1045,1478.99999999938,25224841.119507838]
["02100210","0210","0210",1046,210,"Northampton                  ",210,"Northampton",33723796.18,0.90846624301195611,{"$f":"X1055","v":35618666.020000003},{"$f":"IF(K1059>0, K1055/K1059, 0)","v":0.9072463842181453},null,{"$f":"ROUND(M1059*L1055,0)","v":28077001},26638955,{"$f":"N1055-O1055","v":1438046},5.3982823275162257,2676,2668,210,210,1046,2668,35618666.020000003,1046,210,210,1046,2668,35618666.020000003]
["02100406","0210","0406",1047,210,"Northampton                  ",406,"Northampton Smith",3397887.14,9.1533756988043835E-2,3641524.6399999997,{"$f":"IF(K1059>0, K1056/K1059, 0)","v":9.2753615781854676E-2},null,{"$f":"ROUND(M1059*L1056,0)","v":2870492},2684044,{"$f":"N1056-O1056","v":186448},6.9465329182383,119,115,210,406,1047,115,3641524.6399999997,1047,210,406,1047,115,3641524.6399999997]
["02100998","0210","0998",1048,210,"",998,"",0,0,0,{"$f":"IF(K1059>0, K1057/K1059, 0)","v":0},null,{"$f":"ROUND(M1059*L1057,0)","v":0},0,{"$f":"N1057-O1057","v":0},0,0,0,210,998,1048,0,0,1048,210,998,1048,0,0]
["02100998","0210","0998",1049,210,"",998,"",0,0,0,{"$f":"IF(K1059>0, K1058/K1059, 0)","v":0},null,{"$f":"ROUND(M1059*L1058,0)","v":0},0,{"$f":"N1058-O1058","v":0},0,0,0,210,998,1049,0,0,1049,210,998,1049,0,0]
["02100999","0210","0999",1050,210,"Northampton                  ",999,"Total",37121683.32,1,{"$f":"SUM(K1055:K1058)","v":39260190.660000004},{"$f":"SUM(L1055:L1058)","v":1},{"$f":"VLOOKUP(E1059,town351,24)","v":30947493},{"$f":"SUM(N1055:N1058)","v":30947493},29322999,{"$f":"SUM(P1055:P1058)","v":1624494},5.5399995068717223,2795,2783,210,999,1050,2783,39260190.660000004,1050,210,999,1050,2783,39260190.660000004]
["02110211","0211","0211",1051,211,"North Andover                ",211,"North Andover",54375769.079999991,0.98470847710420273,{"$f":"X1060","v":57569717.300000004},{"$f":"IF(K1064>0, K1060/K1064, 0)","v":0.98350504305517783},null,{"$f":"ROUND(M1064*L1060,0)","v":45627018},43673850,{"$f":"N1060-O1060","v":1953168},4.4721681280674819,4547,4505,211,211,1051,4505,57569717.300000004,1051,211,211,1051,4505,57569717.300000004]
["02110823","0211","0823",1052,211,"North Andover                ",823,"Greater Lawrence",844400.48724737251,1.5291522895797304E-2,965536.49103740149,{"$f":"IF(K1064>0, K1061/K1064, 0)","v":1.6494956944822184E-2},null,{"$f":"ROUND(M1064*L1061,0)","v":765238},678211,{"$f":"N1061-O1061","v":87027},12.831847315953295,35.999999997300002,38.000000006699999,211,823,1052,38.000000006699999,965536.49103740149,1052,211,823,1052,38.000000006699999,965536.49103740149]
["02110998","0211","0998",1053,211,"",998,null,0,0,0,{"$f":"IF(K1064>0, K1062/K1064, 0)","v":0},null,{"$f":"ROUND(M1064*L1062,0)","v":0},0,{"$f":"N1062-O1062","v":0},0,0,0,211,998,1053,0,0,1053,211,998,1053,0,0]
["02110998","0211","0998",1054,211,"",998,"",0,0,0,{"$f":"IF(K1064>0, K1063/K1064, 0)","v":0},null,{"$f":"ROUND(M1064*L1063,0)","v":0},0,{"$f":"N1063-O1063","v":0},0,0,0,211,998,1054,0,0,1054,211,998,1054,0,0]
["02110999","0211","0999",1055,211,"North Andover                ",999,"Total",55220169.567247361,1,{"$f":"SUM(K1060:K1063)","v":58535253.791037403},{"$f":"SUM(L1060:L1063)","v":1},{"$f":"VLOOKUP(E1064,town351,24)","v":46392256},{"$f":"SUM(N1060:N1063)","v":46392256},44352061,{"$f":"SUM(P1060:P1063)","v":2040195},4.6000004374092107,4582.9999999972997,4543.0000000067002,211,999,1055,4543.0000000067002,58535253.791037403,1055,211,999,1055,4543.0000000067002,58535253.791037403]
["02120212","0212","0212",1056,212,"North Attleborough           ",212,"North Attleborough",49368540.359999999,0.90416556791465208,{"$f":"X1065","v":51608133.329999998},{"$f":"IF(K1069>0, K1065/K1069, 0)","v":0.90966855930744739},null,{"$f":"ROUND(M1069*L1065,0)","v":32183541},30579150,{"$f":"N1065-O1065","v":1604391},5.2466827887629313,4114,4031,212,212,1056,4031,51608133.329999998,1056,212,212,1056,4031,51608133.329999998]
["02120878","0212","0878",1057,212,"North Attleborough           ",878,"Tri County",5004288.2199945142,9.1651587578757077E-2,4880415.3576467857,{"$f":"IF(K1069>0, K1066/K1069, 0)","v":8.602443298664629E-2},null,{"$f":"ROUND(M1069*L1066,0)","v":3043494},3099684,{"$f":"N1066-O1066","v":-56190},-1.8127654302825706,255.57046979968001,238.00000000424998,212,878,1057,238.00000000424998,4880415.3576467857,1057,212,878,1057,238.00000000424998,4880415.3576467857]
["02120910","0212","0910",1058,212,"North Attleborough           ",910,"Bristol County",228388.40050003619,4.1828445065908411E-3,244349.02763813213,{"$f":"IF(K1069>0, K1067/K1069, 0)","v":4.307007705906407E-3},null,{"$f":"ROUND(M1069*L1067,0)","v":152379},141465,{"$f":"N1067-O1067","v":10914},7.7149825045064153,12.00000000206,11.99999999796,212,910,1058,11.99999999796,244349.02763813213,1058,212,910,1058,11.99999999796,244349.02763813213]
["02120998","0212","0998",1059,212,"",998,"",0,0,0,{"$f":"IF(K1069>0, K1068/K1069, 0)","v":0},null,{"$f":"ROUND(M1069*L1068,0)","v":0},0,{"$f":"N1068-O1068","v":0},0,0,0,212,998,1059,0,0,1059,212,998,1059,0,0]
["02120999","0212","0999",1060,212,"North Attleborough           ",999,"Total",54601216.980494551,1,{"$f":"SUM(K1065:K1068)","v":56732897.715284914},{"$f":"SUM(L1065:L1068)","v":1},{"$f":"VLOOKUP(E1069,town351,24)","v":35379415},{"$f":"SUM(N1065:N1068)","v":35379414},33820299,{"$f":"SUM(P1065:P1068)","v":1559115},4.6099976821612367,4381.5704698017398,4281.0000000022101,212,999,1060,4281.0000000022101,56732897.715284914,1060,212,999,1060,4281.0000000022101,56732897.715284914]
["02130213","0213","0213",1061,213,"Northborough                 ",213,"Northborough",18027328.710000005,0.61274548304331855,{"$f":"X1070","v":19538316.099999998},{"$f":"IF(K1074>0, K1070/K1074, 0)","v":0.62834619551850468},null,{"$f":"ROUND(M1074*L1070,0)","v":15713655},14581324,{"$f":"N1070-O1070","v":1132331},7.7656253986263524,1590,1618,213,213,1061,1618,19538316.099999998,1061,213,213,1061,1618,19538316.099999998]
["02130730","0213","0730",1062,213,"Northborough                 ",730,"Northboro Southboro",9980046.7923110779,0.33921989724175677,10143909.417489292,{"$f":"IF(K1074>0, K1071/K1074, 0)","v":0.32622498569176739},null,{"$f":"ROUND(M1074*L1071,0)","v":8158220},8072316,{"$f":"N1071-O1071","v":85904},1.0641803418002962,793.44324324218996,761.05645161210009,213,730,1062,761.05645161210009,10143909.417489292,1062,213,730,1062,761.05645161210009,10143909.417489292]
["02130801","0213","0801",1063,213,"Northborough                 ",801,"Assabet Valley",1413206.4666718701,4.8034619714924821E-2,1412601.250542918,{"$f":"IF(K1074>0, K1072/K1074, 0)","v":4.5428818789727973E-2},null,{"$f":"ROUND(M1074*L1072,0)","v":1136082},1143066,{"$f":"N1072-O1072","v":-6984},-0.61098834188052131,68.000000004300006,63.999999996209993,213,801,1063,63.999999996209993,1412601.250542918,1063,213,801,1063,63.999999996209993,1412601.250542918]
["02130998","0213","0998",1064,213,"",998,"",0,0,0,{"$f":"IF(K1074>0, K1073/K1074, 0)","v":0},null,{"$f":"ROUND(M1074*L1073,0)","v":0},0,{"$f":"N1073-O1073","v":0},0,0,0,213,998,1064,0,0,1064,213,998,1064,0,0]
["02130999","0213","0999",1065,213,"Northborough                 ",999,"Total",29420581.96898295,1.0000000000000002,{"$f":"SUM(K1070:K1073)","v":31094826.768032208},{"$f":"SUM(L1070:L1073)","v":1},{"$f":"VLOOKUP(E1074,town351,24)","v":25007957},{"$f":"SUM(N1070:N1073)","v":25007957},23796706,{"$f":"SUM(P1070:P1073)","v":1211251},5.089994388298952,2451.4432432464901,2443.0564516083105,213,999,1065,2443.0564516083105,31094826.768032208,1065,213,999,1065,2443.0564516083105,31094826.768032208]
["02140214","0214","0214",1066,214,"Northbridge                  ",214,"Northbridge",26403426.609999999,0.90464467985656216,{"$f":"X1075","v":28109617.770000007},{"$f":"IF(K1079>0, K1075/K1079, 0)","v":0.91124259038092137},null,{"$f":"ROUND(M1079*L1075,0)","v":14472856},13630647,{"$f":"N1075-O1075","v":842209},6.1787896055117564,2024,1997,214,214,1066,1997,28109617.770000007,1066,214,214,1066,1997,28109617.770000007]
["02140805","0214","0805",1067,214,"Northbridge                  ",805,"Blackstone Valley",2783089.5967679997,9.5355320143437852E-2,2737950.2286045239,{"$f":"IF(K1079>0, K1076/K1079, 0)","v":8.8757409619078631E-2},null,{"$f":"ROUND(M1079*L1076,0)","v":1409694},1436757,{"$f":"N1076-O1076","v":-27063},-1.8836170625930482,156,144.99999999932001,214,805,1067,144.99999999932001,2737950.2286045239,1067,214,805,1067,144.99999999932001,2737950.2286045239]
["02140998","0214","0998",1068,214,"",998,"",0,0,0,{"$f":"IF(K1079>0, K1077/K1079, 0)","v":0},null,{"$f":"ROUND(M1079*L1077,0)","v":0},0,{"$f":"N1077-O1077","v":0},0,0,0,214,998,1068,0,0,1068,214,998,1068,0,0]
["02140998","0214","0998",1069,214,"",998,"",0,0,0,{"$f":"IF(K1079>0, K1078/K1079, 0)","v":0},null,{"$f":"ROUND(M1079*L1078,0)","v":0},0,{"$f":"N1078-O1078","v":0},0,0,0,214,998,1069,0,0,1069,214,998,1069,0,0]
["02140999","0214","0999",1070,214,"Northbridge                  ",999,"Total",29186516.206767999,1,{"$f":"SUM(K1075:K1078)","v":30847567.998604532},{"$f":"SUM(L1075:L1078)","v":1},{"$f":"VLOOKUP(E1079,town351,24)","v":15882550},{"$f":"SUM(N1075:N1078)","v":15882550},15067404,{"$f":"SUM(P1075:P1078)","v":815146},5.4099963072603616,2180,2141.9999999993202,214,999,1070,2141.9999999993202,30847567.998604532,1070,214,999,1070,2141.9999999993202,30847567.998604532]
["02150215","0215","0215",1071,215,"North Brookfield             ",215,"North Brookfield",7789173.0300000003,0.90287912488545108,{"$f":"X1080","v":8281136.6699999999},{"$f":"IF(K1084>0, K1080/K1084, 0)","v":0.89508074484008038},null,{"$f":"ROUND(M1084*L1080,0)","v":3375581},3255249,{"$f":"N1080-O1080","v":120332},3.6965528597044344,585,574,215,215,1071,574,8281136.6699999999,1071,215,215,1071,574,8281136.6699999999]
["02150876","0215","0876",1072,215,"North Brookfield             ",876,"Southern Worcester",837865.53508834203,9.7120875114548894E-2,970695.3214026863,{"$f":"IF(K1084>0, K1081/K1084, 0)","v":0.10491925515991969},null,{"$f":"ROUND(M1084*L1081,0)","v":395678},350161,{"$f":"N1081-O1081","v":45517},12.998877659133941,43.999999996549995,47.99999999872,215,876,1072,47.99999999872,970695.3214026863,1072,215,876,1072,47.99999999872,970695.3214026863]
["02150998","0215","0998",1073,215,"",998,"",0,0,0,{"$f":"IF(K1084>0, K1082/K1084, 0)","v":0},null,{"$f":"ROUND(M1084*L1082,0)","v":0},0,{"$f":"N1082-O1082","v":0},0,0,0,215,998,1073,0,0,1073,215,998,1073,0,0]
["02150998","0215","0998",1074,215,"",998,"",0,0,0,{"$f":"IF(K1084>0, K1083/K1084, 0)","v":0},null,{"$f":"ROUND(M1084*L1083,0)","v":0},0,{"$f":"N1083-O1083","v":0},0,0,0,215,998,1074,0,0,1074,215,998,1074,0,0]
["02150999","0215","0999",1075,215,"North Brookfield             ",999,"Total",8627038.5650883429,1,{"$f":"SUM(K1080:K1083)","v":9251831.9914026856},{"$f":"SUM(L1080:L1083)","v":1},{"$f":"VLOOKUP(E1084,town351,24)","v":3771259},{"$f":"SUM(N1080:N1083)","v":3771259},3605410,{"$f":"SUM(P1080:P1083)","v":165849},4.6000038830535219,628.99999999654995,621.99999999872,215,999,1075,621.99999999872,9251831.9914026856,1075,215,999,1075,621.99999999872,9251831.9914026856]
["02160216","0216","0216",1076,216,"Northfield                   ",216,"Northfield",15697.710000000001,3.5345896152676067E-3,{"$f":"X1085","v":16490.760000000002},{"$f":"IF(K1089>0, K1085/K1089, 0)","v":3.4356373997520423E-3},null,{"$f":"ROUND(M1089*L1085,0)","v":11472},11109,{"$f":"N1085-O1085","v":363},3.2676208479611124,1,1,216,216,1076,1,16490.760000000002,1076,216,216,1076,1,16490.760000000002]
["02160750","0216","0750",1077,216,"Northfield                   ",750,"Pioneer",3863666.6963895322,0.86996614040606812,3929075.5250000008,{"$f":"IF(K1089>0, K1086/K1089, 0)","v":0.81857226835757668},null,{"$f":"ROUND(M1089*L1086,0)","v":2733260},2734250,{"$f":"N1086-O1086","v":-990},-3.6207369479747648E-2,300.21772939570002,284.5,216,750,1077,284.5,3929075.5250000008,1077,216,750,1077,284.5,3929075.5250000008]
["02160818","0216","0818",1078,216,"Northfield                   ",818,"Franklin County",561804.64254163031,0.12649926997866417,854346.53501708712,{"$f":"IF(K1089>0, K1087/K1089, 0)","v":0.17799209424267118},null,{"$f":"ROUND(M1089*L1087,0)","v":594326},397579,{"$f":"N1087-O1087","v":196747},49.48626562268128,27.99999999888,40.0000000008,216,818,1078,40.0000000008,854346.53501708712,1078,216,818,1078,40.0000000008,854346.53501708712]
["02160998","0216","0998",1079,216,"",998,"",0,0,0,{"$f":"IF(K1089>0, K1088/K1089, 0)","v":0},null,{"$f":"ROUND(M1089*L1088,0)","v":0},0,{"$f":"N1088-O1088","v":0},0,0,0,216,998,1079,0,0,1079,216,998,1079,0,0]
["02160999","0216","0999",1080,216,"Northfield                   ",999,"Total",4441169.0489311628,1,{"$f":"SUM(K1085:K1088)","v":4799912.8200170882},{"$f":"SUM(L1085:L1088)","v":0.99999999999999989},{"$f":"VLOOKUP(E1089,town351,24)","v":3339058},{"$f":"SUM(N1085:N1088)","v":3339058},3142938,{"$f":"SUM(P1085:P1088)","v":196120},6.240021279452538,329.21772939458003,325.50000000080001,216,999,1080,325.50000000080001,4799912.8200170882,1080,216,999,1080,325.50000000080001,4799912.8200170882]
["02170217","0217","0217",1081,217,"North Reading                ",217,"North Reading",27056349.750239998,0.97377307179932926,{"$f":"X1090","v":29062440.792260002},{"$f":"IF(K1094>0, K1090/K1094, 0)","v":0.96931428715934076},null,{"$f":"ROUND(M1094*L1090,0)","v":23011257},21810649,{"$f":"N1090-O1090","v":1200608},5.5046871828527433,2248,2269,217,217,1081,2269,29062440.792260002,1081,217,217,1081,2269,29062440.792260002]
["02170853","0217","0853",1082,217,"North Reading                ",853,"Northeast Metropolitan",728716.94938182947,2.6226928200670751E-2,920033.5994360029,{"$f":"IF(K1094>0, K1091/K1094, 0)","v":3.0685712840659237E-2},null,{"$f":"ROUND(M1094*L1091,0)","v":728470},587433,{"$f":"N1091-O1091","v":141037},24.009035924096874,34.000000004,39.99999999752,217,853,1082,39.99999999752,920033.5994360029,1082,217,853,1082,39.99999999752,920033.5994360029]
["02170998","0217","0998",1083,217,"",998,null,0,0,0,{"$f":"IF(K1094>0, K1092/K1094, 0)","v":0},null,{"$f":"ROUND(M1094*L1092,0)","v":0},0,{"$f":"N1092-O1092","v":0},0,0,0,217,998,1083,0,0,1083,217,998,1083,0,0]
["02170998","0217","0998",1084,217,"",998,"",0,0,0,{"$f":"IF(K1094>0, K1093/K1094, 0)","v":0},null,{"$f":"ROUND(M1094*L1093,0)","v":0},0,{"$f":"N1093-O1093","v":0},0,0,0,217,998,1084,0,0,1084,217,998,1084,0,0]
["02170999","0217","0999",1085,217,"North Reading                ",999,"Total",27785066.699621826,1,{"$f":"SUM(K1090:K1093)","v":29982474.391696006},{"$f":"SUM(L1090:L1093)","v":1},{"$f":"VLOOKUP(E1094,town351,24)","v":23739727},{"$f":"SUM(N1090:N1093)","v":23739727},22398082,{"$f":"SUM(P1090:P1093)","v":1341645},5.989999500850117,2282.000000004,2308.9999999975198,217,999,1085,2308.9999999975198,29982474.391696006,1085,217,999,1085,2308.9999999975198,29982474.391696006]
["02180218","0218","0218",1086,218,"Norton                       ",218,"Norton",27305331.41,0.92173092825404002,{"$f":"X1095","v":29128867.219999995},{"$f":"IF(K1099>0, K1095/K1099, 0)","v":0.92017536768335351},null,{"$f":"ROUND(M1099*L1095,0)","v":20948264},19965440,{"$f":"N1095-O1095","v":982824},4.9226262982433644,2213,2189,218,218,1086,2189,29128867.219999995,1086,218,218,1086,2189,29128867.219999995]
["02180872","0218","0872",1087,218,"Norton                       ",872,"Southeastern",2071220.0396800002,6.9917026134077465E-2,2262199.3981051086,{"$f":"IF(K1099>0, K1096/K1099, 0)","v":7.1462448134446535E-2},null,{"$f":"ROUND(M1099*L1096,0)","v":1626879},1514460,{"$f":"N1096-O1096","v":112419},7.4230418763123494,104.384,106.45521472944999,218,872,1087,106.45521472944999,2262199.3981051086,1087,218,872,1087,106.45521472944999,2262199.3981051086]
["02180910","0218","0910",1088,218,"Norton                       ",910,"Bristol County",247420.76716018893,8.3520456118824915E-3,264711.44660797651,{"$f":"IF(K1099>0, K1097/K1099, 0)","v":8.3621841821999703E-3},null,{"$f":"ROUND(M1099*L1097,0)","v":190369},180912,{"$f":"N1097-O1097","v":9457},5.2274033784381357,12.9999999997,12.999999997790001,218,910,1088,12.999999997790001,264711.44660797651,1088,218,910,1088,12.999999997790001,264711.44660797651]
[{"$f":"B1098&C1098","v":"02180998"},"0218","0998",1089,218,"",998,"",0,0,0,{"$f":"IF(K1099>0, K1098/K1099, 0)","v":0},null,{"$f":"ROUND(M1099*L1098,0)","v":0},0,{"$f":"N1098-O1098","v":0},0,0,0,{"$f":"VLOOKUP($D1098, foundoptions, VLOOKUP($T$6, foundoptcell, 2, FALSE), FALSE)","v":218},{"$f":"VLOOKUP($D1098, foundoptions, VLOOKUP($T$6, foundoptcell, 2, FALSE)+1, FALSE)","v":998},{"$f":"VLOOKUP($D1098, foundoptions, VLOOKUP($T$6, foundoptcell, 2, FALSE)+2, FALSE)","v":1089},{"$f":"VLOOKUP($D1098, foundoptions, VLOOKUP($T$6, foundoptcell, 2, FALSE)+3, FALSE)","v":0},{"$f":"VLOOKUP($D1098, foundoptions, VLOOKUP($T$6, foundoptcell, 2, FALSE)+4, FALSE)","v":0},1089,218,998,1089,0,0]
["02180999","0218","0999",1090,218,"Norton                       ",999,"Total",29623972.216840189,1,{"$f":"SUM(K1095:K1098)","v":31655778.064713079},{"$f":"SUM(L1095:L1098)","v":1},{"$f":"VLOOKUP(E1099,town351,24)","v":22765513},{"$f":"SUM(N1095:N1098)","v":22765512},21660812,{"$f":"SUM(P1095:P1098)","v":1104700},5.0999934813154741,2330.3839999996999,{"$f":"W1099","v":2308.4552147272398},218,999,1090,2308.4552147272398,31655778.064713079,{"$f":"D1099","v":1090},218,999,1090,2308.4552147272398,31655778.064713079]
["02190219","0219","0219",1091,219,"Norwell                      ",219,"Norwell",24690512.978599999,0.97759007816914867,{"$f":"X1100","v":25956168.805050001},{"$f":"IF(K1104>0, K1100/K1104, 0)","v":0.97957349833212759},null,{"$f":"ROUND(M1104*L1100,0)","v":20944041},19938599,{"$f":"N1100-O1100","v":1005442},5.0426913144699883,2119,2100,219,219,1091,2100,25956168.805050001,1091,219,219,1091,2100,25956168.805050001]
["02190873","0219","0873",1092,219,"Norwell                      ",873,"South Shore",565996.40091509803,2.240992183085138E-2,541249.56043692899,{"$f":"IF(K1104>0, K1101/K1104, 0)","v":2.0426501667872302E-2},null,{"$f":"ROUND(M1104*L1101,0)","v":436734},457065,{"$f":"N1101-O1101","v":-20331},-4.44816382790194,28.999999998630003,25.9999999994,219,873,1092,25.9999999994,541249.56043692899,1092,219,873,1092,25.9999999994,541249.56043692899]
["02190998","0219","0998",1093,219,"",998,"",0,0,0,{"$f":"IF(K1104>0, K1102/K1104, 0)","v":0},null,{"$f":"ROUND(M1104*L1102,0)","v":0},0,{"$f":"N1102-O1102","v":0},0,0,0,219,998,1093,0,0,1093,219,998,1093,0,0]
["02190998","0219","0998",1094,219,"",998,"",0,0,0,{"$f":"IF(K1104>0, K1103/K1104, 0)","v":0},null,{"$f":"ROUND(M1104*L1103,0)","v":0},0,{"$f":"N1103-O1103","v":0},0,0,0,219,998,1094,0,0,1094,219,998,1094,0,0]
["02190999","0219","0999",1095,219,"Norwell                      ",999,"Total",25256509.379515097,1,{"$f":"SUM(K1100:K1103)","v":26497418.365486931},{"$f":"SUM(L1100:L1103)","v":0.99999999999999989},{"$f":"VLOOKUP(E1104,town351,24)","v":21380775},{"$f":"SUM(N1100:N1103)","v":21380775},20395664,{"$f":"SUM(P1100:P1103)","v":985111},{"$f":"IF(O1104>0,P1104*100/O1104,IF(P1104>0,100,0))","v":4.8300021024076489},2147.9999999986298,2125.9999999994002,219,999,1095,2125.9999999994002,26497418.365486931,1095,219,999,1095,2125.9999999994002,26497418.365486931]
["02200220","0220","0220",1096,220,"Norwood                      ",220,"Norwood",48677498.672449999,0.95246768535299975,{"$f":"X1105","v":53483623.868720002},{"$f":"IF(K1109>0, K1105/K1109, 0)","v":0.95449221099122628},null,{"$f":"ROUND(M1109*L1105,0)","v":37142187},35990878,{"$f":"N1105-O1105","v":1151309},3.1988911190218809,3521,3547,220,220,1096,3547,53483623.868720002,1096,220,220,1096,3547,53483623.868720002]
["02200806","0220","0806",1097,220,"Norwood                      ",806,"Blue Hills",2146736.4958343105,4.2004975543399325E-2,2356224.5806381637,{"$f":"IF(K1109>0, K1106/K1109, 0)","v":4.2050217372808327E-2},null,{"$f":"ROUND(M1109*L1106,0)","v":1636301},1587241,{"$f":"N1106-O1106","v":49060},3.0908979795758804,104.9999999962,108.000000003,220,806,1097,108.000000003,2356224.5806381637,1097,220,806,1097,108.000000003,2356224.5806381637]
["02200915","0220","0915",1098,220,"Norwood                      ",915,"Norfolk County",282484.16824555682,5.5273391036008814E-3,193740.14659071216,{"$f":"IF(K1109>0, K1107/K1109, 0)","v":3.4575716359654899E-3},null,{"$f":"ROUND(M1109*L1107,0)","v":134545},208861,{"$f":"N1107-O1107","v":-74316},-35.581559027295668,13.99999999974,9.0000000000900009,220,915,1098,9.0000000000900009,193740.14659071216,1098,220,915,1098,9.0000000000900009,193740.14659071216]
["02200998","0220","0998",1099,220,"",998,"",0,0,0,{"$f":"IF(K1109>0, K1108/K1109, 0)","v":0},null,{"$f":"ROUND(M1109*L1108,0)","v":0},0,{"$f":"N1108-O1108","v":0},0,0,0,220,998,1099,0,0,1099,220,998,1099,0,0]
["02200999","0220","0999",1100,220,"Norwood                      ",999,"Total",51106719.336529866,1,{"$f":"SUM(K1105:K1108)","v":56033588.595948875},{"$f":"SUM(L1105:L1108)","v":1},{"$f":"VLOOKUP(E1109,town351,24)","v":38913033},{"$f":"SUM(N1105:N1108)","v":38913033},37786980,{"$f":"SUM(P1105:P1108)","v":1126053},2.9800026358285314,3639.99999999594,3664.00000000309,220,999,1100,3664.00000000309,56033588.595948875,1100,220,999,1100,3664.00000000309,56033588.595948875]
["02210221","0221","0221",1101,221,"Oak Bluffs                   ",221,"Oak Bluffs",6081567.2300000004,0.63960495389276717,{"$f":"X1110","v":6470637.9299999997},{"$f":"IF(K1114>0, K1110/K1114, 0)","v":0.60349821719688268},null,{"$f":"ROUND(M1114*L1110,0)","v":4519073},4486599,{"$f":"N1110-O1110","v":32474},0.72379992060801512,451,435,221,221,1101,435,6470637.9299999997,1101,221,221,1101,435,6470637.9299999997]
["02210700","0221","0700",1102,221,"Oak Bluffs                   ",700,"Marthas Vineyard",3426750.6668304293,0.36039504610723277,4251246.1545209112,{"$f":"IF(K1114>0, K1111/K1114, 0)","v":0.39650178280311743},null,{"$f":"ROUND(M1114*L1111,0)","v":2969056},2528042,{"$f":"N1111-O1111","v":441014},17.444884222651364,221.00000000144999,236.99999999744,221,700,1102,236.99999999744,4251246.1545209112,1102,221,700,1102,236.99999999744,4251246.1545209112]
["02210998","0221","0998",1103,221,"",998,"",0,0,0,{"$f":"IF(K1114>0, K1112/K1114, 0)","v":0},null,{"$f":"ROUND(M1114*L1112,0)","v":0},0,{"$f":"N1112-O1112","v":0},0,0,0,221,998,1103,0,0,1103,221,998,1103,0,0]
["02210998","0221","0998",1104,221,"",998,"",0,0,0,{"$f":"IF(K1114>0, K1113/K1114, 0)","v":0},null,{"$f":"ROUND(M1114*L1113,0)","v":0},0,{"$f":"N1113-O1113","v":0},0,0,0,221,998,1104,0,0,1104,221,998,1104,0,0]
["02210999","0221","0999",1105,221,"Oak Bluffs                   ",999,"Total",9508317.8968304303,1,{"$f":"SUM(K1110:K1113)","v":10721884.08452091},{"$f":"SUM(L1110:L1113)","v":1},{"$f":"VLOOKUP(E1114,town351,24)","v":7488129},{"$f":"SUM(N1110:N1113)","v":7488129},7014641,{"$f":"SUM(P1110:P1113)","v":473488},6.7499961865475369,672.00000000144996,671.99999999744,221,999,1105,671.99999999744,10721884.08452091,1105,221,999,1105,671.99999999744,10721884.08452091]
["02220222","0222","0222",1106,222,"Oakham                       ",222,"Oakham",0,0,{"$f":"X1115","v":0},{"$f":"IF(K1119>0, K1115/K1119, 0)","v":0},null,{"$f":"ROUND(M1119*L1115,0)","v":0},0,{"$f":"N1115-O1115","v":0},0,0,0,222,222,1106,0,0,1106,222,222,1106,0,0]
["02220753","0222","0753",1107,222,"Oakham                       ",753,"Quabbin",2975410.6486382759,0.92039146762109869,3359895.9405784071,{"$f":"IF(K1119>0, K1116/K1119, 0)","v":0.92403160458534561},null,{"$f":"ROUND(M1119*L1116,0)","v":1736114},1644422,{"$f":"N1116-O1116","v":91692},5.5759409689240353,228.49159248446,242.42047713516001,222,753,1107,242.42047713516001,3359895.9405784071,1107,222,753,1107,242.42047713516001,3359895.9405784071]
["02220860","0222","0860",1108,222,"Oakham                       ",860,"Pathfinder",257355.79185112636,7.9608532378901392E-2,276230.7069361473,{"$f":"IF(K1119>0, K1117/K1119, 0)","v":7.5968395414654374E-2},null,{"$f":"ROUND(M1119*L1117,0)","v":142733},142233,{"$f":"N1117-O1117","v":500},0.35153586017309624,13.000000002289999,13.00000000278,222,860,1108,13.00000000278,276230.7069361473,1108,222,860,1108,13.00000000278,276230.7069361473]
["02220998","0222","0998",1109,222,"",998,"",0,0,0,{"$f":"IF(K1119>0, K1118/K1119, 0)","v":0},null,{"$f":"ROUND(M1119*L1118,0)","v":0},0,{"$f":"N1118-O1118","v":0},0,0,0,222,998,1109,0,0,1109,222,998,1109,0,0]
["02220999","0222","0999",1110,222,"Oakham                       ",999,"Total",3232766.440489402,1,{"$f":"SUM(K1115:K1118)","v":3636126.6475145547},{"$f":"SUM(L1115:L1118)","v":1},{"$f":"VLOOKUP(E1119,town351,24)","v":1878847},{"$f":"SUM(N1115:N1118)","v":1878847},1786655,{"$f":"SUM(P1115:P1118)","v":92192},5.1600336942498695,241.49159248674999,255.42047713794003,222,999,1110,255.42047713794003,3636126.6475145547,1110,222,999,1110,255.42047713794003,3636126.6475145547]
["02230223","0223","0223",1111,223,"Orange                       ",223,"Orange",8547480.9700000007,0.51804594716428409,{"$f":"X1120","v":9212499.9199999981},{"$f":"IF(K1124>0, K1120/K1124, 0)","v":0.51042123838776343},null,{"$f":"ROUND(M1124*L1120,0)","v":2332598},2251919,{"$f":"N1120-O1120","v":80679},3.5826777073242866,590,583,223,223,1111,583,9212499.9199999981,1111,223,223,1111,583,9212499.9199999981]
["02230755","0223","0755",1112,223,"Orange                       ",755,"Ralph C Mahar",6306698.9983774144,0.3822365756135131,6807244.8341141641,{"$f":"IF(K1124>0, K1121/K1124, 0)","v":0.37715738056009207},null,{"$f":"ROUND(M1124*L1121,0)","v":1723589},1661563,{"$f":"N1121-O1121","v":62026},3.7329911655471384,427.74390243649998,426.00000000192,223,755,1112,426.00000000192,6807244.8341141641,1112,223,755,1112,426.00000000192,6807244.8341141641]
["02230818","0223","0818",1113,223,"Orange                       ",818,"Franklin County",1645285.0246175036,9.9717477222202811E-2,2029073.0205908264,{"$f":"IF(K1124>0, K1122/K1124, 0)","v":0.1124213810521444},null,{"$f":"ROUND(M1124*L1122,0)","v":513760},433467,{"$f":"N1122-O1122","v":80293},18.523440077329994,81.999999998280003,94.9999999984,223,818,1113,94.9999999984,2029073.0205908264,1113,223,818,1113,94.9999999984,2029073.0205908264]
["02230998","0223","0998",1114,223,"",998,"",0,0,0,{"$f":"IF(K1124>0, K1123/K1124, 0)","v":0},null,{"$f":"ROUND(M1124*L1123,0)","v":0},0,{"$f":"N1123-O1123","v":0},0,0,0,223,998,1114,0,0,1114,223,998,1114,0,0]
["02230999","0223","0999",1115,223,"Orange                       ",999,"Total",16499464.992994919,1,{"$f":"SUM(K1120:K1123)","v":18048817.774704989},{"$f":"SUM(L1120:L1123)","v":0.99999999999999989},{"$f":"VLOOKUP(E1124,town351,24)","v":4569947},{"$f":"SUM(N1120:N1123)","v":4569947},4346949,{"$f":"SUM(P1120:P1123)","v":222998},5.1299888726552805,1099.74390243478,1104.0000000003199,223,999,1115,1104.0000000003199,18048817.774704989,1115,223,999,1115,1104.0000000003199,18048817.774704989]
["02240224","0224","0224",1116,224,"Orleans                      ",224,"Orleans",2265527.7100000004,0.38280291622423424,{"$f":"X1125","v":2114047.8800000004},{"$f":"IF(K1129>0, K1125/K1129, 0)","v":0.35111441683562655},null,{"$f":"ROUND(M1129*L1125,0)","v":1744090},1869061,{"$f":"N1125-O1125","v":-124971},-6.6862986280276564,169,149,224,224,1116,149,2114047.8800000004,1116,224,224,1116,149,2114047.8800000004]
["02240660","0224","0660",1117,224,"Orleans                      ",660,"Nauset",3427127.6317744083,0.57907676252430251,3602105.5099801235,{"$f":"IF(K1129>0, K1126/K1129, 0)","v":0.59826042138509561},null,{"$f":"ROUND(M1129*L1126,0)","v":2971737},2827381,{"$f":"N1126-O1126","v":144356},5.1056437034838957,255.99999999599999,250.99999999920001,224,660,1117,250.99999999920001,3602105.5099801235,1117,224,660,1117,250.99999999920001,3602105.5099801235]
["02240815","0224","0815",1118,224,"Orleans                      ",815,"Cape Cod",225606.02453379222,3.812032125146321E-2,304812.3654354029,{"$f":"IF(K1129>0, K1127/K1129, 0)","v":5.0625161779277845E-2},null,{"$f":"ROUND(M1129*L1127,0)","v":251470},186125,{"$f":"N1127-O1127","v":65345},35.108126259234389,11.016768290760002,14.04197901225,224,815,1118,14.04197901225,304812.3654354029,1118,224,815,1118,14.04197901225,304812.3654354029]
["02240998","0224","0998",1119,224,"",998,"",0,0,0,{"$f":"IF(K1129>0, K1128/K1129, 0)","v":0},null,{"$f":"ROUND(M1129*L1128,0)","v":0},0,{"$f":"N1128-O1128","v":0},0,0,0,224,998,1119,0,0,1119,224,998,1119,0,0]
["02240999","0224","0999",1120,224,"Orleans                      ",999,"Total",5918261.3663082011,1,{"$f":"SUM(K1125:K1128)","v":6020965.7554155272},{"$f":"SUM(L1125:L1128)","v":1},{"$f":"VLOOKUP(E1129,town351,24)","v":4967297},{"$f":"SUM(N1125:N1128)","v":4967297},4882567,{"$f":"SUM(P1125:P1128)","v":84730},1.7353576510061204,436.01676828676,414.04197901145,224,999,1120,414.04197901145,6020965.7554155272,1120,224,999,1120,414.04197901145,6020965.7554155272]
["02250225","0225","0225",1121,225,"Otis                         ",225,"Otis",0,0,{"$f":"X1130","v":0},{"$f":"IF(K1134>0, K1130/K1134, 0)","v":0},null,{"$f":"ROUND(M1134*L1130,0)","v":0},0,{"$f":"N1130-O1130","v":0},0,0,0,225,225,1121,0,0,1121,225,225,1121,0,0]
["02250662","0225","0662",1122,225,"Otis                         ",662,"Farmington River",1660631.9429123015,1,1750236.4864413003,{"$f":"IF(K1134>0, K1131/K1134, 0)","v":1},null,{"$f":"ROUND(M1134*L1131,0)","v":1443945},1370021,{"$f":"N1131-O1131","v":73924},5.395829698960819,135.49579832040001,127.87500000093,225,662,1122,127.87500000093,1750236.4864413003,1122,225,662,1122,127.87500000093,1750236.4864413003]
["02250998","0225","0998",1123,225,"",998,"",0,0,0,{"$f":"IF(K1134>0, K1132/K1134, 0)","v":0},null,{"$f":"ROUND(M1134*L1132,0)","v":0},0,{"$f":"N1132-O1132","v":0},0,0,0,225,998,1123,0,0,1123,225,998,1123,0,0]
["02250998","0225","0998",1124,225,"",998,"",0,0,0,{"$f":"IF(K1134>0, K1133/K1134, 0)","v":0},null,{"$f":"ROUND(M1134*L1133,0)","v":0},0,{"$f":"N1133-O1133","v":0},0,0,0,225,998,1124,0,0,1124,225,998,1124,0,0]
["02250999","0225","0999",1125,225,"Otis                         ",999,"Total",1660631.9429123015,1,{"$f":"SUM(K1130:K1133)","v":1750236.4864413003},{"$f":"SUM(L1130:L1133)","v":1},{"$f":"VLOOKUP(E1134,town351,24)","v":1443945},{"$f":"SUM(N1130:N1133)","v":1443945},1370021,{"$f":"SUM(P1130:P1133)","v":73924},5.395829698960819,135.49579832040001,127.87500000093,225,999,1125,127.87500000093,1750236.4864413003,1125,225,999,1125,127.87500000093,1750236.4864413003]
["02260226","0226","0226",1126,226,"Oxford                       ",226,"Oxford",21026624.100000001,0.88676521480673687,{"$f":"X1135","v":21950126.810000002},{"$f":"IF(K1139>0, K1135/K1139, 0)","v":0.87645486399604544},null,{"$f":"ROUND(M1139*L1135,0)","v":10995071},10588629,{"$f":"N1135-O1135","v":406442},3.838476161550282,1571,1526,226,226,1126,1526,21950126.810000002,1126,226,226,1126,1526,21950126.810000002]
["02260876","0226","0876",1127,226,"Oxford                       ",876,"Southern Worcester",2684978.1921383757,0.11323478519326317,3094091.3370956355,{"$f":"IF(K1139>0, K1136/K1139, 0)","v":0.12354513600395448},null,{"$f":"ROUND(M1139*L1136,0)","v":1549866},1352107,{"$f":"N1136-O1136","v":197759},14.62598744034311,140.99999999686,153.00000000207999,226,876,1127,153.00000000207999,3094091.3370956355,1127,226,876,1127,153.00000000207999,3094091.3370956355]
["02260998","0226","0998",1128,226,"",998,"",0,0,0,{"$f":"IF(K1139>0, K1137/K1139, 0)","v":0},null,{"$f":"ROUND(M1139*L1137,0)","v":0},0,{"$f":"N1137-O1137","v":0},0,0,0,226,998,1128,0,0,1128,226,998,1128,0,0]
["02260998","0226","0998",1129,226,"",998,"",0,0,0,{"$f":"IF(K1139>0, K1138/K1139, 0)","v":0},null,{"$f":"ROUND(M1139*L1138,0)","v":0},0,{"$f":"N1138-O1138","v":0},0,0,0,226,998,1129,0,0,1129,226,998,1129,0,0]
["02260999","0226","0999",1130,226,"Oxford                       ",999,"Total",23711602.292138375,1,{"$f":"SUM(K1135:K1138)","v":25044218.147095639},{"$f":"SUM(L1135:L1138)","v":0.99999999999999989},{"$f":"VLOOKUP(E1139,town351,24)","v":12544937},{"$f":"SUM(N1135:N1138)","v":12544937},11940736,{"$f":"SUM(P1135:P1138)","v":604201},5.0599979766741345,1711.99999999686,1679.00000000208,226,999,1130,1679.00000000208,25044218.147095639,1130,226,999,1130,1679.00000000208,25044218.147095639]
["02270227","0227","0227",1131,227,"Palmer                       ",227,"Palmer",18251116.599999998,0.82838123439851585,{"$f":"X1140","v":19001379.489999998},{"$f":"IF(K1144>0, K1140/K1144, 0)","v":0.825524237910366},null,{"$f":"ROUND(M1144*L1140,0)","v":7280709},7077995,{"$f":"N1140-O1140","v":202714},2.8640031534354007,1297,1244,227,227,1131,1244,19001379.489999998,1131,227,227,1131,1244,19001379.489999998]
["02270860","0227","0860",1132,227,"Palmer                       ",860,"Pathfinder",3781150.4796038219,0.17161876560148406,4015969.5076476452,{"$f":"IF(K1144>0, K1141/K1144, 0)","v":0.17447576208963397},null,{"$f":"ROUND(M1144*L1141,0)","v":1538789},1466374,{"$f":"N1141-O1141","v":72415},4.9383717932805684,190.99999999978002,188.99999999873998,227,860,1132,188.99999999873998,4015969.5076476452,1132,227,860,1132,188.99999999873998,4015969.5076476452]
["02270998","0227","0998",1133,227,"",998,"",0,0,0,{"$f":"IF(K1144>0, K1142/K1144, 0)","v":0},null,{"$f":"ROUND(M1144*L1142,0)","v":0},0,{"$f":"N1142-O1142","v":0},0,0,0,227,998,1133,0,0,1133,227,998,1133,0,0]
["02270998","0227","0998",1134,227,"",998,"",0,0,0,{"$f":"IF(K1144>0, K1143/K1144, 0)","v":0},null,{"$f":"ROUND(M1144*L1143,0)","v":0},0,{"$f":"N1143-O1143","v":0},0,0,0,227,998,1134,0,0,1134,227,998,1134,0,0]
["02270999","0227","0999",1135,227,"Palmer                       ",999,"Total",22032267.079603821,0.99999999999999989,{"$f":"SUM(K1140:K1143)","v":23017348.997647643},{"$f":"SUM(L1140:L1143)","v":1},{"$f":"VLOOKUP(E1144,town351,24)","v":8819498},{"$f":"SUM(N1140:N1143)","v":8819498},8544369,{"$f":"SUM(P1140:P1143)","v":275129},3.2200037240900996,1487.9999999997799,1432.9999999987399,227,999,1135,1432.9999999987399,23017348.997647643,1135,227,999,1135,1432.9999999987399,23017348.997647643]
["02280228","0228","0228",1136,228,"Paxton                       ",228,"Paxton",0,0,{"$f":"X1145","v":0},{"$f":"IF(K1149>0, K1145/K1149, 0)","v":0},null,{"$f":"ROUND(M1149*L1145,0)","v":0},0,{"$f":"N1145-O1145","v":0},0,0,0,228,228,1136,0,0,1136,228,228,1136,0,0]
["02280775","0228","0775",1137,228,"Paxton                       ",775,"Wachusett",7502169.7661308087,0.92924059212995103,7935457.5942137577,{"$f":"IF(K1149>0, K1146/K1149, 0)","v":0.91810972044496753},null,{"$f":"ROUND(M1149*L1146,0)","v":4860250},4733160,{"$f":"N1146-O1146","v":127090},2.6850983275443889,643.26231183440007,641.54380883939996,228,775,1137,641.54380883939996,7935457.5942137577,1137,228,775,1137,641.54380883939996,7935457.5942137577]
["02280876","0228","0876",1138,228,"Paxton                       ",876,"Southern Worcester",571271.95571086521,7.0759407870048932E-2,707798.67189764965,{"$f":"IF(K1149>0, K1147/K1149, 0)","v":8.1890279555032516E-2},null,{"$f":"ROUND(M1149*L1147,0)","v":433507},360419,{"$f":"N1147-O1147","v":73088},20.278620161534214,29.999999996009997,35.00000000112,228,876,1138,35.00000000112,707798.67189764965,1138,228,876,1138,35.00000000112,707798.67189764965]
["02280998","0228","0998",1139,228,"",998,"",0,0,0,{"$f":"IF(K1149>0, K1148/K1149, 0)","v":0},null,{"$f":"ROUND(M1149*L1148,0)","v":0},0,{"$f":"N1148-O1148","v":0},0,0,0,228,998,1139,0,0,1139,228,998,1139,0,0]
["02280999","0228","0999",1140,228,"Paxton                       ",999,"Total",8073441.7218416743,1,{"$f":"SUM(K1145:K1148)","v":8643256.2661114074},{"$f":"SUM(L1145:L1148)","v":1},{"$f":"VLOOKUP(E1149,town351,24)","v":5293757},{"$f":"SUM(N1145:N1148)","v":5293757},5093579,{"$f":"SUM(P1145:P1148)","v":200178},3.9300067791232842,673.26231183041011,676.54380884052,228,999,1140,676.54380884052,8643256.2661114074,1140,228,999,1140,676.54380884052,8643256.2661114074]
["02290229","0229","0229",1141,229,"Peabody                      ",229,"Peabody",83523634.23999998,0.92689660001653262,{"$f":"X1150","v":91177548.530000001},{"$f":"IF(K1154>0, K1150/K1154, 0)","v":0.92368629795383594},null,{"$f":"ROUND(M1154*L1150,0)","v":55819170},52837629,{"$f":"N1150-O1150","v":2981541},5.6428364717122337,5940,5959,229,229,1141,5959,91177548.530000001,1141,229,229,1141,5959,91177548.530000001]
["02290817","0229","0817",1142,229,"Peabody                      ",817,"Essex North Shore",6587424.7912988765,7.3103399983467321E-2,7532964.6950829169,{"$f":"IF(K1154>0, K1151/K1154, 0)","v":7.6313702046164084E-2},null,{"$f":"ROUND(M1154*L1151,0)","v":4611704},4167251,{"$f":"N1151-O1151","v":444453},10.665376287629423,353.99999999664999,382.00000000364997,229,817,1142,382.00000000364997,7532964.6950829169,1142,229,817,1142,382.00000000364997,7532964.6950829169]
["02290998","0229","0998",1143,229,"",998,"",0,0,0,{"$f":"IF(K1154>0, K1152/K1154, 0)","v":0},null,{"$f":"ROUND(M1154*L1152,0)","v":0},0,{"$f":"N1152-O1152","v":0},0,0,0,229,998,1143,0,0,1143,229,998,1143,0,0]
["02290998","0229","0998",1144,229,"",998,"",0,0,0,{"$f":"IF(K1154>0, K1153/K1154, 0)","v":0},null,{"$f":"ROUND(M1154*L1153,0)","v":0},0,{"$f":"N1153-O1153","v":0},0,0,0,229,998,1144,0,0,1144,229,998,1144,0,0]
["02290999","0229","0999",1145,229,"Peabody                      ",999,"Total",90111059.031298861,1,{"$f":"SUM(K1150:K1153)","v":98710513.225082919},{"$f":"SUM(L1150:L1153)","v":1},{"$f":"VLOOKUP(E1154,town351,24)","v":60430874},{"$f":"SUM(N1150:N1153)","v":60430874},57004880,{"$f":"SUM(P1150:P1153)","v":3425994},6.0100012490158736,6293.9999999966503,6341.0000000036498,229,999,1145,6341.0000000036498,98710513.225082919,1145,229,999,1145,6341.0000000036498,98710513.225082919]
["02300230","0230","0230",1146,230,"Pelham                       ",230,"Pelham",789892.39999999991,0.48751395397092467,{"$f":"X1155","v":858482.55999999994},{"$f":"IF(K1159>0, K1155/K1159, 0)","v":0.46006604010991137},null,{"$f":"ROUND(M1159*L1155,0)","v":631932},635687,{"$f":"N1155-O1155","v":-3755},-0.59069951092282835,65,63,230,230,1146,63,858482.55999999994,1146,230,230,1146,63,858482.55999999994]
["02300605","0230","0605",1147,230,"Pelham                       ",605,"Amherst Pelham",830353.32541180856,0.51248604602907522,1007515.9818504385,{"$f":"IF(K1159>0, K1156/K1159, 0)","v":0.53993395989008863},null,{"$f":"ROUND(M1159*L1156,0)","v":741635},668250,{"$f":"N1156-O1156","v":73385},10.981668537224094,61.999999993700001,70.999999998199996,230,605,1147,70.999999998199996,1007515.9818504385,1147,230,605,1147,70.999999998199996,1007515.9818504385]
["02300998","0230","0998",1148,230,"",998,"",0,0,0,{"$f":"IF(K1159>0, K1157/K1159, 0)","v":0},null,{"$f":"ROUND(M1159*L1157,0)","v":0},0,{"$f":"N1157-O1157","v":0},0,0,0,230,998,1148,0,0,1148,230,998,1148,0,0]
["02300998","0230","0998",1149,230,"",998,"",0,0,0,{"$f":"IF(K1159>0, K1158/K1159, 0)","v":0},null,{"$f":"ROUND(M1159*L1158,0)","v":0},0,{"$f":"N1158-O1158","v":0},0,0,0,230,998,1149,0,0,1149,230,998,1149,0,0]
["02300999","0230","0999",1150,230,"Pelham                       ",999,"Total",1620245.7254118086,0.99999999999999989,{"$f":"SUM(K1155:K1158)","v":1865998.5418504383},{"$f":"SUM(L1155:L1158)","v":1},{"$f":"VLOOKUP(E1159,town351,24)","v":1373567},{"$f":"SUM(N1155:N1158)","v":1373567},1303937,{"$f":"SUM(P1155:P1158)","v":69630},5.3399819163042386,126.9999999937,133.9999999982,230,999,1150,133.9999999982,1865998.5418504383,1150,230,999,1150,133.9999999982,1865998.5418504383]
["02310231","0231","0231",1151,231,"Pembroke                     ",231,"Pembroke",33225728.808800004,1,{"$f":"X1160","v":33926554.381990001},{"$f":"IF(K1164>0, K1160/K1164, 0)","v":1},null,{"$f":"ROUND(M1164*L1160,0)","v":23884371},22712411,{"$f":"N1160-O1160","v":1171960},5.1599982053864739,2700,2599,231,231,1151,2599,33926554.381990001,1151,231,231,1151,2599,33926554.381990001]
["02310998","0231","0998",1152,231,"",998,"",0,0,0,{"$f":"IF(K1164>0, K1161/K1164, 0)","v":0},null,{"$f":"ROUND(M1164*L1161,0)","v":0},0,{"$f":"N1161-O1161","v":0},0,0,0,231,998,1152,0,0,1152,231,998,1152,0,0]
[{"$f":"B1162&C1162","v":"02310998"},"0231","0998",1153,231,"",998,"",0,0,0,{"$f":"IF(K1164>0, K1162/K1164, 0)","v":0},null,{"$f":"ROUND(M1164*L1162,0)","v":0},0,{"$f":"N1162-O1162","v":0},0,0,0,{"$f":"VLOOKUP($D1162, foundoptions, VLOOKUP($T$6, foundoptcell, 2, FALSE), FALSE)","v":231},{"$f":"VLOOKUP($D1162, foundoptions, VLOOKUP($T$6, foundoptcell, 2, FALSE)+1, FALSE)","v":998},{"$f":"VLOOKUP($D1162, foundoptions, VLOOKUP($T$6, foundoptcell, 2, FALSE)+2, FALSE)","v":1153},{"$f":"VLOOKUP($D1162, foundoptions, VLOOKUP($T$6, foundoptcell, 2, FALSE)+3, FALSE)","v":0},{"$f":"VLOOKUP($D1162, foundoptions, VLOOKUP($T$6, foundoptcell, 2, FALSE)+4, FALSE)","v":0},1153,231,998,1153,0,0]
["02310998","0231","0998",1154,231,"",998,"",0,0,0,{"$f":"IF(K1164>0, K1163/K1164, 0)","v":0},null,{"$f":"ROUND(M1164*L1163,0)","v":0},0,{"$f":"N1163-O1163","v":0},0,0,{"$f":"W1163","v":0},231,998,1154,0,0,{"$f":"D1163","v":1154},231,998,1154,0,0]
["02310999","0231","0999",1155,231,"Pembroke                     ",999,"Total",33225728.808800004,1,{"$f":"SUM(K1160:K1163)","v":33926554.381990001},{"$f":"SUM(L1160:L1163)","v":1},{"$f":"VLOOKUP(E1164,town351,24)","v":23884371},{"$f":"SUM(N1160:N1163)","v":23884371},22712411,{"$f":"SUM(P1160:P1163)","v":1171960},5.1599982053864739,2700,2599,231,999,1155,2599,33926554.381990001,1155,231,999,1155,2599,33926554.381990001]
["02320232","0232","0232",1156,232,"Pepperell                    ",232,"Pepperell",0,0,{"$f":"X1165","v":0},{"$f":"IF(K1169>0, K1165/K1169, 0)","v":0},null,{"$f":"ROUND(M1169*L1165,0)","v":0},0,{"$f":"N1165-O1165","v":0},0,0,0,232,232,1156,0,0,1156,232,232,1156,0,0]
["02320735","0232","0735",1157,232,"Pepperell                    ",735,"North Middlesex",17666524.392159022,0.88426474383504228,19803746.681728441,{"$f":"IF(K1169>0, K1166/K1169, 0)","v":0.88057550528227369},null,{"$f":"ROUND(M1169*L1166,0)","v":11129499},10639877,{"$f":"N1166-O1166","v":489622},4.6017637233964264,1440.1507732100999,1511.9999999899201,232,735,1157,1511.9999999899201,19803746.681728441,1157,232,735,1157,1511.9999999899201,19803746.681728441]
["02320852","0232","0852",1158,232,"Pepperell                    ",852,"Nashoba Valley",2312248.3852555617,0.11573525616495778,2685803.1217040676,{"$f":"IF(K1169>0, K1167/K1169, 0)","v":0.11942449471772627},null,{"$f":"ROUND(M1169*L1167,0)","v":1509393},1392579,{"$f":"N1167-O1167","v":116814},8.3883212370716489,122.00000000319999,132.00000000329999,232,852,1158,132.00000000329999,2685803.1217040676,1158,232,852,1158,132.00000000329999,2685803.1217040676]
["02320998","0232","0998",1159,232,"",998,"",0,0,0,{"$f":"IF(K1169>0, K1168/K1169, 0)","v":0},null,{"$f":"ROUND(M1169*L1168,0)","v":0},0,{"$f":"N1168-O1168","v":0},{"$f":"IF(O1168>0,P1168*100/O1168,IF(P1168>0,100,0))","v":0},0,0,232,998,1159,0,0,1159,232,998,1159,0,0]
["02320999","0232","0999",1160,232,"Pepperell                    ",999,"Total",19978772.777414583,1,{"$f":"SUM(K1165:K1168)","v":22489549.803432509},{"$f":"SUM(L1165:L1168)","v":1},{"$f":"VLOOKUP(E1169,town351,24)","v":12638892},{"$f":"SUM(N1165:N1168)","v":12638892},12032456,{"$f":"SUM(P1165:P1168)","v":606436},{"$f":"IF(O1169>0,P1169*100/O1169,IF(P1169>0,100,0))","v":5.0400018084421001},1562.1507732133,1643.9999999932202,232,999,1160,1643.9999999932202,22489549.803432509,1160,232,999,1160,1643.9999999932202,22489549.803432509]
["02330233","0233","0233",1161,233,"Peru                         ",233,"Peru",156977.1,0.12292892301052702,{"$f":"X1170","v":164907.6},{"$f":"IF(K1174>0, K1170/K1174, 0)","v":0.11636572930411181},null,{"$f":"ROUND(M1174*L1170,0)","v":73878},73240,{"$f":"N1170-O1170","v":638},0.87110868377935557,10,10,233,233,1161,10,164907.6,1161,233,233,1161,10,164907.6]
["02330635","0233","0635",1162,233,"Peru                         ",635,"Central Berkshire",1119997.400025167,0.87707107698947295,1252241.5983608696,{"$f":"IF(K1174>0, K1171/K1174, 0)","v":0.88363427069588818},null,{"$f":"ROUND(M1174*L1171,0)","v":560996},522550,{"$f":"N1171-O1171","v":38446},7.3573820687015594,83.558382258890006,87.556132385840002,233,635,1162,87.556132385840002,1252241.5983608696,1162,233,635,1162,87.556132385840002,1252241.5983608696]
["02330998","0233","0998",1163,233,"",998,"",0,0,0,{"$f":"IF(K1174>0, K1172/K1174, 0)","v":0},null,{"$f":"ROUND(M1174*L1172,0)","v":0},0,{"$f":"N1172-O1172","v":0},0,0,0,233,998,1163,0,0,1163,233,998,1163,0,0]
["02330998","0233","0998",1164,233,"",998,"",0,0,0,{"$f":"IF(K1174>0, K1173/K1174, 0)","v":0},null,{"$f":"ROUND(M1174*L1173,0)","v":0},0,{"$f":"N1173-O1173","v":0},0,0,0,233,998,1164,0,0,1164,233,998,1164,0,0]
["02330999","0233","0999",1165,233,"Peru                         ",999,"Total",1276974.5000251671,1,{"$f":"SUM(K1170:K1173)","v":1417149.1983608697},{"$f":"SUM(L1170:L1173)","v":1},{"$f":"VLOOKUP(E1174,town351,24)","v":634874},{"$f":"SUM(N1170:N1173)","v":634874},595790,{"$f":"SUM(P1170:P1173)","v":39084},6.5600295406099463,93.558382258890006,97.556132385840002,233,999,1165,97.556132385840002,1417149.1983608697,1165,233,999,1165,97.556132385840002,1417149.1983608697]
["02340234","0234","0234",1166,234,"Petersham                    ",234,"Petersham",934128.69,0.46311083764733779,{"$f":"X1175","v":1133842.72},{"$f":"IF(K1179>0, K1175/K1179, 0)","v":0.5074457344014478},null,{"$f":"ROUND(M1179*L1175,0)","v":637636},553478,{"$f":"N1175-O1175","v":84158},15.205301746410878,65,77,234,234,1166,77,1133842.72,1166,234,234,1166,77,1133842.72]
["02340755","0234","0755",1167,234,"Petersham                    ",755,"Ralph C Mahar",930496.57352831424,0.4613101515966449,878869.63823202963,{"$f":"IF(K1179>0, K1176/K1179, 0)","v":0.39333378532058405},null,{"$f":"ROUND(M1179*L1176,0)","v":494248},551326,{"$f":"N1176-O1176","v":-57078},-10.352858381429499,63.109756097000002,55.000000001799997,234,755,1167,55.000000001799997,878869.63823202963,1167,234,755,1167,55.000000001799997,878869.63823202963]
["02340832","0234","0832",1168,234,"Petersham                    ",832,"Montachusett",152448.43473686336,7.5579010756017251E-2,221699.4086486437,{"$f":"IF(K1179>0, K1177/K1179, 0)","v":9.9220480277968093E-2},null,{"$f":"ROUND(M1179*L1177,0)","v":124676},90327,{"$f":"N1177-O1177","v":34349},38.027389374162766,8.0054570246400001,11.01503759035,234,832,1168,11.01503759035,221699.4086486437,1168,234,832,1168,11.01503759035,221699.4086486437]
["02340998","0234","0998",1169,234,"",998,"",0,0,0,{"$f":"IF(K1179>0, K1178/K1179, 0)","v":0},null,{"$f":"ROUND(M1179*L1178,0)","v":0},0,{"$f":"N1178-O1178","v":0},0,0,0,234,998,1169,0,0,1169,234,998,1169,0,0]
["02340999","0234","0999",1170,234,"Petersham                    ",999,"Total",2017073.6982651777,1,{"$f":"SUM(K1175:K1178)","v":2234411.7668806734},{"$f":"SUM(L1175:L1178)","v":1},{"$f":"VLOOKUP(E1179,town351,24)","v":1256560},{"$f":"SUM(N1175:N1178)","v":1256560},1195131,{"$f":"SUM(P1175:P1178)","v":61429},5.1399386343421769,136.11521312164001,143.01503759215001,234,999,1170,143.01503759215001,2234411.7668806734,1170,234,999,1170,143.01503759215001,2234411.7668806734]
["02350235","0235","0235",1171,235,"Phillipston                  ",235,"Phillipston",0,0,{"$f":"X1180","v":0},{"$f":"IF(K1184>0, K1180/K1184, 0)","v":0},null,{"$f":"ROUND(M1184*L1180,0)","v":0},0,{"$f":"N1180-O1180","v":0},0,0,0,235,235,1171,0,0,1171,235,235,1171,0,0]
["02350720","0235","0720",1172,235,"Phillipston                  ",720,"Narragansett",2473334.8093997128,0.86073587022913234,2832452.7892744546,{"$f":"IF(K1184>0, K1181/K1184, 0)","v":0.86464624453446626},null,{"$f":"ROUND(M1184*L1181,0)","v":1450932},1313900,{"$f":"N1181-O1181","v":137032},10.429408630793819,186.54376452683999,198.51632047176003,235,720,1172,198.51632047176003,2832452.7892744546,1172,235,720,1172,198.51632047176003,2832452.7892744546]
["02350832","0235","0832",1173,235,"Phillipston                  ",832,"Montachusett",400177.14118426637,0.13926412977086769,443398.8172972874,{"$f":"IF(K1184>0, K1182/K1184, 0)","v":0.13535375546553374},null,{"$f":"ROUND(M1184*L1182,0)","v":227132},212584,{"$f":"N1182-O1182","v":14548},6.8434124863583339,21.014324689679999,22.030075180699999,235,832,1173,22.030075180699999,443398.8172972874,1173,235,832,1173,22.030075180699999,443398.8172972874]
["02350998","0235","0998",1174,235,"",998,"",0,0,0,{"$f":"IF(K1184>0, K1183/K1184, 0)","v":0},null,{"$f":"ROUND(M1184*L1183,0)","v":0},0,{"$f":"N1183-O1183","v":0},0,0,0,235,998,1174,0,0,1174,235,998,1174,0,0]
["02350999","0235","0999",1175,235,"Phillipston                  ",999,"Total",2873511.950583979,1,{"$f":"SUM(K1180:K1183)","v":3275851.6065717419},{"$f":"SUM(L1180:L1183)","v":1},{"$f":"VLOOKUP(E1184,town351,24)","v":1678064},{"$f":"SUM(N1180:N1183)","v":1678064},1526484,{"$f":"SUM(P1180:P1183)","v":151580},9.9300090927910158,207.55808921651999,220.54639565246003,235,999,1175,220.54639565246003,3275851.6065717419,1175,235,999,1175,220.54639565246003,3275851.6065717419]
["02360236","0236","0236",1176,236,"Pittsfield                   ",236,"Pittsfield",84729484.75,1,{"$f":"X1185","v":92916030.260000005},{"$f":"IF(K1189>0, K1185/K1189, 0)","v":1},null,{"$f":"ROUND(M1189*L1185,0)","v":32068500},30474674,{"$f":"N1185-O1185","v":1593826},5.2300018041210219,5618,5577,236,236,1176,5577,92916030.260000005,1176,236,236,1176,5577,92916030.260000005]
["02360998","0236","0998",1177,236,"",998,"",0,0,0,{"$f":"IF(K1189>0, K1186/K1189, 0)","v":0},null,{"$f":"ROUND(M1189*L1186,0)","v":0},0,{"$f":"N1186-O1186","v":0},0,0,0,236,998,1177,0,0,1177,236,998,1177,0,0]
["02360998","0236","0998",1178,236,"",998,"",0,0,0,{"$f":"IF(K1189>0, K1187/K1189, 0)","v":0},null,{"$f":"ROUND(M1189*L1187,0)","v":0},0,{"$f":"N1187-O1187","v":0},0,0,0,236,998,1178,0,0,1178,236,998,1178,0,0]
["02360998","0236","0998",1179,236,"",998,"",0,0,0,{"$f":"IF(K1189>0, K1188/K1189, 0)","v":0},null,{"$f":"ROUND(M1189*L1188,0)","v":0},0,{"$f":"N1188-O1188","v":0},0,0,0,236,998,1179,0,0,1179,236,998,1179,0,0]
["02360999","0236","0999",1180,236,"Pittsfield                   ",999,"Total",84729484.75,1,{"$f":"SUM(K1185:K1188)","v":92916030.260000005},{"$f":"SUM(L1185:L1188)","v":1},{"$f":"VLOOKUP(E1189,town351,24)","v":32068500},{"$f":"SUM(N1185:N1188)","v":32068500},30474674,{"$f":"SUM(P1185:P1188)","v":1593826},5.2300018041210219,5618,5577,236,999,1180,5577,92916030.260000005,1180,236,999,1180,5577,92916030.260000005]
["02370237","0237","0237",1181,237,"Plainfield                   ",237,"Plainfield",78488.55,0.10074145910046108,{"$f":"X1190","v":65963.040000000008},{"$f":"IF(K1194>0, K1190/K1194, 0)","v":7.2277584161012792E-2},null,{"$f":"ROUND(M1194*L1190,0)","v":46971},60901,{"$f":"N1190-O1190","v":-13930},-22.87318763238699,5,4,237,237,1181,4,65963.040000000008,1181,237,237,1181,4,65963.040000000008]
["02370717","0237","0717",1182,237,"Plainfield                   ",717,"Mohawk Trail",700620.17743792501,0.89925854089953883,846671.77985028899,{"$f":"IF(K1194>0, K1191/K1194, 0)","v":0.92772241583898718},null,{"$f":"ROUND(M1194*L1191,0)","v":602894},543625,{"$f":"N1191-O1191","v":59269},10.902552310876063,53.138856472920004,58.842682924899997,237,717,1182,58.842682924899997,846671.77985028899,1182,237,717,1182,58.842682924899997,846671.77985028899]
["02370998","0237","0998",1183,237,"",998,"",0,0,0,{"$f":"IF(K1194>0, K1192/K1194, 0)","v":0},null,{"$f":"ROUND(M1194*L1192,0)","v":0},0,{"$f":"N1192-O1192","v":0},0,0,0,237,998,1183,0,0,1183,237,998,1183,0,0]
["02370998","0237","0998",1184,237,"",998,"",0,0,0,{"$f":"IF(K1194>0, K1193/K1194, 0)","v":0},null,{"$f":"ROUND(M1194*L1193,0)","v":0},0,{"$f":"N1193-O1193","v":0},0,0,0,237,998,1184,0,0,1184,237,998,1184,0,0]
["02370999","0237","0999",1185,237,"Plainfield                   ",999,"Total",779108.72743792506,0.99999999999999989,{"$f":"SUM(K1190:K1193)","v":912634.81985028903},{"$f":"SUM(L1190:L1193)","v":1},{"$f":"VLOOKUP(E1194,town351,24)","v":649865},{"$f":"SUM(N1190:N1193)","v":649865},604526,{"$f":"SUM(P1190:P1193)","v":45339},7.4999255615143108,58.138856472920004,62.842682924899997,237,999,1185,62.842682924899997,912634.81985028903,1185,237,999,1185,62.842682924899997,912634.81985028903]
["02380238","0238","0238",1186,238,"Plainville                   ",238,"Plainville",8036459.790000001,0.49088258657207406,{"$f":"X1195","v":8340185.2700000005},{"$f":"IF(K1199>0, K1195/K1199, 0)","v":0.48748927761434646},null,{"$f":"ROUND(M1199*L1195,0)","v":6122586},5785122,{"$f":"N1195-O1195","v":337464},5.8333082690390974,670,655,238,238,1186,655,8340185.2700000005,1186,238,238,1186,655,8340185.2700000005]
["02380690","0238","0690",1187,238,"Plainville                   ",690,"King Philip",6488613.995484543,0.39633715648457341,6364984.643587199,{"$f":"IF(K1199>0, K1196/K1199, 0)","v":0.37203751061620383},null,{"$f":"ROUND(M1199*L1196,0)","v":4672578},4670890,{"$f":"N1196-O1196","v":1688},3.6138723027089058E-2,529.26989795197994,485.25580168072003,238,690,1187,485.25580168072003,6364984.643587199,1187,238,690,1187,485.25580168072003,6364984.643587199]
["02380878","0238","0878",1188,238,"Plainville                   ",878,"Tri County",1785844.0314022377,0.10908282505685635,2317171.9974342589,{"$f":"IF(K1199>0, K1197/K1199, 0)","v":0.1354402170417755},null,{"$f":"ROUND(M1199*L1197,0)","v":1701052},1285557,{"$f":"N1197-O1197","v":415495},32.320231619445892,91.203579416320011,112.99999999695,238,878,1188,112.99999999695,2317171.9974342589,1188,238,878,1188,112.99999999695,2317171.9974342589]
["02380915","0238","0915",1189,238,"Plainville                   ",915,"Norfolk County",60532.321770854047,3.6974318864961184E-3,86106.731818094282,{"$f":"IF(K1199>0, K1198/K1199, 0)","v":5.0329947276740823E-3},null,{"$f":"ROUND(M1199*L1198,0)","v":63212},43575,{"$f":"N1198-O1198","v":19637},45.064830751577738,3.00000000014,4.00000000004,238,915,1189,4.00000000004,86106.731818094282,1189,238,915,1189,4.00000000004,86106.731818094282]
["02380999","0238","0999",1190,238,"Plainville                   ",999,"Total",16371450.138657637,0.99999999999999989,{"$f":"SUM(K1195:K1198)","v":17108448.642839555},{"$f":"SUM(L1195:L1198)","v":0.99999999999999989},{"$f":"VLOOKUP(E1199,town351,24)","v":12559428},{"$f":"SUM(N1195:N1198)","v":12559428},11785144,{"$f":"SUM(P1195:P1198)","v":774284},6.5700003326221559,1293.4734773684402,1257.25580167771,238,999,1190,1257.25580167771,17108448.642839555,1190,238,999,1190,1257.25580167771,17108448.642839555]
["02390239","0239","0239",1191,239,"Plymouth                     ",239,"Plymouth",104649211.54707,1,{"$f":"X1200","v":111949866.57694001},{"$f":"IF(K1204>0, K1200/K1204, 0)","v":1},null,{"$f":"ROUND(M1204*L1200,0)","v":83683584},79081066,{"$f":"N1200-O1200","v":4602518},5.8199999479015618,7768,7691,239,239,1191,7691,111949866.57694001,1191,239,239,1191,7691,111949866.57694001]
["02390998","0239","0998",1192,239,"",998,"",0,0,0,{"$f":"IF(K1204>0, K1201/K1204, 0)","v":0},null,{"$f":"ROUND(M1204*L1201,0)","v":0},0,{"$f":"N1201-O1201","v":0},0,0,0,239,998,1192,0,0,1192,239,998,1192,0,0]
["02390998","0239","0998",1193,239,"",998,"",0,0,0,{"$f":"IF(K1204>0, K1202/K1204, 0)","v":0},null,{"$f":"ROUND(M1204*L1202,0)","v":0},0,{"$f":"N1202-O1202","v":0},0,0,0,239,998,1193,0,0,1193,239,998,1193,0,0]
["02390998","0239","0998",1194,239,"",998,"",0,0,0,{"$f":"IF(K1204>0, K1203/K1204, 0)","v":0},null,{"$f":"ROUND(M1204*L1203,0)","v":0},0,{"$f":"N1203-O1203","v":0},0,0,0,239,998,1194,0,0,1194,239,998,1194,0,0]
["02390999","0239","0999",1195,239,"Plymouth                     ",999,"Total",104649211.54707,1,{"$f":"SUM(K1200:K1203)","v":111949866.57694001},{"$f":"SUM(L1200:L1203)","v":1},{"$f":"VLOOKUP(E1204,town351,24)","v":83683584},{"$f":"SUM(N1200:N1203)","v":83683584},79081066,{"$f":"SUM(P1200:P1203)","v":4602518},5.8199999479015618,7768,7691,239,999,1195,7691,111949866.57694001,1195,239,999,1195,7691,111949866.57694001]
["02400240","0240","0240",1196,240,"Plympton                     ",240,"Plympton",2979879.4445200004,0.54099713626144064,{"$f":"X1205","v":3146739.0944000003},{"$f":"IF(K1209>0, K1205/K1209, 0)","v":0.53108831936946144},null,{"$f":"ROUND(M1209*L1205,0)","v":2196202},2095520,{"$f":"N1205-O1205","v":100682},4.8046308314881268,248,251,240,240,1196,251,3146739.0944000003,1196,240,240,1196,251,3146739.0944000003]
["02400760","0240","0760",1197,240,"Plympton                     ",760,"Silver Lake",2528244.8038123469,0.45900286373855931,2778337.7330022478,{"$f":"IF(K1209>0, K1206/K1209, 0)","v":0.46891168063053856},null,{"$f":"ROUND(M1209*L1206,0)","v":1939084},1777921,{"$f":"N1206-O1206","v":161163},9.0646884760346502,184.37189126741001,186.06420351806,240,760,1197,186.06420351806,2778337.7330022478,1197,240,760,1197,186.06420351806,2778337.7330022478]
["02400998","0240","0998",1198,240,"",998,"",0,0,0,{"$f":"IF(K1209>0, K1207/K1209, 0)","v":0},null,{"$f":"ROUND(M1209*L1207,0)","v":0},0,{"$f":"N1207-O1207","v":0},0,0,0,240,998,1198,0,0,1198,240,998,1198,0,0]
["02400998","0240","0998",1199,240,"",998,"",0,0,0,{"$f":"IF(K1209>0, K1208/K1209, 0)","v":0},null,{"$f":"ROUND(M1209*L1208,0)","v":0},0,{"$f":"N1208-O1208","v":0},0,0,0,240,998,1199,0,0,1199,240,998,1199,0,0]
["02400999","0240","0999",1200,240,"Plympton                     ",999,"Total",5508124.2483323477,1,{"$f":"SUM(K1205:K1208)","v":5925076.827402248},{"$f":"SUM(L1205:L1208)","v":1},{"$f":"VLOOKUP(E1209,town351,24)","v":4135286},{"$f":"SUM(N1205:N1208)","v":4135286},3873441,{"$f":"SUM(P1205:P1208)","v":261845},6.7600100272599999,432.37189126740998,437.06420351806003,240,999,1200,437.06420351806003,5925076.827402248,1200,240,999,1200,437.06420351806003,5925076.827402248]
["02410241","0241","0241",1201,241,"Princeton                    ",241,"Princeton",15697.710000000001,2.8820095849036646E-3,{"$f":"X1210","v":16490.760000000002},{"$f":"IF(K1214>0, K1210/K1214, 0)","v":2.9700802718138526E-3},null,{"$f":"ROUND(M1214*L1210,0)","v":13140},12201,{"$f":"N1210-O1210","v":939},7.6960904843865254,1,1,241,241,1201,1,16490.760000000002,1201,241,241,1201,1,16490.760000000002]
["02410775","0241","0775",1202,241,"Princeton                    ",775,"Wachusett",4935638.0044516874,0.90615484911140276,5031941.3270848254,{"$f":"IF(K1214>0, K1211/K1214, 0)","v":0.90628143666510541},null,{"$f":"ROUND(M1214*L1211,0)","v":4009651},3836083,{"$f":"N1211-O1211","v":173568},4.5246153433072225,423.19888940060002,406.80839970567996,241,775,1202,406.80839970567996,5031941.3270848254,1202,241,775,1202,406.80839970567996,5031941.3270848254]
["02410832","0241","0832",1203,241,"Princeton                    ",832,"Montachusett",495457.41289480601,9.0963141303693554E-2,503862.29246369755,{"$f":"IF(K1214>0, K1212/K1214, 0)","v":9.0748483063080754E-2},null,{"$f":"ROUND(M1214*L1212,0)","v":401498},385080,{"$f":"N1212-O1212","v":16418},4.26352965617534,26.017735330080001,25.034176345699997,241,832,1203,25.034176345699997,503862.29246369755,1203,241,832,1203,25.034176345699997,503862.29246369755]
["02410998","0241","0998",1204,241,"",998,"",0,0,0,{"$f":"IF(K1214>0, K1213/K1214, 0)","v":0},null,{"$f":"ROUND(M1214*L1213,0)","v":0},0,{"$f":"N1213-O1213","v":0},0,0,0,241,998,1204,0,0,1204,241,998,1204,0,0]
["02410999","0241","0999",1205,241,"Princeton                    ",999,"Total",5446793.1273464933,1,{"$f":"SUM(K1210:K1213)","v":5552294.3795485226},{"$f":"SUM(L1210:L1213)","v":1},{"$f":"VLOOKUP(E1214,town351,24)","v":4424289},{"$f":"SUM(N1210:N1213)","v":4424289},4233364,{"$f":"SUM(P1210:P1213)","v":190925},4.5100066991640695,450.21662473068,432.84257605137998,241,999,1205,432.84257605137998,5552294.3795485226,1205,241,999,1205,432.84257605137998,5552294.3795485226]
["02420242","0242","0242",1206,242,"Provincetown                 ",242,"Provincetown",1535068,0.91447370631320479,{"$f":"X1215","v":1708796.98},{"$f":"IF(K1219>0, K1215/K1219, 0)","v":0.89712506417369497},null,{"$f":"ROUND(M1219*L1215,0)","v":1409758},1266431,{"$f":"N1215-O1215","v":143327},11.317395104826081,97,98,242,242,1206,98,1708796.98,1206,242,242,1206,98,1708796.98]
["02420815","0242","0815",1207,242,"Provincetown                 ",815,"Cape Cod",143567.47021902379,8.5526293686795207E-2,195950.8062787198,{"$f":"IF(K1219>0, K1216/K1219, 0)","v":0.102874935826305},null,{"$f":"ROUND(M1219*L1216,0)","v":161659},118443,{"$f":"N1216-O1216","v":43216},36.486748900314922,7.0106707334700005,9.0269865045299991,242,815,1207,9.0269865045299991,195950.8062787198,1207,242,815,1207,9.0269865045299991,195950.8062787198]
["02420998","0242","0998",1208,242,"",998,"",0,0,0,{"$f":"IF(K1219>0, K1217/K1219, 0)","v":0},null,{"$f":"ROUND(M1219*L1217,0)","v":0},0,{"$f":"N1217-O1217","v":0},0,0,0,242,998,1208,0,0,1208,242,998,1208,0,0]
["02420998","0242","0998",1209,242,"",998,"",0,0,0,{"$f":"IF(K1219>0, K1218/K1219, 0)","v":0},null,{"$f":"ROUND(M1219*L1218,0)","v":0},0,{"$f":"N1218-O1218","v":0},0,0,0,242,998,1209,0,0,1209,242,998,1209,0,0]
["02420999","0242","0999",1210,242,"Provincetown                 ",999,"Total",1678635.4702190238,1,{"$f":"SUM(K1215:K1218)","v":1904747.7862787198},{"$f":"SUM(L1215:L1218)","v":1},{"$f":"VLOOKUP(E1219,town351,24)","v":1571417},{"$f":"SUM(N1215:N1218)","v":1571417},1384874,{"$f":"SUM(P1215:P1218)","v":186543},13.470034096964778,104.01067073346999,107.02698650453,242,999,1210,107.02698650453,1904747.7862787198,1210,242,999,1210,107.02698650453,1904747.7862787198]
["02430243","0243","0243",1211,243,"Quincy                       ",243,"Quincy",146803428.35284004,0.99807946142901305,{"$f":"X1220","v":164068488.81255996},{"$f":"IF(K1224>0, K1220/K1224, 0)","v":0.99790511027845641},null,{"$f":"ROUND(M1224*L1220,0)","v":118960682},111395437,{"$f":"N1220-O1220","v":7565245},6.7913419110694813,9460,9715,243,243,1211,9715,164068488.81255996,1211,243,243,1211,9715,164068488.81255996]
["02430915","0243","0915",1212,243,"Quincy                       ",915,"Norfolk County",282484.16824555682,1.920538570986947E-3,344426.92727237713,{"$f":"IF(K1224>0, K1221/K1224, 0)","v":2.0948897215435293E-3},null,{"$f":"ROUND(M1224*L1221,0)","v":249733},214351,{"$f":"N1221-O1221","v":35382},16.506570998035933,13.99999999974,16.00000000016,243,915,1212,16.00000000016,344426.92727237713,1212,243,915,1212,16.00000000016,344426.92727237713]
["02430998","0243","0998",1213,243,"",998,"",0,0,0,{"$f":"IF(K1224>0, K1222/K1224, 0)","v":0},null,{"$f":"ROUND(M1224*L1222,0)","v":0},0,{"$f":"N1222-O1222","v":0},0,0,0,243,998,1213,0,0,1213,243,998,1213,0,0]
["02430998","0243","0998",1214,243,"",998,"",0,0,0,{"$f":"IF(K1224>0, K1223/K1224, 0)","v":0},null,{"$f":"ROUND(M1224*L1223,0)","v":0},0,{"$f":"N1223-O1223","v":0},0,0,0,243,998,1214,0,0,1214,243,998,1214,0,0]
["02430999","0243","0999",1215,243,"Quincy                       ",999,"Total",147085912.52108559,1,{"$f":"SUM(K1220:K1223)","v":164412915.73983234},{"$f":"SUM(L1220:L1223)","v":0.99999999999999989},{"$f":"VLOOKUP(E1224,town351,24)","v":119210415},{"$f":"SUM(N1220:N1223)","v":119210415},111609788,{"$f":"SUM(P1220:P1223)","v":7600627},6.8100003917219158,9473.9999999997399,9731.0000000001601,243,999,1215,9731.0000000001601,164412915.73983234,1215,243,999,1215,9731.0000000001601,164412915.73983234]
["02440244","0244","0244",1216,244,"Randolph                     ",244,"Randolph",47526055.611459993,0.88641518409001185,{"$f":"X1225","v":50608513.309120007},{"$f":"IF(K1229>0, K1225/K1229, 0)","v":0.89438208969528199},null,{"$f":"ROUND(M1229*L1225,0)","v":26405867},24874680,{"$f":"N1225-O1225","v":1531187},6.1556048158207464,3107,3050,244,244,1216,3050,50608513.309120007,1216,244,244,1216,3050,50608513.309120007]
[{"$f":"B1226&C1226","v":"02440806"},"0244","0806",1217,244,"Randolph                     ",806,"Blue Hills",5888191.5315940538,0.10982149293232402,5868744.5571508575,{"$f":"IF(K1229>0, K1226/K1229, 0)","v":0.10371575210778831},null,{"$f":"ROUND(M1229*L1226,0)","v":3062119},3081823,{"$f":"N1226-O1226","v":-19704},-0.63936183226616194,287.99999999753999,268.99999999925001,{"$f":"VLOOKUP($D1226, foundoptions, VLOOKUP($T$6, foundoptcell, 2, FALSE), FALSE)","v":244},{"$f":"VLOOKUP($D1226, foundoptions, VLOOKUP($T$6, foundoptcell, 2, FALSE)+1, FALSE)","v":806},{"$f":"VLOOKUP($D1226, foundoptions, VLOOKUP($T$6, foundoptcell, 2, FALSE)+2, FALSE)","v":1217},{"$f":"VLOOKUP($D1226, foundoptions, VLOOKUP($T$6, foundoptcell, 2, FALSE)+3, FALSE)","v":268.99999999925001},{"$f":"VLOOKUP($D1226, foundoptions, VLOOKUP($T$6, foundoptcell, 2, FALSE)+4, FALSE)","v":5868744.5571508575},1217,244,806,1217,268.99999999925001,5868744.5571508575]
["02440915","0244","0915",1218,244,"Randolph                     ",915,"Norfolk County",201774.40586598936,3.7633229776641943E-3,107633.41477261785,{"$f":"IF(K1229>0, K1227/K1229, 0)","v":1.9021581969297899E-3},null,{"$f":"ROUND(M1229*L1227,0)","v":56160},105607,{"$f":"N1227-O1227","v":-49447},-46.821706894429347,9.9999999986399999,{"$f":"W1227","v":5.00000000005},244,915,1218,5.00000000005,107633.41477261785,{"$f":"D1227","v":1218},244,915,1218,5.00000000005,107633.41477261785]
["02440998","0244","0998",1219,244,"",998,"",0,0,0,{"$f":"IF(K1229>0, K1228/K1229, 0)","v":0},null,{"$f":"ROUND(M1229*L1228,0)","v":0},0,{"$f":"N1228-O1228","v":0},0,0,0,244,998,1219,0,0,1219,244,998,1219,0,0]
["02440999","0244","0999",1220,244,"Randolph                     ",999,"Total",53616021.548920035,1,{"$f":"SUM(K1225:K1228)","v":56584891.281043477},{"$f":"SUM(L1225:L1228)","v":1},{"$f":"VLOOKUP(E1229,town351,24)","v":29524145},{"$f":"SUM(N1225:N1228)","v":29524146},28062110,{"$f":"SUM(P1225:P1228)","v":1462036},5.2100002458831502,3404.9999999961797,3323.9999999993001,244,999,1220,3323.9999999993001,56584891.281043477,1220,244,999,1220,3323.9999999993001,56584891.281043477]
["02450245","0245","0245",1221,245,"Raynham                      ",245,"Raynham",0,0,{"$f":"X1230","v":0},{"$f":"IF(K1234>0, K1230/K1234, 0)","v":0},null,{"$f":"ROUND(M1234*L1230,0)","v":0},0,{"$f":"N1230-O1230","v":0},0,0,0,245,245,1221,0,0,1221,245,245,1221,0,0]
["02450625","0245","0625",1222,245,"Raynham                      ",625,"Bridgewater Raynham",26605479.556265905,0.86898707582103207,28548915.093928687,{"$f":"IF(K1234>0, K1231/K1234, 0)","v":0.8729108817693173},null,{"$f":"ROUND(M1234*L1231,0)","v":16512481},15513642,{"$f":"N1231-O1231","v":998839},6.438455908677021,2178.9186525700502,2186.1578391552603,245,625,1222,2186.1578391552603,28548915.093928687,1222,245,625,1222,2186.1578391552603,28548915.093928687]
["02450810","0245","0810",1223,245,"Raynham                      ",810,"Bristol Plymouth",3687627.5761951469,0.12044513978324901,3810341.5874906578,{"$f":"IF(K1234>0, K1232/K1234, 0)","v":0.11650490479360134},null,{"$f":"ROUND(M1234*L1232,0)","v":2203873},2150254,{"$f":"N1232-O1232","v":53619},{"$f":"IF(O1232>0,P1232*100/O1232,IF(P1232>0,100,0))","v":2.4936123825371328},193.57016247604003,189.00228483840002,245,810,1223,189.00228483840002,3810341.5874906578,1223,245,810,1223,189.00228483840002,3810341.5874906578]
["02450910","0245","0910",1224,245,"Raynham                      ",910,"Bristol County",323550.23396600084,1.056778439571893E-2,346161.12258651888,{"$f":"IF(K1234>0, K1233/K1234, 0)","v":1.0584213437081361E-2},null,{"$f":"ROUND(M1234*L1233,0)","v":200217},188662,{"$f":"N1233-O1233","v":11555},{"$f":"IF(O1233>0,P1233*100/O1233,IF(P1233>0,100,0))","v":6.1247097984755809},16.999999998939998,17.000000001980002,245,910,1224,17.000000001980002,346161.12258651888,1224,245,910,1224,17.000000001980002,346161.12258651888]
["02450999","0245","0999",1225,245,"Raynham                      ",999,"Total",30616657.366427053,1,{"$f":"SUM(K1230:K1233)","v":32705417.804005865},{"$f":"SUM(L1230:L1233)","v":1},{"$f":"VLOOKUP(E1234,town351,24)","v":18916571},{"$f":"SUM(N1230:N1233)","v":18916571},17852558,{"$f":"SUM(P1230:P1233)","v":1064013},{"$f":"IF(O1234>0,P1234*100/O1234,IF(P1234>0,100,0))","v":5.9600030427012198},2389.4888150450302,2392.1601239956403,245,999,1225,2392.1601239956403,32705417.804005865,1225,245,999,1225,2392.1601239956403,32705417.804005865]
["02460246","0246","0246",1226,246,"Reading                      ",246,"Reading",43201150.09262,0.98389183966587268,{"$f":"X1235","v":46064559.298859999},{"$f":"IF(K1239>0, K1235/K1239, 0)","v":0.98475710033999653},null,{"$f":"ROUND(M1239*L1235,0)","v":37284680},35640949,{"$f":"N1235-O1235","v":1643731},4.6119170395827567,3699,3708,246,246,1226,3708,46064559.298859999,1226,246,246,1226,3708,46064559.298859999]
["02460853","0246","0853",1227,246,"Reading                      ",853,"Northeast Metropolitan",707284.09796237887,1.6108160334127319E-2,713026.03965219145,{"$f":"IF(K1239>0, K1236/K1239, 0)","v":1.5242899660003485E-2},null,{"$f":"ROUND(M1239*L1236,0)","v":577124},583509,{"$f":"N1236-O1236","v":-6385},-1.0942419054376196,33.000000005419999,31.00000000196,246,853,1227,31.00000000196,713026.03965219145,1227,246,853,1227,31.00000000196,713026.03965219145]
["02460998","0246","0998",1228,246,"",998,null,0,0,0,{"$f":"IF(K1239>0, K1237/K1239, 0)","v":0},null,{"$f":"ROUND(M1239*L1237,0)","v":0},0,{"$f":"N1237-O1237","v":0},0,0,0,246,998,1228,0,0,1228,246,998,1228,0,0]
["02460998","0246","0998",1229,246,"",998,"",0,0,0,{"$f":"IF(K1239>0, K1238/K1239, 0)","v":0},null,{"$f":"ROUND(M1239*L1238,0)","v":0},0,{"$f":"N1238-O1238","v":0},0,0,0,246,998,1229,0,0,1229,246,998,1229,0,0]
["02460999","0246","0999",1230,246,"Reading                      ",999,"Total",43908434.19058238,1,{"$f":"SUM(K1235:K1238)","v":46777585.33851219},{"$f":"SUM(L1235:L1238)","v":1},{"$f":"VLOOKUP(E1239,town351,24)","v":37861804},{"$f":"SUM(N1235:N1238)","v":37861804},36224458,{"$f":"SUM(P1235:P1238)","v":1637346},4.5200013758659967,3732.0000000054201,3739.00000000196,246,999,1230,3739.00000000196,46777585.33851219,1230,246,999,1230,3739.00000000196,46777585.33851219]
["02470247","0247","0247",1231,247,"Rehoboth                     ",247,"Rehoboth",0,0,{"$f":"X1240","v":0},{"$f":"IF(K1244>0, K1240/K1244, 0)","v":0},null,{"$f":"ROUND(M1244*L1240,0)","v":0},0,{"$f":"N1240-O1240","v":0},0,0,0,247,247,1231,0,0,1231,247,247,1231,0,0]
["02470650","0247","0650",1232,247,"Rehoboth                     ",650,"Dighton Rehoboth",17820417.985089179,0.91116667013331543,18701103.000282004,{"$f":"IF(K1244>0, K1241/K1244, 0)","v":0.89946215286119879},null,{"$f":"ROUND(M1244*L1241,0)","v":15146359},14610032,{"$f":"N1241-O1241","v":536327},3.6709502073643643,1455.3889523908799,1447.08461538858,247,650,1232,1447.08461538858,18701103.000282004,1232,247,650,1232,1447.08461538858,18701103.000282004]
["02470810","0247","0810",1233,247,"Rehoboth                     ",810,"Bristol Plymouth",1394802.1403288066,7.1316914270002751E-2,{"$f":"X1242","v":1499815.3057030835},{"$f":"IF(K1244>0, K1242/K1244, 0)","v":7.2136231950678503E-2},null,{"$f":"ROUND(M1244*L1242,0)","v":1214727},1143526,{"$f":"N1242-O1242","v":71201},6.2264434739568664,73.215657315359991,74.394516371999998,247,810,1233,74.394516371999998,1499815.3057030835,1233,247,810,1233,74.394516371999998,1499815.3057030835]
["02470910","0247","0910",1234,247,"Rehoboth                     ",910,"Bristol County",342582.60070875403,1.7516415596681892E-2,590510.15022465098,{"$f":"IF(K1244>0, K1243/K1244, 0)","v":2.8401615188122599E-2},null,{"$f":"ROUND(M1244*L1243,0)","v":478265},280866,{"$f":"N1243-O1243","v":197399},70.282269836861701,18.00000000092,28.999999999939998,247,910,1234,28.999999999939998,590510.15022465098,1234,247,910,1234,28.999999999939998,590510.15022465098]
["02470999","0247","0999",1235,247,"Rehoboth                     ",999,"Total",19557802.726126738,1,{"$f":"SUM(K1240:K1243)","v":20791428.456209742},{"$f":"SUM(L1240:L1243)","v":0.99999999999999989},{"$f":"VLOOKUP(E1244,town351,24)","v":16839351},{"$f":"SUM(N1240:N1243)","v":16839351},16034424,{"$f":"SUM(P1240:P1243)","v":804927},5.0199932345558533,1546.6046097071599,1550.47913176052,247,999,1235,1550.47913176052,20791428.456209742,1235,247,999,1235,1550.47913176052,20791428.456209742]
["02480248","0248","0248",1236,248,"Revere                       ",248,"Revere",125462677.79059999,0.95857047348499658,{"$f":"X1245","v":142967579.12336001},{"$f":"IF(K1249>0, K1245/K1249, 0)","v":0.96044349452531264},null,{"$f":"ROUND(M1249*L1245,0)","v":44549397},41009518,{"$f":"N1245-O1245","v":3539879},8.6318473677257064,7735,7955,248,248,1236,7955,142967579.12336001,1236,248,248,1236,7955,142967579.12336001]
["02480853","0248","0853",1237,248,"Revere                       ",853,"Northeast Metropolitan",5422511.4166844375,4.1429526515003486E-2,5888215.0366285229,{"$f":"IF(K1249>0, K1246/K1249, 0)","v":3.9556505474687371E-2},null,{"$f":"ROUND(M1249*L1246,0)","v":1834797},1772436,{"$f":"N1246-O1246","v":62361},3.5183780965857161,252.99999999362998,255.99999999447999,248,853,1237,255.99999999447999,5888215.0366285229,1237,248,853,1237,255.99999999447999,5888215.0366285229]
["02480998","0248","0998",1238,248,"",998,null,0,0,0,{"$f":"IF(K1249>0, K1247/K1249, 0)","v":0},null,{"$f":"ROUND(M1249*L1247,0)","v":0},0,{"$f":"N1247-O1247","v":0},0,0,0,248,998,1238,0,0,1238,248,998,1238,0,0]
["02480998","0248","0998",1239,248,"",998,"",0,0,0,{"$f":"IF(K1249>0, K1248/K1249, 0)","v":0},null,{"$f":"ROUND(M1249*L1248,0)","v":0},0,{"$f":"N1248-O1248","v":0},0,0,0,248,998,1239,0,0,1239,248,998,1239,0,0]
["02480999","0248","0999",1240,248,"Revere                       ",999,"Total",130885189.20728442,1,{"$f":"SUM(K1245:K1248)","v":148855794.15998852},{"$f":"SUM(L1245:L1248)","v":1},{"$f":"VLOOKUP(E1249,town351,24)","v":46384194},{"$f":"SUM(N1245:N1248)","v":46384194},42781954,{"$f":"SUM(P1245:P1248)","v":3602240},8.4199987686396938,7987.9999999936299,8210.9999999944794,248,999,1240,8210.9999999944794,148855794.15998852,1240,248,999,1240,8210.9999999944794,148855794.15998852]
["02490249","0249","0249",1241,249,"Richmond                     ",249,"Richmond",1633317.1499999997,1,{"$f":"X1250","v":1653453.7499999998},{"$f":"IF(K1254>0, K1250/K1254, 0)","v":1},null,{"$f":"ROUND(M1254*L1250,0)","v":1364099},1118062,{"$f":"N1250-O1250","v":246037},22.005666948702309,122,120,249,249,1241,120,1653453.7499999998,1241,249,249,1241,120,1653453.7499999998]
["02490998","0249","0998",1242,249,"",998,"",0,0,0,{"$f":"IF(K1254>0, K1251/K1254, 0)","v":0},null,{"$f":"ROUND(M1254*L1251,0)","v":0},0,{"$f":"N1251-O1251","v":0},0,0,0,249,998,1242,0,0,1242,249,998,1242,0,0]
["02490998","0249","0998",1243,249,"",998,"",0,0,0,{"$f":"IF(K1254>0, K1252/K1254, 0)","v":0},null,{"$f":"ROUND(M1254*L1252,0)","v":0},0,{"$f":"N1252-O1252","v":0},0,0,0,249,998,1243,0,0,1243,249,998,1243,0,0]
["02490998","0249","0998",1244,249,"",998,"",0,0,0,{"$f":"IF(K1254>0, K1253/K1254, 0)","v":0},null,{"$f":"ROUND(M1254*L1253,0)","v":0},0,{"$f":"N1253-O1253","v":0},0,0,0,249,998,1244,0,0,1244,249,998,1244,0,0]
["02490999","0249","0999",1245,249,"Richmond                     ",999,"Total",1633317.1499999997,1,{"$f":"SUM(K1250:K1253)","v":1653453.7499999998},{"$f":"SUM(L1250:L1253)","v":1},{"$f":"VLOOKUP(E1254,town351,24)","v":1364099},{"$f":"SUM(N1250:N1253)","v":1364099},1118062,{"$f":"SUM(P1250:P1253)","v":246037},22.005666948702309,122,120,249,999,1245,120,1653453.7499999998,1245,249,999,1245,120,1653453.7499999998]
["02500250","0250","0250",1246,250,"Rochester                    ",250,"Rochester",6070731.0099999998,0.50459838858114481,{"$f":"X1255","v":6163095.8600000003},{"$f":"IF(K1259>0, K1255/K1259, 0)","v":0.49332215827298564},null,{"$f":"ROUND(M1259*L1255,0)","v":3840072},3686389,{"$f":"N1255-O1255","v":153683},4.1689306256067926,522,499,250,250,1246,499,6163095.8600000003,1246,250,250,1246,499,6163095.8600000003]
["02500740","0250","0740",1247,250,"Rochester                    ",740,"Old Rochester",4225935.0628239252,0.35125918434483755,4522876.8329250934,{"$f":"IF(K1259>0, K1256/K1259, 0)","v":0.36203158469475644},null,{"$f":"ROUND(M1259*L1256,0)","v":2818093},2566156,{"$f":"N1256-O1256","v":251937},9.8176806086613588,339.99999999915002,338.00000000430998,250,740,1247,338.00000000430998,4522876.8329250934,1247,250,740,1247,338.00000000430998,4522876.8329250934]
["02500855","0250","0855",1248,250,"Rochester                    ",855,"Old Colony",1734151.2016227639,0.14414242707401767,1807072.179771621,{"$f":"IF(K1259>0, K1257/K1259, 0)","v":0.14464625703225792},null,{"$f":"ROUND(M1259*L1257,0)","v":1125942},1053046,{"$f":"N1257-O1257","v":72896},6.9223946532250249,94.180769231170004,93.000000001539988,250,855,1248,93.000000001539988,1807072.179771621,1248,250,855,1248,93.000000001539988,1807072.179771621]
["02500998","0250","0998",1249,250,"",998,"",0,0,0,{"$f":"IF(K1259>0, K1258/K1259, 0)","v":0},null,{"$f":"ROUND(M1259*L1258,0)","v":0},0,{"$f":"N1258-O1258","v":0},0,0,0,250,998,1249,0,0,1249,250,998,1249,0,0]
["02500999","0250","0999",1250,250,"Rochester                    ",999,"Total",12030817.274446689,1,{"$f":"SUM(K1255:K1258)","v":12493044.872696714},{"$f":"SUM(L1255:L1258)","v":1},{"$f":"VLOOKUP(E1259,town351,24)","v":7784107},{"$f":"SUM(N1255:N1258)","v":7784107},7305591,{"$f":"SUM(P1255:P1258)","v":478516},6.549997118645158,956.18076923032004,930.00000000584998,250,999,1250,930.00000000584998,12493044.872696714,1250,250,999,1250,930.00000000584998,12493044.872696714]
["02510251","0251","0251",1251,251,"Rockland                     ",251,"Rockland",31695075.426849995,0.91441262914157206,{"$f":"X1260","v":34848972.482560009},{"$f":"IF(K1264>0, K1260/K1264, 0)","v":0.92486352898542601},null,{"$f":"ROUND(M1264*L1260,0)","v":16311436},15340167,{"$f":"N1260-O1260","v":971269},6.3315412407179137,2187,2213,251,251,1251,2213,34848972.482560009,1251,251,251,1251,2213,34848972.482560009]
["02510873","0251","0873",1252,251,"Rockland                     ",873,"South Shore",2966601.8255787501,8.5587370858427797E-2,2831151.5469703567,{"$f":"IF(K1264>0, K1261/K1264, 0)","v":7.5136471014573866E-2},null,{"$f":"ROUND(M1264*L1261,0)","v":1325151},1435812,{"$f":"N1261-O1261","v":-110661},-7.7072067930899033,151.99999999757,136.0000000002,251,873,1252,136.0000000002,2831151.5469703567,1252,251,873,1252,136.0000000002,2831151.5469703567]
["02510998","0251","0998",1253,251,"",998,"",0,0,0,{"$f":"IF(K1264>0, K1262/K1264, 0)","v":0},null,{"$f":"ROUND(M1264*L1262,0)","v":0},0,{"$f":"N1262-O1262","v":0},0,0,0,251,998,1253,0,0,1253,251,998,1253,0,0]
["02510998","0251","0998",1254,251,"",998,"",0,0,0,{"$f":"IF(K1264>0, K1263/K1264, 0)","v":0},null,{"$f":"ROUND(M1264*L1263,0)","v":0},0,{"$f":"N1263-O1263","v":0},0,0,0,251,998,1254,0,0,1254,251,998,1254,0,0]
["02510999","0251","0999",1255,251,"Rockland                     ",999,"Total",34661677.252428748,0.99999999999999989,{"$f":"SUM(K1260:K1263)","v":37680124.029530369},{"$f":"SUM(L1260:L1263)","v":0.99999999999999989},{"$f":"VLOOKUP(E1264,town351,24)","v":17636587},{"$f":"SUM(N1260:N1263)","v":17636587},16775979,{"$f":"SUM(P1260:P1263)","v":860608},5.1300016529586738,2338.9999999975698,2349.0000000002001,251,999,1255,2349.0000000002001,37680124.029530369,1255,251,999,1255,2349.0000000002001,37680124.029530369]
["02520252","0252","0252",1256,252,"Rockport                     ",252,"Rockport",7658338.1696900008,0.96033130830794045,{"$f":"X1265","v":8129580.1188599998},{"$f":"IF(K1269>0, K1265/K1269, 0)","v":0.97171509977583193},null,{"$f":"ROUND(M1269*L1265,0)","v":6706904},6318129,{"$f":"N1265-O1265","v":388775},6.1533248213197291,593,587,252,252,1256,587,8129580.1188599998,1256,252,252,1256,587,8129580.1188599998]
["02520817","0252","0817",1257,252,"Rockport                     ",817,"Essex North Shore",316345.25824451045,3.9668691692059513E-2,236637.63440475694,{"$f":"IF(K1269>0, K1266/K1269, 0)","v":2.828490022416804E-2},null,{"$f":"ROUND(M1269*L1266,0)","v":195226},260985,{"$f":"N1266-O1266","v":-65759},-25.196467229917427,16.999999994749999,12.000000000329999,252,817,1257,12.000000000329999,236637.63440475694,1257,252,817,1257,12.000000000329999,236637.63440475694]
["02520998","0252","0998",1258,252,"",998,null,0,0,0,{"$f":"IF(K1269>0, K1267/K1269, 0)","v":0},null,{"$f":"ROUND(M1269*L1267,0)","v":0},0,{"$f":"N1267-O1267","v":0},0,0,0,252,998,1258,0,0,1258,252,998,1258,0,0]
["02520998","0252","0998",1259,252,"",998,"",0,0,0,{"$f":"IF(K1269>0, K1268/K1269, 0)","v":0},null,{"$f":"ROUND(M1269*L1268,0)","v":0},0,{"$f":"N1268-O1268","v":0},0,0,0,252,998,1259,0,0,1259,252,998,1259,0,0]
["02520999","0252","0999",1260,252,"Rockport                     ",999,"Total",7974683.4279345116,1,{"$f":"SUM(K1265:K1268)","v":8366217.7532647569},{"$f":"SUM(L1265:L1268)","v":1},{"$f":"VLOOKUP(E1269,town351,24)","v":6902130},{"$f":"SUM(N1265:N1268)","v":6902130},6579114,{"$f":"SUM(P1265:P1268)","v":323016},4.9097188466410522,609.99999999474994,599.00000000033003,252,999,1260,599.00000000033003,8366217.7532647569,1260,252,999,1260,599.00000000033003,8366217.7532647569]
["02530253","0253","0253",1261,253,"Rowe                         ",253,"Rowe",687426.26,1,{"$f":"X1270","v":751366.82},{"$f":"IF(K1274>0, K1270/K1274, 0)","v":1},null,{"$f":"ROUND(M1274*L1270,0)","v":619878},567127,{"$f":"N1270-O1270","v":52751},9.3014439446543715,44,41,253,253,1261,41,751366.82,1261,253,253,1261,41,751366.82]
["02530998","0253","0998",1262,253,"",998,"",0,0,0,{"$f":"IF(K1274>0, K1271/K1274, 0)","v":0},null,{"$f":"ROUND(M1274*L1271,0)","v":0},0,{"$f":"N1271-O1271","v":0},0,0,0,253,998,1262,0,0,1262,253,998,1262,0,0]
["02530998","0253","0998",1263,253,"",998,"",0,0,0,{"$f":"IF(K1274>0, K1272/K1274, 0)","v":0},null,{"$f":"ROUND(M1274*L1272,0)","v":0},0,{"$f":"N1272-O1272","v":0},0,0,0,253,998,1263,0,0,1263,253,998,1263,0,0]
["02530998","0253","0998",1264,253,"",998,"",0,0,0,{"$f":"IF(K1274>0, K1273/K1274, 0)","v":0},null,{"$f":"ROUND(M1274*L1273,0)","v":0},0,{"$f":"N1273-O1273","v":0},0,0,0,253,998,1264,0,0,1264,253,998,1264,0,0]
["02530999","0253","0999",1265,253,"Rowe                         ",999,"Total",687426.26,1,{"$f":"SUM(K1270:K1273)","v":751366.82},{"$f":"SUM(L1270:L1273)","v":1},{"$f":"VLOOKUP(E1274,town351,24)","v":619878},{"$f":"SUM(N1270:N1273)","v":619878},567127,{"$f":"SUM(P1270:P1273)","v":52751},9.3014439446543715,44,41,253,999,1265,41,751366.82,1265,253,999,1265,41,751366.82]
["02540254","0254","0254",1266,254,"Rowley                       ",254,"Rowley",145589.63310000001,1.5320849159282571E-2,{"$f":"X1275","v":102026.38446},{"$f":"IF(K1279>0, K1275/K1279, 0)","v":9.712732958471585E-3},null,{"$f":"ROUND(M1279*L1275,0)","v":75107},110941,{"$f":"N1275-O1275","v":-35834},-32.300051378660733,9,6,254,254,1266,6,102026.38446,1266,254,254,1266,6,102026.38446]
["02540773","0254","0773",1267,254,"Rowley                       ",773,"Triton",8887941.5796535946,0.93530569024003107,9923979.5564909633,{"$f":"IF(K1279>0, K1276/K1279, 0)","v":0.94474545802725973},null,{"$f":"ROUND(M1279*L1276,0)","v":7305609},6772743,{"$f":"N1276-O1276","v":532866},7.8678018640305707,691.02402795847001,725.84081813216005,254,773,1267,725.84081813216005,9923979.5564909633,1267,254,773,1267,725.84081813216005,9923979.5564909633]
["02540885","0254","0885",1268,254,"Rowley                       ",885,"Whittier",469181.82791298005,4.9373460600686404E-2,478389.15528311144,{"$f":"IF(K1279>0, K1277/K1279, 0)","v":4.5541809014268554E-2},null,{"$f":"ROUND(M1279*L1277,0)","v":352170},357523,{"$f":"N1277-O1277","v":-5353},-1.4972463310052779,24.00000000068,23.00000000475,254,885,1268,23.00000000475,478389.15528311144,1268,254,885,1268,23.00000000475,478389.15528311144]
["02540998","0254","0998",1269,254,"",998,null,0,0,0,{"$f":"IF(K1279>0, K1278/K1279, 0)","v":0},null,{"$f":"ROUND(M1279*L1278,0)","v":0},0,{"$f":"N1278-O1278","v":0},0,0,0,254,998,1269,0,0,1269,254,998,1269,0,0]
["02540999","0254","0999",1270,254,"Rowley                       ",999,"Total",9502713.0406665746,1,{"$f":"SUM(K1275:K1278)","v":10504395.096234076},{"$f":"SUM(L1275:L1278)","v":0.99999999999999989},{"$f":"VLOOKUP(E1279,town351,24)","v":7732886},{"$f":"SUM(N1275:N1278)","v":7732886},7241207,{"$f":"SUM(P1275:P1278)","v":491679},6.7900144271528218,724.02402795914998,754.84081813691,254,999,1270,754.84081813691,10504395.096234076,1270,254,999,1270,754.84081813691,10504395.096234076]
["02550255","0255","0255",1271,255,"Royalston                    ",255,"Royalston",0,0,{"$f":"X1280","v":0},{"$f":"IF(K1284>0, K1280/K1284, 0)","v":0},null,{"$f":"ROUND(M1284*L1280,0)","v":0},0,{"$f":"N1280-O1280","v":0},0,0,0,255,255,1271,0,0,1271,255,255,1271,0,0]
["02550615","0255","0615",1272,255,"Royalston                    ",615,"Athol Royalston",1763875.4624570559,0.9204474593464631,1811048.0943022633,{"$f":"IF(K1284>0, K1281/K1284, 0)","v":0.89985808566260717},null,{"$f":"ROUND(M1284*L1281,0)","v":643839},621939,{"$f":"N1281-O1281","v":21900},3.5212456527087062,123.61070831500001,113.91226096842,255,615,1272,113.91226096842,1811048.0943022633,1272,255,615,1272,113.91226096842,1811048.0943022633]
["02550832","0255","0832",1273,255,"Royalston                    ",832,"Montachusett",152448.43473686336,7.9552540653536813E-2,201544.91692650699,{"$f":"IF(K1284>0, K1282/K1284, 0)","v":0.10014191433739283},null,{"$f":"ROUND(M1284*L1282,0)","v":71651},53753,{"$f":"N1282-O1282","v":17898},33.296746228117499,8.0054570246400001,10.01367053535,255,832,1273,10.01367053535,201544.91692650699,1273,255,832,1273,10.01367053535,201544.91692650699]
["02550998","0255","0998",1274,255,"",998,"",0,0,0,{"$f":"IF(K1284>0, K1283/K1284, 0)","v":0},null,{"$f":"ROUND(M1284*L1283,0)","v":0},0,{"$f":"N1283-O1283","v":0},0,0,0,255,998,1274,0,0,1274,255,998,1274,0,0]
["02550999","0255","0999",1275,255,"Royalston                    ",999,"Total",1916323.8971939194,0.99999999999999989,{"$f":"SUM(K1280:K1283)","v":2012593.0112287703},{"$f":"SUM(L1280:L1283)","v":1},{"$f":"VLOOKUP(E1284,town351,24)","v":715490},{"$f":"SUM(N1280:N1283)","v":715490},675692,{"$f":"SUM(P1280:P1283)","v":39798},5.8899616985253633,131.61616533964002,123.92593150377,255,999,1275,123.92593150377,2012593.0112287703,1275,255,999,1275,123.92593150377,2012593.0112287703]
["02560256","0256","0256",1276,256,"Russell                      ",256,"Russell",327675.83999999997,0.11035500245821137,{"$f":"X1285","v":344095.56},{"$f":"IF(K1289>0, K1285/K1289, 0)","v":0.10359098136308685},null,{"$f":"ROUND(M1289*L1285,0)","v":136909},136549,{"$f":"N1285-O1285","v":360},0.26364162315359324,19,19,256,256,1276,19,344095.56,1276,256,256,1276,19,344095.56]
["02560672","0256","0672",1277,256,"Russell                      ",672,"Gateway",2641612.6625677245,0.88964499754178872,2977579.3143208013,{"$f":"IF(K1289>0, K1286/K1289, 0)","v":0.89640901863691314},null,{"$f":"ROUND(M1289*L1286,0)","v":1184721},1100816,{"$f":"N1286-O1286","v":83905},7.6220730803331351,194.79948585811999,202.25121951162001,256,672,1277,202.25121951162001,2977579.3143208013,1277,256,672,1277,202.25121951162001,2977579.3143208013]
["02560998","0256","0998",1278,256,"",998,"",0,0,0,{"$f":"IF(K1289>0, K1287/K1289, 0)","v":0},null,{"$f":"ROUND(M1289*L1287,0)","v":0},0,{"$f":"N1287-O1287","v":0},0,0,0,256,998,1278,0,0,1278,256,998,1278,0,0]
["02560998","0256","0998",1279,256,"",998,"",0,0,0,{"$f":"IF(K1289>0, K1288/K1289, 0)","v":0},null,{"$f":"ROUND(M1289*L1288,0)","v":0},0,{"$f":"N1288-O1288","v":0},0,0,0,256,998,1279,0,0,1279,256,998,1279,0,0]
["02560999","0256","0999",1280,256,"Russell                      ",999,"Total",2969288.5025677243,1,{"$f":"SUM(K1285:K1288)","v":3321674.8743208013},{"$f":"SUM(L1285:L1288)","v":1},{"$f":"VLOOKUP(E1289,town351,24)","v":1321630},{"$f":"SUM(N1285:N1288)","v":1321630},1237365,{"$f":"SUM(P1285:P1288)","v":84265},6.8100358422939067,213.79948585811999,221.25121951162001,256,999,1280,221.25121951162001,3321674.8743208013,1280,256,999,1280,221.25121951162001,3321674.8743208013]
[{"$f":"B1290&C1290","v":"02570257"},"0257","0257",1281,257,"Rutland                      ",257,"Rutland",0,0,{"$f":"X1290","v":0},{"$f":"IF(K1294>0, K1290/K1294, 0)","v":0},null,{"$f":"ROUND(M1294*L1290,0)","v":0},0,{"$f":"N1290-O1290","v":0},0,0,0,{"$f":"VLOOKUP($D1290, foundoptions, VLOOKUP($T$6, foundoptcell, 2, FALSE), FALSE)","v":257},{"$f":"VLOOKUP($D1290, foundoptions, VLOOKUP($T$6, foundoptcell, 2, FALSE)+1, FALSE)","v":257},{"$f":"VLOOKUP($D1290, foundoptions, VLOOKUP($T$6, foundoptcell, 2, FALSE)+2, FALSE)","v":1281},{"$f":"VLOOKUP($D1290, foundoptions, VLOOKUP($T$6, foundoptcell, 2, FALSE)+3, FALSE)","v":0},{"$f":"VLOOKUP($D1290, foundoptions, VLOOKUP($T$6, foundoptcell, 2, FALSE)+4, FALSE)","v":0},1281,257,257,1281,0,0]
["02570775","0257","0775",1282,257,"Rutland                      ",775,"Wachusett",18174761.120825887,0.9344061066591125,20238492.623528376,{"$f":"IF(K1294>0, K1291/K1294, 0)","v":0.94611330573455787},null,{"$f":"ROUND(M1294*L1291,0)","v":8718417},8123913,{"$f":"N1291-O1291","v":594504},7.3179513369973312,1558.36767496266,{"$f":"W1291","v":1636.1853728931601},257,775,1282,1636.1853728931601,20238492.623528376,{"$f":"D1291","v":1282},257,775,1282,1636.1853728931601,20238492.623528376]
["02570876","0257","0876",1283,257,"Rutland                      ",876,"Southern Worcester",1275840.701339168,6.5593893340887569E-2,1152700.6942902626,{"$f":"IF(K1294>0, K1292/K1294, 0)","v":5.3886694265442181E-2},null,{"$f":"ROUND(M1294*L1292,0)","v":496565},570286,{"$f":"N1292-O1292","v":-73721},-12.927022581652013,67.000000004300006,57.00000000464,257,876,1283,57.00000000464,1152700.6942902626,1283,257,876,1283,57.00000000464,1152700.6942902626]
["02570998","0257","0998",1284,257,"",998,"",0,0,0,{"$f":"IF(K1294>0, K1293/K1294, 0)","v":0},null,{"$f":"ROUND(M1294*L1293,0)","v":0},0,{"$f":"N1293-O1293","v":0},0,0,0,257,998,1284,0,0,1284,257,998,1284,0,0]
["02570999","0257","0999",1285,257,"Rutland                      ",999,"Total",19450601.822165053,1,{"$f":"SUM(K1290:K1293)","v":21391193.317818638},{"$f":"SUM(L1290:L1293)","v":1},{"$f":"VLOOKUP(E1294,town351,24)","v":9214982},{"$f":"SUM(N1290:N1293)","v":9214982},8694199,{"$f":"SUM(P1290:P1293)","v":520783},5.9900055197724367,1625.3676749669601,1693.1853728978001,257,999,1285,1693.1853728978001,21391193.317818638,1285,257,999,1285,1693.1853728978001,21391193.317818638]
["02580258","0258","0258",1286,258,"Salem                        ",258,"Salem",62736825.24000001,0.94638444207835082,{"$f":"X1295","v":69935642.150000006},{"$f":"IF(K1299>0, K1295/K1299, 0)","v":0.94991251578742397},null,{"$f":"ROUND(M1299*L1295,0)","v":42479762},39750153,{"$f":"N1295-O1295","v":2729609},6.8669144493607357,4139,4202,258,258,1286,4202,69935642.150000006,1286,258,258,1286,4202,69935642.150000006]
["02580817","0258","0817",1287,258,"Salem                        ",817,"Essex North Shore",3554232.0202228394,5.3615557921649161E-2,3687603.1359380269,{"$f":"IF(K1299>0, K1296/K1299, 0)","v":5.0087484212575931E-2},null,{"$f":"ROUND(M1299*L1296,0)","v":2239895},2251967,{"$f":"N1296-O1296","v":-12072},{"$f":"IF(O1296>0,P1296*100/O1296,IF(P1296>0,100,0))","v":-0.53606469366558218},191.00000000134997,186.99999999485999,258,817,1287,186.99999999485999,3687603.1359380269,1287,258,817,1287,186.99999999485999,3687603.1359380269]
["02580998","0258","0998",1288,258,"",998,null,0,0,0,{"$f":"IF(K1299>0, K1297/K1299, 0)","v":0},null,{"$f":"ROUND(M1299*L1297,0)","v":0},0,{"$f":"N1297-O1297","v":0},{"$f":"IF(O1297>0,P1297*100/O1297,IF(P1297>0,100,0))","v":0},0,0,258,998,1288,0,0,1288,258,998,1288,0,0]
["02580998","0258","0998",1289,258,"",998,"",0,0,0,{"$f":"IF(K1299>0, K1298/K1299, 0)","v":0},null,{"$f":"ROUND(M1299*L1298,0)","v":0},0,{"$f":"N1298-O1298","v":0},{"$f":"IF(O1298>0,P1298*100/O1298,IF(P1298>0,100,0))","v":0},0,0,258,998,1289,0,0,1289,258,998,1289,0,0]
["02580999","0258","0999",1290,258,"Salem                        ",999,"Total",66291057.260222852,1,{"$f":"SUM(K1295:K1298)","v":73623245.285938039},{"$f":"SUM(L1295:L1298)","v":0.99999999999999989},{"$f":"VLOOKUP(E1299,town351,24)","v":44719657},{"$f":"SUM(N1295:N1298)","v":44719657},42002120,{"$f":"SUM(P1295:P1298)","v":2717537},{"$f":"IF(O1299>0,P1299*100/O1299,IF(P1299>0,100,0))","v":6.4699996095435184},4330.0000000013497,4388.9999999948595,258,999,1290,4388.9999999948595,73623245.285938039,1290,258,999,1290,4388.9999999948595,73623245.285938039]
["02590259","0259","0259",1291,259,"Salisbury                    ",259,"Salisbury",31395.420000000002,2.6166021060450764E-3,{"$f":"X1300","v":32981.520000000004},{"$f":"IF(K1304>0, K1300/K1304, 0)","v":2.5587312233614312E-3},null,{"$f":"ROUND(M1304*L1300,0)","v":25025},24408,{"$f":"N1300-O1300","v":617},2.5278597181252049,2,2,259,259,1291,2,32981.520000000004,1291,259,259,1291,2,32981.520000000004]
["02590773","0259","0773",1292,259,"Salisbury                    ",773,"Triton",11165631.343890361,0.93058205590963383,11816836.692646176,{"$f":"IF(K1304>0, K1301/K1304, 0)","v":0.9167591125829494},null,{"$f":"ROUND(M1304*L1301,0)","v":8966261},8680453,{"$f":"N1301-O1301","v":285808},3.2925470594679793,868.11096549255001,864.28457091231996,259,773,1292,864.28457091231996,11816836.692646176,1292,259,773,1292,864.28457091231996,11816836.692646176]
["02590885","0259","0885",1293,259,"Salisbury                    ",885,"Whittier",801518.95594525186,6.680134198432118E-2,1039976.4241941283,{"$f":"IF(K1304>0, K1302/K1304, 0)","v":8.0682156193689319E-2},null,{"$f":"ROUND(M1304*L1302,0)","v":789103},623122,{"$f":"N1302-O1302","v":165981},26.636998854156971,40.99999999744,49.999999994250004,259,885,1293,49.999999994250004,1039976.4241941283,1293,259,885,1293,49.999999994250004,1039976.4241941283]
["02590998","0259","0998",1294,259,"",998,null,0,0,0,{"$f":"IF(K1304>0, K1303/K1304, 0)","v":0},null,{"$f":"ROUND(M1304*L1303,0)","v":0},0,{"$f":"N1303-O1303","v":0},0,0,0,259,998,1294,0,0,1294,259,998,1294,0,0]
["02590999","0259","0999",1295,259,"Salisbury                    ",999,"Total",11998545.719835613,1,{"$f":"SUM(K1300:K1303)","v":12889794.636840302},{"$f":"SUM(L1300:L1303)","v":1.0000000000000002},{"$f":"VLOOKUP(E1304,town351,24)","v":9780389},{"$f":"SUM(N1300:N1303)","v":9780389},9327983,{"$f":"SUM(P1300:P1303)","v":452406},4.8499873981331225,911.11096548999001,916.28457090657002,259,999,1295,916.28457090657002,12889794.636840302,1295,259,999,1295,916.28457090657002,12889794.636840302]
["02600260","0260","0260",1296,260,"Sandisfield                  ",260,"Sandisfield",0,0,{"$f":"X1305","v":0},{"$f":"IF(K1309>0, K1305/K1309, 0)","v":0},null,{"$f":"ROUND(M1309*L1305,0)","v":0},0,{"$f":"N1305-O1305","v":0},0,0,0,260,260,1296,0,0,1296,260,260,1296,0,0]
["02600662","0260","0662",1297,260,"Sandisfield                  ",662,"Farmington River",1182752.2470876987,1,1219861.7935586995,{"$f":"IF(K1309>0, K1306/K1309, 0)","v":1},null,{"$f":"ROUND(M1309*L1306,0)","v":907243},861252,{"$f":"N1306-O1306","v":45991},5.3400166269570351,96.504201679600001,89.124999999069999,260,662,1297,89.124999999069999,1219861.7935586995,1297,260,662,1297,89.124999999069999,1219861.7935586995]
["02600998","0260","0998",1298,260,"",998,"",0,0,0,{"$f":"IF(K1309>0, K1307/K1309, 0)","v":0},null,{"$f":"ROUND(M1309*L1307,0)","v":0},0,{"$f":"N1307-O1307","v":0},0,0,0,260,998,1298,0,0,1298,260,998,1298,0,0]
["02600998","0260","0998",1299,260,"",998,"",0,0,0,{"$f":"IF(K1309>0, K1308/K1309, 0)","v":0},null,{"$f":"ROUND(M1309*L1308,0)","v":0},0,{"$f":"N1308-O1308","v":0},0,0,0,260,998,1299,0,0,1299,260,998,1299,0,0]
["02600999","0260","0999",1300,260,"Sandisfield                  ",999,"Total",1182752.2470876987,1,{"$f":"SUM(K1305:K1308)","v":1219861.7935586995},{"$f":"SUM(L1305:L1308)","v":1},{"$f":"VLOOKUP(E1309,town351,24)","v":907243},{"$f":"SUM(N1305:N1308)","v":907243},861252,{"$f":"SUM(P1305:P1308)","v":45991},5.3400166269570351,96.504201679600001,89.124999999069999,260,999,1300,89.124999999069999,1219861.7935586995,1300,260,999,1300,89.124999999069999,1219861.7935586995]
["02610261","0261","0261",1301,261,"Sandwich                     ",261,"Sandwich",29279714.52,0.91099739591011797,{"$f":"X1310","v":29251950.23},{"$f":"IF(K1314>0, K1310/K1314, 0)","v":0.90437286150311991},null,{"$f":"ROUND(M1314*L1310,0)","v":24132859},23596865,{"$f":"N1310-O1310","v":535994},2.2714627557516645,2422,2276,261,261,1301,2276,29251950.23,1301,261,261,1301,2276,29251950.23]
["02610879","0261","0879",1302,261,"Sandwich                     ",879,"Upper Cape Cod",2860568.9225761993,8.9002604089882004E-2,3093060.8546775854,{"$f":"IF(K1314>0, K1311/K1314, 0)","v":9.5627138496880107E-2},null,{"$f":"ROUND(M1314*L1311,0)","v":2551775},2305366,{"$f":"N1311-O1311","v":246409},10.688498051936222,146.76041666923999,147.74524714651,261,879,1302,147.74524714651,3093060.8546775854,1302,261,879,1302,147.74524714651,3093060.8546775854]
["02610998","0261","0998",1303,261,"",998,"",0,0,0,{"$f":"IF(K1314>0, K1312/K1314, 0)","v":0},null,{"$f":"ROUND(M1314*L1312,0)","v":0},0,{"$f":"N1312-O1312","v":0},0,0,0,261,998,1303,0,0,1303,261,998,1303,0,0]
["02610998","0261","0998",1304,261,"",998,"",0,0,0,{"$f":"IF(K1314>0, K1313/K1314, 0)","v":0},null,{"$f":"ROUND(M1314*L1313,0)","v":0},0,{"$f":"N1313-O1313","v":0},0,0,0,261,998,1304,0,0,1304,261,998,1304,0,0]
["02610999","0261","0999",1305,261,"Sandwich                     ",999,"Total",32140283.4425762,1,{"$f":"SUM(K1310:K1313)","v":32345011.084677584},{"$f":"SUM(L1310:L1313)","v":1},{"$f":"VLOOKUP(E1314,town351,24)","v":26684634},{"$f":"SUM(N1310:N1313)","v":26684634},25902231,{"$f":"SUM(P1310:P1313)","v":782403},3.0206008123392922,2568.7604166692399,2423.7452471465099,261,999,1305,2423.7452471465099,32345011.084677584,1305,261,999,1305,2423.7452471465099,32345011.084677584]
["02620262","0262","0262",1306,262,"Saugus                       ",262,"Saugus",37560632.350000001,0.91970524917104901,{"$f":"X1315","v":42085454.029999994},{"$f":"IF(K1319>0, K1315/K1319, 0)","v":0.92704189686558125},null,{"$f":"ROUND(M1319*L1315,0)","v":30096004},28130603,{"$f":"N1315-O1315","v":1965401},6.9867005694829931,2744,2830,262,262,1306,2830,42085454.029999994,1306,262,262,1306,2830,42085454.029999994]
["02620853","0262","0853",1307,262,"Saugus                       ",853,"Northeast Metropolitan",3279226.2719381051,8.0294750828950961E-2,3312120.9580291361,{"$f":"IF(K1319>0, K1316/K1319, 0)","v":7.2958103134418695E-2},null,{"$f":"ROUND(M1319*L1316,0)","v":2368552},2455939,{"$f":"N1316-O1316","v":-87387},-3.5581909811277885,153.00000000493,143.99999999366,262,853,1307,143.99999999366,3312120.9580291361,1307,262,853,1307,143.99999999366,3312120.9580291361]
["02620998","0262","0998",1308,262,"",998,null,0,0,0,{"$f":"IF(K1319>0, K1317/K1319, 0)","v":0},null,{"$f":"ROUND(M1319*L1317,0)","v":0},0,{"$f":"N1317-O1317","v":0},0,0,0,262,998,1308,0,0,1308,262,998,1308,0,0]
["02620998","0262","0998",1309,262,"",998,"",0,0,0,{"$f":"IF(K1319>0, K1318/K1319, 0)","v":0},null,{"$f":"ROUND(M1319*L1318,0)","v":0},0,{"$f":"N1318-O1318","v":0},0,0,0,262,998,1309,0,0,1309,262,998,1309,0,0]
["02620999","0262","0999",1310,262,"Saugus                       ",999,"Total",40839858.621938109,1,{"$f":"SUM(K1315:K1318)","v":45397574.98802913},{"$f":"SUM(L1315:L1318)","v":1},{"$f":"VLOOKUP(E1319,town351,24)","v":32464556},{"$f":"SUM(N1315:N1318)","v":32464556},30586542,{"$f":"SUM(P1315:P1318)","v":1878014},6.1400010501350559,2897.0000000049299,2973.9999999936599,262,999,1310,2973.9999999936599,45397574.98802913,1310,262,999,1310,2973.9999999936599,45397574.98802913]
["02630263","0263","0263",1311,263,"Savoy                        ",263,"Savoy",652497.02999999991,0.78370075673847384,{"$f":"X1320","v":576479.4},{"$f":"IF(K1324>0, K1320/K1324, 0)","v":0.75170632204625454},null,{"$f":"ROUND(M1324*L1320,0)","v":429924},427939,{"$f":"N1320-O1320","v":1985},0.46385115635639657,45,40,263,263,1311,40,576479.4,1311,263,263,1311,40,576479.4]
["02630851","0263","0851",1312,263,"Savoy                        ",851,"Northern Berkshire",180087.37723662923,0.21629924326152616,190415.04147647819,{"$f":"IF(K1324>0, K1321/K1324, 0)","v":0.24829367795374546},null,{"$f":"ROUND(M1324*L1321,0)","v":142007},118110,{"$f":"N1321-O1321","v":23897},20.232833799000932,9.0000000007200001,9.0000000018600002,263,851,1312,9.0000000018600002,190415.04147647819,1312,263,851,1312,9.0000000018600002,190415.04147647819]
["02630998","0263","0998",1313,263,"",998,"",0,0,0,{"$f":"IF(K1324>0, K1322/K1324, 0)","v":0},null,{"$f":"ROUND(M1324*L1322,0)","v":0},0,{"$f":"N1322-O1322","v":0},0,0,0,263,998,1313,0,0,1313,263,998,1313,0,0]
["02630998","0263","0998",1314,263,"",998,"",0,0,0,{"$f":"IF(K1324>0, K1323/K1324, 0)","v":0},null,{"$f":"ROUND(M1324*L1323,0)","v":0},0,{"$f":"N1323-O1323","v":0},0,0,0,263,998,1314,0,0,1314,263,998,1314,0,0]
["02630999","0263","0999",1315,263,"Savoy                        ",999,"Total",832584.40723662917,1,{"$f":"SUM(K1320:K1323)","v":766894.44147647824},{"$f":"SUM(L1320:L1323)","v":1},{"$f":"VLOOKUP(E1324,town351,24)","v":571931},{"$f":"SUM(N1320:N1323)","v":571931},546049,{"$f":"SUM(P1320:P1323)","v":25882},4.7398676675536446,54.00000000072,49.000000001860002,263,999,1315,49.000000001860002,766894.44147647824,1315,263,999,1315,49.000000001860002,766894.44147647824]
["02640264","0264","0264",1316,264,"Scituate                     ",264,"Scituate",32814594.939320002,0.98246971206955436,{"$f":"X1325","v":34295600.022},{"$f":"IF(K1329>0, K1325/K1329, 0)","v":0.97629569807587968},null,{"$f":"ROUND(M1329*L1325,0)","v":27754773},26600278,{"$f":"N1325-O1325","v":1154495},4.3401614073356676,2787,2763,264,264,1316,2763,34295600.022,1316,264,264,1316,2763,34295600.022]
["02640873","0264","0873",1317,264,"Scituate                     ",873,"South Shore",585513.51816787582,1.7530287930445664E-2,832691.63143150089,{"$f":"IF(K1329>0, K1326/K1329, 0)","v":2.3704301924120458E-2},null,{"$f":"ROUND(M1329*L1326,0)","v":673881},474631,{"$f":"N1326-O1326","v":199250},41.979980237279065,29.999999997549999,39.999999998599996,264,873,1317,39.999999998599996,832691.63143150089,1317,264,873,1317,39.999999998599996,832691.63143150089]
["02640998","0264","0998",1318,264,"",998,"",0,0,0,{"$f":"IF(K1329>0, K1327/K1329, 0)","v":0},null,{"$f":"ROUND(M1329*L1327,0)","v":0},0,{"$f":"N1327-O1327","v":0},0,0,0,264,998,1318,0,0,1318,264,998,1318,0,0]
["02640998","0264","0998",1319,264,"",998,"",0,0,0,{"$f":"IF(K1329>0, K1328/K1329, 0)","v":0},null,{"$f":"ROUND(M1329*L1328,0)","v":0},0,{"$f":"N1328-O1328","v":0},0,0,0,264,998,1319,0,0,1319,264,998,1319,0,0]
["02640999","0264","0999",1320,264,"Scituate                     ",999,"Total",33400108.457487877,1,{"$f":"SUM(K1325:K1328)","v":35128291.653431498},{"$f":"SUM(L1325:L1328)","v":1.0000000000000002},{"$f":"VLOOKUP(E1329,town351,24)","v":28428654},{"$f":"SUM(N1325:N1328)","v":28428654},27074909,{"$f":"SUM(P1325:P1328)","v":1353745},4.9999983379445521,2816.9999999975498,2802.9999999985998,264,999,1320,2802.9999999985998,35128291.653431498,1320,264,999,1320,2802.9999999985998,35128291.653431498]
["02650265","0265","0265",1321,265,"Seekonk                      ",265,"Seekonk",24525300.480000004,0.9256179487079611,{"$f":"X1330","v":25865534.950000003},{"$f":"IF(K1334>0, K1330/K1334, 0)","v":0.92324376836521682},null,{"$f":"ROUND(M1334*L1330,0)","v":18110661},17348780,{"$f":"N1330-O1330","v":761881},4.3915537576705681,2087,2067,265,265,1321,2067,25865534.950000003,1321,265,265,1321,2067,25865534.950000003]
["02650878","0265","0878",1322,265,"Seekonk                      ",878,"Tri County",1609222.0942961383,6.0734214251629851E-2,1763511.4318062789,{"$f":"IF(K1334>0, K1331/K1334, 0)","v":6.294673367488067E-2},null,{"$f":"ROUND(M1334*L1331,0)","v":1234784},1138336,{"$f":"N1331-O1331","v":96448},8.4727180726955833,82.183445191679994,86.000000004049994,265,878,1322,86.000000004049994,1763511.4318062789,1322,265,878,1322,86.000000004049994,1763511.4318062789]
["02650910","0265","0910",1323,265,"Seekonk                      ",910,"Bristol County",361614.96736890677,1.3647837040408964E-2,386885.96052620758,{"$f":"IF(K1334>0, K1332/K1334, 0)","v":1.3809497959902521E-2},null,{"$f":"ROUND(M1334*L1332,0)","v":270892},255800,{"$f":"N1332-O1332","v":15092},5.899921813917123,18.99999999856,19.00000000164,265,910,1323,19.00000000164,386885.96052620758,1323,265,910,1323,19.00000000164,386885.96052620758]
["02650998","0265","0998",1324,265,"",998,"",0,0,0,{"$f":"IF(K1334>0, K1333/K1334, 0)","v":0},null,{"$f":"ROUND(M1334*L1333,0)","v":0},0,{"$f":"N1333-O1333","v":0},0,0,0,265,998,1324,0,0,1324,265,998,1324,0,0]
["02650999","0265","0999",1325,265,"Seekonk                      ",999,"Total",26496137.541665051,0.99999999999999989,{"$f":"SUM(K1330:K1333)","v":28015932.34233249},{"$f":"SUM(L1330:L1333)","v":1},{"$f":"VLOOKUP(E1334,town351,24)","v":19616337},{"$f":"SUM(N1330:N1333)","v":19616337},18742916,{"$f":"SUM(P1330:P1333)","v":873421},4.6600059457130367,2188.18344519024,2172.0000000056898,265,999,1325,2172.0000000056898,28015932.34233249,1325,265,999,1325,2172.0000000056898,28015932.34233249]
["02660266","0266","0266",1326,266,"Sharon                       ",266,"Sharon",42035594.013680004,0.98732702855597776,{"$f":"X1335","v":44179615.271480002},{"$f":"IF(K1339>0, K1335/K1339, 0)","v":0.98757164081525839},null,{"$f":"ROUND(M1339*L1335,0)","v":33681121},32315527,{"$f":"N1335-O1335","v":1365594},4.2258138015202418,3525,3495,266,266,1326,3495,44179615.271480002,1326,266,266,1326,3495,44179615.271480002]
["02660872","0266","0872",1327,266,"Sharon                       ",872,"Southeastern",398311.54616699112,9.355494184014844E-3,426830.07508135383,{"$f":"IF(K1339>0, K1336/K1339, 0)","v":9.5411713073360951E-3},null,{"$f":"ROUND(M1339*L1336,0)","v":325402},306208,{"$f":"N1336-O1336","v":19194},6.2682882223847844,20.073846157609999,20.08588957005,266,872,1327,20.08588957005,426830.07508135383,1327,266,872,1327,20.08588957005,426830.07508135383]
["02660915","0266","0915",1328,266,"Sharon                       ",915,"Norfolk County",141242.08415042149,3.3174772600074571E-3,129160.09772714142,{"$f":"IF(K1339>0, K1337/K1339, 0)","v":2.8871878774054146E-3},null,{"$f":"ROUND(M1339*L1337,0)","v":98468},108582,{"$f":"N1337-O1337","v":-10114},-9.314619366009099,7.0000000012400001,6.00000000006,266,915,1328,6.00000000006,129160.09772714142,1328,266,915,1328,6.00000000006,129160.09772714142]
["02660998","0266","0998",1329,266,"",998,"",0,0,0,{"$f":"IF(K1339>0, K1338/K1339, 0)","v":0},null,{"$f":"ROUND(M1339*L1338,0)","v":0},0,{"$f":"N1338-O1338","v":0},0,0,0,266,998,1329,0,0,1329,266,998,1329,0,0]
["02660999","0266","0999",1330,266,"Sharon                       ",999,"Total",42575147.643997416,1,{"$f":"SUM(K1335:K1338)","v":44735605.4442885},{"$f":"SUM(L1335:L1338)","v":0.99999999999999989},{"$f":"VLOOKUP(E1339,town351,24)","v":34104990},{"$f":"SUM(N1335:N1338)","v":34104991},32730317,{"$f":"SUM(P1335:P1338)","v":1374674},4.2000020959161501,3552.0738461588503,3521.0858895701099,266,999,1330,3521.0858895701099,44735605.4442885,1330,266,999,1330,3521.0858895701099,44735605.4442885]
["02670267","0267","0267",1331,267,"Sheffield                    ",267,"Sheffield",0,0,{"$f":"X1340","v":65963.040000000008},{"$f":"IF(K1344>0, K1340/K1344, 0)","v":1.3070239468660745E-2},null,{"$f":"ROUND(M1344*L1340,0)","v":51793},0,{"$f":"N1340-O1340","v":51793},100,0,4,267,267,1331,4,65963.040000000008,1331,267,267,1331,4,65963.040000000008]
["02670765","0267","0765",1332,267,"Sheffield                    ",765,"Southern Berkshire",4705591.3415291375,1,4980848.8533982299,{"$f":"IF(K1344>0, K1341/K1344, 0)","v":0.9869297605313393},null,{"$f":"ROUND(M1344*L1341,0)","v":3910882},3733090,{"$f":"N1341-O1341","v":177792},4.7625961334979872,349.253731346,347.23308270569999,267,765,1332,347.23308270569999,4980848.8533982299,1332,267,765,1332,347.23308270569999,4980848.8533982299]
["02670998","0267","0998",1333,267,"",998,"",0,0,0,{"$f":"IF(K1344>0, K1342/K1344, 0)","v":0},null,{"$f":"ROUND(M1344*L1342,0)","v":0},0,{"$f":"N1342-O1342","v":0},0,0,0,267,998,1333,0,0,1333,267,998,1333,0,0]
["02670998","0267","0998",1334,267,"",998,"",0,0,0,{"$f":"IF(K1344>0, K1343/K1344, 0)","v":0},null,{"$f":"ROUND(M1344*L1343,0)","v":0},0,{"$f":"N1343-O1343","v":0},0,0,0,267,998,1334,0,0,1334,267,998,1334,0,0]
["02670999","0267","0999",1335,267,"Sheffield                    ",999,"Total",4705591.3415291375,1,{"$f":"SUM(K1340:K1343)","v":5046811.89339823},{"$f":"SUM(L1340:L1343)","v":1},{"$f":"VLOOKUP(E1344,town351,24)","v":3962675},{"$f":"SUM(N1340:N1343)","v":3962675},3733090,{"$f":"SUM(P1340:P1343)","v":229585},6.1499990624388907,349.253731346,351.23308270569999,267,999,1335,351.23308270569999,5046811.89339823,1335,267,999,1335,351.23308270569999,5046811.89339823]
["02680268","0268","0268",1336,268,"Shelburne                    ",268,"Shelburne",0,0,{"$f":"X1345","v":0},{"$f":"IF(K1349>0, K1345/K1349, 0)","v":0},null,{"$f":"ROUND(M1349*L1345,0)","v":0},0,{"$f":"N1345-O1345","v":0},0,0,0,268,268,1336,0,0,1336,268,268,1336,0,0]
["02680717","0268","0717",1337,268,"Shelburne                    ",717,"Mohawk Trail",2178291.8244991419,0.90799962735989048,2179138.8432454914,{"$f":"IF(K1349>0, K1346/K1349, 0)","v":0.91893790144350818},null,{"$f":"ROUND(M1349*L1346,0)","v":1579713},1482204,{"$f":"N1346-O1346","v":97509},6.5786490928374235,165.21353558712002,151.44756097233,268,717,1337,151.44756097233,2179138.8432454914,1337,268,717,1337,151.44756097233,2179138.8432454914]
["02680818","0268","0818",1338,268,"Shelburne                    ",818,"Franklin County",220708.96675973418,9.2000372640109504E-2,192227.97035791312,{"$f":"IF(K1349>0, K1347/K1349, 0)","v":8.106209855649181E-2},null,{"$f":"ROUND(M1349*L1347,0)","v":139351},150180,{"$f":"N1347-O1347","v":-10829},-7.2106805167132775,11.0000000019,8.9999999991999999,268,818,1338,8.9999999991999999,192227.97035791312,1338,268,818,1338,8.9999999991999999,192227.97035791312]
["02680998","0268","0998",1339,268,"",998,"",0,0,0,{"$f":"IF(K1349>0, K1348/K1349, 0)","v":0},null,{"$f":"ROUND(M1349*L1348,0)","v":0},0,{"$f":"N1348-O1348","v":0},0,0,0,268,998,1339,0,0,1339,268,998,1339,0,0]
["02680999","0268","0999",1340,268,"Shelburne                    ",999,"Total",2399000.7912588762,1,{"$f":"SUM(K1345:K1348)","v":2371366.8136034044},{"$f":"SUM(L1345:L1348)","v":1},{"$f":"VLOOKUP(E1349,town351,24)","v":1719064},{"$f":"SUM(N1345:N1348)","v":1719064},1632384,{"$f":"SUM(P1345:P1348)","v":86680},5.3100250921351835,176.21353558902001,160.44756097152998,268,999,1340,160.44756097152998,2371366.8136034044,1340,268,999,1340,160.44756097152998,2371366.8136034044]
["02690269","0269","0269",1341,269,"Sherborn                     ",269,"Sherborn",4431918.9769299999,0.41239108148353693,{"$f":"X1350","v":4685609.0321299993},{"$f":"IF(K1354>0, K1350/K1354, 0)","v":0.40087755522888491},null,{"$f":"ROUND(M1354*L1350,0)","v":3865627},3656333,{"$f":"N1350-O1350","v":209294},5.7241503987738538,401,401,269,269,1341,401,4685609.0321299993,1341,269,269,1341,401,4685609.0321299993]
["02690655","0269","0655",1342,269,"Sherborn                     ",655,"Dover Sherborn",6314964.6874465458,0.58760891851646313,6982264.6046965495,{"$f":"IF(K1354>0, K1351/K1354, 0)","v":0.59736805727889242},null,{"$f":"ROUND(M1354*L1351,0)","v":5760368},5209846,{"$f":"N1351-O1351","v":550522},10.566953418584733,530.63938619432997,551.19880034063999,269,655,1342,551.19880034063999,6982264.6046965495,1342,269,655,1342,551.19880034063999,6982264.6046965495]
["02690878","0269","0878",1343,269,"Sherborn                     ",878,"Tri County",0,0,20505.946946121701,{"$f":"IF(K1354>0, K1352/K1354, 0)","v":1.7543874922226795E-3},null,{"$f":"ROUND(M1354*L1352,0)","v":16917},0,{"$f":"N1352-O1352","v":16917},100,0,1.0000000032,269,878,1343,1.0000000032,20505.946946121701,1343,269,878,1343,1.0000000032,20505.946946121701]
["02690998","0269","0998",1344,269,"",998,"",0,0,0,{"$f":"IF(K1354>0, K1353/K1354, 0)","v":0},null,{"$f":"ROUND(M1354*L1353,0)","v":0},0,{"$f":"N1353-O1353","v":0},0,0,0,269,998,1344,0,0,1344,269,998,1344,0,0]
[{"$f":"B1354&C1354","v":"02690999"},"0269","0999",1345,269,"Sherborn                     ",999,"Total",10746883.664376546,1,{"$f":"SUM(K1350:K1353)","v":11688379.58377267},{"$f":"SUM(L1350:L1353)","v":1},{"$f":"VLOOKUP(E1354,town351,24)","v":9642913},{"$f":"SUM(N1350:N1353)","v":9642912},8866179,{"$f":"SUM(P1350:P1353)","v":776733},8.7606284511061645,931.63938619432997,953.19880034383993,{"$f":"VLOOKUP($D1354, foundoptions, VLOOKUP($T$6, foundoptcell, 2, FALSE), FALSE)","v":269},{"$f":"VLOOKUP($D1354, foundoptions, VLOOKUP($T$6, foundoptcell, 2, FALSE)+1, FALSE)","v":999},{"$f":"VLOOKUP($D1354, foundoptions, VLOOKUP($T$6, foundoptcell, 2, FALSE)+2, FALSE)","v":1345},{"$f":"VLOOKUP($D1354, foundoptions, VLOOKUP($T$6, foundoptcell, 2, FALSE)+3, FALSE)","v":953.19880034383993},{"$f":"VLOOKUP($D1354, foundoptions, VLOOKUP($T$6, foundoptcell, 2, FALSE)+4, FALSE)","v":11688379.58377267},1345,269,999,1345,953.19880034383993,11688379.58377267]
["02700270","0270","0270",1346,270,"Shirley                      ",270,"Shirley",0,0,{"$f":"X1355","v":0},{"$f":"IF(K1359>0, K1355/K1359, 0)","v":0},null,{"$f":"ROUND(M1359*L1355,0)","v":0},0,{"$f":"N1355-O1355","v":0},0,0,{"$f":"W1355","v":0},270,270,1346,0,0,{"$f":"D1355","v":1346},270,270,1346,0,0]
["02700616","0270","0616",1347,270,"Shirley                      ",616,"Ayer Shirley",8766831.3771843407,0.90421454440592375,10010903.501197919,{"$f":"IF(K1359>0, K1356/K1359, 0)","v":0.91791182348737821},null,{"$f":"ROUND(M1359*L1356,0)","v":5727338},5410313,{"$f":"N1356-O1356","v":317025},5.8596425012748803,699.42184670535994,741.30879815872004,270,616,1347,741.30879815872004,10010903.501197919,1347,270,616,1347,741.30879815872004,10010903.501197919]
["02700852","0270","0852",1348,270,"Shirley                      ",852,"Nashoba Valley",928689.92516787851,9.578545559407621E-2,895267.70723468927,{"$f":"IF(K1359>0, K1357/K1359, 0)","v":8.2088176512621749E-2},null,{"$f":"ROUND(M1359*L1357,0)","v":512192},573126,{"$f":"N1357-O1357","v":-60934},-10.631868035999064,48.999999998240007,44.000000001099998,270,852,1348,44.000000001099998,895267.70723468927,1348,270,852,1348,44.000000001099998,895267.70723468927]
["02700998","0270","0998",1349,270,"",998,"",0,0,0,{"$f":"IF(K1359>0, K1358/K1359, 0)","v":0},null,{"$f":"ROUND(M1359*L1358,0)","v":0},0,{"$f":"N1358-O1358","v":0},0,0,0,270,998,1349,0,0,1349,270,998,1349,0,0]
["02700999","0270","0999",1350,270,"Shirley                      ",999,"Total",9695521.3023522198,1,{"$f":"SUM(K1355:K1358)","v":10906171.208432609},{"$f":"SUM(L1355:L1358)","v":1},{"$f":"VLOOKUP(E1359,town351,24)","v":6239530},{"$f":"SUM(N1355:N1358)","v":6239530},5983439,{"$f":"SUM(P1355:P1358)","v":256091},4.2799968379388513,748.42184670359995,785.30879815982007,270,999,1350,785.30879815982007,10906171.208432609,1350,270,999,1350,785.30879815982007,10906171.208432609]
["02710271","0271","0271",1351,271,"Shrewsbury                   ",271,"Shrewsbury",70918716.61999999,1,{"$f":"X1360","v":74633713.99000001},{"$f":"IF(K1364>0, K1360/K1364, 0)","v":1},null,{"$f":"ROUND(M1364*L1360,0)","v":57993834},55216447,{"$f":"N1360-O1360","v":2777387},{"$f":"IF(O1360>0,P1360*100/O1360,IF(P1360>0,100,0))","v":5.0299994854793901},6003,5972,271,271,1351,5972,74633713.99000001,1351,271,271,1351,5972,74633713.99000001]
["02710998","0271","0998",1352,271,"",998,"",0,0,0,{"$f":"IF(K1364>0, K1361/K1364, 0)","v":0},null,{"$f":"ROUND(M1364*L1361,0)","v":0},0,{"$f":"N1361-O1361","v":0},{"$f":"IF(O1361>0,P1361*100/O1361,IF(P1361>0,100,0))","v":0},0,0,271,998,1352,0,0,1352,271,998,1352,0,0]
["02710998","0271","0998",1353,271,"",998,"",0,0,0,{"$f":"IF(K1364>0, K1362/K1364, 0)","v":0},null,{"$f":"ROUND(M1364*L1362,0)","v":0},0,{"$f":"N1362-O1362","v":0},{"$f":"IF(O1362>0,P1362*100/O1362,IF(P1362>0,100,0))","v":0},0,0,271,998,1353,0,0,1353,271,998,1353,0,0]
["02710998","0271","0998",1354,271,"",998,"",0,0,0,{"$f":"IF(K1364>0, K1363/K1364, 0)","v":0},null,{"$f":"ROUND(M1364*L1363,0)","v":0},0,{"$f":"N1363-O1363","v":0},{"$f":"IF(O1363>0,P1363*100/O1363,IF(P1363>0,100,0))","v":0},0,0,271,998,1354,0,0,1354,271,998,1354,0,0]
["02710999","0271","0999",1355,271,"Shrewsbury                   ",999,"Total",70918716.61999999,1,{"$f":"SUM(K1360:K1363)","v":74633713.99000001},{"$f":"SUM(L1360:L1363)","v":1},{"$f":"VLOOKUP(E1364,town351,24)","v":57993834},{"$f":"SUM(N1360:N1363)","v":57993834},55216447,{"$f":"SUM(P1360:P1363)","v":2777387},{"$f":"IF(O1364>0,P1364*100/O1364,IF(P1364>0,100,0))","v":5.0299994854793901},6003,5972,271,999,1355,5972,74633713.99000001,1355,271,999,1355,5972,74633713.99000001]
["02720272","0272","0272",1356,272,"Shutesbury                   ",272,"Shutesbury",1228431.31,0.4502346862207256,{"$f":"X1365","v":1442294.2199999997},{"$f":"IF(K1369>0, K1365/K1369, 0)","v":0.4942592908746648},null,{"$f":"ROUND(M1369*L1365,0)","v":820401},719067,{"$f":"N1365-O1365","v":101334},14.092428104752408,100,111,272,272,1356,111,1442294.2199999997,1356,272,272,1356,111,1442294.2199999997]
["02720605","0272","0605",1357,272,"Shutesbury                   ",605,"Amherst Pelham",1499993.1041904406,0.54976531377927451,1475798.0579370467,{"$f":"IF(K1369>0, K1366/K1369, 0)","v":0.50574070912533531},null,{"$f":"ROUND(M1369*L1366,0)","v":839459},878027,{"$f":"N1366-O1366","v":-38568},-4.3925756269454128,112.00000000510001,103.99999999844,272,605,1357,103.99999999844,1475798.0579370467,1357,272,605,1357,103.99999999844,1475798.0579370467]
["02720998","0272","0998",1358,272,"",998,"",0,0,0,{"$f":"IF(K1369>0, K1367/K1369, 0)","v":0},null,{"$f":"ROUND(M1369*L1367,0)","v":0},0,{"$f":"N1367-O1367","v":0},0,0,0,272,998,1358,0,0,1358,272,998,1358,0,0]
["02720998","0272","0998",1359,272,"",998,"",0,0,0,{"$f":"IF(K1369>0, K1368/K1369, 0)","v":0},null,{"$f":"ROUND(M1369*L1368,0)","v":0},0,{"$f":"N1368-O1368","v":0},0,0,0,272,998,1359,0,0,1359,272,998,1359,0,0]
["02720999","0272","0999",1360,272,"Shutesbury                   ",999,"Total",2728424.4141904404,1,{"$f":"SUM(K1365:K1368)","v":2918092.2779370463},{"$f":"SUM(L1365:L1368)","v":1},{"$f":"VLOOKUP(E1369,town351,24)","v":1659860},{"$f":"SUM(N1365:N1368)","v":1659860},1597094,{"$f":"SUM(P1365:P1368)","v":62766},3.9300128859040231,212.00000000509999,214.99999999843999,272,999,1360,214.99999999843999,2918092.2779370463,1360,272,999,1360,214.99999999843999,2918092.2779370463]
["02730273","0273","0273",1361,273,"Somerset                     ",273,"Somerset",20421920.32,0.60586378943991259,{"$f":"X1370","v":21144659.59},{"$f":"IF(K1374>0, K1370/K1374, 0)","v":0.5980789586843801},null,{"$f":"ROUND(M1374*L1370,0)","v":10510731},10007089,{"$f":"N1370-O1370","v":503642},5.0328522110675742,1688,1628,273,273,1361,1628,21144659.59,1361,273,273,1361,1628,21144659.59]
["02730763","0273","0763",1362,273,"Somerset                     ",763,"Somerset Berkley",9740244.7214518301,0.28896702584974687,10487953.708732035,{"$f":"IF(K1374>0, K1371/K1374, 0)","v":0.29665289271504597},null,{"$f":"ROUND(M1374*L1371,0)","v":5213423},4772886,{"$f":"N1371-O1371","v":440537},9.2299920844537251,724.99999999739998,740.48393574702004,273,763,1362,740.48393574702004,10487953.708732035,1362,273,763,1362,740.48393574702004,10487953.708732035]
["02730821","0273","0821",1363,273,"Somerset                     ",821,"Greater Fall River",3107205.3510061642,9.2182477408107338E-2,3232983.062992265,{"$f":"IF(K1374>0, K1372/K1374, 0)","v":9.144527182046025E-2},null,{"$f":"ROUND(M1374*L1372,0)","v":1607073},1522584,{"$f":"N1372-O1372","v":84489},5.5490534512381586,155.9999999961,152.00000000450001,273,821,1363,152.00000000450001,3232983.062992265,1363,273,821,1363,152.00000000450001,3232983.062992265]
["02730910","0273","0910",1364,273,"Somerset                     ",910,"Bristol County",437744.43425731914,1.2986707302233272E-2,488698.05537542928,{"$f":"IF(K1374>0, K1373/K1374, 0)","v":1.3822876780113643E-2},null,{"$f":"ROUND(M1374*L1373,0)","v":242925},214502,{"$f":"N1373-O1373","v":28423},13.250692301237285,23.000000002139998,24.000000000789999,273,910,1364,24.000000000789999,488698.05537542928,1364,273,910,1364,24.000000000789999,488698.05537542928]
["02730999","0273","0999",1365,273,"Somerset                     ",999,"Total",33707114.826715313,1,{"$f":"SUM(K1370:K1373)","v":35354294.417099729},{"$f":"SUM(L1370:L1373)","v":0.99999999999999989},{"$f":"VLOOKUP(E1374,town351,24)","v":17574152},{"$f":"SUM(N1370:N1373)","v":17574152},16517061,{"$f":"SUM(P1370:P1373)","v":1057091},6.3999945268713363,2591.9999999956399,2544.4839357523101,273,999,1365,2544.4839357523101,35354294.417099729,1365,273,999,1365,2544.4839357523101,35354294.417099729]
["02740274","0274","0274",1366,274,"Somerville                   ",274,"Somerville",80143330.545699999,1,{"$f":"X1375","v":88070540.975499988},{"$f":"IF(K1379>0, K1375/K1379, 0)","v":1},null,{"$f":"ROUND(M1379*L1375,0)","v":71896983},66118248,{"$f":"N1375-O1375","v":5778735},8.7400001887527328,5011,5100,274,274,1366,5100,88070540.975499988,1366,274,274,1366,5100,88070540.975499988]
["02740998","0274","0998",1367,274,"",998,"",0,0,0,{"$f":"IF(K1379>0, K1376/K1379, 0)","v":0},null,{"$f":"ROUND(M1379*L1376,0)","v":0},0,{"$f":"N1376-O1376","v":0},0,0,0,274,998,1367,0,0,1367,274,998,1367,0,0]
["02740998","0274","0998",1368,274,"",998,"",0,0,0,{"$f":"IF(K1379>0, K1377/K1379, 0)","v":0},null,{"$f":"ROUND(M1379*L1377,0)","v":0},0,{"$f":"N1377-O1377","v":0},0,0,0,274,998,1368,0,0,1368,274,998,1368,0,0]
["02740998","0274","0998",1369,274,"",998,"",0,0,0,{"$f":"IF(K1379>0, K1378/K1379, 0)","v":0},null,{"$f":"ROUND(M1379*L1378,0)","v":0},0,{"$f":"N1378-O1378","v":0},0,0,0,274,998,1369,0,0,1369,274,998,1369,0,0]
["02740999","0274","0999",1370,274,"Somerville                   ",999,"Total",80143330.545699999,1,{"$f":"SUM(K1375:K1378)","v":88070540.975499988},{"$f":"SUM(L1375:L1378)","v":1},{"$f":"VLOOKUP(E1379,town351,24)","v":71896983},{"$f":"SUM(N1375:N1378)","v":71896983},66118248,{"$f":"SUM(P1375:P1378)","v":5778735},8.7400001887527328,5011,5100,274,999,1370,5100,88070540.975499988,1370,274,999,1370,5100,88070540.975499988]
["02750275","0275","0275",1371,275,"Southampton                  ",275,"Southampton",5851647.4900000002,0.5759285663939453,{"$f":"X1380","v":6284662},{"$f":"IF(K1384>0, K1380/K1384, 0)","v":0.59840452509026487},null,{"$f":"ROUND(M1384*L1380,0)","v":4309371},3885985,{"$f":"N1380-O1380","v":423386},10.895204176032589,480,492,275,275,1371,492,6284662,1371,275,275,1371,492,6284662]
["02750683","0275","0683",1372,275,"Southampton                  ",683,"Hampshire",4308722.7910556039,0.42407143360605482,4217701.7631283049,{"$f":"IF(K1384>0, K1381/K1384, 0)","v":0.40159547490973518},null,{"$f":"ROUND(M1384*L1381,0)","v":2892064},2861354,{"$f":"N1381-O1381","v":30710},1.0732681101324757,343.56600660061997,318.54922279939996,275,683,1372,318.54922279939996,4217701.7631283049,1372,275,683,1372,318.54922279939996,4217701.7631283049]
["02750998","0275","0998",1373,275,"",998,"",0,0,0,{"$f":"IF(K1384>0, K1382/K1384, 0)","v":0},null,{"$f":"ROUND(M1384*L1382,0)","v":0},0,{"$f":"N1382-O1382","v":0},0,0,0,275,998,1373,0,0,1373,275,998,1373,0,0]
["02750998","0275","0998",1374,275,"",998,"",0,0,0,{"$f":"IF(K1384>0, K1383/K1384, 0)","v":0},null,{"$f":"ROUND(M1384*L1383,0)","v":0},0,{"$f":"N1383-O1383","v":0},0,0,0,275,998,1374,0,0,1374,275,998,1374,0,0]
["02750999","0275","0999",1375,275,"Southampton                  ",999,"Total",10160370.281055603,1,{"$f":"SUM(K1380:K1383)","v":10502363.763128305},{"$f":"SUM(L1380:L1383)","v":1},{"$f":"VLOOKUP(E1384,town351,24)","v":7201435},{"$f":"SUM(N1380:N1383)","v":7201435},6747339,{"$f":"SUM(P1380:P1383)","v":454096},6.7300012642020803,823.56600660061997,810.54922279940001,275,999,1375,810.54922279940001,10502363.763128305,1375,275,999,1375,810.54922279940001,10502363.763128305]
["02760276","0276","0276",1376,276,"Southborough                 ",276,"Southborough",13166912.130260002,0.65753490704251594,{"$f":"X1385","v":14230837.126399998},{"$f":"IF(K1389>0, K1385/K1389, 0)","v":0.67231980983145878},null,{"$f":"ROUND(M1389*L1385,0)","v":11416440},10631673,{"$f":"N1385-O1385","v":784767},7.3814064823099805,1174,1200,276,276,1376,1200,14230837.126399998,1376,276,276,1376,1200,14230837.126399998]
["02760730","0276","0730",1377,276,"Southborough                 ",730,"Northboro Southboro",6358967.8676889241,0.31755686560388835,6450348.7325107045,{"$f":"IF(K1389>0, K1386/K1389, 0)","v":0.30473943273112641},null,{"$f":"ROUND(M1389*L1386,0)","v":5174679},5134573,{"$f":"N1386-O1386","v":40106},0.78109708441188785,505.55675675781004,483.94354838790002,276,730,1377,483.94354838790002,6450348.7325107045,1377,276,730,1377,483.94354838790002,6450348.7325107045]
["02760801","0276","0801",1378,276,"Southborough                 ",801,"Assabet Valley",498778.75284289051,2.4908227353595613E-2,485581.67984064092,{"$f":"IF(K1389>0, K1387/K1389, 0)","v":2.2940757437414843E-2},null,{"$f":"ROUND(M1389*L1387,0)","v":389549},402741,{"$f":"N1387-O1387","v":-13192},-3.2755542644031772,23.999999996700002,21.999999997179998,276,801,1378,21.999999997179998,485581.67984064092,1378,276,801,1378,21.999999997179998,485581.67984064092]
["02760998","0276","0998",1379,276,"",998,"",0,0,0,{"$f":"IF(K1389>0, K1388/K1389, 0)","v":0},null,{"$f":"ROUND(M1389*L1388,0)","v":0},0,{"$f":"N1388-O1388","v":0},0,0,0,276,998,1379,0,0,1379,276,998,1379,0,0]
["02760999","0276","0999",1380,276,"Southborough                 ",999,"Total",20024658.750791818,1,{"$f":"SUM(K1385:K1388)","v":21166767.538751341},{"$f":"SUM(L1385:L1388)","v":1},{"$f":"VLOOKUP(E1389,town351,24)","v":16980669},{"$f":"SUM(N1385:N1388)","v":16980668},16168987,{"$f":"SUM(P1385:P1388)","v":811681},5.0199867190195651,1703.5567567545099,1705.9435483850802,276,999,1380,1705.9435483850802,21166767.538751341,1380,276,999,1380,1705.9435483850802,21166767.538751341]
["02770277","0277","0277",1381,277,"Southbridge                  ",277,"Southbridge",34733982.75,0.90029782425795668,{"$f":"X1390","v":38095220.899999999},{"$f":"IF(K1394>0, K1390/K1394, 0)","v":0.90056287125935441},null,{"$f":"ROUND(M1394*L1390,0)","v":9107735},8618946,{"$f":"N1390-O1390","v":488789},5.6710994592610282,2159,2165,277,277,1381,2165,38095220.899999999,1381,277,277,1381,2165,38095220.899999999]
["02770876","0277","0876",1382,277,"Southbridge                  ",876,"Southern Worcester",3846564.5023811101,9.9702175742043375E-2,4206346.3928280221,{"$f":"IF(K1394>0, K1391/K1394, 0)","v":9.9437128740645572E-2},null,{"$f":"ROUND(M1394*L1391,0)","v":1005646},954493,{"$f":"N1391-O1391","v":51153},5.3591802139984264,202.00000000436,207.99999999855999,277,876,1382,207.99999999855999,4206346.3928280221,1382,277,876,1382,207.99999999855999,4206346.3928280221]
["02770998","0277","0998",1383,277,"",998,"",0,0,0,{"$f":"IF(K1394>0, K1392/K1394, 0)","v":0},null,{"$f":"ROUND(M1394*L1392,0)","v":0},0,{"$f":"N1392-O1392","v":0},0,0,0,277,998,1383,0,0,1383,277,998,1383,0,0]
["02770998","0277","0998",1384,277,"",998,"",0,0,0,{"$f":"IF(K1394>0, K1393/K1394, 0)","v":0},null,{"$f":"ROUND(M1394*L1393,0)","v":0},0,{"$f":"N1393-O1393","v":0},0,0,0,277,998,1384,0,0,1384,277,998,1384,0,0]
["02770999","0277","0999",1385,277,"Southbridge                  ",999,"Total",38580547.252381109,1,{"$f":"SUM(K1390:K1393)","v":42301567.292828023},{"$f":"SUM(L1390:L1393)","v":1},{"$f":"VLOOKUP(E1394,town351,24)","v":10113381},{"$f":"SUM(N1390:N1393)","v":10113381},9573439,{"$f":"SUM(P1390:P1393)","v":539942},5.640000422000913,2361.0000000043601,2372.9999999985598,277,999,1385,2372.9999999985598,42301567.292828023,1385,277,999,1385,2372.9999999985598,42301567.292828023]
["02780278","0278","0278",1386,278,"South Hadley                 ",278,"South Hadley",24351460.979999997,1,{"$f":"X1395","v":25928069.819999997},{"$f":"IF(K1399>0, K1395/K1399, 0)","v":1},null,{"$f":"ROUND(M1399*L1395,0)","v":15249839},14674595,{"$f":"N1395-O1395","v":575244},3.9199991550022335,1864,1859,278,278,1386,1859,25928069.819999997,1386,278,278,1386,1859,25928069.819999997]
["02780998","0278","0998",1387,278,"",998,"",0,0,0,{"$f":"IF(K1399>0, K1396/K1399, 0)","v":0},null,{"$f":"ROUND(M1399*L1396,0)","v":0},0,{"$f":"N1396-O1396","v":0},0,0,0,278,998,1387,0,0,1387,278,998,1387,0,0]
["02780998","0278","0998",1388,278,"",998,"",0,0,0,{"$f":"IF(K1399>0, K1397/K1399, 0)","v":0},null,{"$f":"ROUND(M1399*L1397,0)","v":0},0,{"$f":"N1397-O1397","v":0},0,0,0,278,998,1388,0,0,1388,278,998,1388,0,0]
["02780998","0278","0998",1389,278,"",998,"",0,0,0,{"$f":"IF(K1399>0, K1398/K1399, 0)","v":0},null,{"$f":"ROUND(M1399*L1398,0)","v":0},0,{"$f":"N1398-O1398","v":0},0,0,0,278,998,1389,0,0,1389,278,998,1389,0,0]
["02780999","0278","0999",1390,278,"South Hadley                 ",999,"Total",24351460.979999997,1,{"$f":"SUM(K1395:K1398)","v":25928069.819999997},{"$f":"SUM(L1395:L1398)","v":1},{"$f":"VLOOKUP(E1399,town351,24)","v":15249839},{"$f":"SUM(N1395:N1398)","v":15249839},14674595,{"$f":"SUM(P1395:P1398)","v":575244},3.9199991550022335,1864,1859,278,999,1390,1859,25928069.819999997,1390,278,999,1390,1859,25928069.819999997]
["02790279","0279","0279",1391,279,"Southwick                    ",279,"Southwick",0,0,{"$f":"X1400","v":0},{"$f":"IF(K1404>0, K1400/K1404, 0)","v":0},null,{"$f":"ROUND(M1404*L1400,0)","v":0},0,{"$f":"N1400-O1400","v":0},0,0,0,279,279,1391,0,0,1391,279,279,1391,0,0]
["02790766","0279","0766",1392,279,"Southwick                    ",766,"Southwick Tolland",14632867.275195369,1,15276191.958581634,{"$f":"IF(K1404>0, K1401/K1404, 0)","v":1},null,{"$f":"ROUND(M1404*L1401,0)","v":10057190},9633324,{"$f":"N1401-O1401","v":423866},4.3999973425579793,1104.64164086643,1080.7494108446701,279,766,1392,1080.7494108446701,15276191.958581634,1392,279,766,1392,1080.7494108446701,15276191.958581634]
["02790998","0279","0998",1393,279,"",998,"",0,0,0,{"$f":"IF(K1404>0, K1402/K1404, 0)","v":0},null,{"$f":"ROUND(M1404*L1402,0)","v":0},0,{"$f":"N1402-O1402","v":0},0,0,0,279,998,1393,0,0,1393,279,998,1393,0,0]
["02790998","0279","0998",1394,279,"",998,"",0,0,0,{"$f":"IF(K1404>0, K1403/K1404, 0)","v":0},null,{"$f":"ROUND(M1404*L1403,0)","v":0},0,{"$f":"N1403-O1403","v":0},0,0,0,279,998,1394,0,0,1394,279,998,1394,0,0]
["02790999","0279","0999",1395,279,"Southwick                    ",999,"Total",14632867.275195369,1,{"$f":"SUM(K1400:K1403)","v":15276191.958581634},{"$f":"SUM(L1400:L1403)","v":1},{"$f":"VLOOKUP(E1404,town351,24)","v":10057190},{"$f":"SUM(N1400:N1403)","v":10057190},9633324,{"$f":"SUM(P1400:P1403)","v":423866},4.3999973425579793,1104.64164086643,1080.7494108446701,279,999,1395,1080.7494108446701,15276191.958581634,1395,279,999,1395,1080.7494108446701,15276191.958581634]
["02800280","0280","0280",1396,280,"Spencer                      ",280,"Spencer",47093.130000000005,2.359233531863356E-3,{"$f":"X1405","v":65963.040000000008},{"$f":"IF(K1409>0, K1405/K1409, 0)","v":3.1049299464217116E-3},null,{"$f":"ROUND(M1409*L1405,0)","v":30103},21605,{"$f":"N1405-O1405","v":8498},39.333487618606803,3,4,280,280,1396,4,65963.040000000008,1396,280,280,1396,4,65963.040000000008]
["02800767","0280","0767",1397,280,"Spencer                      ",767,"Spencer East Brookfield",17476678.851442222,0.87553251975244895,18569907.860504415,{"$f":"IF(K1409>0, K1406/K1409, 0)","v":0.874099541476137},null,{"$f":"ROUND(M1409*L1406,0)","v":8474712},8017952,{"$f":"N1406-O1406","v":456760},5.6967165680213601,1261.2203389808101,1230.7068273147202,280,767,1397,1230.7068273147202,18569907.860504415,1397,280,767,1397,1230.7068273147202,18569907.860504415]
["02800876","0280","0876",1398,280,"Spencer                      ",876,"Southern Worcester",2437427.0113532036,0.12210824671568786,2608743.6763942922,{"$f":"IF(K1409>0, K1407/K1409, 0)","v":0.12279552857744136},null,{"$f":"ROUND(M1409*L1407,0)","v":1190547},1118243,{"$f":"N1407-O1407","v":72304},6.4658575998240098,127.99999999978999,129.00000000271999,280,876,1398,129.00000000271999,2608743.6763942922,1398,280,876,1398,129.00000000271999,2608743.6763942922]
["02800998","0280","0998",1399,280,"",998,"",0,0,0,{"$f":"IF(K1409>0, K1408/K1409, 0)","v":0},null,{"$f":"ROUND(M1409*L1408,0)","v":0},0,{"$f":"N1408-O1408","v":0},0,0,0,280,998,1399,0,0,1399,280,998,1399,0,0]
["02800999","0280","0999",1400,280,"Spencer                      ",999,"Total",19961198.992795423,1.0000000000000002,{"$f":"SUM(K1405:K1408)","v":21244614.576898705},{"$f":"SUM(L1405:L1408)","v":1},{"$f":"VLOOKUP(E1409,town351,24)","v":9695363},{"$f":"SUM(N1405:N1408)","v":9695362},9157800,{"$f":"SUM(P1405:P1408)","v":537562},5.869990609098255,1392.2203389806,1363.7068273174402,280,999,1400,1363.7068273174402,21244614.576898705,1400,280,999,1400,1363.7068273174402,21244614.576898705]
["02810281","0281","0281",1401,281,"Springfield                  ",281,"Springfield",483882872.08000004,1,{"$f":"X1410","v":525763852.88000005},{"$f":"IF(K1414>0, K1410/K1414, 0)","v":1},null,{"$f":"ROUND(M1414*L1410,0)","v":48026085},44717025,{"$f":"N1410-O1410","v":3309060},7.4000003354427086,28613,28326,281,281,1401,28326,525763852.88000005,1401,281,281,1401,28326,525763852.88000005]
["02810998","0281","0998",1402,281,"",998,"",0,0,0,{"$f":"IF(K1414>0, K1411/K1414, 0)","v":0},null,{"$f":"ROUND(M1414*L1411,0)","v":0},0,{"$f":"N1411-O1411","v":0},0,0,0,281,998,1402,0,0,1402,281,998,1402,0,0]
["02810998","0281","0998",1403,281,"",998,"",0,0,0,{"$f":"IF(K1414>0, K1412/K1414, 0)","v":0},null,{"$f":"ROUND(M1414*L1412,0)","v":0},0,{"$f":"N1412-O1412","v":0},0,0,0,281,998,1403,0,0,1403,281,998,1403,0,0]
["02810998","0281","0998",1404,281,"",998,"",0,0,0,{"$f":"IF(K1414>0, K1413/K1414, 0)","v":0},null,{"$f":"ROUND(M1414*L1413,0)","v":0},0,{"$f":"N1413-O1413","v":0},0,0,0,281,998,1404,0,0,1404,281,998,1404,0,0]
["02810999","0281","0999",1405,281,"Springfield                  ",999,"Total",483882872.08000004,1,{"$f":"SUM(K1410:K1413)","v":525763852.88000005},{"$f":"SUM(L1410:L1413)","v":1},{"$f":"VLOOKUP(E1414,town351,24)","v":48026085},{"$f":"SUM(N1410:N1413)","v":48026085},44717025,{"$f":"SUM(P1410:P1413)","v":3309060},7.4000003354427086,28613,28326,281,999,1405,28326,525763852.88000005,1405,281,999,1405,28326,525763852.88000005]
["02820282","0282","0282",1406,282,"Sterling                     ",282,"Sterling",31395.420000000002,2.5445334991505957E-3,{"$f":"X1415","v":16490.760000000002},{"$f":"IF(K1419>0, K1415/K1419, 0)","v":1.2786618612823245E-3},null,{"$f":"ROUND(M1419*L1415,0)","v":13193},25217,{"$f":"N1415-O1415","v":-12024},-47.682119205298015,2,1,282,282,1406,1,16490.760000000002,1406,282,282,1406,1,16490.760000000002]
["02820775","0282","0775",1407,282,"Sterling                     ",775,"Wachusett",11125508.725057613,0.90169934487263836,11650974.173012402,{"$f":"IF(K1419>0, K1416/K1419, 0)","v":0.90339416265935146},null,{"$f":"ROUND(M1419*L1416,0)","v":9320886},8936125,{"$f":"N1416-O1416","v":384761},4.305680594217292,953.94008479033994,941.92556117923993,282,775,1407,941.92556117923993,11650974.173012402,1407,282,775,1407,941.92556117923993,11650974.173012402]
["02820832","0282","0832",1408,282,"Sterling                     ",832,"Montachusett",1181475.3694900528,9.5756121628210955E-2,1229423.9938708991,{"$f":"IF(K1419>0, K1417/K1419, 0)","v":9.5327175479366186E-2},null,{"$f":"ROUND(M1419*L1417,0)","v":983550},948973,{"$f":"N1417-O1417","v":34577},3.6436231589307599,62.042291955629999,61.083390296399998,282,832,1408,61.083390296399998,1229423.9938708991,1408,282,832,1408,61.083390296399998,1229423.9938708991]
[{"$f":"B1418&C1418","v":"02820998"},"0282","0998",1409,282,"",998,"",0,0,0,{"$f":"IF(K1419>0, K1418/K1419, 0)","v":0},null,{"$f":"ROUND(M1419*L1418,0)","v":0},0,{"$f":"N1418-O1418","v":0},0,0,0,{"$f":"VLOOKUP($D1418, foundoptions, VLOOKUP($T$6, foundoptcell, 2, FALSE), FALSE)","v":282},{"$f":"VLOOKUP($D1418, foundoptions, VLOOKUP($T$6, foundoptcell, 2, FALSE)+1, FALSE)","v":998},{"$f":"VLOOKUP($D1418, foundoptions, VLOOKUP($T$6, foundoptcell, 2, FALSE)+2, FALSE)","v":1409},{"$f":"VLOOKUP($D1418, foundoptions, VLOOKUP($T$6, foundoptcell, 2, FALSE)+3, FALSE)","v":0},{"$f":"VLOOKUP($D1418, foundoptions, VLOOKUP($T$6, foundoptcell, 2, FALSE)+4, FALSE)","v":0},1409,282,998,1409,0,0]
["02820999","0282","0999",1410,282,"Sterling                     ",999,"Total",12338379.514547667,1,{"$f":"SUM(K1415:K1418)","v":12896888.926883301},{"$f":"SUM(L1415:L1418)","v":1},{"$f":"VLOOKUP(E1419,town351,24)","v":10317629},{"$f":"SUM(N1415:N1418)","v":10317629},9910315,{"$f":"SUM(P1415:P1418)","v":407314},4.1100005398415691,1017.98237674597,{"$f":"W1419","v":1004.0089514756399},282,999,1410,1004.0089514756399,12896888.926883301,{"$f":"D1419","v":1410},282,999,1410,1004.0089514756399,12896888.926883301]
["02830283","0283","0283",1411,283,"Stockbridge                  ",283,"Stockbridge",0,0,{"$f":"X1420","v":0},{"$f":"IF(K1424>0, K1420/K1424, 0)","v":0},null,{"$f":"ROUND(M1424*L1420,0)","v":0},0,{"$f":"N1420-O1420","v":0},0,0,0,283,283,1411,0,0,1411,283,283,1411,0,0]
["02830618","0283","0618",1412,283,"Stockbridge                  ",618,"Berkshire Hills",1807296.8401587177,1,1902074.0000142655,{"$f":"IF(K1424>0, K1421/K1424, 0)","v":1},null,{"$f":"ROUND(M1424*L1421,0)","v":1569211},1491020,{"$f":"N1421-O1421","v":78191},5.2441281807085085,126.77836691036001,124.47457627211999,283,618,1412,124.47457627211999,1902074.0000142655,1412,283,618,1412,124.47457627211999,1902074.0000142655]
["02830998","0283","0998",1413,283,"",998,"",0,0,0,{"$f":"IF(K1424>0, K1422/K1424, 0)","v":0},null,{"$f":"ROUND(M1424*L1422,0)","v":0},0,{"$f":"N1422-O1422","v":0},0,0,0,283,998,1413,0,0,1413,283,998,1413,0,0]
["02830998","0283","0998",1414,283,"",998,"",0,0,0,{"$f":"IF(K1424>0, K1423/K1424, 0)","v":0},null,{"$f":"ROUND(M1424*L1423,0)","v":0},0,{"$f":"N1423-O1423","v":0},0,0,0,283,998,1414,0,0,1414,283,998,1414,0,0]
["02830999","0283","0999",1415,283,"Stockbridge                  ",999,"Total",1807296.8401587177,1,{"$f":"SUM(K1420:K1423)","v":1902074.0000142655},{"$f":"SUM(L1420:L1423)","v":1},{"$f":"VLOOKUP(E1424,town351,24)","v":1569211},{"$f":"SUM(N1420:N1423)","v":1569211},1491020,{"$f":"SUM(P1420:P1423)","v":78191},{"$f":"IF(O1424>0,P1424*100/O1424,IF(P1424>0,100,0))","v":5.2441281807085085},126.77836691036001,124.47457627211999,283,999,1415,124.47457627211999,1902074.0000142655,1415,283,999,1415,124.47457627211999,1902074.0000142655]
["02840284","0284","0284",1416,284,"Stoneham                     ",284,"Stoneham",29345841.392800011,0.94414560127715186,{"$f":"X1425","v":32165599.711240005},{"$f":"IF(K1429>0, K1425/K1429, 0)","v":0.95233079471939075},null,{"$f":"ROUND(M1429*L1425,0)","v":24905971},23608286,{"$f":"N1425-O1425","v":1297685},5.4967353411425126,2369,2425,284,284,1416,2425,32165599.711240005,1416,284,284,1416,2425,32165599.711240005]
["02840853","0284","0853",1417,284,"Stoneham                     ",853,"Northeast Metropolitan",1736060.9674966438,5.5854398722848128E-2,1610058.7990130049,{"$f":"IF(K1429>0, K1426/K1429, 0)","v":4.7669205280609167E-2},null,{"$f":"ROUND(M1429*L1426,0)","v":1246676},1396635,{"$f":"N1426-O1426","v":-149959},-10.737164685118159,81.000000002609994,69.999999995659991,284,853,1417,69.999999995659991,1610058.7990130049,1417,284,853,1417,69.999999995659991,1610058.7990130049]
["02840998","0284","0998",1418,284,"",998,null,0,0,0,{"$f":"IF(K1429>0, K1427/K1429, 0)","v":0},null,{"$f":"ROUND(M1429*L1427,0)","v":0},0,{"$f":"N1427-O1427","v":0},0,0,0,284,998,1418,0,0,1418,284,998,1418,0,0]
["02840998","0284","0998",1419,284,"",998,"",0,0,0,{"$f":"IF(K1429>0, K1428/K1429, 0)","v":0},null,{"$f":"ROUND(M1429*L1428,0)","v":0},0,{"$f":"N1428-O1428","v":0},0,0,0,284,998,1419,0,0,1419,284,998,1419,0,0]
["02840999","0284","0999",1420,284,"Stoneham                     ",999,"Total",31081902.360296655,1,{"$f":"SUM(K1425:K1428)","v":33775658.510253012},{"$f":"SUM(L1425:L1428)","v":0.99999999999999989},{"$f":"VLOOKUP(E1429,town351,24)","v":26152647},{"$f":"SUM(N1425:N1428)","v":26152647},25004921,{"$f":"SUM(P1425:P1428)","v":1147726},4.5900005043007335,2450.0000000026098,2494.9999999956599,284,999,1420,2494.9999999956599,33775658.510253012,1420,284,999,1420,2494.9999999956599,33775658.510253012]
["02850285","0285","0285",1421,285,"Stoughton                    ",285,"Stoughton",50610297.858939998,0.95522945350903232,{"$f":"X1430","v":56987020.295979992},{"$f":"IF(K1434>0, K1430/K1434, 0)","v":0.95321439279433784},null,{"$f":"ROUND(M1434*L1430,0)","v":30547654},29115684,{"$f":"N1430-O1430","v":1431970},4.9182083443411457,3607,3693,285,285,1421,3693,56987020.295979992,1421,285,285,1421,3693,56987020.295979992]
["02850872","0285","0872",1422,285,"Stoughton                    ",872,"Southeastern",2210629.0808869912,4.1723880280895118E-2,2646346.4655043939,{"$f":"IF(K1434>0, K1431/K1434, 0)","v":4.426508924554455E-2},null,{"$f":"ROUND(M1434*L1431,0)","v":1418563},1271757,{"$f":"N1431-O1431","v":146806},11.543557456337965,111.40984615761,124.53251533431001,285,872,1422,124.53251533431001,2646346.4655043939,1422,285,872,1422,124.53251533431001,2646346.4655043939]
["02850915","0285","0915",1423,285,"Stoughton                    ",915,"Norfolk County",161419.52470384873,3.0466662100726597E-3,150686.780681665,{"$f":"IF(K1434>0, K1432/K1434, 0)","v":2.5205179601176545E-3},null,{"$f":"ROUND(M1434*L1432,0)","v":80775},92863,{"$f":"N1432-O1432","v":-12088},-13.017025079956495,7.99999999946,7.00000000007,285,915,1423,7.00000000007,150686.780681665,1423,285,915,1423,7.00000000007,150686.780681665]
["02850998","0285","0998",1424,285,"",998,"",0,0,0,{"$f":"IF(K1434>0, K1433/K1434, 0)","v":0},null,{"$f":"ROUND(M1434*L1433,0)","v":0},0,{"$f":"N1433-O1433","v":0},0,0,0,285,998,1424,0,0,1424,285,998,1424,0,0]
["02850999","0285","0999",1425,285,"Stoughton                    ",999,"Total",52982346.464530833,1.0000000000000002,{"$f":"SUM(K1430:K1433)","v":59784053.542166047},{"$f":"SUM(L1430:L1433)","v":1},{"$f":"VLOOKUP(E1434,town351,24)","v":32046992},{"$f":"SUM(N1430:N1433)","v":32046992},30480304,{"$f":"SUM(P1430:P1433)","v":1566688},5.1400012283342056,3726.4098461570702,3824.5325153343802,285,999,1425,3824.5325153343802,59784053.542166047,1425,285,999,1425,3824.5325153343802,59784053.542166047]
["02860286","0286","0286",1426,286,"Stow                         ",286,"Stow",0,0,{"$f":"X1435","v":0},{"$f":"IF(K1439>0, K1435/K1439, 0)","v":0},null,{"$f":"ROUND(M1439*L1435,0)","v":0},0,{"$f":"N1435-O1435","v":0},0,0,0,286,286,1426,0,0,1426,286,286,1426,0,0]
["02860725","0286","0725",1427,286,"Stow                         ",725,"Nashoba",13321090.189558279,0.92074376108533429,13539760.646481739,{"$f":"IF(K1439>0, K1436/K1439, 0)","v":0.9089575011720048},null,{"$f":"ROUND(M1439*L1436,0)","v":10855691},10534011,{"$f":"N1436-O1436","v":321680},3.0537275877156382,1123.68668983776,1082.8023551814299,286,725,1427,1082.8023551814299,13539760.646481739,1427,286,725,1427,1082.8023551814299,13539760.646481739]
["02860830","0286","0830",1428,286,"Stow                         ",830,"Minuteman",1146659.4195793751,7.9256238914665683E-2,1356162.0220958849,{"$f":"IF(K1439>0, K1437/K1439, 0)","v":9.1042498827995158E-2},null,{"$f":"ROUND(M1439*L1437,0)","v":1087322},906752,{"$f":"N1437-O1437","v":180570},19.913934570863919,58.105454542950007,65.000000001540002,286,830,1428,65.000000001540002,1356162.0220958849,1428,286,830,1428,65.000000001540002,1356162.0220958849]
["02860998","0286","0998",1429,286,"",998,"",0,0,0,{"$f":"IF(K1439>0, K1438/K1439, 0)","v":0},null,{"$f":"ROUND(M1439*L1438,0)","v":0},0,{"$f":"N1438-O1438","v":0},0,0,0,286,998,1429,0,0,1429,286,998,1429,0,0]
["02860999","0286","0999",1430,286,"Stow                         ",999,"Total",14467749.609137654,1,{"$f":"SUM(K1435:K1438)","v":14895922.668577624},{"$f":"SUM(L1435:L1438)","v":1},{"$f":"VLOOKUP(E1439,town351,24)","v":11943013},{"$f":"SUM(N1435:N1438)","v":11943013},11440763,{"$f":"SUM(P1435:P1438)","v":502250},4.3900044079227936,1181.7921443807099,1147.8023551829699,286,999,1430,1147.8023551829699,14895922.668577624,1430,286,999,1430,1147.8023551829699,14895922.668577624]
["02870287","0287","0287",1431,287,"Sturbridge                   ",287,"Sturbridge",9620721.5300000012,0.46021806050853148,{"$f":"X1440","v":10737439.589999998},{"$f":"IF(K1444>0, K1440/K1444, 0)","v":0.47936091835148359},null,{"$f":"ROUND(M1444*L1440,0)","v":6009212},5377239,{"$f":"N1440-O1440","v":631973},11.752741509164833,846,883,287,287,1431,883,10737439.589999998,1431,287,287,1431,883,10737439.589999998]
["02870770","0287","0770",1432,287,"Sturbridge                   ",770,"Tantasqua",11283980.730857171,0.53978193949146847,11662049.352331642,{"$f":"IF(K1444>0, K1441/K1444, 0)","v":0.52063908164851636},null,{"$f":"ROUND(M1444*L1441,0)","v":6526671},6306872,{"$f":"N1441-O1441","v":219799},3.4850715219842736,801.99999999748002,776.00000000376008,287,770,1432,776.00000000376008,11662049.352331642,1432,287,770,1432,776.00000000376008,11662049.352331642]
["02870998","0287","0998",1433,287,"",998,"",0,0,0,{"$f":"IF(K1444>0, K1442/K1444, 0)","v":0},null,{"$f":"ROUND(M1444*L1442,0)","v":0},0,{"$f":"N1442-O1442","v":0},0,0,0,287,998,1433,0,0,1433,287,998,1433,0,0]
["02870998","0287","0998",1434,287,"",998,"",0,0,0,{"$f":"IF(K1444>0, K1443/K1444, 0)","v":0},null,{"$f":"ROUND(M1444*L1443,0)","v":0},0,{"$f":"N1443-O1443","v":0},0,0,0,287,998,1434,0,0,1434,287,998,1434,0,0]
["02870999","0287","0999",1435,287,"Sturbridge                   ",999,"Total",20904702.260857172,1,{"$f":"SUM(K1440:K1443)","v":22399488.942331642},{"$f":"SUM(L1440:L1443)","v":1},{"$f":"VLOOKUP(E1444,town351,24)","v":12535883},{"$f":"SUM(N1440:N1443)","v":12535883},11684111,{"$f":"SUM(P1440:P1443)","v":851772},7.2900026369143536,1647.99999999748,1659.0000000037601,287,999,1435,1659.0000000037601,22399488.942331642,1435,287,999,1435,1659.0000000037601,22399488.942331642]
["02880288","0288","0288",1436,288,"Sudbury                      ",288,"Sudbury",26839555.450000003,0.61173959095445984,{"$f":"X1445","v":28628096.43},{"$f":"IF(K1449>0, K1445/K1449, 0)","v":0.62014407248376058},null,{"$f":"ROUND(M1449*L1445,0)","v":23070588},21886829,{"$f":"N1445-O1445","v":1183759},5.4085450203864616,2491,2513,288,288,1436,2513,28628096.43,1436,288,288,1436,2513,28628096.43]
["02880695","0288","0695",1437,288,"Sudbury                      ",695,"Lincoln Sudbury",17034595.981206022,0.38826040904554016,17535525.380236153,{"$f":"IF(K1449>0, K1446/K1449, 0)","v":0.37985592751623937},null,{"$f":"ROUND(M1449*L1446,0)","v":14131393},13891187,{"$f":"N1446-O1446","v":240206},1.7291970801343326,1375.16897507269,1343.8643109580801,288,695,1437,1343.8643109580801,17535525.380236153,1437,288,695,1437,1343.8643109580801,17535525.380236153]
["02880830","0288","0830",1438,288,null,998,null,0,0,0,{"$f":"IF(K1449>0, K1447/K1449, 0)","v":0},null,{"$f":"ROUND(M1449*L1447,0)","v":0},0,{"$f":"N1447-O1447","v":0},0,0,0,288,998,1438,0,0,1438,288,998,1438,0,0]
["02880998","0288","0998",1439,288,"",998,"",0,0,0,{"$f":"IF(K1449>0, K1448/K1449, 0)","v":0},null,{"$f":"ROUND(M1449*L1448,0)","v":0},0,{"$f":"N1448-O1448","v":0},0,0,0,288,998,1439,0,0,1439,288,998,1439,0,0]
["02880999","0288","0999",1440,288,"Sudbury                      ",999,"Total",43874151.431206025,1,{"$f":"SUM(K1445:K1448)","v":46163621.810236156},{"$f":"SUM(L1445:L1448)","v":1},{"$f":"VLOOKUP(E1449,town351,24)","v":37201981},{"$f":"SUM(N1445:N1448)","v":37201981},35778016,{"$f":"SUM(P1445:P1448)","v":1423965},3.979999897143542,3866.16897507269,3856.8643109580798,288,999,1440,3856.8643109580798,46163621.810236156,1440,288,999,1440,3856.8643109580798,46163621.810236156]
["02890289","0289","0289",1441,289,"Sunderland                   ",289,"Sunderland",2091284.38,0.53630849703608441,{"$f":"X1450","v":1946645.5199999998},{"$f":"IF(K1454>0, K1450/K1454, 0)","v":0.49920372205332103},null,{"$f":"ROUND(M1454*L1450,0)","v":1555821},1575365,{"$f":"N1450-O1450","v":-19544},-1.2406013844410659,161,146,289,289,1441,146,1946645.5199999998,1441,289,289,1441,146,1946645.5199999998]
["02890670","0289","0670",1442,289,"Sunderland                   ",670,"Frontier",1687734.5543691982,0.43281841097556062,1760627.723281024,{"$f":"IF(K1454>0, K1451/K1454, 0)","v":0.45150075017877517},null,{"$f":"ROUND(M1454*L1451,0)","v":1407150},1271371,{"$f":"N1451-O1451","v":135779},10.679730778820659,128.24902723525,125.25667350952,289,670,1442,125.25667350952,1760627.723281024,1442,289,670,1442,125.25667350952,1760627.723281024]
["02890818","0289","0818",1443,289,"Sunderland                   ",818,"Franklin County",120386.70913171393,3.087309198835491E-2,192227.97035791312,{"$f":"IF(K1454>0, K1452/K1454, 0)","v":4.9295527767903892E-2},null,{"$f":"ROUND(M1454*L1452,0)","v":153635},90687,{"$f":"N1452-O1452","v":62948},69.412374430734289,6.00000000054,8.9999999991999999,289,818,1443,8.9999999991999999,192227.97035791312,1443,289,818,1443,8.9999999991999999,192227.97035791312]
["02890998","0289","0998",1444,289,"",998,"",0,0,0,{"$f":"IF(K1454>0, K1453/K1454, 0)","v":0},null,{"$f":"ROUND(M1454*L1453,0)","v":0},0,{"$f":"N1453-O1453","v":0},0,0,0,289,998,1444,0,0,1444,289,998,1444,0,0]
["02890999","0289","0999",1445,289,"Sunderland                   ",999,"Total",3899405.643500912,0.99999999999999989,{"$f":"SUM(K1450:K1453)","v":3899501.2136389366},{"$f":"SUM(L1450:L1453)","v":1},{"$f":"VLOOKUP(E1454,town351,24)","v":3116606},{"$f":"SUM(N1450:N1453)","v":3116606},2937423,{"$f":"SUM(P1450:P1453)","v":179183},6.1000067065587764,295.24902723578998,280.25667350871998,289,999,1445,280.25667350871998,3899501.2136389366,1445,289,999,1445,280.25667350871998,3899501.2136389366]
["02900290","0290","0290",1446,290,"Sutton                       ",290,"Sutton",14448148.280000001,0.87282555270163764,{"$f":"X1455","v":16076441.029999997},{"$f":"IF(K1459>0, K1455/K1459, 0)","v":0.89021301162462507},null,{"$f":"ROUND(M1459*L1455,0)","v":12750768},11629509,{"$f":"N1455-O1455","v":1121259},9.6414990521095945,1236,1294,290,290,1446,1294,16076441.029999997,1446,290,290,1446,1294,16076441.029999997]
["02900805","0290","0805",1447,290,"Sutton                       ",805,"Blackstone Valley",2105157.5155039998,0.12717444729836236,1982653.6137198701,{"$f":"IF(K1459>0, K1456/K1459, 0)","v":0.10978698837537501},null,{"$f":"ROUND(M1459*L1456,0)","v":1572510},1694470,{"$f":"N1456-O1456","v":-121960},-7.1975307913388846,118,104.99999999436001,290,805,1447,104.99999999436001,1982653.6137198701,1447,290,805,1447,104.99999999436001,1982653.6137198701]
["02900998","0290","0998",1448,290,"",998,"",0,0,0,{"$f":"IF(K1459>0, K1457/K1459, 0)","v":0},null,{"$f":"ROUND(M1459*L1457,0)","v":0},0,{"$f":"N1457-O1457","v":0},0,0,0,290,998,1448,0,0,1448,290,998,1448,0,0]
["02900998","0290","0998",1449,290,"",998,"",0,0,0,{"$f":"IF(K1459>0, K1458/K1459, 0)","v":0},null,{"$f":"ROUND(M1459*L1458,0)","v":0},0,{"$f":"N1458-O1458","v":0},0,0,0,290,998,1449,0,0,1449,290,998,1449,0,0]
["02900999","0290","0999",1450,290,"Sutton                       ",999,"Total",16553305.795504,1,{"$f":"SUM(K1455:K1458)","v":18059094.643719867},{"$f":"SUM(L1455:L1458)","v":1},{"$f":"VLOOKUP(E1459,town351,24)","v":14323278},{"$f":"SUM(N1455:N1458)","v":14323278},13323979,{"$f":"SUM(P1455:P1458)","v":999299},7.5000043155276659,1354,1398.99999999436,290,999,1450,1398.99999999436,18059094.643719867,1450,290,999,1450,1398.99999999436,18059094.643719867]
["02910291","0291","0291",1451,291,"Swampscott                   ",291,"Swampscott",24578055.190000001,0.97274991761850904,{"$f":"X1460","v":26012947.399999999},{"$f":"IF(K1464>0, K1460/K1464, 0)","v":0.97848869216071244},null,{"$f":"ROUND(M1464*L1460,0)","v":20898493},20086942,{"$f":"N1460-O1460","v":811551},4.0401918818703217,2029,2024,291,291,1451,2024,26012947.399999999,1451,291,291,1451,2024,26012947.399999999]
["02910817","0291","0817",1452,291,"Swampscott                   ",817,"Essex North Shore",688516.15052718366,2.7250082381490938E-2,571874.28307723976,{"$f":"IF(K1464>0, K1461/K1464, 0)","v":2.1511307839287501E-2},null,{"$f":"ROUND(M1464*L1461,0)","v":459437},562705,{"$f":"N1461-O1461","v":-103268},-18.352067246603461,37.000000000949996,28.999999997370001,291,817,1452,28.999999997370001,571874.28307723976,1452,291,817,1452,28.999999997370001,571874.28307723976]
["02910998","0291","0998",1453,291,"",998,null,0,0,0,{"$f":"IF(K1464>0, K1462/K1464, 0)","v":0},null,{"$f":"ROUND(M1464*L1462,0)","v":0},0,{"$f":"N1462-O1462","v":0},0,0,0,291,998,1453,0,0,1453,291,998,1453,0,0]
["02910998","0291","0998",1454,291,"",998,"",0,0,0,{"$f":"IF(K1464>0, K1463/K1464, 0)","v":0},null,{"$f":"ROUND(M1464*L1463,0)","v":0},0,{"$f":"N1463-O1463","v":0},0,0,0,291,998,1454,0,0,1454,291,998,1454,0,0]
["02910999","0291","0999",1455,291,"Swampscott                   ",999,"Total",25266571.340527184,1,{"$f":"SUM(K1460:K1463)","v":26584821.683077239},{"$f":"SUM(L1460:L1463)","v":0.99999999999999989},{"$f":"VLOOKUP(E1464,town351,24)","v":21357930},{"$f":"SUM(N1460:N1463)","v":21357930},20649647,{"$f":"SUM(P1460:P1463)","v":708283},3.430000522527092,2066.00000000095,2052.9999999973702,291,999,1455,2052.9999999973702,26584821.683077239,1455,291,999,1455,2052.9999999973702,26584821.683077239]
["02920292","0292","0292",1456,292,"Swansea                      ",292,"Swansea",25270425.829999994,0.89379553078907248,{"$f":"X1465","v":26694462.580000002},{"$f":"IF(K1469>0, K1465/K1469, 0)","v":0.89217695616829307},null,{"$f":"ROUND(M1469*L1465,0)","v":16252187},15443111,{"$f":"N1465-O1465","v":809076},5.2390739145758909,2057,2033,292,292,1456,2033,26694462.580000002,1456,292,292,1456,2033,26694462.580000002]
["02920821","0292","0821",1457,292,"Swansea                      ",821,"Greater Fall River",2469829.894584313,8.7355984281358087E-2,2594894.3003445058,{"$f":"IF(K1469>0, K1466/K1469, 0)","v":8.6726035091425069E-2},null,{"$f":"ROUND(M1469*L1466,0)","v":1579830},1509348,{"$f":"N1466-O1466","v":70482},4.6696984393261198,124.00000000668001,121.9999999935,292,821,1457,121.9999999935,2594894.3003445058,1457,292,821,1457,121.9999999935,2594894.3003445058]
["02920910","0292","0910",1458,292,"Swansea                      ",910,"Bristol County",532906.26772328373,1.8848484929569389E-2,631234.98816433968,{"$f":"IF(K1469>0, K1467/K1469, 0)","v":2.1097008740281933E-2},null,{"$f":"ROUND(M1469*L1467,0)","v":384310},325666,{"$f":"N1467-O1467","v":58644},18.007406361118445,27.999999999019998,30.9999999996,292,910,1458,30.9999999996,631234.98816433968,1458,292,910,1458,30.9999999996,631234.98816433968]
["02920998","0292","0998",1459,292,"",998,"",0,0,0,{"$f":"IF(K1469>0, K1468/K1469, 0)","v":0},null,{"$f":"ROUND(M1469*L1468,0)","v":0},0,{"$f":"N1468-O1468","v":0},0,0,0,292,998,1459,0,0,1459,292,998,1459,0,0]
["02920999","0292","0999",1460,292,"Swansea                      ",999,"Total",28273161.992307592,0.99999999999999989,{"$f":"SUM(K1465:K1468)","v":29920591.868508846},{"$f":"SUM(L1465:L1468)","v":1},{"$f":"VLOOKUP(E1469,town351,24)","v":18216327},{"$f":"SUM(N1465:N1468)","v":18216327},17278125,{"$f":"SUM(P1465:P1468)","v":938202},5.4299989148128054,2209.0000000057003,2185.9999999930997,292,999,1460,2185.9999999930997,29920591.868508846,1460,292,999,1460,2185.9999999930997,29920591.868508846]
["02930293","0293","0293",1461,293,"Taunton                      ",293,"Taunton",118729147.73,0.90943236159413599,{"$f":"X1470","v":131396476.31},{"$f":"IF(K1474>0, K1470/K1474, 0)","v":0.9170770799200717},null,{"$f":"ROUND(M1474*L1470,0)","v":42467828},40100760,{"$f":"N1470-O1470","v":2367068},5.9028008446722708,7940,8075,293,293,1461,8075,131396476.31,1461,293,293,1461,8075,131396476.31]
["02930810","0293","0810",1462,293,"Taunton                      ",810,"Bristol Plymouth",10986455.214280775,8.415320165350583E-2,11005401.500373567,{"$f":"IF(K1474>0, K1471/K1474, 0)","v":7.6811812270360311E-2},null,{"$f":"ROUND(M1474*L1471,0)","v":3556987},3710674,{"$f":"N1471-O1471","v":-153687},-4.1417543012401516,576.69867060119998,545.89489718280004,293,810,1462,545.89489718280004,11005401.500373567,1462,293,810,1462,545.89489718280004,11005401.500373567]
["02930910","0293","0910",1463,293,"Taunton                      ",910,"Bristol County",837424.1350291319,6.4144367523581314E-3,875584.0159016368,{"$f":"IF(K1474>0, K1472/K1474, 0)","v":6.1111078095680378E-3},null,{"$f":"ROUND(M1474*L1472,0)","v":282992},282840,{"$f":"N1472-O1472","v":152},5.3740630745297696E-2,44.00000000032,43.000000002429999,293,910,1463,43.000000002429999,875584.0159016368,1463,293,910,1463,43.000000002429999,875584.0159016368]
["02930998","0293","0998",1464,293,"",998,"",0,0,0,{"$f":"IF(K1474>0, K1473/K1474, 0)","v":0},null,{"$f":"ROUND(M1474*L1473,0)","v":0},0,{"$f":"N1473-O1473","v":0},0,0,0,293,998,1464,0,0,1464,293,998,1464,0,0]
["02930999","0293","0999",1465,293,"Taunton                      ",999,"Total",130553027.07930991,0.99999999999999989,{"$f":"SUM(K1470:K1473)","v":143277461.8262752},{"$f":"SUM(L1470:L1473)","v":1},{"$f":"VLOOKUP(E1474,town351,24)","v":46307807},{"$f":"SUM(N1470:N1473)","v":46307807},44094274,{"$f":"SUM(P1470:P1473)","v":2213533},5.0200010096549041,8560.6986706015196,8663.8948971852296,293,999,1465,8663.8948971852296,143277461.8262752,1465,293,999,1465,8663.8948971852296,143277461.8262752]
["02940294","0294","0294",1466,294,"Templeton                    ",294,"Templeton",0,0,{"$f":"X1475","v":0},{"$f":"IF(K1479>0, K1475/K1479, 0)","v":0},null,{"$f":"ROUND(M1479*L1475,0)","v":0},0,{"$f":"N1475-O1475","v":0},0,0,0,294,294,1466,0,0,1466,294,294,1466,0,0]
["02940720","0294","0720",1467,294,"Templeton                    ",720,"Narragansett",14511107.950600285,0.89746562564113419,16258279.010725547,{"$f":"IF(K1479>0, K1476/K1479, 0)","v":0.90670830896037391},null,{"$f":"ROUND(M1479*L1476,0)","v":5298951},4995176,{"$f":"N1476-O1476","v":303775},6.081367303174102,1094.4562354731599,1139.4836795282399,294,720,1467,1139.4836795282399,16258279.010725547,1467,294,720,1467,1139.4836795282399,16258279.010725547]
["02940832","0294","0832",1468,294,"Templeton                    ",832,"Montachusett",1657876.7280427511,0.10253437435886584,1672822.8111681864,{"$f":"IF(K1479>0, K1477/K1479, 0)","v":9.3291691039626076E-2},null,{"$f":"ROUND(M1479*L1477,0)","v":545212},570693,{"$f":"N1477-O1477","v":-25481},-4.4649224714513762,87.059345157630005,83.113465477099993,294,832,1468,83.113465477099993,1672822.8111681864,1468,294,832,1468,83.113465477099993,1672822.8111681864]
["02940998","0294","0998",1469,294,"",998,"",0,0,0,{"$f":"IF(K1479>0, K1478/K1479, 0)","v":0},null,{"$f":"ROUND(M1479*L1478,0)","v":0},0,{"$f":"N1478-O1478","v":0},0,0,0,294,998,1469,0,0,1469,294,998,1469,0,0]
["02940999","0294","0999",1470,294,"Templeton                    ",999,"Total",16168984.678643037,1,{"$f":"SUM(K1475:K1478)","v":17931101.821893733},{"$f":"SUM(L1475:L1478)","v":1},{"$f":"VLOOKUP(E1479,town351,24)","v":5844163},{"$f":"SUM(N1475:N1478)","v":5844163},5565869,{"$f":"SUM(P1475:P1478)","v":278294},5.0000098816554974,1181.5155806307901,1222.5971450053398,294,999,1470,1222.5971450053398,17931101.821893733,1470,294,999,1470,1222.5971450053398,17931101.821893733]
["02950295","0295","0295",1471,295,"Tewksbury                    ",295,"Tewksbury",38546581.100000001,0.85544759610412446,{"$f":"X1480","v":41191248.019999996},{"$f":"IF(K1484>0, K1480/K1484, 0)","v":0.8595609441326808},null,{"$f":"ROUND(M1484*L1480,0)","v":32555022},30874054,{"$f":"N1480-O1480","v":1680968},5.4445975899374925,3228,3249,295,295,1471,3249,41191248.019999996,1471,295,295,1471,3249,41191248.019999996]
["02950871","0295","0871",1472,295,"Tewksbury                    ",871,"Shawsheen Valley",6513550.3160547866,0.14455240389587565,6730017.2505655829,{"$f":"IF(K1484>0, K1481/K1484, 0)","v":0.14043905586731922},null,{"$f":"ROUND(M1484*L1481,0)","v":5318990},5217057,{"$f":"N1481-O1481","v":101933},1.9538410256970549,358.00000000002001,349.00000000249997,295,871,1472,349.00000000249997,6730017.2505655829,1472,295,871,1472,349.00000000249997,6730017.2505655829]
[{"$f":"B1482&C1482","v":"02950998"},"0295","0998",1473,295,"",998,null,0,0,0,{"$f":"IF(K1484>0, K1482/K1484, 0)","v":0},null,{"$f":"ROUND(M1484*L1482,0)","v":0},0,{"$f":"N1482-O1482","v":0},0,0,0,{"$f":"VLOOKUP($D1482, foundoptions, VLOOKUP($T$6, foundoptcell, 2, FALSE), FALSE)","v":295},{"$f":"VLOOKUP($D1482, foundoptions, VLOOKUP($T$6, foundoptcell, 2, FALSE)+1, FALSE)","v":998},{"$f":"VLOOKUP($D1482, foundoptions, VLOOKUP($T$6, foundoptcell, 2, FALSE)+2, FALSE)","v":1473},{"$f":"VLOOKUP($D1482, foundoptions, VLOOKUP($T$6, foundoptcell, 2, FALSE)+3, FALSE)","v":0},{"$f":"VLOOKUP($D1482, foundoptions, VLOOKUP($T$6, foundoptcell, 2, FALSE)+4, FALSE)","v":0},1473,295,998,1473,0,0]
["02950998","0295","0998",1474,295,"",998,"",0,0,0,{"$f":"IF(K1484>0, K1483/K1484, 0)","v":0},null,{"$f":"ROUND(M1484*L1483,0)","v":0},0,{"$f":"N1483-O1483","v":0},0,0,{"$f":"W1483","v":0},295,998,1474,0,0,{"$f":"D1483","v":1474},295,998,1474,0,0]
["02950999","0295","0999",1475,295,"Tewksbury                    ",999,"Total",45060131.416054785,1,{"$f":"SUM(K1480:K1483)","v":47921265.270565577},{"$f":"SUM(L1480:L1483)","v":1},{"$f":"VLOOKUP(E1484,town351,24)","v":37874012},{"$f":"SUM(N1480:N1483)","v":37874012},36091111,{"$f":"SUM(P1480:P1483)","v":1782901},4.9400003230712404,3586.00000000002,3598.0000000025002,295,999,1475,3598.0000000025002,47921265.270565577,1475,295,999,1475,3598.0000000025002,47921265.270565577]
["02960296","0296","0296",1476,296,"Tisbury                      ",296,"Tisbury",4872085.7,0.6319487686569305,{"$f":"X1485","v":5475942.1799999988},{"$f":"IF(K1489>0, K1485/K1489, 0)","v":0.59015981020456476},null,{"$f":"ROUND(M1489*L1485,0)","v":3835613},3860887,{"$f":"N1485-O1485","v":-25274},-0.65461641327498055,351,360,296,296,1476,360,5475942.1799999988,1476,296,296,1476,360,5475942.1799999988]
["02960700","0296","0700",1477,296,"Tisbury                      ",700,"Marthas Vineyard",2837535.6200233889,0.36805123134306944,3802802.4673217069,{"$f":"IF(K1489>0, K1486/K1489, 0)","v":0.40984018979543529},null,{"$f":"ROUND(M1489*L1486,0)","v":2663666},2248606,{"$f":"N1486-O1486","v":415060},18.458547206580434,182.9999999998,211.99999999696001,296,700,1477,211.99999999696001,3802802.4673217069,1477,296,700,1477,211.99999999696001,3802802.4673217069]
["02960998","0296","0998",1478,296,"",998,"",0,0,0,{"$f":"IF(K1489>0, K1487/K1489, 0)","v":0},null,{"$f":"ROUND(M1489*L1487,0)","v":0},0,{"$f":"N1487-O1487","v":0},0,0,0,296,998,1478,0,0,1478,296,998,1478,0,0]
["02960998","0296","0998",1479,296,"",998,"",0,0,0,{"$f":"IF(K1489>0, K1488/K1489, 0)","v":0},null,{"$f":"ROUND(M1489*L1488,0)","v":0},0,{"$f":"N1488-O1488","v":0},{"$f":"IF(O1488>0,P1488*100/O1488,IF(P1488>0,100,0))","v":0},0,0,296,998,1479,0,0,1479,296,998,1479,0,0]
["02960999","0296","0999",1480,296,"Tisbury                      ",999,"Total",7709621.3200233895,1,{"$f":"SUM(K1485:K1488)","v":9278744.6473217048},{"$f":"SUM(L1485:L1488)","v":1},{"$f":"VLOOKUP(E1489,town351,24)","v":6499279},{"$f":"SUM(N1485:N1488)","v":6499279},6109493,{"$f":"SUM(P1485:P1488)","v":389786},{"$f":"IF(O1489>0,P1489*100/O1489,IF(P1489>0,100,0))","v":6.3800056731385073},533.99999999980002,571.99999999696001,296,999,1480,571.99999999696001,9278744.6473217048,1480,296,999,1480,571.99999999696001,9278744.6473217048]
["02970297","0297","0297",1481,297,"Tolland                      ",297,"Tolland",0,0,{"$f":"X1490","v":0},{"$f":"IF(K1494>0, K1490/K1494, 0)","v":0},null,{"$f":"ROUND(M1494*L1490,0)","v":0},0,{"$f":"N1490-O1490","v":0},0,0,0,297,297,1481,0,0,1481,297,297,1481,0,0]
["02970766","0297","0766",1482,297,"Tolland                      ",766,"Southwick Tolland",466864.49826733436,1,497827.48476620007,{"$f":"IF(K1494>0, K1491/K1494, 0)","v":1},null,{"$f":"ROUND(M1494*L1491,0)","v":410708},385163,{"$f":"N1491-O1491","v":25545},6.6322569924940868,35.243808047280005,35.219952873209998,297,766,1482,35.219952873209998,497827.48476620007,1482,297,766,1482,35.219952873209998,497827.48476620007]
["02970998","0297","0998",1483,297,"",998,"",0,0,0,{"$f":"IF(K1494>0, K1492/K1494, 0)","v":0},null,{"$f":"ROUND(M1494*L1492,0)","v":0},0,{"$f":"N1492-O1492","v":0},0,0,0,297,998,1483,0,0,1483,297,998,1483,0,0]
["02970998","0297","0998",1484,297,"",998,"",0,0,0,{"$f":"IF(K1494>0, K1493/K1494, 0)","v":0},null,{"$f":"ROUND(M1494*L1493,0)","v":0},0,{"$f":"N1493-O1493","v":0},0,0,0,297,998,1484,0,0,1484,297,998,1484,0,0]
["02970999","0297","0999",1485,297,"Tolland                      ",999,"Total",466864.49826733436,1,{"$f":"SUM(K1490:K1493)","v":497827.48476620007},{"$f":"SUM(L1490:L1493)","v":1},{"$f":"VLOOKUP(E1494,town351,24)","v":410708},{"$f":"SUM(N1490:N1493)","v":410708},385163,{"$f":"SUM(P1490:P1493)","v":25545},6.6322569924940868,35.243808047280005,35.219952873209998,297,999,1485,35.219952873209998,497827.48476620007,1485,297,999,1485,35.219952873209998,497827.48476620007]
["02980298","0298","0298",1486,298,"Topsfield                    ",298,"Topsfield",6327129.1521899998,0.49171026269211821,{"$f":"X1495","v":7135092.1120000007},{"$f":"IF(K1499>0, K1495/K1499, 0)","v":0.51796251909337343},null,{"$f":"ROUND(M1499*L1495,0)","v":5419279},4950549,{"$f":"N1495-O1495","v":468730},9.4682428150898019,572,607,298,298,1486,607,7135092.1120000007,1486,298,298,1486,607,7135092.1120000007]
["02980705","0298","0705",1487,298,"Topsfield                    ",705,"Masconomet",6038036.4338674508,0.46924353994163398,6068339.4407370165,{"$f":"IF(K1499>0, K1496/K1499, 0)","v":0.44052302816827571},null,{"$f":"ROUND(M1499*L1496,0)","v":4609054},4724353,{"$f":"N1496-O1496","v":-115299},-2.4405246602021484,495.58545240135999,470.58348850886,298,705,1487,470.58348850886,6068339.4407370165,1487,298,705,1487,470.58348850886,6068339.4407370165]
["02980817","0298","0817",1488,298,"Topsfield                    ",817,"Essex North Shore",502430.70438584709,3.9046197366247801E-2,571874.28307723976,{"$f":"IF(K1499>0, K1497/K1499, 0)","v":4.151445273835086E-2},null,{"$f":"ROUND(M1499*L1497,0)","v":434353},393118,{"$f":"N1497-O1497","v":41235},10.489216978108354,26.999999997850001,28.999999997370001,298,817,1488,28.999999997370001,571874.28307723976,1488,298,817,1488,28.999999997370001,571874.28307723976]
["02980998","0298","0998",1489,298,"",998,null,0,0,0,{"$f":"IF(K1499>0, K1498/K1499, 0)","v":0},null,{"$f":"ROUND(M1499*L1498,0)","v":0},0,{"$f":"N1498-O1498","v":0},0,0,0,298,998,1489,0,0,1489,298,998,1489,0,0]
["02980999","0298","0999",1490,298,"Topsfield                    ",999,"Total",12867596.290443297,1,{"$f":"SUM(K1495:K1498)","v":13775305.835814256},{"$f":"SUM(L1495:L1498)","v":1},{"$f":"VLOOKUP(E1499,town351,24)","v":10462686},{"$f":"SUM(N1495:N1498)","v":10462686},10068020,{"$f":"SUM(P1495:P1498)","v":394666},3.9199961859432144,1094.58545239921,1106.58348850623,298,999,1490,1106.58348850623,13775305.835814256,1490,298,999,1490,1106.58348850623,13775305.835814256]
["02990299","0299","0299",1491,299,"Townsend                     ",299,"Townsend",0,0,{"$f":"X1500","v":0},{"$f":"IF(K1504>0, K1500/K1504, 0)","v":0},null,{"$f":"ROUND(M1504*L1500,0)","v":0},0,{"$f":"N1500-O1500","v":0},0,0,0,299,299,1491,0,0,1491,299,299,1491,0,0]
["02990735","0299","0735",1492,299,"Townsend                     ",735,"North Middlesex",15121963.265563136,0.89863410028114055,15527790.940463116,{"$f":"IF(K1504>0, K1501/K1504, 0)","v":0.89033414012003342},null,{"$f":"ROUND(M1504*L1501,0)","v":7634328},7498537,{"$f":"N1501-O1501","v":135791},1.8108999128763383,1232.7216494842201,1185.5342465820002,299,735,1492,1185.5342465820002,15527790.940463116,1492,299,735,1492,1185.5342465820002,15527790.940463116]
["02990852","0299","0852",1493,299,"Townsend                     ",852,"Nashoba Valley",1705757.0054928842,0.10136589971885954,1912617.3745203852,{"$f":"IF(K1504>0, K1502/K1504, 0)","v":0.1096658598799666},null,{"$f":"ROUND(M1504*L1502,0)","v":940349},845835,{"$f":"N1502-O1502","v":94514},11.174046947690744,90.00000000112,94.000000001050012,299,852,1493,94.000000001050012,1912617.3745203852,1493,299,852,1493,94.000000001050012,1912617.3745203852]
["02990998","0299","0998",1494,299,"",998,"",0,0,0,{"$f":"IF(K1504>0, K1503/K1504, 0)","v":0},null,{"$f":"ROUND(M1504*L1503,0)","v":0},0,{"$f":"N1503-O1503","v":0},0,0,0,299,998,1494,0,0,1494,299,998,1494,0,0]
["02990999","0299","0999",1495,299,"Townsend                     ",999,"Total",16827720.271056019,1,{"$f":"SUM(K1500:K1503)","v":17440408.314983502},{"$f":"SUM(L1500:L1503)","v":1},{"$f":"VLOOKUP(E1504,town351,24)","v":8574677},{"$f":"SUM(N1500:N1503)","v":8574677},8344372,{"$f":"SUM(P1500:P1503)","v":230305},2.7600039883169161,1322.7216494853401,1279.5342465830502,299,999,1495,1279.5342465830502,17440408.314983502,1495,299,999,1495,1279.5342465830502,17440408.314983502]
["03000300","0300","0300",1496,300,"Truro                        ",300,"Truro",2317885.7700000005,0.92623825190606357,{"$f":"X1505","v":2300504.7399999998},{"$f":"IF(K1509>0, K1505/K1509, 0)","v":0.90571046697189261},null,{"$f":"ROUND(M1509*L1505,0)","v":1897916},1912256,{"$f":"N1505-O1505","v":-14340},-0.74989959503330095,185,173,300,300,1496,173,2300504.7399999998,1496,300,300,1496,173,2300504.7399999998]
["03000815","0300","0815",1497,300,"Truro                        ",815,"Cape Cod",184586.7474436796,7.3761748093936402E-2,239495.4299123488,{"$f":"IF(K1509>0, K1506/K1509, 0)","v":9.42895330281074E-2},null,{"$f":"ROUND(M1509*L1506,0)","v":197584},152284,{"$f":"N1506-O1506","v":45300},29.747051561556042,9.0137195154,11.032983506280001,300,815,1497,11.032983506280001,239495.4299123488,1497,300,815,1497,11.032983506280001,239495.4299123488]
["03000998","0300","0998",1498,300,"",998,"",0,0,0,{"$f":"IF(K1509>0, K1507/K1509, 0)","v":0},null,{"$f":"ROUND(M1509*L1507,0)","v":0},0,{"$f":"N1507-O1507","v":0},0,0,0,300,998,1498,0,0,1498,300,998,1498,0,0]
["03000998","0300","0998",1499,300,"",998,"",0,0,0,{"$f":"IF(K1509>0, K1508/K1509, 0)","v":0},null,{"$f":"ROUND(M1509*L1508,0)","v":0},0,{"$f":"N1508-O1508","v":0},0,0,0,300,998,1499,0,0,1499,300,998,1499,0,0]
["03000999","0300","0999",1500,300,"Truro                        ",999,"Total",2502472.5174436802,1,{"$f":"SUM(K1505:K1508)","v":2540000.1699123485},{"$f":"SUM(L1505:L1508)","v":1},{"$f":"VLOOKUP(E1509,town351,24)","v":2095500},{"$f":"SUM(N1505:N1508)","v":2095500},2064540,{"$f":"SUM(P1505:P1508)","v":30960},1.4996076607864222,194.0137195154,184.03298350628,300,999,1500,184.03298350628,2540000.1699123485,1500,300,999,1500,184.03298350628,2540000.1699123485]
["03010301","0301","0301",1501,301,"Tyngsborough                 ",301,"Tyngsborough",20161771.900000002,0.91072118418640757,{"$f":"X1510","v":21286361.979999997},{"$f":"IF(K1514>0, K1510/K1514, 0)","v":0.90343130260277427},null,{"$f":"ROUND(M1514*L1510,0)","v":13961757},13501934,{"$f":"N1510-O1510","v":459823},3.4056084113579579,1664,1619,301,301,1501,1619,21286361.979999997,1501,301,301,1501,1619,21286361.979999997]
["03010828","0301","0828",1502,301,"Tyngsborough                 ",828,"Greater Lowell",1976476.6112735257,8.9278815813592413E-2,2275321.0374848451,{"$f":"IF(K1514>0, K1511/K1514, 0)","v":9.6568697397225678E-2},null,{"$f":"ROUND(M1514*L1511,0)","v":1492387},1323607,{"$f":"N1511-O1511","v":168780},12.75151914427772,95.000000001840007,103.00000000908,301,828,1502,103.00000000908,2275321.0374848451,1502,301,828,1502,103.00000000908,2275321.0374848451]
["03010998","0301","0998",1503,301,"",998,"",0,0,0,{"$f":"IF(K1514>0, K1512/K1514, 0)","v":0},null,{"$f":"ROUND(M1514*L1512,0)","v":0},0,{"$f":"N1512-O1512","v":0},0,0,0,301,998,1503,0,0,1503,301,998,1503,0,0]
["03010998","0301","0998",1504,301,"",998,"",0,0,0,{"$f":"IF(K1514>0, K1513/K1514, 0)","v":0},null,{"$f":"ROUND(M1514*L1513,0)","v":0},0,{"$f":"N1513-O1513","v":0},0,0,0,301,998,1504,0,0,1504,301,998,1504,0,0]
["03010999","0301","0999",1505,301,"Tyngsborough                 ",999,"Total",22138248.511273529,1,{"$f":"SUM(K1510:K1513)","v":23561683.017484844},{"$f":"SUM(L1510:L1513)","v":1},{"$f":"VLOOKUP(E1514,town351,24)","v":15454144},{"$f":"SUM(N1510:N1513)","v":15454144},14825541,{"$f":"SUM(P1510:P1513)","v":628603},4.2400004154991713,1759.0000000018399,1722.0000000090799,301,999,1505,1722.0000000090799,23561683.017484844,1505,301,999,1505,1722.0000000090799,23561683.017484844]
["03020302","0302","0302",1506,302,"Tyringham                    ",302,"Tyringham",325767.26999999996,1,{"$f":"X1515","v":268153.68999999994},{"$f":"IF(K1519>0, K1515/K1519, 0)","v":1},null,{"$f":"ROUND(M1519*L1515,0)","v":221227},268758,{"$f":"N1515-O1515","v":-47531},-17.68542703845095,32,24,302,302,1506,24,268153.68999999994,1506,302,302,1506,24,268153.68999999994]
["03020998","0302","0998",1507,302,"",998,"",0,0,0,{"$f":"IF(K1519>0, K1516/K1519, 0)","v":0},null,{"$f":"ROUND(M1519*L1516,0)","v":0},0,{"$f":"N1516-O1516","v":0},0,0,0,302,998,1507,0,0,1507,302,998,1507,0,0]
["03020998","0302","0998",1508,302,"",998,"",0,0,0,{"$f":"IF(K1519>0, K1517/K1519, 0)","v":0},null,{"$f":"ROUND(M1519*L1517,0)","v":0},0,{"$f":"N1517-O1517","v":0},0,0,0,302,998,1508,0,0,1508,302,998,1508,0,0]
["03020998","0302","0998",1509,302,"",998,"",0,0,0,{"$f":"IF(K1519>0, K1518/K1519, 0)","v":0},null,{"$f":"ROUND(M1519*L1518,0)","v":0},0,{"$f":"N1518-O1518","v":0},0,0,0,302,998,1509,0,0,1509,302,998,1509,0,0]
["03020999","0302","0999",1510,302,"Tyringham                    ",999,"Total",325767.26999999996,1,{"$f":"SUM(K1515:K1518)","v":268153.68999999994},{"$f":"SUM(L1515:L1518)","v":1},{"$f":"VLOOKUP(E1519,town351,24)","v":221227},{"$f":"SUM(N1515:N1518)","v":221227},268758,{"$f":"SUM(P1515:P1518)","v":-47531},-17.68542703845095,32,24,302,999,1510,24,268153.68999999994,1510,302,999,1510,24,268153.68999999994]
["03030303","0303","0303",1511,303,"Upton                        ",303,"Upton",78488.55,5.2644681121199162E-3,{"$f":"X1520","v":82453.8},{"$f":"IF(K1524>0, K1520/K1524, 0)","v":5.1262136625986592E-3},null,{"$f":"ROUND(M1524*L1520,0)","v":61452},59336,{"$f":"N1520-O1520","v":2116},3.5661318592422813,5,5,303,303,1511,5,82453.8,1511,303,303,1511,5,82453.8]
["03030710","0303","0710",1512,303,"Upton                        ",710,"Mendon Upton",13367718.385888934,0.89661392871076617,14283983.680606524,{"$f":"IF(K1524>0, K1521/K1524, 0)","v":0.8880458183838883},null,{"$f":"ROUND(M1524*L1521,0)","v":10645796},10105781,{"$f":"N1521-O1521","v":540015},5.3436246045703939,1159.9358974434001,1158.9746712142501,303,710,1512,1158.9746712142501,14283983.680606524,1512,303,710,1512,1158.9746712142501,14283983.680606524]
["03030805","0303","0805",1513,303,"Upton                        ",805,"Blackstone Valley",1462906.0700960001,9.8121603177113798E-2,1718299.7986042001,{"$f":"IF(K1524>0, K1522/K1524, 0)","v":0.10682796795351307},null,{"$f":"ROUND(M1524*L1522,0)","v":1280642},1105934,{"$f":"N1522-O1522","v":174708},15.797326061048851,82,90.9999999976,303,805,1513,90.9999999976,1718299.7986042001,1513,303,805,1513,90.9999999976,1718299.7986042001]
["03030998","0303","0998",1514,303,"",998,"",0,0,0,{"$f":"IF(K1524>0, K1523/K1524, 0)","v":0},null,{"$f":"ROUND(M1524*L1523,0)","v":0},0,{"$f":"N1523-O1523","v":0},0,0,0,303,998,1514,0,0,1514,303,998,1514,0,0]
["03030999","0303","0999",1515,303,"Upton                        ",999,"Total",14909113.005984936,0.99999999999999989,{"$f":"SUM(K1520:K1523)","v":16084737.279210724},{"$f":"SUM(L1520:L1523)","v":1},{"$f":"VLOOKUP(E1524,town351,24)","v":11987890},{"$f":"SUM(N1520:N1523)","v":11987890},11271051,{"$f":"SUM(P1520:P1523)","v":716839},6.3600013876256973,1246.9358974434001,1254.9746712118501,303,999,1515,1254.9746712118501,16084737.279210724,1515,303,999,1515,1254.9746712118501,16084737.279210724]
["03040304","0304","0304",1516,304,"Uxbridge                     ",304,"Uxbridge",20484522.960000001,0.90253220770229214,{"$f":"X1525","v":22214657.669999998},{"$f":"IF(K1529>0, K1525/K1529, 0)","v":0.90744121049235316},null,{"$f":"ROUND(M1529*L1525,0)","v":14882274},13953398,{"$f":"N1525-O1525","v":928876},6.6569877817575334,1652,1690,304,304,1516,1690,22214657.669999998,1516,304,304,1516,1690,22214657.669999998]
["03040805","0304","0805",1517,304,"Uxbridge                     ",805,"Blackstone Valley",2212199.423072,9.7467792297707925E-2,2265889.8444190635,{"$f":"IF(K1529>0, K1526/K1529, 0)","v":9.2558789507646955E-2},null,{"$f":"ROUND(M1529*L1526,0)","v":1517988},1506879,{"$f":"N1526-O1526","v":11109},0.73721911314710742,124,120.00000000243999,304,805,1517,120.00000000243999,2265889.8444190635,1517,304,805,1517,120.00000000243999,2265889.8444190635]
["03040998","0304","0998",1518,304,"",998,"",0,0,0,{"$f":"IF(K1529>0, K1527/K1529, 0)","v":0},null,{"$f":"ROUND(M1529*L1527,0)","v":0},0,{"$f":"N1527-O1527","v":0},0,0,0,304,998,1518,0,0,1518,304,998,1518,0,0]
["03040998","0304","0998",1519,304,"",998,"",0,0,0,{"$f":"IF(K1529>0, K1528/K1529, 0)","v":0},null,{"$f":"ROUND(M1529*L1528,0)","v":0},0,{"$f":"N1528-O1528","v":0},0,0,0,304,998,1519,0,0,1519,304,998,1519,0,0]
["03040999","0304","0999",1520,304,"Uxbridge                     ",999,"Total",22696722.383072,1,{"$f":"SUM(K1525:K1528)","v":24480547.51441906},{"$f":"SUM(L1525:L1528)","v":1},{"$f":"VLOOKUP(E1529,town351,24)","v":16400262},{"$f":"SUM(N1525:N1528)","v":16400262},15460277,{"$f":"SUM(P1525:P1528)","v":939985},6.0800010245612031,1776,1810.0000000024399,304,999,1520,1810.0000000024399,24480547.51441906,1520,304,999,1520,1810.0000000024399,24480547.51441906]
["03050305","0305","0305",1521,305,"Wakefield                    ",305,"Wakefield",40977611.282850005,0.94747031541775506,{"$f":"X1530","v":43061534.5506},{"$f":"IF(K1534>0, K1530/K1534, 0)","v":0.94881338942737348},null,{"$f":"ROUND(M1534*L1530,0)","v":34517798},33133651,{"$f":"N1530-O1530","v":1384147},4.1774659846571085,3362,3317,305,305,1521,3317,43061534.5506,1521,305,305,1521,3317,43061534.5506]
["03050853","0305","0853",1522,305,"Wakefield                    ",853,"Northeast Metropolitan",2271882.2538232906,5.2529684582244968E-2,2323084.8386651967,{"$f":"IF(K1534>0, K1531/K1534, 0)","v":5.1186610572626613E-2},null,{"$f":"ROUND(M1534*L1531,0)","v":1862167},1836997,{"$f":"N1531-O1531","v":25170},1.3701709910250262,106.00000000632001,100.99999999762001,305,853,1522,100.99999999762001,2323084.8386651967,1522,305,853,1522,100.99999999762001,2323084.8386651967]
["03050998","0305","0998",1523,305,"",998,null,0,0,0,{"$f":"IF(K1534>0, K1532/K1534, 0)","v":0},null,{"$f":"ROUND(M1534*L1532,0)","v":0},0,{"$f":"N1532-O1532","v":0},0,0,0,305,998,1523,0,0,1523,305,998,1523,0,0]
["03050998","0305","0998",1524,305,"",998,"",0,0,0,{"$f":"IF(K1534>0, K1533/K1534, 0)","v":0},null,{"$f":"ROUND(M1534*L1533,0)","v":0},0,{"$f":"N1533-O1533","v":0},0,0,0,305,998,1524,0,0,1524,305,998,1524,0,0]
["03050999","0305","0999",1525,305,"Wakefield                    ",999,"Total",43249493.536673293,1,{"$f":"SUM(K1530:K1533)","v":45384619.389265195},{"$f":"SUM(L1530:L1533)","v":1},{"$f":"VLOOKUP(E1534,town351,24)","v":36379965},{"$f":"SUM(N1530:N1533)","v":36379965},34970648,{"$f":"SUM(P1530:P1533)","v":1409317},4.0299996728685157,3468.0000000063201,3417.9999999976199,305,999,1525,3417.9999999976199,45384619.389265195,1525,305,999,1525,3417.9999999976199,45384619.389265195]
["03060306","0306","0306",1526,306,"Wales                        ",306,"Wales",1787635.85,0.48116830935329191,{"$f":"X1535","v":1628374.74},{"$f":"IF(K1539>0, K1535/K1539, 0)","v":0.42432647258069378},null,{"$f":"ROUND(M1539*L1535,0)","v":566808},616948,{"$f":"N1535-O1535","v":-50140},-8.1271030945881986,133,111,306,306,1526,111,1628374.74,1526,306,306,1526,111,1628374.74]
["03060770","0306","0770",1527,306,"Wales                        ",770,"Tantasqua",1927562.7930749131,0.51883169064670809,2209176.8746717274,{"$f":"IF(K1539>0, K1536/K1539, 0)","v":0.57567352741930611},null,{"$f":"ROUND(M1539*L1536,0)","v":768975},665239,{"$f":"N1536-O1536","v":103736},15.593794110086751,136.99999999236002,146.99999999664001,306,770,1527,146.99999999664001,2209176.8746717274,1527,306,770,1527,146.99999999664001,2209176.8746717274]
["03060998","0306","0998",1528,306,"",998,"",0,0,0,{"$f":"IF(K1539>0, K1537/K1539, 0)","v":0},null,{"$f":"ROUND(M1539*L1537,0)","v":0},0,{"$f":"N1537-O1537","v":0},0,0,0,306,998,1528,0,0,1528,306,998,1528,0,0]
["03060998","0306","0998",1529,306,"",998,"",0,0,0,{"$f":"IF(K1539>0, K1538/K1539, 0)","v":0},null,{"$f":"ROUND(M1539*L1538,0)","v":0},0,{"$f":"N1538-O1538","v":0},0,0,0,306,998,1529,0,0,1529,306,998,1529,0,0]
["03060999","0306","0999",1530,306,"Wales                        ",999,"Total",3715198.643074913,1,{"$f":"SUM(K1535:K1538)","v":3837551.6146717276},{"$f":"SUM(L1535:L1538)","v":0.99999999999999989},{"$f":"VLOOKUP(E1539,town351,24)","v":1335783},{"$f":"SUM(N1535:N1538)","v":1335783},1282187,{"$f":"SUM(P1535:P1538)","v":53596},4.1800455003833292,269.99999999236002,257.99999999663999,306,999,1530,257.99999999663999,3837551.6146717276,1530,306,999,1530,257.99999999663999,3837551.6146717276]
["03070307","0307","0307",1531,307,"Walpole                      ",307,"Walpole",43228473.531800002,0.95340748258639985,{"$f":"X1540","v":47191402.9124},{"$f":"IF(K1544>0, K1540/K1544, 0)","v":0.95357360964830351},null,{"$f":"ROUND(M1544*L1540,0)","v":37306825},34931941,{"$f":"N1540-O1540","v":2374884},6.7986030321074917,3569,3680,307,307,1531,3680,47191402.9124,1531,307,307,1531,3680,47191402.9124]
["03070878","0307","0878",1532,307,"Walpole                      ",878,"Tri County",1648471.4135750737,3.6357170451001397E-2,1845535.2192073043,{"$f":"IF(K1544>0, K1541/K1544, 0)","v":3.7291828004760663E-2},null,{"$f":"ROUND(M1544*L1541,0)","v":1458975},1332092,{"$f":"N1541-O1541","v":126883},9.5250928614540129,84.187919459839989,89.999999998149988,307,878,1532,89.999999998149988,1845535.2192073043,1532,307,878,1532,89.999999998149988,1845535.2192073043]
["03070915","0307","0915",1533,307,"Walpole                      ",915,"Norfolk County",464081.13355811901,1.0235346962598738E-2,452060.34204499499,{"$f":"IF(K1544>0, K1542/K1544, 0)","v":9.134562346935951E-3},null,{"$f":"ROUND(M1544*L1542,0)","v":357373},375013,{"$f":"N1542-O1542","v":-17640},-4.7038369336529664,23.00000000016,21.000000000210001,307,915,1533,21.000000000210001,452060.34204499499,1533,307,915,1533,21.000000000210001,452060.34204499499]
["03070998","0307","0998",1534,307,"",998,"",0,0,0,{"$f":"IF(K1544>0, K1543/K1544, 0)","v":0},null,{"$f":"ROUND(M1544*L1543,0)","v":0},0,{"$f":"N1543-O1543","v":0},0,0,0,307,998,1534,0,0,1534,307,998,1534,0,0]
["03070999","0307","0999",1535,307,"Walpole                      ",999,"Total",45341026.078933194,1,{"$f":"SUM(K1540:K1543)","v":49488998.473652296},{"$f":"SUM(L1540:L1543)","v":1},{"$f":"VLOOKUP(E1544,town351,24)","v":39123173},{"$f":"SUM(N1540:N1543)","v":39123173},36639046,{"$f":"SUM(P1540:P1543)","v":2484127},6.7799991298900082,3676.1879194600001,3790.9999999983602,307,999,1535,3790.9999999983602,49488998.473652296,1535,307,999,1535,3790.9999999983602,49488998.473652296]
["03080308","0308","0308",1536,308,"Waltham                      ",308,"Waltham",87977903.347709998,1,{"$f":"X1545","v":98129290.060850009},{"$f":"IF(K1549>0, K1545/K1549, 0)","v":1},null,{"$f":"ROUND(M1549*L1545,0)","v":74508112},69072135,{"$f":"N1545-O1545","v":5435977},7.8699999645298355,5519,5657,308,308,1536,5657,98129290.060850009,1536,308,308,1536,5657,98129290.060850009]
[{"$f":"B1546&C1546","v":"03080998"},"0308","0998",1537,308,"",998,"",0,0,0,{"$f":"IF(K1549>0, K1546/K1549, 0)","v":0},null,{"$f":"ROUND(M1549*L1546,0)","v":0},0,{"$f":"N1546-O1546","v":0},0,0,0,{"$f":"VLOOKUP($D1546, foundoptions, VLOOKUP($T$6, foundoptcell, 2, FALSE), FALSE)","v":308},{"$f":"VLOOKUP($D1546, foundoptions, VLOOKUP($T$6, foundoptcell, 2, FALSE)+1, FALSE)","v":998},{"$f":"VLOOKUP($D1546, foundoptions, VLOOKUP($T$6, foundoptcell, 2, FALSE)+2, FALSE)","v":1537},{"$f":"VLOOKUP($D1546, foundoptions, VLOOKUP($T$6, foundoptcell, 2, FALSE)+3, FALSE)","v":0},{"$f":"VLOOKUP($D1546, foundoptions, VLOOKUP($T$6, foundoptcell, 2, FALSE)+4, FALSE)","v":0},1537,308,998,1537,0,0]
["03080998","0308","0998",1538,308,"",998,"",0,0,0,{"$f":"IF(K1549>0, K1547/K1549, 0)","v":0},null,{"$f":"ROUND(M1549*L1547,0)","v":0},0,{"$f":"N1547-O1547","v":0},0,0,{"$f":"W1547","v":0},308,998,1538,0,0,{"$f":"D1547","v":1538},308,998,1538,0,0]
["03080998","0308","0998",1539,308,"",998,"",0,0,0,{"$f":"IF(K1549>0, K1548/K1549, 0)","v":0},null,{"$f":"ROUND(M1549*L1548,0)","v":0},0,{"$f":"N1548-O1548","v":0},0,0,0,308,998,1539,0,0,1539,308,998,1539,0,0]
["03080999","0308","0999",1540,308,"Waltham                      ",999,"Total",87977903.347709998,1,{"$f":"SUM(K1545:K1548)","v":98129290.060850009},{"$f":"SUM(L1545:L1548)","v":1},{"$f":"VLOOKUP(E1549,town351,24)","v":74508112},{"$f":"SUM(N1545:N1548)","v":74508112},69072135,{"$f":"SUM(P1545:P1548)","v":5435977},7.8699999645298355,5519,5657,308,999,1540,5657,98129290.060850009,1540,308,999,1540,5657,98129290.060850009]
["03090309","0309","0309",1541,309,"Ware                         ",309,"Ware",17965623.27,0.88493536496002223,{"$f":"X1550","v":19400007.25},{"$f":"IF(K1554>0, K1550/K1554, 0)","v":0.88726977198060542},null,{"$f":"ROUND(M1554*L1550,0)","v":5872745},5630390,{"$f":"N1550-O1550","v":242355},4.3044087532124768,1264,1264,309,309,1541,1264,19400007.25,1541,309,309,1541,1264,19400007.25]
["03090860","0309","0860",1542,309,"Ware                         ",860,"Pathfinder",2335998.725648927,0.11506463503997767,2464827.8459758167,{"$f":"IF(K1554>0, K1551/K1554, 0)","v":0.11273022801939465},null,{"$f":"ROUND(M1554*L1551,0)","v":746150},732097,{"$f":"N1551-O1551","v":14053},1.9195543759911597,118.00000000137,115.9999999998,309,860,1542,115.9999999998,2464827.8459758167,1542,309,860,1542,115.9999999998,2464827.8459758167]
["03090998","0309","0998",1543,309,"",998,"",0,0,0,{"$f":"IF(K1554>0, K1552/K1554, 0)","v":0},null,{"$f":"ROUND(M1554*L1552,0)","v":0},0,{"$f":"N1552-O1552","v":0},{"$f":"IF(O1552>0,P1552*100/O1552,IF(P1552>0,100,0))","v":0},0,0,309,998,1543,0,0,1543,309,998,1543,0,0]
["03090998","0309","0998",1544,309,"",998,"",0,0,0,{"$f":"IF(K1554>0, K1553/K1554, 0)","v":0},null,{"$f":"ROUND(M1554*L1553,0)","v":0},0,{"$f":"N1553-O1553","v":0},{"$f":"IF(O1553>0,P1553*100/O1553,IF(P1553>0,100,0))","v":0},0,0,309,998,1544,0,0,1544,309,998,1544,0,0]
["03090999","0309","0999",1545,309,"Ware                         ",999,"Total",20301621.995648928,0.99999999999999989,{"$f":"SUM(K1550:K1553)","v":21864835.095975816},{"$f":"SUM(L1550:L1553)","v":1},{"$f":"VLOOKUP(E1554,town351,24)","v":6618895},{"$f":"SUM(N1550:N1553)","v":6618895},6362487,{"$f":"SUM(P1550:P1553)","v":256408},{"$f":"IF(O1554>0,P1554*100/O1554,IF(P1554>0,100,0))","v":4.0299964463581617},1382.0000000013699,1379.9999999997999,309,999,1545,1379.9999999997999,21864835.095975816,1545,309,999,1545,1379.9999999997999,21864835.095975816]
["03100310","0310","0310",1546,310,"Wareham                      ",310,"Wareham",34329630.080000013,0.88485680436573644,{"$f":"X1555","v":37763668.480000004},{"$f":"IF(K1559>0, K1555/K1559, 0)","v":0.8833515731090924},null,{"$f":"ROUND(M1559*L1555,0)","v":21536212},20639982,{"$f":"N1555-O1555","v":896230},4.3422033992083904,2329,2307,310,310,1546,2307,37763668.480000004,1546,310,310,1546,2307,37763668.480000004]
["03100879","0310","0879",1547,310,"Wareham                      ",879,"Upper Cape Cod",4467189.8242187491,0.11514319563426349,4986771.5821430152,{"$f":"IF(K1559>0, K1556/K1559, 0)","v":0.11664842689090754},null,{"$f":"ROUND(M1559*L1556,0)","v":2843902},2685806,{"$f":"N1556-O1556","v":158096},5.8863521788245317,229.1875,238.20152091501998,310,879,1547,238.20152091501998,4986771.5821430152,1547,310,879,1547,238.20152091501998,4986771.5821430152]
["03100998","0310","0998",1548,310,"",998,"",0,0,0,{"$f":"IF(K1559>0, K1557/K1559, 0)","v":0},null,{"$f":"ROUND(M1559*L1557,0)","v":0},0,{"$f":"N1557-O1557","v":0},0,0,0,310,998,1548,0,0,1548,310,998,1548,0,0]
["03100998","0310","0998",1549,310,"",998,"",0,0,0,{"$f":"IF(K1559>0, K1558/K1559, 0)","v":0},null,{"$f":"ROUND(M1559*L1558,0)","v":0},0,{"$f":"N1558-O1558","v":0},0,0,0,310,998,1549,0,0,1549,310,998,1549,0,0]
["03100999","0310","0999",1550,310,"Wareham                      ",999,"Total",38796819.904218763,0.99999999999999989,{"$f":"SUM(K1555:K1558)","v":42750440.06214302},{"$f":"SUM(L1555:L1558)","v":1},{"$f":"VLOOKUP(E1559,town351,24)","v":24380114},{"$f":"SUM(N1555:N1558)","v":24380114},23325788,{"$f":"SUM(P1555:P1558)","v":1054326},4.5200016393872735,2558.1875,2545.20152091502,310,999,1550,2545.20152091502,42750440.06214302,1550,310,999,1550,2545.20152091502,42750440.06214302]
["03110311","0311","0311",1551,311,"Warren                       ",311,"Warren",15697.710000000001,1.5617246129375267E-3,{"$f":"X1560","v":16490.760000000002},{"$f":"IF(K1564>0, K1560/K1564, 0)","v":1.5124951385852921E-3},null,{"$f":"ROUND(M1564*L1560,0)","v":4845},4781,{"$f":"N1560-O1560","v":64},1.3386320853377955,1,1,311,311,1551,1,16490.760000000002,1551,311,311,1551,1,16490.760000000002]
["03110778","0311","0778",1552,311,"Warren                       ",778,"Quaboag",9105384.5647268873,0.90587118662501898,9824100.3064649906,{"$f":"IF(K1564>0, K1561/K1564, 0)","v":0.90104421836850301},null,{"$f":"ROUND(M1564*L1561,0)","v":2886067},2773132,{"$f":"N1561-O1561","v":112935},4.0724711265096651,651.63043478639997,651.02928128219992,311,778,1552,651.02928128219992,9824100.3064649906,1552,311,778,1552,651.02928128219992,9824100.3064649906]
["03110860","0311","0860",1553,311,"Warren                       ",860,"Pathfinder",930440.17036884814,9.2567088762043365E-2,1062425.7957409839,{"$f":"IF(K1564>0, K1562/K1564, 0)","v":9.7443286492911702E-2},null,{"$f":"ROUND(M1564*L1562,0)","v":312113},283374,{"$f":"N1562-O1562","v":28739},10.141720835362454,46.999999999700002,50.000000002819995,311,860,1553,50.000000002819995,1062425.7957409839,1553,311,860,1553,50.000000002819995,1062425.7957409839]
["03110998","0311","0998",1554,311,"",998,"",0,0,0,{"$f":"IF(K1564>0, K1563/K1564, 0)","v":0},null,{"$f":"ROUND(M1564*L1563,0)","v":0},0,{"$f":"N1563-O1563","v":0},0,0,0,311,998,1554,0,0,1554,311,998,1554,0,0]
["03110999","0311","0999",1555,311,"Warren                       ",999,"Total",10051522.445095737,0.99999999999999989,{"$f":"SUM(K1560:K1563)","v":10903016.862205975},{"$f":"SUM(L1560:L1563)","v":1},{"$f":"VLOOKUP(E1564,town351,24)","v":3203025},{"$f":"SUM(N1560:N1563)","v":3203025},3061287,{"$f":"SUM(P1560:P1563)","v":141738},4.6300134551252468,699.63043478609995,702.02928128501992,311,999,1555,702.02928128501992,10903016.862205975,1555,311,999,1555,702.02928128501992,10903016.862205975]
["03120312","0312","0312",1556,312,"Warwick                      ",312,"Warwick",0,0,{"$f":"X1565","v":860882.41},{"$f":"IF(K1569>0, K1565/K1569, 0)","v":0.87042717475881903},null,{"$f":"ROUND(M1569*L1565,0)","v":480702},0,null,0,0,58,312,312,1556,58,860882.41,1556,312,312,1556,58,860882.41]
["03120818","0312","0818",1557,312,"Warwick                      ",818,"Franklin County",140451.16063540758,0.16239218540437741,128151.98019873923,{"$f":"IF(K1569>0, K1566/K1569, 0)","v":0.12957282524118097},null,{"$f":"ROUND(M1569*L1566,0)","v":71558},87189,{"$f":"N1566-O1566","v":-15631},-17.927720239938523,7,5.9999999975999998,312,818,1557,5.9999999975999998,128151.98019873923,1557,312,818,1557,5.9999999975999998,128151.98019873923]
["03120312","0312","0312",1558,312,null,998,null,0,0,0,{"$f":"IF(K1569>0, K1567/K1569, 0)","v":0},null,{"$f":"ROUND(M1569*L1567,0)","v":0},0,{"$f":"N1567-O1567","v":0},0,null,0,312,998,1558,0,0,1558,312,998,1558,0,0]
["03120998","0312","0998",1559,312,"",998,"",0,0,0,{"$f":"IF(K1569>0, K1568/K1569, 0)","v":0},null,{"$f":"ROUND(M1569*L1568,0)","v":0},0,{"$f":"N1568-O1568","v":0},0,null,0,312,998,1559,0,0,1559,312,998,1559,0,0]
["03120999","0312","0999",1560,312,"Warwick                      ",999,"Total",864888.66619822953,1,{"$f":"SUM(K1565:K1568)","v":989034.39019873925},{"$f":"SUM(L1565:L1568)","v":1},{"$f":"VLOOKUP(E1569,town351,24)","v":552260},{"$f":"SUM(N1565:N1568)","v":552260},536905,465071,86.62072433670761,63.290824260619999,63.9999999976,312,999,1560,63.9999999976,989034.39019873925,1560,312,999,1560,63.9999999976,989034.39019873925]
["03130313","0313","0313",1561,313,"Washington                   ",313,"Washington",0,0,{"$f":"X1570","v":65963.040000000008},{"$f":"IF(K1574>0, K1570/K1574, 0)","v":7.8544240076846975E-2},null,{"$f":"ROUND(M1574*L1570,0)","v":45577},0,{"$f":"N1570-O1570","v":45577},100,0,4,313,313,1561,4,65963.040000000008,1561,313,313,1561,4,65963.040000000008]
["03130635","0313","0635",1562,313,"Washington                   ",635,"Central Berkshire",777409.96004598576,1,773857.16750932671,{"$f":"IF(K1574>0, K1571/K1574, 0)","v":0.92145575992315298},null,{"$f":"ROUND(M1574*L1571,0)","v":534695},544805,{"$f":"N1571-O1571","v":-10110},-1.8557098411358193,57.999347687709999,54.107722259719999,313,635,1562,54.107722259719999,773857.16750932671,1562,313,635,1562,54.107722259719999,773857.16750932671]
["03130998","0313","0998",1563,313,"",998,"",0,0,0,{"$f":"IF(K1574>0, K1572/K1574, 0)","v":0},null,{"$f":"ROUND(M1574*L1572,0)","v":0},0,{"$f":"N1572-O1572","v":0},0,0,0,313,998,1563,0,0,1563,313,998,1563,0,0]
["03130998","0313","0998",1564,313,"",998,"",0,0,0,{"$f":"IF(K1574>0, K1573/K1574, 0)","v":0},null,{"$f":"ROUND(M1574*L1573,0)","v":0},0,{"$f":"N1573-O1573","v":0},0,0,0,313,998,1564,0,0,1564,313,998,1564,0,0]
["03130999","0313","0999",1565,313,"Washington                   ",999,"Total",777409.96004598576,1,{"$f":"SUM(K1570:K1573)","v":839820.20750932675},{"$f":"SUM(L1570:L1573)","v":1},{"$f":"VLOOKUP(E1574,town351,24)","v":580272},{"$f":"SUM(N1570:N1573)","v":580272},544805,{"$f":"SUM(P1570:P1573)","v":35467},6.5100357008470917,57.999347687709999,58.107722259719999,313,999,1565,58.107722259719999,839820.20750932675,1565,313,999,1565,58.107722259719999,839820.20750932675]
["03140314","0314","0314",1566,314,"Watertown                    ",314,"Watertown",36321233.870360002,1,{"$f":"X1575","v":39855550.60148},{"$f":"IF(K1579>0, K1575/K1579, 0)","v":1},null,{"$f":"ROUND(M1579*L1575,0)","v":32047587},29965018,{"$f":"N1575-O1575","v":2082569},6.9500008309689649,2595,2661,314,314,1566,2661,39855550.60148,1566,314,314,1566,2661,39855550.60148]
["03140998","0314","0998",1567,314,"",998,"",0,0,0,{"$f":"IF(K1579>0, K1576/K1579, 0)","v":0},null,{"$f":"ROUND(M1579*L1576,0)","v":0},0,{"$f":"N1576-O1576","v":0},0,0,0,314,998,1567,0,0,1567,314,998,1567,0,0]
["03140998","0314","0998",1568,314,"",998,"",0,0,0,{"$f":"IF(K1579>0, K1577/K1579, 0)","v":0},null,{"$f":"ROUND(M1579*L1577,0)","v":0},0,{"$f":"N1577-O1577","v":0},0,0,0,314,998,1568,0,0,1568,314,998,1568,0,0]
["03140998","0314","0998",1569,314,"",998,"",0,0,0,{"$f":"IF(K1579>0, K1578/K1579, 0)","v":0},null,{"$f":"ROUND(M1579*L1578,0)","v":0},0,{"$f":"N1578-O1578","v":0},0,0,0,314,998,1569,0,0,1569,314,998,1569,0,0]
["03140999","0314","0999",1570,314,"Watertown                    ",999,"Total",36321233.870360002,1,{"$f":"SUM(K1575:K1578)","v":39855550.60148},{"$f":"SUM(L1575:L1578)","v":1},{"$f":"VLOOKUP(E1579,town351,24)","v":32047587},{"$f":"SUM(N1575:N1578)","v":32047587},29965018,{"$f":"SUM(P1575:P1578)","v":2082569},6.9500008309689649,2595,2661,314,999,1570,2661,39855550.60148,1570,314,999,1570,2661,39855550.60148]
["03150315","0315","0315",1571,315,"Wayland                      ",315,"Wayland",30979999.4738,1,{"$f":"X1580","v":33119434.224909998},{"$f":"IF(K1584>0, K1580/K1584, 0)","v":1},null,{"$f":"ROUND(M1584*L1580,0)","v":25852462},24877273,{"$f":"N1580-O1580","v":975189},3.9199995915951078,2655,2681,315,315,1571,2681,33119434.224909998,1571,315,315,1571,2681,33119434.224909998]
["03150830","0315","0830",1572,315,null,998,null,0,0,0,{"$f":"IF(K1584>0, K1581/K1584, 0)","v":0},null,{"$f":"ROUND(M1584*L1581,0)","v":0},0,{"$f":"N1581-O1581","v":0},0,0,0,315,998,1572,0,0,1572,315,998,1572,0,0]
["03150998","0315","0998",1573,315,"",998,"",0,0,0,{"$f":"IF(K1584>0, K1582/K1584, 0)","v":0},null,{"$f":"ROUND(M1584*L1582,0)","v":0},0,{"$f":"N1582-O1582","v":0},0,0,0,315,998,1573,0,0,1573,315,998,1573,0,0]
["03150998","0315","0998",1574,315,"",998,"",0,0,0,{"$f":"IF(K1584>0, K1583/K1584, 0)","v":0},null,{"$f":"ROUND(M1584*L1583,0)","v":0},0,{"$f":"N1583-O1583","v":0},0,0,0,315,998,1574,0,0,1574,315,998,1574,0,0]
["03150999","0315","0999",1575,315,"Wayland                      ",999,"Total",30979999.4738,1,{"$f":"SUM(K1580:K1583)","v":33119434.224909998},{"$f":"SUM(L1580:L1583)","v":1},{"$f":"VLOOKUP(E1584,town351,24)","v":25852462},{"$f":"SUM(N1580:N1583)","v":25852462},24877273,{"$f":"SUM(P1580:P1583)","v":975189},3.9199995915951078,2655,2681,315,999,1575,2681,33119434.224909998,1575,315,999,1575,2681,33119434.224909998]
["03160316","0316","0316",1576,316,"Webster                      ",316,"Webster",29048367.420000002,0.92035994327021597,{"$f":"X1585","v":31971769.840000004},{"$f":"IF(K1589>0, K1585/K1589, 0)","v":0.91758440657138229},null,{"$f":"ROUND(M1589*L1585,0)","v":12851534},12256734,{"$f":"N1585-O1585","v":594800},4.8528425272180993,1897,1907,316,316,1576,1907,31971769.840000004,1576,316,316,1576,1907,31971769.840000004]
["03160876","0316","0876",1577,316,"Webster                      ",876,"Southern Worcester",2513596.6054937257,7.9640056729784109E-2,2871640.3258993286,{"$f":"IF(K1589>0, K1586/K1589, 0)","v":8.2415593428617831E-2},null,{"$f":"ROUND(M1589*L1586,0)","v":1154299},1060593,{"$f":"N1586-O1586","v":93706},8.8352459426000358,132.00000000166,142.00000000032,316,876,1577,142.00000000032,2871640.3258993286,1577,316,876,1577,142.00000000032,2871640.3258993286]
["03160998","0316","0998",1578,316,"",998,"",0,0,0,{"$f":"IF(K1589>0, K1587/K1589, 0)","v":0},null,{"$f":"ROUND(M1589*L1587,0)","v":0},0,{"$f":"N1587-O1587","v":0},0,0,0,316,998,1578,0,0,1578,316,998,1578,0,0]
["03160998","0316","0998",1579,316,"",998,"",0,0,0,{"$f":"IF(K1589>0, K1588/K1589, 0)","v":0},null,{"$f":"ROUND(M1589*L1588,0)","v":0},0,{"$f":"N1588-O1588","v":0},0,0,0,316,998,1579,0,0,1579,316,998,1579,0,0]
["03160999","0316","0999",1580,316,"Webster                      ",999,"Total",31561964.025493726,1,{"$f":"SUM(K1585:K1588)","v":34843410.165899329},{"$f":"SUM(L1585:L1588)","v":1.0000000000000002},{"$f":"VLOOKUP(E1589,town351,24)","v":14005833},{"$f":"SUM(N1585:N1588)","v":14005833},13317327,{"$f":"SUM(P1585:P1588)","v":688506},5.1700014574996915,2029.0000000016601,2049.0000000003201,316,999,1580,2049.0000000003201,34843410.165899329,1580,316,999,1580,2049.0000000003201,34843410.165899329]
["03170317","0317","0317",1581,317,"Wellesley                    ",317,"Wellesley",51015282.939499997,0.99960463880489314,{"$f":"X1590","v":52634797.2425},{"$f":"IF(K1594>0, K1590/K1594, 0)","v":0.99959118523000212},null,{"$f":"ROUND(M1594*L1590,0)","v":43423707},42087609,{"$f":"N1590-O1590","v":1336098},3.1745638009514865,4308,4180,317,317,1581,4180,52634797.2425,1581,317,317,1581,4180,52634797.2425]
["03170915","0317","0915",1582,317,"Wellesley                    ",915,"Norfolk County",20177.440608713412,3.9536119510695462E-4,21526.682954523571,{"$f":"IF(K1594>0, K1591/K1594, 0)","v":4.0881476999797523E-4},null,{"$f":"ROUND(M1594*L1591,0)","v":17760},16646,{"$f":"N1591-O1591","v":1114},6.6922984500780966,1.0000000009599999,1.00000000001,317,915,1582,1.00000000001,21526.682954523571,1582,317,915,1582,1.00000000001,21526.682954523571]
["03170998","0317","0998",1583,317,"",998,"",0,0,0,{"$f":"IF(K1594>0, K1592/K1594, 0)","v":0},null,{"$f":"ROUND(M1594*L1592,0)","v":0},0,{"$f":"N1592-O1592","v":0},0,0,0,317,998,1583,0,0,1583,317,998,1583,0,0]
["03170998","0317","0998",1584,317,"",998,"",0,0,0,{"$f":"IF(K1594>0, K1593/K1594, 0)","v":0},null,{"$f":"ROUND(M1594*L1593,0)","v":0},0,{"$f":"N1593-O1593","v":0},0,0,0,317,998,1584,0,0,1584,317,998,1584,0,0]
["03170999","0317","0999",1585,317,"Wellesley                    ",999,"Total",51035460.380108707,1,{"$f":"SUM(K1590:K1593)","v":52656323.92545452},{"$f":"SUM(L1590:L1593)","v":1},{"$f":"VLOOKUP(E1594,town351,24)","v":43441467},{"$f":"SUM(N1590:N1593)","v":43441467},42104255,{"$f":"SUM(P1590:P1593)","v":1337212},3.1759545442616193,4309.0000000009604,4181.00000000001,317,999,1585,4181.00000000001,52656323.92545452,1585,317,999,1585,4181.00000000001,52656323.92545452]
["03180318","0318","0318",1586,318,"Wellfleet                    ",318,"Wellfleet",1688189.7200000002,0.44171443109500086,{"$f":"X1595","v":1610248.3900000004},{"$f":"IF(K1599>0, K1595/K1599, 0)","v":0.41111514489075995},null,{"$f":"ROUND(M1599*L1595,0)","v":1328455},1392757,{"$f":"N1595-O1595","v":-64302},-4.6168857884038639,131,116,318,318,1586,116,1610248.3900000004,1586,318,318,1586,116,1610248.3900000004]
["03180660","0318","0660",1587,318,"Wellfleet                    ",660,"Nauset",1887597.6409079011,0.49388946527283623,2023493.5335029818,{"$f":"IF(K1599>0, K1596/K1599, 0)","v":0.51662143702661545},null,{"$f":"ROUND(M1599*L1596,0)","v":1669382},1557268,{"$f":"N1596-O1596","v":112114},7.1994030571488015,140.99999999553,141.00000000012,318,660,1587,141.00000000012,2023493.5335029818,1587,318,660,1587,141.00000000012,2023493.5335029818]
["03180815","0318","0815",1588,318,"Wellfleet                    ",815,"Cape Cod",246115.66321339173,6.4396103632162943E-2,283040.0535459778,{"$f":"IF(K1599>0, K1597/K1599, 0)","v":7.2263418082624556E-2},null,{"$f":"ROUND(M1599*L1597,0)","v":233508},203045,{"$f":"N1597-O1597","v":30463},15.003078135388707,12.018292685010001,13.038980508030001,318,815,1588,13.038980508030001,283040.0535459778,1588,318,815,1588,13.038980508030001,283040.0535459778]
["03180998","0318","0998",1589,318,"",998,"",0,0,0,{"$f":"IF(K1599>0, K1598/K1599, 0)","v":0},null,{"$f":"ROUND(M1599*L1598,0)","v":0},0,{"$f":"N1598-O1598","v":0},0,0,0,318,998,1589,0,0,1589,318,998,1589,0,0]
["03180999","0318","0999",1590,318,"Wellfleet                    ",999,"Total",3821903.0241212929,1,{"$f":"SUM(K1595:K1598)","v":3916781.97704896},{"$f":"SUM(L1595:L1598)","v":1},{"$f":"VLOOKUP(E1599,town351,24)","v":3231345},{"$f":"SUM(N1595:N1598)","v":3231345},3153070,{"$f":"SUM(P1595:P1598)","v":78275},2.4825011813882978,284.01829268054001,270.03898050815002,318,999,1590,270.03898050815002,3916781.97704896,1590,318,999,1590,270.03898050815002,3916781.97704896]
["03190319","0319","0319",1591,319,"Wendell                      ",319,"Wendell",0,0,{"$f":"X1600","v":0},{"$f":"IF(K1604>0, K1600/K1604, 0)","v":0},null,{"$f":"ROUND(M1604*L1600,0)","v":0},0,{"$f":"N1600-O1600","v":0},0,0,0,319,319,1591,0,0,1591,319,319,1591,0,0]
["03190728","0319","0728",1592,319,"Wendell                      ",728,"New Salem Wendell",884565.32842326385,0.54248583225478297,1030269.736005569,{"$f":"IF(K1604>0, K1601/K1604, 0)","v":0.57822552151764028},null,{"$f":"ROUND(M1604*L1601,0)","v":371797},328886,{"$f":"N1601-O1601","v":42911},13.047378118861856,67.578947368589994,69.68333333371001,319,728,1592,69.68333333371001,1030269.736005569,1592,319,728,1592,69.68333333371001,1030269.736005569]
["03190755","0319","0755",1593,319,"Wendell                      ",755,"Ralph C Mahar",605561.26215496846,0.3713783422497019,559280.67882690253,{"$f":"IF(K1604>0, K1602/K1604, 0)","v":0.31388902428914744},null,{"$f":"ROUND(M1604*L1602,0)","v":201830},225151,{"$f":"N1602-O1602","v":-23321},-10.357937561902901,41.071428572249999,34.999999998140005,319,755,1593,34.999999998140005,559280.67882690253,1593,319,755,1593,34.999999998140005,559280.67882690253]
["03190818","0319","0818",1594,319,"Wendell                      ",818,"Franklin County",140451.16063540758,8.6135825495515128E-2,192227.97035791312,{"$f":"IF(K1604>0, K1603/K1604, 0)","v":0.10788545419321237},null,{"$f":"ROUND(M1604*L1603,0)","v":69370},52220,{"$f":"N1603-O1603","v":17150},32.841823056300271,6.99999999972,8.9999999991999999,319,818,1594,8.9999999991999999,192227.97035791312,1594,319,818,1594,8.9999999991999999,192227.97035791312]
["03190999","0319","0999",1595,319,"Wendell                      ",999,"Total",1630577.75121364,1,{"$f":"SUM(K1600:K1603)","v":1781778.3851903845},{"$f":"SUM(L1600:L1603)","v":1},{"$f":"VLOOKUP(E1604,town351,24)","v":642997},{"$f":"SUM(N1600:N1603)","v":642997},606257,{"$f":"SUM(P1600:P1603)","v":36740},6.0601362128602227,115.65037594056,113.68333333105001,319,999,1595,113.68333333105001,1781778.3851903845,1595,319,999,1595,113.68333333105001,1781778.3851903845]
["03200320","0320","0320",1596,320,"Wenham                       ",320,"Wenham",0,0,{"$f":"X1605","v":0},{"$f":"IF(K1609>0, K1605/K1609, 0)","v":0},null,{"$f":"ROUND(M1609*L1605,0)","v":0},0,{"$f":"N1605-O1605","v":0},0,0,0,320,320,1596,0,0,1596,320,320,1596,0,0]
["03200675","0320","0675",1597,320,"Wenham                       ",675,"Hamilton Wenham",6370540.1098039085,0.97716535823376416,6727046.7222713241,{"$f":"IF(K1609>0, K1606/K1609, 0)","v":0.9687616735479756},null,{"$f":"ROUND(M1609*L1606,0)","v":5332422},5255696,{"$f":"N1606-O1606","v":76726},1.4598637364109339,546.99268739130002,546.65024631300003,320,675,1597,546.65024631300003,6727046.7222713241,1597,320,675,1597,546.65024631300003,6727046.7222713241]
["03200817","0320","0817",1598,320,"Wenham                       ",817,"Essex North Shore",148868.35686412884,2.2834641766235734E-2,216917.83160528351,{"$f":"IF(K1609>0, K1607/K1609, 0)","v":3.1238326452024411E-2},null,{"$f":"ROUND(M1609*L1607,0)","v":171947},122816,{"$f":"N1607-O1607","v":49131},40.00374544033351,7.9999999998499991,11.000000003730001,320,817,1598,11.000000003730001,216917.83160528351,1598,320,817,1598,11.000000003730001,216917.83160528351]
["03200998","0320","0998",1599,320,"",998,null,0,0,0,{"$f":"IF(K1609>0, K1608/K1609, 0)","v":0},null,{"$f":"ROUND(M1609*L1608,0)","v":0},0,{"$f":"N1608-O1608","v":0},0,0,0,320,998,1599,0,0,1599,320,998,1599,0,0]
["03200999","0320","0999",1600,320,"Wenham                       ",999,"Total",6519408.4666680377,0.99999999999999989,{"$f":"SUM(K1605:K1608)","v":6943964.5538766077},{"$f":"SUM(L1605:L1608)","v":1},{"$f":"VLOOKUP(E1609,town351,24)","v":5504369},{"$f":"SUM(N1605:N1608)","v":5504369},5378512,{"$f":"SUM(P1605:P1608)","v":125857},2.3399966384754745,554.99268739115007,557.65024631672998,320,999,1600,557.65024631672998,6943964.5538766077,1600,320,999,1600,557.65024631672998,6943964.5538766077]
[{"$f":"B1610&C1610","v":"03210321"},"0321","0321",1601,321,"Westborough                  ",321,"Westborough",45181193.88000001,0.97795778724534033,{"$f":"X1610","v":47373904.239999995},{"$f":"IF(K1614>0, K1610/K1614, 0)","v":0.97368833121466969},null,{"$f":"ROUND(M1614*L1610,0)","v":35784512},33675087,{"$f":"N1610-O1610","v":2109425},6.264052116628533,3836,3764,{"$f":"VLOOKUP($D1610, foundoptions, VLOOKUP($T$6, foundoptcell, 2, FALSE), FALSE)","v":321},{"$f":"VLOOKUP($D1610, foundoptions, VLOOKUP($T$6, foundoptcell, 2, FALSE)+1, FALSE)","v":321},{"$f":"VLOOKUP($D1610, foundoptions, VLOOKUP($T$6, foundoptcell, 2, FALSE)+2, FALSE)","v":1601},{"$f":"VLOOKUP($D1610, foundoptions, VLOOKUP($T$6, foundoptcell, 2, FALSE)+3, FALSE)","v":3764},{"$f":"VLOOKUP($D1610, foundoptions, VLOOKUP($T$6, foundoptcell, 2, FALSE)+4, FALSE)","v":47373904.239999995},1601,321,321,1601,3764,47373904.239999995]
["03210801","0321","0801",1602,321,"Westborough                  ",801,"Assabet Valley",1018339.9539336618,2.2042212754659628E-2,1280169.8833915864,{"$f":"IF(K1614>0, K1611/K1614, 0)","v":2.6311668785330245E-2},null,{"$f":"ROUND(M1614*L1611,0)","v":966993},759004,{"$f":"N1611-O1611","v":207989},27.402885887294403,49.000000003499999,{"$f":"W1611","v":58.000000000509999},321,801,1602,58.000000000509999,1280169.8833915864,{"$f":"D1611","v":1602},321,801,1602,58.000000000509999,1280169.8833915864]
["03210998","0321","0998",1603,321,"",998,"",0,0,0,{"$f":"IF(K1614>0, K1612/K1614, 0)","v":0},null,{"$f":"ROUND(M1614*L1612,0)","v":0},0,{"$f":"N1612-O1612","v":0},0,0,0,321,998,1603,0,0,1603,321,998,1603,0,0]
["03210998","0321","0998",1604,321,"",998,"",0,0,0,{"$f":"IF(K1614>0, K1613/K1614, 0)","v":0},null,{"$f":"ROUND(M1614*L1613,0)","v":0},0,{"$f":"N1613-O1613","v":0},0,0,0,321,998,1604,0,0,1604,321,998,1604,0,0]
["03210999","0321","0999",1605,321,"Westborough                  ",999,"Total",46199533.833933674,1,{"$f":"SUM(K1610:K1613)","v":48654074.123391584},{"$f":"SUM(L1610:L1613)","v":0.99999999999999989},{"$f":"VLOOKUP(E1614,town351,24)","v":36751505},{"$f":"SUM(N1610:N1613)","v":36751505},34434091,{"$f":"SUM(P1610:P1613)","v":2317414},6.7299990582007814,3885.0000000035002,3822.0000000005102,321,999,1605,3822.0000000005102,48654074.123391584,1605,321,999,1605,3822.0000000005102,48654074.123391584]
["03220322","0322","0322",1606,322,"West Boylston                ",322,"West Boylston",10560011.300000001,1,{"$f":"X1615","v":11278495.76},{"$f":"IF(K1619>0, K1615/K1619, 0)","v":1},null,{"$f":"ROUND(M1619*L1615,0)","v":8476196},8098019,{"$f":"N1615-O1615","v":378177},4.6699939824789247,825,826,322,322,1606,826,11278495.76,1606,322,322,1606,826,11278495.76]
["03220998","0322","0998",1607,322,"",998,"",0,0,0,{"$f":"IF(K1619>0, K1616/K1619, 0)","v":0},null,{"$f":"ROUND(M1619*L1616,0)","v":0},0,{"$f":"N1616-O1616","v":0},{"$f":"IF(O1616>0,P1616*100/O1616,IF(P1616>0,100,0))","v":0},0,0,322,998,1607,0,0,1607,322,998,1607,0,0]
["03220998","0322","0998",1608,322,"",998,"",0,0,0,{"$f":"IF(K1619>0, K1617/K1619, 0)","v":0},null,{"$f":"ROUND(M1619*L1617,0)","v":0},0,{"$f":"N1617-O1617","v":0},{"$f":"IF(O1617>0,P1617*100/O1617,IF(P1617>0,100,0))","v":0},0,0,322,998,1608,0,0,1608,322,998,1608,0,0]
["03220998","0322","0998",1609,322,"",998,"",0,0,0,{"$f":"IF(K1619>0, K1618/K1619, 0)","v":0},null,{"$f":"ROUND(M1619*L1618,0)","v":0},0,{"$f":"N1618-O1618","v":0},{"$f":"IF(O1618>0,P1618*100/O1618,IF(P1618>0,100,0))","v":0},0,0,322,998,1609,0,0,1609,322,998,1609,0,0]
["03220999","0322","0999",1610,322,"West Boylston                ",999,"Total",10560011.300000001,1,{"$f":"SUM(K1615:K1618)","v":11278495.76},{"$f":"SUM(L1615:L1618)","v":1},{"$f":"VLOOKUP(E1619,town351,24)","v":8476196},{"$f":"SUM(N1615:N1618)","v":8476196},8098019,{"$f":"SUM(P1615:P1618)","v":378177},{"$f":"IF(O1619>0,P1619*100/O1619,IF(P1619>0,100,0))","v":4.6699939824789247},825,826,322,999,1610,826,11278495.76,1610,322,999,1610,826,11278495.76]
["03230323","0323","0323",1611,323,"West Bridgewater             ",323,"West Bridgewater",13585538.109999998,0.91422709535093161,{"$f":"X1620","v":15250441.900000002},{"$f":"IF(K1624>0, K1620/K1624, 0)","v":0.91662292406761281},null,{"$f":"ROUND(M1624*L1620,0)","v":8732058},8270877,{"$f":"N1620-O1620","v":461181},5.5759625007118352,1099,1130,323,323,1611,1130,15250441.900000002,1611,323,323,1611,1130,15250441.900000002]
["03230872","0323","0872",1612,323,"West Bridgewater             ",872,"Southeastern",1274596.9473460179,8.5772904649068366E-2,1387197.7439274334,{"$f":"IF(K1624>0, K1621/K1624, 0)","v":8.3377075932387204E-2},null,{"$f":"ROUND(M1624*L1621,0)","v":794278},775975,{"$f":"N1621-O1621","v":18303},2.3587100099874352,64.236307684780002,65.279141098569994,323,872,1612,65.279141098569994,1387197.7439274334,1612,323,872,1612,65.279141098569994,1387197.7439274334]
["03230998","0323","0998",1613,323,"",998,"",0,0,0,{"$f":"IF(K1624>0, K1622/K1624, 0)","v":0},null,{"$f":"ROUND(M1624*L1622,0)","v":0},0,{"$f":"N1622-O1622","v":0},0,0,0,323,998,1613,0,0,1613,323,998,1613,0,0]
["03230998","0323","0998",1614,323,"",998,"",0,0,0,{"$f":"IF(K1624>0, K1623/K1624, 0)","v":0},null,{"$f":"ROUND(M1624*L1623,0)","v":0},0,{"$f":"N1623-O1623","v":0},0,0,0,323,998,1614,0,0,1614,323,998,1614,0,0]
["03230999","0323","0999",1615,323,"West Bridgewater             ",999,"Total",14860135.057346016,1,{"$f":"SUM(K1620:K1623)","v":16637639.643927436},{"$f":"SUM(L1620:L1623)","v":1},{"$f":"VLOOKUP(E1624,town351,24)","v":9526336},{"$f":"SUM(N1620:N1623)","v":9526336},9046852,{"$f":"SUM(P1620:P1623)","v":479484},5.3000093292119734,1163.2363076847801,1195.2791410985701,323,999,1615,1195.2791410985701,16637639.643927436,1615,323,999,1615,1195.2791410985701,16637639.643927436]
["03240324","0324","0324",1616,324,"West Brookfield              ",324,"West Brookfield",453257.52,6.8897754066349376E-2,{"$f":"X1625","v":393567.83999999997},{"$f":"IF(K1629>0, K1625/K1629, 0)","v":5.3769886908032055E-2},null,{"$f":"ROUND(M1629*L1625,0)","v":200356},246970,{"$f":"N1625-O1625","v":-46614},-18.874357209377656,27,22,324,324,1616,22,393567.83999999997,1616,324,324,1616,22,393567.83999999997]
["03240778","0324","0778",1617,324,"West Brookfield              ",778,"Quaboag",6125440.5252731089,0.93110224593365065,6925916.4035350084,{"$f":"IF(K1629>0, K1626/K1629, 0)","v":0.94623011309196792},null,{"$f":"ROUND(M1629*L1626,0)","v":3525821},3337616,{"$f":"N1626-O1626","v":188205},5.6389051346829593,438.36956521359997,458.97071871779997,324,778,1617,458.97071871779997,6925916.4035350084,1617,324,778,1617,458.97071871779997,6925916.4035350084]
["03240998","0324","0998",1618,324,"",998,"",0,0,0,{"$f":"IF(K1629>0, K1627/K1629, 0)","v":0},null,{"$f":"ROUND(M1629*L1627,0)","v":0},0,{"$f":"N1627-O1627","v":0},0,0,0,324,998,1618,0,0,1618,324,998,1618,0,0]
["03240998","0324","0998",1619,324,"",998,"",0,0,0,{"$f":"IF(K1629>0, K1628/K1629, 0)","v":0},null,{"$f":"ROUND(M1629*L1628,0)","v":0},0,{"$f":"N1628-O1628","v":0},0,0,0,324,998,1619,0,0,1619,324,998,1619,0,0]
["03240999","0324","0999",1620,324,"West Brookfield              ",999,"Total",6578698.0452731084,1,{"$f":"SUM(K1625:K1628)","v":7319484.2435350083},{"$f":"SUM(L1625:L1628)","v":1},{"$f":"VLOOKUP(E1629,town351,24)","v":3726177},{"$f":"SUM(N1625:N1628)","v":3726177},3584586,{"$f":"SUM(P1625:P1628)","v":141591},3.9499958991080142,465.36956521359997,480.97071871779997,324,999,1620,480.97071871779997,7319484.2435350083,1620,324,999,1620,480.97071871779997,7319484.2435350083]
["03250325","0325","0325",1621,325,"Westfield                    ",325,"Westfield",69264756.579999998,1,{"$f":"X1630","v":75008744.25999999},{"$f":"IF(K1634>0, K1630/K1634, 0)","v":1},null,{"$f":"ROUND(M1634*L1630,0)","v":32011961},30194266,{"$f":"N1630-O1630","v":1817695},6.02000061866051,4878,4849,325,325,1621,4849,75008744.25999999,1621,325,325,1621,4849,75008744.25999999]
["03250998","0325","0998",1622,325,"",998,"",0,0,0,{"$f":"IF(K1634>0, K1631/K1634, 0)","v":0},null,{"$f":"ROUND(M1634*L1631,0)","v":0},0,{"$f":"N1631-O1631","v":0},0,0,0,325,998,1622,0,0,1622,325,998,1622,0,0]
["03250998","0325","0998",1623,325,"",998,"",0,0,0,{"$f":"IF(K1634>0, K1632/K1634, 0)","v":0},null,{"$f":"ROUND(M1634*L1632,0)","v":0},0,{"$f":"N1632-O1632","v":0},0,0,0,325,998,1623,0,0,1623,325,998,1623,0,0]
["03250998","0325","0998",1624,325,"",998,"",0,0,0,{"$f":"IF(K1634>0, K1633/K1634, 0)","v":0},null,{"$f":"ROUND(M1634*L1633,0)","v":0},0,{"$f":"N1633-O1633","v":0},0,0,0,325,998,1624,0,0,1624,325,998,1624,0,0]
["03250999","0325","0999",1625,325,"Westfield                    ",999,"Total",69264756.579999998,1,{"$f":"SUM(K1630:K1633)","v":75008744.25999999},{"$f":"SUM(L1630:L1633)","v":1},{"$f":"VLOOKUP(E1634,town351,24)","v":32011961},{"$f":"SUM(N1630:N1633)","v":32011961},30194266,{"$f":"SUM(P1630:P1633)","v":1817695},6.02000061866051,4878,4849,325,999,1625,4849,75008744.25999999,1625,325,999,1625,4849,75008744.25999999]
["03260326","0326","0326",1626,326,"Westford                     ",326,"Westford",51138938.126499996,0.97365779332900115,{"$f":"X1635","v":56419497.774939992},{"$f":"IF(K1639>0, K1635/K1639, 0)","v":0.9722988443221372},null,{"$f":"ROUND(M1639*L1635,0)","v":42434964},40088937,{"$f":"N1635-O1635","v":2346027},5.8520558926269359,4491,4658,326,326,1626,4658,56419497.774939992,1626,326,326,1626,4658,56419497.774939992]
["03260852","0326","0852",1627,326,"Westford                     ",852,"Nashoba Valley",1383558.4599572876,2.6342206670998819E-2,1607412.4743201283,{"$f":"IF(K1639>0, K1636/K1639, 0)","v":2.7701155677862823E-2},null,{"$f":"ROUND(M1639*L1636,0)","v":1208988},1084602,{"$f":"N1636-O1636","v":124386},11.46835429032954,72.99999999808,79.000000000349999,326,852,1627,79.000000000349999,1607412.4743201283,1627,326,852,1627,79.000000000349999,1607412.4743201283]
["03260998","0326","0998",1628,326,"",998,"",0,0,0,{"$f":"IF(K1639>0, K1637/K1639, 0)","v":0},null,{"$f":"ROUND(M1639*L1637,0)","v":0},0,{"$f":"N1637-O1637","v":0},0,0,0,326,998,1628,0,0,1628,326,998,1628,0,0]
["03260998","0326","0998",1629,326,"",998,"",0,0,0,{"$f":"IF(K1639>0, K1638/K1639, 0)","v":0},null,{"$f":"ROUND(M1639*L1638,0)","v":0},0,{"$f":"N1638-O1638","v":0},0,0,0,326,998,1629,0,0,1629,326,998,1629,0,0]
["03260999","0326","0999",1630,326,"Westford                     ",999,"Total",52522496.586457282,1,{"$f":"SUM(K1635:K1638)","v":58026910.24926012},{"$f":"SUM(L1635:L1638)","v":1},{"$f":"VLOOKUP(E1639,town351,24)","v":43643952},{"$f":"SUM(N1635:N1638)","v":43643952},41173539,{"$f":"SUM(P1635:P1638)","v":2470413},6.0000016029712677,4563.9999999980801,4737.0000000003502,326,999,1630,4737.0000000003502,58026910.24926012,1630,326,999,1630,4737.0000000003502,58026910.24926012]
["03270327","0327","0327",1631,327,"Westhampton                  ",327,"Westhampton",1276796.4100000001,0.54457926027894632,{"$f":"X1640","v":1280165.0299999996},{"$f":"IF(K1644>0, K1640/K1644, 0)","v":0.52593716958583703},null,{"$f":"ROUND(M1644*L1640,0)","v":1028923},1028968,{"$f":"N1640-O1640","v":-45},-4.3733138445510456E-3,98,92,327,327,1631,92,1280165.0299999996,1631,327,327,1631,92,1280165.0299999996]
["03270683","0327","0683",1632,327,"Westhampton                  ",683,"Hampshire",1067759.2922241257,0.45542073972105357,1153899.5389828295,{"$f":"IF(K1644>0, K1641/K1644, 0)","v":0.47406283041416292},null,{"$f":"ROUND(M1644*L1641,0)","v":927438},860506,{"$f":"N1641-O1641","v":66932},7.7782142134976402,85.14026402479999,87.150259068799997,327,683,1632,87.150259068799997,1153899.5389828295,1632,327,683,1632,87.150259068799997,1153899.5389828295]
["03270998","0327","0998",1633,327,"",998,"",0,0,0,{"$f":"IF(K1644>0, K1642/K1644, 0)","v":0},null,{"$f":"ROUND(M1644*L1642,0)","v":0},0,{"$f":"N1642-O1642","v":0},0,0,0,327,998,1633,0,0,1633,327,998,1633,0,0]
["03270998","0327","0998",1634,327,"",998,"",0,0,0,{"$f":"IF(K1644>0, K1643/K1644, 0)","v":0},null,{"$f":"ROUND(M1644*L1643,0)","v":0},0,{"$f":"N1643-O1643","v":0},0,0,0,327,998,1634,0,0,1634,327,998,1634,0,0]
["03270999","0327","0999",1635,327,"Westhampton                  ",999,"Total",2344555.7022241261,0.99999999999999989,{"$f":"SUM(K1640:K1643)","v":2434064.5689828293},{"$f":"SUM(L1640:L1643)","v":1},{"$f":"VLOOKUP(E1644,town351,24)","v":1956361},{"$f":"SUM(N1640:N1643)","v":1956361},1889474,{"$f":"SUM(P1640:P1643)","v":66887},3.5399799097526614,183.14026402479999,179.15025906879998,327,999,1635,179.15025906879998,2434064.5689828293,1635,327,999,1635,179.15025906879998,2434064.5689828293]
["03280328","0328","0328",1636,328,"Westminster                  ",328,"Westminster",0,0,{"$f":"X1645","v":0},{"$f":"IF(K1649>0, K1645/K1649, 0)","v":0},null,{"$f":"ROUND(M1649*L1645,0)","v":0},0,{"$f":"N1645-O1645","v":0},0,0,0,328,328,1636,0,0,1636,328,328,1636,0,0]
["03280610","0328","0610",1637,328,"Westminster                  ",610,"Ashburnham Westminster",14636059.867650494,0.91320404388858811,16042876.906395076,{"$f":"IF(K1649>0, K1646/K1649, 0)","v":0.91494205097581172},null,{"$f":"ROUND(M1649*L1646,0)","v":8297014},7807347,{"$f":"N1646-O1646","v":489667},6.2718744280227332,1215.84615384268,1234.8953037398601,328,610,1637,1234.8953037398601,16042876.906395076,1637,328,610,1637,1234.8953037398601,16042876.906395076]
["03280832","0328","0832",1638,328,"Westminster                  ",832,"Montachusett",1391091.9672532401,8.6795956111411957E-2,1491432.3859638162,{"$f":"IF(K1649>0, K1647/K1649, 0)","v":8.5057949024188437E-2},null,{"$f":"ROUND(M1649*L1647,0)","v":771335},742053,{"$f":"N1647-O1647","v":29282},3.9460793231750291,73.049795364510004,74.101161996749994,328,832,1638,74.101161996749994,1491432.3859638162,1638,328,832,1638,74.101161996749994,1491432.3859638162]
["03280998","0328","0998",1639,328,"",998,"",0,0,0,{"$f":"IF(K1649>0, K1648/K1649, 0)","v":0},null,{"$f":"ROUND(M1649*L1648,0)","v":0},0,{"$f":"N1648-O1648","v":0},0,0,0,328,998,1639,0,0,1639,328,998,1639,0,0]
["03280999","0328","0999",1640,328,"Westminster                  ",999,"Total",16027151.834903734,1,{"$f":"SUM(K1645:K1648)","v":17534309.29235889},{"$f":"SUM(L1645:L1648)","v":1.0000000000000002},{"$f":"VLOOKUP(E1649,town351,24)","v":9068349},{"$f":"SUM(N1645:N1648)","v":9068349},8549400,{"$f":"SUM(P1645:P1648)","v":518949},6.0700049126254472,1288.8959492071899,1308.9964657366102,328,999,1640,1308.9964657366102,17534309.29235889,1640,328,999,1640,1308.9964657366102,17534309.29235889]
["03290329","0329","0329",1641,329,"West Newbury                 ",329,"West Newbury",31395.420000000002,4.4389604202638632E-3,{"$f":"X1650","v":32981.520000000004},{"$f":"IF(K1654>0, K1650/K1654, 0)","v":4.4947066743438666E-3},null,{"$f":"ROUND(M1654*L1650,0)","v":26579},25174,{"$f":"N1650-O1650","v":1405},5.5811551600858031,2,2,329,329,1641,2,32981.520000000004,1641,329,329,1641,2,32981.520000000004]
["03290745","0329","0745",1642,329,"West Newbury                 ",745,"Pentucket",6767611.7192271128,0.95686442676552919,7034482.7592268055,{"$f":"IF(K1654>0, K1651/K1654, 0)","v":0.95865613860287746},null,{"$f":"ROUND(M1654*L1651,0)","v":5668857},5426548,{"$f":"N1651-O1651","v":242309},4.4652512057388973,588.74836459500011,575.18458245247996,329,745,1642,575.18458245247996,7034482.7592268055,1642,329,745,1642,575.18458245247996,7034482.7592268055]
["03290885","0329","0885",1643,329,"West Newbury                 ",885,"Whittier",273689.39951196819,3.8696612814206999E-2,270393.87028516945,{"$f":"IF(K1654>0, K1652/K1654, 0)","v":3.6849154722778714E-2},null,{"$f":"ROUND(M1654*L1652,0)","v":217901},219455,{"$f":"N1652-O1652","v":-1554},-0.70811783736984801,13.99999999508,12.999999998250001,329,885,1643,12.999999998250001,270393.87028516945,1643,329,885,1643,12.999999998250001,270393.87028516945]
["03290998","0329","0998",1644,329,"",998,null,0,0,0,{"$f":"IF(K1654>0, K1653/K1654, 0)","v":0},null,{"$f":"ROUND(M1654*L1653,0)","v":0},0,{"$f":"N1653-O1653","v":0},0,0,0,329,998,1644,0,0,1644,329,998,1644,0,0]
["03290999","0329","0999",1645,329,"West Newbury                 ",999,"Total",7072696.5387390805,1,{"$f":"SUM(K1650:K1653)","v":7337858.1495119743},{"$f":"SUM(L1650:L1653)","v":1},{"$f":"VLOOKUP(E1654,town351,24)","v":5913337},{"$f":"SUM(N1650:N1653)","v":5913337},5671177,{"$f":"SUM(P1650:P1653)","v":242160},4.2700130854670908,604.74836459008009,590.18458245072998,329,999,1645,590.18458245072998,7337858.1495119743,1645,329,999,1645,590.18458245072998,7337858.1495119743]
["03300330","0330","0330",1646,330,"Weston                       ",330,"Weston",23331116.658349998,1,{"$f":"X1655","v":25392258.954960003},{"$f":"IF(K1659>0, K1655/K1659, 0)","v":1},null,{"$f":"ROUND(M1659*L1655,0)","v":20948614},19248171,{"$f":"N1655-O1655","v":1700443},8.8343095040043025,1965,2010,330,330,1646,2010,25392258.954960003,1646,330,330,1646,2010,25392258.954960003]
["03300830","0330","0830",1647,330,null,998,null,0,0,0,{"$f":"IF(K1659>0, K1656/K1659, 0)","v":0},null,{"$f":"ROUND(M1659*L1656,0)","v":0},0,{"$f":"N1656-O1656","v":0},0,0,0,330,998,1647,0,0,1647,330,998,1647,0,0]
["03300998","0330","0998",1648,330,"",998,"",0,0,0,{"$f":"IF(K1659>0, K1657/K1659, 0)","v":0},null,{"$f":"ROUND(M1659*L1657,0)","v":0},0,{"$f":"N1657-O1657","v":0},0,0,0,330,998,1648,0,0,1648,330,998,1648,0,0]
["03300998","0330","0998",1649,330,"",998,"",0,0,0,{"$f":"IF(K1659>0, K1658/K1659, 0)","v":0},null,{"$f":"ROUND(M1659*L1658,0)","v":0},0,{"$f":"N1658-O1658","v":0},0,0,0,330,998,1649,0,0,1649,330,998,1649,0,0]
["03300999","0330","0999",1650,330,"Weston                       ",999,"Total",23331116.658349998,1,{"$f":"SUM(K1655:K1658)","v":25392258.954960003},{"$f":"SUM(L1655:L1658)","v":1},{"$f":"VLOOKUP(E1659,town351,24)","v":20948614},{"$f":"SUM(N1655:N1658)","v":20948614},19248171,{"$f":"SUM(P1655:P1658)","v":1700443},8.8343095040043025,1965,2010,330,999,1650,2010,25392258.954960003,1650,330,999,1650,2010,25392258.954960003]
["03310331","0331","0331",1651,331,"Westport                     ",331,"Westport",19394381.850000001,0.87448661675417716,{"$f":"X1660","v":20926189.139999997},{"$f":"IF(K1664>0, K1660/K1664, 0)","v":0.86805239873403306},null,{"$f":"ROUND(M1664*L1660,0)","v":15677019},14765539,{"$f":"N1660-O1660","v":911480},6.1730221971578549,1543,1560,331,331,1651,1560,20926189.139999997,1651,331,331,1651,1560,20926189.139999997]
["03310821","0331","0821",1652,331,"Westport                     ",821,"Greater Fall River",2250732.0811288427,0.10148480617063078,2488546.1733393492,{"$f":"IF(K1664>0, K1661/K1664, 0)","v":0.10322894726199637},null,{"$f":"ROUND(M1664*L1661,0)","v":1864314},1713552,{"$f":"N1661-O1661","v":150762},8.7982156362923334,112.99999999473,116.99999999649999,331,821,1652,116.99999999649999,2488546.1733393492,1652,331,821,1652,116.99999999649999,2488546.1733393492]
["03310910","0331","0910",1653,331,"Westport                     ",910,"Bristol County",532906.26772328373,2.4028577075192015E-2,692322.24507387273,{"$f":"IF(K1664>0, K1662/K1664, 0)","v":2.8718654003970567E-2},null,{"$f":"ROUND(M1664*L1662,0)","v":518659},405718,{"$f":"N1662-O1662","v":112941},27.837315573871507,27.999999999019998,33.999999999090001,331,910,1653,33.999999999090001,692322.24507387273,1653,331,910,1653,33.999999999090001,692322.24507387273]
["03310998","0331","0998",1654,331,"",998,"",0,0,0,{"$f":"IF(K1664>0, K1663/K1664, 0)","v":0},null,{"$f":"ROUND(M1664*L1663,0)","v":0},0,{"$f":"N1663-O1663","v":0},0,0,0,331,998,1654,0,0,1654,331,998,1654,0,0]
["03310999","0331","0999",1655,331,"Westport                     ",999,"Total",22178020.198852129,1,{"$f":"SUM(K1660:K1663)","v":24107057.558413219},{"$f":"SUM(L1660:L1663)","v":1},{"$f":"VLOOKUP(E1664,town351,24)","v":18059992},{"$f":"SUM(N1660:N1663)","v":18059992},16884809,{"$f":"SUM(P1660:P1663)","v":1175183},6.9600017388411084,1683.99999999375,1710.9999999955901,331,999,1655,1710.9999999955901,24107057.558413219,1655,331,999,1655,1710.9999999955901,24107057.558413219]
["03320332","0332","0332",1656,332,"West Springfield             ",332,"West Springfield",57525467.20000001,1,{"$f":"X1665","v":63567924.089999989},{"$f":"IF(K1669>0, K1665/K1669, 0)","v":1},null,{"$f":"ROUND(M1669*L1665,0)","v":22906588},21830351,{"$f":"N1665-O1665","v":1076237},4.9300031868475225,3919,3982,332,332,1656,3982,63567924.089999989,1656,332,332,1656,3982,63567924.089999989]
["03320998","0332","0998",1657,332,"",998,"",0,0,0,{"$f":"IF(K1669>0, K1666/K1669, 0)","v":0},null,{"$f":"ROUND(M1669*L1666,0)","v":0},0,{"$f":"N1666-O1666","v":0},0,0,0,332,998,1657,0,0,1657,332,998,1657,0,0]
["03320998","0332","0998",1658,332,"",998,"",0,0,0,{"$f":"IF(K1669>0, K1667/K1669, 0)","v":0},null,{"$f":"ROUND(M1669*L1667,0)","v":0},0,{"$f":"N1667-O1667","v":0},0,0,0,332,998,1658,0,0,1658,332,998,1658,0,0]
["03320998","0332","0998",1659,332,"",998,"",0,0,0,{"$f":"IF(K1669>0, K1668/K1669, 0)","v":0},null,{"$f":"ROUND(M1669*L1668,0)","v":0},0,{"$f":"N1668-O1668","v":0},0,0,0,332,998,1659,0,0,1659,332,998,1659,0,0]
["03320999","0332","0999",1660,332,"West Springfield             ",999,"Total",57525467.20000001,1,{"$f":"SUM(K1665:K1668)","v":63567924.089999989},{"$f":"SUM(L1665:L1668)","v":1},{"$f":"VLOOKUP(E1669,town351,24)","v":22906588},{"$f":"SUM(N1665:N1668)","v":22906588},21830351,{"$f":"SUM(P1665:P1668)","v":1076237},4.9300031868475225,3919,3982,332,999,1660,3982,63567924.089999989,1660,332,999,1660,3982,63567924.089999989]
["03330333","0333","0333",1661,333,"West Stockbridge             ",333,"West Stockbridge",0,0,{"$f":"X1670","v":0},{"$f":"IF(K1674>0, K1670/K1674, 0)","v":0},null,{"$f":"ROUND(M1674*L1670,0)","v":0},0,{"$f":"N1670-O1670","v":0},0,0,0,333,333,1661,0,0,1661,333,333,1661,0,0]
["03330618","0333","0618",1662,333,"West Stockbridge             ",618,"Berkshire Hills",1637862.7614520895,1,1649454.7968369587,{"$f":"IF(K1674>0, K1671/K1674, 0)","v":1},null,{"$f":"ROUND(M1674*L1671,0)","v":1360800},1310375,{"$f":"N1671-O1671","v":50425},3.8481350758370696,114.89289501659999,107.94279660767999,333,618,1662,107.94279660767999,1649454.7968369587,1662,333,618,1662,107.94279660767999,1649454.7968369587]
["03330998","0333","0998",1663,333,"",998,"",0,0,0,{"$f":"IF(K1674>0, K1672/K1674, 0)","v":0},null,{"$f":"ROUND(M1674*L1672,0)","v":0},0,{"$f":"N1672-O1672","v":0},0,0,0,333,998,1663,0,0,1663,333,998,1663,0,0]
["03330998","0333","0998",1664,333,"",998,"",0,0,0,{"$f":"IF(K1674>0, K1673/K1674, 0)","v":0},null,{"$f":"ROUND(M1674*L1673,0)","v":0},0,{"$f":"N1673-O1673","v":0},0,0,0,333,998,1664,0,0,1664,333,998,1664,0,0]
[{"$f":"B1674&C1674","v":"03330999"},"0333","0999",1665,333,"West Stockbridge             ",999,"Total",1637862.7614520895,1,{"$f":"SUM(K1670:K1673)","v":1649454.7968369587},{"$f":"SUM(L1670:L1673)","v":1},{"$f":"VLOOKUP(E1674,town351,24)","v":1360800},{"$f":"SUM(N1670:N1673)","v":1360800},1310375,{"$f":"SUM(P1670:P1673)","v":50425},3.8481350758370696,114.89289501659999,107.94279660767999,{"$f":"VLOOKUP($D1674, foundoptions, VLOOKUP($T$6, foundoptcell, 2, FALSE), FALSE)","v":333},{"$f":"VLOOKUP($D1674, foundoptions, VLOOKUP($T$6, foundoptcell, 2, FALSE)+1, FALSE)","v":999},{"$f":"VLOOKUP($D1674, foundoptions, VLOOKUP($T$6, foundoptcell, 2, FALSE)+2, FALSE)","v":1665},{"$f":"VLOOKUP($D1674, foundoptions, VLOOKUP($T$6, foundoptcell, 2, FALSE)+3, FALSE)","v":107.94279660767999},{"$f":"VLOOKUP($D1674, foundoptions, VLOOKUP($T$6, foundoptcell, 2, FALSE)+4, FALSE)","v":1649454.7968369587},1665,333,999,1665,107.94279660767999,1649454.7968369587]
["03340334","0334","0334",1666,334,"West Tisbury                 ",334,"West Tisbury",0,0,{"$f":"X1675","v":0},{"$f":"IF(K1679>0, K1675/K1679, 0)","v":0},null,{"$f":"ROUND(M1679*L1675,0)","v":0},0,{"$f":"N1675-O1675","v":0},0,0,{"$f":"W1675","v":0},334,334,1666,0,0,{"$f":"D1675","v":1666},334,334,1666,0,0]
["03340700","0334","0700",1667,334,"West Tisbury                 ",700,"Marthas Vineyard",1659105.5264093063,0.31419606258145011,2152529.6985851675,{"$f":"IF(K1679>0, K1676/K1679, 0)","v":0.35208843656689148},null,{"$f":"ROUND(M1679*L1676,0)","v":1775837},1368762,{"$f":"N1676-O1676","v":407075},29.740378531841181,106.99999999650001,120.00000000391999,334,700,1667,120.00000000391999,2152529.6985851675,1667,334,700,1667,120.00000000391999,2152529.6985851675]
["03340774","0334","0774",1668,334,"West Tisbury                 ",774,"Upisland",3621372.888176844,0.68580393741854995,3961075.5068962672,{"$f":"IF(K1679>0, K1677/K1679, 0)","v":0.64791156343310863},null,{"$f":"ROUND(M1679*L1677,0)","v":3267887},2987633,{"$f":"N1677-O1677","v":280254},9.3804694217797167,289.84236453198002,295.13461538619998,334,774,1668,295.13461538619998,3961075.5068962672,1668,334,774,1668,295.13461538619998,3961075.5068962672]
["03340998","0334","0998",1669,334,"",998,"",0,0,0,{"$f":"IF(K1679>0, K1678/K1679, 0)","v":0},null,{"$f":"ROUND(M1679*L1678,0)","v":0},0,{"$f":"N1678-O1678","v":0},0,0,0,334,998,1669,0,0,1669,334,998,1669,0,0]
["03340999","0334","0999",1670,334,"West Tisbury                 ",999,"Total",5280478.4145861501,1,{"$f":"SUM(K1675:K1678)","v":6113605.2054814342},{"$f":"SUM(L1675:L1678)","v":1},{"$f":"VLOOKUP(E1679,town351,24)","v":5043724},{"$f":"SUM(N1675:N1678)","v":5043724},4356395,{"$f":"SUM(P1675:P1678)","v":687329},15.777471969369168,396.84236452848006,415.13461539011996,334,999,1670,415.13461539011996,6113605.2054814342,1670,334,999,1670,415.13461539011996,6113605.2054814342]
["03350335","0335","0335",1671,335,"Westwood                     ",335,"Westwood",33902334.173579998,0.99052072470631114,{"$f":"X1680","v":36039140.915650003},{"$f":"IF(K1684>0, K1680/K1684, 0)","v":0.98929966250280421},null,{"$f":"ROUND(M1684*L1680,0)","v":28969675},27895202,{"$f":"N1680-O1680","v":1074473},{"$f":"IF(O1680>0,P1680*100/O1680,IF(P1680>0,100,0))","v":3.8518201087054327},2890,2893,335,335,1671,2893,36039140.915650003,1671,335,335,1671,2893,36039140.915650003]
["03350806","0335","0806",1672,335,"Westwood                     ",806,"Blue Hills",122670.65693195134,3.5840549320974614E-3,174535.15414376839,{"$f":"IF(K1684>0, K1681/K1684, 0)","v":4.7911122380368413E-3},null,{"$f":"ROUND(M1684*L1681,0)","v":140298},100935,{"$f":"N1681-O1681","v":39363},{"$f":"IF(O1681>0,P1681*100/O1681,IF(P1681>0,100,0))","v":38.998365284589092},6.0000000011100001,8.0000000012499992,335,806,1672,8.0000000012499992,174535.15414376839,1672,335,806,1672,8.0000000012499992,174535.15414376839]
["03350915","0335","0915",1673,335,"Westwood                     ",915,"Norfolk County",201774.40586598936,5.895220361591411E-3,215266.8295452357,{"$f":"IF(K1684>0, K1682/K1684, 0)","v":5.9092252591590204E-3},null,{"$f":"ROUND(M1684*L1682,0)","v":173040},166022,{"$f":"N1682-O1682","v":7018},{"$f":"IF(O1682>0,P1682*100/O1682,IF(P1682>0,100,0))","v":4.2271506185927166},9.9999999986399999,10.0000000001,335,915,1673,10.0000000001,215266.8295452357,1673,335,915,1673,10.0000000001,215266.8295452357]
["03350998","0335","0998",1674,335,"",998,"",0,0,0,{"$f":"IF(K1684>0, K1683/K1684, 0)","v":0},null,{"$f":"ROUND(M1684*L1683,0)","v":0},0,{"$f":"N1683-O1683","v":0},{"$f":"IF(O1683>0,P1683*100/O1683,IF(P1683>0,100,0))","v":0},0,0,335,998,1674,0,0,1674,335,998,1674,0,0]
["03350999","0335","0999",1675,335,"Westwood                     ",999,"Total",34226779.23637794,1,{"$f":"SUM(K1680:K1683)","v":36428942.899339005},{"$f":"SUM(L1680:L1683)","v":1},{"$f":"VLOOKUP(E1684,town351,24)","v":29283013},{"$f":"SUM(N1680:N1683)","v":29283013},28162159,{"$f":"SUM(P1680:P1683)","v":1120854},{"$f":"IF(O1684>0,P1684*100/O1684,IF(P1684>0,100,0))","v":3.9800002549520439},2905.9999999997499,2911.0000000013501,335,999,1675,2911.0000000013501,36428942.899339005,1675,335,999,1675,2911.0000000013501,36428942.899339005]
["03360336","0336","0336",1676,336,"Weymouth                     ",336,"Weymouth",83362016.189649999,0.99374616124704007,{"$f":"X1685","v":89980250.507149994},{"$f":"IF(K1689>0, K1685/K1689, 0)","v":0.99358203401849798},null,{"$f":"ROUND(M1689*L1685,0)","v":65671537},62293612,{"$f":"N1685-O1685","v":3377925},5.4225865085492231,5885,5863,336,336,1676,5863,89980250.507149994,1676,336,336,1676,5863,89980250.507149994]
["03360915","0336","0915",1677,336,"Weymouth                     ",915,"Norfolk County",524613.45532897301,6.2538387529600045E-3,581220.43977213639,{"$f":"IF(K1689>0, K1686/K1689, 0)","v":6.4179659815020934E-3},null,{"$f":"ROUND(M1689*L1686,0)","v":424200},392026,{"$f":"N1686-O1686","v":32174},8.2071087121772539,26.000000000300002,27.000000000269999,336,915,1677,27.000000000269999,581220.43977213639,1677,336,915,1677,27.000000000269999,581220.43977213639]
["03360998","0336","0998",1678,336,"",998,"",0,0,0,{"$f":"IF(K1689>0, K1687/K1689, 0)","v":0},null,{"$f":"ROUND(M1689*L1687,0)","v":0},0,{"$f":"N1687-O1687","v":0},0,0,0,336,998,1678,0,0,1678,336,998,1678,0,0]
["03360998","0336","0998",1679,336,"",998,"",0,0,0,{"$f":"IF(K1689>0, K1688/K1689, 0)","v":0},null,{"$f":"ROUND(M1689*L1688,0)","v":0},0,{"$f":"N1688-O1688","v":0},0,0,0,336,998,1679,0,0,1679,336,998,1679,0,0]
["03360999","0336","0999",1680,336,"Weymouth                     ",999,"Total",83886629.64497897,1,{"$f":"SUM(K1685:K1688)","v":90561470.946922123},{"$f":"SUM(L1685:L1688)","v":1},{"$f":"VLOOKUP(E1689,town351,24)","v":66095737},{"$f":"SUM(N1685:N1688)","v":66095737},62685638,{"$f":"SUM(P1685:P1688)","v":3410099},5.4400004670926378,5911.0000000003001,5890.0000000002701,336,999,1680,5890.0000000002701,90561470.946922123,1680,336,999,1680,5890.0000000002701,90561470.946922123]
["03370337","0337","0337",1681,337,"Whately                      ",337,"Whately",966975.82,0.46380709246569696,{"$f":"X1690","v":1127263.1800000002},{"$f":"IF(K1694>0, K1690/K1694, 0)","v":0.48389222278773575},null,{"$f":"ROUND(M1694*L1690,0)","v":797920},730678,{"$f":"N1690-O1690","v":67242},9.2026857247652174,77,85,337,337,1681,85,1127263.1800000002,1681,337,337,1681,85,1127263.1800000002]
["03370670","0337","0670",1682,337,"Whately                      ",670,"Frontier",857052.70341231697,0.41108279466546749,732421.1329079537,{"$f":"IF(K1694>0, K1691/K1694, 0)","v":0.31440119424422369},null,{"$f":"ROUND(M1694*L1691,0)","v":518436},647616,{"$f":"N1691-O1691","v":-129180},-19.947005632967684,65.126459144549997,52.106776181599997,337,670,1682,52.106776181599997,732421.1329079537,1682,337,670,1682,52.106776181599997,732421.1329079537]
["03370818","0337","0818",1683,337,"Whately                      ",818,"Franklin County",260837.8697671215,0.1251101128688355,469890.59430126089,{"$f":"IF(K1694>0, K1692/K1694, 0)","v":0.20170658296804056},null,{"$f":"ROUND(M1694*L1692,0)","v":332606},197097,{"$f":"N1692-O1692","v":135509},68.752441691146998,13.00000000026,22.0000000024,337,818,1683,22.0000000024,469890.59430126089,1683,337,818,1683,22.0000000024,469890.59430126089]
["03370998","0337","0998",1684,337,"",998,"",0,0,0,{"$f":"IF(K1694>0, K1693/K1694, 0)","v":0},null,{"$f":"ROUND(M1694*L1693,0)","v":0},0,{"$f":"N1693-O1693","v":0},0,0,0,337,998,1684,0,0,1684,337,998,1684,0,0]
["03370999","0337","0999",1685,337,"Whately                      ",999,"Total",2084866.3931794385,1,{"$f":"SUM(K1690:K1693)","v":2329574.9072092148},{"$f":"SUM(L1690:L1693)","v":1},{"$f":"VLOOKUP(E1694,town351,24)","v":1648962},{"$f":"SUM(N1690:N1693)","v":1648962},1575391,{"$f":"SUM(P1690:P1693)","v":73571},4.6700152533561505,155.12645914480998,159.10677618400001,337,999,1685,159.10677618400001,2329574.9072092148,1685,337,999,1685,159.10677618400001,2329574.9072092148]
["03380338","0338","0338",1686,338,"Whitman                      ",338,"Whitman",249187.29,8.6374092415626973E-3,{"$f":"X1695","v":245151},{"$f":"IF(K1699>0, K1695/K1699, 0)","v":7.5409924131076217E-3},null,{"$f":"ROUND(M1699*L1695,0)","v":105688},115290,{"$f":"N1695-O1695","v":-9602},-8.3285627547922623,14,13,338,338,1686,13,245151,1686,338,338,1686,13,245151]
["03380780","0338","0780",1687,338,"Whitman                      ",780,"Whitman Hanson",25868188.605465736,0.89665139551594553,29120554.474057086,{"$f":"IF(K1699>0, K1696/K1699, 0)","v":0.89576579477282048},null,{"$f":"ROUND(M1699*L1696,0)","v":12554297},11968294,{"$f":"N1696-O1696","v":586003},4.8962951611984131,2086.20660695584,2179.6932006507,338,780,1687,2179.6932006507,29120554.474057086,1687,338,780,1687,2179.6932006507,29120554.474057086]
["03380873","0338","0873",1688,338,"Whitman                      ",873,"South Shore",2732396.4183116001,9.4711195242491816E-2,3143410.9088055701,{"$f":"IF(K1699>0, K1697/K1699, 0)","v":9.6693212814071894E-2},null,{"$f":"ROUND(M1699*L1697,0)","v":1355170},1264183,{"$f":"N1697-O1697","v":90987},7.1972965939266702,139.99999999855001,151.00000000200001,338,873,1688,151.00000000200001,3143410.9088055701,1688,338,873,1688,151.00000000200001,3143410.9088055701]
["03380998","0338","0998",1689,338,"",998,"",0,0,0,{"$f":"IF(K1699>0, K1698/K1699, 0)","v":0},null,{"$f":"ROUND(M1699*L1698,0)","v":0},0,{"$f":"N1698-O1698","v":0},0,0,0,338,998,1689,0,0,1689,338,998,1689,0,0]
["03380999","0338","0999",1690,338,"Whitman                      ",999,"Total",28849772.313777335,1,{"$f":"SUM(K1695:K1698)","v":32509116.382862657},{"$f":"SUM(L1695:L1698)","v":1},{"$f":"VLOOKUP(E1699,town351,24)","v":14015156},{"$f":"SUM(N1695:N1698)","v":14015155},13347767,{"$f":"SUM(P1695:P1698)","v":667388},4.9999973778385556,2240.2066069543898,2343.6932006526999,338,999,1690,2343.6932006526999,32509116.382862657,1690,338,999,1690,2343.6932006526999,32509116.382862657]
["03390339","0339","0339",1691,339,"Wilbraham                    ",339,"Wilbraham",0,0,{"$f":"X1700","v":0},{"$f":"IF(K1704>0, K1700/K1704, 0)","v":0},null,{"$f":"ROUND(M1704*L1700,0)","v":0},0,{"$f":"N1700-O1700","v":0},0,0,0,339,339,1691,0,0,1691,339,339,1691,0,0]
["03390680","0339","0680",1692,339,"Wilbraham                    ",680,"Hampden Wilbraham",27447426.55160559,1,28742205.408949632,{"$f":"IF(K1704>0, K1701/K1704, 0)","v":1},null,{"$f":"ROUND(M1704*L1701,0)","v":18231525},17331994,{"$f":"N1701-O1701","v":899531},5.1900029506126071,2269.2512144254501,2235.9702865200798,339,680,1692,2235.9702865200798,28742205.408949632,1692,339,680,1692,2235.9702865200798,28742205.408949632]
["03390998","0339","0998",1693,339,"",998,"",0,0,0,{"$f":"IF(K1704>0, K1702/K1704, 0)","v":0},null,{"$f":"ROUND(M1704*L1702,0)","v":0},0,{"$f":"N1702-O1702","v":0},0,0,0,339,998,1693,0,0,1693,339,998,1693,0,0]
["03390998","0339","0998",1694,339,"",998,"",0,0,0,{"$f":"IF(K1704>0, K1703/K1704, 0)","v":0},null,{"$f":"ROUND(M1704*L1703,0)","v":0},0,{"$f":"N1703-O1703","v":0},0,0,0,339,998,1694,0,0,1694,339,998,1694,0,0]
["03390999","0339","0999",1695,339,"Wilbraham                    ",999,"Total",27447426.55160559,1,{"$f":"SUM(K1700:K1703)","v":28742205.408949632},{"$f":"SUM(L1700:L1703)","v":1},{"$f":"VLOOKUP(E1704,town351,24)","v":18231525},{"$f":"SUM(N1700:N1703)","v":18231525},17331994,{"$f":"SUM(P1700:P1703)","v":899531},5.1900029506126071,2269.2512144254501,2235.9702865200798,339,999,1695,2235.9702865200798,28742205.408949632,1695,339,999,1695,2235.9702865200798,28742205.408949632]
["03400340","0340","0340",1696,340,"Williamsburg                 ",340,"Williamsburg",2178719.5099999998,0.61190951066463783,{"$f":"X1705","v":2130357.6900000004},{"$f":"IF(K1709>0, K1705/K1709, 0)","v":0.58488325172131073},null,{"$f":"ROUND(M1709*L1705,0)","v":1343356},1344523,{"$f":"N1705-O1705","v":-1167},-8.6796581389831193E-2,172,154,340,340,1696,154,2130357.6900000004,1696,340,340,1696,154,2130357.6900000004]
["03400683","0340","0683",1697,340,"Williamsburg                 ",683,"Hampshire",1381806.1429409715,0.38809048933536217,1512006.2924364267,{"$f":"IF(K1709>0, K1706/K1709, 0)","v":0.41511674827868938},null,{"$f":"ROUND(M1709*L1706,0)","v":953438},852735,{"$f":"N1706-O1706","v":100703},11.809413240924789,110.18151815474,114.19689119179999,340,683,1697,114.19689119179999,1512006.2924364267,1697,340,683,1697,114.19689119179999,1512006.2924364267]
["03400998","0340","0998",1698,340,"",998,"",0,0,0,{"$f":"IF(K1709>0, K1707/K1709, 0)","v":0},null,{"$f":"ROUND(M1709*L1707,0)","v":0},0,{"$f":"N1707-O1707","v":0},0,0,0,340,998,1698,0,0,1698,340,998,1698,0,0]
["03400998","0340","0998",1699,340,"",998,"",0,0,0,{"$f":"IF(K1709>0, K1708/K1709, 0)","v":0},null,{"$f":"ROUND(M1709*L1708,0)","v":0},0,{"$f":"N1708-O1708","v":0},0,0,0,340,998,1699,0,0,1699,340,998,1699,0,0]
["03400999","0340","0999",1700,340,"Williamsburg                 ",999,"Total",3560525.6529409713,1,{"$f":"SUM(K1705:K1708)","v":3642363.9824364269},{"$f":"SUM(L1705:L1708)","v":1},{"$f":"VLOOKUP(E1709,town351,24)","v":2296794},{"$f":"SUM(N1705:N1708)","v":2296794},2197258,{"$f":"SUM(P1705:P1708)","v":99536},4.5300096756957986,282.18151815473999,268.19689119179998,340,999,1700,268.19689119179998,3642363.9824364269,1700,340,999,1700,268.19689119179998,3642363.9824364269]
["03410341","0341","0341",1701,341,"Williamstown                 ",341,"Williamstown",0,0,{"$f":"X1710","v":0},{"$f":"IF(K1714>0, K1710/K1714, 0)","v":0},null,{"$f":"ROUND(M1714*L1710,0)","v":0},0,{"$f":"N1710-O1710","v":0},0,0,0,341,341,1701,0,0,1701,341,341,1701,0,0]
["03410715","0341","0715",1702,341,"Williamstown                 ",715,"Mount Greylock",8426284.0845070928,0.95465981335351113,9536003.5327481683,{"$f":"IF(K1714>0, K1711/K1714, 0)","v":0.9657182670241683},null,{"$f":"ROUND(M1714*L1711,0)","v":6933905},6417475,{"$f":"N1711-O1711","v":516430},8.0472459962835856,695.22920517916009,723.02425876001996,341,715,1702,723.02425876001996,9536003.5327481683,1702,341,715,1702,723.02425876001996,9536003.5327481683]
["03410851","0341","0851",1703,341,"Williamstown                 ",851,"Northern Berkshire",400194.17156131711,4.5340186646488846E-2,338515.62917374156,{"$f":"IF(K1714>0, K1712/K1714, 0)","v":3.4281732975831827E-2},null,{"$f":"ROUND(M1714*L1712,0)","v":246145},304789,{"$f":"N1712-O1712","v":-58644},-19.24085186801361,19.999999997819998,15.99999999774,341,851,1703,15.99999999774,338515.62917374156,1703,341,851,1703,15.99999999774,338515.62917374156]
["03410998","0341","0998",1704,341,"",998,"",0,0,0,{"$f":"IF(K1714>0, K1713/K1714, 0)","v":0},null,{"$f":"ROUND(M1714*L1713,0)","v":0},0,{"$f":"N1713-O1713","v":0},0,0,0,341,998,1704,0,0,1704,341,998,1704,0,0]
["03410999","0341","0999",1705,341,"Williamstown                 ",999,"Total",8826478.2560684104,1,{"$f":"SUM(K1710:K1713)","v":9874519.1619219091},{"$f":"SUM(L1710:L1713)","v":1.0000000000000002},{"$f":"VLOOKUP(E1714,town351,24)","v":7180050},{"$f":"SUM(N1710:N1713)","v":7180050},6722264,{"$f":"SUM(P1710:P1713)","v":457786},6.8099973461321959,715.22920517698003,739.02425875775998,341,999,1705,739.02425875775998,9874519.1619219091,1705,341,999,1705,739.02425875775998,9874519.1619219091]
["03420342","0342","0342",1706,342,"Wilmington                   ",342,"Wilmington",34415669.88318,0.8588010480431123,{"$f":"X1715","v":36154606.173280001},{"$f":"IF(K1719>0, K1715/K1719, 0)","v":0.8565474734245635},null,{"$f":"ROUND(M1719*L1715,0)","v":28577249},27066348,{"$f":"N1715-O1715","v":1510901},5.5822122733366175,2842,2832,342,342,1706,2832,36154606.173280001,1706,342,342,1706,2832,36154606.173280001]
["03420871","0342","0871",1707,342,"Wilmington                   ",871,"Shawsheen Valley",5658419.408630359,0.14119895195688772,6055087.1537345843,{"$f":"IF(K1719>0, K1716/K1719, 0)","v":0.1434525265754365},null,{"$f":"ROUND(M1719*L1716,0)","v":4786050},4450088,{"$f":"N1716-O1716","v":335962},7.5495585705271449,310.99999999950001,313.99999999865003,342,871,1707,313.99999999865003,6055087.1537345843,1707,342,871,1707,313.99999999865003,6055087.1537345843]
["03420998","0342","0998",1708,342,"",998,null,0,0,0,{"$f":"IF(K1719>0, K1717/K1719, 0)","v":0},null,{"$f":"ROUND(M1719*L1717,0)","v":0},0,{"$f":"N1717-O1717","v":0},0,0,0,342,998,1708,0,0,1708,342,998,1708,0,0]
["03420998","0342","0998",1709,342,"",998,"",0,0,0,{"$f":"IF(K1719>0, K1718/K1719, 0)","v":0},null,{"$f":"ROUND(M1719*L1718,0)","v":0},0,{"$f":"N1718-O1718","v":0},0,0,0,342,998,1709,0,0,1709,342,998,1709,0,0]
["03420999","0342","0999",1710,342,"Wilmington                   ",999,"Total",40074089.291810356,1,{"$f":"SUM(K1715:K1718)","v":42209693.327014588},{"$f":"SUM(L1715:L1718)","v":1},{"$f":"VLOOKUP(E1719,town351,24)","v":33363299},{"$f":"SUM(N1715:N1718)","v":33363299},31516436,{"$f":"SUM(P1715:P1718)","v":1846863},5.8599995253270389,3152.9999999994998,3145.9999999986499,342,999,1710,3145.9999999986499,42209693.327014588,1710,342,999,1710,3145.9999999986499,42209693.327014588]
["03430343","0343","0343",1711,343,"Winchendon                   ",343,"Winchendon",18305278.439999994,0.89809290812642495,{"$f":"X1720","v":20130691.019999996},{"$f":"IF(K1724>0, K1720/K1724, 0)","v":0.90405669022309409},null,{"$f":"ROUND(M1724*L1720,0)","v":6129765},5813202,{"$f":"N1720-O1720","v":316563},5.4455874748546496,1297,1319,343,343,1711,1319,20130691.019999996,1711,343,343,1711,1319,20130691.019999996]
["03430832","0343","0832",1712,343,"Winchendon                   ",832,"Montachusett",2077109.9235691251,0.10190709187357505,2136376.1204824708,{"$f":"IF(K1724>0, K1721/K1724, 0)","v":9.5943309776905863E-2},null,{"$f":"ROUND(M1724*L1721,0)","v":650523},659627,{"$f":"N1721-O1721","v":-9104},-1.3801739467911411,109.07435197539,106.14490772745,343,832,1712,106.14490772745,2136376.1204824708,1712,343,832,1712,106.14490772745,2136376.1204824708]
["03430998","0343","0998",1713,343,"",998,"",0,0,0,{"$f":"IF(K1724>0, K1722/K1724, 0)","v":0},null,{"$f":"ROUND(M1724*L1722,0)","v":0},0,{"$f":"N1722-O1722","v":0},0,0,0,343,998,1713,0,0,1713,343,998,1713,0,0]
["03430998","0343","0998",1714,343,"",998,"",0,0,0,{"$f":"IF(K1724>0, K1723/K1724, 0)","v":0},null,{"$f":"ROUND(M1724*L1723,0)","v":0},0,{"$f":"N1723-O1723","v":0},0,0,0,343,998,1714,0,0,1714,343,998,1714,0,0]
["03430999","0343","0999",1715,343,"Winchendon                   ",999,"Total",20382388.363569118,1,{"$f":"SUM(K1720:K1723)","v":22267067.140482467},{"$f":"SUM(L1720:L1723)","v":1},{"$f":"VLOOKUP(E1724,town351,24)","v":6780288},{"$f":"SUM(N1720:N1723)","v":6780288},6472829,{"$f":"SUM(P1720:P1723)","v":307459},4.7499941679287367,1406.0743519753901,1425.1449077274501,343,999,1715,1425.1449077274501,22267067.140482467,1715,343,999,1715,1425.1449077274501,22267067.140482467]
["03440344","0344","0344",1716,344,"Winchester                   ",344,"Winchester",51185910.074539989,0.99334497629089591,{"$f":"X1725","v":53860981.504270002},{"$f":"IF(K1729>0, K1725/K1729, 0)","v":0.99447911813861112},null,{"$f":"ROUND(M1729*L1725,0)","v":43974784},42158204,{"$f":"N1725-O1725","v":1816580},4.308959651127453,4388,4346,344,344,1716,4346,53860981.504270002,1716,344,344,1716,4346,53860981.504270002]
["03440853","0344","0853",1717,344,"Winchester                   ",853,"Northeast Metropolitan",342925.62327146408,6.6550237091040831E-3,299010.91978693783,{"$f":"IF(K1729>0, K1726/K1729, 0)","v":5.5208818613889299E-3},null,{"$f":"ROUND(M1729*L1726,0)","v":244127},282444,{"$f":"N1726-O1726","v":-38317},-13.566229057795528,16.000000003419999,12.9999999979,344,853,1717,12.9999999979,299010.91978693783,1717,344,853,1717,12.9999999979,299010.91978693783]
["03440998","0344","0998",1718,344,"",998,"",0,0,0,{"$f":"IF(K1729>0, K1727/K1729, 0)","v":0},null,{"$f":"ROUND(M1729*L1727,0)","v":0},0,{"$f":"N1727-O1727","v":0},0,0,0,344,998,1718,0,0,1718,344,998,1718,0,0]
["03440998","0344","0998",1719,344,"",998,"",0,0,0,{"$f":"IF(K1729>0, K1728/K1729, 0)","v":0},null,{"$f":"ROUND(M1729*L1728,0)","v":0},0,{"$f":"N1728-O1728","v":0},0,0,0,344,998,1719,0,0,1719,344,998,1719,0,0]
["03440999","0344","0999",1720,344,"Winchester                   ",999,"Total",51528835.697811455,1,{"$f":"SUM(K1725:K1728)","v":54159992.42405694},{"$f":"SUM(L1725:L1728)","v":1},{"$f":"VLOOKUP(E1729,town351,24)","v":44218911},{"$f":"SUM(N1725:N1728)","v":44218911},42440648,{"$f":"SUM(P1725:P1728)","v":1778263},4.1899996437377673,4404.0000000034197,4358.9999999979,344,999,1720,4358.9999999979,54159992.42405694,1720,344,999,1720,4358.9999999979,54159992.42405694]
["03450345","0345","0345",1721,345,"Windsor                      ",345,"Windsor",62790.840000000004,6.9299214313119833E-2,{"$f":"X1730","v":65963.040000000008},{"$f":"IF(K1734>0, K1730/K1734, 0)","v":6.8252828171498137E-2},null,{"$f":"ROUND(M1734*L1730,0)","v":48534},46140,{"$f":"N1730-O1730","v":2394},5.1885565669700906,4,4,345,345,1721,4,65963.040000000008,1721,345,345,1721,4,65963.040000000008]
["03450635","0345","0635",1722,345,"Windsor                      ",635,"Central Berkshire",843292.15996429184,0.93070078568688019,900488.34036266268,{"$f":"IF(K1734>0, K1731/K1734, 0)","v":0.93174717182850186},null,{"$f":"ROUND(M1734*L1731,0)","v":662556},619675,{"$f":"N1731-O1731","v":42881},6.9199176987937223,62.91454663791,62.96171317412,345,635,1722,62.96171317412,900488.34036266268,1722,345,635,1722,62.96171317412,900488.34036266268]
["03450998","0345","0998",1723,345,"",998,"",0,0,0,{"$f":"IF(K1734>0, K1732/K1734, 0)","v":0},null,{"$f":"ROUND(M1734*L1732,0)","v":0},0,{"$f":"N1732-O1732","v":0},0,0,0,345,998,1723,0,0,1723,345,998,1723,0,0]
["03450998","0345","0998",1724,345,"",998,"",0,0,0,{"$f":"IF(K1734>0, K1733/K1734, 0)","v":0},null,{"$f":"ROUND(M1734*L1733,0)","v":0},0,{"$f":"N1733-O1733","v":0},0,0,0,345,998,1724,0,0,1724,345,998,1724,0,0]
["03450999","0345","0999",1725,345,"Windsor                      ",999,"Total",906082.99996429181,1,{"$f":"SUM(K1730:K1733)","v":966451.38036266272},{"$f":"SUM(L1730:L1733)","v":1},{"$f":"VLOOKUP(E1734,town351,24)","v":711090},{"$f":"SUM(N1730:N1733)","v":711090},665815,{"$f":"SUM(P1730:P1733)","v":45275},6.7999369194145522,66.914546637910007,66.961713174120007,345,999,1725,66.961713174120007,966451.38036266272,1725,345,999,1725,66.961713174120007,966451.38036266272]
["03460346","0346","0346",1726,346,"Winthrop                     ",346,"Winthrop",25999605.057999998,0.95062976864692628,{"$f":"X1735","v":28718694.131870005},{"$f":"IF(K1739>0, K1735/K1739, 0)","v":0.95342065268982135},null,{"$f":"ROUND(M1739*L1735,0)","v":18971710},17986284,{"$f":"N1735-O1735","v":985426},5.4787637068334964,1912,1957,346,346,1726,1957,28718694.131870005,1726,346,346,1726,1957,28718694.131870005]
["03460853","0346","0853",1727,346,"Winthrop                     ",853,"Northeast Metropolitan",1350269.6413862784,4.9370231353073737E-2,1403051.2392291934,{"$f":"IF(K1739>0, K1736/K1739, 0)","v":4.657934731017857E-2},null,{"$f":"ROUND(M1739*L1736,0)","v":926862},934104,{"$f":"N1736-O1736","v":-7242},-0.7752884047172478,63.000000002029999,61.000000000099995,346,853,1727,61.000000000099995,1403051.2392291934,1727,346,853,1727,61.000000000099995,1403051.2392291934]
["03460998","0346","0998",1728,346,"",998,null,0,0,0,{"$f":"IF(K1739>0, K1737/K1739, 0)","v":0},null,{"$f":"ROUND(M1739*L1737,0)","v":0},0,{"$f":"N1737-O1737","v":0},0,0,0,346,998,1728,0,0,1728,346,998,1728,0,0]
[{"$f":"B1738&C1738","v":"03460998"},"0346","0998",1729,346,"",998,"",0,0,0,{"$f":"IF(K1739>0, K1738/K1739, 0)","v":0},null,{"$f":"ROUND(M1739*L1738,0)","v":0},0,{"$f":"N1738-O1738","v":0},0,0,0,{"$f":"VLOOKUP($D1738, foundoptions, VLOOKUP($T$6, foundoptcell, 2, FALSE), FALSE)","v":346},{"$f":"VLOOKUP($D1738, foundoptions, VLOOKUP($T$6, foundoptcell, 2, FALSE)+1, FALSE)","v":998},{"$f":"VLOOKUP($D1738, foundoptions, VLOOKUP($T$6, foundoptcell, 2, FALSE)+2, FALSE)","v":1729},{"$f":"VLOOKUP($D1738, foundoptions, VLOOKUP($T$6, foundoptcell, 2, FALSE)+3, FALSE)","v":0},{"$f":"VLOOKUP($D1738, foundoptions, VLOOKUP($T$6, foundoptcell, 2, FALSE)+4, FALSE)","v":0},1729,346,998,1729,0,0]
["03460999","0346","0999",1730,346,"Winthrop                     ",999,"Total",27349874.699386276,1,{"$f":"SUM(K1735:K1738)","v":30121745.3710992},{"$f":"SUM(L1735:L1738)","v":0.99999999999999989},{"$f":"VLOOKUP(E1739,town351,24)","v":19898572},{"$f":"SUM(N1735:N1738)","v":19898572},18920388,{"$f":"SUM(P1735:P1738)","v":978184},5.1699996849958891,1975.00000000203,{"$f":"W1739","v":2018.0000000001},346,999,1730,2018.0000000001,30121745.3710992,{"$f":"D1739","v":1730},346,999,1730,2018.0000000001,30121745.3710992]
["03470347","0347","0347",1731,347,"Woburn",347,"Woburn",60994707.780599996,0.96051101157011898,{"$f":"X1740","v":65492150.344600007},{"$f":"IF(K1744>0, K1740/K1744, 0)","v":0.9592370360042487},null,{"$f":"ROUND(M1744*L1740,0)","v":51893336},48301038,{"$f":"N1740-O1740","v":3592298},7.4373101464196276,4398,4388,347,347,1731,4388,65492150.344600007,1731,347,347,1731,4388,65492150.344600007]
["03470853","0347","0853",1732,347,"Woburn",853,"Northeast Metropolitan",2507643.6197173744,3.9488988429881064E-2,2783101.6383831981,{"$f":"IF(K1744>0, K1741/K1744, 0)","v":4.076296399575139E-2},null,{"$f":"ROUND(M1744*L1741,0)","v":2205217},1985775,{"$f":"N1741-O1741","v":219442},11.050698090166307,117.00000000377001,120.99999999638,347,853,1732,120.99999999638,2783101.6383831981,1732,347,853,1732,120.99999999638,2783101.6383831981]
["03470998","0347","0998",1733,347,"",998,null,0,0,0,{"$f":"IF(K1744>0, K1742/K1744, 0)","v":0},null,{"$f":"ROUND(M1744*L1742,0)","v":0},0,{"$f":"N1742-O1742","v":0},0,0,0,347,998,1733,0,0,1733,347,998,1733,0,0]
["03470998","0347","0998",1734,347,"",998,"",0,0,0,{"$f":"IF(K1744>0, K1743/K1744, 0)","v":0},null,{"$f":"ROUND(M1744*L1743,0)","v":0},0,{"$f":"N1743-O1743","v":0},0,0,0,347,998,1734,0,0,1734,347,998,1734,0,0]
["03470999","0347","0999",1735,347,"Woburn",999,"Total",63502351.400317371,1,{"$f":"SUM(K1740:K1743)","v":68275251.982983202},{"$f":"SUM(L1740:L1743)","v":1},{"$f":"VLOOKUP(E1744,town351,24)","v":54098553},{"$f":"SUM(N1740:N1743)","v":54098553},50286813,{"$f":"SUM(P1740:P1743)","v":3811740},{"$f":"IF(O1744>0,P1744*100/O1744,IF(P1744>0,100,0))","v":7.5799991540525742},4515.0000000037699,4508.9999999963802,347,999,1735,4508.9999999963802,68275251.982983202,1735,347,999,1735,4508.9999999963802,68275251.982983202]
["03480348","0348","0348",1736,348,"Worcester                    ",348,"Worcester",430557179.73999995,1,{"$f":"X1745","v":477974878.60999995},{"$f":"IF(K1749>0, K1745/K1749, 0)","v":1},null,{"$f":"ROUND(M1749*L1745,0)","v":120432974},114317014,{"$f":"N1745-O1745","v":6115960},5.3499997821846534,26165,26552,348,348,1736,26552,477974878.60999995,1736,348,348,1736,26552,477974878.60999995]
["03480998","0348","0998",1737,348,"",998,"",0,0,0,{"$f":"IF(K1749>0, K1746/K1749, 0)","v":0},null,{"$f":"ROUND(M1749*L1746,0)","v":0},0,{"$f":"N1746-O1746","v":0},0,0,0,348,998,1737,0,0,1737,348,998,1737,0,0]
["03480998","0348","0998",1738,348,"",998,"",0,0,0,{"$f":"IF(K1749>0, K1747/K1749, 0)","v":0},null,{"$f":"ROUND(M1749*L1747,0)","v":0},0,{"$f":"N1747-O1747","v":0},0,0,0,348,998,1738,0,0,1738,348,998,1738,0,0]
["03480998","0348","0998",1739,348,"",998,"",0,0,0,{"$f":"IF(K1749>0, K1748/K1749, 0)","v":0},null,{"$f":"ROUND(M1749*L1748,0)","v":0},0,{"$f":"N1748-O1748","v":0},0,0,0,348,998,1739,0,0,1739,348,998,1739,0,0]
["03480999","0348","0999",1740,348,"Worcester                    ",999,"Total",430557179.73999995,1,{"$f":"SUM(K1745:K1748)","v":477974878.60999995},{"$f":"SUM(L1745:L1748)","v":1},{"$f":"VLOOKUP(E1749,town351,24)","v":120432974},{"$f":"SUM(N1745:N1748)","v":120432974},114317014,{"$f":"SUM(P1745:P1748)","v":6115960},5.3499997821846534,26165,26552,348,999,1740,26552,477974878.60999995,1740,348,999,1740,26552,477974878.60999995]
["03490349","0349","0349",1741,349,"Worthington                  ",349,"Worthington",1326979.1100000001,1,{"$f":"X1750","v":1568790.0099999995},{"$f":"IF(K1754>0, K1750/K1754, 0)","v":1},null,{"$f":"ROUND(M1754*L1750,0)","v":1103824},1027100,{"$f":"N1750-O1750","v":76724},7.4699639762437933,107,120,349,349,1741,120,1568790.0099999995,1741,349,349,1741,120,1568790.0099999995]
["03490998","0349","0998",1742,349,null,998,null,0,0,0,{"$f":"IF(K1754>0, K1751/K1754, 0)","v":0},null,{"$f":"ROUND(M1754*L1751,0)","v":0},0,{"$f":"N1751-O1751","v":0},0,0,0,349,998,1742,0,0,1742,349,998,1742,0,0]
["03490998","0349","0998",1743,349,"",998,"",0,0,0,{"$f":"IF(K1754>0, K1752/K1754, 0)","v":0},null,{"$f":"ROUND(M1754*L1752,0)","v":0},0,{"$f":"N1752-O1752","v":0},0,0,0,349,998,1743,0,0,1743,349,998,1743,0,0]
["03490998","0349","0998",1744,349,"",998,"",0,0,0,{"$f":"IF(K1754>0, K1753/K1754, 0)","v":0},null,{"$f":"ROUND(M1754*L1753,0)","v":0},0,{"$f":"N1753-O1753","v":0},0,0,0,349,998,1744,0,0,1744,349,998,1744,0,0]
["03490999","0349","0999",1745,349,"Worthington                  ",999,"Total",1326979.1100000001,1,{"$f":"SUM(K1750:K1753)","v":1568790.0099999995},{"$f":"SUM(L1750:L1753)","v":1},{"$f":"VLOOKUP(E1754,town351,24)","v":1103824},{"$f":"SUM(N1750:N1753)","v":1103824},1027100,{"$f":"SUM(P1750:P1753)","v":76724},7.4699639762437933,107,120,349,999,1745,120,1568790.0099999995,1745,349,999,1745,120,1568790.0099999995]
["03500350","0350","0350",1746,350,"Wrentham                     ",350,"Wrentham",9667437.7704000026,0.46334959998987701,{"$f":"X1755","v":11250378.938039999},{"$f":"IF(K1759>0, K1755/K1759, 0)","v":0.49482581272140697},null,{"$f":"ROUND(M1759*L1755,0)","v":8771480},7781640,{"$f":"N1755-O1755","v":989840},12.720197798921564,846,925,350,350,1746,925,11250378.938039999,1746,350,350,1746,925,11250378.938039999]
["03500690","0350","0690",1747,350,"Wrentham                     ",690,"King Philip",9640927.4111129288,0.46207898779014156,9816512.3988500834,{"$f":"IF(K1759>0, K1756/K1759, 0)","v":0.4317600102718861},null,{"$f":"ROUND(M1759*L1756,0)","v":7653551},7760301,{"$f":"N1756-O1756","v":-106750},-1.3755909725666569,786.40102040175998,748.39451476321005,350,690,1747,748.39451476321005,9816512.3988500834,1747,350,690,1747,748.39451476321005,9816512.3988500834]
["03500878","0350","0878",1748,350,"Wrentham                     ",878,"Tri County",1354101.5182812791,6.490058811264067E-2,1496934.1222736193,{"$f":"IF(K1759>0, K1757/K1759, 0)","v":6.5839706175576648E-2},null,{"$f":"ROUND(M1759*L1757,0)","v":1167101},1089961,{"$f":"N1757-O1757","v":77140},7.0773174453030885,69.154362412799998,72.999999999850004,350,878,1748,72.999999999850004,1496934.1222736193,1748,350,878,1748,72.999999999850004,1496934.1222736193]
["03500915","0350","0915",1749,350,"Wrentham                     ",915,"Norfolk County",201774.40586598936,9.6708241073407922E-3,172213.46363618856,{"$f":"IF(K1759>0, K1758/K1759, 0)","v":7.5744708311301949E-3},null,{"$f":"ROUND(M1759*L1758,0)","v":134268},162415,{"$f":"N1758-O1758","v":-28147},-17.330295847058462,9.9999999986399999,8.00000000008,350,915,1749,8.00000000008,172213.46363618856,1749,350,915,1749,8.00000000008,172213.46363618856]
["03500999","0350","0999",1750,350,"Wrentham                     ",999,"Total",20864241.1056602,1,{"$f":"SUM(K1755:K1758)","v":22736038.922799893},{"$f":"SUM(L1755:L1758)","v":0.99999999999999989},{"$f":"VLOOKUP(E1759,town351,24)","v":17726400},{"$f":"SUM(N1755:N1758)","v":17726400},16794317,{"$f":"SUM(P1755:P1758)","v":932083},5.5499905116712993,1711.5553828132001,1754.39451476314,350,999,1750,1754.39451476314,22736038.922799893,1750,350,999,1750,1754.39451476314,22736038.922799893]
["03510351","0351","0351",1751,351,"Yarmouth                     ",351,"Yarmouth",0,0,{"$f":"X1760","v":0},{"$f":"IF(K1764>0, K1760/K1764, 0)","v":0},null,{"$f":"ROUND(M1764*L1760,0)","v":0},0,{"$f":"N1760-O1760","v":0},0,0,0,351,351,1751,0,0,1751,351,351,1751,0,0]
["03510645","0351","0645",1752,351,"Yarmouth                     ",645,"Dennis Yarmouth",31692454.848216448,0.91259396215549393,34541914.124059066,{"$f":"IF(K1764>0, K1761/K1764, 0)","v":0.91361967239854569},null,{"$f":"ROUND(M1764*L1761,0)","v":25546149},24082171,{"$f":"N1761-O1761","v":1463978},6.079094779287133,2211.6347771771202,2223.2355843268301,351,645,1752,2223.2355843268301,34541914.124059066,1752,351,645,1752,2223.2355843268301,34541914.124059066]
["03510815","0351","0815",1753,351,"Yarmouth                     ",815,"Cape Cod",3035426.5124718393,8.7406037844506138E-2,3265846.7720865104,{"$f":"IF(K1764>0, K1762/K1764, 0)","v":8.6380327601454365E-2},null,{"$f":"ROUND(M1764*L1762,0)","v":2415321},2306532,{"$f":"N1762-O1762","v":108789},4.7165614871157215,148.2256097577,150.44977511118,351,815,1753,150.44977511118,3265846.7720865104,1753,351,815,1753,150.44977511118,3265846.7720865104]
["03510998","0351","0998",1754,351,"",998,"",0,0,0,{"$f":"IF(K1764>0, K1763/K1764, 0)","v":0},null,{"$f":"ROUND(M1764*L1763,0)","v":0},0,{"$f":"N1763-O1763","v":0},0,0,0,351,998,1754,0,0,1754,351,998,1754,0,0]
["03510999","0351","0999",1755,351,"Yarmouth                     ",999,"Total",34727881.360688284,1,{"$f":"SUM(K1760:K1763)","v":37807760.896145575},{"$f":"SUM(L1760:L1763)","v":1},{"$f":"VLOOKUP(E1764,town351,24)","v":27961470},{"$f":"SUM(N1760:N1763)","v":27961470},26388703,{"$f":"SUM(P1760:P1763)","v":1572767},5.9600011413975142,2359.8603869348203,2373.68535943801,351,999,1755,2373.68535943801,37807760.896145575,1755,351,999,1755,2373.68535943801,37807760.896145575]
[null,null,null,1756,999,"State Total",999,"STATE TOTAL",12890335880.607769,null,{"$f":"SUM(K10:K1764)/2","v":13965016629.332052},null,{"$f":"SUM(M10:M1764)","v":7566383477},{"$f":"SUM(N10:N1764)/2","v":7566383475},7166744291,{"$f":"SUM(P10:P1764)/2","v":399848549},5.5792216488333475,903751.00000000582,{"$f":"SUM(S10:S1764)/2","v":905238.99999993341},null,null,null,{"$f":"SUM(W10:W1764)/2","v":905238.99999993341},13965016629.332052,null,null,null,null,{"$f":"SUM(AC10:AC1764)/2","v":905238.99999993341},13965016629.332052,null,null,null,null,0,0,null,null,null,null,null,null,null,null,null,null,null,null,null,null,null,null,null,null,null,null,null,null,{"$f":"SUM(BG10:BG1764)/2","v":0},0,null,null,null,null,null,null,null,null,null,null,null,null,null,null,null,null,null,null,null,null,null,null,null,null,null,null,null,null,null,{"$f":"SUM(CL10:CL1764)/2","v":0}]

{"sheet":"Index","index":3,"n_rows":464,"n_cols":10,"rows_kept":464,"cut":false,"hidden":false,"merged":[]}
["Massachusetts Department of Elementary and Secondary Education",null,null,null,null,null,null,null,null,"2023-02-23"]
[{"$f":"parameters!B1& \" Chapter 70 and Net School Spending Formula Spreadsheet\"","v":"FY24 Chapter 70 and Net School Spending Formula Spreadsheet"},null,null,null,null,null,null,null,null,""]
[null,"Select or type full district name below","LEA code"]
[{"$f":"C4","v":999},"Select a district",{"$f":"VLOOKUP(B4,leas!$E$4:$F$445,2,FALSE)","v":999}]
[]
[null,"Use the drop-down menu to select a municipal or regional district  and then go to any of the first four links below.  "]
[null,"Only municipal district selections will activate the Municipal Contribution Requirement and Regional Allocation reports."]
[null,"A list of LEAs by code begins on row 26 of this sheet."]
[]
[null,"We recommend that you save this workbook to your computer before proceeding, then leave this browser, and open the workbook using Excel or My Computer."]
[]
[null,"Summary"]
[null,"Foundation Budget"]
[null,"Municipal Contribution Requirement"]
[null,"Regional Allocation"]
[]
[null,"Regional District Detail",null,"(go to this sheet to see any particular regional district's comparison of enrollment and minimum contributions to the prior year)"]
[]
[null,"There are also a number of \"hidden\" sheets which contain the underlying spreadsheet calculations."]
[null,"They can be accessed by right-clicking on any of the tabs below and choosing a sheet to unhide."]
[]
[null,"Questions or comments about Chapter 70 may be directed to:"]
[null,"Rob Hanna",null,"Robert.Hanna@mass.gov",null,null,"781-338-6525"]
[null,"Rob O'Donnell",null,"Robert.F.O'Donnell@mass.gov",null,null,"781-338-6512"]
[]
[null,"District",null,"LEA Number"]
[null,"Abington                     ",null,1]
[null,"Acton                        ",null,2]
[null,"Acton Boxborough             ",null,600]
[null,"Acushnet                     ",null,3]
[null,"Adams                        ",null,4]
[null,"Agawam                       ",null,5]
[null,"Alford                       ",null,6]
[null,"Amesbury                     ",null,7]
[null,"Amherst                      ",null,8]
[null,"Amherst Pelham               ",null,605]
[null,"Andover                      ",null,9]
[null,"Aquinnah",null,104]
[null,"Arlington                    ",null,10]
[null,"Ashburnham                   ",null,11]
[null,"Ashburnham Westminster       ",null,610]
[null,"Ashby                        ",null,12]
[null,"Ashfield                     ",null,13]
[null,"Ashland                      ",null,14]
[null,"Assabet Valley               ",null,801]
[null,"Athol                        ",null,15]
[null,"Athol Royalston              ",null,615]
[null,"Attleboro                    ",null,16]
[null,"Auburn                       ",null,17]
[null,"Avon                         ",null,18]
[null,"Ayer                         ",null,19]
[null,"Ayer Shirley",null,616]
[null,"Barnstable                   ",null,20]
[null,"Barre                        ",null,21]
[null,"Becket                       ",null,22]
[null,"Bedford                      ",null,23]
[null,"Belchertown                  ",null,24]
[null,"Bellingham                   ",null,25]
[null,"Belmont                      ",null,26]
[null,"Berkley                      ",null,27]
[null,"Berkshire Hills              ",null,618]
[null,"Berlin                       ",null,28]
[null,"Berlin Boylston              ",null,620]
[null,"Bernardston                  ",null,29]
[null,"Beverly                      ",null,30]
[null,"Billerica                    ",null,31]
[null,"Blackstone                   ",null,32]
[null,"Blackstone Millville         ",null,622]
[null,"Blackstone Valley            ",null,805]
[null,"Blandford                    ",null,33]
[null,"Blue Hills                   ",null,806]
[null,"Bolton                       ",null,34]
[null,"Boston                       ",null,35]
[null,"Bourne                       ",null,36]
[null,"Boxborough                   ",null,37]
[null,"Boxford                      ",null,38]
[null,"Boylston                     ",null,39]
[null,"Braintree                    ",null,40]
[null,"Brewster                     ",null,41]
[null,"Bridgewater                  ",null,42]
[null,"Bridgewater Raynham          ",null,625]
[null,"Brimfield                    ",null,43]
[null,"Bristol County               ",null,910]
[null,"Bristol Plymouth             ",null,810]
[null,"Brockton                     ",null,44]
[null,"Brookfield                   ",null,45]
[null,"Brookline                    ",null,46]
[null,"Buckland                     ",null,47]
[null,"Burlington                   ",null,48]
[null,"Cambridge                    ",null,49]
[null,"Canton                       ",null,50]
[null,"Cape Cod                     ",null,815]
[null,"Carlisle                     ",null,51]
[null,"Carver                       ",null,52]
[null,"Central Berkshire            ",null,635]
[null,"Charlemont                   ",null,53]
[null,"Charlton                     ",null,54]
[null,"Chatham                      ",null,55]
[null,"Chelmsford                   ",null,56]
[null,"Chelsea                      ",null,57]
[null,"Cheshire                     ",null,58]
[null,"Chester                      ",null,59]
[null,"Chesterfield                 ",null,60]
[null,"Chesterfield Goshen",null,632]
[null,"Chicopee                     ",null,61]
[null,"Chilmark                     ",null,62]
[null,"Clarksburg                   ",null,63]
[null,"Clinton                      ",null,64]
[null,"Cohasset                     ",null,65]
[null,"Colrain                      ",null,66]
[null,"Concord                      ",null,67]
[null,"Concord Carlisle             ",null,640]
[null,"Conway                       ",null,68]
[null,"Cummington                   ",null,69]
[null,"Dalton                       ",null,70]
[null,"Danvers                      ",null,71]
[null,"Dartmouth                    ",null,72]
[null,"Dedham                       ",null,73]
[null,"Deerfield                    ",null,74]
[null,"Dennis                       ",null,75]
[null,"Dennis Yarmouth              ",null,645]
[null,"Dighton                      ",null,76]
[null,"Dighton Rehoboth             ",null,650]
[null,"Douglas                      ",null,77]
[null,"Dover                        ",null,78]
[null,"Dover Sherborn               ",null,655]
[null,"Dracut                       ",null,79]
[null,"Dudley                       ",null,80]
[null,"Dudley Charlton              ",null,658]
[null,"Dunstable                    ",null,81]
[null,"Duxbury                      ",null,82]
[null,"East Bridgewater             ",null,83]
[null,"East Brookfield              ",null,84]
[null,"East Longmeadow              ",null,87]
[null,"Eastham                      ",null,85]
[null,"Easthampton                  ",null,86]
[null,"Easton                       ",null,88]
[null,"Edgartown                    ",null,89]
[null,"Egremont                     ",null,90]
[null,"Erving                       ",null,91]
[null,"Essex                        ",null,92]
[null,"Essex North Shore",null,817]
[null,"Everett                      ",null,93]
[null,"Fairhaven                    ",null,94]
[null,"Fall River                   ",null,95]
[null,"Falmouth                     ",null,96]
[null,"Farmington River",null,662]
[null,"Fitchburg                    ",null,97]
[null,"Florida                      ",null,98]
[null,"Foxborough                   ",null,99]
[null,"Framingham                   ",null,100]
[null,"Franklin                     ",null,101]
[null,"Franklin County              ",null,818]
[null,"Freetown                     ",null,102]
[null,"Freetown Lakeville           ",null,665]
[null,"Frontier                     ",null,670]
[null,"Gardner                      ",null,103]
[null,"Gateway                      ",null,672]
[null,"Georgetown                   ",null,105]
[null,"Gill                         ",null,106]
[null,"Gill Montague                ",null,674]
[null,"Gloucester                   ",null,107]
[null,"Goshen                       ",null,108]
[null,"Gosnold                      ",null,109]
[null,"Grafton                      ",null,110]
[null,"Granby                       ",null,111]
[null,"Granville                    ",null,112]
[null,"Great Barrington             ",null,113]
[null,"Greater Fall River           ",null,821]
[null,"Greater Lawrence             ",null,823]
[null,"Greater Lowell               ",null,828]
[null,"Greater New Bedford          ",null,825]
[null,"Greenfield                   ",null,114]
[null,"Groton                       ",null,115]
[null,"Groton Dunstable             ",null,673]
[null,"Groveland                    ",null,116]
[null,"Hadley                       ",null,117]
[null,"Halifax                      ",null,118]
[null,"Hamilton                     ",null,119]
[null,"Hamilton Wenham              ",null,675]
[null,"Hampden                      ",null,120]
[null,"Hampden Wilbraham            ",null,680]
[null,"Hampshire                    ",null,683]
[null,"Hancock                      ",null,121]
[null,"Hanover                      ",null,122]
[null,"Hanson                       ",null,123]
[null,"Hardwick                     ",null,124]
[null,"Harvard                      ",null,125]
[null,"Harwich                      ",null,126]
[null,"Hatfield                     ",null,127]
[null,"Haverhill                    ",null,128]
[null,"Hawlemont                    ",null,685]
[null,"Hawley                       ",null,129]
[null,"Heath                        ",null,130]
[null,"Hingham                      ",null,131]
[null,"Hinsdale                     ",null,132]
[null,"Holbrook                     ",null,133]
[null,"Holden                       ",null,134]
[null,"Holland                      ",null,135]
[null,"Holliston                    ",null,136]
[null,"Holyoke                      ",null,137]
[null,"Hoosac Valley",null,603]
[null,"Hopedale                     ",null,138]
[null,"Hopkinton                    ",null,139]
[null,"Hubbardston                  ",null,140]
[null,"Hudson                       ",null,141]
[null,"Hull                         ",null,142]
[null,"Huntington                   ",null,143]
[null,"Ipswich                      ",null,144]
[null,"King Philip                  ",null,690]
[null,"Kingston                     ",null,145]
[null,"Lakeville                    ",null,146]
[null,"Lancaster                    ",null,147]
[null,"Lanesborough                 ",null,148]
[null,"Lawrence                     ",null,149]
[null,"Lee                          ",null,150]
[null,"Leicester                    ",null,151]
[null,"Lenox                        ",null,152]
[null,"Leominster                   ",null,153]
[null,"Leverett                     ",null,154]
[null,"Lexington                    ",null,155]
[null,"Leyden                       ",null,156]
[null,"Lincoln                      ",null,157]
[null,"Lincoln Sudbury              ",null,695]
[null,"Littleton                    ",null,158]
[null,"Longmeadow                   ",null,159]
[null,"Lowell                       ",null,160]
[null,"Ludlow                       ",null,161]
[null,"Lunenburg                    ",null,162]
[null,"Lynn                         ",null,163]
[null,"Lynnfield                    ",null,164]
[null,"Malden                       ",null,165]
[null,"Manchester                   ",null,166]
[null,"Manchester Essex",null,698]
[null,"Mansfield                    ",null,167]
[null,"Marblehead                   ",null,168]
[null,"Marion                       ",null,169]
[null,"Marlborough                  ",null,170]
[null,"Marshfield                   ",null,171]
[null,"Marthas Vineyard             ",null,700]
[null,"Masconomet                   ",null,705]
[null,"Mashpee                      ",null,172]
[null,"Mattapoisett                 ",null,173]
[null,"Maynard                      ",null,174]
[null,"Medfield                     ",null,175]
[null,"Medford                      ",null,176]
[null,"Medway                       ",null,177]
[null,"Melrose                      ",null,178]
[null,"Mendon                       ",null,179]
[null,"Mendon Upton                 ",null,710]
[null,"Merrimac                     ",null,180]
[null,"Methuen                      ",null,181]
[null,"Middleborough                ",null,182]
[null,"Middlefield                  ",null,183]
[null,"Middleton                    ",null,184]
[null,"Milford                      ",null,185]
[null,"Millbury                     ",null,186]
[null,"Millis                       ",null,187]
[null,"Millville                    ",null,188]
[null,"Milton                       ",null,189]
[null,"Minuteman                    ",null,830]
[null,"Mohawk Trail                 ",null,717]
[null,"Monomoy",null,712]
[null,"Monroe                       ",null,190]
[null,"Monson                       ",null,191]
[null,"Montachusett                 ",null,832]
[null,"Montague                     ",null,192]
[null,"Monterey                     ",null,193]
[null,"Montgomery                   ",null,194]
[null,"Mount Greylock               ",null,715]
[null,"Mount Washington             ",null,195]
[null,"Nahant                       ",null,196]
[null,"Nantucket                    ",null,197]
[null,"Narragansett                 ",null,720]
[null,"Nashoba                      ",null,725]
[null,"Nashoba Valley               ",null,852]
[null,"Natick                       ",null,198]
[null,"Nauset                       ",null,660]
[null,"Needham                      ",null,199]
[null,"New Ashford                  ",null,200]
[null,"New Bedford                  ",null,201]
[null,"New Braintree                ",null,202]
[null,"New Marlborough              ",null,205]
[null,"New Salem                    ",null,206]
[null,"New Salem Wendell            ",null,728]
[null,"Newbury                      ",null,203]
[null,"Newburyport                  ",null,204]
[null,"Newton                       ",null,207]
[null,"Norfolk                      ",null,208]
[null,"Norfolk County               ",null,915]
[null,"North Adams                  ",null,209]
[null,"North Andover                ",null,211]
[null,"North Attleborough           ",null,212]
[null,"North Brookfield             ",null,215]
[null,"North Middlesex              ",null,735]
[null,"North Reading                ",null,217]
[null,"Northampton                  ",null,210]
[null,"Northampton Smith            ",null,406]
[null,"Northboro Southboro          ",null,730]
[null,"Northborough                 ",null,213]
[null,"Northbridge                  ",null,214]
[null,"Northeast Metropolitan       ",null,853]
[null,"Northern Berkshire           ",null,851]
[null,"Northfield                   ",null,216]
[null,"Norton                       ",null,218]
[null,"Norwell                      ",null,219]
[null,"Norwood                      ",null,220]
[null,"Oak Bluffs                   ",null,221]
[null,"Oakham                       ",null,222]
[null,"Old Colony                   ",null,855]
[null,"Old Rochester                ",null,740]
[null,"Orange                       ",null,223]
[null,"Orleans                      ",null,224]
[null,"Otis                         ",null,225]
[null,"Oxford                       ",null,226]
[null,"Palmer                       ",null,227]
[null,"Pathfinder                   ",null,860]
[null,"Paxton                       ",null,228]
[null,"Peabody                      ",null,229]
[null,"Pelham                       ",null,230]
[null,"Pembroke                     ",null,231]
[null,"Pentucket                    ",null,745]
[null,"Pepperell                    ",null,232]
[null,"Peru                         ",null,233]
[null,"Petersham                    ",null,234]
[null,"Phillipston                  ",null,235]
[null,"Pioneer                      ",null,750]
[null,"Pittsfield                   ",null,236]
[null,"Plainfield                   ",null,237]
[null,"Plainville                   ",null,238]
[null,"Plymouth                     ",null,239]
[null,"Plympton                     ",null,240]
[null,"Princeton                    ",null,241]
[null,"Provincetown                 ",null,242]
[null,"Quabbin                      ",null,753]
[null,"Quaboag",null,778]
[null,"Quincy                       ",null,243]
[null,"Ralph C Mahar                ",null,755]
[null,"Randolph                     ",null,244]
[null,"Raynham                      ",null,245]
[null,"Reading                      ",null,246]
[null,"Rehoboth                     ",null,247]
[null,"Revere                       ",null,248]
[null,"Richmond                     ",null,249]
[null,"Rochester                    ",null,250]
[null,"Rockland                     ",null,251]
[null,"Rockport                     ",null,252]
[null,"Rowe                         ",null,253]
[null,"Rowley                       ",null,254]
[null,"Royalston                    ",null,255]
[null,"Russell                      ",null,256]
[null,"Rutland                      ",null,257]
[null,"Salem                        ",null,258]
[null,"Salisbury                    ",null,259]
[null,"Sandisfield                  ",null,260]
[null,"Sandwich                     ",null,261]
[null,"Saugus                       ",null,262]
[null,"Savoy                        ",null,263]
[null,"Scituate                     ",null,264]
[null,"Seekonk                      ",null,265]
[null,"Sharon                       ",null,266]
[null,"Shawsheen Valley             ",null,871]
[null,"Sheffield                    ",null,267]
[null,"Shelburne                    ",null,268]
[null,"Sherborn                     ",null,269]
[null,"Shirley                      ",null,270]
[null,"Shrewsbury                   ",null,271]
[null,"Shutesbury                   ",null,272]
[null,"Silver Lake                  ",null,760]
[null,"Somerset                     ",null,273]
[null,"Somerset Berkley",null,763]
[null,"Somerville                   ",null,274]
[null,"South Hadley                 ",null,278]
[null,"South Middlesex              ",null,829]
[null,"South Shore                  ",null,873]
[null,"Southampton                  ",null,275]
[null,"Southborough                 ",null,276]
[null,"Southbridge                  ",null,277]
[null,"Southeastern                 ",null,872]
[null,"Southern Berkshire           ",null,765]
[null,"Southern Worcester           ",null,876]
[null,"Southwick                    ",null,279]
[null,"Southwick Tolland Granville",null,766]
[null,"Spencer                      ",null,280]
[null,"Spencer East Brookfield      ",null,767]
[null,"Springfield                  ",null,281]
[null,"Sterling                     ",null,282]
[null,"Stockbridge                  ",null,283]
[null,"Stoneham                     ",null,284]
[null,"Stoughton                    ",null,285]
[null,"Stow                         ",null,286]
[null,"Sturbridge                   ",null,287]
[null,"Sudbury                      ",null,288]
[null,"Sunderland                   ",null,289]
[null,"Sutton                       ",null,290]
[null,"Swampscott                   ",null,291]
[null,"Swansea                      ",null,292]
[null,"Tantasqua                    ",null,770]
[null,"Taunton                      ",null,293]
[null,"Templeton                    ",null,294]
[null,"Tewksbury                    ",null,295]
[null,"Tisbury                      ",null,296]
[null,"Tolland                      ",null,297]
[null,"Topsfield                    ",null,298]
[null,"Townsend                     ",null,299]
[null,"Tri County                   ",null,878]
[null,"Triton                       ",null,773]
[null,"Truro                        ",null,300]
[null,"Tyngsborough                 ",null,301]
[null,"Tyringham                    ",null,302]
[null,"Upisland",null,774]
[null,"Upper Cape Cod               ",null,879]
[null,"Upton                        ",null,303]
[null,"Uxbridge                     ",null,304]
[null,"Wachusett                    ",null,775]
[null,"Wakefield                    ",null,305]
[null,"Wales                        ",null,306]
[null,"Walpole                      ",null,307]
[null,"Waltham                      ",null,308]
[null,"Ware                         ",null,309]
[null,"Wareham                      ",null,310]
[null,"Warren                       ",null,311]
[null,"Warwick                      ",null,312]
[null,"Washington                   ",null,313]
[null,"Watertown                    ",null,314]
[null,"Wayland                      ",null,315]
[null,"Webster                      ",null,316]
[null,"Wellesley                    ",null,317]
[null,"Wellfleet                    ",null,318]
[null,"Wendell                      ",null,319]
[null,"Wenham                       ",null,320]
[null,"West Boylston                ",null,322]
[null,"West Bridgewater             ",null,323]
[null,"West Brookfield              ",null,324]
[null,"West Newbury                 ",null,329]
[null,"West Springfield             ",null,332]
[null,"West Stockbridge             ",null,333]
[null,"West Tisbury                 ",null,334]
[null,"Westborough                  ",null,321]
[null,"Westfield                    ",null,325]
[null,"Westford                     ",null,326]
[null,"Westhampton                  ",null,327]
[null,"Westminster                  ",null,328]
[null,"Weston                       ",null,330]
[null,"Westport                     ",null,331]
[null,"Westwood                     ",null,335]
[null,"Weymouth                     ",null,336]
[null,"Whately                      ",null,337]
[null,"Whitman                      ",null,338]
[null,"Whitman Hanson               ",null,780]
[null,"Whittier                     ",null,885]
[null,"Wilbraham                    ",null,339]
[null,"Williamsburg                 ",null,340]
[null,"Williamstown                 ",null,341]
[null,"Wilmington                   ",null,342]
[null,"Winchendon                   ",null,343]
[null,"Winchester                   ",null,344]
[null,"Windsor                      ",null,345]
[null,"Winthrop                     ",null,346]
[null,"Woburn",null,347]
[null,"Worcester                    ",null,348]
[null,"Worthington                  ",null,349]
[null,"Wrentham                     ",null,350]
[null,"Yarmouth                     ",null,351]

{"sheet":"MoreAboutData","index":4,"n_rows":34,"n_cols":7,"rows_kept":34,"cut":false,"hidden":false,"merged":[[0,1,0,5],[1,1,1,5],[2,0,2,5],[3,4,3,5],[33,0,33,5],[16,0,16,5],[5,4,5,5],[10,4,10,5],[15,4,15,5],[17,4,17,5],[21,4,21,5],[6,0,7,5],[11,0,12,5],[18,0,18,5],[9,0,9,5],[32,4,32,5],[26,0,27,5],[28,4,28,5],[29,0,29,5],[31,0,31,5],[14,0,14,5],[20,0,20,5],[24,0,24,5],[25,4,25,5],[30,4,30,5]]}
[null,{"$f":"CYr&\" Chapter 70 and Net School Spending Formula\"","v":"FY24 Chapter 70 and Net School Spending Formula"},"FY18 Chapter 70 and Net School Spending Formula Spreadsheet","FY18 Chapter 70 and Net School Spending Formula Spreadsheet","FY18 Chapter 70 and Net School Spending Formula Spreadsheet","FY18 Chapter 70 and Net School Spending Formula Spreadsheet","Return to Index"]
[null,"More about the data"]
["TABLE OF CONTENTS\n"]
["Index",null,null,null,"Back to the top"]
["Select the district you're interested in from the dropdown list on this sheet."]
["Foundation Budget",null,null,null,"Back to the top"]
["This report displays the foundation enrollment and foundation budget for a single district. A district’s foundation budget is updated each year and it is derived by multiplying the number of pupils in thirteen enrollment categories by cost rates in eleven functional areas. "]
[]
["Key Terms"]
["Foundation Enrollment: A count of the students for whom a school district is financially responsible on October 1st of any given year.\nInflation: Foundation budget rates are adjusted each year by a statutorily defined inflationary factor.  It affects all districts in the same way. \nWage Adjustment Factor (WAF): Gives a district credit for having higher school costs if it is located in a geographic area where average wages are higher than in other areas of the state. Calculated using the latest available average wage data supplied by the state’s Executive Office of Labor and Workforce Development (EOLWD).  \nLow-Income Group: Determined based on the relative concentration of low-income students served in the district. Corresponds to a foundation budget rate for low-income students."]
["Municipal Contribution",null,null,null,"Back to the top"]
["This report displays the required local contribution for a single municipality. Each municipality has a target local share of its foundation budget, based on local ability to pay. The required local contribution for each municipality is based on the previous year's required contribution, and includes some transition factors so that the shift toward the target levels occurs over a period of several years."]
[]
["Key Terms"]
["Equalized Valuation (EQV): Calculated by DOR every two years. Full and fair cash value of all taxable property for each municipality.\nIncome: Derived annually by DOR from state income tax returns. Includes all forms of wage, pension, interest, business, investment, and capital gains income.\nCombined Effort Yield (CEY): Sum of property and income effort. Based on DESE-calculated property and income percentages, which, when applied to all municipalities in the Commonwealth, yields 59% of statewide foundation coming from local revenue.\nTarget Local Contribution/Share: Calculated for each municipality as an equitable share of its foundation budget based on property wealth and income.\nMunicipal Revenue Growth Factor (MRGF): Calculated each year by DOR and quantifies the most recent annual percentage change in each community's local revenues (such as the annual increase in the Proposition 2½ levy limit) that should be available for schools. "]
["Regional Allocation",null,null,null,"Back to the top"]
["This report displays the allocation of a municipality's required local contribution across the districts to which it belongs. The municipality's required contribution is allocated in direct proportion to the district's share of the municipality's foundation budget."]
["Summary",null,null,null,"Back to the top"]
["This report displays the Chapter 70 aid calculation for a single district. The aid calculation begins with each district's prior year Chapter 70 amount. The difference between each district's foundation budget and its required contribution equals foundation aid. On the right-hand side, there is a comparison to the prior year."]
["Key Terms"]
["Foundation Aid: The amount of aid needed by a district to reach its foundation budget, after factoring in this year's required local contribution. Foundation budget - Required Local Contribution = Foundation Aid\nMinimum Aid: A guaranteed per pupil aid increase over the prior year.\nRequired Net School Spending (NSS): The sum of this year's required local contribution and Chapter 70 aid. A district must spend this amount to be in compliance."]
["Regional District Members",null,null,null,"Back to the top"]
["This report displays relevant data for municipal members of a single regional district."]
["Key Terms"]
["Foundation Enrollment: Foundation enrollment for the selected district, in total and by member.\nRequired Minimum Contribution: Total required minimum contribution for the selected district, in total and by member."]
[{"$f":"\"Comparison to \"&PYr","v":"Comparison to FY23"},null,null,null,"Back to the top"]
["This report displays prior year and current year foundation enrollment, foundation budget, required local contribution and Chapter 70 aid for all operating districts."]
[]
["Rates",null,null,null,"Back to the top"]
[{"$f":"\"This sheet displays the \"&CYr&\" foundation budget rates.\"","v":"This sheet displays the FY24 foundation budget rates."}]
["Townwide Contributions",null,null,null,"Back to the top"]
[{"$f":"\"This sheet calculates the \"&CYr&\" required local contribution for each municipality\"","v":"This sheet calculates the FY24 required local contribution for each municipality"}]
["Aid436",null,null,null,"Back to the top"]
[{"$f":"\"This sheet calculates the \"&CYr&\" Chapter 70 aid for each district.\"","v":"This sheet calculates the FY24 Chapter 70 aid for each district."}]

{"sheet":"Foundation Budget","index":5,"n_rows":50,"n_cols":21,"rows_kept":50,"cut":false,"hidden":false,"merged":[[4,1,4,6],[5,10,5,15],[7,3,7,4],[5,2,5,8]]}
["Return to Index",null,null,null,null,null,null,null,null,null,null,null,null,null,null,null,null,null,null,null,"More about the data"]
["Massachusetts Department of Elementary and Secondary Education"]
["Office of School Finance"]
[{"$f":"parameters!B1&\" Chapter 70 Foundation Budget\"","v":"FY24 Chapter 70 Foundation Budget"}]
[{"$f":"lea","v":999},{"$f":"IF(lea=999,\"State total cannot be computed on this page; Please enter an lea code on the index sheet\",VLOOKUP(A5,dist915,2))","v":"State total cannot be computed on this page; Please enter an lea code on the index sheet"},null,null,null,null,null,6,8,null,9,10,11,12,13,14]
[null,null,"Base Foundation Components",null,null,null,null,null,null,null,"Incremental Costs Above the Base"]
[null,null,"1","2","3","4","5","6","7",null,"8",9,"10","11","12","13",14]
[null,null,null," ------ Kindergarten ------",null,null," Junior/","High",null,null,"Special Ed","Special Ed","English learners","English learners","English learners"]
[null,null,"Pre-school","Half-Day","Full-Day","Elementary","Middle","School","Vocational",null,"In-District","Tuitioned-Out","PK-5","6-8","High School/Voc","Low income","TOTAL"]
[null,"Foundation Enrollment",{"$f":"IF($A$5<>999,VLOOKUP(lea,dist915,VALUE(C$7)+2),0)","v":0},0,0,0,0,0,{"$f":"IF($A$5<>999,VLOOKUP(lea,dist915,VALUE(I$7)+2),0)","v":0},null,{"$f":"IF($A$5<>999,VLOOKUP(lea,dist915,VALUE(K$7)+2),0)","v":0},0,0,0,0,0,0]
[]
[1,"Administration",{"$f":"(VLOOKUP(VALUE(C$7),newrates,$A12+2)*C$10*waf)","v":0},0,0,0,0,0,0,null,{"$f":"(VLOOKUP(VALUE(K$7),newrates,$A12+2)*K$10*waf)","v":0},0,0,0,0,{"$f":"IF(C29=0,0,(VLOOKUP(VALUE(P$7)+$C$29-1, newrates, $A12+2, FALSE))*P$10*waf)","v":0},{"$f":"SUM(C12:P12)","v":0}]
[2,"Instructional Leadership",0,0,0,0,0,0,0,null,0,0,0,0,0,{"$f":"IF(C29=0,0,(VLOOKUP(VALUE(P$7)+$C$29-1, newrates, $A13+2, FALSE))*P$10*waf)","v":0},0]
[3,"Classroom & Specialist Teachers",0,0,0,0,0,0,0,null,0,0,0,0,0,{"$f":"IF(C29=0,0,(VLOOKUP(VALUE(P$7)+$C$29-1, newrates, $A14+2, FALSE))*P$10*waf)","v":0},0]
[4,"Other Teaching Services",0,0,0,0,0,0,0,null,0,0,0,0,0,{"$f":"IF(C29=0,0,(VLOOKUP(VALUE(P$7)+$C$29-1, newrates, $A15+2, FALSE))*P$10*waf)","v":0},0]
[5,"Professional Development",0,0,0,0,0,0,0,null,0,0,0,0,0,{"$f":"IF(C29=0,0,(VLOOKUP(VALUE(P$7)+$C$29-1, newrates, $A16+2, FALSE))*P$10*waf)","v":0},0]
[6,"Instructional Materials, Equipment & Technology*",{"$f":"(VLOOKUP(VALUE(C$7),newrates,$A17+2)*C$10)","v":0},0,0,0,0,0,0,null,{"$f":"(VLOOKUP(VALUE(K$7),newrates,$A17+2)*K$10)","v":0},{"$f":"(VLOOKUP(VALUE(L$7),newrates,$A17+2)*L$10)","v":0},{"$f":"(VLOOKUP(VALUE(M$7),newrates,$A17+2)*M$10)","v":0},{"$f":"(VLOOKUP(VALUE(N$7),newrates,$A17+2)*N$10)","v":0},{"$f":"(VLOOKUP(VALUE(O$7),newrates,$A17+2)*O$10)","v":0},{"$f":"IF(C29=0,0,(VLOOKUP(VALUE(P$7)+$C$29-1, newrates, $A17+2, FALSE))*P$10)","v":0},0]
[7,"Guidance & Psychological Services",{"$f":"(VLOOKUP(VALUE(C$7),newrates,$A18+2)*C$10*waf)","v":0},0,0,0,0,0,0,null,{"$f":"(VLOOKUP(VALUE(K$7),newrates,$A18+2)*K$10*waf)","v":0},0,0,0,0,{"$f":"IF(C29=0,0,(VLOOKUP(VALUE(P$7)+$C$29-1, newrates, $A18+2, FALSE))*P$10*waf)","v":0},0]
[8,"Pupil Services",0,0,0,0,0,0,0,null,0,0,0,0,0,{"$f":"IF(C29=0,0,(VLOOKUP(VALUE(P$7)+$C$29-1, newrates, $A19+2, FALSE))*P$10*waf)","v":0},0]
[9,"Operations & Maintenance",0,0,0,0,0,0,0,null,0,0,0,0,0,{"$f":"IF(C29=0,0,(VLOOKUP(VALUE(P$7)+$C$29-1, newrates, $A20+2, FALSE))*P$10*waf)","v":0},0]
[10,"Employee Benefits/Fixed Charges*",{"$f":"(VLOOKUP(VALUE(C$7),newrates,$A21+2)*C$10)","v":0},0,0,0,0,0,0,null,{"$f":"(VLOOKUP(VALUE(K$7),newrates,$A21+2)*K$10)","v":0},{"$f":"(VLOOKUP(VALUE(L$7),newrates,$A21+2)*L$10)","v":0},{"$f":"(VLOOKUP(VALUE(M$7),newrates,$A21+2)*M$10)","v":0},{"$f":"(VLOOKUP(VALUE(N$7),newrates,$A21+2)*N$10)","v":0},{"$f":"(VLOOKUP(VALUE(O$7),newrates,$A21+2)*O$10)","v":0},{"$f":"IF(C29=0,0,(VLOOKUP(VALUE(P$7)+$C$29-1, newrates, $A21+2, FALSE))*P$10)","v":0},0]
[11,"Special Education Tuition*",0,0,0,0,0,0,0,null,{"$f":"(VLOOKUP(VALUE(K$7)-2,newrates,$A22+2)*K$10)","v":0},{"$f":"(VLOOKUP(VALUE(L$7),newrates,$A22+2)*L$10)","v":0},{"$f":"(VLOOKUP(VALUE(M$7),newrates,$A22+2)*M$10)","v":0},{"$f":"(VLOOKUP(VALUE(N$7),newrates,$A22+2)*N$10)","v":0},{"$f":"(VLOOKUP(VALUE(O$7)-2,newrates,$A22+2)*O$10)","v":0},{"$f":"IF(C29=0,0,(VLOOKUP(VALUE(P$7)+$C$29-1, newrates, $A22+2, FALSE))*P$10)","v":0},0]
[]
[12,"Total",{"$f":"SUM(C12:C22)","v":0},{"$f":"SUM(D12:D22)","v":0},{"$f":"SUM(E12:E22)","v":0},0,0,0,{"$f":"SUM(I12:I22)","v":0},null,0,0,0,0,0,0,{"$f":"SUM(Q12:Q23)","v":0}]
[]
[13,"Wage Adjustment Factor",{"$f":"VLOOKUP(lea,dist915,17)","v":0},null,null,null,null,null,null,null,null,null,null,"Foundation Budget per Pupil",null,null,{"$f":"IFERROR(IF(A5<>999,Q24/Q10,\" \"),\"\")","v":" "}]
[null,"*The wage adjustment factor is applied to underlying rates in all functions except instructional equipment, benefits and special education tuition."]
[14,"Low-income percentage",{"$f":"VLOOKUP(lea,dist915,19)","v":0},null,null,null,null,null,null,null,null,"English learner foundation budget as % total foundation budget",null,null,null,null,{"$f":"IFERROR(IF(A5=999,\"\",SUM(M24:O24)/Q24),\"\")","v":""}]
[15,"Low-income group",{"$f":"VLOOKUP(lea,dist915,18)","v":0},null,null,null,null,null,null,null,null,"Low-income foundation budget as % total foundation budget",null,null,null,null,{"$f":"IFERROR(IF(A5=999,\"\",P24/Q24),\"\")","v":""}]
[]
[]
[null,"Total foundation enrollment (column 14) does not include incremental costs above the base.  The pupils are already counted in columns 1 to 7.",null,null,null,null,null,null,null,null,"Low-income group","Low-income %"]
[null,"Total foundation enrollment assigns pupils in pre-kindergarten and half-time kindergarten an enrollment count of .5.",null,null,null,null,null,null,null,null,"Group 1","0-5.99%"]
[null,"Special education in-district enrollment is an assumed percentage, representing 3.90 percent of K-12 non-vocational enrollment and",null,null,null,null,null,null,null,null,"Group 2","6-11.99%"]
[null,"4.90 percent of vocational enrollment.",null,null,null,null,null,null,null,null,"Group 3","12-17.99%"]
[null,"Special education tuitioned-out enrollment is also an assumed percentage, representing 1 percent of non-vocational K-12 enrollment.",null,null,null,null,null,null,null,null,"Group 4","18-23.99%"]
[null,"Low-income enrollment is based on: (1) participation in Supplemental Nutrition Assistance Program (SNAP), ",null,null,null,null,null,null,null,null,"Group 5","24-29.99%"]
[null,"the Transitional Assistance for Families with Dependent Children (TAFDC), MassHealth (Medicaid), or foster care; ",null,null,null,null,null,null,null,null,"Group 6","30-35.99%"]
[null,"(2) homeless designation through the McKinney-Vento Homeless Education Assistance program; ",null,null,null,null,null,null,null,null,"Group 7","36-41.99%"]
[null,"or (3) verification as low income through a supplemental data collection process.",null,null,null,null,null,null,null,null,"Group 8","42-47.99%"]
[null,"Low-income and English learner foundation budget increments are based on the number of students attending school in the district",null,null,null,null,null,null,null,null,"Group 9","48-53.99%"]
[null,"or district residents who attend charter schools.",null,null,null,null,null,null,null,null,"Group 10","54-69.99%"]
[null,"The low-income percentage is the ratio of the low-income enrollment to:",null,null,null,null,null,null,null,null,"Group 11","70-79.99%"]
[null,"the total students attending school in the district and the total resident students attending charter schools.",null,null,null,null,null,null,null,null,"Group 12","80%+"]
[]
[null,"Each component of the foundation budget represents the enrollment in row 10 multiplied by the appropriate statewide foundation allotment."]
[null,"The foundation budget shown on this page may differ from the final number used in the formula, due to rounding error."]
[]
[]
[null,"Return to Index"]

{"sheet":"Municipal Contribution","index":6,"n_rows":31,"n_cols":13,"rows_kept":31,"cut":false,"hidden":false,"merged":[]}
[null,null,null,null,null,null,null,null,null,null,null,null,{"$f":"IF(VLOOKUP(A6,town351,18)>0,\"lo\",\"hi\")","v":"hi"}]
["Return to Index",null,null,null,null,null,"More about the data"]
["Massachusetts Department of Elementary and Secondary Education"]
["Office of School Finance"]
[{"$f":"parameters!B1&\" Chapter 70 Determination of City and Town Total Required Contribution\"","v":"FY24 Chapter 70 Determination of City and Town Total Required Contribution"}]
[{"$f":"lea","v":999},{"$f":"IF(lea>351, \"This lea code does not refer to a city or a town - this table shows municipal data only.\",VLOOKUP(A6,aidcalc,2))","v":"This lea code does not refer to a city or a town - this table shows municipal data only."}]
[]
["Effort Goal",null,null,null,{"$f":"parameters!B1&\" Increments Toward Goal\"","v":"FY24 Increments Toward Goal"}]
[]
["1)","2022 equalized valuation",{"$f":"IF(A6<352,VLOOKUP($A$6,town351,3),\" \")","v":" "},null,"13)",{"$f":"PYr&\" required local contribution\"","v":"FY23 required local contribution"},{"$f":"IF(A6<352,VLOOKUP($A$6,town351,14),\" \")","v":" "}]
["2)","Uniform property percentage",{"$f":"IF(A6<352,'Townwide Contributions'!D5,\" \")","v":" "},null,"14)","Municipal revenue growth factor (DOR)",{"$f":"IF(A$6<352,VLOOKUP($A$6,town351,15),\" \")","v":" "}]
["3)","Local effort from property wealth",{"$f":"IF(A6<352,VLOOKUP($A$6,town351,4),\" \")","v":" "},null,"15)",{"$f":"parameters!B1&\" preliminary contribution (13 raised by 14)\"","v":"FY24 preliminary contribution (13 raised by 14)"},{"$f":"IF(A$6<352,VLOOKUP($A$6,town351,16),\" \")","v":" "}]
[null,null,null,null,"16)","Preliminary contribution pct of foundation (15 / 8)",{"$f":"IF(A$6<352,VLOOKUP($A$6,town351,17)/100,\" \")","v":" "}]
["4)","2020 income",{"$f":"IF(A6<352,VLOOKUP($A$6,town351,5),\" \")","v":" "}]
["5)","Uniform income percentage",{"$f":"IF(A6<352,'Townwide Contributions'!F5,\" \")","v":" "},null,"If preliminary contribution is above the target share:"]
["6)","Local effort from income",{"$f":"IF(A6<352,VLOOKUP($A$6,town351,6),\" \")","v":" "},null,"17)","Excess local effort (15 - 10)",{"$f":"IF(AND(A$6<352,M$1=\"hi\"),VLOOKUP($A$6,town351,21),\" \")","v":" "}]
[null,null,null,null,"18)",{"$f":"parameters!$C$50&\" reduction toward target (17 x \"&parameters!$C$50&\")\"","v":"100% reduction toward target (17 x 100%)"},{"$f":"IF(AND(A$6<352,M$1=\"hi\"),VLOOKUP($A$6,town351,22),\" \")","v":" "}]
["7)","Combined effort yield (3 + 6)",{"$f":"IF(A6<352,VLOOKUP($A$6,town351,7),\" \")","v":" "},null,"19)",{"$f":"parameters!B1&\" required local contribution (15 - 18), capped at 90% of foundation\"","v":"FY24 required local contribution (15 - 18), capped at 90% of foundation"},{"$f":"IF(AND(A$6<352,M$1=\"hi\"),VLOOKUP($A$6,town351,24),\" \")","v":" "}]
[null,null,null,null,"20)","Contribution as percentage of foundation (19 / 8)",{"$f":"IF(AND(A$6<352,M$1=\"hi\"),VLOOKUP($A$6,town351,25)/100,\" \")","v":" "}]
["8)",{"$f":"parameters!B1&\" Foundation budget\"","v":"FY24 Foundation budget"},{"$f":"IF(A6<352,VLOOKUP($A$6,town351,8),\" \")","v":" "}]
["9)","Maximum local contribution (82.5% * 8)",{"$f":"IF(A6<352,VLOOKUP($A$6,town351,10),\" \")","v":" "},null,"If preliminary contribution is below the target share:"]
[null,null,null,null,"21)","Shortfall from target local share (10 - 15)",{"$f":"IF(AND(A$6<352,M1=\"lo\"),-1*VLOOKUP($A$6,town351,27),\" \")","v":" "}]
["10)","Target local contribution (lesser of 7 or 9)",{"$f":"IF(A6<352,VLOOKUP($A$6,town351,11),\" \")","v":" "},null,"22)","Shortfall percentage (11 - 16)",{"$f":"IF(AND(A$6<352,M1=\"lo\"),VLOOKUP($A$6,town351,18)/100,\" \")","v":" "}]
[null,null,null,null,"23)","Added increment toward target (13 x 1% or 2%)*",{"$f":"IF(AND(A$6<352,M1=\"lo\"),VLOOKUP($A$6,town351,20),\" \")","v":" "}]
["11)","Target local share (10 as % of 8)",{"$f":"IF(A6<352,VLOOKUP(lea,town351,12)/100,\" \")","v":" "},null,null,"*1% if shortfall is between 2.5% and 7.5%; 2% if shortfall > 7.5%"]
["12)","Target aid share (100% minus 11)",{"$f":"IF(A6<352,VLOOKUP(lea,aidcalc,13)/100,\" \")","v":" "},null,"24)","Special increment toward 82.5% target**",{"$f":"IF(AND(A$6<352,M1=\"lo\"),VLOOKUP($A$6,town351,23),\" \")","v":" "}]
[null,null,null,null,null,"**if combined effort yield > 175% foundation"]
[null,null,null,null,null,"    Combined effort yield as % of foundation",{"$f":"IF(AND(A$6<352,M1=\"lo\"),IF(VLOOKUP($A$6,town351,9)>175%,VLOOKUP($A$6,town351,9),\" \"),\"\")","v":""}]
[null,"See a listing of all 351 communities",null,null,"25)","Shortfall from target after adding increments (10 - 15 - 23 - 24)",{"$f":"IF(AND(A$6<352,M1=\"lo\"),-1*VLOOKUP($A$6,town351,28),\" \")","v":" "}]
[null,null,null,null,"26)",{"$f":"parameters!B1&\" required local contribution (15 + 23 + 24)\"","v":"FY24 required local contribution (15 + 23 + 24)"},{"$f":"IF(AND(A$6<352,M1=\"lo\"),VLOOKUP($A$6,town351,24),\" \")","v":" "}]
[null,null,null,null,"27)","Contribution as percentage of foundation (26 / 8)",{"$f":"IF(AND(A$6<352,M1=\"lo\"),VLOOKUP($A$6,town351,25)/100,\" \")","v":" "}]

{"sheet":"Regional Allocation","index":7,"n_rows":26,"n_cols":10,"rows_kept":26,"cut":false,"hidden":false,"merged":[]}
[null,null,null,null,null,null,null,null,null,"More about the data"]
[null,null,null,"Return to Index"]
[null,null,null,"Massachusetts Department of Elementary and Secondary Education"]
[null,null,null,"Office of School Finance"]
[null,null,null,{"$f":"CYr& \" Chapter 70 Apportionment of Local Contribution Across School Districts\"","v":"FY24 Chapter 70 Apportionment of Local Contribution Across School Districts"}]
[]
[null,null,null,null,4,4,3,2,1]
[null,null,null,null,null,null,null," "," "]
[5,null,null,{"$f":"lea","v":999},{"$f":"IF($D$9>351, \"\", IF(AND($D$9>0, VLOOKUP($D$9*5-E$7, order1755, $A9)<>0), VLOOKUP($D$9*5-E$7, order1755, $A9), \"\"))","v":""},{"$f":"IF(OR($D$9=\"\", $D$9>351), \"\", IF(AND($D$9>0, VLOOKUP($D$9*5-F$7, order1755, $A9)<>0), VLOOKUP($D$9*5-F$7, order1755, $A9), \"\"))","v":""},{"$f":"IF(OR($D$9=\"\", $D$9>351), \"\", IF(AND($D$9>0, VLOOKUP($D$9*5-G$7, order1755, $A9)<>0), VLOOKUP($D$9*5-G$7, order1755, $A9), \"\"))","v":""},{"$f":"IF(OR($D$9=\"\", $D$9>351), \"\", IF(AND($D$9>0, VLOOKUP($D$9*5-H$7, order1755, $A9)<>0), VLOOKUP($D$9*5-H$7, order1755, $A9), \"\"))","v":""},{"$f":"IF(OR($D$9=\"\", $D$9>351), \"\", IF(AND($D$9>0, VLOOKUP($D$9*5-I$7, order1755, $A9)<>0), VLOOKUP($D$9*5-I$7, order1755, $A9), \"\"))","v":""},"Combined Total for All Districts"]
[6]
[null,null,null,null,"Prior Year Data (for comparison purposes)"]
[]
[15,null,null,1,{"$f":"parameters!B2&\" foundation enrollment\"","v":"FY23 foundation enrollment"},{"$f":"IF(OR($D$9=\"\", $D$9>351), \"\", IF(AND($D$9>0, VLOOKUP($D$9*5-F$7, order1755, $A13)<>0), VLOOKUP($D$9*5-F$7, order1755, $A13), \"\"))","v":""},"","","",{"$f":"IF(OR($D$9=\"\", $D$9>351), \"\", VLOOKUP($D$9*5, order1755, $A13))","v":""}]
[6,null,null,2,{"$f":"parameters!B2&\" foundation budget\"","v":"FY23 foundation budget"},"","","","",{"$f":"IF(OR($D$9=\"\", $D$9>351), \"\", VLOOKUP($D$9*5, order1755, $A14))","v":""}]
[7,null,null,3,{"$f":"\"Each district's share of municipality's combined \"& parameters!B2&\" foundation\"","v":"Each district's share of municipality's combined FY23 foundation"},"","","","",{"$f":"IF(OR($D$9=\"\", $D$9>351), \"\", VLOOKUP($D$9*5, order1755, $A15))","v":""}]
[12,null,null,4,{"$f":"parameters!B2&\" required contribution\"","v":"FY23 required contribution"},"","","","",{"$f":"IF(OR($D$9=\"\", $D$9>351), \"\", VLOOKUP($D$9*5, order1755, $A16))","v":""}]
[null,null,null,null,{"$f":"parameters!B1& \" apportionment of contribution among community's districts\"","v":"FY24 apportionment of contribution among community's districts"}]
[null,null,null,5,{"$f":"parameters!B1&\" total unapportioned required contribution ('municipal contribution' tab row 19 or 25)\"","v":"FY24 total unapportioned required contribution ('municipal contribution' tab row 19 or 25)"},null,null,null,null,{"$f":"IF(OR($D$9=\"\", $D$9>351), \"\", VLOOKUP($D$9,town351,24))","v":""}]
[20,null,null,6,{"$f":"parameters!B1&\" foundation enrollment\"","v":"FY24 foundation enrollment"},{"$f":"IF(OR($D$9=\"\", $D$9>351), \"\", IF(AND($D$9>0, VLOOKUP($D$9*5-F$7, order1755, $A19)<>0), VLOOKUP($D$9*5-F$7, order1755, $A19), \"\"))","v":""},"","","",{"$f":"IF(OR($D$9=\"\", $D$9>351), \"\", VLOOKUP($D$9*5, order1755, $A19))","v":""}]
[8,null,null,7,{"$f":"parameters!B1&\" foundation budget\"","v":"FY24 foundation budget"},"","","","",{"$f":"IF(OR($D$9=\"\", $D$9>351), \"\", VLOOKUP($D$9*5, order1755, $A20))","v":""}]
[9,null,null,8,{"$f":"\"Each district's share of municipality's total \"& parameters!B1&\" foundation \"","v":"Each district's share of municipality's total FY24 foundation "},"","","","",{"$f":"IF(OR($D$9=\"\", $D$9>351), \"\", VLOOKUP($D$9*5, order1755, $A21))","v":""}]
[11,null,null,9,{"$f":"parameters!B1&\" Required Contribution\"","v":"FY24 Required Contribution"},"","","","",{"$f":"VLOOKUP($D$9*5, order1755, $A22)","v":7566383475}]
[]
[13,null,null,10,{"$f":"\"Change \"&parameters!B1&\" to \"&parameters!B2& \" (9 - 4)\"","v":"Change FY24 to FY23 (9 - 4)"},{"$f":"IF(OR($D$9=\"\", $D$9>351), \"\", IF(AND($D$9>0, VLOOKUP($D$9*5-F$7, order1755, $A24)<>0), VLOOKUP($D$9*5-F$7, order1755, $A24), \"\"))","v":""},{"$f":"IF(OR($D$9=\"\", $D$9>351), \"\", IF(AND($D$9>0, VLOOKUP($D$9*5-G$7, order1755, $A24)<>0), VLOOKUP($D$9*5-G$7, order1755, $A24), \"\"))","v":""},{"$f":"IF(OR($D$9=\"\", $D$9>351), \"\", IF(AND($D$9>0, VLOOKUP($D$9*5-H$7, order1755, $A24)<>0), VLOOKUP($D$9*5-H$7, order1755, $A24), \"\"))","v":""},{"$f":"IF(OR($D$9=\"\", $D$9>351), \"\", IF(AND($D$9>0, VLOOKUP($D$9*5-I$7, order1755, $A24)<>0), VLOOKUP($D$9*5-I$7, order1755, $A24), \"\"))","v":""},{"$f":"IF(OR($D$9=\"\", $D$9>351), \"\", VLOOKUP($D$9*5, order1755, $A24))","v":""}]
[]
[null,null,null,null,"The combined totals on lines 5 and 9 may differ due to rounding."]

{"sheet":"Summary","index":8,"n_rows":41,"n_cols":39,"rows_kept":41,"cut":false,"hidden":false,"merged":[[40,0,46,1],[49,0,55,1]]}
["Return to Index",null,null,null,null,null,null,null,null,"More about the data"]
[]
["Massachusetts Department of Elementary and Secondary Education"]
[{"$f":"parameters!B1&\" Chapter 70 Summary\"","v":"FY24 Chapter 70 Summary"}]
[]
[{"$f":"lea","v":999},{"$f":"PROPER(VLOOKUP(A6,dist915,2))","v":"State Total"}]
[]
[{"$f":"\"Aid Calculation \"&CYr","v":"Aid Calculation FY24"},null,null,null,{"$f":"\"Comparison to \"&PYr","v":"Comparison to FY23"}]
[]
[null,null,null,null,null,{"$f":"PYr","v":"FY23"},{"$f":"CYr","v":"FY24"},"Change","Pct Chg",null,null,null,null,null,null,null,null,null,null,null,"FY06","FY07","FY08","FY09","FY10","FY11","FY12","FY13","FY14","FY15","FY16","FY17","FY18","FY19","FY20","FY21","FY22","FY23","FY24"]
["Prior Year Aid",null,null,null,"Enrollment",{"$f":"VLOOKUP(A6,aidcalc,14)","v":903751.00000000594},{"$f":"VLOOKUP(A6,aidcalc,15)","v":905238.99999993376},{"$f":"G11-F11","v":1487.9999999278225},{"$f":"IF(F11>0, H11/F11, 0)","v":1.6464712071442384E-3},null,null,null,null,null,null,null,null,null,null,"Required District Contribution",{"$f":"VLOOKUP($A$6,disthist,5)","v":4743946672},{"$f":"VLOOKUP($A$6,disthist,8)","v":4876428772},{"$f":"VLOOKUP($A$6,disthist,11)","v":4997705374},{"$f":"VLOOKUP($A$6,disthist,14)","v":5110365426},{"$f":"VLOOKUP($A$6,disthist,18)","v":5250106061},{"$f":"VLOOKUP($A$6,disthist,22)","v":5302200670.3241692},{"$f":"VLOOKUP($A$6,disthist,27)","v":5413602268},{"$f":"VLOOKUP($A$6,disthist,30)","v":5582113529},{"$f":"VLOOKUP($A$6,disthist, 33)","v":5748475145},{"$f":"VLOOKUP($A$6,disthist, 36)","v":5817618237},{"$f":"VLOOKUP($A$6,disthist, 39)","v":5943909029},{"$f":"VLOOKUP($A$6,disthist, 42)","v":5926185567},{"$f":"VLOOKUP($A$6,disthist, 45)","v":6046916786},{"$f":"VLOOKUP($A$6,disthist, 48)","v":6246842886},{"$f":"VLOOKUP($A$6,disthist, 51)","v":6513607368},{"$f":"VLOOKUP($A$6,disthist, 54)","v":6705321561},{"$f":"VLOOKUP($A$6,disthist, 57)","v":6827673657},{"$f":"VLOOKUP($A$6,disthist, 60)","v":7166744291},{"$f":"VLOOKUP($A$6,aidcalc,10 )","v":7566383475}]
[1,{"$f":"\"Chapter 70 \"&PYr","v":"Chapter 70 FY23"},{"$f":"VLOOKUP(A6,aidcalc,6)","v":5997901328.6000023},null,"Foundation budget",{"$f":"VLOOKUP(A6,disthist,59)","v":12890335880.607767},{"$f":"VLOOKUP(A6,aidcalc,9)","v":13965016629.33205},{"$f":"G12-F12","v":1074680748.7242832},{"$f":"IF(F12>0, H12/F12, 0)","v":8.3371043134805659E-2},null,null,null,null,null,null,null,null,null,null,"C70 Aid",{"$f":"VLOOKUP($A$6,disthist,6)","v":3288603061.8000002},{"$f":"VLOOKUP($A$6,disthist,9)","v":3505192038.9270248},{"$f":"VLOOKUP($A$6,disthist,12)","v":3725343326.8219399},{"$f":"VLOOKUP($A$6,disthist,15)+VLOOKUP($A$6,disthist,16)","v":3948496062.2495604},{"$f":"VLOOKUP($A$6,disthist,19)+VLOOKUP($A$6,disthist,20)","v":4043156700},{"$f":"VLOOKUP($A$6,disthist,23)+VLOOKUP($A$6,disthist,24)+VLOOKUP($A$6,disthist,25)","v":4072032852.5488005},{"$f":"VLOOKUP($A$6,disthist,28)","v":3990504093.3881507},{"$f":"VLOOKUP($A$6,disthist,31)","v":4173223954.2949104},{"$f":"VLOOKUP($A$6,disthist,34)","v":4300854366.3566036},{"$f":"VLOOKUP($A$6,disthist,37)","v":4400335961.8829308},{"$f":"VLOOKUP($A$6,disthist,40)","v":4511521973.6381674},{"$f":"VLOOKUP($A$6,disthist,43)","v":4627705061.1446953},{"$f":"VLOOKUP($A$6,disthist,46)","v":4745645155.949439},{"$f":"VLOOKUP($A$6,disthist,49)","v":4906614765.8021221},{"$f":"VLOOKUP($A$6,disthist,52)","v":5175694094},{"$f":"VLOOKUP($A$6,disthist,55)","v":5283343073.4799995},{"$f":"VLOOKUP($A$6,disthist,58)","v":5502959666.6000013},{"$f":"VLOOKUP($A$6,disthist,61)","v":5997901328.6000023},{"$f":"VLOOKUP($A$6,aidcalc,25)","v":6584287352.5999994}]
[null,null,null,null,"Required district contribution",{"$f":"VLOOKUP(A6,disthist,60)","v":7166744291},{"$f":"VLOOKUP($A$6, aidcalc, 10)","v":7566383475},{"$f":"G13-F13","v":399639184},{"$f":"IF(F13>0, H13/F13, 0)","v":5.5763003083822461E-2},null,null,null,null,null,null,null,null,null,null,"Foundation Budget",{"$f":"VLOOKUP($A$6,disthist,4)","v":7551933454},{"$f":"VLOOKUP($A$6,disthist,7)","v":8014672861.3798904},{"$f":"VLOOKUP($A$6,disthist,10)","v":8406096436.3857374},{"$f":"VLOOKUP($A$6,disthist,13)","v":8811314229.2926865},{"$f":"VLOOKUP($A$6,disthist,17)","v":9088557473.2006893},{"$f":"VLOOKUP($A$6,disthist,21)","v":8921047970},{"$f":"VLOOKUP($A$6,disthist,26)","v":9119340580.3732376},{"$f":"VLOOKUP($A$6,disthist,29)","v":9467117140.6663704},{"$f":"VLOOKUP($A$6,disthist, 32)","v":9711217584.8007889},{"$f":"VLOOKUP($A$6,disthist, 35)","v":9866011313.0677662},{"$f":"VLOOKUP($A$6,disthist, 38)","v":10090177272.100754},{"$f":"VLOOKUP($A$6,disthist, 41)","v":10128238382.975546},{"$f":"VLOOKUP($A$6,disthist, 44)","v":10379173843.167685},{"$f":"VLOOKUP($A$6,disthist, 47)","v":10777588551.40456},{"$f":"VLOOKUP($A$6,disthist, 50)","v":11359048511.850758},{"$f":"VLOOKUP($A$6,disthist, 53)","v":11626531095.326303},{"$f":"VLOOKUP($A$6,disthist, 56)","v":11926225791.726231},{"$f":"VLOOKUP($A$6,disthist, 59)","v":12890335880.607767},{"$f":"VLOOKUP($A$6,aidcalc,9 )","v":13965016629.33205}]
["Foundation Aid",null,null,null,"Chapter 70 aid",{"$f":"IF(A6=999,VLOOKUP(A6,disthist,61,0)+308558,VLOOKUP(A6,disthist,61,0))","v":5998209886.6000023},{"$f":"IF(A6=999,VLOOKUP($A$6,aidcalc,25,0)+308558,VLOOKUP($A$6,aidcalc,25,0))","v":6584595910.5999994},{"$f":"G14-F14","v":586386023.99999714},{"$f":"IF(F14>0, H14/F14, 0)","v":9.7760170965338039E-2}]
[2,{"$f":"\"Foundation budget \"&CYr","v":"Foundation budget FY24"},{"$f":"VLOOKUP($A$6, aidcalc, 9)","v":13965016629.33205},null,"Required net school spending (NSS)",{"$f":"F13+F14","v":13164954177.600002},{"$f":"G13+G14","v":14150979385.599998},{"$f":"G15-F15","v":986025207.99999619},{"$f":"IF(F15>0, H15/F15, 0)","v":7.4897731864323941E-2}]
[3,{"$f":"\"Required district contribution \"& CYr","v":"Required district contribution FY24"},{"$f":"VLOOKUP($A$6, aidcalc, 10)","v":7566383475}]
[4,"Foundation aid (2 -3)",{"$f":"VLOOKUP($A$6, aidcalc, 11)","v":6398633164},null,"Target aid share",{"$f":"VLOOKUP(A$6,disthist,3)/100","v":0.41},{"$f":"VLOOKUP(A6,aidcalc,13)/100","v":0.41}]
[5,{"$f":"\"Increase over \" & PYr&\" (4 - 1)\"","v":"Increase over FY23 (4 - 1)"},{"$f":"VLOOKUP($A$6, aidcalc, 12)","v":578427445.99999893},null,"C70 % of foundation",{"$f":"IF(F12>0,F14/F12,IF(F14>0,1,0))","v":0.46532611269064872},{"$f":"IF(G12>0,G14/G12,IF(G14>0,1,0))","v":0.47150648548242668}]
[]
["Minimum Aid",null,null,null,"Required NSS % of foundation",{"$f":"IF(F12>0,F15/F12,IF(F15>0,1,0))","v":1.0213042002579136},{"$f":"IF(G12>0,G15/G12,IF(G15>0,1,0))","v":1.0133163290244391}]
[6,{"$f":"\"Minimum $\"&parameters!$C$14&\" per pupil increase\"","v":"Minimum $30 per pupil increase"},{"$f":"IF(A6=999,\"\",VLOOKUP($A$6,aidcalc,17,0))","v":""}]
[7,"Minimum aid amount"]
[null,"(if line 6 - line 5 > 0, then line 6 - line 5, otherwise 0)",{"$f":"VLOOKUP($A$6, aidcalc, 18,0)","v":7672268.9999991721}]
[]
["Subtotal"]
[8,"Sum of 1,5,7",{"$f":"C12+C18+C23","v":6584001043.6000004}]
[]
["Minimum Aid Adjustment"]
[9,"Minimum aid adjustment",{"$f":"IF(A6=999,\"\",VLOOKUP($A$6, aidcalc, 20))","v":""}]
[10,"Aid adjustment increment"]
[null,"(if line 9 - line 8 > 0, then line 9 - line 8, otherwise 0)",{"$f":"VLOOKUP($A$6, aidcalc, 21, FALSE)","v":354574.00000000058}]
[]
["Non-Operating District Reduction to Foundation"]
[11,"Reduction to foundation",{"$f":"VLOOKUP($A$6, aidcalc, 23)","v":68265.000000000015}]
[]
[{"$f":"CYr&\" Chapter 70 Aid\"","v":"FY24 Chapter 70 Aid"}]
[12,"Sum of 1,5,7,10 minus 11",{"$f":"VLOOKUP($A$6, aidcalc, 25)","v":6584287352.5999994}]
[null,{"$f":"IF(A6=999,\"with Devens aid\",\"\")","v":"with Devens aid"},{"$f":"IF(A6=999,C37+308558,\"\")","v":6584595910.5999994}]
[]
["Note on Minimum Aid Adjustment on lines 9 and 10:"]
["The minimum aid adjustment is the sum of (a) the greater of foundation aid or base aid determined based on the FY21 base and incremental rates, inflated to FY24, and (b) foundation enrollment multiplied by $30. The aid adjustment increment (line 10) is the line 9 amount less the line 8 amount if the difference is positive. Otherwise, the increment is zero."]

{"sheet":"Regional District Members","index":9,"n_rows":68,"n_cols":16,"rows_kept":68,"cut":false,"hidden":false,"merged":[[13,12,13,14],[9,4,9,9],[14,6,14,7],[14,9,14,10],[13,9,13,11],[13,6,13,8],[10,4,10,8]]}
[]
[null,null,null,null,"Return to Index"]
[null,null,null,null,null,"Select or type full regional district name below"]
[null,null,null,null,{"$f":"VLOOKUP(reg_order, regdistricts, 3, FALSE)","v":600},"Acton Boxborough",{"$f":"VLOOKUP(F4,leas!$E$450:$H$536,4,FALSE)","v":1}]
[]
[null,null,null,null,"Massachusetts Department of Elementary and Secondary Education"]
[null,null,null,null,"Office of School Finance"]
[null,null,null,null,{"$f":"CYr&\" Chapter 70\"","v":"FY24 Chapter 70"}]
[null,null,null,null,"Regional District Enrollment and Contributions by Member City or Town"]
[null,null,null,null,"The table below presents the minimum required local contribution for each member to the selected regional district. "]
[null,null,null,null,"Note: A city or town might belong to more than one regional district (e.g., a regional district and a vocational district) and therefore be required to contribute to multiple districts. See the regional allocation tab for a full list of minimum required contributions for each city or town.\n\nFoundation enrollments are presented as whole numbers. The change column reflects differences prior to rounding."]
[null,{"$f":"VLOOKUP(E4, leas!D6:G445, 4, FALSE)","v":"0600"},null,2,{"$f":"VLOOKUP(reg_order, regdistricts, 2, FALSE)","v":"600 Acton Boxborough"}]
[]
[null,null,null,null,null,null,"Foundation Enrollment in Regional District",null,null,"Required Minimum Contribution to Regional District"]
[]
[null,{"$f":"VLOOKUP($E$4, regcount, 2, FALSE)","v":2},null,null,"LEA","Member",{"$f":"PYr","v":"FY23"},{"$f":"CYr","v":"FY24"},"Change",{"$f":"PYr","v":"FY23"},{"$f":"CYr","v":"FY24"},"Change"]
[]
[null,null,null,null,null,"Total",{"$f":"SUM(G20:G67)","v":5047},{"$f":"SUM(H20:H67)","v":5119.9999999999991},{"$f":"SUM(I20:I67)","v":72.999999999998977},{"$f":"SUM(J20:J67)","v":48377825},{"$f":"SUM(K20:K67)","v":50507466},{"$f":"SUM(L20:L62)","v":2129641}]
[]
[{"$f":"IF($C20<=$B$16,VLOOKUP(E20,leas!D6:G445,4,FALSE),\"\")","v":"0002"},{"$f":"$E$4*100+C20","v":60001},1,null,{"$f":"IF($C20<=$B$16, VLOOKUP($B20, regdetail, 5), \" \")","v":2},{"$f":"IF($C20<=$B$16, VLOOKUP($B20, regdetail, 6), \" \")","v":"Acton"},{"$f":"IF($C20<=$B$16,VLOOKUP(A20&$B$12, localcont!A10:X1764, 18, FALSE), \"\")","v":4230.1558315779703},{"$f":"IF($C20<=$B$16,VLOOKUP(A20&$B$12, localcont!$A$10:$X$1764, 23, FALSE), \"\")","v":4243.0606238719993},{"$f":"IF($C20<=$B$16, H20-G20, \" \")","v":12.904792294028994},{"$f":"IF($C20<=$B$16,VLOOKUP(A20&$B$12, localcont!$A$10:$X$1764, 15, FALSE), \"\")","v":40380318},{"$f":"IF($C20<=$B$16,VLOOKUP(A20&$B$12, localcont!$A$10:$X$1764, 14, FALSE),\"\")","v":41998078},{"$f":"IF($C20<=$B$16, K20-J20, \" \")","v":1617760}]
[{"$f":"IF($C21<=$B$16,VLOOKUP(E21,leas!D7:G446,4,FALSE),\"\")","v":"0037"},{"$f":"$E$4*100+C21","v":60002},2,null,37,"Boxborough",{"$f":"IF($C21<=$B$16,VLOOKUP(A21&$B$12, localcont!A11:X1765, 18, FALSE), \"\")","v":816.84416842203007},{"$f":"IF($C21<=$B$16,VLOOKUP(A21&$B$12, localcont!$A$10:$X$1764, 23, FALSE), \"\")","v":876.93937612800005},{"$f":"IF($C21<=$B$16, H21-G21, \" \")","v":60.095207705969983},{"$f":"IF($C21<=$B$16,VLOOKUP(A21&$B$12, localcont!$A$10:$X$1764, 15, FALSE), \"\")","v":7997507},{"$f":"IF($C21<=$B$16,VLOOKUP(A21&$B$12, localcont!$A$10:$X$1764, 14, FALSE),\"\")","v":8509388},{"$f":"IF($C21<=$B$16, K21-J21, \" \")","v":511881}]
[{"$f":"IF($C22<=$B$16,VLOOKUP(E22,leas!D8:G447,4,FALSE),\"\")","v":""},60003,3,null," "," ",{"$f":"IF($C22<=$B$16,VLOOKUP(A22&$B$12, localcont!A12:X1766, 18, FALSE), \"\")","v":""},{"$f":"IF($C22<=$B$16,VLOOKUP(A22&$B$12, localcont!$A$10:$X$1764, 23, FALSE), \"\")","v":""}," ",{"$f":"IF($C22<=$B$16,VLOOKUP(A22&$B$12, localcont!$A$10:$X$1764, 15, FALSE), \"\")","v":""},{"$f":"IF($C22<=$B$16,VLOOKUP(A22&$B$12, localcont!$A$10:$X$1764, 14, FALSE),\"\")","v":""}," "]
[{"$f":"IF($C23<=$B$16,VLOOKUP(E23,leas!D9:G448,4,FALSE),\"\")","v":""},60004,4,null," "," ",{"$f":"IF($C23<=$B$16,VLOOKUP(A23&$B$12, localcont!A13:X1767, 18, FALSE), \"\")","v":""},{"$f":"IF($C23<=$B$16,VLOOKUP(A23&$B$12, localcont!$A$10:$X$1764, 23, FALSE), \"\")","v":""}," ",{"$f":"IF($C23<=$B$16,VLOOKUP(A23&$B$12, localcont!$A$10:$X$1764, 15, FALSE), \"\")","v":""},{"$f":"IF($C23<=$B$16,VLOOKUP(A23&$B$12, localcont!$A$10:$X$1764, 14, FALSE),\"\")","v":""}," "]
[{"$f":"IF($C24<=$B$16,VLOOKUP(E24,leas!D10:G449,4,FALSE),\"\")","v":""},60005,5,null," "," ",{"$f":"IF($C24<=$B$16,VLOOKUP(A24&$B$12, localcont!A14:X1768, 18, FALSE), \"\")","v":""},{"$f":"IF($C24<=$B$16,VLOOKUP(A24&$B$12, localcont!$A$10:$X$1764, 23, FALSE), \"\")","v":""}," ",{"$f":"IF($C24<=$B$16,VLOOKUP(A24&$B$12, localcont!$A$10:$X$1764, 15, FALSE), \"\")","v":""},{"$f":"IF($C24<=$B$16,VLOOKUP(A24&$B$12, localcont!$A$10:$X$1764, 14, FALSE),\"\")","v":""}," "]
[{"$f":"IF($C25<=$B$16,VLOOKUP(E25,leas!D11:G450,4,FALSE),\"\")","v":""},60006,6,null," "," ",{"$f":"IF($C25<=$B$16,VLOOKUP(A25&$B$12, localcont!A15:X1769, 18, FALSE), \"\")","v":""},{"$f":"IF($C25<=$B$16,VLOOKUP(A25&$B$12, localcont!$A$10:$X$1764, 23, FALSE), \"\")","v":""}," ",{"$f":"IF($C25<=$B$16,VLOOKUP(A25&$B$12, localcont!$A$10:$X$1764, 15, FALSE), \"\")","v":""},{"$f":"IF($C25<=$B$16,VLOOKUP(A25&$B$12, localcont!$A$10:$X$1764, 14, FALSE),\"\")","v":""}," "]
[{"$f":"IF($C26<=$B$16,VLOOKUP(E26,leas!D12:G451,4,FALSE),\"\")","v":""},60007,7,null," "," ",{"$f":"IF($C26<=$B$16,VLOOKUP(A26&$B$12, localcont!A16:X1770, 18, FALSE), \"\")","v":""},{"$f":"IF($C26<=$B$16,VLOOKUP(A26&$B$12, localcont!$A$10:$X$1764, 23, FALSE), \"\")","v":""}," ",{"$f":"IF($C26<=$B$16,VLOOKUP(A26&$B$12, localcont!$A$10:$X$1764, 15, FALSE), \"\")","v":""},{"$f":"IF($C26<=$B$16,VLOOKUP(A26&$B$12, localcont!$A$10:$X$1764, 14, FALSE),\"\")","v":""}," "]
[{"$f":"IF($C27<=$B$16,VLOOKUP(E27,leas!D13:G452,4,FALSE),\"\")","v":""},60008,8,null," "," ",{"$f":"IF($C27<=$B$16,VLOOKUP(A27&$B$12, localcont!A17:X1771, 18, FALSE), \"\")","v":""},{"$f":"IF($C27<=$B$16,VLOOKUP(A27&$B$12, localcont!$A$10:$X$1764, 23, FALSE), \"\")","v":""}," ",{"$f":"IF($C27<=$B$16,VLOOKUP(A27&$B$12, localcont!$A$10:$X$1764, 15, FALSE), \"\")","v":""},{"$f":"IF($C27<=$B$16,VLOOKUP(A27&$B$12, localcont!$A$10:$X$1764, 14, FALSE),\"\")","v":""}," "]
[{"$f":"IF($C28<=$B$16,VLOOKUP(E28,leas!D14:G453,4,FALSE),\"\")","v":""},60009,9,null," "," ",{"$f":"IF($C28<=$B$16,VLOOKUP(A28&$B$12, localcont!A18:X1772, 18, FALSE), \"\")","v":""},{"$f":"IF($C28<=$B$16,VLOOKUP(A28&$B$12, localcont!$A$10:$X$1764, 23, FALSE), \"\")","v":""}," ",{"$f":"IF($C28<=$B$16,VLOOKUP(A28&$B$12, localcont!$A$10:$X$1764, 15, FALSE), \"\")","v":""},{"$f":"IF($C28<=$B$16,VLOOKUP(A28&$B$12, localcont!$A$10:$X$1764, 14, FALSE),\"\")","v":""}," "]
[{"$f":"IF($C29<=$B$16,VLOOKUP(E29,leas!D15:G454,4,FALSE),\"\")","v":""},60010,10,null," "," ",{"$f":"IF($C29<=$B$16,VLOOKUP(A29&$B$12, localcont!A19:X1773, 18, FALSE), \"\")","v":""},{"$f":"IF($C29<=$B$16,VLOOKUP(A29&$B$12, localcont!$A$10:$X$1764, 23, FALSE), \"\")","v":""}," ",{"$f":"IF($C29<=$B$16,VLOOKUP(A29&$B$12, localcont!$A$10:$X$1764, 15, FALSE), \"\")","v":""},{"$f":"IF($C29<=$B$16,VLOOKUP(A29&$B$12, localcont!$A$10:$X$1764, 14, FALSE),\"\")","v":""}," "]
[{"$f":"IF($C30<=$B$16,VLOOKUP(E30,leas!D16:G455,4,FALSE),\"\")","v":""},60011,11,null," "," ",{"$f":"IF($C30<=$B$16,VLOOKUP(A30&$B$12, localcont!A20:X1774, 18, FALSE), \"\")","v":""},{"$f":"IF($C30<=$B$16,VLOOKUP(A30&$B$12, localcont!$A$10:$X$1764, 23, FALSE), \"\")","v":""}," ",{"$f":"IF($C30<=$B$16,VLOOKUP(A30&$B$12, localcont!$A$10:$X$1764, 15, FALSE), \"\")","v":""},{"$f":"IF($C30<=$B$16,VLOOKUP(A30&$B$12, localcont!$A$10:$X$1764, 14, FALSE),\"\")","v":""}," "]
[{"$f":"IF($C31<=$B$16,VLOOKUP(E31,leas!D17:G456,4,FALSE),\"\")","v":""},60012,12,null," "," ",{"$f":"IF($C31<=$B$16,VLOOKUP(A31&$B$12, localcont!A21:X1775, 18, FALSE), \"\")","v":""},{"$f":"IF($C31<=$B$16,VLOOKUP(A31&$B$12, localcont!$A$10:$X$1764, 23, FALSE), \"\")","v":""}," ",{"$f":"IF($C31<=$B$16,VLOOKUP(A31&$B$12, localcont!$A$10:$X$1764, 15, FALSE), \"\")","v":""},{"$f":"IF($C31<=$B$16,VLOOKUP(A31&$B$12, localcont!$A$10:$X$1764, 14, FALSE),\"\")","v":""}," "]
[{"$f":"IF($C32<=$B$16,VLOOKUP(E32,leas!D18:G457,4,FALSE),\"\")","v":""},60013,13,null," "," ",{"$f":"IF($C32<=$B$16,VLOOKUP(A32&$B$12, localcont!A22:X1776, 18, FALSE), \"\")","v":""},{"$f":"IF($C32<=$B$16,VLOOKUP(A32&$B$12, localcont!$A$10:$X$1764, 23, FALSE), \"\")","v":""}," ",{"$f":"IF($C32<=$B$16,VLOOKUP(A32&$B$12, localcont!$A$10:$X$1764, 15, FALSE), \"\")","v":""},{"$f":"IF($C32<=$B$16,VLOOKUP(A32&$B$12, localcont!$A$10:$X$1764, 14, FALSE),\"\")","v":""}," "]
[{"$f":"IF($C33<=$B$16,VLOOKUP(E33,leas!D19:G458,4,FALSE),\"\")","v":""},60014,14,null," "," ",{"$f":"IF($C33<=$B$16,VLOOKUP(A33&$B$12, localcont!A23:X1777, 18, FALSE), \"\")","v":""},{"$f":"IF($C33<=$B$16,VLOOKUP(A33&$B$12, localcont!$A$10:$X$1764, 23, FALSE), \"\")","v":""}," ",{"$f":"IF($C33<=$B$16,VLOOKUP(A33&$B$12, localcont!$A$10:$X$1764, 15, FALSE), \"\")","v":""},{"$f":"IF($C33<=$B$16,VLOOKUP(A33&$B$12, localcont!$A$10:$X$1764, 14, FALSE),\"\")","v":""}," "]
[{"$f":"IF($C34<=$B$16,VLOOKUP(E34,leas!D20:G459,4,FALSE),\"\")","v":""},60015,15,null," "," ",{"$f":"IF($C34<=$B$16,VLOOKUP(A34&$B$12, localcont!A24:X1778, 18, FALSE), \"\")","v":""},{"$f":"IF($C34<=$B$16,VLOOKUP(A34&$B$12, localcont!$A$10:$X$1764, 23, FALSE), \"\")","v":""}," ",{"$f":"IF($C34<=$B$16,VLOOKUP(A34&$B$12, localcont!$A$10:$X$1764, 15, FALSE), \"\")","v":""},{"$f":"IF($C34<=$B$16,VLOOKUP(A34&$B$12, localcont!$A$10:$X$1764, 14, FALSE),\"\")","v":""}," "]
[{"$f":"IF($C35<=$B$16,VLOOKUP(E35,leas!D21:G460,4,FALSE),\"\")","v":""},60016,16,null," "," ",{"$f":"IF($C35<=$B$16,VLOOKUP(A35&$B$12, localcont!A25:X1779, 18, FALSE), \"\")","v":""},{"$f":"IF($C35<=$B$16,VLOOKUP(A35&$B$12, localcont!$A$10:$X$1764, 23, FALSE), \"\")","v":""}," ",{"$f":"IF($C35<=$B$16,VLOOKUP(A35&$B$12, localcont!$A$10:$X$1764, 15, FALSE), \"\")","v":""},{"$f":"IF($C35<=$B$16,VLOOKUP(A35&$B$12, localcont!$A$10:$X$1764, 14, FALSE),\"\")","v":""}," "]
[{"$f":"IF($C36<=$B$16,VLOOKUP(E36,leas!D22:G461,4,FALSE),\"\")","v":""},60017,17,null," "," ",{"$f":"IF($C36<=$B$16,VLOOKUP(A36&$B$12, localcont!A26:X1780, 18, FALSE), \"\")","v":""},{"$f":"IF($C36<=$B$16,VLOOKUP(A36&$B$12, localcont!$A$10:$X$1764, 23, FALSE), \"\")","v":""}," ",{"$f":"IF($C36<=$B$16,VLOOKUP(A36&$B$12, localcont!$A$10:$X$1764, 15, FALSE), \"\")","v":""},{"$f":"IF($C36<=$B$16,VLOOKUP(A36&$B$12, localcont!$A$10:$X$1764, 14, FALSE),\"\")","v":""}," "]
[{"$f":"IF($C37<=$B$16,VLOOKUP(E37,leas!D23:G462,4,FALSE),\"\")","v":""},60018,18,null," "," ",{"$f":"IF($C37<=$B$16,VLOOKUP(A37&$B$12, localcont!A27:X1781, 18, FALSE), \"\")","v":""},{"$f":"IF($C37<=$B$16,VLOOKUP(A37&$B$12, localcont!$A$10:$X$1764, 23, FALSE), \"\")","v":""}," ",{"$f":"IF($C37<=$B$16,VLOOKUP(A37&$B$12, localcont!$A$10:$X$1764, 15, FALSE), \"\")","v":""},{"$f":"IF($C37<=$B$16,VLOOKUP(A37&$B$12, localcont!$A$10:$X$1764, 14, FALSE),\"\")","v":""}," "]
[{"$f":"IF($C38<=$B$16,VLOOKUP(E38,leas!D24:G463,4,FALSE),\"\")","v":""},60019,19,null," "," ",{"$f":"IF($C38<=$B$16,VLOOKUP(A38&$B$12, localcont!A28:X1782, 18, FALSE), \"\")","v":""},{"$f":"IF($C38<=$B$16,VLOOKUP(A38&$B$12, localcont!$A$10:$X$1764, 23, FALSE), \"\")","v":""}," ",{"$f":"IF($C38<=$B$16,VLOOKUP(A38&$B$12, localcont!$A$10:$X$1764, 15, FALSE), \"\")","v":""},{"$f":"IF($C38<=$B$16,VLOOKUP(A38&$B$12, localcont!$A$10:$X$1764, 14, FALSE),\"\")","v":""}," "]
[{"$f":"IF($C39<=$B$16,VLOOKUP(E39,leas!D25:G464,4,FALSE),\"\")","v":""},60020,20,null," "," ",{"$f":"IF($C39<=$B$16,VLOOKUP(A39&$B$12, localcont!A29:X1783, 18, FALSE), \"\")","v":""},{"$f":"IF($C39<=$B$16,VLOOKUP(A39&$B$12, localcont!$A$10:$X$1764, 23, FALSE), \"\")","v":""}," ",{"$f":"IF($C39<=$B$16,VLOOKUP(A39&$B$12, localcont!$A$10:$X$1764, 15, FALSE), \"\")","v":""},{"$f":"IF($C39<=$B$16,VLOOKUP(A39&$B$12, localcont!$A$10:$X$1764, 14, FALSE),\"\")","v":""}," "]
[{"$f":"IF($C40<=$B$16,VLOOKUP(E40,leas!D26:G465,4,FALSE),\"\")","v":""},60021,21,null," "," ",{"$f":"IF($C40<=$B$16,VLOOKUP(A40&$B$12, localcont!A30:X1784, 18, FALSE), \"\")","v":""},{"$f":"IF($C40<=$B$16,VLOOKUP(A40&$B$12, localcont!$A$10:$X$1764, 23, FALSE), \"\")","v":""}," ",{"$f":"IF($C40<=$B$16,VLOOKUP(A40&$B$12, localcont!$A$10:$X$1764, 15, FALSE), \"\")","v":""},{"$f":"IF($C40<=$B$16,VLOOKUP(A40&$B$12, localcont!$A$10:$X$1764, 14, FALSE),\"\")","v":""}," "]
[{"$f":"IF($C41<=$B$16,VLOOKUP(E41,leas!D27:G466,4,FALSE),\"\")","v":""},60022,22,null," "," ",{"$f":"IF($C41<=$B$16,VLOOKUP(A41&$B$12, localcont!A31:X1785, 18, FALSE), \"\")","v":""},{"$f":"IF($C41<=$B$16,VLOOKUP(A41&$B$12, localcont!$A$10:$X$1764, 23, FALSE), \"\")","v":""}," ",{"$f":"IF($C41<=$B$16,VLOOKUP(A41&$B$12, localcont!$A$10:$X$1764, 15, FALSE), \"\")","v":""},{"$f":"IF($C41<=$B$16,VLOOKUP(A41&$B$12, localcont!$A$10:$X$1764, 14, FALSE),\"\")","v":""}," "]
[{"$f":"IF($C42<=$B$16,VLOOKUP(E42,leas!D28:G467,4,FALSE),\"\")","v":""},60023,23,null," "," ",{"$f":"IF($C42<=$B$16,VLOOKUP(A42&$B$12, localcont!A32:X1786, 18, FALSE), \"\")","v":""},{"$f":"IF($C42<=$B$16,VLOOKUP(A42&$B$12, localcont!$A$10:$X$1764, 23, FALSE), \"\")","v":""}," ",{"$f":"IF($C42<=$B$16,VLOOKUP(A42&$B$12, localcont!$A$10:$X$1764, 15, FALSE), \"\")","v":""},{"$f":"IF($C42<=$B$16,VLOOKUP(A42&$B$12, localcont!$A$10:$X$1764, 14, FALSE),\"\")","v":""}," "]
[{"$f":"IF($C43<=$B$16,VLOOKUP(E43,leas!D29:G468,4,FALSE),\"\")","v":""},60024,24,null," "," ",{"$f":"IF($C43<=$B$16,VLOOKUP(A43&$B$12, localcont!A33:X1787, 18, FALSE), \"\")","v":""},{"$f":"IF($C43<=$B$16,VLOOKUP(A43&$B$12, localcont!$A$10:$X$1764, 23, FALSE), \"\")","v":""}," ",{"$f":"IF($C43<=$B$16,VLOOKUP(A43&$B$12, localcont!$A$10:$X$1764, 15, FALSE), \"\")","v":""},{"$f":"IF($C43<=$B$16,VLOOKUP(A43&$B$12, localcont!$A$10:$X$1764, 14, FALSE),\"\")","v":""}," "]
[{"$f":"IF($C44<=$B$16,VLOOKUP(E44,leas!D30:G469,4,FALSE),\"\")","v":""},60025,25,null," "," ",{"$f":"IF($C44<=$B$16,VLOOKUP(A44&$B$12, localcont!A34:X1788, 18, FALSE), \"\")","v":""},{"$f":"IF($C44<=$B$16,VLOOKUP(A44&$B$12, localcont!$A$10:$X$1764, 23, FALSE), \"\")","v":""}," ",{"$f":"IF($C44<=$B$16,VLOOKUP(A44&$B$12, localcont!$A$10:$X$1764, 15, FALSE), \"\")","v":""},{"$f":"IF($C44<=$B$16,VLOOKUP(A44&$B$12, localcont!$A$10:$X$1764, 14, FALSE),\"\")","v":""}," "]
[{"$f":"IF($C45<=$B$16,VLOOKUP(E45,leas!D31:G470,4,FALSE),\"\")","v":""},60026,26,null," "," ",{"$f":"IF($C45<=$B$16,VLOOKUP(A45&$B$12, localcont!A35:X1789, 18, FALSE), \"\")","v":""},{"$f":"IF($C45<=$B$16,VLOOKUP(A45&$B$12, localcont!$A$10:$X$1764, 23, FALSE), \"\")","v":""}," ",{"$f":"IF($C45<=$B$16,VLOOKUP(A45&$B$12, localcont!$A$10:$X$1764, 15, FALSE), \"\")","v":""},{"$f":"IF($C45<=$B$16,VLOOKUP(A45&$B$12, localcont!$A$10:$X$1764, 14, FALSE),\"\")","v":""}," "]
[{"$f":"IF($C46<=$B$16,VLOOKUP(E46,leas!D32:G471,4,FALSE),\"\")","v":""},60027,27,null," "," ",{"$f":"IF($C46<=$B$16,VLOOKUP(A46&$B$12, localcont!A36:X1790, 18, FALSE), \"\")","v":""},{"$f":"IF($C46<=$B$16,VLOOKUP(A46&$B$12, localcont!$A$10:$X$1764, 23, FALSE), \"\")","v":""}," ",{"$f":"IF($C46<=$B$16,VLOOKUP(A46&$B$12, localcont!$A$10:$X$1764, 15, FALSE), \"\")","v":""},{"$f":"IF($C46<=$B$16,VLOOKUP(A46&$B$12, localcont!$A$10:$X$1764, 14, FALSE),\"\")","v":""}," "]
[{"$f":"IF($C47<=$B$16,VLOOKUP(E47,leas!D33:G472,4,FALSE),\"\")","v":""},60028,28,null," "," ",{"$f":"IF($C47<=$B$16,VLOOKUP(A47&$B$12, localcont!A37:X1791, 18, FALSE), \"\")","v":""},{"$f":"IF($C47<=$B$16,VLOOKUP(A47&$B$12, localcont!$A$10:$X$1764, 23, FALSE), \"\")","v":""}," ",{"$f":"IF($C47<=$B$16,VLOOKUP(A47&$B$12, localcont!$A$10:$X$1764, 15, FALSE), \"\")","v":""},{"$f":"IF($C47<=$B$16,VLOOKUP(A47&$B$12, localcont!$A$10:$X$1764, 14, FALSE),\"\")","v":""}," "]
[{"$f":"IF($C48<=$B$16,VLOOKUP(E48,leas!D34:G473,4,FALSE),\"\")","v":""},60029,29,null," "," ",{"$f":"IF($C48<=$B$16,VLOOKUP(A48&$B$12, localcont!A38:X1792, 18, FALSE), \"\")","v":""},{"$f":"IF($C48<=$B$16,VLOOKUP(A48&$B$12, localcont!$A$10:$X$1764, 23, FALSE), \"\")","v":""}," ",{"$f":"IF($C48<=$B$16,VLOOKUP(A48&$B$12, localcont!$A$10:$X$1764, 15, FALSE), \"\")","v":""},{"$f":"IF($C48<=$B$16,VLOOKUP(A48&$B$12, localcont!$A$10:$X$1764, 14, FALSE),\"\")","v":""}," "]
[{"$f":"IF($C49<=$B$16,VLOOKUP(E49,leas!D35:G474,4,FALSE),\"\")","v":""},60030,30,null," "," ",{"$f":"IF($C49<=$B$16,VLOOKUP(A49&$B$12, localcont!A39:X1793, 18, FALSE), \"\")","v":""},{"$f":"IF($C49<=$B$16,VLOOKUP(A49&$B$12, localcont!$A$10:$X$1764, 23, FALSE), \"\")","v":""}," ",{"$f":"IF($C49<=$B$16,VLOOKUP(A49&$B$12, localcont!$A$10:$X$1764, 15, FALSE), \"\")","v":""},{"$f":"IF($C49<=$B$16,VLOOKUP(A49&$B$12, localcont!$A$10:$X$1764, 14, FALSE),\"\")","v":""}," "]
[{"$f":"IF($C50<=$B$16,VLOOKUP(E50,leas!D36:G475,4,FALSE),\"\")","v":""},60031,31,null," "," ",{"$f":"IF($C50<=$B$16,VLOOKUP(A50&$B$12, localcont!A40:X1794, 18, FALSE), \"\")","v":""},{"$f":"IF($C50<=$B$16,VLOOKUP(A50&$B$12, localcont!$A$10:$X$1764, 23, FALSE), \"\")","v":""}," ",{"$f":"IF($C50<=$B$16,VLOOKUP(A50&$B$12, localcont!$A$10:$X$1764, 15, FALSE), \"\")","v":""},{"$f":"IF($C50<=$B$16,VLOOKUP(A50&$B$12, localcont!$A$10:$X$1764, 14, FALSE),\"\")","v":""}," "]
[{"$f":"IF($C51<=$B$16,VLOOKUP(E51,leas!D37:G476,4,FALSE),\"\")","v":""},60032,32,null," "," ",{"$f":"IF($C51<=$B$16,VLOOKUP(A51&$B$12, localcont!A41:X1795, 18, FALSE), \"\")","v":""},{"$f":"IF($C51<=$B$16,VLOOKUP(A51&$B$12, localcont!$A$10:$X$1764, 23, FALSE), \"\")","v":""}," ",{"$f":"IF($C51<=$B$16,VLOOKUP(A51&$B$12, localcont!$A$10:$X$1764, 15, FALSE), \"\")","v":""},{"$f":"IF($C51<=$B$16,VLOOKUP(A51&$B$12, localcont!$A$10:$X$1764, 14, FALSE),\"\")","v":""}," "]
[{"$f":"IF($C52<=$B$16,VLOOKUP(E52,leas!D38:G477,4,FALSE),\"\")","v":""},60033,33,null," ",{"$f":"IF($C52<=$B$16, VLOOKUP($B52, regdetail, 6), \" \")","v":" "},{"$f":"IF($C52<=$B$16,VLOOKUP(A52&$B$12, localcont!A42:X1796, 18, FALSE), \"\")","v":""},{"$f":"IF($C52<=$B$16,VLOOKUP(A52&$B$12, localcont!$A$10:$X$1764, 23, FALSE), \"\")","v":""}," ",{"$f":"IF($C52<=$B$16,VLOOKUP(A52&$B$12, localcont!$A$10:$X$1764, 15, FALSE), \"\")","v":""},{"$f":"IF($C52<=$B$16,VLOOKUP(A52&$B$12, localcont!$A$10:$X$1764, 14, FALSE),\"\")","v":""}," "]
[{"$f":"IF($C53<=$B$16,VLOOKUP(E53,leas!D39:G478,4,FALSE),\"\")","v":""},60034,34,null," "," ",{"$f":"IF($C53<=$B$16,VLOOKUP(A53&$B$12, localcont!A43:X1797, 18, FALSE), \"\")","v":""},{"$f":"IF($C53<=$B$16,VLOOKUP(A53&$B$12, localcont!$A$10:$X$1764, 23, FALSE), \"\")","v":""}," ",{"$f":"IF($C53<=$B$16,VLOOKUP(A53&$B$12, localcont!$A$10:$X$1764, 15, FALSE), \"\")","v":""},{"$f":"IF($C53<=$B$16,VLOOKUP(A53&$B$12, localcont!$A$10:$X$1764, 14, FALSE),\"\")","v":""}," "]
[{"$f":"IF($C54<=$B$16,VLOOKUP(E54,leas!D40:G479,4,FALSE),\"\")","v":""},60035,35,null," "," ",{"$f":"IF($C54<=$B$16,VLOOKUP(A54&$B$12, localcont!A44:X1798, 18, FALSE), \"\")","v":""},{"$f":"IF($C54<=$B$16,VLOOKUP(A54&$B$12, localcont!$A$10:$X$1764, 23, FALSE), \"\")","v":""}," ",{"$f":"IF($C54<=$B$16,VLOOKUP(A54&$B$12, localcont!$A$10:$X$1764, 15, FALSE), \"\")","v":""},{"$f":"IF($C54<=$B$16,VLOOKUP(A54&$B$12, localcont!$A$10:$X$1764, 14, FALSE),\"\")","v":""}," "]
[{"$f":"IF($C55<=$B$16,VLOOKUP(E55,leas!D41:G480,4,FALSE),\"\")","v":""},60036,36,null," "," ",{"$f":"IF($C55<=$B$16,VLOOKUP(A55&$B$12, localcont!A45:X1799, 18, FALSE), \"\")","v":""},{"$f":"IF($C55<=$B$16,VLOOKUP(A55&$B$12, localcont!$A$10:$X$1764, 23, FALSE), \"\")","v":""}," ",{"$f":"IF($C55<=$B$16,VLOOKUP(A55&$B$12, localcont!$A$10:$X$1764, 15, FALSE), \"\")","v":""},{"$f":"IF($C55<=$B$16,VLOOKUP(A55&$B$12, localcont!$A$10:$X$1764, 14, FALSE),\"\")","v":""}," "]
[{"$f":"IF($C56<=$B$16,VLOOKUP(E56,leas!D42:G481,4,FALSE),\"\")","v":""},60037,37,null," "," ",{"$f":"IF($C56<=$B$16,VLOOKUP(A56&$B$12, localcont!A46:X1800, 18, FALSE), \"\")","v":""},{"$f":"IF($C56<=$B$16,VLOOKUP(A56&$B$12, localcont!$A$10:$X$1764, 23, FALSE), \"\")","v":""}," ",{"$f":"IF($C56<=$B$16,VLOOKUP(A56&$B$12, localcont!$A$10:$X$1764, 15, FALSE), \"\")","v":""},{"$f":"IF($C56<=$B$16,VLOOKUP(A56&$B$12, localcont!$A$10:$X$1764, 14, FALSE),\"\")","v":""}," "]
[{"$f":"IF($C57<=$B$16,VLOOKUP(E57,leas!D43:G482,4,FALSE),\"\")","v":""},60038,38,null," "," ",{"$f":"IF($C57<=$B$16,VLOOKUP(A57&$B$12, localcont!A47:X1801, 18, FALSE), \"\")","v":""},{"$f":"IF($C57<=$B$16,VLOOKUP(A57&$B$12, localcont!$A$10:$X$1764, 23, FALSE), \"\")","v":""}," ",{"$f":"IF($C57<=$B$16,VLOOKUP(A57&$B$12, localcont!$A$10:$X$1764, 15, FALSE), \"\")","v":""},{"$f":"IF($C57<=$B$16,VLOOKUP(A57&$B$12, localcont!$A$10:$X$1764, 14, FALSE),\"\")","v":""}," "]
[{"$f":"IF($C58<=$B$16,VLOOKUP(E58,leas!D44:G483,4,FALSE),\"\")","v":""},60039,39,null," "," ",{"$f":"IF($C58<=$B$16,VLOOKUP(A58&$B$12, localcont!A48:X1802, 18, FALSE), \"\")","v":""},{"$f":"IF($C58<=$B$16,VLOOKUP(A58&$B$12, localcont!$A$10:$X$1764, 23, FALSE), \"\")","v":""}," ",{"$f":"IF($C58<=$B$16,VLOOKUP(A58&$B$12, localcont!$A$10:$X$1764, 15, FALSE), \"\")","v":""},{"$f":"IF($C58<=$B$16,VLOOKUP(A58&$B$12, localcont!$A$10:$X$1764, 14, FALSE),\"\")","v":""}," "]
[{"$f":"IF($C59<=$B$16,VLOOKUP(E59,leas!D45:G484,4,FALSE),\"\")","v":""},60040,40,null," "," ",{"$f":"IF($C59<=$B$16,VLOOKUP(A59&$B$12, localcont!A49:X1803, 18, FALSE), \"\")","v":""},{"$f":"IF($C59<=$B$16,VLOOKUP(A59&$B$12, localcont!$A$10:$X$1764, 23, FALSE), \"\")","v":""}," ",{"$f":"IF($C59<=$B$16,VLOOKUP(A59&$B$12, localcont!$A$10:$X$1764, 15, FALSE), \"\")","v":""},{"$f":"IF($C59<=$B$16,VLOOKUP(A59&$B$12, localcont!$A$10:$X$1764, 14, FALSE),\"\")","v":""}," "]
[{"$f":"IF($C60<=$B$16,VLOOKUP(E60,leas!D46:G485,4,FALSE),\"\")","v":""},60041,41,null," "," ",{"$f":"IF($C60<=$B$16,VLOOKUP(A60&$B$12, localcont!A50:X1804, 18, FALSE), \"\")","v":""},{"$f":"IF($C60<=$B$16,VLOOKUP(A60&$B$12, localcont!$A$10:$X$1764, 23, FALSE), \"\")","v":""}," ",{"$f":"IF($C60<=$B$16,VLOOKUP(A60&$B$12, localcont!$A$10:$X$1764, 15, FALSE), \"\")","v":""},{"$f":"IF($C60<=$B$16,VLOOKUP(A60&$B$12, localcont!$A$10:$X$1764, 14, FALSE),\"\")","v":""}," "]
[{"$f":"IF($C61<=$B$16,VLOOKUP(E61,leas!D47:G486,4,FALSE),\"\")","v":""},60042,42,null," "," ",{"$f":"IF($C61<=$B$16,VLOOKUP(A61&$B$12, localcont!A51:X1805, 18, FALSE), \"\")","v":""},{"$f":"IF($C61<=$B$16,VLOOKUP(A61&$B$12, localcont!$A$10:$X$1764, 23, FALSE), \"\")","v":""}," ",{"$f":"IF($C61<=$B$16,VLOOKUP(A61&$B$12, localcont!$A$10:$X$1764, 15, FALSE), \"\")","v":""},{"$f":"IF($C61<=$B$16,VLOOKUP(A61&$B$12, localcont!$A$10:$X$1764, 14, FALSE),\"\")","v":""}," "]
[{"$f":"IF($C62<=$B$16,VLOOKUP(E62,leas!D48:G487,4,FALSE),\"\")","v":""},60043,43,null," "," ",{"$f":"IF($C62<=$B$16,VLOOKUP(A62&$B$12, localcont!A52:X1806, 18, FALSE), \"\")","v":""},{"$f":"IF($C62<=$B$16,VLOOKUP(A62&$B$12, localcont!$A$10:$X$1764, 23, FALSE), \"\")","v":""}," ",{"$f":"IF($C62<=$B$16,VLOOKUP(A62&$B$12, localcont!$A$10:$X$1764, 15, FALSE), \"\")","v":""},{"$f":"IF($C62<=$B$16,VLOOKUP(A62&$B$12, localcont!$A$10:$X$1764, 14, FALSE),\"\")","v":""}," "]
[{"$f":"IF($C63<=$B$16,VLOOKUP(E63,leas!D49:G488,4,FALSE),\"\")","v":""},60044,44,null," "," ",{"$f":"IF($C63<=$B$16,VLOOKUP(A63&$B$12, localcont!A53:X1807, 18, FALSE), \"\")","v":""},{"$f":"IF($C63<=$B$16,VLOOKUP(A63&$B$12, localcont!$A$10:$X$1764, 23, FALSE), \"\")","v":""}," ",{"$f":"IF($C63<=$B$16,VLOOKUP(A63&$B$12, localcont!$A$10:$X$1764, 15, FALSE), \"\")","v":""},{"$f":"IF($C63<=$B$16,VLOOKUP(A63&$B$12, localcont!$A$10:$X$1764, 14, FALSE),\"\")","v":""}," ",null,null,null,{"$f":"IF($C63>$B$16,\"\",O63*$P$13)","v":""}]
[{"$f":"IF($C64<=$B$16,VLOOKUP(E64,leas!D50:G489,4,FALSE),\"\")","v":""},60045,45,null," "," ",{"$f":"IF($C64<=$B$16,VLOOKUP(A64&$B$12, localcont!A54:X1808, 18, FALSE), \"\")","v":""},{"$f":"IF($C64<=$B$16,VLOOKUP(A64&$B$12, localcont!$A$10:$X$1764, 23, FALSE), \"\")","v":""}," ",{"$f":"IF($C64<=$B$16,VLOOKUP(A64&$B$12, localcont!$A$10:$X$1764, 15, FALSE), \"\")","v":""},{"$f":"IF($C64<=$B$16,VLOOKUP(A64&$B$12, localcont!$A$10:$X$1764, 14, FALSE),\"\")","v":""}," ",null,null,null,""]
[{"$f":"IF($C65<=$B$16,VLOOKUP(E65,leas!D51:G490,4,FALSE),\"\")","v":""},60046,46,null," "," ",{"$f":"IF($C65<=$B$16,VLOOKUP(A65&$B$12, localcont!A55:X1809, 18, FALSE), \"\")","v":""},{"$f":"IF($C65<=$B$16,VLOOKUP(A65&$B$12, localcont!$A$10:$X$1764, 23, FALSE), \"\")","v":""}," ",{"$f":"IF($C65<=$B$16,VLOOKUP(A65&$B$12, localcont!$A$10:$X$1764, 15, FALSE), \"\")","v":""},{"$f":"IF($C65<=$B$16,VLOOKUP(A65&$B$12, localcont!$A$10:$X$1764, 14, FALSE),\"\")","v":""}," ",null,null,null,""]
[{"$f":"IF($C66<=$B$16,VLOOKUP(E66,leas!D52:G491,4,FALSE),\"\")","v":""},60047,47,null," "," ",{"$f":"IF($C66<=$B$16,VLOOKUP(A66&$B$12, localcont!A56:X1810, 18, FALSE), \"\")","v":""},{"$f":"IF($C66<=$B$16,VLOOKUP(A66&$B$12, localcont!$A$10:$X$1764, 23, FALSE), \"\")","v":""}," ",{"$f":"IF($C66<=$B$16,VLOOKUP(A66&$B$12, localcont!$A$10:$X$1764, 15, FALSE), \"\")","v":""},{"$f":"IF($C66<=$B$16,VLOOKUP(A66&$B$12, localcont!$A$10:$X$1764, 14, FALSE),\"\")","v":""}," ",null,null,null,""]
[{"$f":"IF($C67<=$B$16,VLOOKUP(E67,leas!D53:G492,4,FALSE),\"\")","v":""},60048,48,null," "," ",{"$f":"IF($C67<=$B$16,VLOOKUP(A67&$B$12, localcont!A57:X1811, 18, FALSE), \"\")","v":""},{"$f":"IF($C67<=$B$16,VLOOKUP(A67&$B$12, localcont!$A$10:$X$1764, 23, FALSE), \"\")","v":""}," ",{"$f":"IF($C67<=$B$16,VLOOKUP(A67&$B$12, localcont!$A$10:$X$1764, 15, FALSE), \"\")","v":""},{"$f":"IF($C67<=$B$16,VLOOKUP(A67&$B$12, localcont!$A$10:$X$1764, 14, FALSE),\"\")","v":""}," ",null,null,null,""]
[{"$f":"IF($C68<=$B$16,VLOOKUP(E68,leas!D54:G493,4,FALSE),\"\")","v":""},60049,49,null," "," ",{"$f":"IF($C68<=$B$16,VLOOKUP(A68&$B$12, localcont!A58:X1812, 18, FALSE), \"\")","v":""},{"$f":"IF($C68<=$B$16,VLOOKUP(A68&$B$12, localcont!$A$10:$X$1764, 23, FALSE), \"\")","v":""}," ",{"$f":"IF($C68<=$B$16,VLOOKUP(A68&$B$12, localcont!$A$10:$X$1764, 15, FALSE), \"\")","v":""},{"$f":"IF($C68<=$B$16,VLOOKUP(A68&$B$12, localcont!$A$10:$X$1764, 14, FALSE),\"\")","v":""}," ",null,null,null,""]

{"sheet":"Comparison to FY23","index":10,"n_rows":332,"n_cols":16,"rows_kept":332,"cut":false,"hidden":false,"merged":[[3,0,3,11]]}
[null,"Return to Index",null,null,null,null,null,null,null,null,null,null,null,null,null,"More about the data"]
["Massachusetts Department of Elementary and Secondary Education"]
[{"$f":"CYr&\" Chapter 70 Comparison to \"&PYr","v":"FY24 Chapter 70 Comparison to FY23"}]
[]
[]
[]
[null,null,{"$f":"PYr","v":"FY23"},{"$f":"CYr","v":"FY24"},null,{"$f":"PYr","v":"FY23"},{"$f":"CYr","v":"FY24"},null,{"$f":"PYr","v":"FY23"},{"$f":"CYr","v":"FY24"},null,{"$f":"PYr","v":"FY23"},{"$f":"CYr","v":"FY24"}]
[null,"Operating","Foundation ","Foundation ",null,"Foundation","Foundation",null,"Minimum","Minimum",null,"Chapter 70","Chapter 70"]
["LEA","District name","Enrollment","Enrollment","change","Budget","Budget","change per pupil","Contribution","Contribution","change per pupil","aid","aid","change in aid","change in aid per pupil","% change in aid"]
[1,"Abington                     ",{"$f":"VLOOKUP(A10,aidcalc,14,FALSE)","v":2238},{"$f":"VLOOKUP(A10,aidcalc,15,FALSE)","v":2206},{"$f":"D10-C10","v":-32},{"$f":"VLOOKUP(A10,aidcalc,4,FALSE)","v":29563170.916989997},{"$f":"VLOOKUP(A10,aidcalc,9,FALSE)","v":31287579.078960005},{"$f":"(G10-F10)/$D10","v":781.6900099592059},{"$f":"VLOOKUP(A10,aidcalc,5,FALSE)","v":16599047},{"$f":"VLOOKUP(A10,aidcalc,10,FALSE)","v":17104459},{"$f":"(J10-I10)/$D10","v":229.10788757932912},{"$f":"VLOOKUP(A10,aidcalc,6,FALSE)","v":12964124},{"$f":"VLOOKUP(A10,aidcalc,25,FALSE)","v":14183120},{"$f":"M10-L10","v":1218996},{"$f":"(M10-L10)/$D10","v":552.58204895738891},{"$f":"ROUND(IF(F10>0,(M10-L10)/L10,100),2)","v":0.09}]
[3,"Acushnet                     ",1192,1221,29,14410940.639999999,15911255.389999999,1228.7590090090091,8355453,8740925,315.70188370188373,6469222,7170330,701108,574.20802620802624,0.11]
[5,"Agawam                       ",3420,3421,1,46476254.920000002,50397491.299999997,1146.2251914644826,24515018,25373043,250.81116632563578,21961237,25024448,3063211,895.41391406021626,0.14000000000000001]
[7,"Amesbury                     ",1878,1847,-31,23505262.730000008,24965747.029999997,790.73324309690827,17438478,18234602,431.03627504060637,9361467,9416877,55410,30,0.01]
[8,"Amherst                      ",1065,1055,-10,13429756.490000002,14207190.940000001,736.9046919431272,10461831,11168148,669.49478672985776,6217473,6249123,31650,30,0.01]
[9,"Andover                      ",5500,5554,54,67357496.128189996,72244408.493600011,879.89059514044197,55569934,58293608,490.3986316168527,12167131,13950800,1783669,321.15034209578681,0.15]
[10,"Arlington                    ",5910,6002,92,69496899.573259994,74896748.635400012,899.67495203932322,53603535,56193340,431.49033655448181,15893365,18703409,2810044,468.18460513162279,0.18]
[14,"Ashland                      ",2814,2839,25,33942250.529999994,36758230.609999992,991.89153927439179,24208528,25484731,449.52553716097219,9733723,11273500,1539777,542.36597393448392,0.16]
[16,"Attleboro                    ",6237,6238,1,89310929.609999999,97105120.719999999,1249.4695591535747,41515915,43712969,352.20487335684516,47795015,53392152,5597137,897.26466816287268,0.12]
[17,"Auburn                       ",2425,2422,-3,30252650.170000002,32176028.359999999,794.12807184145231,16217482,17041707,340.30759702725021,14035168,15134321,1099153,453.82039636663916,0.08]
[18,"Avon                         ",563,586,23,8289241.6600000001,9536788.9200000018,2128.9202389078528,5081884,5390722,527.0273037542662,3207358,4146067,938709,1601.8924914675767,0.28999999999999998]
[20,"Barnstable                   ",5193,5302,109,75594779.840000004,84542110.140000001,1687.5387212372684,56888584,59790057,547.24122972463226,18706196,24752053,6045857,1140.2974349302151,0.32]
[23,"Bedford                      ",2624,2549,-75,32246555.756910007,33265363.043120004,399.68900989015174,26379003,27443924,417.7799136916438,5867553,5944023,76470,30,0.01]
[24,"Belchertown                  ",2177,2152,-25,26384198.330000002,27713334.379999995,617.62827602230175,13099002,13763232,308.65706319702605,14080886,14145446,64560,30,0]
[25,"Bellingham                   ",2158,2175,17,27015991.390000001,29660512.23,1215.8716505747125,18432465,19686080,576.37471264367821,8837425,9974432,1137007,522.76183908045982,0.13]
[26,"Belmont                      ",4449,4505,56,53256083.380400002,57423975.883839987,925.17036702330415,43686648,45639441,433.47236403995561,10158889,11784535,1625646,360.85371809100997,0.16]
[27,"Berkley                      ",725,698,-27,8601441.5,8929788.1399999987,470.41065902578617,4571797,4777868,295.23065902578799,4068938,4151920,82982,118.88538681948424,0.02]
[30,"Beverly                      ",4595,4541,-54,58610573.329999998,61798815.259999998,702.10128385818098,45452132,47254334,396.87337590839024,13158441,14544481,1386040,305.22792336489761,0.11]
[31,"Billerica                    ",4792,4879,87,57705837.690000005,63590856.680000007,1206.19368518139,46197969,49635324,704.52039352326301,19777194,19923564,146370,30,0.01]
[35,"Boston                       ",58339,57738,-601,1012695285.9958402,1095713386.0691998,1437.8416307000521,827212576,880485066,922.65908067477221,227236505,228968645,1732140,30,0.01]
[36,"Bourne                       ",1717,1678,-39,21855345.039999999,22858350.509999994,597.73865911799464,17827720,18409357,346.62514898688914,5371903,5422243,50340,30,0.01]
[38,"Boxford                      ",729,721,-8,8106140.9460000005,8528050.2678800002,585.17242979195521,6300062,6718468,580.31345353675454,1811833,1833463,21630,30,0.01]
[40,"Braintree                    ",5273,5244,-29,68308994.308569983,72501248.639650002,799.43827823798995,48941926,51848673,554.29958047292143,19367068,20652576,1285508,245.13882532418,7.0000000000000007E-2]
[41,"Brewster                     ",440,418,-22,5580574.6600000001,5743102.1100000003,388.82165071770379,4228204,4394765,398.47129186602871,1352371,1364911,12540,30,0.01]
[43,"Brimfield                    ",256,264,8,3134102.29,3511281.75,1428.7100757575756,1768013,1913482,551.01893939393938,1388436,1597800,209364,793.0454545454545,0.15]
[44,"Brockton                     ",16975,16619,-356,276250953.13999999,295646847.72000003,1167.0915566520273,52190600,54579267,143.73109092003128,224060353,241067581,17007228,1023.3604910042723,0.08]
[45,"Brookfield                   ",228,223,-5,2950079.4100000006,3240938.5500000003,1304.3010762331824,1240313,1329203,398.60986547085201,1721083,1911736,190653,854.94618834080723,0.11]
[46,"Brookline                    ",6799,6913,114,82255132.52319999,89394640.063260004,1032.7654477158997,67860485,73750578,852.03139013452915,15620467,15827857,207390,30,0.01]
[48,"Burlington                   ",3470,3424,-46,44168133.059200004,46103747.98904001,565.30809866822608,35018289,36818680,525.81512850467288,9149844,9285068,135224,39.492990654205606,0.01]
[49,"Cambridge                    ",7074,7030,-44,105936291.71016,112732473.50964999,966.73994302844801,87397441,93004291,797.56045519203417,18538851,19728183,1189332,169.17951635846373,0.06]
[50,"Canton                       ",3287,3260,-27,40961226.355149999,43350134.769279994,732.79399206441553,33070790,34684949,495.14079754601227,7890436,8665186,774750,237.65337423312883,0.1]
[51,"Carlisle                     ",580,567,-13,6420143.4459200008,6639945.1630799994,387.65734948853367,5066173,5477955,726.24691358024688,1353970,1370980,17010,30,0.01]
[52,"Carver                       ",1513,1535,22,19740695.12156,21283331.499319997,1004.974838931594,10252128,10820042,369.97654723127033,10144409,10463289,318880,207.73941368078175,0.03]
[56,"Chelmsford                   ",5047,5108,61,59337599.049999997,63812307.760000005,876.01971613156002,47375444,49670508,449.30775254502743,11962155,14141800,2179645,426.71202036021924,0.18]
[57,"Chelsea                      ",7089,7110,21,125093687.61760001,138863180.45907998,1936.6375304472535,20484593,22081668,224.62376933895922,104609095,116781512,12172417,1712.0136427566808,0.12]
[61,"Chicopee                     ",7202,7166,-36,112893440.48,122693363.2,1367.5582919341332,32109426,33865812,245.09991627128105,80784014,88827551,8043537,1122.4584147362546,0.1]
[63,"Clarksburg                   ",196,171,-25,2565630.8000000003,2395286.75,-996.16403508772089,761205,736864,-142.34502923976609,1817095,1822225,5130,30,0]
[64,"Clinton                      ",2064,2062,-2,29918745.999999996,32534279.410000004,1268.4449127061143,12528207,13217258,334.16634335596507,17390539,19317021,1926482,934.27837051406402,0.11]
[65,"Cohasset                     ",1381,1367,-14,15911489.32886,16687439.717179999,567.63013044623187,13126979,13767138,468.29480614484271,2873722,2920302,46580,34.074615947329917,0.02]
[67,"Concord                      ",1977,1925,-52,22336390.42678,23075622.333200004,384.01657476363823,18427522,19037389,316.81402597402598,3916391,4038233,121842,63.294545454545457,0.03]
[68,"Conway                       ",78,66,-12,1051296.6600000004,941811.15000000014,-1658.8713636363673,810426,776994,-506.54545454545456,633484,635464,1980,30,0]
[71,"Danvers                      ",3300,3315,15,39586571.120000005,42331707.480000004,828.09543288084444,31703302,33039603,403.1073906485671,7883269,9292104,1408835,424.98793363499243,0.18]
[72,"Dartmouth                    ",3366,3303,-63,42137530.870000005,43916766.759999998,538.67268846502975,33036538,34831363,543.39237057220703,10251151,10350241,99090,30,0.01]
[73,"Dedham                       ",2566,2529,-37,33049835.113800008,34648058.12985,631.95848795966481,26263407,27655361,550.39699485962831,6786428,6992697,206269,81.561486753657576,0.03]
[74,"Deerfield                    ",284,281,-3,3310653.2399999988,3505682.31,694.05362989324283,2731289,2863682,471.14946619217079,1140193,1148623,8430,30,0.01]
[77,"Douglas                      ",1114,1132,18,13450769.330000004,14574247.939999998,992.47227031801572,7945377,8454786,450.00795053003532,8859605,8893565,33960,30,0]
[78,"Dover                        ",485,500,15,5377259.1472499995,5901407.9242000002,1048.2975539000015,4436239,4868661,864.84400000000005,941020,1032747,91727,183.45400000000001,0.1]
[79,"Dracut                       ",3936,3900,-36,50418700.75,54539267.460000008,1056.5555666666687,26100541,27369124,325.27769230769229,24318160,27170143,2851983,731.27769230769229,0.12]
[82,"Duxbury                      ",2738,2729,-9,31970862.733219996,33659011.201460004,618.59599422499366,25660838,26987503,486.13594723341885,6310025,6671508,361483,132.45987541223892,0.06]
[83,"East Bridgewater             ",2074,2022,-52,25682682.969999995,26867274.059999999,585.85118199802355,13482733,13993957,252.83086053412464,12199950,12873317,673367,333.02027695351137,0.06]
[85,"Eastham                      ",199,197,-2,2709776.2300000004,2896212.01,946.37451776649402,2235566,2389375,780.75634517766503,474210,506837,32627,165.61928934010152,7.0000000000000007E-2]
[86,"Easthampton                  ",1608,1591,-17,21391869.32,22559015.459999997,733.5927969830276,13077217,13894543,513.71841609050909,8314652,8664472,349820,219.87429289754871,0.04]
[87,"East Longmeadow              ",2535,2552,17,31009727.380000003,33881345.879999995,1125.2423589341663,17979103,18843898,338.8695141065831,13030624,15037448,2006824,786.37304075235113,0.15]
[88,"Easton                       ",3345,3418,73,39647570.750000007,43192301.489999995,1037.0774546518394,31564199,33376275,530.15681685196023,10450341,10552881,102540,30,0.01]
[89,"Edgartown                    ",425,438,13,5932989.4900000002,6660865.3400000008,1661.8170091324214,4894716,5495214,1371,1038273,1165651,127378,290.8173515981735,0.12]
[91,"Erving                       ",205,203,-2,2504088.0100000002,2671388.7799999998,824.1417241379288,2013666,2115389,501.09852216748766,490422,556000,65578,323.04433497536945,0.13]
[93,"Everett                      ",7437,7937,500,131079661.89111,152643280.48403001,2716.8474981630347,38446657,40961068,316.79614463903238,92633005,111682212,19049207,2400.0512788207129,0.21]
[94,"Fairhaven                    ",1679,1659,-20,22300570.939999998,23768492.649999999,884.82321277878293,13273418,14136790,520.41711874623263,9027153,9631703,604550,364.40626883664856,7.0000000000000007E-2]
[95,"Fall River                   ",12103,12238,135,204753290.08000001,226544925.61000004,1780.6533363294682,36332032,38520449,178.82145775453506,168421258,188024477,19603219,1601.8319169798988,0.12]
[96,"Falmouth                     ",3025,2959,-66,41087216.109999992,42847018.859999999,594.72887799932664,32002344,33524110,514.28387968908419,9084872,9322909,238037,80.445082798242652,0.03]
[97,"Fitchburg                    ",5658,5661,3,88839002.539999992,96678430.429999992,1384.8132644409116,20577723,21950317,242.46493552375907,68261280,74728113,6466833,1142.348171701113,0.09]
[98,"Florida                      ",64,57,-7,969371.9800000001,917915.93000000017,-902.73771929824443,458631,425391,-583.15789473684208,556297,558007,1710,30,0]
[99,"Foxborough                   ",2543,2537,-6,32116850.096899997,34005786.001159996,744.55494846669228,25779824,27296530,597.83445013795824,9275820,9351930,76110,30,0.01]
[100,"Framingham                   ",9344,9759,415,139318256.59154996,159351946.7809,2052.8425237575611,70464780,74355413,398.67127779485605,68853477,84996534,16143057,1654.1712265600984,0.23]
[101,"Franklin                     ",{"$f":"VLOOKUP(A74,aidcalc,14,FALSE)","v":5180},{"$f":"VLOOKUP(A74,aidcalc,15,FALSE)","v":5104},{"$f":"D74-C74","v":-76},{"$f":"VLOOKUP(A74,aidcalc,4,FALSE)","v":62458712.611599997},{"$f":"VLOOKUP(A74,aidcalc,9,FALSE)","v":65275976.234380007},{"$f":"(G74-F74)/$D74","v":551.97171292711801},{"$f":"VLOOKUP(A74,aidcalc,5,FALSE)","v":44800360},{"$f":"VLOOKUP(A74,aidcalc,10,FALSE)","v":47235495},{"$f":"(J74-I74)/$D74","v":477.10325235109718},{"$f":"VLOOKUP(A74,aidcalc,6,FALSE)","v":28885721},{"$f":"VLOOKUP(A74,aidcalc,25,FALSE)","v":29038841},{"$f":"M74-L74","v":153120},{"$f":"(M74-L74)/$D74","v":30},{"$f":"ROUND(IF(F74>0,(M74-L74)/L74,100),2)","v":0.01}]
[103,"Gardner                      ",2284,2397,113,34029130.219999999,38690363.829999998,1944.6114351272422,10721731,11262118,225.44305381727159,23307399,27428246,4120847,1719.1685440133501,0.18]
[105,"Georgetown                   ",1247,1229,-18,14264533.799999997,15011687.49,607.93628152970155,11007817,11377637,300.9113100081367,5639758,5676628,36870,30,0.01]
[107,"Gloucester                   ",3051,3035,-16,43648880.139679991,47045109.888499998,1119.0213340428359,33989778,35714197,568.17759472817136,9659102,11330913,1671811,550.84382207578255,0.17]
[110,"Grafton                      ",3053,2950,-103,36001737.560000002,36858149.159999996,290.30901694915053,23384218,24436656,356.75864406779664,12617520,12706020,88500,30,0.01]
[111,"Granby                       ",663,672,9,8631463.3900000025,9588488.8899999987,1424.1450892857088,5431578,5667319,350.80505952380952,4725110,4745270,20160,30,0]
[114,"Greenfield                   ",1848,1791,-57,26326536.470000003,27294290.690000001,540.34294807370122,10621969,11091044,261.90675600223341,15704567,16203247,498680,278.43662758235621,0.03]
[117,"Hadley                       ",473,456,-17,6025430.8700000001,6277106.5899999999,551.92043859649061,4970980,5178613,455.33552631578948,1322740,1336420,13680,30,0.01]
[118,"Halifax                      ",604,613,9,7179616.2489300007,7849455.0234599989,1092.7223075530151,4006503,4340378,544.65742251223492,3173113,3509077,335964,548.06525285481234,0.11]
[121,"Hancock                      ",81,86,5,1024022.3699999999,1216494.7500000002,2238.0509302325622,729685,780690,593.08139534883719,294337,435805,141468,1644.9767441860465,0.48]
[122,"Hanover                      ",2528,2481,-47,29637166.854109999,30800181.273539998,468.76840767029375,22439160,23372172,376.06287787182589,7309583,7428009,118426,47.733172108020959,0.02]
[125,"Harvard                      ",873,875,2,9947885.4299999997,10576374.949999999,718.27373714285659,8018632,8379508,412.42971428571428,2061331,2196867,135536,154.89828571428572,7.0000000000000007E-2]
[127,"Hatfield                     ",331,317,-14,4125023.4699999997,4215602.3500000006,285.73779179810987,3287596,3472030,581.81072555205049,876136,885646,9510,30,0.01]
[128,"Haverhill                    ",8252,8287,35,121331843.41000001,132551888.25,1353.9332496681536,47425533,49918077,300.77760347532279,73906310,82633811,8727501,1053.1556655001809,0.12]
[131,"Hingham                      ",3879,3807,-72,45163141.519900002,47057670.467040002,497.64353746782263,37259592,38822578,410.55581822957708,8306773,8420983,114210,30,0.01]
[133,"Holbrook                     ",1338,1352,14,18684757.824399997,20493828.679550003,1338.0701591346203,8938395,9611922,498.17085798816566,9746363,10881907,1135544,839.89940828402371,0.12]
[135,"Holland                      ",171,175,4,2386918.7400000002,2529520.8899999997,814.86942857142537,1401973,1516165,652.52571428571423,984946,1013356,28410,162.34285714285716,0.03]
[136,"Holliston                    ",2724,2686,-38,31404798.240489997,32828254.537319999,529.95394520848924,22733659,23937028,448.01526433358151,8671139,8910063,238924,88.95160089352197,0.03]
[137,"Holyoke                      ",6033,5926,-107,101613348.83999999,109412142.28999999,1316.0299443131967,11842864,12452771,102.92051974350321,89770485,96959371,7188886,1213.1093486331422,0.08]
[138,"Hopedale                     ",899,875,-24,11008174.74,11489500.85,550.08698285714217,6377665,6489561,127.88114285714286,6168750,6195000,26250,30,0]
[139,"Hopkinton                    ",3996,4139,143,46722628.012559995,50873294.826880008,1002.8187519497494,37984044,41073636,746.45856487074172,8738584,9799659,1061075,256.36023194008214,0.12]
[141,"Hudson                       ",2432,2417,-15,31921911.970039997,34207457.530000001,945.61256100951755,20140158,21209511,442.42987174182872,12241726,12997947,756221,312.87587918907735,0.06]
[142,"Hull                         ",821,791,-30,10651125.811000003,10986735.571280001,424.28541122629355,8780091,9052274,344.09987357774969,3948836,3972566,23730,30,0.01]
[144,"Ipswich                      ",1602,1557,-45,19884295.035099998,20567036.155019999,438.49782910725781,15849509,16419694,366.20745022479127,4034786,4147342,112556,72.290301862556191,0.03]
[145,"Kingston                     ",1094,1125,31,13087068.680339999,14371240.407579998,1141.4859797688871,8280400,8940323,586.59822222222226,4806669,5430917,624248,554.88711111111115,0.13]
[149,"Lawrence                     ",14593,14566,-27,253714474.64999995,279873222.13999999,1795.8772133736124,13007684,13728391,49.478717561444462,240706791,266144831,25438040,1746.3984621721818,0.11]
[150,"Lee                          ",560,570,10,7917418.4799999995,8739704.6600000001,1442.6073333333345,6383000,6760874,662.93684210526317,2136039,2153139,17100,30,0.01]
[151,"Leicester                    ",1465,1443,-22,19402050.66,20759208.559999999,940.51136521136414,9299222,9660962,250.68607068607068,10102829,11098247,995418,689.82536382536387,0.1]
[152,"Lenox                        ",475,489,14,6111653.4900000002,6717817.4100000001,1239.5990184049078,5042114,5422289,777.45398773006139,1315905,1330575,14670,30,0.01]
[153,"Leominster                   ",5976,6020,44,91159936.339999989,99599000.579999998,1401.8379136212641,33607699,35204065,265.17707641196012,57552237,64394936,6842699,1136.6609634551496,0.12]
[154,"Leverett                     ",112,101,-11,1361700.11,1255147.3,-1054.9783168316837,970792,954740,-158.93069306930693,390908,393938,3030,30,0.01]
[155,"Lexington                    ",6850,6893,43,84119411.739810005,90646899.40639998,946.97340295806987,69398514,73037768,527.96373132163069,15058494,17609131,2550637,370.0329319599594,0.17]
[157,"Lincoln                      ",607,586,-21,7110979.0267200004,7355301.9672800004,416.93334566552903,5866558,6068124,343.96928327645054,1244421,1287178,42757,72.964163822525592,0.03]
[158,"Littleton                    ",1624,1665,41,18465845.970000003,20056951.579999998,955.61898498498238,14142192,15207996,640.12252252252256,4323654,4848956,525302,315.49669669669669,0.12]
[159,"Longmeadow                   ",2742,2725,-17,31528951.400000002,33192700.990000002,610.55030825688073,25041585,26093332,385.96220183486241,6487366,7099369,612003,224.58825688073395,0.09]
[160,"Lowell                       ",16103,16323,220,257876444.75999999,288791629.52999997,1893.9646370152534,56906426,60097975,195.52465845739141,200970019,228693655,27723636,1698.4399926484102,0.14000000000000001]
[161,"Ludlow                       ",2311,2248,-63,30691074.190000001,32627792.160000004,861.52934608541034,17421395,18168773,332.46352313167262,14006073,14459019,452946,201.48843416370107,0.03]
[162,"Lunenburg                    ",1671,1615,-56,20056630.419999998,20659694.909999996,373.41454489163988,11334402,11910986,357.01795665634677,8722228,8770678,48450,30,0.01]
[163,"Lynn                         ",17808,17895,87,299740597.38000005,329943497.06999999,1687.7842799664677,57821484,60851330,169.31243364068175,241919113,269092167,27173054,1518.4718636490641,0.11]
[164,"Lynnfield                    ",2177,2207,30,25488528.222080003,27452371.780520003,889.82490187584949,20492517,21507362,459.83008608971454,4996011,5945010,948999,429.99501585863163,0.19]
[165,"Malden                       ",6803,6940,137,105452144.24998,117616659.13781999,1752.8119434927937,51377517,54419682,438.35230547550429,54074627,63196977,9122350,1314.4596541786743,0.17]
[167,"Mansfield                    ",3529,3485,-44,43764978.669519998,46129087.005899996,678.36681101291174,31365406,32585038,349.96614060258247,19282049,19386599,104550,30,0.01]
[168,"Marblehead                   ",2659,2658,-1,30912361.050000004,32681938.290000007,665.7551693002265,25502698,26962599,549.24793077501886,6194847,6274587,79740,30,0.01]
[169,"Marion                       ",409,401,-8,4816493.6300000008,5068217.2599999988,627.73972568578063,3774727,3913467,345.9850374064838,1041767,1154750,112983,281.75311720698255,0.11]
[170,"Marlborough                  ",5218,5370,152,77315386.541280001,87221684.996450007,1844.7483156741164,39639041,41360456,320.56145251396646,37676346,45861229,8184883,1524.1867783985103,0.22]
[171,"Marshfield                   ",3794,3783,-11,47025005.911919996,49950295.557299994,773.27244128469408,37291361,39070159,470.2083002907745,15006223,15119713,113490,30,0.01]
[172,"Mashpee                      ",1458,1422,-36,19613343.369999997,20496134.48,620.80950070323706,15743229,16524355,549.3150492264416,4772946,4815606,42660,30,0.01]
[173,"Mattapoisett                 ",424,414,-10,4913934.4400000004,5079932.7300000004,400.96205314009671,3933553,4120905,452.54106280193236,980381,992801,12420,30,0.01]
[174,"Maynard                      ",1239,1240,1,16124411.021999998,17768872.032999996,1326.1782346774178,11396750,12105654,571.69677419354844,5554961,5663218,108257,87.30403225806451,0.02]
[175,"Medfield                     ",2429,2427,-2,28101468.769180004,29777088.9976,690.40800511742759,22588503,23849002,519.36505974454053,6507474,6580284,72810,30,0.01]
[176,"Medford                      ",4455,4559,104,64950374.201000012,71888258.341159999,1521.7995481816158,51012133,54480958,760.87409519631501,13938241,17407300,3469059,760.92542224171973,0.25]
[177,"Medway                       ",2121,2120,-1,25231553.767439991,26890897.844290003,782.70947021226982,18439545,19298650,405.23820754716979,10691349,10754949,63600,30,0.01]
[178,"Melrose                      ",3972,4062,90,47377571.272,51330398.765020005,973.12345963072516,37697349,39070041,337.93500738552439,9680222,12260358,2580136,635.18857705563767,0.27]
[181,"Methuen                      ",6737,6775,38,99305681.999999985,109298849.82999998,1475.0063217712175,42704657,44617436,282.32900369003693,56601025,64681414,8080389,1192.6773431734318,0.14000000000000001]
[182,"Middleborough                ",3113,3137,24,40901731.939999998,44333813.130000003,1094.0647720752327,20691229,22002952,418.14568058654766,20210503,22330861,2120358,675.91903092126233,0.1]
[184,"Middleton                    ",685,703,18,7809075.6739000008,8542770.1967999991,1043.6621947368399,6381487,6914393,758.04551920341396,1726991,1748081,21090,30,0.01]
[185,"Milford                      ",4521,4704,183,66524190.045280002,75437511.279999986,1894.8386978571396,27110718,28632172,323.43835034013608,39413472,46805339,7391867,1571.4002976190477,0.19]
[186,"Millbury                     ",1618,1638,20,20670955.990000002,22434599.240000002,1076.7052808302808,12891181,13581840,421.64774114774116,8024392,8852759,828367,505.71855921855922,0.1]
[187,"Millis                       ",1064,1089,25,12954292.108449999,14054851.192480003,1010.6144022314088,9957083,11047181,1001.00826446281,4926682,4959352,32670,30,0.01]
[189,"Milton                       ",4316,4294,-22,51259127.086869985,53957475.515560001,628.39972722170853,40535520,42281594,406.63111318118303,10723607,11675882,952275,221.76874708896133,0.09]
[191,"Monson                       ",852,810,-42,11078294.98,11361547.17,349.69406172839444,6264895,6395027,160.6567901234568,7618685,7642985,24300,30,0]
[196,"Nahant                       ",252,248,-4,2856293.17,2954392.4200000004,395.56149193548578,2356441,2437374,326.34274193548384,546523,553963,7440,30,0.01]
[197,"Nantucket                    ",1668,1713,45,22613557.840000004,25201462.489999998,1510.7441039112637,18656185,20791207,1246.3642732049036,3957373,4410255,452882,264.37945125510799,0.11]
[198,"Natick                       ",5284,5309,25,61356636.239639997,65231071.033819996,729.78617332454291,49137791,52065336,551.43058956488983,12218845,13165735,946890,178.355622527783,0.08]
[199,"Needham                      ",{"$f":"VLOOKUP(A138,aidcalc,14,FALSE)","v":5565},{"$f":"VLOOKUP(A138,aidcalc,15,FALSE)","v":5558},{"$f":"D138-C138","v":-7},{"$f":"VLOOKUP(A138,aidcalc,4,FALSE)","v":66681599.624000005},{"$f":"VLOOKUP(A138,aidcalc,9,FALSE)","v":70773642.887999997},{"$f":"(G138-F138)/$D138","v":736.24384023029711},{"$f":"VLOOKUP(A138,aidcalc,5,FALSE)","v":54310286},{"$f":"VLOOKUP(A138,aidcalc,10,FALSE)","v":57461187},{"$f":"(J138-I138)/$D138","v":566.9127383951062},{"$f":"VLOOKUP(A138,aidcalc,6,FALSE)","v":12371314},{"$f":"VLOOKUP(A138,aidcalc,25,FALSE)","v":13312456},{"$f":"M138-L138","v":941142},{"$f":"(M138-L138)/$D138","v":169.33105433609211},{"$f":"ROUND(IF(F138>0,(M138-L138)/L138,100),2)","v":0.08}]
[201,"New Bedford                  ",14011,14148,137,233389315.13999999,259908138.25999999,1874.3867062482334,34303277,35809016,106.4276929601357,199086038,224099122,25013084,1767.959004806333,0.13]
[204,"Newburyport                  ",2195,2232,37,25407534.990000002,27448207.989999998,914.28001792114526,20726102,21788063,475.78897849462368,4681433,5660145,978712,438.49103942652329,0.21]
[207,"Newton                       ",12007,11885,-122,148413207.17159998,156764603.61603001,702.68375636769235,122440896,129330798,579.71409339503577,26212526,27433806,1221280,102.75809844341607,0.05]
[208,"Norfolk                      ",1023,1010,-13,11453635.647089999,11993145.444000002,534.168115752478,9052188,9300692,246.04356435643564,3551805,3582105,30300,30,0.01]
[209,"North Adams                  ",1323,1315,-8,20196370.640000001,21755055.919999998,1185.3119999999981,5276853,5538974,199.33155893536122,14919518,16216082,1296564,985.98022813688215,0.09]
[210,"Northampton                  ",2676,2668,-8,33723796.18,35618666.020000003,710.2210794602712,26638955,28077001,538.99775112443774,7798609,7878649,80040,30,0.01]
[211,"North Andover                ",4547,4505,-42,54375769.079999991,57569717.300000004,708.97851720311075,43673850,45627018,433.55560488346282,10701919,11942699,1240780,275.42286348501665,0.12]
[212,"North Attleborough           ",4114,4031,-83,49368540.359999999,51608133.329999998,555.59240138923315,30579150,32183541,398.01314810220788,21051671,21172601,120930,30,0.01]
[213,"Northborough                 ",1590,1618,28,18027328.710000005,19538316.099999998,933.86118046971148,14581324,15713655,699.83374536464771,4135910,4184450,48540,30,0.01]
[214,"Northbridge                  ",2024,1997,-27,26403426.609999999,28109617.770000007,854.37714571858169,13630647,14472856,421.73710565848774,15786061,15845971,59910,30,0]
[215,"North Brookfield             ",585,574,-11,7789173.0300000003,8281136.6699999999,857.07951219512131,3255249,3375581,209.63763066202091,4533924,4905556,371632,647.44250871080135,0.08]
[217,"North Reading                ",2248,2269,21,27056349.750239998,29062440.792260002,884.13003174085691,21810649,23011257,529.135301895108,7356107,7424177,68070,30,0.01]
[218,"Norton                       ",2213,2189,-24,27305331.41,29128867.219999995,833.04513933302644,19965440,20948264,448.98309730470532,13029200,13094870,65670,30,0.01]
[219,"Norwell                      ",2119,2100,-19,24690512.978599999,25956168.805050001,602.69325069047693,19938599,20944041,478.78190476190474,4751914,5012128,260214,123.91142857142857,0.05]
[220,"Norwood                      ",3521,3547,26,48677498.672449999,53483623.868720002,1354.9831396306749,35990878,37142187,324.58669297998307,12686621,16341437,3654816,1030.3963913166056,0.28999999999999998]
[221,"Oak Bluffs                   ",451,435,-16,6081567.2300000004,6470637.9299999997,894.4154022988489,4486599,4519073,74.652873563218392,1594968,1951565,356597,819.76321839080458,0.22]
[223,"Orange                       ",590,583,-7,8547480.9700000007,9212499.9199999981,1140.6843053173197,2251919,2332598,138.38593481989707,6295562,6879902,584340,1002.2984562607204,0.09]
[224,"Orleans                      ",169,149,-20,2265527.7100000004,2114047.8800000004,-1016.6431543624166,1869061,1744090,-838.73154362416108,445614,450084,4470,30,0.01]
[226,"Oxford                       ",1571,1526,-45,21026624.100000001,21950126.810000002,605.17870904325093,10588629,10995071,266.34469200524245,10708044,10955056,247012,161.8689384010485,0.02]
[227,"Palmer                       ",1297,1244,-53,18251116.599999998,19001379.489999998,603.1052170418011,7077995,7280709,162.95337620578778,11173122,11720670,547548,440.15112540192928,0.05]
[229,"Peabody                      ",5940,5959,19,83523634.23999998,91177548.530000001,1284.4293153213662,52837629,55819170,500.34250713206916,30686005,35358379,4672374,784.08692733680152,0.15]
[230,"Pelham                       ",65,63,-2,789892.39999999991,858482.55999999994,1088.7326984126989,635687,631932,-59.603174603174601,244483,246373,1890,30,0.01]
[231,"Pembroke                     ",2700,2599,-101,33225728.808800004,33926554.381990001,269.65200969218785,22712411,23884371,450.92727972297035,13852952,13930922,77970,30,0.01]
[234,"Petersham                    ",65,77,12,934128.69,1133842.72,2593.6887012987017,553478,637636,1092.9610389610389,441433,496207,54774,711.35064935064941,0.12]
[236,"Pittsfield                   ",5618,5577,-41,84729484.75,92916030.260000005,1467.9120512820523,30474674,32068500,285.78554778554781,54254811,60847530,6592719,1182.1264120494889,0.12]
[238,"Plainville                   ",670,655,-15,8036459.790000001,8340185.2700000005,463.70302290076262,5785122,6122586,515.21221374045797,2987741,3007391,19650,30,0.01]
[239,"Plymouth                     ",7768,7691,-77,104649211.54707,111949866.57694001,949.24652579248709,79081066,83683584,598.42907294240024,27066867,28266283,1199416,155.9505916005721,0.04]
[240,"Plympton                     ",248,251,3,2979879.4445200004,3146739.0944000003,664.77948159362518,2095520,2196202,401.1235059760956,884359,950537,66178,263.65737051792831,7.0000000000000007E-2]
[242,"Provincetown                 ",97,98,1,1535068,1708796.98,1772.7446938775508,1266431,1409758,1462.5204081632653,299571,302511,2940,30,0.01]
[243,"Quincy                       ",9460,9715,255,146803428.35284004,164068488.81255996,1777.1549624004042,111395437,118960682,778.71796191456508,35407991,45107807,9699816,998.43705609881624,0.27]
[244,"Randolph                     ",3107,3050,-57,47526055.611459993,50608513.309120007,1010.6418680852505,24874680,26405867,502.02852459016395,22651376,24202646,1551270,508.61311475409838,7.0000000000000007E-2]
[246,"Reading                      ",3699,3708,9,43201150.09262,46064559.298859999,772.22470502696831,35640949,37284680,443.29314994606256,11171799,11283039,111240,30,0.01]
[248,"Revere                       ",7735,7955,220,125462677.79059999,142967579.12336001,2200.4904252369606,41009518,44549397,444.98793211816468,84453160,98418182,13965022,1755.5024512884977,0.17]
[249,"Richmond                     ",122,120,-2,1633317.1499999997,1653453.7499999998,167.80500000000077,1118062,1364099,2050.3083333333334,515255,518855,3600,30,0.01]
[250,"Rochester                    ",522,499,-23,6070731.0099999998,6163095.8600000003,185.09989979960031,3686389,3840072,307.9819639278557,2384342,2399312,14970,30,0.01]
[251,"Rockland                     ",2187,2213,26,31695075.426849995,34848972.482560009,1425.1681227790393,15340167,16311436,438.89245368278353,16354908,18537536,2182628,986.27564392227748,0.13]
[252,"Rockport                     ",593,587,-6,7658338.1696900008,8129580.1188599998,802.79718768313285,6318129,6706904,662.30834752981264,1555526,1573136,17610,30,0.01]
[253,"Rowe                         ",44,41,-3,687426.26,751366.82,1559.5258536585352,567127,619878,1286.6097560975609,143705,144935,1230,30,0.01]
[258,"Salem                        ",4139,4202,63,62736825.24000001,69935642.150000006,1713.1882222751062,39750153,42479762,649.5975725844836,26184942,27455880,1270938,302.46025702046643,0.05]
[261,"Sandwich                     ",2422,2276,-146,29279714.52,29251950.23,-12.198721441124388,23596865,24132859,235.4982425307557,7371508,7439788,68280,30,0.01]
[262,"Saugus                       ",2744,2830,86,37560632.350000001,42085454.029999994,1598.8769187279124,28130603,30096004,694.48798586572434,9430029,11989450,2559421,904.38904593639575,0.27]
[263,"Savoy                        ",45,40,-5,652497.02999999991,576479.4,-1900.4407499999973,427939,429924,49.625,519899,521099,1200,30,0]
[264,"Scituate                     ",2787,2763,-24,32814594.939320002,34295600.022,536.01342116539922,26600278,27754773,417.84111473036552,6281773,6540827,259054,93.758233803836404,0.04]
[265,"Seekonk                      ",2087,2067,-20,24525300.480000004,25865534.950000003,648.39597000483741,17348780,18110661,368.59264634736331,7176520,7754874,578354,279.80358006773099,0.08]
[266,"Sharon                       ",3525,3495,-30,42035594.013680004,44179615.271480002,613.45386489270322,32315527,33681121,390.72789699570814,9720067,10498494,778427,222.72589413447781,0.08]
[269,"Sherborn                     ",401,401,0,4431918.9769299999,4685609.0321299993,632.64352917705571,3656333,3865627,521.93017456359098,775586,846957,71371,177.98254364089775,0.09]
[271,"Shrewsbury                   ",6003,5972,-31,70918716.61999999,74633713.99000001,622.06921801741794,55216447,57993834,465.06815137307433,20613148,20792308,179160,30,0.01]
[272,"Shutesbury                   ",100,111,11,1228431.31,1442294.2199999997,1926.69288288288,719067,820401,912.91891891891896,639326,642656,3330,30,0.01]
[273,"Somerset                     ",1688,1628,-60,20421920.32,21144659.59,443.94304054054027,10007089,10510731,309.36240786240785,10414831,10633929,219098,134.58108108108109,0.02]
[274,"Somerville                   ",5011,5100,89,80143330.545699999,88070540.975499988,1554.354986235292,66118248,71896983,1133.085294117647,20939048,21092048,153000,30,0.01]
[275,"Southampton                  ",480,492,12,5851647.4900000002,6284662,880.11079268292633,3885985,4309371,860.54065040650403,2593726,2608486,14760,30,0.01]
[276,"Southborough                 ",1174,1200,26,13166912.130260002,14230837.126399998,886.60416344999646,10631673,11416440,653.97249999999997,3091171,3127171,36000,30,0.01]
[277,"Southbridge                  ",2159,2165,6,34733982.75,38095220.899999999,1552.5349422632787,8618946,9107735,225.76859122401848,26115037,28987486,2872449,1326.7662817551964,0.11]
[278,"South Hadley                 ",1864,1859,-5,24351460.979999997,25928069.819999997,848.09512641204935,14674595,15249839,309.43733189887035,9676866,10678231,1001365,538.65788058095745,0.1]
[281,"Springfield                  ",28613,28326,-287,483882872.08000004,525763852.88000005,1478.5349431617599,44717025,48026085,116.82058885829274,439165847,477737768,38571921,1361.7143613641178,0.09]
[284,"Stoneham                     ",2369,2425,56,29345841.392800011,32165599.711240005,1162.7869354391728,23608286,24905971,535.12783505154641,5737555,7259629,1522074,627.65938144329903,0.27]
[285,"Stoughton                    ",3607,3693,86,50610297.858939998,56987020.295979992,1726.7052361332233,29115684,30547654,387.75250473869482,21494614,26439366,4944752,1338.9526130517195,0.23]
[287,"Sturbridge                   ",846,883,37,9620721.5300000012,10737439.589999998,1264.6863646659081,5377239,6009212,715.71121177802945,4243483,4728228,484745,548.97508493771238,0.11]
[288,"Sudbury                      ",2491,2513,22,26839555.450000003,28628096.43,711.71547154794939,21886829,23070588,471.05411858336652,5215698,5557508,341810,136.01671309192201,7.0000000000000007E-2]
[289,"Sunderland                   ",161,146,-15,2091284.38,1946645.5199999998,-990.67712328767198,1575365,1555821,-133.86301369863014,886728,891108,4380,30,0]
[290,"Sutton                       ",1236,1294,58,14448148.280000001,16076441.029999997,1258.3406105100435,11629509,12750768,866.50618238021639,5591685,5630505,38820,30,0.01]
[291,"Swampscott                   ",2029,2024,-5,24578055.190000001,26012947.399999999,708.93883893280497,20086942,20898493,400.96393280632412,4631706,5114454,482748,238.51185770750988,0.1]
[292,"Swansea                      ",2057,2033,-24,25270425.829999994,26694462.580000002,700.46077225775082,15443111,16252187,397.97147073290705,9827315,10442276,614961,302.48942449581898,0.06]
[293,"Taunton                      ",{"$f":"VLOOKUP(A202,aidcalc,14,FALSE)","v":7940},{"$f":"VLOOKUP(A202,aidcalc,15,FALSE)","v":8075},{"$f":"D202-C202","v":135},{"$f":"VLOOKUP(A202,aidcalc,4,FALSE)","v":118729147.73},{"$f":"VLOOKUP(A202,aidcalc,9,FALSE)","v":131396476.31},{"$f":"(G202-F202)/$D202","v":1568.7094216718265},{"$f":"VLOOKUP(A202,aidcalc,5,FALSE)","v":40100760},{"$f":"VLOOKUP(A202,aidcalc,10,FALSE)","v":42467828},{"$f":"(J202-I202)/$D202","v":293.13535603715172},{"$f":"VLOOKUP(A202,aidcalc,6,FALSE)","v":78628388},{"$f":"VLOOKUP(A202,aidcalc,25,FALSE)","v":88928648},{"$f":"M202-L202","v":10300260},{"$f":"(M202-L202)/$D202","v":1275.5739938080496},{"$f":"ROUND(IF(F202>0,(M202-L202)/L202,100),2)","v":0.13}]
[295,"Tewksbury                    ",3228,3249,21,38546581.100000001,41191248.019999996,813.99412742382094,30874054,32555022,517.38011695906437,13617575,13715045,97470,30,0.01]
[296,"Tisbury                      ",351,360,9,4872085.7,5475942.1799999988,1677.3791111111072,3860887,3835613,-70.205555555555549,1011199,1640329,629130,1747.5833333333333,0.62]
[298,"Topsfield                    ",572,607,35,6327129.1521899998,7135092.1120000007,1331.0757163261958,4950549,5419279,772.20757825370674,1376580,1715813,339233,558.8682042833608,0.25]
[300,"Truro                        ",185,173,-12,2317885.7700000005,2300504.7399999998,-100.46838150289437,1912256,1897916,-82.890173410404628,419516,424706,5190,30,0.01]
[301,"Tyngsborough                 ",1664,1619,-45,20161771.900000002,21286361.979999997,694.62018529956424,13501934,13961757,284.01667696108711,7557694,7606264,48570,30,0.01]
[304,"Uxbridge                     ",1652,1690,38,20484522.960000001,22214657.669999998,1023.7483491124243,13953398,14882274,549.63076923076926,9588524,9639224,50700,30,0.01]
[305,"Wakefield                    ",3362,3317,-45,40977611.282850005,43061534.5506,628.25543194151192,33133651,34517798,417.28881519445281,7843960,8543737,699777,210.96683750376846,0.09]
[306,"Wales                        ",133,111,-22,1787635.85,1628374.74,-1434.7847747747758,616948,566808,-451.7117117117117,1170688,1174018,3330,30,0]
[307,"Walpole                      ",3569,3680,111,43228473.531800002,47191402.9124,1076.8829838586951,34931941,37306825,645.34891304347821,8504201,9884578,1380377,375.10244565217391,0.16]
[308,"Waltham                      ",5519,5657,138,87977903.347709998,98129290.060850009,1794.4823604631449,69072135,74508112,960.92929114371577,18905768,23621178,4715410,833.5531200282835,0.25]
[309,"Ware                         ",1264,1264,0,17965623.27,19400007.25,1134.7974525316458,5630390,5872745,191.73655063291139,12335233,13527262,1192029,943.06091772151899,0.1]
[310,"Wareham                      ",2329,2307,-22,34329630.080000013,37763668.480000004,1488.5298656263508,20639982,21536212,388.4828781967924,13689648,16227456,2537808,1100.0468140442133,0.19]
[314,"Watertown                    ",2595,2661,66,36321233.870360002,39855550.60148,1328.1911804284096,29965018,32047587,782.62645621946638,6356216,7807964,1451748,545.56482525366403,0.23]
[315,"Wayland                      ",2655,2681,26,30979999.4738,33119434.224909998,797.99878817978322,24877273,25852462,363.74076837001121,6102726,7266972,1164246,434.25811264453563,0.19]
[316,"Webster                      ",1897,1907,10,29048367.420000002,31971769.840000004,1532.9850131095973,12256734,12851534,311.90351337178816,16791633,19120236,2328603,1221.0818038804405,0.14000000000000001]
[317,"Wellesley                    ",4308,4180,-128,51015282.939499997,52634797.2425,387.44361315789547,42087609,43423707,319.64066985645934,9665964,9791364,125400,30,0.01]
[318,"Wellfleet                    ",131,116,-15,1688189.7200000002,1610248.3900000004,-671.90801724137793,1392757,1328455,-554.32758620689651,295433,298913,3480,30,0.01]
[321,"Westborough                  ",3836,3764,-72,45181193.88000001,47373904.239999995,582.54791710945392,33675087,35784512,560.42109458023378,11506107,11908553,402446,106.91976620616366,0.03]
[322,"West Boylston                ",825,826,1,10560011.300000001,11278495.76,869.83590799031356,8098019,8476196,457.84140435835349,3108465,3133245,24780,30,0.01]
[323,"West Bridgewater             ",1099,1130,31,13585538.109999998,15250441.900000002,1473.3661858407122,8270877,8732058,408.12477876106198,5314661,6518384,1203723,1065.2415929203539,0.23]
[325,"Westfield                    ",4878,4849,-29,69264756.579999998,75008744.25999999,1184.5715982676825,30194266,32011961,374.85976489997938,39070491,42996783,3926292,809.71169313260464,0.1]
[326,"Westford                     ",4491,4658,167,51138938.126499996,56419497.774939992,1133.6538532503212,40088937,42434964,503.65543151567198,17551275,17691015,139740,30,0.01]
[327,"Westhampton                  ",98,92,-6,1276796.4100000001,1280165.0299999996,36.615434782602321,1028968,1028923,-0.4891304347826087,486110,488870,2760,30,0.01]
[330,"Weston                       ",1965,2010,45,23331116.658349998,25392258.954960003,1025.4439286616941,19248171,20948614,845.99154228855718,4124960,4443645,318685,158.54975124378109,0.08]
[331,"Westport                     ",1543,1560,17,19394381.850000001,20926189.139999997,981.92774999999699,14765539,15677019,584.28205128205127,4696172,5249170,552998,354.48589743589741,0.12]
[332,"West Springfield             ",3919,3982,63,57525467.20000001,63567924.089999989,1517.4427147162176,21830351,22906588,270.27548970366649,35695116,40661336,4966220,1247.1672526368659,0.14000000000000001]
[335,"Westwood                     ",2890,2893,3,33902334.173579998,36039140.915650003,738.61276946768214,27895202,28969675,371.40442447286551,6007132,7069466,1062334,367.20843415139996,0.18]
[336,"Weymouth                     ",5885,5863,-22,83362016.189649999,89980250.507149994,1128.8136308203982,62293612,65671537,576.14275967934509,28964195,29140085,175890,30,0.01]
[337,"Whately                      ",77,85,8,966975.82,1127263.1800000002,1885.7336470588261,730678,797920,791.08235294117651,271820,329343,57523,676.74117647058824,0.21]
[340,"Williamsburg                 ",172,154,-18,2178719.5099999998,2130357.6900000004,-314.03779220778807,1344523,1343356,-7.5779220779220777,834197,838817,4620,30,0.01]
[342,"Wilmington                   ",2842,2832,-10,34415669.88318,36154606.173280001,614.03117588276859,27066348,28577249,533.51024011299432,11724230,11809190,84960,30,0.01]
[343,"Winchendon                   ",1297,1319,22,18305278.439999994,20130691.019999996,1383.9367551175148,5813202,6129765,240.00227445034116,12492076,14000926,1508850,1143.9347990902199,0.12]
[344,"Winchester                   ",4388,4346,-42,51185910.074539989,53860981.504270002,615.52494931661602,42158204,43974784,417.98895536125173,10016359,10146739,130380,30,0.01]
[346,"Winthrop                     ",1912,1957,45,25999605.057999998,28718694.131870005,1389.4170024885063,17986284,18971710,503.53909044455798,8013321,9746984,1733663,885.87787429739399,0.22]
[347,"Woburn",4398,4388,-10,60994707.780599996,65492150.344600007,1024.9413318140407,48301038,51893336,818.66408386508658,12693670,13598814,905144,206.27711941659069,7.0000000000000007E-2]
[348,"Worcester                    ",26165,26552,387,430557179.73999995,477974878.60999995,1785.8428318017477,114317014,120432974,230.3389575173245,316240166,357541905,41301739,1555.5038791804761,0.13]
[349,"Worthington",107,120,13,1326979.1100000001,1568790.0099999995,2015.0908333333286,1027100,1103824,639.36666666666667,365735,464966,99231,826.92499999999995,0.27]
[350,"Wrentham                     ",846,925,79,9667437.7704000026,11250378.938039999,1711.2877487999965,7781640,8771480,1070.0972972972972,3868573,3896323,27750,30,0.01]
[406,"Northampton Smith            ",119,115,-4,3397887.14,3641524.6399999997,2118.5869565217349,2684044,2870492,1621.2869565217391,923645,927095,3450,30,0]
[600,"Acton Boxborough             ",5047,5119.9999999999991,72.999999999999091,61160337.808100007,65635696.241760008,874.09344407421906,48377825,50507466,415.94550781250007,15641731,15795331,153600,30.000000000000007,0.01]
[603,"Hoosac Valley",1167,1146,-21,16371180.810000002,17400551.630000003,898.22933682373503,5945277,6167321,193.75567190226877,10460113,11233231,773118,674.62303664921467,7.0000000000000007E-2]
[605,"Amherst Pelham               ",1310,1274.0000000000002,-35.999999999999773,17544562.199999999,18078526.210000001,419.12402668759933,13310597,13803543,386.92778649921502,9679957.0000003986,9718177.0000003986,38220,29.999999999999993,0]
[610,"Ashburnham Westminster       ",2258,2282,24,27181254.040000007,29646112.5,1080.1307887817675,13193830,13950290,331.48992112182299,13987424,15695823,1708399,748.64110429447851,0.12]
[615,"Athol Royalston              ",1759,1746,-13,25100227.810000002,27758995.789999995,1522.7766208476478,4138714,4374330,134.94616265750287,20961514,23384666,2423152,1387.8304696449027,0.12]
[616,"Ayer Shirley",1658,1712,54,20782030.890000001,23119470.369999997,1365.3267990654188,14087905,14814575,424.4567757009346,8450171,8501531,51360,30,0.01]
[618,"Berkshire Hills              ",934,917.99999999999989,-16.000000000000114,13314694.690000001,14027795.750000002,776.79854030501156,10497795,11020467,569.35947712418306,3017538,3045078,27540,30.000000000000004,0.01]
[620,"Berlin Boylston              ",977,1004.0000000000001,27.000000000000114,11425016.279999997,12479595.730000002,1050.3779382470166,8986309,9682981,693.89641434262944,2438707,2796615,357908,356.48207171314738,0.15]
[622,"Blackstone Millville         ",1628,1581,-47,20463628.09,21242438.940000005,492.60648323845999,9949334,10531596,368.28716002530047,11133169,11180599,47430,30,0]
[625,"Bridgewater Raynham          ",5505,5609,104,67218280.400000006,73247622.790000021,1074.9407006596568,39672721,42311090,470.38135139953647,27545559,30936533,3390974,604.55945801390624,0.12]
[632,"Chesterfield Goshen",122,117,-5,1538719.12,1596663.71,495.25290598290474,991104,1065120,632.61538461538464,762250,765760,3510,30,0]
[635,"Central Berkshire            ",1507.0000000150701,1516,8.9999999849299002,20199482.520201996,21682070.819999997,977.96061991952547,11643487,12180728,354.38060686015831,8909149.0000009034,9501343,592193.99999909662,390.6292875983487,7.0000000000000007E-2]
[640,"Concord Carlisle             ",1353,1335,-18,17547215.867280003,18206295.725200001,493.69277746816363,14333307,15020194,514.52209737827718,3213909,3253959,40050,30,0.01]
[645,"Dennis Yarmouth              ",3184,3203,19,45626329.120000012,49764294.759999998,1291.9031033406136,35577617,38104613,788.94661255073368,10048712,11659682,1610970,502.95660318451451,0.16]
[650,"Dighton Rehoboth             ",2606,2577,-29,31909002.190000005,33303334.109999999,541.06787737679258,21814425,22502125,266.86069072564999,13193246,13270556,77310,30,0.01]
[655,"Dover Sherborn               ",1197,1189,-8,14245103.0352,15061557.844200004,686.67351471825407,11752210,12425785,566.50546677880573,2492893,2655010,162117,136.34735071488646,7.0000000000000007E-2]
[658,"Dudley Charlton              ",3333,3275,-58,42267945.799999997,44767304.399999999,763.16293129771043,18990742,20147144,353.09984732824427,24788383,24886633,98250,30,0]
[660,"Nauset                       ",1208.9999999879101,1191,-17.999999987910087,16185145.729838148,17092062.400000002,761.47495395621706,12835323,13610271,650.67002518891684,3635088.9999996317,3670818.9999996317,35730,30,0.01]
[662,"Farmington River",232,217,-15,2843384.1900000004,2970098.28,583.93589861750866,2231273,2351188,552.60368663594465,612111,618910,6799,31.331797235023043,0.01]
[665,"Freetown Lakeville           ",2780,2781,1,33397815.079999998,35485915.870000005,750.84530384753918,22481677,23828457,484.27903631787126,11350423,11657459,307036,110.40489032722043,0.03]
[670,"Frontier                     ",515,488,-27,6777309.0700000012,6859405.6100000003,168.23061475409654,5342316,5502061,327.34631147540983,2903235,2917875,14640,30,0.01]
[672,"Gateway                      ",753.99999999999989,785.99999999999989,32,10224749.509999998,11571635.25,1713.595089058527,5398856,5636489,302.33206106870233,5727339,5935146,207807,264.38549618320616,0.04]
[673,"Groton Dunstable             ",2288,2283,-5,26006774.040000003,27429942.139999997,623.37630310994041,20809059,21929584,490.81252737625931,11124923,11193413,68490,30,0.01]
[674,"Gill Montague                ",1020,947,-73,14265559.650000002,14525789.259999998,274.79367476240304,6487509,6845441,377.96409714889126,7778051,7806461,28410,30,0]
[675,"Hamilton Wenham              ",{"$f":"VLOOKUP(A266,aidcalc,14,FALSE)","v":1635},{"$f":"VLOOKUP(A266,aidcalc,15,FALSE)","v":1620},{"$f":"D266-C266","v":-15},{"$f":"VLOOKUP(A266,aidcalc,4,FALSE)","v":19041996.94004},{"$f":"VLOOKUP(A266,aidcalc,9,FALSE)","v":19935627.51244},{"$f":"(G266-F266)/$D266","v":551.62381012345679},{"$f":"VLOOKUP(A266,aidcalc,5,FALSE)","v":15355459},{"$f":"VLOOKUP(A266,aidcalc,10,FALSE)","v":15916460},{"$f":"(J266-I266)/$D266","v":346.29691358024689},{"$f":"VLOOKUP(A266,aidcalc,6,FALSE)","v":3889489},{"$f":"VLOOKUP(A266,aidcalc,25,FALSE)","v":4019168},{"$f":"M266-L266","v":129679},{"$f":"(M266-L266)/$D266","v":80.048765432098762},{"$f":"ROUND(IF(F266>0,(M266-L266)/L266,100),2)","v":0.03}]
[680,"Hampden Wilbraham            ",2841,2791.9999999999995,-49.000000000000455,34362938.020000003,35889670.800000012,546.82406160458765,22803354,23968793,417.42084527220635,12175004,12258764,83760,30.000000000000004,0.01]
[683,"Hampshire                    ",607.00000000606997,580.00000000579996,-27.000000000270006,7612495.6600761265,7679400.380076794,115.35296551723872,5113589,5295241,313.19310344514395,3327153.0000003641,3344553.0000005383,17400.000000174157,30.000000000000274,0.01]
[685,"Hawlemont                    ",76,92,16,1180054.7600000002,1359496.83,1950.4572826086937,626211,747723,1320.7826086956522,643276,646036,2760,30,0]
[690,"King Philip                  ",1960.9999999803899,1896.99999998103,-63.999999999359943,24040989.472959593,24882496.668651178,443.59894343700614,18683871,19073760,205.52925672319392,7771359.9999988237,7828269.9999982547,56909.999999430962,30.000000000000032,0.01]
[695,"Lincoln Sudbury              ",1571,1536,-35,19460408.700000003,20042623.919999998,379.0463671874968,15892482,16199749,200.04361979166666,3567927,3842875,274948,179.00260416666666,0.08]
[698,"Manchester Essex",1234,1174,-60,14799834.747719998,14995281.195770001,166.47908692504558,11860322,11980929,102.73168654173764,3160298,3195518,35220,30,0.01]
[700,"Marthas Vineyard             ",755,808,53,11706772.639999997,14493699.970000001,3449.1674876237671,9266700,10945434,2077.6410891089108,2943090,3548266,605176,748.98019801980195,0.21]
[705,"Masconomet                   ",1693,1613,-80,20626908.302099995,20800201.785499997,107.43551357718668,16338880,16364261,15.735275883446993,5354919,5403309,48390,30,0.01]
[710,"Mendon Upton                 ",2079,2025,-54,23959502.060000002,24957462.550000001,492.81999506172758,18041593,18856411,402.37925925925924,12636586,12697336,60750,30,0]
[712,"Monomoy",1662,1654,-8,22033322.210000001,23706658.220000003,1011.690453446192,17917457,19557993,991.85973397823454,4115865,4165485,49620,30,0.01]
[715,"Mount Greylock               ",1058,1086,28,12823121.489999998,14323308.950000001,1381.3880847145513,8909296,9465991,512.61049723756901,3913825,4857318,943493,868.77808471454875,0.24]
[717,"Mohawk Trail                 ",827.99999999171996,790.9999999920899,-36.999999999630063,10916936.219890831,11381489.499886185,587.29871049304609,6617874,6907293,365.89001264588398,6131053.9999997485,6154783.9999995111,23729.999999762513,29.999999999999766,0]
[720,"Narragansett                 ",1281,1338,57,16984442.759999998,19090731.800000001,1574.2070553064295,6309076,6749883,329.45216741405085,10675367,12340849,1665482,1244.7548579970105,0.16]
[725,"Nashoba                      ",3136.9999999686297,3107,-29.999999968629709,37188533.335978121,38851075.754790001,535.0957253980946,28095417,29074040,314.97360798197616,9093116,9777036,683920,220.12230447376891,0.08]
[728,"New Salem Wendell            ",107,113.00000000000001,6.0000000000000142,1400561.7699999998,1670707.68,2390.6717699115056,625870,758216,1171.2035398230087,774692,912492,137800,1219.4690265486724,0.18]
[730,"Northboro Southboro          ",1299,1245,-54,16339014.660000002,16594258.149999997,205.01485140561817,13206889,13332899,101.21285140562249,3287524,3324874,37350,30,0.01]
[735,"North Middlesex              ",3066,3096,30,37611036.840000004,40550528.920000002,949.44834625322937,20649455,21382473,236.76291989664082,20666873.000000898,20759753.000000898,92880,30,0]
[740,"Old Rochester                ",1009,973,-36,12541083.76,13019997.510000002,492.20323741007388,9156644,9551673,405.9907502569373,3384440,3468325,83885,86.21274409044193,0.02]
[745,"Pentucket                    ",2250,2288,38,25863556.119999997,27982141.810000002,925.95528409091128,19335867,20548996,530.21372377622379,13385162,13453802,68640,30,0.01]
[750,"Pioneer                      ",635,569,-66,8172163.4400000004,7858151.0500000017,-551.86711775043716,5256957,4907463,-614.22495606326891,3981129,3998199,17070,30,0]
[753,"Quabbin                      ",1966.0000000196601,1951,-15.000000019660092,25601192.900256008,27040442.530000001,737.69842631675715,11596905,12220640,319.70015376729884,16821478.000001181,16880008.000001181,58530,30,0]
[755,"Ralph C Mahar                ",575,551,-24,8477857.6699999999,8804675.8299999982,593.1364065335722,2803575,2757119,-84.312159709618868,5674283,6047557,373274,677.44827586206895,7.0000000000000007E-2]
[760,"Silver Lake                  ",1669.0000000166899,1634.00000001634,-35.000000000349928,22886572.072338864,24399125.516533989,925.67530243574038,14138025,14887605,458.73929008109195,8748547,9511521,762974,466.93635250451058,0.09]
[763,"Somerset Berkley",982,998,16,13192993.539999999,14135320.560000001,944.21545090180507,6608074,7164940,557.98196392785576,6584920,6970381,385461,386.23346693386776,0.06]
[765,"Southern Berkshire           ",650.00000000649993,644.99999999354998,-5.000000012949954,8757628.3300875779,9252135.43990748,766.67768965092591,7076021,7434693,556.08062016059955,2045891.00000039,2065241.0000001965,19349.999999806518,30.000000000000028,0.01]
[766,"Southwick Tolland Granville",1301,1281.0000000128102,-19.999999987189767,17233969.48,18106696.800181068,681.2859642250902,11574750,12099173,409.38563621760784,9964248,10002678.000000384,38430.000000383705,29.999999999999531,0]
[767,"Spencer East Brookfield      ",1521,1484.0000000000002,-36.999999999999773,21076435.030000001,22391801.729999993,886.36570080861964,9910023,10460047,370.63611859838267,13831994,13876514,44520,29.999999999999996,0]
[770,"Tantasqua                    ",1546,1512.0000000000002,-33.999999999999773,21751912.98,22722962.140000004,642.22828042328285,11388899,11779194,258.13161375661372,10363014,10943768,580754,384.09656084656081,0.06]
[773,"Triton                       ",2203,2223.9999999777601,20.999999977760126,28334955.815970004,30407397.850965925,931.85343301108151,21719660,22865013,514.99685252313554,8973621,9040340.9999993332,66719.999999333173,30.000000000000167,0.01]
[774,"Upisland",403,412,9,5035196.55,5529555.0699999994,1199.8993203883485,4154037,4561883,989.9174757281553,915262.00000011793,967672,52409.999999882071,127.20873786379144,0.06]
[775,"Wachusett                    ",6814,6867.9999999999991,53.999999999999091,79469578.500000015,84952456.879999995,798.32241991845967,47034063,49101422,301.01324985439726,32435516,35851035,3415519,497.30911473500299,0.11]
[778,"Quaboag",1090,1110,20,15230825.089999996,16750016.709999999,1368.6410990991017,6110748,6411888,271.29729729729729,9257500,10338129,1080629,973.53963963963963,0.12]
[780,"Whitman Hanson               ",3442,3570,128,42679524.109999999,47694959.75,1404.8839327731093,22110222,23154753,292.58571428571429,25089060,25196160,107100,30,0]
[801,"Assabet Valley               ",910.00000000909995,970.99999999999989,60.999999990899937,18912027.71474912,21431809.599349998,2595.0379862006985,11434042,12336877,929.79917610710618,7477986,9094933,1616947,1665.2389289392381,0.22]
[805,"Blackstone Valley            ",1250,1243.9999999875602,-6.0000000124398412,22300397.41,23489724.719765104,956.05089210369556,13631634,14213597,467.81591640339195,8668763,9276128,607365,488.23553055150609,7.0000000000000007E-2]
[806,"Blue Hills                   ",928.99999999070997,925.0000000092499,-3.9999999814600642,18993506.711260065,20180627.194921803,1283.3734958376931,12263867,12979952,774.14594593820459,6729640,7200675,471035,509.22702702193482,7.0000000000000007E-2]
[810,"Bristol Plymouth             ",1357.9999999864199,1319.9999999868,-37.999999999619831,25870713.669741295,26611587.789733887,561.2682727272728,12269006,12417077,112.17500000112175,13601708,14194511,592803,449.09318182267276,0.04]
[815,"Cape Cod                     ",657.00000001313992,669.00000000000011,11.999999986860189,13454322.920269083,14522131.980000004,1596.1271445903151,10498402,11114860,921.46188340807157,2955921,3407272,451351,674.66517189835565,0.15]
[817,"Essex North Shore",1314.9999999736999,1370.9999999725799,55.999999998879957,24470236.15951059,27035849.729459278,1871.3446900072945,17821075,19187502,996.66447850279258,6649161,7848348,1199187,874.68052518160744,0.18]
[818,"Franklin County              ",546,559.99999999999989,13.999999999999886,10955190.530000001,11960851.490000004,1795.8231428571482,5484326,6003158,926.48571428571449,5470865,5957693,486828,869.33571428571452,0.09]
[821,"Greater Fall River           ",1467,1450,-17,29219681.09,30840956.849999994,1118.1212137930995,8541329,8881164,234.36896551724138,20678352,21959793,1281441,883.75241379310341,0.06]
[823,"Greater Lawrence             ",1664.9999999999998,1695.00000001695,30.000000016950253,39053522.538119987,43068009.264110669,2368.4287468734738,6645884,7518634,514.89675515709291,32407639,35549375,3141736,1853.5315634032936,0.1]
[825,"Greater New Bedford          ",2125.0000000212499,2104,-21.000000021249889,43594626.830435947,46465556.500000007,1364.5102992224624,12514815,12909410,187.54515209125475,31079812,33556147,2476335,1176.9653041825095,0.08]
[828,"Greater Lowell               ",2372,2364.00000002364,-7.999999976359959,49349500.229999997,52221931.380522214,1215.0723986859107,14778865,14996648,92.124788493156586,34570635,37225283,2654648,1122.9475465200733,0.08]
[829,"South Middlesex              ",847.99999999151999,840.99999999159002,-6.9999999999299689,18188255.970868111,19205858.345507938,1209.9909329964373,10266168,10232414,-40.13555291359993,7922088,8973444,1051356,1250.126040440563,0.13]
[830,"Minuteman                    ",550.99999999449005,618.00000000618002,67.000000011689963,10873494.496371264,12893971.225288942,3269.3798202224498,8487544,9889048,2267.8058252200403,2385950,3004923,618973,1001.5744336469421,0.26]
[832,"Montachusett                 ",1467.0000000000002,1464.99999995605,-2.0000000439501946,27936175.670000002,29486021.359115418,1057.9151461856052,10715954,11167317,308.09761093074462,17220222,18318704,1098482,749.81706486891085,0.06]
[851,"Northern Berkshire           ",485.99999999999989,500.99999999499005,14.999999994990162,9724718.370000001,10599770.639894003,1746.6113171711625,3451123,3758739,614.00399202210804,6273595,6841032,567437,1132.6087824464557,0.09]
[852,"Nashoba Valley               ",688,715.00000000000011,27.000000000000114,13039564.664050002,14548100.2422,2109.8399694405571,9138788,9846166,989.33986013985998,3900777,4701934,801157,1120.4993006993004,0.21]
[853,"Northeast Metropolitan       ",1307.00000002614,1293.9999999870602,-13.00000003907985,28012736.845560264,29763086.943302374,1352.666227016703,15244239,15690113,344.570324578407,12768498,14072974,1304476,1008.0958269034347,0.1]
[855,"Old Colony                   ",521.00000000521004,542.00000000541991,21.000000000209866,9593176.8600959312,10531538.940105317,1731.2953505535102,5909947,6359936,830.23800737177157,3683230,4171603,488373,901.05719556294525,0.13]
[860,"Pathfinder                   ",587.00000000586999,602,14.999999994130008,11620603.830116205,12791606.58,1945.1872921657728,4877462,5336459,762.45348837209303,6743142,7455148,712006,1182.7342192691031,0.11]
[871,"Shawsheen Valley             ",1323,1295,-28,24071025.330000002,24972413.579999994,696.05270270269693,19187031,19694909,392.18378378378378,6589341,6628191,38850,30,0.01]
[872,"Southeastern                 ",1631,1637.0000000000005,6.0000000000004547,32362813.119999997,34786651.119999997,1480.6585216860105,12184542,12652345,285.76847892486245,20178271,22134306,1956035,1194.8900427611482,0.1]
[873,"South Shore                  ",598.99999998802002,620.00000000000011,21.000000011980092,11690753.246806186,12906720.28764,1961.2371626351837,6690356,7232154,873.86774193548376,5000397,5674566,674169,1087.3693548387096,0.13]
[876,"Southern Worcester           ",1201,1232.00000001232,31.000000012320015,22869920.629999999,24914513.250249147,1659.571932003817,9976240,10695233,583.59821427987833,12893681,14219280,1325599,1075.9732142749544,0.1]
[878,"Tri County                   ",896.00000000000011,935.00000000934995,39.000000009349833,17544445.759440001,19173060.333461732,1741.8337689897803,12480824,13669772,1271.6021390247172,5797748,5825798.0000002803,28050.000000280328,29.999999999999819,0]
[879,"Upper Cape Cod               ",772.00000000772002,793,20.999999992279982,15047376.250150472,16601530.709999997,1959.8416895958703,11135028,12150289,1280.2786885245901,3912348,4451242,538894,679.56368221941989,0.14000000000000001]
[885,"Whittier                     ",1276,1274.9999999872502,-1.0000000127497515,24944833.849999998,26519398.819734812,1234.9529174514191,12643217,13131792,383.19607843520441,12301617,13387607,1085990,851.75686275361545,0.09]
[910,"Bristol County               ",434,487.00000000487,53.000000004870003,8260047.1499999994,9916498.0400991645,3401.3365299437382,4239142,4990303,1542.4250513192781,4020905,4926195,905290,1858.9117042935259,0.23]
[915,"Norfolk County               ",274.00000000000006,253.00000000253002,-20.999999997470042,5528618.7214800008,5446250.7874944638,-325.56495646131714,4095337,3980038,-455.72727272271544,1433282,1466213,32931,130.16205533466675,0.02]
[999,"State Total, All Districts",903751.00000000594,905238.99999993376,1487.9999999278225,12890335880.607767,13965016629.33205,1187.1790198216845,7166744291,7566383475,441.47367048926225,{"$f":"VLOOKUP(A328,aidcalc,6,FALSE)+308558","v":5998209886.6000023},{"$f":"VLOOKUP(A328,aidcalc,25,FALSE)+308558","v":6584595910.5999994},586386023.99999714,647.76928965725074,0.1]
[null,null,null,null,null,null,null,null,null,null,null,"includes Devens aid","includes Devens aid"]
[]
["# of Districts Increasing",null,null,null,{"$f":"COUNTIF(E10:E327,\">0\")","v":143},null,null,{"$f":"COUNTIF(H10:H327,\">.5\")","v":304},null,null,{"$f":"COUNTIF(K10:K327,\">.5\")","v":301},null,null,{"$f":"COUNTIF(N10:N327,\">.5\")","v":318},{"$f":"COUNTIF(O10:O327,\">.5\")","v":318}]
["# of Districts Decreasing",null,null,null,{"$f":"COUNTIF(E10:E327,\"<0\")","v":173},null,null,{"$f":"COUNTIF(H10:H327,\"<-.5\")","v":14},null,null,{"$f":"COUNTIF(K10:K327,\"<-.5\")","v":16},null,null,{"$f":"COUNTIF(N10:N327,\"<-.5\")","v":0},{"$f":"COUNTIF(O10:O327,\"<-.5\")","v":0}]

{"sheet":"Rates","index":11,"n_rows":33,"n_cols":14,"rows_kept":33,"cut":false,"hidden":false,"merged":[]}
[]
[]
["Massachusetts Department of Elementary and Secondary Education"]
["Office of School Finance"]
[]
[{"$f":"\"Foundation Budget Rates Per Pupil, \"& CYr &\" Chapter 70\"","v":"Foundation Budget Rates Per Pupil, FY24 Chapter 70"}]
[]
[null,null,"Administration","Instructional Leadership","Classroom & Specialist Teachers","Other Teaching Services","Professional Development","Instructional Materials, Equipment & Technology","Guidance & Psychological Services","Pupil Services","Operations & Maintenance","Employee Benefits/Fixed Charges","Special Education Tuition","Total, All Categories"]
[]
[1,"Pre-school",221.34,399.74,1832.98,470.1,72.489999999999995,265.29000000000002,173.4,53.04,509,728.64,0,4726.0199999999995]
[2,"Kindergarten half-day",221.34,399.74,1832.98,470.1,72.489999999999995,265.29000000000002,173.4,53.04,509,728.64,0,4726.0199999999995]
[3,"Kindergarten full-day",442.67,799.51,3665.96,940.25,145.06,530.61,346.82,106.13,1017.99,1457.26,0,9452.26]
[4,"Elementary",442.67,799.51,3665.91,940.25,145.08000000000001,530.61,346.82,159.16999999999999,1017.99,1457.28,0,9505.2899999999991]
[5,"Junior/Middle",442.67,799.51,3226.02,676.84,157.26,530.61,390.98,260.01,1103.6199999999999,1544.05,0,9131.57]
[6,"High School",442.67,799.51,4744.1099999999997,563.46,152.49,848.96,445.11,599.57000000000005,1070.08,1376.63,0,11042.59]
[7,"Vocational",442.67,799.51,8065.05,563.46,252.11,1485.67,445.11,599.57000000000005,2002.71,1834.9,0,16490.760000000002]
[8,"Special Education in-district",3055.17,0,10081.280000000001,9412.75,486.31,424.47,0,0,3412.76,3898.38,0,30771.120000000006]
[9,"Special Education tuitioned-out",3531.53,0,0,53.95,0,0,0,0,0,0,33529.93,37115.410000000003]
[10,"English learners PK-5",107.66,188.4,1318.74,188.4,53.82,134.56,80.739999999999995,26.92,322.95999999999998,301.97000000000003,0,2724.17]
[11,"English learners 6-8",114.12,199.69,1397.81,199.69,57.05,142.63,85.59,28.53,342.32,320.07,0,2887.5000000000005]
[12,"English learners high school/voc",114.6,200.55,1403.82,200.55,57.29,143.24,85.95,28.65,343.79,321.45,0,2899.8899999999994]
[13,"Low-income group 1 (0-5.99%)",55.76,264.22000000000003,2579.36,0,125.14,19.18,104.45,542.73,0,425.57,0,4116.41]
[14,"Low-income group 2 (6-11.99%)",57.77,273.72000000000003,2672.06,0,129.63999999999999,19.87,108.2,562.24,0,440.88,0,4264.38]
[15,"Low-income group 3 (12-17.99%)",59.77,283.22000000000003,2764.76,0,134.13999999999999,20.56,111.95,581.75,0,456.17,0,4412.32]
[16,"Low-income group 4 (18-23.99%)",61.78,292.70999999999998,2857.46,0,138.63,21.25,115.71,601.25,0,471.47,0,4560.26]
[17,"Low-income group 5 (24-29.99%)",63.78,302.20999999999998,2950.16,0,143.13,21.94,119.46,620.75,0,486.76,0,4708.1900000000005]
[18,"Low-income group 6 (30-35.99%)",69.89,331.16,3232.78,0,156.83000000000001,24.05,130.9,680.22,0,533.39,0,5159.2200000000012]
[19,"Low-income group 7 (36-41.99%)",74.709999999999994,353.95,3455.32,0,167.63,25.7,139.91999999999999,727.05,0,570.1,0,5514.38]
[20,"Low-income group 8 (42-47.99%)",79.52,376.75,3677.86,0,178.43,27.36,148.93,773.87,0,606.82000000000005,0,5869.54]
[21,"Low-income group 9 (48-53.99%)",84.33,399.55,3900.4,0,189.23,29,157.94,820.7,0,643.54,0,6224.6899999999987]
[22,"Low-income group 10 (54-69.99%)",89.14,422.35,4122.95,0,200.02,30.66,166.95,867.52,0,680.27,0,6579.8600000000006]
[23,"Low-income group 11 (70-79.99%)",95.89,454.3,4434.8999999999996,0,215.16,32.979999999999997,179.59,933.16,0,731.73,0,7077.7099999999991]
[24,"Low-income group 12 (80%+)",102.63,486.26,4746.8500000000004,0,230.29,35.299999999999997,192.22,998.8,0,783.2,0,7575.5500000000011]

{"sheet":"Townwide Contributions","index":12,"n_rows":365,"n_cols":39,"rows_kept":365,"cut":false,"hidden":false,"merged":[[4,32,4,38],[365,21,365,23],[6,27,6,28],[1,2,1,11],[1,13,1,24],[1,26,1,29],[3,8,5,8]]}
[1,null,"From DOR\n3",4,"From DOR\n5",6,7,8,{"$f":"H1+1","v":9},{"$f":"I1+1","v":10},11,12,13,"c70fy22\n14","From DOR\n15",16,17,18,19,20,21,22,23,24,25,26,27,28,29,30,29]
[null,"Return to Index","1. Calculation of effort goal (target local share)",null,null,null,null,null,null,null,null,null,null,"2. Calculation of annual increments toward goal (required local contribution)",null,null,null,null,null,null,null,null,null,null,null,null,"Analysis of Gap Closing"]
[null,"More about the data",null,null,null,null,null,null,null,null,null,null,null,null,null,null,null,null,"Increments","Thresholds"]
[null,null,null,"uniform property percentage",null,"uniform income percentage",null,null,null,null,null,null,null,null,null,null,null,null,{"$f":"parameters!C18","v":0.01},{"$f":"parameters!C16","v":2.5},null,"Effort Reduction","OPTION TO ACTIVATE THIS INCREMENT"]
[null,null,null,{"$f":"parameters!C29","v":3.533667422686299E-3},null,{"$f":"parameters!C30","v":1.5329439843376258E-2},null,null,null,null,null,null,null,null,null,null,null,null,{"$f":"parameters!C19","v":0.02},{"$f":"parameters!C17","v":7.5},null,{"$f":"effortred","v":1},1,null,null,null,null,null,null,null,null,null,"SUMMARY FOR EXPORT (reads from columns to the left)"]
[null,null,null,null,null,null,null,null,null,"maximum ","target local",null,null,"required",null,null,"preliminary",null,"percentage","dollar"]
[null,null,null,"local effort",null,"local effort","combined",null,null,"local contribution","contribution","target",null,"local",null,"preliminary","contribution","shortfall","increment","increment",null,"excess effort",null,"required",null,null,"Before","After implementation",null,null,null,null,null,null,"CEY%","target"]
[null,null,"total","from property","DOR total","from income","effort ",{"$f":"CYr","v":"FY24"},"CEY %","foundation pct=","(lesser of max local","local ",null,"contribution","mrgf ","contribution","percentage of","from target","toward","toward","excess","times effort","CEY% > 175%","contribution","percentage ",null,"below effort","below effort","above effort","distance from",null,null,null,null,"found","local share","MRGF","RLC","distance from"]
["LEA","Town","EQV 2022","wealth","income 2020","wealth","yield","foundation","Found",{"$f":"maxloc","v":0.82499999999999996},"or effort yield)","share",null,"FY23","FY24",{"$f":"CYr","v":"FY24"},"foundation","local share","target","target","effort","reduction %","increment",{"$f":"CYr","v":"FY24"},"of foundation",null,"shortfall","shortfall","excess","target",null,null,"Town code","Town",{"$f":"CYr","v":"FY24"},{"$f":"CYr","v":"FY24"},{"$f":"CYr","v":"FY24"},{"$f":"CYr","v":"FY24"},"target"]
[1,"Abington",2693823800,{"$f":"D$5*C10","v":9519077.4045170117},689105000,{"$f":"E10*F$5","v":10563593.643269796},{"$f":"ROUND(D10+F10,0)","v":20082671},{"$f":"(SUMIF(town1755,A10,found1755)/2)","v":33431760.029996149},{"$f":"IF(H10=0,0,G10/H10)","v":0.6007063637086747},{"$f":"ROUND(H10*maxloc,0)","v":27581202},{"$f":"MIN(G10,J10)","v":20082671},{"$f":"IF(H10>0, ROUND((K10*100/H10), 2), 0)","v":60.07},null,17662013,2.4799999999999999E-2,{"$f":"ROUND(N10*(1+O10),0)","v":18100031},{"$f":"IF(H10=0,0,P10*100/H10)","v":54.140227686965979},{"$f":"IF(L10>Q10,L10-Q10,0)","v":5.9297723130340216},{"$f":"IF(AND(R10>$T$4,R10<=$T$5),$S$4,IF(R10>$T$5,$S$5,0))","v":0.01},{"$f":"ROUND(S10*N10,0)","v":176620},{"$f":"MAX(P10-K10,0)","v":0},{"$f":"MAX(U10*(V$5),0)","v":0},{"$f":"IF(AND(I10>1.75,$W$5=1),MAX(K10-(P10+T10),0),0)","v":0},{"$f":"MIN(H10*parameters!C$22,ROUND(P10+T10-V10+W10,0))","v":18276651},{"$f":"IF(H10=0,0,X10*100/H10)","v":54.668527722146685},null,{"$f":"IF(Q10<L10, P10-K10, 0)","v":-1982640},{"$f":"-1*MAX(K10-(P10+T10+W10),0)","v":-1806020},{"$f":"IF(Q10>L10, X10-K10,0)","v":0},{"$f":"Y10-L10","v":-5.4014722778533155},null,null,{"$f":"TEXT(A10,\"000\")","v":"001"},{"$f":"B10","v":"Abington"},{"$f":"I10","v":0.6007063637086747},{"$f":"L10","v":60.07},{"$f":"O10","v":2.4799999999999999E-2},{"$f":"X10","v":18276651},{"$f":"AD10","v":-5.4014722778533155}]
[2,"Acton",5255138400,18569911.3657878,1933454000,{"$f":"E11*F$5","v":29638766.782935198},48208678,{"$f":"(SUMIF(town1755,A11,found1755)/2)","v":56229831.269607805},{"$f":"IF(H11=0,0,G11/H11)","v":0.85735057195622011},46389611,{"$f":"MIN(G11,J11)","v":46389611},{"$f":"IF(H11>0, ROUND((K11*100/H11), 2), 0)","v":82.5},null,41641763,3.2599999999999997E-2,{"$f":"ROUND(N11*(1+O11),0)","v":42999284},{"$f":"IF(H11=0,0,P11*100/H11)","v":76.470590483953828},{"$f":"IF(L11>Q11,L11-Q11,0)","v":6.0294095160461723},{"$f":"IF(AND(R11>$T$4,R11<=$T$5),$S$4,IF(R11>$T$5,$S$5,0))","v":0.01},{"$f":"ROUND(S11*N11,0)","v":416418},{"$f":"MAX(P11-K11,0)","v":0},0,{"$f":"IF(AND(I11>1.75,$W$5=1),MAX(K11-(P11+T11),0),0)","v":0},{"$f":"MIN(H11*parameters!C$22,ROUND(P11+T11-V11+W11,0))","v":43415702},{"$f":"IF(H11=0,0,X11*100/H11)","v":77.211154683770431},null,{"$f":"IF(Q11<L11, P11-K11, 0)","v":-3390327},{"$f":"-1*MAX(K11-(P11+T11+W11),0)","v":-2973909},{"$f":"IF(Q11>L11, X11-K11,0)","v":0},{"$f":"Y11-L11","v":-5.288845316229569},null,null,{"$f":"TEXT(A11,\"000\")","v":"002"},{"$f":"B11","v":"Acton"},{"$f":"I11","v":0.85735057195622011},82.5,{"$f":"O11","v":3.2599999999999997E-2},43415702,{"$f":"AD11","v":-5.288845316229569}]
[3,"Acushnet",1630578800,5761923.1856829179,407745000,{"$f":"E12*F$5","v":6250502.4489374524},12012426,19440355.29032442,0.61791185503583135,16038293,12012426,61.79,null,10125773,4.4699999999999997E-2,10578395,54.414617644693614,7.3753823553063853,0.01,101258,0,0,0,{"$f":"MIN(H12*parameters!C$22,ROUND(P12+T12-V12+W12,0))","v":10679653},54.935482610831329,null,-1434031,-1332773,0,-6.8545173891686701,null,null,"003","Acushnet",0.61791185503583135,61.79,4.4699999999999997E-2,10679653,-6.8545173891686701]
[4,"Adams",593584400,2097529.856894793,204832000,3139959.8219984458,5237490,15939392.67149481,0.32858780180291675,13149999,5237490,32.86,null,4656331,2.9600000000000001E-2,4794158,30.077419502774568,2.7825804972254318,0.01,46563,0,0,0,{"$f":"MIN(H13*parameters!C$22,ROUND(P13+T13-V13+W13,0))","v":4840721},30.369544811182777,null,-443332,-396769,0,-2.4904551888172222,null,null,"004","Adams",0.32858780180291675,32.86,2.9600000000000001E-2,4840721,-2.4904551888172222]
[5,"Agawam",3580768800,12653246.056731511,973719000,14926566.834852487,27579813,50397491.299999997,0.54724575149636467,41577930,27579813,54.72,null,24515018,2.5000000000000001E-2,25127893,49.859412347376114,4.8605876526238845,0.01,245150,0,0,0,{"$f":"MIN(H14*parameters!C$22,ROUND(P14+T14-V14+W14,0))","v":25373043},50.345845290120621,null,-2451920,-2206770,0,-4.3741547098793774,null,null,"005","Agawam",0.54724575149636467,54.72,2.5000000000000001E-2,25373043,-4.3741547098793774]
[6,"Alford",308074200,1088631.7643101434,18495000,283517.9899032439,1372150,278259.71248189872,4.9311845676878603,229564,229564,82.5,null,204889,3.0499999999999999E-2,211138,75.878034271215199,6.6219657287848008,0.01,2049,0,0,16377,{"$f":"MIN(H15*parameters!C$22,ROUND(P15+T15-V15+W15,0))","v":229564},82.499905556731832,null,-18426,0,0,-9.4443268167765382E-5,null,null,"006","Alford",4.9311845676878603,82.5,3.0499999999999999E-2,229564,-9.4443268167765382E-5]
[7,"Amesbury",2989453900,10563735.858052505,733977000,11251456.267921776,21815192,27399291.862831715,0.79619546772277061,22604416,21815192,79.62,null,19106383,2.7400000000000001E-2,19629898,71.643815096655018,7.9761849033449863,0.02,382128,0,0,0,{"$f":"MIN(H16*parameters!C$22,ROUND(P16+T16-V16+W16,0))","v":20012026},73.038478878160902,null,-2185294,-1803166,0,-6.5815211218391028,null,null,"007","Amesbury",0.79619546772277061,79.62,2.7400000000000001E-2,20012026,-6.5815211218391028]
[8,"Amherst",2913802400,10296408.617025152,825705000,12657595.125874992,22954004,28354985.784110203,0.80952267706172332,23392863,22954004,80.95,null,21280892,3.7400000000000003E-2,22076797,77.858607188481031,3.0913928115189719,0.01,212809,0,0,0,{"$f":"MIN(H17*parameters!C$22,ROUND(P17+T17-V17+W17,0))","v":22289606},78.60912422848341,null,-877207,-664398,0,-2.3408757715165933,null,null,"008","Amherst",0.80952267706172332,80.95,3.7400000000000003E-2,22289606,-2.3408757715165933]
[9,"Andover",10204123200,36057977.728917472,3330265000,51051096.980001435,87109075,73565668.954928949,1.1840995431356522,60691677,60691677,82.5,null,56576178,3.9199999999999999E-2,58793964,79.920382476262063,2.5796175237379373,0.01,565762,0,0,0,{"$f":"MIN(H18*parameters!C$22,ROUND(P18+T18-V18+W18,0))","v":59359726},80.689439575908125,null,-1897713,-1331951,0,-1.8105604240918751,null,null,"009","Andover",1.1840995431356522,82.5,3.9199999999999999E-2,59359726,-1.8105604240918751]
[10,"Arlington",13535163100,47828764.9072157,3414061000,52335642.72111699,100164408,79445107.417071566,1.2608002085535122,65542214,65542214,82.5,null,56638038,3.2399999999999998E-2,58473110,73.601901867949394,8.8980981320506061,0.02,1132761,0,0,0,{"$f":"MIN(H19*parameters!C$22,ROUND(P19+T19-V19+W19,0))","v":59605871},75.027742976141525,null,-7069104,-5936343,0,-7.4722570238584751,null,null,"010","Arlington",1.2608002085535122,82.5,3.2399999999999998E-2,59605871,-7.4722570238584751]
[11,"Ashburnham",852436100,3012225.6764917602,248272000,3805870.6887947102,6818096,15054358.996124467,0.45289845962589459,12419846,6818096,45.29,null,5934679,4.4199999999999996E-2,6196992,41.164104041861421,4.1258959581385781,0.01,59347,0,0,0,{"$f":"MIN(H20*parameters!C$22,ROUND(P20+T20-V20+W20,0))","v":6256339},41.558322088709367,null,-621104,-561757,0,-3.7316779112906318,null,null,"011","Ashburnham",0.45289845962589459,45.29,4.4199999999999996E-2,6256339,-3.7316779112906318]
[12,"Ashby",417224700,1474333.3303300643,122739000,1881520.1169361586,3355853,5964707.4906429239,0.56261820135596952,4920884,3355853,56.26,null,2848398,4.07E-2,2964328,49.69779330587896,6.5622066941210377,0.01,28484,0,0,0,{"$f":"MIN(H21*parameters!C$22,ROUND(P21+T21-V21+W21,0))","v":2992812},50.175335583428769,null,-391525,-363041,0,-6.0846644165712291,null,null,"012","Ashby",0.56261820135596952,56.26,4.07E-2,2992812,-6.0846644165712291]
[13,"Ashfield",293407600,1036804.8776885725,50042000,767115.82864223467,1803921,2202211.9993652599,0.8191404826238079,1816825,1803921,81.91,null,1509247,4.5499999999999999E-2,1577918,71.651503145691734,10.258496854308262,0.02,30185,0,0,0,{"$f":"MIN(H22*parameters!C$22,ROUND(P22+T22-V22+W22,0))","v":1608103},73.022170456954228,null,-226003,-195818,0,-8.8878295430457683,null,null,"013","Ashfield",0.8191404826238079,81.91,4.5499999999999999E-2,1608103,-8.8878295430457683]
[14,"Ashland",3593981200,12699934.284187011,1101262000,16881729.580796223,29581664,38110433.047157407,0.7762090754360097,31441107,29581664,77.62,null,25051884,3.4700000000000002E-2,25921184,68.015978637465039,9.6040213625349651,0.02,501038,0,0,0,{"$f":"MIN(H23*parameters!C$22,ROUND(P23+T23-V23+W23,0))","v":26422222},69.330678996235619,null,-3660480,-3159442,0,-8.2893210037643854,null,null,"014","Ashland",0.7762090754360097,77.62,3.4700000000000002E-2,26422222,-8.2893210037643854]
[15,"Athol",1060563000,3747676.9228064492,279821000,4289499.1864133878,8037176,28185096.274496026,0.28515694683905107,23252704,8037176,28.52,null,3844153,3.4099999999999998E-2,3975239,14.104046199753776,14.415953800246223,0.02,76883,0,0,0,{"$f":"MIN(H24*parameters!C$22,ROUND(P24+T24-V24+W24,0))","v":4052122},14.376825115430462,null,-4061937,-3985054,0,-14.143174884569538,null,null,"015","Athol",0.28515694683905107,28.52,3.4099999999999998E-2,4052122,-14.143174884569538]
[16,"Attleboro",5949246000,21022656.779746775,1712285000,26248369.902215514,47271027,97492006.680526212,0.48487079720190301,80430906,47271027,48.49,null,41666316,4.3299999999999998E-2,43470467,44.58874986792442,3.9012501320755817,0.01,416663,0,0,0,{"$f":"MIN(H25*parameters!C$22,ROUND(P25+T25-V25+W25,0))","v":43887130},45.016131572524444,null,-3800560,-3383897,0,-3.4738684274755585,null,null,"016","Attleboro",0.48487079720190301,48.49,4.3299999999999998E-2,43887130,-3.4738684274755585]
[17,"Auburn",2748972400,9713954.2157437708,673280000,10321005.257748367,20034959,34542098.206043623,0.58001569217050641,28497231,20034959,58,null,17422029,4.0099999999999997E-2,18120652,52.459615776407986,5.5403842235920138,0.01,174220,0,0,0,{"$f":"MIN(H26*parameters!C$22,ROUND(P26+T26-V26+W26,0))","v":18294872},52.963985832218661,null,-1914307,-1740087,0,-5.0360141677813388,null,null,"017","Auburn",0.58001569217050641,58,4.0099999999999997E-2,18294872,-5.0360141677813388]
[18,"Avon",1081305500,3820974.0193215199,189294000,2901770.9857120654,6722745,10649160.316100821,0.63129343539280347,8785557,6722745,63.13,null,5758079,3.5400000000000001E-2,5961915,55.98483657895526,7.1451634210447423,0.01,57581,0,0,0,{"$f":"MIN(H27*parameters!C$22,ROUND(P27+T27-V27+W27,0))","v":6019496},56.525545877067159,null,-760830,-703249,0,-6.6044541229328431,null,null,"018","Avon",0.63129343539280347,63.13,3.5400000000000001E-2,6019496,-6.6044541229328431]
[19,"Ayer",1529467100,5404628.0653404882,338690000,5191927.9805531045,10596556,14512509.409606876,0.73016703734127308,11972820,10596556,73.02,null,9512566,4.7600000000000003E-2,9965364,68.667407673845901,4.3525923261540953,0.01,95126,0,0,0,{"$f":"MIN(H28*parameters!C$22,ROUND(P28+T28-V28+W28,0))","v":10060490},69.322883562371629,null,-631192,-536066,0,-3.6971164376283667,null,null,"019","Ayer",0.73016703734127308,73.02,4.7600000000000003E-2,10060490,-3.6971164376283667]
[20,"Barnstable",18221137000,64387438.22120396,2220626000,34040952.68163725,98428391,88765938.631881133,1.1088531537777093,73231899,73231899,82.5,null,59759393,3.0499999999999999E-2,61582054,69.375770649353797,13.124229350646203,0.02,1195188,0,0,0,{"$f":"MIN(H29*parameters!C$22,ROUND(P29+T29-V29+W29,0))","v":62777242},70.722219544528031,null,-11649845,-10454657,0,-11.777780455471969,null,null,"020","Barnstable",1.1088531537777093,82.5,3.0499999999999999E-2,62777242,-11.777780455471969]
[21,"Barre",583632100,2062361.7386039924,166632000,2554375.2199814725,4616737,11141209.813587235,0.41438381264211266,9191498,4616737,41.44,null,3971383,3.9600000000000003E-2,4128650,37.057465653011171,4.3825343469888267,0.01,39714,0,0,0,{"$f":"MIN(H30*parameters!C$22,ROUND(P30+T30-V30+W30,0))","v":4168364},37.413926043439929,null,-488087,-448373,0,-4.0260739565600687,null,null,"021","Barre",0.41438381264211266,41.44,3.9600000000000003E-2,4168364,-4.0260739565600687]
[22,"Becket",630004600,2226226.7311625127,60838000,932612.46119132475,3158839,3117878.2145031253,1.013137391097042,2572250,2572250,82.5,null,2130010,3.9399999999999998E-2,2213932,71.007648396966616,11.492351603033384,0.02,42600,0,0,0,{"$f":"MIN(H31*parameters!C$22,ROUND(P31+T31-V31+W31,0))","v":2256532},72.373962186961421,null,-358318,-315718,0,-10.126037813038579,null,null,"022","Becket",1.013137391097042,82.5,3.9399999999999998E-2,2256532,-10.126037813038579]
[23,"Bedford",4632427000,16369456.377872424,1167550000,17897887.48913395,34267344,33998144.290936708,1.0079180706676116,28048469,28048469,82.5,null,26944582,4.5699999999999991E-2,28175949,82.874961524035882,0,0,0,127480,127480,0,{"$f":"MIN(H32*parameters!C$22,ROUND(P32+T32-V32+W32,0))","v":28048469},82.499999882279496,null,0,0,0,-1.1772050356739783E-7,null,null,"023","Bedford",1.0079180706676116,82.5,4.5699999999999991E-2,28048469,-1.1772050356739783E-7]
[24,"Belchertown",1889367600,6676396.7375989985,601153000,9215338.7501651682,15891735,29965677.066853199,0.53033125080223142,24721684,15891735,53.03,null,14111332,4.4600000000000001E-2,14740697,49.191937052226841,3.8380629477731603,0.01,141113,0,0,0,{"$f":"MIN(H33*parameters!C$22,ROUND(P33+T33-V33+W33,0))","v":14881810},49.662852492198972,null,-1151038,-1009925,0,-3.3671475078010289,null,null,"024","Belchertown",0.53033125080223142,53.03,4.4600000000000001E-2,14881810,-3.3671475078010289]
[25,"Bellingham",3317158400,11721734.573970208,701592000,10755012.358594036,22476747,31442646.993018176,0.71484907123089703,25940184,22476747,71.48,null,19556655,5.7099999999999998E-2,20673340,65.74936265572839,5.7306373442716136,0.01,195567,0,0,0,{"$f":"MIN(H34*parameters!C$22,ROUND(P34+T34-V34+W34,0))","v":20868907},66.371342732798325,null,-1803407,-1607840,0,-5.1086572672016786,null,null,"025","Bellingham",0.71484907123089703,71.48,5.7099999999999998E-2,20868907,-5.1086572672016786]
[26,"Belmont",10384380400,36694946.724262118,3118752000,47808721.170409389,{"$f":"ROUND(D35+F35,0)","v":84503668},{"$f":"(SUMIF(town1755,A35,found1755)/2)","v":57423975.883839987},1.4715746637073359,47374780,47374780,82.5,null,43686648,3.4700000000000002E-2,45202575,78.717250598317975,{"$f":"IF(L35>Q35,L35-Q35,0)","v":3.7827494016820253},{"$f":"IF(AND(R35>$T$4,R35<=$T$5),$S$4,IF(R35>$T$5,$S$5,0))","v":0.01},{"$f":"ROUND(S35*N35,0)","v":436866},0,0,0,{"$f":"MIN(H35*parameters!C$22,ROUND(P35+T35-V35+W35,0))","v":45639441},79.478023417120539,null,-2172205,-1735339,0,-3.0219765828794607,null,null,"026","Belmont",1.4715746637073359,82.5,3.4700000000000002E-2,45639441,-3.0219765828794607]
[27,"Berkley",1087861600,3844141.0963113937,304656000,4670205.8249236373,8514347,14767588.939985413,0.57655633797783712,12183261,8514347,57.66,null,7462573,4.8799999999999996E-2,7826747,52.999491195261633,4.6605088047383632,0.01,74626,0,0,0,{"$f":"MIN(H36*parameters!C$22,ROUND(P36+T36-V36+W36,0))","v":7901373},53.504827579577828,null,-687600,-612974,0,-4.1551724204221685,null,null,"027","Berkley",0.57655633797783712,57.66,4.8799999999999996E-2,7901373,-4.1551724204221685]
[28,"Berlin",775450700,2740184.8764892863,198920000,3049332.1736444053,5789517,5814729.2273659222,0.99566407542293356,4797152,4797152,82.5,null,3703492,7.6700000000000004E-2,3987550,68.576710007980267,13.923289992019733,0.02,74070,0,0,0,{"$f":"MIN(H37*parameters!C$22,ROUND(P37+T37-V37+W37,0))","v":4061620},69.850544043990126,null,-809602,-735532,0,-12.649455956009874,null,null,"028","Berlin",0.99566407542293356,82.5,7.6700000000000004E-2,4061620,-12.649455956009874]
[29,"Bernardston",289619100,1023417.5786577255,69532000,1065886.611189638,2089304,3639421.4666713164,0.57407585769694236,3002523,2089304,57.41,null,1817548,3.6499999999999998E-2,1883889,51.763419467958471,5.6465805320415257,0.01,18175,0,0,0,{"$f":"MIN(H38*parameters!C$22,ROUND(P38+T38-V38+W38,0))","v":1902064},52.26281202709022,null,-205415,-187240,0,-5.1471879729097765,null,null,"029","Bernardston",0.57407585769694236,57.41,3.6499999999999998E-2,1902064,-5.1471879729097765]
[30,"Beverly",8971044300,31700686.990385614,2289296000,35093625.315681897,66794312,65190621.353134848,1.024600020886103,53782263,53782263,82.5,null,47501307,3.9399999999999998E-2,49372858,75.736136541097395,6.7638634589026054,0.01,475013,0,0,0,{"$f":"MIN(H39*parameters!C$22,ROUND(P39+T39-V39+W39,0))","v":49847871},76.464788899581407,null,-4409405,-3934392,0,-6.0352111004185929,null,null,"030","Beverly",1.024600020886103,82.5,3.9399999999999998E-2,49847871,-6.0352111004185929]
[31,"Billerica",9046472000,31967223.396643769,1908930000,29262827.60021624,61230051,72577068.825500846,0.84365560625239899,59876082,59876082,82.5,null,53277005,5.33E-2,56116669,77.320109379069763,5.1798906209302373,0.01,532770,0,0,0,{"$f":"MIN(H40*parameters!C$22,ROUND(P40+T40-V40+W40,0))","v":56649439},78.054184216510436,null,-3759413,-3226643,0,-4.4458157834895644,null,null,"031","Billerica",0.84365560625239899,82.5,5.33E-2,56649439,-4.4458157834895644]
[32,"Blackstone",1231116000,4350354.5027478654,346442000,5310761.7982189571,9661116,17376337.493091028,0.55599265402397591,14335478,9661116,55.6,null,8332399,3.85E-2,8653196,49.798733498590138,5.801266501409863,0.01,83324,0,0,0,{"$f":"MIN(H41*parameters!C$22,ROUND(P41+T41-V41+W41,0))","v":8736520},50.278259175581219,null,-1007920,-924596,0,-5.3217408244187823,null,null,"032","Blackstone",0.55599265402397591,55.6,3.85E-2,8736520,-5.3217408244187823]
[33,"Blandford",241062700,851835.40981480049,42921000,657954.88751755236,1509790,1501096.7771821262,1.0057912474065749,1238405,1238405,82.5,null,1083641,3.4099999999999998E-2,1120593,74.651615874066977,7.8483841259330234,0.02,21673,0,0,0,{"$f":"MIN(H42*parameters!C$22,ROUND(P42+T42-V42+W42,0))","v":1142266},76.095426848112552,null,-117812,-96139,0,-6.4045731518874476,null,null,"033","Blandford",1.0057912474065749,82.5,3.4099999999999998E-2,1142266,-6.4045731518874476]
[34,"Bolton",1307897000,4621673.0211291425,480253000,7362009.4731009779,11983682,13325622.963504314,0.89929619296752061,10993639,10993639,82.5,null,10082316,3.9800000000000002E-2,10483592,78.672434517410892,3.8275654825891081,0.01,100823,0,0,0,{"$f":"MIN(H43*parameters!C$22,ROUND(P43+T43-V43+W43,0))","v":10584415},79.429044548147388,null,-510047,-409224,0,-3.0709554518526119,null,null,"034","Bolton",0.89929619296752061,82.5,3.9800000000000002E-2,10584415,-3.0709554518526119]
[35,"Boston",226367656500,799908013.32389247,40465641000,620315609.43315983,1420223623,1095713386.0691998,1.2961634320220907,903963544,903963544,82.5,null,827212576,6.4399999999999999E-2,880485066,80.357242796739271,2.1427572032607287,0,0,0,0,0,{"$f":"MIN(H44*parameters!C$22,ROUND(P44+T44-V44+W44,0))","v":880485066},80.357242796739271,null,-23478478,-23478478,0,-2.1427572032607287,null,null,"035","Boston",1.2961634320220907,82.5,6.4399999999999999E-2,880485066,-2.1427572032607287]
[36,"Bourne",5710427600,20178751.97972871,903301000,13847098.339961616,34025850,26898266.728327285,1.2649829947654756,22191070,22191070,82.5,null,20688541,3.7100000000000001E-2,21456086,79.767541220059442,2.7324587799405577,0.01,206885,0,0,0,{"$f":"MIN(H45*parameters!C$22,ROUND(P45+T45-V45+W45,0))","v":21662971},80.536679997994611,null,-734984,-528099,0,-1.9633200020053891,null,null,"036","Bourne",1.2649829947654756,82.5,3.7100000000000001E-2,21662971,-1.9633200020053891]
[37,"Boxborough",1364276100,4820898.0101195155,399275000,6120662.0934640551,10941560,11349378.552880924,0.96406688251865524,9363237,9363237,82.5,null,8135943,3.5900000000000001E-2,8428023,74.259775200296161,{"$f":"IF(L46>Q46,L46-Q46,0)","v":8.2402247997038387},0.02,162719,0,0,0,{"$f":"MIN(H46*parameters!C$22,ROUND(P46+T46-V46+W46,0))","v":8590742},75.693501278264506,null,-935214,-772495,0,-6.806498721735494,null,null,"037","Boxborough",0.96406688251865524,82.5,3.5900000000000001E-2,8590742,-6.806498721735494]
[38,"Boxford",2248921600,7946940.9940955481,935067000,14334053.326026307,22280994,16773259.040908668,1.3283640314418561,13837939,13837939,82.5,null,12634202,3.5900000000000001E-2,13087770,78.027591227679437,4.4724087723205628,0.01,126342,0,0,0,{"$f":"MIN(H47*parameters!C$22,ROUND(P47+T47-V47+W47,0))","v":13214112},78.780825883460182,null,-750169,-623827,0,-3.7191741165398184,null,null,"038","Boxford",1.3283640314418561,82.5,3.5900000000000001E-2,13214112,-3.7191741165398184]
[39,"Boylston",1023674500,3617325.2320846859,320159000,4907858.1308154995,8525183,8013106.9425296802,1.063904807603711,6610813,6610813,82.5,null,6252274,6.2100000000000002E-2,6640540,82.870976858616956,0,0,0,29727,29727,0,{"$f":"MIN(H48*parameters!C$22,ROUND(P48+T48-V48+W48,0))","v":6610813},82.499997159815933,null,0,0,0,-2.8401840665992495E-6,null,null,"039","Boylston",1.063904807603711,82.5,6.2100000000000002E-2,6610813,-2.8401840665992495E-6]
[40,"Braintree",8924863200,31537498.341771796,1882512000,28857854.458433926,60395353,76400088.064191237,0.79051418041895338,63030073,60395353,79.05,null,51456862,4.1799999999999997E-2,53607759,70.167142942242222,8.882857057757775,0.02,1029137,0,0,0,{"$f":"MIN(H49*parameters!C$22,ROUND(P49+T49-V49+W49,0))","v":54636896},71.514179347665362,null,-6787594,-5758457,0,-7.5358206523346354,null,null,"040","Braintree",0.79051418041895338,79.05,4.1799999999999997E-2,54636896,-7.5358206523346354]
[41,"Brewster",4941374200,17461173.033842571,475689000,7292045.9096558085,24753219,15105816.913968062,1.6386547739176667,12462299,12462299,82.5,null,10967124,4.3999999999999997E-2,11449677,75.796476716282058,6.7035232837179421,0.01,109671,0,0,0,{"$f":"MIN(H50*parameters!C$22,ROUND(P50+T50-V50+W50,0))","v":11559348},76.522495048323336,null,-1012622,-902951,0,-5.9775049516766643,null,null,"041","Brewster",1.6386547739176667,82.5,4.3999999999999997E-2,11559348,-5.9775049516766643]
[42,"Bridgewater",3904478200,13797127.417928841,1038010000,15912111.851822989,29709239,47926998.547477499,0.61988524006086876,39539774,29709239,61.99,null,25934625,5.6600000000000004E-2,27402525,57.175549962417278,4.8144500375827235,0.01,259346,0,0,0,{"$f":"MIN(H51*parameters!C$22,ROUND(P51+T51-V51+W51,0))","v":27661871},57.716677109662029,null,-2306714,-2047368,0,-4.2733228903379725,null,null,"042","Bridgewater",0.61988524006086876,61.99,5.6600000000000004E-2,27661871,-4.2733228903379725]
[43,"Brimfield",523323600,1849251.5568429157,150946000,2313917.6265982725,4163169,7118101.1372979805,0.58487072882197511,5872433,4163169,58.49,null,3720533,3.2599999999999997E-2,3841822,53.972568328220596,4.5174316717794056,0.01,37205,0,0,0,{"$f":"MIN(H52*parameters!C$22,ROUND(P52+T52-V52+W52,0))","v":3879027},54.495249859184668,null,-321347,-284142,0,-3.9947501408153343,null,null,"043","Brimfield",0.58487072882197511,58.49,3.2599999999999997E-2,3879027,-3.9947501408153343]
[44,"Brockton",10593077300,37432412.16100774,2544461000,39005161.833316997,76437574,316988351.47476345,0.24113685453859796,261515390,76437574,24.11,null,55945617,3.5999999999999997E-2,57959659,18.284475984794781,5.8255240152052181,0.01,559456,0,0,0,{"$f":"MIN(H53*parameters!C$22,ROUND(P53+T53-V53+W53,0))","v":58519115},18.460967012744916,null,-18477915,-17918459,0,-5.6490329872550831,null,null,"044","Brockton",0.24113685453859796,24.11,3.5999999999999997E-2,58519115,-5.6490329872550831]
[45,"Brookfield",370083900,1307753.4210906939,109563000,1679539.417559833,2987293,6547189.6549663423,0.45627103496749966,5401431,2987293,45.63,null,2547621,4.3999999999999997E-2,2659716,40.623781197211599,5.0062188027884034,0.01,25476,0,0,0,{"$f":"MIN(H54*parameters!C$22,ROUND(P54+T54-V54+W54,0))","v":2685192},41.012894715263968,null,-327577,-302101,0,-4.6171052847360343,null,null,"045","Brookfield",0.45627103496749966,45.63,4.3999999999999997E-2,2685192,-4.6171052847360343]
[46,"Brookline",29895594800,105641089.42658992,5733167000,87886238.638529927,193527328,89394640.063260004,2.1648650060344852,73750578,73750578,82.5,null,67877131,4.2199999999999994E-2,70741546,79.133990527776419,3.3660094722235812,0.01,678771,0,0,2330261,{"$f":"MIN(H55*parameters!C$22,ROUND(P55+T55-V55+W55,0))","v":73750578},82.499999941618981,null,-3009032,0,0,-5.8381019130138156E-8,null,null,"046","Brookline",2.1648650060344852,82.5,4.2199999999999994E-2,73750578,-5.8381019130138156E-8]
[47,"Buckland",270428900,955605.79408289085,45752968.5,701367.37827663892,1656973,2933483.2422594628,0.56484829234059175,2420124,1656973,56.48,null,1452901,3.1899999999999998E-2,1499249,51.108149465521755,5.3718505344782415,0.01,14529,0,0,0,{"$f":"MIN(H56*parameters!C$22,ROUND(P56+T56-V56+W56,0))","v":1513778},51.603430972185805,null,-157724,-143195,0,-4.8765690278141918,null,null,"047","Buckland",0.56484829234059175,56.48,3.1899999999999998E-2,1513778,-4.8765690278141918]
[48,"Burlington",9008541100,31833188.211000599,1535659000,23540792.26043934,55373980,48572063.771422297,1.1400376204022786,40071953,40071953,82.5,null,36893560,4.1399999999999999E-2,38420953,79.100927604820512,3.3990723951794877,0.01,368936,0,0,0,{"$f":"MIN(H57*parameters!C$22,ROUND(P57+T57-V57+W57,0))","v":38789889},79.860491789155347,null,-1651000,-1282064,0,-2.639508210844653,null,null,"048","Burlington",1.1400376204022786,82.5,4.1399999999999999E-2,38789889,-2.639508210844653]
[49,"Cambridge",70337058800,248547773.28913066,8671847000,132934556.91746287,381482330,112732473.50964999,3.3839613212012489,93004291,93004291,82.5,null,87397441,5.5599999999999997E-2,92256739,81.836879940457223,0.66312005954277708,0,0,0,0,747552,{"$f":"MIN(H58*parameters!C$22,ROUND(P58+T58-V58+W58,0))","v":93004291},82.500000314495679,null,-747552,0,0,3.1449567927666067E-7,null,null,"049","Cambridge",3.3839613212012489,82.5,5.5599999999999997E-2,93004291,3.1449567927666067E-7]
[50,"Canton",6376735000,22533260.732603516,1577502000,24182222.011805736,46715483,45332860.245592073,1.0304993496310961,37399610,37399610,82.5,null,34471917,4.2199999999999994E-2,35926632,79.250750571145161,3.2492494288548386,0.01,344719,0,0,0,{"$f":"MIN(H59*parameters!C$22,ROUND(P59+T59-V59+W59,0))","v":36271351},80.011168065502403,null,-1472978,-1128259,0,-2.4888319344975969,null,null,"050","Canton",1.0304993496310961,82.5,4.2199999999999994E-2,36271351,-2.4888319344975969]
[51,"Carlisle",1841728700,6508056.708616388,1187097000,18197532.049752425,24705589,10979567.348636411,2.2501423066609512,9058143,9058143,82.5,null,8213130,3.7499999999999999E-2,8521122,77.608905063624988,4.891094936375012,0.01,82131,0,0,454890,{"$f":"MIN(H60*parameters!C$22,ROUND(P60+T60-V60+W60,0))","v":9058143},82.49999942962198,null,-537021,0,0,-5.7037802037029905E-7,null,null,"051","Carlisle",2.2501423066609512,82.5,3.7499999999999999E-2,9058143,-5.7037802037029905E-7]
[52,"Carver",1736816700,6137332.5919675231,427548000,6554071.3461558325,12691404,23032111.028138038,0.55103086228158038,19001492,12691404,55.1,null,11047351,4.99E-2,11598614,50.358449496140935,4.7415505038590666,0.01,110474,0,0,0,{"$f":"MIN(H61*parameters!C$22,ROUND(P61+T61-V61+W61,0))","v":11709088},50.83810157781523,null,-1092790,-982316,0,-4.2618984221847711,null,null,"052","Carver",0.55103086228158038,55.1,4.99E-2,11709088,-4.2618984221847711]
[53,"Charlemont",155406800,549155.94642392511,31481000,482586.09570932796,1031742,1907915.699266643,0.54076917570130423,1574030,1031742,54.08,null,921731,4.1399999999999999E-2,959891,50.310975499020167,3.7690245009798318,0.01,9217,0,0,0,{"$f":"MIN(H62*parameters!C$22,ROUND(P62+T62-V62+W62,0))","v":969108},50.794068122218491,null,-71851,-62634,0,-3.2859318777815076,null,null,"053","Charlemont",0.54076917570130423,54.08,4.1399999999999999E-2,969108,-3.2859318777815076]
[54,"Charlton",2225215400,7863171.1674398622,577568000,8853793.9114591386,16716965,28289494.545157239,0.59092483866459566,23338833,16716965,59.09,null,13922162,6.7400000000000002E-2,14860516,52.530157356748923,6.5598426432510806,0.01,139222,0,0,0,{"$f":"MIN(H63*parameters!C$22,ROUND(P63+T63-V63+W63,0))","v":14999738},53.022290575240213,null,-1856449,-1717227,0,-6.0677094247597907,null,null,"054","Charlton",0.59092483866459566,59.09,6.7400000000000002E-2,14999738,-6.0677094247597907]
[55,"Chatham",8768778800,30985947.98230226,473368000,7256466.2797793327,38242414,5818388.2213861486,6.5726817367455217,4800170,4800170,82.5,null,4494197,7.3099999999999998E-2,4822723,82.887611078847101,0,0,0,22553,22553,0,{"$f":"MIN(H64*parameters!C$22,ROUND(P64+T64-V64+W64,0))","v":4800170},82.499995142235932,null,0,0,0,-4.8577640683333811E-6,null,null,"055","Chatham",6.5726817367455217,82.5,7.3099999999999998E-2,4800170,-4.8577640683333811E-6]
[56,"Chelmsford",7194279300,25422190.39211639,2220847000,34044340.487842634,59466531,68125870.349244803,0.87289205547242166,56203843,56203843,82.5,null,50507780,3.9899999999999998E-2,52523040,77.097055392822938,5.4029446071770622,0.01,505078,0,0,0,{"$f":"MIN(H65*parameters!C$22,ROUND(P65+T65-V65+W65,0))","v":53028118},77.838444820085641,null,-3680803,-3175725,0,-4.6615551799143589,null,null,"056","Chelmsford",0.87289205547242166,82.5,3.9899999999999998E-2,53028118,-4.6615551799143589]
[57,"Chelsea",5133648900,18140607.877439354,903878000,13855943.426751245,31996551,144199375.336285,0.22189105136815862,118964485,31996551,22.19,null,21330434,6.5000000000000002E-2,22716912,15.753821365052563,6.4361786349474386,0.01,213304,0,0,0,{"$f":"MIN(H66*parameters!C$22,ROUND(P66+T66-V66+W66,0))","v":22930216},15.901744335940998,null,-9279639,-9066335,0,-6.2882556640590028,null,null,"057","Chelsea",0.22189105136815862,22.19,6.5000000000000002E-2,22930216,-6.2882556640590028]
[58,"Cheshire",380218700,1343566.4336861351,104289000,1598691.9518258665,2942258,5492856.3486632518,0.53565172894354529,4531606,2942258,53.57,null,2583513,6.2100000000000002E-2,2743949,49.954865480284603,3.6151345197153972,0.01,25835,0,0,0,{"$f":"MIN(H67*parameters!C$22,ROUND(P67+T67-V67+W67,0))","v":2769784},50.425203649719656,null,-198309,-172474,0,-3.1447963502803447,null,null,"058","Cheshire",0.53565172894354529,53.57,6.2100000000000002E-2,2769784,-3.1447963502803447]
[59,"Chester",150115400,530457.89862352284,35523000,544547.69155625487,1075006,1989919.1008959936,0.54022598180798453,1641683,1075006,54.02,null,923970,3.49E-2,956217,48.053059019808778,5.9669409801912252,0.01,9240,0,0,0,{"$f":"MIN(H68*parameters!C$22,ROUND(P68+T68-V68+W68,0))","v":965457},48.517399504597307,null,-118789,-109549,0,-5.5026004954026959,null,null,"059","Chester",0.54022598180798453,54.02,3.49E-2,965457,-5.5026004954026959]
[60,"Chesterfield",190606900,673541.39306922513,26625000,408146.33582989289,1081688,1417826.7912506498,0.76291970688877631,1169707,1081688,76.290000000000006,null,996225,3.6999999999999998E-2,1033085,72.863977911485705,3.4260220885143013,0.01,9962,0,0,0,{"$f":"MIN(H69*parameters!C$22,ROUND(P69+T69-V69+W69,0))","v":1043047},73.566602524130573,null,-48603,-38641,0,-2.723397475869433,null,null,"060","Chesterfield",0.76291970688877631,76.290000000000006,3.6999999999999998E-2,1043047,-2.723397475869433]
[61,"Chicopee",4667842700,16494603.683214055,1322114000,20267267.029085558,36761871,122693363.2,0.29962395716608736,101222025,36761871,29.96,null,32109426,5.4699999999999999E-2,33865812,27.601991759567316,2.3580082404326852,0,0,0,0,0,{"$f":"MIN(H70*parameters!C$22,ROUND(P70+T70-V70+W70,0))","v":33865812},27.601991759567316,null,-2896059,-2896059,0,-2.3580082404326852,null,null,"061","Chicopee",0.29962395716608736,29.96,5.4699999999999999E-2,33865812,-2.3580082404326852]
[62,"Chilmark",3878126000,13704007.507272726,130673000,2003143.8926535058,15707151,1598151.7392041576,9.8283226896976608,1318475,1318475,82.5,null,1233011,5.4399999999999997E-2,1300087,81.349409327515616,1.150590672484384,0,0,0,0,18388,{"$f":"MIN(H71*parameters!C$22,ROUND(P71+T71-V71+W71,0))","v":1318475},82.499988433924926,null,-18388,0,0,-1.1566075073687898E-5,null,null,"062","Chilmark",9.8283226896976608,82.5,5.4399999999999997E-2,1318475,-1.1566075073687898E-5]
[63,"Clarksburg",149674900,528901.31812382955,45309000,694561.5898635349,1223463,3537776.998646874,0.34582818545882038,2918666,1223463,34.58,null,1046168,3.0300000000000004E-2,1077867,30.467352815405313,4.1126471845946853,0.01,10462,0,0,0,{"$f":"MIN(H72*parameters!C$22,ROUND(P72+T72-V72+W72,0))","v":1088329},30.76307524234182,null,-145596,-135134,0,-3.8169247576581782,null,null,"063","Clarksburg",0.34582818545882038,34.58,3.0300000000000004E-2,1088329,-3.8169247576581782]
[64,"Clinton",1853848200,6550882.9909456344,513914000,7878013.7476688661,14428897,32534279.410000004,0.44349828124870089,26840781,14428897,44.35,null,12528207,4.4999999999999998E-2,13091976,40.240559303661549,4.1094406963384529,0.01,125282,0,0,0,{"$f":"MIN(H73*parameters!C$22,ROUND(P73+T73-V73+W73,0))","v":13217258},40.625636220292108,null,-1336921,-1211639,0,-3.7243637797078932,null,null,"064","Clinton",0.44349828124870089,44.35,4.4999999999999998E-2,13217258,-3.7243637797078932]
[65,"Cohasset",3547050800,12534097.858573375,1235202000,18934954.75341804,31469053,16916429.915781714,1.8602656208590336,{"$f":"ROUND(H74*maxloc,0)","v":13956055},13956055,82.5,null,13255792,4.1500000000000002E-2,13805907,81.612415082452841,0.88758491754715862,0,0,0,{"$f":"MAX(U74*(V$5),0)","v":0},150148,{"$f":"MIN(H74*parameters!C$22,ROUND(P74+T74-V74+W74,0))","v":13956055},82.500001888578666,null,-150148,0,0,1.8885786658984216E-6,null,null,"065","Cohasset",1.8602656208590336,{"$f":"L74","v":82.5},4.1500000000000002E-2,{"$f":"X74","v":13956055},1.8885786658984216E-6]
[66,"Colrain",203121700,{"$f":"D$5*C75","v":717764.53413065965},48424000,742312.79497565189,{"$f":"ROUND(D75+F75,0)","v":1460077},{"$f":"(SUMIF(town1755,A75,found1755)/2)","v":2447232.5260247109},{"$f":"IF(H75=0,0,G75/H75)","v":0.59662373087683329},2018967,{"$f":"MIN(G75,J75)","v":1460077},{"$f":"IF(H75>0, ROUND((K75*100/H75), 2), 0)","v":59.66},null,1361271,4.0800000000000003E-2,{"$f":"ROUND(N75*(1+O75),0)","v":1416811},{"$f":"IF(H75=0,0,P75*100/H75)","v":57.894416853860243},{"$f":"IF(L75>Q75,L75-Q75,0)","v":1.765583146139754},{"$f":"IF(AND(R75>$T$4,R75<=$T$5),$S$4,IF(R75>$T$5,$S$5,0))","v":0},{"$f":"ROUND(S75*N75,0)","v":0},{"$f":"MAX(P75-K75,0)","v":0},0,{"$f":"IF(AND(I75>1.75,$W$5=1),MAX(K75-(P75+T75),0),0)","v":0},{"$f":"MIN(H75*parameters!C$22,ROUND(P75+T75-V75+W75,0))","v":1416811},{"$f":"IF(H75=0,0,X75*100/H75)","v":57.894416853860243},null,{"$f":"IF(Q75<L75, P75-K75, 0)","v":-43266},{"$f":"-1*MAX(K75-(P75+T75+W75),0)","v":-43266},{"$f":"IF(Q75>L75, X75-K75,0)","v":0},{"$f":"Y75-L75","v":-1.765583146139754},null,null,{"$f":"TEXT(A75,\"000\")","v":"066"},{"$f":"B75","v":"Colrain"},{"$f":"I75","v":0.59662373087683329},59.66,{"$f":"O75","v":4.0800000000000003E-2},1416811,{"$f":"AD75","v":-1.765583146139754}]
[67,"Concord",7337635800,25928764.585996721,3022133000,{"$f":"E76*F$5","v":46327606.022182219},72256371,37693400.992698245,1.916950158304821,31097056,31097056,82.5,null,30168420,4.7400000000000005E-2,31598403,83.830066186176907,0,0,0,501347,501347,0,{"$f":"MIN(H76*parameters!C$22,ROUND(P76+T76-V76+W76,0))","v":31097056},82.500000480253689,null,0,0,0,4.8025368926118972E-7,null,null,"067","Concord",1.916950158304821,82.5,4.7400000000000005E-2,31097056,4.8025368926118972E-7]
[68,"Conway",298724500,1055593.0340082534,76835000,1177837.5103658147,2233431,2331265.9722082163,0.95803354341609281,1923294,1923294,82.5,null,1940883,4.8099999999999997E-2,2034239,87.258983927652537,0,0,0,110945,110945,0,{"$f":"MIN(H77*parameters!C$22,ROUND(P77+T77-V77+W77,0))","v":1923294},82.499981680692656,null,0,0,0,-1.8319307343972469E-5,null,null,"068","Conway",0.95803354341609281,82.5,4.8099999999999997E-2,1923294,-1.8319307343972469E-5]
[69,"Cummington",153578200,542694.28217480099,46884000,718705.45761685248,1261400,788380.94560710271,1.5999879335346481,650414,650414,82.5,null,632612,3.5000000000000003E-2,654753,83.050332919423766,0,0,0,4339,4339,0,{"$f":"MIN(H78*parameters!C$22,ROUND(P78+T78-V78+W78,0))","v":650414},82.49996446821028,null,0,0,0,-3.5531789720266715E-5,null,null,"069","Cummington",1.5999879335346481,82.5,3.5000000000000003E-2,650414,-3.5531789720266715E-5]
[70,"Dalton",732087000,2586951.9824721445,236562000,3626362.9482287741,6213315,12748655.593347544,0.48737021362803218,10517641,6213315,48.74,null,5647767,3.04E-2,5819459,45.647628939295281,3.0923710607047212,0.01,56478,0,0,0,{"$f":"MIN(H79*parameters!C$22,ROUND(P79+T79-V79+W79,0))","v":5875937},46.090640357922602,null,-393856,-337378,0,-2.6493596420773997,null,null,"070","Dalton",0.48737021362803218,48.74,3.04E-2,5875937,-2.6493596420773997]
[71,"Danvers",6417792300,22678343.576076977,1490275000,22845080.962587554,45523425,47182778.98516234,0.96483136388206048,38925793,38925793,82.5,null,35145858,3.78E-2,36474371,77.304414416688275,5.1955855833117255,0.01,351459,0,0,0,{"$f":"MIN(H80*parameters!C$22,ROUND(P80+T80-V80+W80,0))","v":36825830},78.049302716104719,null,-2451422,-2099963,0,-4.4506972838952805,null,null,"071","Danvers",0.96483136388206048,82.5,3.78E-2,36825830,-4.4506972838952805]
[72,"Dartmouth",6798935400,24025176.53192864,1424744000,21840527.440211263,45865704,51589779.439984947,0.88904632851466558,42561568,42561568,82.5,null,39005720,3.9E-2,40526943,78.556147050687656,3.943852949312344,0.01,390057,0,0,0,{"$f":"MIN(H81*parameters!C$22,ROUND(P81+T81-V81+W81,0))","v":40917000},79.312221227073223,null,-2034625,-1644568,0,-3.1877787729267766,null,null,"072","Dartmouth",0.88904632851466558,82.5,3.9E-2,40917000,-3.1877787729267766]
[73,"Dedham",6593838900,23300433.71137166,1724313000,26432752.404651646,49733186,37109884.646041423,1.3401600806459291,30615655,30615655,82.5,null,28209848,0.04,29338242,79.05775585085135,3.4422441491486495,0.01,282098,0,0,0,{"$f":"MIN(H82*parameters!C$22,ROUND(P82+T82-V82+W82,0))","v":29620340},79.81792528465769,null,-1277413,-995315,0,-2.6820747153423099,null,null,"073","Dedham",1.3401600806459291,82.5,0.04,29620340,-2.6820747153423099]
[74,"Deerfield",869370900,3072067.6275614682,259714000,3981270.1394826216,7053338,7208778.7963015456,0.97843729143398128,5947243,5947243,82.5,null,5658876,4.0599999999999997E-2,5888626,81.686873274862478,0.81312672513752204,0,0,0,0,0,{"$f":"MIN(H83*parameters!C$22,ROUND(P83+T83-V83+W83,0))","v":5888626},81.686873274862478,null,-58617,-58617,0,-0.81312672513752204,null,null,"074","Deerfield",0.97843729143398128,82.5,4.0599999999999997E-2,5888626,-0.81312672513752204]
[75,"Dennis",8912902400,31495232.85246253,636102000,9751087.3432513252,41246320,16702897.839339094,2.4694110205748614,13779891,13779891,82.5,null,12713719,3.8600000000000002E-2,13204469,79.054958768295251,3.4450412317047494,0.01,127137,0,0,448285,{"$f":"MIN(H84*parameters!C$22,ROUND(P84+T84-V84+W84,0))","v":13779891},82.500001691594179,null,-575422,0,0,1.6915941785100586E-6,null,null,"075","Dennis",2.4694110205748614,82.5,3.8600000000000002E-2,13779891,1.6915941785100586E-6]
[76,"Dighton",1314856400,4646265.2261905856,325010000,4982221.2434957176,9628486,17361014.542617895,0.55460387849822657,14322837,9628486,55.46,null,8366481,3.5299999999999998E-2,8661818,49.892349198469546,5.5676508015304549,0.01,83665,0,0,0,{"$f":"MIN(H85*parameters!C$22,ROUND(P85+T85-V85+W85,0))","v":8745483},50.374262279036458,null,-966668,-883003,0,-5.085737720963543,null,null,"076","Dighton",0.55460387849822657,55.46,3.5299999999999998E-2,8745483,-5.085737720963543]
[77,"Douglas",1302158500,4601395.0706240572,384308000,5891226.3673282433,10492621,16745725.707441032,0.62658502732655896,13815224,10492621,62.66,null,9188895,4.7199999999999999E-2,9622611,57.463087405785906,5.1969125942140906,0.01,91889,0,0,0,{"$f":"MIN(H86*parameters!C$22,ROUND(P86+T86-V86+W86,0))","v":9714500},58.011818476659521,null,-870010,-778121,0,-4.648181523340476,null,null,"077","Douglas",0.62658502732655896,62.66,4.7199999999999999E-2,9714500,-4.648181523340476]
[78,"Dover",2854881300,10088201.04544631,1599975000,24526720.513405927,34614922,14085683.971100597,2.4574541123469018,11620689,11620689,82.5,null,11027534,3.1699999999999999E-2,11377107,80.770710342090979,1.7292896579090211,0,0,0,0,243582,{"$f":"MIN(H87*parameters!C$22,ROUND(P87+T87-V87+W87,0))","v":11620689},82.499998039442076,null,-243582,0,0,-1.9605579240078441E-6,null,null,"078","Dover",2.4574541123469018,82.5,3.1699999999999999E-2,11620689,-1.9605579240078441E-6]
[79,"Dracut",4790569000,16928277.61143088,1282742000,19663716.323572148,36591994,64634623.90700268,0.56613610149026539,53323565,36591994,56.61,null,31011777,3.5900000000000001E-2,32125100,49.70261766545142,6.9073823345485792,0.01,310118,0,0,0,{"$f":"MIN(H88*parameters!C$22,ROUND(P88+T88-V88+W88,0))","v":32435218},50.182419327864125,null,-4466894,-4156776,0,-6.4275806721358748,null,null,"079","Dracut",0.56613610149026539,56.61,3.5900000000000001E-2,32435218,-6.4275806721358748]
[80,"Dudley",1305684900,4613856.1954234177,379271000,5814011.9788371567,10427868,23430727.599240411,0.44505096804326538,19330350,10427868,44.51,null,8082334,1.55E-2,8207610,35.029257906041629,9.4807420939583693,0.02,161647,0,0,0,{"$f":"MIN(H89*parameters!C$22,ROUND(P89+T89-V89+W89,0))","v":8369257},35.719151121330604,null,-2220258,-2058611,0,-8.7908488786693937,null,null,"080","Dudley",0.44505096804326538,44.51,1.55E-2,8369257,-8.7908488786693937]
[81,"Dunstable",708127800,2502288.1379585192,262400000,4022445.01490193,6524733,6540863.7729665395,0.99753384667125955,5396213,5396213,82.5,null,5000353,4.3099999999999999E-2,5215868,79.742801272780497,2.7571987272195031,0.01,50004,0,0,0,{"$f":"MIN(H90*parameters!C$22,ROUND(P90+T90-V90+W90,0))","v":5265872},80.507287458942443,null,-180345,-130341,0,-1.992712541057557,null,null,"081","Dunstable",0.99753384667125955,82.5,4.3099999999999999E-2,5265872,-1.992712541057557]
[82,"Duxbury",5389486400,19044652.516690861,1615722000,24768113.202619575,43812766,33659011.201460004,1.3016652728675393,27768684,27768684,82.5,null,25660838,4.1700000000000001E-2,26730895,79.416756600504385,3.0832433994956148,0.01,256608,0,0,0,{"$f":"MIN(H91*parameters!C$22,ROUND(P91+T91-V91+W91,0))","v":26987503},80.179131937272658,null,-1037789,-781181,0,-2.3208680627273424,null,null,"082","Duxbury",1.3016652728675393,82.5,4.1700000000000001E-2,26987503,-2.3208680627273424]
[83,"East Bridgewater",2211733200,7815529.5565137211,580322000,8896011.1887877975,16711541,29001424.435406767,0.57623173086620871,23926175,16711541,57.62,null,14455062,3.5000000000000003E-2,14960989,51.587083363169853,6.0329166368301443,0.01,144551,0,0,0,{"$f":"MIN(H92*parameters!C$22,ROUND(P92+T92-V92+W92,0))","v":15105540},52.085510605328075,null,-1750552,-1606001,0,-5.5344893946719225,null,null,"083","East Bridgewater",0.57623173086620871,57.62,3.5000000000000003E-2,15105540,-5.5344893946719225]
[84,"East Brookfield",319420900,1128727.2284551382,81327000,1246697.354142261,2375425,4100026.3894955791,0.5793682221377715,3382522,2375425,57.94,null,2031297,3.85E-2,2109502,51.450937130663917,6.489062869336081,0.01,20313,0,0,0,{"$f":"MIN(H93*parameters!C$22,ROUND(P93+T93-V93+W93,0))","v":2129815},51.946372966200066,null,-265923,-245610,0,-5.9936270337999318,null,null,"084","East Brookfield",0.5793682221377715,57.94,3.85E-2,2129815,-5.9936270337999318]
[85,"Eastham",3597520100,12712439.579829156,227530000,3487907.4475634,16200347,6632883.9487373112,2.4424288326473778,5472129,5472129,82.5,null,5168714,4.6100000000000002E-2,5406992,81.51796476145671,0.98203523854328978,0,0,0,0,65137,{"$f":"MIN(H94*parameters!C$22,ROUND(P94+T94-V94+W94,0))","v":5472129},82.499996114687306,null,-65137,0,0,-3.8853126937965499E-6,null,null,"085","Eastham",2.4424288326473778,82.5,4.6100000000000002E-2,5472129,-3.8853126937965499E-6]
[86,"Easthampton",1916129500,6770964.391798187,543044000,8324560.3303064164,15095525,22559015.459999997,0.66915708386149586,18611188,15095525,66.92,null,13077217,5.2499999999999998E-2,13763771,61.012285861521377,5.9077141384786245,0.01,130772,0,0,0,{"$f":"MIN(H95*parameters!C$22,ROUND(P95+T95-V95+W95,0))","v":13894543},61.591974280246369,null,-1331754,-1200982,0,-5.3280257197536329,null,null,"086","Easthampton",0.66915708386149586,66.92,5.2499999999999998E-2,13894543,-5.3280257197536329]
[87,"East Longmeadow",2311361300,8167582.1278678533,792930000,12155172.735008337,20322755,33881345.879999995,0.59982136105155226,27952110,20322755,59.98,null,17979103,3.8100000000000002E-2,18664107,55.086675323064242,4.8933246769357552,0.01,179791,0,0,0,{"$f":"MIN(H96*parameters!C$22,ROUND(P96+T96-V96+W96,0))","v":18843898},55.617324254888786,null,-1658648,-1478857,0,-4.3626757451112113,null,null,"087","East Longmeadow",0.59982136105155226,59.98,3.8100000000000002E-2,18843898,-4.3626757451112113]
[88,"Easton",4412594900,15592642.847641708,1443511000,22128215.037751906,37720858,44955813.623400792,0.83906518333738289,37088546,37088546,82.5,null,33128939,3.8600000000000002E-2,34407716,76.53674403100959,5.9632559689904099,0.01,331289,0,0,0,{"$f":"MIN(H97*parameters!C$22,ROUND(P97+T97-V97+W97,0))","v":34739005},77.273665406240923,null,-2680830,-2349541,0,-5.2263345937590771,null,null,"088","Easton",0.83906518333738289,82.5,3.8600000000000002E-2,34739005,-5.2263345937590771]
[89,"Edgartown",11072643200,39127038.558868974,356693000,5467903.8860534076,44594942,10033161.867720624,4.4447545637107586,8277359,8277359,82.5,null,7299644,3.8600000000000002E-2,7581410,75.563517263599934,6.9364827364000661,0.01,72996,0,0,622953,{"$f":"MIN(H98*parameters!C$22,ROUND(P98+T98-V98+W98,0))","v":8277359},82.500004576129541,null,-695949,0,0,4.5761295410784442E-6,null,null,"089","Edgartown",4.4447545637107586,82.5,3.8600000000000002E-2,8277359,4.5761295410784442E-6]
[90,"Egremont",616396400,2178139.8781411131,46823000,717770.36178640649,2895910,1293907.663036203,2.2381117932361869,1067474,1067474,82.5,null,981312,5.8899999999999994E-2,1039111,80.307971711187406,2.1920282888125939,0,0,0,0,28363,{"$f":"MIN(H99*parameters!C$22,ROUND(P99+T99-V99+W99,0))","v":1067474},82.500013756401444,null,-28363,0,0,1.3756401443743016E-5,null,null,"090","Egremont",2.2381117932361869,82.5,5.8899999999999994E-2,1067474,1.3756401443743016E-5]
[91,"Erving",969923800,3427388.1345481016,45620000,699329.04565482493,4126717,3269431.3544999999,1.2622124622130524,2697281,2697281,82.5,null,2465442,4.0099999999999997E-2,2564306,78.432783011960922,4.0672169880390783,0.01,24654,0,0,0,{"$f":"MIN(H100*parameters!C$22,ROUND(P100+T100-V100+W100,0))","v":2588960},79.186859098191235,null,-132975,-108321,0,-3.3131409018087652,null,null,"091","Erving",1.2622124622130524,82.5,4.0099999999999997E-2,2588960,-3.3131409018087652]
[92,"Essex",1081249700,3820776.840679334,267890000,4106603.6396420659,7927380,6772177.210392152,1.1705807089387956,5587046,5587046,82.5,null,4933832,3.7900000000000003E-2,5120824,75.615623172735496,6.8843768272645036,0.01,49338,0,0,0,{"$f":"MIN(H101*parameters!C$22,ROUND(P101+T101-V101+W101,0))","v":5170162},76.344162879645239,null,-466222,-416884,0,-6.1558371203547608,null,null,"092","Essex",1.1705807089387956,82.5,3.7900000000000003E-2,5170162,-6.1558371203547608]
[93,"Everett",9500450600,33571432.786060505,1182995000,18134650.687514897,51706083,152643280.48403001,0.33873802263709635,125930706,51706083,33.869999999999997,null,38446657,4.5400000000000003E-2,40192135,26.330759449450525,7.5392405505494722,0.02,768933,0,0,0,{"$f":"MIN(H102*parameters!C$22,ROUND(P102+T102-V102+W102,0))","v":40961068},26.834504519368913,null,-11513948,-10745015,0,-7.0354954806310843,null,null,"093","Everett",0.33873802263709635,33.869999999999997,4.5400000000000003E-2,40961068,-7.0354954806310843]
[94,"Fairhaven",2882044000,10184184.993548512,556302000,8527798.0437498987,18711983,28118515.008346323,0.66546839313689876,23197775,18711983,66.55,null,15599341,5.21E-2,16412067,58.367474225180317,8.1825257748196805,0.02,311987,0,0,0,{"$f":"MIN(H103*parameters!C$22,ROUND(P103+T103-V103+W103,0))","v":16724054},59.477017171909168,null,-2299916,-1987929,0,-7.0729828280908293,null,null,"094","Fairhaven",0.66546839313689876,66.55,5.21E-2,16724054,-7.0729828280908293]
[95,"Fall River",7843860400,27717593.963579122,1943127000,29787048.454540178,57504642,250169029.54789385,0.22986315334045362,206389449,57504642,22.99,null,40266340,4.6399999999999997E-2,42134698,16.842491684980327,6.147508315019671,0.01,402663,0,0,0,{"$f":"MIN(H104*parameters!C$22,ROUND(P104+T104-V104+W104,0))","v":42537361},17.0034480594475,null,-15369944,-14967281,0,-5.9865519405524985,null,null,"095","Fall River",0.22986315334045362,22.99,4.6399999999999997E-2,42537361,-5.9865519405524985]
[96,"Falmouth",15449979300,54595088.533587672,1676190000,25695053.771068849,80290142,46781728.926884443,1.7162713700788215,38594926,38594926,82.5,null,34962921,3.6900000000000002E-2,36253053,77.494042720524931,5.0059572794750693,0.01,349629,0,0,0,{"$f":"MIN(H105*parameters!C$22,ROUND(P105+T105-V105+W105,0))","v":36602682},78.24140500922195,null,-2341873,-1992244,0,-4.2585949907780503,null,null,"096","Falmouth",1.7162713700788215,82.5,3.6900000000000002E-2,36602682,-4.2585949907780503]
[97,"Fitchburg",3678508500,12998625.650524644,987011000,15130325.749250643,28128951,103994510.91776411,0.27048495879021511,85795472,28128951,27.05,null,22232951,5.2000000000000005E-2,23389064,22.490671664868355,4.5593283351316458,0.01,222330,0,0,0,{"$f":"MIN(H106*parameters!C$22,ROUND(P106+T106-V106+W106,0))","v":23611394},22.704461794787626,null,-4739887,-4517557,0,-4.3455382052123745,null,null,"097","Fitchburg",0.27048495879021511,27.05,5.2000000000000005E-2,23611394,-4.3455382052123745]
[98,"Florida",185906300,656931.03598214593,16322000,250207.11712358729,907138,1616104.4152370906,0.56131150403850505,1333286,907138,56.13,null,714241,2.86E-2,734668,45.459191440437998,10.670808559562005,0.02,14285,0,0,0,{"$f":"MIN(H107*parameters!C$22,ROUND(P107+T107-V107+W107,0))","v":748953},46.343107099928616,null,-172470,-158185,0,-9.7868929000713862,null,null,"098","Florida",0.56131150403850505,56.13,2.86E-2,748953,-9.7868929000713862]
[99,"Foxborough",3825226800,13517079.327546559,1054905000,16171102.737976832,29688182,35181790.858126156,0.84385078973723526,29024977,29024977,82.5,null,26821647,5.2900000000000003E-2,28240512,80.270251488568306,2.2297485114316942,0,0,0,0,0,{"$f":"MIN(H108*parameters!C$22,ROUND(P108+T108-V108+W108,0))","v":28240512},80.270251488568306,null,-784465,-784465,0,-2.2297485114316942,null,null,"099","Foxborough",0.84385078973723526,82.5,5.2900000000000003E-2,28240512,-2.2297485114316942]
[100,"Framingham",12640216800,44666322.321852058,2934837000,44989407.241614848,89655730,173974068.05119389,0.51533961931394145,143528606,89655730,51.53,null,77467562,3.7900000000000003E-2,80403583,46.215843487858379,5.3141565121416221,0.01,774676,0,0,0,{"$f":"MIN(H109*parameters!C$22,ROUND(P109+T109-V109+W109,0))","v":81178259},46.661125942121643,null,-9252147,-8477471,0,-4.868874057878358,null,null,"100","Framingham",0.51533961931394145,51.53,3.7900000000000003E-2,81178259,-4.868874057878358]
[101,"Franklin",6739455100,23814992.933527034,1943889000,29798729.487700831,53613722,68983378.450079426,0.777197684494362,56911287,53613722,77.72,null,47212970,4.7300000000000002E-2,49446143,71.67834355312452,6.0416564468754785,0.01,472130,0,0,0,{"$f":"MIN(H110*parameters!C$22,ROUND(P110+T110-V110+W110,0))","v":49918273},72.362754799149045,null,-4167579,-3695449,0,-5.3572452008509543,null,null,"101","Franklin",0.777197684494362,77.72,4.7300000000000002E-2,49918273,-5.3572452008509543]
[102,"Freetown",1813071700,6406792.4012844665,386936000,5931512.1352366358,12338305,16653710.177988209,0.74087424772817101,13739311,12338305,74.09,null,11052908,4.1200000000000001E-2,11508288,69.103448282719043,4.9865517172809604,0.01,110529,0,0,0,{"$f":"MIN(H111*parameters!C$22,ROUND(P111+T111-V111+W111,0))","v":11618817},69.767138228194923,null,-830017,-719488,0,-4.3228617718050799,null,null,"102","Freetown",0.74087424772817101,74.09,4.1200000000000001E-2,11618817,-4.3228617718050799]
[103,"Gardner",1722018500,6085040.6747131264,511170000,7835949.7647386417,13920990,42177090.894391328,0.33006045947685786,34796100,13920990,33.01,null,11784455,3.1800000000000002E-2,12159201,28.828922863470698,4.1810771365293,0.01,117845,0,0,0,{"$f":"MIN(H112*parameters!C$22,ROUND(P112+T112-V112+W112,0))","v":12277046},29.108328098637525,null,-1761789,-1643944,0,-3.901671901362473,null,null,"103","Gardner",0.33006045947685786,33.01,3.1800000000000002E-2,12277046,-3.901671901362473]
[104,"Aquinnah",860784100,3041724.7321363455,22767000,349005.35691414727,3390730,885152.94575116644,3.8306713164949455,730251,730251,82.5,null,649755,3.1300000000000001E-2,670092,75.703527081564474,6.7964729184355264,0.01,6498,0,0,53661,{"$f":"MIN(H113*parameters!C$22,ROUND(P113+T113-V113+W113,0))","v":730251},82.499979636885001,null,-60159,0,0,-2.036311499864496E-5,null,null,"104","Aquinnah",3.8306713164949455,82.5,3.1300000000000001E-2,730251,-2.036311499864496E-5]
[105,"Georgetown",1648088700,5823797.3488874128,486653000,7460117.8880985864,13283915,16155661.556693099,0.82224518961259319,13328421,13283915,82.22,null,11671600,3.9100000000000003E-2,12127960,75.069411162401636,7.1505888375983631,0.01,116716,0,0,0,{"$f":"MIN(H114*parameters!C$22,ROUND(P114+T114-V114+W114,0))","v":12244676},75.791857591416147,null,-1155955,-1039239,0,-6.4281424085838523,null,null,"105","Georgetown",0.82224518961259319,82.22,3.9100000000000003E-2,12244676,-6.4281424085838523]
[106,"Gill",183855300,649683.48409821629,39377000,603627.35271262692,1253311,1929344.1854991214,0.6496046736605311,1591709,1253311,64.959999999999994,null,1175268,3.4500000000000003E-2,1215815,63.017009050952133,1.9429909490478607,0,0,0,0,0,{"$f":"MIN(H115*parameters!C$22,ROUND(P115+T115-V115+W115,0))","v":1215815},63.017009050952133,null,-37496,-37496,0,-1.9429909490478607,null,null,"106","Gill",0.6496046736605311,64.959999999999994,3.4500000000000003E-2,1215815,-1.9429909490478607]
[107,"Gloucester",8654554400,30582316.94114637,1370978000,21016324.777592294,51598642,49155128.795343339,1.0497102390847188,40552981,40552981,82.5,null,35424352,4.3400000000000001E-2,36961769,75.19412501977115,7.3058749802288503,0.01,354244,0,0,0,{"$f":"MIN(H116*parameters!C$22,ROUND(P116+T116-V116+W116,0))","v":37316013},75.914790408473294,null,-3591212,-3236968,0,-6.5852095915267057,null,null,"107","Gloucester",1.0497102390847188,82.5,4.3400000000000001E-2,37316013,-6.5852095915267057]
[108,"Goshen",175826700,621313.08182843705,16656000,255327.15003127494,876640,1417669.8242785824,0.61836683336763609,1169578,876640,61.84,null,819313,3.7600000000000001E-2,850119,59.965937444750566,1.8740625552494379,0,0,0,0,0,{"$f":"MIN(H117*parameters!C$22,ROUND(P117+T117-V117+W117,0))","v":850119},59.965937444750566,null,-26521,-26521,0,-1.8740625552494379,null,null,"108","Goshen",0.61836683336763609,61.84,3.7600000000000001E-2,850119,-1.8740625552494379]
[109,"Gosnold",238470900,842676.85058868211,86000,1318.3318265303583,843995,0,0,0,0,0,null,7111,4.53E-2,7433,0,0,0,0,7433,7433,0,{"$f":"MIN(H118*parameters!C$22,ROUND(P118+T118-V118+W118,0))","v":0},0,null,0,0,0,0,null,null,"109","Gosnold",0,0,4.53E-2,0,0]
[110,"Grafton",3144522000,11111694.951320367,1105898000,16952796.863910116,28064492,38689743.450930856,0.72537291532039827,31919038,28064492,72.540000000000006,null,24403947,4.1099999999999998E-2,25406949,65.668434923128757,6.8715650768712493,0.01,244039,0,0,0,{"$f":"MIN(H119*parameters!C$22,ROUND(P119+T119-V119+W119,0))","v":25650988},66.299193822601708,null,-2657543,-2413504,0,-6.2408061773982979,null,null,"110","Grafton",0.72537291532039827,72.540000000000006,4.1099999999999998E-2,25650988,-6.2408061773982979]
[111,"Granby",766960200,2710182.2732369686,244165000,3742912.6793579641,6453095,9949713.6605596077,0.64857092577245634,8208514,6453095,64.86,null,5618441,3.6700000000000003E-2,5824638,58.54076005311294,6.319239946887059,0.01,56184,0,0,0,{"$f":"MIN(H120*parameters!C$22,ROUND(P120+T120-V120+W120,0))","v":5880822},59.105439619950246,null,-628457,-572273,0,-5.7545603800497531,null,null,"111","Granby",0.64857092577245634,64.86,3.6700000000000003E-2,5880822,-5.7545603800497531]
[112,"Granville",236031700,834057.52901126572,59362000,909986.20798250148,1744044,2332677.3568332344,0.74765761964083044,1924459,1744044,74.77,null,1556263,3.8199999999999998E-2,1615712,69.264272457869495,5.5057275421305008,0.01,15563,0,0,0,{"$f":"MIN(H121*parameters!C$22,ROUND(P121+T121-V121+W121,0))","v":1631275},69.931445736437595,null,-128332,-112769,0,-4.8385542635624006,null,null,"112","Granville",0.74765761964083044,74.77,3.8199999999999998E-2,1631275,-4.8385542635624006]
[113,"Great Barrington",1741152600,6152654.2205455489,329164000,5045899.7366051022,11198554,10476266.953148777,1.0689450784407637,8642920,8642920,82.5,null,7696400,4.1200000000000001E-2,8013492,76.491865240141124,6.0081347598588764,0.01,76964,0,0,0,{"$f":"MIN(H122*parameters!C$22,ROUND(P122+T122-V122+W122,0))","v":8090456},77.226516240771332,null,-629428,-552464,0,-5.2734837592286681,null,null,"113","Great Barrington",1.0689450784407637,82.5,4.1200000000000001E-2,8090456,-5.2734837592286681]
[114,"Greenfield",1751876500,6190548.9166196939,439014000,6729838.7033999842,12920388,29793254.304892089,0.43366823468755666,24579435,12920388,43.37,null,11609608,3.2800000000000003E-2,11990403,40.245361843641099,3.1246381563588983,0.01,116096,0,0,0,{"$f":"MIN(H123*parameters!C$22,ROUND(P123+T123-V123+W123,0))","v":12106499},40.635033944620467,null,-929985,-813889,0,-2.7349660553795303,null,null,"114","Greenfield",0.43366823468755666,43.37,3.2800000000000003E-2,12106499,-2.7349660553795303]
[115,"Groton",2199159100,7771096.8689741213,964370000,14783251.901756762,22554349,21966300.544876482,1.0267704820810475,18122198,18122198,82.5,null,16741397,3.6799999999999999E-2,17357480,79.018676652170896,3.4813233478291039,0.01,167414,0,0,0,{"$f":"MIN(H124*parameters!C$22,ROUND(P124+T124-V124+W124,0))","v":17524894},79.780816820734913,null,-764718,-597304,0,-2.7191831792650873,null,null,"115","Groton",1.0267704820810475,82.5,3.6799999999999999E-2,17524894,-2.7191831792650873]
[116,"Groveland",1255397100,4436155.8348048544,312895000,4796505.0797932139,9232661,11817597.541391755,0.78126378628668991,9749518,9232661,78.13,null,8096465,3.6999999999999998E-2,8396034,71.046877088109071,7.0831229118909249,0.01,80965,0,0,0,{"$f":"MIN(H125*parameters!C$22,ROUND(P125+T125-V125+W125,0))","v":8476999},71.73199942127718,null,-836627,-755662,0,-6.3980005787228151,null,null,"116","Groveland",0.78126378628668991,78.13,3.6999999999999998E-2,8476999,-6.3980005787228151]
[117,"Hadley",1161298900,4103644.0909314342,202889000,3110174.7203827654,7213819,6277106.5899999999,1.149226780933156,5178613,5178613,82.5,null,4970980,6.5699999999999995E-2,5297573,84.395141679440556,0,0,0,118960,118960,0,{"$f":"MIN(H126*parameters!C$22,ROUND(P126+T126-V126+W126,0))","v":5178613},82.500001007629862,null,0,0,0,1.0076298622152535E-6,null,null,"117","Hadley",1.149226780933156,82.5,6.5699999999999995E-2,5178613,1.0076298622152535E-6]
[118,"Halifax",1210894200,4278897.3868597876,305436000,4682162.7880014703,8961060,15105645.591952194,0.59322588666942955,12462158,8961060,59.32,null,7899289,4.7400000000000005E-2,8273715,54.772336274114437,4.5476637258855632,0.01,78993,0,0,0,{"$f":"MIN(H127*parameters!C$22,ROUND(P127+T127-V127+W127,0))","v":8352708},55.295273208647608,null,-687345,-608352,0,-4.0247267913523928,null,null,"118","Halifax",0.59322588666942955,59.32,4.7400000000000005E-2,8352708,-4.0247267913523928]
[119,"Hamilton",1912849100,6759372.5491848066,713484000,10937310.057211466,17696683,13563537.241640633,1.304724769411215,11189918,11189918,82.5,null,10381569,3.6900000000000002E-2,10764649,79.364614172710588,3.1353858272894115,0.01,103816,0,0,0,{"$f":"MIN(H128*parameters!C$22,ROUND(P128+T128-V128+W128,0))","v":10868465},80.130019230037959,null,-425269,-321453,0,-2.3699807699620408,null,null,"119","Hamilton",1.304724769411215,82.5,3.6900000000000002E-2,10868465,-2.3699807699620408]
[120,"Hampden",758719700,2681063.0868403218,229767000,3522199.4044930325,6203262,7147465.3910503788,0.86789675229030805,5896659,5896659,82.5,null,5471360,3.8600000000000002E-2,5682554,79.504463318078436,2.9955366819215641,0.01,54714,0,0,0,{"$f":"MIN(H129*parameters!C$22,ROUND(P129+T129-V129+W129,0))","v":5737268},80.269965450743669,null,-214105,-159391,0,-2.2300345492563309,null,null,"120","Hampden",0.86789675229030805,82.5,3.8600000000000002E-2,5737268,-2.2300345492563309]
[121,"Hancock",338870100,1197454.2328924483,12643000,193810.10793980604,1391264,1216494.7500000002,1.1436662591433293,1003608,1003608,82.5,null,729685,4.99E-2,766096,62.975693072247111,19.524306927752889,0.02,14594,0,0,0,{"$f":"MIN(H130*parameters!C$22,ROUND(P130+T130-V130+W130,0))","v":780690},64.175369437475979,null,-237512,-222918,0,-18.324630562524021,null,null,"121","Hancock",1.1436662591433293,82.5,4.99E-2,780690,-18.324630562524021]
[122,"Hanover",3333802700,11780549.994653625,946537000,14509882.001029832,26290432,32194939.75624907,0.81660137273271338,26560825,26290432,81.66,null,23340556,3.6700000000000003E-2,24197154,75.158252145209588,6.5017478547904091,0.01,233406,0,0,0,{"$f":"MIN(H131*parameters!C$22,ROUND(P131+T131-V131+W131,0))","v":24430560},75.883229429736716,null,-2093278,-1859872,0,-5.776770570263281,null,null,"122","Hanover",0.81660137273271338,81.66,3.6700000000000003E-2,24430560,-5.776770570263281]
[123,"Hanson",1705096200,6025242.8944862019,450387000,6904180.422738703,12929423,20447146.083591625,0.63233386934011149,16868896,12929423,63.23,null,11135828,3.7900000000000003E-2,11557876,56.525619530223516,6.7043804697764813,0.01,111358,0,0,0,{"$f":"MIN(H132*parameters!C$22,ROUND(P132+T132-V132+W132,0))","v":11669234},57.070233431570671,null,-1371547,-1260189,0,-6.1597665684293261,null,null,"123","Hanson",0.63233386934011149,63.23,3.7900000000000003E-2,11669234,-6.1597665684293261]
[124,"Hardwick",290003700,1024776.6271484906,78259000,1199666.6327027825,2224443,4806274.6247421652,0.46282061964350013,3965177,2224443,46.28,null,1834775,3.4299999999999997E-2,1897708,39.483969356033278,6.7960306439667235,0.01,18348,0,0,0,{"$f":"MIN(H133*parameters!C$22,ROUND(P133+T133-V133+W133,0))","v":1916056},39.86572032601628,null,-326735,-308387,0,-6.4142796739837209,null,null,"124","Hardwick",0.46282061964350013,46.28,3.4299999999999997E-2,1916056,-6.4142796739837209]
[125,"Harvard",1434003000,5067289.6851344211,502274000,7699579.0678919666,12766869,10697301.90033282,1.1934662701819037,8825274,8825274,82.5,null,8141515,3.1E-2,8393902,78.467468509408391,4.0325314905916088,0.01,81415,0,0,0,{"$f":"MIN(H134*parameters!C$22,ROUND(P134+T134-V134+W134,0))","v":8475317},79.228548272871606,null,-431372,-349957,0,-3.2714517271283938,null,null,"125","Harvard",1.1934662701819037,82.5,3.1E-2,8475317,-3.2714517271283938]
[126,"Harwich",7143004400,25241001.948384892,628667000,9637112.9580158219,34878115,19695371.879191626,1.7708787228764695,16248682,16248682,82.5,null,14805161,4.6100000000000002E-2,15487679,78.636133884645773,3.8638661153542273,0.01,148052,0,0,612951,{"$f":"MIN(H135*parameters!C$22,ROUND(P135+T135-V135+W135,0))","v":16248682},82.500001013775773,null,-761003,0,0,1.0137757726624841E-6,null,null,"126","Harwich",1.7708787228764695,82.5,4.6100000000000002E-2,16248682,1.0137757726624841E-6]
[127,"Hatfield",664037600,2346488.0345587954,131826000,2020818.7367929185,4367307,4215602.3500000006,1.0359864705929864,3477872,3477872,82.5,null,3287596,5.6099999999999997E-2,3472030,82.361421019703144,0.138578980296856,0,0,0,0,0,{"$f":"MIN(H136*parameters!C$22,ROUND(P136+T136-V136+W136,0))","v":3472030},82.361421019703144,null,-5842,-5842,0,-0.138578980296856,null,null,"127","Hatfield",1.0359864705929864,82.5,5.6099999999999997E-2,3472030,-0.138578980296856]
[128,"Haverhill",8774764300,31007098.748660747,2194463000,33639888.547014996,64646987,150585079.44760001,0.42930539491129066,124232691,64646987,42.93,null,54096390,3.8300000000000001E-2,56168282,37.300031454673579,5.6299685453264203,0.01,540964,0,0,0,{"$f":"MIN(H137*parameters!C$22,ROUND(P137+T137-V137+W137,0))","v":56709246},37.659272889472064,null,-8478705,-7937741,0,-5.2707271105279361,null,null,"128","Haverhill",0.42930539491129066,42.93,3.8300000000000001E-2,56709246,-5.2707271105279361]
[129,"Hawley",52571500,185770.19691175278,7716000,118281.95783149121,304052,357343.37815850152,0.85086787270795916,{"$f":"ROUND(H138*maxloc,0)","v":294808},294808,82.5,null,288215,3.1899999999999998E-2,297409,83.227791020681138,0,0,0,2601,{"$f":"MAX(U138*(V$5),0)","v":2601},0,{"$f":"MIN(H138*parameters!C$22,ROUND(P138+T138-V138+W138,0))","v":294808},82.499919690476645,null,0,0,0,-8.0309523355026613E-5,null,null,"129","Hawley",0.85086787270795916,{"$f":"L138","v":82.5},3.1899999999999998E-2,{"$f":"X138","v":294808},-8.0309523355026613E-5]
[130,"Heath",105196700,{"$f":"D$5*C139","v":371730.15176410379},11348000,173958.48334263379,{"$f":"ROUND(D139+F139,0)","v":545689},{"$f":"(SUMIF(town1755,A139,found1755)/2)","v":1309018.2570512607},{"$f":"IF(H139=0,0,G139/H139)","v":0.41686889931484816},1079940,{"$f":"MIN(G139,J139)","v":545689},{"$f":"IF(H139>0, ROUND((K139*100/H139), 2), 0)","v":41.69},null,470212,3.15E-2,{"$f":"ROUND(N139*(1+O139),0)","v":485024},{"$f":"IF(H139=0,0,P139*100/H139)","v":37.052500787313818},{"$f":"IF(L139>Q139,L139-Q139,0)","v":4.6374992126861798},{"$f":"IF(AND(R139>$T$4,R139<=$T$5),$S$4,IF(R139>$T$5,$S$5,0))","v":0.01},{"$f":"ROUND(S139*N139,0)","v":4702},{"$f":"MAX(P139-K139,0)","v":0},0,{"$f":"IF(AND(I139>1.75,$W$5=1),MAX(K139-(P139+T139),0),0)","v":0},{"$f":"MIN(H139*parameters!C$22,ROUND(P139+T139-V139+W139,0))","v":489726},{"$f":"IF(H139=0,0,X139*100/H139)","v":37.41170127780903},null,{"$f":"IF(Q139<L139, P139-K139, 0)","v":-60665},{"$f":"-1*MAX(K139-(P139+T139+W139),0)","v":-55963},{"$f":"IF(Q139>L139, X139-K139,0)","v":0},{"$f":"Y139-L139","v":-4.2782987221909679},null,null,{"$f":"TEXT(A139,\"000\")","v":"130"},{"$f":"B139","v":"Heath"},{"$f":"I139","v":0.41686889931484816},41.69,{"$f":"O139","v":3.15E-2},489726,{"$f":"AD139","v":-4.2782987221909679}]
[131,"Hingham",8672525700,30645821.538499691,3411281000,{"$f":"E140*F$5","v":52293026.878352404},82938848,47057670.467040002,1.7624937056349144,38822578,38822578,82.5,null,37259592,4.3299999999999998E-2,38872932,82.607004584358393,0,0,0,50354,50354,0,{"$f":"MIN(H140*parameters!C$22,ROUND(P140+T140-V140+W140,0))","v":38822578},82.499999712463449,null,0,0,0,-2.8753655101354525E-7,null,null,"131","Hingham",1.7624937056349144,82.5,4.3299999999999998E-2,38822578,-2.8753655101354525E-7]
[132,"Hinsdale",363382200,1284071.8421240773,80264000,1230402.1595887521,2514474,2805250.8403093661,0.89634551173423804,2314332,2314332,82.5,null,1967962,5.0900000000000001E-2,2068131,73.723567614079187,8.7764323859208133,0.02,39359,0,0,0,{"$f":"MIN(H141*parameters!C$22,ROUND(P141+T141-V141+W141,0))","v":2107490},75.126615050495218,null,-246201,-206842,0,-7.3733849495047821,null,null,"132","Hinsdale",0.89634551173423804,82.5,5.0900000000000001E-2,2107490,-7.3733849495047821]
[133,"Holbrook",1670268000,5902171.6187553992,399119000,6118270.7008484891,12020442,22825914.675437842,0.52661381464528001,18831380,12020442,52.66,null,10072166,5.2900000000000003E-2,10604984,46.460280566156882,6.1997194338431143,0.01,100722,0,0,0,{"$f":"MIN(H142*parameters!C$22,ROUND(P142+T142-V142+W142,0))","v":10705706},46.901542182316277,null,-1415458,-1314736,0,-5.7584578176837198,null,null,"133","Holbrook",0.52661381464528001,52.66,5.2900000000000003E-2,10705706,-5.7584578176837198]
[134,"Holden",2958213400,10453342.320934074,974441000,14937634.690419404,25390977,42732165.843384668,0.594188862157352,35254037,25390977,59.42,null,22570395,3.7900000000000003E-2,23425813,54.820092868348098,4.5999071316519036,0.01,225704,0,0,0,{"$f":"MIN(H143*parameters!C$22,ROUND(P143+T143-V143+W143,0))","v":23651517},55.348275785233739,null,-1965164,-1739460,0,-4.0717242147662631,null,null,"134","Holden",0.594188862157352,59.42,3.7900000000000003E-2,23651517,-4.0717242147662631]
[135,"Holland",412648100,1458161.1480033982,94289000,1445397.5533921039,2903559,4468186.3107323125,0.64982943818296646,3686254,2903559,64.98,null,2558933,3.6600000000000001E-2,2652590,59.366145803469287,5.6138541965307169,0.01,25589,0,0,0,{"$f":"MIN(H144*parameters!C$22,ROUND(P144+T144-V144+W144,0))","v":2678179},59.938839022159314,null,-250969,-225380,0,-5.0411609778406898,null,null,"135","Holland",0.64982943818296646,64.98,3.6600000000000001E-2,2678179,-5.0411609778406898]
[136,"Holliston",3243894200,11462843.257181033,972724000,14911314.042208327,26374157,34455481.199013308,0.76545606336663985,28425772,26374157,76.55,null,23838634,4.3900000000000008E-2,24885150,72.224067503990128,4.3259324960098695,0.01,238386,0,0,0,{"$f":"MIN(H145*parameters!C$22,ROUND(P145+T145-V145+W145,0))","v":25123536},72.915934201840301,null,-1489007,-1250621,0,-3.6340657981596962,null,null,"136","Holliston",0.76545606336663985,76.55,4.3900000000000008E-2,25123536,-3.6340657981596962]
[137,"Holyoke",2572663000,9090935.4326504022,804562000,12333484.77926649,21424420,109412142.28999999,0.19581391563665729,90265017,21424420,19.579999999999998,null,11842864,3.15E-2,12215914,11.165044157184468,8.4149558428155302,0.02,236857,0,0,0,{"$f":"MIN(H146*parameters!C$22,ROUND(P146+T146-V146+W146,0))","v":12452771},11.381525614399887,null,-9208506,-8971649,0,-8.198474385600111,null,null,"137","Holyoke",0.19581391563665729,19.579999999999998,3.15E-2,12452771,-8.198474385600111]
[138,"Hopedale",929315000,3283890.1409137179,281746000,4319008.3581118872,7602898,12867917.172094023,0.59084138468718206,10616032,7602898,59.08,null,6956476,3.4799999999999998E-2,7198561,55.941928314639306,3.1380716853606927,0.01,69565,0,0,0,{"$f":"MIN(H147*parameters!C$22,ROUND(P147+T147-V147+W147,0))","v":7268126},56.48253639494979,null,-404337,-334772,0,-2.5974636050502085,null,null,"138","Hopedale",0.59084138468718206,59.08,3.4799999999999998E-2,7268126,-2.5974636050502085]
[139,"Hopkinton",5173582300,18281719.232096456,1786694000,27389018.191521298,45670737,51423343.275951788,0.88813239456093462,42424258,42424258,82.5,null,38420997,7.0599999999999996E-2,41133519,79.989974162640962,2.5100258373590378,0.01,384210,0,0,0,{"$f":"MIN(H148*parameters!C$22,ROUND(P148+T148-V148+W148,0))","v":41517729},80.737125116903542,null,-1290739,-906529,0,-1.7628748830964582,null,null,"139","Hopkinton",0.88813239456093462,82.5,7.0599999999999996E-2,41517729,-1.7628748830964582]
[140,"Hubbardston",587783900,2077032.8190095013,176375000,2703729.9523754874,4780763,8224829.9048715616,0.58125980175813208,6785485,4780763,58.13,null,4198439,2.7799999999999998E-2,4315156,52.46498772508518,5.6650122749148224,0.01,41984,0,0,0,{"$f":"MIN(H149*parameters!C$22,ROUND(P149+T149-V149+W149,0))","v":4357140},52.975442050409683,null,-465607,-423623,0,-5.1545579495903198,null,null,"140","Hubbardston",0.58125980175813208,58.13,2.7799999999999998E-2,4357140,-5.1545579495903198]
[141,"Hudson",3508853900,12399122.717395769,880211000,13493141.573978059,25892264,38732195.910956718,0.66849460483792222,31954062,25892264,66.849999999999994,null,22801905,4.3200000000000002E-2,23786947,61.413886924162369,5.4361130758376248,0.01,228019,0,0,0,{"$f":"MIN(H150*parameters!C$22,ROUND(P150+T150-V150+W150,0))","v":24014966},62.002593540549945,null,-2105317,-1877298,0,-4.847406459450049,null,null,"141","Hudson",0.66849460483792222,66.849999999999994,4.3200000000000002E-2,24014966,-4.847406459450049]
[142,"Hull",2851555900,10076450.18779891,524142000,8034803.2583869183,18111253,10986735.571280001,1.6484653592049603,9064057,9064057,82.5,null,8780091,3.1E-2,9052274,82.39275389191306,0.10724610808694024,0,0,0,0,0,{"$f":"MIN(H151*parameters!C$22,ROUND(P151+T151-V151+W151,0))","v":9052274},82.39275389191306,null,-11783,-11783,0,-0.10724610808694024,null,null,"142","Hull",1.6484653592049603,82.5,3.1E-2,9052274,-0.10724610808694024]
[143,"Huntington",255469400,902743.89627321518,77700000,1191097.4758303352,2093841,4707498.639320801,0.4447884450800606,3883686,2093841,44.48,null,1707957,3.9E-2,1774567,37.696601443012526,6.7833985569874713,0.01,17080,0,0,0,{"$f":"MIN(H152*parameters!C$22,ROUND(P152+T152-V152+W152,0))","v":1791647},38.059426826695784,null,-319274,-302194,0,-6.4205731733042128,null,null,"143","Huntington",0.4447884450800606,44.48,3.9E-2,1791647,-6.4205731733042128]
[144,"Ipswich",3651224100,12902211.655097101,987783000,15142160.07680973,28044372,21191022.009483438,1.3234081861389007,17482593,17482593,82.5,null,16223488,3.2800000000000003E-2,16755618,79.06941907993631,3.4305809200636901,0.01,162235,0,0,0,{"$f":"MIN(H153*parameters!C$22,ROUND(P153+T153-V153+W153,0))","v":16917853},79.835002731009851,null,-726975,-564740,0,-2.6649972689901489,null,null,"144","Ipswich",1.3234081861389007,82.5,3.2800000000000003E-2,16917853,-2.6649972689901489]
[145,"Kingston",2686343300,9492643.805361608,656075000,10057262.245243078,19549906,28735837.622619543,0.68033186492574016,23707066,19549906,68.03,null,16747718,5.74E-2,17709037,61.627008172054303,6.4029918279456979,0.01,167477,0,0,0,{"$f":"MIN(H154*parameters!C$22,ROUND(P154+T154-V154+W154,0))","v":17876514},62.209823965348491,null,-1840869,-1673392,0,-5.8201760346515101,null,null,"145","Kingston",0.68033186492574016,68.03,5.74E-2,17876514,-5.8201760346515101]
[146,"Lakeville",2334757300,8250255.8108890224,556836000,8535983.964626262,16786240,23252993.13426074,0.72189588252478831,19183719,16786240,72.19,null,14292640,4.0099999999999997E-2,14865775,63.930586975045841,8.2594130249541564,0.02,285853,0,0,0,{"$f":"MIN(H155*parameters!C$22,ROUND(P155+T155-V155+W155,0))","v":15151628},65.159903985331397,null,-1920465,-1634612,0,-7.0300960146686009,null,null,"146","Lakeville",0.72189588252478831,72.19,4.0099999999999997E-2,15151628,-7.0300960146686009]
[147,"Lancaster",1181869900,4176335.163483514,340694000,5222648.177999231,9398983,13917300.495712396,0.67534526562070085,11481773,9398983,67.53,null,8557051,3.9800000000000002E-2,8897622,63.932096621332242,3.597903378667759,0.01,85571,0,0,0,{"$f":"MIN(H156*parameters!C$22,ROUND(P156+T156-V156+W156,0))","v":8983193},64.546950055202998,null,-501361,-415790,0,-2.9830499447970027,null,null,"147","Lancaster",0.67534526562070085,67.53,3.9800000000000002E-2,8983193,-2.9830499447970027]
[148,"Lanesborough",475467900,1680145.4287630669,92623000,1419858.7066130391,3100004,5443179.4488157062,0.56952081575676872,4490623,3100004,56.95,null,2752643,3.5900000000000001E-2,2851463,52.385981884547348,4.5640181154526545,0.01,27526,0,0,0,{"$f":"MIN(H157*parameters!C$22,ROUND(P157+T157-V157+W157,0))","v":2878989},52.891678973148551,null,-248541,-221015,0,-4.058321026851452,null,null,"148","Lanesborough",0.56952081575676872,56.95,3.5900000000000001E-2,2878989,-4.058321026851452]
[149,"Lawrence",6494397200,22949039.815625116,1773237000,27182729.919548985,50131770,310389257.02234715,0.16151258094731885,256071137,50131770,16.149999999999999,null,14489217,3.0800000000000001E-2,14935485,4.8118562940226655,11.338143705977334,0.02,289784,0,0,0,{"$f":"MIN(H158*parameters!C$22,ROUND(P158+T158-V158+W158,0))","v":15225269},4.9052177726962451,null,-35196285,-34906501,0,-11.244782227303753,null,null,"149","Lawrence",0.16151258094731885,16.149999999999999,3.0800000000000001E-2,15225269,-11.244782227303753]
[150,"Lee",1176406900,4157030.7383533786,209748000,3215319.3482684833,7372350,8739704.6600000001,0.84354681156925959,7210256,7210256,82.5,null,6383000,4.9200000000000001E-2,6697044,76.627806779914692,5.8721932200853075,0.01,63830,0,0,0,{"$f":"MIN(H159*parameters!C$22,ROUND(P159+T159-V159+W159,0))","v":6760874},77.358151825693383,null,-513212,-449382,0,-5.1418481743066167,null,null,"150","Lee",0.84354681156925959,82.5,4.9200000000000001E-2,6760874,-5.1418481743066167]
[151,"Leicester",1309322100,4626708.8505732128,392364000,6014720.3347064825,10641429,20759208.559999999,0.51261246156101048,17126347,10641429,51.26,null,9299222,2.8899999999999995E-2,9567970,46.09024458878504,5.1697554112149575,0.01,92992,0,0,0,{"$f":"MIN(H160*parameters!C$22,ROUND(P160+T160-V160+W160,0))","v":9660962},46.538200009297469,null,-1073459,-980467,0,-4.7217999907025288,null,null,"151","Leicester",0.51261246156101048,51.26,2.8899999999999995E-2,9660962,-4.7217999907025288]
[152,"Lenox",1497427400,5291410.4212178458,310083000,4753398.69495364,10044809,6717817.4100000001,1.4952488862003768,5542199,5542199,82.5,null,5042114,6.54E-2,5371868,79.964483583664418,2.5355164163355823,0.01,50421,0,0,0,{"$f":"MIN(H161*parameters!C$22,ROUND(P161+T161-V161+W161,0))","v":5422289},80.715039856970449,null,-170331,-119910,0,-1.7849601430295507,null,null,"152","Lenox",1.4952488862003768,82.5,6.54E-2,5422289,-1.7849601430295507]
[153,"Leominster",5149133300,18195324.597279198,1426460000,21866832.758982498,40062157,99599000.579999998,0.4022345281248203,82169175,40062157,40.22,null,33607699,3.7499999999999999E-2,34867988,35.008371366129623,5.2116286338703759,0.01,336077,0,0,0,{"$f":"MIN(H162*parameters!C$22,ROUND(P162+T162-V162+W162,0))","v":35204065},35.345801458844321,null,-5194169,-4858092,0,-4.8741985411556783,null,null,"153","Leominster",0.4022345281248203,40.22,3.7499999999999999E-2,35204065,-4.8741985411556783]
[154,"Leverett",338579700,1196428.0558729004,103435000,1585600.6101996233,2782029,2702564.6261023153,1.0294033205090416,2229616,2229616,82.5,null,1916051,5.2900000000000003E-2,2017410,74.647983641728601,7.8520163582713991,0.02,38321,0,0,0,{"$f":"MIN(H163*parameters!C$22,ROUND(P163+T163-V163+W163,0))","v":2055731},76.065933082414773,null,-212206,-173885,0,-6.434066917585227,null,null,"154","Leverett",1.0294033205090416,82.5,5.2900000000000003E-2,2055731,-6.434066917585227]
[155,"Lexington",15034185600,53125811.881339468,4755671000,72901772.509389013,126027584,92253429.801823735,1.3661018812062486,76109080,76109080,82.5,null,70523921,5.4000000000000006E-2,74332213,80.573928969013295,1.9260710309867051,0,0,0,0,0,{"$f":"MIN(H164*parameters!C$22,ROUND(P164+T164-V164+W164,0))","v":74332213},80.573928969013295,null,-1776867,-1776867,0,-1.9260710309867051,null,null,"155","Lexington",1.3661018812062486,82.5,5.4000000000000006E-2,74332213,-1.9260710309867051]
[156,"Leyden",104479300,369195.09875506867,36797000,564077.39791671617,933272,844979.30609577138,1.1044909541183738,697108,697108,82.5,null,530686,4.5600000000000002E-2,554885,65.668472114879037,16.831527885120963,0.02,10614,0,0,0,{"$f":"MIN(H165*parameters!C$22,ROUND(P165+T165-V165+W165,0))","v":565499},66.9245975517305,null,-142223,-131609,0,-15.5754024482695,null,null,"156","Leyden",1.1044909541183738,82.5,4.5600000000000002E-2,565499,-15.5754024482695]
[157,"Lincoln",2475327700,8746984.8539630044,1108830000,16997742.781530894,25744728,9862400.507043846,2.6103916568398131,8136480,8136480,82.5,null,7867853,2.1299999999999999E-2,8035438,81.475478452340212,1.0245215476597878,0,0,0,0,101042,{"$f":"MIN(H166*parameters!C$22,ROUND(P166+T166-V166+W166,0))","v":8136480},82.499995758525799,null,-101042,0,0,-4.2414742011942508E-6,null,null,"157","Lincoln",2.6103916568398131,82.5,2.1299999999999999E-2,8136480,-4.2414742011942508E-6]
[158,"Littleton",2447845900,8649873.3125862237,651374000,9985198.5485393666,18635072,20952219.287234686,0.88940802616329873,17285581,17285581,82.5,null,14737314,5.800000000000001E-2,15592078,74.417310100890376,8.0826898991096243,0.02,294746,0,0,0,{"$f":"MIN(H167*parameters!C$22,ROUND(P167+T167-V167+W167,0))","v":15886824},75.824063227894811,null,-1693503,-1398757,0,-6.6759367721051888,null,null,"158","Littleton",0.88940802616329873,82.5,5.800000000000001E-2,15886824,-6.6759367721051888]
[159,"Longmeadow",2458304800,8686831.5867933575,1374630000,21072307.891900305,29759139,33192700.990000002,0.89655671615773491,27383978,27383978,82.5,null,25041585,3.2000000000000001E-2,25842916,77.857225321270846,4.6427746787291539,0.01,250416,0,0,0,{"$f":"MIN(H168*parameters!C$22,ROUND(P168+T168-V168+W168,0))","v":26093332},78.611656242922692,null,-1541062,-1290646,0,-3.8883437570773083,null,null,"159","Longmeadow",0.89655671615773491,82.5,3.2000000000000001E-2,26093332,-3.8883437570773083]
[160,"Lowell",11375052400,40195652.0972296,2913992000,44669865.068079665,84865517,328399887.97532809,0.25842127268440407,270929908,84865517,25.84,null,65197971,3.8199999999999998E-2,67688533,20.611618785048208,5.2283812149517921,0.01,651980,0,0,0,{"$f":"MIN(H169*parameters!C$22,ROUND(P169+T169-V169+W169,0))","v":68340513},20.810151130482193,null,-17176984,-16525004,0,-5.0298488695178065,null,null,"160","Lowell",0.25842127268440407,25.84,3.8199999999999998E-2,68340513,-5.0298488695178065]
[161,"Ludlow",2411393900,8521064.0676944628,699182000,10718068.408571498,19239132,32627792.160000004,0.5896547307171518,26917929,19239132,58.97,null,17421395,3.2899999999999999E-2,17994559,55.151016384309337,3.8189836156906622,0.01,174214,0,0,0,{"$f":"MIN(H170*parameters!C$22,ROUND(P170+T170-V170+W170,0))","v":18168773},55.684959959607632,null,-1244573,-1070359,0,-3.2850400403923672,null,null,"161","Ludlow",0.5896547307171518,58.97,3.2899999999999999E-2,18168773,-3.2850400403923672]
[162,"Lunenburg",1855455700,6556563.3613276025,520429000,7977885.0482484624,14534448,22614680.604983237,0.6426996805251044,18657111,14534448,64.27,null,12346684,3.5999999999999997E-2,12791165,56.561333867264146,7.7086661327358499,0.02,246934,0,0,0,{"$f":"MIN(H171*parameters!C$22,ROUND(P171+T171-V171+W171,0))","v":13038099},57.653252892402122,null,-1743283,-1496349,0,-6.6167471075978739,null,null,"162","Lunenburg",0.6426996805251044,64.27,3.5999999999999997E-2,13038099,-6.6167471075978739]
[163,"Lynn",11636407900,41119195.513319492,2456344000,37654377.582638212,78773573,329943497.06999999,0.23874867575670872,272203385,78773573,23.87,null,57821484,4.24E-2,60273115,18.267708118282023,5.6022918817179779,0.01,578215,0,0,0,{"$f":"MIN(H172*parameters!C$22,ROUND(P172+T172-V172+W172,0))","v":60851330},18.442954790859215,null,-18500458,-17922243,0,-5.4270452091407861,null,null,"163","Lynn",0.23874867575670872,23.87,4.24E-2,60851330,-5.4270452091407861]
[164,"Lynnfield",4134919200,14611429.272480093,1205249000,18475792.04178939,33087221,28142564.880934801,1.1757002654159272,23217616,23217616,82.5,null,21120882,3.39E-2,21836880,77.593780426152307,4.906219573847693,0.01,211209,0,0,0,{"$f":"MIN(H173*parameters!C$22,ROUND(P173+T173-V173+W173,0))","v":22048089},78.344277052503102,null,-1380736,-1169527,0,-4.1557229474968977,null,null,"164","Lynnfield",1.1757002654159272,82.5,3.39E-2,22048089,-4.1557229474968977]
[165,"Malden",9978319100,35260061.136838473,2109828000,32342481.405870844,67602543,121273792.69578645,0.55743736133972488,100050879,67602543,55.74,null,52985637,3.9E-2,55052077,45.394867082369018,10.345132917630984,0.02,1059713,0,0,0,{"$f":"MIN(H174*parameters!C$22,ROUND(P174+T174-V174+W174,0))","v":56111790},46.268685717412673,null,-12550466,-11490753,0,-9.4713142825873291,null,null,"165","Malden",0.55743736133972488,55.74,3.9E-2,56111790,-9.4713142825873291]
[166,"Manchester",2969651000,10493758.99544779,847627000,12993647.106121488,23487406,8913297.0855222885,2.6350974027501204,7353470,7353470,82.5,null,7354714,3.1099999999999999E-2,7583446,85.080144050372311,0,0,0,229976,229976,0,{"$f":"MIN(H175*parameters!C$22,ROUND(P175+T175-V175+W175,0))","v":7353470},82.499998927940055,null,0,0,0,-1.0720599448177381E-6,null,null,"166","Manchester",2.6350974027501204,82.5,3.1099999999999999E-2,7353470,-1.0720599448177381E-6]
[167,"Mansfield",4776050100,16876972.64748764,1343889000,20601065.581675075,37478038,48423199.478625886,0.77396864320258085,39949140,37478038,77.400000000000006,null,32773375,3.3700000000000001E-2,33877838,69.961998308174074,7.4380016918259315,0.01,327734,0,0,0,{"$f":"MIN(H176*parameters!C$22,ROUND(P176+T176-V176+W176,0))","v":34205572},70.638810256844806,null,-3600200,-3272466,0,-6.7611897431551995,null,null,"167","Mansfield",0.77396864320258085,77.400000000000006,3.3700000000000001E-2,34205572,-6.7611897431551995]
[168,"Marblehead",7507193000,26527923.339918625,2044870000,31346711.65252481,57874635,33194653.164408468,1.7434926858056037,27385589,27385589,82.5,null,26024668,5.96E-2,27575738,83.072830625526436,0,0,0,190149,190149,0,{"$f":"MIN(H177*parameters!C$22,ROUND(P177+T177-V177+W177,0))","v":27385589},82.500000419835729,null,0,0,0,4.1983572884873865E-7,null,null,"168","Marblehead",1.7434926858056037,82.5,5.96E-2,27385589,4.1983572884873865E-7]
[169,"Marion",2022826200,7147995.0446963198,397513000,6093651.6204600269,13241647,9696583.4314415082,1.3655992436535429,7999681,7999681,82.5,null,7165565,3.49E-2,7415643,76.476864788833979,6.0231352111660215,0.01,71656,0,0,0,{"$f":"MIN(H178*parameters!C$22,ROUND(P178+T178-V178+W178,0))","v":7487299},77.215846725168916,null,-584038,-512382,0,-5.284153274831084,null,null,"169","Marion",1.3655992436535429,82.5,3.49E-2,7487299,-5.284153274831084]
[170,"Marlborough",7495113200,26485237.34418606,1645028000,25217357.76666956,51702595,98478351.212457299,0.5250148318228518,81244640,51702595,52.5,null,44551001,3.8199999999999998E-2,46252849,46.967529848478122,5.5324701515218777,0.01,445510,0,0,0,{"$f":"MIN(H179*parameters!C$22,ROUND(P179+T179-V179+W179,0))","v":46698359},47.41992369394255,null,-5449746,-5004236,0,-5.0800763060574496,null,null,"170","Marlborough",0.5250148318228518,52.5,3.8199999999999998E-2,46698359,-5.0800763060574496]
[171,"Marshfield",6249685700,22084310.760118417,1480237000,22691204.045439743,44775515,49950295.557299994,0.89640140264307755,41208994,41208994,82.5,null,37291361,3.7699999999999997E-2,38697245,77.471503558189823,5.0284964418101765,0.01,372914,0,0,0,{"$f":"MIN(H180*parameters!C$22,ROUND(P180+T180-V180+W180,0))","v":39070159},78.218073715261696,null,-2511749,-2138835,0,-4.2819262847383044,null,null,"171","Marshfield",0.89640140264307755,82.5,3.7699999999999997E-2,39070159,-4.2819262847383044]
[172,"Mashpee",6829860600,24134455.9037087,746957000,11450432.3970888,35584888,21584750.070695505,1.6486124640521902,17807419,17807419,82.5,null,16582825,4.9399999999999993E-2,17402017,80.621813748150899,1.878186251849101,0,0,0,0,0,{"$f":"MIN(H181*parameters!C$22,ROUND(P181+T181-V181+W181,0))","v":17402017},80.621813748150899,null,-405402,-405402,0,-1.878186251849101,null,null,"172","Mashpee",1.6486124640521902,82.5,4.9399999999999993E-2,17402017,-1.878186251849101]
[173,"Mattapoisett",2214714000,7826062.7123672646,461487000,7074337.2050001789,14900400,10331287.220707692,1.4422597767037324,8523312,8523312,82.5,null,8120211,3.2099999999999997E-2,8380870,81.12125644132378,1.37874355867622,0,0,0,0,0,{"$f":"MIN(H182*parameters!C$22,ROUND(P182+T182-V182+W182,0))","v":8380870},81.12125644132378,null,-142442,-142442,0,-1.37874355867622,null,null,"173","Mattapoisett",1.4422597767037324,82.5,3.2099999999999997E-2,8380870,-1.37874355867622]
[174,"Maynard",1839094900,6498749.7353585167,496816000,7615910.9852268193,14114661,19269760.861715242,0.73247722695109896,15897553,14114661,73.25,null,12395606,4.9100000000000005E-2,13004230,67.485165453384184,5.7648345466158162,0.01,123956,0,0,0,{"$f":"MIN(H183*parameters!C$22,ROUND(P183+T183-V183+W183,0))","v":13128186},68.12843238798466,null,-1110431,-986475,0,-5.1215676120153404,null,null,"174","Maynard",0.73247722695109896,73.25,4.9100000000000005E-2,13128186,-5.1215676120153404]
[175,"Medfield",3244189600,11463887.102537695,1403300000,21511802.932209902,32975690,29986231.410711363,1.09969437467293,24738641,24738641,82.5,null,22779577,4.4299999999999999E-2,23788712,79.33211637759338,3.1678836224066202,0.01,227796,0,0,0,{"$f":"MIN(H184*parameters!C$22,ROUND(P184+T184-V184+W184,0))","v":24016508},80.091785029782301,null,-949929,-722133,0,-2.4082149702176991,null,null,"175","Medfield",1.09969437467293,82.5,4.4299999999999999E-2,24016508,-2.4082149702176991]
[176,"Medford",13888346300,49076796.875295796,2788101000,42740026.556757189,91816823,71888258.341159999,1.277215850247269,59307813,59307813,82.5,null,51012133,5.800000000000001E-2,53970837,75.076011361786897,7.4239886382131033,0.01,510121,0,0,0,{"$f":"MIN(H185*parameters!C$22,ROUND(P185+T185-V185+W185,0))","v":54480958},75.785614030944799,null,-5336976,-4826855,0,-6.7143859690552006,null,null,"176","Medford",1.277215850247269,82.5,5.800000000000001E-2,54480958,-6.7143859690552006]
[177,"Medway",2799149700,9891264.1061121263,859758000,13179608.540861486,23070873,28806116.792786349,0.80090187670756885,23765046,23070873,80.09,null,19475398,4.1500000000000002E-2,20283627,70.41430521825643,9.675694781743573,0.02,389508,0,0,0,{"$f":"MIN(H186*parameters!C$22,ROUND(P186+T186-V186+W186,0))","v":20673135},71.766476365800827,null,-2787246,-2397738,0,-8.3235236341991765,null,null,"177","Medway",0.80090187670756885,80.09,4.1500000000000002E-2,20673135,-8.3235236341991765]
[178,"Melrose",6830692800,24137396.62173786,1774573000,27203210.051179737,51340607,52848454.204327516,0.97146847098880618,43599975,43599975,82.5,null,38652355,3.0700000000000002E-2,39838982,75.383438550484172,7.116561449515828,0.01,386524,0,0,0,{"$f":"MIN(H187*parameters!C$22,ROUND(P187+T187-V187+W187,0))","v":40225506},76.114820396593771,null,-3760993,-3374469,0,-6.3851796034062289,null,null,"178","Melrose",0.97146847098880618,82.5,3.0700000000000002E-2,40225506,-6.3851796034062289]
[179,"Mendon",1231055600,4350141.0692355353,386458000,5924184.6629915023,10274326,12443391.775905916,0.82568532639903947,10265798,10265798,82.5,null,9047379,4.8000000000000001E-2,9481653,76.198300035519921,6.3016999644800791,0.01,90474,0,0,0,{"$f":"MIN(H188*parameters!C$22,ROUND(P188+T188-V188+W188,0))","v":9572127},76.92538475349194,null,-784145,-693671,0,-5.5746152465080598,null,null,"179","Mendon",0.82568532639903947,82.5,4.8000000000000001E-2,9572127,-5.5746152465080598]
[180,"Merrimac",1063280200,3757278.6039273725,297935000,4567176.6597363055,8324455,11003350.585805228,0.75653819580545645,9077764,8324455,75.650000000000006,null,7402200,3.4599999999999999E-2,7658316,69.599854519581882,6.0501454804181236,0.01,74022,0,0,0,{"$f":"MIN(H189*parameters!C$22,ROUND(P189+T189-V189+W189,0))","v":7732338},70.272576881945682,null,-666139,-592117,0,-5.3774231180543239,null,null,"180","Merrimac",0.75653819580545645,75.650000000000006,3.4599999999999999E-2,7732338,-5.3774231180543239]
[181,"Methuen",7484419600,26447449.718234822,1857789000,28478864.717186134,54926314,119564027.25939715,0.45938828976407753,98640322,54926314,45.94,null,46184553,4.6799999999999994E-2,48345990,40.435230485430338,5.5047695145696593,0.01,461846,0,0,0,{"$f":"MIN(H190*parameters!C$22,ROUND(P190+T190-V190+W190,0))","v":48807836},40.821505530346663,null,-6580324,-6118478,0,-5.118494469653335,null,null,"181","Methuen",0.45938828976407753,45.94,4.6799999999999994E-2,48807836,-5.118494469653335]
[182,"Middleborough",3517109700,12428295.968903983,862129000,13215954.64273013,25644251,47515853.711105019,0.53969883727473966,39200579,25644251,53.97,null,22363399,4.4500000000000005E-2,23358570,49.159529242638492,4.8104707573615073,0.01,223634,0,0,0,{"$f":"MIN(H191*parameters!C$22,ROUND(P191+T191-V191+W191,0))","v":23582204},49.630180578000555,null,-2285681,-2062047,0,-4.3398194219994437,null,null,"182","Middleborough",0.53969883727473966,53.97,4.4500000000000005E-2,23582204,-4.3398194219994437]
[183,"Middlefield",74262900,262420.39044421038,9704000,148756.88424012321,411177,331707.28606933751,1.2395778364484002,273659,273659,82.5,null,266543,3.3799999999999997E-2,275552,83.070831293829571,0,0,0,1893,1893,0,{"$f":"MIN(H192*parameters!C$22,ROUND(P192+T192-V192+W192,0))","v":273659},82.500147416959805,null,0,0,0,1.4741695980546865E-4,null,null,"183","Middlefield",1.2395778364484002,82.5,3.3799999999999997E-2,273659,1.4741695980546865E-4]
[184,"Middleton",2600183100,9188182.3134894706,628297000,9631441.0652737729,18819623,16449249.574692497,1.144102222690716,13570631,13570631,82.5,null,12768564,4.2700000000000002E-2,13313782,80.938537284299727,1.561462715700273,0,0,0,0,0,{"$f":"MIN(H193*parameters!C$22,ROUND(P193+T193-V193+W193,0))","v":13313782},80.938537284299727,null,-256849,-256849,0,-1.561462715700273,null,null,"184","Middleton",1.144102222690716,82.5,4.2700000000000002E-2,13313782,-1.561462715700273]
[185,"Milford",4423092300,15629737.168044614,1124382000,17236146.229975082,32865883,78439815.323720187,0.41899490538526757,64712848,32865883,41.9,null,28281268,4.2700000000000002E-2,29488878,37.594272600336637,4.3057273996633612,0.01,282813,0,0,0,{"$f":"MIN(H194*parameters!C$22,ROUND(P194+T194-V194+W194,0))","v":29771691},37.954820364036536,null,-3377005,-3094192,0,-3.9451796359634628,null,null,"185","Milford",0.41899490538526757,41.9,4.2700000000000002E-2,29771691,-3.9451796359634628]
[186,"Millbury",2138952900,7558348.1813903851,546244000,8373614.537805221,15931963,24190663.869301457,0.65859966002082526,19957298,15931963,65.86,null,14037148,3.3300000000000003E-2,14504585,59.959433434179836,5.9005665658201636,0.01,140371,0,0,0,{"$f":"MIN(H195*parameters!C$22,ROUND(P195+T195-V195+W195,0))","v":14644956},60.539702751129568,null,-1427378,-1287007,0,-5.3202972488704319,null,null,"186","Millbury",0.65859966002082526,65.86,3.3300000000000003E-2,14644956,-5.3202972488704319]
[187,"Millis",1670717600,5903760.3556286395,441305000,6764958.4500811594,12668719,14984763.954621794,0.84544001082463172,12362430,12362430,82.5,null,10881464,7.2400000000000006E-2,11669282,77.874313104550509,4.6256868954494905,0.01,108815,0,0,0,{"$f":"MIN(H196*parameters!C$22,ROUND(P196+T196-V196+W196,0))","v":11778097},78.600484036101534,null,-693148,-584333,0,-3.899515963898466,null,null,"187","Millis",0.84544001082463172,82.5,7.2400000000000006E-2,11778097,-3.899515963898466]
[188,"Millville",387116000,1367939.1980006294,116189000,1781112.285962044,3149051,5982501.5685351444,0.52637696186531313,4935564,3149051,52.64,null,2721776,3.4500000000000003E-2,2815677,47.065211228844483,5.574788771155518,0.01,27218,0,0,0,{"$f":"MIN(H197*parameters!C$22,ROUND(P197+T197-V197+W197,0))","v":2842895},47.520171410437285,null,-333374,-306156,0,-5.1198285895627151,null,null,"188","Millville",0.52637696186531313,52.64,3.4500000000000003E-2,2842895,-5.1198285895627151]
[189,"Milton",7603573400,26868499.619584098,2350018000,36024459.56185139,62892959,55242350.586787038,1.1384917247718067,45574939,45574939,82.5,null,41278186,3.8699999999999998E-2,42875652,77.613735738202053,4.8862642617979475,0.01,412782,0,0,0,{"$f":"MIN(H198*parameters!C$22,ROUND(P198+T198-V198+W198,0))","v":43288434},78.36095593360541,null,-2699287,-2286505,0,-4.1390440663945895,null,null,"189","Milton",1.1384917247718067,82.5,3.8699999999999998E-2,43288434,-4.1390440663945895]
[190,"Monroe",31522700,111390.7380651134,736000,11282.467724724926,122673,308805.44413004396,0.39725012085065448,254764,122673,39.729999999999997,null,108213,3.3300000000000003E-2,111816,36.209206192916767,3.5207938070832299,0.01,1082,0,0,0,{"$f":"MIN(H199*parameters!C$22,ROUND(P199+T199-V199+W199,0))","v":112898},36.559588616726735,null,-10857,-9775,0,-3.1704113832732617,null,null,"190","Monroe",0.39725012085065448,39.729999999999997,3.3300000000000003E-2,112898,-3.1704113832732617]
[191,"Monson",925835900,3271596.1585834501,290111000,4447239.1224017292,7718835,13125173.990794443,0.58809391825310142,10828269,7718835,58.81,null,7093339,3.15E-2,7316779,55.746148623490583,3.0638513765094189,0.01,70933,0,0,0,{"$f":"MIN(H200*parameters!C$22,ROUND(P200+T200-V200+W200,0))","v":7387712},56.286583364010973,null,-402056,-331123,0,-2.5234166359890295,null,null,"191","Monson",0.58809391825310142,58.81,3.15E-2,7387712,-2.5234166359890295]
[192,"Montague",1034121100,3654240.0421825205,222810000,3415552.4915026641,7069793,14919671.479035052,0.4738571495983937,12308729,7069793,47.39,null,6326420,5.4699999999999999E-2,6672475,44.722667046496859,2.6673329535031414,0.01,63264,0,0,0,{"$f":"MIN(H201*parameters!C$22,ROUND(P201+T201-V201+W201,0))","v":6735739},45.146697830880406,null,-397318,-334054,0,-2.2433021691195947,null,null,"192","Montague",0.4738571495983937,47.39,5.4699999999999999E-2,6735739,-2.2433021691195947]
[193,"Monterey",554257700,1958562.378263036,41311000,633274.48936971661,2591837,1071299.8930136755,2.4193384288585142,{"$f":"ROUND(H202*maxloc,0)","v":883822},883822,82.5,null,927394,3.0300000000000004E-2,955494,89.190151724191651,0,0,0,71672,{"$f":"MAX(U202*(V$5),0)","v":71672},0,{"$f":"MIN(H202*parameters!C$22,ROUND(P202+T202-V202+W202,0))","v":883822},82.499961566664481,null,0,0,0,-3.8433335518561762E-5,null,null,"193","Monterey",2.4193384288585142,{"$f":"L202","v":82.5},3.0300000000000004E-2,{"$f":"X202","v":883822},-3.8433335518561762E-5]
[194,"Montgomery",130260900,{"$f":"D$5*C203","v":460298.69877979771},31507000,482984.66114525578,{"$f":"ROUND(D203+F203,0)","v":943283},{"$f":"(SUMIF(town1755,A203,found1755)/2)","v":1079630.05221094},{"$f":"IF(H203=0,0,G203/H203)","v":0.87370946933931748},890695,{"$f":"MIN(G203,J203)","v":890695},{"$f":"IF(H203>0, ROUND((K203*100/H203), 2), 0)","v":82.5},null,765322,3.73E-2,{"$f":"ROUND(N203*(1+O203),0)","v":793869},{"$f":"IF(H203=0,0,P203*100/H203)","v":73.531576707619521},{"$f":"IF(L203>Q203,L203-Q203,0)","v":8.9684232923804785},{"$f":"IF(AND(R203>$T$4,R203<=$T$5),$S$4,IF(R203>$T$5,$S$5,0))","v":0.02},{"$f":"ROUND(S203*N203,0)","v":15306},{"$f":"MAX(P203-K203,0)","v":0},0,{"$f":"IF(AND(I203>1.75,$W$5=1),MAX(K203-(P203+T203),0),0)","v":0},{"$f":"MIN(H203*parameters!C$22,ROUND(P203+T203-V203+W203,0))","v":809175},{"$f":"IF(H203=0,0,X203*100/H203)","v":74.949284557512669},null,{"$f":"IF(Q203<L203, P203-K203, 0)","v":-96826},{"$f":"-1*MAX(K203-(P203+T203+W203),0)","v":-81520},{"$f":"IF(Q203>L203, X203-K203,0)","v":0},{"$f":"Y203-L203","v":-7.5507154424873306},null,null,{"$f":"TEXT(A203,\"000\")","v":"194"},{"$f":"B203","v":"Montgomery"},{"$f":"I203","v":0.87370946933931748},82.5,{"$f":"O203","v":3.73E-2},809175,{"$f":"AD203","v":-7.5507154424873306}]
[195,"Mount Washington",98571900,348320.31182229158,6183000,{"$f":"E204*F$5","v":94781.926551595403},443102,78957.830000000016,5.6118816841850885,65140,65140,82.5,null,39508,1.66E-2,40164,50.867659356899743,31.632340643100257,0.02,790,0,0,24186,{"$f":"MIN(H204*parameters!C$22,ROUND(P204+T204-V204+W204,0))","v":65140},82.499734351868568,null,-24976,0,0,-2.6564813143181709E-4,null,null,"195","Mount Washington",5.6118816841850885,82.5,1.66E-2,65140,-2.6564813143181709E-4]
[196,"Nahant",1183644400,4182605.6563250707,249010000,3817183.815399122,7999789,3151590.4485354521,2.5383339398421874,2600062,2600062,82.5,null,2525314,3.4500000000000003E-2,2612437,82.892655078771497,0,0,0,12375,12375,0,{"$f":"MIN(H205*parameters!C$22,ROUND(P205+T205-V205+W205,0))","v":2600062},82.499996191074004,null,0,0,0,-3.8089259959406263E-6,null,null,"196","Nahant",2.5383339398421874,82.5,3.4500000000000003E-2,2600062,-3.8089259959406263E-6]
[197,"Nantucket",26748129600,94518994.185311109,1015587000,15568379.822214963,110087374,25201462.489999998,4.3682930720263924,20791207,20791207,82.5,null,18656185,7.7100000000000002E-2,20094577,79.735757430639495,2.7642425693605048,0.01,186562,0,0,510068,{"$f":"MIN(H206*parameters!C$22,ROUND(P206+T206-V206+W206,0))","v":20791207},82.500001768746557,null,-696630,0,0,1.7687465572180372E-6,null,null,"197","Nantucket",4.3682930720263924,82.5,7.7100000000000002E-2,20791207,1.7687465572180372E-6]
[198,"Natick",10516104300,37160415.178481311,2529026000,38768551.929334484,75928967,66285330.561111547,1.1454867367674593,54685398,54685398,82.5,null,50015893,4.7800000000000002E-2,52406653,79.062218678511158,3.437781321488842,0.01,500159,0,0,0,{"$f":"MIN(H207*parameters!C$22,ROUND(P207+T207-V207+W207,0))","v":52906812},79.81677326210621,null,-2278745,-1778586,0,-2.68322673789379,null,null,"198","Natick",1.1454867367674593,82.5,4.7800000000000002E-2,52906812,-2.68322673789379]
[199,"Needham",12307796200,43491658.477002226,4229882000,64841721.663580053,108333380,71608866.784237832,1.5128486857139565,59077315,59077315,82.5,null,54858753,5.9799999999999992E-2,58139306,81.190093644656471,1.3099063553435286,0,0,0,0,0,{"$f":"MIN(H208*parameters!C$22,ROUND(P208+T208-V208+W208,0))","v":58139306},81.190093644656471,null,-938009,-938009,0,-1.3099063553435286,null,null,"199","Needham",1.5128486857139565,82.5,5.9799999999999992E-2,58139306,-1.3099063553435286]
[200,"New Ashford",42627400,150631.05469381795,7844000,120244.12613144337,270875,223427.56,1.2123616262917609,184328,184328,82.5,null,195260,3.9199999999999999E-2,202914,90.818697568017129,0,0,0,18586,18586,0,{"$f":"MIN(H209*parameters!C$22,ROUND(P209+T209-V209+W209,0))","v":184328},82.500117711530308,null,0,0,0,1.1771153030792902E-4,null,null,"200","New Ashford",1.2123616262917609,82.5,3.9199999999999999E-2,184328,1.1771153030792902E-4]
[201,"New Bedford",8074839600,28533797.637937266,2109060000,32330708.396071132,60864506,296407264.03801966,0.20534080430698559,244535993,60864506,20.53,null,39285914,2.9499999999999998E-2,40444848,13.645025917722519,6.8849740822774823,0.01,392859,0,0,0,{"$f":"MIN(H210*parameters!C$22,ROUND(P210+T210-V210+W210,0))","v":40837707},13.777566191752243,null,-20419658,-20026799,0,-6.7524338082477584,null,null,"201","New Bedford",0.20534080430698559,20.53,2.9499999999999998E-2,40837707,-6.7524338082477584]
[202,"New Braintree",134349700,474747.15813767747,40438000,619891.88838644908,1094639,1788840.5311588312,0.6119265417643911,1475793,1094639,61.19,null,1034373,4.2700000000000002E-2,1078541,60.292741651001663,0.89725834899833501,0,0,0,0,0,{"$f":"MIN(H211*parameters!C$22,ROUND(P211+T211-V211+W211,0))","v":1078541},60.292741651001663,null,-16098,-16098,0,-0.89725834899833501,null,null,"202","New Braintree",0.6119265417643911,61.19,4.2700000000000002E-2,1078541,-0.89725834899833501]
[203,"Newbury",2013812100,7116142.2131814836,522180000,8004726.897414214,15120869,9016378.4550763778,1.6770446222215405,7438512,7438512,82.5,null,6527649,4.0800000000000003E-2,6793977,75.351506526158218,7.148493473841782,0.01,65276,0,0,0,{"$f":"MIN(H212*parameters!C$22,ROUND(P212+T212-V212+W212,0))","v":6859253},76.075477911401578,null,-644535,-579259,0,-6.4245220885984224,null,null,"203","Newbury",1.6770446222215405,82.5,4.0800000000000003E-2,6859253,-6.4245220885984224]
[204,"Newburyport",5656251800,19987312.72017074,1363679000,20904435.196175493,40891748,28051394.316122759,1.4577438661042652,23142400,23142400,82.5,null,21204519,4.0099999999999997E-2,22054820,78.622901063152568,3.8770989368474318,0.01,212045,0,0,0,{"$f":"MIN(H213*parameters!C$22,ROUND(P213+T213-V213+W213,0))","v":22266865},79.378817142083889,null,-1087580,-875535,0,-3.1211828579161107,null,null,"204","Newburyport",1.4577438661042652,82.5,4.0099999999999997E-2,22266865,-3.1211828579161107]
[205,"New Marlborough",606394600,2142796.8433128893,55023000,843471.76850209187,2986269,1627819.3179774729,1.8345211701445887,1342951,1342951,82.5,null,1229336,4.1700000000000001E-2,1280599,78.669603306533674,3.8303966934663265,0.01,12293,0,0,50059,{"$f":"MIN(H214*parameters!C$22,ROUND(P214+T214-V214+W214,0))","v":1342951},82.500003849848952,null,-62352,0,0,3.8498489516314294E-6,null,null,"205","New Marlborough",1.8345211701445887,82.5,4.1700000000000001E-2,1342951,3.8498489516314294E-6]
[206,"New Salem",134880400,476622.47543889709,29458000,451574.63890617783,928197,1434663.9199121594,0.64697870150441295,1183598,928197,64.7,null,812645,5.5199999999999999E-2,857503,59.7703049542434,4.9296950457566027,0.01,8126,0,0,0,{"$f":"MIN(H215*parameters!C$22,ROUND(P215+T215-V215+W215,0))","v":865629},60.336709384383212,null,-70694,-62568,0,-4.3632906156167905,null,null,"206","New Salem",0.64697870150441295,64.7,5.5199999999999999E-2,865629,-4.3632906156167905]
[207,"Newton",36300210300,128272870.57377164,14309722000,219360022.5744378,347632893,156764603.61603001,2.2175471055409393,129330798,129330798,82.5,null,122440896,4.3200000000000002E-2,127730343,81.479071202103242,1.0209287978967581,0,0,0,0,1600455,{"$f":"MIN(H216*parameters!C$22,ROUND(P216+T216-V216+W216,0))","v":129330798},82.500000010700916,null,-1600455,0,0,1.0700915709094261E-8,null,null,"207","Newton",2.2175471055409393,82.5,4.3200000000000002E-2,129330798,1.0700915709094261E-8]
[208,"Norfolk",2184884400,7720654.8266155012,779309000,11946370.434901709,19667025,21814735.770729467,0.90154770640810522,17997157,17997157,82.5,null,16039955,4.4699999999999997E-2,16756941,76.814778671232389,5.6852213287676108,0.01,160400,0,0,0,{"$f":"MIN(H217*parameters!C$22,ROUND(P217+T217-V217+W217,0))","v":16917341},77.550061471289126,null,-1240216,-1079816,0,-4.9499385287108737,null,null,"208","Norfolk",0.90154770640810522,82.5,4.4699999999999997E-2,16917341,-4.9499385287108737]
[209,"North Adams",884487200,3125483.604423021,248498000,3809335.1421993133,6934819,25224841.119507838,0.27492022515205855,20810494,6934819,27.49,null,6202224,3.5499999999999997E-2,6422403,25.460628154494824,2.0293718455051746,0,0,0,0,0,{"$f":"MIN(H218*parameters!C$22,ROUND(P218+T218-V218+W218,0))","v":6422403},25.460628154494824,null,-512416,-512416,0,-2.0293718455051746,null,null,"209","North Adams",0.27492022515205855,27.49,3.5499999999999997E-2,6422403,-2.0293718455051746]
[210,"Northampton",4233284000,14959017.761779146,1289606000,19768937.598657083,34727955,39260190.660000004,0.8845590002542284,32389657,32389657,82.5,null,29322999,4.5400000000000003E-2,30654263,78.079760909648101,4.4202390903518989,0.01,293230,0,0,0,{"$f":"MIN(H219*parameters!C$22,ROUND(P219+T219-V219+W219,0))","v":30947493},78.826649793962048,null,-1735394,-1442164,0,-3.6733502060379521,null,null,"210","Northampton",0.8845590002542284,82.5,4.5400000000000003E-2,30947493,-3.6733502060379521]
[211,"North Andover",6388823400,22575977.117875919,2057481000,31540031.218389627,54116008,58535253.791037403,0.92450283368013597,48291584,48291584,82.5,null,44352061,3.5999999999999997E-2,45948735,78.497541266380253,4.002458733619747,0.01,443521,0,0,0,{"$f":"MIN(H220*parameters!C$22,ROUND(P220+T220-V220+W220,0))","v":46392256},79.255240210649475,null,-2342849,-1899328,0,-3.2447597893505247,null,null,"211","North Andover",0.92450283368013597,82.5,3.5999999999999997E-2,46392256,-3.2447597893505247]
[212,"North Attleborough",4784669200,16907429.680370517,1414847000,21688811.974081367,38596242,56732897.715284914,0.680315012176814,46804641,38596242,68.03,null,33820299,3.61E-2,35041212,61.765242762417962,6.2647572375820388,0.01,338203,0,0,0,{"$f":"MIN(H221*parameters!C$22,ROUND(P221+T221-V221+W221,0))","v":35379415},62.361374836787363,null,-3555030,-3216827,0,-5.6686251632126385,null,null,"212","North Attleborough",0.680315012176814,68.03,3.61E-2,35379415,-5.6686251632126385]
[213,"Northborough",3635129100,12845337.277928965,1008916000,15466117.129019801,28311454,31094826.768032208,0.91048759368250531,25653232,25653232,82.5,null,23796705,4.0899999999999999E-2,24769990,79.659520809633165,2.8404791903668354,0.01,237967,0,0,0,{"$f":"MIN(H222*parameters!C$22,ROUND(P222+T222-V222+W222,0))","v":25007957},80.424815312719602,null,-883242,-645275,0,-2.0751846872803981,null,null,"213","Northborough",0.91048759368250531,82.5,4.0899999999999999E-2,25007957,-2.0751846872803981]
[214,"Northbridge",2148275600,7591291.502671863,708968000,10868082.306878779,18459374,30847567.998604532,0.59840613693873879,25449244,18459374,59.84,null,15067404,3.4099999999999998E-2,15581202,50.510309275288265,9.3296907247117389,0.02,301348,0,0,0,{"$f":"MIN(H223*parameters!C$22,ROUND(P223+T223-V223+W223,0))","v":15882550},51.487203142622093,null,-2878172,-2576824,0,-8.3527968573779106,null,null,"214","Northbridge",0.59840613693873879,59.84,3.4099999999999998E-2,15882550,-8.3527968573779106]
[215,"North Brookfield",548749600,1939098.5847321376,153571000,2354157.4061871353,4293256,9251831.9914026856,0.46404387844369971,7632761,4293256,46.4,null,3605410,3.5999999999999997E-2,3735205,40.372598675278141,6.0274013247218576,0.01,36054,0,0,0,{"$f":"MIN(H224*parameters!C$22,ROUND(P224+T224-V224+W224,0))","v":3771259},40.762294467781757,null,-558051,-521997,0,-5.6377055322182414,null,null,"215","North Brookfield",0.46404387844369971,46.4,3.5999999999999997E-2,3771259,-5.6377055322182414]
[216,"Northfield",612926000,2165876.6387174227,100927000,1547154.3750724355,3713031,4799912.8200170882,0.77356217482024625,3959928,3713031,77.36,null,3142938,4.24E-2,3276199,68.255385521529874,9.1046144784701255,0.02,62859,0,0,0,{"$f":"MIN(H225*parameters!C$22,ROUND(P225+T225-V225+W225,0))","v":3339058},69.56497180688612,null,-436832,-373973,0,-7.795028193113879,null,null,"216","Northfield",0.77356217482024625,77.36,4.24E-2,3339058,-7.795028193113879]
[217,"North Reading",4047916800,14303991.725904571,1105702000,16949792.293700814,31253784,29982474.391696006,1.042401757496576,24735541,24735541,82.5,null,22398082,4.99E-2,23515746,78.43163873930618,4.0683612606938198,0.01,223981,0,0,0,{"$f":"MIN(H226*parameters!C$22,ROUND(P226+T226-V226+W226,0))","v":23739727},79.178678483504328,null,-1219795,-995814,0,-3.3213215164956722,null,null,"217","North Reading",1.042401757496576,82.5,4.99E-2,23739727,-3.3213215164956722]
[218,"Norton",3164775400,11183263.731099,814052000,12478961.163380129,23662225,31655778.064713079,0.74748518111379014,26116017,23662225,74.75,null,21660812,4.1000000000000009E-2,22548905,71.2315614353369,3.5184385646631,0.01,216608,0,0,0,{"$f":"MIN(H227*parameters!C$22,ROUND(P227+T227-V227+W227,0))","v":22765513},71.915821981886083,null,-1113320,-896712,0,-2.8341780181139171,null,null,"218","Norton",0.74748518111379014,74.75,4.1000000000000009E-2,22765513,-2.8341780181139171]
[219,"Norwell",3200575000,11309767.611364201,1236399000,18953304.092910562,30263072,26497418.365486931,1.1421139819197579,21860370,21860370,82.5,null,20395664,3.8300000000000001E-2,21176818,79.920306604597187,2.5796933954028134,0.01,203957,0,0,0,{"$f":"MIN(H228*parameters!C$22,ROUND(P228+T228-V228+W228,0))","v":21380775},80.690030647848346,null,-683552,-479595,0,-1.8099693521516542,null,null,"219","Norwell",1.1421139819197579,82.5,3.8300000000000001E-2,21380775,-1.8099693521516542]
[220,"Norwood",7062039200,24954897.858773611,1499284000,22983183.886136528,47938082,56033588.595948875,0.8555240383705468,46227711,46227711,82.5,null,37786981,9.7999999999999997E-3,38157293,68.097178774587178,14.402821225412822,0.02,755740,0,0,0,{"$f":"MIN(H229*parameters!C$22,ROUND(P229+T229-V229+W229,0))","v":38913033},69.44590552748096,null,-8070418,-7314678,0,-13.05409447251904,null,null,"220","Norwood",0.8555240383705468,82.5,9.7999999999999997E-3,38913033,-13.05409447251904]
[221,"Oak Bluffs",4343520600,15348557.243986847,152451000,2336988.433562554,17685546,10721884.08452091,1.6494811789219459,8845554,8845554,82.5,null,7014641,4.7500000000000001E-2,7347836,68.531201625356189,13.968798374643811,0.02,140293,0,0,0,{"$f":"MIN(H230*parameters!C$22,ROUND(P230+T230-V230+W230,0))","v":7488129},69.839675013932919,null,-1497718,-1357425,0,-12.660324986067081,null,null,"221","Oak Bluffs",1.6494811789219459,82.5,4.7500000000000001E-2,7488129,-12.660324986067081]
[222,"Oakham",269560200,952536.09719280328,71567000,1097082.0212709086,2049618,3636126.6475145547,0.56368168622536841,2999804,2049618,56.37,null,1786655,4.1599999999999998E-2,1860980,51.180285518164169,5.1897144818358285,0.01,17867,0,0,0,{"$f":"MIN(H231*parameters!C$22,ROUND(P231+T231-V231+W231,0))","v":1878847},51.671660041991963,null,-188638,-170771,0,-4.6983399580080345,null,null,"222","Oakham",0.56368168622536841,56.37,4.1599999999999998E-2,1878847,-4.6983399580080345]
[223,"Orange",704170400,2488304.0024999804,172968000,2651502.5508291046,5139807,18048817.774704989,0.28477250223021938,14890275,5139807,28.48,null,4346949,4.130000000000001E-2,4526478,25.079083054092091,3.4009169459079089,0.01,43469,0,0,0,{"$f":"MIN(H232*parameters!C$22,ROUND(P232+T232-V232+W232,0))","v":4569947},25.319924313295896,null,-613329,-569860,0,-3.1600756867041042,null,null,"223","Orange",0.28477250223021938,28.48,4.130000000000001E-2,4569947,-3.1600756867041042]
[224,"Orleans",4865120300,17191717.111559793,372801000,5714830.5030505126,22906548,6020965.7554155272,3.8044640894024053,4967297,4967297,82.5,null,4882566,3.0899999999999997E-2,5033437,83.598499052626238,0,0,0,66140,66140,0,{"$f":"MIN(H233*parameters!C$22,ROUND(P233+T233-V233+W233,0))","v":4967297},82.500004181757546,null,0,0,0,4.1817575464619949E-6,null,null,"224","Orleans",3.8044640894024053,82.5,3.0899999999999997E-2,4967297,4.1817575464619949E-6]
[225,"Otis",755586300,2669990.6933380766,67044000,1027746.9648593179,3697738,1750236.4864413003,2.1127076418790081,1443945,1443945,82.5,null,1370021,5.6500000000000002E-2,1447427,82.69893875558536,0,0,0,3482,3482,0,{"$f":"MIN(H234*parameters!C$22,ROUND(P234+T234-V234+W234,0))","v":1443945},82.499994211406658,null,0,0,0,-5.7885933415491309E-6,null,null,"225","Otis",2.1127076418790081,82.5,5.6500000000000002E-2,1443945,-5.7885933415491309E-6]
[226,"Oxford",1732020300,6120383.7095413506,474291000,7270615.3527547689,13390999,25044218.147095639,0.53469423247109615,20661480,13390999,53.47,null,11940736,4.0599999999999997E-2,12425530,49.614365787022905,3.855634212977094,0.01,119407,0,0,0,{"$f":"MIN(H235*parameters!C$22,ROUND(P235+T235-V235+W235,0))","v":12544937},50.091150485585544,null,-965469,-846062,0,-3.3788495144144548,null,null,"226","Oxford",0.53469423247109615,53.47,4.0599999999999997E-2,12544937,-3.3788495144144548]
[227,"Palmer",1131204500,3997300.4900461435,357645000,5482497.5127843022,9479798,23017348.997647643,0.4118544668618801,18989313,9479798,41.19,null,8544369,2.2200000000000001E-2,8734054,37.945525355211906,3.2444746447880917,0.01,85444,0,0,0,{"$f":"MIN(H236*parameters!C$22,ROUND(P236+T236-V236+W236,0))","v":8819498},38.316740997850566,null,-745744,-660300,0,-2.8732590021494318,null,null,"227","Palmer",0.4118544668618801,41.19,2.2200000000000001E-2,8819498,-2.8732590021494318]
[228,"Paxton",657742900,2324244.6582332123,214686000,3291016.1222150754,5615261,8643256.2661114074,0.64966961838403303,7130686,5615261,64.97,null,5093579,2.9300000000000003E-2,5242821,60.657937686704045,4.3120623132959537,0.01,50936,0,0,0,{"$f":"MIN(H237*parameters!C$22,ROUND(P237+T237-V237+W237,0))","v":5293757},61.247252621165842,null,-372440,-321504,0,-3.722747378834157,null,null,"228","Paxton",0.64966961838403303,64.97,2.9300000000000003E-2,5293757,-3.722747378834157]
[229,"Peabody",9902814600,34993253.344922252,2079327000,31874918.161208026,66868172,98710513.225082919,0.67741692161527944,81436173,66868172,67.739999999999995,null,57004880,4.0099999999999997E-2,59290776,60.065310231751347,7.6746897682486477,0.02,1140098,0,0,0,{"$f":"MIN(H238*parameters!C$22,ROUND(P238+T238-V238+W238,0))","v":60430874},61.220301693907274,null,-7577396,-6437298,0,-6.5196983060927209,null,null,"229","Peabody",0.67741692161527944,67.739999999999995,4.0099999999999997E-2,60430874,-6.5196983060927209]
[230,"Pelham",202643200,716073.67426890426,53448000,819327.90074877429,1535402,1865998.5418504383,0.8228312967905117,1539449,1535402,82.28,null,1303937,3.3399999999999999E-2,1347488,72.21270380328103,10.067296196718971,0.02,26079,0,0,0,{"$f":"MIN(H239*parameters!C$22,ROUND(P239+T239-V239+W239,0))","v":1373567},73.610293319837581,null,-187914,-161835,0,-8.6697066801624203,null,null,"230","Pelham",0.8228312967905117,82.28,3.3399999999999999E-2,1373567,-8.6697066801624203]
[231,"Pembroke",3412515200,12058693.791661819,876676000,13438952.004131725,25497646,33926554.381990001,0.75155424606088184,27989407,25497646,75.16,null,22712411,4.1599999999999998E-2,23657247,69.730768216646581,5.4292317833534156,0.01,227124,0,0,0,{"$f":"MIN(H240*parameters!C$22,ROUND(P240+T240-V240+W240,0))","v":23884371},70.400226121044227,null,-1840399,-1613275,0,-4.7597738789557695,null,null,"231","Pembroke",0.75155424606088184,75.16,4.1599999999999998E-2,23884371,-4.7597738789557695]
[232,"Pepperell",1671752500,5907417.3480443768,521788000,7998717.7569956109,13906135,22489549.803432509,0.61833763332503655,18553879,13906135,61.83,null,12032456,4.0399999999999998E-2,12518567,55.663928844361884,6.1660711556381145,0.01,120325,0,0,0,{"$f":"MIN(H241*parameters!C$22,ROUND(P241+T241-V241+W241,0))","v":12638892},56.198955116793691,null,-1387568,-1267243,0,-5.6310448832063074,null,null,"232","Pepperell",0.61833763332503655,61.83,4.0399999999999998E-2,12638892,-5.6310448832063074]
[233,"Peru",114245700,403706.30827199214,24535000,376107.80655723647,779814,1417149.1983608697,0.55026951354307896,1169148,779814,55.03,null,595790,4.5600000000000002E-2,622958,43.958533139667836,11.071466860332166,0.02,11916,0,0,0,{"$f":"MIN(H242*parameters!C$22,ROUND(P242+T242-V242+W242,0))","v":634874},44.799376151383363,null,-156856,-144940,0,-10.230623848616638,null,null,"233","Peru",0.55026951354307896,55.03,4.5600000000000002E-2,634874,-10.230623848616638]
[234,"Petersham",190689500,673833.27399833908,48210000,739032.29484916944,1412866,2234411.7668806734,0.63232123144983987,1843390,1412866,63.23,null,1195130,3.1399999999999997E-2,1232657,55.166957956045749,8.0630420439542476,0.02,23903,0,0,0,{"$f":"MIN(H243*parameters!C$22,ROUND(P243+T243-V243+W243,0))","v":1256560},56.236724968299249,null,-180209,-156306,0,-6.9932750317007475,null,null,"234","Petersham",0.63232123144983987,63.23,3.1399999999999997E-2,1256560,-6.9932750317007475]
[235,"Phillipston",265707500,938921.93671341985,60855000,932873.06166866212,1871795,3275851.6065717419,0.57139187753345122,2702578,1871795,57.14,null,1526484,8.929999999999999E-2,1662799,50.759289482595321,6.3807105174046796,0.01,15265,0,0,0,{"$f":"MIN(H244*parameters!C$22,ROUND(P244+T244-V244+W244,0))","v":1678064},51.225275181379011,null,-208996,-193731,0,-5.9147248186209893,null,null,"235","Phillipston",0.57139187753345122,57.14,8.929999999999999E-2,1678064,-5.9147248186209893]
[236,"Pittsfield",4240409000,14984195.142165788,1273434000,19521029.897510003,34505225,92916030.260000005,0.3713592251352818,76655725,34505225,37.14,null,30474674,4.2299999999999997E-2,31763753,34.18543916600597,2.9545608339940301,0.01,304747,0,0,0,{"$f":"MIN(H245*parameters!C$22,ROUND(P245+T245-V245+W245,0))","v":32068500},34.513420246501177,null,-2741472,-2436725,0,-2.6265797534988238,null,null,"236","Pittsfield",0.3713592251352818,37.14,4.2299999999999997E-2,32068500,-2.6265797534988238]
[237,"Plainfield",120158000,424598.41017514031,16924000,259435.43990929978,684034,912634.81985028903,0.74951556210863257,752924,684034,74.95,null,604526,6.5000000000000002E-2,643820,70.545193542540261,4.4048064574597419,0.01,6045,0,0,0,{"$f":"MIN(H246*parameters!C$22,ROUND(P246+T246-V246+W246,0))","v":649865},71.207561432578856,null,-40214,-34169,0,-3.7424385674211464,null,null,"237","Plainfield",0.74951556210863257,74.95,6.5000000000000002E-2,649865,-3.7424385674211464]
[238,"Plainville",1865402800,6591713.1045478061,447986000,6867374.4376747562,13459088,17108448.642839555,0.78669248632505717,14114470,13459088,78.67,null,11785144,5.57E-2,12441577,72.721830364246415,5.9481696357535867,0.01,117851,0,0,0,{"$f":"MIN(H247*parameters!C$22,ROUND(P247+T247-V247+W247,0))","v":12559428},73.410677158367193,null,-1017511,-899660,0,-5.2593228416328088,null,null,"238","Plainville",0.78669248632505717,78.67,5.57E-2,12559428,-5.2593228416328088]
[239,"Plymouth",13647134600,48224434.949035019,2769957000,42461889.200238973,90686324,111949866.57694001,0.8100619212232274,92358640,90686324,81.010000000000005,null,79081066,4.82E-2,82892773,74.044548273784784,6.9654517262152211,0.01,790811,0,0,0,{"$f":"MIN(H248*parameters!C$22,ROUND(P248+T248-V248+W248,0))","v":83683584},74.750945721303395,null,-7793551,-7002740,0,-6.2590542786966097,null,null,"239","Plymouth",0.8100619212232274,81.010000000000005,4.82E-2,83683584,-6.2590542786966097]
[240,"Plympton",654578500,2313062.7210408635,147151000,2255742.4023926598,4568805,5925076.827402248,0.77109633057755933,4888188,4568805,77.11,null,3873441,4.7600000000000003E-2,4057817,68.485474842004422,8.6245251579955777,0.02,77469,0,0,0,{"$f":"MIN(H249*parameters!C$22,ROUND(P249+T249-V249+W249,0))","v":4135286},69.792951559297293,null,-510988,-433519,0,-7.3170484407027061,null,null,"240","Plympton",0.77109633057755933,77.11,4.7600000000000003E-2,4135286,-7.3170484407027061]
[241,"Princeton",639721900,2260564.4376089824,244599000,3749565.6562499893,6010130,5552294.3795485226,1.0824588159694633,4580643,4580643,82.5,null,4233364,3.5099999999999999E-2,4381955,78.921517852882886,3.5784821471171142,0.01,42334,0,0,0,{"$f":"MIN(H250*parameters!C$22,ROUND(P250+T250-V250+W250,0))","v":4424289},79.683977425558538,null,-198688,-156354,0,-2.8160225744414618,null,null,"241","Princeton",1.0824588159694633,82.5,3.5099999999999999E-2,4424289,-2.8160225744414618]
[242,"Provincetown",4042523100,14284932.183926828,262782000,4028300.8609221,18313233,1904747.7862787198,9.6145185897699967,1571417,1571417,82.5,null,1384874,3.8300000000000001E-2,1437915,75.491097055386803,7.0089029446131974,0.01,13849,0,0,119653,{"$f":"MIN(H251*parameters!C$22,ROUND(P251+T251-V251+W251,0))","v":1571417},82.500004006832654,null,-133502,0,0,4.0068326541131682E-6,null,null,"242","Provincetown",9.6145185897699967,82.5,3.8300000000000001E-2,1571417,4.0068326541131682E-6]
[243,"Quincy",20526193400,72532740.929338515,3992839000,61207985.254786618,133740726,164412915.73983234,0.81344415916588853,135640655,133740726,81.34,null,111609788,4.8099999999999997E-2,116978219,71.149044753337265,10.190955246662739,0.02,2232196,0,0,0,{"$f":"MIN(H252*parameters!C$22,ROUND(P252+T252-V252+W252,0))","v":119210415},72.506721545306718,null,-16762507,-14530311,0,-8.8332784546932857,null,null,"243","Quincy",0.81344415916588853,81.34,4.8099999999999997E-2,119210415,-8.8332784546932857]
[244,"Randolph",4869345300,17206646.856420644,1122872000,17212998.775811587,34419646,56584891.281043477,0.60828332830129406,46682535,34419646,60.83,null,28062109,3.2099999999999997E-2,28962903,51.184869926051924,9.6451300739480743,0.02,561242,0,0,0,{"$f":"MIN(H253*parameters!C$22,ROUND(P253+T253-V253+W253,0))","v":29524145},52.176728330820161,null,-5456743,-4895501,0,-8.653271669179837,null,null,"244","Randolph",0.60828332830129406,60.83,3.2099999999999997E-2,29524145,-8.653271669179837]
[245,"Raynham",2735332900,9665756.758932041,680558000,10432572.92092846,20098330,32705417.804005865,0.61452601279835328,26981970,20098330,61.45,null,17852558,4.9599999999999998E-2,18738045,57.293397419019989,4.1566025809800138,0.01,178526,0,0,0,{"$f":"MIN(H254*parameters!C$22,ROUND(P254+T254-V254+W254,0))","v":18916571},57.839258050031816,null,-1360285,-1181759,0,-3.6107419499681868,null,null,"245","Raynham",0.61452601279835328,61.45,4.9599999999999998E-2,18916571,-3.6107419499681868]
[246,"Reading",6543953300,23124154.591790501,1843810000,28264574.47761558,51388729,46777585.33851219,1.0985759232358545,38591508,38591508,82.5,null,36224458,4.5199999999999997E-2,37861804,80.940056495024365,1.5599435049756352,0,0,0,0,0,{"$f":"MIN(H255*parameters!C$22,ROUND(P255+T255-V255+W255,0))","v":37861804},80.940056495024365,null,-729704,-729704,0,-1.5599435049756352,null,null,"246","Reading",1.0985759232358545,82.5,4.5199999999999997E-2,37861804,-1.5599435049756352]
[247,"Rehoboth",2389985700,8445414.6087761112,648092000,9934887.3269734066,18380302,20791428.456209742,0.88403266945857129,17152928,17152928,82.5,null,16034423,5.0200000000000002E-2,16839351,80.991794457348206,1.508205542651794,0,0,0,0,0,{"$f":"MIN(H256*parameters!C$22,ROUND(P256+T256-V256+W256,0))","v":16839351},80.991794457348206,null,-313577,-313577,0,-1.508205542651794,null,null,"247","Rehoboth",0.88403266945857129,82.5,5.0200000000000002E-2,16839351,-1.508205542651794]
[248,"Revere",9389475300,33179282.983727664,1670752000,25611692.277200568,58790975,148855794.15998852,0.39495254673669017,122806030,58790975,39.5,null,42781954,6.4199999999999993E-2,45528555,30.585678748296775,8.9143212517032246,0.02,855639,0,0,0,{"$f":"MIN(H257*parameters!C$22,ROUND(P257+T257-V257+W257,0))","v":46384194},31.160489426529676,null,-13262420,-12406781,0,-8.3395105734703243,null,null,"248","Revere",0.39495254673669017,39.5,6.4199999999999993E-2,46384194,-8.3395105734703243]
[249,"Richmond",507363800,1792854.9315103269,73190000,1121961.7021367084,2914817,1653453.7499999998,1.7628657590210797,1364099,1364099,82.5,null,1118062,2.7699999999999999E-2,1149032,69.492841877191921,13.007158122808079,0.02,22361,0,0,192706,{"$f":"MIN(H258*parameters!C$22,ROUND(P258+T258-V258+W258,0))","v":1364099},82.49997921018354,null,-215067,0,0,-2.0789816460364818E-5,null,null,"249","Richmond",1.7628657590210797,82.5,2.7699999999999999E-2,1364099,-2.0789816460364818E-5]
[250,"Rochester",1249707700,4416051.3873702222,287999000,4414863.3454525191,8830915,12493044.872696714,0.70686650772381188,10306762,8830915,70.69,null,7305591,4.5499999999999999E-2,7637995,61.137977793489533,9.5520222065104647,0.02,146112,0,0,0,{"$f":"MIN(H259*parameters!C$22,ROUND(P259+T259-V259+W259,0))","v":7784107},62.307524541210938,null,-1192920,-1046808,0,-8.3824754587890595,null,null,"250","Rochester",0.70686650772381188,70.69,4.5499999999999999E-2,7784107,-8.3824754587890595]
[251,"Rockland",2667214100,9425047.5744995568,626214000,9599509.8420800194,19024557,37680124.029530369,0.50489634760995539,31086102,19024557,50.49,null,16775979,4.130000000000001E-2,17468827,46.360853234743786,4.1291467652562162,0.01,167760,0,0,0,{"$f":"MIN(H260*parameters!C$22,ROUND(P260+T260-V260+W260,0))","v":17636587},46.806074699164988,null,-1555730,-1387970,0,-3.6839253008350141,null,null,"251","Rockland",0.50489634760995539,50.49,4.130000000000001E-2,17636587,-3.6839253008350141]
[252,"Rockport",2710915200,9579472.7279051133,387948000,5947025.5283581326,15526498,8366217.7532647569,1.8558563090162314,6902130,6902130,82.5,null,6579114,3.8199999999999998E-2,6830436,81.643057848148317,0.85694215185168332,0,0,0,0,71694,{"$f":"MIN(H261*parameters!C$22,ROUND(P261+T261-V261+W261,0))","v":6902130},82.500004226002545,null,-71694,0,0,4.2260025452378613E-6,null,null,"252","Rockport",1.8558563090162314,82.5,3.8199999999999998E-2,6902130,4.2260025452378613E-6]
[253,"Rowe",539813700,1907522.086009755,14896000,228347.33590693274,2135869,751366.82,2.8426448216065756,619878,619878,82.5,null,567127,5.779999999999999E-2,599907,79.842093639429009,2.6579063605709905,0.01,5671,0,0,14300,{"$f":"MIN(H262*parameters!C$22,ROUND(P262+T262-V262+W262,0))","v":619878},82.500049709408259,null,-19971,0,0,4.9709408258991061E-5,null,null,"253","Rowe",2.8426448216065756,82.5,5.779999999999999E-2,619878,4.9709408258991061E-5]
[254,"Rowley",1360711500,4808301.8992246082,334912000,5134013.3568248292,9942315,10504395.096234076,0.94649096010910838,8666126,8666126,82.5,null,7241208,4.7899999999999998E-2,7588062,72.237020128083259,10.262979871916741,0.02,144824,0,0,0,{"$f":"MIN(H263*parameters!C$22,ROUND(P263+T263-V263+W263,0))","v":7732886},73.615719221874201,null,-1078064,-933240,0,-8.8842807781257989,null,null,"254","Rowley",0.94649096010910838,82.5,4.7899999999999998E-2,7732886,-8.8842807781257989]
[255,"Royalston",173106900,611702.21317221492,33315000,510700.28838208003,1122403,2012593.0112287703,0.55769000177275141,1660389,1122403,55.77,null,675692,3.8899999999999997E-2,701976,34.879183028237534,20.890816971762469,0.02,13514,0,0,0,{"$f":"MIN(H264*parameters!C$22,ROUND(P264+T264-V264+W264,0))","v":715490},35.550655100564228,null,-420427,-406913,0,-20.219344899435775,null,null,"255","Royalston",0.55769000177275141,55.77,3.8899999999999997E-2,715490,-20.219344899435775]
[256,"Russell",189182200,668506.97709212394,53245000,816216.02446056891,1484723,3321674.8743208013,0.44698023020798761,2740382,1484723,44.7,null,1237365,5.8099999999999999E-2,1309256,39.415537327918337,5.2844626720816663,0.01,12374,0,0,0,{"$f":"MIN(H265*parameters!C$22,ROUND(P265+T265-V265+W265,0))","v":1321630},39.788060240851834,null,-175467,-163093,0,-4.9119397591481686,null,null,"256","Russell",0.44698023020798761,44.7,5.8099999999999999E-2,1321630,-4.9119397591481686]
[257,"Rutland",1250864000,4420137.3670110749,383604000,5880434.4416785063,10300572,21391193.317818638,0.48153330424159796,{"$f":"ROUND(H266*maxloc,0)","v":17647734},10300572,48.15,null,8694199,4.99E-2,9128040,42.671953192982642,5.4780468070173569,0.01,86942,0,{"$f":"MAX(U266*(V$5),0)","v":0},0,{"$f":"MIN(H266*parameters!C$22,ROUND(P266+T266-V266+W266,0))","v":9214982},43.078391481432767,null,-1172532,-1085590,0,-5.0716085185672313,null,null,"257","Rutland",0.48153330424159796,{"$f":"L266","v":48.15},4.99E-2,{"$f":"X266","v":9214982},-5.0716085185672313]
[258,"Salem",7783083000,{"$f":"D$5*C267","v":27502826.84516355},1603931000,24587363.777426325,{"$f":"ROUND(D267+F267,0)","v":52090191},{"$f":"(SUMIF(town1755,A267,found1755)/2)","v":73623245.285938039},{"$f":"IF(H267=0,0,G267/H267)","v":0.707523701212736},60739177,{"$f":"MIN(G267,J267)","v":52090191},{"$f":"IF(H267>0, ROUND((K267*100/H267), 2), 0)","v":70.75},null,42002120,4.4699999999999997E-2,{"$f":"ROUND(N267*(1+O267),0)","v":43879615},{"$f":"IF(H267=0,0,P267*100/H267)","v":59.600218422293537},{"$f":"IF(L267>Q267,L267-Q267,0)","v":11.149781577706463},{"$f":"IF(AND(R267>$T$4,R267<=$T$5),$S$4,IF(R267>$T$5,$S$5,0))","v":0.02},{"$f":"ROUND(S267*N267,0)","v":840042},{"$f":"MAX(P267-K267,0)","v":0},0,{"$f":"IF(AND(I267>1.75,$W$5=1),MAX(K267-(P267+T267),0),0)","v":0},{"$f":"MIN(H267*parameters!C$22,ROUND(P267+T267-V267+W267,0))","v":44719657},{"$f":"IF(H267=0,0,X267*100/H267)","v":60.741219469907563},null,{"$f":"IF(Q267<L267, P267-K267, 0)","v":-8210576},{"$f":"-1*MAX(K267-(P267+T267+W267),0)","v":-7370534},{"$f":"IF(Q267>L267, X267-K267,0)","v":0},{"$f":"Y267-L267","v":-10.008780530092437},null,null,{"$f":"TEXT(A267,\"000\")","v":"258"},{"$f":"B267","v":"Salem"},{"$f":"I267","v":0.707523701212736},70.75,{"$f":"O267","v":4.4699999999999997E-2},44719657,{"$f":"AD267","v":-10.008780530092437}]
[259,"Salisbury",2258891500,7982171.3049329882,338207000,{"$f":"E268*F$5","v":5184523.8611087538},13166695,12889794.636840302,1.0214821392396967,10634081,10634081,82.5,null,9327982,3.85E-2,9687109,75.153323019695662,7.3466769803043377,0.01,93280,0,0,0,{"$f":"MIN(H268*parameters!C$22,ROUND(P268+T268-V268+W268,0))","v":9780389},75.876996302537549,null,-946972,-853692,0,-6.6230036974624511,null,null,"259","Salisbury",1.0214821392396967,82.5,3.85E-2,9780389,-6.6230036974624511]
[260,"Sandisfield",262006000,925842.06674834643,23171000,355198.45061087125,1281041,1219861.7935586995,1.0501525720080327,1006386,1006386,82.5,null,861252,3.3399999999999999E-2,890018,72.960560343770823,9.5394396562291774,0.02,17225,0,0,0,{"$f":"MIN(H269*parameters!C$22,ROUND(P269+T269-V269+W269,0))","v":907243},74.372605551757005,null,-116368,-99143,0,-8.1273944482429954,null,null,"260","Sandisfield",1.0501525720080327,82.5,3.3399999999999999E-2,907243,-8.1273944482429954]
[261,"Sandwich",5437055800,19212746.955787595,1185302000,18170015.705233566,37382763,32345011.084677584,1.1557505082355308,26684634,26684634,82.5,null,25902231,4.130000000000001E-2,26971993,83.388417859523074,0,0,0,287359,287359,0,{"$f":"MIN(H270*parameters!C$22,ROUND(P270+T270-V270+W270,0))","v":26684634},82.499999552144203,null,0,0,0,-4.4785579689232691E-7,null,null,"261","Sandwich",1.1557505082355308,82.5,4.130000000000001E-2,26684634,-4.4785579689232691E-7]
[262,"Saugus",6097491800,21546508.133756842,1170953000,17950053.572920959,39496562,45397574.98802913,0.8700147972752913,37452999,37452999,82.5,null,30586542,4.1399999999999999E-2,31852825,70.164155262476598,12.335844737523402,0.02,611731,0,0,0,{"$f":"MIN(H271*parameters!C$22,ROUND(P271+T271-V271+W271,0))","v":32464556},71.511652348303997,null,-5600174,-4988443,0,-10.988347651696003,null,null,"262","Saugus",0.8700147972752913,82.5,4.1399999999999999E-2,32464556,-10.988347651696003]
[263,"Savoy",82500500,291529.32920533099,21448000,328785.82576073398,620315,766894.44147647824,0.80886620954733568,632688,620315,80.89,null,546049,3.7400000000000003E-2,566471,73.86557645526689,7.0244235447331107,0.01,5460,0,0,0,{"$f":"MIN(H272*parameters!C$22,ROUND(P272+T272-V272+W272,0))","v":571931},74.577538846008437,null,-53844,-48384,0,-6.3124611539915634,null,null,"263","Savoy",0.80886620954733568,80.89,3.7400000000000003E-2,571931,-6.3124611539915634]
[264,"Scituate",5952520200,21034226.713622134,1517746000,23266196.004524942,44300423,35128291.653431498,1.2611038258580538,28980841,28980841,82.5,null,27074909,0.05,28428654,80.928085773345472,1.5719142266545276,0,0,0,0,0,{"$f":"MIN(H273*parameters!C$22,ROUND(P273+T273-V273+W273,0))","v":28428654},80.928085773345472,null,-552187,-552187,0,-1.5719142266545276,null,null,"264","Scituate",1.2611038258580538,82.5,0.05,28428654,-1.5719142266545276]
[265,"Seekonk",2959677700,10458516.670141114,699485000,10722713.228844041,21181230,28015932.34233249,0.75604230268627703,23113144,21181230,75.599999999999994,null,18742917,3.6600000000000001E-2,19428908,69.34949643150955,6.2505035684904442,0.01,187429,0,0,0,{"$f":"MIN(H274*parameters!C$22,ROUND(P274+T274-V274+W274,0))","v":19616337},70.018505043144415,null,-1752322,-1564893,0,-5.5814949568555789,null,null,"265","Seekonk",0.75604230268627703,75.599999999999994,3.6600000000000001E-2,19616337,-5.5814949568555789]
[266,"Sharon",4292191400,15167176.922114298,1543767000,23665083.358689435,38832260,44735605.4442885,0.86803921874623491,36906874,36906874,82.5,null,32730317,3.2000000000000001E-2,33777687,75.505152248503833,6.9948477514961667,0.01,327303,0,0,0,{"$f":"MIN(H275*parameters!C$22,ROUND(P275+T275-V275+W275,0))","v":34104990},76.236790943787852,null,-3129187,-2801884,0,-6.2632090562121476,null,null,"266","Sharon",0.86803921874623491,82.5,3.2000000000000001E-2,34104990,-6.2632090562121476]
[267,"Sheffield",788173500,2785143.0203746399,135069000,2070532.1102049877,4855675,5046811.89339823,0.96212720080804726,4163620,4163620,82.5,null,3733090,5.1499999999999997E-2,3925344,77.778686483931963,4.7213135160680366,0.01,37331,0,0,0,{"$f":"MIN(H276*parameters!C$22,ROUND(P276+T276-V276+W276,0))","v":3962675},78.51838118206075,null,-238276,-200945,0,-3.9816188179392498,null,null,"267","Sheffield",0.96212720080804726,82.5,5.1499999999999997E-2,3962675,-3.9816188179392498]
[268,"Shelburne",315346600,1114330.0072748873,47515603.5,728387.58547496842,1842718,2371366.8136034044,0.77706999584762781,1956378,1842718,77.709999999999994,null,1632384,4.3099999999999999E-2,1702740,71.80415911330924,5.9058408866907541,0.01,16324,0,0,0,{"$f":"MIN(H277*parameters!C$22,ROUND(P277+T277-V277+W277,0))","v":1719064},72.492538486182184,null,-139978,-123654,0,-5.2174615138178098,null,null,"268","Shelburne",0.77706999584762781,77.709999999999994,4.3099999999999999E-2,1719064,-5.2174615138178098]
[269,"Sherborn",1468975200,5190869.808974091,1036191000,15884227.600747889,21075097,11688379.58377267,1.8030811584232935,9642913,9642913,82.5,null,8866179,3.9600000000000003E-2,9217280,78.858493035224726,3.6415069647752745,0.01,88662,0,0,336971,{"$f":"MIN(H278*parameters!C$22,ROUND(P278+T278-V278+W278,0))","v":9642913},82.499998660101241,null,-425633,0,0,-1.3398987590562683E-6,null,null,"269","Sherborn",1.8030811584232935,82.5,3.9600000000000003E-2,9642913,-1.3398987590562683E-6]
[270,"Shirley",847533600,2994901.8719520406,258383000,3960866.6550510875,6955769,10906171.208432609,0.6377828540433903,8997591,6955769,63.78,null,5983439,2.2800000000000001E-2,6119861,56.113744072421561,7.6662559275784403,0.02,119669,0,0,0,{"$f":"MIN(H279*parameters!C$22,ROUND(P279+T279-V279+W279,0))","v":6239530},57.21100357544011,null,-835908,-716239,0,-6.5689964245598915,null,null,"270","Shirley",0.6377828540433903,63.78,2.2800000000000001E-2,6239530,-6.5689964245598915]
[271,"Shrewsbury",7215094200,25495743.326152865,2540335000,38941912.564523228,64437656,74633713.99000001,0.8633853597133575,61572814,61572814,82.5,null,55216447,4.0300000000000002E-2,57441670,76.964774937632697,5.5352250623673029,0.01,552164,0,0,0,{"$f":"MIN(H280*parameters!C$22,ROUND(P280+T280-V280+W280,0))","v":57993834},77.704606805136962,null,-4131144,-3578980,0,-4.7953931948630384,null,null,"271","Shrewsbury",0.8633853597133575,82.5,4.0300000000000002E-2,57993834,-4.7953931948630384]
[272,"Shutesbury",258085500,911988.32361770479,58885000,902674.06517721096,1814662,2918092.2779370463,0.62186587234413315,2407426,1814662,62.19,null,1597094,2.9300000000000003E-2,1643889,56.334373399670284,5.8556266003297139,0.01,15971,0,0,0,{"$f":"MIN(H281*parameters!C$22,ROUND(P281+T281-V281+W281,0))","v":1659860},56.881683027976166,null,-170773,-154802,0,-5.3083169720238317,null,null,"272","Shutesbury",0.62186587234413315,62.19,2.9300000000000003E-2,1659860,-5.3083169720238317]
[273,"Somerset",2845873800,10056371.536136463,646595000,9911939.1555278711,19968311,35354294.417099729,0.56480581296347332,29167293,19968311,56.48,null,16517060,4.3999999999999997E-2,17243811,48.774303898028656,7.7056961019713412,0.02,330341,0,0,0,{"$f":"MIN(H282*parameters!C$22,ROUND(P282+T282-V282+W282,0))","v":17574152},49.708676950712814,null,-2724500,-2394159,0,-6.771323049287183,null,null,"273","Somerset",0.56480581296347332,56.48,4.3999999999999997E-2,17574152,-6.771323049287183]
[274,"Somerville",22812899800,80613200.840266794,4197916000,64351700.789546691,144964902,88070540.975499988,1.6460089877309512,72658196,72658196,82.5,null,66118248,8.7400000000000005E-2,71896983,81.635677723383978,0.86432227661602212,0,0,0,0,0,{"$f":"MIN(H283*parameters!C$22,ROUND(P283+T283-V283+W283,0))","v":71896983},81.635677723383978,null,-761213,-761213,0,-0.86432227661602212,null,null,"274","Somerville",1.6460089877309512,82.5,8.7400000000000005E-2,71896983,-0.86432227661602212]
[275,"Southampton",940959000,3325036.1643834771,300690000,4609409.2665048074,7934445,10502363.763128305,0.75549135213315,8664450,7934445,75.55,null,6747339,4.7300000000000002E-2,7066488,67.284738553896062,8.2652614461039349,0.02,134947,0,0,0,{"$f":"MIN(H284*parameters!C$22,ROUND(P284+T284-V284+W284,0))","v":7201435},68.569658816073343,null,-867957,-733010,0,-6.9803411839266545,null,null,"275","Southampton",0.75549135213315,75.55,4.7300000000000002E-2,7201435,-6.9803411839266545]
[276,"Southborough",3033118400,10718031.679230392,1277132000,19577718.166050807,30295750,21166767.538751341,1.4312884546275502,17462583,17462583,82.5,null,16168986,4.0199999999999993E-2,16818979,79.459364634720117,3.0406353652798828,0.01,161690,0,0,0,{"$f":"MIN(H285*parameters!C$22,ROUND(P285+T285-V285+W285,0))","v":16980669},80.223250758116066,null,-643604,-481914,0,-2.2767492418839339,null,null,"276","Southborough",1.4312884546275502,82.5,4.0199999999999993E-2,16980669,-2.2767492418839339]
[277,"Southbridge",1422813300,5027749.0067747878,418793000,6419862.1003270736,11447611,42301567.292828023,0.27061907472021429,34898793,11447611,27.06,null,9573439,4.6399999999999997E-2,10017647,23.681503171392972,3.3784968286070267,0.01,95734,0,0,0,{"$f":"MIN(H286*parameters!C$22,ROUND(P286+T286-V286+W286,0))","v":10113381},23.90781629907756,null,-1429964,-1334230,0,-3.1521837009224392,null,null,"277","Southbridge",0.27061907472021429,27.06,4.6399999999999997E-2,10113381,-3.1521837009224392]
[278,"South Hadley",1917250100,6774924.2195120491,631201000,9675957.7585789375,16450882,25928069.819999997,0.63448155278069995,21390658,16450882,63.45,null,14674595,2.92E-2,15103093,58.249970417581984,5.2000295824180185,0.01,146746,0,0,0,{"$f":"MIN(H287*parameters!C$22,ROUND(P287+T287-V287+W287,0))","v":15249839},58.815943901218645,null,-1347789,-1201043,0,-4.6340560987813575,null,null,"278","South Hadley",0.63448155278069995,63.45,2.92E-2,15249839,-4.6340560987813575]
[279,"Southwick",1295630000,4578325.5228550499,414611000,6355754.3829020737,10934080,15276191.958581634,0.71575953154068694,12602858,10934080,71.58,null,9633324,3.4000000000000002E-2,9960857,65.205104956830141,6.3748950431698574,0.01,96333,0,0,0,{"$f":"MIN(H288*parameters!C$22,ROUND(P288+T288-V288+W288,0))","v":10057190},65.835713686159991,null,-973223,-876890,0,-5.7442863138400071,null,null,"279","Southwick",0.71575953154068694,71.58,3.4000000000000002E-2,10057190,-5.7442863138400071]
[280,"Spencer",1407446100,4973446.4327568831,386388000,5923111.6022024658,10896558,21244614.576898705,0.51290918743467662,17526807,10896558,51.29,null,9157800,4.87E-2,9603785,45.205738919091104,6.0842610809088953,0.01,91578,0,0,0,{"$f":"MIN(H289*parameters!C$22,ROUND(P289+T289-V289+W289,0))","v":9695363},45.636803458617187,null,-1292773,-1201195,0,-5.6531965413828118,null,null,"280","Spencer",0.51290918743467662,51.29,4.87E-2,9695363,-5.6531965413828118]
[281,"Springfield",11356806000,40131175.387968294,2892485000,44340174.805368178,84471350,525763852.88000005,0.16066405010022566,433755179,84471350,16.07,null,44717025,6.4000000000000001E-2,47578915,9.0494838584613344,7.0205161415386659,0.01,447170,0,0,0,{"$f":"MIN(H290*parameters!C$22,ROUND(P290+T290-V290+W290,0))","v":48026085},9.1345353502195668,null,-36892435,-36445265,0,-6.9354646497804335,null,null,"281","Springfield",0.16066405010022566,16.07,6.4000000000000001E-2,48026085,-6.9354646497804335]
[282,"Sterling",1439088200,5085259.0907122651,420998000,6453663.5151817175,11538923,12896888.926883301,0.89470592988882391,10639933,10639933,82.5,null,9910315,3.1099999999999999E-2,10218526,79.232488222021445,3.2675117779785552,0.01,99103,0,0,0,{"$f":"MIN(H291*parameters!C$22,ROUND(P291+T291-V291+W291,0))","v":10317629},80.000913852123773,null,-421407,-322304,0,-2.499086147876227,null,null,"282","Sterling",0.89470592988882391,82.5,3.1099999999999999E-2,10317629,-2.499086147876227]
[283,"Stockbridge",1037162900,3664988.7517488478,100665000,1543138.0618334711,5208127,1902074.0000142655,2.738130587958691,1569211,1569211,82.5,null,1491020,8.0100000000000005E-2,1610451,84.668156969072797,0,0,0,41240,41240,0,{"$f":"MIN(H292*parameters!C$22,ROUND(P292+T292-V292+W292,0))","v":1569211},82.49999737067175,null,0,0,0,-2.62932825023654E-6,null,null,"283","Stockbridge",2.738130587958691,82.5,8.0100000000000005E-2,1569211,-2.62932825023654E-6]
[284,"Stoneham",5178336700,18298519.700490873,1199242000,18383708.096650232,36682228,33775658.510253012,1.0860551538577601,27864918,27864918,82.5,null,25004921,3.5900000000000001E-2,25902598,76.690134678312646,5.8098653216873544,0.01,250049,0,0,0,{"$f":"MIN(H293*parameters!C$22,ROUND(P293+T293-V293+W293,0))","v":26152647},77.430457772010712,null,-1962320,-1712271,0,-5.0695422279892881,null,null,"284","Stoneham",1.0860551538577601,82.5,3.5900000000000001E-2,26152647,-5.0695422279892881]
[285,"Stoughton",5187577900,18331175.027877405,1122694000,17210270.135519464,35541445,59784053.542166047,0.59449707562790821,49321844,35541445,59.45,null,30480304,4.1399999999999999E-2,31742189,53.094742024496625,6.3552579755033776,0.01,304803,0,0,0,{"$f":"MIN(H294*parameters!C$22,ROUND(P294+T294-V294+W294,0))","v":32046992},53.604581993419146,null,-3799256,-3494453,0,-5.8454180065808572,null,null,"285","Stoughton",0.59449707562790821,59.45,4.1399999999999999E-2,32046992,-5.8454180065808572]
[286,"Stow",1594927000,5635941.5814627912,592883000,9088564.2826604452,14724506,14895922.668577624,0.98849237657904732,12289136,12289136,82.5,null,11440763,3.39E-2,11828605,79.408340545107606,3.0916594548923939,0.01,114408,0,0,0,{"$f":"MIN(H295*parameters!C$22,ROUND(P295+T295-V295+W295,0))","v":11943013},80.176389645156561,null,-460531,-346123,0,-2.3236103548434386,null,null,"286","Stow",0.98849237657904732,82.5,3.39E-2,11943013,-2.3236103548434386]
[287,"Sturbridge",1540777200,5444594.1972578121,500436000,7671403.5574598415,13115998,22399488.942331642,0.58554898434368963,18479578,13115998,58.55,null,11684111,6.2899999999999998E-2,12419042,55.443416731396454,3.1065832686035435,0.01,116841,0,0,0,{"$f":"MIN(H296*parameters!C$22,ROUND(P296+T296-V296+W296,0))","v":12535883},55.965040239418499,null,-696956,-580115,0,-2.5849597605814978,null,null,"287","Sturbridge",0.58554898434368963,58.55,6.2899999999999998E-2,12535883,-2.5849597605814978]
[288,"Sudbury",5513521800,19482952.368930724,2294636000,35175484.524445526,54658437,46163621.810236156,1.1840153535760973,38084988,38084988,82.5,null,35778016,3.9800000000000002E-2,37201981,80.587223318234024,1.9127766817659762,0,0,0,0,0,{"$f":"MIN(H297*parameters!C$22,ROUND(P297+T297-V297+W297,0))","v":37201981},80.587223318234024,null,-883007,-883007,0,-1.9127766817659762,null,null,"288","Sudbury",1.1840153535760973,82.5,3.9800000000000002E-2,37201981,-1.9127766817659762]
[289,"Sunderland",458245200,1619286.1348423676,115008000,1763008.2175070166,3382294,3899501.2136389366,0.86736580262369267,3217089,3217089,82.5,null,2937423,5.0999999999999997E-2,3087232,79.169920224721679,3.3300797752783211,0.01,29374,0,0,0,{"$f":"MIN(H298*parameters!C$22,ROUND(P298+T298-V298+W298,0))","v":3116606},79.923196051313582,null,-129857,-100483,0,-2.5768039486864183,null,null,"289","Sunderland",0.86736580262369267,82.5,5.0999999999999997E-2,3116606,-2.5768039486864183]
[290,"Sutton",1838850200,6497885.0469401851,552506000,8469607.4901044425,14967493,18059094.643719867,0.8288063878775348,14898753,14898753,82.5,null,13323979,6.5000000000000002E-2,14190038,78.575578011795017,3.9244219882049833,0.01,133240,0,0,0,{"$f":"MIN(H299*parameters!C$22,ROUND(P299+T299-V299+W299,0))","v":14323278},79.313378010237003,null,-708715,-575475,0,-3.1866219897629975,null,null,"290","Sutton",0.8288063878775348,82.5,6.5000000000000002E-2,14323278,-3.1866219897629975]
[291,"Swampscott",4007032500,14159520.206895238,1156597000,17729984.134529449,31889504,26584821.683077239,1.1995380063165704,21932478,21932478,82.5,null,20649647,3.4299999999999997E-2,21357930,80.338812329125176,2.1611876708748241,0,0,0,0,0,{"$f":"MIN(H300*parameters!C$22,ROUND(P300+T300-V300+W300,0))","v":21357930},80.338812329125176,null,-574548,-574548,0,-2.1611876708748241,null,null,"291","Swampscott",1.1995380063165704,82.5,3.4299999999999997E-2,21357930,-2.1611876708748241]
[292,"Swansea",2751746600,9723757.3159077857,656943000,10070568.199027129,19794326,29920591.868508846,0.66156198002330802,24684488,19794326,66.16,null,17278125,4.4299999999999999E-2,18043546,60.304776320252778,5.855223679747219,0.01,172781,0,0,0,{"$f":"MIN(H301*parameters!C$22,ROUND(P301+T301-V301+W301,0))","v":18216327},60.882241501287012,null,-1750780,-1577999,0,-5.2777584987129842,null,null,"292","Swansea",0.66156198002330802,66.16,4.4299999999999999E-2,18216327,-5.2777584987129842]
[293,"Taunton",7410717500,26187011.008481253,1743783000,26731216.59840218,52918228,143277461.8262752,0.36934090906889233,118203906,52918228,36.93,null,44094274,4.0199999999999993E-2,45866864,32.012616231025824,4.917383768974176,0.01,440943,0,0,0,{"$f":"MIN(H302*parameters!C$22,ROUND(P302+T302-V302+W302,0))","v":46307807},32.320370845310272,null,-7051364,-6610421,0,-4.6096291546897277,null,null,"293","Taunton",0.36934090906889233,36.93,4.0199999999999993E-2,46307807,-4.6096291546897277]
[294,"Templeton",893567900,3157571.7781882086,253954000,3892972.5659847744,7050544,17931101.821893733,0.39320193873370024,14793159,7050544,39.32,null,5565869,0.04,5788504,32.281920305266922,7.0380796947330779,0.01,55659,0,0,0,{"$f":"MIN(H303*parameters!C$22,ROUND(P303+T303-V303+W303,0))","v":5844163},32.592325101095142,null,-1262040,-1206381,0,-6.7276748989048585,null,null,"294","Templeton",0.39320193873370024,39.32,0.04,5844163,-6.7276748989048585]
[295,"Tewksbury",6249555900,22083852.090086956,1481572000,22711668.84763065,44795521,47921265.270565577,0.93477333595184753,39535044,39535044,82.5,null,36091111,3.9399999999999998E-2,37513101,78.280698116377721,4.2193018836222791,0.01,360911,0,0,0,{"$f":"MIN(H304*parameters!C$22,ROUND(P304+T304-V304+W304,0))","v":37874012},79.033831402742933,null,-2021943,-1661032,0,-3.4661685972570666,null,null,"295","Tewksbury",0.93477333595184753,82.5,3.9399999999999998E-2,37874012,-3.4661685972570666]
[296,"Tisbury",3667871800,12961039.090249756,130581881.25,2001747.0932567772,14962786,9278744.6473217048,1.6125873239025912,7654964,7654964,82.5,null,6109493,4.3799999999999999E-2,6377089,68.727928641087644,13.772071358912356,0.02,122190,0,0,0,{"$f":"MIN(H305*parameters!C$22,ROUND(P305+T305-V305+W305,0))","v":6499279},70.044809368431174,null,-1277875,-1155685,0,-12.455190631568826,null,null,"296","Tisbury",1.6125873239025912,82.5,4.3799999999999999E-2,6499279,-12.455190631568826]
[297,"Tolland",225103100,795439.49121569621,13529000,207391.9916410374,1002831,497827.48476620007,2.014414693216406,410708,410708,82.5,null,385163,4.1799999999999997E-2,401263,80.602821716131103,1.8971782838688966,0,0,0,0,9445,{"$f":"MIN(H306*parameters!C$22,ROUND(P306+T306-V306+W306,0))","v":410708},82.500065297295734,null,-9445,0,0,6.529729573401255E-5,null,null,"297","Tolland",2.014414693216406,82.5,4.1799999999999997E-2,410708,6.529729573401255E-5]
[298,"Topsfield",1686723900,5960321.2964963829,521864000,7999882.7944237078,13960204,13775305.835814256,1.0134224362340494,11364627,11364627,82.5,null,10068020,2.92E-2,10362006,75.221603959310599,7.278396040689401,0.01,100680,0,0,0,{"$f":"MIN(H307*parameters!C$22,ROUND(P307+T307-V307+W307,0))","v":10462686},75.95247702448961,null,-1002621,-901941,0,-6.5475229755103896,null,null,"298","Topsfield",1.0134224362340494,82.5,2.92E-2,10462686,-6.5475229755103896]
[299,"Townsend",1176302500,4156661.8234744505,364279000,5584193.0167052597,9740855,17440408.314983502,0.55852218732926007,14388337,9740855,55.85,null,8344372,1.7600000000000001E-2,8491233,48.68712272467247,7.1628772753275314,0.01,83444,0,0,0,{"$f":"MIN(H308*parameters!C$22,ROUND(P308+T308-V308+W308,0))","v":8574677},49.165574825637968,null,-1249622,-1166178,0,-6.6844251743620333,null,null,"299","Townsend",0.55852218732926007,55.85,1.7600000000000001E-2,8574677,-6.6844251743620333]
[300,"Truro",2624539200,9274248.6706031617,122223000,1873610.1259769765,11147859,2540000.1699123485,4.3889205725465343,2095500,2095500,82.5,null,2064540,4.4799999999999993E-2,2157031,84.922474634103509,0,0,0,61531,61531,0,{"$f":"MIN(H309*parameters!C$22,ROUND(P309+T309-V309+W309,0))","v":2095500},82.499994481193781,null,0,0,0,-5.5188062191291465E-6,null,null,"300","Truro",4.3889205725465343,82.5,4.4799999999999993E-2,2095500,-5.5188062191291465E-6]
[301,"Tyngsborough",2177318100,7693918.03879523,609353000,9341040.1568808537,17034958,23561683.017484844,0.72299410816105802,19438388,17034958,72.3,null,14825541,3.2399999999999998E-2,15305889,64.960932496382725,7.3390675036172723,0.01,148255,0,0,0,{"$f":"MIN(H310*parameters!C$22,ROUND(P310+T310-V310+W310,0))","v":15454144},65.590153252344763,null,-1729069,-1580814,0,-6.7098467476552344,null,null,"301","Tyngsborough",0.72299410816105802,72.3,3.2399999999999998E-2,15454144,-6.7098467476552344]
[302,"Tyringham",228166500,806264.52799835347,8901000,136447.34404589207,942712,268153.68999999994,3.5155660173835392,221227,221227,82.5,null,268758,4.0199999999999993E-2,279562,104.25439232255206,0,0,0,58335,58335,0,{"$f":"MIN(H311*parameters!C$22,ROUND(P311+T311-V311+W311,0))","v":221227},82.500076728386631,null,0,0,0,7.6728386630975365E-5,null,null,"302","Tyringham",3.5155660173835392,82.5,4.0199999999999993E-2,221227,7.6728386630975365E-5]
[303,"Upton",1431109500,5057065.0184468785,490740000,7522769.3087384645,12579834,16084737.279210724,0.78209757372035182,13269908,12579834,78.209999999999994,null,11271051,5.3600000000000002E-2,11875179,73.828865177353478,4.3811348226465157,0.01,112711,0,0,0,{"$f":"MIN(H312*parameters!C$22,ROUND(P312+T312-V312+W312,0))","v":11987890},74.529597791405422,null,-704655,-591944,0,-3.6804022085945718,null,null,"303","Upton",0.78209757372035182,78.209999999999994,5.3600000000000002E-2,11987890,-3.6804022085945718]
[304,"Uxbridge",2302233500,8135327.5183670577,623125000,9552157.2024038304,17687485,24480547.51441906,0.72251182248199552,20196452,17687485,72.25,null,15460277,5.0799999999999998E-2,16245659,66.361501884021564,5.888498115978436,0.01,154603,0,0,0,{"$f":"MIN(H313*parameters!C$22,ROUND(P313+T313-V313+W313,0))","v":16400262},66.99303596188048,null,-1441826,-1287223,0,-5.25696403811952,null,null,"304","Uxbridge",0.72251182248199552,72.25,5.0799999999999998E-2,16400262,-5.25696403811952]
[305,"Wakefield",6497773200,22960969.476844106,1498677000,22973878.916151602,45934848,45384619.389265195,1.0121236801837088,37442311,37442311,82.5,null,34970648,4.0300000000000002E-2,36379965,80.159237842159669,2.3407621578403308,0,0,0,0,0,{"$f":"MIN(H314*parameters!C$22,ROUND(P314+T314-V314+W314,0))","v":36379965},80.159237842159669,null,-1062346,-1062346,0,-2.3407621578403308,null,null,"305","Wakefield",1.0121236801837088,82.5,4.0300000000000002E-2,36379965,-2.3407621578403308]
[306,"Wales",206597900,730048.26882540178,50398000,772573.10922647663,1502621,3837551.6146717276,0.39155720909529379,3165980,1502621,39.159999999999997,null,1282187,3.1800000000000002E-2,1322961,34.474090066751295,4.685909933248702,0.01,12822,0,0,0,{"$f":"MIN(H315*parameters!C$22,ROUND(P315+T315-V315+W315,0))","v":1335783},34.808209351322709,null,-179660,-166838,0,-4.3517906486772873,null,null,"306","Wales",0.39155720909529379,39.159999999999997,3.1800000000000002E-2,1335783,-4.3517906486772873]
[307,"Walpole",5952614800,21034560.998560321,1647196000,25250591.992249999,46285153,49488998.473652296,0.93526146067882121,40828424,40828424,82.5,null,36639046,5.779999999999999E-2,38756783,78.313936825037842,4.1860631749621575,0.01,366390,0,0,0,{"$f":"MIN(H316*parameters!C$22,ROUND(P316+T316-V316+W316,0))","v":39123173},79.054283187462332,null,-2071641,-1705251,0,-3.4457168125376683,null,null,"307","Walpole",0.93526146067882121,82.5,5.779999999999999E-2,39123173,-3.4457168125376683]
[308,"Waltham",17215737300,60834690.054535381,2784689000,42687722.508011587,103522413,98129290.060850009,1.0549593595939164,80956664,80956664,82.5,null,69072135,5.8700000000000002E-2,73126669,74.520735811554459,7.9792641884455406,0.02,1381443,0,0,0,{"$f":"MIN(H317*parameters!C$22,ROUND(P317+T317-V317+W317,0))","v":74508112},75.928514262966232,null,-7829995,-6448552,0,-6.5714857370337683,null,null,"308","Waltham",1.0549593595939164,82.5,5.8700000000000002E-2,74508112,-6.5714857370337683]
[309,"Ware",922889900,3261185.9743562164,264856000,4060094.1191572621,7321280,21864835.095975816,0.33484268085550156,18038489,7321280,33.479999999999997,null,6362487,3.0300000000000004E-2,6555270,29.980880126585021,3.4991198734149762,0.01,63625,0,0,0,{"$f":"MIN(H318*parameters!C$22,ROUND(P318+T318-V318+W318,0))","v":6618895},30.271872488158834,null,-766010,-702385,0,-3.2081275118411625,null,null,"309","Ware",0.33484268085550156,33.479999999999997,3.0300000000000004E-2,6618895,-3.2081275118411625]
[310,"Wareham",4699228300,16605509.955475518,673794000,10328884.589827862,26934395,42750440.06214302,0.63003784196952228,35269113,26934395,63,null,23325788,3.5200000000000002E-2,24146856,56.483292253599203,6.5167077464007974,0.01,233258,0,0,0,{"$f":"MIN(H319*parameters!C$22,ROUND(P319+T319-V319+W319,0))","v":24380114},57.028919385532653,null,-2787539,-2554281,0,-5.9710806144673469,null,null,"310","Wareham",0.63003784196952228,63,3.5200000000000002E-2,24380114,-5.9710806144673469]
[311,"Warren",487514800,1722715.1668374266,114193000,1750514.7240346649,3473230,10903016.862205975,0.31855678514444413,8994989,3473230,31.86,null,3061287,3.6299999999999999E-2,3172412,29.096643984811148,2.763356015188851,0.01,30613,0,0,0,{"$f":"MIN(H320*parameters!C$22,ROUND(P320+T320-V320+W320,0))","v":3203025},29.377419483802775,null,-300818,-270205,0,-2.4825805161972241,null,null,"311","Warren",0.31855678514444413,31.86,3.6299999999999999E-2,3203025,-2.4825805161972241]
[312,"Warwick",91765300,324268.05114303506,19160000,293712.06739908911,617980,989034.39019873925,0.62483166017697467,815953,617980,62.48,null,536905,1.8599999999999998E-2,546891,55.295448309952725,7.1845516900472717,0.01,5369,0,0,0,{"$f":"MIN(H321*parameters!C$22,ROUND(P321+T321-V321+W321,0))","v":552260},55.838301020961204,null,-71089,-65720,0,-6.641698979038793,null,null,"312","Warwick",0.62483166017697467,62.48,1.8599999999999998E-2,552260,-6.641698979038793]
[313,"Washington",96983700,342708.1412215812,37836000,580004.68591398408,922713,839820.20750932675,1.0987030220867275,692852,692852,82.5,null,544805,4.5100000000000001E-2,569376,67.797368402054872,14.702631597945128,0.02,10896,0,0,0,{"$f":"MIN(H322*parameters!C$22,ROUND(P322+T322-V322+W322,0))","v":580272},69.09478895737999,null,-123476,-112580,0,-13.40521104262001,null,null,"313","Washington",1.0987030220867275,82.5,4.5100000000000001E-2,580272,-13.40521104262001]
[314,"Watertown",11132886300,39339917.638780609,1912608000,29319209.279960178,68659127,39855550.60148,1.7226992467505995,32880829,32880829,82.5,null,29965018,6.9500000000000006E-2,32047587,80.40934453634155,2.0906554636584502,0,0,0,0,0,{"$f":"MIN(H323*parameters!C$22,ROUND(P323+T323-V323+W323,0))","v":32047587},80.40934453634155,null,-833242,-833242,0,-2.0906554636584502,null,null,"314","Watertown",1.7226992467505995,82.5,6.9500000000000006E-2,32047587,-2.0906554636584502]
[315,"Wayland",4401061600,15551888.001155639,2439125000,37390419.957975112,52942308,33119434.224909998,1.5985269446475234,27323533,27323533,82.5,null,24877273,2.92E-2,25603689,77.307144880943625,5.1928551190563752,0.01,248773,0,0,0,{"$f":"MIN(H324*parameters!C$22,ROUND(P324+T324-V324+W324,0))","v":25852462},78.058283920066728,null,-1719844,-1471071,0,-4.441716079933272,null,null,"315","Wayland",1.5985269446475234,82.5,2.92E-2,25852462,-4.441716079933272]
[316,"Webster",2051784300,7250323.3392892126,551656000,8456577.466237573,15706901,34843410.165899329,0.45078541179565956,28745813,15706901,45.08,null,13317327,4.1700000000000001E-2,13872660,39.814300419931179,5.2656995800688193,0.01,133173,0,0,0,{"$f":"MIN(H325*parameters!C$22,ROUND(P325+T325-V325+W325,0))","v":14005833},40.196504685718956,null,-1834241,-1701068,0,-4.883495314281042,null,null,"316","Webster",0.45078541179565956,45.08,4.1700000000000001E-2,14005833,-4.883495314281042]
[317,"Wellesley",14471634900,51137944.799140096,6921665000,106105247.23350292,157243192,52656323.92545452,2.9862166645474333,43441467,43441467,82.5,null,42104255,4.2199999999999994E-2,43881055,83.334824250402178,0,0,0,439588,439588,0,{"$f":"MIN(H326*parameters!C$22,ROUND(P326+T326-V326+W326,0))","v":43441467},82.499999547062984,null,0,0,0,-4.5293701589343982E-7,null,null,"317","Wellesley",2.9862166645474333,82.5,4.2199999999999994E-2,43441467,-4.5293701589343982E-7]
[318,"Wellfleet",2962150700,10467255.429677418,190668000,2922833.6360568642,13390089,3916781.97704896,3.4186454794934895,3231345,3231345,82.5,null,3153070,2.5399999999999999E-2,3233158,82.546284652687604,0,0,0,1813,1813,0,{"$f":"MIN(H327*parameters!C$22,ROUND(P327+T327-V327+W327,0))","v":3231345},82.499996653748084,null,0,0,0,-3.3462519155591508E-6,null,null,"318","Wellfleet",3.4186454794934895,82.5,2.5399999999999999E-2,3231345,-3.3462519155591508E-6]
[319,"Wendell",119774300,423242.54198505561,20402000,312751.2316845624,735994,1781778.3851903845,0.41306708293094396,1469967,735994,41.31,null,606257,5.0599999999999999E-2,636934,35.747094324075725,5.5629056759242772,0.01,6063,0,0,0,{"$f":"MIN(H328*parameters!C$22,ROUND(P328+T328-V328+W328,0))","v":642997},36.087372332294585,null,-99060,-92997,0,-5.2226276677054173,null,null,"319","Wendell",0.41306708293094396,41.31,5.0599999999999999E-2,642997,-5.2226276677054173]
[320,"Wenham",1010590200,3571089.6674260315,410711000,6295969.5675129062,9867059,6943964.5538766077,1.4209546899964396,5728771,5728771,82.5,null,5378512,1.34E-2,5450584,78.493833856872186,4.0061661431278139,0.01,53785,0,0,0,{"$f":"MIN(H329*parameters!C$22,ROUND(P329+T329-V329+W329,0))","v":5504369},79.268391382082669,null,-278187,-224402,0,-3.2316086179173311,null,null,"320","Wenham",1.4209546899964396,82.5,1.34E-2,5504369,-3.2316086179173311]
[321,"Westborough",5021857900,17745575.662589829,1336258000,20484086.626230273,38229662,48654074.123391584,0.78574431203943507,{"$f":"ROUND(H330*maxloc,0)","v":40139611},38229662,78.569999999999993,null,34434091,5.7299999999999997E-2,36407164,74.828603063471732,3.7413969365282611,0.01,344341,0,{"$f":"MAX(U330*(V$5),0)","v":0},0,{"$f":"MIN(H330*parameters!C$22,ROUND(P330+T330-V330+W330,0))","v":36751505},75.53633619004755,null,-1822498,-1478157,0,-3.0336638099524436,null,null,"321","Westborough",0.78574431203943507,78.569999999999993,5.7299999999999997E-2,36751505,-3.0336638099524436]
[322,"West Boylston",1203529000,{"$f":"D$5*C331","v":4252871.2195582185},308895000,4735187.3204197092,{"$f":"ROUND(D331+F331,0)","v":8988059},{"$f":"(SUMIF(town1755,A331,found1755)/2)","v":11278495.76},{"$f":"IF(H331=0,0,G331/H331)","v":0.79692001409237578},9304759,{"$f":"MIN(G331,J331)","v":8988059},{"$f":"IF(H331>0, ROUND((K331*100/H331), 2), 0)","v":79.69},null,8098019,3.6700000000000003E-2,{"$f":"ROUND(N331*(1+O331),0)","v":8395216},{"$f":"IF(H331=0,0,P331*100/H331)","v":74.435600089279987},{"$f":"IF(L331>Q331,L331-Q331,0)","v":5.2543999107200108},{"$f":"IF(AND(R331>$T$4,R331<=$T$5),$S$4,IF(R331>$T$5,$S$5,0))","v":0.01},{"$f":"ROUND(S331*N331,0)","v":80980},{"$f":"MAX(P331-K331,0)","v":0},0,{"$f":"IF(AND(I331>1.75,$W$5=1),MAX(K331-(P331+T331),0),0)","v":0},{"$f":"MIN(H331*parameters!C$22,ROUND(P331+T331-V331+W331,0))","v":8476196},{"$f":"IF(H331=0,0,X331*100/H331)","v":75.153603639781835},null,{"$f":"IF(Q331<L331, P331-K331, 0)","v":-592843},{"$f":"-1*MAX(K331-(P331+T331+W331),0)","v":-511863},{"$f":"IF(Q331>L331, X331-K331,0)","v":0},{"$f":"Y331-L331","v":-4.5363963602181627},null,null,{"$f":"TEXT(A331,\"000\")","v":"322"},{"$f":"B331","v":"West Boylston"},{"$f":"I331","v":0.79692001409237578},{"$f":"L331","v":79.69},{"$f":"O331","v":3.6700000000000003E-2},{"$f":"X331","v":8476196},{"$f":"AD331","v":-4.5363963602181627}]
[323,"West Bridgewater",1451294400,5128391.742007059,312877000,{"$f":"E332*F$5","v":4796229.1498760339},9924621,16637639.643927436,0.59651616529766482,13726053,9924621,59.65,null,9046852,4.2999999999999997E-2,9435867,56.713976272734051,2.9360237272659475,0.01,90469,0,0,0,{"$f":"MIN(H332*parameters!C$22,ROUND(P332+T332-V332+W332,0))","v":9526336},57.257737298553721,null,-488754,-398285,0,-2.3922627014462776,null,null,"323","West Bridgewater",0.59651616529766482,59.65,4.2999999999999997E-2,9526336,-2.3922627014462776]
[324,"West Brookfield",513429200,1814288.0378958883,154826000,2373395.8531905725,4187684,7319484.2435350083,0.57212828946230809,6038575,4187684,57.21,null,3584586,2.9499999999999998E-2,3690331,50.417910295517252,6.7920897044827484,0.01,35846,0,0,0,{"$f":"MIN(H333*parameters!C$22,ROUND(P333+T333-V333+W333,0))","v":3726177},50.907644255005742,null,-497353,-461507,0,-6.3023557449942587,null,null,"324","West Brookfield",0.57212828946230809,57.21,2.9499999999999998E-2,3726177,-6.3023557449942587]
[325,"Westfield",3978694400,14059382.786104411,1332479000,20426156.673062153,34485539,75008744.25999999,0.45975358393501525,61882214,34485539,45.98,null,30194266,5.0200000000000002E-2,31710018,42.275095141020834,3.7049048589791624,0.01,301943,0,0,0,{"$f":"MIN(H334*parameters!C$22,ROUND(P334+T334-V334+W334,0))","v":32011961},42.677638875059877,null,-2775521,-2473578,0,{"$f":"Y334-L334","v":-3.3023611249401199},null,null,"325","Westfield",0.45975358393501525,45.98,5.0200000000000002E-2,32011961,-3.3023611249401199]
[326,"Westford",5707136100,20167120.913406935,1772331000,27168841.447050888,47335962,58026910.24926012,0.81575878840806559,47872201,47335962,81.58,null,41173539,0.04,42820481,73.794177246488815,7.7858227535111837,0.02,823471,0,0,0,{"$f":"MIN(H335*parameters!C$22,ROUND(P335+T335-V335+W335,0))","v":43643952},75.213296404242868,null,-4515481,-3692010,0,-6.3667035957571301,null,null,"326","Westford",0.81575878840806559,81.58,0.04,43643952,-6.3667035957571301]
[327,"Westhampton",267682700,945901.6366067098,82998000,1272312.8481205427,2218214,2434064.5689828293,0.91132093547007631,2008103,2008103,82.5,null,1889474,3.5400000000000001E-2,1956361,80.374244172887458,2.1257558271125419,0,0,0,0,0,{"$f":"MIN(H336*parameters!C$22,ROUND(P336+T336-V336+W336,0))","v":1956361},80.374244172887458,null,-51742,-51742,0,-2.1257558271125419,null,null,"327","Westhampton",0.91132093547007631,82.5,3.5400000000000001E-2,1956361,-2.1257558271125419]
[328,"Westminster",1330013700,4699826.0834164685,359679000,5513677.5934257293,10213504,17534309.29235889,0.58248681654377144,14465805,10213504,58.25,null,8549400,4.07E-2,8897361,50.742580455548918,7.5074195444510821,0.02,170988,0,0,0,{"$f":"MIN(H337*parameters!C$22,ROUND(P337+T337-V337+W337,0))","v":9068349},51.717742905058763,null,-1316143,-1145155,0,-6.5322570949412366,null,null,"328","Westminster",0.58248681654377144,58.25,4.07E-2,9068349,-6.5322570949412366]
[329,"West Newbury",1189426700,4203038.3814632697,353515000,5419186.926231158,9622225,7337858.1495119743,1.3113124843711996,6053733,6053733,82.5,null,5671178,4.2700000000000002E-2,5913337,80.586690005629009,1.9133099943709908,0,0,0,0,0,{"$f":"MIN(H338*parameters!C$22,ROUND(P338+T338-V338+W338,0))","v":5913337},80.586690005629009,null,-140396,-140396,0,-1.9133099943709908,null,null,"329","West Newbury",1.3113124843711996,82.5,4.2700000000000002E-2,5913337,-1.9133099943709908]
[330,"Weston",7192996000,25417655.636712857,5022474000,76991713.04792133,102409369,25392258.954960003,4.0330940694032202,20948614,20948614,82.5,null,19248171,4.1200000000000001E-2,20041196,78.926400504769774,3.5735994952302264,0.01,192482,0,0,714936,{"$f":"MIN(H339*parameters!C$22,ROUND(P339+T339-V339+W339,0))","v":20948614},82.500001426253561,null,-907418,0,0,1.4262535614761873E-6,null,null,"330","Weston",4.0330940694032202,82.5,4.1200000000000001E-2,20948614,1.4262535614761873E-6]
[331,"Westport",4325909100,15286324.060172208,804024000,12325237.540630752,27611562,24107057.558413219,1.1453725504697163,19888322,19888322,82.5,null,16884809,4.9599999999999998E-2,17722296,73.514969452649041,8.9850305473509593,0.02,337696,0,0,0,{"$f":"MIN(H340*parameters!C$22,ROUND(P340+T340-V340+W340,0))","v":18059992},74.915787446225139,null,-2166026,-1828330,0,-7.5842125537748615,null,null,"331","Westport",1.1453725504697163,82.5,4.9599999999999998E-2,18059992,-7.5842125537748615]
[332,"West Springfield",3302461300,11669799.910492245,934460000,14324748.356041377,25994548,63567924.089999989,0.40892554495246225,52443537,25994548,40.89,null,21830351,3.9300000000000002E-2,22688284,35.691403053964358,5.1985969460356429,0.01,218304,0,0,0,{"$f":"MIN(H341*parameters!C$22,ROUND(P341+T341-V341+W341,0))","v":22906588},36.034821536044916,null,-3306264,-3087960,0,-4.8551784639550846,null,null,"332","West Springfield",0.40892554495246225,40.89,3.9300000000000002E-2,22906588,-4.8551784639550846]
[333,"West Stockbridge",453409500,1602198.3792864834,87352000,1339057.229198603,2941256,1649454.7968369587,1.7831685994913202,1360800,1360800,82.5,null,1310375,4.1599999999999998E-2,1364887,82.747766269033022,0,0,0,4087,4087,0,{"$f":"MIN(H342*parameters!C$22,ROUND(P342+T342-V342+W342,0))","v":1360800},82.4999874267248,null,0,0,0,-1.2573275199656564E-5,null,null,"333","West Stockbridge",1.7831685994913202,82.5,4.1599999999999998E-2,1360800,-1.2573275199656564E-5]
[334,"West Tisbury",3290703900,11628253.169136753,151168000,2317320.7622435023,13945574,6113605.2054814342,2.2810720567131901,5043724,5043724,82.5,null,4356395,4.2700000000000002E-2,4542413,74.300070863707234,8.1999291362927664,0.02,87128,0,0,414183,{"$f":"MIN(H343*parameters!C$22,ROUND(P343+T343-V343+W343,0))","v":5043724},82.499995182512222,null,-501311,0,0,-4.8174877775863933E-6,null,null,"334","West Tisbury",2.2810720567131901,82.5,4.2700000000000002E-2,5043724,-4.8174877775863933E-6]
[335,"Westwood",5479184600,19361616.123904459,2156792000,33062413.218675166,52424029,36428942.899339005,1.4390763175549413,30053878,30053878,82.5,null,28162159,3.9800000000000002E-2,29283013,80.383921874744644,2.1160781252553562,0,0,0,0,0,{"$f":"MIN(H344*parameters!C$22,ROUND(P344+T344-V344+W344,0))","v":29283013},80.383921874744644,null,-770865,-770865,0,-2.1160781252553562,null,null,"335","Westwood",1.4390763175549413,82.5,3.9800000000000002E-2,29283013,-2.1160781252553562]
[336,"Weymouth",10601685400,37462830.323548965,2361788000,36204887.068807922,73667717,90561470.946922123,0.81345539366488961,74713214,73667717,81.349999999999994,null,62685638,3.44E-2,64842024,71.600011927813938,9.7499880721860563,0.02,1253713,0,0,0,{"$f":"MIN(H345*parameters!C$22,ROUND(P345+T345-V345+W345,0))","v":66095737},72.984389839182896,null,-8825693,-7571980,0,-8.3656101608170985,null,null,"336","Weymouth",0.81345539366488961,81.349999999999994,3.44E-2,66095737,-8.3656101608170985]
[337,"Whately",333516600,1178536.7443450973,39350000,603213.45783685578,1781750,2329574.9072092148,0.76483911055450959,1921899,1781750,76.48,null,1575391,3.6700000000000003E-2,1633208,70.107554599158661,6.3724454008413431,0.01,15754,0,0,0,{"$f":"MIN(H346*parameters!C$22,ROUND(P346+T346-V346+W346,0))","v":1648962},70.783815317423048,null,-148542,-132788,0,-5.6961846825769555,null,null,"337","Whately",0.76483911055450959,76.48,3.6700000000000003E-2,1648962,-5.6961846825769555]
[338,"Whitman",2145260700,7580637.848759206,554157000,8494916.3952858578,16075554,32509116.382862657,0.49449372325832602,26820021,16075554,49.45,null,13347767,0.04,13881678,42.70087761388001,6.7491223861199927,0.01,133478,0,0,0,{"$f":"MIN(H347*parameters!C$22,ROUND(P347+T347-V347+W347,0))","v":14015156},43.111463981187008,null,-2193876,-2060398,0,-6.3385360188129951,null,null,"338","Whitman",0.49449372325832602,49.45,0.04,14015156,-6.3385360188129951]
[339,"Wilbraham",2108258500,7449884.3800514825,742760000,11386094.73806615,18835979,28742205.408949632,0.65534216083971508,23712319,18835979,65.53,null,17331994,4.1900000000000007E-2,18058205,62.82818156458206,2.7018184354179411,0.01,173320,0,0,0,{"$f":"MIN(H348*parameters!C$22,ROUND(P348+T348-V348+W348,0))","v":18231525},63.431197225816014,null,-777774,-604454,0,-2.0988027741839872,null,null,"339","Wilbraham",0.65534216083971508,65.53,4.1900000000000007E-2,18231525,-2.0988027741839872]
[340,"Williamsburg",371024900,1311078.6021354417,75193020,1152666.8767317878,2463745,3642363.9824364269,0.67641372797453581,3004950,2463745,67.64,null,2197258,3.5299999999999998E-2,2274821,62.454521595569403,5.1854784044305973,0.01,21973,0,0,0,{"$f":"MIN(H349*parameters!C$22,ROUND(P349+T349-V349+W349,0))","v":2296794},63.057783655757632,null,-188924,-166951,0,-4.5822163442423687,null,null,"340","Williamsburg",0.67641372797453581,67.64,3.5299999999999998E-2,2296794,-4.5822163442423687]
[341,"Williamstown",1144212500,4043266.4358804468,294632000,4516543.5199336335,8559810,9874519.1619219091,0.86685841200332203,8146478,8146478,82.5,null,6722264,4.8099999999999997E-2,7045605,71.351373008310532,11.148626991689468,0.02,134445,0,0,0,{"$f":"MIN(H350*parameters!C$22,ROUND(P350+T350-V350+W350,0))","v":7180050},72.712907659217336,null,-1100873,-966428,0,-9.7870923407826638,null,null,"341","Williamstown",0.86685841200332203,82.5,4.8099999999999997E-2,7180050,-9.7870923407826638]
[342,"Wilmington",5921026600,20922938.80527902,1232656000,18895925.999576803,39818865,42209693.327014588,0.94335831088627131,34822997,34822997,82.5,null,31516436,4.8599999999999997E-2,33048135,78.29513174607429,4.2048682539257101,0.01,315164,0,0,0,{"$f":"MIN(H351*parameters!C$22,ROUND(P351+T351-V351+W351,0))","v":33363299},79.041794361124118,null,-1774862,-1459698,0,-3.4582056388758815,null,null,"342","Wilmington",0.94335831088627131,82.5,4.8599999999999997E-2,33363299,-3.4582056388758815]
[343,"Winchendon",983994000,3477107.5419187821,277647000,4256172.9841938876,7733281,22267067.140482467,0.34729679266743529,18370330,7733281,34.729999999999997,null,6472829,3.7499999999999999E-2,6715560,30.15915817575647,4.5708418242435265,0.01,64728,0,0,0,{"$f":"MIN(H352*parameters!C$22,ROUND(P352+T352-V352+W352,0))","v":6780288},30.449847558384331,null,-1017721,-952993,0,-4.280152441615666,null,null,"343","Winchendon",0.34729679266743529,34.729999999999997,3.7499999999999999E-2,6780288,-4.280152441615666]
[344,"Winchester",9544700800,33727798.276247859,3102224000,47555356.188678071,81283154,54159992.42405694,1.5007969972295532,44681994,44681994,82.5,null,42440648,4.1900000000000007E-2,44218911,81.644972646559523,0.85502735344047665,0,0,0,0,0,{"$f":"MIN(H353*parameters!C$22,ROUND(P353+T353-V353+W353,0))","v":44218911},81.644972646559523,null,-463083,-463083,0,-0.85502735344047665,null,null,"344","Winchester",1.5007969972295532,82.5,4.1900000000000007E-2,44218911,-0.85502735344047665]
[345,"Windsor",139980600,494644.88602808176,26469000,405754.94321432617,900400,966451.38036266272,0.93165576488920032,797322,797322,82.5,null,665815,4.8000000000000001E-2,697774,72.199596811394585,10.300403188605415,0.02,13316,0,0,0,{"$f":"MIN(H354*parameters!C$22,ROUND(P354+T354-V354+W354,0))","v":711090},73.577420907936627,null,-99548,-86232,0,-8.9225790920633727,null,null,"345","Windsor",0.93165576488920032,82.5,4.8000000000000001E-2,711090,-8.9225790920633727]
[346,"Winthrop",3178797900,11232814.58253362,788650000,12089562.732478686,23322377,30121745.3710992,0.77427043860403366,24850440,23322377,77.430000000000007,null,18920388,3.1699999999999999E-2,19520164,64.804226181159279,12.625773818840727,0.02,378408,0,0,0,{"$f":"MIN(H355*parameters!C$22,ROUND(P355+T355-V355+W355,0))","v":19898572},66.060488045596486,null,-3802213,-3423805,0,-11.369511954403521,null,null,"346","Winthrop",0.77427043860403366,77.430000000000007,3.1699999999999999E-2,19898572,-11.369511954403521]
[347,"Woburn",10155637600,35886645.743728071,2023602000,31020685.125935882,66907331,68275251.982983202,0.97996461465533458,56327083,56327083,82.5,null,50286813,6.5799999999999997E-2,53595685,78.499431995297641,4.0005680047023588,0.01,502868,0,0,0,{"$f":"MIN(H356*parameters!C$22,ROUND(P356+T356-V356+W356,0))","v":54098553},79.23596241502473,null,-2731398,-2228530,0,-3.2640375849752701,null,null,"347","Woburn",0.97996461465533458,82.5,6.5799999999999997E-2,54098553,-3.2640375849752701]
[348,"Worcester",18737985800,66213809.988218471,5003741000,76704546.651335359,142918357,477974878.60999995,0.29900809309397447,394329275,142918357,29.9,null,114317014,4.3499999999999997E-2,119289804,24.957337579520289,4.9426624204797101,0.01,1143170,0,0,0,{"$f":"MIN(H357*parameters!C$22,ROUND(P357+T357-V357+W357,0))","v":120432974},25.196507052887686,null,-23628553,-22485383,0,-4.7034929471123128,null,null,"348","Worcester",0.29900809309397447,29.9,4.3499999999999997E-2,120432974,-4.7034929471123128]
[349,"Worthington",198652000,701970.10085147864,39991000,613039.62877645995,1315010,1568790.0099999995,0.83823200786445629,1294252,1294252,82.5,null,1027100,5.4699999999999999E-2,1083282,69.052071538879844,13.447928461120156,0.02,20542,0,0,0,{"$f":"MIN(H358*parameters!C$22,ROUND(P358+T358-V358+W358,0))","v":1103824},70.361488342216063,null,-210970,-190428,0,-12.138511657783937,null,null,"349","Worthington",0.83823200786445629,82.5,5.4699999999999999E-2,1103824,-12.138511657783937]
[350,"Wrentham",2814471000,9945404.4847953301,774731000,11876192.259298733,21821597,22736038.922799893,0.9597800687311947,18757232,18757232,82.5,null,16794316,4.5499999999999999E-2,17558457,77.227423209555781,5.2725767904442193,0.01,167943,0,0,0,{"$f":"MIN(H359*parameters!C$22,ROUND(P359+T359-V359+W359,0))","v":17726400},77.966087497430422,null,-1198775,-1030832,0,-4.5339125025695779,null,null,"350","Wrentham",0.9597800687311947,82.5,4.5499999999999999E-2,17726400,-4.5339125025695779]
[351,"Yarmouth",7825616900,27653127.501953345,936438000,14355069.988051577,42008197,37807760.896145575,1.1110998378188182,31191403,31191403,82.5,null,26388703,3.9600000000000003E-2,27433696,72.561017499443636,9.9389825005563637,0.02,527774,0,0,0,{"$f":"MIN(H360*parameters!C$22,ROUND(P360+T360-V360+W360,0))","v":27961470},73.956958405464889,null,-3757707,-3229933,0,-8.5430415945351115,null,null,"351","Yarmouth",1.1110998378188182,82.5,3.9600000000000003E-2,27961470,-8.5430415945351115]
[999,"STATE TOTAL",{"$f":"SUM(C10:C360)","v":1583183946900},{"$f":"SUM(D10:D360)","v":5594445537.2804441},364947812473.25,5594445537.280447,11188891070,13965016629.332031,0.80120857475378338,11521138716,8239359807,{"$f":"K361*100/H361","v":58.999999969166538},null,{"$f":"SUM(N10:N360)","v":7166744292},4.7500000000000001E-2,{"$f":"SUM(P10:P360)","v":7495012482},53.669914479425138,null,null,{"$f":"SUM(T10:T360)","v":63882714},{"$f":"SUM(U10:U360)","v":2463965},{"$f":"SUM(V10:V360)","v":2463965},{"$f":"SUM(W10:W360)","v":9952246},{"$f":"SUM(X10:X360)","v":7566383477},54.180984368522822,null,{"$f":"SUM(AA10:AA360)","v":-746811290},{"$f":"SUM(AB10:AB360)","v":-672976330},{"$f":"SUM(AC10:AC360)","v":0},null,null,null,{"$f":"TEXT(A361,\"000\")","v":"999"},{"$f":"B361","v":"STATE TOTAL"},{"$f":"I361","v":0.80120857475378338},{"$f":"L361","v":58.999999969166538},4.7500000000000001E-2,{"$f":"X361","v":7566383477},{"$f":"AD361","v":0}]
[]
[]
[null,null,null,null,null,null,null,null,null,null,null,null,null,null,null,null,null,{"$f":"COUNTIF(R10:R360,\">0\")","v":326},{"$f":"COUNTIF(S10:S360,\".01\")","v":225},{"$f":"COUNTIF(T10:T360,\">0\")","v":288},{"$f":"COUNTIF(U10:U360,\">0\")","v":25},null,{"$f":"COUNTIF(W10:W360,\">0\")","v":26},null,null,null,{"$f":"COUNTIF(AA10:AA360,\"<0\")","v":326},{"$f":"COUNTIF(AB10:AB360,\">0\")","v":0},{"$f":"COUNTIF(AC10:AC360,\">0\")","v":0}]
[null,null,null,null,null,null,null,null,null,null,null,null,null,null,null,null,null,null,{"$f":"COUNTIF(S10:S360,\".02\")","v":63},null,{"$f":"U364/351","v":7.1225071225071226E-2}]

{"sheet":"Aid436","index":13,"n_rows":454,"n_cols":45,"rows_kept":454,"cut":false,"hidden":false,"merged":[[3,5,5,5],[0,18,1,20],[4,38,4,44],[4,8,4,11],[4,28,4,32],[4,16,4,17],[4,18,4,20]]}
[null,null,null,"c70fy23","c70fy23","c70fy23",null,null,null,null,null,null,null,"c70fy23"]
[null,null,null,47,null,null,null,49]
[null,2,3,4,5,6,7,8,9,10,11,12,13,14,15,16,17,18,19,20,21,22,23,24,25,26,27,28,29,30,31,32,33,34,35,36,37,38,39,40,41,null,42,43,44]
["Return to Index",null,"nonop",null,null,"Warwick/Pioneer base aid adjustment",null,"priorc70","found","prelcont436","foundaid","foundinc",null,null,"enro",null,null,"minaid",null,null,null,null,"rednonop",null,"chapter70"]
["More about the data",null,null,null,null,null,null,"Base Aid","Foundation Aid Calculation",null,null,null,null,null,null,null,"Minimum Aid Calculation",null,"Minimum Aid Adjustment",null,null,null,null,null,null,null,null,null,"Analysis",null,null,null,null,null,null,null,null,null,"SUMMARY FOR EXPORT (reads from columns to the left)"]
[null,null,null,null,null,null,null,null,null,null,null,null,null,null,null,null,{"$f":"mininc","v":30}]
[null,null,null,"foundation","required",null,null,null,"foundation","required",null,null,"district","foundation","foundation","operating dist",null,null,null,null,null,"c70 prior ",null,null,null,null,null,"nss ",null,null,null,null,null,null,null,null,null,null,null,null,null,{"$f":"O7","v":"foundation"},{"$f":"I7","v":"foundation"},{"$f":"J7","v":"required"}]
[null,null,null,"budget","contribution","chapter 70",null,null,"budget","contribution","foundation","foundation","target aid","enrollment","enrollment","foundation ","Min Aid ","Addl Aid ","Aid determination from",null,"Increment","to non-op","non-op ",null,"Chapter 70","c70 pct of",{"$f":"CYr","v":"FY24"},"percent of",null,null,"Aid Comp'd","Distance from","Foundation ",null,"Base Aid",null,"per pupil",null,{"$f":"A9","v":"LEA"},{"$f":"B9","v":"District"},{"$f":"C9","v":"Non-Op"},{"$f":"O8","v":"enrollment"},"budget","contribution",{"$f":"Y8","v":"Chapter 70"}]
["LEA","District","Non-Op",{"$f":"PYr","v":"FY23"},{"$f":"PYr","v":"FY23"},{"$f":"PYr","v":"FY23"},null,"base aid",{"$f":"CYr","v":"FY24"},{"$f":"CYr","v":"FY24"},"aid","aid increase","percentage",{"$f":"PYr","v":"FY23"},{"$f":"CYr","v":"FY24"},"aid?","Per Pupil","to Reach Min","minimum aid adjustment formula","plus additional $30/pupil","above min aid","reduction","reduction","blank",{"$f":"CYr","v":"FY24"},"foundation","Required NSS","foundation","∆ in Foundation Budget","∆ in Aid","to Target","Aid Target","Budget PP","blank","Reduction","blank","∆ in Aid","blank",{"$f":"CYr","v":"FY24"},{"$f":"CYr","v":"FY24"},{"$f":"CYr","v":"FY24"},"FY24","FY24","FY24","FY24"]
[1,"Abington                     ",1,29563170.916989997,16599047,12964124,null,{"$f":"F10","v":12964124},{"$f":"SUMIF(dist1755,A10,found1755)","v":31287579.078960005},{"$f":"SUMIF(dist1755,A10,prelcont1755)","v":17104459},{"$f":"ROUND(MAX(found-prelcont436,0),0)","v":14183120},{"$f":"IF(foundaid>priorc70,foundaid-priorc70,0)","v":1218996},{"$f":"ROUND(100-'Townwide Contributions'!L10,2)","v":39.93},2238,{"$f":"SUMIF(dist1755,A10,enro1755)","v":2206},{"$f":"IF(AND(C10=1,L10>0),1,0)","v":1},{"$f":"IF(nonop=1,enro*$Q$6,0)","v":66180},{"$f":"IF((foundinc)<Q10,Q10-(foundinc),0)","v":0},12964124,{"$f":"S10+30*enro","v":13030304},{"$f":"IF(T10-priorc70-foundinc-minaid>0,T10-priorc70-foundinc-minaid,0)","v":0},{"$f":"priorc70+foundinc+minaidadjincrement+minaid","v":14183120},{"$f":"IF(AND(C10=0,V10>found),V10-found,0)","v":0},null,{"$f":"priorc70+foundinc+minaidadjincrement+minaid-rednonop+holdharmlessaid","v":14183120},{"$f":"IF(C10=1, Y10/I10*100, 0)","v":45.331471521674047},{"$f":"prelcont436+chapter70","v":31287579},{"$f":"IF(found>0,AA10*100/found,0)","v":99.999999747631463},{"$f":"I10-D10","v":1724408.1619700082},{"$f":"Y10-F10","v":1218996},{"$f":"Y10-((M10/100)*I10)","v":1689989.6737712696},{"$f":"IF(C10=1, (Y10/I10*100)-M10, \"\")","v":5.401471521674047},{"$f":"IFERROR(ROUND(I10/O10, 2), 0)","v":14182.95},null,{"$f":"VLOOKUP(A10, disthist, 37, FALSE)*$H$6","v":0},null,{"$f":"IFERROR(AD10/O10, 0)","v":552.58204895738891},null,{"$f":"A10","v":1},{"$f":"B10","v":"Abington                     "},{"$f":"C10","v":1},{"$f":"O10","v":2206},{"$f":"I10","v":31287579.078960005},{"$f":"J10","v":17104459},{"$f":"Y10","v":14183120}]
[2,"Acton                        ",0,0,0,0,null,{"$f":"F11","v":0},0,{"$f":"SUMIF(dist1755,A11,prelcont1755)","v":0},{"$f":"ROUND(MAX(found-prelcont436,0),0)","v":0},{"$f":"IF(foundaid>priorc70,foundaid-priorc70,0)","v":0},{"$f":"ROUND(100-'Townwide Contributions'!L11,2)","v":17.5},0,0,0,0,{"$f":"IF((foundinc)<Q11,Q11-(foundinc),0)","v":0},0,0,0,{"$f":"priorc70+foundinc+minaidadjincrement+minaid","v":0},0,null,0,0,0,0,0,0,0,"",0,null,0,null,0,null,2,"Acton                        ",0,{"$f":"O11","v":0},0,0,0]
[3,"Acushnet                     ",1,14410940.639999999,8355453,6469222,null,6469222,15911255.389999999,8740925,7170330,701108,{"$f":"ROUND(100-'Townwide Contributions'!L12,2)","v":38.21},1192,1221,1,36630,0,6469222,6505852,0,7170330,0,null,7170330,45.064514548025244,15911255,99.999997548904915,1500314.75,701108,1090639.3154810006,6.854514548025243,13031.33,null,0,null,574.20802620802624,null,3,"Acushnet                     ",1,1221,15911255.389999999,8740925,7170330]
[4,"Adams                        ",0,0,0,0,null,0,0,0,0,0,{"$f":"ROUND(100-'Townwide Contributions'!L13,2)","v":67.14},0,0,0,0,0,0,0,0,0,0,null,0,0,0,0,0,0,0,"",0,null,0,null,0,null,4,"Adams                        ",0,0,0,0,0]
[5,"Agawam                       ",1,46476254.920000002,24515018,21961237,null,21961237,50397491.299999997,25373043,25024448,3063211,{"$f":"ROUND(100-'Townwide Contributions'!L14,2)","v":45.28},3420,3421,1,102630,0,22469694,22572324,0,25024448,0,null,25024448,49.654154114611657,50397491,99.999999404732279,3921236.3799999952,3063211,2204463.9393600002,4.374154114611656,14731.8,null,0,null,895.41391406021626,null,5,"Agawam                       ",1,3421,50397491.299999997,25373043,25024448]
[6,"Alford                       ",0,0,0,0,null,0,0,0,0,0,{"$f":"ROUND(100-'Townwide Contributions'!L15,2)","v":17.5},0,0,0,0,0,0,0,0,0,0,null,0,0,0,0,0,0,0,"",0,null,0,null,0,null,6,"Alford                       ",0,0,0,0,0]
[7,"Amesbury                     ",1,23505262.730000008,17438478,9361467,null,9361467,24965747.029999997,18234602,6731145,0,{"$f":"ROUND(100-'Townwide Contributions'!L16,2)","v":20.38},1878,1847,0,55410,55410,9361467,9416877,0,9416877,0,null,9416877,37.719187768282062,27651479,110.75766716202284,1460484.2999999896,55410,4328857.7552860007,17.339187768282063,13516.92,null,0,null,30,null,7,"Amesbury                     ",1,1847,24965747.029999997,18234602,9416877]
[8,"Amherst                      ",1,13429756.490000002,10461831,6217473,null,6217473,14207190.940000001,11168148,3039043,0,{"$f":"ROUND(100-'Townwide Contributions'!L17,2)","v":19.05},1065,1055,0,31650,31650,6217473,6249123,0,6249123,0,null,6249123,43.985633939822307,17417271,122.59475552596464,777434.44999999925,31650,3542653.1259299996,24.935633939822306,13466.53,null,0,null,30,null,8,"Amherst                      ",1,1055,14207190.940000001,11168148,6249123]
[9,"Andover                      ",1,67357496.128189996,55569934,12167131,null,12167131,72244408.493600011,58293608,13950800,1783669,{"$f":"ROUND(100-'Townwide Contributions'!L18,2)","v":17.5},5500,5554,1,166620,0,12206932,12373552,0,13950800,0,null,13950800,19.310560209287164,72244408,99.99999931676372,4886912.365410015,1783669,1308028.5136199985,1.8105602092871642,13007.64,null,0,null,321.15034209578681,null,9,"Andover                      ",1,5554,72244408.493600011,58293608,13950800]
[10,"Arlington                    ",1,69496899.573259994,53603535,15893365,null,15893365,74896748.635400012,56193340,18703409,2810044,{"$f":"ROUND(100-'Townwide Contributions'!L19,2)","v":17.5},5910,6002,1,180060,0,16547140,16727200,0,18703409,0,null,18703409,24.972257595651911,{"$f":"prelcont436+chapter70","v":74896749},100.00000048680349,5399849.0621400177,2810044,5596477.9888049979,7.4722575956519108,12478.63,null,0,null,468.18460513162279,null,10,"Arlington                    ",1,6002,74896748.635400012,56193340,18703409]
[11,"Ashburnham                   ",0,0,0,0,null,0,0,0,0,0,{"$f":"ROUND(100-'Townwide Contributions'!L20,2)","v":54.71},0,0,0,0,0,0,0,0,0,0,null,0,0,0,0,0,0,0,"",0,null,0,null,0,null,11,"Ashburnham                   ",0,0,0,0,0]
[12,"Ashby                        ",0,0,0,0,null,0,0,0,0,0,{"$f":"ROUND(100-'Townwide Contributions'!L21,2)","v":43.74},0,0,0,0,0,0,0,0,0,0,null,0,0,0,0,0,0,0,"",0,null,0,null,0,null,12,"Ashby                        ",0,0,0,0,0]
[13,"Ashfield                     ",0,141279.39000000001,110785,93683,null,93683,245151,179015,66136,0,{"$f":"ROUND(100-'Townwide Contributions'!L22,2)","v":18.09},9,13,0,0,0,0,390,0,93683,0,null,93683,0,272698,111.23674796350005,103871.60999999999,0,49335.184099999999,"",18857.77,null,0,null,0,null,13,"Ashfield                     ",0,13,245151,179015,93683]
[14,"Ashland                      ",1,33942250.529999994,24208528,9733723,null,9733723,36758230.609999992,25484731,11273500,1539777,{"$f":"ROUND(100-'Townwide Contributions'!L23,2)","v":22.38},2814,2839,1,85170,0,10196921,10282091,0,11273500,0,null,11273500,30.669321708137581,36758231,100.00000106098689,2815980.0799999982,1539777,3047007.9894820014,8.2893217081375816,12947.6,null,0,null,542.36597393448392,null,14,"Ashland                      ",1,2839,36758230.609999992,25484731,11273500]
[15,"Athol                        ",0,0,0,0,null,0,0,0,0,0,{"$f":"ROUND(100-'Townwide Contributions'!L24,2)","v":71.48},0,0,0,0,0,0,0,0,0,0,null,0,0,0,0,0,0,0,"",0,null,0,null,0,null,15,"Athol                        ",0,0,0,0,0]
[16,"Attleboro                    ",1,89310929.609999999,41515915,47795015,null,47795015,97105120.719999999,43712969,53392152,5597137,{"$f":"ROUND(100-'Townwide Contributions'!L25,2)","v":51.51},6237,6238,1,187140,0,49003660,49190800,0,53392152,0,null,53392152,54.983868620023479,97105121,100.00000028834731,7794191.1099999994,5597137,3373304.3171280026,3.473868620023481,15566.71,null,0,null,897.26466816287268,null,16,"Attleboro                    ",1,6238,97105120.719999999,43712969,53392152]
[17,"Auburn                       ",1,30252650.170000002,16217482,14035168,null,14035168,32176028.359999999,17041707,15134321,1099153,{"$f":"ROUND(100-'Townwide Contributions'!L26,2)","v":42},2425,2422,1,72660,0,14035168,14107828,0,15134321,0,null,15134321,47.036013365821141,32176028,99.999998881154639,1923378.1899999976,1099153,1620389.0888,5.036013365821141,13284.9,null,0,null,453.82039636663916,null,17,"Auburn                       ",1,2422,32176028.359999999,17041707,15134321]
[18,"Avon                         ",1,8289241.6600000001,5081884,3207358,null,3207358,9536788.9200000018,5390722,4146067,938709,{"$f":"ROUND(100-'Townwide Contributions'!L27,2)","v":36.869999999999997},563,586,1,17580,0,3330985,3348565,0,4146067,0,null,4146067,43.474454921667693,9536789,100.00000083885676,1247547.2600000016,938709,629852.92519599944,6.6044549216676955,16274.38,null,0,null,1601.8924914675767,null,18,"Avon                         ",1,586,9536788.9200000018,5390722,4146067]
[19,"Ayer                         ",0,0,0,0,null,0,0,0,0,0,{"$f":"ROUND(100-'Townwide Contributions'!L28,2)","v":26.98},0,0,0,0,0,0,0,0,0,0,null,0,0,0,0,0,0,0,"",0,null,0,null,0,null,19,"Ayer                         ",0,0,0,0,0]
[20,"Barnstable                   ",1,75594779.840000004,56888584,18706196,null,18706196,84542110.140000001,59790057,24752053,6045857,{"$f":"ROUND(100-'Townwide Contributions'!L29,2)","v":17.5},5193,5302,1,159060,0,18706196,18865256,0,24752053,0,null,24752053,29.277779983266456,84542110,99.999999834402047,8947330.299999997,6045857,9957183.7255000006,11.777779983266456,15945.32,null,0,null,1140.2974349302151,null,20,"Barnstable                   ",1,5302,84542110.140000001,59790057,24752053]
[21,"Barre                        ",0,0,0,0,null,0,0,0,0,0,{"$f":"ROUND(100-'Townwide Contributions'!L30,2)","v":58.56},0,0,0,0,0,0,0,0,0,0,null,0,0,0,0,0,0,0,"",0,null,0,null,0,null,21,"Barre                        ",0,0,0,0,0]
[22,"Becket                       ",0,202094.16,153855,76923,null,76923,261641.76000000004,189361,72281,0,{"$f":"ROUND(100-'Townwide Contributions'!L31,2)","v":17.5},11,14,0,0,0,0,420,0,76923,0,null,76923,0,266284,101.77427334229824,59547.600000000035,0,31135.691999999995,"",18688.7,null,0,null,0,null,22,"Becket                       ",0,14,261641.76000000004,189361,76923]
[23,"Bedford                      ",1,32246555.756910007,26379003,5867553,null,5867553,33265363.043120004,27443924,5821439,0,{"$f":"ROUND(100-'Townwide Contributions'!L32,2)","v":17.5},2624,2549,0,76470,76470,5867553,5944023,0,5944023,0,null,5944023,17.868504823756471,33387947,100.36850328890473,1018807.2862099968,76470,122584.46745399944,0.36850482375647076,13050.36,null,0,null,30,null,23,"Bedford                      ",1,2549,33265363.043120004,27443924,5944023]
[24,"Belchertown                  ",1,26384198.330000002,13099002,14080886,null,14080886,27713334.379999995,13763232,13950102,0,{"$f":"ROUND(100-'Townwide Contributions'!L33,2)","v":46.97},2177,2152,0,64560,64560,14080886,14145446,0,14145446,0,null,14145446,51.042021165841398,27908678,100.70487230919777,1329136.0499999933,64560,1128492.8417140022,4.0720211658413987,12877.94,null,0,null,30,null,24,"Belchertown                  ",1,2152,27713334.379999995,13763232,14145446]
[25,"Bellingham                   ",1,27015991.390000001,18432465,8837425,null,8837425,29660512.23,19686080,9974432,1137007,{"$f":"ROUND(100-'Townwide Contributions'!L34,2)","v":28.52},2158,2175,1,65250,0,8937277,9002527,0,9974432,0,null,9974432,33.62865726206644,29660512,99.999999224558238,2644520.84,1137007,1515253.9120039996,5.1086572620664406,13637.02,null,0,null,522.76183908045982,null,25,"Bellingham                   ",1,2175,29660512.23,19686080,9974432]
[26,"Belmont                      ",1,53256083.380400002,43686648,10158889,null,10158889,57423975.883839987,45639441,11784535,1625646,{"$f":"ROUND(100-'Townwide Contributions'!L35,2)","v":17.5},4449,4505,1,135150,0,10167310,10302460,0,11784535,0,null,11784535,20.52197678516432,57423976,100.00000020228487,4167892.5034399852,1625646,1735339.2203280032,3.0219767851643198,12746.72,null,0,null,360.85371809100997,null,26,"Belmont                      ",1,4505,57423975.883839987,45639441,11784535]
[27,"Berkley                      ",1,8601441.5,4571797,4068938,null,4068938,8929788.1399999987,4777868,4151920,82982,{"$f":"ROUND(100-'Townwide Contributions'!L36,2)","v":42.34},725,698,1,20940,0,4068938,4089878,0,4151920,0,null,4151920,46.495168025341307,8929788,99.999998432213658,328346.63999999873,82982,371047.70152400015,4.1551680253413039,12793.39,null,0,null,118.88538681948424,null,27,"Berkley                      ",1,698,8929788.1399999987,4777868,4151920]
[28,"Berlin                       ",0,0,0,0,null,0,0,0,0,0,{"$f":"ROUND(100-'Townwide Contributions'!L37,2)","v":17.5},0,0,0,0,0,0,0,0,0,0,null,0,0,0,0,0,0,0,"",0,null,0,null,0,null,28,"Berlin                       ",0,0,0,0,0]
[29,"Bernardston                  ",0,0,0,0,null,0,0,0,0,0,{"$f":"ROUND(100-'Townwide Contributions'!L38,2)","v":42.59},0,0,0,0,0,0,0,0,0,0,null,0,0,0,0,0,0,0,"",0,null,0,null,0,null,29,"Bernardston                  ",0,0,0,0,0]
[30,"Beverly                      ",1,58610573.329999998,45452132,13158441,null,13158441,61798815.259999998,47254334,14544481,1386040,{"$f":"ROUND(100-'Townwide Contributions'!L39,2)","v":17.5},4595,4541,1,136230,0,13158441,13294671,0,14544481,0,null,14544481,23.535210082601836,61798815,99.999999579279958,3188241.9299999997,1386040,3729688.3295000009,6.0352100826018358,13609.08,null,0,null,305.22792336489761,null,30,"Beverly                      ",1,4541,61798815.259999998,47254334,14544481]
[31,"Billerica                    ",1,57705837.690000005,46197969,19777194,null,19777194,63590856.680000007,49635324,13955533,0,{"$f":"ROUND(100-'Townwide Contributions'!L40,2)","v":17.5},4792,4879,0,146370,146370,19777194,19923564,0,19923564,0,null,19923564,31.330862706031397,69558888,109.38504626542797,5885018.9900000021,146370,8795164.0810000002,13.830862706031397,13033.58,null,0,null,30,null,31,"Billerica                    ",1,4879,63590856.680000007,49635324,19923564]
[32,"Blackstone                   ",0,437559.81000000006,213832,234189,null,234189,393567.83999999997,197879,195689,0,{"$f":"ROUND(100-'Townwide Contributions'!L41,2)","v":44.4},26,22,0,0,0,0,660,0,234189,0,null,234189,0,432068,109.78234400453046,-43991.970000000088,0,59444.87904,"",17889.45,null,0,null,0,null,32,"Blackstone                   ",0,22,393567.83999999997,197879,234189]
[33,"Blandford                    ",0,156977.1,129506,43955,null,43955,245151,186549,58602,14647,{"$f":"ROUND(100-'Townwide Contributions'!L42,2)","v":17.5},10,13,0,0,0,0,390,0,58602,0,null,58602,0,245151,100,88173.9,14647,15700.575000000004,"",18857.77,null,0,null,1126.6923076923076,null,33,"Blandford                    ",0,13,245151,186549,58602]
[34,"Bolton                       ",0,0,0,0,null,0,0,0,0,0,{"$f":"ROUND(100-'Townwide Contributions'!L43,2)","v":17.5},0,0,0,0,0,0,0,0,0,0,null,0,0,0,0,0,0,0,"",0,null,0,null,0,null,34,"Bolton                       ",0,0,0,0,0]
[35,"Boston                       ",1,1012695285.9958402,827212576,227236505,null,227236505,1095713386.0691998,880485066,215228320,0,{"$f":"ROUND(100-'Townwide Contributions'!L44,2)","v":17.5},58339,57738,0,1732140,1732140,227236505,228968645,0,228968645,0,null,228968645,20.896764419517595,1109453711,101.25400721625687,83018100.073359609,1732140,37218802.437890053,3.396764419517595,18977.34,null,0,null,30,null,35,"Boston                       ",1,57738,1095713386.0691998,880485066,228968645]
[36,"Bourne                       ",1,21855345.039999999,17827720,5371903,null,5371903,22858350.509999994,18409357,4448994,0,{"$f":"ROUND(100-'Townwide Contributions'!L45,2)","v":17.5},1717,1678,0,50340,50340,5371903,5422243,0,5422243,0,null,5422243,23.721059827251732,23831600,104.25774156177293,1003005.4699999951,50340,1422031.6607500012,6.2210598272517323,13622.38,null,0,null,30,null,36,"Bourne                       ",1,1678,22858350.509999994,18409357,5422243]
[37,"Boxborough                   ",0,171344.57700000002,138436,32909,null,32909,107478.84312000001,81354,26125,0,{"$f":"ROUND(100-'Townwide Contributions'!L46,2)","v":17.5},10,6,0,0,0,0,180,0,32909,0,null,32909,0,114263,106.31208587947442,-63865.733880000014,0,14100.202454000002,"",17913.14,null,0,null,0,null,37,"Boxborough                   ",0,6,107478.84312000001,81354,32909]
[38,"Boxford                      ",1,8106140.9460000005,6300062,1811833,null,1811833,8528050.2678800002,6718468,1809582,0,{"$f":"ROUND(100-'Townwide Contributions'!L47,2)","v":17.5},729,721,0,21630,21630,1811833,1833463,0,1833463,0,null,1833463,21.499204887493974,8551931,100.28002569602508,421909.32187999971,21630,341054.20312099997,3.9992048874939741,11828.09,null,0,null,30,null,38,"Boxford                      ",1,721,8528050.2678800002,6718468,1833463]
[39,"Boylston                     ",0,500350.65000000008,412789,113472,null,113472,377077.07999999996,311089,65988,0,{"$f":"ROUND(100-'Townwide Contributions'!L48,2)","v":17.5},30,21,0,0,0,0,630,0,113472,0,null,113472,0,424561,112.59262960241446,-123273.57000000012,0,47483.511000000013,"",17956.05,null,0,null,0,null,39,"Boylston                     ",0,21,377077.07999999996,311089,113472]
[40,"Braintree                    ",1,68308994.308569983,48941926,19367068,null,19367068,72501248.639650002,51848673,20652576,1285508,{"$f":"ROUND(100-'Townwide Contributions'!L49,2)","v":20.95},5273,5244,1,157320,0,19367068,19524388,0,20652576,0,null,20652576,28.4858211237832,72501249,100.00000049702592,4192254.3310800195,1285508,5463564.4099933244,7.5358211237832009,13825.56,null,0,null,245.13882532418,null,40,"Braintree                    ",1,5244,72501248.639650002,51848673,20652576]
[41,"Brewster                     ",1,5580574.6600000001,4228204,1352371,null,1352371,5743102.1100000003,4394765,1348337,0,{"$f":"ROUND(100-'Townwide Contributions'!L50,2)","v":17.5},440,418,0,12540,12540,1352371,1364911,0,1364911,0,null,1364911,23.766093199412051,5759676,100.28858776463579,162527.45000000019,12540,359868.13075000001,6.266093199412051,13739.48,null,0,null,30,null,41,"Brewster                     ",1,418,5743102.1100000003,4394765,1364911]
[42,"Bridgewater                  ",0,156977.1,93380,76248,null,76248,228660.24000000002,131975,96685,20437,{"$f":"ROUND(100-'Townwide Contributions'!L51,2)","v":38.01},10,12,0,0,0,0,360,0,96685,0,null,96685,0,228660,99.999895040781894,71683.140000000014,20437,9771.2427759999991,"",19055.02,null,0,null,1703.0833333333333,null,42,"Bridgewater                  ",0,12,228660.24000000002,131975,96685]
[43,"Brimfield                    ",1,3134102.29,1768013,1388436,null,1388436,3511281.75,1913482,1597800,209364,{"$f":"ROUND(100-'Townwide Contributions'!L52,2)","v":41.51},256,264,1,7920,0,1469791,1477711,0,1597800,0,null,1597800,45.504750508841965,3511282,100.00000711990714,377179.45999999996,209364,140266.94557500002,3.9947505088419675,13300.31,null,0,null,793.0454545454545,null,43,"Brimfield                    ",1,264,3511281.75,1913482,1597800]
[44,"Brockton                     ",1,276250953.13999999,52190600,224060353,null,224060353,295646847.72000003,54579267,241067581,17007228,{"$f":"ROUND(100-'Townwide Contributions'!L53,2)","v":75.89},16975,16619,1,498570,0,224060353,224558923,0,241067581,0,null,241067581,81.539033092721908,295646848,100.00000009470757,19395894.580000043,17007228,16701188.265291959,5.6490330927219077,17789.689999999999,null,0,null,1023.3604910042723,null,44,"Brockton                     ",1,16619,295646847.72000003,54579267,241067581]
[45,"Brookfield                   ",1,2950079.4100000006,1240313,1721083,null,1721083,3240938.5500000003,1329203,1911736,190653,{"$f":"ROUND(100-'Townwide Contributions'!L54,2)","v":54.37},228,223,1,6690,0,1721083,1727773,0,1911736,0,null,1911736,58.987110385045703,3240939,100.00001388486677,290859.13999999966,190653,149637.71036499995,4.6171103850457058,14533.36,null,0,null,854.94618834080723,null,45,"Brookfield                   ",1,223,3240938.5500000003,1329203,1911736]
[46,"Brookline                    ",1,82255132.52319999,67860485,15620467,null,15620467,89394640.063260004,73750578,15644062,23595,{"$f":"ROUND(100-'Townwide Contributions'!L55,2)","v":17.5},6799,6913,1,207390,183795,15620467,15827857,0,15827857,0,null,15827857,17.705599562568221,89578435,100.20559950418721,7139507.5400600135,207390,183794.9889295008,0.20559956256822076,12931.38,null,0,null,30,null,46,"Brookline                    ",1,6913,89394640.063260004,73750578,15827857]
[47,"Buckland                     ",0,15697.710000000001,8117,13134,null,13134,16490.760000000002,8510,7981,0,{"$f":"ROUND(100-'Townwide Contributions'!L56,2)","v":43.52},1,1,0,0,0,0,30,0,13134,0,null,13134,0,21644,131.24925715976704,793.05000000000109,0,5957.2212479999989,"",16490.759999999998,null,0,null,0,null,47,"Buckland                     ",0,1,16490.760000000002,8510,13134]
[48,"Burlington                   ",1,44168133.059200004,35018289,9149844,null,9149844,46103747.98904001,36818680,9285068,135224,{"$f":"ROUND(100-'Townwide Contributions'!L57,2)","v":17.5},3470,3424,1,102720,0,9149844,9252564,0,9285068,0,null,9285068,20.139507968435208,46103748,100.00000002377244,1935614.9298400059,135224,1216912.1019179989,2.6395079684352076,13464.88,null,0,null,39.492990654205606,null,48,"Burlington                   ",1,3424,46103747.98904001,36818680,9285068]
[49,"Cambridge                    ",1,105936291.71016,87397441,18538851,null,18538851,112732473.50964999,93004291,19728183,1189332,{"$f":"ROUND(100-'Townwide Contributions'!L58,2)","v":17.5},7074,7030,1,210900,0,18538851,18749751,0,19728183,0,null,19728183,17.500000120472166,112732474,100.00000043496784,6796181.7994899899,1189332,0.13581125438213348,1.2047216557675711E-7,16035.91,null,0,null,169.17951635846373,null,49,"Cambridge                    ",1,7030,112732473.50964999,93004291,19728183]
[50,"Canton                       ",1,40961226.355149999,33070790,7890436,null,7890436,43350134.769279994,34684949,8665186,774750,{"$f":"ROUND(100-'Townwide Contributions'!L59,2)","v":17.5},3287,3260,1,97800,0,7890436,7988236,0,8665186,0,null,8665186,19.988832897794289,43350135,100.00000053222442,2388908.4141299948,774750,1078912.415376002,2.4888328977942891,13297.59,null,0,null,237.65337423312883,null,50,"Canton                       ",1,3260,43350134.769279994,34684949,8665186]
[51,"Carlisle                     ",1,6420143.4459200008,5066173,1353970,null,1353970,6639945.1630799994,5477955,1161990,0,{"$f":"ROUND(100-'Townwide Contributions'!L60,2)","v":17.5},580,567,0,17010,17010,1353970,1370980,0,1370980,0,null,1370980,20.647459675164821,6848935,103.14746329656522,219801.7171599986,17010,208989.59646100015,3.1474596751648214,11710.66,null,0,null,30,null,51,"Carlisle                     ",1,567,6639945.1630799994,5477955,1370980]
[52,"Carver                       ",1,19740695.12156,10252128,10144409,null,10144409,21283331.499319997,10820042,10463289,318880,{"$f":"ROUND(100-'Townwide Contributions'!L61,2)","v":44.9},1513,1535,1,46050,0,10144409,10190459,0,10463289,0,null,10463289,49.161894604396416,21283331,99.999997653938735,1542636.3777599968,318880,907073.15680532157,4.2618946043964172,13865.36,null,0,null,207.73941368078175,null,52,"Carver                       ",1,1535,21283331.499319997,10820042,10463289]
[53,"Charlemont                   ",0,109883.97,52817,102815,null,102815,131926.08000000002,67011,64915,0,{"$f":"ROUND(100-'Townwide Contributions'!L62,2)","v":45.92},7,8,0,0,0,0,240,0,102815,0,null,102815,0,169826,128.72814836914731,22042.110000000015,0,42234.544063999994,"",16490.759999999998,null,0,null,0,null,53,"Charlemont                   ",0,8,131926.08000000002,67011,102815]
[54,"Charlton                     ",0,15697.710000000001,8363,7335,null,7335,0,0,0,0,{"$f":"ROUND(100-'Townwide Contributions'!L63,2)","v":40.909999999999997},1,0,0,0,0,0,0,0,7335,7335,null,0,0,0,0,-15697.710000000001,-7335,0,"",0,null,0,null,0,null,54,"Charlton                     ",0,0,0,0,0]
[55,"Chatham                      ",0,0,0,0,null,0,0,0,0,0,{"$f":"ROUND(100-'Townwide Contributions'!L64,2)","v":17.5},0,0,0,0,0,0,0,0,0,0,null,0,0,0,0,0,0,0,"",0,null,0,null,0,null,55,"Chatham                      ",0,0,0,0,0]
[56,"Chelmsford                   ",1,59337599.049999997,47375444,11962155,null,11962155,63812307.760000005,49670508,14141800,2179645,{"$f":"ROUND(100-'Townwide Contributions'!L65,2)","v":17.5},5047,5108,1,153240,0,12226937,12380177,0,14141800,0,null,14141800,22.161555499900949,63812308,100.00000037610299,4474708.7100000083,2179645,2974646.1419999991,4.661555499900949,12492.62,null,0,null,426.71202036021924,null,56,"Chelmsford                   ",1,5108,63812307.760000005,49670508,14141800]
[57,"Chelsea                      ",1,125093687.61760001,20484593,104609095,null,104609095,138863180.45907998,22081668,116781512,12172417,{"$f":"ROUND(100-'Townwide Contributions'!L66,2)","v":77.81},7089,7110,1,213300,0,104609095,104822395,0,116781512,0,null,116781512,84.098255285470017,138863180,99.99999966940122,13769492.841479972,12172417,8732071.2847898602,6.2882552854700151,19530.689999999999,null,0,null,1712.0136427566808,null,57,"Chelsea                      ",1,7110,138863180.45907998,22081668,116781512]
[58,"Cheshire                     ",0,31395.420000000002,15812,15583,null,15583,32981.520000000004,16631,16351,768,{"$f":"ROUND(100-'Townwide Contributions'!L67,2)","v":46.43},2,2,0,0,0,0,60,0,16351,0,null,16351,0,32982,100.00145536045639,1586.1000000000022,768,1037.6802639999987,"",16490.759999999998,null,0,null,384,null,58,"Cheshire                     ",0,2,32981.520000000004,16631,16351]
[59,"Chester                      ",0,109883.97,57072,72014,null,72014,98944.56,48005,50940,0,{"$f":"ROUND(100-'Townwide Contributions'!L68,2)","v":45.98},7,6,0,0,0,0,180,0,72014,0,null,72014,0,120019,121.29924070610855,-10939.410000000003,0,26519.291312000001,"",16490.759999999998,null,0,null,0,null,59,"Chester                      ",0,6,98944.56,48005,72014]
[60,"Chesterfield                 ",0,296280.42,213654,133594,null,133594,294623.28000000003,216744,77879,0,{"$f":"ROUND(100-'Townwide Contributions'!L69,2)","v":23.71},17,16,0,0,0,0,480,0,133594,0,null,133594,0,350338,118.91049478506925,-1657.1399999999558,0,63738.820311999996,"",18413.96,null,0,null,0,null,60,"Chesterfield                 ",0,16,294623.28000000003,216744,133594]
[61,"Chicopee                     ",1,112893440.48,32109426,80784014,null,80784014,122693363.2,33865812,88827551,8043537,{"$f":"ROUND(100-'Townwide Contributions'!L70,2)","v":70.040000000000006},7202,7166,1,214980,0,80784014,80998994,0,88827551,0,null,88827551,72.398008077424677,122693363,99.999999836991989,9799922.7199999988,8043537,2893119.4147199988,2.358008077424671,17121.599999999999,null,0,null,1122.4584147362546,null,61,"Chicopee                     ",1,7166,122693363.2,33865812,88827551]
[62,"Chilmark                     ",0,0,0,0,null,0,0,0,0,0,{"$f":"ROUND(100-'Townwide Contributions'!L71,2)","v":17.5},0,0,0,0,0,0,0,0,0,0,null,0,0,0,0,0,0,0,"",0,null,0,null,0,null,62,"Chilmark                     ",0,0,0,0,0]
[63,"Clarksburg                   ",1,2565630.8000000003,761205,1817095,null,1817095,2395286.75,736864,1658423,0,{"$f":"ROUND(100-'Townwide Contributions'!L72,2)","v":65.42},196,171,0,5130,5130,1817095,1822225,0,1822225,0,null,1822225,76.075442741876316,2559089,106.83852361309141,-170344.05000000028,5130,255228.40815000003,10.655442741876314,14007.52,null,0,null,30,null,63,"Clarksburg                   ",1,171,2395286.75,736864,1822225]
[64,"Clinton                      ",1,29918745.999999996,12528207,17390539,null,17390539,32534279.410000004,13217258,19317021,1926482,{"$f":"ROUND(100-'Townwide Contributions'!L73,2)","v":55.65},2064,2062,1,61860,0,17390539,17452399,0,19317021,0,null,19317021,59.374362519498625,32534279,99.99999873979074,2615533.4100000076,1926482,1211694.508334998,3.7243625194986265,15778.02,null,0,null,934.27837051406402,null,64,"Clinton                      ",1,2062,32534279.410000004,13217258,19317021]
[65,"Cohasset                     ",1,15911489.32886,13126979,2873722,null,2873722,{"$f":"SUMIF(dist1755,A74,found1755)","v":16687439.717179999},{"$f":"SUMIF(dist1755,A74,prelcont1755)","v":13767138},{"$f":"ROUND(MAX(found-prelcont436,0),0)","v":2920302},{"$f":"IF(foundaid>priorc70,foundaid-priorc70,0)","v":46580},{"$f":"ROUND(100-'Townwide Contributions'!L74,2)","v":17.5},1381,{"$f":"SUMIF(dist1755,A74,enro1755)","v":1367},{"$f":"IF(AND(C74=1,L74>0),1,0)","v":1},{"$f":"IF(nonop=1,enro*$Q$6,0)","v":41010},{"$f":"IF((foundinc)<Q74,Q74-(foundinc),0)","v":0},2873722,{"$f":"S74+30*enro","v":2914732},{"$f":"IF(T74-priorc70-foundinc-minaid>0,T74-priorc70-foundinc-minaid,0)","v":0},{"$f":"priorc70+foundinc+minaidadjincrement+minaid","v":2920302},{"$f":"IF(AND(C74=0,V74>found),V74-found,0)","v":0},null,{"$f":"priorc70+foundinc+minaidadjincrement+minaid-rednonop+holdharmlessaid","v":2920302},{"$f":"IF(C74=1, Y74/I74*100, 0)","v":17.500000296591335},{"$f":"prelcont436+chapter70","v":16687440},{"$f":"IF(found>0,AA74*100/found,0)","v":100.00000169480762},{"$f":"I74-D74","v":775950.38831999898},{"$f":"Y74-F74","v":46580},{"$f":"Y74-((M74/100)*I74)","v":4.9493500497192144E-2},{"$f":"IF(C74=1, (Y74/I74*100)-M74, \"\")","v":2.9659133460313569E-7},{"$f":"IFERROR(ROUND(I74/O74, 2), 0)","v":12207.34},null,{"$f":"VLOOKUP(A74, disthist, 37, FALSE)*$H$6","v":0},null,{"$f":"IFERROR(AD74/O74, 0)","v":34.074615947329917},null,{"$f":"A74","v":65},{"$f":"B74","v":"Cohasset                     "},{"$f":"C74","v":1},1367,{"$f":"I74","v":16687439.717179999},{"$f":"J74","v":13767138},{"$f":"Y74","v":2920302}]
[66,"Colrain                      ",0,0,0,0,null,{"$f":"F75","v":0},0,0,0,0,{"$f":"ROUND(100-'Townwide Contributions'!L75,2)","v":40.340000000000003},0,0,0,0,0,0,0,0,0,0,null,0,0,0,0,0,0,0,"",0,null,0,null,0,null,66,"Colrain                      ",0,{"$f":"O75","v":0},0,0,0]
[67,"Concord                      ",1,22336390.42678,18427522,3916391,null,3916391,23075622.333200004,19037389,4038233,121842,{"$f":"ROUND(100-'Townwide Contributions'!L76,2)","v":17.5},1977,1925,1,57750,0,3916391,3974141,0,4038233,0,null,4038233,17.499996063768126,23075622,99.999998556051921,739231.90642000362,121842,-0.90831000031903386,-3.9362318737801161E-6,11987.34,null,0,null,63.294545454545457,null,67,"Concord                      ",1,1925,23075622.333200004,19037389,4038233]
[68,"Conway                       ",1,1051296.6600000004,810426,633484,null,633484,941811.15000000014,776994,164817,0,{"$f":"ROUND(100-'Townwide Contributions'!L77,2)","v":17.5},78,66,0,1980,1980,633484,635464,0,635464,0,null,635464,67.472550096694007,1412458,149.9725289937372,-109485.51000000024,1980,470647.04874999996,49.972550096694007,14269.87,null,0,null,30,null,68,"Conway                       ",1,66,941811.15000000014,776994,635464]
[69,"Cummington                   ",0,78488.55,57133,59811.12,null,59811.12,98944.56,81629,17316,0,{"$f":"ROUND(100-'Townwide Contributions'!L78,2)","v":17.5},5,6,0,0,0,0,180,0,59811.12,0,null,59811.12,0,141440.12,142.94885944209565,20456.009999999995,0,42495.822,"",16490.759999999998,null,0,null,0,null,69,"Cummington                   ",0,6,98944.56,81629,59811.12]
[70,"Dalton                       ",0,264885,125579,236581,null,236581,212169.47999999998,97790,114379,0,{"$f":"ROUND(100-'Townwide Contributions'!L79,2)","v":51.26},15,11,0,0,0,0,330,0,236581,24411.520000000019,null,212169.47999999998,0,309959.48,146.09051216979935,-52715.520000000019,-24411.520000000019,103411.40455200001,"",19288.13,null,0,null,-2219.2290909090925,null,70,"Dalton                       ",0,11,212169.47999999998,97790,212169.47999999998]
[71,"Danvers                      ",1,39586571.120000005,31703302,7883269,null,7883269,42331707.480000004,33039603,9292104,1408835,{"$f":"ROUND(100-'Townwide Contributions'!L80,2)","v":17.5},3300,3315,1,99450,0,7970493,8069943,0,9292104,0,null,9292104,21.950695006550678,42331707,99.999998866098167,2745136.3599999994,1408835,1884055.1909999996,4.4506950065506778,12769.75,null,0,null,424.98793363499243,null,71,"Danvers                      ",1,3315,42331707.480000004,33039603,9292104]
[72,"Dartmouth                    ",1,42137530.870000005,33036538,10251151,null,10251151,43916766.759999998,34831363,9085404,0,{"$f":"ROUND(100-'Townwide Contributions'!L81,2)","v":17.5},3366,3303,0,99090,99090,10251151,10350241,0,10350241,0,null,10350241,23.567857480408012,45181604,102.8800782327902,1779235.8899999931,99090,2664806.8170000007,6.0678574804080121,13296.02,null,0,null,30,null,72,"Dartmouth                    ",1,3303,43916766.759999998,34831363,10350241]
[73,"Dedham                       ",1,33049835.113800008,26263407,6786428,null,6786428,34648058.12985,27655361,6992697,206269,{"$f":"ROUND(100-'Townwide Contributions'!L82,2)","v":17.5},2566,2529,1,75870,0,6786428,6862298,0,6992697,0,null,6992697,20.182074775427747,34648058,99.999999625231524,1598223.0160499923,206269,929286.82727625035,2.682074775427747,13700.3,null,0,null,81.561486753657576,null,73,"Dedham                       ",1,2529,34648058.12985,27655361,6992697]
[74,"Deerfield                    ",1,3310653.2399999988,2731289,1140193,null,1140193,3505682.31,2863682,642000,0,{"$f":"ROUND(100-'Townwide Contributions'!L83,2)","v":17.5},284,281,0,8430,8430,1140193,1148623,0,1148623,0,null,1148623,32.764606100317174,4012305,114.45147178781296,195029.07000000123,8430,535128.59574999998,15.264606100317174,12475.74,null,0,null,30,null,74,"Deerfield                    ",1,281,3505682.31,2863682,1148623]
[75,"Dennis                       ",0,0,0,0,null,0,0,0,0,0,{"$f":"ROUND(100-'Townwide Contributions'!L84,2)","v":17.5},0,0,0,0,0,0,0,0,0,0,null,0,0,0,0,0,0,0,"",0,null,0,null,0,null,75,"Dennis                       ",0,0,0,0,0]
[76,"Dighton                      ",0,0,0,0,null,0,0,0,0,0,{"$f":"ROUND(100-'Townwide Contributions'!L85,2)","v":44.54},0,0,0,0,0,0,0,0,0,0,null,0,0,0,0,0,0,0,"",0,null,0,null,0,null,76,"Dighton                      ",0,0,0,0,0]
[77,"Douglas                      ",1,13450769.330000004,7945377,8859605,null,8859605,14574247.939999998,8454786,6119462,0,{"$f":"ROUND(100-'Townwide Contributions'!L86,2)","v":37.340000000000003},1114,1132,0,33960,33960,8859605,8893565,0,8893565,0,null,8893565,61.022462610856344,17348351,119.03427930841146,1123478.6099999938,33960,3451540.8192040008,23.682462610856341,12874.78,null,0,null,30,null,77,"Douglas                      ",1,1132,14574247.939999998,8454786,8893565]
[78,"Dover                        ",1,5377259.1472499995,4436239,941020,null,941020,5901407.9242000002,4868661,1032747,91727,{"$f":"ROUND(100-'Townwide Contributions'!L87,2)","v":17.5},485,500,1,15000,0,997078,1012078,0,1032747,0,null,1032747,17.500010391842217,5901408,100.00000128443925,524148.77695000079,91727,0.61326500005088747,1.0391842216961322E-5,11802.82,null,0,null,183.45400000000001,null,78,"Dover                        ",1,500,5901407.9242000002,4868661,1032747]
[79,"Dracut                       ",1,50418700.75,26100541,24318160,null,24318160,54539267.460000008,27369124,27170143,2851983,{"$f":"ROUND(100-'Townwide Contributions'!L88,2)","v":43.39},3936,3900,1,117000,0,24318160,24435160,0,27170143,0,null,27170143,49.817579636409725,54539267,99.999999156570979,4120566.7100000083,2851983,3505554.8491059951,6.4275796364097246,13984.43,null,0,null,731.27769230769229,null,79,"Dracut                       ",1,3900,54539267.460000008,27369124,27170143]
[80,"Dudley                       ",0,0,0,0,null,0,16490.760000000002,5890,10601,10601,{"$f":"ROUND(100-'Townwide Contributions'!L89,2)","v":55.49},0,1,0,0,0,0,30,0,10601,0,null,10601,0,16491,100.00145536045639,16490.760000000002,10601,1450.2772759999971,"",16490.759999999998,null,0,null,10601,null,80,"Dudley                       ",0,1,16490.760000000002,5890,10601]
[81,"Dunstable                    ",0,0,0,0,null,0,0,0,0,0,{"$f":"ROUND(100-'Townwide Contributions'!L90,2)","v":17.5},0,0,0,0,0,0,0,0,0,0,null,0,0,0,0,0,0,0,"",0,null,0,null,0,null,81,"Dunstable                    ",0,0,0,0,0]
[82,"Duxbury                      ",1,31970862.733219996,25660838,6310025,null,6310025,33659011.201460004,26987503,6671508,361483,{"$f":"ROUND(100-'Townwide Contributions'!L91,2)","v":17.5},2738,2729,1,81870,0,6310025,6391895,0,6671508,0,null,6671508,19.820867464195189,33659011,99.999999401467846,1688148.4682400078,361483,781181.03974450007,2.3208674641951887,12333.83,null,0,null,132.45987541223892,null,82,"Duxbury                      ",1,2729,33659011.201460004,26987503,6671508]
[83,"East Bridgewater             ",1,25682682.969999995,13482733,12199950,null,12199950,26867274.059999999,13993957,12873317,673367,{"$f":"ROUND(100-'Townwide Contributions'!L92,2)","v":42.38},2074,2022,1,60660,0,12199950,12260610,0,12873317,0,null,12873317,47.914488724279607,26867274,99.999999776679985,1184591.0900000036,673367,1486966.2533720005,5.5344887242796048,13287.47,null,0,null,333.02027695351137,null,83,"East Bridgewater             ",1,2022,26867274.059999999,13993957,12873317]
[84,"East Brookfield              ",0,264885,139226,186676,null,186676,278132.51999999996,144480,133653,0,{"$f":"ROUND(100-'Townwide Contributions'!L93,2)","v":42.06},15,15,0,0,0,0,450,0,186676,0,null,186676,0,331156,119.064106563303,13247.51999999996,0,69693.462088000015,"",18542.169999999998,null,0,null,0,null,84,"East Brookfield              ",0,15,278132.51999999996,144480,186676]
[85,"Eastham                      ",1,2709776.2300000004,2235566,474210,null,474210,2896212.01,2389375,506837,32627,{"$f":"ROUND(100-'Townwide Contributions'!L94,2)","v":17.5},199,197,1,5910,0,474210,480120,0,506837,0,null,506837,17.499996486790344,2896212,99.999999654721421,186435.77999999933,32627,-0.10174999991431832,-3.5132096556367287E-6,14701.58,null,0,null,165.61928934010152,null,85,"Eastham                      ",1,197,2896212.01,2389375,506837]
[86,"Easthampton                  ",1,21391869.32,13077217,8314652,null,8314652,22559015.459999997,13894543,8664472,349820,{"$f":"ROUND(100-'Townwide Contributions'!L95,2)","v":33.08},1608,1591,1,47730,0,8314652,8362382,0,8664472,0,null,8664472,38.408023680657564,22559015,99.999997960903926,1167146.1399999969,349820,1201949.6858320013,5.3280236806575658,14179.14,null,0,null,219.87429289754871,null,86,"Easthampton                  ",1,1591,22559015.459999997,13894543,8664472]
[87,"East Longmeadow              ",1,31009727.380000003,17979103,13030624,null,13030624,33881345.879999995,18843898,15037448,2006824,{"$f":"ROUND(100-'Townwide Contributions'!L96,2)","v":40.020000000000003},2535,2552,1,76560,0,13827050,13903610,0,15037448,0,null,15037448,44.382676099288418,33881346,100.0000003541772,2871618.4999999925,2006824,1478133.3788239993,4.3626760992884144,13276.39,null,0,null,786.37304075235113,null,87,"East Longmeadow              ",1,2552,33881345.879999995,18843898,15037448]
[88,"Easton                       ",1,39647570.750000007,31564199,10450341,null,10450341,43192301.489999995,33376275,9816026,0,{"$f":"ROUND(100-'Townwide Contributions'!L97,2)","v":17.5},3345,3418,0,102540,102540,10450341,10552881,0,10552881,0,null,10552881,24.43231926977365,43929156,101.7059857534348,3544730.7399999872,102540,2994228.2392500015,6.9323192697736502,12636.72,null,0,null,30,null,88,"Easton                       ",1,3418,43192301.489999995,33376275,10552881]
[89,"Edgartown                    ",1,5932989.4900000002,4894716,1038273,null,1038273,6660865.3400000008,5495214,1165651,127378,{"$f":"ROUND(100-'Townwide Contributions'!L98,2)","v":17.5},425,438,1,13140,0,1061053,1074193,0,1165651,0,null,1165651,17.499993476823537,6660865,99.999994895558103,727875.85000000056,127378,-0.43449999997392297,-6.5231764629913869E-6,15207.46,null,0,null,290.8173515981735,null,89,"Edgartown                    ",1,438,6660865.3400000008,5495214,1165651]
[90,"Egremont                     ",0,0,0,0,null,0,0,0,0,0,{"$f":"ROUND(100-'Townwide Contributions'!L99,2)","v":17.5},0,0,0,0,0,0,0,0,0,0,null,0,0,0,0,0,0,0,"",0,null,0,null,0,null,90,"Egremont                     ",0,0,0,0,0]
[91,"Erving                       ",1,2504088.0100000002,2013666,490422,null,490422,2671388.7799999998,2115389,556000,65578,{"$f":"ROUND(100-'Townwide Contributions'!L100,2)","v":17.5},205,203,1,6090,0,490422,496512,0,556000,0,null,556000,20.8131442402779,2671389,100.0000082354168,167300.76999999955,65578,88506.963500000071,3.3131442402779001,13159.55,null,0,null,323.04433497536945,null,91,"Erving                       ",1,203,2671388.7799999998,2115389,556000]
[92,"Essex                        ",0,0,0,0,null,0,0,0,0,0,{"$f":"ROUND(100-'Townwide Contributions'!L101,2)","v":17.5},0,0,0,0,0,0,0,0,0,0,null,0,0,0,0,0,0,0,"",0,null,0,null,0,null,92,"Essex                        ",0,0,0,0,0]
[93,"Everett                      ",1,131079661.89111,38446657,92633005,null,92633005,152643280.48403001,40961068,111682212,19049207,{"$f":"ROUND(100-'Townwide Contributions'!L102,2)","v":66.13},7437,7937,1,238110,0,95751845,95989955,0,111682212,0,null,111682212,73.165495163532285,152643280,99.999999682901205,21563618.592920005,19049207,10739210.615910962,7.0354951635322891,19231.86,null,0,null,2400.0512788207129,null,93,"Everett                      ",1,7937,152643280.48403001,40961068,111682212]
[94,"Fairhaven                    ",1,22300570.939999998,13273418,9027153,null,9027153,23768492.649999999,14136790,9631703,604550,{"$f":"ROUND(100-'Townwide Contributions'!L103,2)","v":33.450000000000003},1679,1659,1,49770,0,9027153,9076923,0,9631703,0,null,9631703,40.522986214693759,23768493,100.00000147253765,1467921.7100000009,604550,1681142.2085750001,7.0729862146937563,14327,null,0,null,364.40626883664856,null,94,"Fairhaven                    ",1,1659,23768492.649999999,14136790,9631703]
[95,"Fall River                   ",1,204753290.08000001,36332032,168421258,null,168421258,226544925.61000004,38520449,188024477,19603219,{"$f":"ROUND(100-'Townwide Contributions'!L104,2)","v":77.010000000000005},12103,12238,1,367140,0,168421258,168788398,0,188024477,0,null,188024477,82.99655200562141,226544926,100.00000017215126,21791635.530000031,19603219,13562229.787738979,5.9865520056214052,18511.599999999999,null,0,null,1601.8319169798988,null,95,"Fall River                   ",1,12238,226544925.61000004,38520449,188024477]
[96,"Falmouth                     ",1,41087216.109999992,32002344,9084872,null,9084872,42847018.859999999,33524110,9322909,238037,{"$f":"ROUND(100-'Townwide Contributions'!L105,2)","v":17.5},3025,2959,1,88770,0,9084872,9173642,0,9322909,0,null,9322909,21.758594292083732,42847019,100.00000032674386,1759802.7500000075,238037,1824680.699500001,4.2585942920837319,14480.24,null,0,null,80.445082798242652,null,96,"Falmouth                     ",1,2959,42847018.859999999,33524110,9322909]
[97,"Fitchburg                    ",1,88839002.539999992,20577723,68261280,null,68261280,96678430.429999992,21950317,74728113,6466833,{"$f":"ROUND(100-'Townwide Contributions'!L106,2)","v":72.95},5658,5661,1,169830,0,68261280,68431110,0,74728113,0,null,74728113,77.295538071552457,96678430,99.999999555226552,7839427.8900000006,6466833,4201198.0013149977,4.3455380715524541,17077.98,null,0,null,1142.348171701113,null,97,"Fitchburg                    ",1,5661,96678430.429999992,21950317,74728113]
[98,"Florida                      ",1,969371.9800000001,458631,556297,null,556297,917915.93000000017,425391,492525,0,{"$f":"ROUND(100-'Townwide Contributions'!L107,2)","v":43.87},64,57,0,1710,1710,556297,558007,0,558007,0,null,558007,60.790643430711555,983398,107.13377640150551,-51456.04999999993,1710,155317.28150899993,16.920643430711557,16103.79,null,0,null,30,null,98,"Florida                      ",1,57,917915.93000000017,425391,558007]
[99,"Foxborough                   ",1,32116850.096899997,25779824,9275820,null,9275820,34005786.001159996,27296530,6709256,0,{"$f":"ROUND(100-'Townwide Contributions'!L108,2)","v":17.5},2543,2537,0,76110,76110,9275820,9351930,0,9351930,0,null,9351930,27.500996447136938,36648460,107.77124810098452,1888935.9042599984,76110,3400917.4497970007,10.000996447136938,13403.94,null,0,null,30,null,99,"Foxborough                   ",1,2537,34005786.001159996,27296530,9351930]
[100,"Framingham                   ",1,139318256.59154996,70464780,68853477,null,68853477,159351946.7809,74355413,84996534,16143057,{"$f":"ROUND(100-'Townwide Contributions'!L109,2)","v":48.47},9344,9759,1,292770,0,72124160,72416930,0,84996534,0,null,84996534,53.338873930963317,159351947,100.0000001374944,20033690.189350039,16143057,7758645.3952977806,4.8688739309633178,16328.72,null,0,null,1654.1712265600984,null,100,"Framingham                   ",1,9759,159351946.7809,74355413,84996534]
[101,"Franklin                     ",1,62458712.611599997,44800360,28885721,null,28885721,65275976.234380007,47235495,18040481,0,{"$f":"ROUND(100-'Townwide Contributions'!L110,2)","v":22.28},5180,5104,0,153120,153120,28885721,29038841,0,29038841,0,null,29038841,44.486260758066791,76274336,116.84901613133945,2817263.6227800101,153120,14495353.494980134,22.20626075806679,12789.18,null,0,null,30,null,101,"Franklin                     ",1,5104,65275976.234380007,47235495,29038841]
[102,"Freetown                     ",0,1030120.6499999999,716199,461524,null,461524,966323.64,674176,292148,0,{"$f":"ROUND(100-'Townwide Contributions'!L111,2)","v":25.91},60,53,0,0,0,0,1590,0,461524,0,null,461524,0,1135700,117.52791228412875,-63797.009999999893,0,211149.544876,"",18232.52,null,0,null,0,null,102,"Freetown                     ",0,53,966323.64,674176,461524]
[103,"Gardner                      ",1,34029130.219999999,10721731,23307399,null,23307399,38690363.829999998,11262118,27428246,4120847,{"$f":"ROUND(100-'Townwide Contributions'!L112,2)","v":66.989999999999995},2284,2397,1,71910,0,24237327,24309237,0,27428246,0,null,27428246,70.891672460139802,38690364,100.0000004393859,4661233.6099999994,4120847,1509571.2702830024,3.9016724601398067,16141.16,null,0,null,1719.1685440133501,null,103,"Gardner                      ",1,2397,38690363.829999998,11262118,27428246]
[104,"Aquinnah",0,0,0,0,null,0,0,0,0,0,{"$f":"ROUND(100-'Townwide Contributions'!L113,2)","v":17.5},0,0,0,0,0,0,0,0,0,0,null,0,0,0,0,0,0,0,"",0,null,0,null,0,null,104,"Aquinnah",0,0,0,0,0]
[105,"Georgetown                   ",1,14264533.799999997,11007817,5639758,null,5639758,15011687.49,11377637,3634050,0,{"$f":"ROUND(100-'Townwide Contributions'!L114,2)","v":17.78},1247,1229,0,36870,36870,5639758,5676628,0,5676628,0,null,5676628,37.814722720423482,17054265,113.60658161422997,747153.6900000032,36870,3007549.9642779999,20.034722720423481,12214.55,null,0,null,30,null,105,"Georgetown                   ",1,1229,15011687.49,11377637,5676628]
[106,"Gill                         ",0,0,0,0,null,0,0,0,0,0,{"$f":"ROUND(100-'Townwide Contributions'!L115,2)","v":35.04},0,0,0,0,0,0,0,0,0,0,null,0,0,0,0,0,0,0,"",0,null,0,null,0,null,106,"Gill                         ",0,0,0,0,0]
[107,"Gloucester                   ",1,43648880.139679991,33989778,9659102,null,9659102,47045109.888499998,35714197,11330913,1671811,{"$f":"ROUND(100-'Townwide Contributions'!L116,2)","v":17.5},3051,3035,1,91050,0,9659102,9750152,0,11330913,0,null,11330913,24.085208913009257,47045110,100.00000023700657,3396229.7488200068,1671811,3098018.7695125006,6.5852089130092573,15500.86,null,0,null,550.84382207578255,null,107,"Gloucester                   ",1,3035,47045109.888499998,35714197,11330913]
[108,"Goshen                       ",0,125581.68000000001,71786,96381,null,96381,148416.84,89000,59417,0,{"$f":"ROUND(100-'Townwide Contributions'!L117,2)","v":38.159999999999997},8,9,0,0,0,0,270,0,96381,0,null,96381,0,185381,124.90563739263011,22835.159999999989,0,39745.133856000008,"",16490.759999999998,null,0,null,0,null,108,"Goshen                       ",0,9,148416.84,89000,96381]
[109,"Gosnold                      ",0,8618.84,7111,8404.48,null,8404.48,0,0,0,0,{"$f":"ROUND(100-'Townwide Contributions'!L118,2)","v":100},1,0,0,0,0,0,0,0,8404.48,8404.48,null,0,0,0,0,-8618.84,-8404.48,0,"",0,null,0,null,0,null,109,"Gosnold                      ",0,0,0,0,0]
[110,"Grafton                      ",1,36001737.560000002,23384218,12617520,null,12617520,36858149.159999996,24436656,12421493,0,{"$f":"ROUND(100-'Townwide Contributions'!L119,2)","v":27.46},3053,2950,0,88500,88500,12617520,12706020,0,12706020,0,null,12706020,34.472756471963883,37142676,100.77195097009587,856411.59999999404,88500,2584772.2406639997,7.0127564719638826,12494.29,null,0,null,30,null,110,"Grafton                      ",1,2950,36858149.159999996,24436656,12706020]
[111,"Granby                       ",1,8631463.3900000025,5431578,4725110,null,4725110,9588488.8899999987,5667319,3921170,0,{"$f":"ROUND(100-'Townwide Contributions'!L120,2)","v":35.14},663,672,0,20160,20160,4725110,4745270,0,4745270,0,null,4745270,49.48923708874424,10412589,108.59468180496584,957025.49999999627,20160,1375875.0040540006,14.349237088744239,14268.58,null,0,null,30,null,111,"Granby                       ",1,672,9588488.8899999987,5667319,4745270]
[112,"Granville                    ",0,0,0,0,null,0,0,0,0,0,{"$f":"ROUND(100-'Townwide Contributions'!L121,2)","v":25.23},0,0,0,0,0,0,0,0,0,0,null,0,0,0,0,0,0,0,"",0,null,0,null,0,null,112,"Granville                    ",0,0,0,0,0]
[113,"Great Barrington             ",0,0,0,0,null,0,0,0,0,0,{"$f":"ROUND(100-'Townwide Contributions'!L122,2)","v":17.5},0,0,0,0,0,0,0,0,0,0,null,0,0,0,0,0,0,0,"",0,null,0,null,0,null,113,"Great Barrington             ",0,0,0,0,0]
[114,"Greenfield                   ",1,26326536.470000003,10621969,15704567,null,15704567,27294290.690000001,11091044,16203247,498680,{"$f":"ROUND(100-'Townwide Contributions'!L123,2)","v":56.63},1848,1791,1,53730,0,15704567,15758297,0,16203247,0,null,16203247,59.364968242008565,27294291,100.00000113576866,967754.21999999881,498680,746490.1822529994,2.7349682420085628,15239.69,null,0,null,278.43662758235621,null,114,"Greenfield                   ",1,1791,27294290.690000001,11091044,16203247]
[115,"Groton                       ",0,0,0,0,null,0,0,0,0,0,{"$f":"ROUND(100-'Townwide Contributions'!L124,2)","v":17.5},0,0,0,0,0,0,0,0,0,0,null,0,0,0,0,0,0,0,"",0,null,0,null,0,null,115,"Groton                       ",0,0,0,0,0]
[116,"Groveland                    ",0,125581.68000000001,92564,65470,null,65470,148416.84,106462,41955,0,{"$f":"ROUND(100-'Townwide Contributions'!L125,2)","v":21.87},8,9,0,0,0,0,270,0,65470,0,null,65470,0,171932,115.84399721756643,22835.159999999989,0,33011.237091999996,"",16490.759999999998,null,0,null,0,null,116,"Groveland                    ",0,9,148416.84,106462,65470]
[117,"Hadley                       ",1,6025430.8700000001,4970980,1322740,null,1322740,6277106.5899999999,5178613,1098494,0,{"$f":"ROUND(100-'Townwide Contributions'!L126,2)","v":17.5},473,456,0,13680,13680,1322740,1336420,0,1336420,0,null,1336420,21.29038245310408,6515033,103.79038346073393,251675.71999999974,13680,237926.34675000003,3.7903824531040797,13765.58,null,0,null,30,null,117,"Hadley                       ",1,456,6277106.5899999999,5178613,1336420]
[118,"Halifax                      ",1,7179616.2489300007,4006503,3173113,null,3173113,7849455.0234599989,4340378,3509077,335964,{"$f":"ROUND(100-'Townwide Contributions'!L127,2)","v":40.68},604,613,1,18390,0,3277866,3296256,0,3509077,0,null,3509077,44.704721404381232,7849455,99.999999701125759,669838.77452999819,335964,315918.69645647239,4.024721404381232,12804.98,null,0,null,548.06525285481234,null,118,"Halifax                      ",1,613,7849455.0234599989,4340378,3509077]
[119,"Hamilton                     ",0,0,0,0,null,0,0,0,0,0,{"$f":"ROUND(100-'Townwide Contributions'!L128,2)","v":17.5},0,0,0,0,0,0,0,0,0,0,null,0,0,0,0,0,0,0,"",0,null,0,null,0,null,119,"Hamilton                     ",0,0,0,0,0]
[120,"Hampden                      ",0,0,0,0,null,0,0,0,0,0,{"$f":"ROUND(100-'Townwide Contributions'!L129,2)","v":17.5},0,0,0,0,0,0,0,0,0,0,null,0,0,0,0,0,0,0,"",0,null,0,null,0,null,120,"Hampden                      ",0,0,0,0,0]
[121,"Hancock                      ",1,1024022.3699999999,729685,294337,null,294337,1216494.7500000002,780690,435805,141468,{"$f":"ROUND(100-'Townwide Contributions'!L130,2)","v":17.5},81,86,1,2580,0,378033,380613,0,435805,0,null,435805,35.824651113373065,1216495,100.00002055084904,192472.38000000035,141468,222918.41874999998,18.324651113373065,14145.29,null,0,null,1644.9767441860465,null,121,"Hancock                      ",1,86,1216494.7500000002,780690,435805]
[122,"Hanover                      ",1,29637166.854109999,22439160,7309583,null,7309583,30800181.273539998,23372172,7428009,118426,{"$f":"ROUND(100-'Townwide Contributions'!L131,2)","v":18.34},2528,2481,1,74430,0,7309583,7384013,0,7428009,0,null,7428009,24.116770398300538,30800181,99.999999111888357,1163014.4194299988,118426,1779255.7544327639,5.7767703983005383,12414.42,null,0,null,47.733172108020959,null,122,"Hanover                      ",1,2481,30800181.273539998,23372172,7428009]
[123,"Hanson                       ",0,47093.130000000005,28410,18683,null,18683,82453.8,47057,35397,16714,{"$f":"ROUND(100-'Townwide Contributions'!L132,2)","v":36.770000000000003},3,5,0,0,0,0,150,0,35397,0,null,35397,0,82454,100.00024256007606,35360.67,16714,5078.7377399999968,"",16490.759999999998,null,0,null,3342.8,null,123,"Hanson                       ",0,5,82453.8,47057,35397]
[124,"Hardwick                     ",0,31395.420000000002,11967,28114,null,28114,0,0,0,0,{"$f":"ROUND(100-'Townwide Contributions'!L133,2)","v":53.72},2,0,0,0,0,0,0,0,28114,28114,null,0,0,0,0,-31395.420000000002,-28114,0,"",0,null,0,null,0,null,124,"Hardwick                     ",0,0,0,0,0]
[125,"Harvard                      ",1,9947885.4299999997,8018632,2061331,null,2061331,10576374.949999999,8379508,2196867,135536,{"$f":"ROUND(100-'Townwide Contributions'!L134,2)","v":17.5},873,875,1,26250,0,2061331,2087581,0,2196867,0,null,2196867,20.77145534633301,10576375,100.00000047275178,628489.51999999955,135536,346001.38375000027,3.2714553463330098,12087.29,null,0,null,154.89828571428572,null,125,"Harvard                      ",1,875,10576374.949999999,8379508,2196867]
[126,"Harwich                      ",0,0,0,0,null,0,0,0,0,0,{"$f":"ROUND(100-'Townwide Contributions'!L135,2)","v":17.5},0,0,0,0,0,0,0,0,0,0,null,0,0,0,0,0,0,0,"",0,null,0,null,0,null,126,"Harwich                      ",0,0,0,0,0]
[127,"Hatfield                     ",1,4125023.4699999997,3287596,876136,null,876136,4215602.3500000006,3472030,743572,0,{"$f":"ROUND(100-'Townwide Contributions'!L136,2)","v":17.5},331,317,0,9510,9510,876136,885646,0,885646,0,null,885646,21.008765212401968,4357676,103.37018623210511,90578.88000000082,9510,147915.58875,3.5087652124019684,13298.43,null,0,null,30,null,127,"Hatfield                     ",1,317,4215602.3500000006,3472030,885646]
[128,"Haverhill                    ",1,121331843.41000001,47425533,73906310,null,73906310,132551888.25,49918077,82633811,8727501,{"$f":"ROUND(100-'Townwide Contributions'!L137,2)","v":57.07},8252,8287,1,248610,0,73906310,74154920,0,82633811,0,null,82633811,62.34072716048238,132551888,99.999999811394616,11220044.839999989,8727501,6986448.3757250011,5.2707271604823802,15995.16,null,0,null,1053.1556655001809,null,128,"Haverhill                    ",1,8287,132551888.25,49918077,82633811]
[129,"Hawley                       ",0,62790.840000000004,51375,13300,null,13300,{"$f":"SUMIF(dist1755,A138,found1755)","v":65963.040000000008},{"$f":"SUMIF(dist1755,A138,prelcont1755)","v":54419},{"$f":"ROUND(MAX(found-prelcont436,0),0)","v":11544},{"$f":"IF(foundaid>priorc70,foundaid-priorc70,0)","v":0},{"$f":"ROUND(100-'Townwide Contributions'!L138,2)","v":17.5},4,{"$f":"SUMIF(dist1755,A138,enro1755)","v":4},{"$f":"IF(AND(C138=1,L138>0),1,0)","v":0},{"$f":"IF(nonop=1,enro*$Q$6,0)","v":0},{"$f":"IF((foundinc)<Q138,Q138-(foundinc),0)","v":0},0,{"$f":"S138+30*enro","v":120},{"$f":"IF(T138-priorc70-foundinc-minaid>0,T138-priorc70-foundinc-minaid,0)","v":0},{"$f":"priorc70+foundinc+minaidadjincrement+minaid","v":13300},{"$f":"IF(AND(C138=0,V138>found),V138-found,0)","v":0},null,{"$f":"priorc70+foundinc+minaidadjincrement+minaid-rednonop+holdharmlessaid","v":13300},{"$f":"IF(C138=1, Y138/I138*100, 0)","v":0},{"$f":"prelcont436+chapter70","v":67719},{"$f":"IF(found>0,AA138*100/found,0)","v":102.66203619481453},{"$f":"I138-D138","v":3172.2000000000044},{"$f":"Y138-F138","v":0},{"$f":"Y138-((M138/100)*I138)","v":1756.4679999999989},{"$f":"IF(C138=1, (Y138/I138*100)-M138, \"\")","v":""},{"$f":"IFERROR(ROUND(I138/O138, 2), 0)","v":16490.759999999998},null,{"$f":"VLOOKUP(A138, disthist, 37, FALSE)*$H$6","v":0},null,{"$f":"IFERROR(AD138/O138, 0)","v":0},null,{"$f":"A138","v":129},{"$f":"B138","v":"Hawley                       "},{"$f":"C138","v":0},4,{"$f":"I138","v":65963.040000000008},{"$f":"J138","v":54419},{"$f":"Y138","v":13300}]
[130,"Heath                        ",0,0,0,0,null,{"$f":"F139","v":0},0,0,0,0,{"$f":"ROUND(100-'Townwide Contributions'!L139,2)","v":58.31},0,0,0,0,0,0,0,0,0,0,null,0,0,0,0,0,0,0,"",0,null,0,null,0,null,130,"Heath                        ",0,{"$f":"O139","v":0},0,0,0]
[131,"Hingham                      ",1,45163141.519900002,37259592,8306773,null,8306773,47057670.467040002,38822578,8235092,0,{"$f":"ROUND(100-'Townwide Contributions'!L140,2)","v":17.5},3879,3807,0,114210,114210,8306773,8420983,0,8420983,0,null,8420983,17.89502734925691,47243561,100.39502706172036,1894528.9471400008,114210,185890.66826799978,0.3950273492569103,12360.83,null,0,null,30,null,131,"Hingham                      ",1,3807,47057670.467040002,38822578,8420983]
[132,"Hinsdale                     ",0,109883.97,85327,104923,null,104923,131926.08000000002,99112,32814,0,{"$f":"ROUND(100-'Townwide Contributions'!L141,2)","v":17.5},7,8,0,0,0,0,240,0,104923,0,null,104923,0,204035,154.65857850093019,22042.110000000015,0,81835.936000000002,"",16490.759999999998,null,0,null,0,null,132,"Hinsdale                     ",0,8,131926.08000000002,99112,104923]
[133,"Holbrook                     ",1,18684757.824399997,8938395,9746363,null,9746363,20493828.679550003,9611922,10881907,1135544,{"$f":"ROUND(100-'Townwide Contributions'!L142,2)","v":47.34},1338,1352,1,40560,0,9746363,9786923,0,10881907,0,null,10881907,53.098457931673025,20493829,100.00000156364143,1809070.8551500067,1135544,1180128.5031010285,5.7584579316730213,15158.16,null,0,null,839.89940828402371,null,133,"Holbrook                     ",1,1352,20493828.679550003,9611922,10881907]
[134,"Holden                       ",0,15697.710000000001,8905,6793,null,6793,16490.760000000002,9127,7364,571,{"$f":"ROUND(100-'Townwide Contributions'!L143,2)","v":40.58},1,1,0,0,0,0,30,0,7364,0,null,7364,0,16491,100.00145536045639,793.05000000000109,571,672.04959199999939,"",16490.759999999998,null,0,null,571,null,134,"Holden                       ",0,1,16490.760000000002,9127,7364]
[135,"Holland                      ",1,2386918.7400000002,1401973,984946,null,984946,2529520.8899999997,1516165,1013356,28410,{"$f":"ROUND(100-'Townwide Contributions'!L144,2)","v":35.020000000000003},171,175,1,5250,0,984946,990196,0,1013356,0,null,1013356,40.061183285977933,2529521,100.00000434864961,142602.14999999944,28410,127517.78432200011,5.0411832859779295,14454.41,null,0,null,162.34285714285716,null,135,"Holland                      ",1,175,2529520.8899999997,1516165,1013356]
[136,"Holliston                    ",1,31404798.240489997,22733659,8671139,null,8671139,32828254.537319999,23937028,8891227,220088,{"$f":"ROUND(100-'Townwide Contributions'!L145,2)","v":23.45},2724,2686,1,80580,0,8829483,8910063,18836,8910063,0,null,8910063,27.141446067048165,32847091,100.0573788126889,1423456.2968300022,238924,1211837.3109984603,3.6914460670481652,12221.99,null,0,null,88.95160089352197,null,136,"Holliston                    ",1,2686,32828254.537319999,23937028,8910063]
[137,"Holyoke                      ",1,101613348.83999999,11842864,89770485,null,89770485,109412142.28999999,12452771,96959371,7188886,{"$f":"ROUND(100-'Townwide Contributions'!L146,2)","v":80.42},6033,5926,1,177780,0,89770485,89948265,0,96959371,0,null,96959371,88.618474120547276,109412142,99.999999734947153,7798793.450000003,7188886,8970126.170382008,8.1984741205472744,18463.07,null,0,null,1213.1093486331422,null,137,"Holyoke                      ",1,5926,109412142.28999999,12452771,96959371]
[138,"Hopedale                     ",1,11008174.74,6377665,6168750,null,6168750,11489500.85,6489561,4999940,0,{"$f":"ROUND(100-'Townwide Contributions'!L147,2)","v":40.92},899,875,0,26250,26250,6168750,6195000,0,6195000,0,null,6195000,53.918791432962912,12684561,110.40132348308239,481326.1099999994,26250,1493496.2521799998,12.998791432962911,13130.86,null,0,null,30,null,138,"Hopedale                     ",1,875,11489500.85,6489561,6195000]
[139,"Hopkinton                    ",1,46722628.012559995,37984044,8738584,null,8738584,50873294.826880008,41073636,9799659,1061075,{"$f":"ROUND(100-'Townwide Contributions'!L148,2)","v":17.5},3996,4139,1,124170,0,8738584,8862754,0,9799659,0,null,9799659,19.262874624786711,50873295,100.0000003402964,4150666.8143200129,1061075,896832.40529599972,1.7628746247867113,12291.2,null,0,null,256.36023194008214,null,139,"Hopkinton                    ",1,4139,50873294.826880008,41073636,9799659]
[140,"Hubbardston                  ",0,0,0,0,null,0,0,0,0,0,{"$f":"ROUND(100-'Townwide Contributions'!L149,2)","v":41.87},0,0,0,0,0,0,0,0,0,0,null,0,0,0,0,0,0,0,"",0,null,0,null,0,null,140,"Hubbardston                  ",0,0,0,0,0]
[141,"Hudson                       ",1,31921911.970039997,20140158,12241726,null,12241726,34207457.530000001,21209511,12997947,756221,{"$f":"ROUND(100-'Townwide Contributions'!L150,2)","v":33.15},2432,2417,1,72510,0,12241726,12314236,0,12997947,0,null,12997947,37.997407403344077,34207458,100.0000013739694,2285545.5599600039,756221,1658174.8288050015,4.8474074033440786,14152.86,null,0,null,312.87587918907735,null,141,"Hudson                       ",1,2417,34207457.530000001,21209511,12997947]
[142,"Hull                         ",1,10651125.811000003,8780091,3948836,null,3948836,10986735.571280001,9052274,1934462,0,{"$f":"ROUND(100-'Townwide Contributions'!L151,2)","v":17.5},821,791,0,23730,23730,3948836,3972566,0,3972566,0,null,3972566,36.157837550805631,13024840,118.5505914427187,335609.76027999818,23730,2049887.2750260001,18.657837550805631,13889.68,null,0,null,30,null,142,"Hull                         ",1,791,10986735.571280001,9052274,3972566]
[143,"Huntington                   ",0,437559.81000000006,185653,258496,null,258496,572755.80000000005,217988,354768,96272,{"$f":"ROUND(100-'Townwide Contributions'!L152,2)","v":55.52},26,31,0,0,0,0,930,0,354768,0,null,354768,0,572756,100.00003491889562,135195.99,96272,36773.979839999985,"",18475.990000000002,null,0,null,3105.5483870967741,null,143,"Huntington                   ",0,31,572755.80000000005,217988,354768]
[144,"Ipswich                      ",1,19884295.035099998,15849509,4034786,null,4034786,20567036.155019999,16419694,4147342,112556,{"$f":"ROUND(100-'Townwide Contributions'!L153,2)","v":17.5},1602,1557,1,46710,0,4034786,4081496,0,4147342,0,null,4147342,20.164995912586644,20567036,99.999999246269624,682741.11992000043,112556,548110.67287150025,2.6649959125866438,13209.4,null,0,null,72.290301862556191,null,144,"Ipswich                      ",1,1557,20567036.155019999,16419694,4147342]
[145,"Kingston                     ",1,13087068.680339999,8280400,4806669,null,4806669,14371240.407579998,8940323,5430917,624248,{"$f":"ROUND(100-'Townwide Contributions'!L154,2)","v":31.97},1094,1125,1,33750,0,4931387,4965137,0,5430917,0,null,5430917,37.7901756979551,14371240,99.999997163919147,1284171.7272399981,624248,836431.44169667456,5.8201756979551007,12774.44,null,0,null,554.88711111111115,null,145,"Kingston                     ",1,1125,14371240.407579998,8940323,5430917]
[146,"Lakeville                    ",0,202094.16,132585,86418,null,86418,212169.47999999998,138249,73920,0,{"$f":"ROUND(100-'Townwide Contributions'!L155,2)","v":27.81},11,11,0,0,0,0,330,0,86418,0,null,86418,0,224667,105.8903476598048,10075.319999999978,0,27413.667612000005,"",19288.13,null,0,null,0,null,146,"Lakeville                    ",0,11,212169.47999999998,138249,86418]
[147,"Lancaster                    ",0,31395.420000000002,21168,10227,null,10227,32981.520000000004,21289,11693,1466,{"$f":"ROUND(100-'Townwide Contributions'!L156,2)","v":32.47},2,2,0,0,0,0,60,0,11693,0,null,11693,0,32982,100.00145536045639,1586.1000000000022,1466,983.90045599999939,"",16490.759999999998,null,0,null,733,null,147,"Lancaster                    ",0,2,32981.520000000004,21289,11693]
[148,"Lanesborough                 ",0,0,0,0,null,0,0,0,0,0,{"$f":"ROUND(100-'Townwide Contributions'!L157,2)","v":43.05},0,0,0,0,0,0,0,0,0,0,null,0,0,0,0,0,0,0,"",0,null,0,null,0,null,148,"Lanesborough                 ",0,0,0,0,0]
[149,"Lawrence                     ",1,253714474.64999995,13007684,240706791,null,240706791,279873222.13999999,13728391,266144831,25438040,{"$f":"ROUND(100-'Townwide Contributions'!L158,2)","v":83.85},14593,14566,1,436980,0,240706791,241143771,0,266144831,0,null,266144831,95.094782189225427,279873222,99.999999949977351,26158747.490000039,25438040,31471134.235610038,11.244782189225432,19214.14,null,0,null,1746.3984621721818,null,149,"Lawrence                     ",1,14566,279873222.13999999,13728391,266144831]
[150,"Lee                          ",1,7917418.4799999995,6383000,2136039,null,2136039,8739704.6600000001,6760874,1978831,0,{"$f":"ROUND(100-'Townwide Contributions'!L159,2)","v":17.5},560,570,0,17100,17100,2136039,2153139,0,2153139,0,null,2153139,24.636290169558201,8914013,101.99444199525159,822286.18000000063,17100,623690.68449999997,7.1362901695582011,15332.82,null,0,null,30,null,150,"Lee                          ",1,570,8739704.6600000001,6760874,2153139]
[151,"Leicester                    ",1,19402050.66,9299222,10102829,null,10102829,20759208.559999999,9660962,11098247,995418,{"$f":"ROUND(100-'Townwide Contributions'!L160,2)","v":48.74},1465,1443,1,43290,0,10102829,10146119,0,11098247,0,null,11098247,53.461802110243838,20759209,100.00000211954131,1357157.8999999985,995418,980208.74785600044,4.7218021102438357,14386.15,null,0,null,689.82536382536387,null,151,"Leicester                    ",1,1443,20759208.559999999,9660962,11098247]
[152,"Lenox                        ",1,6111653.4900000002,5042114,1315905,null,1315905,6717817.4100000001,5422289,1295528,0,{"$f":"ROUND(100-'Townwide Contributions'!L161,2)","v":17.5},475,489,0,14670,14670,1315905,1330575,0,1330575,0,null,1330575,19.806656221696862,6752864,100.5216960786673,606163.91999999993,14670,154956.95325000002,2.306656221696862,13737.87,null,0,null,30,null,152,"Lenox                        ",1,489,6717817.4100000001,5422289,1330575]
[153,"Leominster                   ",1,91159936.339999989,33607699,57552237,null,57552237,99599000.579999998,35204065,64394936,6842699,{"$f":"ROUND(100-'Townwide Contributions'!L162,2)","v":59.78},5976,6020,1,180600,0,57552237,57732837,0,64394936,0,null,64394936,64.654198962846664,99599001,100.00000042169098,8439064.2400000095,6842699,4854653.4532760009,4.8741989628466627,16544.68,null,0,null,1136.6609634551496,null,153,"Leominster                   ",1,6020,99599000.579999998,35204065,64394936]
[154,"Leverett                     ",1,1361700.11,970792,390908,null,390908,1255147.3,954740,300407,0,{"$f":"ROUND(100-'Townwide Contributions'!L163,2)","v":17.5},112,101,0,3030,3030,390908,393938,0,393938,0,null,393938,31.385798304310576,1348678,107.4517708001284,-106552.81000000006,3030,174287.2225,13.885798304310576,12427.2,null,0,null,30,null,154,"Leverett                     ",1,101,1255147.3,954740,393938]
[155,"Lexington                    ",1,84119411.739810005,69398514,15058494,null,15058494,90646899.40639998,73037768,17609131,2550637,{"$f":"ROUND(100-'Townwide Contributions'!L164,2)","v":17.5},6850,6893,1,206790,0,15328990,15535780,0,17609131,0,null,17609131,19.426070958094719,90646899,99.999999551666988,6527487.6665899754,2550637,1745923.603880005,1.9260709580947193,13150.57,null,0,null,370.0329319599594,null,155,"Lexington                    ",1,6893,90646899.40639998,73037768,17609131]
[156,"Leyden                       ",0,0,0,0,null,0,0,0,0,0,{"$f":"ROUND(100-'Townwide Contributions'!L165,2)","v":17.5},0,0,0,0,0,0,0,0,0,0,null,0,0,0,0,0,0,0,"",0,null,0,null,0,null,156,"Leyden                       ",0,0,0,0,0]
[157,"Lincoln                      ",1,7110979.0267200004,5866558,1244421,null,1244421,7355301.9672800004,6068124,1287178,42757,{"$f":"ROUND(100-'Townwide Contributions'!L166,2)","v":17.5},607,586,1,17580,0,1244421,1262001,0,1287178,0,null,1287178,17.500002117193837,7355302,100.00000044484916,244322.94056000002,42757,0.15572599996812642,2.1171938371367105E-6,12551.71,null,0,null,72.964163822525592,null,157,"Lincoln                      ",1,586,7355301.9672800004,6068124,1287178]
[158,"Littleton                    ",1,18465845.970000003,14142192,4323654,null,4323654,20056951.579999998,15207996,4848956,525302,{"$f":"ROUND(100-'Townwide Contributions'!L167,2)","v":17.5},1624,1665,1,49950,0,4323654,4373604,0,4848956,0,null,4848956,24.175937109182573,20056952,100.00000209403707,1591105.6099999957,525302,1338989.4735000003,6.6759371091825734,12046.22,null,0,null,315.49669669669669,null,158,"Littleton                    ",1,1665,20056951.579999998,15207996,4848956]
[159,"Longmeadow                   ",1,31528951.400000002,25041585,6487366,null,6487366,33192700.990000002,26093332,7099369,612003,{"$f":"ROUND(100-'Townwide Contributions'!L168,2)","v":17.5},2742,2725,1,81750,0,6487366,6569116,0,7099369,0,null,7099369,21.388343787204402,33192701,100.0000000301271,1663749.5899999999,612003,1290646.32675,3.888343787204402,12180.81,null,0,null,224.58825688073395,null,159,"Longmeadow                   ",1,2725,33192700.990000002,26093332,7099369]
[160,"Lowell                       ",1,257876444.75999999,56906426,200970019,null,200970019,288791629.52999997,60097975,228693655,27723636,{"$f":"ROUND(100-'Townwide Contributions'!L169,2)","v":74.16},16103,16323,1,489690,0,200970019,201459709,0,228693655,0,null,228693655,79.189848878997054,288791630,100.00000016274711,30915184.769999981,27723636,14525782.54055205,5.0298488789970577,17692.310000000001,null,0,null,1698.4399926484102,null,160,"Lowell                       ",1,16323,288791629.52999997,60097975,228693655]
[161,"Ludlow                       ",1,30691074.190000001,17421395,14006073,null,14006073,32627792.160000004,18168773,14459019,452946,{"$f":"ROUND(100-'Townwide Contributions'!L170,2)","v":41.03},2311,2248,1,67440,0,14006073,14073513,0,14459019,0,null,14459019,44.31503955001287,32627792,99.999999509620494,1936717.9700000025,452946,1071835.8767519984,3.2850395500128684,14514.14,null,0,null,201.48843416370107,null,161,"Ludlow                       ",1,2248,32627792.160000004,18168773,14459019]
[162,"Lunenburg                    ",1,20056630.419999998,11334402,8722228,null,8722228,20659694.909999996,11910986,8748709,26481,{"$f":"ROUND(100-'Townwide Contributions'!L171,2)","v":35.729999999999997},1671,1615,1,48450,21969,8722228,8770678,0,8770678,0,null,8770678,42.45308577018092,20681664,100.10633792074718,603064.48999999836,48450,1388969.0086570019,6.7230857701809228,12792.38,null,0,null,30,null,162,"Lunenburg                    ",1,1615,20659694.909999996,11910986,8770678]
[163,"Lynn                         ",1,299740597.38000005,57821484,241919113,null,241919113,329943497.06999999,60851330,269092167,27173054,{"$f":"ROUND(100-'Townwide Contributions'!L172,2)","v":76.13},17808,17895,1,536850,0,241919113,242455963,0,269092167,0,null,269092167,81.557045187925041,329943497,99.999999978784246,30202899.689999938,27173054,17906182.680609018,5.4270451879250459,18437.75,null,0,null,1518.4718636490641,null,163,"Lynn                         ",1,17895,329943497.06999999,60851330,269092167]
[164,"Lynnfield                    ",1,25488528.222080003,20492517,4996011,null,4996011,27452371.780520003,21507362,5945010,948999,{"$f":"ROUND(100-'Townwide Contributions'!L173,2)","v":17.5},2177,2207,1,66210,0,5142016,5208226,0,5945010,0,null,5945010,21.655724494517205,27452372,100.00000079949375,1963843.5584399998,948999,1140844.9384089997,4.1557244945172052,12438.77,null,0,null,429.99501585863163,null,164,"Lynnfield                    ",1,2207,27452371.780520003,21507362,5945010]
[165,"Malden                       ",1,105452144.24998,51377517,54074627,null,54074627,117616659.13781999,54419682,63196977,9122350,{"$f":"ROUND(100-'Townwide Contributions'!L174,2)","v":44.26},6803,6940,1,208200,0,54074627,54282827,0,63196977,0,null,63196977,53.73131447811955,117616659,99.999999882822735,12164514.887839988,9122350,11139843.665600874,9.4713144781195524,16947.650000000001,null,0,null,1314.4596541786743,null,165,"Malden                       ",1,6940,117616659.13781999,54419682,63196977]
[166,"Manchester                   ",0,0,0,0,null,0,0,0,0,0,{"$f":"ROUND(100-'Townwide Contributions'!L175,2)","v":17.5},0,0,0,0,0,0,0,0,0,0,null,0,0,0,0,0,0,0,"",0,null,0,null,0,null,166,"Manchester                   ",0,0,0,0,0]
[167,"Mansfield                    ",1,43764978.669519998,31365406,19282049,null,19282049,46129087.005899996,32585038,13544049,0,{"$f":"ROUND(100-'Townwide Contributions'!L176,2)","v":22.6},3529,3485,0,104550,104550,19282049,19386599,0,19386599,0,null,19386599,42.026843057874565,51971637,112.66565278725922,2364108.3363799974,104550,8961425.3366666008,19.426843057874564,13236.47,null,0,null,30,null,167,"Mansfield                    ",1,3485,46129087.005899996,32585038,19386599]
[168,"Marblehead                   ",1,30912361.050000004,25502698,6194847,null,6194847,32681938.290000007,26962599,5719339,0,{"$f":"ROUND(100-'Townwide Contributions'!L177,2)","v":17.5},2659,2658,0,79740,79740,6194847,6274587,0,6274587,0,null,6274587,19.198943906946585,33237186,101.69894363385995,1769577.2400000021,79740,555247.79924999923,1.6989439069465853,12295.69,null,0,null,30,null,168,"Marblehead                   ",1,2658,32681938.290000007,26962599,6274587]
[169,"Marion                       ",1,4816493.6300000008,3774727,1041767,null,1041767,5068217.2599999988,3913467,1154750,112983,{"$f":"ROUND(100-'Townwide Contributions'!L178,2)","v":17.5},409,401,1,12030,0,1041767,1053797,0,1154750,0,null,1154750,22.784145603103056,5068217,99.999994869991056,251723.62999999803,112983,267811.97950000025,5.284145603103056,12638.95,null,0,null,281.75311720698255,null,169,"Marion                       ",1,401,5068217.2599999988,3913467,1154750]
[170,"Marlborough                  ",1,77315386.541280001,39639041,37676346,null,37676346,87221684.996450007,41360456,45861229,8184883,{"$f":"ROUND(100-'Townwide Contributions'!L179,2)","v":47.5},5218,5370,1,161100,0,38920356,39081456,0,45861229,0,null,45861229,52.580076848855406,87221685,100.00000000407007,9906298.4551700056,8184883,4430928.6266862452,5.0800768488554056,16242.4,null,0,null,1524.1867783985103,null,170,"Marlborough                  ",1,5370,87221684.996450007,41360456,45861229]
[171,"Marshfield                   ",1,47025005.911919996,37291361,15006223,null,15006223,49950295.557299994,39070159,10880137,0,{"$f":"ROUND(100-'Townwide Contributions'!L180,2)","v":17.5},3794,3783,0,113490,113490,15006223,15119713,0,15119713,0,null,15119713,30.269516589057154,54189872,108.48759030431886,2925289.6453799978,113490,6378411.2774725016,12.769516589057154,13203.88,null,0,null,30,null,171,"Marshfield                   ",1,3783,49950295.557299994,39070159,15119713]
[172,"Mashpee                      ",1,19613343.369999997,15743229,4772946,null,4772946,20496134.48,16524355,3971779,0,{"$f":"ROUND(100-'Townwide Contributions'!L181,2)","v":17.5},1458,1422,0,42660,42660,4772946,4815606,0,4815606,0,null,4815606,23.495191274720792,21339961,104.11700323699282,882791.11000000313,42660,1228782.466,5.9951912747207921,14413.6,null,0,null,30,null,172,"Mashpee                      ",1,1422,20496134.48,16524355,4815606]
[173,"Mattapoisett                 ",1,4913934.4400000004,3933553,980381,null,980381,5079932.7300000004,4120905,959028,0,{"$f":"ROUND(100-'Townwide Contributions'!L182,2)","v":17.5},424,414,0,12420,12420,980381,992801,0,992801,0,null,992801,19.543585570275848,5113706,100.66483695346099,165998.29000000004,12420,103812.77224999992,2.0435855702758481,12270.37,null,0,null,30,null,173,"Mattapoisett                 ",1,414,5079932.7300000004,4120905,992801]
[174,"Maynard                      ",1,16124411.021999998,11396750,5554961,null,5554961,17768872.032999996,12105654,5663218,108257,{"$f":"ROUND(100-'Townwide Contributions'!L183,2)","v":26.75},1239,1240,1,37200,0,5554961,5592161,0,5663218,0,null,5663218,31.871567252453524,17768872,99.999999814281992,1644461.0109999981,108257,910044.73117250111,5.1215672524535236,14329.74,null,0,null,87.30403225806451,null,174,"Maynard                      ",1,1240,17768872.032999996,12105654,5663218]
[175,"Medfield                     ",1,28101468.769180004,22588503,6507474,null,6507474,29777088.9976,23849002,5928087,0,{"$f":"ROUND(100-'Townwide Contributions'!L184,2)","v":17.5},2429,2427,0,72810,72810,6507474,6580284,0,6580284,0,null,6580284,22.098479809528605,30429286,102.19026447633134,1675620.2284199968,72810,1369293.4254200002,4.5984798095286052,12269.09,null,0,null,30,null,175,"Medfield                     ",1,2427,29777088.9976,23849002,6580284]
[176,"Medford                      ",1,64950374.201000012,51012133,13938241,null,13938241,71888258.341159999,54480958,17407300,3469059,{"$f":"ROUND(100-'Townwide Contributions'!L185,2)","v":17.5},4455,4559,1,136770,0,13938241,14075011,0,17407300,0,null,17407300,24.214385494485345,71888258,99.999999525430155,6937884.1401599869,3469059,4826854.7902970016,6.7143854944853452,15768.43,null,0,null,760.92542224171973,null,176,"Medford                      ",1,4559,71888258.341159999,54480958,17407300]
[177,"Medway                       ",1,25231553.767439991,18439545,10691349,null,10691349,26890897.844290003,19298650,7592248,0,{"$f":"ROUND(100-'Townwide Contributions'!L186,2)","v":19.91},2121,2120,0,63600,63600,10691349,10754949,0,10754949,0,null,10754949,39.994756077970443,30053599,111.76123301655234,1659344.0768500119,63600,5400971.2392018605,20.084756077970443,12684.39,null,0,null,30,null,177,"Medway                       ",1,2120,26890897.844290003,19298650,10754949]
[178,"Melrose                      ",1,47377571.272,37697349,9680222,null,9680222,51330398.765020005,39070041,12260358,2580136,{"$f":"ROUND(100-'Townwide Contributions'!L187,2)","v":17.5},3972,4062,1,121860,0,10288312,10410172,0,12260358,0,null,12260358,23.885179727758192,51330399,100.00000045777941,3952827.4930200055,2580136,3277538.2161215004,6.3851797277581923,12636.73,null,0,null,635.18857705563767,null,178,"Melrose                      ",1,4062,51330398.765020005,39070041,12260358]
[179,"Mendon                       ",0,109883.97,82330,36016,null,36016,164907.6,126856,38052,2036,{"$f":"ROUND(100-'Townwide Contributions'!L188,2)","v":17.5},7,10,0,0,0,0,300,0,38052,0,null,38052,0,164908,100.00024256007606,55023.630000000005,2036,9193.1700000000019,"",16490.759999999998,null,0,null,203.6,null,179,"Mendon                       ",0,10,164907.6,126856,38052]
[180,"Merrimac                     ",0,202094.16,145289,56805,null,56805,164907.6,115885,49023,0,{"$f":"ROUND(100-'Townwide Contributions'!L189,2)","v":24.35},11,10,0,0,0,0,300,0,56805,0,null,56805,0,172690,104.71924883995644,-37186.559999999998,0,16649.999399999993,"",16490.759999999998,null,0,null,0,null,180,"Merrimac                     ",0,10,164907.6,115885,56805]
[181,"Methuen                      ",1,99305681.999999985,42704657,56601025,null,56601025,109298849.82999998,44617436,64681414,8080389,{"$f":"ROUND(100-'Townwide Contributions'!L190,2)","v":54.06},6737,6775,1,203250,0,56601025,56804275,0,64681414,0,null,64681414,59.178494650770297,109298850,100.00000015553688,9993167.8299999982,8080389,5594455.7819020152,5.1184946507702946,16132.67,null,0,null,1192.6773431734318,null,181,"Methuen                      ",1,6775,109298849.82999998,44617436,64681414]
[182,"Middleborough                ",1,40901731.939999998,20691229,20210503,null,20210503,44333813.130000003,22002952,22330861,2120358,{"$f":"ROUND(100-'Townwide Contributions'!L191,2)","v":46.03},3113,3137,1,94110,0,20210503,20304613,0,22330861,0,null,22330861,50.369818031485892,44333813,99.999999706770083,3432081.1900000051,2120358,1924006.8162610009,4.3398180314858905,14132.55,null,0,null,675.91903092126233,null,182,"Middleborough                ",1,3137,44333813.130000003,22002952,22330861]
[183,"Middlefield                  ",0,47093.130000000005,38852,13290,null,13290,49472.28,40815,8657,0,{"$f":"ROUND(100-'Townwide Contributions'!L192,2)","v":17.5},3,3,0,0,0,0,90,0,13290,0,null,13290,0,54105,109.36427429663642,2379.1499999999942,0,4632.3510000000006,"",16490.759999999998,null,0,null,0,null,183,"Middlefield                  ",0,3,49472.28,40815,13290]
[184,"Middleton                    ",1,7809075.6739000008,6381487,1726991,null,1726991,8542770.1967999991,6914393,1628377,0,{"$f":"ROUND(100-'Townwide Contributions'!L193,2)","v":17.5},685,703,0,21090,21090,1726991,1748081,0,1748081,0,null,1748081,20.462694883854027,8662474,101.40122934882224,733694.52289999835,21090,253096.21556000016,2.9626948838540272,12151.88,null,0,null,30,null,184,"Middleton                    ",1,703,8542770.1967999991,6914393,1748081]
[185,"Milford                      ",1,66524190.045280002,27110718,39413472,null,39413472,75437511.279999986,28632172,46805339,7391867,{"$f":"ROUND(100-'Townwide Contributions'!L194,2)","v":58.1},4521,4704,1,141120,0,40743974,40885094,0,46805339,0,null,46805339,62.045179123517883,75437511,99.999999628831887,8913321.2347199842,7391867,2976144.9463200122,3.9451791235178817,16036.89,null,0,null,1571.4002976190477,null,185,"Milford                      ",1,4704,75437511.279999986,28632172,46805339]
[186,"Millbury                     ",1,20670955.990000002,12891181,8024392,null,8024392,22434599.240000002,13581840,8852759,828367,{"$f":"ROUND(100-'Townwide Contributions'!L195,2)","v":34.14},1618,1638,1,49140,0,8024392,8073532,0,8852759,0,null,8852759,39.460294812023569,22434599,99.999998930223811,1763643.25,828367,1193586.8194639999,5.3202948120235689,13696.34,null,0,null,505.71855921855922,null,186,"Millbury                     ",1,1638,22434599.240000002,13581840,8852759]
[187,"Millis                       ",1,12954292.108449999,9957083,4926682,null,4926682,14054851.192480003,11047181,3007670,0,{"$f":"ROUND(100-'Townwide Contributions'!L196,2)","v":17.5},1064,1089,0,32670,32670,4926682,4959352,0,4959352,0,null,4959352,35.285695537306601,16006533,113.88617909070597,1100559.0840300042,32670,2499753.0413159993,17.785695537306601,12906.2,null,0,null,30,null,187,"Millis                       ",1,1089,14054851.192480003,11047181,4959352]
[188,"Millville                    ",0,141279.39000000001,67617,73662,null,73662,98944.56,47019,51926,0,{"$f":"ROUND(100-'Townwide Contributions'!L197,2)","v":47.36},9,6,0,0,0,0,180,0,73662,0,null,73662,0,120681,121.96830224925959,-42334.830000000016,0,26801.856383999999,"",16490.759999999998,null,0,null,0,null,188,"Millville                    ",0,6,98944.56,47019,73662]
[189,"Milton                       ",1,51259127.086869985,40535520,10723607,null,10723607,53957475.515560001,42281594,11675882,952275,{"$f":"ROUND(100-'Townwide Contributions'!L198,2)","v":17.5},4316,4294,1,128820,0,10723607,10852427,0,11675882,0,null,11675882,21.639044244449433,53957476,100.00000089781813,2698348.4286900163,952275,2233323.7847770005,4.1390442444494333,12565.78,null,0,null,221.76874708896133,null,189,"Milton                       ",1,4294,53957475.515560001,42281594,11675882]
[190,"Monroe                       ",0,226091.72999999998,85510,140582,null,140582,203019.31000000003,74223,128796,0,{"$f":"ROUND(100-'Townwide Contributions'!L199,2)","v":60.27},22,18,0,0,0,0,540,0,140582,0,null,140582,0,214805,105.80520641115369,-23072.419999999955,0,18222.261862999978,"",11278.85,null,0,null,0,null,190,"Monroe                       ",0,18,203019.31000000003,74223,140582]
[191,"Monson                       ",1,11078294.98,6264895,7618685,null,7618685,11361547.17,6395027,4966520,0,{"$f":"ROUND(100-'Townwide Contributions'!L200,2)","v":41.19},852,810,0,24300,24300,7618685,7642985,0,7642985,0,null,7642985,67.270635641782931,14038012,123.55722147655354,283252.18999999948,24300,2963163.7206770005,26.080635641782933,14026.6,null,0,null,30,null,191,"Monson                       ",1,810,11361547.17,6395027,7642985]
[192,"Montague                     ",0,0,0,0,null,0,16490.760000000002,7445,9046,9046,{"$f":"ROUND(100-'Townwide Contributions'!L201,2)","v":52.61},0,1,0,0,0,0,30,0,9046,0,null,9046,0,16491,100.00145536045639,16490.760000000002,9046,370.21116399999846,"",16490.759999999998,null,0,null,9046,null,192,"Montague                     ",0,1,16490.760000000002,7445,9046]
[193,"Monterey                     ",0,0,0,0,null,0,{"$f":"SUMIF(dist1755,A202,found1755)","v":0},{"$f":"SUMIF(dist1755,A202,prelcont1755)","v":0},{"$f":"ROUND(MAX(found-prelcont436,0),0)","v":0},{"$f":"IF(foundaid>priorc70,foundaid-priorc70,0)","v":0},{"$f":"ROUND(100-'Townwide Contributions'!L202,2)","v":17.5},0,{"$f":"SUMIF(dist1755,A202,enro1755)","v":0},{"$f":"IF(AND(C202=1,L202>0),1,0)","v":0},{"$f":"IF(nonop=1,enro*$Q$6,0)","v":0},{"$f":"IF((foundinc)<Q202,Q202-(foundinc),0)","v":0},0,{"$f":"S202+30*enro","v":0},{"$f":"IF(T202-priorc70-foundinc-minaid>0,T202-priorc70-foundinc-minaid,0)","v":0},{"$f":"priorc70+foundinc+minaidadjincrement+minaid","v":0},{"$f":"IF(AND(C202=0,V202>found),V202-found,0)","v":0},null,{"$f":"priorc70+foundinc+minaidadjincrement+minaid-rednonop+holdharmlessaid","v":0},{"$f":"IF(C202=1, Y202/I202*100, 0)","v":0},{"$f":"prelcont436+chapter70","v":0},{"$f":"IF(found>0,AA202*100/found,0)","v":0},{"$f":"I202-D202","v":0},{"$f":"Y202-F202","v":0},{"$f":"Y202-((M202/100)*I202)","v":0},{"$f":"IF(C202=1, (Y202/I202*100)-M202, \"\")","v":""},{"$f":"IFERROR(ROUND(I202/O202, 2), 0)","v":0},null,{"$f":"VLOOKUP(A202, disthist, 37, FALSE)*$H$6","v":0},null,{"$f":"IFERROR(AD202/O202, 0)","v":0},null,{"$f":"A202","v":193},{"$f":"B202","v":"Monterey                     "},{"$f":"C202","v":0},0,{"$f":"I202","v":0},{"$f":"J202","v":0},{"$f":"Y202","v":0}]
[194,"Montgomery                   ",0,47093.130000000005,38310,21162,null,{"$f":"F203","v":21162},49472.28,37079,12393,0,{"$f":"ROUND(100-'Townwide Contributions'!L203,2)","v":17.5},3,3,0,0,0,0,90,0,21162,0,null,21162,0,58241,117.7245115850735,2379.1499999999942,0,12504.351000000001,"",16490.759999999998,null,0,null,0,null,194,"Montgomery                   ",0,{"$f":"O203","v":3},49472.28,37079,21162]
[195,"Mount Washington             ",0,47889.06,39508,8381,null,8381,78957.830000000016,65140,13818,5437,{"$f":"ROUND(100-'Townwide Contributions'!L204,2)","v":17.5},5,8,0,0,0,0,240,0,13818,0,null,13818,0,78958,100.00021530480255,31068.770000000019,5437,0.37974999999823922,"",9869.73,null,0,null,679.625,null,195,"Mount Washington             ",0,8,78957.830000000016,65140,13818]
[196,"Nahant                       ",1,2856293.17,2356441,546523,null,546523,2954392.4200000004,2437374,517018,0,{"$f":"ROUND(100-'Townwide Contributions'!L205,2)","v":17.5},252,248,0,7440,7440,546523,553963,0,553963,0,null,553963,18.75048812912944,2991337,101.25049670957387,98099.250000000466,7440,36944.326499999966,1.2504881291294403,11912.87,null,0,null,30,null,196,"Nahant                       ",1,248,2954392.4200000004,2437374,553963]
[197,"Nantucket                    ",1,22613557.840000004,18656185,3957373,null,3957373,25201462.489999998,20791207,4410255,452882,{"$f":"ROUND(100-'Townwide Contributions'!L206,2)","v":17.5},1668,1713,1,51390,0,4126659,4178049,0,4410255,0,null,4410255,17.499996286921839,25201462,99.999998055668399,2587904.6499999948,452882,-0.93574999924749136,-3.7130781613825548E-6,14711.89,null,0,null,264.37945125510799,null,197,"Nantucket                    ",1,1713,25201462.489999998,20791207,4410255]
[198,"Natick                       ",1,61356636.239639997,49137791,12218845,null,12218845,65231071.033819996,52065336,13165735,946890,{"$f":"ROUND(100-'Townwide Contributions'!L207,2)","v":17.5},5284,5309,1,159270,0,12218845,12378115,0,13165735,0,null,13165735,20.183226783405157,65231071,99.999999948153544,3874434.7941799983,946890,1750297.569081502,2.6832267834051571,12286.88,null,0,null,178.355622527783,null,198,"Natick                       ",1,5309,65231071.033819996,52065336,13165735]
[199,"Needham                      ",1,66681599.624000005,54310286,12371314,null,12371314,70773642.887999997,57461187,13312456,941142,{"$f":"ROUND(100-'Townwide Contributions'!L208,2)","v":17.5},5565,5558,1,166740,0,12371314,12538054,0,13312456,0,null,13312456,18.809906423874629,70773643,100.00000015825101,4092043.2639999911,941142,927068.49460000172,1.3099064238746294,12733.65,null,0,null,169.33105433609211,null,199,"Needham                      ",1,5558,70773642.887999997,57461187,13312456]
[200,"New Ashford                  ",0,236678.27999999997,195260,180257,null,180257,223427.56,184328,39100,0,{"$f":"ROUND(100-'Townwide Contributions'!L209,2)","v":17.5},21,19,0,0,0,0,570,0,180257,0,null,180257,0,364585,163.17816835129918,-13250.719999999972,0,141157.177,"",11759.35,null,0,null,0,null,200,"New Ashford                  ",0,19,223427.56,184328,180257]
[201,"New Bedford                  ",1,233389315.13999999,34303277,199086038,null,199086038,259908138.25999999,35809016,224099122,25013084,{"$f":"ROUND(100-'Townwide Contributions'!L210,2)","v":79.47},14011,14148,1,424440,0,199086038,199510478,0,224099122,0,null,224099122,86.222433626076651,259908138,99.999999899964664,26518823.120000005,25013084,17550124.524778008,6.7524336260766518,18370.66,null,0,null,1767.959004806333,null,201,"New Bedford                  ",1,14148,259908138.25999999,35809016,224099122]
[202,"New Braintree                ",0,31395.420000000002,18664,17386,null,17386,32981.520000000004,19885,13097,0,{"$f":"ROUND(100-'Townwide Contributions'!L211,2)","v":38.81},2,2,0,0,0,0,60,0,17386,0,null,17386,0,37271,113.00570743858984,1586.1000000000022,0,4585.8720879999983,"",16490.759999999998,null,0,null,0,null,202,"New Braintree                ",0,2,32981.520000000004,19885,17386]
[203,"Newbury                      ",0,32378.457899999998,24501,16934,null,16934,17004.397409999998,12936,4068,0,{"$f":"ROUND(100-'Townwide Contributions'!L212,2)","v":17.5},2,1,0,0,0,0,30,0,16934,0,null,16934,0,29870,175.66044405921704,-15374.06049,0,13958.23045325,"",17004.400000000001,null,0,null,0,null,203,"Newbury                      ",0,1,17004.397409999998,12936,16934]
[204,"Newburyport                  ",1,25407534.990000002,20726102,4681433,null,4681433,27448207.989999998,21788063,5660145,978712,{"$f":"ROUND(100-'Townwide Contributions'!L213,2)","v":17.5},2195,2232,1,66960,0,4866512,4933472,0,5660145,0,null,5660145,20.621182271943287,27448208,100.00000003643225,2040672.9999999963,978712,856708.60175000038,3.1211822719432867,12297.58,null,0,null,438.49103942652329,null,204,"Newburyport                  ",1,2232,27448207.989999998,21788063,5660145]
[205,"New Marlborough              ",0,0,0,0,null,0,0,0,0,0,{"$f":"ROUND(100-'Townwide Contributions'!L214,2)","v":17.5},0,0,0,0,0,0,0,0,0,0,null,0,0,0,0,0,0,0,"",0,null,0,null,0,null,205,"New Marlborough              ",0,0,0,0,0]
[206,"New Salem                    ",0,0,0,0,null,0,0,0,0,0,{"$f":"ROUND(100-'Townwide Contributions'!L215,2)","v":35.299999999999997},0,0,0,0,0,0,0,0,0,0,null,0,0,0,0,0,0,0,"",0,null,0,null,0,null,206,"New Salem                    ",0,0,0,0,0]
[207,"Newton                       ",1,148413207.17159998,122440896,26212526,null,26212526,156764603.61603001,129330798,27433806,1221280,{"$f":"ROUND(100-'Townwide Contributions'!L216,2)","v":17.5},12007,11885,1,356550,0,26482941,26839491,0,27433806,0,null,27433806,17.500000234233202,156764604,100.00000024493411,8351396.4444300234,1221280,0.36719474941492081,2.3423320172355488E-7,13190.12,null,0,null,102.75809844341607,null,207,"Newton                       ",1,11885,156764603.61603001,129330798,27433806]
[208,"Norfolk                      ",1,11453635.647089999,9052188,3551805,null,3551805,11993145.444000002,9300692,2692453,0,{"$f":"ROUND(100-'Townwide Contributions'!L217,2)","v":17.5},1023,1010,0,30300,30300,3551805,3582105,0,3582105,0,null,3582105,29.867935953299686,12882797,107.41800022482907,539509.79691000283,30300,1483304.5472999997,12.367935953299686,11874.4,null,0,null,30,null,208,"Norfolk                      ",1,1010,11993145.444000002,9300692,3582105]
[209,"North Adams                  ",1,20196370.640000001,5276853,14919518,null,14919518,21755055.919999998,5538974,16216082,1296564,{"$f":"ROUND(100-'Townwide Contributions'!L218,2)","v":72.510000000000005},1323,1315,1,39450,0,14919518,14958968,0,16216082,0,null,16216082,74.539371719528091,21755056,100.00000036773062,1558685.2799999975,1296564,441490.95240799896,2.0293717195280863,16543.77,null,0,null,985.98022813688215,null,209,"North Adams                  ",1,1315,21755055.919999998,5538974,16216082]
[210,"Northampton                  ",1,33723796.18,26638955,7798609,null,7798609,35618666.020000003,28077001,7541665,0,{"$f":"ROUND(100-'Townwide Contributions'!L219,2)","v":17.5},2676,2668,0,80040,80040,7798609,7878649,0,7878649,0,null,7878649,22.119438711085113,35955650,100.94608815448277,1894869.8400000036,80040,1645382.4464999996,4.6194387110851132,13350.32,null,0,null,30,null,210,"Northampton                  ",1,2668,35618666.020000003,28077001,7878649]
[211,"North Andover                ",1,54375769.079999991,43673850,10701919,null,10701919,57569717.300000004,45627018,11942699,1240780,{"$f":"ROUND(100-'Townwide Contributions'!L220,2)","v":17.5},4547,4505,1,135150,0,10701919,10837069,0,11942699,0,null,11942699,20.744758807422524,57569717,99.99999947889269,3193948.2200000137,1240780,1867998.4725000001,3.2447588074225244,12779.07,null,0,null,275.42286348501665,null,211,"North Andover                ",1,4505,57569717.300000004,45627018,11942699]
[212,"North Attleborough           ",1,49368540.359999999,30579150,21051671,null,21051671,51608133.329999998,32183541,19424592,0,{"$f":"ROUND(100-'Townwide Contributions'!L221,2)","v":31.97},4114,4031,0,120930,120930,21051671,21172601,0,21172601,0,null,21172601,41.025705899136419,53356142,103.38707982097054,2239592.9699999988,120930,4673480.7743990012,9.0557058991364201,12802.81,null,0,null,30,null,212,"North Attleborough           ",1,4031,51608133.329999998,32183541,21172601]
[213,"Northborough                 ",1,18027328.710000005,14581324,4135910,null,4135910,19538316.099999998,15713655,3824661,0,{"$f":"ROUND(100-'Townwide Contributions'!L222,2)","v":17.5},1590,1618,0,48540,48540,4135910,4184450,0,4184450,0,null,4184450,21.416635796981502,19898105,101.84145295919336,1510987.3899999931,48540,765244.68250000058,3.9166357969815024,12075.6,null,0,null,30,null,213,"Northborough                 ",1,1618,19538316.099999998,15713655,4184450]
[214,"Northbridge                  ",1,26403426.609999999,13630647,15786061,null,15786061,28109617.770000007,14472856,13636762,0,{"$f":"ROUND(100-'Townwide Contributions'!L223,2)","v":40.159999999999997},2024,1997,0,59910,59910,15786061,15845971,0,15845971,0,null,15845971,56.372061440520952,30318827,107.85926456943065,1706191.1600000076,59910,4557148.5035679992,16.212061440520955,14075.92,null,0,null,30,null,214,"Northbridge                  ",1,1997,28109617.770000007,14472856,15845971]
[215,"North Brookfield             ",1,7789173.0300000003,3255249,4533924,null,4533924,8281136.6699999999,3375581,4905556,371632,{"$f":"ROUND(100-'Townwide Contributions'!L224,2)","v":53.6},585,574,1,17220,0,4533924,4551144,0,4905556,0,null,4905556,59.237713317440033,8281137,100.0000039849602,491963.63999999966,371632,466866.74488000013,5.6377133174400313,14427.07,null,0,null,647.44250871080135,null,215,"North Brookfield             ",1,574,8281136.6699999999,3375581,4905556]
[216,"Northfield                   ",0,15697.710000000001,11109,4589,null,4589,16490.760000000002,11472,5019,430,{"$f":"ROUND(100-'Townwide Contributions'!L225,2)","v":22.64},1,1,0,0,0,0,30,0,5019,0,null,5019,0,16491,100.00145536045639,793.05000000000109,430,1285.4919359999994,"",16490.759999999998,null,0,null,430,null,216,"Northfield                   ",0,1,16490.760000000002,11472,5019]
[217,"North Reading                ",1,27056349.750239998,21810649,7356107,null,7356107,29062440.792260002,23011257,6051184,0,{"$f":"ROUND(100-'Townwide Contributions'!L226,2)","v":17.5},2248,2269,0,68070,68070,7356107,7424177,0,7424177,0,null,7424177,25.545607311747986,30435434,104.72428732863227,2006091.0420200042,68070,2338249.8613545001,8.045607311747986,12808.48,null,0,null,30,null,217,"North Reading                ",1,2269,29062440.792260002,23011257,7424177]
[218,"Norton                       ",1,27305331.41,19965440,13029200,null,13029200,29128867.219999995,20948264,8180603,0,{"$f":"ROUND(100-'Townwide Contributions'!L227,2)","v":25.25},2213,2189,0,65670,65670,13029200,13094870,0,13094870,0,null,13094870,44.954957915455807,34043134,116.87077888365617,1823535.8099999949,65670,5739831.0269500008,19.704957915455807,13306.93,null,0,null,30,null,218,"Norton                       ",1,2189,29128867.219999995,20948264,13094870]
[219,"Norwell                      ",1,24690512.978599999,19938599,4751914,null,4751914,25956168.805050001,20944041,5012128,260214,{"$f":"ROUND(100-'Townwide Contributions'!L228,2)","v":17.5},2119,2100,1,63000,0,4751914,4814914,0,5012128,0,null,5012128,19.309968422708231,25956169,100.00000075107386,1265655.8264500014,260214,469798.45911625028,1.8099684227082307,12360.08,null,0,null,123.91142857142857,null,219,"Norwell                      ",1,2100,25956168.805050001,20944041,5012128]
[220,"Norwood                      ",1,48677498.672449999,35990878,12686621,null,12686621,53483623.868720002,37142187,16341437,3654816,{"$f":"ROUND(100-'Townwide Contributions'!L229,2)","v":17.5},3521,3547,1,106410,0,13074065,13180475,0,16341437,0,null,16341437,30.554094539501314,53483624,100.00000024545831,4806125.1962700039,3654816,6981802.8229740001,13.054094539501314,15078.55,null,0,null,1030.3963913166056,null,220,"Norwood                      ",1,3547,53483623.868720002,37142187,16341437]
[221,"Oak Bluffs                   ",1,6081567.2300000004,4486599,1594968,null,1594968,6470637.9299999997,4519073,1951565,356597,{"$f":"ROUND(100-'Townwide Contributions'!L230,2)","v":17.5},451,435,1,13050,0,1594968,1608018,0,1951565,0,null,1951565,30.160318366013104,6470638,100.00000108180988,389070.69999999925,356597,819203.36225000024,12.660318366013104,14875.03,null,0,null,819.76321839080458,null,221,"Oak Bluffs                   ",1,435,6470637.9299999997,4519073,1951565]
[222,"Oakham                       ",0,0,0,0,null,0,0,0,0,0,{"$f":"ROUND(100-'Townwide Contributions'!L231,2)","v":43.63},0,0,0,0,0,0,0,0,0,0,null,0,0,0,0,0,0,0,"",0,null,0,null,0,null,222,"Oakham                       ",0,0,0,0,0]
[223,"Orange                       ",1,8547480.9700000007,2251919,6295562,null,6295562,9212499.9199999981,2332598,6879902,584340,{"$f":"ROUND(100-'Townwide Contributions'!L232,2)","v":71.52},590,583,1,17490,0,6295562,6313052,0,6879902,0,null,6879902,74.680076632228634,9212500,100.00000086838537,665018.94999999739,584340,291122.05721600167,3.1600766322286375,15801.89,null,0,null,1002.2984562607204,null,223,"Orange                       ",1,583,9212499.9199999981,2332598,6879902]
[224,"Orleans                      ",1,2265527.7100000004,1869061,445614,null,445614,2114047.8800000004,1744090,369958,0,{"$f":"ROUND(100-'Townwide Contributions'!L233,2)","v":17.5},169,149,0,4470,4470,445614,450084,0,450084,0,null,450084,21.290151668655675,2194174,103.79017527266221,-151479.83000000007,4470,80125.620999999985,3.7901516686556747,14188.24,null,0,null,30,null,224,"Orleans                      ",1,149,2114047.8800000004,1744090,450084]
[225,"Otis                         ",0,0,0,0,null,0,0,0,0,0,{"$f":"ROUND(100-'Townwide Contributions'!L234,2)","v":17.5},0,0,0,0,0,0,0,0,0,0,null,0,0,0,0,0,0,0,"",0,null,0,null,0,null,225,"Otis                         ",0,0,0,0,0]
[226,"Oxford                       ",1,21026624.100000001,10588629,10708044,null,10708044,21950126.810000002,10995071,10955056,247012,{"$f":"ROUND(100-'Townwide Contributions'!L235,2)","v":46.53},1571,1526,1,45780,0,10708044,10753824,0,10955056,0,null,10955056,49.908850617706292,21950127,100.00000086559864,923502.71000000089,247012,741661.99530699849,3.3788506177062914,14384.09,null,0,null,161.8689384010485,null,226,"Oxford                       ",1,1526,21950126.810000002,10995071,10955056]
[227,"Palmer                       ",1,18251116.599999998,7077995,11173122,null,11173122,19001379.489999998,7280709,11720670,547548,{"$f":"ROUND(100-'Townwide Contributions'!L236,2)","v":58.81},1297,1244,1,37320,0,11173122,11210442,0,11720670,0,null,11720670,61.683258345365545,19001379,99.999997421239868,750262.8900000006,547548,545958.72193099931,2.8732583453655423,15274.42,null,0,null,440.15112540192928,null,227,"Palmer                       ",1,1244,19001379.489999998,7280709,11720670]
[228,"Paxton                       ",0,0,0,0,null,0,0,0,0,0,{"$f":"ROUND(100-'Townwide Contributions'!L237,2)","v":35.03},0,0,0,0,0,0,0,0,0,0,null,0,0,0,0,0,0,0,"",0,null,0,null,0,null,228,"Paxton                       ",0,0,0,0,0]
[229,"Peabody                      ",1,83523634.23999998,52837629,30686005,null,30686005,91177548.530000001,55819170,35358379,4672374,{"$f":"ROUND(100-'Townwide Contributions'!L238,2)","v":32.26},5940,5959,1,178770,0,30686005,30864775,0,35358379,0,null,35358379,38.779699136532599,91177549,100.00000051547778,7653914.2900000215,4672374,5944501.844221998,6.5196991365326014,15300.81,null,0,null,784.08692733680152,null,229,"Peabody                      ",1,5959,91177548.530000001,55819170,35358379]
[230,"Pelham                       ",1,789892.39999999991,635687,244483,null,244483,858482.55999999994,631932,226551,0,{"$f":"ROUND(100-'Townwide Contributions'!L239,2)","v":17.72},65,63,0,1890,1890,244483,246373,0,246373,0,null,246373,28.698661042106671,878305,102.3090090496422,68590.160000000033,1890,94249.890368000022,10.978661042106673,13626.71,null,0,null,30,null,230,"Pelham                       ",1,63,858482.55999999994,631932,246373]
[231,"Pembroke                     ",1,33225728.808800004,22712411,13852952,null,13852952,33926554.381990001,23884371,10042183,0,{"$f":"ROUND(100-'Townwide Contributions'!L240,2)","v":24.84},2700,2599,0,77970,77970,13852952,13930922,0,13930922,0,null,13930922,41.062000706429728,37815293,111.46222682747396,700825.57318999618,77970,5503565.8915136829,16.222000706429728,13053.7,null,0,null,30,null,231,"Pembroke                     ",1,2599,33926554.381990001,23884371,13930922]
[232,"Pepperell                    ",0,0,0,0,null,0,0,0,0,0,{"$f":"ROUND(100-'Townwide Contributions'!L241,2)","v":38.17},0,0,0,0,0,0,0,0,0,0,null,0,0,0,0,0,0,0,"",0,null,0,null,0,null,232,"Pepperell                    ",0,0,0,0,0]
[233,"Peru                         ",0,156977.1,73240,90112,null,90112,164907.6,73878,91030,918,{"$f":"ROUND(100-'Townwide Contributions'!L242,2)","v":44.97},10,10,0,0,0,0,300,0,91030,0,null,91030,0,164908,100.00024256007606,7930.5,918,16871.052280000004,"",16490.759999999998,null,0,null,91.8,null,233,"Peru                         ",0,10,164907.6,73878,91030]
[234,"Petersham                    ",1,934128.69,553478,441433,null,441433,1133842.72,637636,496207,54774,{"$f":"ROUND(100-'Townwide Contributions'!L243,2)","v":36.770000000000003},65,77,1,2310,0,441433,443743,0,496207,0,null,496207,43.763300786550005,1133843,100.00002469478306,199714.03000000003,54774,79293.031855999958,6.9933007865500016,14725.23,null,0,null,711.35064935064941,null,234,"Petersham                    ",1,77,1133842.72,637636,496207]
[235,"Phillipston                  ",0,0,0,0,null,0,0,0,0,0,{"$f":"ROUND(100-'Townwide Contributions'!L244,2)","v":42.86},0,0,0,0,0,0,0,0,0,0,null,0,0,0,0,0,0,0,"",0,null,0,null,0,null,235,"Phillipston                  ",0,0,0,0,0]
[236,"Pittsfield                   ",1,84729484.75,30474674,54254811,null,54254811,92916030.260000005,32068500,60847530,6592719,{"$f":"ROUND(100-'Townwide Contributions'!L245,2)","v":62.86},5618,5577,1,167310,0,54254811,54422121,0,60847530,0,null,60847530,65.486579473676272,92916030,99.999999720177456,8186545.5100000054,6592719,2440513.3785639927,2.6265794736762729,16660.580000000002,null,0,null,1182.1264120494889,null,236,"Pittsfield                   ",1,5577,92916030.260000005,32068500,60847530]
[237,"Plainfield                   ",0,78488.55,60901,27794,null,27794,65963.040000000008,46971,18992,0,{"$f":"ROUND(100-'Townwide Contributions'!L246,2)","v":25.05},5,4,0,0,0,0,120,0,27794,0,null,27794,0,74765,113.34377554460799,-12525.509999999995,0,11270.258479999997,"",16490.759999999998,null,0,null,0,null,237,"Plainfield                   ",0,4,65963.040000000008,46971,27794]
[238,"Plainville                   ",1,8036459.790000001,5785122,2987741,null,2987741,8340185.2700000005,6122586,2217599,0,{"$f":"ROUND(100-'Townwide Contributions'!L247,2)","v":21.33},670,655,0,19650,19650,2987741,3007391,0,3007391,0,null,3007391,36.059043086461315,9129977,109.4697144539572,303725.47999999952,19650,1228429.4819090001,14.729043086461317,12733.11,null,0,null,30,null,238,"Plainville                   ",1,655,8340185.2700000005,6122586,3007391]
[239,"Plymouth                     ",1,104649211.54707,79081066,27066867,null,27066867,111949866.57694001,83683584,28266283,1199416,{"$f":"ROUND(100-'Townwide Contributions'!L248,2)","v":18.989999999999998},7768,7691,1,230730,0,27066867,27297597,0,28266283,0,null,28266283,25.249054656597892,111949867,100.00000037790129,7300655.0298700184,1199416,7007003.3370390944,6.2590546565978933,14555.96,null,0,null,155.9505916005721,null,239,"Plymouth                     ",1,7691,111949866.57694001,83683584,28266283]
[240,"Plympton                     ",1,2979879.4445200004,2095520,884359,null,884359,3146739.0944000003,2196202,950537,66178,{"$f":"ROUND(100-'Townwide Contributions'!L249,2)","v":22.89},248,251,1,7530,0,884359,891889,0,950537,0,null,950537,30.207048359731971,3146739,99.999997000069044,166859.64987999992,66178,230248.42129183991,7.3170483597319702,12536.81,null,0,null,263.65737051792831,null,240,"Plympton                     ",1,251,3146739.0944000003,2196202,950537]
[241,"Princeton                    ",0,15697.710000000001,12201,3497,null,3497,16490.760000000002,13140,3351,0,{"$f":"ROUND(100-'Townwide Contributions'!L250,2)","v":17.5},1,1,0,0,0,0,30,0,3497,0,null,3497,0,16637,100.88679963810036,793.05000000000109,0,611.11699999999973,"",16490.759999999998,null,0,null,0,null,241,"Princeton                    ",0,1,16490.760000000002,13140,3497]
[242,"Provincetown                 ",1,1535068,1266431,299571,null,299571,1708796.98,1409758,299039,0,{"$f":"ROUND(100-'Townwide Contributions'!L251,2)","v":17.5},97,98,0,2940,2940,299571,302511,0,302511,0,null,302511,17.703156287179301,1712269,100.20318505010466,173728.97999999998,2940,3471.5285000000149,0.20315628717930068,17436.7,null,0,null,30,null,242,"Provincetown                 ",1,98,1708796.98,1409758,302511]
[243,"Quincy                       ",1,146803428.35284004,111395437,35407991,null,35407991,164068488.81255996,118960682,45107807,9699816,{"$f":"ROUND(100-'Townwide Contributions'!L252,2)","v":18.66},9460,9715,1,291450,0,35407991,35699441,0,45107807,0,null,45107807,27.493278768193818,164068489,100.000000114245,17265060.459719926,9699816,14492626.987576313,8.8332787681938179,16888.16,null,0,null,998.43705609881624,null,243,"Quincy                       ",1,9715,164068488.81255996,118960682,45107807]
[244,"Randolph                     ",1,47526055.611459993,24874680,22651376,null,22651376,50608513.309120007,26405867,24202646,1551270,{"$f":"ROUND(100-'Townwide Contributions'!L253,2)","v":39.17},3107,3050,1,91500,0,22651376,22742876,0,24202646,0,null,24202646,47.823270073492779,50608513,99.999999389193661,3082457.697660014,1551270,4379291.336817693,8.6532700734927772,16592.96,null,0,null,508.61311475409838,null,244,"Randolph                     ",1,3050,50608513.309120007,26405867,24202646]
[245,"Raynham                      ",0,0,0,0,null,0,0,0,0,0,{"$f":"ROUND(100-'Townwide Contributions'!L254,2)","v":38.549999999999997},0,0,0,0,0,0,0,0,0,0,null,0,0,0,0,0,0,0,"",0,null,0,null,0,null,245,"Raynham                      ",0,0,0,0,0]
[246,"Reading                      ",1,43201150.09262,35640949,11171799,null,11171799,46064559.298859999,37284680,8779879,0,{"$f":"ROUND(100-'Townwide Contributions'!L255,2)","v":17.5},3699,3708,0,111240,111240,11171799,11283039,0,11283039,0,null,11283039,24.493969272119426,48567719,105.4340250709876,2863409.2062399983,111240,3221741.122699501,6.9939692721194255,12423.02,null,0,null,30,null,246,"Reading                      ",1,3708,46064559.298859999,37284680,11283039]
[247,"Rehoboth                     ",0,0,0,0,null,0,0,0,0,0,{"$f":"ROUND(100-'Townwide Contributions'!L256,2)","v":17.5},0,0,0,0,0,0,0,0,0,0,null,0,0,0,0,0,0,0,"",0,null,0,null,0,null,247,"Rehoboth                     ",0,0,0,0,0]
[248,"Revere                       ",1,125462677.79059999,41009518,84453160,null,84453160,142967579.12336001,44549397,98418182,13965022,{"$f":"ROUND(100-'Townwide Contributions'!L257,2)","v":60.5},7735,7955,1,238650,0,84453160,84691810,0,98418182,0,null,98418182,68.839510750251691,142967579,99.999999913714703,17504901.332760021,13965022,11922796.630367205,8.3395107502516908,17972.04,null,0,null,1755.5024512884977,null,248,"Revere                       ",1,7955,142967579.12336001,44549397,98418182]
[249,"Richmond                     ",1,1633317.1499999997,1118062,515255,null,515255,1653453.7499999998,1364099,289355,0,{"$f":"ROUND(100-'Townwide Contributions'!L258,2)","v":17.5},122,120,0,3600,3600,515255,518855,0,518855,0,null,518855,31.380073376712236,1882954,113.88005258689577,20136.600000000093,3600,229500.59375000006,13.880073376712236,13778.78,null,0,null,30,null,249,"Richmond                     ",1,120,1653453.7499999998,1364099,518855]
[250,"Rochester                    ",1,6070731.0099999998,3686389,2384342,null,2384342,6163095.8600000003,3840072,2323024,0,{"$f":"ROUND(100-'Townwide Contributions'!L259,2)","v":29.31},522,499,0,14970,14970,2384342,2399312,0,2399312,0,null,2399312,38.930304744602815,6239384,101.2378217333131,92364.850000000559,14970,592908.60343400016,9.6203047446028158,12350.89,null,0,null,30,null,250,"Rochester                    ",1,499,6163095.8600000003,3840072,2399312]
[251,"Rockland                     ",1,31695075.426849995,15340167,16354908,null,16354908,34848972.482560009,16311436,18537536,2182628,{"$f":"ROUND(100-'Townwide Contributions'!L260,2)","v":49.51},2187,2213,1,66390,0,16376071,16442461,0,18537536,0,null,18537536,53.193924180338506,34848972,99.999998615281953,3153897.055710014,2182628,1283809.7238845415,3.6839241803385079,15747.39,null,0,null,986.27564392227748,null,251,"Rockland                     ",1,2213,34848972.482560009,16311436,18537536]
[252,"Rockport                     ",1,7658338.1696900008,6318129,1555526,null,1555526,8129580.1188599998,6706904,1422676,0,{"$f":"ROUND(100-'Townwide Contributions'!L261,2)","v":17.5},593,587,0,17610,17610,1555526,1573136,0,1573136,0,null,1573136,19.350765685308218,8280040,101.85077062948116,471241.94916999899,17610,150459.47919950006,1.8507656853082182,13849.37,null,0,null,30,null,252,"Rockport                     ",1,587,8129580.1188599998,6706904,1573136]
[253,"Rowe                         ",1,687426.26,567127,143705,null,143705,751366.82,619878,131489,0,{"$f":"ROUND(100-'Townwide Contributions'!L262,2)","v":17.5},44,41,0,1230,1230,143705,144935,0,144935,0,null,144935,19.28951294389071,764813,101.78956265329896,63940.559999999939,1230,13445.806500000006,1.7895129438907098,18326.02,null,0,null,30,null,253,"Rowe                         ",1,41,751366.82,619878,144935]
[254,"Rowley                       ",0,145589.63310000001,110941,34649,null,34649,102026.38446,75107,26919,0,{"$f":"ROUND(100-'Townwide Contributions'!L263,2)","v":17.5},9,6,0,0,0,0,180,0,34649,0,null,34649,0,109756,107.57609473364259,-43563.248640000005,0,16794.382719500001,"",17004.400000000001,null,0,null,0,null,254,"Rowley                       ",0,6,102026.38446,75107,34649]
[255,"Royalston                    ",0,0,0,0,null,0,0,0,0,0,{"$f":"ROUND(100-'Townwide Contributions'!L264,2)","v":44.23},0,0,0,0,0,0,0,0,0,0,null,0,0,0,0,0,0,0,"",0,null,0,null,0,null,255,"Royalston                    ",0,0,0,0,0]
[256,"Russell                      ",0,327675.83999999997,136549,207425,null,207425,344095.56,136909,207187,0,{"$f":"ROUND(100-'Townwide Contributions'!L265,2)","v":55.3},19,19,0,0,0,0,570,0,207425,0,null,207425,0,344334,100.06929470406419,16419.72000000003,0,17140.15532000002,"",18110.29,null,0,null,0,null,256,"Russell                      ",0,19,344095.56,136909,207425]
[257,"Rutland                      ",0,0,0,0,null,0,{"$f":"SUMIF(dist1755,A266,found1755)","v":0},{"$f":"SUMIF(dist1755,A266,prelcont1755)","v":0},{"$f":"ROUND(MAX(found-prelcont436,0),0)","v":0},{"$f":"IF(foundaid>priorc70,foundaid-priorc70,0)","v":0},{"$f":"ROUND(100-'Townwide Contributions'!L266,2)","v":51.85},0,{"$f":"SUMIF(dist1755,A266,enro1755)","v":0},{"$f":"IF(AND(C266=1,L266>0),1,0)","v":0},{"$f":"IF(nonop=1,enro*$Q$6,0)","v":0},{"$f":"IF((foundinc)<Q266,Q266-(foundinc),0)","v":0},0,{"$f":"S266+30*enro","v":0},{"$f":"IF(T266-priorc70-foundinc-minaid>0,T266-priorc70-foundinc-minaid,0)","v":0},{"$f":"priorc70+foundinc+minaidadjincrement+minaid","v":0},{"$f":"IF(AND(C266=0,V266>found),V266-found,0)","v":0},null,{"$f":"priorc70+foundinc+minaidadjincrement+minaid-rednonop+holdharmlessaid","v":0},{"$f":"IF(C266=1, Y266/I266*100, 0)","v":0},{"$f":"prelcont436+chapter70","v":0},{"$f":"IF(found>0,AA266*100/found,0)","v":0},{"$f":"I266-D266","v":0},{"$f":"Y266-F266","v":0},{"$f":"Y266-((M266/100)*I266)","v":0},{"$f":"IF(C266=1, (Y266/I266*100)-M266, \"\")","v":""},{"$f":"IFERROR(ROUND(I266/O266, 2), 0)","v":0},null,{"$f":"VLOOKUP(A266, disthist, 37, FALSE)*$H$6","v":0},null,{"$f":"IFERROR(AD266/O266, 0)","v":0},null,{"$f":"A266","v":257},{"$f":"B266","v":"Rutland                      "},{"$f":"C266","v":0},0,{"$f":"I266","v":0},{"$f":"J266","v":0},{"$f":"Y266","v":0}]
[258,"Salem                        ",1,62736825.24000001,39750153,26184942,null,{"$f":"F267","v":26184942},69935642.150000006,42479762,27455880,1270938,{"$f":"ROUND(100-'Townwide Contributions'!L267,2)","v":29.25},4139,4202,1,126060,0,26184942,26311002,0,27455880,0,null,27455880,39.258780152632085,69935642,99.999999785517076,7198816.9099999964,1270938,6999704.6711249985,10.008780152632085,16643.419999999998,null,0,null,302.46025702046643,null,258,"Salem                        ",1,{"$f":"O267","v":4202},69935642.150000006,42479762,27455880]
[259,"Salisbury                    ",0,31395.420000000002,24408,14443,null,14443,32981.520000000004,25025,7957,0,{"$f":"ROUND(100-'Townwide Contributions'!L268,2)","v":17.5},2,2,0,0,0,0,60,0,14443,0,null,14443,0,39468,119.66701352757542,1586.1000000000022,0,8671.2340000000004,"",16490.759999999998,null,0,null,0,null,259,"Salisbury                    ",0,2,32981.520000000004,25025,14443]
[260,"Sandisfield                  ",0,0,0,0,null,0,0,0,0,0,{"$f":"ROUND(100-'Townwide Contributions'!L269,2)","v":17.5},0,0,0,0,0,0,0,0,0,0,null,0,0,0,0,0,0,0,"",0,null,0,null,0,null,260,"Sandisfield                  ",0,0,0,0,0]
[261,"Sandwich                     ",1,29279714.52,23596865,7371508,null,7371508,29251950.23,24132859,5119091,0,{"$f":"ROUND(100-'Townwide Contributions'!L270,2)","v":17.5},2422,2276,0,68280,68280,7371508,7439788,0,7439788,0,null,7439788,25.433476884457285,31572647,107.93347709042646,-27764.289999999106,68280,2320696.7097500004,7.9334768844572849,12852.35,null,0,null,30,null,261,"Sandwich                     ",1,2276,29251950.23,24132859,7439788]
[262,"Saugus                       ",1,37560632.350000001,28130603,9430029,null,9430029,42085454.029999994,30096004,11989450,2559421,{"$f":"ROUND(100-'Townwide Contributions'!L271,2)","v":17.5},2744,2830,1,84900,0,9430029,9514929,0,11989450,0,null,11989450,28.488346570892396,42085454,99.999999928716477,4524821.6799999923,2559421,4624495.5447500013,10.988346570892396,14871.19,null,0,null,904.38904593639575,null,262,"Saugus                       ",1,2830,42085454.029999994,30096004,11989450]
[263,"Savoy                        ",1,652497.02999999991,427939,519899,null,519899,576479.4,429924,146555,0,{"$f":"ROUND(100-'Townwide Contributions'!L272,2)","v":19.11},45,40,0,1200,1200,519899,521099,0,521099,0,null,521099,90.393342762985114,951023,164.97085585365235,-76017.629999999888,1200,410933.78665999998,71.283342762985114,14411.99,null,0,null,30,null,263,"Savoy                        ",1,40,576479.4,429924,521099]
[264,"Scituate                     ",1,32814594.939320002,26600278,6281773,null,6281773,34295600.022,27754773,6540827,259054,{"$f":"ROUND(100-'Townwide Contributions'!L273,2)","v":17.5},2787,2763,1,82890,0,6281773,6364663,0,6540827,0,null,6540827,19.071913002846369,34295600,99.999999935851832,1481005.0826799981,259054,539096.99615000002,1.5719130028463688,12412.45,null,0,null,93.758233803836404,null,264,"Scituate                     ",1,2763,34295600.022,27754773,6540827]
[265,"Seekonk                      ",1,24525300.480000004,17348780,7176520,null,7176520,25865534.950000003,18110661,7754874,578354,{"$f":"ROUND(100-'Townwide Contributions'!L274,2)","v":24.4},2087,2067,1,62010,0,7180715,7242725,0,7754874,0,null,7754874,29.981494738039427,25865535,100.00000019330741,1340234.4699999988,578354,1443683.4721999997,5.581494738039428,12513.56,null,0,null,279.80358006773099,null,265,"Seekonk                      ",1,2067,25865534.950000003,18110661,7754874]
[266,"Sharon                       ",1,42035594.013680004,32315527,9720067,null,9720067,44179615.271480002,33681121,10498494,778427,{"$f":"ROUND(100-'Townwide Contributions'!L275,2)","v":17.5},3525,3495,1,104850,0,9720067,9824917,0,10498494,0,null,10498494,23.763208292982277,44179615,99.99999938550846,2144021.2577999979,778427,2767061.3274910003,6.2632082929822772,12640.81,null,0,null,222.72589413447781,null,266,"Sharon                       ",1,3495,44179615.271480002,33681121,10498494]
[267,"Sheffield                    ",0,0,0,0,null,0,65963.040000000008,51793,14170,14170,{"$f":"ROUND(100-'Townwide Contributions'!L276,2)","v":17.5},0,4,0,0,0,0,120,0,14170,0,null,14170,0,65963,99.999939359980971,65963.040000000008,14170,2626.4679999999989,"",16490.759999999998,null,0,null,3542.5,null,267,"Sheffield                    ",0,4,65963.040000000008,51793,14170]
[268,"Shelburne                    ",0,0,0,0,null,0,0,0,0,0,{"$f":"ROUND(100-'Townwide Contributions'!L277,2)","v":22.29},0,0,0,0,0,0,0,0,0,0,null,0,0,0,0,0,0,0,"",0,null,0,null,0,null,268,"Shelburne                    ",0,0,0,0,0]
[269,"Sherborn                     ",1,4431918.9769299999,3656333,775586,null,775586,4685609.0321299993,3865627,819982,44396,{"$f":"ROUND(100-'Townwide Contributions'!L278,2)","v":17.5},401,401,1,12030,0,834927,846957,26975,846957,0,null,846957,18.07570785766109,4712584,100.57569822161919,253690.05519999936,71371,26975.419377250131,0.57570785766109012,11684.81,null,0,null,177.98254364089775,null,269,"Sherborn                     ",1,401,4685609.0321299993,3865627,846957]
[270,"Shirley                      ",0,0,0,0,null,0,0,0,0,0,{"$f":"ROUND(100-'Townwide Contributions'!L279,2)","v":36.22},0,0,0,0,0,0,0,0,0,0,null,0,0,0,0,0,0,0,"",0,null,0,null,0,null,270,"Shirley                      ",0,0,0,0,0]
[271,"Shrewsbury                   ",1,70918716.61999999,55216447,20613148,null,20613148,74633713.99000001,57993834,16639880,0,{"$f":"ROUND(100-'Townwide Contributions'!L280,2)","v":17.5},6003,5972,0,179160,179160,20613148,20792308,0,20792308,0,null,20792308,27.859136157669855,78786142,105.56374296280681,3714997.3700000197,179160,7731408.0517499987,10.359136157669855,12497.27,null,0,null,30,null,271,"Shrewsbury                   ",1,5972,74633713.99000001,57993834,20792308]
[272,"Shutesbury                   ",1,1228431.31,719067,639326,null,639326,1442294.2199999997,820401,621893,0,{"$f":"ROUND(100-'Townwide Contributions'!L281,2)","v":37.81},100,111,0,3330,3330,639326,642656,0,642656,0,null,642656,44.557898873088469,1463057,101.43956619336659,213862.90999999968,3330,97324.555417999974,6.7478988730884666,12993.64,null,0,null,30,null,272,"Shutesbury                   ",1,111,1442294.2199999997,820401,642656]
[273,"Somerset                     ",1,20421920.32,10007089,10414831,null,10414831,21144659.59,10510731,10633929,219098,{"$f":"ROUND(100-'Townwide Contributions'!L282,2)","v":43.52},1688,1628,1,48840,0,10414831,10463671,0,10633929,0,null,10633929,50.291322755695397,21144660,100.00000193902389,722739.26999999955,219098,1431773.1464319993,6.7713227556953939,12988.12,null,0,null,134.58108108108109,null,273,"Somerset                     ",1,1628,21144659.59,10510731,10633929]
[274,"Somerville                   ",1,80143330.545699999,66118248,20939048,null,20939048,88070540.975499988,71896983,16173558,0,{"$f":"ROUND(100-'Townwide Contributions'!L283,2)","v":17.5},5011,5100,0,153000,153000,20939048,21092048,0,21092048,0,null,21092048,23.949038766399216,92989031,105.58471648978319,7927210.4297999889,153000,5679703.3292875029,6.4490387663992159,17268.73,null,0,null,30,null,274,"Somerville                   ",1,5100,88070540.975499988,71896983,21092048]
[275,"Southampton                  ",1,5851647.4900000002,3885985,2593726,null,2593726,6284662,4309371,1975291,0,{"$f":"ROUND(100-'Townwide Contributions'!L284,2)","v":24.45},480,492,0,14760,14760,2593726,2608486,0,2608486,0,null,2608486,41.50558932206696,6917857,110.07524350553777,433014.50999999978,14760,1071886.1410000001,17.055589322066961,12773.7,null,0,null,30,null,275,"Southampton                  ",1,492,6284662,4309371,2608486]
[276,"Southborough                 ",1,13166912.130260002,10631673,3091171,null,3091171,14230837.126399998,11416440,2814397,0,{"$f":"ROUND(100-'Townwide Contributions'!L285,2)","v":17.5},1174,1200,0,36000,36000,3091171,3127171,0,3127171,0,null,3127171,21.97461029329542,14543611,102.19785997704778,1063924.9961399958,36000,636774.50288000051,4.4746102932954201,11859.03,null,0,null,30,null,276,"Southborough                 ",1,1200,14230837.126399998,11416440,3127171]
[277,"Southbridge                  ",1,34733982.75,8618946,26115037,null,26115037,38095220.899999999,9107735,28987486,2872449,{"$f":"ROUND(100-'Townwide Contributions'!L286,2)","v":72.94},2159,2165,1,64950,0,26115037,26179987,0,28987486,0,null,28987486,76.092185096110057,38095221,100.00000026250012,3361238.1499999985,2872449,1200831.8755400032,3.1521850961100597,17595.939999999999,null,0,null,1326.7662817551964,null,277,"Southbridge                  ",1,2165,38095220.899999999,9107735,28987486]
[278,"South Hadley                 ",1,24351460.979999997,14674595,9676866,null,9676866,25928069.819999997,15249839,10678231,1001365,{"$f":"ROUND(100-'Townwide Contributions'!L287,2)","v":36.549999999999997},1864,1859,1,55770,0,9684727,9740497,0,10678231,0,null,10678231,41.184056793009674,25928070,100.00000069422832,1576608.8399999999,1001365,1201521.4807900023,4.6340567930096768,13947.32,null,0,null,538.65788058095745,null,278,"South Hadley                 ",1,1859,25928069.819999997,15249839,10678231]
[279,"Southwick                    ",0,0,0,0,null,0,0,0,0,0,{"$f":"ROUND(100-'Townwide Contributions'!L288,2)","v":28.42},0,0,0,0,0,0,0,0,0,0,null,0,0,0,0,0,0,0,"",0,null,0,null,0,null,279,"Southwick                    ",0,0,0,0,0]
[280,"Spencer                      ",0,47093.130000000005,21605,30998,null,30998,65963.040000000008,30103,35860,4862,{"$f":"ROUND(100-'Townwide Contributions'!L289,2)","v":48.71},3,4,0,0,0,0,120,0,35860,0,null,35860,0,65963,99.999939359980971,18869.910000000003,4862,3729.4032159999952,"",16490.759999999998,null,0,null,1215.5,null,280,"Spencer                      ",0,4,65963.040000000008,30103,35860]
[281,"Springfield                  ",1,483882872.08000004,44717025,439165847,null,439165847,525763852.88000005,48026085,477737768,38571921,{"$f":"ROUND(100-'Townwide Contributions'!L290,2)","v":83.93},28613,28326,1,849780,0,439165847,440015627,0,477737768,0,null,477737768,90.865464672604361,525763853,100.00000002282393,41880980.800000012,38571921,36464166.277815938,6.9354646726043541,18561.18,null,0,null,1361.7143613641178,null,281,"Springfield                  ",1,28326,525763852.88000005,48026085,477737768]
[282,"Sterling                     ",0,31395.420000000002,25217,6178,null,6178,16490.760000000002,13193,3298,0,{"$f":"ROUND(100-'Townwide Contributions'!L291,2)","v":17.5},2,1,0,0,0,0,30,0,6178,0,null,6178,0,19371,117.46578083726885,-14904.66,0,3292.1169999999997,"",16490.759999999998,null,0,null,0,null,282,"Sterling                     ",0,1,16490.760000000002,13193,6178]
[283,"Stockbridge                  ",0,0,0,0,null,0,0,0,0,0,{"$f":"ROUND(100-'Townwide Contributions'!L292,2)","v":17.5},0,0,0,0,0,0,0,0,0,0,null,0,0,0,0,0,0,0,"",0,null,0,null,0,null,283,"Stockbridge                  ",0,0,0,0,0]
[284,"Stoneham                     ",1,29345841.392800011,23608286,5737555,null,5737555,32165599.711240005,24905971,7259629,1522074,{"$f":"ROUND(100-'Townwide Contributions'!L293,2)","v":17.5},2369,2425,1,72750,0,5980972,6053722,0,7259629,0,null,7259629,22.569543441352913,32165600,100.00000089772925,2819758.318439994,1522074,1630649.0505329994,5.0695434413529128,13264.16,null,0,null,627.65938144329903,null,284,"Stoneham                     ",1,2425,32165599.711240005,24905971,7259629]
[285,"Stoughton                    ",1,50610297.858939998,29115684,21494614,null,21494614,56987020.295979992,30547654,26439366,4944752,{"$f":"ROUND(100-'Townwide Contributions'!L294,2)","v":40.549999999999997},3607,3693,1,110790,0,22638839,22749629,0,26439366,0,null,26439366,46.395417522584701,56987020,99.999999480618584,6376722.4370399937,4944752,3331129.269980114,5.8454175225847038,15431.09,null,0,null,1338.9526130517195,null,285,"Stoughton                    ",1,3693,56987020.295979992,30547654,26439366]
[286,"Stow                         ",0,0,0,0,null,0,0,0,0,0,{"$f":"ROUND(100-'Townwide Contributions'!L295,2)","v":17.5},0,0,0,0,0,0,0,0,0,0,null,0,0,0,0,0,0,0,"",0,null,0,null,0,null,286,"Stow                         ",0,0,0,0,0]
[287,"Sturbridge                   ",1,9620721.5300000012,5377239,4243483,null,4243483,10737439.589999998,6009212,4728228,484745,{"$f":"ROUND(100-'Townwide Contributions'!L296,2)","v":41.45},846,883,1,26490,0,4567635,4594125,0,4728228,0,null,4728228,44.034967185319459,10737440,100.00000381841498,1116718.0599999968,484745,277559.28994500078,2.5849671853194565,12160.18,null,0,null,548.97508493771238,null,287,"Sturbridge                   ",1,883,10737439.589999998,6009212,4728228]
[288,"Sudbury                      ",1,26839555.450000003,21886829,5215698,null,5215698,28628096.43,23070588,5557508,341810,{"$f":"ROUND(100-'Townwide Contributions'!L297,2)","v":17.5},2491,2513,1,75390,0,5215698,5291088,0,5557508,0,null,5557508,19.41277518604474,28628096,99.999998497979078,1788540.9799999967,341810,547591.12475000042,1.9127751860447404,11392,null,0,null,136.01671309192201,null,288,"Sudbury                      ",1,2513,28628096.43,23070588,5557508]
[289,"Sunderland                   ",1,2091284.38,1575365,886728,null,886728,1946645.5199999998,1555821,390825,0,{"$f":"ROUND(100-'Townwide Contributions'!L298,2)","v":17.5},161,146,0,4380,4380,886728,891108,0,891108,0,null,891108,45.776593162169561,2446929,125.69977301260273,-144638.8600000001,4380,550445.03399999999,28.276593162169561,13333.19,null,0,null,30,null,289,"Sunderland                   ",1,146,1946645.5199999998,1555821,891108]
[290,"Sutton                       ",1,14448148.280000001,11629509,5591685,null,5591685,16076441.029999997,12750768,3325673,0,{"$f":"ROUND(100-'Townwide Contributions'!L299,2)","v":17.5},1236,1294,0,38820,38820,5591685,5630505,0,5630505,0,null,5630505,35.023330036125543,18381273,114.33670528009894,1628292.7499999963,38820,2817127.8197500007,17.523330036125543,12423.83,null,0,null,30,null,290,"Sutton                       ",1,1294,16076441.029999997,12750768,5630505]
[291,"Swampscott                   ",1,24578055.190000001,20086942,4631706,null,4631706,26012947.399999999,20898493,5114454,482748,{"$f":"ROUND(100-'Townwide Contributions'!L300,2)","v":17.5},2029,2024,1,60720,0,4631706,4692426,0,5114454,0,null,5114454,19.661186106115757,26012947,99.999998462304205,1434892.2099999972,482748,562188.20500000101,2.1611861061157569,12852.25,null,0,null,238.51185770750988,null,291,"Swampscott                   ",1,2024,26012947.399999999,20898493,5114454]
[292,"Swansea                      ",1,25270425.829999994,15443111,9827315,null,9827315,26694462.580000002,16252187,10442276,614961,{"$f":"ROUND(100-'Townwide Contributions'!L301,2)","v":33.840000000000003},2057,2033,1,60990,0,9827315,9888305,0,10442276,0,null,10442276,39.117760729236601,26694463,100.00000157336001,1424036.7500000075,614961,1408869.8629279993,5.2777607292365971,13130.58,null,0,null,302.48942449581898,null,292,"Swansea                      ",1,2033,26694462.580000002,16252187,10442276]
[293,"Taunton                      ",1,118729147.73,40100760,78628388,null,78628388,{"$f":"SUMIF(dist1755,A302,found1755)","v":131396476.31},42467828,88928648,10300260,{"$f":"ROUND(100-'Townwide Contributions'!L302,2)","v":63.07},7940,8075,1,242250,0,78628388,78870638,0,88928648,0,null,88928648,67.67962923921425,131396476,99.999999764072825,12667328.579999998,10300260,6056890.3912829906,4.6096292392142502,16272.01,null,0,null,1275.5739938080496,null,293,"Taunton                      ",1,8075,131396476.31,42467828,88928648]
[294,"Templeton                    ",0,0,0,0,null,0,0,0,0,0,{"$f":"ROUND(100-'Townwide Contributions'!L303,2)","v":60.68},0,0,0,0,0,0,0,0,0,0,null,0,0,0,0,0,0,0,"",0,null,0,null,0,null,294,"Templeton                    ",0,0,0,0,0]
[295,"Tewksbury                    ",1,38546581.100000001,30874054,13617575,null,13617575,41191248.019999996,32555022,8636226,0,{"$f":"ROUND(100-'Townwide Contributions'!L304,2)","v":17.5},3228,3249,0,97470,97470,13617575,13715045,0,13715045,0,null,13715045,33.296017137768679,46270067,112.32984972325683,2644666.9199999943,97470,6506576.5965000009,15.796017137768679,12678.13,null,0,null,30,null,295,"Tewksbury                    ",1,3249,41191248.019999996,32555022,13715045]
[296,"Tisbury                      ",1,4872085.7,3860887,1011199,null,1011199,5475942.1799999988,3835613,1640329,629130,{"$f":"ROUND(100-'Townwide Contributions'!L305,2)","v":17.5},351,360,1,10800,0,1220993,1231793,0,1640329,0,null,1640329,29.955192112711465,5475942,99.999996712894458,603856.47999999858,629130,682039.11850000033,12.455192112711465,15210.95,null,0,null,1747.5833333333333,null,296,"Tisbury                      ",1,360,5475942.1799999988,3835613,1640329]
[297,"Tolland                      ",0,0,0,0,null,0,0,0,0,0,{"$f":"ROUND(100-'Townwide Contributions'!L306,2)","v":17.5},0,0,0,0,0,0,0,0,0,0,null,0,0,0,0,0,0,0,"",0,null,0,null,0,null,297,"Tolland                      ",0,0,0,0,0]
[298,"Topsfield                    ",1,6327129.1521899998,4950549,1376580,null,1376580,7135092.1120000007,5419279,1715813,339233,{"$f":"ROUND(100-'Townwide Contributions'!L307,2)","v":17.5},572,607,1,18210,0,1458857,1477067,0,1715813,0,null,1715813,24.04752416740769,7135092,99.999998430293559,807962.95981000084,339233,467171.88039999991,6.5475241674076905,11754.68,null,0,null,558.8682042833608,null,298,"Topsfield                    ",1,607,7135092.1120000007,5419279,1715813]
[299,"Townsend                     ",0,0,0,0,null,0,0,0,0,0,{"$f":"ROUND(100-'Townwide Contributions'!L308,2)","v":44.15},0,0,0,0,0,0,0,0,0,0,null,0,0,0,0,0,0,0,"",0,null,0,null,0,null,299,"Townsend                     ",0,0,0,0,0]
[300,"Truro                        ",1,2317885.7700000005,1912256,419516,null,419516,2300504.7399999998,1897916,402589,0,{"$f":"ROUND(100-'Townwide Contributions'!L309,2)","v":17.5},185,173,0,5190,5190,419516,424706,0,424706,0,null,424706,18.461426860611468,2322622,100.96140901670128,-17381.030000000726,5190,22117.670500000066,0.96142686061146776,13297.72,null,0,null,30,null,300,"Truro                        ",1,173,2300504.7399999998,1897916,424706]
[301,"Tyngsborough                 ",1,20161771.900000002,13501934,7557694,null,7557694,21286361.979999997,13961757,7324605,0,{"$f":"ROUND(100-'Townwide Contributions'!L310,2)","v":27.7},1664,1619,0,48570,48570,7557694,7606264,0,7606264,0,null,7606264,35.733038868485885,21568021,101.32319003249424,1124590.0799999945,48570,1709941.7315400019,8.0330388684858853,13147.85,null,0,null,30,null,301,"Tyngsborough                 ",1,1619,21286361.979999997,13961757,7606264]
[302,"Tyringham                    ",0,325767.26999999996,268758,57162,null,57162,268153.68999999994,221227,46927,0,{"$f":"ROUND(100-'Townwide Contributions'!L311,2)","v":17.5},32,24,0,0,0,0,720,0,57162,0,null,57162,0,278389,103.81695661171027,-57613.580000000016,0,10235.104250000011,"",11173.07,null,0,null,0,null,302,"Tyringham                    ",0,24,268153.68999999994,221227,57162]
[303,"Upton                        ",0,78488.55,59336,39979,null,39979,82453.8,61452,21002,0,{"$f":"ROUND(100-'Townwide Contributions'!L312,2)","v":21.79},5,5,0,0,0,0,150,0,39979,0,null,39979,0,101431,123.01555537767817,3965.25,0,22012.31698,"",16490.759999999998,null,0,null,0,null,303,"Upton                        ",0,5,82453.8,61452,39979]
[304,"Uxbridge                     ",1,20484522.960000001,13953398,9588524,null,9588524,22214657.669999998,14882274,7332384,0,{"$f":"ROUND(100-'Townwide Contributions'!L313,2)","v":27.75},1652,1690,0,50700,50700,9588524,9639224,0,9639224,0,null,9639224,43.391278601683716,24521498,110.38431635665175,1730134.7099999972,50700,3474656.4965749998,15.641278601683716,13144.77,null,0,null,30,null,304,"Uxbridge                     ",1,1690,22214657.669999998,14882274,9639224]
[305,"Wakefield                    ",1,40977611.282850005,33133651,7843960,null,7843960,43061534.5506,34517798,8543737,699777,{"$f":"ROUND(100-'Townwide Contributions'!L314,2)","v":17.5},3362,3317,1,99510,0,7843960,7943470,0,8543737,0,null,8543737,19.840762966681027,43061535,100.00000104362282,2083923.267749995,699777,1007968.4536450002,2.3407629666810266,12982.07,null,0,null,210.96683750376846,null,305,"Wakefield                    ",1,3317,43061534.5506,34517798,8543737]
[306,"Wales                        ",1,1787635.85,616948,1170688,null,1170688,1628374.74,566808,1061567,0,{"$f":"ROUND(100-'Townwide Contributions'!L315,2)","v":60.84},133,111,0,3330,3330,1170688,1174018,0,1174018,0,null,1174018,72.097532045971192,1740826,106.90573596099875,-159261.1100000001,3330,183314.80818399996,11.257532045971189,14670.04,null,0,null,30,null,306,"Wales                        ",1,111,1628374.74,566808,1174018]
[307,"Walpole                      ",1,43228473.531800002,34931941,8504201,null,8504201,47191402.9124,37306825,9884578,1380377,{"$f":"ROUND(100-'Townwide Contributions'!L316,2)","v":17.5},3569,3680,1,110400,0,8504201,8614601,0,9884578,0,null,9884578,20.945717630705847,47191403,100.00000018562703,3962929.3805999979,1380377,1626082.4903300004,3.4457176307058468,12823.75,null,0,null,375.10244565217391,null,307,"Walpole                      ",1,3680,47191402.9124,37306825,9884578]
[308,"Waltham                      ",1,87977903.347709998,69072135,18905768,null,18905768,98129290.060850009,74508112,23621178,4715410,{"$f":"ROUND(100-'Townwide Contributions'!L317,2)","v":17.5},5519,5657,1,169710,0,18905768,19075478,0,23621178,0,null,23621178,24.071485675023734,98129290,99.999999937989969,10151386.713140011,4715410,6448552.2393512502,6.5714856750237338,17346.52,null,0,null,833.5531200282835,null,308,"Waltham                      ",1,5657,98129290.060850009,74508112,23621178]
[309,"Ware                         ",1,17965623.27,5630390,12335233,null,12335233,19400007.25,5872745,13527262,1192029,{"$f":"ROUND(100-'Townwide Contributions'!L318,2)","v":66.52},1264,1264,1,37920,0,12335233,12373153,0,13527262,0,null,13527262,69.728128580982869,19400007,99.999998711340695,1434383.9800000004,1192029,622377.17730000056,3.2081285809828728,15348.11,null,0,null,943.06091772151899,null,309,"Ware                         ",1,1264,19400007.25,5872745,13527262]
[310,"Wareham                      ",1,34329630.080000013,20639982,13689648,null,13689648,37763668.480000004,21536212,16227456,2537808,{"$f":"ROUND(100-'Townwide Contributions'!L319,2)","v":37},2329,2307,1,69210,0,13689648,13758858,0,16227456,0,null,16227456,42.971079487667396,37763668,99.99999872893703,3434038.3999999911,2537808,2254898.6623999979,5.9710794876673958,16369.17,null,0,null,1100.0468140442133,null,310,"Wareham                      ",1,2307,37763668.480000004,21536212,16227456]
[311,"Warren                       ",0,15697.710000000001,4781,10917,null,10917,16490.760000000002,4845,11646,729,{"$f":"ROUND(100-'Townwide Contributions'!L320,2)","v":68.14},1,1,0,0,0,0,30,0,11646,0,null,11646,0,16491,100.00145536045639,793.05000000000109,729,409.19613599999866,"",16490.759999999998,null,0,null,729,null,311,"Warren                       ",0,1,16490.760000000002,4845,11646]
[312,"Warwick                      ",1,0,0,246092,null,246092,860882.41,480702,380180,134088,{"$f":"ROUND(100-'Townwide Contributions'!L321,2)","v":37.520000000000003},0,58,1,1740,0,320866,322606,0,380180,0,null,380180,44.161664309066317,860882,99.999952374447972,860882.41,134088,57176.919767999963,6.6416643090663143,14842.8,null,0,null,2311.8620689655172,null,312,"Warwick                      ",1,58,860882.41,480702,380180]
[313,"Washington                   ",0,0,0,0,null,0,65963.040000000008,45577,20386,20386,{"$f":"ROUND(100-'Townwide Contributions'!L322,2)","v":17.5},0,4,0,0,0,0,120,0,20386,0,null,20386,0,65963,99.999939359980971,65963.040000000008,20386,8842.4679999999989,"",16490.759999999998,null,0,null,5096.5,null,313,"Washington                   ",0,4,65963.040000000008,45577,20386]
[314,"Watertown                    ",1,36321233.870360002,29965018,6356216,null,6356216,39855550.60148,32047587,7807964,1451748,{"$f":"ROUND(100-'Townwide Contributions'!L323,2)","v":17.5},2595,2661,1,79830,0,6604009,6683839,0,7807964,0,null,7807964,19.590656463569363,39855551,100.00000099991091,3534316.7311199978,1451748,833242.64474100061,2.0906564635693634,14977.66,null,0,null,545.56482525366403,null,314,"Watertown                    ",1,2661,39855550.60148,32047587,7807964]
[315,"Wayland                      ",1,30979999.4738,24877273,6102726,null,6102726,33119434.224909998,25852462,7266972,1164246,{"$f":"ROUND(100-'Townwide Contributions'!L324,2)","v":17.5},2655,2681,1,80430,0,6370017,6450447,0,7266972,0,null,7266972,21.941715400845581,33119434,99.999999320912323,2139434.7511099987,1164246,1471071.0106407506,4.441715400845581,12353.39,null,0,null,434.25811264453563,null,315,"Wayland                      ",1,2681,33119434.224909998,25852462,7266972]
[316,"Webster                      ",1,29048367.420000002,12256734,16791633,null,16791633,31971769.840000004,12851534,19120236,2328603,{"$f":"ROUND(100-'Townwide Contributions'!L325,2)","v":54.92},1897,1907,1,57210,0,16791633,16848843,0,19120236,0,null,19120236,59.803495695376242,31971770,100.00000050044147,2923402.4200000018,2328603,1561340.003871996,4.8834956953762401,16765.48,null,0,null,1221.0818038804405,null,316,"Webster                      ",1,1907,31971769.840000004,12851534,19120236]
[317,"Wellesley                    ",1,51015282.939499997,42087609,9665964,null,9665964,52634797.2425,43423707,9211090,0,{"$f":"ROUND(100-'Townwide Contributions'!L326,2)","v":17.5},4308,4180,0,125400,125400,9665964,9791364,0,9791364,0,null,9791364,18.602454104437886,53215071,101.10245272690337,1619514.3030000031,125400,580274.48256250098,1.1024541044378857,12592.06,null,0,null,30,null,317,"Wellesley                    ",1,4180,52634797.2425,43423707,9791364]
[318,"Wellfleet                    ",1,1688189.7200000002,1392757,295433,null,295433,1610248.3900000004,1328455,281793,0,{"$f":"ROUND(100-'Townwide Contributions'!L327,2)","v":17.5},131,116,0,3480,3480,295433,298913,0,298913,0,null,298913,18.563160929476226,1627368,101.06316578897493,-77941.329999999842,3480,17119.531749999966,1.0631609294762256,13881.45,null,0,null,30,null,318,"Wellfleet                    ",1,116,1610248.3900000004,1328455,298913]
[319,"Wendell                      ",0,0,0,0,null,0,0,0,0,0,{"$f":"ROUND(100-'Townwide Contributions'!L328,2)","v":58.69},0,0,0,0,0,0,0,0,0,0,null,0,0,0,0,0,0,0,"",0,null,0,null,0,null,319,"Wendell                      ",0,0,0,0,0]
[320,"Wenham                       ",0,0,0,0,null,0,0,0,0,0,{"$f":"ROUND(100-'Townwide Contributions'!L329,2)","v":17.5},0,0,0,0,0,0,0,0,0,0,null,0,0,0,0,0,0,0,"",0,null,0,null,0,null,320,"Wenham                       ",0,0,0,0,0]
[321,"Westborough                  ",1,45181193.88000001,33675087,11506107,null,11506107,{"$f":"SUMIF(dist1755,A330,found1755)","v":47373904.239999995},{"$f":"SUMIF(dist1755,A330,prelcont1755)","v":35784512},{"$f":"ROUND(MAX(found-prelcont436,0),0)","v":11589392},{"$f":"IF(foundaid>priorc70,foundaid-priorc70,0)","v":83285},{"$f":"ROUND(100-'Townwide Contributions'!L330,2)","v":21.43},3836,{"$f":"SUMIF(dist1755,A330,enro1755)","v":3764},{"$f":"IF(AND(C330=1,L330>0),1,0)","v":1},{"$f":"IF(nonop=1,enro*$Q$6,0)","v":112920},{"$f":"IF((foundinc)<Q330,Q330-(foundinc),0)","v":29635},11795633,{"$f":"S330+30*enro","v":11908553},{"$f":"IF(T330-priorc70-foundinc-minaid>0,T330-priorc70-foundinc-minaid,0)","v":289526},{"$f":"priorc70+foundinc+minaidadjincrement+minaid","v":11908553},{"$f":"IF(AND(C330=0,V330>found),V330-found,0)","v":0},null,{"$f":"priorc70+foundinc+minaidadjincrement+minaid-rednonop+holdharmlessaid","v":11908553},{"$f":"IF(C330=1, Y330/I330*100, 0)","v":25.137368749829687},{"$f":"prelcont436+chapter70","v":47693065},{"$f":"IF(found>0,AA330*100/found,0)","v":100.67370584105358},{"$f":"I330-D330","v":2192710.3599999845},{"$f":"Y330-F330","v":402446},{"$f":"Y330-((M330/100)*I330)","v":1756325.3213680014},{"$f":"IF(C330=1, (Y330/I330*100)-M330, \"\")","v":3.707368749829687},{"$f":"IFERROR(ROUND(I330/O330, 2), 0)","v":12586.05},null,{"$f":"VLOOKUP(A330, disthist, 37, FALSE)*$H$6","v":0},null,{"$f":"IFERROR(AD330/O330, 0)","v":106.91976620616366},null,{"$f":"A330","v":321},{"$f":"B330","v":"Westborough                  "},{"$f":"C330","v":1},3764,{"$f":"I330","v":47373904.239999995},{"$f":"J330","v":35784512},{"$f":"Y330","v":11908553}]
[322,"West Boylston                ",1,10560011.300000001,8098019,3108465,null,{"$f":"F331","v":3108465},11278495.76,8476196,2802300,0,{"$f":"ROUND(100-'Townwide Contributions'!L331,2)","v":20.309999999999999},825,826,0,24780,24780,3108465,3133245,0,3133245,0,null,3133245,27.780699365178464,11609441,102.9343030049603,718484.45999999903,24780,842582.51114400011,7.470699365178465,13654.35,null,0,null,30,null,322,"West Boylston                ",1,{"$f":"O331","v":826},11278495.76,8476196,3133245]
[323,"West Bridgewater             ",1,13585538.109999998,8270877,5314661,null,5314661,15250441.900000002,8732058,6518384,1203723,{"$f":"ROUND(100-'Townwide Contributions'!L332,2)","v":40.35},1099,1130,1,33900,0,6198599,6232499,0,6518384,0,null,6518384,42.742263094684482,15250442,100.00000065571869,1664903.7900000047,1203723,364830.69334999844,2.3922630946844805,13495.97,null,0,null,1065.2415929203539,null,323,"West Bridgewater             ",1,1130,15250441.900000002,8732058,6518384]
[324,"West Brookfield              ",0,453257.52,246970,328719,null,328719,393567.83999999997,200356,193212,0,{"$f":"ROUND(100-'Townwide Contributions'!L333,2)","v":42.79},27,22,0,0,0,0,660,0,328719,0,null,328719,0,529075,134.43044533313494,-59689.680000000051,0,160311.32126400003,"",17889.45,null,0,null,0,null,324,"West Brookfield              ",0,22,393567.83999999997,200356,328719]
[325,"Westfield                    ",1,69264756.579999998,30194266,39070491,null,39070491,75008744.25999999,32011961,42996783,3926292,{"$f":"ROUND(100-'Townwide Contributions'!L334,2)","v":54.02},4878,4849,1,145470,0,39070491,39215961,0,42996783,0,null,42996783,57.322360778313886,75008744,99.999999653373763,5743987.6799999923,3926292,2477059.3507480025,3.3023607783138829,15468.91,null,0,null,809.71169313260464,null,325,"Westfield                    ",1,4849,75008744.25999999,32011961,42996783]
[326,"Westford                     ",1,51138938.126499996,40088937,17551275,null,17551275,56419497.774939992,42434964,13984534,0,{"$f":"ROUND(100-'Townwide Contributions'!L335,2)","v":18.420000000000002},4491,4658,0,139740,139740,17551275,17691015,0,17691015,0,null,17691015,31.356207867305525,60125979,106.56950410981206,5280559.6484399959,139740,7298543.5098560527,12.936207867305523,12112.39,null,0,null,30,null,326,"Westford                     ",1,4658,56419497.774939992,42434964,17691015]
[327,"Westhampton                  ",1,1276796.4100000001,1028968,486110,null,486110,1280165.0299999996,1028923,251242,0,{"$f":"ROUND(100-'Townwide Contributions'!L336,2)","v":17.5},98,92,0,2760,2760,486110,488870,0,488870,0,null,488870,38.188045177269068,1517793,118.56229192575277,3368.6199999994133,2760,264841.11975000007,20.688045177269068,13914.84,null,0,null,30,null,327,"Westhampton                  ",1,92,1280165.0299999996,1028923,488870]
[328,"Westminster                  ",0,0,0,0,null,0,0,0,0,0,{"$f":"ROUND(100-'Townwide Contributions'!L337,2)","v":41.75},0,0,0,0,0,0,0,0,0,0,null,0,0,0,0,0,0,0,"",0,null,0,null,0,null,328,"Westminster                  ",0,0,0,0,0]
[329,"West Newbury                 ",0,31395.420000000002,25174,6221,null,6221,32981.520000000004,26579,6403,182,{"$f":"ROUND(100-'Townwide Contributions'!L338,2)","v":17.5},2,2,0,0,0,0,60,0,6403,0,null,6403,0,32982,100.00145536045639,1586.1000000000022,182,631.23399999999947,"",16490.759999999998,null,0,null,91,null,329,"West Newbury                 ",0,2,32981.520000000004,26579,6403]
[330,"Weston                       ",1,23331116.658349998,19248171,4124960,null,4124960,25392258.954960003,20948614,4443645,318685,{"$f":"ROUND(100-'Townwide Contributions'!L339,2)","v":17.5},1965,2010,1,60300,0,4287488,4347788,0,4443645,0,null,4443645,17.499998751123318,25392259,100.00000017737688,2061142.2966100052,318685,-0.31711800023913383,-1.2488766820695218E-6,12632.96,null,0,null,158.54975124378109,null,330,"Weston                       ",1,2010,25392258.954960003,20948614,4443645]
[331,"Westport                     ",1,19394381.850000001,14765539,4696172,null,4696172,20926189.139999997,15677019,5249170,552998,{"$f":"ROUND(100-'Townwide Contributions'!L340,2)","v":17.5},1543,1560,1,46800,0,4696172,4742972,0,5249170,0,null,5249170,25.08421368497676,20926189,99.999999330981879,1531807.2899999954,552998,1587086.9005000009,7.5842136849767599,13414.22,null,0,null,354.48589743589741,null,331,"Westport                     ",1,1560,20926189.139999997,15677019,5249170]
[332,"West Springfield             ",1,57525467.20000001,21830351,35695116,null,35695116,63567924.089999989,22906588,40661336,4966220,{"$f":"ROUND(100-'Townwide Contributions'!L341,2)","v":59.11},3919,3982,1,119460,0,35695116,35814576,0,40661336,0,null,40661336,63.965178322374264,63567924,99.999999858419173,6042456.8899999782,4966220,3086336.0704010129,4.8551783223742646,15963.82,null,0,null,1247.1672526368659,null,332,"West Springfield             ",1,3982,63567924.089999989,22906588,40661336]
[333,"West Stockbridge             ",0,0,0,0,null,0,0,0,0,0,{"$f":"ROUND(100-'Townwide Contributions'!L342,2)","v":17.5},0,0,0,0,0,0,0,0,0,0,null,0,0,0,0,0,0,0,"",0,null,0,null,0,null,333,"West Stockbridge             ",0,0,0,0,0]
[334,"West Tisbury                 ",0,0,0,0,null,0,0,0,0,0,{"$f":"ROUND(100-'Townwide Contributions'!L343,2)","v":17.5},0,0,0,0,0,0,0,0,0,0,null,0,0,0,0,0,0,0,"",0,null,0,null,0,null,334,"West Tisbury                 ",0,0,0,0,0]
[335,"Westwood                     ",1,33902334.173579998,27895202,6007132,null,6007132,36039140.915650003,28969675,7069466,1062334,{"$f":"ROUND(100-'Townwide Contributions'!L344,2)","v":17.5},2890,2893,1,86790,0,6087651,6174441,0,7069466,0,null,7069466,19.61607802068912,36039141,100.00000023405107,2136806.7420700043,1062334,762616.33976124972,2.1160780206891197,12457.36,null,0,null,367.20843415139996,null,335,"Westwood                     ",1,2893,36039140.915650003,28969675,7069466]
[336,"Weymouth                     ",1,83362016.189649999,62293612,28964195,null,28964195,89980250.507149994,65671537,24308714,0,{"$f":"ROUND(100-'Townwide Contributions'!L345,2)","v":18.649999999999999},5885,5863,0,175890,175890,28964195,29140085,0,29140085,0,null,29140085,32.384978743401561,94811622,105.36936879550707,6618234.3174999952,175890,12358768.280416526,13.734978743401562,15347.13,null,0,null,30,null,336,"Weymouth                     ",1,5863,89980250.507149994,65671537,29140085]
[337,"Whately                      ",1,966975.82,730678,271820,null,271820,1127263.1800000002,797920,329343,57523,{"$f":"ROUND(100-'Townwide Contributions'!L346,2)","v":23.52},77,85,1,2550,0,285107,287657,0,329343,0,null,329343,29.216158732337906,1127263,99.999984032122811,160287.36000000022,57523,64210.700063999975,5.6961587323379064,13261.92,null,0,null,676.74117647058824,null,337,"Whately                      ",1,85,1127263.1800000002,797920,329343]
[338,"Whitman                      ",0,249187.29,115290,133897,null,133897,245151,105688,139463,5566,{"$f":"ROUND(100-'Townwide Contributions'!L347,2)","v":50.55},14,13,0,0,0,0,390,0,139463,0,null,139463,0,245151,100,-4036.2900000000081,5566,15539.169500000018,"",18857.77,null,0,null,428.15384615384613,null,338,"Whitman                      ",0,13,245151,105688,139463]
[339,"Wilbraham                    ",0,0,0,0,null,0,0,0,0,0,{"$f":"ROUND(100-'Townwide Contributions'!L348,2)","v":34.47},0,0,0,0,0,0,0,0,0,0,null,0,0,0,0,0,0,0,"",0,null,0,null,0,null,339,"Wilbraham                    ",0,0,0,0,0]
[340,"Williamsburg                 ",1,2178719.5099999998,1344523,834197,null,834197,2130357.6900000004,1343356,787002,0,{"$f":"ROUND(100-'Townwide Contributions'!L349,2)","v":32.36},172,154,0,4620,4620,834197,838817,0,838817,0,null,838817,39.374467674487093,2182173,102.4322352177394,-48361.819999999367,4620,149433.2515159999,7.0144676744870935,13833.49,null,0,null,30,null,340,"Williamsburg                 ",1,154,2130357.6900000004,1343356,838817]
[341,"Williamstown                 ",0,0,0,0,null,0,0,0,0,0,{"$f":"ROUND(100-'Townwide Contributions'!L350,2)","v":17.5},0,0,0,0,0,0,0,0,0,0,null,0,0,0,0,0,0,0,"",0,null,0,null,0,null,341,"Williamstown                 ",0,0,0,0,0]
[342,"Wilmington                   ",1,34415669.88318,27066348,11724230,null,11724230,36154606.173280001,28577249,7577357,0,{"$f":"ROUND(100-'Townwide Contributions'!L351,2)","v":17.5},2842,2832,0,84960,84960,11724230,11809190,0,11809190,0,null,11809190,32.663030385122994,40386439,111.70482346409163,1738936.2901000008,84960,5482133.9196760003,15.163030385122994,12766.46,null,0,null,30,null,342,"Wilmington                   ",1,2832,36154606.173280001,28577249,11809190]
[343,"Winchendon                   ",1,18305278.439999994,5813202,12492076,null,12492076,20130691.019999996,6129765,14000926,1508850,{"$f":"ROUND(100-'Townwide Contributions'!L352,2)","v":65.27},1297,1319,1,39570,0,12492076,12531646,0,14000926,0,null,14000926,69.550150991289726,20130691,99.999999900649229,1825412.5800000019,1508850,861623.9712460041,4.2801509912897302,15262.09,null,0,null,1143.9347990902199,null,343,"Winchendon                   ",1,1319,20130691.019999996,6129765,14000926]
[344,"Winchester                   ",1,51185910.074539989,42158204,10016359,null,10016359,53860981.504270002,43974784,9886198,0,{"$f":"ROUND(100-'Townwide Contributions'!L353,2)","v":17.5},4388,4346,0,130380,130380,10016359,10146739,0,10146739,0,null,10146739,18.838756213894069,54121523,100.48372957278794,2675071.429730013,130380,721067.23675275035,1.3387562138940687,12393.23,null,0,null,30,null,344,"Winchester                   ",1,4346,53860981.504270002,43974784,10146739]
[345,"Windsor                      ",0,62790.840000000004,46140,26462,null,26462,65963.040000000008,48534,17429,0,{"$f":"ROUND(100-'Townwide Contributions'!L354,2)","v":17.5},4,4,0,0,0,0,120,0,26462,0,null,26462,0,74996,113.6939716544295,3172.2000000000044,0,14918.467999999999,"",16490.759999999998,null,0,null,0,null,345,"Windsor                      ",0,4,65963.040000000008,48534,26462]
[346,"Winthrop                     ",1,25999605.057999998,17986284,8013321,null,8013321,28718694.131870005,18971710,9746984,1733663,{"$f":"ROUND(100-'Townwide Contributions'!L355,2)","v":22.57},1912,1957,1,58710,0,8167191,8225901,0,9746984,0,null,9746984,33.939509767554078,28718694,99.999999540821719,2719089.0738700069,1733663,3265174.7344369395,11.369509767554078,14674.86,null,0,null,885.87787429739399,null,346,"Winthrop                     ",1,1957,28718694.131870005,18971710,9746984]
[347,"Woburn",1,60994707.780599996,48301038,12693670,null,12693670,65492150.344600007,51893336,13598814,905144,{"$f":"ROUND(100-'Townwide Contributions'!L356,2)","v":17.5},4398,4388,1,131640,0,12693670,12825310,0,13598814,0,null,13598814,20.76403649665972,65492150,99.999999473830059,4497442.5640000105,905144,2137687.6896949988,3.2640364966597204,14925.28,null,0,null,206.27711941659069,null,347,"Woburn",1,4388,65492150.344600007,51893336,13598814]
[348,"Worcester                    ",1,430557179.73999995,114317014,316240166,null,316240166,477974878.60999995,120432974,357541905,41301739,{"$f":"ROUND(100-'Townwide Contributions'!L357,2)","v":70.099999999999994},26165,26552,1,796560,0,316240166,317036726,0,357541905,0,null,357541905,74.803493028706569,477974879,100.00000008159425,47417698.870000005,41301739,22481515.094390035,4.7034930287065748,18001.46,null,0,null,1555.5038791804761,null,348,"Worcester                    ",1,26552,477974878.60999995,120432974,357541905]
[349,"Worthington                  ",1,1326979.1100000001,1027100,365735,null,365735,1568790.0099999995,1103824,464966,99231,{"$f":"ROUND(100-'Townwide Contributions'!L358,2)","v":17.5},107,120,1,3600,0,397912,401512,0,464966,0,null,464966,29.638511020350016,1568790,99.999999362566086,241810.89999999944,99231,190427.74825000012,12.138511020350016,13073.25,null,0,null,826.92499999999995,null,349,"Worthington                  ",1,120,1568790.0099999995,1103824,464966]
[350,"Wrentham                     ",1,9667437.7704000026,7781640,3868573,null,3868573,11250378.938039999,8771480,2478899,0,{"$f":"ROUND(100-'Townwide Contributions'!L359,2)","v":17.5},846,925,0,27750,27750,3868573,3896323,0,3896323,0,null,3896323,34.632815671885304,12667803,112.59890062162599,1582941.1676399969,27750,1927506.6858430002,17.132815671885304,12162.57,null,0,null,30,null,350,"Wrentham                     ",1,925,11250378.938039999,8771480,3896323]
[351,"Yarmouth                     ",0,0,0,0,null,0,0,0,0,0,{"$f":"ROUND(100-'Townwide Contributions'!L360,2)","v":17.5},0,0,0,0,0,0,0,0,0,0,null,0,0,0,0,0,0,0,"",0,null,0,null,0,null,351,"Yarmouth                     ",0,0,0,0,0]
[406,"Northampton Smith            ",1,3397887.14,2684044,923645,null,923645,3641524.6399999997,2870492,771033,0,{"$f":"ROUND(100-SUMIF(fraclea,A361,memeffpct),2)","v":17.5},119,115,0,3450,3450,923645,927095,0,927095,0,null,927095,25.458979181862684,3797587,104.28563240478307,243637.49999999953,3450,289828.18800000008,7.9589791818626843,31665.43,null,0,null,30,null,406,"Northampton Smith            ",1,115,3641524.6399999997,2870492,927095]
[600,"Acton Boxborough             ",1,61160337.808100007,48377825,15641731,null,15641731,65635696.241760008,50507466,15128230,0,17.5,5047,5119.9999999999991,0,153599.99999999997,153599.99999999997,15641731,15795331,2.9103830456733704E-11,15795331,0,null,15795331,24.065153421729669,66302797,101.01636883043462,4475358.4336600006,153600,4309084.1576919984,6.5651534217296685,12819.47,null,0,null,30.000000000000007,null,600,"Acton Boxborough             ",1,5119.9999999999991,65635696.241760008,50507466,15795331]
[603,"Hoosac Valley",1,16371180.810000002,5945277,10460113,null,10460113,17400551.630000003,6167321,11233231,773118,61.9,1167,1146,1,34380,0,10460113,10494493,0,11233231,0,null,11233231,64.55675221602155,17400552,100.00000212636935,1029370.8200000003,773118,462289.54102999903,2.6567522160215518,15183.73,null,0,null,674.62303664921467,null,603,"Hoosac Valley",1,1146,17400551.630000003,6167321,11233231]
[605,"Amherst Pelham               ",1,17544562.199999999,13310597,9679957.0000003986,null,9679957.0000003986,18078526.210000001,13803543,4274983,0,20.38,1310,1274.0000000000002,0,38220.000000000007,38220.000000000007,9679957.0000003986,9718177.0000003986,0,9718177.0000003986,0,null,9718177.0000003986,53.755360846974696,23521720.000000399,130.10861464464696,533964.01000000164,38220,6033773.3584023993,33.375360846974701,14190.37,null,0,null,29.999999999999993,null,605,"Amherst Pelham               ",1,1274.0000000000002,18078526.210000001,13803543,9718177.0000003986]
[610,"Ashburnham Westminster       ",1,27181254.040000007,13193830,13987424,null,13987424,29646112.5,13950290,15695823,1708399,47.7,2258,2282,1,68460,0,14469346,14537806,0,15695823,0,null,15695823,52.943950071025334,29646113,100.00000168656177,2464858.4599999934,1708399,1554627.3374999985,5.2439500710253313,12991.29,null,0,null,748.64110429447851,null,610,"Ashburnham Westminster       ",1,2282,29646112.5,13950290,15695823]
[615,"Athol Royalston              ",1,25100227.810000002,4138714,20961514,null,20961514,27758995.789999995,4374330,23384666,2423152,69.7,1759,1746,1,52380,0,20961514,21013894,0,23384666,0,null,23384666,84.241757795950889,27758996,100.00000075651154,2658767.979999993,2423152,4036645.9343699999,14.541757795950886,15898.62,null,0,null,1387.8304696449027,null,615,"Athol Royalston              ",1,1746,27758995.789999995,4374330,23384666]
[616,"Ayer Shirley",1,20782030.890000001,14087905,8450171,null,8450171,23119470.369999997,14814575,8304895,0,30.98,1658,1712,0,51360,51360,8450171,8501531,0,8501531,0,null,8501531,36.772170226838988,23316106,100.8505196133522,2337439.4799999967,51360,1339119.0793740004,5.7921702268389872,13504.36,null,0,null,30,null,616,"Ayer Shirley",1,1712,23119470.369999997,14814575,8501531]
[618,"Berkshire Hills              ",1,13314694.690000001,10497795,3017538,null,3017538,14027795.750000002,11020467,3007329,0,17.5,934,917.99999999999989,0,27539.999999999996,27539.999999999996,3017538,3045078,3.637978807091713E-12,3045078,0,null,3045078,21.707458921334805,14065545,100.26910321958458,713101.06000000052,27540,590213.74374999991,4.2074589213348048,15280.82,null,0,null,30.000000000000004,null,618,"Berkshire Hills              ",1,917.99999999999989,14027795.750000002,11020467,3045078]
[620,"Berlin Boylston              ",1,11425016.279999997,8986309,2438707,null,2438707,12479595.730000002,9682981,2796615,357908,17.5,977,1004.0000000000001,1,30120.000000000004,0,2555370,2585490,0,2796615,0,null,2796615,22.409499959018301,12479596,100.0000021635316,1054579.4500000048,357908,612685.74724999955,4.9094999590183015,12429.88,null,0,null,356.48207171314738,null,620,"Berlin Boylston              ",1,1004.0000000000001,12479595.730000002,9682981,2796615]
[622,"Blackstone Millville         ",1,20463628.09,9949334,11133169,null,11133169,21242438.940000005,10531596,10710843,0,45.15,1628,1581,0,47430,47430,11133169,11180599,0,11180599,0,null,11180599,52.633311229374293,21712195,102.21140360260344,778810.85000000522,47430,1589637.8185899965,7.4833112293742943,13436.08,null,0,null,30,null,622,"Blackstone Millville         ",1,1581,21242438.940000005,10531596,11180599]
[625,"Bridgewater Raynham          ",1,67218280.400000006,39672721,27545559,null,27545559,73247622.790000021,42311090,30936533,3390974,38.22,5505,5609,1,168270,0,28657418,28825688,0,30936533,0,null,30936533,42.235545430183635,73247623,100.00000028669869,6029342.3900000155,3390974,2941291.5696619935,4.0155454301836357,13058.95,null,0,null,604.55945801390624,null,625,"Bridgewater Raynham          ",1,5609,73247622.790000021,42311090,30936533]
[632,"Chesterfield Goshen",1,1538719.12,991104,762250,null,762250,1596663.71,1065120,531544,0,31,122,117,0,3510,3510,762250,765760,0,765760,0,null,765760,47.960005303809403,1830880,114.66910586951337,57944.589999999851,3510,270794.2499,16.960005303809403,13646.7,null,0,null,30,null,632,"Chesterfield Goshen",1,117,1596663.71,1065120,765760]
[635,"Central Berkshire            ",1,20199482.520201996,11643487,8909149.0000009034,null,8909149.0000009034,21682070.819999997,12180728,9501343,592193.99999909662,38.61,1507.0000000150701,1516,1,45480,0,8909149.0000009034,8954629.0000009034,0,9501343,0,null,9501343,43.821197148916987,21682071,100.00000083017902,1482588.2997980006,592193.99999909662,1129895.4563980009,5.2111971489169875,14302.16,null,0,null,390.6292875983487,null,635,"Central Berkshire            ",1,1516,21682070.819999997,12180728,9501343]
[640,"Concord Carlisle             ",1,17547215.867280003,14333307,3213909,null,3213909,18206295.725200001,15020194,3186102,0,17.5,1353,1335,0,40050,40050,3213909,3253959,0,3253959,0,null,3253959,17.872713093944071,18274153,100.37271324065156,659079.85791999847,40050,67857.248089999892,0.37271309394407126,13637.67,null,0,null,30,null,640,"Concord Carlisle             ",1,1335,18206295.725200001,15020194,3253959]
[645,"Dennis Yarmouth              ",1,45626329.120000012,35577617,10048712,null,10048712,49764294.759999998,38104613,11659682,1610970,17.5,3184,3203,1,96090,0,10048712,10144802,0,11659682,0,null,11659682,23.429814601475929,49764295,100.00000048227349,4137965.6399999857,1610970,2950930.4170000013,5.929814601475929,15536.78,null,0,null,502.95660318451451,null,645,"Dennis Yarmouth              ",1,3203,49764294.759999998,38104613,11659682]
[650,"Dighton Rehoboth             ",1,31909002.190000005,21814425,13193246,null,13193246,33303334.109999999,22502125,10801209,0,29.36,2606,2577,0,77310,77310,13193246,13270556,0,13270556,0,null,13270556,39.84752984841613,35772681,107.41471373960282,1394331.9199999943,77310,3492697.1053040009,10.487529848416131,12923.3,null,0,null,30,null,650,"Dighton Rehoboth             ",1,2577,33303334.109999999,22502125,13270556]
[655,"Dover Sherborn               ",1,14245103.0352,11752210,2492893,null,2492893,15061557.844200004,12425785,2635773,142880,17.5,1197,1189,1,35670,0,2619340,2655010,19237,2655010,0,null,2655010,17.627725016654949,15080795,100.12772354625591,816454.80900000408,162117,19237.377264999319,0.12772501665494929,12667.42,null,0,null,136.34735071488646,null,655,"Dover Sherborn               ",1,1189,15061557.844200004,12425785,2655010]
[658,"Dudley Charlton              ",1,42267945.799999997,18990742,24788383,null,24788383,44767304.399999999,20147144,24620160,0,47.67,3333,3275,0,98250,98250,24788383,24886633,0,24886633,0,null,24886633,55.591091162504746,45033777,100.5952393238133,2499358.6000000015,98250,3546058.9925200008,7.9210911625047444,13669.41,null,0,null,30,null,658,"Dudley Charlton              ",1,3275,44767304.399999999,20147144,24886633]
[660,"Nauset                       ",1,16185145.729838148,12835323,3635088.9999996317,null,3635088.9999996317,17092062.400000002,13610271,3481791,0,17.5,1208.9999999879101,1191,0,35730,35730,3635088.9999996317,3670818.9999996317,0,3670818.9999996317,0,null,3670818.9999996317,21.476747007427445,17281089.999999631,101.10593792355701,906916.67016185448,35730,679708.07999963127,3.9767470074274449,14351.02,null,0,null,30,null,660,"Nauset                       ",1,1191,17092062.400000002,13610271,3670818.9999996317]
[662,"Farmington River",1,2843384.1900000004,2231273,612111,null,612111,2970098.28,2351188,618910,6799,17.5,232,217,1,6510,0,612111,618621,0,618910,0,null,618910,20.83803098933144,2970098,99.999990572702544,126714.08999999939,6799,99142.801000000094,3.3380309893314397,13687.09,null,0,null,31.331797235023043,null,662,"Farmington River",1,217,2970098.28,2351188,618910]
[665,"Freetown Lakeville           ",1,33397815.079999998,22481677,11350423,null,11350423,35485915.870000005,23828457,11657459,307036,26.99,2780,2781,1,83430,0,11350423,11433853,0,11657459,0,null,11657459,32.850945830752195,35485916,100.0000003663425,2088100.7900000066,307036,2079810.3066869993,5.8609458307521969,12760.13,null,0,null,110.40489032722043,null,665,"Freetown Lakeville           ",1,2781,35485915.870000005,23828457,11657459]
[670,"Frontier                     ",1,6777309.0700000012,5342316,2903235,null,2903235,6859405.6100000003,5502061,1357345,0,18.14,515,488,0,14640,14640,2903235,2917875,0,2917875,0,null,2917875,42.53830675570736,8419936,122.75022762504344,82096.539999999106,14640,1673578.822346,24.39830675570736,14056.16,null,0,null,30,null,670,"Frontier                     ",1,488,6859405.6100000003,5502061,2917875]
[672,"Gateway                      ",1,10224749.509999998,5398856,5727339,null,5727339,11571635.25,5636489,5935146,207807,45.47,753.99999999999989,785.99999999999989,1,23579.999999999996,0,5727339,5750919,0,5935146,0,null,5935146,51.290469080417999,11571635,99.999997839544761,1346885.7400000021,207807,673523.45182500035,5.8204690804180004,14722.18,null,0,null,264.38549618320616,null,672,"Gateway                      ",1,785.99999999999989,11571635.25,5636489,5935146]
[673,"Groton Dunstable             ",1,26006774.040000003,20809059,11124923,null,11124923,27429942.139999997,21929584,5500358,0,17.5,2288,2283,0,68490,68490,11124923,11193413,0,11193413,0,null,11193413,40.807278932160379,33122997,120.75489197513853,1423168.099999994,68490,6393173.125500001,23.307278932160379,12014.87,null,0,null,30,null,673,"Groton Dunstable             ",1,2283,27429942.139999997,21929584,11193413]
[674,"Gill Montague                ",1,14265559.650000002,6487509,7778051,null,7778051,14525789.259999998,6845441,7680348,0,50.66,1020,947,0,28410,28410,7778051,7806461,0,7806461,0,null,7806461,53.742078039758098,14651902,100.86819888229607,260229.60999999568,28410,447696.16088400222,3.0820780397581018,15338.74,null,0,null,30,null,674,"Gill Montague                ",1,947,14525789.259999998,6845441,7806461]
[675,"Hamilton Wenham              ",1,19041996.94004,15355459,3889489,null,3889489,19935627.51244,15916460,4019168,129679,17.5,1635,1620,1,48600,0,3889489,3938089,0,4019168,0,null,4019168,20.160729816465548,19935628,100.0000024456717,893630.57239999995,129679,530433.18532300042,2.6607298164655475,12305.94,null,0,null,80.048765432098762,null,675,"Hamilton Wenham              ",1,1620,19935627.51244,15916460,4019168]
[680,"Hampden Wilbraham            ",1,34362938.020000003,22803354,12175004,null,12175004,35889670.800000012,23968793,11920878,0,31.09,2841,2791.9999999999995,0,83759.999999999985,83759.999999999985,12175004,12258764,1.4551915228366852E-11,12258764,0,null,12258764,34.156802575074039,36227557,100.94145806430743,1526732.7800000086,83760,1100665.3482799958,3.0668025750740391,12854.47,null,0,null,30.000000000000004,null,680,"Hampden Wilbraham            ",1,2791.9999999999995,35889670.800000012,23968793,12258764]
[683,"Hampshire                    ",1,7612495.6600761265,5113589,3327153.0000003641,null,3327153.0000003641,7679400.380076794,5295241,2384159,0,25.76,607.00000000606997,580.00000000579996,0,17400.000000173997,17400.000000173997,3327153.0000003641,3344553.0000005383,1.6007106751203537E-10,3344553.0000005383,0,null,3344553.0000005383,43.552267553044203,8639794.0000005383,112.50610167970095,66904.720000667498,17400.000000174157,1366339.4620927563,17.792267553044201,13240.35,null,0,null,30.000000000000274,null,683,"Hampshire                    ",1,580.00000000579996,7679400.380076794,5295241,3344553.0000005383]
[685,"Hawlemont                    ",1,1180054.7600000002,626211,643276,null,643276,1359496.83,747723,611774,0,42.15,76,92,0,2760,2760,643276,646036,0,646036,0,null,646036,47.520228495126389,1393759,102.5202096278518,179442.06999999983,2760,73008.086155000026,5.3702284951263906,14777.14,null,0,null,30,null,685,"Hawlemont                    ",1,92,1359496.83,747723,646036]
[690,"King Philip                  ",1,24040989.472959593,18683871,7771359.9999988237,null,7771359.9999988237,24882496.668651178,19073760,5808737,0,18.48,1960.9999999803899,1896.99999998103,0,56909.999999430896,56909.999999430896,7771359.9999988237,7828269.9999982547,6.5483618527650833E-11,7828269.9999982547,0,null,7828269.9999982547,31.4609506603929,26902029.999998257,108.11628092727301,841507.19569158554,56909.999999430962,3229984.615631517,12.980950660392899,13116.76,null,0,null,30.000000000000032,null,690,"King Philip                  ",1,1896.99999998103,24882496.668651178,19073760,7828269.9999982547]
[695,"Lincoln Sudbury              ",1,19460408.700000003,15892482,3567927,null,3567927,20042623.919999998,16199749,3842875,274948,17.5,1571,1536,1,46080,0,3567927,3614007,0,3842875,0,null,3842875,19.173512486882007,20042624,100.00000039914934,582215.21999999508,274948,335415.81400000071,1.6735124868820073,13048.58,null,0,null,179.00260416666666,null,695,"Lincoln Sudbury              ",1,1536,20042623.919999998,16199749,3842875]
[698,"Manchester Essex",1,14799834.747719998,11860322,3160298,null,3160298,14995281.195770001,11980929,3014352,0,17.5,1234,1174,0,35220,35220,3160298,3195518,0,3195518,0,null,3195518,21.310157230672136,15176447,101.20815209708174,195446.4480500035,35220,571343.79074025014,3.8101572306721359,12772.81,null,0,null,30,null,698,"Manchester Essex",1,1174,14995281.195770001,11980929,3195518]
[700,"Marthas Vineyard             ",1,11706772.639999997,9266700,2943090,null,2943090,14493699.970000001,10945434,3548266,605176,{"$f":"ROUND(100-SUMIF(fraclea,A393,memeffpct),2)","v":17.5},755,808,1,24240,0,2963450,2987690,0,3548266,0,null,3548266,24.481436812852696,14493700,100.00000020698648,2786927.3300000038,605176,1011868.5052499999,6.9814368128526958,17937.75,null,0,null,748.98019801980195,null,700,"Marthas Vineyard             ",1,808,14493699.970000001,10945434,3548266]
[705,"Masconomet                   ",1,20626908.302099995,16338880,5354919,null,5354919,{"$f":"SUMIF(dist1755,A394,found1755)","v":20800201.785499997},{"$f":"SUMIF(dist1755,A394,prelcont1755)","v":16364261},{"$f":"ROUND(MAX(found-prelcont436,0),0)","v":4435941},{"$f":"IF(foundaid>priorc70,foundaid-priorc70,0)","v":0},17.5,1693,{"$f":"SUMIF(dist1755,A394,enro1755)","v":1613},{"$f":"IF(AND(C394=1,L394>0),1,0)","v":0},{"$f":"IF(nonop=1,enro*$Q$6,0)","v":48390},{"$f":"IF((foundinc)<Q394,Q394-(foundinc),0)","v":48390},5354919,{"$f":"S394+30*enro","v":5403309},{"$f":"IF(T394-priorc70-foundinc-minaid>0,T394-priorc70-foundinc-minaid,0)","v":0},{"$f":"priorc70+foundinc+minaidadjincrement+minaid","v":5403309},{"$f":"IF(AND(C394=0,V394>found),V394-found,0)","v":0},null,{"$f":"priorc70+foundinc+minaidadjincrement+minaid-rednonop+holdharmlessaid","v":5403309},{"$f":"IF(C394=1, Y394/I394*100, 0)","v":25.977195104745061},{"$f":"prelcont436+chapter70","v":21767570},{"$f":"IF(found>0,AA394*100/found,0)","v":104.65076360544907},{"$f":"I394-D394","v":173293.48340000212},{"$f":"Y394-F394","v":48390},{"$f":"Y394-((M394/100)*I394)","v":1763273.6875375006},{"$f":"IF(C394=1, (Y394/I394*100)-M394, \"\")","v":8.4771951047450607},{"$f":"IFERROR(ROUND(I394/O394, 2), 0)","v":12895.35},null,{"$f":"VLOOKUP(A394, disthist, 37, FALSE)*$H$6","v":0},null,{"$f":"IFERROR(AD394/O394, 0)","v":30},null,{"$f":"A394","v":705},{"$f":"B394","v":"Masconomet                   "},{"$f":"C394","v":1},1613,{"$f":"I394","v":20800201.785499997},{"$f":"J394","v":16364261},{"$f":"Y394","v":5403309}]
[710,"Mendon Upton                 ",1,23959502.060000002,18041593,12636586,null,{"$f":"F395","v":12636586},24957462.550000001,18856411,6101052,0,19.96,2079,2025,0,60750,60750,12636586,12697336,0,12697336,0,null,12697336,50.875909257850417,31553747,126.43010857688334,997960.48999999836,60750,7715826.4750199998,30.915909257850416,12324.67,null,0,null,30,null,710,"Mendon Upton                 ",1,{"$f":"O395","v":2025},24957462.550000001,18856411,12697336]
[712,"Monomoy",1,22033322.210000001,17917457,4115865,null,4115865,23706658.220000003,19557993,4148665,32800,17.5,1662,1654,1,49620,16820,4115865,4165485,0,4165485,0,null,4165485,17.570949736331077,23723478,100.07094960345701,1673336.0100000016,49620,16819.811499999836,7.0949736331076707E-2,14332.93,null,0,null,30,null,712,"Monomoy",1,1654,23706658.220000003,19557993,4165485]
[715,"Mount Greylock               ",1,12823121.489999998,8909296,3913825,null,3913825,14323308.950000001,9465991,4857318,943493,26.04,1058,1086,1,32580,0,4245309,4277889,0,4857318,0,null,4857318,33.911982328636427,14323309,100.00000034908135,1500187.4600000028,943493,1127528.3494200003,7.8719823286364274,13189.05,null,0,null,868.77808471454875,null,715,"Mount Greylock               ",1,1086,14323308.950000001,9465991,4857318]
[717,"Mohawk Trail                 ",1,10916936.219890831,6617874,6131053.9999997485,null,6131053.9999997485,11381489.499886185,6907293,4474196,0,34.5,827.99999999171996,790.9999999920899,0,23729.999999762698,23729.999999762698,6131053.9999997485,6154783.9999995111,0,6154783.9999995111,0,null,6154783.9999995111,54.077139903885687,13062076.999999512,114.76597153764568,464553.27999535389,23729.999999762513,2228170.1225387775,19.577139903885687,14388.74,null,0,null,29.999999999999766,null,717,"Mohawk Trail                 ",1,790.9999999920899,11381489.499886185,6907293,6154783.9999995111]
[720,"Narragansett                 ",1,16984442.759999998,6309076,10675367,null,10675367,19090731.800000001,6749883,12340849,1665482,58.04,1281,1338,1,40140,0,11130329,11170469,0,12340849,0,null,12340849,64.643142700270914,19090732,100.00000104762877,2106289.0400000028,1665482,1260588.2632799987,6.6031427002709151,14268.11,null,0,null,1244.7548579970105,null,720,"Narragansett                 ",1,1338,19090731.800000001,6749883,12340849]
[725,"Nashoba                      ",1,37188533.335978121,28095417,9093116,null,9093116,38851075.754790001,29074040,9777036,683920,22.38,3136.9999999686297,3107,1,93210,0,9093116,9186326,0,9777036,0,null,9777036,25.165419000771365,38851076,100.0000006311537,1662542.4188118801,683920,1082165.2460779976,2.7854190007713662,12504.37,null,0,null,220.12230447376891,null,725,"Nashoba                      ",1,3107,38851075.754790001,29074040,9777036]
[728,"New Salem Wendell            ",1,1400561.7699999998,625870,774692,null,774692,1670707.68,758216,912492,137800,49.72,107,113.00000000000001,1,3390.0000000000005,0,780270,783660,0,912492,0,null,912492,54.617094954636237,1670708,100.00001915356013,270145.91000000015,137800,81816.141504000057,4.8970949546362377,14785.02,null,0,null,1219.4690265486724,null,728,"New Salem Wendell            ",1,113.00000000000001,1670707.68,758216,912492]
[730,"Northboro Southboro          ",1,16339014.660000002,13206889,3287524,null,3287524,16594258.149999997,13332899,3261359,0,17.5,1299,1245,0,37350,37350,3287524,3324874,0,3324874,0,null,3324874,20.036291890517568,16657773,100.38275197014458,255243.48999999464,37350,420878.82375000091,2.5362918905175675,13328.72,null,0,null,30,null,730,"Northboro Southboro          ",1,1245,16594258.149999997,13332899,3324874]
[735,"North Middlesex              ",1,37611036.840000004,20649455,20666873.000000898,null,20666873.000000898,40550528.920000002,21382473,19168056,0,41.18,3066,3096,0,92880,92880,20666873.000000898,20759753.000000898,0,20759753.000000898,0,null,20759753.000000898,51.19477736272372,42142226.000000894,103.92521903509834,2939492.0799999982,92880,4061045.1907448974,10.01477736272372,13097.72,null,0,null,30,null,735,"North Middlesex              ",1,3096,40550528.920000002,21382473,20759753.000000898]
[740,"Old Rochester                ",1,12541083.76,9156644,3384440,null,3384440,13019997.510000002,9551673,3468325,83885,21.6,1009,973,1,29190,0,3384440,3413630,0,3468325,0,null,3468325,26.638445954664391,13019998,100.00000376344157,478913.75000000186,83885,656005.53783999942,5.0384459546643896,13381.29,null,0,null,86.21274409044193,null,740,"Old Rochester                ",1,973,13019997.510000002,9551673,3468325]
[745,"Pentucket                    ",1,25863556.119999997,19335867,13385162,null,13385162,27982141.810000002,20548996,7433146,0,21.66,2250,2288,0,68640,68640,13385162,13453802,0,13453802,0,null,13453802,48.079957893687762,34002798,121.51606632144359,2118585.6900000051,68640,7392870.083953999,26.419957893687762,12229.96,null,0,null,30,null,745,"Pentucket                    ",1,2288,27982141.810000002,20548996,13453802]
[750,"Pioneer                      ",1,8172163.4400000004,5256957,{"$f":"4227221-246092","v":3981129},null,3981129,7858151.0500000017,4907463,2950688,0,29.99,635,569,0,17070,17070,3981129,3998199,0,3998199,0,null,3998199,50.879640446718057,8905662,113.33024706874269,-314012.38999999873,17070,1641539.5001049996,20.889640446718058,13810.46,null,0,null,30,null,750,"Pioneer                      ",1,569,7858151.0500000017,4907463,3998199]
[753,"Quabbin                      ",1,25601192.900256008,11596905,16821478.000001181,null,16821478.000001181,27040442.530000001,12220640,14819803,0,50.18,1966.0000000196601,1951,0,58530,58530,16821478.000001181,16880008.000001181,0,16880008.000001181,0,null,16880008.000001181,62.425043455829787,29100648.000001181,107.61897837920178,1439249.6297439933,58530,3311113.9384471793,12.245043455829787,13859.79,null,0,null,30,null,753,"Quabbin                      ",1,1951,27040442.530000001,12220640,16880008.000001181]
[755,"Ralph C Mahar                ",1,8477857.6699999999,2803575,5674283,null,5674283,8804675.8299999982,2757119,6047557,373274,64.94,575,551,1,16530,0,5674283,5690813,0,6047557,0,null,6047557,68.685742857156413,8804676,100.00000193079228,326818.15999999829,373274,329800.51599800121,3.7457428571564151,15979.45,null,0,null,677.44827586206895,null,755,"Ralph C Mahar                ",1,551,8804675.8299999982,2757119,6047557]
[760,"Silver Lake                  ",1,22886572.072338864,14138025,8748547,null,8748547,24399125.516533989,14887605,9511521,762974,33.53,1669.0000000166899,1634.00000001634,1,49020.000000490196,0,8854004,8903024.0000004899,0,9511521,0,null,9511521,38.983040574772026,24399126,100.00000198148909,1512553.4441951253,762974,1330494.2143061534,5.4530405747720252,14932.15,null,0,null,466.93635250451058,null,760,"Silver Lake                  ",1,1634.00000001634,24399125.516533989,14887605,9511521]
[763,"Somerset Berkley",1,13192993.539999999,6608074,6584920,null,6584920,14135320.560000001,7164940,6970381,385461,43.22,982,998,1,29940,0,6584920,6614860,0,6970381,0,null,6970381,49.311799972366529,14135321,100.00000311276987,942327.02000000142,385461,861095.4539680006,6.0917999723665304,14163.65,null,0,null,386.23346693386776,null,763,"Somerset Berkley",1,998,14135320.560000001,7164940,6970381]
[765,"Southern Berkshire           ",1,8757628.3300875779,7076021,2045891.00000039,null,2045891.00000039,9252135.43990748,7434693,1817442,0,17.5,650.00000000649993,644.99999999354998,0,19349.9999998065,19349.9999998065,2045891.00000039,2065241.0000001965,1.8189894035458565E-11,2065241.0000001965,0,null,2065241.0000001965,22.321776560815763,9499934.0000001974,102.67828504783752,494507.10981990211,19349.999999806518,446117.2980163875,4.8217765608157634,14344.4,null,0,null,30.000000000000028,null,765,"Southern Berkshire           ",1,644.99999999354998,9252135.43990748,7434693,2065241.0000001965]
[766,"Southwick Tolland Granville",1,17233969.48,11574750,9964248,null,9964248,18106696.800181068,12099173,6007524,0,27.71,1301,1281.0000000128102,0,38430.000000384309,38430.000000384309,9964248,10002678.000000384,0,10002678.000000384,0,null,10002678.000000384,55.242975073732701,22101851.000000384,122.06451151145006,872727.32018106803,38430.000000383705,4985312.3166702092,27.5329750737327,14134.81,null,0,null,29.999999999999531,null,766,"Southwick Tolland Granville",1,1281.0000000128102,18106696.800181068,12099173,10002678.000000384]
[767,"Spencer East Brookfield      ",1,21076435.030000001,9910023,13831994,null,13831994,22391801.729999993,10460047,11931755,0,47.57,1521,1484.0000000000002,0,44520.000000000007,44520.000000000007,13831994,13876514,0,13876514,0,null,13876514,61.9714043886365,24336561,108.68513973752485,1315366.6999999918,44520,3224733.9170390032,14.4014043886365,15088.82,null,0,null,29.999999999999996,null,767,"Spencer East Brookfield      ",1,1484.0000000000002,22391801.729999993,10460047,13876514]
[770,"Tantasqua                    ",1,21751912.98,11388899,10363014,null,10363014,22722962.140000004,11779194,10943768,580754,44.68,1546,1512.0000000000002,1,45360.000000000007,0,10363014,10408374,0,10943768,0,null,10943768,48.161713831909758,22722962,99.999999383883122,971049.16000000387,580754,791148.51584799774,3.481713831909758,15028.41,null,0,null,384.09656084656081,null,770,"Tantasqua                    ",1,1512.0000000000002,22722962.140000004,11779194,10943768]
[773,"Triton                       ",1,28334955.815970004,21719660,8973621,null,8973621,30407397.850965925,22865013,7542385,0,17.5,2203,2223.9999999777601,0,66719.999999332809,66719.999999332809,8973621,9040340.9999993332,3.637978807091713E-10,9040340.9999993332,0,null,9040340.9999993332,29.730728832201457,31905353.999999333,104.9262885182588,2072442.034995921,66719.999999333173,3719046.3760802969,12.230728832201457,13672.39,null,0,null,30.000000000000167,null,773,"Triton                       ",1,2223.9999999777601,30407397.850965925,22865013,9040340.9999993332]
[774,"Upisland",1,5035196.55,4154037,915262.00000011793,null,915262.00000011793,5529555.0699999994,4561883,967672,52409.999999882071,17.5,403,412,1,12360,0,915262.00000011793,927622.00000011793,0,967672,0,null,967672,17.499997517883482,5529555,99.999998734075376,494358.51999999955,52409.999999882071,-0.13724999979604036,-2.4821165176547311E-6,13421.25,null,0,null,127.20873786379144,null,774,"Upisland",1,412,5529555.0699999994,4561883,967672]
[775,"Wachusett                    ",1,79469578.500000015,47034063,32435516,null,32435516,84952456.879999995,49101422,35851035,3415519,38.21,6814,6867.9999999999991,1,206039.99999999997,0,33697906,33903946,0,35851035,0,null,35851035,42.201292719104707,84952457,100.00000014125548,5482878.3799999803,3415519,3390701.2261520028,3.9912927191047061,12369.32,null,0,null,497.30911473500299,null,775,"Wachusett                    ",1,6867.9999999999991,84952456.879999995,49101422,35851035]
[778,"Quaboag",1,15230825.089999996,6110748,9257500,null,9257500,16750016.709999999,6411888,10338129,1080629,57.66,1090,1110,1,33300,0,9257500,9290800,0,10338129,0,null,10338129,61.720111561608114,16750017,100.00000173134156,1519191.6200000029,1080629,680069.36501399986,4.0601115616081174,15090.11,null,0,null,973.53963963963963,null,778,"Quaboag",1,1110,16750016.709999999,6411888,10338129]
[780,"Whitman Hanson               ",1,42679524.109999999,22110222,25089060,null,25089060,47694959.75,23154753,24540207,0,45.18,3442,3570,0,107100,107100,25089060,25196160,0,25196160,0,null,25196160,52.827720438531244,48350913,101.37530936903663,5015435.6400000006,107100,3647577.1849500015,7.6477204385312447,13359.93,null,0,null,30,null,780,"Whitman Hanson               ",1,3570,47694959.75,23154753,25196160]
[801,"Assabet Valley               ",1,18912027.71474912,11434042,7477986,null,7477986,21431809.599349998,12336877,9094933,1616947,37.44,910.00000000909995,970.99999999999989,1,29129.999999999996,0,8088804,8117934,0,9094933,0,null,9094933,42.436607874100559,21431810,100.00000186941752,2519781.8846008778,1616947,1070863.4860033616,4.9966078741005617,22071.89,null,0,null,1665.2389289392381,null,801,"Assabet Valley               ",1,970.99999999999989,21431809.599349998,12336877,9094933]
[805,"Blackstone Valley            ",1,22300397.41,13631634,8668763,null,8668763,23489724.719765104,14213597,9276128,607365,34.450000000000003,1250,1243.9999999875602,1,37319.999999626802,0,8809089,8846408.9999996275,0,9276128,0,null,9276128,39.490152016105704,23489725,100.00000119301056,1189327.3097651042,607365,1183917.8340409212,5.0401520161057007,18882.419999999998,null,0,null,488.23553055150609,null,805,"Blackstone Valley            ",1,1243.9999999875602,23489724.719765104,14213597,9276128]
[806,"Blue Hills                   ",1,18993506.711260065,12263867,6729640,null,6729640,20180627.194921803,12979952,7200675,471035,28.63,928.99999999070997,925.0000000092499,1,27750.000000277498,0,6729640,6757390.0000002775,0,7200675,0,null,7200675,35.681125915709686,20180627,99.999999034114254,1187120.4836617373,471035,1422961.4340938879,7.0511259157096866,21816.89,null,0,null,509.22702702193482,null,806,"Blue Hills                   ",1,925.0000000092499,20180627.194921803,12979952,7200675]
[810,"Bristol Plymouth             ",1,25870713.669741295,12269006,13601708,null,13601708,26611587.789733887,12417077,14194511,592803,49.11,1357.9999999864199,1319.9999999868,1,39599.999999603999,0,13601708,13641307.999999603,0,14194511,0,null,14194511,53.339586920386253,26611588,100.0000007901299,740874.11999259144,592803,1125560.2364616878,4.2295869203862537,20160.29,null,0,null,449.09318182267276,null,810,"Bristol Plymouth             ",1,1319.9999999868,26611587.789733887,12417077,14194511]
[815,"Cape Cod                     ",1,13454322.920269083,10498402,2955921,null,2955921,14522131.980000004,11114860,3407272,451351,17.5,657.00000001313992,669.00000000000011,1,20070.000000000004,0,2955921,2975991,0,3407272,0,null,3407272,23.462615576642069,14522132,100.00000013772079,1067809.0597309209,451351,865898.90349999955,5.9626155766420688,21707.22,null,0,null,674.66517189835565,null,815,"Cape Cod                     ",1,669.00000000000011,14522131.980000004,11114860,3407272]
[817,"Essex North Shore",1,24470236.15951059,17821075,6649161,null,6649161,27035849.729459278,19187502,7848348,1199187,{"$f":"ROUND(100-SUMIF(fraclea,A425,memeffpct),2)","v":23.22},1314.9999999736999,1370.9999999725799,1,41129.999999177395,0,6840876,6882005.9999991776,0,7848348,0,null,7848348,29.029411239285537,27035850,100.000001000674,2565613.5699486881,1199187,1570623.6928195562,5.8094112392855379,19719.8,null,0,null,874.68052518160744,null,817,"Essex North Shore",1,1370.9999999725799,27035849.729459278,19187502,7848348]
[818,"Franklin County              ",1,10955190.530000001,5484326,5470865,null,5470865,11960851.490000004,6003158,5957693,486828,46.4,546,559.99999999999989,1,16799.999999999996,0,5470865,5487665,0,5957693,0,null,5957693,49.809940412528256,11960851,99.999995903301667,1005660.9600000028,486828,407857.90863999818,3.4099404125282575,21358.66,null,0,null,869.33571428571452,null,818,"Franklin County              ",1,559.99999999999989,11960851.490000004,6003158,5957693]
[821,"Greater Fall River           ",1,29219681.09,8541329,20678352,null,20678352,30840956.849999994,8881164,21959793,1281441,65.069999999999993,1467,1450,1,43500,0,20678352,20721852,0,21959793,0,null,21959793,71.203345300877089,30840957,100.00000048636625,1621275.7599999942,1281441,1891582.3777050041,6.133345300877096,21269.63,null,0,null,883.75241379310341,null,821,"Greater Fall River           ",1,1450,30840956.849999994,8881164,21959793]
[823,"Greater Lawrence             ",1,39053522.538119987,6645884,32407639,null,32407639,43068009.264110669,7518634,35549375,3141736,73.23,1664.9999999999998,1695.00000001695,1,50850.000000508502,0,32407639,32458489.000000507,0,35549375,0,null,35549375,82.54241514158845,43068009,99.999999386759043,4014486.7259906828,3141736,4010671.8158917539,9.3124151415884455,25408.86,null,0,null,1853.5315634032936,null,823,"Greater Lawrence             ",1,1695.00000001695,43068009.264110669,7518634,35549375]
[825,"Greater New Bedford          ",1,43594626.830435947,12514815,31079812,null,31079812,46465556.500000007,12909410,33556147,2476335,66,2125.0000000212499,2104,1,63120,0,31079812,31142932,0,33556147,0,null,33556147,72.217249781566679,46465557,100.00000107606587,2870929.6695640609,2476335,2888879.7099999934,6.2172497815666787,22084.39,null,0,null,1176.9653041825095,null,825,"Greater New Bedford          ",1,2104,46465556.500000007,12909410,33556147]
[828,"Greater Lowell               ",1,49349500.229999997,14778865,34570635,null,34570635,52221931.380522214,14996648,37225283,2654648,65.92,2372,2364.00000002364,1,70920.000000709202,0,34570635,34641555.000000708,0,37225283,0,null,37225283,71.282853804760506,52221931,99.999999271336378,2872431.1505222172,2654648,2800585.8339597583,5.3628538047605048,22090.5,null,0,null,1122.9475465200733,null,828,"Greater Lowell               ",1,2364.00000002364,52221931.380522214,14996648,37225283]
[829,"South Middlesex              ",1,18188255.970868111,10266168,7922088,null,7922088,19205858.345507938,10232414,8973444,1051356,41.93,847.99999999151999,840.99999999159002,1,25229.999999747699,0,7922088,7947317.9999997476,0,8973444,0,null,8973444,46.722431450707852,19205858,99.99999820102839,1017602.3746398278,1051356,920427.59572852124,4.792431450707852,22836.93,null,0,null,1250.126040440563,null,829,"South Middlesex              ",1,840.99999999159002,19205858.345507938,10232414,8973444]
[830,"Minuteman                    ",1,10873494.496371264,8487544,2385950,null,2385950,12893971.225288942,9889048,3004923,618973,18.899999999999999,550.99999999449005,618.00000000618002,1,18540.000000185399,0,2760349,2778889.0000001853,0,3004923,0,null,3004923,23.304868201554889,12893971,99.999998252757521,2020476.7289176788,618973,567962.43842039024,4.4048682015548906,20864.03,null,0,null,1001.5744336469421,null,830,"Minuteman                    ",1,618.00000000618002,12893971.225288942,9889048,3004923]
[832,"Montachusett                 ",1,27936175.670000002,10715954,17220222,null,17220222,29486021.359115418,11167317,18318704,1098482,56.65,1467.0000000000002,1464.99999995605,1,43949.999998681502,0,17220222,17264171.999998681,0,18318704,0,null,18318704,62.126740589696027,29486021,99.999998782082486,1549845.6891154163,1098482,1614872.9000611156,5.4767405896960284,20126.98,null,0,null,749.81706486891085,null,832,"Montachusett                 ",1,1464.99999995605,29486021.359115418,11167317,18318704]
[851,"Northern Berkshire           ",1,9724718.370000001,3451123,6273595,null,6273595,10599770.639894003,3758739,6841032,567437,61.11,485.99999999999989,500.99999999499005,1,15029.999999849701,0,6310302,6325331.9999998501,0,6841032,0,null,6841032,64.539434223724015,10599771,100.00000339729989,875052.26989400201,567437,363512.16196077503,3.4294342237240159,21157.23,null,0,null,1132.6087824464557,null,851,"Northern Berkshire           ",1,500.99999999499005,10599770.639894003,3758739,6841032]
[852,"Nashoba Valley               ",1,13039564.664050002,9138788,3900777,null,3900777,14548100.2422,9846166,4701934,801157,26.99,688,715.00000000000011,1,21450.000000000004,0,4282173,4303623,0,4701934,0,null,4701934,32.319917526832782,14548100,99.999998335177821,1508535.5781499986,801157,775401.74463022035,5.3299175268327836,20346.990000000002,null,0,null,1120.4993006993004,null,852,"Nashoba Valley               ",1,715.00000000000011,14548100.2422,9846166,4701934]
[853,"Northeast Metropolitan       ",1,28012736.845560264,15244239,12768498,null,12768498,29763086.943302374,15690113,14072974,1304476,40.35,1307.00000002614,1293.9999999870602,1,38819.999999611806,0,12768498,12807317.999999613,0,14072974,0,null,14072974,47.283314485518645,29763087,100.00000019049645,1750350.0977421105,1304476,2063568.4183774907,6.9333144855186433,23000.84,null,0,null,1008.0958269034347,null,853,"Northeast Metropolitan       ",1,1293.9999999870602,29763086.943302374,15690113,14072974]
[855,"Old Colony                   ",1,9593176.8600959312,5909947,3683230,null,3683230,10531538.940105317,6359936,4171603,488373,33.31,521.00000000521004,542.00000000541991,1,16260.000000162598,0,3894834,3911094.0000001625,0,4171603,0,null,4171603,39.61057376063107,10531539,100.00000056871728,938362.08000938594,488373,663547.37905091885,6.3005737606310674,19430.88,null,0,null,901.05719556294525,null,855,"Old Colony                   ",1,542.00000000541991,10531538.940105317,6359936,4171603]
[860,"Pathfinder                   ",1,11620603.830116205,4877462,6743142,null,6743142,12791606.58,5336459,7455148,712006,55.13,587.00000000586999,602,1,18060,0,6932496,6950556,0,7455148,0,null,7455148,58.28156106408332,12791607,100.00000328340305,1171002.7498837952,712006,403135.29244599957,3.1515610640833174,21248.52,null,0,null,1182.7342192691031,null,860,"Pathfinder                   ",1,602,12791606.58,5336459,7455148]
[871,"Shawsheen Valley             ",1,24071025.330000002,19187031,6589341,null,6589341,24972413.579999994,19694909,5277505,0,17.5,1323,1295,0,38850,38850,6589341,6628191,0,6628191,0,null,6628191,26.542052007773936,26323100,105.40871396220086,901388.24999999255,38850,2258018.6235000016,9.0420520077739361,19283.72,null,0,null,30,null,871,"Shawsheen Valley             ",1,1295,24972413.579999994,19694909,6628191]
[872,"Southeastern                 ",1,32362813.119999997,12184542,20178271,null,20178271,34786651.119999997,12652345,22134306,1956035,58.32,1631,1637.0000000000005,1,49110.000000000015,0,20476759,20525869,0,22134306,0,null,22134306,63.628734837525812,34786651,99.999999655040099,2423838,1956035,1846731.0668159984,5.3087348375258117,21250.25,null,0,null,1194.8900427611482,null,872,"Southeastern                 ",1,1637.0000000000005,34786651.119999997,12652345,22134306]
[873,"South Shore                  ",1,11690753.246806186,6690356,5000397,null,5000397,12906720.28764,7232154,5674566,674169,39.06,598.99999998802002,620.00000000000011,1,18600.000000000004,0,5234594,5253194,0,5674566,0,null,5674566,43.965979532648547,12906720,99.999997771393552,1215967.0408338141,674169,633201.05564781651,4.9059795326485443,20817.29,null,0,null,1087.3693548387096,null,873,"South Shore                  ",1,620.00000000000011,12906720.28764,7232154,5674566]
[876,"Southern Worcester           ",1,22869920.629999999,9976240,12893681,null,12893681,24914513.250249147,10695233,14219280,1325599,51.95,1201,1232.00000001232,1,36960.000000369604,0,13201965,13238925.000000369,0,14219280,0,null,14219280,57.072276938253275,24914513,99.999998995568788,2044592.6202491485,1325599,1276190.3664955664,5.1222769382532718,20222.82,null,0,null,1075.9732142749544,null,876,"Southern Worcester           ",1,1232.00000001232,24914513.250249147,10695233,14219280]
[878,"Tri County                   ",1,17544445.759440001,12480824,5797748,null,5797748,19173060.333461732,13669772,5503288,0,23.34,896.00000000000011,935.00000000934995,0,28050.000000280499,28050.000000280499,5797748,5825798.0000002803,0,5825798.0000002803,0,null,5825798.0000002803,30.38533180763439,19495570.000000279,101.68209801111243,1628614.5740217306,28050.000000280328,1350805.7181703122,7.0453318076343905,20505.95,null,0,null,29.999999999999819,null,878,"Tri County                   ",1,935.00000000934995,19173060.333461732,13669772,5825798.0000002803]
[879,"Upper Cape Cod               ",1,15047376.250150472,11135028,3912348,null,3912348,16601530.709999997,12150289,4451242,538894,23.36,772.00000000772002,793,1,23790,0,3912348,3936138,0,4451242,0,null,4451242,26.812238448101517,16601531,100.0000017468269,1554154.4598495252,538894,573124.42614400061,3.452238448101518,20935.099999999999,null,0,null,679.56368221941989,null,879,"Upper Cape Cod               ",1,793,16601530.709999997,12150289,4451242]
[885,"Whittier                     ",1,24944833.849999998,12643217,12301617,null,12301617,26519398.819734812,13131792,{"$f":"ROUND(MAX(found-prelcont436,0),0)","v":13387607},1085990,45.02,1276,1274.9999999872502,1,38249.99999961751,0,12301617,12339866.999999618,0,13387607,0,null,13387607,50.482317080421183,26519399,100.0000006797484,1574564.969734814,1085990,1448573.6513553858,5.4623170804211796,20799.53,null,0,null,851.75686275361545,null,885,"Whittier                     ",1,1274.9999999872502,26519398.819734812,13131792,13387607]
[910,"Bristol County               ",1,8260047.1499999994,4239142,4020905,null,4020905,9916498.0400991645,4990303,4926195,905290,44.37,434,487.00000000487,1,14610.000000146099,0,4577999,4592609.0000001462,0,4926195,0,null,4926195,49.676760687896419,9916498,99.999999595631806,1656450.890099165,905290,526244.81960800104,5.3067606878964213,20362.419999999998,null,0,null,1858.9117042935259,null,910,"Bristol County               ",1,487.00000000487,9916498.0400991645,4990303,4926195]
[915,"Norfolk County               ",1,5528618.7214800008,4095337,1433282,null,1433282,5446250.7874944638,3980038,1466213,32931,21.26,274.00000000000006,253.00000000253002,1,7590.0000000759001,0,1433282,1440872.0000000759,0,1466213,0,null,1466213,26.921510911078116,5446251,100.00000390186835,-82367.933985536918,32931,308340.08257867699,5.6615109110781141,21526.68,null,0,null,130.16205533466675,null,915,"Norfolk County               ",1,253.00000000253002,5446250.7874944638,3980038,1466213]
[999,"State total (excluding Devens)",null,12890335880.607767,7166744291,5997901328.6000023,null,{"$f":"SUM(H10:H447)","v":5997901328.6000023},13965016629.33205,7566383475,6398633164,578427445.99999893,41,{"$f":"SUM(N10:N447)","v":903751.00000000594},{"$f":"SUM(O10:O447)","v":905238.99999993376},{"$f":"SUM(P10:P447)","v":203},null,{"$f":"SUM(R10:R447)","v":7672268.9999991721},6022326478.0000019,6049483648.000001,354574.00000000058,{"$f":"SUM(V10:V447)","v":6584355617.5999994},{"$f":"SUM(W10:W447)","v":68265.000000000015},null,6584287352.5999994,null,{"$f":"SUM(AA10:AA447)","v":14150670827.6},101.32942339558696,null,586386023.99999714,null,null,null,null,{"$f":"SUM(AI10:AI447)","v":0},null,647.76928965725074,null,{"$f":"A448","v":999},{"$f":"B448","v":"State total (excluding Devens)"},null,905238.99999993376,13965016629.33205,7566383475,6584287352.5999994]
[352,"Devens",0,null,null,308558,null,null,null,null,null,null,null,null,null,null,null,null,null,null,null,null,null,null,308558,null,null,null,null,null,{"$f":"SUMIF(AE10:AE447, \">0\")","v":858579861.89752996}]
[null,null,null,null,null,{"$f":"F448+F449","v":5998209886.6000023},null,null,null,{"$f":"J441-E441","v":541798},null,null,null,null,null,null,null,null,null,null,null,null,null,null,{"$f":"Y448+Y449","v":6584595910.5999994},null,null,null,null,null,{"$f":"SUMIF(AE10:AE447, \"<0\")","v":-2.8346779994899407}]
[null,null,null,null,null,null,null,null,null,null,null,{"$f":"COUNTIF(L10:L447, \">0\")","v":222},null,null,null,null,null,{"$f":"COUNTIF(R10:R447, \">0\")","v":120},null,null,{"$f":"COUNTIF(U10:U447, \">0.0001\")","v":4}]
[]
[null,null,null,null,null,null,null,null,null,null,null,null,null,null,null,null,null,null,null,null,{"$f":"COUNTIFS(U10:U447, \">0.0001\",C10:C447,\"=1\")","v":4}]
[null,null,null,null,null,null,null,null,null,null,null,null,null,null,null,null,null,null,null,null,{"$f":"SUMIF(C10:C447,\"=1\",U10:U447)","v":354574.00000000058}]

{"sheet":"ceyregionalcalc","index":14,"n_rows":812,"n_cols":8,"rows_kept":812,"cut":false,"hidden":true,"merged":[]}
[null,null,null,null,null,"Total CEY for town","FB for school district/town combo","CEY*% of town's fb"]
["Calculation of CEY as a % of Foundation"]
[]
[]
[]
[]
[null,null,null,null,null,{"$f":"CYr&\" Total\"","v":"FY24 Total"},{"$f":"CYr&\" Proportional\"","v":"FY24 Proportional"},{"$f":"CYr&\" Prop\"","v":"FY24 Prop"}]
[null,null,null,null,null,"CEY","Foundation","CEY"]
["Order","LEA","City or Town","LEA","School District","Members","Members","Members"]
[1,1,"Abington                     ",1,"Abington",{"$f":"VLOOKUP(B10, town351, 7)","v":20082671},{"$f":"VLOOKUP(A10, localcont!$D$10:$L$1764, 8)","v":31287579.078960005},{"$f":"VLOOKUP(A10, localcont!$D$10:$L$1764, 9)*F10","v":18794647.857769668}]
[2,1,"Abington                     ",873,"South Shore",{"$f":"VLOOKUP(B11, town351, 7)","v":20082671},{"$f":"VLOOKUP(A11, localcont!$D$10:$L$1764, 8)","v":2144180.9510361422},{"$f":"VLOOKUP(A11, localcont!$D$10:$L$1764, 9)*F11","v":1288023.1422303289}]
[6,2,"Acton                        ",2,"Acton",48208678,{"$f":"VLOOKUP(A12, localcont!$D$10:$L$1764, 8)","v":0},{"$f":"VLOOKUP(A12, localcont!$D$10:$L$1764, 9)*F12","v":0}]
[7,2,"Acton                        ",600,"Acton Boxborough",48208678,{"$f":"VLOOKUP(A13, localcont!$D$10:$L$1764, 8)","v":54393796.531999081},{"$f":"VLOOKUP(A13, localcont!$D$10:$L$1764, 9)*F13","v":46634552.567579672}]
[8,2,"Acton                        ",830,"Minuteman",48208678,{"$f":"VLOOKUP(A14, localcont!$D$10:$L$1764, 8)","v":1836034.7376087203},{"$f":"VLOOKUP(A14, localcont!$D$10:$L$1764, 9)*F14","v":1574125.4324203248}]
[11,3,"Acushnet                     ",3,"Acushnet",12012426,{"$f":"VLOOKUP(A15, localcont!$D$10:$L$1764, 8)","v":15911255.389999999},{"$f":"VLOOKUP(A15, localcont!$D$10:$L$1764, 9)*F15","v":9831753.3339837696}]
[12,3,"Acushnet                     ",855,"Old Colony",12012426,{"$f":"VLOOKUP(A16, localcont!$D$10:$L$1764, 8)","v":3264388.4537164452},{"$f":"VLOOKUP(A16, localcont!$D$10:$L$1764, 9)*F16","v":2017104.3249934779}]
[13,3,"Acushnet                     ",910,"Bristol County",12012426,{"$f":"VLOOKUP(A17, localcont!$D$10:$L$1764, 8)","v":264711.44660797651},{"$f":"VLOOKUP(A17, localcont!$D$10:$L$1764, 9)*F17","v":163568.34102275319}]
[16,4,"Adams                        ",4,"Adams",5237490,{"$f":"VLOOKUP(A18, localcont!$D$10:$L$1764, 8)","v":0},{"$f":"VLOOKUP(A18, localcont!$D$10:$L$1764, 9)*F18","v":0}]
[17,4,"Adams                        ",603,"Hoosac Valley",5237490,{"$f":"VLOOKUP(A19, localcont!$D$10:$L$1764, 8)","v":12998538.142637189},{"$f":"VLOOKUP(A19, localcont!$D$10:$L$1764, 9)*F19","v":4271161.0749405222}]
[18,4,"Adams                        ",851,"Northern Berkshire",5237490,{"$f":"VLOOKUP(A20, localcont!$D$10:$L$1764, 8)","v":2940854.5288576209},{"$f":"VLOOKUP(A20, localcont!$D$10:$L$1764, 9)*F20","v":966328.92505947803}]
[21,5,"Agawam                       ",5,"Agawam",27579813,{"$f":"VLOOKUP(A21, localcont!$D$10:$L$1764, 8)","v":50397491.299999997},{"$f":"VLOOKUP(A21, localcont!$D$10:$L$1764, 9)*F21","v":27579813}]
[26,6,"Alford                       ",6,"Alford",1372150,{"$f":"VLOOKUP(A22, localcont!$D$10:$L$1764, 8)","v":0},{"$f":"VLOOKUP(A22, localcont!$D$10:$L$1764, 9)*F22","v":0}]
[27,6,"Alford                       ",765,"Southern Berkshire",1372150,{"$f":"VLOOKUP(A23, localcont!$D$10:$L$1764, 8)","v":278259.71248189872},{"$f":"VLOOKUP(A23, localcont!$D$10:$L$1764, 9)*F23","v":1372150}]
[31,7,"Amesbury                     ",7,"Amesbury",21815192,{"$f":"VLOOKUP(A24, localcont!$D$10:$L$1764, 8)","v":24965747.029999997},{"$f":"VLOOKUP(A24, localcont!$D$10:$L$1764, 9)*F24","v":19877614.633599218}]
[32,7,"Amesbury                     ",885,"Whittier",21815192,{"$f":"VLOOKUP(A25, localcont!$D$10:$L$1764, 8)","v":2433544.8328317194},{"$f":"VLOOKUP(A25, localcont!$D$10:$L$1764, 9)*F25","v":1937577.3664007825}]
[36,8,"Amherst                      ",8,"Amherst",22954004,{"$f":"VLOOKUP(A26, localcont!$D$10:$L$1764, 8)","v":14207190.940000001},{"$f":"VLOOKUP(A26, localcont!$D$10:$L$1764, 9)*F26","v":11501043.243275862}]
[37,8,"Amherst                      ",605,"Amherst Pelham",22954004,{"$f":"VLOOKUP(A27, localcont!$D$10:$L$1764, 8)","v":14147794.844110202},{"$f":"VLOOKUP(A27, localcont!$D$10:$L$1764, 9)*F27","v":11452960.756724138}]
[41,9,"Andover                      ",9,"Andover",87109075,{"$f":"VLOOKUP(A28, localcont!$D$10:$L$1764, 8)","v":72244408.493600011},{"$f":"VLOOKUP(A28, localcont!$D$10:$L$1764, 9)*F28","v":85544571.091377214}]
[42,9,"Andover                      ",823,"Greater Lawrence",87109075,{"$f":"VLOOKUP(A29, localcont!$D$10:$L$1764, 8)","v":1321260.4613289325},{"$f":"VLOOKUP(A29, localcont!$D$10:$L$1764, 9)*F29","v":1564503.9086227899}]
[46,10,"Arlington                    ",10,"Arlington",100164408,{"$f":"VLOOKUP(A30, localcont!$D$10:$L$1764, 8)","v":74896748.635400012},{"$f":"VLOOKUP(A30, localcont!$D$10:$L$1764, 9)*F30","v":94429836.299492314}]
[47,10,"Arlington                    ",830,"Minuteman",100164408,{"$f":"VLOOKUP(A31, localcont!$D$10:$L$1764, 8)","v":4548358.7816715501},{"$f":"VLOOKUP(A31, localcont!$D$10:$L$1764, 9)*F31","v":5734571.7005076883}]
[51,11,"Ashburnham                   ",11,"Ashburnham",6818096,{"$f":"VLOOKUP(A32, localcont!$D$10:$L$1764, 8)","v":0},{"$f":"VLOOKUP(A32, localcont!$D$10:$L$1764, 9)*F32","v":0}]
[52,11,"Ashburnham                   ",610,"Ashburnham Westminster",6818096,{"$f":"VLOOKUP(A33, localcont!$D$10:$L$1764, 8)","v":13603235.593604924},{"$f":"VLOOKUP(A33, localcont!$D$10:$L$1764, 9)*F33","v":6160884.4462718125}]
[53,11,"Ashburnham                   ",832,"Montachusett",6818096,{"$f":"VLOOKUP(A34, localcont!$D$10:$L$1764, 8)","v":1451123.4025195427},{"$f":"VLOOKUP(A34, localcont!$D$10:$L$1764, 9)*F34","v":657211.55372818792}]
[56,12,"Ashby                        ",12,"Ashby",3355853,{"$f":"VLOOKUP(A35, localcont!$D$10:$L$1764, 8)","v":0},{"$f":"VLOOKUP(A35, localcont!$D$10:$L$1764, 9)*F35","v":0}]
[57,12,"Ashby                        ",735,"North Middlesex",3355853,{"$f":"VLOOKUP(A36, localcont!$D$10:$L$1764, 8)","v":5218991.297808446},{"$f":"VLOOKUP(A36, localcont!$D$10:$L$1764, 9)*F36","v":2936299.4968654448}]
[58,12,"Ashby                        ",832,"Montachusett",3355853,{"$f":"VLOOKUP(A37, localcont!$D$10:$L$1764, 8)","v":745716.19283447799},{"$f":"VLOOKUP(A37, localcont!$D$10:$L$1764, 9)*F37","v":419553.5031345553}]
[61,13,"Ashfield                     ",13,"Ashfield",1803921,{"$f":"VLOOKUP(A38, localcont!$D$10:$L$1764, 8)","v":245151},{"$f":"VLOOKUP(A38, localcont!$D$10:$L$1764, 9)*F38","v":200813.10845570915}]
[62,13,"Ashfield                     ",717,"Mohawk Trail",1803921,{"$f":"VLOOKUP(A39, localcont!$D$10:$L$1764, 8)","v":1957060.9993652601},{"$f":"VLOOKUP(A39, localcont!$D$10:$L$1764, 9)*F39","v":1603107.8915442911}]
[66,14,"Ashland                      ",14,"Ashland",29581664,{"$f":"VLOOKUP(A40, localcont!$D$10:$L$1764, 8)","v":36758230.609999992},{"$f":"VLOOKUP(A40, localcont!$D$10:$L$1764, 9)*F40","v":28532072.196451724}]
[67,14,"Ashland                      ",829,"South Middlesex",29581664,{"$f":"VLOOKUP(A41, localcont!$D$10:$L$1764, 8)","v":1352202.4371574153},{"$f":"VLOOKUP(A41, localcont!$D$10:$L$1764, 9)*F41","v":1049591.8035482762}]
[71,15,"Athol                        ",15,"Athol",8037176,{"$f":"VLOOKUP(A42, localcont!$D$10:$L$1764, 8)","v":0},{"$f":"VLOOKUP(A42, localcont!$D$10:$L$1764, 9)*F42","v":0}]
[72,15,"Athol                        ",615,"Athol Royalston",8037176,{"$f":"VLOOKUP(A43, localcont!$D$10:$L$1764, 8)","v":25947947.695697732},{"$f":"VLOOKUP(A43, localcont!$D$10:$L$1764, 9)*F43","v":7399237.5416445564}]
[73,15,"Athol                        ",832,"Montachusett",8037176,{"$f":"VLOOKUP(A44, localcont!$D$10:$L$1764, 8)","v":2237148.5787982941},{"$f":"VLOOKUP(A44, localcont!$D$10:$L$1764, 9)*F44","v":637938.45835544378}]
[76,16,"Attleboro                    ",16,"Attleboro",47271027,{"$f":"VLOOKUP(A45, localcont!$D$10:$L$1764, 8)","v":97105120.719999999},{"$f":"VLOOKUP(A45, localcont!$D$10:$L$1764, 9)*F45","v":47083437.295893431}]
[77,16,"Attleboro                    ",910,"Bristol County",47271027,{"$f":"VLOOKUP(A46, localcont!$D$10:$L$1764, 8)","v":386885.96052620758},{"$f":"VLOOKUP(A46, localcont!$D$10:$L$1764, 9)*F46","v":187589.70410656623}]
[81,17,"Auburn                       ",17,"Auburn",20034959,{"$f":"VLOOKUP(A47, localcont!$D$10:$L$1764, 8)","v":32176028.359999999},{"$f":"VLOOKUP(A47, localcont!$D$10:$L$1764, 9)*F47","v":18662601.360523243}]
[82,17,"Auburn                       ",876,"Southern Worcester",20034959,{"$f":"VLOOKUP(A48, localcont!$D$10:$L$1764, 8)","v":2366069.8460436207},{"$f":"VLOOKUP(A48, localcont!$D$10:$L$1764, 9)*F48","v":1372357.639476754}]
[86,18,"Avon                         ",18,"Avon",6722745,{"$f":"VLOOKUP(A49, localcont!$D$10:$L$1764, 8)","v":9536788.9200000018},{"$f":"VLOOKUP(A49, localcont!$D$10:$L$1764, 9)*F49","v":6020512.2399228243}]
[87,18,"Avon                         ",806,"Blue Hills",6722745,{"$f":"VLOOKUP(A50, localcont!$D$10:$L$1764, 8)","v":1090844.7131462945},{"$f":"VLOOKUP(A50, localcont!$D$10:$L$1764, 9)*F50","v":688643.10644220142}]
[88,18,"Avon                         ",915,"Norfolk County",6722745,{"$f":"VLOOKUP(A51, localcont!$D$10:$L$1764, 8)","v":21526.682954523571},{"$f":"VLOOKUP(A51, localcont!$D$10:$L$1764, 9)*F51","v":13589.65363497289}]
[91,19,"Ayer                         ",19,"Ayer",10596556,{"$f":"VLOOKUP(A52, localcont!$D$10:$L$1764, 8)","v":0},{"$f":"VLOOKUP(A52, localcont!$D$10:$L$1764, 9)*F52","v":0}]
[92,19,"Ayer                         ",616,"Ayer Shirley",10596556,{"$f":"VLOOKUP(A53, localcont!$D$10:$L$1764, 8)","v":13108566.86880208},{"$f":"VLOOKUP(A53, localcont!$D$10:$L$1764, 9)*F53","v":9571443.4343831819}]
[93,19,"Ayer                         ",852,"Nashoba Valley",10596556,{"$f":"VLOOKUP(A54, localcont!$D$10:$L$1764, 8)","v":1403942.5408047966},{"$f":"VLOOKUP(A54, localcont!$D$10:$L$1764, 9)*F54","v":1025112.5656168176}]
[96,20,"Barnstable                   ",20,"Barnstable",98428391,{"$f":"VLOOKUP(A55, localcont!$D$10:$L$1764, 8)","v":84542110.140000001},{"$f":"VLOOKUP(A55, localcont!$D$10:$L$1764, 9)*F55","v":93744785.455761462}]
[97,20,"Barnstable                   ",815,"Cape Cod",98428391,{"$f":"VLOOKUP(A56, localcont!$D$10:$L$1764, 8)","v":4223828.4918811265},{"$f":"VLOOKUP(A56, localcont!$D$10:$L$1764, 9)*F56","v":4683605.5442385329}]
[101,21,"Barre                        ",21,"Barre",4616737,{"$f":"VLOOKUP(A57, localcont!$D$10:$L$1764, 8)","v":0},{"$f":"VLOOKUP(A57, localcont!$D$10:$L$1764, 9)*F57","v":0}]
[102,21,"Barre                        ",753,"Quabbin",4616737,{"$f":"VLOOKUP(A58, localcont!$D$10:$L$1764, 8)","v":10294721.162142074},{"$f":"VLOOKUP(A58, localcont!$D$10:$L$1764, 9)*F58","v":4265965.8052558741}]
[103,21,"Barre                        ",832,"Montachusett",4616737,{"$f":"VLOOKUP(A59, localcont!$D$10:$L$1764, 8)","v":846488.65144516155},{"$f":"VLOOKUP(A59, localcont!$D$10:$L$1764, 9)*F59","v":350771.19474412641}]
[106,22,"Becket                       ",22,"Becket",3158839,{"$f":"VLOOKUP(A60, localcont!$D$10:$L$1764, 8)","v":261641.76000000004},{"$f":"VLOOKUP(A60, localcont!$D$10:$L$1764, 9)*F60","v":265079.05012843845}]
[107,22,"Becket                       ",635,"Central Berkshire",3158839,{"$f":"VLOOKUP(A61, localcont!$D$10:$L$1764, 8)","v":2856236.454503125},{"$f":"VLOOKUP(A61, localcont!$D$10:$L$1764, 9)*F61","v":2893759.949871561}]
[111,23,"Bedford                      ",23,"Bedford",34267344,{"$f":"VLOOKUP(A62, localcont!$D$10:$L$1764, 8)","v":33265363.043120004},{"$f":"VLOOKUP(A62, localcont!$D$10:$L$1764, 9)*F62","v":33528760.538479183}]
[112,23,"Bedford                      ",871,"Shawsheen Valley",34267344,{"$f":"VLOOKUP(A63, localcont!$D$10:$L$1764, 8)","v":732781.24781670235},{"$f":"VLOOKUP(A63, localcont!$D$10:$L$1764, 9)*F63","v":738583.4615208155}]
[116,24,"Belchertown                  ",24,"Belchertown",15891735,{"$f":"VLOOKUP(A64, localcont!$D$10:$L$1764, 8)","v":27713334.379999995},{"$f":"VLOOKUP(A64, localcont!$D$10:$L$1764, 9)*F64","v":14697247.285645882}]
[117,24,"Belchertown                  ",860,"Pathfinder",15891735,{"$f":"VLOOKUP(A65, localcont!$D$10:$L$1764, 8)","v":2252342.6868532035},{"$f":"VLOOKUP(A65, localcont!$D$10:$L$1764, 9)*F65","v":1194487.7143541183}]
[121,25,"Bellingham                   ",25,"Bellingham",22476747,{"$f":"VLOOKUP(A66, localcont!$D$10:$L$1764, 8)","v":29660512.23},{"$f":"VLOOKUP(A66, localcont!$D$10:$L$1764, 9)*F66","v":21202789.619848162}]
[122,25,"Bellingham                   ",805,"Blackstone Valley",22476747,{"$f":"VLOOKUP(A67, localcont!$D$10:$L$1764, 8)","v":1416181.1527912768},{"$f":"VLOOKUP(A67, localcont!$D$10:$L$1764, 9)*F67","v":1012355.7817675453}]
[123,25,"Bellingham                   ",915,"Norfolk County",22476747,{"$f":"VLOOKUP(A68, localcont!$D$10:$L$1764, 8)","v":365953.61022690072},{"$f":"VLOOKUP(A68, localcont!$D$10:$L$1764, 9)*F68","v":261601.5983842937}]
[126,26,"Belmont                      ",26,"Belmont",84503668,{"$f":"VLOOKUP(A69, localcont!$D$10:$L$1764, 8)","v":57423975.883839987},{"$f":"VLOOKUP(A69, localcont!$D$10:$L$1764, 9)*F69","v":84503668}]
[131,27,"Berkley                      ",27,"Berkley",8514347,{"$f":"VLOOKUP(A70, localcont!$D$10:$L$1764, 8)","v":8929788.1399999987},{"$f":"VLOOKUP(A70, localcont!$D$10:$L$1764, 9)*F70","v":5148525.9489163207}]
[132,27,"Berkley                      ",763,"Somerset Berkley",8514347,{"$f":"VLOOKUP(A71, localcont!$D$10:$L$1764, 8)","v":3647366.8512679655},{"$f":"VLOOKUP(A71, localcont!$D$10:$L$1764, 9)*F71","v":2102912.4750288129}]
[133,27,"Berkley                      ",810,"Bristol Plymouth",8514347,{"$f":"VLOOKUP(A72, localcont!$D$10:$L$1764, 8)","v":1864635.2451007736},{"$f":"VLOOKUP(A72, localcont!$D$10:$L$1764, 9)*F72","v":1075067.2685797091}]
[134,27,"Berkley                      ",910,"Bristol County",8514347,{"$f":"VLOOKUP(A73, localcont!$D$10:$L$1764, 8)","v":325798.70361667447},{"$f":"VLOOKUP(A73, localcont!$D$10:$L$1764, 9)*F73","v":187841.30747515656}]
[136,28,"Berlin                       ",28,"Berlin",5789517,{"$f":"VLOOKUP(A74, localcont!$D$10:$L$1764, 8)","v":0},{"$f":"VLOOKUP(A74, localcont!$D$10:$L$1764, 9)*F74","v":0}]
[137,28,"Berlin                       ",620,"Berlin Boylston",{"$f":"VLOOKUP(B75, town351, 7)","v":5789517},{"$f":"VLOOKUP(A75, localcont!$D$10:$L$1764, 8)","v":4843565.8674703222},{"$f":"VLOOKUP(A75, localcont!$D$10:$L$1764, 9)*F75","v":4822564.5311849182}]
[138,28,"Berlin                       ",801,"Assabet Valley",5789517,{"$f":"VLOOKUP(A76, localcont!$D$10:$L$1764, 8)","v":971163.35989559989},{"$f":"VLOOKUP(A76, localcont!$D$10:$L$1764, 9)*F76","v":966952.46881508222}]
[141,29,"Bernardston                  ",29,"Bernardston",2089304,{"$f":"VLOOKUP(A77, localcont!$D$10:$L$1764, 8)","v":0},{"$f":"VLOOKUP(A77, localcont!$D$10:$L$1764, 9)*F77","v":0}]
[142,29,"Bernardston                  ",750,"Pioneer",2089304,{"$f":"VLOOKUP(A78, localcont!$D$10:$L$1764, 8)","v":3105454.8823304903},{"$f":"VLOOKUP(A78, localcont!$D$10:$L$1764, 9)*F78","v":1782766.6751130335}]
[143,29,"Bernardston                  ",818,"Franklin County",2089304,{"$f":"VLOOKUP(A79, localcont!$D$10:$L$1764, 8)","v":533966.58434082626},{"$f":"VLOOKUP(A79, localcont!$D$10:$L$1764, 9)*F79","v":306537.32488696655}]
[146,30,"Beverly                      ",30,"Beverly",66794312,{"$f":"VLOOKUP(A80, localcont!$D$10:$L$1764, 8)","v":61798815.259999998},{"$f":"VLOOKUP(A80, localcont!$D$10:$L$1764, 9)*F80","v":63319067.406132422}]
[147,30,"Beverly                      ",817,"Essex North Shore",66794312,{"$f":"VLOOKUP(A81, localcont!$D$10:$L$1764, 8)","v":3391806.0931348493},{"$f":"VLOOKUP(A81, localcont!$D$10:$L$1764, 9)*F81","v":3475244.5938675781}]
[151,31,"Billerica                    ",31,"Billerica",61230051,{"$f":"VLOOKUP(A82, localcont!$D$10:$L$1764, 8)","v":63590856.680000007},{"$f":"VLOOKUP(A82, localcont!$D$10:$L$1764, 9)*F82","v":53648782.744474821}]
[152,31,"Billerica                    ",871,"Shawsheen Valley",61230051,{"$f":"VLOOKUP(A83, localcont!$D$10:$L$1764, 8)","v":8986212.1455008425},{"$f":"VLOOKUP(A83, localcont!$D$10:$L$1764, 9)*F83","v":7581268.2555251839}]
[156,32,"Blackstone                   ",32,"Blackstone",9661116,{"$f":"VLOOKUP(A84, localcont!$D$10:$L$1764, 8)","v":393567.83999999997},{"$f":"VLOOKUP(A84, localcont!$D$10:$L$1764, 9)*F84","v":218820.82790008347}]
[157,32,"Blackstone                   ",622,"Blackstone Millville",9661116,{"$f":"VLOOKUP(A85, localcont!$D$10:$L$1764, 8)","v":15849824.730998944},{"$f":"VLOOKUP(A85, localcont!$D$10:$L$1764, 9)*F85","v":8812386.118002953}]
[158,32,"Blackstone                   ",805,"Blackstone Valley",9661116,{"$f":"VLOOKUP(A86, localcont!$D$10:$L$1764, 8)","v":1132944.9220920831},{"$f":"VLOOKUP(A86, localcont!$D$10:$L$1764, 9)*F86","v":629909.05409696384}]
[161,33,"Blandford                    ",33,"Blandford",1509790,{"$f":"VLOOKUP(A87, localcont!$D$10:$L$1764, 8)","v":245151},{"$f":"VLOOKUP(A87, localcont!$D$10:$L$1764, 9)*F87","v":246570.73009296923}]
[162,33,"Blandford                    ",672,"Gateway",1509790,{"$f":"VLOOKUP(A88, localcont!$D$10:$L$1764, 8)","v":1255945.7771821262},{"$f":"VLOOKUP(A88, localcont!$D$10:$L$1764, 9)*F88","v":1263219.2699070307}]
[166,34,"Bolton                       ",34,"Bolton",11983682,{"$f":"VLOOKUP(A89, localcont!$D$10:$L$1764, 8)","v":0},{"$f":"VLOOKUP(A89, localcont!$D$10:$L$1764, 9)*F89","v":0}]
[167,34,"Bolton                       ",725,"Nashoba",11983682,{"$f":"VLOOKUP(A90, localcont!$D$10:$L$1764, 8)","v":12637109.936949397},{"$f":"VLOOKUP(A90, localcont!$D$10:$L$1764, 9)*F90","v":11364504.856410617}]
[168,34,"Bolton                       ",830,"Minuteman",11983682,{"$f":"VLOOKUP(A91, localcont!$D$10:$L$1764, 8)","v":688513.02655491768},{"$f":"VLOOKUP(A91, localcont!$D$10:$L$1764, 9)*F91","v":619177.14358938287}]
[171,35,"Boston                       ",35,"Boston",1420223623,{"$f":"VLOOKUP(A92, localcont!$D$10:$L$1764, 8)","v":1095713386.0691998},{"$f":"VLOOKUP(A92, localcont!$D$10:$L$1764, 9)*F92","v":1420223623}]
[176,36,"Bourne                       ",36,"Bourne",34025850,{"$f":"VLOOKUP(A93, localcont!$D$10:$L$1764, 8)","v":22858350.509999994},{"$f":"VLOOKUP(A93, localcont!$D$10:$L$1764, 9)*F93","v":28915424.683538731}]
[177,36,"Bourne                       ",879,"Upper Cape Cod",34025850,{"$f":"VLOOKUP(A94, localcont!$D$10:$L$1764, 8)","v":4039916.2183272927},{"$f":"VLOOKUP(A94, localcont!$D$10:$L$1764, 9)*F94","v":5110425.3164612735}]
[181,37,"Boxborough                   ",37,"Boxborough",10941560,{"$f":"VLOOKUP(A95, localcont!$D$10:$L$1764, 8)","v":107478.84312000001},{"$f":"VLOOKUP(A95, localcont!$D$10:$L$1764, 9)*F95","v":103616.79322341003}]
[182,37,"Boxborough                   ",600,"Acton Boxborough",10941560,{"$f":"VLOOKUP(A96, localcont!$D$10:$L$1764, 8)","v":11241899.709760925},{"$f":"VLOOKUP(A96, localcont!$D$10:$L$1764, 9)*F96","v":10837943.206776591}]
[186,38,"Boxford",38,"Boxford",22280994,{"$f":"VLOOKUP(A97, localcont!$D$10:$L$1764, 8)","v":8528050.2678800002},{"$f":"VLOOKUP(A97, localcont!$D$10:$L$1764, 9)*F97","v":11328355.234179879}]
[187,38,"Boxford",705,"Masconomet",22280994,{"$f":"VLOOKUP(A98, localcont!$D$10:$L$1764, 8)","v":7811373.1100884592},{"$f":"VLOOKUP(A98, localcont!$D$10:$L$1764, 9)*F98","v":10376347.075613616}]
[188,38,"Boxford",817,"Essex North Shore",22280994,{"$f":"VLOOKUP(A99, localcont!$D$10:$L$1764, 8)","v":433835.66294020851},{"$f":"VLOOKUP(A99, localcont!$D$10:$L$1764, 9)*F99","v":576291.69020650559}]
[191,39,"Boylston                     ",39,"Boylston",8525183,{"$f":"VLOOKUP(A100, localcont!$D$10:$L$1764, 8)","v":377077.07999999996},{"$f":"VLOOKUP(A100, localcont!$D$10:$L$1764, 9)*F100","v":401174.11824916909}]
[192,39,"Boylston                     ",620,"Berlin Boylston",8525183,{"$f":"VLOOKUP(A101, localcont!$D$10:$L$1764, 8)","v":7636029.8625296801},{"$f":"VLOOKUP(A101, localcont!$D$10:$L$1764, 9)*F101","v":8124008.8817508314}]
[196,40,"Braintree                    ",40,"Braintree",60395353,{"$f":"VLOOKUP(A102, localcont!$D$10:$L$1764, 8)","v":72501248.639650002},{"$f":"VLOOKUP(A102, localcont!$D$10:$L$1764, 9)*F102","v":57313265.147723682}]
[197,40,"Braintree                    ",806,"Blue Hills",60395353,{"$f":"VLOOKUP(A103, localcont!$D$10:$L$1764, 8)","v":3425252.3995417133},{"$f":"VLOOKUP(A103, localcont!$D$10:$L$1764, 9)*F103","v":2707710.5933517711}]
[198,40,"Braintree                    ",915,"Norfolk County",60395353,{"$f":"VLOOKUP(A104, localcont!$D$10:$L$1764, 8)","v":473587.02499951859},{"$f":"VLOOKUP(A104, localcont!$D$10:$L$1764, 9)*F104","v":374377.25892454479}]
[201,41,"Brewster                     ",41,"Brewster",24753219,{"$f":"VLOOKUP(A105, localcont!$D$10:$L$1764, 8)","v":5743102.1100000003},{"$f":"VLOOKUP(A105, localcont!$D$10:$L$1764, 9)*F105","v":9410961.6896481235}]
[202,41,"Brewster                     ",660,"Nauset",24753219,{"$f":"VLOOKUP(A106, localcont!$D$10:$L$1764, 8)","v":8208782.277749504},{"$f":"VLOOKUP(A106, localcont!$D$10:$L$1764, 9)*F106","v":13451360.267484963}]
[203,41,"Brewster                     ",815,"Cape Cod",24753219,{"$f":"VLOOKUP(A107, localcont!$D$10:$L$1764, 8)","v":1153932.5262185577},{"$f":"VLOOKUP(A107, localcont!$D$10:$L$1764, 9)*F107","v":1890897.0428669127}]
[206,42,"Bridgewater                  ",42,"Bridgewater",29709239,{"$f":"VLOOKUP(A108, localcont!$D$10:$L$1764, 8)","v":228660.24000000002},{"$f":"VLOOKUP(A108, localcont!$D$10:$L$1764, 9)*F108","v":141743.10776477589}]
[207,42,"Bridgewater                  ",625,"Bridgewater Raynham",29709239,{"$f":"VLOOKUP(A109, localcont!$D$10:$L$1764, 8)","v":44698707.696071327},{"$f":"VLOOKUP(A109, localcont!$D$10:$L$1764, 9)*F109","v":27708069.150589779}]
[208,42,"Bridgewater                  ",810,"Bristol Plymouth",29709239,{"$f":"VLOOKUP(A110, localcont!$D$10:$L$1764, 8)","v":2999630.611406167},{"$f":"VLOOKUP(A110, localcont!$D$10:$L$1764, 9)*F110","v":1859426.7416454423}]
[211,43,"Brimfield                    ",43,"Brimfield",4163169,{"$f":"VLOOKUP(A111, localcont!$D$10:$L$1764, 8)","v":3511281.75},{"$f":"VLOOKUP(A111, localcont!$D$10:$L$1764, 9)*F111","v":2053645.9162218003}]
[212,43,"Brimfield                    ",770,"Tantasqua",4163169,{"$f":"VLOOKUP(A112, localcont!$D$10:$L$1764, 8)","v":3606819.387297981},{"$f":"VLOOKUP(A112, localcont!$D$10:$L$1764, 9)*F112","v":2109523.0837781997}]
[216,44,"Brockton                     ",44,"Brockton",76437574,{"$f":"VLOOKUP(A113, localcont!$D$10:$L$1764, 8)","v":295646847.72000003},{"$f":"VLOOKUP(A113, localcont!$D$10:$L$1764, 9)*F113","v":71291350.91345267}]
[217,44,"Brockton                     ",872,"Southeastern",76437574,{"$f":"VLOOKUP(A114, localcont!$D$10:$L$1764, 8)","v":21341503.754763428},{"$f":"VLOOKUP(A114, localcont!$D$10:$L$1764, 9)*F114","v":5146223.086547331}]
[221,45,"Brookfield                   ",45,"Brookfield",2987293,{"$f":"VLOOKUP(A115, localcont!$D$10:$L$1764, 8)","v":3240938.5500000003},{"$f":"VLOOKUP(A115, localcont!$D$10:$L$1764, 9)*F115","v":1478746.3864745677}]
[222,45,"Brookfield                   ",770,"Tantasqua",2987293,{"$f":"VLOOKUP(A116, localcont!$D$10:$L$1764, 8)","v":3306251.104966342},{"$f":"VLOOKUP(A116, localcont!$D$10:$L$1764, 9)*F116","v":1508546.6135254323}]
[226,46,"Brookline                    ",46,"Brookline",193527328,{"$f":"VLOOKUP(A117, localcont!$D$10:$L$1764, 8)","v":89394640.063260004},{"$f":"VLOOKUP(A117, localcont!$D$10:$L$1764, 9)*F117","v":193527328}]
[227,46,"Brookline                    ",915,"Norfolk County",193527328,{"$f":"VLOOKUP(A118, localcont!$D$10:$L$1764, 8)","v":0},{"$f":"VLOOKUP(A118, localcont!$D$10:$L$1764, 9)*F118","v":0}]
[231,47,"Buckland                     ",47,"Buckland",1656973,{"$f":"VLOOKUP(A119, localcont!$D$10:$L$1764, 8)","v":16490.760000000002},{"$f":"VLOOKUP(A119, localcont!$D$10:$L$1764, 9)*F119","v":9314.7776253985376}]
[232,47,"Buckland                     ",717,"Mohawk Trail",1656973,{"$f":"VLOOKUP(A120, localcont!$D$10:$L$1764, 8)","v":2553895.204850289},{"$f":"VLOOKUP(A120, localcont!$D$10:$L$1764, 9)*F120","v":1442563.3452765115}]
[233,47,"Buckland                     ",818,"Franklin County",1656973,{"$f":"VLOOKUP(A121, localcont!$D$10:$L$1764, 8)","v":363097.2774091739},{"$f":"VLOOKUP(A121, localcont!$D$10:$L$1764, 9)*F121","v":205094.87709808999}]
[236,48,"Burlington                   ",48,"Burlington",55373980,{"$f":"VLOOKUP(A122, localcont!$D$10:$L$1764, 8)","v":46103747.98904001},{"$f":"VLOOKUP(A122, localcont!$D$10:$L$1764, 9)*F122","v":52560007.14905151}]
[237,48,"Burlington                   ",871,"Shawsheen Valley",55373980,{"$f":"VLOOKUP(A123, localcont!$D$10:$L$1764, 8)","v":2468315.7823822862},{"$f":"VLOOKUP(A123, localcont!$D$10:$L$1764, 9)*F123","v":2813972.8509484902}]
[241,49,"Cambridge                    ",49,"Cambridge",381482330,{"$f":"VLOOKUP(A124, localcont!$D$10:$L$1764, 8)","v":112732473.50964999},{"$f":"VLOOKUP(A124, localcont!$D$10:$L$1764, 9)*F124","v":381482330}]
[246,50,"Canton                       ",50,"Canton",46715483,{"$f":"VLOOKUP(A125, localcont!$D$10:$L$1764, 8)","v":43350134.769279994},{"$f":"VLOOKUP(A125, localcont!$D$10:$L$1764, 9)*F125","v":44672285.686163396}]
[247,50,"Canton                       ",806,"Blue Hills",46715483,{"$f":"VLOOKUP(A126, localcont!$D$10:$L$1764, 8)","v":1788985.3297213679},{"$f":"VLOOKUP(A126, localcont!$D$10:$L$1764, 9)*F126","v":1843548.2187774417}]
[248,50,"Canton                       ",915,"Norfolk County",46715483,{"$f":"VLOOKUP(A127, localcont!$D$10:$L$1764, 8)","v":193740.14659071216},{"$f":"VLOOKUP(A127, localcont!$D$10:$L$1764, 9)*F127","v":199649.09505916209}]
[251,51,"Carlisle                     ",51,"Carlisle",24705589,{"$f":"VLOOKUP(A128, localcont!$D$10:$L$1764, 8)","v":6639945.1630799994},{"$f":"VLOOKUP(A128, localcont!$D$10:$L$1764, 9)*F128","v":14940821.525355056}]
[252,51,"Carlisle                     ",640,"Concord Carlisle",24705589,{"$f":"VLOOKUP(A129, localcont!$D$10:$L$1764, 8)","v":4339622.1855564127},{"$f":"VLOOKUP(A129, localcont!$D$10:$L$1764, 9)*F129","v":9764767.4746449441}]
[256,52,"Carver                       ",52,"Carver",12691404,{"$f":"VLOOKUP(A130, localcont!$D$10:$L$1764, 8)","v":21283331.499319997},{"$f":"VLOOKUP(A130, localcont!$D$10:$L$1764, 9)*F130","v":11727772.508295018}]
[257,52,"Carver                       ",855,"Old Colony",12691404,{"$f":"VLOOKUP(A131, localcont!$D$10:$L$1764, 8)","v":1748779.5288180409},{"$f":"VLOOKUP(A131, localcont!$D$10:$L$1764, 9)*F131","v":963631.49170498084}]
[261,53,"Charlemont                   ",53,"Charlemont",1031742,{"$f":"VLOOKUP(A132, localcont!$D$10:$L$1764, 8)","v":131926.08000000002},{"$f":"VLOOKUP(A132, localcont!$D$10:$L$1764, 9)*F132","v":71341.557535104323}]
[262,53,"Charlemont                   ",685,"Hawlemont",1031742,{"$f":"VLOOKUP(A133, localcont!$D$10:$L$1764, 8)","v":1179155.413781614},{"$f":"VLOOKUP(A133, localcont!$D$10:$L$1764, 9)*F133","v":637650.90113441378}]
[263,53,"Charlemont                   ",717,"Mohawk Trail",1031742,{"$f":"VLOOKUP(A134, localcont!$D$10:$L$1764, 8)","v":596834.20548502891},{"$f":"VLOOKUP(A134, localcont!$D$10:$L$1764, 9)*F134","v":322749.54133048194}]
[266,54,"Charlton                     ",54,"Charlton",16716965,{"$f":"VLOOKUP(A135, localcont!$D$10:$L$1764, 8)","v":0},{"$f":"VLOOKUP(A135, localcont!$D$10:$L$1764, 9)*F135","v":0}]
[267,54,"Charlton                     ",658,"Dudley Charlton",16716965,{"$f":"VLOOKUP(A136, localcont!$D$10:$L$1764, 8)","v":24022479.694616977},{"$f":"VLOOKUP(A136, localcont!$D$10:$L$1764, 9)*F136","v":14195479.937865064}]
[268,54,"Charlton                     ",876,"Southern Worcester",16716965,{"$f":"VLOOKUP(A137, localcont!$D$10:$L$1764, 8)","v":4267014.8505402626},{"$f":"VLOOKUP(A137, localcont!$D$10:$L$1764, 9)*F137","v":2521485.0621349383}]
[271,55,"Chatham                      ",55,"Chatham",38242414,{"$f":"VLOOKUP(A138, localcont!$D$10:$L$1764, 8)","v":0},{"$f":"VLOOKUP(A138, localcont!$D$10:$L$1764, 9)*F138","v":0}]
[272,55,"Chatham                      ",712,"Monomoy",{"$f":"VLOOKUP(B139, town351, 7)","v":38242414},{"$f":"VLOOKUP(A139, localcont!$D$10:$L$1764, 8)","v":5535348.1678401707},{"$f":"VLOOKUP(A139, localcont!$D$10:$L$1764, 9)*F139","v":36382081.809290871}]
[273,55,"Chatham                      ",815,"Cape Cod",38242414,{"$f":"VLOOKUP(A140, localcont!$D$10:$L$1764, 8)","v":283040.0535459778},{"$f":"VLOOKUP(A140, localcont!$D$10:$L$1764, 9)*F140","v":1860332.1907091229}]
[276,56,"Chelmsford                   ",56,"Chelmsford",59466531,{"$f":"VLOOKUP(A141, localcont!$D$10:$L$1764, 8)","v":63812307.760000005},{"$f":"VLOOKUP(A141, localcont!$D$10:$L$1764, 9)*F141","v":55701256.48506517}]
[277,56,"Chelmsford                   ",852,"Nashoba Valley",59466531,{"$f":"VLOOKUP(A142, localcont!$D$10:$L$1764, 8)","v":4313562.5892447969},{"$f":"VLOOKUP(A142, localcont!$D$10:$L$1764, 9)*F142","v":3765274.5149348318}]
[281,57,"Chelsea                      ",57,"Chelsea",31996551,{"$f":"VLOOKUP(A143, localcont!$D$10:$L$1764, 8)","v":138863180.45907998},{"$f":"VLOOKUP(A143, localcont!$D$10:$L$1764, 9)*F143","v":30812497.108391598}]
[282,57,"Chelsea                      ",853,"Northeast Metropolitan",31996551,{"$f":"VLOOKUP(A144, localcont!$D$10:$L$1764, 8)","v":5336194.8772050263},{"$f":"VLOOKUP(A144, localcont!$D$10:$L$1764, 9)*F144","v":1184053.8916084054}]
[286,58,"Cheshire                     ",58,"Cheshire",2942258,{"$f":"VLOOKUP(A145, localcont!$D$10:$L$1764, 8)","v":32981.520000000004},{"$f":"VLOOKUP(A145, localcont!$D$10:$L$1764, 9)*F145","v":17666.608211186121}]
[287,58,"Cheshire                     ",603,"Hoosac Valley",2942258,{"$f":"VLOOKUP(A146, localcont!$D$10:$L$1764, 8)","v":4402013.4873628132},{"$f":"VLOOKUP(A146, localcont!$D$10:$L$1764, 9)*F146","v":2357946.1353386962}]
[288,58,"Cheshire                     ",851,"Northern Berkshire",2942258,{"$f":"VLOOKUP(A147, localcont!$D$10:$L$1764, 8)","v":1057861.3413004396},{"$f":"VLOOKUP(A147, localcont!$D$10:$L$1764, 9)*F147","v":566645.25645011826}]
[291,59,"Chester                      ",59,"Chester",1075006,{"$f":"VLOOKUP(A148, localcont!$D$10:$L$1764, 8)","v":98944.56},{"$f":"VLOOKUP(A148, localcont!$D$10:$L$1764, 9)*F148","v":53452.422070559034}]
[292,59,"Chester                      ",672,"Gateway",1075006,{"$f":"VLOOKUP(A149, localcont!$D$10:$L$1764, 8)","v":1890974.5408959936},{"$f":"VLOOKUP(A149, localcont!$D$10:$L$1764, 9)*F149","v":1021553.577929441}]
[296,60,"Chesterfield                 ",60,"Chesterfield",1081688,{"$f":"VLOOKUP(A150, localcont!$D$10:$L$1764, 8)","v":294623.28000000003},{"$f":"VLOOKUP(A150, localcont!$D$10:$L$1764, 9)*F150","v":224773.90642020991}]
[297,60,"Chesterfield                 ",632,"Chesterfield Goshen",1081688,{"$f":"VLOOKUP(A151, localcont!$D$10:$L$1764, 8)","v":791623.18395320256},{"$f":"VLOOKUP(A151, localcont!$D$10:$L$1764, 9)*F151","v":603944.92746793712}]
[298,60,"Chesterfield                 ",683,"Hampshire",1081688,{"$f":"VLOOKUP(A152, localcont!$D$10:$L$1764, 8)","v":331580.32729744731},{"$f":"VLOOKUP(A152, localcont!$D$10:$L$1764, 9)*F152","v":252969.16611185303}]
[301,61,"Chicopee                     ",61,"Chicopee",36761871,{"$f":"VLOOKUP(A153, localcont!$D$10:$L$1764, 8)","v":122693363.2},{"$f":"VLOOKUP(A153, localcont!$D$10:$L$1764, 9)*F153","v":36761871}]
[306,62,"Chilmark                     ",62,"Chilmark",15707151,{"$f":"VLOOKUP(A154, localcont!$D$10:$L$1764, 8)","v":0},{"$f":"VLOOKUP(A154, localcont!$D$10:$L$1764, 9)*F154","v":0}]
[307,62,"Chilmark                     ",700,"Marthas Vineyard",15707151,{"$f":"VLOOKUP(A155, localcont!$D$10:$L$1764, 8)","v":627821.16202091111},{"$f":"VLOOKUP(A155, localcont!$D$10:$L$1764, 9)*F155","v":6170428.9717624718}]
[308,62,"Chilmark                     ",774,"Upisland",15707151,{"$f":"VLOOKUP(A156, localcont!$D$10:$L$1764, 8)","v":970330.57718324638},{"$f":"VLOOKUP(A156, localcont!$D$10:$L$1764, 9)*F156","v":9536722.0282375272}]
[311,63,"Clarksburg                   ",63,"Clarksburg",1223463,{"$f":"VLOOKUP(A157, localcont!$D$10:$L$1764, 8)","v":2395286.75},{"$f":"VLOOKUP(A157, localcont!$D$10:$L$1764, 9)*F157","v":828357.67040605517}]
[312,63,"Clarksburg                   ",851,"Northern Berkshire",1223463,{"$f":"VLOOKUP(A158, localcont!$D$10:$L$1764, 8)","v":1142490.2486468737},{"$f":"VLOOKUP(A158, localcont!$D$10:$L$1764, 9)*F158","v":395105.32959394483}]
[316,64,"Clinton                      ",64,"Clinton",14428897,{"$f":"VLOOKUP(A159, localcont!$D$10:$L$1764, 8)","v":32534279.410000004},{"$f":"VLOOKUP(A159, localcont!$D$10:$L$1764, 9)*F159","v":14428897}]
[321,65,"Cohasset                     ",65,"Cohasset",31469053,{"$f":"VLOOKUP(A160, localcont!$D$10:$L$1764, 8)","v":16687439.717179999},{"$f":"VLOOKUP(A160, localcont!$D$10:$L$1764, 9)*F160","v":31043070.406027548}]
[322,65,"Cohasset                     ",873,"South Shore",31469053,{"$f":"VLOOKUP(A161, localcont!$D$10:$L$1764, 8)","v":228990.19860171591},{"$f":"VLOOKUP(A161, localcont!$D$10:$L$1764, 9)*F161","v":425982.59397245443}]
[323,65,"Cohasset                     ",915,"Norfolk County",31469053,{"$f":"VLOOKUP(A162, localcont!$D$10:$L$1764, 8)","v":0},{"$f":"VLOOKUP(A162, localcont!$D$10:$L$1764, 9)*F162","v":0}]
[326,66,"Colrain                      ",66,"Colrain",1460077,{"$f":"VLOOKUP(A163, localcont!$D$10:$L$1764, 8)","v":0},{"$f":"VLOOKUP(A163, localcont!$D$10:$L$1764, 9)*F163","v":0}]
[327,66,"Colrain                      ",717,"Mohawk Trail",1460077,{"$f":"VLOOKUP(A164, localcont!$D$10:$L$1764, 8)","v":1998700.5951497108},{"$f":"VLOOKUP(A164, localcont!$D$10:$L$1764, 9)*F164","v":1192472.2059839675}]
[328,66,"Colrain                      ",818,"Franklin County",1460077,{"$f":"VLOOKUP(A165, localcont!$D$10:$L$1764, 8)","v":448531.93087500008},{"$f":"VLOOKUP(A165, localcont!$D$10:$L$1764, 9)*F165","v":267604.79401603242}]
[331,67,"Concord                      ",67,"Concord",72256371,{"$f":"VLOOKUP(A166, localcont!$D$10:$L$1764, 8)","v":23075622.333200004},{"$f":"VLOOKUP(A166, localcont!$D$10:$L$1764, 9)*F166","v":44234817.884610012}]
[332,67,"Concord                      ",640,"Concord Carlisle",72256371,{"$f":"VLOOKUP(A167, localcont!$D$10:$L$1764, 8)","v":13866673.539643588},{"$f":"VLOOKUP(A167, localcont!$D$10:$L$1764, 9)*F167","v":26581722.03698105}]
[333,67,"Concord                      ",830,"Minuteman",72256371,{"$f":"VLOOKUP(A168, localcont!$D$10:$L$1764, 8)","v":751105.11985464836},{"$f":"VLOOKUP(A168, localcont!$D$10:$L$1764, 9)*F168","v":1439831.0784089298}]
[336,68,"Conway                       ",68,"Conway",2233431,{"$f":"VLOOKUP(A169, localcont!$D$10:$L$1764, 8)","v":941811.15000000014},{"$f":"VLOOKUP(A169, localcont!$D$10:$L$1764, 9)*F169","v":902286.67326328543}]
[337,68,"Conway                       ",670,"Frontier",2233431,{"$f":"VLOOKUP(A170, localcont!$D$10:$L$1764, 8)","v":1197226.8518503029},{"$f":"VLOOKUP(A170, localcont!$D$10:$L$1764, 9)*F170","v":1146983.4831510393}]
[338,68,"Conway                       ",818,"Franklin County",2233431,{"$f":"VLOOKUP(A171, localcont!$D$10:$L$1764, 8)","v":192227.97035791312},{"$f":"VLOOKUP(A171, localcont!$D$10:$L$1764, 9)*F171","v":184160.84358567515}]
[341,69,"Cummington                   ",69,"Cummington",1261400,{"$f":"VLOOKUP(A172, localcont!$D$10:$L$1764, 8)","v":98944.56},{"$f":"VLOOKUP(A172, localcont!$D$10:$L$1764, 9)*F172","v":158310.10208889499}]
[342,69,"Cummington                   ",635,"Central Berkshire",1261400,{"$f":"VLOOKUP(A173, localcont!$D$10:$L$1764, 8)","v":689436.38560710277},{"$f":"VLOOKUP(A173, localcont!$D$10:$L$1764, 9)*F173","v":1103089.8979111051}]
[346,70,"Dalton                       ",70,"Dalton",6213315,{"$f":"VLOOKUP(A174, localcont!$D$10:$L$1764, 8)","v":212169.47999999998},{"$f":"VLOOKUP(A174, localcont!$D$10:$L$1764, 9)*F174","v":103405.08479294849}]
[347,70,"Dalton                       ",635,"Central Berkshire",6213315,{"$f":"VLOOKUP(A175, localcont!$D$10:$L$1764, 8)","v":12536486.113347543},{"$f":"VLOOKUP(A175, localcont!$D$10:$L$1764, 9)*F175","v":6109909.9152070507}]
[351,71,"Danvers                      ",71,"Danvers",45523425,{"$f":"VLOOKUP(A176, localcont!$D$10:$L$1764, 8)","v":42331707.480000004},{"$f":"VLOOKUP(A176, localcont!$D$10:$L$1764, 9)*F176","v":40842959.063384824}]
[352,71,"Danvers                      ",817,"Essex North Shore",45523425,{"$f":"VLOOKUP(A177, localcont!$D$10:$L$1764, 8)","v":4851071.5051623378},{"$f":"VLOOKUP(A177, localcont!$D$10:$L$1764, 9)*F177","v":4680465.9366151784}]
[356,72,"Dartmouth                    ",72,"Dartmouth",45865704,{"$f":"VLOOKUP(A178, localcont!$D$10:$L$1764, 8)","v":43916766.759999998},{"$f":"VLOOKUP(A178, localcont!$D$10:$L$1764, 9)*F178","v":39044040.248212904}]
[357,72,"Dartmouth                    ",825,"Greater New Bedford",45865704,{"$f":"VLOOKUP(A179, localcont!$D$10:$L$1764, 8)","v":7265764.3004888985},{"$f":"VLOOKUP(A179, localcont!$D$10:$L$1764, 9)*F179","v":6459601.0752025824}]
[358,72,"Dartmouth                    ",910,"Bristol County",45865704,{"$f":"VLOOKUP(A180, localcont!$D$10:$L$1764, 8)","v":407248.37949605187},{"$f":"VLOOKUP(A180, localcont!$D$10:$L$1764, 9)*F180","v":362062.67658451217}]
[361,73,"Dedham                       ",73,"Dedham",49733186,{"$f":"VLOOKUP(A181, localcont!$D$10:$L$1764, 8)","v":34648058.12985},{"$f":"VLOOKUP(A181, localcont!$D$10:$L$1764, 9)*F181","v":46433944.377524614}]
[362,73,"Dedham                       ",806,"Blue Hills",49733186,{"$f":"VLOOKUP(A182, localcont!$D$10:$L$1764, 8)","v":2203506.3207371407},{"$f":"VLOOKUP(A182, localcont!$D$10:$L$1764, 9)*F182","v":2953051.2085029013}]
[363,73,"Dedham                       ",915,"Norfolk County",49733186,{"$f":"VLOOKUP(A183, localcont!$D$10:$L$1764, 8)","v":258320.19545428283},{"$f":"VLOOKUP(A183, localcont!$D$10:$L$1764, 9)*F183","v":346190.41397248383}]
[366,74,"Deerfield                    ",74,"Deerfield",7053338,{"$f":"VLOOKUP(A184, localcont!$D$10:$L$1764, 8)","v":3505682.31},{"$f":"VLOOKUP(A184, localcont!$D$10:$L$1764, 9)*F184","v":3430090.304024423}]
[367,74,"Deerfield                    ",670,"Frontier",7053338,{"$f":"VLOOKUP(A185, localcont!$D$10:$L$1764, 8)","v":3169129.9019607189},{"$f":"VLOOKUP(A185, localcont!$D$10:$L$1764, 9)*F185","v":3100794.8774768845}]
[368,74,"Deerfield                    ",818,"Franklin County",7053338,{"$f":"VLOOKUP(A186, localcont!$D$10:$L$1764, 8)","v":533966.58434082626},{"$f":"VLOOKUP(A186, localcont!$D$10:$L$1764, 9)*F186","v":522452.81849869253}]
[371,75,"Dennis                       ",75,"Dennis",41246320,{"$f":"VLOOKUP(A187, localcont!$D$10:$L$1764, 8)","v":0},{"$f":"VLOOKUP(A187, localcont!$D$10:$L$1764, 9)*F187","v":0}]
[372,75,"Dennis                       ",645,"Dennis Yarmouth",41246320,{"$f":"VLOOKUP(A188, localcont!$D$10:$L$1764, 8)","v":15222380.63594093},{"$f":"VLOOKUP(A188, localcont!$D$10:$L$1764, 9)*F188","v":37590314.501777902}]
[373,75,"Dennis                       ",815,"Cape Cod",41246320,{"$f":"VLOOKUP(A189, localcont!$D$10:$L$1764, 8)","v":1480517.2033981644},{"$f":"VLOOKUP(A189, localcont!$D$10:$L$1764, 9)*F189","v":3656005.4982221005}]
[376,76,"Dighton                      ",76,"Dighton",9628486,{"$f":"VLOOKUP(A190, localcont!$D$10:$L$1764, 8)","v":0},{"$f":"VLOOKUP(A190, localcont!$D$10:$L$1764, 9)*F190","v":0}]
[377,76,"Dighton                      ",650,"Dighton Rehoboth",9628486,{"$f":"VLOOKUP(A191, localcont!$D$10:$L$1764, 8)","v":14602231.109717995},{"$f":"VLOOKUP(A191, localcont!$D$10:$L$1764, 9)*F191","v":8098454.0081770634}]
[378,76,"Dighton                      ",810,"Bristol Plymouth",9628486,{"$f":"VLOOKUP(A192, localcont!$D$10:$L$1764, 8)","v":2249722.9585546255},{"$f":"VLOOKUP(A192, localcont!$D$10:$L$1764, 9)*F192","v":1247705.0783609003}]
[379,76,"Dighton                      ",910,"Bristol County",9628486,{"$f":"VLOOKUP(A193, localcont!$D$10:$L$1764, 8)","v":509060.47434527357},{"$f":"VLOOKUP(A193, localcont!$D$10:$L$1764, 9)*F193","v":282326.91346203571}]
[381,77,"Douglas                      ",77,"Douglas",10492621,{"$f":"VLOOKUP(A194, localcont!$D$10:$L$1764, 8)","v":14574247.939999998},{"$f":"VLOOKUP(A194, localcont!$D$10:$L$1764, 9)*F194","v":9132005.5437489431}]
[382,77,"Douglas                      ",805,"Blackstone Valley",10492621,{"$f":"VLOOKUP(A195, localcont!$D$10:$L$1764, 8)","v":2171477.7674410334},{"$f":"VLOOKUP(A195, localcont!$D$10:$L$1764, 9)*F195","v":1360615.4562510552}]
[386,78,"Dover                        ",78,"Dover",34614922,{"$f":"VLOOKUP(A196, localcont!$D$10:$L$1764, 8)","v":5901407.9242000002},{"$f":"VLOOKUP(A196, localcont!$D$10:$L$1764, 9)*F196","v":14502439.171961885}]
[387,78,"Dover                        ",655,"Dover Sherborn",34614922,{"$f":"VLOOKUP(A197, localcont!$D$10:$L$1764, 8)","v":8079293.2395034535},{"$f":"VLOOKUP(A197, localcont!$D$10:$L$1764, 9)*F197","v":19854492.396274287}]
[388,78,"Dover                        ",830,"Minuteman",34614922,{"$f":"VLOOKUP(A198, localcont!$D$10:$L$1764, 8)","v":83456.124442620901},{"$f":"VLOOKUP(A198, localcont!$D$10:$L$1764, 9)*F198","v":205089.59621205353}]
[389,78,"Dover                        ",915,"Norfolk County",34614922,{"$f":"VLOOKUP(A199, localcont!$D$10:$L$1764, 8)","v":21526.682954523571},{"$f":"VLOOKUP(A199, localcont!$D$10:$L$1764, 9)*F199","v":52900.8355517819}]
[391,79,"Dracut                       ",79,"Dracut",36591994,{"$f":"VLOOKUP(A200, localcont!$D$10:$L$1764, 8)","v":54539267.460000008},{"$f":"VLOOKUP(A200, localcont!$D$10:$L$1764, 9)*F200","v":30876648.25793929}]
[392,79,"Dracut                       ",828,"Greater Lowell",36591994,{"$f":"VLOOKUP(A201, localcont!$D$10:$L$1764, 8)","v":10095356.44700267},{"$f":"VLOOKUP(A201, localcont!$D$10:$L$1764, 9)*F201","v":5715345.7420607079}]
[396,80,"Dudley                       ",80,"Dudley",10427868,{"$f":"VLOOKUP(A202, localcont!$D$10:$L$1764, 8)","v":16490.760000000002},{"$f":"VLOOKUP(A202, localcont!$D$10:$L$1764, 9)*F202","v":7339.2287017691597}]
[397,80,"Dudley                       ",658,"Dudley Charlton",{"$f":"VLOOKUP(B203, town351, 7)","v":10427868},{"$f":"VLOOKUP(A203, localcont!$D$10:$L$1764, 8)","v":20744824.705383021},{"$f":"VLOOKUP(A203, localcont!$D$10:$L$1764, 9)*F203","v":9232504.3170185611}]
[398,80,"Dudley                       ",876,"Southern Worcester",10427868,{"$f":"VLOOKUP(A204, localcont!$D$10:$L$1764, 8)","v":2669412.1338573876},{"$f":"VLOOKUP(A204, localcont!$D$10:$L$1764, 9)*F204","v":1188024.4542796689}]
[401,81,"Dunstable                    ",81,"Dunstable",6524733,{"$f":"VLOOKUP(A205, localcont!$D$10:$L$1764, 8)","v":0},{"$f":"VLOOKUP(A205, localcont!$D$10:$L$1764, 9)*F205","v":0}]
[402,81,"Dunstable                    ",673,"Groton Dunstable",6524733,{"$f":"VLOOKUP(A206, localcont!$D$10:$L$1764, 8)","v":6297868.3222599598},{"$f":"VLOOKUP(A206, localcont!$D$10:$L$1764, 9)*F206","v":6282336.8133330485}]
[403,81,"Dunstable                    ",828,"Greater Lowell",6524733,{"$f":"VLOOKUP(A207, localcont!$D$10:$L$1764, 8)","v":242995.45070657946},{"$f":"VLOOKUP(A207, localcont!$D$10:$L$1764, 9)*F207","v":242396.18666695064}]
[406,82,"Duxbury                      ",82,"Duxbury",43812766,{"$f":"VLOOKUP(A208, localcont!$D$10:$L$1764, 8)","v":33659011.201460004},{"$f":"VLOOKUP(A208, localcont!$D$10:$L$1764, 9)*F208","v":43812766}]
[411,83,"East Bridgewater             ",83,"East Bridgewater",16711541,{"$f":"VLOOKUP(A209, localcont!$D$10:$L$1764, 8)","v":26867274.059999999},{"$f":"VLOOKUP(A209, localcont!$D$10:$L$1764, 9)*F209","v":15481775.835250588}]
[412,83,"East Bridgewater             ",872,"Southeastern",16711541,{"$f":"VLOOKUP(A210, localcont!$D$10:$L$1764, 8)","v":2134150.3754067691},{"$f":"VLOOKUP(A210, localcont!$D$10:$L$1764, 9)*F210","v":1229765.1647494114}]
[416,84,"East Brookfield              ",84,"East Brookfield",2375425,{"$f":"VLOOKUP(A211, localcont!$D$10:$L$1764, 8)","v":278132.51999999996},{"$f":"VLOOKUP(A211, localcont!$D$10:$L$1764, 9)*F211","v":161141.14363109815}]
[417,84,"East Brookfield              ",767,"Spencer East Brookfield",2375425,{"$f":"VLOOKUP(A212, localcont!$D$10:$L$1764, 8)","v":3821893.869495579},{"$f":"VLOOKUP(A212, localcont!$D$10:$L$1764, 9)*F212","v":2214283.8563689017}]
[421,85,"Eastham                      ",85,"Eastham",16200347,{"$f":"VLOOKUP(A213, localcont!$D$10:$L$1764, 8)","v":2896212.01},{"$f":"VLOOKUP(A213, localcont!$D$10:$L$1764, 9)*F213","v":7073791.7186836144}]
[422,85,"Eastham                      ",660,"Nauset",16200347,{"$f":"VLOOKUP(A214, localcont!$D$10:$L$1764, 8)","v":3257681.0787673928},{"$f":"VLOOKUP(A214, localcont!$D$10:$L$1764, 9)*F214","v":7956654.1943512931}]
[423,85,"Eastham                      ",815,"Cape Cod",16200347,{"$f":"VLOOKUP(A215, localcont!$D$10:$L$1764, 8)","v":478990.85996991891},{"$f":"VLOOKUP(A215, localcont!$D$10:$L$1764, 9)*F215","v":1169901.0869650927}]
[426,86,"Easthampton                  ",86,"Easthampton",15095525,{"$f":"VLOOKUP(A216, localcont!$D$10:$L$1764, 8)","v":22559015.459999997},{"$f":"VLOOKUP(A216, localcont!$D$10:$L$1764, 9)*F216","v":15095525}]
[431,87,"East Longmeadow              ",87,"East Longmeadow",20322755,{"$f":"VLOOKUP(A217, localcont!$D$10:$L$1764, 8)","v":33881345.879999995},{"$f":"VLOOKUP(A217, localcont!$D$10:$L$1764, 9)*F217","v":20322755}]
[436,88,"Easton                       ",88,"Easton",37720858,{"$f":"VLOOKUP(A218, localcont!$D$10:$L$1764, 8)","v":43192301.489999995},{"$f":"VLOOKUP(A218, localcont!$D$10:$L$1764, 9)*F218","v":36241156.368470363}]
[437,88,"Easton                       ",872,"Southeastern",37720858,{"$f":"VLOOKUP(A219, localcont!$D$10:$L$1764, 8)","v":1600612.7816420437},{"$f":"VLOOKUP(A219, localcont!$D$10:$L$1764, 9)*F219","v":1343018.4570806399}]
[438,88,"Easton                       ",910,"Bristol County",37720858,{"$f":"VLOOKUP(A220, localcont!$D$10:$L$1764, 8)","v":162899.35175875475},{"$f":"VLOOKUP(A220, localcont!$D$10:$L$1764, 9)*F220","v":136683.17444900039}]
[441,89,"Edgartown                    ",89,"Edgartown",44594942,{"$f":"VLOOKUP(A221, localcont!$D$10:$L$1764, 8)","v":6660865.3400000008},{"$f":"VLOOKUP(A221, localcont!$D$10:$L$1764, 9)*F221","v":29605911.618227817}]
[442,89,"Edgartown                    ",700,"Marthas Vineyard",44594942,{"$f":"VLOOKUP(A222, localcont!$D$10:$L$1764, 8)","v":3372296.5277206232},{"$f":"VLOOKUP(A222, localcont!$D$10:$L$1764, 9)*F222","v":14989030.381772185}]
[446,90,"Egremont                     ",90,"Egremont",2895910,{"$f":"VLOOKUP(A223, localcont!$D$10:$L$1764, 8)","v":0},{"$f":"VLOOKUP(A223, localcont!$D$10:$L$1764, 9)*F223","v":0}]
[447,90,"Egremont                     ",765,"Southern Berkshire",2895910,{"$f":"VLOOKUP(A224, localcont!$D$10:$L$1764, 8)","v":1293907.663036203},{"$f":"VLOOKUP(A224, localcont!$D$10:$L$1764, 9)*F224","v":2895910}]
[451,91,"Erving                       ",91,"Erving",4126717,{"$f":"VLOOKUP(A225, localcont!$D$10:$L$1764, 8)","v":2671388.7799999998},{"$f":"VLOOKUP(A225, localcont!$D$10:$L$1764, 9)*F225","v":3371860.2095321221}]
[452,91,"Erving                       ",818,"Franklin County",4126717,{"$f":"VLOOKUP(A226, localcont!$D$10:$L$1764, 8)","v":598042.5745000001},{"$f":"VLOOKUP(A226, localcont!$D$10:$L$1764, 9)*F226","v":754856.79046787799}]
[456,92,"Essex                        ",92,"Essex",7927380,{"$f":"VLOOKUP(A227, localcont!$D$10:$L$1764, 8)","v":0},{"$f":"VLOOKUP(A227, localcont!$D$10:$L$1764, 9)*F227","v":0}]
[457,92,"Essex                        ",698,"Manchester Essex",7927380,{"$f":"VLOOKUP(A228, localcont!$D$10:$L$1764, 8)","v":6338341.5474519432},{"$f":"VLOOKUP(A228, localcont!$D$10:$L$1764, 9)*F228","v":7419540.3421125179}]
[458,92,"Essex                        ",817,"Essex North Shore",7927380,{"$f":"VLOOKUP(A229, localcont!$D$10:$L$1764, 8)","v":433835.66294020851},{"$f":"VLOOKUP(A229, localcont!$D$10:$L$1764, 9)*F229","v":507839.65788748156}]
[461,93,"Everett                      ",93,"Everett",51706083,{"$f":"VLOOKUP(A230, localcont!$D$10:$L$1764, 8)","v":152643280.48403001},{"$f":"VLOOKUP(A230, localcont!$D$10:$L$1764, 9)*F230","v":51706083}]
[466,94,"Fairhaven                    ",94,"Fairhaven",18711983,{"$f":"VLOOKUP(A231, localcont!$D$10:$L$1764, 8)","v":23768492.649999999},{"$f":"VLOOKUP(A231, localcont!$D$10:$L$1764, 9)*F231","v":15817180.61108169}]
[467,94,"Fairhaven                    ",825,"Greater New Bedford",18711983,{"$f":"VLOOKUP(A232, localcont!$D$10:$L$1764, 8)","v":3820599.4650312057},{"$f":"VLOOKUP(A232, localcont!$D$10:$L$1764, 9)*F232","v":2542488.1868140115}]
[468,94,"Fairhaven                    ",910,"Bristol County",18711983,{"$f":"VLOOKUP(A233, localcont!$D$10:$L$1764, 8)","v":529422.89331511792},{"$f":"VLOOKUP(A233, localcont!$D$10:$L$1764, 9)*F233","v":352314.20210429933}]
[471,95,"Fall River                   ",95,"Fall River",57504642,{"$f":"VLOOKUP(A234, localcont!$D$10:$L$1764, 8)","v":226544925.61000004},{"$f":"VLOOKUP(A234, localcont!$D$10:$L$1764, 9)*F234","v":52074330.9739931}]
[472,95,"Fall River                   ",821,"Greater Fall River",57504642,{"$f":"VLOOKUP(A235, localcont!$D$10:$L$1764, 8)","v":22524533.313323878},{"$f":"VLOOKUP(A235, localcont!$D$10:$L$1764, 9)*F235","v":5177560.2549227225}]
[473,95,"Fall River                   ",910,"Bristol County",57504642,{"$f":"VLOOKUP(A236, localcont!$D$10:$L$1764, 8)","v":1099570.6245699245},{"$f":"VLOOKUP(A236, localcont!$D$10:$L$1764, 9)*F236","v":252750.77108417495}]
[476,96,"Falmouth                     ",96,"Falmouth",80290142,{"$f":"VLOOKUP(A237, localcont!$D$10:$L$1764, 8)","v":42847018.859999999},{"$f":"VLOOKUP(A237, localcont!$D$10:$L$1764, 9)*F237","v":73537111.762645304}]
[477,96,"Falmouth                     ",879,"Upper Cape Cod",80290142,{"$f":"VLOOKUP(A238, localcont!$D$10:$L$1764, 8)","v":3934710.0668844432},{"$f":"VLOOKUP(A238, localcont!$D$10:$L$1764, 9)*F238","v":6753030.2373546949}]
[481,97,"Fitchburg                    ",97,"Fitchburg",28128951,{"$f":"VLOOKUP(A239, localcont!$D$10:$L$1764, 8)","v":96678430.429999992},{"$f":"VLOOKUP(A239, localcont!$D$10:$L$1764, 9)*F239","v":26150061.270761225}]
[482,97,"Fitchburg                    ",832,"Montachusett",28128951,{"$f":"VLOOKUP(A240, localcont!$D$10:$L$1764, 8)","v":7316080.4877641238},{"$f":"VLOOKUP(A240, localcont!$D$10:$L$1764, 9)*F240","v":1978889.7292387758}]
[486,98,"Florida                      ",98,"Florida",907138,{"$f":"VLOOKUP(A241, localcont!$D$10:$L$1764, 8)","v":917915.93000000017},{"$f":"VLOOKUP(A241, localcont!$D$10:$L$1764, 9)*F241","v":515236.77124920319}]
[487,98,"Florida                      ",851,"Northern Berkshire",907138,{"$f":"VLOOKUP(A242, localcont!$D$10:$L$1764, 8)","v":698188.4852370905},{"$f":"VLOOKUP(A242, localcont!$D$10:$L$1764, 9)*F242","v":391901.22875079687}]
[491,99,"Foxborough                   ",99,"Foxborough",29688182,{"$f":"VLOOKUP(A243, localcont!$D$10:$L$1764, 8)","v":34005786.001159996},{"$f":"VLOOKUP(A243, localcont!$D$10:$L$1764, 9)*F243","v":28695809.372714281}]
[492,99,"Foxborough                   ",872,"Southeastern",29688182,{"$f":"VLOOKUP(A244, localcont!$D$10:$L$1764, 8)","v":917684.66151187732},{"$f":"VLOOKUP(A244, localcont!$D$10:$L$1764, 9)*F244","v":774388.92634654499}]
[493,99,"Foxborough                   ",915,"Norfolk County",29688182,{"$f":"VLOOKUP(A245, localcont!$D$10:$L$1764, 8)","v":258320.19545428283},{"$f":"VLOOKUP(A245, localcont!$D$10:$L$1764, 9)*F245","v":217983.70093917352}]
[496,100,"Framingham                   ",100,"Framingham",89655730,{"$f":"VLOOKUP(A246, localcont!$D$10:$L$1764, 8)","v":159351946.7809},{"$f":"VLOOKUP(A246, localcont!$D$10:$L$1764, 9)*F246","v":82120371.591004461}]
[497,100,"Framingham                   ",829,"South Middlesex",89655730,{"$f":"VLOOKUP(A247, localcont!$D$10:$L$1764, 8)","v":14622121.270293891},{"$f":"VLOOKUP(A247, localcont!$D$10:$L$1764, 9)*F247","v":7535358.4089955399}]
[501,101,"Franklin                     ",101,"Franklin",53613722,{"$f":"VLOOKUP(A248, localcont!$D$10:$L$1764, 8)","v":65275976.234380007},{"$f":"VLOOKUP(A248, localcont!$D$10:$L$1764, 9)*F248","v":50732337.582469143}]
[502,101,"Franklin                     ",878,"Tri County",53613722,{"$f":"VLOOKUP(A249, localcont!$D$10:$L$1764, 8)","v":3362975.2884270456},{"$f":"VLOOKUP(A249, localcont!$D$10:$L$1764, 9)*F249","v":2613696.6071772589}]
[503,101,"Franklin                     ",915,"Norfolk County",53613722,{"$f":"VLOOKUP(A250, localcont!$D$10:$L$1764, 8)","v":344426.92727237713},{"$f":"VLOOKUP(A250, localcont!$D$10:$L$1764, 9)*F250","v":267687.81035359949}]
[506,102,"Freetown                     ",102,"Freetown",12338305,{"$f":"VLOOKUP(A251, localcont!$D$10:$L$1764, 8)","v":966323.64},{"$f":"VLOOKUP(A251, localcont!$D$10:$L$1764, 9)*F251","v":715924.29984694801}]
[507,102,"Freetown                     ",665,"Freetown Lakeville",12338305,{"$f":"VLOOKUP(A252, localcont!$D$10:$L$1764, 8)","v":15320862.996431844},{"$f":"VLOOKUP(A252, localcont!$D$10:$L$1764, 9)*F252","v":11350832.847027816}]
[508,102,"Freetown                     ",910,"Bristol County",12338305,{"$f":"VLOOKUP(A253, localcont!$D$10:$L$1764, 8)","v":366523.54155636317},{"$f":"VLOOKUP(A253, localcont!$D$10:$L$1764, 9)*F253","v":271547.85312523559}]
[511,103,"Gardner                      ",103,"Gardner",13920990,{"$f":"VLOOKUP(A254, localcont!$D$10:$L$1764, 8)","v":38690363.829999998},{"$f":"VLOOKUP(A254, localcont!$D$10:$L$1764, 9)*F254","v":12770159.263056602}]
[512,103,"Gardner                      ",832,"Montachusett",13920990,{"$f":"VLOOKUP(A255, localcont!$D$10:$L$1764, 8)","v":3486727.0643913299},{"$f":"VLOOKUP(A255, localcont!$D$10:$L$1764, 9)*F255","v":1150830.7369433981}]
[516,104,"Aquinnah",104,"Aquinnah",3390730,{"$f":"VLOOKUP(A256, localcont!$D$10:$L$1764, 8)","v":0},{"$f":"VLOOKUP(A256, localcont!$D$10:$L$1764, 9)*F256","v":0}]
[517,104,"Aquinnah",700,"Marthas Vineyard",3390730,{"$f":"VLOOKUP(A257, localcont!$D$10:$L$1764, 8)","v":287003.95983068057},{"$f":"VLOOKUP(A257, localcont!$D$10:$L$1764, 9)*F257","v":1099417.8366438556}]
[518,104,"Aquinnah",774,"Upisland",3390730,{"$f":"VLOOKUP(A258, localcont!$D$10:$L$1764, 8)","v":598148.98592048592},{"$f":"VLOOKUP(A258, localcont!$D$10:$L$1764, 9)*F258","v":2291312.1633561444}]
[521,105,"Georgetown                   ",105,"Georgetown",13283915,{"$f":"VLOOKUP(A259, localcont!$D$10:$L$1764, 8)","v":15011687.49},{"$f":"VLOOKUP(A259, localcont!$D$10:$L$1764, 9)*F259","v":12343287.826620042}]
[522,105,"Georgetown                   ",885,"Whittier",13283915,{"$f":"VLOOKUP(A260, localcont!$D$10:$L$1764, 8)","v":1143974.0666930992},{"$f":"VLOOKUP(A260, localcont!$D$10:$L$1764, 9)*F260","v":940627.17337995674}]
[526,106,"Gill                         ",106,"Gill",1253311,{"$f":"VLOOKUP(A261, localcont!$D$10:$L$1764, 8)","v":0},{"$f":"VLOOKUP(A261, localcont!$D$10:$L$1764, 9)*F261","v":0}]
[527,106,"Gill                         ",674,"Gill Montague",1253311,{"$f":"VLOOKUP(A262, localcont!$D$10:$L$1764, 8)","v":1608964.2348228607},{"$f":"VLOOKUP(A262, localcont!$D$10:$L$1764, 9)*F262","v":1045190.6866935706}]
[528,106,"Gill                         ",818,"Franklin County",1253311,{"$f":"VLOOKUP(A263, localcont!$D$10:$L$1764, 8)","v":320379.95067626081},{"$f":"VLOOKUP(A263, localcont!$D$10:$L$1764, 9)*F263","v":208120.31330642945}]
[531,107,"Gloucester                   ",107,"Gloucester",51598642,{"$f":"VLOOKUP(A264, localcont!$D$10:$L$1764, 8)","v":47045109.888499998},{"$f":"VLOOKUP(A264, localcont!$D$10:$L$1764, 9)*F264","v":49383733.548824199}]
[532,107,"Gloucester                   ",817,"Essex North Shore",51598642,{"$f":"VLOOKUP(A265, localcont!$D$10:$L$1764, 8)","v":2110018.9068433391},{"$f":"VLOOKUP(A265, localcont!$D$10:$L$1764, 9)*F265","v":2214908.4511757987}]
[536,108,"Goshen                       ",108,"Goshen",876640,{"$f":"VLOOKUP(A266, localcont!$D$10:$L$1764, 8)","v":148416.84},{"$f":"VLOOKUP(A266, localcont!$D$10:$L$1764, 9)*F266","v":91776.051369231092}]
[537,108,"Goshen                       ",632,"Chesterfield Goshen",{"$f":"VLOOKUP(B267, town351, 7)","v":876640},{"$f":"VLOOKUP(A267, localcont!$D$10:$L$1764, 8)","v":805040.52604679752},{"$f":"VLOOKUP(A267, localcont!$D$10:$L$1764, 9)*F267","v":497810.36082417413}]
[538,108,"Goshen                       ",683,"Hampshire",876640,{"$f":"VLOOKUP(A268, localcont!$D$10:$L$1764, 8)","v":464212.45823178499},{"$f":"VLOOKUP(A268, localcont!$D$10:$L$1764, 9)*F268","v":287053.58780659491}]
[541,109,"Gosnold                      ",109,"Gosnold",843995,{"$f":"VLOOKUP(A269, localcont!$D$10:$L$1764, 8)","v":0},{"$f":"VLOOKUP(A269, localcont!$D$10:$L$1764, 9)*F269","v":0}]
[546,110,"Grafton                      ",110,"Grafton",28064492,{"$f":"VLOOKUP(A270, localcont!$D$10:$L$1764, 8)","v":36858149.159999996},{"$f":"VLOOKUP(A270, localcont!$D$10:$L$1764, 9)*F270","v":26735903.109503284}]
[547,110,"Grafton                      ",805,"Blackstone Valley",28064492,{"$f":"VLOOKUP(A271, localcont!$D$10:$L$1764, 8)","v":1831594.290930857},{"$f":"VLOOKUP(A271, localcont!$D$10:$L$1764, 9)*F271","v":1328588.8904967133}]
[551,111,"Granby                       ",111,"Granby",6453095,{"$f":"VLOOKUP(A272, localcont!$D$10:$L$1764, 8)","v":9588488.8899999987},{"$f":"VLOOKUP(A272, localcont!$D$10:$L$1764, 9)*F272","v":6218815.1161462115}]
[552,111,"Granby                       ",860,"Pathfinder",6453095,{"$f":"VLOOKUP(A273, localcont!$D$10:$L$1764, 8)","v":361224.77055960952},{"$f":"VLOOKUP(A273, localcont!$D$10:$L$1764, 9)*F273","v":234279.88385378907}]
[556,112,"Granville                    ",112,"Granville",1744044,{"$f":"VLOOKUP(A274, localcont!$D$10:$L$1764, 8)","v":0},{"$f":"VLOOKUP(A274, localcont!$D$10:$L$1764, 9)*F274","v":0}]
[557,112,"Granville                    ",766,"Southwick Tolland Granville",1744044,{"$f":"VLOOKUP(A275, localcont!$D$10:$L$1764, 8)","v":2332677.3568332344},{"$f":"VLOOKUP(A275, localcont!$D$10:$L$1764, 9)*F275","v":1744044}]
[561,113,"Great Barrington             ",113,"Great Barrington",11198554,{"$f":"VLOOKUP(A276, localcont!$D$10:$L$1764, 8)","v":0},{"$f":"VLOOKUP(A276, localcont!$D$10:$L$1764, 9)*F276","v":0}]
[562,113,"Great Barrington             ",618,"Berkshire Hills",11198554,{"$f":"VLOOKUP(A277, localcont!$D$10:$L$1764, 8)","v":10476266.953148777},{"$f":"VLOOKUP(A277, localcont!$D$10:$L$1764, 9)*F277","v":11198554}]
[566,114,"Greenfield                   ",114,"Greenfield",12920388,{"$f":"VLOOKUP(A278, localcont!$D$10:$L$1764, 8)","v":27294290.690000001},{"$f":"VLOOKUP(A278, localcont!$D$10:$L$1764, 9)*F278","v":11836666.860581312}]
[567,114,"Greenfield                   ",818,"Franklin County",12920388,{"$f":"VLOOKUP(A279, localcont!$D$10:$L$1764, 8)","v":2498963.6148920874},{"$f":"VLOOKUP(A279, localcont!$D$10:$L$1764, 9)*F279","v":1083721.1394186867}]
[571,115,"Groton                       ",115,"Groton",22554349,{"$f":"VLOOKUP(A280, localcont!$D$10:$L$1764, 8)","v":0},{"$f":"VLOOKUP(A280, localcont!$D$10:$L$1764, 9)*F280","v":0}]
[572,115,"Groton                       ",673,"Groton Dunstable",22554349,{"$f":"VLOOKUP(A281, localcont!$D$10:$L$1764, 8)","v":21132073.817740038},{"$f":"VLOOKUP(A281, localcont!$D$10:$L$1764, 9)*F281","v":21697789.62121322}]
[573,115,"Groton                       ",852,"Nashoba Valley",22554349,{"$f":"VLOOKUP(A282, localcont!$D$10:$L$1764, 8)","v":834226.72713644546},{"$f":"VLOOKUP(A282, localcont!$D$10:$L$1764, 9)*F282","v":856559.37878678238}]
[576,116,"Groveland                    ",116,"Groveland",9232661,{"$f":"VLOOKUP(A283, localcont!$D$10:$L$1764, 8)","v":148416.84},{"$f":"VLOOKUP(A283, localcont!$D$10:$L$1764, 9)*F283","v":115952.70236710584}]
[577,116,"Groveland                    ",745,"Pentucket",9232661,{"$f":"VLOOKUP(A284, localcont!$D$10:$L$1764, 8)","v":10941197.204429345},{"$f":"VLOOKUP(A284, localcont!$D$10:$L$1764, 9)*F284","v":8547961.1544418167}]
[578,116,"Groveland                    ",885,"Whittier",9232661,{"$f":"VLOOKUP(A285, localcont!$D$10:$L$1764, 8)","v":727983.49696240912},{"$f":"VLOOKUP(A285, localcont!$D$10:$L$1764, 9)*F285","v":568747.14319107682}]
[581,117,"Hadley                       ",117,"Hadley",7213819,{"$f":"VLOOKUP(A286, localcont!$D$10:$L$1764, 8)","v":6277106.5899999999},{"$f":"VLOOKUP(A286, localcont!$D$10:$L$1764, 9)*F286","v":7213819}]
[586,118,"Halifax                      ",118,"Halifax",8961060,{"$f":"VLOOKUP(A287, localcont!$D$10:$L$1764, 8)","v":7849455.0234599989},{"$f":"VLOOKUP(A287, localcont!$D$10:$L$1764, 9)*F287","v":4656499.9161638655}]
[587,118,"Halifax                      ",760,"Silver Lake",8961060,{"$f":"VLOOKUP(A288, localcont!$D$10:$L$1764, 8)","v":7256190.5684921956},{"$f":"VLOOKUP(A288, localcont!$D$10:$L$1764, 9)*F288","v":4304560.0838361355}]
[591,119,"Hamilton                     ",119,"Hamilton",17696683,{"$f":"VLOOKUP(A289, localcont!$D$10:$L$1764, 8)","v":0},{"$f":"VLOOKUP(A289, localcont!$D$10:$L$1764, 9)*F289","v":0}]
[592,119,"Hamilton                     ",675,"Hamilton Wenham",17696683,{"$f":"VLOOKUP(A290, localcont!$D$10:$L$1764, 8)","v":13208580.790168677},{"$f":"VLOOKUP(A290, localcont!$D$10:$L$1764, 9)*F290","v":17233562.525702227}]
[593,119,"Hamilton                     ",817,"Essex North Shore",17696683,{"$f":"VLOOKUP(A291, localcont!$D$10:$L$1764, 8)","v":354956.45147195621},{"$f":"VLOOKUP(A291, localcont!$D$10:$L$1764, 9)*F291","v":463120.47429777117}]
[596,120,"Hampden                      ",120,"Hampden",6203262,{"$f":"VLOOKUP(A292, localcont!$D$10:$L$1764, 8)","v":0},{"$f":"VLOOKUP(A292, localcont!$D$10:$L$1764, 9)*F292","v":0}]
[597,120,"Hampden                      ",680,"Hampden Wilbraham",6203262,{"$f":"VLOOKUP(A293, localcont!$D$10:$L$1764, 8)","v":7147465.3910503788},{"$f":"VLOOKUP(A293, localcont!$D$10:$L$1764, 9)*F293","v":6203262}]
[601,121,"Hancock                      ",121,"Hancock",1391264,{"$f":"VLOOKUP(A294, localcont!$D$10:$L$1764, 8)","v":1216494.7500000002},{"$f":"VLOOKUP(A294, localcont!$D$10:$L$1764, 9)*F294","v":1391264}]
[606,122,"Hanover                      ",122,"Hanover",26290432,{"$f":"VLOOKUP(A295, localcont!$D$10:$L$1764, 8)","v":30800181.273539998},{"$f":"VLOOKUP(A295, localcont!$D$10:$L$1764, 9)*F295","v":25151470.308389176}]
[607,122,"Hanover                      ",873,"South Shore",26290432,{"$f":"VLOOKUP(A296, localcont!$D$10:$L$1764, 8)","v":1394758.4827090709},{"$f":"VLOOKUP(A296, localcont!$D$10:$L$1764, 9)*F296","v":1138961.6916108239}]
[611,123,"Hanson                       ",123,"Hanson",12929423,{"$f":"VLOOKUP(A297, localcont!$D$10:$L$1764, 8)","v":82453.8},{"$f":"VLOOKUP(A297, localcont!$D$10:$L$1764, 9)*F297","v":52138.330395795689}]
[612,123,"Hanson                       ",780,"Whitman Hanson",12929423,{"$f":"VLOOKUP(A298, localcont!$D$10:$L$1764, 8)","v":18574405.27594291},{"$f":"VLOOKUP(A298, localcont!$D$10:$L$1764, 9)*F298","v":11745225.558828363}]
[613,123,"Hanson                       ",873,"South Shore",12929423,{"$f":"VLOOKUP(A299, localcont!$D$10:$L$1764, 8)","v":1790287.0076487141},{"$f":"VLOOKUP(A299, localcont!$D$10:$L$1764, 9)*F299","v":1132059.1107758412}]
[616,124,"Hardwick                     ",124,"Hardwick",2224443,{"$f":"VLOOKUP(A300, localcont!$D$10:$L$1764, 8)","v":0},{"$f":"VLOOKUP(A300, localcont!$D$10:$L$1764, 9)*F300","v":0}]
[617,124,"Hardwick                     ",753,"Quabbin",2224443,{"$f":"VLOOKUP(A301, localcont!$D$10:$L$1764, 8)","v":4381304.3064969378},{"$f":"VLOOKUP(A301, localcont!$D$10:$L$1764, 9)*F301","v":2027757.9739796484}]
[618,124,"Hardwick                     ",860,"Pathfinder",2224443,{"$f":"VLOOKUP(A302, localcont!$D$10:$L$1764, 8)","v":424970.3182452271},{"$f":"VLOOKUP(A302, localcont!$D$10:$L$1764, 9)*F302","v":196685.02602035148}]
[621,125,"Harvard                      ",125,"Harvard",12766869,{"$f":"VLOOKUP(A303, localcont!$D$10:$L$1764, 8)","v":10576374.949999999},{"$f":"VLOOKUP(A303, localcont!$D$10:$L$1764, 9)*F303","v":12622546.763621816}]
[622,125,"Harvard                      ",832,"Montachusett",12766869,{"$f":"VLOOKUP(A304, localcont!$D$10:$L$1764, 8)","v":120926.95033282033},{"$f":"VLOOKUP(A304, localcont!$D$10:$L$1764, 9)*F304","v":144322.23637818338}]
[626,126,"Harwich                      ",126,"Harwich",34878115,{"$f":"VLOOKUP(A305, localcont!$D$10:$L$1764, 8)","v":0},{"$f":"VLOOKUP(A305, localcont!$D$10:$L$1764, 9)*F305","v":0}]
[627,126,"Harwich                      ",712,"Monomoy",34878115,{"$f":"VLOOKUP(A306, localcont!$D$10:$L$1764, 8)","v":18171310.052159831},{"$f":"VLOOKUP(A306, localcont!$D$10:$L$1764, 9)*F306","v":32179186.338161156}]
[628,126,"Harwich                      ",815,"Cape Cod",34878115,{"$f":"VLOOKUP(A307, localcont!$D$10:$L$1764, 8)","v":1524061.8270317935},{"$f":"VLOOKUP(A307, localcont!$D$10:$L$1764, 9)*F307","v":2698928.6618388416}]
[631,127,"Hatfield                     ",127,"Hatfield",4367307,{"$f":"VLOOKUP(A308, localcont!$D$10:$L$1764, 8)","v":4215602.3500000006},{"$f":"VLOOKUP(A308, localcont!$D$10:$L$1764, 9)*F308","v":4367307}]
[636,128,"Haverhill                    ",128,"Haverhill",64646987,{"$f":"VLOOKUP(A309, localcont!$D$10:$L$1764, 8)","v":132551888.25},{"$f":"VLOOKUP(A309, localcont!$D$10:$L$1764, 9)*F309","v":56905240.731403522}]
[637,128,"Haverhill                    ",885,"Whittier",64646987,{"$f":"VLOOKUP(A310, localcont!$D$10:$L$1764, 8)","v":18033191.197600003},{"$f":"VLOOKUP(A310, localcont!$D$10:$L$1764, 9)*F310","v":7741746.2685964797}]
[641,129,"Hawley                       ",129,"Hawley",304052,{"$f":"VLOOKUP(A311, localcont!$D$10:$L$1764, 8)","v":65963.040000000008},{"$f":"VLOOKUP(A311, localcont!$D$10:$L$1764, 9)*F311","v":56125.831522150031}]
[642,129,"Hawley                       ",685,"Hawlemont",304052,{"$f":"VLOOKUP(A312, localcont!$D$10:$L$1764, 8)","v":180341.41621838592},{"$f":"VLOOKUP(A312, localcont!$D$10:$L$1764, 9)*F312","v":153446.71717887869}]
[643,129,"Hawley                       ",717,"Mohawk Trail",304052,{"$f":"VLOOKUP(A313, localcont!$D$10:$L$1764, 8)","v":111038.92194011562},{"$f":"VLOOKUP(A313, localcont!$D$10:$L$1764, 9)*F313","v":94479.451298971311}]
[646,130,"Heath                        ",130,"Heath",545689,{"$f":"VLOOKUP(A314, localcont!$D$10:$L$1764, 8)","v":0},{"$f":"VLOOKUP(A314, localcont!$D$10:$L$1764, 9)*F314","v":0}]
[647,130,"Heath                        ",717,"Mohawk Trail",545689,{"$f":"VLOOKUP(A315, localcont!$D$10:$L$1764, 8)","v":1138148.95},{"$f":"VLOOKUP(A315, localcont!$D$10:$L$1764, 9)*F315","v":474458.90004285012}]
[648,130,"Heath                        ",818,"Franklin County",545689,{"$f":"VLOOKUP(A316, localcont!$D$10:$L$1764, 8)","v":170869.30705126081},{"$f":"VLOOKUP(A316, localcont!$D$10:$L$1764, 9)*F316","v":71230.099957149927}]
[651,131,"Hingham                      ",131,"Hingham",82938848,{"$f":"VLOOKUP(A317, localcont!$D$10:$L$1764, 8)","v":47057670.467040002},{"$f":"VLOOKUP(A317, localcont!$D$10:$L$1764, 9)*F317","v":82938848}]
[656,132,"Hinsdale                     ",132,"Hinsdale",2514474,{"$f":"VLOOKUP(A318, localcont!$D$10:$L$1764, 8)","v":131926.08000000002},{"$f":"VLOOKUP(A318, localcont!$D$10:$L$1764, 9)*F318","v":118251.34968869203}]
[657,132,"Hinsdale                     ",635,"Central Berkshire",2514474,{"$f":"VLOOKUP(A319, localcont!$D$10:$L$1764, 8)","v":2673324.760309366},{"$f":"VLOOKUP(A319, localcont!$D$10:$L$1764, 9)*F319","v":2396222.650311308}]
[661,133,"Holbrook                     ",133,"Holbrook",12020442,{"$f":"VLOOKUP(A320, localcont!$D$10:$L$1764, 8)","v":20493828.679550003},{"$f":"VLOOKUP(A320, localcont!$D$10:$L$1764, 9)*F320","v":10792333.297624668}]
[662,133,"Holbrook                     ",806,"Blue Hills",12020442,{"$f":"VLOOKUP(A321, localcont!$D$10:$L$1764, 8)","v":2159872.53225165},{"$f":"VLOOKUP(A321, localcont!$D$10:$L$1764, 9)*F321","v":1137418.713356602}]
[663,133,"Holbrook                     ",915,"Norfolk County",12020442,{"$f":"VLOOKUP(A322, localcont!$D$10:$L$1764, 8)","v":172213.46363618856},{"$f":"VLOOKUP(A322, localcont!$D$10:$L$1764, 9)*F322","v":90689.989018729466}]
[666,134,"Holden                       ",134,"Holden",25390977,{"$f":"VLOOKUP(A323, localcont!$D$10:$L$1764, 8)","v":16490.760000000002},{"$f":"VLOOKUP(A323, localcont!$D$10:$L$1764, 9)*F323","v":9798.6259205099759}]
[667,134,"Holden                       ",775,"Wachusett",25390977,{"$f":"VLOOKUP(A324, localcont!$D$10:$L$1764, 8)","v":40095591.162160635},{"$f":"VLOOKUP(A324, localcont!$D$10:$L$1764, 9)*F324","v":23824353.690170608}]
[668,134,"Holden                       ",832,"Montachusett",25390977,{"$f":"VLOOKUP(A325, localcont!$D$10:$L$1764, 8)","v":2620083.9212240316},{"$f":"VLOOKUP(A325, localcont!$D$10:$L$1764, 9)*F325","v":1556824.6839088805}]
[671,135,"Holland                      ",135,"Holland",2903559,{"$f":"VLOOKUP(A326, localcont!$D$10:$L$1764, 8)","v":2529520.8899999997},{"$f":"VLOOKUP(A326, localcont!$D$10:$L$1764, 9)*F326","v":1643757.1388207769}]
[672,135,"Holland                      ",770,"Tantasqua",2903559,{"$f":"VLOOKUP(A327, localcont!$D$10:$L$1764, 8)","v":1938665.4207323126},{"$f":"VLOOKUP(A327, localcont!$D$10:$L$1764, 9)*F327","v":1259801.8611792228}]
[676,136,"Holliston                    ",136,"Holliston",26374157,{"$f":"VLOOKUP(A328, localcont!$D$10:$L$1764, 8)","v":32828254.537319999},{"$f":"VLOOKUP(A328, localcont!$D$10:$L$1764, 9)*F328","v":25128586.485335}]
[677,136,"Holliston                    ",829,"South Middlesex",26374157,{"$f":"VLOOKUP(A329, localcont!$D$10:$L$1764, 8)","v":1627226.6616933055},{"$f":"VLOOKUP(A329, localcont!$D$10:$L$1764, 9)*F329","v":1245570.5146649969}]
[681,137,"Holyoke                      ",137,"Holyoke",21424420,{"$f":"VLOOKUP(A330, localcont!$D$10:$L$1764, 8)","v":109412142.28999999},{"$f":"VLOOKUP(A330, localcont!$D$10:$L$1764, 9)*F330","v":21424420}]
[686,138,"Hopedale                     ",138,"Hopedale",{"$f":"VLOOKUP(B331, town351, 7)","v":7602898},{"$f":"VLOOKUP(A331, localcont!$D$10:$L$1764, 8)","v":11489500.85},{"$f":"VLOOKUP(A331, localcont!$D$10:$L$1764, 9)*F331","v":6788472.5915785544}]
[687,138,"Hopedale                     ",805,"Blackstone Valley",7602898,{"$f":"VLOOKUP(A332, localcont!$D$10:$L$1764, 8)","v":1378416.3220940237},{"$f":"VLOOKUP(A332, localcont!$D$10:$L$1764, 9)*F332","v":814425.40842144564}]
[691,139,"Hopkinton                    ",139,"Hopkinton",45670737,{"$f":"VLOOKUP(A333, localcont!$D$10:$L$1764, 8)","v":50873294.826880008},{"$f":"VLOOKUP(A333, localcont!$D$10:$L$1764, 9)*F333","v":45182221.153801352}]
[692,139,"Hopkinton                    ",829,"South Middlesex",45670737,{"$f":"VLOOKUP(A334, localcont!$D$10:$L$1764, 8)","v":550048.44907178008},{"$f":"VLOOKUP(A334, localcont!$D$10:$L$1764, 9)*F334","v":488515.84619864839}]
[696,140,"Hubbardston                  ",140,"Hubbardston",4780763,{"$f":"VLOOKUP(A335, localcont!$D$10:$L$1764, 8)","v":0},{"$f":"VLOOKUP(A335, localcont!$D$10:$L$1764, 9)*F335","v":0}]
[697,140,"Hubbardston                  ",753,"Quabbin",4780763,{"$f":"VLOOKUP(A336, localcont!$D$10:$L$1764, 8)","v":7418650.2368706735},{"$f":"VLOOKUP(A336, localcont!$D$10:$L$1764, 9)*F336","v":4312163.1659963671}]
[698,140,"Hubbardston                  ",832,"Montachusett",4780763,{"$f":"VLOOKUP(A337, localcont!$D$10:$L$1764, 8)","v":806179.6680008882},{"$f":"VLOOKUP(A337, localcont!$D$10:$L$1764, 9)*F337","v":468599.834003633}]
[701,141,"Hudson                       ",141,"Hudson",25892264,{"$f":"VLOOKUP(A338, localcont!$D$10:$L$1764, 8)","v":34207457.530000001},{"$f":"VLOOKUP(A338, localcont!$D$10:$L$1764, 9)*F338","v":22867500.80402736}]
[702,141,"Hudson                       ",801,"Assabet Valley",25892264,{"$f":"VLOOKUP(A339, localcont!$D$10:$L$1764, 8)","v":4524738.3809567159},{"$f":"VLOOKUP(A339, localcont!$D$10:$L$1764, 9)*F339","v":3024763.1959726401}]
[706,142,"Hull                         ",142,"Hull",18111253,{"$f":"VLOOKUP(A340, localcont!$D$10:$L$1764, 8)","v":10986735.571280001},{"$f":"VLOOKUP(A340, localcont!$D$10:$L$1764, 9)*F340","v":18111253}]
[711,143,"Huntington                   ",143,"Huntington",2093841,{"$f":"VLOOKUP(A341, localcont!$D$10:$L$1764, 8)","v":572755.80000000005},{"$f":"VLOOKUP(A341, localcont!$D$10:$L$1764, 9)*F341","v":254755.16169258617}]
[712,143,"Huntington                   ",672,"Gateway",2093841,{"$f":"VLOOKUP(A342, localcont!$D$10:$L$1764, 8)","v":4134742.8393208012},{"$f":"VLOOKUP(A342, localcont!$D$10:$L$1764, 9)*F342","v":1839085.838307414}]
[716,144,"Ipswich                      ",144,"Ipswich",28044372,{"$f":"VLOOKUP(A343, localcont!$D$10:$L$1764, 8)","v":20567036.155019999},{"$f":"VLOOKUP(A343, localcont!$D$10:$L$1764, 9)*F343","v":27218584.012168206}]
[717,144,"Ipswich                      ",885,"Whittier",28044372,{"$f":"VLOOKUP(A344, localcont!$D$10:$L$1764, 8)","v":623985.85446343815},{"$f":"VLOOKUP(A344, localcont!$D$10:$L$1764, 9)*F344","v":825787.98783179082}]
[721,145,"Kingston                     ",145,"Kingston",19549906,{"$f":"VLOOKUP(A345, localcont!$D$10:$L$1764, 8)","v":14371240.407579998},{"$f":"VLOOKUP(A345, localcont!$D$10:$L$1764, 9)*F345","v":9777212.7877850551}]
[722,145,"Kingston                     ",760,"Silver Lake",19549906,{"$f":"VLOOKUP(A346, localcont!$D$10:$L$1764, 8)","v":14364597.215039546},{"$f":"VLOOKUP(A346, localcont!$D$10:$L$1764, 9)*F346","v":9772693.2122149467}]
[726,146,"Lakeville                    ",146,"Lakeville",16786240,{"$f":"VLOOKUP(A347, localcont!$D$10:$L$1764, 8)","v":212169.47999999998},{"$f":"VLOOKUP(A347, localcont!$D$10:$L$1764, 9)*F347","v":153164.2740094254}]
[727,146,"Lakeville                    ",665,"Freetown Lakeville",16786240,{"$f":"VLOOKUP(A348, localcont!$D$10:$L$1764, 8)","v":20165052.873568162},{"$f":"VLOOKUP(A348, localcont!$D$10:$L$1764, 9)*F348","v":14557068.640323507}]
[728,146,"Lakeville                    ",855,"Old Colony",16786240,{"$f":"VLOOKUP(A349, localcont!$D$10:$L$1764, 8)","v":2875770.780692576},{"$f":"VLOOKUP(A349, localcont!$D$10:$L$1764, 9)*F349","v":2076007.0856670665}]
[731,147,"Lancaster                    ",147,"Lancaster",9398983,{"$f":"VLOOKUP(A350, localcont!$D$10:$L$1764, 8)","v":32981.520000000004},{"$f":"VLOOKUP(A350, localcont!$D$10:$L$1764, 9)*F350","v":22273.913384974461}]
[732,147,"Lancaster                    ",725,"Nashoba",9398983,{"$f":"VLOOKUP(A351, localcont!$D$10:$L$1764, 8)","v":12674205.171358863},{"$f":"VLOOKUP(A351, localcont!$D$10:$L$1764, 9)*F351","v":8559464.4579826128}]
[733,147,"Lancaster                    ",830,"Minuteman",9398983,{"$f":"VLOOKUP(A352, localcont!$D$10:$L$1764, 8)","v":1210113.8043535333},{"$f":"VLOOKUP(A352, localcont!$D$10:$L$1764, 9)*F352","v":817244.62863241381}]
[736,148,"Lanesborough                 ",148,"Lanesborough",3100004,{"$f":"VLOOKUP(A353, localcont!$D$10:$L$1764, 8)","v":0},{"$f":"VLOOKUP(A353, localcont!$D$10:$L$1764, 9)*F353","v":0}]
[737,148,"Lanesborough                 ",715,"Mount Greylock",3100004,{"$f":"VLOOKUP(A354, localcont!$D$10:$L$1764, 8)","v":4787305.4172518328},{"$f":"VLOOKUP(A354, localcont!$D$10:$L$1764, 9)*F354","v":2726470.0865100622}]
[738,148,"Lanesborough                 ",851,"Northern Berkshire",3100004,{"$f":"VLOOKUP(A355, localcont!$D$10:$L$1764, 8)","v":655874.0315638734},{"$f":"VLOOKUP(A355, localcont!$D$10:$L$1764, 9)*F355","v":373533.9134899379}]
[741,149,"Lawrence                     ",149,"Lawrence",50131770,{"$f":"VLOOKUP(A356, localcont!$D$10:$L$1764, 8)","v":279873222.13999999},{"$f":"VLOOKUP(A356, localcont!$D$10:$L$1764, 9)*F356","v":45203046.4458737}]
[742,149,"Lawrence                     ",823,"Greater Lawrence",50131770,{"$f":"VLOOKUP(A357, localcont!$D$10:$L$1764, 8)","v":30516034.882347174},{"$f":"VLOOKUP(A357, localcont!$D$10:$L$1764, 9)*F357","v":4928723.5541263036}]
[746,150,"Lee                          ",150,"Lee",7372350,{"$f":"VLOOKUP(A358, localcont!$D$10:$L$1764, 8)","v":8739704.6600000001},{"$f":"VLOOKUP(A358, localcont!$D$10:$L$1764, 9)*F358","v":7372350}]
[751,151,"Leicester                    ",151,"Leicester",10641429,{"$f":"VLOOKUP(A359, localcont!$D$10:$L$1764, 8)","v":20759208.559999999},{"$f":"VLOOKUP(A359, localcont!$D$10:$L$1764, 9)*F359","v":10641429}]
[756,152,"Lenox                        ",152,"Lenox",10044809,{"$f":"VLOOKUP(A360, localcont!$D$10:$L$1764, 8)","v":6717817.4100000001},{"$f":"VLOOKUP(A360, localcont!$D$10:$L$1764, 9)*F360","v":10044809}]
[761,153,"Leominster                   ",153,"Leominster",40062157,{"$f":"VLOOKUP(A361, localcont!$D$10:$L$1764, 8)","v":99599000.579999998},{"$f":"VLOOKUP(A361, localcont!$D$10:$L$1764, 9)*F361","v":40062157}]
[766,154,"Leverett                     ",154,"Leverett",2782029,{"$f":"VLOOKUP(A362, localcont!$D$10:$L$1764, 8)","v":1255147.3},{"$f":"VLOOKUP(A362, localcont!$D$10:$L$1764, 9)*F362","v":1292052.7983479584}]
[767,154,"Leverett                     ",605,"Amherst Pelham",2782029,{"$f":"VLOOKUP(A363, localcont!$D$10:$L$1764, 8)","v":1447417.326102315},{"$f":"VLOOKUP(A363, localcont!$D$10:$L$1764, 9)*F363","v":1489976.2016520414}]
[771,155,"Lexington                    ",155,"Lexington",126027584,{"$f":"VLOOKUP(A364, localcont!$D$10:$L$1764, 8)","v":90646899.40639998},{"$f":"VLOOKUP(A364, localcont!$D$10:$L$1764, 9)*F364","v":123832899.80459659}]
[772,155,"Lexington                    ",830,"Minuteman",126027584,{"$f":"VLOOKUP(A365, localcont!$D$10:$L$1764, 8)","v":1606530.3954237476},{"$f":"VLOOKUP(A365, localcont!$D$10:$L$1764, 9)*F365","v":2194684.1954033999}]
[776,156,"Leyden                       ",156,"Leyden",933272,{"$f":"VLOOKUP(A366, localcont!$D$10:$L$1764, 8)","v":0},{"$f":"VLOOKUP(A366, localcont!$D$10:$L$1764, 9)*F366","v":0}]
[777,156,"Leyden                       ",750,"Pioneer",933272,{"$f":"VLOOKUP(A367, localcont!$D$10:$L$1764, 8)","v":823620.64266951056},{"$f":"VLOOKUP(A367, localcont!$D$10:$L$1764, 9)*F367","v":909681.54945363593}]
[778,156,"Leyden                       ",818,"Franklin County",933272,{"$f":"VLOOKUP(A368, localcont!$D$10:$L$1764, 8)","v":21358.663426260795},{"$f":"VLOOKUP(A368, localcont!$D$10:$L$1764, 9)*F368","v":23590.450546364002}]
[781,157,"Lincoln                      ",157,"Lincoln",25744728,{"$f":"VLOOKUP(A369, localcont!$D$10:$L$1764, 8)","v":7355301.9672800004},{"$f":"VLOOKUP(A369, localcont!$D$10:$L$1764, 9)*F369","v":19200218.88892518}]
[782,157,"Lincoln                      ",695,"Lincoln Sudbury",25744728,{"$f":"VLOOKUP(A370, localcont!$D$10:$L$1764, 8)","v":2507098.539763846},{"$f":"VLOOKUP(A370, localcont!$D$10:$L$1764, 9)*F370","v":6544509.111074822}]
[786,158,"Littleton                    ",158,"Littleton",18635072,{"$f":"VLOOKUP(A371, localcont!$D$10:$L$1764, 8)","v":20056951.579999998},{"$f":"VLOOKUP(A371, localcont!$D$10:$L$1764, 9)*F371","v":17838813.715620656}]
[787,158,"Littleton                    ",852,"Nashoba Valley",18635072,{"$f":"VLOOKUP(A372, localcont!$D$10:$L$1764, 8)","v":895267.70723468927},{"$f":"VLOOKUP(A372, localcont!$D$10:$L$1764, 9)*F372","v":796258.28437934699}]
[791,159,"Longmeadow                   ",159,"Longmeadow",29759139,{"$f":"VLOOKUP(A373, localcont!$D$10:$L$1764, 8)","v":33192700.990000002},{"$f":"VLOOKUP(A373, localcont!$D$10:$L$1764, 9)*F373","v":29759139}]
[796,160,"Lowell                       ",160,"Lowell",84865517,{"$f":"VLOOKUP(A374, localcont!$D$10:$L$1764, 8)","v":288791629.52999997},{"$f":"VLOOKUP(A374, localcont!$D$10:$L$1764, 9)*F374","v":74629900.443745509}]
[797,160,"Lowell                       ",828,"Greater Lowell",84865517,{"$f":"VLOOKUP(A375, localcont!$D$10:$L$1764, 8)","v":39608258.445328116},{"$f":"VLOOKUP(A375, localcont!$D$10:$L$1764, 9)*F375","v":10235616.556254487}]
[801,161,"Ludlow                       ",161,"Ludlow",19239132,{"$f":"VLOOKUP(A376, localcont!$D$10:$L$1764, 8)","v":32627792.160000004},{"$f":"VLOOKUP(A376, localcont!$D$10:$L$1764, 9)*F376","v":19239132}]
[806,162,"Lunenburg                    ",162,"Lunenburg",14534448,{"$f":"VLOOKUP(A377, localcont!$D$10:$L$1764, 8)","v":20659694.909999996},{"$f":"VLOOKUP(A377, localcont!$D$10:$L$1764, 9)*F377","v":13277979.318403123}]
[807,162,"Lunenburg                    ",832,"Montachusett",14534448,{"$f":"VLOOKUP(A378, localcont!$D$10:$L$1764, 8)","v":1954985.6949832402},{"$f":"VLOOKUP(A378, localcont!$D$10:$L$1764, 9)*F378","v":1256468.6815968778}]
[811,163,"Lynn                         ",163,"Lynn",78773573,{"$f":"VLOOKUP(A379, localcont!$D$10:$L$1764, 8)","v":329943497.06999999},{"$f":"VLOOKUP(A379, localcont!$D$10:$L$1764, 9)*F379","v":78773573}]
[816,164,"Lynnfield                    ",164,"Lynnfield",33087221,{"$f":"VLOOKUP(A380, localcont!$D$10:$L$1764, 8)","v":27452371.780520003},{"$f":"VLOOKUP(A380, localcont!$D$10:$L$1764, 9)*F380","v":32275760.788654082}]
[817,164,"Lynnfield                    ",817,"Essex North Shore",33087221,{"$f":"VLOOKUP(A381, localcont!$D$10:$L$1764, 8)","v":690193.10041479743},{"$f":"VLOOKUP(A381, localcont!$D$10:$L$1764, 9)*F381","v":811460.21134591906}]
[821,165,"Malden                       ",165,"Malden",67602543,{"$f":"VLOOKUP(A382, localcont!$D$10:$L$1764, 8)","v":117616659.13781999},{"$f":"VLOOKUP(A382, localcont!$D$10:$L$1764, 9)*F382","v":65563920.119380221}]
[822,165,"Malden                       ",853,"Northeast Metropolitan",67602543,{"$f":"VLOOKUP(A383, localcont!$D$10:$L$1764, 8)","v":3657133.557966453},{"$f":"VLOOKUP(A383, localcont!$D$10:$L$1764, 9)*F383","v":2038622.8806197795}]
[826,166,"Manchester                   ",166,"Manchester",23487406,{"$f":"VLOOKUP(A384, localcont!$D$10:$L$1764, 8)","v":0},{"$f":"VLOOKUP(A384, localcont!$D$10:$L$1764, 9)*F384","v":0}]
[827,166,"Manchester                   ",698,"Manchester Essex",23487406,{"$f":"VLOOKUP(A385, localcont!$D$10:$L$1764, 8)","v":8656939.6483180579},{"$f":"VLOOKUP(A385, localcont!$D$10:$L$1764, 9)*F385","v":22811879.183047455}]
[828,166,"Manchester                   ",817,"Essex North Shore",23487406,{"$f":"VLOOKUP(A386, localcont!$D$10:$L$1764, 8)","v":256357.4372042304},{"$f":"VLOOKUP(A386, localcont!$D$10:$L$1764, 9)*F386","v":675526.81695254461}]
[831,167,"Mansfield                    ",167,"Mansfield",37478038,{"$f":"VLOOKUP(A387, localcont!$D$10:$L$1764, 8)","v":46129087.005899996},{"$f":"VLOOKUP(A387, localcont!$D$10:$L$1764, 9)*F387","v":35702466.882130221}]
[832,167,"Mansfield                    ",872,"Southeastern",37478038,{"$f":"VLOOKUP(A388, localcont!$D$10:$L$1764, 8)","v":2070125.8640575996},{"$f":"VLOOKUP(A388, localcont!$D$10:$L$1764, 9)*F388","v":1602212.5062632307}]
[833,167,"Mansfield                    ",910,"Bristol County",37478038,{"$f":"VLOOKUP(A389, localcont!$D$10:$L$1764, 8)","v":223986.60866828781},{"$f":"VLOOKUP(A389, localcont!$D$10:$L$1764, 9)*F389","v":173358.61160654217}]
[836,168,"Marblehead                   ",168,"Marblehead",57874635,{"$f":"VLOOKUP(A390, localcont!$D$10:$L$1764, 8)","v":32681938.290000007},{"$f":"VLOOKUP(A390, localcont!$D$10:$L$1764, 9)*F390","v":56980720.366565108}]
[837,168,"Marblehead                   ",817,"Essex North Shore",57874635,{"$f":"VLOOKUP(A391, localcont!$D$10:$L$1764, 8)","v":512714.8744084608},{"$f":"VLOOKUP(A391, localcont!$D$10:$L$1764, 9)*F391","v":893914.63343489019}]
[841,169,"Marion                       ",169,"Marion",13241647,{"$f":"VLOOKUP(A392, localcont!$D$10:$L$1764, 8)","v":5068217.2599999988},{"$f":"VLOOKUP(A392, localcont!$D$10:$L$1764, 9)*F392","v":6921153.6569278305}]
[842,169,"Marion                       ",740,"Old Rochester",13241647,{"$f":"VLOOKUP(A393, localcont!$D$10:$L$1764, 8)","v":4081294.1834738483},{"$f":"VLOOKUP(A393, localcont!$D$10:$L$1764, 9)*F393","v":5573412.2500794912}]
[843,169,"Marion                       ",879,"Upper Cape Cod",13241647,{"$f":"VLOOKUP(A394, localcont!$D$10:$L$1764, 8)","v":547071.98796766053},{"$f":"VLOOKUP(A394, localcont!$D$10:$L$1764, 9)*F394","v":747081.09299267747}]
[846,170,"Marlborough                  ",170,"Marlborough",{"$f":"VLOOKUP(B395, town351, 7)","v":51702595},{"$f":"VLOOKUP(A395, localcont!$D$10:$L$1764, 8)","v":87221684.996450007},{"$f":"VLOOKUP(A395, localcont!$D$10:$L$1764, 9)*F395","v":45792678.279716954}]
[847,170,"Marlborough                  ",801,"Assabet Valley",51702595,{"$f":"VLOOKUP(A396, localcont!$D$10:$L$1764, 8)","v":11256666.216007294},{"$f":"VLOOKUP(A396, localcont!$D$10:$L$1764, 9)*F396","v":5909916.7202830464}]
[851,171,"Marshfield                   ",171,"Marshfield",44775515,{"$f":"VLOOKUP(A397, localcont!$D$10:$L$1764, 8)","v":49950295.557299994},{"$f":"VLOOKUP(A397, localcont!$D$10:$L$1764, 9)*F397","v":44775515}]
[856,172,"Mashpee                      ",172,"Mashpee",35584888,{"$f":"VLOOKUP(A398, localcont!$D$10:$L$1764, 8)","v":20496134.48},{"$f":"VLOOKUP(A398, localcont!$D$10:$L$1764, 9)*F398","v":33790182.768617854}]
[857,172,"Mashpee                      ",815,"Cape Cod",35584888,{"$f":"VLOOKUP(A399, localcont!$D$10:$L$1764, 8)","v":1088615.5906955034},{"$f":"VLOOKUP(A399, localcont!$D$10:$L$1764, 9)*F399","v":1794705.2313821444}]
[861,173,"Mattapoisett                 ",173,"Mattapoisett",14900400,{"$f":"VLOOKUP(A400, localcont!$D$10:$L$1764, 8)","v":5079932.7300000004},{"$f":"VLOOKUP(A400, localcont!$D$10:$L$1764, 9)*F400","v":7326582.6448397823}]
[862,173,"Mattapoisett                 ",740,"Old Rochester",14900400,{"$f":"VLOOKUP(A401, localcont!$D$10:$L$1764, 8)","v":4415826.4936010586},{"$f":"VLOOKUP(A401, localcont!$D$10:$L$1764, 9)*F401","v":6368768.9326234879}]
[863,173,"Mattapoisett                 ",855,"Old Colony",14900400,{"$f":"VLOOKUP(A402, localcont!$D$10:$L$1764, 8)","v":835527.99710663361},{"$f":"VLOOKUP(A402, localcont!$D$10:$L$1764, 9)*F402","v":1205048.4225367303}]
[866,174,"Maynard                      ",174,"Maynard",14114661,{"$f":"VLOOKUP(A403, localcont!$D$10:$L$1764, 8)","v":17768872.032999996},{"$f":"VLOOKUP(A403, localcont!$D$10:$L$1764, 9)*F403","v":13015294.112780774}]
[867,174,"Maynard                      ",801,"Assabet Valley",14114661,{"$f":"VLOOKUP(A404, localcont!$D$10:$L$1764, 8)","v":1500888.8287152452},{"$f":"VLOOKUP(A404, localcont!$D$10:$L$1764, 9)*F404","v":1099366.8872192258}]
[871,175,"Medfield                     ",175,"Medfield",32975690,{"$f":"VLOOKUP(A405, localcont!$D$10:$L$1764, 8)","v":29777088.9976},{"$f":"VLOOKUP(A405, localcont!$D$10:$L$1764, 9)*F405","v":32745697.264795914}]
[872,175,"Medfield                     ",878,"Tri County",32975690,{"$f":"VLOOKUP(A406, localcont!$D$10:$L$1764, 8)","v":123035.68129326899},{"$f":"VLOOKUP(A406, localcont!$D$10:$L$1764, 9)*F406","v":135301.64660225934}]
[873,175,"Medfield                     ",915,"Norfolk County",32975690,{"$f":"VLOOKUP(A407, localcont!$D$10:$L$1764, 8)","v":86106.731818094282},{"$f":"VLOOKUP(A407, localcont!$D$10:$L$1764, 9)*F407","v":94691.088601828858}]
[876,176,"Medford                      ",176,"Medford",91816823,{"$f":"VLOOKUP(A408, localcont!$D$10:$L$1764, 8)","v":71888258.341159999},{"$f":"VLOOKUP(A408, localcont!$D$10:$L$1764, 9)*F408","v":91816823}]
[881,177,"Medway                       ",177,"Medway",23070873,{"$f":"VLOOKUP(A409, localcont!$D$10:$L$1764, 8)","v":26890897.844290003},{"$f":"VLOOKUP(A409, localcont!$D$10:$L$1764, 9)*F409","v":21536970.549843378}]
[882,177,"Medway                       ",878,"Tri County",23070873,{"$f":"VLOOKUP(A410, localcont!$D$10:$L$1764, 8)","v":1743005.4848601574},{"$f":"VLOOKUP(A410, localcont!$D$10:$L$1764, 9)*F410","v":1395976.363936086}]
[883,177,"Medway                       ",915,"Norfolk County",23070873,{"$f":"VLOOKUP(A411, localcont!$D$10:$L$1764, 8)","v":172213.46363618856},{"$f":"VLOOKUP(A411, localcont!$D$10:$L$1764, 9)*F411","v":137926.08622053408}]
[886,178,"Melrose                      ",178,"Melrose",51340607,{"$f":"VLOOKUP(A412, localcont!$D$10:$L$1764, 8)","v":51330398.765020005},{"$f":"VLOOKUP(A412, localcont!$D$10:$L$1764, 9)*F412","v":49865864.003499694}]
[887,178,"Melrose                      ",853,"Northeast Metropolitan",51340607,{"$f":"VLOOKUP(A413, localcont!$D$10:$L$1764, 8)","v":1518055.4393075095},{"$f":"VLOOKUP(A413, localcont!$D$10:$L$1764, 9)*F413","v":1474742.9965003068}]
[891,179,"Mendon                       ",179,"Mendon",10274326,{"$f":"VLOOKUP(A414, localcont!$D$10:$L$1764, 8)","v":164907.6},{"$f":"VLOOKUP(A414, localcont!$D$10:$L$1764, 9)*F414","v":136161.78553168225}]
[892,179,"Mendon                       ",710,"Mendon Upton",10274326,{"$f":"VLOOKUP(A415, localcont!$D$10:$L$1764, 8)","v":10673478.869393477},{"$f":"VLOOKUP(A415, localcont!$D$10:$L$1764, 9)*F415","v":8812934.8840884045}]
[893,179,"Mendon                       ",805,"Blackstone Valley",10274326,{"$f":"VLOOKUP(A416, localcont!$D$10:$L$1764, 8)","v":1605005.3065124403},{"$f":"VLOOKUP(A416, localcont!$D$10:$L$1764, 9)*F416","v":1325229.3303799147}]
[896,180,"Merrimac                     ",180,"Merrimac",8324455,{"$f":"VLOOKUP(A417, localcont!$D$10:$L$1764, 8)","v":164907.6},{"$f":"VLOOKUP(A417, localcont!$D$10:$L$1764, 9)*F417","v":124758.89817860791}]
[897,180,"Merrimac                     ",745,"Pentucket",8324455,{"$f":"VLOOKUP(A418, localcont!$D$10:$L$1764, 8)","v":10006461.846343849},{"$f":"VLOOKUP(A418, localcont!$D$10:$L$1764, 9)*F418","v":7570270.5916291121}]
[898,180,"Merrimac                     ",885,"Whittier",8324455,{"$f":"VLOOKUP(A419, localcont!$D$10:$L$1764, 8)","v":831981.1394613802},{"$f":"VLOOKUP(A419, localcont!$D$10:$L$1764, 9)*F419","v":629425.51019228052}]
[901,181,"Methuen                      ",181,"Methuen",54926314,{"$f":"VLOOKUP(A420, localcont!$D$10:$L$1764, 8)","v":109298849.82999998},{"$f":"VLOOKUP(A420, localcont!$D$10:$L$1764, 9)*F420","v":50210611.696584426}]
[902,181,"Methuen                      ",823,"Greater Lawrence",54926314,{"$f":"VLOOKUP(A421, localcont!$D$10:$L$1764, 8)","v":10265177.429397166},{"$f":"VLOOKUP(A421, localcont!$D$10:$L$1764, 9)*F421","v":4715702.3034155732}]
[906,182,"Middleborough                ",182,"Middleborough",25644251,{"$f":"VLOOKUP(A422, localcont!$D$10:$L$1764, 8)","v":44333813.130000003},{"$f":"VLOOKUP(A422, localcont!$D$10:$L$1764, 9)*F422","v":23926907.398216587}]
[907,182,"Middleborough                ",810,"Bristol Plymouth",25644251,{"$f":"VLOOKUP(A423, localcont!$D$10:$L$1764, 8)","v":3182040.5811050124},{"$f":"VLOOKUP(A423, localcont!$D$10:$L$1764, 9)*F423","v":1717343.601783412}]
[911,183,"Middlefield                  ",183,"Middlefield",411177,{"$f":"VLOOKUP(A424, localcont!$D$10:$L$1764, 8)","v":49472.28},{"$f":"VLOOKUP(A424, localcont!$D$10:$L$1764, 9)*F424","v":61324.741806569466}]
[912,183,"Middlefield                  ",672,"Gateway",411177,{"$f":"VLOOKUP(A425, localcont!$D$10:$L$1764, 8)","v":282235.00606933748},{"$f":"VLOOKUP(A425, localcont!$D$10:$L$1764, 9)*F425","v":349852.25819343049}]
[916,184,"Middleton                    ",184,"Middleton",18819623,{"$f":"VLOOKUP(A426, localcont!$D$10:$L$1764, 8)","v":8542770.1967999991},{"$f":"VLOOKUP(A426, localcont!$D$10:$L$1764, 9)*F426","v":9773802.3700948842}]
[917,184,"Middleton                    ",705,"Masconomet",18819623,{"$f":"VLOOKUP(A427, localcont!$D$10:$L$1764, 8)","v":6920489.2346745217},{"$f":"VLOOKUP(A427, localcont!$D$10:$L$1764, 9)*F427","v":7917747.1154982923}]
[918,184,"Middleton                    ",817,"Essex North Shore",18819623,{"$f":"VLOOKUP(A428, localcont!$D$10:$L$1764, 8)","v":985990.14321797481},{"$f":"VLOOKUP(A428, localcont!$D$10:$L$1764, 9)*F428","v":1128073.5144068224}]
[921,185,"Milford                      ",185,"Milford",32865883,{"$f":"VLOOKUP(A429, localcont!$D$10:$L$1764, 8)","v":75437511.279999986},{"$f":"VLOOKUP(A429, localcont!$D$10:$L$1764, 9)*F429","v":31607932.901263647}]
[922,185,"Milford                      ",805,"Blackstone Valley",32865883,{"$f":"VLOOKUP(A430, localcont!$D$10:$L$1764, 8)","v":3002304.0437201937},{"$f":"VLOOKUP(A430, localcont!$D$10:$L$1764, 9)*F430","v":1257950.0987363488}]
[926,186,"Millbury                     ",186,"Millbury",15931963,{"$f":"VLOOKUP(A431, localcont!$D$10:$L$1764, 8)","v":22434599.240000002},{"$f":"VLOOKUP(A431, localcont!$D$10:$L$1764, 9)*F431","v":14775419.432167467}]
[927,186,"Millbury                     ",805,"Blackstone Valley",15931963,{"$f":"VLOOKUP(A432, localcont!$D$10:$L$1764, 8)","v":1756064.6293014532},{"$f":"VLOOKUP(A432, localcont!$D$10:$L$1764, 9)*F432","v":1156543.5678325335}]
[931,187,"Millis                       ",187,"Millis",12668719,{"$f":"VLOOKUP(A433, localcont!$D$10:$L$1764, 8)","v":14054851.192480003},{"$f":"VLOOKUP(A433, localcont!$D$10:$L$1764, 9)*F433","v":11882533.544308882}]
[932,187,"Millis                       ",878,"Tri County",12668719,{"$f":"VLOOKUP(A434, localcont!$D$10:$L$1764, 8)","v":779225.98146012693},{"$f":"VLOOKUP(A434, localcont!$D$10:$L$1764, 9)*F434","v":658788.82220048399}]
[933,187,"Millis                       ",915,"Norfolk County",12668719,{"$f":"VLOOKUP(A435, localcont!$D$10:$L$1764, 8)","v":150686.780681665},{"$f":"VLOOKUP(A435, localcont!$D$10:$L$1764, 9)*F435","v":127396.63349063577}]
[936,188,"Millville                    ",188,"Millville",3149051,{"$f":"VLOOKUP(A436, localcont!$D$10:$L$1764, 8)","v":98944.56},{"$f":"VLOOKUP(A436, localcont!$D$10:$L$1764, 9)*F436","v":52082.136885900196}]
[937,188,"Millville                    ",622,"Blackstone Millville",3149051,{"$f":"VLOOKUP(A437, localcont!$D$10:$L$1764, 8)","v":5392614.2090010587},{"$f":"VLOOKUP(A437, localcont!$D$10:$L$1764, 9)*F437","v":2838547.8838456962}]
[938,188,"Millville                    ",805,"Blackstone Valley",3149051,{"$f":"VLOOKUP(A438, localcont!$D$10:$L$1764, 8)","v":490942.79953408649},{"$f":"VLOOKUP(A438, localcont!$D$10:$L$1764, 9)*F438","v":258420.97926840396}]
[941,189,"Milton                       ",189,"Milton",62892959,{"$f":"VLOOKUP(A439, localcont!$D$10:$L$1764, 8)","v":53957475.515560001},{"$f":"VLOOKUP(A439, localcont!$D$10:$L$1764, 9)*F439","v":61430139.364042431}]
[942,189,"Milton                       ",806,"Blue Hills",62892959,{"$f":"VLOOKUP(A440, localcont!$D$10:$L$1764, 8)","v":1112661.607590846},{"$f":"VLOOKUP(A440, localcont!$D$10:$L$1764, 9)*F440","v":1266756.0327134733}]
[943,189,"Milton                       ",915,"Norfolk County",62892959,{"$f":"VLOOKUP(A441, localcont!$D$10:$L$1764, 8)","v":172213.46363618856},{"$f":"VLOOKUP(A441, localcont!$D$10:$L$1764, 9)*F441","v":196063.60324409112}]
[946,190,"Monroe                       ",190,"Monroe",122673,{"$f":"VLOOKUP(A442, localcont!$D$10:$L$1764, 8)","v":203019.31000000003},{"$f":"VLOOKUP(A442, localcont!$D$10:$L$1764, 9)*F442","v":80649.445432516499}]
[947,190,"Monroe                       ",851,"Northern Berkshire",122673,{"$f":"VLOOKUP(A443, localcont!$D$10:$L$1764, 8)","v":105786.13413004395},{"$f":"VLOOKUP(A443, localcont!$D$10:$L$1764, 9)*F443","v":42023.554567483508}]
[951,191,"Monson                       ",191,"Monson",7718835,{"$f":"VLOOKUP(A444, localcont!$D$10:$L$1764, 8)","v":11361547.17},{"$f":"VLOOKUP(A444, localcont!$D$10:$L$1764, 9)*F444","v":6681656.7926227357}]
[952,191,"Monson                       ",860,"Pathfinder",7718835,{"$f":"VLOOKUP(A445, localcont!$D$10:$L$1764, 8)","v":1763626.8207944422},{"$f":"VLOOKUP(A445, localcont!$D$10:$L$1764, 9)*F445","v":1037178.2073772639}]
[956,192,"Montague                     ",192,"Montague",7069793,{"$f":"VLOOKUP(A446, localcont!$D$10:$L$1764, 8)","v":16490.760000000002},{"$f":"VLOOKUP(A446, localcont!$D$10:$L$1764, 9)*F446","v":7814.2645283112079}]
[957,192,"Montague                     ",674,"Gill Montague",7069793,{"$f":"VLOOKUP(A447, localcont!$D$10:$L$1764, 8)","v":12916825.025177138},{"$f":"VLOOKUP(A447, localcont!$D$10:$L$1764, 9)*F447","v":6120729.8882916383}]
[958,192,"Montague                     ",818,"Franklin County",7069793,{"$f":"VLOOKUP(A448, localcont!$D$10:$L$1764, 8)","v":1986355.6938579136},{"$f":"VLOOKUP(A448, localcont!$D$10:$L$1764, 9)*F448","v":941248.84718005056}]
[961,193,"Monterey                     ",193,"Monterey",2591837,{"$f":"VLOOKUP(A449, localcont!$D$10:$L$1764, 8)","v":0},{"$f":"VLOOKUP(A449, localcont!$D$10:$L$1764, 9)*F449","v":0}]
[962,193,"Monterey                     ",765,"Southern Berkshire",2591837,{"$f":"VLOOKUP(A450, localcont!$D$10:$L$1764, 8)","v":1071299.8930136755},{"$f":"VLOOKUP(A450, localcont!$D$10:$L$1764, 9)*F450","v":2591837}]
[966,194,"Montgomery                   ",194,"Montgomery",943283,{"$f":"VLOOKUP(A451, localcont!$D$10:$L$1764, 8)","v":49472.28},{"$f":"VLOOKUP(A451, localcont!$D$10:$L$1764, 9)*F451","v":43224.399505806126}]
[967,194,"Montgomery                   ",672,"Gateway",943283,{"$f":"VLOOKUP(A452, localcont!$D$10:$L$1764, 8)","v":1030157.77221094},{"$f":"VLOOKUP(A452, localcont!$D$10:$L$1764, 9)*F452","v":900058.60049419384}]
[971,195,"Mount Washington             ",195,"Mount Washington",443102,{"$f":"VLOOKUP(A453, localcont!$D$10:$L$1764, 8)","v":78957.830000000016},{"$f":"VLOOKUP(A453, localcont!$D$10:$L$1764, 9)*F453","v":443102}]
[976,196,"Nahant                       ",196,"Nahant",7999789,{"$f":"VLOOKUP(A454, localcont!$D$10:$L$1764, 8)","v":2954392.4200000004},{"$f":"VLOOKUP(A454, localcont!$D$10:$L$1764, 9)*F454","v":7499234.5512984945}]
[977,196,"Nahant                       ",817,"Essex North Shore",7999789,{"$f":"VLOOKUP(A455, localcont!$D$10:$L$1764, 8)","v":197198.02853545154},{"$f":"VLOOKUP(A455, localcont!$D$10:$L$1764, 9)*F455","v":500554.44870150479}]
[981,197,"Nantucket                    ",197,"Nantucket",110087374,{"$f":"VLOOKUP(A456, localcont!$D$10:$L$1764, 8)","v":25201462.489999998},{"$f":"VLOOKUP(A456, localcont!$D$10:$L$1764, 9)*F456","v":110087374}]
[986,198,"Natick                       ",198,"Natick",75928967,{"$f":"VLOOKUP(A457, localcont!$D$10:$L$1764, 8)","v":65231071.033819996},{"$f":"VLOOKUP(A457, localcont!$D$10:$L$1764, 9)*F457","v":74721326.694376796}]
[987,198,"Natick                       ",829,"South Middlesex",75928967,{"$f":"VLOOKUP(A458, localcont!$D$10:$L$1764, 8)","v":1054259.5272915491},{"$f":"VLOOKUP(A458, localcont!$D$10:$L$1764, 9)*F458","v":1207640.3056232007}]
[991,199,"Needham                      ",199,"Needham",{"$f":"VLOOKUP(B459, town351, 7)","v":108333380},{"$f":"VLOOKUP(A459, localcont!$D$10:$L$1764, 8)","v":70773642.887999997},{"$f":"VLOOKUP(A459, localcont!$D$10:$L$1764, 9)*F459","v":107069812.62629971}]
[992,199,"Needham                      ",830,"Minuteman",108333380,{"$f":"VLOOKUP(A460, localcont!$D$10:$L$1764, 8)","v":813697.21328331891},{"$f":"VLOOKUP(A460, localcont!$D$10:$L$1764, 9)*F460","v":1231000.7596847781}]
[993,199,"Needham                      ",915,"Norfolk County",108333380,{"$f":"VLOOKUP(A461, localcont!$D$10:$L$1764, 8)","v":21526.682954523571},{"$f":"VLOOKUP(A461, localcont!$D$10:$L$1764, 9)*F461","v":32566.614015532014}]
[996,200,"New Ashford                  ",200,"New Ashford",270875,{"$f":"VLOOKUP(A462, localcont!$D$10:$L$1764, 8)","v":223427.56},{"$f":"VLOOKUP(A462, localcont!$D$10:$L$1764, 9)*F462","v":270875}]
[1001,201,"New Bedford                  ",201,"New Bedford",60864506,{"$f":"VLOOKUP(A463, localcont!$D$10:$L$1764, 8)","v":259908138.25999999},{"$f":"VLOOKUP(A463, localcont!$D$10:$L$1764, 9)*F463","v":53369746.156239606}]
[1002,201,"New Bedford                  ",825,"Greater New Bedford",60864506,{"$f":"VLOOKUP(A464, localcont!$D$10:$L$1764, 8)","v":35379192.734479904},{"$f":"VLOOKUP(A464, localcont!$D$10:$L$1764, 9)*F464","v":7264791.8918299647}]
[1003,201,"New Bedford                  ",910,"Bristol County",60864506,{"$f":"VLOOKUP(A465, localcont!$D$10:$L$1764, 8)","v":1119933.043539769},{"$f":"VLOOKUP(A465, localcont!$D$10:$L$1764, 9)*F465","v":229967.9519304265}]
[1006,202,"New Braintree                ",202,"New Braintree",1094639,{"$f":"VLOOKUP(A466, localcont!$D$10:$L$1764, 8)","v":32981.520000000004},{"$f":"VLOOKUP(A466, localcont!$D$10:$L$1764, 9)*F466","v":20182.267475733101}]
[1007,202,"New Braintree                ",753,"Quabbin",1094639,{"$f":"VLOOKUP(A467, localcont!$D$10:$L$1764, 8)","v":1585870.8839119067},{"$f":"VLOOKUP(A467, localcont!$D$10:$L$1764, 9)*F467","v":970436.48567705113}]
[1008,202,"New Braintree                ",860,"Pathfinder",1094639,{"$f":"VLOOKUP(A468, localcont!$D$10:$L$1764, 8)","v":169988.12724692444},{"$f":"VLOOKUP(A468, localcont!$D$10:$L$1764, 9)*F468","v":104020.24684721572}]
[1011,203,"Newbury                      ",203,"Newbury",15120869,{"$f":"VLOOKUP(A469, localcont!$D$10:$L$1764, 8)","v":17004.397409999998},{"$f":"VLOOKUP(A469, localcont!$D$10:$L$1764, 9)*F469","v":28517.133230558386}]
[1012,203,"Newbury                      ",773,"Triton",15120869,{"$f":"VLOOKUP(A470, localcont!$D$10:$L$1764, 8)","v":8666581.6018287875},{"$f":"VLOOKUP(A470, localcont!$D$10:$L$1764, 9)*F470","v":14534244.068391111}]
[1013,203,"Newbury                      ",885,"Whittier",15120869,{"$f":"VLOOKUP(A471, localcont!$D$10:$L$1764, 8)","v":332792.45583759085},{"$f":"VLOOKUP(A471, localcont!$D$10:$L$1764, 9)*F471","v":558107.79837833124}]
[1016,204,"Newburyport                  ",204,"Newburyport",40891748,{"$f":"VLOOKUP(A472, localcont!$D$10:$L$1764, 8)","v":27448207.989999998},{"$f":"VLOOKUP(A472, localcont!$D$10:$L$1764, 9)*F472","v":40012456.83297658}]
[1017,204,"Newburyport                  ",885,"Whittier",40891748,{"$f":"VLOOKUP(A473, localcont!$D$10:$L$1764, 8)","v":603186.32612276031},{"$f":"VLOOKUP(A473, localcont!$D$10:$L$1764, 9)*F473","v":879291.16702342068}]
[1021,205,"New Marlborough              ",205,"New Marlborough",2986269,{"$f":"VLOOKUP(A474, localcont!$D$10:$L$1764, 8)","v":0},{"$f":"VLOOKUP(A474, localcont!$D$10:$L$1764, 9)*F474","v":0}]
[1022,205,"New Marlborough              ",765,"Southern Berkshire",2986269,{"$f":"VLOOKUP(A475, localcont!$D$10:$L$1764, 8)","v":1627819.3179774729},{"$f":"VLOOKUP(A475, localcont!$D$10:$L$1764, 9)*F475","v":2986269}]
[1026,206,"New Salem                    ",206,"New Salem",928197,{"$f":"VLOOKUP(A476, localcont!$D$10:$L$1764, 8)","v":0},{"$f":"VLOOKUP(A476, localcont!$D$10:$L$1764, 9)*F476","v":0}]
[1027,206,"New Salem                    ",728,"New Salem Wendell",928197,{"$f":"VLOOKUP(A477, localcont!$D$10:$L$1764, 8)","v":640437.94399443094},{"$f":"VLOOKUP(A477, localcont!$D$10:$L$1764, 9)*F477","v":414349.70939967287}]
[1028,206,"New Salem                    ",755,"Ralph C Mahar",928197,{"$f":"VLOOKUP(A478, localcont!$D$10:$L$1764, 8)","v":559280.67882690253},{"$f":"VLOOKUP(A478, localcont!$D$10:$L$1764, 9)*F478","v":361842.68736393604}]
[1029,206,"New Salem                    ",818,"Franklin County",928197,{"$f":"VLOOKUP(A479, localcont!$D$10:$L$1764, 8)","v":234945.29709082618},{"$f":"VLOOKUP(A479, localcont!$D$10:$L$1764, 9)*F479","v":152004.60323639124}]
[1031,207,"Newton                       ",207,"Newton",347632893,{"$f":"VLOOKUP(A480, localcont!$D$10:$L$1764, 8)","v":156764603.61603001},{"$f":"VLOOKUP(A480, localcont!$D$10:$L$1764, 9)*F480","v":347632893}]
[1036,208,"Norfolk                      ",208,"Norfolk",19667025,{"$f":"VLOOKUP(A481, localcont!$D$10:$L$1764, 8)","v":11993145.444000002},{"$f":"VLOOKUP(A481, localcont!$D$10:$L$1764, 9)*F481","v":10812392.767657017}]
[1037,208,"Norfolk                      ",690,"King Philip",19667025,{"$f":"VLOOKUP(A482, localcont!$D$10:$L$1764, 8)","v":8700999.626213897},{"$f":"VLOOKUP(A482, localcont!$D$10:$L$1764, 9)*F482","v":7844366.2564709196}]
[1038,208,"Norfolk                      ",878,"Tri County",19667025,{"$f":"VLOOKUP(A483, localcont!$D$10:$L$1764, 8)","v":840743.82210676139},{"$f":"VLOOKUP(A483, localcont!$D$10:$L$1764, 9)*F483","v":757970.66449713474}]
[1039,208,"Norfolk                      ",915,"Norfolk County",19667025,{"$f":"VLOOKUP(A484, localcont!$D$10:$L$1764, 8)","v":279846.8784088064},{"$f":"VLOOKUP(A484, localcont!$D$10:$L$1764, 9)*F484","v":252295.31137492729}]
[1041,209,"North Adams                  ",209,"North Adams",6934819,{"$f":"VLOOKUP(A485, localcont!$D$10:$L$1764, 8)","v":21755055.919999998},{"$f":"VLOOKUP(A485, localcont!$D$10:$L$1764, 9)*F485","v":5980904.8717220249}]
[1042,209,"North Adams                  ",851,"Northern Berkshire",6934819,{"$f":"VLOOKUP(A486, localcont!$D$10:$L$1764, 8)","v":3469785.1995078409},{"$f":"VLOOKUP(A486, localcont!$D$10:$L$1764, 9)*F486","v":953914.12827797607}]
[1046,210,"Northampton                  ",210,"Northampton",34727955,{"$f":"VLOOKUP(A487, localcont!$D$10:$L$1764, 8)","v":35618666.020000003},{"$f":"VLOOKUP(A487, localcont!$D$10:$L$1764, 9)*F487","v":31506811.605040461}]
[1047,210,"Northampton                  ",406,"Northampton Smith",34727955,{"$f":"VLOOKUP(A488, localcont!$D$10:$L$1764, 8)","v":3641524.6399999997},{"$f":"VLOOKUP(A488, localcont!$D$10:$L$1764, 9)*F488","v":3221143.3949595392}]
[1051,211,"North Andover                ",211,"North Andover",54116008,{"$f":"VLOOKUP(A489, localcont!$D$10:$L$1764, 8)","v":57569717.300000004},{"$f":"VLOOKUP(A489, localcont!$D$10:$L$1764, 9)*F489","v":53223366.778014347}]
[1052,211,"North Andover                ",823,"Greater Lawrence",54116008,{"$f":"VLOOKUP(A490, localcont!$D$10:$L$1764, 8)","v":965536.49103740149},{"$f":"VLOOKUP(A490, localcont!$D$10:$L$1764, 9)*F490","v":892641.22198565281}]
[1056,212,"North Attleborough           ",212,"North Attleborough",38596242,{"$f":"VLOOKUP(A491, localcont!$D$10:$L$1764, 8)","v":51608133.329999998},{"$f":"VLOOKUP(A491, localcont!$D$10:$L$1764, 9)*F491","v":35109787.854821593}]
[1057,212,"North Attleborough           ",878,"Tri County",38596242,{"$f":"VLOOKUP(A492, localcont!$D$10:$L$1764, 8)","v":4880415.3576467857},{"$f":"VLOOKUP(A492, localcont!$D$10:$L$1764, 9)*F492","v":3320219.8334653829}]
[1058,212,"North Attleborough           ",910,"Bristol County",38596242,{"$f":"VLOOKUP(A493, localcont!$D$10:$L$1764, 8)","v":244349.02763813213},{"$f":"VLOOKUP(A493, localcont!$D$10:$L$1764, 9)*F493","v":166234.31171302852}]
[1061,213,"Northborough                 ",213,"Northborough",28311454,{"$f":"VLOOKUP(A494, localcont!$D$10:$L$1764, 8)","v":19538316.099999998},{"$f":"VLOOKUP(A494, localcont!$D$10:$L$1764, 9)*F494","v":17789394.410497151}]
[1062,213,"Northborough                 ",730,"Northboro Southboro",28311454,{"$f":"VLOOKUP(A495, localcont!$D$10:$L$1764, 8)","v":10143909.417489292},{"$f":"VLOOKUP(A495, localcont!$D$10:$L$1764, 9)*F495","v":9235903.6760631297}]
[1063,213,"Northborough                 ",801,"Assabet Valley",28311454,{"$f":"VLOOKUP(A496, localcont!$D$10:$L$1764, 8)","v":1412601.250542918},{"$f":"VLOOKUP(A496, localcont!$D$10:$L$1764, 9)*F496","v":1286155.9134397192}]
[1066,214,"Northbridge                  ",214,"Northbridge",18459374,{"$f":"VLOOKUP(A497, localcont!$D$10:$L$1764, 8)","v":28109617.770000007},{"$f":"VLOOKUP(A497, localcont!$D$10:$L$1764, 9)*F497","v":16820967.780570231}]
[1067,214,"Northbridge                  ",805,"Blackstone Valley",18459374,{"$f":"VLOOKUP(A498, localcont!$D$10:$L$1764, 8)","v":2737950.2286045239},{"$f":"VLOOKUP(A498, localcont!$D$10:$L$1764, 9)*F498","v":1638406.21942977}]
[1071,215,"North Brookfield             ",215,"North Brookfield",4293256,{"$f":"VLOOKUP(A499, localcont!$D$10:$L$1764, 8)","v":8281136.6699999999},{"$f":"VLOOKUP(A499, localcont!$D$10:$L$1764, 9)*F499","v":3842810.7782691442}]
[1072,215,"North Brookfield             ",876,"Southern Worcester",4293256,{"$f":"VLOOKUP(A500, localcont!$D$10:$L$1764, 8)","v":970695.3214026863},{"$f":"VLOOKUP(A500, localcont!$D$10:$L$1764, 9)*F500","v":450445.22173085617}]
[1076,216,"Northfield                   ",216,"Northfield",3713031,{"$f":"VLOOKUP(A501, localcont!$D$10:$L$1764, 8)","v":16490.760000000002},{"$f":"VLOOKUP(A501, localcont!$D$10:$L$1764, 9)*F501","v":12756.628170038726}]
[1077,216,"Northfield                   ",750,"Pioneer",3713031,{"$f":"VLOOKUP(A502, localcont!$D$10:$L$1764, 8)","v":3929075.5250000008},{"$f":"VLOOKUP(A502, localcont!$D$10:$L$1764, 9)*F502","v":3039384.2081520013}]
[1078,216,"Northfield                   ",818,"Franklin County",3713031,{"$f":"VLOOKUP(A503, localcont!$D$10:$L$1764, 8)","v":854346.53501708712},{"$f":"VLOOKUP(A503, localcont!$D$10:$L$1764, 9)*F503","v":660890.16367795959}]
[1081,217,"North Reading                ",217,"North Reading",31253784,{"$f":"VLOOKUP(A504, localcont!$D$10:$L$1764, 8)","v":29062440.792260002},{"$f":"VLOOKUP(A504, localcont!$D$10:$L$1764, 9)*F504","v":30294739.35899201}]
[1082,217,"North Reading                ",853,"Northeast Metropolitan",31253784,{"$f":"VLOOKUP(A505, localcont!$D$10:$L$1764, 8)","v":920033.5994360029},{"$f":"VLOOKUP(A505, localcont!$D$10:$L$1764, 9)*F505","v":959044.64100799023}]
[1086,218,"Norton                       ",218,"Norton",23662225,{"$f":"VLOOKUP(A506, localcont!$D$10:$L$1764, 8)","v":29128867.219999995},{"$f":"VLOOKUP(A506, localcont!$D$10:$L$1764, 9)*F506","v":21773396.58958124}]
[1087,218,"Norton                       ",872,"Southeastern",23662225,{"$f":"VLOOKUP(A507, localcont!$D$10:$L$1764, 8)","v":2262199.3981051086},{"$f":"VLOOKUP(A507, localcont!$D$10:$L$1764, 9)*F507","v":1690960.5268081042}]
[1088,218,"Norton                       ",910,"Bristol County",23662225,{"$f":"VLOOKUP(A508, localcont!$D$10:$L$1764, 8)","v":264711.44660797651},{"$f":"VLOOKUP(A508, localcont!$D$10:$L$1764, 9)*F508","v":197867.88361065669}]
[1091,219,"Norwell                      ",219,"Norwell",30263072,{"$f":"VLOOKUP(A509, localcont!$D$10:$L$1764, 8)","v":25956168.805050001},{"$f":"VLOOKUP(A509, localcont!$D$10:$L$1764, 9)*F509","v":29644903.309317056}]
[1092,219,"Norwell                      ",873,"South Shore",30263072,{"$f":"VLOOKUP(A510, localcont!$D$10:$L$1764, 8)","v":541249.56043692899},{"$f":"VLOOKUP(A510, localcont!$D$10:$L$1764, 9)*F510","v":618168.6906829396}]
[1096,220,"Norwood                      ",220,"Norwood",47938082,{"$f":"VLOOKUP(A511, localcont!$D$10:$L$1764, 8)","v":53483623.868720002},{"$f":"VLOOKUP(A511, localcont!$D$10:$L$1764, 9)*F511","v":45756525.878858708}]
[1097,220,"Norwood                      ",806,"Blue Hills",47938082,{"$f":"VLOOKUP(A512, localcont!$D$10:$L$1764, 8)","v":2356224.5806381637},{"$f":"VLOOKUP(A512, localcont!$D$10:$L$1764, 9)*F512","v":2015806.7685355102}]
[1098,220,"Norwood                      ",915,"Norfolk County",47938082,{"$f":"VLOOKUP(A513, localcont!$D$10:$L$1764, 8)","v":193740.14659071216},{"$f":"VLOOKUP(A513, localcont!$D$10:$L$1764, 9)*F513","v":165749.3526057878}]
[1101,221,"Oak Bluffs                   ",221,"Oak Bluffs",17685546,{"$f":"VLOOKUP(A514, localcont!$D$10:$L$1764, 8)","v":6470637.9299999997},{"$f":"VLOOKUP(A514, localcont!$D$10:$L$1764, 9)*F514","v":10673195.48115346}]
[1102,221,"Oak Bluffs                   ",700,"Marthas Vineyard",17685546,{"$f":"VLOOKUP(A515, localcont!$D$10:$L$1764, 8)","v":4251246.1545209112},{"$f":"VLOOKUP(A515, localcont!$D$10:$L$1764, 9)*F515","v":7012350.5188465426}]
[1106,222,"Oakham                       ",222,"Oakham",2049618,{"$f":"VLOOKUP(A516, localcont!$D$10:$L$1764, 8)","v":0},{"$f":"VLOOKUP(A516, localcont!$D$10:$L$1764, 9)*F516","v":0}]
[1107,222,"Oakham                       ",753,"Quabbin",2049618,{"$f":"VLOOKUP(A517, localcont!$D$10:$L$1764, 8)","v":3359895.9405784071},{"$f":"VLOOKUP(A517, localcont!$D$10:$L$1764, 9)*F517","v":1893911.8093270068}]
[1108,222,"Oakham                       ",860,"Pathfinder",2049618,{"$f":"VLOOKUP(A518, localcont!$D$10:$L$1764, 8)","v":276230.7069361473},{"$f":"VLOOKUP(A518, localcont!$D$10:$L$1764, 9)*F518","v":155706.19067299308}]
[1111,223,"Orange                       ",223,"Orange",5139807,{"$f":"VLOOKUP(A519, localcont!$D$10:$L$1764, 8)","v":9212499.9199999981},{"$f":"VLOOKUP(A519, localcont!$D$10:$L$1764, 9)*F519","v":2623466.6540140952}]
[1112,223,"Orange                       ",755,"Ralph C Mahar",5139807,{"$f":"VLOOKUP(A520, localcont!$D$10:$L$1764, 8)","v":6807244.8341141641},{"$f":"VLOOKUP(A520, localcont!$D$10:$L$1764, 9)*F520","v":1938516.1447044252}]
[1113,223,"Orange                       ",818,"Franklin County",5139807,{"$f":"VLOOKUP(A521, localcont!$D$10:$L$1764, 8)","v":2029073.0205908264},{"$f":"VLOOKUP(A521, localcont!$D$10:$L$1764, 9)*F521","v":577824.20128147921}]
[1116,224,"Orleans                      ",224,"Orleans",22906548,{"$f":"VLOOKUP(A522, localcont!$D$10:$L$1764, 8)","v":2114047.8800000004},{"$f":"VLOOKUP(A522, localcont!$D$10:$L$1764, 9)*F522","v":8042819.2427372877}]
[1117,224,"Orleans                      ",660,"Nauset",{"$f":"VLOOKUP(B523, town351, 7)","v":22906548},{"$f":"VLOOKUP(A523, localcont!$D$10:$L$1764, 8)","v":3602105.5099801235},{"$f":"VLOOKUP(A523, localcont!$D$10:$L$1764, 9)*F523","v":13704081.058957919}]
[1118,224,"Orleans                      ",815,"Cape Cod",22906548,{"$f":"VLOOKUP(A524, localcont!$D$10:$L$1764, 8)","v":304812.3654354029},{"$f":"VLOOKUP(A524, localcont!$D$10:$L$1764, 9)*F524","v":1159647.6983047933}]
[1121,225,"Otis                         ",225,"Otis",3697738,{"$f":"VLOOKUP(A525, localcont!$D$10:$L$1764, 8)","v":0},{"$f":"VLOOKUP(A525, localcont!$D$10:$L$1764, 9)*F525","v":0}]
[1122,225,"Otis                         ",662,"Farmington River",3697738,{"$f":"VLOOKUP(A526, localcont!$D$10:$L$1764, 8)","v":1750236.4864413003},{"$f":"VLOOKUP(A526, localcont!$D$10:$L$1764, 9)*F526","v":3697738}]
[1126,226,"Oxford                       ",226,"Oxford",13390999,{"$f":"VLOOKUP(A527, localcont!$D$10:$L$1764, 8)","v":21950126.810000002},{"$f":"VLOOKUP(A527, localcont!$D$10:$L$1764, 9)*F527","v":11736606.207316181}]
[1127,226,"Oxford                       ",876,"Southern Worcester",13390999,{"$f":"VLOOKUP(A528, localcont!$D$10:$L$1764, 8)","v":3094091.3370956355},{"$f":"VLOOKUP(A528, localcont!$D$10:$L$1764, 9)*F528","v":1654392.7926838184}]
[1131,227,"Palmer                       ",227,"Palmer",9479798,{"$f":"VLOOKUP(A529, localcont!$D$10:$L$1764, 8)","v":19001379.489999998},{"$f":"VLOOKUP(A529, localcont!$D$10:$L$1764, 9)*F529","v":7825803.0194942122}]
[1132,227,"Palmer                       ",860,"Pathfinder",9479798,{"$f":"VLOOKUP(A530, localcont!$D$10:$L$1764, 8)","v":4015969.5076476452},{"$f":"VLOOKUP(A530, localcont!$D$10:$L$1764, 9)*F530","v":1653994.980505788}]
[1136,228,"Paxton                       ",228,"Paxton",5615261,{"$f":"VLOOKUP(A531, localcont!$D$10:$L$1764, 8)","v":0},{"$f":"VLOOKUP(A531, localcont!$D$10:$L$1764, 9)*F531","v":0}]
[1137,228,"Paxton                       ",775,"Wachusett",5615261,{"$f":"VLOOKUP(A532, localcont!$D$10:$L$1764, 8)","v":7935457.5942137577},{"$f":"VLOOKUP(A532, localcont!$D$10:$L$1764, 9)*F532","v":5155425.7069355287}]
[1138,228,"Paxton                       ",876,"Southern Worcester",5615261,{"$f":"VLOOKUP(A533, localcont!$D$10:$L$1764, 8)","v":707798.67189764965},{"$f":"VLOOKUP(A533, localcont!$D$10:$L$1764, 9)*F533","v":459835.29306447145}]
[1141,229,"Peabody                      ",229,"Peabody",66868172,{"$f":"VLOOKUP(A534, localcont!$D$10:$L$1764, 8)","v":91177548.530000001},{"$f":"VLOOKUP(A534, localcont!$D$10:$L$1764, 9)*F534","v":61765214.245620348}]
[1142,229,"Peabody                      ",817,"Essex North Shore",66868172,{"$f":"VLOOKUP(A535, localcont!$D$10:$L$1764, 8)","v":7532964.6950829169},{"$f":"VLOOKUP(A535, localcont!$D$10:$L$1764, 9)*F535","v":5102957.7543796515}]
[1146,230,"Pelham                       ",230,"Pelham",1535402,{"$f":"VLOOKUP(A536, localcont!$D$10:$L$1764, 8)","v":858482.55999999994},{"$f":"VLOOKUP(A536, localcont!$D$10:$L$1764, 9)*F536","v":706386.31811683811}]
[1147,230,"Pelham                       ",605,"Amherst Pelham",1535402,{"$f":"VLOOKUP(A537, localcont!$D$10:$L$1764, 8)","v":1007515.9818504385},{"$f":"VLOOKUP(A537, localcont!$D$10:$L$1764, 9)*F537","v":829015.68188316189}]
[1151,231,"Pembroke                     ",231,"Pembroke",25497646,{"$f":"VLOOKUP(A538, localcont!$D$10:$L$1764, 8)","v":33926554.381990001},{"$f":"VLOOKUP(A538, localcont!$D$10:$L$1764, 9)*F538","v":25497646}]
[1156,232,"Pepperell                    ",232,"Pepperell",13906135,{"$f":"VLOOKUP(A539, localcont!$D$10:$L$1764, 8)","v":0},{"$f":"VLOOKUP(A539, localcont!$D$10:$L$1764, 9)*F539","v":0}]
[1157,232,"Pepperell                    ",735,"North Middlesex",13906135,{"$f":"VLOOKUP(A540, localcont!$D$10:$L$1764, 8)","v":19803746.681728441},{"$f":"VLOOKUP(A540, localcont!$D$10:$L$1764, 9)*F540","v":12245401.854148511}]
[1158,232,"Pepperell                    ",852,"Nashoba Valley",13906135,{"$f":"VLOOKUP(A541, localcont!$D$10:$L$1764, 8)","v":2685803.1217040676},{"$f":"VLOOKUP(A541, localcont!$D$10:$L$1764, 9)*F541","v":1660733.1458514885}]
[1161,233,"Peru                         ",233,"Peru",779814,{"$f":"VLOOKUP(A542, localcont!$D$10:$L$1764, 8)","v":164907.6},{"$f":"VLOOKUP(A542, localcont!$D$10:$L$1764, 9)*F542","v":90743.624831556648}]
[1162,233,"Peru                         ",635,"Central Berkshire",779814,{"$f":"VLOOKUP(A543, localcont!$D$10:$L$1764, 8)","v":1252241.5983608696},{"$f":"VLOOKUP(A543, localcont!$D$10:$L$1764, 9)*F543","v":689070.37516844331}]
[1166,234,"Petersham                    ",234,"Petersham",1412866,{"$f":"VLOOKUP(A544, localcont!$D$10:$L$1764, 8)","v":1133842.72},{"$f":"VLOOKUP(A544, localcont!$D$10:$L$1764, 9)*F544","v":716952.8249808359}]
[1167,234,"Petersham                    ",755,"Ralph C Mahar",1412866,{"$f":"VLOOKUP(A545, localcont!$D$10:$L$1764, 8)","v":878869.63823202963},{"$f":"VLOOKUP(A545, localcont!$D$10:$L$1764, 9)*F545","v":555727.93193075235}]
[1168,234,"Petersham                    ",832,"Montachusett",1412866,{"$f":"VLOOKUP(A546, localcont!$D$10:$L$1764, 8)","v":221699.4086486437},{"$f":"VLOOKUP(A546, localcont!$D$10:$L$1764, 9)*F546","v":140185.24308841166}]
[1171,235,"Phillipston                  ",235,"Phillipston",1871795,{"$f":"VLOOKUP(A547, localcont!$D$10:$L$1764, 8)","v":0},{"$f":"VLOOKUP(A547, localcont!$D$10:$L$1764, 9)*F547","v":0}]
[1172,235,"Phillipston                  ",720,"Narragansett",1871795,{"$f":"VLOOKUP(A548, localcont!$D$10:$L$1764, 8)","v":2832452.7892744546},{"$f":"VLOOKUP(A548, localcont!$D$10:$L$1764, 9)*F548","v":1618440.5172883912}]
[1173,235,"Phillipston                  ",832,"Montachusett",1871795,{"$f":"VLOOKUP(A549, localcont!$D$10:$L$1764, 8)","v":443398.8172972874},{"$f":"VLOOKUP(A549, localcont!$D$10:$L$1764, 9)*F549","v":253354.48271160873}]
[1176,236,"Pittsfield                   ",236,"Pittsfield",34505225,{"$f":"VLOOKUP(A550, localcont!$D$10:$L$1764, 8)","v":92916030.260000005},{"$f":"VLOOKUP(A550, localcont!$D$10:$L$1764, 9)*F550","v":34505225}]
[1181,237,"Plainfield                   ",237,"Plainfield",684034,{"$f":"VLOOKUP(A551, localcont!$D$10:$L$1764, 8)","v":65963.040000000008},{"$f":"VLOOKUP(A551, localcont!$D$10:$L$1764, 9)*F551","v":49440.325003994221}]
[1182,237,"Plainfield                   ",717,"Mohawk Trail",684034,{"$f":"VLOOKUP(A552, localcont!$D$10:$L$1764, 8)","v":846671.77985028899},{"$f":"VLOOKUP(A552, localcont!$D$10:$L$1764, 9)*F552","v":634593.67499600572}]
[1186,238,"Plainville                   ",238,"Plainville",13459088,{"$f":"VLOOKUP(A553, localcont!$D$10:$L$1764, 8)","v":8340185.2700000005},{"$f":"VLOOKUP(A553, localcont!$D$10:$L$1764, 9)*F553","v":6561161.0864679189}]
[1187,238,"Plainville                   ",690,"King Philip",13459088,{"$f":"VLOOKUP(A554, localcont!$D$10:$L$1764, 8)","v":6364984.643587199},{"$f":"VLOOKUP(A554, localcont!$D$10:$L$1764, 9)*F554","v":5007285.5946844211}]
[1188,238,"Plainville                   ",878,"Tri County",13459088,{"$f":"VLOOKUP(A555, localcont!$D$10:$L$1764, 8)","v":2317171.9974342589},{"$f":"VLOOKUP(A555, localcont!$D$10:$L$1764, 9)*F555","v":1822901.7999043562}]
[1189,238,"Plainville                   ",915,"Norfolk County",13459088,{"$f":"VLOOKUP(A556, localcont!$D$10:$L$1764, 8)","v":86106.731818094282},{"$f":"VLOOKUP(A556, localcont!$D$10:$L$1764, 9)*F556","v":67739.518943301504}]
[1191,239,"Plymouth                     ",239,"Plymouth",90686324,{"$f":"VLOOKUP(A557, localcont!$D$10:$L$1764, 8)","v":111949866.57694001},{"$f":"VLOOKUP(A557, localcont!$D$10:$L$1764, 9)*F557","v":90686324}]
[1196,240,"Plympton                     ",240,"Plympton",4568805,{"$f":"VLOOKUP(A558, localcont!$D$10:$L$1764, 8)","v":3146739.0944000003},{"$f":"VLOOKUP(A558, localcont!$D$10:$L$1764, 9)*F558","v":2426438.9689767924}]
[1197,240,"Plympton                     ",760,"Silver Lake",4568805,{"$f":"VLOOKUP(A559, localcont!$D$10:$L$1764, 8)","v":2778337.7330022478},{"$f":"VLOOKUP(A559, localcont!$D$10:$L$1764, 9)*F559","v":2142366.0310232076}]
[1201,241,"Princeton                    ",241,"Princeton",6010130,{"$f":"VLOOKUP(A560, localcont!$D$10:$L$1764, 8)","v":16490.760000000002},{"$f":"VLOOKUP(A560, localcont!$D$10:$L$1764, 9)*F560","v":17850.568544036589}]
[1202,241,"Princeton                    ",775,"Wachusett",6010130,{"$f":"VLOOKUP(A561, localcont!$D$10:$L$1764, 8)","v":5031941.3270848254},{"$f":"VLOOKUP(A561, localcont!$D$10:$L$1764, 9)*F561","v":5446869.25094405}]
[1203,241,"Princeton                    ",832,"Montachusett",6010130,{"$f":"VLOOKUP(A562, localcont!$D$10:$L$1764, 8)","v":503862.29246369755},{"$f":"VLOOKUP(A562, localcont!$D$10:$L$1764, 9)*F562","v":545410.1805119135}]
[1206,242,"Provincetown                 ",242,"Provincetown",18313233,{"$f":"VLOOKUP(A563, localcont!$D$10:$L$1764, 8)","v":1708796.98},{"$f":"VLOOKUP(A563, localcont!$D$10:$L$1764, 9)*F563","v":16429260.330352828}]
[1207,242,"Provincetown                 ",815,"Cape Cod",18313233,{"$f":"VLOOKUP(A564, localcont!$D$10:$L$1764, 8)","v":195950.8062787198},{"$f":"VLOOKUP(A564, localcont!$D$10:$L$1764, 9)*F564","v":1883972.6696471709}]
[1211,243,"Quincy                       ",243,"Quincy",133740726,{"$f":"VLOOKUP(A565, localcont!$D$10:$L$1764, 8)","v":164068488.81255996},{"$f":"VLOOKUP(A565, localcont!$D$10:$L$1764, 9)*F565","v":133460553.92775083}]
[1212,243,"Quincy                       ",915,"Norfolk County",133740726,{"$f":"VLOOKUP(A566, localcont!$D$10:$L$1764, 8)","v":344426.92727237713},{"$f":"VLOOKUP(A566, localcont!$D$10:$L$1764, 9)*F566","v":280172.07224916946}]
[1216,244,"Randolph                     ",244,"Randolph",34419646,{"$f":"VLOOKUP(A567, localcont!$D$10:$L$1764, 8)","v":50608513.309120007},{"$f":"VLOOKUP(A567, localcont!$D$10:$L$1764, 9)*F567","v":30784314.916051853}]
[1217,244,"Randolph                     ",806,"Blue Hills",34419646,{"$f":"VLOOKUP(A568, localcont!$D$10:$L$1764, 8)","v":5868744.5571508575},{"$f":"VLOOKUP(A568, localcont!$D$10:$L$1764, 9)*F568","v":3569859.4721738277}]
[1218,244,"Randolph                     ",915,"Norfolk County",34419646,{"$f":"VLOOKUP(A569, localcont!$D$10:$L$1764, 8)","v":107633.41477261785},{"$f":"VLOOKUP(A569, localcont!$D$10:$L$1764, 9)*F569","v":65471.611774321653}]
[1221,245,"Raynham                      ",245,"Raynham",20098330,{"$f":"VLOOKUP(A570, localcont!$D$10:$L$1764, 8)","v":0},{"$f":"VLOOKUP(A570, localcont!$D$10:$L$1764, 9)*F570","v":0}]
[1222,245,"Raynham                      ",625,"Bridgewater Raynham",20098330,{"$f":"VLOOKUP(A571, localcont!$D$10:$L$1764, 8)","v":28548915.093928687},{"$f":"VLOOKUP(A571, localcont!$D$10:$L$1764, 9)*F571","v":17544050.962390725}]
[1223,245,"Raynham                      ",810,"Bristol Plymouth",20098330,{"$f":"VLOOKUP(A572, localcont!$D$10:$L$1764, 8)","v":3810341.5874906578},{"$f":"VLOOKUP(A572, localcont!$D$10:$L$1764, 9)*F572","v":2341554.0231603817}]
[1224,245,"Raynham                      ",910,"Bristol County",20098330,{"$f":"VLOOKUP(A573, localcont!$D$10:$L$1764, 8)","v":346161.12258651888},{"$f":"VLOOKUP(A573, localcont!$D$10:$L$1764, 9)*F573","v":212725.01444889544}]
[1226,246,"Reading                      ",246,"Reading",51388729,{"$f":"VLOOKUP(A574, localcont!$D$10:$L$1764, 8)","v":46064559.298859999},{"$f":"VLOOKUP(A574, localcont!$D$10:$L$1764, 9)*F574","v":50605415.760197893}]
[1227,246,"Reading                      ",853,"Northeast Metropolitan",51388729,{"$f":"VLOOKUP(A575, localcont!$D$10:$L$1764, 8)","v":713026.03965219145},{"$f":"VLOOKUP(A575, localcont!$D$10:$L$1764, 9)*F575","v":783313.23980211117}]
[1231,247,"Rehoboth                     ",247,"Rehoboth",18380302,{"$f":"VLOOKUP(A576, localcont!$D$10:$L$1764, 8)","v":0},{"$f":"VLOOKUP(A576, localcont!$D$10:$L$1764, 9)*F576","v":0}]
[1232,247,"Rehoboth                     ",650,"Dighton Rehoboth",18380302,{"$f":"VLOOKUP(A577, localcont!$D$10:$L$1764, 8)","v":18701103.000282004},{"$f":"VLOOKUP(A577, localcont!$D$10:$L$1764, 9)*F577","v":16532386.007158998}]
[1233,247,"Rehoboth                     ",810,"Bristol Plymouth",18380302,{"$f":"VLOOKUP(A578, localcont!$D$10:$L$1764, 8)","v":1499815.3057030835},{"$f":"VLOOKUP(A578, localcont!$D$10:$L$1764, 9)*F578","v":1325885.72839552}]
[1234,247,"Rehoboth                     ",910,"Bristol County",18380302,{"$f":"VLOOKUP(A579, localcont!$D$10:$L$1764, 8)","v":590510.15022465098},{"$f":"VLOOKUP(A579, localcont!$D$10:$L$1764, 9)*F579","v":522030.26444548019}]
[1236,248,"Revere                       ",248,"Revere",58790975,{"$f":"VLOOKUP(A580, localcont!$D$10:$L$1764, 8)","v":142967579.12336001},{"$f":"VLOOKUP(A580, localcont!$D$10:$L$1764, 9)*F580","v":56465409.475550294}]
[1237,248,"Revere                       ",853,"Northeast Metropolitan",58790975,{"$f":"VLOOKUP(A581, localcont!$D$10:$L$1764, 8)","v":5888215.0366285229},{"$f":"VLOOKUP(A581, localcont!$D$10:$L$1764, 9)*F581","v":2325565.5244497084}]
[1241,249,"Richmond                     ",249,"Richmond",2914817,{"$f":"VLOOKUP(A582, localcont!$D$10:$L$1764, 8)","v":1653453.7499999998},{"$f":"VLOOKUP(A582, localcont!$D$10:$L$1764, 9)*F582","v":2914817}]
[1246,250,"Rochester                    ",250,"Rochester",8830915,{"$f":"VLOOKUP(A583, localcont!$D$10:$L$1764, 8)","v":6163095.8600000003},{"$f":"VLOOKUP(A583, localcont!$D$10:$L$1764, 9)*F583","v":4356486.0473252833}]
[1247,250,"Rochester                    ",740,"Old Rochester",8830915,{"$f":"VLOOKUP(A584, localcont!$D$10:$L$1764, 8)","v":4522876.8329250934},{"$f":"VLOOKUP(A584, localcont!$D$10:$L$1764, 9)*F584","v":3197070.151754695}]
[1248,250,"Rochester                    ",855,"Old Colony",8830915,{"$f":"VLOOKUP(A585, localcont!$D$10:$L$1764, 8)","v":1807072.179771621},{"$f":"VLOOKUP(A585, localcont!$D$10:$L$1764, 9)*F585","v":1277358.800920022}]
[1251,251,"Rockland                     ",251,"Rockland",19024557,{"$f":"VLOOKUP(A586, localcont!$D$10:$L$1764, 8)","v":34848972.482560009},{"$f":"VLOOKUP(A586, localcont!$D$10:$L$1764, 9)*F586","v":17595118.92440439}]
[1252,251,"Rockland                     ",873,"South Shore",{"$f":"VLOOKUP(B587, town351, 7)","v":19024557},{"$f":"VLOOKUP(A587, localcont!$D$10:$L$1764, 8)","v":2831151.5469703567},{"$f":"VLOOKUP(A587, localcont!$D$10:$L$1764, 9)*F587","v":1429438.0755956084}]
[1256,252,"Rockport                     ",252,"Rockport",15526498,{"$f":"VLOOKUP(A588, localcont!$D$10:$L$1764, 8)","v":8129580.1188599998},{"$f":"VLOOKUP(A588, localcont!$D$10:$L$1764, 9)*F588","v":15087332.553239254}]
[1257,252,"Rockport                     ",817,"Essex North Shore",15526498,{"$f":"VLOOKUP(A589, localcont!$D$10:$L$1764, 8)","v":236637.63440475694},{"$f":"VLOOKUP(A589, localcont!$D$10:$L$1764, 9)*F589","v":439165.44676074461}]
[1261,253,"Rowe                         ",253,"Rowe",2135869,{"$f":"VLOOKUP(A590, localcont!$D$10:$L$1764, 8)","v":751366.82},{"$f":"VLOOKUP(A590, localcont!$D$10:$L$1764, 9)*F590","v":2135869}]
[1266,254,"Rowley                       ",254,"Rowley",9942315,{"$f":"VLOOKUP(A591, localcont!$D$10:$L$1764, 8)","v":102026.38446},{"$f":"VLOOKUP(A591, localcont!$D$10:$L$1764, 9)*F591","v":96567.050584006414}]
[1267,254,"Rowley                       ",773,"Triton",9942315,{"$f":"VLOOKUP(A592, localcont!$D$10:$L$1764, 8)","v":9923979.5564909633},{"$f":"VLOOKUP(A592, localcont!$D$10:$L$1764, 9)*F592","v":9392956.9385262951}]
[1268,254,"Rowley                       ",885,"Whittier",9942315,{"$f":"VLOOKUP(A593, localcont!$D$10:$L$1764, 8)","v":478389.15528311144},{"$f":"VLOOKUP(A593, localcont!$D$10:$L$1764, 9)*F593","v":452791.01088969747}]
[1271,255,"Royalston                    ",255,"Royalston",1122403,{"$f":"VLOOKUP(A594, localcont!$D$10:$L$1764, 8)","v":0},{"$f":"VLOOKUP(A594, localcont!$D$10:$L$1764, 9)*F594","v":0}]
[1272,255,"Royalston                    ",615,"Athol Royalston",1122403,{"$f":"VLOOKUP(A595, localcont!$D$10:$L$1764, 8)","v":1811048.0943022633},{"$f":"VLOOKUP(A595, localcont!$D$10:$L$1764, 9)*F595","v":1010003.4149219673}]
[1273,255,"Royalston                    ",832,"Montachusett",1122403,{"$f":"VLOOKUP(A596, localcont!$D$10:$L$1764, 8)","v":201544.91692650699},{"$f":"VLOOKUP(A596, localcont!$D$10:$L$1764, 9)*F596","v":112399.58507803273}]
[1276,256,"Russell                      ",256,"Russell",1484723,{"$f":"VLOOKUP(A597, localcont!$D$10:$L$1764, 8)","v":344095.56},{"$f":"VLOOKUP(A597, localcont!$D$10:$L$1764, 9)*F597","v":153803.9126223464}]
[1277,256,"Russell                      ",672,"Gateway",1484723,{"$f":"VLOOKUP(A598, localcont!$D$10:$L$1764, 8)","v":2977579.3143208013},{"$f":"VLOOKUP(A598, localcont!$D$10:$L$1764, 9)*F598","v":1330919.0873776537}]
[1281,257,"Rutland                      ",257,"Rutland",10300572,{"$f":"VLOOKUP(A599, localcont!$D$10:$L$1764, 8)","v":0},{"$f":"VLOOKUP(A599, localcont!$D$10:$L$1764, 9)*F599","v":0}]
[1282,257,"Rutland                      ",775,"Wachusett",10300572,{"$f":"VLOOKUP(A600, localcont!$D$10:$L$1764, 8)","v":20238492.623528376},{"$f":"VLOOKUP(A600, localcont!$D$10:$L$1764, 9)*F600","v":9745508.2258768268}]
[1283,257,"Rutland                      ",876,"Southern Worcester",10300572,{"$f":"VLOOKUP(A601, localcont!$D$10:$L$1764, 8)","v":1152700.6942902626},{"$f":"VLOOKUP(A601, localcont!$D$10:$L$1764, 9)*F601","v":555063.77412317425}]
[1286,258,"Salem                        ",258,"Salem",52090191,{"$f":"VLOOKUP(A602, localcont!$D$10:$L$1764, 8)","v":69935642.150000006},{"$f":"VLOOKUP(A602, localcont!$D$10:$L$1764, 9)*F602","v":49481124.380657427}]
[1287,258,"Salem                        ",817,"Essex North Shore",52090191,{"$f":"VLOOKUP(A603, localcont!$D$10:$L$1764, 8)","v":3687603.1359380269},{"$f":"VLOOKUP(A603, localcont!$D$10:$L$1764, 9)*F603","v":2609066.6193425646}]
[1291,259,"Salisbury                    ",259,"Salisbury",13166695,{"$f":"VLOOKUP(A604, localcont!$D$10:$L$1764, 8)","v":32981.520000000004},{"$f":"VLOOKUP(A604, localcont!$D$10:$L$1764, 9)*F604","v":33690.033604976838}]
[1292,259,"Salisbury                    ",773,"Triton",13166695,{"$f":"VLOOKUP(A605, localcont!$D$10:$L$1764, 8)","v":11816836.692646176},{"$f":"VLOOKUP(A605, localcont!$D$10:$L$1764, 9)*F605","v":12070687.623850357}]
[1293,259,"Salisbury                    ",885,"Whittier",13166695,{"$f":"VLOOKUP(A606, localcont!$D$10:$L$1764, 8)","v":1039976.4241941283},{"$f":"VLOOKUP(A606, localcont!$D$10:$L$1764, 9)*F606","v":1062317.3425446681}]
[1296,260,"Sandisfield                  ",260,"Sandisfield",1281041,{"$f":"VLOOKUP(A607, localcont!$D$10:$L$1764, 8)","v":0},{"$f":"VLOOKUP(A607, localcont!$D$10:$L$1764, 9)*F607","v":0}]
[1297,260,"Sandisfield                  ",662,"Farmington River",1281041,{"$f":"VLOOKUP(A608, localcont!$D$10:$L$1764, 8)","v":1219861.7935586995},{"$f":"VLOOKUP(A608, localcont!$D$10:$L$1764, 9)*F608","v":1281041}]
[1301,261,"Sandwich                     ",261,"Sandwich",37382763,{"$f":"VLOOKUP(A609, localcont!$D$10:$L$1764, 8)","v":29251950.23},{"$f":"VLOOKUP(A609, localcont!$D$10:$L$1764, 9)*F609","v":33807956.345202953}]
[1302,261,"Sandwich                     ",879,"Upper Cape Cod",37382763,{"$f":"VLOOKUP(A610, localcont!$D$10:$L$1764, 8)","v":3093060.8546775854},{"$f":"VLOOKUP(A610, localcont!$D$10:$L$1764, 9)*F610","v":3574806.654797045}]
[1306,262,"Saugus                       ",262,"Saugus",39496562,{"$f":"VLOOKUP(A611, localcont!$D$10:$L$1764, 8)","v":42085454.029999994},{"$f":"VLOOKUP(A611, localcont!$D$10:$L$1764, 9)*F611","v":36614967.756149039}]
[1307,262,"Saugus                       ",853,"Northeast Metropolitan",39496562,{"$f":"VLOOKUP(A612, localcont!$D$10:$L$1764, 8)","v":3312120.9580291361},{"$f":"VLOOKUP(A612, localcont!$D$10:$L$1764, 9)*F612","v":2881594.2438509623}]
[1311,263,"Savoy                        ",263,"Savoy",620315,{"$f":"VLOOKUP(A613, localcont!$D$10:$L$1764, 8)","v":576479.4},{"$f":"VLOOKUP(A613, localcont!$D$10:$L$1764, 9)*F613","v":466294.7071601224}]
[1312,263,"Savoy                        ",851,"Northern Berkshire",620315,{"$f":"VLOOKUP(A614, localcont!$D$10:$L$1764, 8)","v":190415.04147647819},{"$f":"VLOOKUP(A614, localcont!$D$10:$L$1764, 9)*F614","v":154020.29283987763}]
[1316,264,"Scituate                     ",264,"Scituate",44300423,{"$f":"VLOOKUP(A615, localcont!$D$10:$L$1764, 8)","v":34295600.022},{"$f":"VLOOKUP(A615, localcont!$D$10:$L$1764, 9)*F615","v":43250312.397841759}]
[1317,264,"Scituate                     ",873,"South Shore",44300423,{"$f":"VLOOKUP(A616, localcont!$D$10:$L$1764, 8)","v":832691.63143150089},{"$f":"VLOOKUP(A616, localcont!$D$10:$L$1764, 9)*F616","v":1050110.6021582503}]
[1321,265,"Seekonk                      ",265,"Seekonk",21181230,{"$f":"VLOOKUP(A617, localcont!$D$10:$L$1764, 8)","v":25865534.950000003},{"$f":"VLOOKUP(A617, localcont!$D$10:$L$1764, 9)*F617","v":19555438.603810381}]
[1322,265,"Seekonk                      ",878,"Tri County",21181230,{"$f":"VLOOKUP(A618, localcont!$D$10:$L$1764, 8)","v":1763511.4318062789},{"$f":"VLOOKUP(A618, localcont!$D$10:$L$1764, 9)*F618","v":1333289.2437163927}]
[1323,265,"Seekonk                      ",910,"Bristol County",21181230,{"$f":"VLOOKUP(A619, localcont!$D$10:$L$1764, 8)","v":386885.96052620758},{"$f":"VLOOKUP(A619, localcont!$D$10:$L$1764, 9)*F619","v":292502.15247322607}]
[1326,266,"Sharon                       ",266,"Sharon",38832260,{"$f":"VLOOKUP(A620, localcont!$D$10:$L$1764, 8)","v":44179615.271480002},{"$f":"VLOOKUP(A620, localcont!$D$10:$L$1764, 9)*F620","v":38349638.724764727}]
[1327,266,"Sharon                       ",872,"Southeastern",38832260,{"$f":"VLOOKUP(A621, localcont!$D$10:$L$1764, 8)","v":426830.07508135383},{"$f":"VLOOKUP(A621, localcont!$D$10:$L$1764, 9)*F621","v":370505.24491101515}]
[1328,266,"Sharon                       ",915,"Norfolk County",38832260,{"$f":"VLOOKUP(A622, localcont!$D$10:$L$1764, 8)","v":129160.09772714142},{"$f":"VLOOKUP(A622, localcont!$D$10:$L$1764, 9)*F622","v":112116.03032425519}]
[1331,267,"Sheffield                    ",267,"Sheffield",4855675,{"$f":"VLOOKUP(A623, localcont!$D$10:$L$1764, 8)","v":65963.040000000008},{"$f":"VLOOKUP(A623, localcont!$D$10:$L$1764, 9)*F623","v":63464.835031989263}]
[1332,267,"Sheffield                    ",765,"Southern Berkshire",4855675,{"$f":"VLOOKUP(A624, localcont!$D$10:$L$1764, 8)","v":4980848.8533982299},{"$f":"VLOOKUP(A624, localcont!$D$10:$L$1764, 9)*F624","v":4792210.164968011}]
[1336,268,"Shelburne                    ",268,"Shelburne",1842718,{"$f":"VLOOKUP(A625, localcont!$D$10:$L$1764, 8)","v":0},{"$f":"VLOOKUP(A625, localcont!$D$10:$L$1764, 9)*F625","v":0}]
[1337,268,"Shelburne                    ",717,"Mohawk Trail",1842718,{"$f":"VLOOKUP(A626, localcont!$D$10:$L$1764, 8)","v":2179138.8432454914},{"$f":"VLOOKUP(A626, localcont!$D$10:$L$1764, 9)*F626","v":1693343.4118721785}]
[1338,268,"Shelburne                    ",818,"Franklin County",1842718,{"$f":"VLOOKUP(A627, localcont!$D$10:$L$1764, 8)","v":192227.97035791312},{"$f":"VLOOKUP(A627, localcont!$D$10:$L$1764, 9)*F627","v":149374.58812782148}]
[1341,269,"Sherborn                     ",269,"Sherborn",21075097,{"$f":"VLOOKUP(A628, localcont!$D$10:$L$1764, 8)","v":4685609.0321299993},{"$f":"VLOOKUP(A628, localcont!$D$10:$L$1764, 9)*F628","v":8448533.3615716062}]
[1342,269,"Sherborn                     ",655,"Dover Sherborn",21075097,{"$f":"VLOOKUP(A629, localcont!$D$10:$L$1764, 8)","v":6982264.6046965495},{"$f":"VLOOKUP(A629, localcont!$D$10:$L$1764, 9)*F629","v":12589589.751854213}]
[1343,269,"Sherborn                     ",878,"Tri County",21075097,{"$f":"VLOOKUP(A630, localcont!$D$10:$L$1764, 8)","v":20505.946946121701},{"$f":"VLOOKUP(A630, localcont!$D$10:$L$1764, 9)*F630","v":36973.88657417972}]
[1346,270,"Shirley                      ",270,"Shirley",6955769,{"$f":"VLOOKUP(A631, localcont!$D$10:$L$1764, 8)","v":0},{"$f":"VLOOKUP(A631, localcont!$D$10:$L$1764, 9)*F631","v":0}]
[1347,270,"Shirley                      ",616,"Ayer Shirley",6955769,{"$f":"VLOOKUP(A632, localcont!$D$10:$L$1764, 8)","v":10010903.501197919},{"$f":"VLOOKUP(A632, localcont!$D$10:$L$1764, 9)*F632","v":6384782.6065469775}]
[1348,270,"Shirley                      ",852,"Nashoba Valley",6955769,{"$f":"VLOOKUP(A633, localcont!$D$10:$L$1764, 8)","v":895267.70723468927},{"$f":"VLOOKUP(A633, localcont!$D$10:$L$1764, 9)*F633","v":570986.39345302247}]
[1351,271,"Shrewsbury                   ",271,"Shrewsbury",64437656,{"$f":"VLOOKUP(A634, localcont!$D$10:$L$1764, 8)","v":74633713.99000001},{"$f":"VLOOKUP(A634, localcont!$D$10:$L$1764, 9)*F634","v":64437656}]
[1356,272,"Shutesbury                   ",272,"Shutesbury",1814662,{"$f":"VLOOKUP(A635, localcont!$D$10:$L$1764, 8)","v":1442294.2199999997},{"$f":"VLOOKUP(A635, localcont!$D$10:$L$1764, 9)*F635","v":896913.55329720094}]
[1357,272,"Shutesbury                   ",605,"Amherst Pelham",1814662,{"$f":"VLOOKUP(A636, localcont!$D$10:$L$1764, 8)","v":1475798.0579370467},{"$f":"VLOOKUP(A636, localcont!$D$10:$L$1764, 9)*F636","v":917748.44670279918}]
[1361,273,"Somerset                     ",273,"Somerset",19968311,{"$f":"VLOOKUP(A637, localcont!$D$10:$L$1764, 8)","v":21144659.59},{"$f":"VLOOKUP(A637, localcont!$D$10:$L$1764, 9)*F637","v":11942626.649565853}]
[1362,273,"Somerset                     ",763,"Somerset Berkley",19968311,{"$f":"VLOOKUP(A638, localcont!$D$10:$L$1764, 8)","v":10487953.708732035},{"$f":"VLOOKUP(A638, localcont!$D$10:$L$1764, 9)*F638","v":5923657.2207836723}]
[1363,273,"Somerset                     ",821,"Greater Fall River",19968311,{"$f":"VLOOKUP(A639, localcont!$D$10:$L$1764, 8)","v":3232983.062992265},{"$f":"VLOOKUP(A639, localcont!$D$10:$L$1764, 9)*F639","v":1826007.6271904865}]
[1364,273,"Somerset                     ",910,"Bristol County",19968311,{"$f":"VLOOKUP(A640, localcont!$D$10:$L$1764, 8)","v":488698.05537542928},{"$f":"VLOOKUP(A640, localcont!$D$10:$L$1764, 9)*F640","v":276019.50245998782}]
[1366,274,"Somerville                   ",274,"Somerville",144964902,{"$f":"VLOOKUP(A641, localcont!$D$10:$L$1764, 8)","v":88070540.975499988},{"$f":"VLOOKUP(A641, localcont!$D$10:$L$1764, 9)*F641","v":144964902}]
[1371,275,"Southampton                  ",275,"Southampton",7934445,{"$f":"VLOOKUP(A642, localcont!$D$10:$L$1764, 8)","v":6284662},{"$f":"VLOOKUP(A642, localcont!$D$10:$L$1764, 9)*F642","v":4748007.7920798268}]
[1372,275,"Southampton                  ",683,"Hampshire",7934445,{"$f":"VLOOKUP(A643, localcont!$D$10:$L$1764, 8)","v":4217701.7631283049},{"$f":"VLOOKUP(A643, localcont!$D$10:$L$1764, 9)*F643","v":3186437.2079201736}]
[1376,276,"Southborough                 ",276,"Southborough",30295750,{"$f":"VLOOKUP(A644, localcont!$D$10:$L$1764, 8)","v":14230837.126399998},{"$f":"VLOOKUP(A644, localcont!$D$10:$L$1764, 9)*F644","v":20368432.878701419}]
[1377,276,"Southborough                 ",730,"Northboro Southboro",30295750,{"$f":"VLOOKUP(A645, localcont!$D$10:$L$1764, 8)","v":6450348.7325107045},{"$f":"VLOOKUP(A645, localcont!$D$10:$L$1764, 9)*F645","v":9232309.6691640224}]
[1378,276,"Southborough                 ",801,"Assabet Valley",30295750,{"$f":"VLOOKUP(A646, localcont!$D$10:$L$1764, 8)","v":485581.67984064092},{"$f":"VLOOKUP(A646, localcont!$D$10:$L$1764, 9)*F646","v":695007.45213456068}]
[1381,277,"Southbridge                  ",277,"Southbridge",11447611,{"$f":"VLOOKUP(A647, localcont!$D$10:$L$1764, 8)","v":38095220.899999999},{"$f":"VLOOKUP(A647, localcont!$D$10:$L$1764, 9)*F647","v":10309293.43122017}]
[1382,277,"Southbridge                  ",876,"Southern Worcester",11447611,{"$f":"VLOOKUP(A648, localcont!$D$10:$L$1764, 8)","v":4206346.3928280221},{"$f":"VLOOKUP(A648, localcont!$D$10:$L$1764, 9)*F648","v":1138317.5687798304}]
[1386,278,"South Hadley                 ",278,"South Hadley",16450882,{"$f":"VLOOKUP(A649, localcont!$D$10:$L$1764, 8)","v":25928069.819999997},{"$f":"VLOOKUP(A649, localcont!$D$10:$L$1764, 9)*F649","v":16450882}]
[1391,279,"Southwick                    ",279,"Southwick",10934080,{"$f":"VLOOKUP(A650, localcont!$D$10:$L$1764, 8)","v":0},{"$f":"VLOOKUP(A650, localcont!$D$10:$L$1764, 9)*F650","v":0}]
[1392,279,"Southwick                    ",766,"Southwick Tolland",{"$f":"VLOOKUP(B651, town351, 7)","v":10934080},{"$f":"VLOOKUP(A651, localcont!$D$10:$L$1764, 8)","v":15276191.958581634},{"$f":"VLOOKUP(A651, localcont!$D$10:$L$1764, 9)*F651","v":10934080}]
[1396,280,"Spencer                      ",280,"Spencer",10896558,{"$f":"VLOOKUP(A652, localcont!$D$10:$L$1764, 8)","v":65963.040000000008},{"$f":"VLOOKUP(A652, localcont!$D$10:$L$1764, 9)*F652","v":33833.049247121075}]
[1397,280,"Spencer                      ",767,"Spencer East Brookfield",10896558,{"$f":"VLOOKUP(A653, localcont!$D$10:$L$1764, 8)","v":18569907.860504415},{"$f":"VLOOKUP(A653, localcont!$D$10:$L$1764, 9)*F653","v":9524676.3514681328}]
[1398,280,"Spencer                      ",876,"Southern Worcester",10896558,{"$f":"VLOOKUP(A654, localcont!$D$10:$L$1764, 8)","v":2608743.6763942922},{"$f":"VLOOKUP(A654, localcont!$D$10:$L$1764, 9)*F654","v":1338048.5992847474}]
[1401,281,"Springfield                  ",281,"Springfield",84471350,{"$f":"VLOOKUP(A655, localcont!$D$10:$L$1764, 8)","v":525763852.88000005},{"$f":"VLOOKUP(A655, localcont!$D$10:$L$1764, 9)*F655","v":84471350}]
[1406,282,"Sterling                     ",282,"Sterling",11538923,{"$f":"VLOOKUP(A656, localcont!$D$10:$L$1764, 8)","v":16490.760000000002},{"$f":"VLOOKUP(A656, localcont!$D$10:$L$1764, 9)*F656","v":14754.380760373424}]
[1407,282,"Sterling                     ",775,"Wachusett",11538923,{"$f":"VLOOKUP(A657, localcont!$D$10:$L$1764, 8)","v":11650974.173012402},{"$f":"VLOOKUP(A657, localcont!$D$10:$L$1764, 9)*F657","v":10424195.681575732}]
[1408,282,"Sterling                     ",832,"Montachusett",11538923,{"$f":"VLOOKUP(A658, localcont!$D$10:$L$1764, 8)","v":1229423.9938708991},{"$f":"VLOOKUP(A658, localcont!$D$10:$L$1764, 9)*F658","v":1099972.9376638946}]
[1411,283,"Stockbridge                  ",283,"Stockbridge",5208127,{"$f":"VLOOKUP(A659, localcont!$D$10:$L$1764, 8)","v":0},{"$f":"VLOOKUP(A659, localcont!$D$10:$L$1764, 9)*F659","v":0}]
[1412,283,"Stockbridge                  ",618,"Berkshire Hills",5208127,{"$f":"VLOOKUP(A660, localcont!$D$10:$L$1764, 8)","v":1902074.0000142655},{"$f":"VLOOKUP(A660, localcont!$D$10:$L$1764, 9)*F660","v":5208127}]
[1416,284,"Stoneham                     ",284,"Stoneham",36682228,{"$f":"VLOOKUP(A661, localcont!$D$10:$L$1764, 8)","v":32165599.711240005},{"$f":"VLOOKUP(A661, localcont!$D$10:$L$1764, 9)*F661","v":34933615.343317889}]
[1417,284,"Stoneham                     ",853,"Northeast Metropolitan",36682228,{"$f":"VLOOKUP(A662, localcont!$D$10:$L$1764, 8)","v":1610058.7990130049},{"$f":"VLOOKUP(A662, localcont!$D$10:$L$1764, 9)*F662","v":1748612.6566821095}]
[1421,285,"Stoughton                    ",285,"Stoughton",35541445,{"$f":"VLOOKUP(A663, localcont!$D$10:$L$1764, 8)","v":56987020.295979992},{"$f":"VLOOKUP(A663, localcont!$D$10:$L$1764, 9)*F663","v":33878616.914708354}]
[1422,285,"Stoughton                    ",872,"Southeastern",35541445,{"$f":"VLOOKUP(A664, localcont!$D$10:$L$1764, 8)","v":2646346.4655043939},{"$f":"VLOOKUP(A664, localcont!$D$10:$L$1764, 9)*F664","v":1573245.2348406131}]
[1423,285,"Stoughton                    ",915,"Norfolk County",35541445,{"$f":"VLOOKUP(A665, localcont!$D$10:$L$1764, 8)","v":150686.780681665},{"$f":"VLOOKUP(A665, localcont!$D$10:$L$1764, 9)*F665","v":89582.85045103381}]
[1426,286,"Stow                         ",286,"Stow",14724506,{"$f":"VLOOKUP(A666, localcont!$D$10:$L$1764, 8)","v":0},{"$f":"VLOOKUP(A666, localcont!$D$10:$L$1764, 9)*F666","v":0}]
[1427,286,"Stow                         ",725,"Nashoba",14724506,{"$f":"VLOOKUP(A667, localcont!$D$10:$L$1764, 8)","v":13539760.646481739},{"$f":"VLOOKUP(A667, localcont!$D$10:$L$1764, 9)*F667","v":13383950.179752192}]
[1428,286,"Stow                         ",830,"Minuteman",14724506,{"$f":"VLOOKUP(A668, localcont!$D$10:$L$1764, 8)","v":1356162.0220958849},{"$f":"VLOOKUP(A668, localcont!$D$10:$L$1764, 9)*F668","v":1340555.8202478078}]
[1431,287,"Sturbridge                   ",287,"Sturbridge",13115998,{"$f":"VLOOKUP(A669, localcont!$D$10:$L$1764, 8)","v":10737439.589999998},{"$f":"VLOOKUP(A669, localcont!$D$10:$L$1764, 9)*F669","v":6287296.8463762216}]
[1432,287,"Sturbridge                   ",770,"Tantasqua",13115998,{"$f":"VLOOKUP(A670, localcont!$D$10:$L$1764, 8)","v":11662049.352331642},{"$f":"VLOOKUP(A670, localcont!$D$10:$L$1764, 9)*F670","v":6828701.1536237774}]
[1436,288,"Sudbury                      ",288,"Sudbury",54658437,{"$f":"VLOOKUP(A671, localcont!$D$10:$L$1764, 8)","v":28628096.43},{"$f":"VLOOKUP(A671, localcont!$D$10:$L$1764, 9)*F671","v":33896105.716777064}]
[1437,288,"Sudbury                      ",695,"Lincoln Sudbury",54658437,{"$f":"VLOOKUP(A672, localcont!$D$10:$L$1764, 8)","v":17535525.380236153},{"$f":"VLOOKUP(A672, localcont!$D$10:$L$1764, 9)*F672","v":20762331.283222936}]
[1441,289,"Sunderland                   ",289,"Sunderland",3382294,{"$f":"VLOOKUP(A673, localcont!$D$10:$L$1764, 8)","v":1946645.5199999998},{"$f":"VLOOKUP(A673, localcont!$D$10:$L$1764, 9)*F673","v":1688453.7538786153}]
[1442,289,"Sunderland                   ",670,"Frontier",3382294,{"$f":"VLOOKUP(A674, localcont!$D$10:$L$1764, 8)","v":1760627.723281024},{"$f":"VLOOKUP(A674, localcont!$D$10:$L$1764, 9)*F674","v":1527108.2783251703}]
[1443,289,"Sunderland                   ",818,"Franklin County",3382294,{"$f":"VLOOKUP(A675, localcont!$D$10:$L$1764, 8)","v":192227.97035791312},{"$f":"VLOOKUP(A675, localcont!$D$10:$L$1764, 9)*F675","v":166731.96779621474}]
[1446,290,"Sutton                       ",290,"Sutton",14967493,{"$f":"VLOOKUP(A676, localcont!$D$10:$L$1764, 8)","v":16076441.029999997},{"$f":"VLOOKUP(A676, localcont!$D$10:$L$1764, 9)*F676","v":13324257.020000495}]
[1447,290,"Sutton                       ",805,"Blackstone Valley",14967493,{"$f":"VLOOKUP(A677, localcont!$D$10:$L$1764, 8)","v":1982653.6137198701},{"$f":"VLOOKUP(A677, localcont!$D$10:$L$1764, 9)*F677","v":1643235.9799995068}]
[1451,291,"Swampscott                   ",291,"Swampscott",31889504,{"$f":"VLOOKUP(A678, localcont!$D$10:$L$1764, 8)","v":26012947.399999999},{"$f":"VLOOKUP(A678, localcont!$D$10:$L$1764, 9)*F678","v":31203519.062613808}]
[1452,291,"Swampscott                   ",817,"Essex North Shore",31889504,{"$f":"VLOOKUP(A679, localcont!$D$10:$L$1764, 8)","v":571874.28307723976},{"$f":"VLOOKUP(A679, localcont!$D$10:$L$1764, 9)*F679","v":685984.93738619017}]
[1456,292,"Swansea                      ",292,"Swansea",19794326,{"$f":"VLOOKUP(A680, localcont!$D$10:$L$1764, 8)","v":26694462.580000002},{"$f":"VLOOKUP(A680, localcont!$D$10:$L$1764, 9)*F680","v":17660041.520082902}]
[1457,292,"Swansea                      ",821,"Greater Fall River",19794326,{"$f":"VLOOKUP(A681, localcont!$D$10:$L$1764, 8)","v":2594894.3003445058},{"$f":"VLOOKUP(A681, localcont!$D$10:$L$1764, 9)*F681","v":1716683.4112871075}]
[1458,292,"Swansea                      ",910,"Bristol County",19794326,{"$f":"VLOOKUP(A682, localcont!$D$10:$L$1764, 8)","v":631234.98816433968},{"$f":"VLOOKUP(A682, localcont!$D$10:$L$1764, 9)*F682","v":417601.06862998992}]
[1461,293,"Taunton                      ",293,"Taunton",52918228,{"$f":"VLOOKUP(A683, localcont!$D$10:$L$1764, 8)","v":131396476.31},{"$f":"VLOOKUP(A683, localcont!$D$10:$L$1764, 9)*F683","v":48530094.008784577}]
[1462,293,"Taunton                      ",810,"Bristol Plymouth",52918228,{"$f":"VLOOKUP(A684, localcont!$D$10:$L$1764, 8)","v":11005401.500373567},{"$f":"VLOOKUP(A684, localcont!$D$10:$L$1764, 9)*F684","v":4064744.9948161244}]
[1463,293,"Taunton                      ",910,"Bristol County",52918228,{"$f":"VLOOKUP(A685, localcont!$D$10:$L$1764, 8)","v":875584.0159016368},{"$f":"VLOOKUP(A685, localcont!$D$10:$L$1764, 9)*F685","v":323388.99639930198}]
[1466,294,"Templeton                    ",294,"Templeton",7050544,{"$f":"VLOOKUP(A686, localcont!$D$10:$L$1764, 8)","v":0},{"$f":"VLOOKUP(A686, localcont!$D$10:$L$1764, 9)*F686","v":0}]
[1467,294,"Templeton                    ",720,"Narragansett",7050544,{"$f":"VLOOKUP(A687, localcont!$D$10:$L$1764, 8)","v":16258279.010725547},{"$f":"VLOOKUP(A687, localcont!$D$10:$L$1764, 9)*F687","v":6392786.8274907107}]
[1468,294,"Templeton                    ",832,"Montachusett",7050544,{"$f":"VLOOKUP(A688, localcont!$D$10:$L$1764, 8)","v":1672822.8111681864},{"$f":"VLOOKUP(A688, localcont!$D$10:$L$1764, 9)*F688","v":657757.17250928935}]
[1471,295,"Tewksbury                    ",295,"Tewksbury",44795521,{"$f":"VLOOKUP(A689, localcont!$D$10:$L$1764, 8)","v":41191248.019999996},{"$f":"VLOOKUP(A689, localcont!$D$10:$L$1764, 9)*F689","v":38504480.323675327}]
[1472,295,"Tewksbury                    ",871,"Shawsheen Valley",44795521,{"$f":"VLOOKUP(A690, localcont!$D$10:$L$1764, 8)","v":6730017.2505655829},{"$f":"VLOOKUP(A690, localcont!$D$10:$L$1764, 9)*F690","v":6291040.6763246711}]
[1476,296,"Tisbury                      ",296,"Tisbury",14962786,{"$f":"VLOOKUP(A691, localcont!$D$10:$L$1764, 8)","v":5475942.1799999988},{"$f":"VLOOKUP(A691, localcont!$D$10:$L$1764, 9)*F691","v":8830434.9458915181}]
[1477,296,"Tisbury                      ",700,"Marthas Vineyard",14962786,{"$f":"VLOOKUP(A692, localcont!$D$10:$L$1764, 8)","v":3802802.4673217069},{"$f":"VLOOKUP(A692, localcont!$D$10:$L$1764, 9)*F692","v":6132351.0541084819}]
[1481,297,"Tolland                      ",297,"Tolland",1002831,{"$f":"VLOOKUP(A693, localcont!$D$10:$L$1764, 8)","v":0},{"$f":"VLOOKUP(A693, localcont!$D$10:$L$1764, 9)*F693","v":0}]
[1482,297,"Tolland                      ",766,"Southwick Tolland",1002831,{"$f":"VLOOKUP(A694, localcont!$D$10:$L$1764, 8)","v":497827.48476620007},{"$f":"VLOOKUP(A694, localcont!$D$10:$L$1764, 9)*F694","v":1002831}]
[1486,298,"Topsfield                    ",298,"Topsfield",13960204,{"$f":"VLOOKUP(A695, localcont!$D$10:$L$1764, 8)","v":7135092.1120000007},{"$f":"VLOOKUP(A695, localcont!$D$10:$L$1764, 9)*F695","v":7230862.4308973877}]
[1487,298,"Topsfield                    ",705,"Masconomet",13960204,{"$f":"VLOOKUP(A696, localcont!$D$10:$L$1764, 8)","v":6068339.4407370165},{"$f":"VLOOKUP(A696, localcont!$D$10:$L$1764, 9)*F696","v":6149791.3399268752}]
[1488,298,"Topsfield                    ",817,"Essex North Shore",13960204,{"$f":"VLOOKUP(A697, localcont!$D$10:$L$1764, 8)","v":571874.28307723976},{"$f":"VLOOKUP(A697, localcont!$D$10:$L$1764, 9)*F697","v":579550.22917573666}]
[1491,299,"Townsend                     ",299,"Townsend",9740855,{"$f":"VLOOKUP(A698, localcont!$D$10:$L$1764, 8)","v":0},{"$f":"VLOOKUP(A698, localcont!$D$10:$L$1764, 9)*F698","v":0}]
[1492,299,"Townsend                     ",735,"North Middlesex",9740855,{"$f":"VLOOKUP(A699, localcont!$D$10:$L$1764, 8)","v":15527790.940463116},{"$f":"VLOOKUP(A699, localcont!$D$10:$L$1764, 9)*F699","v":8672615.7604589276}]
[1493,299,"Townsend                     ",852,"Nashoba Valley",9740855,{"$f":"VLOOKUP(A700, localcont!$D$10:$L$1764, 8)","v":1912617.3745203852},{"$f":"VLOOKUP(A700, localcont!$D$10:$L$1764, 9)*F700","v":1068239.2395410722}]
[1496,300,"Truro                        ",300,"Truro",11147859,{"$f":"VLOOKUP(A701, localcont!$D$10:$L$1764, 8)","v":2300504.7399999998},{"$f":"VLOOKUP(A701, localcont!$D$10:$L$1764, 9)*F701","v":10096732.580626816}]
[1497,300,"Truro                        ",815,"Cape Cod",11147859,{"$f":"VLOOKUP(A702, localcont!$D$10:$L$1764, 8)","v":239495.4299123488},{"$f":"VLOOKUP(A702, localcont!$D$10:$L$1764, 9)*F702","v":1051126.4193731844}]
[1501,301,"Tyngsborough                 ",301,"Tyngsborough",17034958,{"$f":"VLOOKUP(A703, localcont!$D$10:$L$1764, 8)","v":21286361.979999997},{"$f":"VLOOKUP(A703, localcont!$D$10:$L$1764, 9)*F703","v":15389914.29572355}]
[1502,301,"Tyngsborough                 ",828,"Greater Lowell",17034958,{"$f":"VLOOKUP(A704, localcont!$D$10:$L$1764, 8)","v":2275321.0374848451},{"$f":"VLOOKUP(A704, localcont!$D$10:$L$1764, 9)*F704","v":1645043.7042764488}]
[1506,302,"Tyringham                    ",302,"Tyringham",942712,{"$f":"VLOOKUP(A705, localcont!$D$10:$L$1764, 8)","v":268153.68999999994},{"$f":"VLOOKUP(A705, localcont!$D$10:$L$1764, 9)*F705","v":942712}]
[1511,303,"Upton                        ",303,"Upton",12579834,{"$f":"VLOOKUP(A706, localcont!$D$10:$L$1764, 8)","v":82453.8},{"$f":"VLOOKUP(A706, localcont!$D$10:$L$1764, 9)*F706","v":64486.916924023142}]
[1512,303,"Upton                        ",710,"Mendon Upton",12579834,{"$f":"VLOOKUP(A707, localcont!$D$10:$L$1764, 8)","v":14283983.680606524},{"$f":"VLOOKUP(A707, localcont!$D$10:$L$1764, 9)*F707","v":11171468.979663463}]
[1513,303,"Upton                        ",805,"Blackstone Valley",12579834,{"$f":"VLOOKUP(A708, localcont!$D$10:$L$1764, 8)","v":1718299.7986042001},{"$f":"VLOOKUP(A708, localcont!$D$10:$L$1764, 9)*F708","v":1343878.1034125141}]
[1516,304,"Uxbridge                     ",304,"Uxbridge",17687485,{"$f":"VLOOKUP(A709, localcont!$D$10:$L$1764, 8)","v":22214657.669999998},{"$f":"VLOOKUP(A709, localcont!$D$10:$L$1764, 9)*F709","v":16050352.798965339}]
[1517,304,"Uxbridge                     ",805,"Blackstone Valley",17687485,{"$f":"VLOOKUP(A710, localcont!$D$10:$L$1764, 8)","v":2265889.8444190635},{"$f":"VLOOKUP(A710, localcont!$D$10:$L$1764, 9)*F710","v":1637132.201034663}]
[1521,305,"Wakefield                    ",305,"Wakefield",45934848,{"$f":"VLOOKUP(A711, localcont!$D$10:$L$1764, 8)","v":43061534.5506},{"$f":"VLOOKUP(A711, localcont!$D$10:$L$1764, 9)*F711","v":43583598.823711209}]
[1522,305,"Wakefield                    ",853,"Northeast Metropolitan",45934848,{"$f":"VLOOKUP(A712, localcont!$D$10:$L$1764, 8)","v":2323084.8386651967},{"$f":"VLOOKUP(A712, localcont!$D$10:$L$1764, 9)*F712","v":2351249.1762887966}]
[1526,306,"Wales                        ",306,"Wales",1502621,{"$f":"VLOOKUP(A713, localcont!$D$10:$L$1764, 8)","v":1628374.74},{"$f":"VLOOKUP(A713, localcont!$D$10:$L$1764, 9)*F713","v":637601.86855567468}]
[1527,306,"Wales                        ",770,"Tantasqua",1502621,{"$f":"VLOOKUP(A714, localcont!$D$10:$L$1764, 8)","v":2209176.8746717274},{"$f":"VLOOKUP(A714, localcont!$D$10:$L$1764, 9)*F714","v":865019.1314443252}]
[1531,307,"Walpole                      ",307,"Walpole",{"$f":"VLOOKUP(B715, town351, 7)","v":46285153},{"$f":"VLOOKUP(A715, localcont!$D$10:$L$1764, 8)","v":47191402.9124},{"$f":"VLOOKUP(A715, localcont!$D$10:$L$1764, 9)*F715","v":44136300.419334002}]
[1532,307,"Walpole                      ",878,"Tri County",46285153,{"$f":"VLOOKUP(A716, localcont!$D$10:$L$1764, 8)","v":1845535.2192073043},{"$f":"VLOOKUP(A716, localcont!$D$10:$L$1764, 9)*F716","v":1726057.964850032}]
[1533,307,"Walpole                      ",915,"Norfolk County",46285153,{"$f":"VLOOKUP(A717, localcont!$D$10:$L$1764, 8)","v":452060.34204499499},{"$f":"VLOOKUP(A717, localcont!$D$10:$L$1764, 9)*F717","v":422794.61581596959}]
[1536,308,"Waltham                      ",308,"Waltham",103522413,{"$f":"VLOOKUP(A718, localcont!$D$10:$L$1764, 8)","v":98129290.060850009},{"$f":"VLOOKUP(A718, localcont!$D$10:$L$1764, 9)*F718","v":103522413}]
[1541,309,"Ware                         ",309,"Ware",7321280,{"$f":"VLOOKUP(A719, localcont!$D$10:$L$1764, 8)","v":19400007.25},{"$f":"VLOOKUP(A719, localcont!$D$10:$L$1764, 9)*F719","v":6495950.4362061666}]
[1542,309,"Ware                         ",860,"Pathfinder",7321280,{"$f":"VLOOKUP(A720, localcont!$D$10:$L$1764, 8)","v":2464827.8459758167},{"$f":"VLOOKUP(A720, localcont!$D$10:$L$1764, 9)*F720","v":825329.56379383372}]
[1546,310,"Wareham                      ",310,"Wareham",26934395,{"$f":"VLOOKUP(A721, localcont!$D$10:$L$1764, 8)","v":37763668.480000004},{"$f":"VLOOKUP(A721, localcont!$D$10:$L$1764, 9)*F721","v":23792540.193991672}]
[1547,310,"Wareham                      ",879,"Upper Cape Cod",26934395,{"$f":"VLOOKUP(A722, localcont!$D$10:$L$1764, 8)","v":4986771.5821430152},{"$f":"VLOOKUP(A722, localcont!$D$10:$L$1764, 9)*F722","v":3141854.8060083254}]
[1551,311,"Warren                       ",311,"Warren",3473230,{"$f":"VLOOKUP(A723, localcont!$D$10:$L$1764, 8)","v":16490.760000000002},{"$f":"VLOOKUP(A723, localcont!$D$10:$L$1764, 9)*F723","v":5253.2434901885945}]
[1552,311,"Warren                       ",778,"Quaboag",3473230,{"$f":"VLOOKUP(A724, localcont!$D$10:$L$1764, 8)","v":9824100.3064649906},{"$f":"VLOOKUP(A724, localcont!$D$10:$L$1764, 9)*F724","v":3129533.8105640355}]
[1553,311,"Warren                       ",860,"Pathfinder",3473230,{"$f":"VLOOKUP(A725, localcont!$D$10:$L$1764, 8)","v":1062425.7957409839},{"$f":"VLOOKUP(A725, localcont!$D$10:$L$1764, 9)*F725","v":338442.94594577572}]
[1556,312,"Warwick                      ",312,"Warwick",617980,{"$f":"VLOOKUP(A726, localcont!$D$10:$L$1764, 8)","v":860882.41},{"$f":"VLOOKUP(A726, localcont!$D$10:$L$1764, 9)*F726","v":537906.58545745502}]
[1557,312,"Warwick                      ",818,"Franklin County",617980,{"$f":"VLOOKUP(A727, localcont!$D$10:$L$1764, 8)","v":128151.98019873923},{"$f":"VLOOKUP(A727, localcont!$D$10:$L$1764, 9)*F727","v":80073.414542545011}]
[1561,313,"Washington                   ",313,"Washington",922713,{"$f":"VLOOKUP(A728, localcont!$D$10:$L$1764, 8)","v":65963.040000000008},{"$f":"VLOOKUP(A728, localcont!$D$10:$L$1764, 9)*F728","v":72473.791394027707}]
[1562,313,"Washington                   ",635,"Central Berkshire",922713,{"$f":"VLOOKUP(A729, localcont!$D$10:$L$1764, 8)","v":773857.16750932671},{"$f":"VLOOKUP(A729, localcont!$D$10:$L$1764, 9)*F729","v":850239.20860597224}]
[1566,314,"Watertown                    ",314,"Watertown",68659127,{"$f":"VLOOKUP(A730, localcont!$D$10:$L$1764, 8)","v":39855550.60148},{"$f":"VLOOKUP(A730, localcont!$D$10:$L$1764, 9)*F730","v":68659127}]
[1571,315,"Wayland                      ",315,"Wayland",52942308,{"$f":"VLOOKUP(A731, localcont!$D$10:$L$1764, 8)","v":33119434.224909998},{"$f":"VLOOKUP(A731, localcont!$D$10:$L$1764, 9)*F731","v":52942308}]
[1576,316,"Webster                      ",316,"Webster",15706901,{"$f":"VLOOKUP(A732, localcont!$D$10:$L$1764, 8)","v":31971769.840000004},{"$f":"VLOOKUP(A732, localcont!$D$10:$L$1764, 9)*F732","v":14412407.43316045}]
[1577,316,"Webster                      ",876,"Southern Worcester",15706901,{"$f":"VLOOKUP(A733, localcont!$D$10:$L$1764, 8)","v":2871640.3258993286},{"$f":"VLOOKUP(A733, localcont!$D$10:$L$1764, 9)*F733","v":1294493.5668395509}]
[1581,317,"Wellesley                    ",317,"Wellesley",157243192,{"$f":"VLOOKUP(A734, localcont!$D$10:$L$1764, 8)","v":52634797.2425},{"$f":"VLOOKUP(A734, localcont!$D$10:$L$1764, 9)*F734","v":157178908.6606288}]
[1582,317,"Wellesley                    ",915,"Norfolk County",157243192,{"$f":"VLOOKUP(A735, localcont!$D$10:$L$1764, 8)","v":21526.682954523571},{"$f":"VLOOKUP(A735, localcont!$D$10:$L$1764, 9)*F735","v":64283.339371227456}]
[1586,318,"Wellfleet                    ",318,"Wellfleet",13390089,{"$f":"VLOOKUP(A736, localcont!$D$10:$L$1764, 8)","v":1610248.3900000004},{"$f":"VLOOKUP(A736, localcont!$D$10:$L$1764, 9)*F736","v":5504868.3793351706}]
[1587,318,"Wellfleet                    ",660,"Nauset",13390089,{"$f":"VLOOKUP(A737, localcont!$D$10:$L$1764, 8)","v":2023493.5335029818},{"$f":"VLOOKUP(A737, localcont!$D$10:$L$1764, 9)*F737","v":6917607.0210942766}]
[1588,318,"Wellfleet                    ",815,"Cape Cod",13390089,{"$f":"VLOOKUP(A738, localcont!$D$10:$L$1764, 8)","v":283040.0535459778},{"$f":"VLOOKUP(A738, localcont!$D$10:$L$1764, 9)*F738","v":967613.59957055212}]
[1591,319,"Wendell                      ",319,"Wendell",735994,{"$f":"VLOOKUP(A739, localcont!$D$10:$L$1764, 8)","v":0},{"$f":"VLOOKUP(A739, localcont!$D$10:$L$1764, 9)*F739","v":0}]
[1592,319,"Wendell                      ",728,"New Salem Wendell",735994,{"$f":"VLOOKUP(A740, localcont!$D$10:$L$1764, 8)","v":1030269.736005569},{"$f":"VLOOKUP(A740, localcont!$D$10:$L$1764, 9)*F740","v":425570.51448385412}]
[1593,319,"Wendell                      ",755,"Ralph C Mahar",735994,{"$f":"VLOOKUP(A741, localcont!$D$10:$L$1764, 8)","v":559280.67882690253},{"$f":"VLOOKUP(A741, localcont!$D$10:$L$1764, 9)*F741","v":231020.43854266679}]
[1594,319,"Wendell                      ",818,"Franklin County",735994,{"$f":"VLOOKUP(A742, localcont!$D$10:$L$1764, 8)","v":192227.97035791312},{"$f":"VLOOKUP(A742, localcont!$D$10:$L$1764, 9)*F742","v":79403.04697347914}]
[1596,320,"Wenham                       ",320,"Wenham",9867059,{"$f":"VLOOKUP(A743, localcont!$D$10:$L$1764, 8)","v":0},{"$f":"VLOOKUP(A743, localcont!$D$10:$L$1764, 9)*F743","v":0}]
[1597,320,"Wenham                       ",675,"Hamilton Wenham",9867059,{"$f":"VLOOKUP(A744, localcont!$D$10:$L$1764, 8)","v":6727046.7222713241},{"$f":"VLOOKUP(A744, localcont!$D$10:$L$1764, 9)*F744","v":9558828.5898366142}]
[1598,320,"Wenham                       ",817,"Essex North Shore",9867059,{"$f":"VLOOKUP(A745, localcont!$D$10:$L$1764, 8)","v":216917.83160528351},{"$f":"VLOOKUP(A745, localcont!$D$10:$L$1764, 9)*F745","v":308230.41016338556}]
[1601,321,"Westborough                  ",321,"Westborough",38229662,{"$f":"VLOOKUP(A746, localcont!$D$10:$L$1764, 8)","v":47373904.239999995},{"$f":"VLOOKUP(A746, localcont!$D$10:$L$1764, 9)*F746","v":37223775.795680873}]
[1602,321,"Westborough                  ",801,"Assabet Valley",38229662,{"$f":"VLOOKUP(A747, localcont!$D$10:$L$1764, 8)","v":1280169.8833915864},{"$f":"VLOOKUP(A747, localcont!$D$10:$L$1764, 9)*F747","v":1005886.2043191259}]
[1606,322,"West Boylston                ",322,"West Boylston",8988059,{"$f":"VLOOKUP(A748, localcont!$D$10:$L$1764, 8)","v":11278495.76},{"$f":"VLOOKUP(A748, localcont!$D$10:$L$1764, 9)*F748","v":8988059}]
[1611,323,"West Bridgewater             ",323,"West Bridgewater",9924621,{"$f":"VLOOKUP(A749, localcont!$D$10:$L$1764, 8)","v":15250441.900000002},{"$f":"VLOOKUP(A749, localcont!$D$10:$L$1764, 9)*F749","v":9097135.1212828364}]
[1612,323,"West Bridgewater             ",872,"Southeastern",9924621,{"$f":"VLOOKUP(A750, localcont!$D$10:$L$1764, 8)","v":1387197.7439274334},{"$f":"VLOOKUP(A750, localcont!$D$10:$L$1764, 9)*F750","v":827485.87871716463}]
[1616,324,"West Brookfield              ",324,"West Brookfield",4187684,{"$f":"VLOOKUP(A751, localcont!$D$10:$L$1764, 8)","v":393567.83999999997},{"$f":"VLOOKUP(A751, localcont!$D$10:$L$1764, 9)*F751","v":225171.29508657532}]
[1617,324,"West Brookfield              ",778,"Quaboag",4187684,{"$f":"VLOOKUP(A752, localcont!$D$10:$L$1764, 8)","v":6925916.4035350084},{"$f":"VLOOKUP(A752, localcont!$D$10:$L$1764, 9)*F752","v":3962512.7049134248}]
[1621,325,"Westfield                    ",325,"Westfield",34485539,{"$f":"VLOOKUP(A753, localcont!$D$10:$L$1764, 8)","v":75008744.25999999},{"$f":"VLOOKUP(A753, localcont!$D$10:$L$1764, 9)*F753","v":34485539}]
[1626,326,"Westford                     ",326,"Westford",47335962,{"$f":"VLOOKUP(A754, localcont!$D$10:$L$1764, 8)","v":56419497.774939992},{"$f":"VLOOKUP(A754, localcont!$D$10:$L$1764, 9)*F754","v":46024701.147476599}]
[1627,326,"Westford                     ",852,"Nashoba Valley",47335962,{"$f":"VLOOKUP(A755, localcont!$D$10:$L$1764, 8)","v":1607412.4743201283},{"$f":"VLOOKUP(A755, localcont!$D$10:$L$1764, 9)*F755","v":1311260.8525233988}]
[1631,327,"Westhampton                  ",327,"Westhampton",2218214,{"$f":"VLOOKUP(A756, localcont!$D$10:$L$1764, 8)","v":1280165.0299999996},{"$f":"VLOOKUP(A756, localcont!$D$10:$L$1764, 9)*F756","v":1166641.192695678}]
[1632,327,"Westhampton                  ",683,"Hampshire",2218214,{"$f":"VLOOKUP(A757, localcont!$D$10:$L$1764, 8)","v":1153899.5389828295},{"$f":"VLOOKUP(A757, localcont!$D$10:$L$1764, 9)*F757","v":1051572.807304322}]
[1636,328,"Westminster                  ",328,"Westminster",10213504,{"$f":"VLOOKUP(A758, localcont!$D$10:$L$1764, 8)","v":0},{"$f":"VLOOKUP(A758, localcont!$D$10:$L$1764, 9)*F758","v":0}]
[1637,328,"Westminster                  ",610,"Ashburnham Westminster",10213504,{"$f":"VLOOKUP(A759, localcont!$D$10:$L$1764, 8)","v":16042876.906395076},{"$f":"VLOOKUP(A759, localcont!$D$10:$L$1764, 9)*F759","v":9344764.2974096574}]
[1638,328,"Westminster                  ",832,"Montachusett",10213504,{"$f":"VLOOKUP(A760, localcont!$D$10:$L$1764, 8)","v":1491432.3859638162},{"$f":"VLOOKUP(A760, localcont!$D$10:$L$1764, 9)*F760","v":868739.70259034471}]
[1641,329,"West Newbury                 ",329,"West Newbury",9622225,{"$f":"VLOOKUP(A761, localcont!$D$10:$L$1764, 8)","v":32981.520000000004},{"$f":"VLOOKUP(A761, localcont!$D$10:$L$1764, 9)*F761","v":43249.078929538409}]
[1642,329,"West Newbury                 ",745,"Pentucket",9622225,{"$f":"VLOOKUP(A762, localcont!$D$10:$L$1764, 8)","v":7034482.7592268055},{"$f":"VLOOKUP(A762, localcont!$D$10:$L$1764, 9)*F762","v":9224405.0632680729}]
[1643,329,"West Newbury                 ",885,"Whittier",9622225,{"$f":"VLOOKUP(A763, localcont!$D$10:$L$1764, 8)","v":270393.87028516945},{"$f":"VLOOKUP(A763, localcont!$D$10:$L$1764, 9)*F763","v":354570.85780238942}]
[1646,330,"Weston                       ",330,"Weston",102409369,{"$f":"VLOOKUP(A764, localcont!$D$10:$L$1764, 8)","v":25392258.954960003},{"$f":"VLOOKUP(A764, localcont!$D$10:$L$1764, 9)*F764","v":102409369}]
[1651,331,"Westport                     ",331,"Westport",27611562,{"$f":"VLOOKUP(A765, localcont!$D$10:$L$1764, 8)","v":20926189.139999997},{"$f":"VLOOKUP(A765, localcont!$D$10:$L$1764, 9)*F765","v":23968282.626893476}]
[1652,331,"Westport                     ",821,"Greater Fall River",27611562,{"$f":"VLOOKUP(A766, localcont!$D$10:$L$1764, 8)","v":2488546.1733393492},{"$f":"VLOOKUP(A766, localcont!$D$10:$L$1764, 9)*F766","v":2850312.4775193431}]
[1653,331,"Westport                     ",910,"Bristol County",27611562,{"$f":"VLOOKUP(A767, localcont!$D$10:$L$1764, 8)","v":692322.24507387273},{"$f":"VLOOKUP(A767, localcont!$D$10:$L$1764, 9)*F767","v":792966.89558718156}]
[1656,332,"West Springfield             ",332,"West Springfield",25994548,{"$f":"VLOOKUP(A768, localcont!$D$10:$L$1764, 8)","v":63567924.089999989},{"$f":"VLOOKUP(A768, localcont!$D$10:$L$1764, 9)*F768","v":25994548}]
[1661,333,"West Stockbridge             ",333,"West Stockbridge",2941256,{"$f":"VLOOKUP(A769, localcont!$D$10:$L$1764, 8)","v":0},{"$f":"VLOOKUP(A769, localcont!$D$10:$L$1764, 9)*F769","v":0}]
[1662,333,"West Stockbridge             ",618,"Berkshire Hills",2941256,{"$f":"VLOOKUP(A770, localcont!$D$10:$L$1764, 8)","v":1649454.7968369587},{"$f":"VLOOKUP(A770, localcont!$D$10:$L$1764, 9)*F770","v":2941256}]
[1666,334,"West Tisbury                 ",334,"West Tisbury",13945574,{"$f":"VLOOKUP(A771, localcont!$D$10:$L$1764, 8)","v":0},{"$f":"VLOOKUP(A771, localcont!$D$10:$L$1764, 9)*F771","v":0}]
[1667,334,"West Tisbury                 ",700,"Marthas Vineyard",13945574,{"$f":"VLOOKUP(A772, localcont!$D$10:$L$1764, 8)","v":2152529.6985851675},{"$f":"VLOOKUP(A772, localcont!$D$10:$L$1764, 9)*F772","v":4910075.3466878915}]
[1668,334,"West Tisbury                 ",774,"Upisland",13945574,{"$f":"VLOOKUP(A773, localcont!$D$10:$L$1764, 8)","v":3961075.5068962672},{"$f":"VLOOKUP(A773, localcont!$D$10:$L$1764, 9)*F773","v":9035498.6533121113}]
[1671,335,"Westwood                     ",335,"Westwood",52424029,{"$f":"VLOOKUP(A774, localcont!$D$10:$L$1764, 8)","v":36039140.915650003},{"$f":"VLOOKUP(A774, localcont!$D$10:$L$1764, 9)*F774","v":51863074.196737222}]
[1672,335,"Westwood                     ",806,"Blue Hills",52424029,{"$f":"VLOOKUP(A775, localcont!$D$10:$L$1764, 8)","v":174535.15414376839},{"$f":"VLOOKUP(A775, localcont!$D$10:$L$1764, 9)*F775","v":251169.40690909827}]
[1673,335,"Westwood                     ",915,"Norfolk County",52424029,{"$f":"VLOOKUP(A776, localcont!$D$10:$L$1764, 8)","v":215266.8295452357},{"$f":"VLOOKUP(A776, localcont!$D$10:$L$1764, 9)*F776","v":309785.39635368501}]
[1676,336,"Weymouth                     ",336,"Weymouth",73667717,{"$f":"VLOOKUP(A777, localcont!$D$10:$L$1764, 8)","v":89980250.507149994},{"$f":"VLOOKUP(A777, localcont!$D$10:$L$1764, 9)*F777","v":73194920.098359078}]
[1677,336,"Weymouth                     ",915,"Norfolk County",73667717,{"$f":"VLOOKUP(A778, localcont!$D$10:$L$1764, 8)","v":581220.43977213639},{"$f":"VLOOKUP(A778, localcont!$D$10:$L$1764, 9)*F778","v":472796.90164092346}]
[1681,337,"Whately                      ",337,"Whately",{"$f":"VLOOKUP(B779, town351, 7)","v":1781750},{"$f":"VLOOKUP(A779, localcont!$D$10:$L$1764, 8)","v":1127263.1800000002},{"$f":"VLOOKUP(A779, localcont!$D$10:$L$1764, 9)*F779","v":862174.96795204817}]
[1682,337,"Whately                      ",670,"Frontier",1781750,{"$f":"VLOOKUP(A780, localcont!$D$10:$L$1764, 8)","v":732421.1329079537},{"$f":"VLOOKUP(A780, localcont!$D$10:$L$1764, 9)*F780","v":560184.3278446456}]
[1683,337,"Whately                      ",818,"Franklin County",1781750,{"$f":"VLOOKUP(A781, localcont!$D$10:$L$1764, 8)","v":469890.59430126089},{"$f":"VLOOKUP(A781, localcont!$D$10:$L$1764, 9)*F781","v":359390.70420330629}]
[1686,338,"Whitman                      ",338,"Whitman",16075554,{"$f":"VLOOKUP(A782, localcont!$D$10:$L$1764, 8)","v":245151},{"$f":"VLOOKUP(A782, localcont!$D$10:$L$1764, 9)*F782","v":121225.63075050188}]
[1687,338,"Whitman                      ",780,"Whitman Hanson",16075554,{"$f":"VLOOKUP(A783, localcont!$D$10:$L$1764, 8)","v":29120554.474057086},{"$f":"VLOOKUP(A783, localcont!$D$10:$L$1764, 9)*F783","v":14399931.405223394}]
[1688,338,"Whitman                      ",873,"South Shore",16075554,{"$f":"VLOOKUP(A784, localcont!$D$10:$L$1764, 8)","v":3143410.9088055701},{"$f":"VLOOKUP(A784, localcont!$D$10:$L$1764, 9)*F784","v":1554396.9640261047}]
[1691,339,"Wilbraham                    ",339,"Wilbraham",18835979,{"$f":"VLOOKUP(A785, localcont!$D$10:$L$1764, 8)","v":0},{"$f":"VLOOKUP(A785, localcont!$D$10:$L$1764, 9)*F785","v":0}]
[1692,339,"Wilbraham                    ",680,"Hampden Wilbraham",18835979,{"$f":"VLOOKUP(A786, localcont!$D$10:$L$1764, 8)","v":28742205.408949632},{"$f":"VLOOKUP(A786, localcont!$D$10:$L$1764, 9)*F786","v":18835979}]
[1696,340,"Williamsburg                 ",340,"Williamsburg",2463745,{"$f":"VLOOKUP(A787, localcont!$D$10:$L$1764, 8)","v":2130357.6900000004},{"$f":"VLOOKUP(A787, localcont!$D$10:$L$1764, 9)*F787","v":1441003.1870121206}]
[1697,340,"Williamsburg                 ",683,"Hampshire",2463745,{"$f":"VLOOKUP(A788, localcont!$D$10:$L$1764, 8)","v":1512006.2924364267},{"$f":"VLOOKUP(A788, localcont!$D$10:$L$1764, 9)*F788","v":1022741.8129878796}]
[1701,341,"Williamstown                 ",341,"Williamstown",8559810,{"$f":"VLOOKUP(A789, localcont!$D$10:$L$1764, 8)","v":0},{"$f":"VLOOKUP(A789, localcont!$D$10:$L$1764, 9)*F789","v":0}]
[1702,341,"Williamstown                 ",715,"Mount Greylock",8559810,{"$f":"VLOOKUP(A790, localcont!$D$10:$L$1764, 8)","v":9536003.5327481683},{"$f":"VLOOKUP(A790, localcont!$D$10:$L$1764, 9)*F790","v":8266364.879256146}]
[1703,341,"Williamstown                 ",851,"Northern Berkshire",8559810,{"$f":"VLOOKUP(A791, localcont!$D$10:$L$1764, 8)","v":338515.62917374156},{"$f":"VLOOKUP(A791, localcont!$D$10:$L$1764, 9)*F791","v":293445.12074385502}]
[1706,342,"Wilmington                   ",342,"Wilmington",39818865,{"$f":"VLOOKUP(A792, localcont!$D$10:$L$1764, 8)","v":36154606.173280001},{"$f":"VLOOKUP(A792, localcont!$D$10:$L$1764, 9)*F792","v":34106748.21038378}]
[1707,342,"Wilmington                   ",871,"Shawsheen Valley",39818865,{"$f":"VLOOKUP(A793, localcont!$D$10:$L$1764, 8)","v":6055087.1537345843},{"$f":"VLOOKUP(A793, localcont!$D$10:$L$1764, 9)*F793","v":5712116.7896162188}]
[1711,343,"Winchendon                   ",343,"Winchendon",7733281,{"$f":"VLOOKUP(A794, localcont!$D$10:$L$1764, 8)","v":20130691.019999996},{"$f":"VLOOKUP(A794, localcont!$D$10:$L$1764, 9)*F794","v":6991324.4254251393}]
[1712,343,"Winchendon                   ",832,"Montachusett",7733281,{"$f":"VLOOKUP(A795, localcont!$D$10:$L$1764, 8)","v":2136376.1204824708},{"$f":"VLOOKUP(A795, localcont!$D$10:$L$1764, 9)*F795","v":741956.57457486039}]
[1716,344,"Winchester                   ",344,"Winchester",81283154,{"$f":"VLOOKUP(A796, localcont!$D$10:$L$1764, 8)","v":53860981.504270002},{"$f":"VLOOKUP(A796, localcont!$D$10:$L$1764, 9)*F796","v":80834399.309444919}]
[1717,344,"Winchester                   ",853,"Northeast Metropolitan",81283154,{"$f":"VLOOKUP(A797, localcont!$D$10:$L$1764, 8)","v":299010.91978693783},{"$f":"VLOOKUP(A797, localcont!$D$10:$L$1764, 9)*F797","v":448754.69055508304}]
[1721,345,"Windsor                      ",345,"Windsor",900400,{"$f":"VLOOKUP(A798, localcont!$D$10:$L$1764, 8)","v":65963.040000000008},{"$f":"VLOOKUP(A798, localcont!$D$10:$L$1764, 9)*F798","v":61454.846485616923}]
[1722,345,"Windsor                      ",635,"Central Berkshire",900400,{"$f":"VLOOKUP(A799, localcont!$D$10:$L$1764, 8)","v":900488.34036266268},{"$f":"VLOOKUP(A799, localcont!$D$10:$L$1764, 9)*F799","v":838945.15351438313}]
[1726,346,"Winthrop                     ",346,"Winthrop",23322377,{"$f":"VLOOKUP(A800, localcont!$D$10:$L$1764, 8)","v":28718694.131870005},{"$f":"VLOOKUP(A800, localcont!$D$10:$L$1764, 9)*F800","v":22236035.901618078}]
[1727,346,"Winthrop                     ",853,"Northeast Metropolitan",23322377,{"$f":"VLOOKUP(A801, localcont!$D$10:$L$1764, 8)","v":1403051.2392291934},{"$f":"VLOOKUP(A801, localcont!$D$10:$L$1764, 9)*F801","v":1086341.0983819205}]
[1731,347,"Woburn",347,"Woburn",66907331,{"$f":"VLOOKUP(A802, localcont!$D$10:$L$1764, 8)","v":65492150.344600007},{"$f":"VLOOKUP(A802, localcont!$D$10:$L$1764, 9)*F802","v":64179989.875395186}]
[1732,347,"Woburn",853,"Northeast Metropolitan",66907331,{"$f":"VLOOKUP(A803, localcont!$D$10:$L$1764, 8)","v":2783101.6383831981},{"$f":"VLOOKUP(A803, localcont!$D$10:$L$1764, 9)*F803","v":2727341.1246048207}]
[1736,348,"Worcester                    ",348,"Worcester",142918357,{"$f":"VLOOKUP(A804, localcont!$D$10:$L$1764, 8)","v":477974878.60999995},{"$f":"VLOOKUP(A804, localcont!$D$10:$L$1764, 9)*F804","v":142918357}]
[1741,349,"Worthington                  ",349,"Worthington",1315010,{"$f":"VLOOKUP(A805, localcont!$D$10:$L$1764, 8)","v":1568790.0099999995},{"$f":"VLOOKUP(A805, localcont!$D$10:$L$1764, 9)*F805","v":1315010}]
[1746,350,"Wrentham                     ",350,"Wrentham",21821597,{"$f":"VLOOKUP(A806, localcont!$D$10:$L$1764, 8)","v":11250378.938039999},{"$f":"VLOOKUP(A806, localcont!$D$10:$L$1764, 9)*F806","v":10797889.470404016}]
[1747,350,"Wrentham                     ",690,"King Philip",21821597,{"$f":"VLOOKUP(A807, localcont!$D$10:$L$1764, 8)","v":9816512.3988500834},{"$f":"VLOOKUP(A807, localcont!$D$10:$L$1764, 9)*F807","v":9421692.9448689595}]
[1748,350,"Wrentham                     ",878,"Tri County",21821597,{"$f":"VLOOKUP(A808, localcont!$D$10:$L$1764, 8)","v":1496934.1222736193},{"$f":"VLOOKUP(A808, localcont!$D$10:$L$1764, 9)*F808","v":1436727.5347618449}]
[1749,350,"Wrentham                     ",915,"Norfolk County",21821597,{"$f":"VLOOKUP(A809, localcont!$D$10:$L$1764, 8)","v":172213.46363618856},{"$f":"VLOOKUP(A809, localcont!$D$10:$L$1764, 9)*F809","v":165287.04996517816}]
[1751,351,"Yarmouth                     ",351,"Yarmouth",42008197,{"$f":"VLOOKUP(A810, localcont!$D$10:$L$1764, 8)","v":0},{"$f":"VLOOKUP(A810, localcont!$D$10:$L$1764, 9)*F810","v":0}]
[1752,351,"Yarmouth                     ",645,"Dennis Yarmouth",42008197,{"$f":"VLOOKUP(A811, localcont!$D$10:$L$1764, 8)","v":34541914.124059066},{"$f":"VLOOKUP(A811, localcont!$D$10:$L$1764, 9)*F811","v":38379515.181193568}]
[1753,351,"Yarmouth                     ",815,"Cape Cod",42008197,{"$f":"VLOOKUP(A812, localcont!$D$10:$L$1764, 8)","v":3265846.7720865104},{"$f":"VLOOKUP(A812, localcont!$D$10:$L$1764, 9)*F812","v":3628681.8188064327}]

{"sheet":"disthist","index":15,"n_rows":448,"n_cols":61,"rows_kept":448,"cut":false,"hidden":true,"merged":[]}
[null,null,"c70fy23","c70fy07","c70fy06","c70fy07","c70fy07","c70fy07","c70fy07",null,null,null,"c70fy09 oct 15","c70fy09 oct 15","net of $412m cut",null,"c70fy10finalmay, reflecting weymouth and chelsea waiver, june 29, 2010",null,"c70fy10final, june30, 2010; reflects what weymouth chelsea and associated districts were ELIGIBLE for after June 30 waivers",null,"fy11 fb in localcont pivoted, total difffers because of regionalizers","pymincont pivoted dec 21, reflects raynham waiver and reallocated contributions for a/s, s/b oakhamfor comparison purposes","ayer, shirley, berkley, somerset, freetown, lakeville, ayer/shirley,  berk/som, f/l  adjusted based upon disaagregation file; oakham aid assigned to pathfindeer","ayer, shirley, berkley, somerset,freetown, lakeville,  ayer/shirley, berk/som, freetown/lakevilleadjusted based upon disaagregation file","ayer, shirley, berkley, somerset, freetown, lakeville, ayer/shirley, berk/som, freetown/lakeville  adjusted based upon disaagregation file","c70fy12, oct 14; monomoy, chatham harwich, granville, st","c70fy12, oct 14; monomoy, chatham harwich, granville, st","c70fy12, oct 14; monomoy, chatham harwich, granville, st","c70fy13; adjusts Lanesborough, Chesire, Berlin, Boylston, Ayer, N Berkshire, Nashoba Valley, Berlin Boylston","c70fy13; adjusts Lanesborough, Chesire, Berlin, Boylston, Ayer, N Berkshire, Nashoba Valley, Berlin Boylston","c70fy13; adjusts Lanesborough, Chesire, Berlin, Boylston, Ayer, N Berkshire, Nashoba Valley, Berlin Boylston; New Bedford","c70fy14; adjusts Acton Boxborough; removes Essex","c70fy14; adjusts Acton Boxborough; removes Essex","c70fy14; adjusts Acton Boxborough; removes Essex and allocates aid to sending districts","c70fy15","c70fy15","c70fy15; adjusts Gateway and Worthington; Peabody and ENS","c70fy16","c70fy16","c70fy16, $1M for Framingham (found reserve)","c70fy17","c70fy17","c70fy17\nMinuteman, Boxborough, Carlisle, Lincoln, Sudbury, Wayland, Weston","c70fy18","c70fy18","c70fy18\n","c70fy19\n","c70fy19\n","c70fy19\n","c70fy20","c70fy20","c70fy20","c70fy21","c70fy21","c70fy21","c70fy22","c70fy22","c70fy22","c70fy23","c70fy23","c70fy23 \nincl. base aid adjustments for Warwick and Pioneer"]
[]
[1,2,3,4,5,6,7,8,9,10,11,12,13,14,15,16,17,18,19,20,21,22,23,24,25,26,27,28,29,30,31,32,33,34,35,36,37,38,39,40,41,42,43,44,45,46,47,{"$f":"AU3+1","v":48},{"$f":"AV3+1","v":49},50,51,52,53,54,55,56,57,58,59,60,61]
[]
[]
[]
[null,null,"Prior Year",null,"required",null,"Foundation","Required","FY07","Foundation","Required","FY08","Foundation","Required","chapter 70",null,"Foundation","Required","chapter 70",null,"Foundation","Required",null,null,"edujobs","Foundation","Required",null,"Foundation","Required",null,"Foundation","Required",null,"Foundation","Required",null,"Foundation","Required",null,"Foundation","Required",null,"Foundation","Required",null,"Foundation","Required",null,"Foundation","Required",null,"Foundation","Required",null,"Foundation","Required",null,"Foundation","Required"]
[null,null,"Target Aid Share","foundation","contribution","Chapter 70","Budget","Contribution","chapter 70","Budget","Contribution","chapter 70","Budget","Contribution","aid","FY09 9c cut","Budget","Contribution","aid","FY10","Budget","Contribution","c70","sfsf","total","Budget","Contribution","c70","Budget","Contribution","c70","Budget","Contribution","c70","Budget","Contribution","c70","Budget","Contribution","c70","Budget","Contribution","c70","Budget","Contribution","c70","Budget","Contribution","c70","Budget","Contribution","c70","Budget","Contribution","c70","Budget","Contribution","c70","Budget","Contribution","c70"]
["LEA","District","FY23","FY06","FY06","FY06","FY07","FY07","aid","FY08","FY08","aid","FY09","FY09","FY09","stabilization aid","FY10","FY10","FY10","sfsf","FY11","FY11","FY11","FY11","FY11","FY12","FY12","FY12","FY13","FY13","FY13","FY14","FY14","FY14","FY15","FY15","FY15","FY16","FY16","FY16","FY17","FY17","FY17","FY18","FY18","FY18","FY19","FY19","FY19","FY20","FY20","FY20","FY21","FY21","FY21","FY22","FY22","FY22","FY23","FY23","FY23"]
[1,"Abington                     ",41.3,16523760,10191983,6869653,17243088.48,10835090,7152781,18063555.577898104,11492886,7448806,19020902.029999997,11903143,6987394,821183,19474318.639892824,12084604,7652405,0,18226050.298500001,11741657,7205352,38682,462271,17359608.879999999,12056554,7244034,18273059.900000002,12498017,7324394,18967492.810000002,13020494,7374594,18287521.510000002,12943494,7423394,18870910.490000002,13029356,7472269,19481152.105999999,12843377,7579849,19699144.432921756,12922903,7637749,21515960.214600004,13701008,7816931,23388476.609717574,14463601,8933994,25332546.714959998,15287069,10045478,26529795.66124,15771170,10858340,29563170.916989997,16599047,12964124]
[2,"Acton                        ",17.5,16798342,14323943,2723714,17472326.599199999,14258025,3214302,18387597.604836155,14103803,4283795,19355313.269600004,14127172,4678327,549814,19717633.622768261,14236925,5123578,357131,19649104.540190399,14516319,5160527,27704,353078,19614092.674799997,14543128,5188231,20151482.417030003,14761130,5537500.2082832009,13308,9807,1699,0,0,0,0,0,0,0,0,0,0,0,0,0,0,0,0,0,0,0,0,0,0,0,0,0,0,0]
[3,"Acushnet                     ",39.21,10752617,4702995,6049622,10925643.810000001,5021780,6138021,10761756.058842914,5158813,6206921,11395406.830000002,5414309,5825831,684672,11223341.565244021,5326164,6380293,0,10323398.130179999,5401579,6007556,32251,371236,10560494.92,5591539,6039807,10945583.299999999,5840331,6088327,11227244.859999999,6098928,6118877,11538501.129999999,6393318,6150152,11701370.220000003,6720092,6181252,11862468.339999998,6851396,6250222,11736546.345857544,6867294,6286522,12395984.840000002,7125126,6323332,13443441.482329441,7498601,6361492,13990412.9,7889510,6361492,13489100.060000001,7882117,6397702,14410940.639999999,8355453,6469222]
[4,"Adams                        ",66.989999999999995,0,0,0,0,0,0,0,0,0,11943.49,2802,9141,0,12306.57500478469,3310,8958,39,0,0,0,0,0,0,0,0,12697.210000000001,3609,9088,0,0,0,0,0,0,0,0,0,0,0,0,0,0,0,0,0,0,0,0,0,0,0,0,0,0,0,0,0,0]
[5,"Agawam                       ",45.09,32319935,21493837,10826098,34566078.779999994,22041666,12524413,35551345.780867614,21602566,14029399,37698376.909999989,21211830,14752751,1733796,38739894.035965554,21200429,16156816,1382649,37851740.416679993,20906343,16620258,89225,936907,38691315.740000002,21196318,17494998,40065479.369999997,21799451,18531417.812022001,39705689.879999995,22317126,18633592.812022001,40513463.040000007,22228633,18827346.812022001,40806967.850000001,22728531,18927671.812022001,39809443.760000005,22702754,19138981.812022001,40549530.336503848,22135293,19253911.812022001,41326070.32,22474431,19367102,42227451.049391314,22951211,19477412,42427489.500000007,23256462,19477412,42850725.390000008,23421246,19949538,46476254.920000002,24515018,21961237]
[6,"Alford                       ",17.5,0,0,0,0,0,0,0,0,0,0,0,0,0,0,0,0,0,0,0,0,0,0,0,0,0,0,0,0,0,0,0,0,0,0,0,0,0,0,0,0,0,0,0,0,0,0,0,0,0,0,0,0,0,0,0,0,0,0]
[7,"Amesbury                     ",20.39,19460597,12406221,8455877,19548536.809999999,12809091,8583727,19781530.293151677,13167547,8706827,20756560.399999999,13536773,8124385,954806,21190912.030989472,13555005,8897607,0,21216914.582820002,13646574,8377810,44976,535896,21437478.949999999,13871392,8422786,21788085.690000001,14228051,8517266,22520782.300000004,14645774,{"$f":"8577441+84220","v":8661661},23277123.93,14710835,8807407,23284050.52,14749359,8867257,22775372.140000001,14489823,8995077,22137199.0502779,14640237,9061587,22830750.459999997,15155898,9127527,22996252.745490368,15621860,9190887,22553274.579999998,16118764,9190887,22473928.549999997,16512866,9248787,23505262.730000008,17438478,9361467]
[8,"Amherst                      ",21.23,11114274,5541487,5572787,11497553.710000001,5563556,5933998,11950170.523914317,5791375,6158796,12240957.26,6176229,5607673,659034,12789869.018824883,8287309,6141373,0,12104976.778860003,8244892,5782594,31044,361635,11778216.34,8330699,5813638,12123554.34,8560597,5864398,11999013.530000001,8782052,5895073,11927369.58,8808278,5925198,12222179.260000002,9033626,5954998,12153334.120000001,9054116,6020943,11871248.344619127,8817279,6055023,11969353.380000003,8946746,6088203,12803970.649125857,9508882,6122223,12512134.57,9645618,6122223,12765297.700000001,9889673,6153573,13429756.490000002,10461831,6217473]
[9,"Andover                      ",17.5,40445552,43398252,5235106,45421092.757479988,43984801,6105826,47430802.160358295,44443293,6764195,50839207.830960013,44963510,6682611,785364,52920927.943806164,46055668,7318616,0,52465302.435107633,46239193,6891063,36994,541909,53641152.655579992,47162432,6928057,55867173.864680015,48525635,7950343.1065797508,57208567.533579998,49906105,{"$f":"8465632.15952894+84220","v":8549852.1595289409},56905481.147259988,49453903,9042864.1595289409,57593754.781260006,49454967,9191614.1595289409,58523208.186840013,48754974,9768234,59213763.705395557,49146929,10066835,60546641.049729995,49950979,10595662,63835635.793936521,52178457,11668291,64237434.876240008,52995883,11668291,64739542.478479996,53410123,11837131,67357496.128189996,55569934,12167131]
[10,"Arlington                    ",17.5,31514908,29608395,5019276.8,34791436.82971999,30151702,5592669.7999999998,35888202.793767765,30613441,5814119.7999999998,38070505.063400008,31841211,5574195,655099,40248798.10830944,33205258,6104708,938832,39642105.945616916,33491571,6632057,35604,490929,41361535.892299995,34480956,6880580,43488849.24750001,35379353,8109496,46406615.112400003,36357635,10048980,47819420.315520003,37584838,10234582,50290292.382299997,39574733,10715559,51156059.770829991,41761139,11012669,54501493.562073596,43805119,11180879,58002940.646099992,46237018,11765923,62294073.096873432,48330137,13979327,64895656.34093,50343449,14566028,64412505.935059994,51220285,14741108,69496899.573259994,53603535,15893365]
[11,"Ashburnham                   ",53.9,0,0,0,0,0,0,0,0,0,0,0,0,0,0,0,0,0,12035.81568,5767,6269,0,0,0,0,0,0,0,0,0,0,0,0,0,0,0,0,0,0,0,0,0,0,0,0,0,0,0,0,0,0,0,0,0,0,0,0,0,0]
[12,"Ashby                        ",41.4,0,0,0,10849.66,3784,7066,0,0,0,0,0,0,0,0,0,0,0,36107.447039999999,17602,18505,0,0,0,0,0,0,0,0,0,0,0,0,0,0,0,0,0,0,0,0,0,0,0,0,0,0,0,0,0,0,0,0,0,0,0,0,0,0]
[13,"Ashfield                     ",17.5,88168,48246,66553,97646.94,58472,71328,158055.47,93913,98741,154299.47,98640,99291,0,171296.79213014356,113319,97305,0,227707.1532,147698,93413,0,0,244010.68,163790,93413,265614.51000000007,185836,93413,205261.50999999998,160515,93413,207026.65000000002,168768,93413,276131.65999999997,227950,93413,236011.40000000002,187511,93413,226884.18269824251,176931,93413,233861.83,163542,93413,100602.5807874735,74854,93413,117262.39999999999,96741,93413,134575.02000000002,111024,93683,141279.39000000001,110785,93683]
[14,"Ashland                      ",23.41,17600708,15268810,2710446,19209670.376520004,15739323,3470347,20160314.837740563,16316673,3843642,21548050.5513,16954069,4110859,483123,21943205.255612019,17161770,4502102,279333,21499028.046113763,17147082,4502104,24169,317887,22018866.611560002,17141832,4877035,22827562.789220002,17549961,5393484.5103722075,23024892.666360006,17849470,5455184.5103722075,23394153.285179999,18210677,5517159.5103722075,23999962.492609996,18808879,5579509.5103722075,24958578.790420003,19022776,5935803,24948345.559453651,19465664,6012213,26344731.796339996,20247938,6115970,29177890.758524973,21472389,7839520,30232498.719999995,22294876,7937623,30147061.930000003,22838677,8018443,33942250.529999994,24208528,9733723]
[15,"Athol                        ",71.760000000000005,0,0,0,0,0,0,0,0,0,0,0,0,0,0,0,0,0,0,0,0,0,0,0,0,0,0,0,0,0,0,0,0,0,0,0,0,0,26341.840000000004,3873,22469,26833.666687179095,4106,22728,13837.16,2099,13837.16,0,0,0,0,0,0,0,0,0,0,0,0]
[16,"Attleboro                    ",51.31,49581258,24133853,26883243.999999996,51622674.860000007,26137000,27866185.999999996,53454656.395922035,27572010,28728682.999999996,56616897.470000006,28727620,27069945.999999996,3181356,58918761.277305275,28533080,29646276,739405,57958272.469619997,29329457,28610552,153594,1774285,59072872.719999991,30079922,28992951,63511315.789999999,31014381,32496935,65997192.829999998,31917394,34079799,66876305.419999994,32678917,34235474,68325590.250000015,33083184,35242406,68466287.280000016,32806836,35659451,69495854.734565571,33973326,35846981,72980818.829999998,35206834,37773985,77760770.558410808,36638947,41121824,79207276.429999992,38037529,41169747,80741145.670000002,39217459,41523687,89310929.609999999,41515915,47795015]
[17,"Auburn                       ",42.42,16499311,14372371,3851160.4,17023458.98,14092633,4305255.4000000004,18480214.973095328,14055240,5071081.4000000004,19659678.48,13968259,5197030.4000000004,610773,20439500.344528228,14187753,5691647,560100,20652528.680219997,14065172,6460963,34685,91709,20662647.859999999,14287674,6495648,22131023.739999998,14570334,7942820.3625045,22143759.650000002,14877912,8141597.1613508752,22469656.549999997,14563293,8389817.1613508761,22643826.370000001,14394734,8448392.1613508761,23122124.420000002,14141768,8983238,24064548.393377755,13986014,10078534,25672129.779999997,14624535,11066959,26762943.249616574,15076760,11851108,27521289.789999999,15309359,12211931,27367440.740000006,15568309,12284561,30252650.170000002,16217482,14035168]
[18,"Avon                         ",36.44,4314744,5219399,598615.19999999995,4744879.2,5087039,689890.2,4908325.580745657,4879669,821450.2,4880185.91,4634153,787773.2,92582,5079184.7577110045,4655392,862748,0,5003299.8623400005,4683156,812346,4361,59766,5311469.62,4662241,816707,5330691.71,4889789,874133.94566824997,5277960.9499999993,4882181,902872.92975868739,5301350.57,4680844,946828.92975868739,5497208.8500000006,4485828,1011381,5736311.7000000011,4321841,1414471,5634205.6633891659,4254900,1430611,6193899.0300000012,4386495,1807404,6653932.0309206927,4537696,2116236,7045846.1099999985,4598969,2448769,7016240.1299999999,4689958,2465569,8289241.6600000001,5081884,3207358]
[19,"Ayer                         ",24.48,8246427,6215760,3640814,8871545.0322399996,6363490,3883672,9386273.5519316979,6352709,4095225,9764441.5805200022,6347229,3805903,447283,10086779.713210486,6445455,4168122,0,643993,415421.3758135406,253793,1362,16107,769483.96129999985,504740,264744,104146,557301,38995,0,0,0,0,0,0,0,0,0,0,0,0,0,0,0,0,0,0,0,0,0,0,0,0,0,0,0,0,0,0]
[20,"Barnstable                   ",17.5,47026157,46712289,6420888,47204345.670000002,46877880,6788862,48539833.542866066,45893085,7300545,49407513.479999997,45447325,6930189,814460,50897964.509274639,45599938,7589756,0,49664767.726020001,44936193,7146363,38365,542328,49571418,44732590,7184728,52647431.899999999,46300239,7401888,53905631.089999996,47284048,7909787.3601874998,53870372.68999999,46207751,8440922.3601875007,55521659.879999995,46784953,8736707,57300644.839999989,47453547,9847098,58000134.653313488,48045485,10011348,60393953.440000013,49825012,10568941,63524348.519651115,51296149,12228200,65773443.140000001,52762387,13011056,65238260.339999989,53821564,13165466,75594779.840000004,56888584,18706196]
[21,"Barre                        ",61.07,19593,9834,15043,21699.32,7253,16444,22710.54,6521,17100,23886.98,7013,17858,0,61532.87502392345,22041,17501,21991,0,0,0,0,0,12250.07,4767,7483,25394.420000000002,10406,14988,12894.02,5544,12894.02,0,0,0,0,0,0,0,0,0,0,0,0,0,0,0,0,0,0,0,0,0,0,0,0,0,0,0]
[22,"Becket                       ",17.5,48982,54219,48982,140168.19,87604,79274,146700.20000000001,105888,80981,95547.92,70485,81381,0,86146.025033492828,68508,79753,0,155492.25912,142385,76563,0,0,170510.26,161768,76563,227522.88,221631,76563,218155.53,210026,76563,246041.35,221437,76563,118799.64000000001,103997,76563,170156.80000000002,141158,76563,173216.84932388432,131694,76563,206187.50999999995,157270,76563,143717.97255353359,108529,76563,188943.82,155879,76563,207582.36000000004,163858,76923,202094.16,153855,76923]
[23,"Bedford                      ",17.5,17469341,19992834,2053688,18847501.762400001,20198035,2302613,19936512.315641664,20143875,2658496,21540315.715160001,20229106,2707008,318137,22837847.15390702,20263035,2964642,0,22281982.144923359,20213672,2791448,14986,220883,22574959.842000004,20395123,2806434,24305160.20324,20957504,3729645.7841924857,25381920.618640006,21670472,{"$f":"3907693.36520986+16844","v":3924537.3652098598},25862895.333689999,21890571,4145009.3652098598,26053076.229189999,22187734,4209634.3652098598,25950850.370000001,21694256,4352414.3652098598,26915524.993783444,22291183,4624342,27912085.889699996,23027471,4884615,29672258.159568485,24098559,5595167,30502691.57316,25097492,5595167,30729462.661080003,25351806,5674637,32246555.756910007,26379003,5867553]
[24,"Belchertown                  ",47.9,18090392,8585608,9504784,19713838.600000001,9148930,10564909,20636641.406207636,9371626,11265015,22678130.579999998,9514031,11779707,1384393,23575322.127127279,9788345,12900818,886159,22816367.782979999,9964385,12981543,69691,802818,23483392.580000002,10232132,13251261,23567308.230000004,10469424,13355141,23833924.679999996,10829462,13419341,23327151.939999998,11128856,13481666,22973661.619999997,11383708,13541691,23089848.73,11282677,13673306,23338797.006631523,11231898,13744526,23863029.98,11563925,13814846,24514320.307211746,12048062,13884146,24726417.459999997,12418125,13884146,24800115.190000001,12857028,13950266,26384198.330000002,13099002,14080886]
[25,"Bellingham                   ",29.31,19213556,11849997,7674956.0000000019,19765781.870000005,12301746,7877733.0000000019,20737641.341686606,12839032,8236349,21635191.629999999,13286678,7660683,900310,22336539.266939711,13855656,8389773,91110,21918230.382779997,14070986,7985431,42869,516233,22005905.830000002,14331642,8028300,21897110.52,14719762,8123660,22859867.109999999,15024829,8184635,22925709.119999997,15265577,8245235,23462633.450000003,15314220,8305835,22360509.420000002,15180149,8433985,22943454.173670746,15348243,8503945,23842628.519999996,15794941,8573845,24541929.425553497,16455942,8642425,24676853.43,16772086,8642425,24805882.760000002,17397231,8707945,27015991.390000001,18432465,8837425]
[26,"Belmont                      ",17.5,25508704,25370522,3002919.2,26906930.229400001,25515369,3344078.2,28888243.350710981,25916568,3857487.2,31086767.443360008,26482952,4119658,484157,33630843.731472418,27745446,4511739,1373659,32919934.323621243,28127012,5541573,29750,410300,33178102.924880005,28699894,5571323,34247348.968879998,29351497,5724243,35925169.712800004,30375090,5864908.424935,37689370.076880001,31269266,6420104,39180121.943280004,32414023,6766099,40728661.169720002,33616892,7111769,42643514.599933475,34843282,7800233,45512607.460039996,36735671,9036713,47857221.466895089,38364680,9637942,50418107.66032999,40662179,9755929,50694465.246789992,40824828,9891949,53256083.380400002,43686648,10158889]
[27,"Berkley                      ",44.11,7643922,2828497,4920431,8272940.120000001,3113070,5258969,8560781.2362940945,3328896,5405595,8827170.8099999987,3585871,4954853,582312,9064946.7510200962,3849845,5426422,0,6358267,2943167.6275719707,3785929,19984,230000,6692981.5599999996,3181543,3805913,6718784.6800000006,3109727,3837513,6637699.4999999991,3087420,3856463,6578224.6799999988,3202757,3875013,6569709.3200000003,3390355,3893088,6930346.8399999989,3591123,3934448,7359719.0961112287,3696563,3957968,7541762.2899999991,3837447,3981188,7578024.2998736957,3944412,4003448,8014902.1800000006,4170576,4003448,7950531.7800000003,4249272,4025438,8601441.5,4571797,4068938]
[28,"Berlin                       ",17.5,1495721,1260426,505156.8,1574409.8655099997,1380034,518927.8,1531631.5569803971,1426621,529127.80000000005,1559344.8398399998,1379744,482385.8,56692,1739191.978516578,1464517,528296,0,1521295.9949798398,1367714,497433,2670,32943,1493144.841,1321677,500103,1366340,1379734,428980,1449658.5541600001,1228268,433030,1474055.7653800002,1240618,437180,1394075.23704,1182830,440980,1517885.7034299998,1268093,449505,1603891.1351568666,1339179,454305,1639651.6628,1352713,0,0,0,0,0,0,0,0,0,0,0,0,0]
[29,"Bernardston                  ",44.49,0,0,0,0,0,0,0,0,0,0,0,0,0,24613.150009569381,12834,0,11779,24071.631359999999,12891,11308,0,0,12250.07,6787,11308,12697.210000000001,6666,11308,0,0,0,0,0,0,0,0,0,0,0,0,0,0,0,0,0,0,0,0,0,0,0,0,0,0,0,0,0,0]
[30,"Beverly                      ",17.5,34118143,32135174,6332869.2000000002,35715876.831259988,32889802,6612472.2000000002,37367798.212748706,33478649,6901558.2000000002,39386154.621250004,34043028,6491827.2000000002,762943,39194005.831609689,34064888,7109675,0,38562013.260270961,34027524,6694328,35938,485209,39163824.46955999,34390816,6730266,41449624.288350001,35366026,6901866,42458330.514560007,36512325,{"$f":"7033951.460012+193707","v":7227658.4600120001},43026226.781149998,36875947,7336283.4600120001,44949344.692879997,37443198,7506147,44666515.990000002,37114279,7750842,45588032.85854122,37741029,7884162,46490353.889999993,38354542,8135812,49446399.057018369,40188832,9257567,51866271.119999997,41749093,10125430,53925726.18999999,43334812,10590914,58610573.329999998,45452132,13158441]
[31,"Billerica                    ",17.5,44723745,33169789,13000488.000000002,47634963.546500005,33645086,14140521.000000002,48947057.0166407,33836479,15747049.000000002,51035401.591280006,33569444,15629163,1836795,52105541.174899884,33750443,17116639,1238459,48993356.292637311,33261644,17282794,92782,1127922,50875415.991750009,33909226,17375576,52527991.367600001,34773532,18204887.04653937,51957284.506579995,35443588,{"$f":"18343562.0465394+8422","v":18351984.0465394},50581059.937599994,35165450,18486609.0465394,51437518.584149994,35483899,18620584.0465394,49371895.506909996,34830635,18904494.0465394,49374269.014992416,35556235,19055514.0465394,50010476.058320001,37025362,19202874.0465394,51908631.204447828,39371685,19348854,52647471.612599999,41417136,19348854,52245953.957079992,43102912,19489674,57705837.690000005,46197969,19777194]
[32,"Blackstone                   ",48.41,78960,54427,38854,194416.49,79381,115035,192121.28,87676,115785,214016.92,93849,127344,0,208216.51714449763,92534,124797,0,84250.709759999998,38469,84250.709759999998,0,0,85750.49,40589,84251,88880.470000000016,43338,84251,116046.18,57626,84251,181016.85000000003,89793,91224,223331.82000000004,112108,111224,249182.32000000004,125734,125414,293968.34941619023,142085,151883,303047.63,146874,156507,357718.72900887078,174004,183898,408810.81999999995,197411,211400,446826.83999999991,218589,234189,437559.81000000006,213832,234189]
[33,"Blandford                    ",17.5,48982,35517,34879,65097.96,37532,43027,34065.81,19175,34065.81,59717.45,34567,45413.81,0,73839.450028708146,45404,44506,0,84250.709759999998,55481,42726,0,0,122500.7,81440,42726,88880.470000000016,61527,42726,128940.2,98474,42726,181016.85000000003,141333,43655,92399.719999999987,77583,43655,105367.36000000002,88144,43655,80501.000061537285,67637,43655,110697.28,91325,43655,114974.37804282685,91083,43655,102604.6,84649,43655,149527.79999999999,123360,43955,156977.1,129506,43955]
[34,"Bolton                       ",17.5,9973,4632,5341,11170.821760000001,8623,5551,11756.7567,9885,5654,12414.87736,10106,5769,0,0,0,5654,0,0,0,0,0,0,0,0,0,0,0,0,0,0,0,0,0,0,13623.25469,11667,1956,27251.545720000002,22684,4568,13854.834543589546,11515,4568,14264.24656,11464,4568,14861.542035353355,12091,4568,15157.29088,12505,4568,15459.313859999998,12370,4598,0,0,0]
[35,"Boston                       ",17.5,586105185,399376878,203634716.00000003,619256557.27349997,422061485,210540147.00000003,645423775.69285941,450972697,215807608.00000003,674654547.49265981,485336817,198137070.00000003,23285769,698913738.66387761,510847386,216994382,0,680748415.44375777,527398841,204317586,1096867,13086129,706116381.62752008,551817407,205414453,724294011.71002996,579960095,207858813,750290537.27947998,604305866,{"$f":"209406563+8422","v":209414985},780383012.88296986,627463814,210991435,805600562.75407994,657393838,212596335,802914847.56588995,666445514,216128435,829896970.52937865,686260642,218066495,861999611.91060007,711149680,220001735,910864776.36300993,749907338,221915045,924506066.0076499,762717504,221915045,978880394.48934996,788497356,223736165,1012695285.9958402,827212576,227236505]
[36,"Bourne                       ",17.5,17925620,14175597,4520605,19096415.879999999,14957841,4725494,19833297.543827865,15646627,4854448,20945577.219999999,16223237,4518112,530985,20772043.229703348,16779418,4948115,0,19969976.504640002,16817476,4659046,25012,321732,19955194.440000001,17178276,4684058,20413172.529999997,17508247,4771738,20231816.77,17624172,4825238,19753593.370000005,16968423,4877338,19473369.859999999,16682400,4927363,19315319.800000001,16178695,5034613,20067959.034898311,16608266,5094043,21368782.289999999,17629245,5155183,22123862.831195891,18252187,5215213,22664002.020000003,18697802,5215213,20951766.189999998,17285207,5268883,21855345.039999999,17827720,5371903]
[37,"Boxborough                   ",17.5,4097907,3155257,1318163,4120404.6616799999,3160718,1344663,4148265.2990540327,3153303,1370363,4158143.8214699994,3122645,1248173,146690,4221713.9749441538,3141987,1366966,0,3719555.6312304004,3019563,1287108,6910,83923,3688231.1508000009,3037911,1294018,3802586.1715900004,3281068,1310578,0,0,0,0,0,0,0,0,0,0,0,{"$f":"14864","v":14864},88385.021661537277,73448,14937,106694.35,87553,19141,127474.53052282683,104905,22674,143372.81232,117755,25618,144995.14512,119621,25888,171344.57700000002,138436,32909]
[38,"Boxford                      ",17.5,6071885,5163711,1491956.8,6289686.6546200002,5060226,1536106.8,6441226.7548756497,5155389,1579156.8,6868240.9885999989,5466446,1479954.8,173929,6715149.8644612292,5538616,1620806,0,6426161.3153402992,5556487,1526119,8193,106694,6278578.7740599988,5546995,1534312,6142159.6714999992,5438279,1563632,6321744.6236000005,5657134,{"$f":"1582232+25266","v":1607498},6315613.1311499998,5486948,1625748,6380974.8437599996,5508993,1643973,6361983.2980000013,5310704,1683463,6728318.9448366938,5579890,1705633,6655216.9083199995,5490554,1726753,7004474.1685977643,5765598,1747903,7419452.1552000009,6121048,1747903,7077684.451799999,5839090,1768093,8106140.9460000005,6300062,1811833]
[39,"Boylston                     ",17.5,2456202,2401450,399441.2,2596679.29,2468253,424025.2,2637266.6833377071,2412440,441425.2,2748598.3,2379694,412437.2,48471,2995460.8425033498,2540646,451690,3125,2900472.82014,2577094,428244,2299,33097,2809495.56,2592747,430543,2762062,2804850,404281,2837168.6900000004,2524555,427336.88018750004,2701535.6,2336823,443237.88018750004,2619960.2999999998,2263384,450312.88018750004,2586705.9099999997,2165226,465437.88018750004,2629403.7758567845,2172204,473687.88018750004,2856144.64,2256220,72374,429577.71528563765,344845,84733,438126.42,353125,85001,579645.30000000005,466173,113472,500350.65000000008,412789,113472]
[40,"Braintree                    ",21.59,36257909,32433077,4903921.2,39382974.82124,33034864,6348111,41131026.449868038,33655897,7475129,44050195.07244999,34532907,8516409,1000879,46447721.11701142,34269687,9326942,2851092,45861987.164652348,35115999,11466594,61558,781482,47773435.682659999,35619436,12154000,49979205.223809995,36669696,13546898.562588248,51154368.228680007,37491319,13863900.583767677,53388255.002250001,38760993,14627262,55247735.783950001,39956696,15291040,56110509.381990001,39512030,16598479,58118969.896002591,40917885,17201085,60365199.038079999,42548094,17817105,63032117.839880839,44795946,18297651,64248920.529949985,46089277,18297651,63352380.463700004,47033101,18459141,68308994.308569983,48941926,19367068]
[41,"Brewster                     ",17.5,3745908,3609192,847877.2,3716661.11,3503455,872877.2,3870065.49,3592082,899723.2,4197809.6900000004,3789305,856428.2,100650,4216302.6441186611,3870397,937937,0,4075130.8498800001,3786992,883143,4741,62353,4135853.54,3959695,887884,4270180.41,4095847,906844,4270777.8100000005,4059699,918344,4371530.74,3934378,930169,4481450.93,3903212,942019,4710846.5600000005,3929503,968749,4863009.8651172351,4034625,983449,4845032.0600000005,3997151,997669,5028082.1512436774,4091479,1011979,5175998.03,4206025,1011979,4895214.0599999996,4038551,1024909,5580574.6600000001,4228204,1352371]
[42,"Bridgewater                  ",37.56,88168,50372,88168,97646.94,52590,91714,79486.89,42308,79486.89,95547.92,49903,85767.89,0,110759.17504306222,61737,84053,0,36107.447039999999,20964,36107.447039999999,0,0,49000.28,28706,36107,38091.630000000005,22925,36107,51576.08,31717,36107,78029.39999999998,48603,36107,131999.6,81574,50426,196498.64000000004,121288,76038,200050.51601106342,124537,76038,124534.43999999997,80047,76038,129346.17529818021,81640,76038,117262.39999999999,73653,76038,104669.45999999999,65145,76248,156977.1,93380,76248]
[43,"Brimfield                    ",39.53,2082262,1222310,892997.6,2227974.4500000002,1181088,1046886,2430566.1536758002,1254545,1176021,2380996.33,1252428,1065723,125248,2416094.560888038,1320275,1167152,0,2491980.6652200003,1418885,1098967,5900,69910,2587336.7200000002,1412114,1175223,2627653.7399999998,1439707,1187947,2589280.4,1451989,1195297,2557047.06,1495359,1202422,2535170.4500000002,1464818,1209272,2386674.08,1412227,1223352,2534076.5705832485,1459687,1231392,2588960.9799999995,1544601,1239312,2714228.2124121352,1546449,1247172,3081860.73,1716855,1365006,2957057.94,1755767,1373076,3134102.29,1768013,1388436]
[44,"Brockton                     ",77.319999999999993,138977359,28667300,110310059,148050710.59000003,30752545,117298166,154658101.48941717,32078890,122579211,162730674.18000001,33821654,115352398,13556622,165249140.34832537,32323782,126330840,6594518,165226027.56366,32681998,130000851,697902,2623405,173663222.44,34080582,139582640,183049366.26000002,34969008,148088586,194125642.31999999,36202770,157922872,202656340.72,37791281,164865060,209479318.44,39438390,170040928,202933234.47,40436538,171012998,210658023.1896143,42271112,171549638,219005794.21000001,43627822,178296402.16310808,232535452.17106631,46034943,186500509,237304378.99000001,48074759,189236745,261944926.60000005,49559396,212385531,276250953.13999999,52190600,224060353]
[45,"Brookfield                   ",55.55,2025359,709065,1322058.3999999999,2063441.72,801638,1345037.4,2050160.4735631028,812205,1357887.4,2003095.25,823505,1225913.3999999999,144074,2262218.9634143542,963341,1342588,0,2318727.5348999999,997242,1296130,6958,46050,2344861.94,1042415,1303088,2462784.7700000005,1111388,1354889.719122,2368076.6400000006,1081418,1361089.719122,2293424.8199999998,1033581,1366889.719122,2475237.4299999997,1069272,1405965,2406993.0500000003,1047029,1419330,2393041.9473765823,1030082,1426350,2539081.3000000003,1093626,1445497,2740659.0357464454,1155170,1585489,2871199.0500000003,1170696,1700503,2739833.1099999994,1154807,1707403,2950079.4100000006,1240313,1721083]
[46,"Brookline                    ",17.5,43182454,61282406,5214247.2,46243374.585639991,59029263,5789916.2000000002,49807109.097208999,56651328,6667814.2000000002,52046875.491919994,53580843,6687235.2000000002,785907,55448797.678294986,53202974,7323679,0,55383764.102746435,52241986,6895830,37020,549129,57861961.59826,52548862,6932850,63110212.205569983,54160831,8949381,66334276.020650007,55964810,10369466,68558216.958700001,57398755,11159462,71400245.83788,59216726,12183520,73409265.273400009,60679638,12729627,75819883.374121532,62590117,13229766,79599261.272049993,64824584,14774677,83235896.760623336,68669614,15006787,83874467.613419995,69196436,15006787,77422819.851260006,63873826,15212527,82255132.52319999,67860485,15620467]
[47,"Buckland                     ",45.37,0,0,0,0,0,0,0,0,0,0,0,0,0,12306.57500478469,6213,0,6094,12035.81568,5834,6202,0,0,0,0,0,0,0,0,0,0,0,0,0,0,0,0,0,0,0,0,13416.833343589547,8460,4957,27674.32,17242,10478,28743.594510706713,15670,13074,29315.599999999999,16598,13074,29905.56,18425,13134,15697.710000000001,8117,13134]
[48,"Burlington                   ",17.5,26346430,31715482,3726893.6,28476092.515739989,31274657,4099584.6,29703889.542099517,30286140,4663527.5999999996,32206347.779779997,29440791,4943419.5999999996,580968,33076725.604208447,30090020,5413900,0,32935307.252465941,30061628,5097620,27366,382764,33128199.854009997,30481205,5124986,33884514.180340007,31423998,5326186.995389875,34352845.412480004,32068110,5497577.2333384063,34467698.66996,30725441,5684571.2333384063,34239007.273680001,30149693,5771296.2333384063,34371376.749679998,28843485,5961486.2333384063,35700016.024699226,29571420,6128596,37486525.891100004,30926384,6560142,39132795.405252784,32284557,6851477,40012176.135040008,33010045,7002131,40093789.187169999,33077377,7104731,44168133.059200004,35018289,9149844]
[49,"Cambridge                    ",17.5,58192422,121371348,7122204.7999999998,59270960.026400015,88906440,7772247.7999999998,58586280.466038458,83184123,8516352.8000000007,62523713.757140018,76283365,8336916.8000000007,979784,65306358.733187631,75386475,9130367,0,63289437.868766032,70899052,8596971,46152,639119,65583156.403349996,70070141,8643123,68855555.119200006,68855555,8892163,72833197.092889979,69898977,9053613,75565946.828440011,67728118,10513263,79533780.825280011,68456380,11077401,80655732.60428001,67464934,13287462,84055799.773383468,69688258,{"$f":"14474654-107112","v":14367542},88309460.905200005,72855305,15454156,95754602.358881176,78997547,16757055,97837766.086960018,80716157,17121609,100848386.94927999,83199919,17648468,105936291.71016,87397441,18538851]
[50,"Canton                       ",17.5,21297642,22689136,2658679.6,23120445.500109997,22714049,2977670.6,24474543.710445229,22506106,3369282.6,26022801.77039,22769714,3364793.6,395442,26782117.437980484,23032985,3685031,64101,26442324.635255523,23230516,3530108,18951,275998,27781523.257420003,23943285,3838238,29173938.351570003,24768223,4580646.0528811878,30084633.497920007,25615490,4751687.2551948912,30171279.553439993,25776936,4936587.2551948912,31710377.389359999,26583708,5126669,31711055.289259996,26390963,5320092,33816147.853070647,27788653,6027495,34875442.289380006,28772240,6127065,36127373.083982036,29805082,6327312,37234938.635360003,30718825,6516115,37413396.475199997,30866052,6613135,40961226.355149999,33070790,7890436]
[51,"Carlisle                     ",17.5,5380976,5527723,625736.4,5564262.385809999,5588855,695338.4,5581542.8067216659,5455408,779767.4,5703345.7581000021,5287388,762232.4,89580,5621329.9800242223,5264374,834776,0,5332769.3760069599,4994997,786008,4220,61148,5279778.722959999,5047262,790228,5237293.4315999998,5073775,815308,5211682.2159700003,5137653,839492.09694868745,5130124.3316099988,4617112,859890.09694868745,5330419.6237000003,4642180,875115.09694868745,5096190.4877600009,4276513,{"$f":"906850.096948687+7432","v":914282.09694868699},5148187.6529762335,4284734,931172.09694868699,5496906.7434400003,4534948,961959,5645404.4536545286,4644791,1009657,5783671.1796799991,4771528,1012143,5777297.3325199997,4766270,1028823,6420143.4459200008,5066173,1353970]
[52,"Carver                       ",44.02,14692519,5600310,9266231,15522693.041550003,5937552,9740177,16020593.808795983,6229859,10016064,16571482.380320001,6622023,9233907,1085201,17214969.206102479,7603064,10112726,0,16524123.59413152,7761924,9521941,51118,586792,16233062.765200002,8021055,9573059,16560679.89696,8171863,9644539,16614966.67595,8403720,9688439,16482096.760799997,8461514,9731289,16197468.462199999,8567837,9772714,16376740.850159999,8366875,9863519,16782096.605596974,8454008,9913049,16982947.176720001,8706167,9961139,17414154.77758931,9062138,10008599,18039221.234960001,9418559,10008599,17600656.3972,9595425,10053629,19740695.12156,10252128,10144409]
[53,"Charlemont                   ",49.51,78372,24481,66503,140168.19,52863,104458,180766.01,75004,130303,202073.43,86198,143418,0,183603.36713492827,78176,140550,0,96286.525439999998,48181,96286.525439999998,0,0,61250.35,31272,61250.35,63486.049999999996,33682,61250.35,77364.119999999981,42623,61250.35,65024.500000000007,36024,61250.35,65999.8,37958,61250.35,118538.28,62581,61250.35,186633.68266747385,94583,92051,178513.19,86258,92255,199628.95919998386,93353,106276,102604.6,52817,102604.6,104669.45999999999,54679,102815,109883.97,52817,102815]
[54,"Charlton                     ",43.37,9796,3731,6065,0,1019,0,0,0,0,0,0,0,0,12306.57500478469,4735,0,7572,12035.81568,4895,7269,0,0,36750.21,15574,21176,38091.630000000005,16459,21633,25788.04,11686,21633,26009.8,11935,21633,26399.920000000002,12481,21633,26341.840000000004,13326,21633,40250.500030768642,20853,21633,41511.479999999996,21350,21633,0,0,0,14657.8,7900,6759,14952.78,8396,6789,15697.710000000001,8363,7335]
[55,"Chatham                      ",17.5,4193476,7336875,477224.8,4300106.45,6443767,532283.80000000005,4585029.6806893088,6009057,613312.80000000005,4990261.8899999997,5494357,625585.80000000005,73521,4899882.2308746418,5453455,685125,0,4739534.5728599997,5103025,645100,3463,50262,0,0,0,0,0,0,0,0,0,0,0,0,0,0,0,0,0,0,0,0,0,0,0,0,0,0,0,0,0,0,0,0,0,0,0,0]
[56,"Chelmsford                   ",17.5,40243143,36260612,6876856,42592748.364599995,37179861,7440307,44064611.171122938,37500357,8365004,46153358.467759997,37130897,8440095,991910,47744450.184116684,37306579,9243365,1194506,45545882.214795649,37406417,9828091,52762,692768,45821656.65101999,38188765,9880853,47211208.199219994,38901400,10089893,46881673.41488,39656173,10218568,47335965.470179997,39489751,10346618,47241970.625249989,39434421,10473018,46800513.146480002,38219600,10746368,47405594.168949671,37968938,10894328,50869628.260760002,40222347,11047148,52945358.502223566,42445789,11199428,54223728,43879883,11199428,54364865.709999993,44851014,11348108,59337599.049999997,47375444,11962155]
[57,"Chelsea                      ",78.150000000000006,50386551,8453650,42000702,53256173.620359994,9142672,44127092,58311558.942627169,9794441,48517118,61064521.992660001,10267187,45455271,5342064,62117725.984426871,10206209,49781388,2130129,63694269.530000001,10946147,51355990,277725,1118615,64097834.562419996,11332640,52765195,67545521.032000005,11524290,56040644,73447858.946570009,11993753,61454106,77392158.150499985,12901270,64490888,84321341.850099981,13967161,70354181,83654803.231740028,14735937,71681078,87574481.054575801,16070465,{"$f":"73109660-1214292","v":71895368},94734546.746300012,17306968,77723604.353151083,100163293.24265932,18590816,81572477,105670798.9015,19903086,85769782,114106347.65687999,19018231,95092112,125093687.61760001,20484593,104609095]
[58,"Cheshire                     ",46.96,411606,147670,263936,421381.96,162084,269956,475084.72,183097,302591,499694.78,201075,316850,0,453352.7593033493,179424,310513,0,479485.93776,198341,298092,0,0,488021.36,199213,298092,38092,238032,21802,38682.05999999999,17166,21802,13004.9,5919,13004.9,13199.960000000001,6175,13004.9,0,0,0,0,0,0,0,0,0,0,0,0,14657.8,6986,7672,14952.78,7513,7702,31395.420000000002,15812,15583]
[59,"Chester                      ",46.54,147024,57724,89300,108496.6,52566,89800,158055.47,67713,121002,178186.45,77758,133451,0,183603.36713492827,77294,130782,0,167528.0748,73335,125551,0,0,170510.26,80804,125551,214825.67,97804,125551,243943.57,117682,126262,220031.55,109806,126262,210131.86,99091,126262,131709.20000000001,66688,126262,93917.833405126818,48725,93917.833405126818,55348.639999999999,28255,55349,100602.5807874735,51760,55349,131920.19999999998,68221,63699,134575.02000000002,64400,72014,109883.97,57072,72014]
[60,"Chesterfield                 ",17.5,147024,74106,85640,151017.85,79291,87945,226187.09,122154,128461,202073.43,103249,129211,0,183603.36713492827,91172,126627,0,179563.89048,95302,121562,0,0,170510.26,94294,121562,303706.14,170592,133114,256837.59,151126,133114,259046.25,153673,133114,289331.62,163969,133114,262353.24,155148,133114,267134.68272901117,162099,133114,261536.15000000002,168199,133114,300231.53998745733,197488,133114,276890.62,199297,133114,267393.48,209594,133594,296280.42,213654,133594]
[61,"Chicopee                     ",69.819999999999993,63096901,25483093,37613808,66358804.090000004,26441283,39917521,70099506.047638729,26325951,43773555,74549552.000000015,26468494,43024649,5056409,76114569.038086131,26127050,47119437,2868082,78296359.978620008,26109119,51185902,274789,726550,80257160.099999994,26628690,53628470,83403437.559999987,27382282,56021156,85269685.210000008,28420070,56849615,86339875.140000001,29088958,57250917,89726607.379999995,30214682,59511925,89575524.349999979,30016446,59936745,91782958.022283211,29420367,62362591,93898617.529999986,30063802,63834816,99336604.583217233,30513907,68822698,99981143.989999995,30903112,69078032,103803922.04000001,31307943,72495979,112893440.48,32109426,80784014]
[62,"Chilmark                     ",17.5,0,0,0,0,0,0,0,0,0,0,0,0,0,0,0,0,0,0,0,0,0,0,0,0,0,0,0,0,0,0,0,0,0,0,0,0,0,0,0,0,0,0,0,0,0,0,0,0,0,0,0,0,0,0,0,0,0,0]
[63,"Clarksburg                   ",67.930000000000007,1993186,524551,1478268,1972655.02,539994,1491068,2196793.9275769964,547599,1656057,2288928.2000000002,572047,1542133,181237,2376571.2172095692,528092,1688903,159576,2231781.7016399996,543566,1740491,9344,104994,2136484.0499999998,549697,1749835,2103294.87,569562,1758875,1986375.6900000002,576786,1764100,1905986.03,594708,1769100,1772262.85,585884,1773600,1783981.5799999998,612660,1783225,1862062.3235625066,641854,1788625,2064205.6799999997,709296,1794475,2056910.8702206635,685446,1799935,2005332.3699999996,683465,1799935,2139256.1799999997,735842,1805335,2565630.8000000003,761205,1817095]
[64,"Clinton                      ",55.85,15756067,6894665,8894104,17332015.639999997,7423486,9908530,18272407.502293319,7817673,10454735,19345443.02,8132725,10033541,1179177,19828374.571238272,8774199,10988464,65712,19382689.431299996,8846816,10408392,55877,640182,19545739.000000004,9048453,10497286,20163527.150000002,9343931,10857440.780578749,20693064.010000002,9644943,11124661.80557175,20886485.84,9674943,11251678.80557175,21129205.020000003,9800189,11329016,21580495.630000003,9661218,12016981,21918110.246938307,9770470,{"$f":"12209651-62011","v":12147640},22676410.390000004,10266561,12409849,24086138.195584625,10670037,13416101,25739349.560000002,11372125,14367225,26864608.990000002,11925947,14938662,29918745.999999996,12528207,17390539]
[65,"Cohasset                     ",17.5,10255772,9352895,1220622.8,11254255.086480001,9701624,1552631,11621501.817125602,10016645,1696971,11287341.726259999,10125783,1600696,188119,11947087.452460095,10452621,1753039,0,11786894.642872915,10479155,1650626,8861,129327,12238484.622929998,10714412,1659487,12695055.016299998,10974758,1720297,13558190.14047,11461151,2165950.0686455625,14009300.662070001,11815460,2265937.0686455625,14047813.289400002,11968705,2304762.0686455625,14622821.151839999,12122957,2499864,14375663.798876762,11992671,2545614,15141702.031119999,12491904,2649798,15680191.001538649,12936157,2748292,15514224.726079997,12799236,2748292,15385213.724099997,12692802,2790862,15911489.32886,13126979,2873722]
[66,"Colrain                      ",43.62,0,0,0,0,0,0,0,0,0,0,0,0,0,0,0,0,0,0,0,0,0,0,0,0,0,0,0,0,0,0,0,13004.9,7860,5145,13199.960000000001,8241,5145,13170.920000000002,7776,5395,13416.833343589547,7440,5977,0,0,0,0,0,0,0,0,0,0,0,0,0,0,0]
[67,"Concord                      ",17.5,13711708,16586109,1639229.6,13626561.195820002,15556720,1788313.6000000001,13775795.201134795,14723944,1975048.6,14398286.772480002,14186610,1928177.6,226606,15022515.681104843,14230911,2111688,0,14880065.931155697,14212716,1988323,10674,157941,15431249.350580001,14620020,1998997,16485820.2147,15013137,2075197,17831572.198360004,15783717,2125997,18417417.455640003,15844185,2573232,18462886.786499996,15757030,2705857,18255708.435599998,15225394,3030314,18805576.707899675,15575689,3229888,19595700.444320001,16166453,3429247,20298530.027942974,16746287,3552455,21359034.911680002,17621204,3737831,21236752.310529996,17520320,3797771,22336390.42678,18427522,3916391]
[68,"Conway                       ",20.9,900481,519131,563283.19999999995,887748.23,570221,569433.19999999995,1081794.7444083365,683924,619012.19999999995,1153948.4099999999,705236,571560.19999999995,67172,1145043.3689110049,908027,625958,0,1249385.60142,1005920,589390,3164,37129,1252208.6499999999,987728,592554,1423805.89,1108375,598954,1317133.4800000004,1067389,602704,1306815.92,1065116,606379,1311758.95,1106711,610004,1259226.5200000005,1022166,617374,1137791.5559876624,909237,620884,1045830.0300000001,858867,623884,982498.98211336427,810562,626464,894594.8200000003,738041,626464,926021.78,763968,628804,1051296.6600000004,810426,633484]
[69,"Cummington                   ",17.5,48982,82658,32727.599999999999,75947.62,69777,41165.599999999999,90842.16,76148,45639.6,166242.96,127944,70567.600000000006,0,208216.51714449763,147140,69156,0,203635.52184,157619,66390,0,0,268510.82,194827,73684,164036.83000000002,133703,73684,166579.44999999998,138227,73684,168011.94999999998,147058,73684,118799.64000000001,105143,73684,118538.28,100240,73684,120751.50009230593,96880,73684,110697.28,91325,73684,86230.783532120156,71140,73684,87946.800000000017,72556,73684,59811.12,49344,59811.12,78488.55,57133,59811.12]
[70,"Dalton                       ",52.21,166617,55122,142474,226965.47,100136,177549,271608.17,128312,203607,297621.34999999998,135954,218598,0,294362.54217799043,133527,214226,0,275850.41592,131098,205657,0,0,403261.59,190360,212902,531229.02000000014,258303,272926,513675.18,262243,272926,350080.55,180975,272926,289331.62,153272,272926,236011.40000000002,127014,236011.40000000002,240301.01604183207,128163,236011.40000000002,289210.46999999997,146665,236011.40000000002,285859.74273210397,144148,236011,379495.22,187215,236011,312251.82,155489,236581,264885,125579,236581]
[71,"Danvers                      ",17.5,26325457,27029911,3753262,27291804.810000006,27200094,3957823,28772437.490009252,27211346,4306061,29725451.43,27058817,4117771,483935,31202047.404463161,27175421,4509672,0,31223555.451959997,27353004,4246217,22796,332859,31951682.219999999,27692459,4269013,33482299.539999999,28151599,5786817.6029244997,34213600.439999998,29050571,{"$f":"6079019.44455637+101064","v":6180083.4445563704},34741461.949999996,29063843,6334657.4445563704,34881940.840000004,29397926,6426157.4445563704,35588532.009999998,29520671,6629052.4445563704,33833411.73052796,28261906,6732852.4445563704,35346165.090000004,29017711,6838332.4445563704,37107615.193679869,30032857,7108192,37325532.020000011,30589946,7108192,37556776.830000006,30917580,7209712,39586571.120000005,31703302,7883269]
[72,"Dartmouth                    ",17.5,30013625,21693435,8320190,31787364.080000002,22637645,9149719,33384729.905952133,24241171,9429258,34838597.450000003,25612050,8665307,1018378,34865610.348156936,25982767,9490011,0,33815804.735880002,26783708,8935606,47970,604210,34643308.829999998,27284947,8983576,35441243.159999996,28041617,9138016,35496365.130000003,28917668,9233066,35239525.229999997,29520834,9326041,36075718.260000005,30256260,9419066,36117171.75,29976096,9622951,36194408.009417139,30013628,9732331,37575677.390000001,30999934,9841531,38394448.348769426,31675420,9948121,38785092.380000003,31997701,9948121,38413025.859999999,31690747,10049191,42137530.870000005,33036538,10251151]
[73,"Dedham                       ",17.5,20084837,24834561,3188973.6,21999587.074999996,24648038,3524054.6,22956468.83366517,24204569,3691508.6,24352509.547620002,23678833,3521908.6,413907,25074340.33835483,23853832,3857099,0,25207774.047433194,23636066,3631768,19497,275484,25446765.917099997,23938734,3651265,26335982.540799998,24613424,3890647.9861599999,26535745.209500007,25162541,4078924.8425356252,27117828.372749999,24153827,4312267.8425356252,26929202.733199999,23751768,4379292.8425356252,26660498.619539998,22460566,4525097.8425356252,27026023.747824714,22421830,4604194,28479923.262210004,23238711,5241212,30327812.140098155,24319967,6066360,31069861.763470002,25205198,6066360,30666508.900769994,25299870,6143940,33049835.113800008,26263407,6786428]
[74,"Deerfield                    ",17.5,2642380,1930020,712360,2837157.02,1916205,920952,2894786.9036194519,1943673,951114,3308363.25,2201765,990223,116375,3364244.2070966512,2590037,1084466,0,3310478.6745599997,2602950,1021111,5482,67823,3402540.04,2702788,1026593,3431229.1799999997,2733958,1041993,3138146.3000000003,2712329,1050593,3182088.0800000005,2730251,1059343,3228031.8499999992,2757185,1067968,2985824.2499999995,2500490,1085623,3148595.0953759653,2614687,1095493,3139879.44,2590401,1104883,3354720.4057858582,2690443,1114363,3368724.2699999996,2732273,1114363,3195342.38,2636157,1123153,3310653.2399999988,2731289,1140193]
[75,"Dennis                       ",17.5,0,0,0,0,0,0,0,0,0,0,0,0,0,0,0,0,0,0,0,0,0,0,0,0,0,0,0,0,0,0,0,0,0,0,0,0,0,0,0,0,0,0,0,0,0,0,0,0,0,0,0,0,0,0,0,0,0,0]
[76,"Dighton                      ",46.05,0,0,0,0,0,0,0,0,0,0,0,0,0,0,0,0,0,0,0,0,0,0,0,0,0,0,0,0,0,0,0,0,0,0,0,0,0,0,0,0,0,0,0,0,0,0,0,0,0,0,0,0,0,0,0,0,0,0]
[77,"Douglas                      ",37.83,10549229,3948825,6600404,11244182.879999999,4402719,6966367,11934136.084547279,4703853,7317967,13091381.120000001,5025155,7217947,848279,13862037.638614353,5156920,7904901,800217,13727725.332659999,5395470,8196565,44003,505400,13936065.529999997,5567549,8368517,14220617.059999999,5766202,8454415,14221466.569999998,5973388,8493140,13898746.319999997,6212332,8530840,13645814.699999997,6463272,8567140,13394369.66,6691646,8644415,12935870.449951056,6783425,8684255,12935309.570000002,6890730,8722775,12970126.823695926,7112759,8759585,13102757.229999999,7355911,8759585,12319421.250000002,7492002,8792765,13450769.330000004,7945377,8859605]
[78,"Dover                        ",17.5,4317253,5147915,363450,4498246.3891599998,4992151,448199,4612399.3686480699,4726827,555890,4778687.8410799997,4574431,580225,68190,4840708.6085977424,4416450,635447,0,4717531.5725570414,4342062,598324,3212,48386,4590181.74,4311579,601536,4512264.4704399994,4166423,622456,4653466.1436000001,4299403,635731,4528034.3919200003,4059051,690567,4322776.7936200006,3814498,702567,4235362.0299200006,3546655,728362,4468986.3633566014,3701130,767856,4640414.5082099997,3828342,812073,4873658.0694900909,4020768,853856,4983216.4504999993,4111154,872062,4983017.6314199995,4110989,886342,5377259.1472499995,4436239,941020]
[79,"Dracut                       ",44.77,29756497,15882927,14241936.999999998,31544589.330080003,16574636,15009207,33257290.873810038,17250683,16006608,35284541.199999996,17874077,15579505,1830959,36242185.987368427,17529513,17062255,1650418,34827941.444459997,17559786,17619480,94589,1101079,35260306.700000003,17528088,17732219,36135215.210000008,18026125,18109090,37152939.319999993,18540729,{"$f":"18612210+50532","v":18662742},37334953.579999998,19220889,18761667,37644250.119999997,20168359,18858492,37207996.850000001,20566818,19068977,37300000.771409988,20889283,19182047,39508798.249999993,21923341,19297217,41837070.949357763,23013126,19413857,44096709.129999995,23979412,20128364,46058563.059999995,25045152,21013411,50418700.75,26100541,24318160]
[80,"Dudley                       ",57.87,0,0,0,0,0,0,0,0,0,0,0,0,0,0,0,0,0,0,0,0,0,0,0,0,0,0,0,0,12894.02,3632,9262,13004.9,3770,9262,13199.960000000001,3905,9295,26341.840000000004,8192,18150,26833.666687179095,8759,18150,27674.32,9399,18275,14371.797255353356,4870,14383,0,0,0,0,0,0,0,0,0]
[81,"Dunstable                    ",17.5,0,0,0,0,0,0,0,0,0,0,0,0,0,12306.57500478469,8124,0,4183,12035.81568,7678,4358,0,0,12250.07,7858,4392,12697.210000000001,8271,4426,0,0,0,0,0,0,13199.960000000001,10239,2961,13170.920000000002,10950,2961,13416.833343589547,11048,2961,13837.16,10927,2961,0,0,0,0,0,0,0,0,0,0,0,0]
[82,"Duxbury                      ",17.5,22544989,21198757,2814514.4,24332599.68414,21799788,3127346.4,25877873.382828854,22471945,3547730.4,27351540.51557,23010054,3884918,456569,28050327.867297076,23415077,4254657,380594,26964189.833086807,23687032,4364460,23430,327711,26802911.094560001,23914065,4387890,27796890.404080003,24315649,4513610,28443468.301800001,24930173,4629609.23820375,28945039.577839997,24862384,4782129.23820375,29322453.03464001,24866076,4860479.23820375,29421665.884350002,24493520,5031584.23820375,29298212.848171137,24357911,5122424.23820375,30016424.79888,24763550,5252875,30413600.834905829,25091221,5340535,30754555.552399997,25372508,5382048,29901986.556480002,24669139,5463948,31970862.733219996,25660838,6310025]
[83,"East Bridgewater             ",44.47,17015111,7598854,9416257,18126132.039999999,8088898,10037234,18786648.513602465,8685044,10382618,19759944.039999999,9220450,9750332,1145894,19857784.98755981,9205039,10678301,0,19438423.617059994,9401494,10054475,53977,626999,19386079.859999999,9557760,10108452,19766953.350000001,9774113,10196332,20120825.100000001,10170405,10251257,20492729.260000002,10728557,10306507,20764631.130000003,11106385,10361132,20397715.370000001,11201362,10479107,21105299.528073356,11373002,10543697,22148437.780000001,11682386,10609367,23021485.869153682,12183037,10847253,23574021.350000001,12580578,10995125,23394636.07,12898727,11057135,25682682.969999995,13482733,12199950]
[84,"East Brookfield              ",43.29,176413,103434,72979,172717.17,67453,105264,102197.43,29983,102197.43,95547.92,28245,95547.92,0,86146.025033492828,25739,93637,0,60179.078399999999,19896,60179.078399999999,0,0,110250.63,34586,75665,202128.46000000002,61700,140428,218155.53,71512,146644,285056.05,99040,186016,276131.65999999997,108182,186016,275524.15999999997,112798,186016,253717.84938542161,113257,186016,247698.99,118843,186016,328975.13449816412,163597,186016,335521.82,162027,186016,357110.16,175397,186676,264885,139226,186676]
[85,"Eastham                      ",17.5,1507950,2243267,252703.6,1616181.59,1929935,271644.59999999998,1859265.36,2013378,314184.59999999998,2009843.22,2095073,304723.59999999998,35812,2013733.9113952154,2116114,333725,0,2017979.0678399999,2078576,314229,1687,23709,1921167.55,1979180,315916,1990036.0999999999,1895355,324556,1954308.02,1817599,329806,1871143.94,1673613,334856,1830657.57,1584800,339456,1797116.2700000003,1503602,349191,1861930.3816340552,1558793,354681,1784959.9300000002,1472592,359871,1859186.0779373366,1533829,364971,2151871.9300000002,1775294,376578,2320433.8899999997,1914358,406076,2709776.2300000004,2235566,474210]
[86,"Easthampton                  ",32.700000000000003,14379873,7394800,7061164,14811911.220000003,7910957,7246465,16177354.557884984,8342895,7856409,16862713.349999998,8754200,7300531,857984,17116009.975915793,9909425,7995345,0,16500250.305240002,9949274,7528257,40415,471948,16577826.099999998,10194026,7568672,17510302.93,10521254,7641192,17991276.290000003,10956834,7687117,17813516.280000001,11344349,7731667,18095294,11793004,7776017,18091522.210000005,11897561,7873092,18534768.099589158,11761853,7926222,18672296.820000004,12132351,7977702,19700559.137801927,12320207,8029692,20082994.249999996,12651233,8029692,19817458.09,12976004,8078592,21391869.32,13077217,8314652]
[87,"East Longmeadow              ",38.92,19356365,16081730,3415856.4,20729712.940000001,16113527,4616186,22100300.970615972,15537297,6563004,23422159.73,15098039,7448721,875400,24224414.35406699,15193256,8157639,873519,23669359.72518,14824125,8675518,46574,379066,24105912.68,14975127,9130786,24771812.159999996,15279722,9767174.2199039999,24746375.960000001,15736133,9834624.2199039999,25028520.540000003,15784772,9901624.2199039999,25486357.480000004,16206963,9967774.2199039999,26003641.129999999,15891476,10115944.219904,26517601.927612852,15918988,10598614,27763311.460000001,16509582,11253729,28769862.744360216,16848895,12102248,29030299.670000002,17494208,12102248,27993088.180000003,17190078,12175958,31009727.380000003,17979103,13030624]
[88,"Easton                       ",17.5,25936350,18495624,7668206.9999999991,27484649.059999999,19567354,8115511,29177633.708206084,20413260,8764374,30904576.539999995,21110331,8764241,1030005,32240256.071471777,22529505,9598361,112390,31588230.077280004,22880367,9143450,49086,613290,32076583.279999997,23438516,9192536,33281209.900000002,24208253,9343416,33673060.710000001,25085982,9437566,34368780.379999988,25617334,9531741,34281775.100000001,26279966,9624016,34160203.240000002,25837978,9823611,34946347.827118024,26650276,9933051,36092236.609999999,27619276,10041681,37265050.035474405,28602736,10148451,37563612.82,29384825,10148451,37338104.880000003,30163362,10249641,39647570.750000007,31564199,10450341]
[89,"Edgartown                    ",17.5,2906462,3581665,343128.4,3005078.93,3288955,379680.4,2849766.471590891,3031703,415389.4,3070457.61,3082373,407713.4,47916,3245618.0710277515,3016515,446517,0,3164477.4653399996,3012929,420431,2257,33529,3286331.37,3029696,422688,3631686.44,3207706,438768,3600508.11,3160574,448818,3756339.3899999997,3220458,535881,3949969.68,3348602,601368,4012060.0799999996,3327566,684494,4120509.4730720278,3417460,703049,4383670.7300000004,3563552,820119,4884680.5483374586,4029861,854820,5167542.74,4263223,904320,5243884.84,4326205,917680,5932989.4900000002,4894716,1038273]
[90,"Egremont                     ",17.5,0,0,0,0,0,0,0,0,0,0,0,0,0,0,0,0,0,0,0,0,0,0,0,0,0,0,0,0,0,0,0,0,0,0,0,0,0,0,0,0,0,0,0,0,0,0,0,0,0,0,0,0,0,0,0,0,0,0]
[91,"Erving                       ",17.5,1736037,1696174,257383.6,1886102.04,1693156,283644.59999999998,2063705.1585349285,1733353,330352,2321411.09,1908319,369649,43443,2466755.7200229666,2035074,404830,26852,2428316.4251399999,2032401,406463,2182,30012,2407929.63,2045398,408645,2354101.85,2051456,418845,2478101.1,2103316,425470,2387006.7599999998,2050836,431895,2412269.36,2019029,438270,2249261.63,1884292,451195,2174084.4728259463,1812979,457975,2317098.66,1911606,464995,2280809.0489276485,1881667,471505,2326189.63,1919106,471505,2355746.09,1943490,477715,2504088.0100000002,2013666,490422]
[92,"Essex                        ",17.5,0,0,0,0,0,0,0,0,0,0,0,0,0,0,0,0,0,0,0,0,0,0,0,0,0,0,0,0,0,0,0,0,0,0,0,0,0,0,0,0,0,0,0,0,0,0,0,0,0,0,0,0,0,0,0,0,0,0]
[93,"Everett                      ",67.55,45371743,24514676,20857067,48207134.680500001,25038448,23168687,53450079.377155341,25416336,28033743,59682692.571389988,25762913,30352631,3567149,62892763.612918936,25931368,33241384,3720012,64793932.005067073,25957484,38091277,204491,540680,68020957.110019997,25027814,42993143,74288708.336989999,25279517,49378544.796454601,79707323.959860012,25001383,55042003.302143387,85328324.66643998,24693137,60635188,89667949.965919986,25666047,64001903,87583038.240480021,26203286,64492532,90558887.124926507,27455803,{"$f":"65650979-929397","v":64721582},96231897.969240025,28814865,68940060.192849353,105617503.49762131,30615794,75001709,109071464.1568,35431511,75001709,120819748.25191998,36483827,84335921,131079661.89111,38446657,92633005]
[94,"Fairhaven                    ",35.49,15772369,8958998,6900863.9999999991,16146316.320000002,8999243,7147073,16755601.389419528,9196548,7559053,16953034.73,9303393,6852118,805285,17423766.603881337,9798899,7504255,120613,16843034.112059999,10187330,7179423,38542,454353,17104751.050000001,10317258,7217965,17453568.07,10832169,7292285,17879851.399999999,11242923,7338560,17736701.940000001,11371020,7383635,17707799.16,11597160,7428260,18309668.060000002,11486709,7526930,18758475.280269191,11557489,7580960,19508511.550000001,11713786,7794726,20489574.57642154,12333105,8156470,20977288.109999999,12688884,8291230,20710203.66,12632417,8343040,22300570.939999998,13273418,9027153]
[95,"Fall River                   ",78.23,102479194,13825097,88654097,104481870.5,14847016,90065583,106032214.10539405,15513206,91119662,109717451.8,16580407,83793405,9847697,113237307.34539331,19000896,91768280,2468131,110588545.43874,19582705,89259672,479186,4762753,113992339.77,20197065,93795275,117801266.98000002,21470723,96330544,122984522.46999998,22747952,100236570,126851512.44000001,23922480,102929032,130963260.19999999,25218449,105744811,133322500.97999999,26181193,107141308,140367627.0677751,27932437,112435190,149318107.95999998,29668942,119649166,162111258.55386746,31184570,130926689,169915017.67999995,32906432,137016364,179465809.67000002,34286248,145182843,204753290.08000001,36332032,168421258]
[96,"Falmouth                     ",17.5,30137881,32265939,4439705.5999999996,31282681.59,32702864,4646658.5999999996,32408337.333121564,31997640,4954098.5999999996,32989864.899999995,31420687,4674989.5999999996,549421,32976356.55624881,31044599,5119922,0,32249708.827199996,30294456,4820816,25880,366051,32627799.279999997,30223796,4846696,32919523.759999994,30639342,4988896,33718540.630000003,31562698,5077571,34334682.75,30535810,5403420,35910247.149999999,30727509,5492795,35716152.020000003,29797870,5918282,35776347.341015682,29665659,6110688,37204346.420000009,30580964,6623382,38230735.995907485,31450637,6780099,38101629.059999995,31433844,6780099,36995294.280000001,30521118,6871209,41087216.109999992,32002344,9084872]
[97,"Fitchburg                    ",74.19,48848791,12405593,36443198,52232259.629999988,13502431,38857303,53959279.694781937,14179903,40080379,55478399.75,14473238,36822755,4327540,55319139.938725367,14039877,40327289,951974,54357220.723620005,14307424,39281344,210880,1921789,55048365.490000002,14570762,40477603,58628763.059999995,14936099,43692664,59765864.699999996,15456359,44309506,61364752.100000001,15954871,45409881,62363310.040000007,16662973,45700337,64368039,16963311,47404728,66887262.052477211,17058113,49829149,70117764.530000001,17761102,52356663,75293069.019942045,18599162,56693907,77039272.929999992,19328344,57710929,80948312.820000008,19699066,61251183,88839002.539999992,20577723,68261280]
[98,"Florida                      ",41.65,741408,396558,420539.6,831136.1,382280,473569,875058.42915476626,374728,500454,898069.22,381234,462482,54353,938109.73427751218,382731,506498,48881,920526.84221999999,383625,526600,2827,28377,784588.89,384062,529427,794115.07999999984,388914,532667,872998.09999999986,415121,534842,924504.84,460528,537067,872994.29,469626,539192,894111.96999999986,487635,544087,837564.72544684017,470893,546637,718962.58,450463,548737,740254.54001652624,441172,550717,747149.5,475424,550717,710252.54,432738,552457,969371.9800000001,458631,556297]
[99,"Foxborough                   ",17.5,21688050,15487944,6200106,23679618.058180004,16211628,7467990,24391941.818536025,16728189,7700920,25837985.804400004,17375190,7572812,889984,26373440.684976753,17554085,8293540,525816,25261529.643114474,17725290,8304130,44580,543071,25263537.016260002,18503444,8348710,25735907.438639998,19355356,8460190,26223593.931839999,20174842,8529165,26242664.986009996,20657534,8597390,26484573.869379997,21281099,8664640,26222277.008499999,21252070,8810280,26331117.517189495,21807366,8888190,27859184.160679996,22576625,8967870,28934003.214451049,23797381,9046950,29781054.52984,24569370,9046950,29685008.984399997,24490132,9123240,32116850.096899997,25779824,9275820]
[100,"Framingham                   ",46.1,63860283,61259855,8530320.4000000004,69363562.731240004,61627654,10628154.4,71074303.101445913,60232844,13996312.4,75064337.095980003,59230314,15333796.399999999,1802082,78471847.638417289,59169653,16793161,2509034,77781484.489536598,57763279,19634107,105405,278693,79535372.041889995,57510511,22024861,84912568.179920003,58401638,28083628.771975774,89880263.175519973,59388693,31805022.666226074,91598610.68881999,58137448,33596454.666226074,95619668.628199995,57889811,{"$f":"37729858+1000000","v":38729858},97409677.469920009,56417775,42091391,100719920.94220732,59331897,42363221,108226362.06195001,60883909,47636211.300379075,114246010.44154748,63283830,50962180,121857618.34246999,65102393,56755225,124104569.45571999,67201559,57034315,139318256.59154996,70464780,68853477]
[101,"Franklin                     ",24.7,44517161,21157822,23359339,48378503.32774999,22883906,25494597,50651137.614666902,24244322,26478420,54191343.764519997,25464638,25705683,3021023,56699650.475846313,28327955,28152172,219523,54564219.318353519,28507883,26714222,143414,1674609,55195445.872189999,29273443,26857636,57091389.563199997,30265045,27111396,57706781.893489994,31221709,27268946,57559562.145959996,32626068,27423796,57388919.031509995,34322367,27575946,56727033.490920007,35443923,27903911,57148940.326983534,36769474,28078451,57909532.281709999,38481997,28248881,59674983.513386771,40088811,28416161,60169866.394320011,41152523,28416161,59769256.119000003,42443297,28574921,62458712.611599997,44800360,28885721]
[102,"Freetown                     ",28.35,4190819,3370570,920190,4507080.37,3270816,1236264,4667891.46,3208836,1459055,4729864.9000000004,3182970,1384217,162678,4714528.3669741629,3198884,1515957,0,1175619,817563.31469409086,351185,1885,11299,1172043.8400000001,834757,353070,1240218.98,861891,378328,1272336.7400000002,903996,378328,1283278.0999999999,908860,388787,1342125.9200000004,945781,396345,1326002.28,873318,452684,1336875.3977878354,897676,452684,1281376.3199999998,845733,452684,1402131.3215247765,943415,459454,1444691.88,998607,459454,1116188.82,798958,461524,1030120.6499999999,716199,461524]
[103,"Gardner                      ",66.5,23488604,5365218,18123386,24280379.689999998,5820028,18638594,24266064.215644144,6154419,18778744,24824626.379999999,6443188,17123527,2012418,25171808.228991386,6290979,18753226,127603,24334327.323839996,6408008,17777812,95439,1071628,24492666.370000005,6454822,18037844,25131322.549999997,6708647,18422676,26124799.240000002,7163394,18961405,26236297.479999997,7521101,19023155,27133681.380000003,8111579,19085780,27651776.550000001,8469172,19225095,28300931.482949637,8779067,19521864,28813726.650000002,9088523,19725204,30422248.530316565,9418789,21003460,30692122.609999999,9927325,21003460,30713287.02,10332365,21072010,34029130.219999999,10721731,23307399]
[104,"Aquinnah",17.5,0,0,0,0,0,0,0,0,0,0,0,0,0,0,0,0,0,0,0,0,0,0,0,0,0,0,0,0,0,0,0,0,0,0,0,0,0,0,0,0,0,0,0,0,0,0,0,0,0,0,0,0,0,0,0,0,0,0]
[105,"Georgetown                   ",20.68,9890177,6461877,3428300,11110810.230000002,7042873,4067937,11765704.999744495,7509511,4294072,12224355.249999996,7808142,3977475,467447,13336299.693443066,7954056,4356024,1026220,12957759.106319999,8151601,5067813,27206,326500,13112600.769999998,8111641,5095019,13510524.82,8329567,5180958,13168838.209999999,8562303,{"$f":"5218183+42110","v":5260293},13311710.359999999,8894215,5297543,12726852.809999999,9153957,5332268,12709129.820000002,9404745,5407948,12771696.514767833,9356963,5448358,13014006.640000001,9674567,5488348,13380030.102942491,10305171,5527768,13521537.540000001,10617926,5527768,13268519.02,10680486,5564938,14264533.799999997,11007817,5639758]
[106,"Gill                         ",39.72,0,0,0,0,0,0,0,0,0,0,0,0,0,0,0,0,0,0,0,0,0,0,0,0,0,0,0,0,0,0,0,0,0,0,0,0,0,0,0,0,0,0,0,0,0,0,0,0,0,0,0,0,0,0,0,0,0,0]
[107,"Gloucester                   ",17.5,31232007,26625347,5446301.5999999996,32559971.797839999,27559732,5678695.5999999996,34505025.028608091,28613858,6019080,34138942.174929991,29038790,5551677,652453,34553577.53120216,28958748,6080047,0,33723505.701047271,29373670,5724851,30734,413662,33676197.520679988,29773120,5755585,35226845.308150001,30509144,5893705,35681068.365740001,31184657,{"$f":"5981325.49100113+92942","v":6074267.4910011301},35333205.213599995,30916076,6157967.4910011301,34881817.403679989,30325627,6238892.4910011301,34761401.33839,29058004,6413737.4910011301,35423863.383190274,29347381,6509407.4910011301,36267476.233949997,29920668,6605077.4910011301,37845891.761949673,31169618,6699157,38460242.64918001,31729700,6730543,39342679.288419999,32457710,6884969,43648880.139679991,33989778,9659102]
[108,"Goshen                       ",39.299999999999997,127431,75115,71846.8,97646.94,63992,72296.800000000003,113552.7,67109,80208.800000000003,154299.47,77762,102158.8,0,158990.21712535885,82506,100116,0,167528.0748,89091,96111,0,0,110250.63,62127,96111,189431.25,104098,96111,192367.49000000002,104174,96111,168011.94999999998,107732,96111,105599.68000000001,71097,96111,105367.36000000002,68309,96111,107334.66674871638,72157,96111,138371.6,82071,96111,143717.97255353359,88003,96111,146578.00000000003,88586,96111,134575.02000000002,87682,96381,125581.68000000001,71786,96381]
[109,"Gosnold                      ",17.489999999999998,41274,33796,8396.4,51911.4,35263,16648,54330.509943651086,37234,17097,50519.31,38690,17447,0,38313.742821052641,38151,17098,0,28361.246939999997,34636,16414,0,0,39039.35,35217,16414,35111.69,34852,16414,31217.899999999998,31218,16414,22957.61,20662,16414,31484.75,22007,16414,21496.61,18430,16414,21755.78608038156,18105,16414,22611,18574,16414,28232.853971617853,23292,16414,8254.48,6810,8254.48,41750.770000000004,34444,8404.48,8618.84,7111,8404.48]
[110,"Grafton                      ",31.35,17156243,11239997,5916246,18952992.459999997,12369492,6583500,21091974.376996525,13330299,7761675,22437094.370000001,14299322,7320485,860329,23677504.63712154,14635325,8017198,1024982,23187153.685799997,15109681,8513937,45707,552411,23744711.860000003,15535022,8559644,25114629.089999996,16118863,8995766,27387656.219999999,16893716,10493940,28066998.630000003,17847710,10571515,29002097.030000001,18689770,10650490,29937376.269999996,19574310,10827425,30005660.380291101,19822623,10921955,30766240.780000001,20470454,11015375,32167051.495621532,21474332,11108735,32659858.43,22211911,11108735,33113667.029999997,22380816,11350399,36001737.560000002,23384218,12617520]
[111,"Granby                       ",34.119999999999997,7544687,4071482,3480552,8086549.8600000003,4268438,3818112,8451939.3722802009,4295869,4156070,9035827.3699999992,4303354,4234786,497687,9050222.3941818178,4343476,4637824,68922,8636188.0120199993,4357208,4431778,23792,276151,8744249.379999999,4488653,4455570,8663530.7500000019,4623232,4493290,8574245.4499999993,4727723,4516215,8273052.5900000017,4695999,4537515,7978374.4699999979,4781695,4557815,7719354.0099999998,4716269,4600550,7516650.875846277,4649745,4622810,7333030.3400000008,4806929,4643750,7816401.3026422542,4990654,4664780,8181734.8699999992,5150983,4664780,8293230.8600000022,5148277,4685330,8631463.3900000025,5431578,4725110]
[112,"Granville                    ",24.7,2157167,1168273,1194161,2358065.48,1185776,1307669,2400533.1579714394,1206660,1331035,2341550.79,1228016,1203272,141413,2240177.4551578951,1250541,1317791,0,2244631.2231000001,1266515,1240805,6661,76800,0,0,0,0,0,0,0,0,0,0,0,0,0,0,0,0,0,0,0,0,0,0,0,0,0,0,0,0,0,0,0,0,0,0,0,0]
[113,"Great Barrington             ",17.5,0,0,0,0,0,0,0,0,0,0,0,0,0,0,0,0,0,0,0,0,0,0,0,0,0,0,0,0,0,0,0,0,0,0,0,0,0,0,0,0,0,0,0,0,0,0,0,0,0,0,0,0,0,0,0,0,0,0]
[114,"Greenfield                   ",57.23,17313166,9111371,8732668,17803363.970000003,9283824,9054173,18475981.23195523,9232071,9486783,18457057.809999999,9067762,8710983,1023745,18757500.666304301,8914962,9540033,302506,18168641.884320002,8874442,9267538,49752,572724,19123336.359999999,9165933,9957403,19845137.929999996,9446211,10481761.769687749,21688417.030000001,9832399,11932187.357180249,21246903.91,9761739,11983812.357180249,21378359.310000002,9879409,12035012.357180249,20360058.930000003,9575385,12140007.357180249,20807903.147397026,9604767,12197397.357180249,22188290.889999997,9949462,12256917.357180249,23758804.479078908,10147449,13611355,24159291.550000001,10256971,13902321,23851070.390000001,10181012,13958091,26326536.470000003,10621969,15704567]
[115,"Groton                       ",17.5,0,0,0,0,0,0,0,0,0,0,0,0,0,0,0,0,0,12362.3995134,9161,3201,0,0,12532.104200000002,9543,3201,13020.859919999999,10245,3201,0,0,0,0,0,0,0,0,0,0,0,0,0,0,0,0,0,0,0,0,0,0,0,0,0,0,0,0,0,0]
[116,"Groveland                    ",22.28,0,0,0,0,0,0,0,0,0,0,0,0,0,0,0,0,0,0,0,0,0,0,0,0,0,0,0,0,0,0,{"$f":"0+42110","v":42110},65024.500000000007,41295,42110,79199.760000000009,51428,42110,118538.28,77239,42110,134168.3334358955,90748,43420,206187.50999999995,141367,65200,185257.16194463047,131944,65200,117262.39999999999,84803,65200,134575.02000000002,100582,65470,125581.68000000001,92564,65470]
[117,"Hadley                       ",17.5,4520668,5166154,625061.19999999995,4764269,5245116,667691.19999999995,5019642.6810837509,5189433,730915.2,5205800.76,5053095,707232.2,83116,5406525.5920688985,4995543,774541,0,5658505.69092,4937924,729292,3915,57584,5783756.2999999998,5102966,733207,6074126.3499999996,5356386,815648.27781250002,6128452.2700000014,5607720,879855.99517187499,5981187.5199999996,5351851,938253.99517187499,5986156.3800000008,5261618,953528.99517187499,5790379.5499999998,4888340,985813.99517187499,5654945.3746561082,4724445,1002763.995171875,5888757.8200000003,4858225,1030533,6230653.9028760213,4968021,1279420,5921818.3199999994,4885500,1279420,5857373.9399999985,4832334,1294360,6025430.8700000001,4970980,1322740]
[118,"Halifax                      ",36.53,4947085,2594870,2352215,5102050.8600000003,2752876,2423716,5360750.4569571586,2911501,2541088,5579019.2300000014,2979985,2365166,277963,5830872.9364822973,3036721,2590266,203886,5481069.2047199989,3009340,2630918,14124,166110,5309028.63,2928688,2645042,5256094.54,2947000,2669842,5316163.6799999988,2900902,2684967,5366429.71,2903829,2699817,5540979.4299999988,2982219,2714617,5481688.6299299989,2891843,2746462,6142874.2903718846,3223996,{"$f":"2923648-4770","v":2918878},6353417.4649799988,3373628,2989257,6718564.0537173413,3664674,3063392,6764091.2584799994,3795461,3063392,6881455.87414,3833817,3081842,7179616.2489300007,4006503,3173113]
[119,"Hamilton                     ",17.5,0,0,0,0,0,0,0,0,0,0,0,0,0,0,0,0,0,0,0,0,0,0,0,0,0,0,0,0,0,0,{"$f":"0+16844","v":16844},39912.938879999994,35608,16844,0,0,0,0,0,0,0,0,0,0,0,0,0,0,0,0,0,0,0,0,0,0,0,0]
[120,"Hampden                      ",17.5,0,0,0,0,0,0,0,0,0,0,0,0,0,0,0,0,0,0,0,0,0,0,0,0,0,0,0,0,0,0,0,0,0,0,0,0,0,0,0,0,0,0,0,0,0,0,0,0,0,0,0,0,0,0,0,0,0,0]
[121,"Hancock                      ",17.5,853878,675229,178649,880073.22,741790,184299,762441.64943651087,762443,188899,856176.18,765743,183712,21591,853326.37133779912,779131,201197,0,790173.65255999996,768393,189443,1017,13112,776252.26,758287,190460,853060.55999999982,775699,194340,908416.76,820354,196865,806235.6399999999,725612,199115,700017.85,630016,200990,719680.2,604602,205060,672606.53356161958,562854,207160,715919.97,571860,209260,800339.26922275487,609145,211450,883632.04,673593,211450,936904.25999999989,689423,247481,1024022.3699999999,729685,294337]
[122,"Hanover                      ",21.84,18966432,14270699,4695733,20142433.842250001,14796651,5345783,21096225.834211223,15271206,5825020,21748945.017949998,15848159,5373174,631474,22213294.657841306,15909369,5884555,419371,21774380.339327995,16297523,5935651,31865,401910,22331596.871920001,16434712,5967516,23401737.684919998,16986703,6460513.713344737,23673254.269769996,17673274,6526113.713344737,23675035.831840001,17821949,6590763.713344737,24041587.167499997,18466336,6654913.713344737,23962139.080309998,18266304,6795548.713344737,24249684.484178498,19005451,6871448.713344737,25234803.157349996,19689734,6947439,26655202.675033823,20506773,7023879,27226298.169830002,21124278,7023879,27986422.446649998,21593458,7100319,29637166.854109999,22439160,7309583]
[123,"Hanson                       ",35.130000000000003,29389,7918,28480,32548.98,8976,30063,22710.54,6659,22710.54,11943.49,3468,11943.49,0,36919.725014354073,12160,11705,13055,48143.262719999999,16555,31588,0,0,36750.21,13241,31588,63486.049999999996,23471,40015,64470.1,24990,40015,91034.3,38572,52462,105599.68000000001,47255,58345,105367.36000000002,49870,58345,120751.50009230593,61304,59448,83022.959999999992,44311,59448,43115.391766060078,23914,43148,14657.8,8507,14657.8,14952.78,9162,14688,47093.130000000005,28410,18683]
[124,"Hardwick                     ",58.6,0,0,0,10849.66,2254,8596,0,0,0,0,0,0,0,0,0,0,0,0,0,0,0,0,0,0,0,0,0,0,0,0,0,13004.9,5113,7892,13199.960000000001,4892,8308,13170.920000000002,4778,8393,0,0,0,13837.16,5264,8588,14371.797255353356,5991,8588,29315.599999999999,11840,17476,44858.340000000004,16753,28114,31395.420000000002,11967,28114]
[125,"Harvard                      ",17.5,8751097,7733519,1207690,9436456.4439200014,8041734,1394722,9734129.4134850893,8255080,1487347,10286417.543199999,8498460,1599929,188029,10374344.582891179,8558834,1752199,63312,9724196.0291673597,8552465,1709449,9177,125810,9832645.2214000002,8627525,1718626,10074274.181770001,8807063,1763706,9949641.3842999991,8901871,1790806,9617698.6389000006,8555966,1816706,9693663.2637600005,8402066,1842181,9175786.1101999991,7758081,1896961,9274857.1529690847,7706220,1926361,9216263.0621200018,7603417,1954741,9480813.6788152698,7821672,1982671,9458347.1900000013,7803137,1982671,9395298.2599999998,7751121,2008951,9947885.4299999997,8018632,2061331]
[126,"Harwich                      ",17.5,11161455,11250796,1441301.6,11707485.16,11494628,1562803.6,12038269.950589731,11546692,1725971.6,12378598.029999999,11167921,1674475.6,196790,12611946.734974166,11483505,1833840,0,12195817.037459999,11202192,1726707,9270,133013,0,0,0,0,0,0,0,0,0,0,0,0,0,0,0,0,0,0,0,0,0,0,0,0,0,0,0,0,0,0,0,0,0,0,0,0]
[127,"Hatfield                     ",17.5,3541366,2921690,619676,3642953.19,2938353,707251,3688012.9120416823,2957523,790818,3648857.07,2998072,726623,85395,3508714.1457454548,3029964,795778,0,3258631.5302400002,3006599,749289,4022,51717,3188704,2995877,753311,3317758.7599999988,3073443,767671,3450986.7199999997,3186043,776846,3505759.1100000003,3095381,786221,3617908.4000000004,3106474,795746,3350319.81,2835513,814996,3456804.2799801859,2864170,825616,3557025.64,2934546,835846,3779440.8478222261,3053395,846256,3943217.63,3167592,846256,3877179.38,3198673,856276,4125023.4699999997,3287596,876136]
[128,"Haverhill                    ",57.56,59731907,29319627,31984671,61978683.149999999,32052321,33057731,65881401.521652639,33678683,34988016,68099107.280000016,34744794,33819377,2258641,71235841.205159843,34829065,35356458,1050318,70567491.926159993,35268131,34622057,185867,1787452,71678180.060000002,35711436,35966744,77249638.609999985,36816955,40527259.019415751,81685330.230000004,37879800,{"$f":"44126723.07174+387413","v":44514136.071740001},83661746.030000001,38734196,45091781.071740001,85387258.689999998,38924761,46462498,87808524.019999996,38182889,49625635,91533733.132029355,39059148,52474585,95275049.070000008,40630210,54644839,100463268.08911894,42109344,58353924,107173075.29000002,43835110,63349956,109839437.75000001,44857002,64982436,121331843.41000001,47425533,73906310]
[129,"Hawley                       ",17.5,48982,21657,27325,32548.98,22929,27475,11355.27,7744,11355.27,11943.49,6852,11668.27,0,49226.300019138762,29178,11435,8613,60179.078399999999,31929,28250,0,0,49000.28,31936,28250,76183.260000000009,40981,35202,38682.05999999999,25218,35202,39014.69999999999,24838,35202,65999.8,34098,35202,39512.76,25830,35202,26833.666687179095,20424,26833.666687179095,13837.16,9530,13837.16,0,0,0,14657.8,8781,5877,59811.12,46542,13300,62790.840000000004,51375,13300]
[130,"Heath                        ",59.38,0,0,0,0,0,0,0,0,0,0,0,0,0,0,0,0,0,0,0,0,0,0,0,0,0,0,0,0,0,0,0,0,0,0,0,0,0,0,0,0,0,0,0,0,0,0,0,0,0,0,0,0,0,0,0,0,0,0]
[131,"Hingham                      ",17.5,25403781,22762272,3340480.4,27560964.819960002,23564072,3996893,29139913.603763632,24642808,4497106,31044967.342000008,26194370,4340488,510109,32711413.88404119,26992341,4753585,965488,32995448.474696219,27678867,5384965,28909,403099,34007006.427199997,28453971,5553035,35828380.478589997,29594328,6234052,37036862.488399997,30669232,6396085.2338675,37371415.691150002,31288570,6499060.2338675,39001020.533249997,32512856,6603785.2338675,40329887.992679983,33379675,6950213,41440808.001251943,34293632,7147176,42815000.845129997,35322376,7492625,43961797.366181195,36268483,7695110,45460703.839160003,37505081,7955623,43233894.313900001,35667963,8074033,45163141.519900002,37259592,8306773]
[132,"Hinsdale                     ",17.5,88168,40638,75997,97646.94,51939,80464,158055.47,85670,107527,166242.96,90274,111270,0,123065.7500478469,72206,109045,0,179563.89048,109118,104683,0,0,231760.61,138940,104683,176734.04000000004,114460,104683,218155.53,163644,104683,259046.25,194505,104683,210131.86,161349,104683,222840.48,184676,104683,226884.18269824251,188237,104683,124534.43999999997,102741,104683,214000.75645533722,176551,104683,117262.39999999999,96741,104683,119622.24,96740,104923,109883.97,85327,104923]
[133,"Holbrook                     ",47.96,10315927,6313474,4191804,11106581.581619998,6669358,4533288,11701251.39486149,6808999,4892252,11345667.9342,6751013,4434897,521205,11124134.858732402,6628581,4856980,0,10564226.240915999,6698225,4573236,24551,288168,11116936.478390001,6800968,4597787,11381036.588100001,6914226,4644027,11961763.44396,7174489,4881727.8637754824,12460674.085960001,7150740,5309934,12443297.537840001,7047648,5395650,12499752.025560001,6931227,5617684,12628237.26938205,7152474,5652634,13757037.007840002,7518971,6238066,15200054.581420457,7861744,7338311,16096140.681580001,8273118,7826400,17262299.148400001,8486011,8776288,18684757.824399997,8938395,9746363]
[134,"Holden                       ",40.69,0,41626,0,0,10840,0,11355.27,8053,4441,0,0,0,0,0,0,0,0,0,0,0,0,0,0,0,0,0,0,0,0,0,0,0,0,0,13199.960000000001,7925,5275,13170.920000000002,7908,5318,13416.833343589547,7918,5499,13837.16,8242,5619,0,0,0,0,0,0,14952.78,8857,6363,15697.710000000001,8905,6793]
[135,"Holland                      ",37.97,1359210,887960,664264.4,1587801.09,867451,792435,1588437.3443519876,838841,802385,1766981.09,954681,795938,93541,1972860.5563712921,1032537,871689,68635,1871122.0890599999,1073712,885390,4753,55456,1879808.57,1112638,890143,1763923.64,1024852,897623,1787430.03,1049519,902423,1736861.59,1013330,907048,1599126.75,961437,911123,1464807.0700000003,854286,919098,1612152.0989724461,930261,923658,1748738.7699999998,1013627,928518,1957811.3888900897,1087826,933678,1899540.24,1117998,933678,1813558.83,1163643,938238,2386918.7400000002,1401973,984946]
[136,"Holliston                    ",17.5,20308343,15968390,5943728.7999999998,21289179.32736,16431845,6258871.7999999998,21897651.375525266,16494287,6476815.7999999998,23131552.826769996,16702590,6156408.7999999998,723523,23686855.094075777,16771102,6742333,173420,22575963.196708795,16700563,6511735,34958,435435,23040981.368379999,16787957,6546693,23796222.088170003,17016065,7025699.6612902638,24224596.215680003,17524292,7091024.6612902638,24025115.2018,17695327,7155224.6612902638,24361946.347450003,17968840,7219349.6612902638,24902897.913260002,17988443,7363119.6612902638,25340457.438654266,18649605,7441479.6612902638,26788678.931649998,19393070,7521070,27996289.160540704,20267619,7936216,28673820.518239997,21202129,7936216,28327730.336479999,21443054,8014336,31404798.240489997,22733659,8671139]
[137,"Holyoke                      ",80.2,67827362,6811798,61015564,72388532.229999989,7289305,65099227,73576060.433260515,7637734,66054475,75721641.38000001,7973794,60651347,7127961,76657779.796516746,8297090,66423722,1936968,73138531.001340002,8592467,64367063,345551,3815151,76399996.650000006,8863130,67536867,78653933.859999999,9198156,69455778,78916203.399999991,9463063,69621603,78698902.669999987,9692069,69785403,80596955.480000004,10055521,70541434,80344375.670000002,10380314,70897779,81981180.868534818,10580654,71400527,82326983.739999995,10886435,71590427,88111145.825201109,11074770,77036376,90161028.659999996,11207668,78953361,94346220.059999973,11493463,82853878,101613348.83999999,11842864,89770485]
[138,"Hopedale                     ",38.22,7472867,2486366,5057500,8292536.7375000007,2670563,5621974,8815309.2047224138,2839812,5975497,9235166.8740800004,2966673,5609272,659222,9728111.1448041964,4701926,6143124,0,9332695.0668703802,4752702,5784243,31052,355029,9580765.2985399999,4942015,5815295,10187944.10832,5093347,5859695,10400760.003870001,5244027,5887320,10475107.010799998,5458850,5914920,10396781.262500001,5558390,5941845,10041924.281359999,5468971,5999100,9875547.1322113276,5451538,6029670,10063593.190549999,5625392,6059280,9935233.2153440155,5786456,6087390,9927021.4951400012,5864081,6087390,10312156.29149,6099344,6114810,11008174.74,6377665,6168750]
[139,"Hopkinton                    ",17.5,24098111,19256994,4841117,25867183.04544,20502679,5364504,26814198.336775228,21690292,5538660,28242723.701650001,22606527,5179893,608759,29889258.479898021,24108745,5672879,107634,29092218.3157188,24749829,5442815,29220,392928,29701471.955480002,25246689,5472035,31278850.639399998,26008119,5705503.4027372804,32117617.453449998,26860574,5789203.4027372804,32526014.474999998,27549192,5873878.4027372804,33687637.267440006,28536777,5961103.4027372804,33817637.171700001,28266492,6152833.4027372804,34051687.916279338,28376314,6256963.4027372804,37266306.274479993,30427150,6839156,39305559.544661731,32314609,7021215,41585309.188900001,34279876,7305433,43582814.802780002,35955822,8050421,46722628.012559995,37984044,8738584]
[140,"Hubbardston                  ",41.72,9796,1348,8448,0,362,0,11355.27,3159,8196,11943.49,3356,8587,0,12306.57500478469,4308,8415,0,0,0,0,0,0,24500.14,9683,14817,0,0,0,0,0,0,0,0,0,0,0,0,0,0,0,0,0,0,0,0,0,0,0,0,0,0,0,0,0,0,0,0,0]
[141,"Hudson                       ",33.1,19050737,14410446,5370695,20737185.89144,14946735,5923344,22500615.0596264,15356761,7143854,23936352.536320001,15521036,7530326,884991,25532071.962211221,16165733,8247011,1119328,25192997.510822278,16204219,8819158,47345,569311,25384240.533760004,16175387,9208854,26736601.318939991,16738223,10247974.530620005,26971069.026599996,17041341,10495017.737085393,27792860.269480001,16943537,10859646.737085393,28189612.605080001,16846912,11342701,27512651.906879999,16516841,11490541,28097682.163007021,16800420,11571901,29167889.792099994,17227184,11940706,29439397.279731382,17734729,12020446,30603552.288509995,18666759,12020446,30183664.778300002,18931449,12095806,31921911.970039997,20140158,12241726]
[142,"Hull                         ",17.5,11353848,8981808,3687093.2,11214367.350959999,9384311,3756143.2,11280495.442531671,9618212,3823493.2,11671069.35836,9831732,3482560.2,409283,11794688.48922978,9783137,3814006,0,11155892.276219161,9798290,3591192,19279,234235,10984440.041849999,9799215,3610471,10867343.796599999,9900725,3654871,10592145.907740001,9917428,3681846,10591221.700679999,9492718,3708196,10627740.812809998,9322055,3734246,10359200.878399998,8708283,3789356,10207764.981851343,8510548,3818486,10202468.317680001,8417036,3846626,10718331.726392865,8741934,3874466,10567859.950760001,8718484,3874466,10312532.869039997,8507840,3899576,10651125.811000003,8780091,3948836]
[143,"Huntington                   ",55.61,127431,66133,89877,216115.81,74385,144631,248897.63,92185,163818,345395.31,131667,218880,0,380508.56721148331,174361,214502,0,360101.12568,174095,205922,0,0,403261.59,188394,214868,493137.38999999996,235451,257686,474993.12,238640,257686,466072.9,251663,257686,328931.5,187234,257686,328207.83999999997,191008,257686,361052.51613413799,191170,257686,372233.43000000005,195413,257686,372090.52626422414,177377,257686,423468.62,191404,257686,431874.06000000006,198796,258496,437559.81000000006,185653,258496]
[144,"Ipswich                      ",17.5,14041498,12710447,2066540,14992137.828520002,13156596,2232902,15825233.977843994,13644898,2393856,16400242.809939997,14112689,2282723,268274,16957084.776921969,14253296,2499977,203812,16906352.002642978,14393705,2545833,13667,193189,17102812.789599996,14677975,2559500,17797548.09409,15205869,2722401.9791164375,18113898.173040003,15501270,{"$f":"2834284.52940783+109486","v":2943770.52940783},18277939.337160002,15616820,3032974.52940783,18118176.856480002,15505476,3079599.52940783,17848954.323200006,14939873,3178709.52940783,17585142.68474175,14661641,3231029.52940783,17790224.73598,14676936,3282240,18376694.040241551,15160772,3332340,18495911.746960003,15259127,3332340,18360232.905999996,15147192,3379890,19884295.035099998,15849509,4034786]
[145,"Kingston                     ",33.18,7998550,4971749,3291409,8273057.0684000002,5048628,3382518,8552328.663848212,5164589,3471243,9261013.0245499983,5370868,3481041,409104,10163781.091275636,6164282,3812342,187157,9993589.1704833005,6118107,3801121,20406,208222,10250129.685999997,6235286,4014844,10455362.598579997,6361939,4130764.5356259407,10405973.177240001,6503570,4159864.5356259407,10520096.445809999,6787210,4188864.5356259407,10093730.667000001,6547555,4216164.5356259402,10429935.11328,6471707,4276884.5356259402,10083448.835693419,6275524,4308264.5356259402,10631780.77052,6659009,4340125,11332153.547165975,7314667,4372585,11789935.42196,7692593,4372585,11891965.326339999,7846238,4404865,13087068.680339999,8280400,4806669]
[146,"Lakeville                    ",30.75,4799043,2658720,2146114,5190670.9800000004,2889584,2301087,5317162.33,3023826,2348711,5543481.6000000006,3105681,2181431,256370,5602857.9883483276,3253249,2389045,0,120358,71289.72480853874,48927,263,3142,122500.7,75884,49190,189431.25,117945,71486,192367.49000000002,118421,73946,130049.00000000001,82782,73946,196931.90000000002,131323,73946,105367.36000000002,69257,73946,107334.66674871638,71015,73946,192350.35000000003,123826,73946,242744.35096604392,156739,86148,203601.62000000002,133221,86148,134575.02000000002,93268,86418,202094.16,132585,86418]
[147,"Lancaster                    ",30.05,0,0,0,0,0,0,0,0,0,0,0,0,0,0,0,0,0,0,0,0,0,0,0,0,0,0,0,0,12894.02,9530,3364,13004.9,9489,3597,26399.920000000002,18957,7443,26341.840000000004,17904,8468,13416.833343589547,9288,8468,13837.16,9663,8468,0,0,0,0,0,0,14952.78,10266,4694,31395.420000000002,21168,10227]
[148,"Lanesborough                 ",40.130000000000003,1916314,1602997,511327.6,2000612.16,1636328,598919.6,2254707.4840702428,1643144,740945.6,2340403.35,1550747,771260.6,90641,2211537.9160803831,1508600,844664,0,2101664.4740400002,1386013,795318,4270,51076,2085248.98,1418502,799588,2003814,1493112,737198,1859232.2499999993,1282510,742373,1841661.51,1232284,747323,1924866.88,1307443,752323,1846691.1099999999,1231226,762663,1897447.2242952588,1143811,{"$f":"768543-768543","v":0},0,0,0,0,0,0,29315.599999999999,18020,11311,14952.78,8521,11341,0,0,0]
[149,"Lawrence                     ",84.91,120547909,3240618,117307291,127369323.28,4587152,123087075,133779067.90829407,5310337,128507796,141941371.93000001,5886137,121747087,14308148,146793573.0315024,5813067,133334130,7646376,144327894.38892001,6144533,135531978,727596,5051357,152346056.93000001,6462722,145883335,158948561.05000004,6790964,152157597,166158253.06999999,7071945,{"$f":"159086308+320037","v":159406345},177176380.49999997,8004505,169171876,186136094.67000002,8507699,177628396,185788081.69999999,8809108,178458236,189722671.68810713,9390191,{"$f":"180602480-269999","v":180332481},196866060.98999995,10121526,188612758.94704434,210870986.66280565,10875618,199995369,218786376.44,11530073,207256303,234592260.91,12048747,222543514,253714474.64999995,13007684,240706791]
[150,"Lee                          ",17.5,5823545,5026681,1520616,6350292.3199999994,5174125,1676639,6681418.6652666908,5156036,1878003,7031845.7699999986,5144595,1850212,217444,6993248.0376650728,5210177,2026303,0,6834255.432719999,5256806,1907927,10242,126584,6866001.4999999991,5431263,1918169,7058725.3000000007,5598309,1947049,6795658.4500000011,5748371,1964149,6714728.879999999,5764466,1980674,6274000.4799999986,5563066,1995699,6504171.9400000004,5425885,2029359,6757761.9564577993,5587191,2047989,7003346.3699999992,5777761,2066619,7374237.8470487166,5858890,2085069,7515008.5899999989,6036549,2085069,7363633.6299999999,6074998,2102439,7917418.4799999995,6383000,2136039]
[151,"Leicester                    ",49.7,13764844,5533064,8584389,14951710.08,6005588,9273246,15396418.602011576,6321482,9525396,16077270.590000004,6607213,8869110,1042329,16403919.290181819,7103381,9713210,0,16141548.42372,7199987,9145765,49099,563921,16759773.840000002,7378547,9381227,16738311.800000001,7574816,9450987,16586640.989999998,7776403,9493437,16135346.720000001,7906856,9534162,16315414.450000001,8170911,9574112,15935660.719999999,7913187,9661287,16281458.222080152,7799077,9708447,17044107.479999997,8057611,9755847,17701915.196191557,8369468,9802497,18032789.120000001,8592877,9802497,17918102.010000005,8874997,9846237,19402050.66,9299222,10102829]
[152,"Lenox                        ",17.5,5379558,5779799,1111972.8,5557057.9500000002,5755763,1149222.8,5681111.1449849457,5626258,1185272.8,5690851.3399999999,5524370,1091138.8,128234,5746214.0793875596,5564115,1194985,0,5692629.6463799989,5437790,1125174,6041,80270,5550215.3299999982,5659278,1131215,5797767.8000000007,5640423,1156055,5519096.620000001,5519097,1170680,5600729.1799999997,5040656,1185105,5259228.0599999996,4733305,1198130,5241794.76,4408169,1226895,5339115.7336442946,4429745,1242525,5362646.540000001,4424183,1257705,5511981.8499129619,4547385,1272525,5736170.5799999991,4728371,1272525,5879254.1000000006,4784639,1287405,6111653.4900000002,5042114,1315905]
[153,"Leominster                   ",60.53,50087399,17364613,32722786,52403637.229999997,18470739,33951319,55214981.567387104,19608537,35606445,61199688.75,20722302,36220613,4256774,63052401.664000005,21186482,39667839,2198081,61830792.262439989,21870806,39420116,211625,2394129,64079292.579999998,22623162,41456131,66413236.799999997,23577860,42835377,67647235.61999999,24414874,43232362,68009798.659999996,25511102,43390737,68789894.089999989,26480524,43547587,69488787.129999995,27478840,43889797,69633698.04886961,27880085,44073487,72123478.449999988,28957291,44256877,77172702.956447005,30127166,47045537,79655609.189999998,30886014,48769595,81402160.149999991,32019531,49388806,91159936.339999989,33607699,57552237]
[154,"Leverett                     ",17.5,803815,973857,223181.2,852583.6,827268,239065.2,947175.22926746425,853066,261625.2,1053847.72,849640,257545.2,30268,1038637.2936880384,875032,282057,0,1122116.9748600002,937904,265580,1426,18126,1105463.82,928988,267006,1073636.7000000002,916296,271766,1092855.1200000001,934972,274716,934315.57,840884,277216,982131.53,843668,279816,997887.19000000006,837493,285371,1195068.007035923,990119,289061,1040580.59,858479,292151,1166005.2401467538,885170,295511,1203602.1499999999,992972,295511,1142444.52,942517,298661,1361700.11,970792,390908]
[155,"Lexington                    ",17.5,44428216,48013339,5197253.5999999996,48149485.159400001,48176671,5848475.5999999996,50405171.392957248,48167038,6740204.5999999996,53421979.384980008,48294113,6801697.5999999996,799359,55137317.164318644,49717650,7449035,0,53464106.958999999,49818987,7013863,37654,548918,56211262.726240009,51205216,7051517,59157960.380999997,52989430,7876798.51666875,62856513.067499988,55493228,{"$f":"8657571.33420469+8422","v":8665993.3342046905},64514813.130400017,56156903,9584428.3342046905,67063773.197500005,57095237,9968536,69116723.419239998,57485649,11631074,74054892.120399058,60055998,13998894,76234730.040079996,62875494,14217984,80260931.779566333,66088777,14438034,81400953.564800009,67155786,14438034,80618068.692389995,66509907,14647494,84119411.739810005,69398514,15058494]
[156,"Leyden                       ",17.5,0,0,0,0,0,0,0,0,0,0,0,0,0,0,0,0,0,0,0,0,0,0,0,0,0,0,0,0,0,0,0,0,0,0,0,0,0,0,0,0,0,0,0,0,0,0,0,0,0,0,0,0,0,0,0,0,0,0]
[157,"Lincoln                      ",17.5,5018892,5683798,493536.8,5151111.5048699994,5403675,575118.80000000005,5228858.1013507508,5190002,677097.8,5555855.546620002,5184708,693055.8,81450,5820338.6126000388,5207737,759016,0,5740716.07941732,5163138,714674,3837,57830,5352912.2345500002,5178637,718511,5424170.2317799991,5128408,743071,5868235.8212800017,5381474,759321,5682114.4160699993,5004725,841588,5601678.0140399989,4808245,857038,6043300.8275599992,5030628,{"$f":"1012673+19818","v":1032491},6203608.5789318336,5157876,1052081,6185737.5497599998,5103233,1082505,6701030.6023767004,5528351,1174169,6274212.1128000012,5176225,1174169,6357796.1330000004,5245182,1191509,7110979.0267200004,5866558,1244421]
[158,"Littleton                    ",17.5,11139291,10499232,1464107.2,12115413.634199999,10452829,1818491.2,12477893.258578453,10490580,2325579.2000000002,13440913.22665,10423513,2700077,317323,14231659.398570258,10530521,2957052,744086,13640184.029312642,10374233,3484917,18709,237937,13593606.621599995,10469428,3503626,14276865.484880002,10931785,3693487.508446292,14181867.184600001,11325231,3731912.508446292,14701467.741599999,11519536,3770462.508446292,15178691.897499997,11837909,3809412.508446292,14722352.576169997,11622810,3895817.508446292,15312226.682937402,12240112,3943487.508446292,15912198.077959999,12532062,3991548,16632291.76270235,13448982,4039908,16791308.800700001,13852830,4039908,16227167.91492,13387414,4085358,18465845.970000003,14142192,4323654]
[159,"Longmeadow                   ",17.5,22710932,20812705,3547400,23361827.510000005,21048279,3906490,23686877.90819297,21094587,4239607,24733177.429999996,21260686,3963684,465826,25548586.481975123,21378942,4340920,0,24685139.268599994,21321759,4087324,21942,306429,24642877.109999999,21481517,4109266,25335232.990000002,21911262,4224986,24962248.150000006,22263076,4294961,24849640.570000004,21747129,4363911,25612986.450000003,21804274,4434186,25829656.509999998,21477556,4587691,26663231.188728545,22022317,4672411,27927235.790000003,22667571,5259665,29113308.339486767,23465469,5669282,29237892.870000001,24121262,5669282,29129978.330000002,24032232,5750432,31528951.400000002,25041585,6487366]
[160,"Lowell                       ",74.16,134573109,29664794,108399118,139116837.98003998,31162657,111660607,147723629.79585069,32819557,117869547,150534733.39768001,34088424,107274461,12607274,154968734.65788475,33789587,117484100,3695048,151465731.89643282,34730786,114495103,614660,6425960,157898864.58336002,36240147,121658718,163641193.22828004,37162840,126478353,168760616.72439998,38859325,{"$f":"129901292+25266","v":129926558},176078571.80969998,40949807,135128765,177537953.73000002,43089941,135511265,183238361.64999998,44649981,138588381,189897176.96033403,45829544,144067633,198336328.19000003,47400845,150935483,212748263.5454053,49724317,163023947,218744159.73000002,51808768,166954483,232660515.38,54112190,178553488,257876444.75999999,56906426,200970019]
[161,"Ludlow                       ",41.48,22679461,13063961,9615500,24089447.75,13513577,10575871,25130130.610954065,13594068,11536063,26252078.679999992,13563370,11354310,1334399,27121644.13746221,13598080,12434935,1088629,26588449.146960001,13600623,12738623,68387,790929,26899330.039999999,13801952,13097378,27321398.960000005,14243896,13211578,27755975.950000003,14764702,13282703,27236633.910000004,14951306,13351728,27187438.540000007,15433886,13418728,27123791.77,15449969,13564533,27107617.460779078,15438923,13642593,27633670.819999997,15760434,13719693,29028174.444039177,16193284,13795983,29294399.16,16443714,13795983,28842661.469999999,16677575,13867413,30691074.190000001,17421395,14006073]
[162,"Lunenburg                    ",38.74,11716392,8601526,3708907,12276374.15,8871625,3921700,13121501.42336395,8885020,4314259,13675383.389999999,9084809,4134848,485942,13799998.378687082,9022501,4528374,249123,13414483.32636,8836567,4498396,24149,295077,13457816.690000003,8981951,4522545,14298145.129999995,9188886,5219936.6884947494,14546535.939999999,9433283,5354695.9110325621,14945462.859999999,9374156,5605871.9110325621,15341249.750000002,9506767,5834483,15538424.619999999,9187168,6351257,16554528.397230644,9282023,7272505,17203377.800000001,9678671,7538072,17948505.284198701,10176765,7771740,18301715.41,10527777,7773938,18408485.399999999,10908378,7823618,20056630.419999998,11334402,8722228]
[163,"Lynn                         ",76.66,129974090,29799249,100174841,135144695.81999999,31653289,103751349,144686831.68873173,33225614,111461218,152073058.32999998,34465340,105239589,12368129,155276011.32322299,36436147,115255564,3584300,152859294.83544001,37505365,113140585,607389,5439440,156427178.34000003,38215898,118211280,165697522.48000002,39600037,126107787,173772185.64999998,40871553,{"$f":"132900633+471634","v":133372267},181764114.65000001,43133574,138630541,191949856.55000001,44587175,147362682,192172422.52999997,46018423,151448721,201554686.66682765,48112261,{"$f":"157028802-3586376","v":153442426},217113702.87999997,50739190,167691187.76438755,238010020.23206508,52164961,185845059,252551048.48000005,53396054,199154994,268344427.44,55110068,213234359,299740597.38000005,57821484,241919113]
[164,"Lynnfield                    ",17.5,14215391,13251512,1760537.6000000001,15771023.292079998,13495114,2275909,17356642.058858942,13944761,3411881,18585463.714159999,14489660,3665072,430732,19408007.987414353,16010874,4013888,0,19103918.4621954,16284477,3779396,20290,270977,19086223.734719999,16630403,3799686,19513606.067749999,17151894,3887366,19765823.121270001,17368045,{"$f":"3941766+42110","v":3983876},19490234.623029999,17091539,4036801,19743094.595660001,17067615,4089401,20021615.672320001,16786039,4206331,21073446.154188275,17422551,4272061,22155796.556120005,18211808,4338661,23010166.94368434,18762401,4404631,23513323.468790006,19317442,4404631,23928671.94923,19741154,4469881,25488528.222080003,20492517,4996011]
[165,"Malden                       ",42.11,54185598,21722732,32462866,58405248.022889994,23530624,34874624,62297084.542392798,24505538,37791547,66974103.664699994,25736533,36900852,4336719,70256109.620756119,28341018,40412820,1502272,69445049.599893317,29256886,39466415,211873,2408479,74002031.259239987,29910919,44091112,78173570.110089988,31406125,46767445,79552182.518289998,32589651,{"$f":"46962532+101064","v":47063596},80737953.747600004,34410984,47246321,84059175.637440011,35620417,48438759,84148786.035580009,37450081,48846419,87320752.243724763,38872647,49072289,90460805.376449972,41267281,49297769,95060966.502866924,43854744,51206223,94879629.913439989,45560692,51206223,97816216.363690004,47782256,51413853,105452144.24998,51377517,54074627]
[166,"Manchester                   ",17.5,0,0,0,0,0,0,0,0,0,0,0,0,0,0,0,0,0,0,0,0,0,0,0,0,0,0,0,0,0,0,0,0,0,0,0,0,0,0,0,0,0,0,0,0,0,0,0,0,0,0,0,0,0,0,0,0,0,0]
[167,"Mansfield                    ",23.09,34070637,22637801,11432836,37066064.086240001,23186796,13879268,38933172.153506003,23627132,15306040,41292178.534949996,24028768,15447917,1815494,43173220.767601192,24399237,16918143,1855841,42531299.518475883,24405336,17778173,95441,1022220,42752257.461410008,25008185,17873614,43053921.076990001,25772728,18060214,43496373.837260008,26613090,18175039,41985292.046640001,26566576,18283964,40931631.918399997,26810067,18388239,40048769.469539993,26489859,18610109,40453621.247440323,27314680,18728069,41538657.52544,27745189,18846329,42363212.754154898,28659688,18962339,41671720.92024,29709526,18962339,41585191.998259999,29922569,19070309,43764978.669519998,31365406,19282049]
[168,"Marblehead                   ",17.5,22442162,18815418,3626744,23820222.600000001,19829287,3990936,24883005.764629867,20408599,4474407,26084987.150000002,21181516,4387801,515670,27241689.681577034,22473658,4805402,0,26691563.970600002,22521401,4524671,24290,337066,27367247.329999998,23246510,4548961,28162380.189999998,24103028,4677641,29501925.989999995,24213134,{"$f":"5288792+8422","v":5297214},30687140.549999997,25404870,5381364,30592758.849999998,25878831,5464064,30713624.370000001,25564980,5644629,30825074.044045713,25552661,5741619,31517682.5,26002088,5837259,32505638.687593605,26599814,5952147,31915735.240000002,26330482,5952147,30235711.089999996,24944462,6035307,30912361.050000004,25502698,6194847]
[169,"Marion                       ",17.5,2842071,3116566,338668.4,2997167.17,2911376,375835.4,3025165.423394056,2851568,421906.4,3162483.16,2895625,416376.4,48934,3266374.1133779911,3033215,456004,0,3153015.2271000003,2931584,429364,2305,34185,3339019.88,3088812,431669,3695947.6200000006,3317639,449149,3724025.8699999996,3296965,459899,3955020.5,3359179,595842,4014302.5699999994,3344045,670258,4098862.3900000006,3406086,694733,4343663.5149533721,3510380,833284,4470718.4500000011,3641644,846844,4612923.7963335682,3799640,860344,4522671.7799999993,3731204,860344,4374312.4499999993,3608808,872434,4816493.6300000008,3774727,1041767]
[170,"Marlborough                  ",44.63,37010306,32604757,6151638.0000000028,39489888.753479995,33387418,7207775.0000000028,41647924.173341915,33111874,9149845.0000000037,44383211.209059998,32757172,10403395,1222644,46013474.233912654,32958768,11393518,1661188,46421470.443365268,33104620,13061334,70119,185397,47531356.683839999,33125854,14405503,50561006.405809999,33652670,17545220.816238921,51938566.105600007,33591541,18678850.960200321,52135804.352599993,32592161,19543643,55409404.919719994,32493304,22916101,54854523.918049991,31931943,24140701,56761909.559497736,32073087,{"$f":"24972052-283229","v":24688823},60815717.02979999,33579775,27459350.453954868,64168256.450577833,35637847,28530409,67959735.832000002,36937156,31032674,68784010.9164,38142644,31188884,77315386.541280001,39639041,37676346]
[171,"Marshfield                   ",17.5,32271473,20214215,12057258,34872556.111840002,21245140,13627416,36714948.679464169,22881016,14129652,38563639.171119995,24240148,13086402,1537960,40253567.818422206,26140832,14331875,0,39637274.173409283,27040077,13494608,72445,878947,39583756.739600003,27951328,13567053,41137358.67464,28739555,13747293,40558278.62376,29710952,13855893,40490934.449160002,31137078,13963368,40254049.280549996,32113539,14068193,40243211.142080009,32421451,14297323,41036767.216783047,33760457,14421163,41808529.701789998,34492037,14543473,43523657.528021462,35619824,14664853,43514601.597520001,35899546,14664853,43275872.179899998,35702595,14778583,47025005.911919996,37291361,15006223]
[172,"Mashpee                      ",17.5,15407543,12020189,4044754,15474024.460000001,12882004,4145104,17073801.756701652,13860224,4425065,17636286.130000006,14142204,4051695,476170,16283467.18671005,14193190,4437308,0,16336474.718640003,14184603,4178081,22430,283872,16170543.359999999,14364504,4200511,16786403.150000002,14863230,4271711,17312286.150000002,15116709,4316511,16847491.769999996,14820989,4359861,16578175.300000003,14402235,4402061,16891753.790000003,14087772,4493526,16431104.565356754,13722805,4541226,17705538.060000002,14379434,4590756,18627382.034490988,15124670,4640166,18424932.769999996,15200570,4640166,18231111.670000002,15040667,4685466,19613343.369999997,15743229,4772946]
[173,"Mattapoisett                 ",17.5,3297524,3310959,473897.6,3387984.92,3308386,497697.6,3488042.5977460435,3193722,531510.6,3669467.71,3252117,508287.6,59736,3955927.7226870819,3490891,556663,0,3799146.5653200001,3492437,524142,2814,41557,3951256.51,3548014,526956,4131578.0200000009,3667812,546236,4068140.6800000006,3673844,587658.15474999999,4564402.3699999992,3935161,661547.15474999999,4686148.55,3913634,772515,4517988.9499999983,3760023,799465,4222689.9150018794,3517981,812995,4347489.0200000014,3586679,826405,4426546.9809879502,3651901,839485,4546818.59,3751126,839485,4252682.29,3508463,851365,4913934.4400000004,3933553,980381]
[174,"Maynard                      ",26.5,10044441,8591307,2211508,10644015.071359999,8569489,2382686,11391224.980435096,8539540,2851685,11937003.731199998,8673841,2919995,343168,12185553.479722442,8524586,3197900,463067,12064502.865547679,8480324,3515408,18872,160487,12168260.781569999,8664177,3534280,12727909.260160001,8836949,3990864.5528999842,12848218.426860001,9277415,4024014.5528999842,13617361.215549998,9450152,4180312.5528999842,13850824.283779997,9411919,4438905,14059518.789270002,9349998,4733058,14745073.193424072,9744969,5000104,15215994.512989998,9813974,5402021,15291603.711841691,10005157,5442941,14950228.72524,10176959,5442941,14868952.430520002,10603032,5480621,16124411.021999998,11396750,5554961]
[175,"Medfield                     ",17.5,21083357,16366654,4716703,22222544.690400001,17108794,5113751,23437455.400163922,17719122,5718333,24405492.276769999,18347283,5421102,637107,24887881.817815583,19908771,5937045,0,24403976.669405282,20304518,5590203,30011,389731,24263807.570240002,20679989,5620214,24324022.98694,21208313,5730534,24155267.42306,21603285,5797959,23366471.620039996,20811592,5862409,23395043.4848,20516702,5925859,23253777.20984,19507465,6063084,23865982.219953917,19763909,6137784,24827316.099710003,20482536,6213144,26032948.58113708,21176396,6288744,26552098.786160003,21905481,6288744,26424181.490199994,21799950,6361734,28101468.769180004,22588503,6507474]
[176,"Medford                      ",17.5,40248747,32874703,10251400.4,43002389.842659995,34340915,10733287.4,46366010.244539626,35851875,11321921.4,48419758.008079998,37389566,10452869.4,1228458,50459876.273372002,41624962,11447701,0,49632982.275670551,42205952,10778927,57866,741233,51296237.986520007,42820019,10836793,53745484.954950012,44080589,11047553,52242342.704740003,45112884,{"$f":"11173603+33688","v":11207291},52268719.305079997,45014043,11332041,52826959.864799984,45090390,11454441,53575422.423319995,44545699,11719376,54710623.722724512,45337673,11864786,55510529.107759997,45796187,12004766,58384769.501052216,48076837,12143306,59524340.664400004,49107581,12143306,59164566.017499991,48810767,12275726,64950374.201000012,51012133,13938241]
[177,"Medway                       ",23.94,19580722,13433801,6292863,20747660.14057,13372805,7374855,21605016.00124561,13383579,8221437,22347779.065000005,13117342,8860400,370037,23324796.46238941,12868279,9045828,1410689,22310016.342912722,12851891,9845648,52856,624313,22260938.035379998,13120301,9898504,22211260.904100001,13680191,9997944,22149987.50784,14085853,10058469,21554025.020479999,14114067,10117244,21958660.335269995,14480057,10175519,21801549.408149999,14412519,10301469,22011641.938089047,14975709,10368909,22271105.480700001,15492710,10434849,23515724.418579098,16195477,10501419,23623580.679760002,16885292,10501419,23134189.308129996,17421552,10564089,25231553.767439991,18439545,10691349]
[178,"Melrose                      ",17.5,24907341,20737665,5187289.5999999996,26011915.689749997,21369417,5380590.5999999996,27602185.703187775,21907581,5694605,30260569.438900001,22718830,6748618,793121,32562555.060026802,24854305,7390904,317346,32186376.980879758,25348596,7257935,38964,504526,33172689.346400008,25849124,7323565,34237368.45262,26657847,7672924,34787745.958120003,27402853,{"$f":"7765699+8422","v":7774121},35264711.847039998,28117748,7867296,36086251.428580001,29102972,7960596,36017412.116479993,29811821,8166076,37544107.266331017,31014280,8280046,39714034.698880002,32332045,8396206,42022188.056045689,33686027,8514496,43519030.447039999,35108451,8514496,44344391.455760002,36147679,8631916,47377571.272,37697349,9680222]
[179,"Mendon                       ",21.14,0,4125,0,11108.373639999998,4683,6425,23065.342200000003,9814,13251,48402.476480000005,20739,27663,0,49954.876631578947,22735,27110,110,36523.099191600006,17440,26131,0,0,24882.900699999998,12459,24882.900699999998,0,0,0,26487.781899999998,14438,12050,26544.465999999997,15491,12050,26877.483239999998,16445,12050,53506.747079999994,35758,17749,94454.384875126823,67071,27383,125950.56911999999,90115,35836,114974.37804282685,83426,35836,102604.6,77719,35836,89716.680000000008,68581,36016,109883.97,82330,36016]
[180,"Merrimac                     ",17.5,0,0,0,0,0,0,0,0,0,0,0,0,0,0,0,0,0,0,0,0,0,0,0,0,0,0,0,0,0,0,{"$f":"0+50532","v":50532},39014.69999999999,23081,39014.69999999999,39599.880000000005,24335,39014.69999999999,52683.680000000008,33389,39014.69999999999,80501.000061537285,51057,39014.69999999999,96860.12,61806,39015,114974.37804282685,73617,41368,146578.00000000003,99096,47504,134575.02000000002,96496,47774,202094.16,145289,56805]
[181,"Methuen                      ",53.83,56448568,25976682,30471886,60543616.070000008,27289639,33253977,64593404.869511366,28479615,36113790,66932258.720000006,29640305,33440001,3929987,70754596.227797136,29742140,36622588,4389868,67174266.656939983,30293532,38616511,207311,2370809,66167336.409999996,30557302,38823822,68082307.960000008,31301841,39110902,72821269.290000007,32658088,{"$f":"40240901.1178455+421101","v":40662002.117845498},73674473.939999998,33532493,40839452.117845498,75476679.289999992,34357316,41119363,76096298.539999992,34166160,42147523,76802334.286958128,35661626,42360163,81561883.420000002,37125698,44704725.328574821,86487500.831909508,38919879,47567622,88769466.079999998,40325303,48444163,89379134.690000013,40893031,48647173,99305681.999999985,42704657,56601025]
[182,"Middleborough                ",46.98,26467283,12717234,15072339.000000002,28711248.540000003,13593641,16271963.000000002,29349175.555037435,13995503,16591501.000000002,30535052.200000003,14305024,15378099,1807289,32049946.575188514,14608790,16841680,599477,31398532.903860003,14805660,16422246,88162,1020099,32141290.059999999,15132961,17008329,32752133.430000003,15459649,17292484,32588658.5,15715800,17376809,32073963.209999997,15945136,17459284,32000342.629999999,16053881,17539709,31055481.599999998,15735683,17709989,29289460.260108851,15577573,17796089,32018438.089999996,16144274,17887019,34113306.289279848,16968154,17978609,35057530.5,18220402,17978609,35767383,19089621,18069239,40901731.939999998,20691229,20210503]
[183,"Middlefield                  ",17.5,0,2821,0,0,746,0,0,0,0,35830.47,21223,17650,0,36919.725014354073,21121,17297,0,36107.447039999999,18057,18050,0,0,36750.21,21942,18050,38091.630000000005,24466,18050,51576.08,33824,18050,52019.6,39422,18050,13199.960000000001,11856,13199.960000000001,26341.840000000004,21863,13199.960000000001,53667.33337435819,44587,13199.960000000001,55348.639999999999,44006,13200,43115.391766060078,34267,13200,43973.400000000009,36278,13200,44858.340000000004,37008,13290,47093.130000000005,38852,13290]
[184,"Middleton                    ",17.5,5089625,4017323,1072302,5471810.5766400006,4145862,1325949,5832959.1376389088,4345126,1487833,6321846.7792799994,4793498,1430804,168153,6442872.8063946106,5100614,1566978,0,6158787.1565006413,5254874,1475435,7921,102722,6001241.5991799999,5162532,1483356,6436171.7904999992,5445815,1513276,6537210.6908500008,5536081,1531951,6500381.7589600012,5534548,1550526,6509297.9842300005,5617606,1568751,6306838.4600999998,5269521,1606481,6172360.6719304342,5171627,1626461,6287830.7335999999,5187460,1646051,6689182.2107968954,5513538,1666151,7013290.1260299999,5785964,1666151,6927207.1538000004,5714946,1685891,7809075.6739000008,6381487,1726991]
[185,"Milford                      ",56.84,30216135,22301521,9514224.4000000004,33490000.671320003,22721351,10882700,34771548.012968563,22716028,12145146,36857352.51055,22611874,12747364,1498115,38573246.502751864,22694316,13960569,1918362,37839983.058274925,22556065,14990659,80476,910271,39488612.219000004,22785673,16702939,41626385.357300006,23315453,18734609.200679597,42774603.567850001,23819112,19457577.302150823,43366941.909150004,23509175,20022624.302150823,44418717.093200006,23574280,20844437,45013216.029600002,22766643,22246573,46388900.526972406,23243232,23145669,48944312.482440002,24011188,24933124,52148898.387319937,24846959,27301939,56604613.875760004,25435714,31168900,58526188.083009996,26079517,32446671,66524190.045280002,27110718,39413472]
[186,"Millbury                     ",33.880000000000003,14287540,8778478,5889114,15323374.32,9000628,6392219,15891803.931504436,9533703,6643067,16607443.680000002,9835784,6225068,731592,17069156.465240195,10132004,6817527,119625,16354315.981439997,10084315,6531884,35066,416852,16266575.289999999,10291233,6566950,16716297.900000002,10391532,6638870,16935435.850000001,10537672,6745941.8450512495,17048501.060000002,10443623,6879057.8450512495,17130949.16,10531645,6922982.8450512495,17429845.489999998,10473626,7019397.8450512495,17780962.153000448,10630390,7150572,18494289.77,11140779,7371495,19134294.708830908,11458671,7675624,19675592.059999999,11797270,7878322,19104092.829999998,12049555,7927312,20670955.990000002,12891181,8024392]
[187,"Millis                       ",20.57,9097512,7264775,1884585.6,9483891.5441799983,7426472,2102687.6,10117122.766417645,7330284,2786839,11000973.682880001,7435813,3190233,374928,11653273.708027104,7440876,3493858,718540,11328953.966638198,7432660,3966310,21293,257445,11812388.784249999,7564328,4248061,12313171.274950001,7862256,4534410.8393613929,12451955.106319999,8164569,4592771.5320735266,12356473.845559999,8219727,4625471.5320735266,12205625.68949,8273796,4657396.5320735266,11856222.087119998,8128057,4725651.5320735266,11737004.51467457,8397650,4761621.5320735266,11946580.289849997,8451032,4796932,12179710.209867777,8612588,4831312,11739340.2481,8676571,4831312,11844886.359460002,9095464,4862842,12954292.108449999,9957083,4926682]
[188,"Millville                    ",49.62,0,3591,0,10849.66,3214,7636,22710.54,6563,16148,59717.45,16523,43194,0,49226.300019138762,15127,42330,0,60179.078399999999,19123,41056,0,0,85750.49,27251,58499,50788.840000000004,16406,50788.840000000004,77364.119999999981,26377,50987,26009.8,9583,26009.8,79199.760000000009,30473,48727,118538.28,48101,70899,93917.833405126818,39748,70899,124534.43999999997,52967,71567,114974.37804282685,48557,71567,73289.000000000015,33038,71567,119622.24,56307,71807,141279.39000000001,67617,73662]
[189,"Milton                       ",17.5,25151267,24801774,3395206.4,27293508.643200006,25682096,3770098.4,29370007.727681536,26209746,4180994.4,31229186.953800008,26442315,4283464,503408,33226179.825447932,27411598,4691135,1123447,33177677.717974804,27962065,5474895,29392,405395,33445350.979459997,28316699,5504287,34576600.406800002,28905665,5765927.5177974999,35318011.521599993,29777694,5869608.6424181247,35082060.980719998,29715046,5964021.6424181247,36501504.885839999,30504862,6060521.6424181247,37238061.294160001,30828228,6409833,39699383.469837926,32142381,7557002,41890853.241980009,33540779,8350074,44445617.572931923,35446365,9033561,46912230.011340007,37346878,9567275,48097215.820799999,38757408,9697475,51259127.086869985,40535520,10723607]
[190,"Monroe                       ",59.03,156484,91583,84030,67149.83,77281,67149.83,56859.984915476627,50042,56859.984915476627,117805.94,70637,89563.984915476627,0,128295.88296267943,75685,87773,0,87282.108779999995,71027,84262,0,0,79783.97,68985,79783.97,75976.200000000012,45544,75976.200000000012,84306.74,69217,75976.200000000012,49377.140000000007,41572,49377.140000000007,57396.78,39279,49377.140000000007,64197.68,43424,49377.140000000007,70057.67309236154,39434,49377.140000000007,85324.37,62999,49377.140000000007,101469.77918132796,74699,49377,149215.03999999998,79783,69432,147610.14000000001,75426,75502,226091.72999999998,85510,140582]
[191,"Monson                       ",41.71,11167185,4551198,6615987,11949570.529999999,4838959,7111941,12159308.518842915,4984969,7241370,12797798,5089158,6897967,810673,12822835.034947371,5153721,7554467,114647,12214501.473179998,5102395,7221084,38766,444464,12125247.350000001,5200769,7259850,12141055.580000002,5290215,7312050,11640741.35,5397705,7342725,11227559.509999998,5516259,7372025,10642912.68,5415578,7399425,10115062.609999999,5426446,7455965,9765311.1307165027,5261486,7484975,9770916.2999999989,5525534,7512995,10353119.728939803,5746939,7541075,10603017.180000002,5893568,7541075,10403183.449999999,6007448,7567565,11078294.98,6264895,7618685]
[192,"Montague                     ",54.32,0,4422,0,0,1165,0,0,0,0,11943.49,5779,6507,0,12306.57500478469,5964,6377,0,0,0,0,0,0,0,0,0,0,0,0,0,0,0,0,0,0,0,0,0,0,0,0,0,0,0,0,0,0,0,0,0,0,0,0,0,0,0,0,0,0]
[193,"Monterey                     ",17.5,0,0,0,0,0,0,0,0,0,0,0,0,0,0,0,0,0,0,0,0,0,0,0,0,0,0,0,0,0,0,0,0,0,0,0,0,0,0,0,0,0,0,0,0,0,0,0,0,0,0,0,0,0,0,0,0,0,0]
[194,"Montgomery                   ",17.5,39186,23670,15516,32548.98,24028,15666,45421.08,32646,19296,35830.47,26083,19446,0,61532.87502392345,39614,19057,2862,36107.447039999999,25001,21042,0,0,36750.21,25778,21042,25394.420000000002,18584,21042,25788.04,20780,21042,26009.8,21585,21042,39599.880000000005,35467,21042,65854.600000000006,55442,21042,80501.000061537285,67534,21042,83022.959999999992,68494,21042,114974.37804282685,94854,21042,87946.800000000017,68444,21042,59811.12,49337,21162,47093.130000000005,38310,21162]
[195,"Mount Washington             ",17.5,107132,88820,19858,144190.37,111238,32952,126517.21994365109,115279,33752,132726.99,118261,34839,0,129580.38256076556,116497,34142,0,126342.90066,112337,32776,0,0,120558.2,108747,32776,128118.72,110906,32776,91796.300000000017,91796,32776,92960.28,83664,32776,89843.44,79980,32776,57421.64,51679,32776,32643.359126604621,29379,32643.359126604621,25705.73,21207,25706,7755.8152895000003,6399,7771,17625.62,14541,7771,43505.390000000007,35892,7921,47889.06,39508,8381]
[196,"Nahant                       ",17.5,2818535,2890705,384990,2885508.92,2876891,408985,2958071.3727178685,2848361,441588,3103459.42,2795562,425127,49962,3140215.3490373208,2769683,465587,0,3009436.1228999998,2673399,438388,2353,34021,2959458.31,2711123,440741,2836358.0599999996,2696296,454021,2809900.4000000004,2700890,{"$f":"462021+8422","v":470443},2670798.36,2403719,477893,2552657.5399999991,2291916,484943,2541982.4700000002,2138805,499903,2576635.3961993451,2132494,508003,2540955.2600000002,2096288,515803,2602347.1905727275,2146936,523513,2739284.95,2259910,523513,2845521.7600000002,2347555,531403,2856293.17,2356441,546523]
[197,"Nantucket                    ",17.5,8624608,13225325,835167.6,9230081.2999999989,12823739,991186.6,10186787.557364723,12276662,1228636.6000000001,10648679.940000001,11576039,1286905.6000000001,151242,10683423.649684211,11534629,1409385,0,10295374.04874,10871032,1327049,7124,105962,11144212.01,10901757,1334173,11866373.959999999,11286314,1387053,12800411.420000002,11568827,1421503,13869821.479999997,11742876,2126945,15206451.73,12225508,2980944,15743715.589999998,12702303,3067074,16351990.158213655,13342499,3114564,17684068.190000005,14133709,3550359,19008236.734527193,15681795,3600249,19472349.760000002,16064689,3600249,20100924.599999998,16583263,3650139,22613557.840000004,18656185,3957373]
[198,"Natick                       ",17.5,33697813,33961720,4176645.6,36447202.92904,34581099,4657788.5999999996,37564403.525144182,34454333,5232583.5999999996,40487600.791560009,35263961,5229410.5999999996,614579,42629277.234462015,35169154,5727110,1733013,41207446.519019037,35490451,7024303,37710,518585,43072103.861760005,36948274,7062013,45906950.422800004,38397808,7640285.5809975006,47764102.86208,39466673,8312752.0002159998,49956678.079499997,41275438,8681240,51546022.215100005,42809644,8816665,52558195.004939988,43516697,9117845,53048542.559902228,43988233,9281825,55788455.043029986,46025476,9762979,57774437.098210081,47663911,10120767,58312471.325909987,48107789,10204682,57529966.215679981,47462222,10362782,61356636.239639997,49137791,12218845]
[199,"Needham                      ",17.5,34180438,33290098,3838947.6,37003280.957180008,33919990,4366272.5999999996,39386972.010866001,34874779,5124206.5999999996,42028556.259200007,35909710,5475362,643484,43829318.414363444,36829428,5996469,1003421,44582496.208305366,37987380,6590957,35383,500900,46025845.81216,39034126,6991720,48336042.998220004,40702053,7633990,49744211.758409992,42426414,7901801.7644304372,50670510.318260007,43099948,8239739.7644304372,51969545.140780009,44250723,8373789.7644304372,52228570.584080003,43661684,8671394.7644304372,54000176.557778552,44833817,9166360,56435153.947120003,46559002,9876152,59693731.68588265,49247329,10451715,63004475.701059997,51978693,11025783,62757965.939740002,51775322,11192613,66681599.624000005,54310286,12371314]
[200,"New Ashford                  ",17.5,314618,165062,149556,313210.37,163541,154825,331313.9947464299,168568,163915,321985.11,171991,166015,0,311594.91233684216,178509,162695,0,360381.76277999999,180785,179597,0,0,334159.74,188252,179597,346722.85000000003,196667,179597,273043.12,204082,179597,266775.95,209694,179597,217953.86999999997,196158,179597,232405.55000000002,193546,179597,288557.29529165302,204578,179597,269904.96999999997,214173,179597,289597.24013319105,220898,179597,278897.32,226155,179597,234545.27,193500,180257,236678.27999999997,195260,180257]
[201,"New Bedford                  ",79.709999999999994,119985462,15908482,104076980,120904310.03999999,17009241,104762165,124529300.86950365,17999927,107414208,129350707.3,18772687,99286975,11668556,131101527.27395219,18393495,108736420,3971612,126977747.19852,18868260,106123637,569719,6333076,131413254.92999999,19608717,111804538,134200121.78,20555694,{"$f":"113644428+2452653","v":116097081},141486159.03000003,21429480,120056679,146174509.68000001,22672562,123501948,149495329.88,24366967,125128363,157744521.90000004,25358897,132385625,165003222.23219585,27078190,137925032,173832434.18000001,28522973,145309461,189742059.78296334,29911096,159830964,197388756.04999998,31307615,166091904,206188927.62000003,32442344,173746584,233389315.13999999,34303277,199086038]
[202,"New Braintree                ",39.39,0,0,0,0,0,0,0,0,0,0,0,0,0,0,0,0,0,0,0,0,0,0,0,0,0,0,0,0,0,0,0,13004.9,7410,5595,13199.960000000001,7496,5704,0,0,0,0,0,0,27674.32,14896,12778,28743.594510706713,16002,12778,43973.400000000009,26677,17296,44858.340000000004,28827,17386,31395.420000000002,18664,17386]
[203,"Newbury                      ",17.5,0,0,0,0,0,0,0,0,0,0,0,0,0,0,0,0,0,0,0,0,0,0,0,0,0,0,0,0,0,0,{"$f":"0+16844","v":16844},39848.778960000003,35337,16844,26986.020340000003,23796,16844,53983.259600000005,45708,16844,82603.405821537279,69230,16844,70871.668000000005,58469,16844,88469.616812120148,72987,16844,45293.483039999999,37367,16844,46160.855639999994,38083,16934,32378.457899999998,24501,16934]
[204,"Newburyport                  ",17.5,16302852,18514828,2908020,17369387.83083,18382676,3094664,18138185.240466557,18210192,3229204,19046240.388799995,17810116,3031805,356309,19278084.056310378,17751548,3320352,0,18957046.974179041,17434050,3126377,16784,232641,19604538.718400002,17669920,3143161,20981094.095319998,18161476,3236321,22075535.224889997,18717331,{"$f":"3484457.66608894+42110","v":3526567.6660889401},22313844.746979997,18921662,3658991.6660889401,22958152.764539998,19326232,3720116.6660889401,22075387.820000004,18475881,3851291.6660889401,22572192.428649735,18688498,3923141.6660889401,23394062.990000002,19300102,4093961,23879060.905683298,19700226,4182944,24204978.57,19969107,4235872,24047193.300000001,19838934,4302202,25407534.990000002,20726102,4681433]
[205,"New Marlborough              ",17.5,0,0,0,0,0,0,0,0,0,0,0,0,0,0,0,0,0,0,0,0,0,0,0,0,0,0,0,0,0,0,0,0,0,0,0,0,0,13170.920000000002,10884,2287,0,0,0,0,0,0,0,0,0,0,0,0,0,0,0,0,0,0]
[206,"New Salem                    ",38.99,0,0,0,0,0,0,0,0,0,0,0,0,0,0,0,0,0,0,0,0,0,0,0,0,0,0,0,0,0,0,0,0,0,0,0,0,0,0,0,0,13416.833343589547,7366,6051,13837.16,7670,6167,0,0,0,0,0,0,0,0,0,0,0,0]
[207,"Newton                       ",17.5,84474234,95571853,9687799.5999999996,91783004.913320005,95493364,10966834.6,96710790.081070766,94016028,12754100.6,102430485.62952003,93680526,12939868.6,1520739,106034164.82356572,94358670,14171395,0,105360168.87611745,93963930,13343503,71634,1051383,109411944.70578998,95907724,13504221,114655007.73854002,98481856,16173152,119052135.41824004,101648356,17403779,123275321.48661001,103657391,19617930,126316298.67331998,106090242,20226057,126430397.79993999,105306467,21180365,131452274.44548996,108662422,22789852,137300637.26189998,113273026,24027611,141578979.06415501,116802658,24814496,143592665.22735,118463949,25128716,140792530.04910001,116153837,25492106,148413207.17159998,122440896,26212526]
[208,"Norfolk                      ",17.5,7375598,4537885,3290521,7514189.6858999999,4696531,3342421,7568629.1283759158,4835814,3392371,7931793.3029600009,5010638,3120270,366705,8090406.3416947154,5856554,3417236,0,7969864.5064924797,6096820,3217602,17273,206986,7607426.2368400004,5982259,3234875,7567557.911940001,6205265,3270355,7354058.3719600011,6196881,3291530,7315213.0608799998,6240752,3312405,7167206.0455,6157870,3332480,7797859.3176300004,6475611,3380055,8254868.1418577991,6844844,3406815,8641112.9091999996,7128918,3433905,9114958.3381727356,7519840,3461385,9555961.1148400009,7883668,3461385,10190816.706399998,8337473,3490425,11453635.647089999,9052188,3551805]
[209,"North Adams                  ",73,15707349,2559119,13830276,15487886.440000003,2982732,13921926,16104425.472575067,3199929,14379275,16069533.560000001,3273841,12943553,1521172,15683925.830859331,4425733,14175431,0,15476062.162319999,4393858,13347304,71654,795823,15392110.870000001,4489714,13418958,15076472.880000003,4662123,13480318,15891428.520000001,4776899,13517943,16417451.109999998,4941966,13556793,16664714.390000004,5074150,13595418,16484834.819999997,5063315,13676653,17145309.629568465,5100302,13721833,17356231.859999999,5097649,13766383,17859474.703748006,5053318,13809703,18178355.150000002,5057245,13809703,17897202.07,5027520,13848943,20196370.640000001,5276853,14919518]
[210,"Northampton                  ",17.5,22339621,16647759,6574009.5999999996,23515503.420000002,17537821,6925715.5999999996,23897225.215249706,17925565,7068615.5999999996,25081306.799999997,18789705,6600629.5999999996,775729,25514471.712826792,19225734,7228831,0,24684605.485979997,19535341,6806523,36541,454267,25014294.639999997,20035749,6843064,26386688.750000007,20803896,6954104,26834026.780000009,21624168,7023429,27395100.530000001,22476877,7093554,27323757.340000004,22846792,7162729,27410585.139999997,22747409,7313539,27919380.14575414,23143930,7395919,28576804.530000001,23575863,7477309,30030364.251233194,24547028,7558369,31063338.950000003,25627255,7558369,30678559.000000004,25309811,7638049,33723796.18,26638955,7798609]
[211,"North Andover                ",17.5,30541004,28946886,4129740,33510013.210000001,29846221,4649317,34908316.443979926,30883606,5087208,37117714.300000004,31904083,4968107,583870,38689087.713684224,32219076,5440937,1029075,37806576.337559998,32564460,6092035,32705,458122,38936234,33092191,6124740,40712824.369999997,34010095,6808232.8161875,42340329.710000001,35385415,{"$f":"7068575.6748125+25266","v":7093841.6748125004},43286349.479999997,36224040,7262285.6748125004,45462873.919999987,37541377,7921497,44605186.620000005,37087784,8181977,46314260.801910989,38259940,8326307,48675062.219999999,39658845,9016217,50326384.478882119,41262379,9160097,50577443.990000002,41726391,9160097,51229167.579999998,42264063,9298097,54375769.079999991,43673850,10701919]
[212,"North Attleborough           ",35.450000000000003,33128817,14691852,18436965,34913727.249999993,15594284,19319443,37024105.29144422,16763755,20260350,38863802.869999997,17813103,18836919,2213781,39803852.803245947,20703716,20629686,0,39026226.24995999,21382362,19424502,104279,1217430,39843826.230000004,21810997,19528781,41161023.43,22566227,19712661,41797469,23207648,19827086,42114635.469999991,24223806,19941736,42858323.110000007,25023400,20055686,41721975.079999998,25316072,20297411,42205783.552439779,25945113,20427791,43299173.010000005,26709708,20556671,44126489.423501156,26972001,20682041,45073173.739999995,28270188,20682041,45683012.360000007,29002278,20804831,49368540.359999999,30579150,21051671]
[213,"Northborough                 ",17.5,12830969,10921083,2584464.4,13031020.219999999,10898179,2763949.4,13379613.142081046,10658966,3082735.4,13939628.030000001,10678879,2995439.4,352035,14512145.583586603,11014309,3280525,217312,14386023.880859999,11224364,3293494,17681,232062,14878106.429999998,11738874,3311175,15714470.859999999,12259650,3621985.0384160001,15886379.650000002,12722162,3668085.0384160001,15486011.710000001,13010542,3712560.0384160001,15526446.370000001,13153691,3756435.0384160001,15196910.26,12701763,3849770.0384160001,15015400.577264598,12501814,3899030.0384160001,15211638.35,12549602,3947270.0384160001,15348450.348561112,12662472,3993500,15653167.560000001,12913864,3993500,16551243.649999999,13451109,4040510,18027328.710000005,14581324,4135910]
[214,"Northbridge                  ",45.05,19224254,6253429,12970825,19859815.41,6987828,13322608,21326300.527729061,7490514,14114803,21595688.16,7937843,12757564,1499314,22343513.91142584,8072415,13971740,299359,22038684.843239997,8329249,13446387,72186,815376,22423099.34,8388993,14034106,23980196.999999996,8893916,15086281,24363998.650000002,9349395,15150056,24874347.920000002,9900452,15214206,24091597.779999997,10435707,15275081,23427188.930000003,10848805,15403891,23615219.37740108,11369969,15473041,23583382.150000002,11810469,15539941,23912162.03207574,12120372,15603931,23651358.309999999,12499433,15603931,24066339.760000002,12899827,15664621,26403426.609999999,13630647,15786061]
[215,"North Brookfield             ",54.84,6615681,2219735,4285292.8970251717,6571910.5099999998,2316586,4326992.8970251717,6609236.9636889221,2348384,4367042.8970251717,6747317.700000002,2443115,3983453.8970251717,468150,6520066.3495043078,2624892,4362572,0,6139849.1636400009,2611475,4107711,22052,250034,6001484.8899999997,2543410,4129763,6089693.8600000003,2658631,4155363,6187292.3999999994,2707976,4171238,6138607.5700000012,2853212,4187213,6330664.1299999999,2902390,4203088,6192391.8499999996,2909397,4236418,6199650.4699848695,2812304,4254298,6455723.8399999999,2876546,4272568,6861155.1426662346,2904011,4290838,6921441.0200000014,2970928,4290838,6863578.7700000005,3115388,4308028,7789173.0300000003,3255249,4533924]
[216,"Northfield                   ",25.47,0,0,0,0,0,0,0,0,0,0,0,0,0,0,0,0,0,0,0,0,0,0,0,0,0,0,0,0,0,0,0,0,0,0,26399.920000000002,17135,9265,13170.920000000002,9108,9265,0,0,0,0,0,0,0,0,0,14657.8,10697,3986,14952.78,11661,4016,15697.710000000001,11109,4589]
[217,"North Reading                ",17.5,18601689,14816885,3784804,20183617.97724,15266492,4917126,21182764.789605197,15869112,5313653,22674352.994799998,16503487,5521911,648955,23612463.797106899,16789073,6047449,775942,22639942.1421276,17274696,6424769,34491,430556,22670246.940660004,17894010,6459260,23098274.900569998,18576477,6562100,23398817.806239996,19321117,{"$f":"6625625+50532","v":6676157},23706840.709970001,19832830,6739782,23928340.855640002,20127141,6802307,23635143.14844,19692373,6937937,23960205.841541711,19895201,7010717,24928075.440800004,20565663,7083527,25154643.367806662,20752580,7153937,25345400.252699994,20909956,7153937,25122867.634200003,20726365,7221227,27056349.750239998,21810649,7356107]
[218,"Norton                       ",24.66,22990850,11013370,11977480,23419989.289999999,11653397,12175056,24274093.506333459,12205403,12560940,25467467.109999999,12826588,11717531,1377086,25652702.988677517,13933589,12832725,0,24934930.297499999,14175872,12083038,64867,758645,25121296.479999997,14682739,12147905,25245341.509999998,15231907,12260025,25252431.439999998,15724845,12328675,24839826.120000001,15755447,12395800,24716889.330000006,15884891,12461075,24673640,15870288,12603140,24605799.037226401,16138030,12678650,25627290.710000001,16534896,12754400,25977850.920649342,17399530,12827390,26443914.049999997,18367335,12827390,26330388.290000003,18951479,12896420,27305331.41,19965440,13029200]
[219,"Norwell                      ",17.5,14440386,14597702,1917411.6,16098434.99767,14916801,2207570.6,17382511.444969099,15372590,2457881.6000000001,18475933.129799999,15697102,2486597,292234,19354658.580467265,16176665,2723254,454740,19154668.326163501,16412838,2992336,16064,226269,19420562.385559998,16745375,3008400,20138619.813699998,17114763,3148957.366849375,20549300.995200001,17494372,3260749.9436770314,20295768.49016,17370172,3362602.9436770314,20603272.396599997,17503826,3417652.9436770314,20258808.089429993,16921990,3535957.9436770314,20701123.007093545,17167966,3600307.9436770314,21451763.513980005,17697705,3754059,22329816.442800608,18350859,4011711,22887277.58972,18882004,4011711,23347458.345409997,19261653,4092385,24690512.978599999,19938599,4751914]
[220,"Norwood                      ",17.5,28041822,27289969,3544044,29886710.074549999,27700512,3933871,30207570.065640491,28071619,4534446,31869888.767040003,28472241,4638435,545125,32601763.614237398,28057436,5079889,0,31939204.05633672,28648256,4783122,25678,357914,32665738.414279997,29934115,4808800,34403459.751600005,30967635,5111751.3641325003,35162876.923280001,32031042,5372189.3884928748,35458013.178439997,31475235,5663726.3884928748,36030240.360470004,31220839,5751026.3884928748,36087087.065760002,30230754,5941876.3884928748,36598980.152771384,30391526,6207454,38062700.293799996,31401727,6660973,40452845.134236395,32400134,8052711,42697305.215410002,33534173,9166992,43678902.616409995,34547211,9271812,48677498.672449999,35990878,12686621]
[221,"Oak Bluffs                   ",17.5,3344833,2798198,546635,3068927.37,2724857,567385,3482507.5606329595,2861389,639762,3500874.88,2916146,591900,69562,3641145.0682794261,3042048,648233,0,3315880.6575599997,2896108,610364,3277,44592,3397147.27,2962918,613641,3454522.33,3045879,629001,3719346.8900000006,3186194,639201,3839529.9800000004,3213640,650652,4306524.25,3420717,885807,4345993.05,3494124,910282,4614741.4748551529,3814150,924052,4566695.8900000006,3767524,936832,4939842.5494836336,3951377,988466,5068644.3499999996,3984819,1083825,5250477.3999999994,4061903,1190134,6081567.2300000004,4486599,1594968]
[222,"Oakham                       ",40.75,88168,23979,64189,97646.94,23754,73893,102197.43,24731,77466,107491.41,27810,80415,0,183603.36713492827,66144,78807,38652,0,0,0,0,0,0,0,0,0,0,0,0,0,0,0,0,0,13199.960000000001,7320,5880,13170.920000000002,7638,5880,13416.833343589547,8143,5880,13837.16,7937,5900,14371.797255353356,8519,5900,14657.8,8004,6654,44858.340000000004,24647,20299,0,0,0]
[223,"Orange                       ",71.349999999999994,5726579,1106334,4911542,5794416.4100000001,1365123,4961898,5977476.5872389013,1437195,5097546,6544119.3700000001,1531082,4936583,580165,6699540.3565933015,1785567,5406413,0,6697536.4997399999,1819535,5090570,27329,306189,6427741.0799999991,1820190,5117899,6143522.4500000002,1791132,5142779,6178576.1000000006,1796299,5158204,6225638.2200000016,1814005,5173729,6497667.1399999978,1883340,5189379,6410831.3199999994,1858029,5222159,6801556.0005172687,1896835,5240609,6913169.459999999,1888769,5259029,7421674.387598698,1989628,5432046,7238630.1499999985,2020501,5432046,6806427.04,1964703,5448006,8547480.9700000007,2251919,6295562]
[224,"Orleans                      ",17.5,1619773,2314304,225962.4,1599992.33,1928689,236862.4,1527004.24,1747368,246812.4,1489750.36,1601503,229223.4,26939,1586853.2817454548,1643573,251039,0,1471893.3349799998,1497065,236373,1269,17747,1548813.24,1556406,237642,1684181.3199999998,1657933,245322,1746797.08,1713633,250272,1909216.98,1715171,279616,2072439.67,1813057,285191,2091738.9399999997,1737899,353840,2186402.5084648258,1814388,372015,2345513.3400000003,1934693,410820,2457051.7958840481,2027068,429984,2333514.6599999997,1925150,429984,2121258.23,1750038,435474,2265527.7100000004,1869061,445614]
[225,"Otis                         ",17.5,0,4865,0,0,1222,0,0,0,0,0,0,0,0,0,0,0,0,0,0,0,0,0,0,0,0,0,0,0,0,0,0,0,0,0,0,0,0,0,0,0,0,0,0,0,0,0,0,0,0,0,0,0,0,0,0,0,0,0]
[226,"Oxford                       ",47.21,15678123,7200883,8477240,16425478.989999998,7646890,8877524,17109033.364616748,8150080,9240150,17439260.300000004,8260539,8426242,990282,17832934.835016266,8214327,9228194,390414,17925538.693260003,8351513,9390325,50411,228497,18299262.16,8535109,9764153,19039445.560000002,8878897,10160549,18857808.949999999,9147593,10209599,18717632.59,9144757,10258149,19226330.559999999,9307209,10306499,18814492.639999997,9045951,10408194,18658337.210024625,8970216,10461744,19085189.02,9428164,10514754,19698237.275810093,9622553,10566894,19171590.48,9891135,10566894,18679880.199999996,10080418,10613784,21026624.100000001,10588629,10708044]
[227,"Palmer                       ",60.28,15382941,5150016,10232925,16293473.060000004,5491599,10828140,16630337.504335003,5686758,11045384,16912374.970000003,5850602,10045276,1180556,17367767.6769378,6255521,11001315,110932,16420213.2009,6331779,10463070,56170,638157,15673257.680000003,6390223,10519240,16134047.02,6470869,10585480,16198575.519999998,6747578,10626130,15478309.109999996,6819446,10664455,15466730.400000002,6815260,10701980,15564758.360000001,6592394,10784150,15937384.115527295,6595198,10829000,16355731.319999998,6739159,10873130,16594239.756346451,6825833,10915640,17071234.920000002,6857027,10915640,16709438.479999997,6791117,10955180,18251116.599999998,7077995,11173122]
[228,"Paxton                       ",35,196006,125093,0,0,0,0,0,0,0,0,0,0,0,0,0,0,0,0,0,0,0,0,0,0,0,0,0,0,0,0,0,0,0,0,0,0,0,0,0,0,0,0,0,13837.16,8832,5026,14371.797255353356,9461,5026,14657.8,9737,5026,0,0,0,0,0,0]
[229,"Peabody                      ",30.67,52895313,34167033,18728280,54951902.25,36075831,19286644,56602396.857231177,38043319,19741190,58044809.350000001,39953502,18002388,2115704,59750176.473661244,40112796,19715730,0,57582047.419799998,41285234,18563939,99659,1206582,59014857.119999997,42743764,18663598,60749406.699999996,44345547,18906718,{"$f":"62298319.99-2406437","v":59891882.990000002},{"$f":"45533417-1758848","v":43774569},{"$f":"19059168-736211","v":18322957},61102630.279999994,44118255,{"$f":"18472707+125260","v":18597967},62367587.499999993,45733796,18747217,62459203.560000002,44792470,19070452,63749465.754188508,45449042,19247212,65184413.379999995,46771496,19423672,69609817.438056916,48453163,21156654,72290192.479999989,50135481,22171771,74033830.659999996,50930549,23103282,83523634.23999998,52837629,30686005]
[230,"Pelham                       ",17.5,709807,760482,118052.8,749939.66,643809,164606.79999999999,733964.10943651071,561236,210786.8,674439.18,490547,208647.8,24521,670880.08917129191,496664,228505,0,663890.04804000002,481763,215156,1155,14219,580669.32999999996,480192,216311,560019.19999999995,482745,218831,655277.24,566477,220506,689081.27,620173,222256,696611.65,626950,224081,724220.01,609074,228151,830020.58176676114,620333,230581,859407.46,668413,233071,905329.72853302001,687532,235531,928975.21,690492,238483,782638.4700000002,645677,240583,789892.39999999991,635687,244483]
[231,"Pembroke                     ",27.49,22515538,14046314,8469224,24815140.279400006,14742688,10072452,26921544.8071214,15414393,11507152,28631944.000619993,16182768,11139968,1309208,29986707.348423712,16470418,12200192,1316097,29225596.232482802,16691260,12726668,68322,805499,29344771.673250001,17053741,12794990,30140603.210499994,17494279,12925750,30742484.871859998,17997108,13013732.304039083,30579313.617779996,18171451,13095032.304039083,30953452.00279,18734967,13174507.304039083,30278155.873739995,18592537,13344512.304039083,30076801.769575488,18988785,13434662.304039083,30098844.630960006,19889115,13521752,31408204.402095743,20722469,13608752,31797805.646810003,21249366,13608752,31570380.367049992,21759351,13690952,33225728.808800004,22712411,13852952]
[232,"Pepperell                    ",36.6,9796,2034,7762,10849.66,4054,8308,11355.27,4893,8571,11943.49,5146,8877,0,0,0,8699,0,0,0,0,0,0,0,0,0,0,0,0,0,0,0,0,0,0,0,0,0,0,0,0,0,0,0,0,0,0,0,0,0,0,0,0,0,0,0,0,0,0]
[233,"Peru                         ",48.25,48982,11961,37021,97646.94,29593,71992,79486.89,29514,72342,107491.41,39254,91528,0,98452.600038277524,35805,89697,0,84250.709759999998,35751,84250.709759999998,0,0,73500.42,33517,73500.42,76183.260000000009,35598,73500.42,103152.16,50799,73500.42,117044.1,56662,73500.42,105599.68000000001,54600,73500.42,170156.80000000002,80315,89842,107334.66674871638,47752,89842,110697.28,49777,89842,114974.37804282685,52709,89842,117262.39999999999,58074,89842,134575.02000000002,64606,90112,156977.1,73240,90112]
[234,"Petersham                    ",37.35,794648,460434,334214,887913.94,484109,403805,910107.84943651082,464081,446027,884202.43,440655,403908,47469,727844.57486698567,387334,442349,0,686761.92768000008,379916,416507,2236,25481,656167.6,383839,418743,637666.18999999983,396428,421383,594228.81999999995,438845,422883,566086.55000000005,454106,424308,611232.30999999994,479273,425758,627194.55000000005,512362,429223,716629.18602344103,573272,431323,772220.59,581489,433423,825450.36454343062,571360,435523,932984.68,640821,435523,859319.13,588398,437533,934128.69,553478,441433]
[235,"Phillipston                  ",42.78,0,0,0,0,0,0,0,0,0,0,0,0,0,0,0,0,0,0,0,0,0,0,0,0,0,0,0,0,0,0,0,0,0,0,0,0,0,0,0,0,0,0,0,0,0,0,0,0,0,0,0,0,0,0,0,0,0,0]
[236,"Pittsfield                   ",61.75,52725657,24611444,28114213,57082753.469999999,25485280,31597473,59041738.979034342,25796426,33245313,61752172.609999992,25995833,31996051,3760289,63207565.231892832,25852192,35041213,2314160,62148014.552700013,25940936,35512358,190646,1809494,63704268.780000001,26794850,36909419,65754169.920000002,27822547,38017592.827607997,67796003.910000011,28757787,39290437.62740925,67481752.38000001,29005679,39447162.62740925,68905111.570000008,29086218,39818894,68494174.319999993,28442404,40155219,68570957.773763955,28025316,40545642,70785982.700000003,28120602,42665381,75857280.533894911,28171219,47686062,76463876.149999991,28300807,48163069,79110404.659999996,29449820,49660585,84729484.75,30474674,54254811]
[237,"Plainfield                   ",18.84,19593,16836,18987,43398.64,22879,30740,68131.62,37773,41615,95547.92,47108,54235,0,98452.600038277524,55480,53150,0,96286.525439999998,58428,51024,0,0,61250.35,41319,51024,63486.049999999996,42461,51024,51576.08,40855,51024,78029.39999999998,64254,51024,39599.880000000005,32922,39599.880000000005,39512.76,29669,39512.76,40250.500030768642,28875,39512.76,27674.32,19519,27674.32,28743.594510706713,19101,27674,43973.400000000009,31321,27674,59811.12,47653,27794,78488.55,60901,27794]
[238,"Plainville                   ",21.57,5675056,3322319,2374850,6041437.8299999991,3487590,2553848,6193164.1266190642,3616015,2618681,6360137.9900000002,3728363,2405042,282649,6513212.2174468907,3852023,2633937,27252,6313858.9432200007,3881974,2505722,13452,161615,6272346.2599999998,3923605,2519174,6913476.3999999994,4145967,2768880.59601,6826165.1400000006,4169061,2788255.59601,6579213.379999999,4253996,2806755.59601,6450343.1600000001,4374579,2824580.59601,6794336.419999999,4700337,2864950.59601,6634193.2430846673,4712959,2885980.59601,6762343.2399999993,4806288,2906741,7272815.8487452483,5127708,2927801,7517996.1499999994,5427402,2927801,7127762.9100000001,5273871,2947541,8036459.790000001,5785122,2987741]
[239,"Plymouth                     ",21.02,65808603,50709654,16749442.999999998,70785947.548399985,52596289,18464636,72586825.799855381,54446578,19542986,77105661.264829993,55729593,19128070,2247998,79497521.622687668,56638333,20948547,1910642,78742171.183430165,56893637,21523756,115549,1428409,79081949.172639996,57303942,21778007,80478825.04377,59037999,22208459.478195209,83431824.025150001,60777692,23291787.509499453,83619257.170059979,61240645,23670916.509499453,84831859.535599992,62123870,23872516.509499453,84727196.122590005,61058495,24315046.509499453,88349686.529343486,62464730,25884957,89987228.589259982,64955484,26128197,93345303.481633395,68683929,26369547,94027629.56190002,71603127,26369547,96767564.539159998,74471293,26600787,104649211.54707,79081066,27066867]
[240,"Plympton                     ",26.54,1607157,1349172,489958,1606594.6,1279333,506035,1709080.5840138937,1275953,543319,1853769.61,1327166,531833,62503,1908834.034465072,1361877,582449,0,2009833.57968,1434960,563844,3027,21828,1974807.62,1416646,566871,2018759.52,1484742,591347.62748400006,2207684.7599999998,1597361,652019.25887999998,2194273.0299999998,1544590,702595.25887999998,2074615.8599999996,1557980,708270.25887999998,2281485.7581900004,1667056,721030.25887999998,2208586.3887203764,1594867,727660.25887999998,2244246.1515200003,1618008,734170.25887999998,2239539.0976047828,1665166,740470,2429975.0922999997,1772432,740470,2366031.9386399998,1783978,746890,2979879.4445200004,2095520,884359]
[241,"Princeton                    ",17.5,0,0,0,0,0,0,0,0,0,0,0,0,0,12306.57500478469,10005,0,2302,0,0,0,0,0,0,0,0,0,0,0,0,0,0,0,0,0,0,0,0,0,0,0,0,0,0,0,0,0,0,0,0,0,0,0,14952.78,12336,2631,15697.710000000001,12201,3497]
[242,"Provincetown                 ",17.5,1291811,4055956,255800.8,1285826.94,1956162,263550.8,1321743.9439575451,1727275,271200.8,1263192.58,1561249,248898.8,29252,1338933.845374163,1591643,272588,0,1375097.9072400001,1521466,256663,1378,18272,1289521.3,1431340,258041,1203806.04,1203806,262841,1231636.8800000001,1215446,265966,1414247.5399999998,1209208,269641,1284862.27,1156376,272866,1411461.41,1172251,280401,1300534.3107840288,1090154,283851,1343546.56,1102452,287481,1386868.4082193591,1144166,290781,1297760.2800000003,1070652,290781,1357829.1199999996,1120209,293751,1535068,1266431,299571]
[243,"Quincy                       ",17.5,73098901,63941052,12561073.199999999,77782533.934249982,67709257,13380709.199999999,83528509.845593929,70748789,14388553.199999999,89488958.460700005,73362291,14430718,1695949,92909519.333574429,72784382,15804134,4321003,92692070.835875496,74238283,18949428,101729,1298455,96661211.859239995,75702194,20959018,102157664.34112,79182392,23565229.189149439,105786949.41116999,81483004,24789394.287227817,108294787.80678003,82452996,26024786.287227817,109837246.19363996,84853939,26257161.287227817,109074296.63971998,85429167,26763766.287227817,112465494.00668323,87353305,27043396.287227817,117829054.19366997,90433969,28364113.480534859,123682608.20704634,95726151,28647763,129336079.22404,101589945,28647763,138447528.00444001,106595521,31872332,146803428.35284004,111395437,35407991]
[244,"Randolph                     ",41.9,28415668,20365108,10420471,30652225.832729999,20844001,11313976,31690386.102510918,20566218,11852877,32016655.867279999,20344448,10904100,1281488,31481792.989716146,20147871,11941876,0,30820251.731979597,19924468,11244232,60364,716005,31980943.732399996,20085920,11895024,34252525.530859999,20607886,13913057.555152636,35279771.078940004,21206980,14424784.13735972,35955443.988719992,20964754,14990690,36417465.611719996,21159883,15257583,35981002.85723,20358913,15693730,37100685.939180903,20804157,16296529,39313342.30715999,21866831,17446511,41045165.956319869,22557750,18487416,42468258.92028001,23490641,18986721,44771562.799199991,24106610,20667301,47526055.611459993,24874680,22651376]
[245,"Raynham                      ",38.880000000000003,0,0,0,0,0,0,0,0,0,0,0,0,0,0,0,0,0,0,0,0,0,0,0,0,0,12697.210000000001,7860,4837,0,0,0,26009.8,16567,9443,0,0,0,0,0,0,0,0,0,0,0,0,0,0,0,0,0,0,0,0,0,0,0,0]
[246,"Reading                      ",17.5,29463124,23184689,6290156.9999999981,31463026.360140003,24343136,7119890,33194639.301516734,25152672,8041967,35385849.034999996,26121634,8289951,974264,36474849.126737088,26451786,9078931,944132,35612661.075852714,26779324,9437516,50665,641507,36437713.051029995,27264731,9488181,38136802.087369993,28233100,9903702,38817531.163199998,29008253,{"$f":"10011427+8422","v":10019849},38963364.685199998,30125539,10126574,39638139.190400004,31807445,10232699,39861932.613879994,32924851,10465569,40268620.860512272,33365588,10591299,40642299.144709997,33529896,10713609,42311533.287209027,34907015,10834809,42488891.059600003,35053335,10834809,42274011.335760005,34876059,10949859,43201150.09262,35640949,11171799]
[247,"Rehoboth                     ",17.5,0,0,0,0,0,0,0,0,0,0,0,0,0,0,0,0,0,0,0,0,0,0,0,0,0,0,0,0,116046.18,81889,34157,91034.3,64373,34157,26399.920000000002,18518,26399.920000000002,0,0,0,0,0,0,0,0,0,0,0,0,0,0,0,0,0,0,0,0,0]
[248,"Revere                       ",60.49,46478555,22374964,24103591,51922904.798499994,24134938,27787967,56922955.069418222,25539984,31382971,60166072.687420011,26575341,30058188,3532544,64653955.409767158,26216203,32918917,5518835,65723577.218013175,27005010,37975657,203870,539040,68075146.155200005,27339812,40735334,74073065.5757,28043890,46214315.401124246,76694917.361529991,28826715,{"$f":"48007444.2055175+33688","v":48041132.205517501},79960501.103390008,29010426,50950075,84281832.122129992,30065688,54216144,82249270.676439986,30306709,56509506,88195564.570087463,31495119,{"$f":"60824236-4085080","v":56739156},96064542.993500009,32918306,65040589.077949196,104529856.46755695,34860627,69669229,107222329.50896001,36927909,70298333,119408964.46437,38458098,80950866,125462677.79059999,41009518,84453160]
[249,"Richmond                     ",17.5,1762868,2078922,321695.2,1791554.66,2029927,333845.2,1666525.1984222305,1918538,344495.2,1733844.42,1800907,356276.2,0,1714724.0778717706,1779707,349151,0,1627120.605,1690989,328754,1765,23307,1432341.44,1629712,330519,1455405.7799999998,1455406,336919,1341137.6900000002,1341138,340519,1381559.82,1243404,344169,1238912.1900000002,1115021,347244,1203251.3800000001,1015683,353789,1268580.5002314509,1047475,357479,1277797.2200000002,1054183,361049,1333384.0206293394,1100042,364649,1449827.3,1196108,364649,1294266.8799999999,1067770,368009,1633317.1499999997,1118062,515255]
[250,"Rochester                    ",33.46,3680270,2350290,1329980,3824253.2,2478288,1395317,4020213.9527178695,2498485,1521729,4281470.25,2647282,1462330,171858,4601636.8752688998,2799668,1601504,200465,4449279.2438400006,2835130,1696698,9109,109987,4206398.72,2715486,1705807,4265135.9700000007,2781320,1725847,4306372.08,2817361,1738272,4252932.9000000004,2742703,1750422,4382165.5599999996,2807707,1762322,4400657.959999999,2745493,1788722,4319981.4040858541,2706641,1802732,4788761.0199999996,2933529,1855232,5204047.0350275449,3146498,2057549,5386708.8799999999,3382851,2057549,5247585.0799999991,3517393,2072039,6070731.0099999998,3686389,2384342]
[251,"Rockland                     ",49.23,19513418,11054067,8952545,20522022.761699997,11421237,9430825,21120295.814178336,11629129,9714945,21933698.112469997,11574215,9270036,1089447,22004828.13255582,11463450,10152293,389085,21074812.564186316,11539567,9925552,53285,619191,21774162.33845,11752002,10022160,22355995.259560004,12117742,10325639.588731904,22663493.787000004,12382935,10386793.067113128,23580543.138319999,12524805,11055738,25189073.019840002,12589951,12599122,25814155.980160002,12429362,13635665,25966055.368246898,12806197,13706495,25871093.227260001,13345423,13774895,27535663.693475917,13793841,13843235,29202100.0068,14473503,14728597,29636842.031679999,14836781,14800061,31695075.426849995,15340167,16354908]
[252,"Rockport                     ",17.5,7402784,7362604,1194220.8,7628241.0882799998,7471074,1244120.8,8076762.8806776693,7497665,1322611.8,8284122.9709999999,7446648,1226740.8,144171,8104260.50920715,7413825,1343494,0,7620062.4644836802,7138013,1265007,6791,93921,7319480.6514099985,7150187,1271798,7190513.3909999989,7094748,1304118,7275247.9357000012,7139271,{"$f":"1324168+33688","v":1357856},7619731.0979199996,6857758,1377981,7726823.8438600004,6690331,1397406,7673923.8114000009,6409651,1439096,7549140.3215470212,6289613,1461146,7350864.6990399994,6064463,1481756,7685699.8726646928,6224394,1502126,7619056.3994999984,6285722,1502126,6998375.1413199985,5773659,1519946,7658338.1696900008,6318129,1555526]
[253,"Rowe                         ",17.5,475150,699660,45294.8,409882.39,614824,50581.8,523549.62469008093,580213,70473.8,419120.95,513500,65254.8,7669,441524.18143540673,501807,71465,0,552009.03876000002,498355,67290,361,5289,560185.52,501042,67651,613859.06999999995,514712,99147,620119.16,527677,100747,618393.5,525865,103362,676330.15,545165,131165,642285.43000000005,535088,134795,637861.27157375612,530325,136715,598648,493885,138335,582531.02683389105,480588,139775,643874.47,531196,139775,580639.88,479028,141065,687426.26,567127,143705]
[254,"Rowley                       ",17.5,0,0,0,0,0,0,0,0,0,0,0,0,0,0,0,0,0,0,0,0,0,0,0,0,0,0,0,0,0,0,{"$f":"0+25266","v":25266},66468.098199999993,52584,25266,27029.435180000004,21899,25266,27164.907080000004,22563,25266,69109.922267947739,57514,25266,42624.152879999994,35165,25266,103785.9218574735,85623,25266,105768.04224000001,87259,25266,107793.08546999999,88929,25476,145589.63310000001,110941,34649]
[255,"Royalston                    ",46.19,0,0,0,0,0,0,0,0,0,0,0,0,0,0,0,0,0,0,0,0,0,0,0,0,0,0,0,0,0,0,0,0,0,0,0,0,0,0,0,0,0,0,0,0,0,0,0,0,0,0,0,0,0,0,0,0,0,0]
[256,"Russell                      ",50.87,244989,94511,150478,183566.83,77676,151228,226187.09,88946,178215,225960.41,85118,179065,0,232829.66715406702,86171,175484,0,191599.70616,75063,168465,0,0,207260.47,79133,168465,189431.25,72090,168465,205261.50999999998,81982,168465,220031.55,83474,168465,210131.86,84199,168465,236011.40000000002,100692,168465,240301.01604183207,93424,168465,289210.46999999997,105564,183646,314603.33724281075,115978,198625,335521.82,128757,206765,357110.16,152804,207425,327675.83999999997,136549,207425]
[257,"Rutland                      ",52.45,9796,4598,8945.2000000000007,10849.66,4565,9555.2000000000007,11355.27,4214,9848.2000000000007,11943.49,4379,10197.200000000001,0,0,0,9993,0,0,0,0,0,0,0,0,0,0,0,0,0,0,0,0,0,0,13199.960000000001,5917,7283,0,0,0,0,0,0,0,0,0,0,0,0,0,0,0,0,0,0,0,0,0]
[258,"Salem                        ",29.33,39985833,29992288,10536329.999999998,42136154.640000001,30487993,11648162,42852484.075050555,30556126,12876914,44915008.079999983,30543822,12859851,1511335,47512497.335793309,30403931,14083762,3024804,47422424.260079995,30121364,16969097,91098,240865,49075889.510000005,30553623,18522267,51691291.730000004,31398532,20759584.19116275,51136476.850000001,31823721,{"$f":"20879459.1911628+134752","v":21014211.191162799},52070759.630000003,31881386,21231627.191162799,52542429.829999998,31669846,21348402.191162799,52561026.710000008,31386760,21600632.191162799,52768572.013673805,32317455,21736742.191162799,54862156.089999996,33573950,21872762,59983631.397195973,34176479,25807152,59442159.61999999,35764101,25807152,59973101.910000004,36940239,25936602,62736825.24000001,39750153,26184942]
[259,"Salisbury                    ",17.5,0,0,0,0,0,0,0,0,0,0,0,0,0,0,0,0,0,0,0,0,0,0,0,0,0,0,0,0,0,0,{"$f":"0+33688","v":33688},52019.6,44990,33688,79199.760000000009,67740,33688,79025.52,66069,33688,40250.500030768642,33612,33688,69185.8,57078,33688,14371.797255353356,11857,14383,29315.599999999999,24185,14383,29905.56,24672,14443,31395.420000000002,24408,14443]
[260,"Sandisfield                  ",17.5,0,0,0,0,0,0,0,0,0,0,0,0,0,0,0,0,0,0,0,0,0,0,0,0,0,0,0,0,0,0,0,0,0,0,0,0,0,0,0,0,0,0,0,0,0,0,0,0,0,0,0,0,0,0,0,0,0,0]
[261,"Sandwich                     ",17.5,27631550,23236639,5651356.0000000019,28541824.359999999,23538127,6229598.0000000019,29371842.072332684,23681935,6694018.0000000019,29341477.619999997,23800113,6150491.0000000019,722827,30244193.036922485,24197825,6735852,0,29670856.676279996,24024554,6342344,34049,449184,28621462.630000006,24051894,6376393,29161934.479999997,24620229,6508793,28830810.450000003,24951122,6588268,28304004.249999989,24542435,6665593,27987804.329999994,24211459,6740018,27982398.590000007,23359532,6902818,28141702.856564838,23400169,6989398,27742486.25,22887551,7071628,28195096.030377951,23260955,7151788,28550950.060000002,23554534,7151788,27638904.289999999,22802096,7226188,29279714.52,23596865,7371508]
[262,"Saugus                       ",17.5,22412040,22359654,3538314.4,24160470.339740004,22578923,3844289.4,24646309.885408901,22714754,3997139.4,25756505.726459999,22756006,3750635.4,440788,26465118.450756904,22613204,4107595,0,25120399.373848077,22610471,3867629,20763,290803,25149470.265000004,22560247,3888392,26683232.319300003,22948688,4144389.7674957826,28162538.90636,23659244,{"$f":"4883463.0180176+202129","v":5085592.0180176003},28469688.994549997,23886601,5266627.0180176003,28704386.50144,24111062,5338002.0180176003,27795391.629999999,23261068,5488812.0180176003,27708148.930856943,23048854,5569152.0180176003,28856877.780000001,23763905,5649702.0180176003,31417986.972791355,25343552,6136490,33051187.879999995,26786282,6270812,31864908.979999997,26288549,6349172,37560632.350000001,28130603,9430029]
[263,"Savoy                        ",31.62,759317,298094,461223,819788.07,322710,499459,805305.56435198744,325832,504459,842480.55,336900,471826,55451,868256.36446315795,341085,516731,10440,771221.57736,360142,496374,2665,30432,690277.05,333540,499039,695640.89999999991,312586,502079,593525.96,291675,503704,600300.83000000007,298627,505329,592852.67000000004,321122,506879,644284.77,314279,510509,634366.34950279677,316323,512309,668959.30000000005,357593,514049,751434.40349266853,362123,515849,635304.58000000007,372887,515849,542332.33000000007,447424,517199,652497.02999999991,427939,519899]
[264,"Scituate                     ",17.5,21888018,18307200,3580818,23195983.650910005,19230638,3965346,24538930.345499434,20008979,4529951,26018135.560409993,20809421,4660944,547771,26573232.383127034,21922917,5104541,0,26489575.520701922,22264352,4806334,25802,351455,26874930.164800003,22799362,4832136,27918935.093200006,23462809,4957576,28025063.522399995,24028869,5034826,27783603.550999999,23886438,5110701,28197733.99712,24057987,5185901,27740691.55742,23172735,5346391,28537003.198598668,23614603,5434351,29192076.879900001,24083464,5521321,30755855.729239803,24906358,5863240,32099035.583470002,26068183,6030853,30894315.612089995,25487810,6114553,32814594.939320002,26600278,6281773]
[265,"Seekonk                      ",26.62,16068884,14714809,3044575.2,16695154.580000002,14553529,3620014.2,17298382.43925048,14521219,4210223.2,17542753.499999996,14157726,4120766.2,484287,18026023.068662196,14305874,4512952,0,17708321.343119998,14225007,4249306,22812,293384,18141473.569999997,14541315,4272118,18781878.59,14551240,4595356.15655425,18801442.079999998,14822067,4787529.9737716876,18854298.620000001,14466350,4931239.9737716876,18460114.679999996,14348947,4979514.9737716876,18466575.149999999,14127909,5086214.9737716876,18642353.387814865,14172922,5143574.9737716876,20162615.929999996,14723649,5454099,21995792.007408068,15294251,6705263,22173871.389999997,15952238,6705263,22858887.199999999,16514693,6766703,24525300.480000004,17348780,7176520]
[266,"Sharon                       ",20.03,24896987,18670749,6270630.0000000009,26202037.429339994,19586419,6615618,27015017.202182684,20567259,6785118,28024961.712149993,21309075,6231888,732394,28860669.078239046,22028864,6824996,6809,28790563.702690437,22591942,6432692,34533,448580,29804844.627760001,23242013,6562832,30203331.846320003,24076220,6695952,31456583.212149996,24940038,6780652,31433647.07305,25641123,6865177,32275546.17168,26573303,6950527,32581200.061299995,26421487,7138517,33110463.782192025,27317316,7240547,34930860.248220004,28416519,7344287,37027112.382259734,29719389,7449437,38206192.104400009,30736571,7469972,38638373.186679997,31062235,8528536,42035594.013680004,32315527,9720067]
[267,"Sheffield                    ",17.5,19593,10223,9370,43398.64,32920,14036,45421.08,40042,14610,35830.47,28711,14760,0,36919.725014354073,30951,14465,0,24071.631359999999,20857,13886,0,0,24500.14,21717,13886,50788.840000000004,46205,13886,64470.1,62545,13886,78029.39999999998,70226,13886,92399.719999999987,80706,13886,105367.36000000002,88541,16826,93917.833405126818,79039,16826,96860.12,79910,16950,0,0,0,0,0,0,0,0,0,0,0,0]
[268,"Shelburne                    ",25.35,0,0,0,0,0,0,0,0,0,0,0,0,0,0,0,0,0,12035.81568,7620,4416,0,0,12250.07,7587,4663,12697.210000000001,8809,4663,12894.02,9180,4663,13004.9,10008,4663,0,0,0,0,0,0,0,0,0,13837.16,10789,3071,14371.797255353356,10195,4177,14657.8,10057,4601,0,0,0,0,0,0]
[269,"Sherborn                     ",17.5,3380552,3318579,340731.2,3421487.44172,3345012,392337.2,3609943.9431416788,3395988,464158.2,3944872.97248,3531728,482139.2,56663,4018165.4634094238,3568870,528026,0,3616285.1801423398,3274399,497179,2669,39428,3544554.8176799999,3168291,499848,3322207.8539100001,3024786,515408,3446195.4454399999,3128611,525258,3327431.3505500001,2944257,545223,3380505.0839999993,2917753,554673,3478451.7794499998,2909277,575738,3806638.9460125784,3143918,662721,3863587.5212599998,3181825,681763,3922730.1411090656,3236252,693583,4086891.646209999,3371686,715207,4092250.4348000004,3376106,726817,4431918.9769299999,3656333,775586]
[270,"Shirley                      ",35.36,6819383,2858481,3995219,7141364.7989100004,3138806,4154632,7495917.7602271345,3284354,4330455,7800802.5329999998,3435489,4012957,471617,7655204.9791285908,3754395,4394883,0,12461,6250.1276655997626,6812,37,420,0,0,0,0,0,0,0,0,0,0,0,0,0,0,0,0,0,0,0,0,0,0,0,0,0,0,0,0,0,0,0,0,0,0,0,0]
[271,"Shrewsbury                   ",17.5,39662058,25861451,13800607,43006922.329999998,27107973,15898949,46216469.143160932,28796799,17419670,49163922.700000003,30297112,16882697,1984114,50640024.753362693,31084837,18489475,1065713,49767093.421020001,32455678,18412775,98848,1189765,51780005.259999998,33692240,18511623,53574891.730000004,35083729,18748463,55072809.080000006,36553737,18897238,55423621.549999997,38578814,19045813,57096131.690000013,40658212,19195638,56301993.68999999,42573214,19524868,58194036.86341849,44655044,19706038,60487338.449999981,47137864,19887358,63259403.708104163,49749302,20068648,66373147.319999993,50487975,20068648,67854307.580000013,52472153,20252968,70918716.61999999,55216447,20613148]
[272,"Shutesbury                   ",37.909999999999997,980949,744787,465653.2,1097675.33,693858,532129.19999999995,1087472.3443519874,671283,540635.19999999995,1238144.68,732474,551624.19999999995,64829,1224192.060937799,728091,604124,0,1121281.2738600001,660237,568831,3054,35764,1133132.5,652599,571885,1250486.46,696787,584974.46020800003,1178320.1300000001,657620,588274.46020800003,1268845.75,689268,593590.46020800003,1336733.0899999999,723367,613366,1115064.6000000001,624029,619856,1157848.556575418,680124,623336,1166902.03,669164,626876,1321150.8039989388,730491,630386,1221694.1099999999,712492,630386,1167665.8499999999,713413,633326,1228431.31,719067,639326]
[273,"Somerset                     ",46.52,18801260,18110659,2685723.2,19720957.539999995,17515386,3559416.2,20657264.747334611,16992794,4521167.2,21503415.919999998,16475983,4807347.2,564976,21570952.204983734,16298338,5264877,7737,14275069,10715794.64921918,3499899,19110,75402,14571529.510000002,10467269,4104261,15524516.379999997,10738045,5022377.9989644997,15769354.82,11107578,5109544.062146375,16069095.370000001,11192906,5217678.062146375,16337259.259999998,11103046,5262728.062146375,16558627.16,10170448,6388179,17125371.876508925,9582995,7542377,17732666.670000002,9557082,8175585,18329520.115415696,9423790,8920409,18501842.410000004,9406646,9096902,17923179.719999999,9348329,9146162,20421920.32,10007089,10414831]
[274,"Somerville                   ",17.5,51199725,35731948,19725438.800000001,52325941.29772,38065244,19994838.800000001,53650930.251636975,40215930,20255638.800000001,55603076.77403,42134230,18431168.800000001,2166096,57459406.133968234,47404010,20185320,0,56711003.467927195,48121353,19006095,102033,1205842,58313543.709569983,48819464,19108128,60645451.388249993,50545090,19316888,61833356.366640002,51800992,19448713,62767269.546019986,52703692,19582488,64208758.285060003,54026428,19717388,62011654.562320009,51954315,20010098,64130648.10950844,53229236,20170688,65998570.132249989,54448820,20329028,68863033.368161425,56812003,20486918,72325602.754360005,59668622,20486918,77023976.661080003,62371611,20638388,80143330.545699999,66118248,20939048]
[275,"Southampton                  ",25.44,3817595,1937134,2294612,4033879.67,2117278,2404074,4219769.7429432645,2252330,2496629,4454454.5199999996,2332152,2339180,274909,4552925.5780440187,2372375,2561807,0,4426092.5655599991,2463679,2412147,12949,149736,4394778.41,2552882,2425096,4300263.7899999991,2555321,2444176,4418126.47,2686385,2456276,4598039.57,2840365,2468676,4683286.6400000006,2974492,2480926,4702769.24,3078158,2507986,4863203.5231375461,3146804,2522746,4914639.3900000006,3298766,2537146,5018160.4177704034,3476888,2551486,4972548.3299999991,3367625,2551486,5095671.4799999995,3512848,2564926,5851647.4900000002,3885985,2593726]
[276,"Southborough                 ",17.5,10775916,8618521,2581627,11112363.866560001,8827786,2657427,11560282.354900939,9325599,2735813,12278597.972959999,9676623,2560589,300929,12791303.833687706,10552826,2804288,0,12125426.22289644,10423982,2640461,14175,186952,12100378.3814,10488914,2654636,12191121.0648,10539005,2710636,12056861.715160001,10683506,2744686,11801364.191059999,10384154,2777761,11574099.806239998,10152043,2809611,11260409.134279998,9485040,2877481,11409894.389389778,9486965,2914531,11677611.934810001,9634030,2950921,11760311.474915259,9702257,2986051,12497359.942009997,10310322,2986051,12226979.455160001,10087258,3020731,13166912.130260002,10631673,3091171]
[277,"Southbridge                  ",73.64,20428362,5691750,14736612,20103131.259999998,5866161,14851612,21509239.16868699,5955255,15829982,22155409.049999997,6064486,14570274,1712350,22728459.686706219,6844242,15956972,0,22931317.140119996,6910142,15713770,84358,223047,24396090.530000005,7165928,17230163,25154189.23,7503317,17682899.236941002,26268571.68,7736324,18620961.75948,26907889.430000003,7788520,19119369,27590853.959999993,7902804,19688050,27951569.609999992,7518500,20433070,28503932.0841102,7316033,21187899,28731938.279999997,7510318,21257319,30836388.956011005,7846557,22989832,29979243.07,8016911,22989832,31977786.810000002,8279716,23698071,34733982.75,8618946,26115037]
[278,"South Hadley                 ",36.83,16765667,11233847,5531820,17331909.950000003,11613713,5867471,18060956.990095712,11637991,6422966,19336375.739999998,11671079,6859182,806115,19536753.464956939,11564704,7511991,460058,18934829.861939996,11597234,7506322,40297,478280,18784553.009999998,11810114,7546619,19235881.489999998,12212647,7627179,19156845.539999999,12497985,7676404,19070528.080000002,12680992,7724754,19296183.16,12948752,7772779,19049378.099999998,12973564,7876784,19637074.331034068,12896757,7933784,20537051.940000001,13237650,7991294,22011471.953325644,13763185,8248287,22558199.090000004,14027360,8530839,22281902.760000002,14084456,8585949,24351460.979999997,14674595,9676866]
[279,"Southwick                    ",29.6,0,0,0,0,0,0,0,0,0,0,0,0,0,0,0,0,0,0,0,0,0,0,0,0,0,0,0,0,0,0,0,0,0,0,0,0,0,0,0,0,0,0,0,0,0,0,0,0,0,0,0,0,0,0,0,0,0,0]
[280,"Spencer                      ",50.23,637001,478936,10778.186440677964,54248.3,12811,41437,45421.08,12291,41637,0,0,0,0,0,0,0,0,12035.81568,3941,8095,0,0,12250.07,4119,8131,12697.210000000001,4307,8390,25788.04,8782,17006,52019.6,18303,33717,79199.760000000009,29599,49601,65854.600000000006,27190,49601,53667.33337435819,23403,49601,41511.479999999996,18504,41511.479999999996,43115.391766060078,19467,41511,29315.599999999999,13937,29315.599999999999,59811.12,28819,30998,47093.130000000005,21605,30998]
[281,"Springfield                  ",84.69,253464385,28100362,225364023,262628553.05000001,30283760,232799829,286041159.20882511,31670757,254370402,296198428.4600001,33567836,235104590,27630323,305615195.21157515,33218730,257480215,14916250,302574194.31083989,34730182,262704775,1410316,8988999,309609750.70000011,34205756,275403995,320618386.81000006,34766731,285851656,330986295.45999998,35173501,295812794,337653427.27999997,36066908,301586519,345592031.43000001,36405937,309186094,356553651.79000002,36682622,319871030,370375982.61382222,37357582,333018401,383693957.99999988,38246693,345447265,411555995.64407492,40832170,370723826,419043165.70000011,41873391,377169775,446524567.99999994,43175654,403348914,483882872.08000004,44717025,439165847]
[282,"Sterling                     ",17.5,0,0,0,0,0,0,0,0,0,0,0,0,0,0,0,0,0,0,0,0,0,0,0,0,0,0,0,0,0,0,0,0,0,0,0,0,0,0,0,0,0,0,0,0,0,0,0,0,0,0,0,0,29905.56,24672,5362,31395.420000000002,25217,6178]
[283,"Stockbridge                  ",17.5,0,0,0,0,0,0,0,0,0,0,0,0,0,0,0,0,0,0,0,0,0,0,0,0,0,0,0,0,0,0,0,0,0,0,0,0,0,0,0,0,0,0,0,0,0,0,0,0,0,0,0,0,0,0,0,0,0,0]
[284,"Stoneham                     ",17.5,20419437,19045680,2769263.2,21921969.618560001,19522076,3032206.2,22673086.945864055,19670018,3312881.2,22727888.293199997,19736135,3160708.2,371458,23370068.911074977,19854576,3461523,53970,22707298.597098894,19664269,3310118,17770,252255,22408566.778700002,19761522,3327888,22578725.166379999,20034480,3483735.226029125,22242673.456560001,20042778,{"$f":"3585918.38324634+84220","v":3670138.3832463399},22756236.458160002,19732979,3779409.3832463399,23623782.041999996,19986407,3838859.3832463399,23858093.313949995,19851817,4059406,24538424.857372392,20290210,{"$f":"4269807-21592","v":4248215},25266909.403280001,20845200,4421709,26898862.887115043,21654643,5266351,27298622.593199998,22148293,5266351,27721100.205059998,22660313,5337631,29345841.392800011,23608286,5737555]
[285,"Stoughton                    ",37.950000000000003,30205157,21534491,8780857,31850504.109099995,21895939,9954565,33770063.061032131,22305523,11464540,35164976.446949996,22405193,11417910,1341873,35727786.25349389,22804647,12504587,418552,34710176.447902016,22865525,12168170,65324,784845,35682635.053249992,22821888,12860747,37103273.115960002,23411556,14019928.662023555,37422637.886239998,23911700,14304924.148446621,37491590.603239998,23503750,14600824.148446621,38474628.719349995,23660828,14813801,38325837.797450006,22995806,15330032,38830414.515473194,23973760,15439562,41181928.998719998,25335924,15846005,42580952.190584734,26370325,16210627,44058289.500399999,27084504,16973793,44927626.417459995,27845850,17235177,50610297.858939998,29115684,21494614]
[286,"Stow                         ",17.5,0,0,0,0,0,0,0,0,0,0,0,0,0,0,0,0,0,0,0,0,0,0,0,0,0,0,0,0,0,0,0,0,0,0,13655.815820000002,11465,2191,13669.092180000001,11412,2257,27906.769627179092,23174,4733,28685.840799999998,23666,5020,0,0,0,15240.539360000001,12573,2668,15555.7965,12834,2736,0,0,0]
[287,"Sturbridge                   ",39.9,5388381,4493704,1078308.3999999999,5516983.2500000009,4220516,1296467,5996978.0763373207,4176875,1820103,6345206.4400000004,4283593,1844805,216808,6820126.4317856468,4456964,2020381,342781,6646558.3768799985,4437863,2225107,11945,146635,6992372.2599999998,4640856,2351516,7793154.3099999987,5063140,2770520.3911102498,7764309.5599999996,4966483,2865678.1422669999,8029576.1899999995,4960281,3069295,8483866.0799999982,4983525,3500341,8568351.209999999,4799267,3769084,8170415.9676968697,4697967,3795214,8423098.5899999999,4848123,3821314,8568656.4989129324,4956813,3846634,8866569.3900000006,5185477,3846634,8608625.4299999997,5070480,3870754,9620721.5300000012,5377239,4243483]
[288,"Sudbury                      ",17.5,21263672,18207063,3502825,22258494.250949997,18693151,3676919,23679206.276443515,19595273,4083933,24596035.436999999,20228054,3908626,459355,25394888.37452016,20950783,4280621,163484,24480270.235956777,21160359,4184481,22464,312735,24225298.832720004,21111921,4206945,25075914.117840003,21703788,4325145,24959360.853349999,21986344,4397070,24443508.479559995,21216573,4466220,24450575.494369991,21153252,4534395,25153175.96328,20930012,{"$f":"4688560+56978","v":4745538},25474395.707632355,21173624,4829178,25690225.098839991,21194436,4910568,25917962.070728827,21382319,4990518,26639866.135919996,21977890,4990518,25581450.369169995,21104696,5066238,26839555.450000003,21886829,5215698]
[289,"Sunderland                   ",20.95,1491367,811746,843699,1434832.39,731500,853199,1506338.8093238133,728448,877325,1550511.91,767335,797608,93738,1651251.6745186604,1124871,873519,0,1426674.3802799999,1068529,822488,4415,50791,1427166.29,1106475,826903,1450167.1600000001,1171657,833063,1488182.91,1281235,836963,1659835.8300000003,1346071,841288,1744222.4,1440699,845663,1863761.3099999998,1490797,855618,2030461.9982605327,1547169,861528,2072735.7500000005,1562671,867288,2147362.3185696225,1649338,872838,2034470.88,1662285,872838,1721299.0999999999,1420072,877068,2091284.38,1575365,886728]
[290,"Sutton                       ",17.5,11351923,6730648,4751948,12029949.919999998,7218489,5011361,12654100.683758389,7579591,5245542,13334009.530000001,8022384,4918279,578013,13738054.398713876,8347934,5386366,3754,13180445.080379996,8462731,5075229,27246,327595,13280919.139999997,8832665,5102475,13287888.290000001,9081755,5163355,13559813.799999999,9456038,5201455,13581958.960000001,9692460,5239230,13719822.630000001,9853703,5276480,13322264.810000002,9795149,5355735,13414412.031556375,9713548,5398395,13539897.419999996,9968231,5440035,13566435.924644973,10402774,5479815,13916186.880000001,10856059,5479815,13690363.949999999,11091587,5517525,14448148.280000001,11629509,5591685]
[291,"Swampscott                   ",17.5,15093910,15315544,2051980.4,16210766.109999999,15382522,2247430.4,17414723.955687378,15557542,2487474.4,17927585.210000001,15655737,2417779.4,284146,18487892.611490913,15778863,2647887,61143,18190629.378119998,16021305,2550769,13694,198667,18506840.309999999,16211795,2564463,19282648.440000001,16709525,2773458.11925,19665111.27,17029285,{"$f":"2940442.2075+16844","v":2957286.2075},19890269.34,16959906,3140515.2075,20062283.009999998,17079677,3193515.2075,20368467.029999997,16975480,3392987,20655963.815009337,17159833,3496131,21383228.149999999,17641164,3742064,22677171.816726971,18340193,4351751,23409223.779999994,18964138,4447386,23502231.440000005,19389341,4509966,24578055.190000001,20086942,4631706]
[292,"Swansea                      ",36.93,14565457,11774730,4075230.8,15460786.719999999,11848674,4383582.8,16127292.304335002,12243842,4579268.8,16666358.550000001,12395050,4237389.8,497993,17381654.481270812,12399806,4640675,341173,17156168.303639997,12593443,4690809,25182,316157,17312134.07,12740418,4715991,18589115.77,13137149,5657431.8930937499,19231862.370000001,13411309,6098205.5495370002,19734625.710000001,13253165,6481461,20558168.07,13514200,7043968,19920849.289999999,12860612,7327857,20221515.14252951,12930499,{"$f":"7716864-327537","v":7389327},21190611.529999997,13387790,8081352.9380667778,22235382.677427534,13936344,8449049,22877752.370000001,14533757,8449049,23940769.109999999,14745527,9195242,25270425.829999994,15443111,9827315]
[293,"Taunton                      ",64.19,64458276,23828389,40629887,66658595.349999994,25423363,41894411,69472944.332918555,26621725,43477482,72404300.269999996,27417594,40398788,4747808,74169525.406621993,27604965,44243664,2320896,72854522.334359989,28606446,43844262,235375,2681198,75257775.25999999,29692749,45565026,78583025.370000005,30952805,47630220,79522976.520000011,32366269,47822170,83736224.63000001,33362611,50373614,86795145.73999998,33623458,53171688,89152710,33343214,55809496,91224275.812842891,33052858,58171418,94602367.189999998,34133205,60469162,100148666.35428402,35674642,64474024,103523189.69,36893138,66638377,107043467.58,38153915,68896940,118729147.73,40100760,78628388]
[294,"Templeton                    ",61.51,0,0,0,0,0,0,0,0,0,0,0,0,0,0,0,0,0,0,0,0,0,0,0,0,0,0,0,0,0,0,0,0,0,0,0,0,0,13170.920000000002,4915,8256,13416.833343589547,5085,8332,13837.16,5212,8632,0,0,0,0,0,0,0,0,0,0,0,0]
[295,"Tewksbury                    ",17.5,33347082,21518968,11930760,35015994.193659998,22768638,12514712,36101824.202872381,23213156,12918858,36695412.811939992,23595558,11758059,1381849,36766196.446410596,23754317,12877110,134769,34573601.27935721,23683428,12251726,65773,796855,34519814.968239993,23924435,12317499,35261727.251350001,24776381,12472939,34626787.82553,25513488,{"$f":"12566614+67376","v":12633990},35271376.15231999,26187077,12727415,34761232.521389998,26940200,12818290,33549032.422599997,26824591,13012055,34900617.062578723,27764062,13119905,34817273.780000009,28182890,13224155,35772861.621506803,29512611,13326215,35851430.130000003,29577430,13326215,35982818.319999993,29685825,13423895,38546581.100000001,30874054,13617575]
[296,"Tisbury                      ",17.5,2394089,3644342,300736.40000000002,2565498.85,3203874,330733.40000000002,2664557.161478193,3032752,371402.4,2795073.49,2902213,367111.4,43144,2952272.706204785,2990763,402050,0,2875847.00508,2872767,378562,2032,29731,3137805.37,3040803,380594,3467659.8899999997,3144657,395514,3400472.2900000005,3151771,404664,3448541.2399999993,3079391,474255,3757350.99,3164190,593161,3769019.7499999991,3133723,635297,3760490.3019716195,3062266,698224,3990246.73,3288715,709444,3863980.926163726,3187784,719854,4358704.2899999991,3499193,859511,4207932.1499999994,3462684,869801,4872085.7,3860887,1011199]
[297,"Tolland                      ",17.5,0,0,0,0,0,0,0,0,0,0,0,0,0,0,0,0,0,0,0,0,0,0,0,0,0,0,0,0,0,0,0,0,0,0,0,0,0,0,0,0,0,0,0,0,0,0,0,0,0,0,0,0,0,0,0,0,0,0]
[298,"Topsfield                    ",17.5,4607578,3944399,663179,4657195.6704799999,3710245,946951,4725499.3510903148,3656031,1069468,4933644.223199999,3831911,989593,116300,5003494.1629533703,4127543,1083775,0,4814774.8945071595,4174269,1020461,5478,72911,4836646.4862000002,4219482,1025939,4821533.5831799991,4339766,1048739,4793485.8869399996,4387064,{"$f":"1062714+16844","v":1079558},4950981.2964300001,4373961,1093858,4876256.0624799998,4295264,1107808,5219302.4780799998,4362303,1140038,5307497.2466114936,4411689,1157318,5459714.7223999994,4504265,1174628,5789256.4546096604,4709771,1192358,6270046.2603099989,5031835,1239023,5583546.5710300002,4606426,1255283,6327129.1521899998,4950549,1376580]
[299,"Townsend                     ",47.27,9892,2331,7561,10849.66,4644,8090,11355.27,5441,8370,11943.49,5490,8704,0,0,0,8530,0,0,0,0,0,0,0,0,0,0,0,0,0,0,0,0,0,0,0,0,0,0,0,0,0,0,0,0,0,0,0,0,0,0,0,0,0,0,0,0,0,0]
[300,"Truro                        ",17.5,1704648,2280388,221476.8,1722060.76,2234440,237453.8,1600608.8736194517,2062541,250249.8,1678407.63,1925541,236768.8,27826,1755899.2957244022,1970181,259303,0,1611078.6274799998,1832624,244155,1311,18512,1679937.99,1758607,245466,1835519.57,1798100,253586,1792085.3099999998,1792085,258486,1788414.01,1609573,277556,1879850.1199999996,1621100,282481,1912666.2499999995,1596786,315880,2003679.8419243183,1618203,{"$f":"394659-9182","v":385477},1934442.0499999998,1595915,391237,2296521.4702778542,1894630,402446,2296768.69,1894834,402446,2253510.1199999996,1859146,408416,2317885.7700000005,1912256,419516]
[301,"Tyngsborough                 ",30.18,14979885,8412477,6567408,15541436.869999997,8616640,6924797,16038143.446318682,8917341,7143646,16743697.889999999,9241021,6713664,789013,16627737.4536268,9341709,7352623,0,16055926.01182,9486124,6923083,37166,441174,15581685.049999999,9652634,6960249,16365479.893119998,10162808,7034649,16473614.73,10531483,7080574,16424708.550000001,10954033,7125624,16310112.57,11087277,7169374,15994837.789999999,11008609,7262434,16426722.369211081,11396682,7312774,16125261.67,11397568,7361014,16876605.054087967,12035384,7409074,17653818.739999998,12650386,7409074,18200500.57,12713256,7457854,20161771.900000002,13501934,7557694]
[302,"Tyringham                    ",17.5,221575,466915,30873.599999999999,217685.02,326528,32323.599999999999,242227.8797746044,303598,36618.6,211474.7,266822,37968.6,0,221493.48244210528,260037,37209,0,250239.19739999998,250313,35721,0,0,241848.72,244240,35721,258128.17,247395,35721,251901.56999999998,248608,35721,249461.65000000002,224515,38498,249733.64,219336,38498,225957.46000000002,192376,38498,234931.13370609152,194462,40469,251821.94999999995,202533,49289,295787.37665969401,244025,51836,321152.71999999997,264951,56202,305094.65999999997,251703,57162,325767.26999999996,268758,57162]
[303,"Upton                        ",20.51,9988,4028,6880,11197.585239999999,4809,7349,46690.898399999998,20600,26091,24535.137620000001,10563,24535.137620000001,0,25382.203100478469,11203,24044,0,49251.668457600004,23544,25708,0,0,12582.467449999998,6272,12582.467449999998,26250.526239999996,13295,12956,39954.317999999999,20706,19248,40041.258719999991,21792,19248,27007.727760000002,15988,19248,52683.680000000008,34232,19248,53667.33337435819,35821,19248,110697.28,75315,35382,129346.17529818021,89703,39799,87946.800000000017,63657,39799,89716.680000000008,68168,39979,78488.55,59336,39979]
[304,"Uxbridge                     ",29.74,15694459,7254008,8978422,16305919.27,7699224,9271984,16540051.93015206,8083909,9377789,17120711.660000004,8646597,8631945,1014457,17477190.309787564,9596633,9453474,0,17147339.203259997,9663507,8901203,47786,554635,16877042.539999999,9962236,8948989,17330083.23,10285734,9025989,17729556.77,10515859,9074414,18066543.430000003,10926419,9122764,18526071.940000001,11067180,9171114,18410939.780000005,10786060,9275834,18455125.454438496,11060991,9331904,18397204.830000002,11363380,9385304,19102321.172340635,11756863,9438614,19464063.84,12445154,9438614,19398107.32,12927160,9489404,20484522.960000001,13953398,9588524]
[305,"Wakefield                    ",17.5,24912170,24531402,4066920,26617789.348280001,24791745,4365403,28230853.006573763,24914208,4647689,29490621.523280002,25175571,4356193,511955,30299105.328824647,25233915,4770785,294405,29492136.843027599,25278570,4769282,25604,354054,30243376.094500005,25690110,4794886,31226177.075480007,26692542,4962309.7470522504,31777096.588499997,27531423,{"$f":"5111980.28603606+58954","v":5170934.2860360602},31933215.629270006,27532408,5317017.2860360602,32600249.418120001,27898292,5401367.2860360602,34230683.749200001,28386107,5844577,35673992.74237927,29443005,6230988,36359382.278080001,29996491,6362891,37851806.805738397,31170923,6720549,38545137.935350008,31799739,6745399,38638839.541639999,31877042,6846919,40977611.282850005,33133651,7843960]
[306,"Wales                        ",63.24,1057649,551254,600096.4,1097738.68,542623,623689.4,1214081.5491547664,568369,692029.4,1083615.01,511611,625113.4,73466,1237788.8446468899,562473,684608,0,1290629.74896,586443,690675,3708,9804,1324350.96,599347,725004,1325356.92,604836,730684,1277849.4100000001,602399,734009,1356194.98,645271,737534,1467392.6599999997,661118,806275,1585577.72,646690,938888,1580013.0996064784,594640,985373,1631406.07,654753,990083,1548538.4556649411,599075,994373,1614023.6,613294,1000730,1543003.67,564773,1004630,1787635.85,616948,1170688]
[307,"Walpole                      ",17.5,26410304,22394550,4500224.4000000004,28924699.423300002,23409707,5514992,31050181.709740832,24570828,6479354,32983538.436549999,25479114,6715227,789197,33992625.661692321,26485132,7354336,153158,32863427.944973391,26734779,7068906,37949,496139,33583986.553500004,27739862,7106855,35385662.980499998,28681277,7325008.0005256878,36597932.707249992,29680601,7446255.7103260532,36833859.746200003,30016055,7542980.7103260532,37317617.441239998,30729479,7638830.7103260532,36843723.371769994,30659945,7848820.7103260532,36969856.911350518,30718767,7961140.7103260532,38230557.63222,31540211,8073101,39185793.937174484,32328280,8182871,39454988.392580003,32550365,8182871,40749021.079649992,33446471,8290061,43228473.531800002,34931941,8504201]
[308,"Waltham                      ",17.5,38879439,61572349,5965643.2000000002,42761499.772249997,59697543,6645004.2000000002,46074539.537751034,56268437,7224786.2000000002,48110738.181689993,52317305,6817755.2000000002,801247,49403220.555879377,50761236,7466622,0,47912898.078373261,48460847,7030422,37743,519232,50081563.292000003,48664297,7068165,54877131.504830003,50008834,7701998.2533363122,57878574.668200001,51531811,8308686.3317359835,58974377.85684,51151815,9012826.3317359835,62218743.565559998,52507147,9711597,62274785.537900016,51887299,10863166,65721454.701030053,54285104,{"$f":"12031585-595234","v":11436351},70511885.580779999,57308784,13203102,75037559.479823217,60191416,14846143,78968509.286119998,63760767,15541249,79126547.643249989,65279402,15706969,87977903.347709998,69072135,18905768]
[309,"Ware                         ",67.319999999999993,10543852,4213722,7097968,11341610.789999999,4490738,7590105,11984338.616012348,4670870,7988468,12279413.380000001,4853748,7307532,858807,12947330.615364594,4961196,8003012,0,13334594.007599998,5116642,8060271,43271,114410,13217323.799999999,5226096,8103542,13610889.48,5398699,8212190,14182968.479999997,5508648,8674320,14311776.950000001,5575059,8736718,14379106.989999996,5507809,8871298,14839037.079999998,5469680,9369357,14617553.305294422,5149596,9467957,14793547.390000001,5213248,9588570,15862338.797222899,5271105,10591234,15723620.550000001,5305670,10591234,16595927.159999996,5393117,11202810,17965623.27,5630390,12335233]
[310,"Wareham                      ",36.53,26787120,16030344,11226580.000000002,27620251.569999997,16502182,11620568.000000002,28330642.11136163,17161382,11916801.000000002,29713674.899999999,17701346,11178168.000000002,1313698,30323433.981795222,17409106,12242029,672299,29157976.018979996,17518457,12159874,65280,765499,28986212.199999999,17900064,12225154,30086115.449999996,18383155,12345207.138633749,29686081.27,18523807,12416757.138633749,29801464.629999995,18563068,12488232.138633749,30579432.949999999,18285648,12558607.138633749,29850414.400000002,17354464,12708042.138633749,30448305.403478537,17216125,13232180,30391882.289999999,17563012,13308860,30196685.358659841,18151699,13381730,29995900.239999998,18760166,13381730,30246630.430000003,19008275,13449800,34329630.080000013,20639982,13689648]
[311,"Warren                       ",68.48,538960,185240,353720,702595.73,196083,506513,158055.47,44646,137959,71660.94,20366,71660.94,0,24613.150009569381,7172,70228,0,0,0,0,0,0,0,0,0,0,0,0,0,0,0,0,0,0,0,0,0,0,0,0,0,0,0,0,0,0,0,0,0,0,0,0,0,0,0,15697.710000000001,4781,10917]
[312,"Warwick                      ",32.130000000000003,0,0,0,0,0,0,0,0,0,0,0,0,0,0,0,0,0,0,0,0,0,0,0,0,0,0,0,0,0,0,0,0,0,0,0,0,0,0,0,0,0,0,0,0,0,0,0,0,0,0,0,0,0,0,0,0,0,246092]
[313,"Washington                   ",28,29389,10836,18553,32548.98,18105,20004,34065.81,20948,20700,11943.49,6978,11943.49,0,24613.150009569381,16085,11705,0,24071.631359999999,16378,11237,0,0,12250.07,9358,11237,25394.420000000002,19302,11237,0,0,0,13004.9,10244,2761,13199.960000000001,10149,3051,13170.920000000002,10882,3051,26833.666687179095,22444,4390,27674.32,22157,5517,28743.594510706713,20897,7847,14657.8,10895,7847,0,0,0,0,0,0]
[314,"Watertown                    ",17.5,19464616,27494743,2500103.6,21408022.994499996,26660901,2840199.6,22755172.082941681,25584736,3182786.6,23442917.806000002,24228635,3119661.6,366634,24506187.214984823,24010035,3416570,0,24666914.422698718,23332261,3216974,17270,246976,25827066.428560004,23433118,3234244,26990163.684909999,23875646,3341524,28042729.455369998,24440387,3928625.9136724374,28744449.526519999,24409669,4334781,26987815.659180008,23909715,4399531,27574866.376769997,23092613,4540881,28658582.599711496,23755394,4903189,29636571.161200002,24450171,5186400,31550834.623976581,25692240,5858595,33148323.506280009,27347367,5858595,33614343.104620002,27731833,5936805,36321233.870360002,29965018,6356216]
[315,"Wayland                      ",17.5,20528254,22426179,2433825.2000000002,21706401.2687,22177863,2706784.2,22348945.189632639,21508290,3068068.2,23105602.879149996,21557416,3033452.2,356502,23487595.690153036,21787470,3322155,0,22901223.710748963,21497031,3128075,16793,244512,22873243.606079999,21683970,3144868,23638559.356320001,22212916,3250268,24223145.583800003,22634976,3316668,24309849.451349992,21783923,3644813,24601190.323630001,21539908,3710313,24640382.589680005,20643819,{"$f":"4042462+17341","v":4059803},25043290.042167287,20778238,4265052,26378777.201239996,21731959,4646818,27841232.66770371,22568639,5299764,28213341.421039999,23276007,5299764,29175011.111419998,23897476,5379174,30979999.4738,24877273,6102726]
[316,"Webster                      ",54.02,15041385,7642041,7399344,16432266.58,8269809,8162458,17755144.59782863,8781928,8973217,18280915.910000004,9216413,8231908,967443,19369599.058311965,9323234,9015364,1031001,19122110.4267,9432847,9503351,51018,541696,19221499.239999998,9741513,9554369,19780303.73,9875242,9905062,20497532.719999999,10176657,10320876,20776506.130000003,10261282,10515224,21401884.859999996,10346397,11055488,22136766.249999996,10147763,11989003,22425991.213709842,10170354,12255637,23346664.300000001,10636864,12709800,24776507.500713076,11062493,13714015,26082448.07,11471908,14610856,25360639.029999997,11546702,14666956,29048367.420000002,12256734,16791633]
[317,"Wellesley                    ",17.5,31887905,31509960,3170547.2,35128683.6228,32249496,3765942.2,37728351.069279179,33113521,4616898.2,41021667.78360001,34503446,5832738,685484,43474466.332122765,35866435,6387858,1220173,42176324.226688981,36405114,7163571,38457,528228,42989228.138499998,37498680,7202028,45335499.620400004,38747883,7402108,46194904.987919994,39997992,7526408,47297420.926149994,40402136,7789132,48641677.772080004,41171516,7916157,49005990.891000003,40807164,8198827,49446876.963866338,41046916,8399961,51173115.289380006,42217820,8955295,52951270.696678318,43684798,9273504,52873250.972209997,43620433,9273504,49998663.731600001,41248897,9407484,51015282.939499997,42087609,9665964]
[318,"Wellfleet                    ",17.5,1043179,1587533,123912.4,1024829.69,1362731,134999.4,1014001.08,1199684,147734.39999999999,1017218.98,1111542,141139.4,16587,1114134.5932248805,1172923,154572,0,1206261.3075600001,1220593,145542,781,11899,1181905.93,1149462,146323,1149133.73,1123089,151483,1232950.69,1194924,154808,1240792.6900000002,1116713,176624,1150249.74,993135,179724,1067714.3400000001,892056,185664,1107735.4422992696,917147,190588,1136908.3900000001,937949,198959,1139476.1400684477,940068,202109,1257777.1000000001,1037666,220111,1274233.2699999998,1051243,223660,1688189.7200000002,1392757,295433]
[319,"Wendell                      ",58.75,0,0,0,0,0,0,0,0,0,0,0,0,0,0,0,0,0,0,0,0,0,0,0,0,0,0,0,0,0,0,0,0,0,0,0,0,0,0,0,0,0,0,0,0,0,0,0,0,0,0,0,0,0,0,0,0,0,0]
[320,"Wenham                       ",17.5,0,0,0,0,0,0,0,0,0,0,0,0,0,0,0,0,0,0,0,0,0,0,0,0,0,0,0,0,0,0,{"$f":"0+8422","v":8422},13282.92632,11679,8422,0,0,0,0,0,0,0,0,0,0,0,0,0,0,0,0,0,0,0,0,0,0,0,0]
[321,"Westborough                  ",22.38,24595216,23154460,2766040.8,26156767.179999996,24071950,3129365.8,27284907.908756465,24682401,3731061.8,28924388.270000003,24976329,3966523.8,466160,29970816.824099522,25527660,4344030,99127,29700461.313299999,25642790,4183588,22459,325510,29045979.329999998,26179724,4206047,30072174.120000001,26844072,4475455.4982209997,31092026.789999999,27788304,4736300.3124719998,31788292.559999999,27852628,5025628.3124719998,32643542.910000004,27945222,5113078.3124719998,33283538.019999992,27451731,5881737,36606246.041138574,28766772,{"$f":"7878155-38681","v":7839474},37382713.520000003,29912840,7951974,39131440.051199019,31441549,8064504,40523119.020000003,32212271,8310848,42200577.130000003,31967462,11190003,45181193.88000001,33675087,11506107]
[322,"West Boylston                ",20.43,7463040,5272275,2604355,7862835.5099999998,5529064,2737047,8303886.0469139311,5698232,2880036,8764535.4300000016,6056904,2705190,317924,8721965.5391540695,6143068,2962652,0,8556984.7309199981,6224632,2789574,14976,182302,8200894.7400000002,6360524,2804550,8653273.7799999993,6565606,2841510,8616496.2100000009,6706677,2864560,8413020.9400000013,6777592,2886885,8930152.6600000001,6857750,2909285,8692760.0099999998,6831386,2957025,8877321.1119815204,6760095,2982885,9051419.8800000027,6981458,3008415,9510996.4243331663,7267000,3034005,9693716.8899999987,7543146,3034005,9723140.6099999994,7800056,3058965,10560011.300000001,8098019,3108465]
[323,"West Bridgewater             ",36.549999999999997,7087351,6483027,1620335.6,7481921.1700000018,6519525,1739646.6,8080095.9730690857,6637938,1930659.6,8849560.0699999984,6740361,1992175.6,234128,9332740.0692976061,6973221,2181778,177741,9121055.2676399983,6925166,2221676,11927,152991,9407934.3300000001,6966042,2441892,9384522.75,7101110,2550273.4426500001,9746407.75,7107926,2817296.2266937499,9789063.1500000022,6918340,3006077.2266937499,9864782.7299999986,6849766,3031677.2266937499,10285489.059999999,6653790,3631699,10346624.462660685,6795040,3663259,10778968.260000002,7138403,3694909,11563083.632389149,7525433,4058306,12165316.310000001,8009301,4157054,12509536.450000003,8120160,4569989,13585538.109999998,8270877,5314661]
[324,"West Brookfield              ",43.2,254785,111031,143754,388832.98,151067,237766,328384.52,139713,239116,214016.92,95359,214016.92,0,245136.2421588517,105919,209737,0,251778.78455999997,114004,201348,0,0,231760.61,101090,201348,303706.14,139106,201348,321307.69,147913,201348,233036.45,115505,201348,355331.41999999993,184172,201348,354549.68000000005,186072,201348,507435.69877084321,254467,252969,675281.05999999994,347672,327609,657950.26899632823,345483,327609,656385.84,351215,327609,609550.86,327849,328719,453257.52,246970,328719]
[325,"Westfield                    ",54.16,49973231,20368440,29644636,53649787.230000004,21748478,31901309,55203857.608358152,22572618,32840745,57201000.020000011,23301263,30462915,3580110,58064880.787414365,23683434,33362165,1019282,56542890.625020012,24024402,32372885,173792,1986845,56348311.590000004,24659576,32546677,58680126.160000004,25776861,32927874.488096002,59626032.379999988,26817278,33072499.488096002,59091820.839999996,27452394,33214624.488096002,59194723.68,27572737,33353974.488096002,59795241.399999999,26781337,33656694.488095999,60917916.743617475,26596469,34321448,61979381.029999994,27249072,34730309,65007737.903743565,27712077,37295661,65292799.700000003,27986427,37306373,64714818.569999993,28674517,37455773,69264756.579999998,30194266,39070491]
[326,"Westford                     ",17.5,35723685,24675698,11305202,38818431.875120007,25842739,12975693,40555313.116589576,26531707,14023606,42911329.967289984,27280805,13986752,1643773,44563082.297898509,27807520,15317915,1437647,42723467.157275043,28681127,15776704,84696,1021312,43881686.305879995,29241053,15861400,45585175.226279989,30308996,16064000,45685221.157399982,31603683,16189875,45600413.679659985,32229875,16313850,45124999.36552,33597365,16436625,45233495.410999998,33677123,16706565,46319271.278671294,35059135,16853055,47840867.455200009,36197500,16998615,50292113.17611514,37292159,17144235,49470077.997149989,38573963,17144235,49437144.66234,38453895,17281815,51138938.126499996,40088937,17551275]
[327,"Westhampton                  ",17.5,1143015,871506,286065.2,1161647.67,830817,341741.2,1170704.509380162,836402,392663.2,1157514.8700000001,778624,376209.2,44213,1296948.5063349283,829588,412014,55347,1232065.9646999999,806088,440058,2362,28516,1193876.6000000001,823754,442420,1195530.31,868868,447620,1215188.8099999998,921372,450895,1314694.2799999998,956723,454345,1294416.6200000001,964619,457770,1360673,968330,465470,1297572.8942240474,918872,469400,1357190.3900000001,952974,473330,1392808.786186093,993885,477140,1307846.49,960638,477140,1221027.5199999998,977281,480230,1276796.4100000001,1028968,486110]
[328,"Westminster                  ",43.37,0,0,0,0,0,0,0,0,0,0,0,0,0,0,0,0,0,0,0,0,0,0,0,0,0,0,0,0,0,0,0,0,0,0,0,0,0,0,0,0,0,0,0,0,0,0,0,0,0,0,0,0,0,0,0,0,0,0]
[329,"West Newbury                 ",17.5,0,0,0,0,0,0,0,0,0,0,0,0,0,0,0,0,0,0,0,0,0,0,0,0,0,0,0,0,0,0,{"$f":"0+33688","v":33688},13004.9,10405,13004.900000000001,13199.960000000001,11094,13004.900000000001,0,0,0,13416.833343589547,11105,2312,13837.16,11416,2421,0,0,0,29315.599999999999,24185,5131,29905.56,24672,5263,31395.420000000002,25174,6221]
[330,"Weston                       ",17.5,16162814,20181705,1480949.6,17307605.129800003,19912849,1790525.6,18370485.452483337,19288255,2217818.6,19437327.17588,18964744,2334128.6,274315,20595641.906424958,19452416,2556275,0,20090660.412545517,19197587,2406938,12921,195391,20217500.017579999,19394331,2419859,21125018.31106,19897050,2512979,21575268.311200004,20375359,2571779,21506483.175400004,19355835,2988929,21219806.953260001,18857119,3045154,20900052.866529997,17600265,{"$f":"3299788+17341","v":3317129},21251738.294267315,17672626,3579112,21305867.837200001,17577341,3728527,22508837.582984712,18569791,3949220,22266149.914000005,18369574,3949220,21554028.930860002,17782074,4007060,23331116.658349998,19248171,4124960]
[331,"Westport                     ",17.5,12968630,9738097,4035010,13865149.07,10429878,4191901,14462425.445800073,11075177,4296424,15502132.710000001,11580866,4007408,470965,15990008.832857417,11793167,4388806,0,15747912.792959997,12196747,4132413,22184,279609,15633780.250000004,12313381,4154597,15649507.84,12625582,4221997,15457275.029999999,12949560,4262947,15286780.110000001,12928118,4303047,14995933.330000002,12876991,4341772,14911266.000000002,12467729,4425482,14885291.294271678,12354601,4470212,15341227.09,12656512,4514672,16245198.777909063,13146344,4559462,16658171.17,13742991,4559462,16990670.259999998,14017303,4603592,19394381.850000001,14765539,4696172]
[332,"West Springfield             ",58.75,31130339,18106441,13445170,33870575.43,18598514,15272061,35265587.219952904,18707901,16557686,36643826.119999997,18919840,15860056,1863930,38205385.345714822,19265177,17369506,1570702,37738816.076999992,19240559,18143323,97401,797859,38457480.989999995,19599705,18857776,39534882.329999998,20240555,19563826.466162249,40948666.769999996,20335136,20717957.063267998,41551686.519999996,20188627,21363060,42891023.810000002,20277457,22613567,44295065.429999992,20212569,24082496,46379224.347272687,20257037,26122187,48360495.230000004,20291474,28069021,51872243.869854257,20465981,31406263,52593244.399999991,20539659,32053585,53788012.660000004,20662897,33125116,57525467.20000001,21830351,35695116]
[333,"West Stockbridge             ",17.5,0,0,0,0,0,0,0,0,0,0,0,0,0,0,0,0,0,0,0,0,0,0,0,0,0,0,0,0,0,0,0,0,0,0,0,0,0,0,0,0,0,0,0,0,0,0,0,0,0,0,0,0,0,0,0,0,0,0]
[334,"West Tisbury                 ",17.5,0,0,0,0,0,0,0,0,0,0,0,0,0,0,0,0,0,0,0,0,0,0,0,0,0,0,0,0,0,0,0,0,0,0,0,0,0,0,0,0,0,0,0,0,0,0,0,0,0,0,0,0,0,0,0,0,0,0]
[335,"Westwood                     ",17.5,20567480,21740599,2250702.4,22498088.821120001,21936416,2588559.4,24472148.293146249,22175336,3096779.4,25508214.087440003,22412158,3174824.4,373117,26986270.471055556,22996257,3476983,513030,25931255.131285079,23233856,3756916,20169,287878,26758357.153839998,23390650,3777085,28328703.767000001,24138538,4382005.2898062505,28396775.81552,24768521,4528862.9092836883,29096356.715499997,24830260,4725912.9092836883,29539997.822689999,25123982,4803412.9092836883,29301469.672719996,24485112,4971877.9092836883,30014821.710917722,24903789,5111033,30492581.964960001,25156380,5336202,31407909.177556276,25911525,5496384,32201274.010420009,26566051,5635223,32473679.60554,26790785,5723453,33902334.173579998,27895202,6007132]
[336,"Weymouth                     ",19.48,51107904,31463668,19644236,54069183.504560001,33009395,21059789,57436766.066748992,35313488,22123278,61362559.405040011,37036094,21768190,2558275,62237990.731232964,37337725,23839936,1060330,62823242.56985008,38124103,22447209,130052,2523813,64565174.840659991,39054922,25510253,67376255.928720012,40341671,27034585,68036042.431139991,41955039,27200610,68999976.990219995,43802418,27366185,69769188.724899977,45695271,27530085,69159899.607649997,47454854,27883625,69172635.260738254,49020130,28071515,69340075.166419998,51161839,28253945,71911345.754917458,54222905,28433225,73265345.799600005,56687928,28433225,76134831.638579994,58393693,28611095,83362016.189649999,62293612,28964195]
[337,"Whately                      ",23.17,905765,834822,131052.8,847599.61,747909,172887.8,801658.09440833644,665132,207744.8,828878.44,601232,220473.8,25911,831398.74939712929,581336,241457,8606,770958.84743999992,548156,235454,1264,15670,778131.94,571400,236718,871685.15,643358,240518,1002641.6199999999,761189,247640.0875275,973888.2100000002,773751,250115.0875275,877253.83999999985,745655,252340.0875275,852415.71000000008,714075,256850.0875275,869184.11954740097,720991,259340.0875275,981559.89999999991,785698,262160.0875275,968969.2611512969,792219,264770,904197.0199999999,739905,264770,961185.17,774927,267200,966975.82,730678,271820]
[338,"Whitman                      ",48.56,97965,35557,87102,172717.17,52188,126825,180766.01,61318,131107,119434.9,40958,119434.9,0,110759.17504306222,40065,117046,0,167528.0748,60734,112364,0,0,158260.19,58829,112364,189431.25,70715,118716,192367.49000000002,71155,121212,78029.39999999998,29915,78029.39999999998,118799.64000000001,47836,78029.39999999998,118538.28,48874,78029.39999999998,120751.50009230593,51831,78029.39999999998,124534.43999999997,54467,78029.39999999998,143717.97255353359,64098,80336,203601.62000000002,93108,110494,134575.02000000002,63660,110764,249187.29,115290,133897]
[339,"Wilbraham                    ",34.729999999999997,0,0,0,0,0,0,0,0,0,0,0,0,0,0,0,0,0,0,0,0,0,0,0,0,0,0,0,0,0,0,0,0,0,0,0,0,0,0,0,0,0,0,0,0,0,0,0,0,0,0,0,0,0,0,0,0,0,0]
[340,"Williamsburg                 ",34.19,1353554,1305103,359184.4,1431625.05,1223519,401047.4,1303227.8492111149,1103460,410847.4,1358267.99,1050677,386941.4,45475,1529284.0745033494,1098680,423768,6836,1588795.8168000001,1185579,405448,2177,27379,1626834.23,1211055,415779,1690611.6400000001,1270564,434689.03882100002,1847447.82,1352484,509920.14508649998,1740594.9700000002,1393645,514620.14508649998,1731396.01,1404042,519245.14508649998,1665309.4700000002,1295778,528925.14508649998,1640814.868103652,1224301,534055.14508649998,1888347.0699999998,1281224,608437,1900770.6075914244,1235134,665637,2006916.64,1291212,715705,2025767.98,1285613,785367,2178719.5099999998,1344523,834197]
[341,"Williamstown                 ",17.5,2838804,2951735,900860.4,2993564.97,3003582,927943.4,2947485.2032250096,2967122,946993.4,2926746.36,2854443,863644.4,101499,3169486.7944727275,2914408,945841,0,2954221.7637,2820665,890585,4781,59525,2930427.46,2765115,895366,3160940.25,2913200,909926,3339446.0000000005,3057274,919376,3344865.7700000005,2917285,928776,3691422.7599999993,3123894,938701,3780882.2300000004,3127725,960921,3766818.1625702963,3122141,{"$f":"972741-972741","v":0},0,0,0,0,0,0,0,0,0,0,0,0,0,0,0]
[342,"Wilmington                   ",17.5,26946504,24426636,3493482.8,28589474.265000004,24012970,4787472.8,30225618.082184222,23520068,6758866.7999999998,32940341.795039997,22982850,8910320,1047172,33354631.307536971,23083400,9758342,512889,33071492.365163159,22741572,10131715,54392,180399,33089929.46198,23047600,10186107,33475095.871219996,23350005,10653175.75580658,33711449.013840005,24229668,{"$f":"10743100.7558066+58954","v":10802054.755806601},33711949.045720004,24256928,10891329.755806601,33895541.813259996,24840882,10978729.755806601,33396838.325240005,24739359,11167159.755806601,34239954.195590727,25512508,11270329.755806601,34794527.347199991,26550382,11371910,34910848.030844986,27323352,11469170,35336725.314499997,28856084,11469170,31976675.075399999,26380757,11553710,34415669.88318,27066348,11724230]
[343,"Winchendon                   ",64.760000000000005,13575447,4042511,9746972,14428042.68,4236403,10353509,14745121.603420299,4352216,10575115,15156933.289999999,4512742,9718917,1142201,16219065.234373206,4477183,10643896,1097986,15672163.269959999,4664700,11055922,59353,669132,15461197.040000001,4686612,11115275,15336037.73,4744751,11177635,14932867.66,4859333,11215085,14667673.109999999,4914309,11251885,14868534.459999999,4931923,11288335,14883842.210000001,4860783,11366930,14578929.593496464,4751326,11408120,15435431.700000001,4871517,11450030,15998737.235770881,5085773,11491100,15745625.66,5282604,11491100,16192011.48,5511010,11529590,18305278.439999994,5813202,12492076]
[344,"Winchester                   ",17.5,25105213,24915091,3131320.8,27686227.761740003,25368782,3582998.8,30248338.701930307,26104922,4143417,32130973.606599998,26921385,4661726,547863,33869183.152500734,27942076,5105397,821710,34209062.642022774,28412977,5684874,30519,312514,35352719.397000007,29111601,6241118,37274561.601149991,30107863,7166699,38667213.748349994,31202716,7464498,39564443.627320006,32332932,7572048,40749515.511779994,33648454,7680548,41694755.431160003,34474073,7924363,43175541.000589445,35662566,8058883,46376139.481770001,37332874,9043265,48242100.959599502,38833443,9421254,49895727.543140002,40278256,9617689,49628251.23258999,40943308,9753079,51185910.074539989,42158204,10016359]
[345,"Windsor                      ",17.5,19593,9317,18987,43398.64,22696,30997,79486.89,46037,50091,59717.45,33889,50341,0,49226.300019138762,30072,49334,0,48143.262719999999,30554,47361,0,0,98000.56,57428,47361,88880.470000000016,53746,47361,90258.14,59063,47361,91034.3,66927,47361,39599.880000000005,33367,39599.880000000005,26341.840000000004,22244,26341.840000000004,26833.666687179095,22290,26341.840000000004,41511.479999999996,34247,26342,71858.986276766795,59284,26342,58631.199999999997,48371,26342,59811.12,49344,26462,62790.840000000004,46140,26462]
[346,"Winthrop                     ",22.2,14203032,10524171,4649575,15189263.146560002,10737357,4843961,16040450.497654758,11241167,5042458,16653713.865099998,11482366,4639322,545229,17547573.530765843,12509487,5080860,0,16947233.724507775,12482874,4784037,25683,318165,17937168.698699996,12779319,5157850,18416072.0348,13141365,5274707,19449615.869399998,13466250,{"$f":"6026961.59606301+25266","v":6052227.5960630104},19874501.94588,13576177,6298325,19501001.633919992,13757564,6346975,19355380.740320001,13740113,6450815,20873787.706656512,14619405,6509855,22361612.680800002,15285867,7075746,23351887.112957381,16010984,7340903,23537383.711800005,16793461,7340903,23441502.304000001,17313006,7398113,25999605.057999998,17986284,8013321]
[347,"Woburn",17.5,34930602,37657788,4733852.8,37332334.363359995,38094517,5154155.8,40314036.275784098,38276911,5788495.7999999998,42494196.208999999,37749504,6002692.7999999998,705458,43397769.300633483,37761424,6573988,0,43013306.744314127,37654434,6189936,33230,468697,44725938.827559993,38469627,6256312,46091897.869999997,39862499,6819375.0867005,47182460.705740005,40697687,{"$f":"7323850.03757165+16844","v":7340694.03757165},48695159.223999999,40727571,8202269.03757165,49230530.561499998,41631275,8321994.03757165,49930543.991250016,41567504,8583684.03757165,50380963.059562519,41884963,8724234.03757165,51790238.039180018,42726946,9063292,53841305.779622279,44419077,9422229,54604897.586800009,45049041,9555857,54858831.045920007,45258536,9687377,60994707.780599996,48301038,12693670]
[348,"Worcester                    ",70.599999999999994,233243474,72184115,161059359,242782324.40000004,77309187,167480913,252522466.45670471,80540711,174025314,262175701.59,83762339,161512435,18981512,274595072.36176842,81810677,176884068,15900327,275818706.70521998,84305903,187838166,1008399,4578055,286908104.64000005,85772826,201135279,298950312.13000005,88586175,210364137,311832464.69999999,91934732,219897733,314854112.86000001,96374700,220569583,329468506.71999997,97927769,231540738,332590291.94999999,97188059,235402233,342886580.84977067,97679398,245207183,353662082.21999997,100450297,253211785,379530589.18986362,104076553,275454036,382606983.73000002,105210987,277395997,400051102.55999994,108945977,291115647,430557179.73999995,114317014,316240166]
[349,"Worthington                  ",17.5,156820,105031,69958,108496.6,89804,70458,113552.7,89058,72331,95547.92,69044,72731,0,73839.450028708146,58793,71276,0,60179.078399999999,50743,60179.078399999999,0,0,49000.28,61740,49000.28,101577.68000000001,101578,49000.28,103152.16,103152,49000.28,181016.85000000003,161882,{"$f":"49000.28+144899","v":193899.28},1164871.5999999999,939802,225070,1206120.8500000003,969030,237091,1160346.2789760442,967158,240361,1138991.4000000001,939668,243571,1201024.652987523,968704,246841,1374749.7299999997,1018495,356255,1188969.8699999999,980900,359315,1326979.1100000001,1027100,365735]
[350,"Wrentham                     ",17.5,8108218,4773537,3446005,8536881.8352199998,4905786,3631096,8611109.7637538575,5032071,3688296,9026427.3732400015,5280507,3413547,401172,9476432.1319100633,5747185,3738425,0,9107308.40131188,5781211,3520026,18897,227952,8997163.6104499996,5880789,3538923,8996680.8980999999,5899004,3581123,8892422.6601499971,6253155,3606873,9069999.5540800001,6555043,3632823,8534196.4301100001,6762850,3656773,8711771.7903999984,6915585,3709903,8596118.8600556906,7106012,3737593,9153991.6259199996,7552043,3765913,9200581.1460926738,7590479,3793153,9053868.8087499999,7469442,3793153,8698911.8334400002,7176602,3817813,9667437.7704000026,7781640,3868573]
[351,"Yarmouth                     ",17.5,0,0,0,0,0,0,0,0,0,11943.49,9336,2607,0,24613.150009569381,19848,2555,2210,12035.81568,10055,4574,0,0,12250.07,10608,4574,12697.210000000001,10850,4574,0,0,0,0,0,0,0,0,0,0,0,0,0,0,0,0,0,0,0,0,0,0,0,0,0,0,0,0,0,0]
[406,"Northampton Smith            ",17.5,1567616,1276116,738533.6,2025133,1468568,875376.6,2278216,1708914,947960.6,2111565,1581883,854264.6,100396,2146693.9467942584,1617583,935567,0,2230337.8020000001,1765084,880911,4729,53277,2070902,1658734,885640,2229442,1757745,890560,2020055,1627859,893210,1764814,1447978,895485,1980086,1655651,897910,2177668,1807196,903575,2248554.7171424888,1863952,906755,2391969.2199999997,1973375,909905,2535730.135235467,2072723,913025,2690854.48,2219955,913025,3117227.3600000003,2571713,916505,3397887.14,2684044,923645]
[600,"Acton Boxborough             ",17.5,20024105,16885593,3138512,22506705,17791669,4715036,23994743,18369316,5625427,25793437,18940607,6132157,720673,26931634.808038283,19569628,6715773,646234,26278547.039999999,19800807,6931919,37214,467099,26873147,20359612,6969133,27636880,20909979,7124121.5619999999,{"$f":"28337812+3710701+20514396","v":52562909},{"$f":"21701014+3337251+15117599","v":40155864},{"$f":"7198421.562+1320503+5594326","v":14113250.561999999},52422543,40290368,14254475.561999999,52599957,41315952,14393075.561999999,52547574,40653492,14696070.561999999,53421566.907991789,42045809,14859360.561999999,55170323.107940018,43056913,15022441,57507919.285240643,45085137,15185311,57745972.612679996,46230356,15185311,57822927.827799991,46723042,15338911,61160337.808100007,48377825,15641731]
[603,"Adams Cheshire               ",61.76,13106574,3602054,9630920,13377962,3796726,9810525,14106031,3891220,10299351,14355783,4039739,9363751,1100461,14762561.506602872,4503688,10254928,3946,14205800.124,4515273,9659551,51857,585716,14489416,4653780,9835636,14848664,4798921,10049743,14525980,4882095,10085868,14419594,4988650,10121468,14523439,5160616,10156418,15296780,5502583,10234243,15055572.515187521,5538278,10275553,15232490.400000002,5717786,10316023,15617632.338179186,5891351,10354753,15339849.779999997,5843907,10354753,15216793.440000001,5725567,10390093,16371180.810000002,5945277,10460113]
[605,"Amherst Pelham               ",22.2,15073351,7265229,9343785,15860056,8312731,9689857,16118464,8736670,9793582,16270720,8932603,8844227,1039405,16430082.97033493,10908954,9685959,0,15978763.512,10987020,9120106,48961,560042,15588078,11132046,9169067,15882762,11359856,9233467,15889254,11667688,9272992,15504219,11484398,9311217,15834018,11664726,9349517,15535447,11457106,9431797,15847416.836753655,11645169,9476496.999999553,16044645.359999998,11852511,9519487,16548734.048677344,12082979,9561457,16921238.979830787,12834959,9561457,16668696.930166688,12787466,9601357.0000003986,17544562.199999999,13310597,9679957.0000003986]
[610,"Ashburnham Westminster       ",48.23,16693060,7990286,8905601,17725876,8610748,9391438,18827304,8914333,9934552,19657064,9471071,9246935,1086732,20747434.319617227,10251619,10126994,368821,20412503.039999999,10455439,9882650,53054,619686,20584849,10676599,9935704,20759601,10923476,10026904,20785812,11067299,10083104,20944478,11060794,10138704,21651624,11097471,10554153,21190453,11043254,10675483,21596182.828853481,11367955,10741723,22810309.799999997,11550868,11259442,23747271.339990951,12136491,11669561,24646397.09,12303561,12361170,24454471.870000005,12482932,12426690,27181254.040000007,13193830,13987424]
[615,"Athol Royalston              ",69.959999999999994,17339154,518662,16820492,17708359,623845,17084514,18516080,678872,17837208,19014821,720901,16370053,1923867,18226670.661818184,2067242,17928042,0,17923395.240000002,2103961,16880687,90623,1004932,17935653,2172893,16971310,17818204,2286653,17043590,17517520,2367862,17086740,17539155,2500939,17129715,17879139,2687482,17172640,18244828,2897520,17267570,18603786.772762485,3090653,17319440,19486246.010000002,3220286,17371580,20420115.158179153,3408285,17423570,21729158.719999999,3616401,18112758,21516033.310000002,3826520,18162738,25100227.810000002,4138714,20961514]
[616,"Ayer Shirley",29.07,null,null,null,null,null,null,null,null,null,null,null,null,null,0,null,null,null,16872486,9799433.7010924481,7802151,41885,487764,16879384,9899773,7844036,17419519,10045000,7915436,17689265,10457924,7959611,18020997,10736761,8003886,17776166,10841421,8047361,17539418,10906245,8144051,17859764.734966867,11291639,8197181,18209773.010000002,11893424,8249321,19201202.775432397,12571064,8301431,19068236.100000005,12820462,8301431,19326736.270000003,13326540,8350691,20782030.890000001,14087905,8450171]
[618,"Berkshire Hills              ",17.5,8878410,10098842,2672816.7999999998,9250332,10102954,2737902.8,9395655,9910102,2793902.8,9799535,9631380,2563329.7999999998,301252,9958320.0275598094,9695771,2807290,0,9969549.1140000001,9487659,2643288,14190,177387,9915801,9513236,2657478,10178607,9534109,2700038,10635683,9671358,2726838,10662018,9324675,2753513,10878643,9349872,2780663,11414759,9456019,2839128,11592012.389038036,9603359,2871498,11863555.439999999,9773550,2903088,12066016.316021007,9920455,2933388,11846383.439999999,9773266,2933388,11959904.129880402,9866921,2961498,13314694.690000001,10497795,3017538]
[620,"Berlin Boylston              ",17.5,2881502,2980030,790482,3230183,3023460,851501,3463889,3187414,892400,3734852,3255818,840984,98835,3848242.2752153119,3256016,921023,0,3748889.16,3345125,867217,4656,59925,3766444,3420481,871873,{"$f":"3871973+250741+384591","v":4507305},3391112,{"$f":"888833+78723+56292","v":1023848},4631328,4040189,1036398,4817370,4122172,1049323,5052434,4334259,1062648,5023757,4202073,1091688,5247616.0529560801,4352079,1107888,5654505.5700000003,4534769,2111104,9927446.3516566418,8048259,2139724,10107518.1,8212670,2139724,10696909.850000001,8558303,2169034,11425016.279999997,8986309,2438707]
[622,"Blackstone Millville         ",48.71,15426759,5876193,10378194,15675653,6231925,10509983,16290966,6659559,10845267,17163606,6723921,10139052,1191577,17821603.166315794,7213787,11104016,0,17631668.597999997,7334869,10455320,56129,643892,17725268,7567852,10511449,18008630,7894508,10589769,17925439,8081231,10637619,17804636,8183978,10684594,17580139,8234791,10729594,17055908,8133559,10826779,17728142.592629228,8280761,10880269,18045228.880000003,8455406,10932919,18718435.629910786,8774546,10985239,19305133.509999998,9159231,10985239,19313058.34,9358379,11035489,20463628.09,9949334,11133169]
[625,"Bridgewater Raynham          ",38.08,40912576,21884965,19283254,41935929,23349196,19665067,44782550,24739437,20734543,47098996,25851193,19340030,2272909,48428019.06526316,27952831,21180680,0,47983788.083999999,28495798,19943306,107065,1272209,48390610,29073200,20050371,49427213,30075604,20269571,49488995,30660371,20403671,49690981,31221396,20536596,51489038,31846579,20671771,51178987,31816877,20968661,52866849.261870295,32583398,21132011,54041579.230000004,34169692,21293351,57734650.603288382,35678127,22061362,59327586.659999996,36619588,22716693,60696669.610000007,37575602,23266232,67218280.400000006,39672721,27545559]
[632,"Chesterfield Goshen",28.73,1195209,674787,646741,1312143,731037,711347,1277283,717531,719547,1377086,699752,691531,81271,1450752.9125358853,732969,757346,0,1401680.358,744562,713102,3828,44616,1350534,753143,716930,1413142,785219,723330,1413824,797176,727230,1269753,783121,730880,1290268,795911,734280,1239669,767824,741100,1195139.8127151553,763068,744760,1273267,786037,748510,1171005.0238210852,742974,751930,1184019.3600000001,774310,751930,1138617.54,808979,754930,1538719.12,991104,762250]
[635,"Central Berkshire            ",39.619999999999997,16411075,9277515,7747832.0000000009,17068928,9492361,8092876.0000000009,17956787,9547848,8550035,18638347,9708028,7991169,939150,18841797.769186605,10035980,8751713,54105,17732901.377999999,10045858,8291382,44512,520024,17880776,10085382,8335894,17613394,10334614,8410334,17159555,10602338,8454734,16974405,10521566,8498034,16927679,10815311,8540559,16389265,10548832,8629219,16770478.528573444,10582972,8677909,17387170.660173871,10650195,8726209.0000004824,17917236.795122694,10887646,8773249,17769137.719999999,10821874,8773249,18403560.679815963,11139154,8818729,20199482.520201996,11643487,8909149.0000009034]
[640,"Concord Carlisle             ",17.5,9779664,11276561,1482929.2,11043068,11833214,1704025.2,11535486,12039761,1798430.2,12261008,11881005,1722913.2,202483,12736972.591770336,12027622,1886888,0,12226662.599999998,11610510,1776656,9538,132844,12055418,11452179,1786194,12584072,11667076,1836274,12876490,11748056,1867899,13172186,11470046,2020931,13659882,11719574,2053456,14101517,11779839,2321678,14235386.188628448,11805585,2429801,14677154.57313,12108652,2568503,15326809.636647012,12636179,2700821,15698387.201840004,12951170,2747217,16437449.391079996,13560896,2885882,17547215.867280003,14333307,3213909]
[645,"Dennis Yarmouth              ",17.5,31552699,26916269,6323844,31921636,27640649,6521044,32866009,28181902,6712794,33929083,28230096,6176777,725917,34720683.78947369,29362682,6764640,0,33550155.035999998,29272877,6369450,34194,452946,33188220,29829472,6403644,34159114,30421379,6543564,34997479,31287824,6631289,34668834,30189585,6718014,35460503,30284637,6803239,36706251,30483143,6993814,36833288.857110716,30597193,7095664,38305323.740000002,31508282,7197874,40299027.11670664,32486327,7812700,40772315.190000005,32996593,7812700,40000864.339999996,32339804,7906900,45626329.120000012,35577617,10048712]
[650,"Dighton Rehoboth             ",30.11,23502323,12171196,11331127,25227557,13220377,12078498,26488176,14032590,12595982,27834400,14867498,11760784,1382169,28579093.545645937,15934995,12880094,0,27227094.57,16519761,12127640,65106,766523,27435686,16943069,12192746,28588235,17614915,12315946,28145868,17936311,12390171,28150365,18051150,12463021,28723483,18028977,12536246,29000399,17773340,12696956,28781591.615531329,18150262,12783266,30099135.230000004,18922107,12870026,31540121.095252328,19831231,12956936,31470516.579999998,20472580,12956936,30297677.200000003,20851154,13036886,31909002.190000005,21814425,13193246]
[655,"Dover Sherborn               ",17.5,7739997,8275872,1191754.3999999999,8206331,8468634,1273362.3999999999,8844812,8708826,1385096.4,9304310,8639071,1311389.3999999999,154119,9990853.0587559827,9006852,1436198,0,10131211.535999998,9255639,1352295,7260,106168,10389452,9537204,1359555,11120543,10202046,1408555,11227795,10290387,1438730,11333898,10098983,1629376,11580014,10114738,1659576,11702650,9794356,1908294,11848628.162153138,9800905,2047723,12427515.957589999,10244725,2182791,13018705.445376281,10740432,2282394,13502936.345999997,11139922,2363014,13732496.655719997,11329309,2413514,14245103.0352,11752210,2492893]
[658,"Dudley Charlton              ",50.28,30449329,9274397,21174932,32233347,10252229,22188433,33797564,11029311,23069087,36110116,11697527,21845257,2567332,36777726.03406699,11966621,23924337,886768,35729459.82,12287043,23361642,125416,1429447,35694097,12669036,23487058,36205278,13079319,23647098,36078034,13510547,23744648,36713400,14006333,23842023,37460711,14629068,23938773,37500027,15535167,24151183,37720695.5316194,16113609,24265243,38840211.679999992,16771540,24378193,39553020.497260436,17196696,24488263,39294595.160000004,17806070,24488263,38219798.009999998,18216746,24588403,42267945.799999997,18990742,24788383]
[660,"Nauset                       ",17.5,13094670,13143058,3212073.2,13492342,13864524,3298923.2,13240289,13643131,3379473.2,12973291,12791886,3090604.2,363219,12824763.657799043,12606630,3384747,0,12466861.355999999,12161887,3187010,17109,216203,11987364,11783104,3204119,12271544,11841626,3256279,12583436,12006085,3289004,12650853,11365672,3321529,12867301,11188533,3353354,12935106,10790864,3421279,12490516.601979394,10380459,3456769.0000003548,12759247.84,10525994,3491269.0000003548,13781730.292193582,11296893,3526849,13928035.579999996,11407465,3526849,14255426.050142555,11760727,3562549.0000003572,16185145.729838148,12835323,3635088.9999996317]
[662,"Farmington River",17.5,2207961,2145103,375505.6,2244629,2179857,389405.6,2032717,2125018,401955.6,2101262,2056801,370690.6,43565,2272476.6989473687,2094866,405970,0,2284470.102,2094019,382253,2052,28215,2507654,2157223,384305,2477293,2210649,394745,2381535,2239793,400995,2333265,2082363,407070,2496034,2114411,413420,2464478,2057324,427060,2368941.0110670594,1978521,434200,2470961.3200000003,1982431,488530,2310316.8825038802,1903782,494950,2289345.04,1877720,494950,2405493.8899999997,1931789,501250,2843384.1900000004,2231273,612111]
[665,"Freetown Lakeville           ",29.7,13524454,7948805,6460005.0000000009,14519330,8906388,6832785.0000000009,15553549,9668371,7200036.0000000009,16583275,10105484,6769499.0000000009,795575,17047222.562296651,10617731,7413773,0,25704555.482000001,16324122.86063578,10304430,55318,621851,25567244,16827381,10359748,26403268,17241340,10478788,26716909,17493884,10552138,26295108,17518350,10623488,25836232,17647952,10692488,27153763,17863322,10849513,26949047.128918782,17944798,10933153,28557208.850000001,18586174,11018173,29471189.782152213,19374781,11102173,30420774.669999998,20383874,11102173,30046775.879999999,21121724,11183623,33397815.079999998,22481677,11350423]
[670,"Frontier                     ",19.71,5418605,3086349,2650507,5733999,3534975,2746608,5983480,3789925,2814392,6338406,3919060,2608966,306615,6166668.8979904307,4548404,2857269,0,5993205.5159999998,4594579,2690347,14443,168829,5922687,4614585,2704790,5890106,4643352,2729670,5648702,4748410,2744045,5716411,4750289,2758445,5662972,4785017,2772595,5886720,4852262,2804715,5732224.0889145313,4635171,2821244.9999998347,6131417.1100000003,4934660,2838225,6490224.3564851899,5195546,2855535,6668350.6099999994,5440174,2855535,6641609.6799999997,5465964,2872335,6777309.0700000012,5342316,2903235]
[672,"Gateway                      ",44.23,10512746,5273227,5377752,11307523,5576855,5817025,11430685,5636748,5921631,11453179,5658310,5356783,629548,11448115.732822968,5871665,5866604,0,11136859.595999999,5975739,5523878,29655,343896,10684938,5977311,5553533,10913250,6024049,5598773,10501988,6111205,5625873,10475106,6121175,{"$f":"5652523-144899","v":5507624},9565466,5566378,5531374,9151021,5435268,5580489,9186465.9257388338,5185242,5606889,9373307.580093734,5155696,5632899.0000002598,9819284.5359783657,5242416,5658699,10053035.289899468,5377560,5658699,9593037.4600000009,5218013,5682099,10224749.509999998,5398856,5727339]
[673,"Groton Dunstable             ",17.5,19963557,10573496,9690045,22069166,11478206,10590960,22567813,12305992,10757109,23533501,13095797,9914811,1165224,23587738.32880383,16063245,10858434,0,22939192.446000002,16429914,10224085,54888,648086,23308786,17069512,10278973,23452027,17673118,10384573,23574679,18322278,10449473,23421974,18828192,10513273,23366261,19288600,10575673,21908747,18375113,10706573,22374529.724943254,18540836,10778123,23046297.120000005,18825814,10849343,23962885.117804695,19528829,10920053,24034914.079999994,19807347,10920053,23977455.170000002,19781401,10987643,26006774.040000003,20809059,11124923]
[674,"Gill Montague                ",52.57,9776132,4890426,5898325.9999999991,10362291,5144962,6225636.9999999991,10629600,5170843,6375222.9999999991,10694903,5178227,5756498.9999999991,676524,10705697.249377992,5206242,6304363,0,10709037.408,5230945,5936062,31867,364384,10890170,5322669,5967929,10709407,5432442,6010369,11221184,5642595,6037994,11383341,5825645,6065444,11391876,6028359,6092669,11388880,6051487,6152674,11605184.313327502,6037197,6185014,12227502.840000002,6132607,6217984,12729673.495022506,6160944,6568729,13224252.970000001,6123497,7100756,12355223.119999999,6065329,7129856,14265559.650000002,6487509,7778051]
[675,"Hamilton Wenham              ",17.5,14468765,11376222,3164291,15069063,11961487,3269343,15863562,12603727,3408380,16231350,12979612,3137455,368725,16539445.386411486,13759009,3436056,0,16099995.413999999,13883368,3235322,17369,231115,15671050,13956082,3252691,16304849,14293365,3325691,16257548,14512213,3370416,15726746,13965278,3413341,16707535,14120458,3457966,16651753,13827676,3554656,16696408.934955347,13868580,3606706,17608636.820320003,14365369,3659746,17895419.978166122,14618380,3711406,18910528.193439998,15169999,3742189,17836078.693319999,14714765,3791389,19041996.94004,15355459,3889489]
[680,"Hampden Wilbraham            ",31.26,27186575,17817946,9591950,28628962,18371310,10257652,29666356,18507813,11187984,30302280,18629304,10514180,1235664,30835123.285741627,19103251,11514847,217025,29974196.813999999,18956605,11046497,59302,714898,30318463,19431538,11105799,30471568,19904990,11241439,30267610,20416003,11323964,30372595,20400941,11405264,29954423,20917022,11483814,29402188,20490243,11651894,29683317.843047649,20807570,11742374,30100033.420000002,20633481,11831384,31472652.18943473,21135655,11920364,31697327.079999998,22048457,11920364,31633420.859999996,21974391,12004544,34362938.020000003,22803354,12175004]
[683,"Hampshire                    ",26.5,6298064,3937642,2426572,6805484,4138583,2676375,6739463,4154095,2812809,7281652,4261680,2743722,322452,7552394.2032535886,4295649,3004851,251894,7104748.4820000008,4238418,3066486,16462,194072,7166323,4430064,3082948,7159285,4518959,3114108,7221048,4622819,3133233,7159547,4689344,3151983,7223607,4822063,3170333,7226816,4870971,3210153,7135055.1371439751,4768992,3231273.0000002114,7177310.4399999985,4802721,3251703.0000002114,7292664.1560150869,4957708,3271593,7581893.040000001,5141694,3271593,7385184.3199999994,5155929,3290733,7612495.6600761265,5113589,3327153.0000003641]
[685,"Hawlemont                    ",44.77,1068768,490624,613734.80000000005,1007233,489631,620084.80000000005,935837,424000,625634.80000000005,977501,437137,582347.80000000005,68440,1015177.688803828,455789,637772,0,943708.38599999994,475782,600513,3224,36635,852740,451986,603737,880128,468192,607377,950613,539883,609827,933646,531341,612202,950854,532283,614527,966196,536672,619422,948610.29681259417,528435,621882,1319629.0000000005,686073,633556,1194591.6655308905,597682,636346,1210178.3199999998,645856,636346,1114456.54,626296,638716,1180054.7600000002,626211,643276]
[690,"King Philip                  ",18.600000000000001,14979166,8734642,6244524,16295851,9507703,6788148,17396805,10500808,7139022,18770909,11301852,6776559,796405,19266152.972248808,12421086,7421505,0,18766472.316,12655997,6987941,37514,450050,19491490,13489687,7025455,20106153,14008919,7113575,20756038,15085093,7169225,20668060,15441355,7224100,20796265,16339640,7278450,21464344,16747910,7399780,21686949.863603115,17288364,7465059.9999993471,22108494.793599997,17573207,7529320,22968588.71954523,18207740,7592980,22821189.415249996,18216801,7592980,23108672.780000001,18487068,7653700,24040989.472959593,18683871,7771359.9999988237]
[695,"Lincoln Sudbury              ",17.5,11315184,11075410,1787678.4,13657169,11726968,2197526,14669142,12512472,2374621,15512737,13029848,2256999,265251,16180111.874449763,13524542,2471805,183765,15640388.226,13606478,2500432,13423,182915,15881721,14058638,2513855,16550937,14522938,2609494.7437499999,16660368,14759478,2686012.1578124999,17538177,15255513,2820121.1578124999,17586404,15195939,2862021.1578124999,17527242,14585219,2953706.1578124999,17315388.091420949,14392659,3002696.1578124999,17438816.760160003,14387024,3051793,17865441.864525706,14738989,3127363,17971715.490000002,14826665,3145998,18587999.26021,15335100,3264670,19460408.700000003,15892482,3567927]
[698,"Manchester Essex",17.5,8366673,9103515,1375984,9141258,9202986,1511536,9630975,9237772,1597236,10323403,9323664,1537696,180715,10893473.5984689,9499354,1684043,0,11219611.109999999,9669672,1585661,8513,123169,12153403,10046472,2106931,13132240,10490205,2642035,13658346,10881653,2776693,13572189,11221647,2813718,13636380,11449215,2850168,13222782,11043112,2926838,13044522.634690613,10860009,2967368,13504654.921019997,11094289,3007748,14371784.479899097,11738511,3048668,14540612.442779997,11993491,3048668,13975373.452520002,11529683,3086258,14799834.747719998,11860322,3160298]
[700,"Marthas Vineyard             ",17.5,7093516,6601054,2673935,7932850,7970360,2820735,8068434,8233407,2861785,7978454,7784419,2596397,305138,8027782.3081339709,7579454,2843504,0,7689159.2280000001,7354264,2677387,14373,170469,7459791,6982300,2691760,7821993,7071878,2720400,8027352,7261038,2738625,8168795,7068505,2756975,8315537,6895864,2775225,8366347,6863098,2814000,8775465.4854839947,7160292,2835120,8807318.8500000015,7199058,2855370,9542318.3659465611,7809437,2875680,10520255.699999999,8507902,2875680,11375989.939999998,9214998,2897790,11706772.639999997,9266700,2943090]
[705,"Masconomet                   ",17.5,15318665,11142823,4419317,17202789,12854203,4773155,18048378,13991386,4933394,18669125,14530501,4520949,531318,19727906.272153113,16061599,4951222,0,18612164.453999996,16036618,4661972,25027,317398,18928100,16514464,4686999,19357735,16963367,4770799,19715478,17420377,4823099,19907859,17251458,4875399,19398726,16836310,4925724,19430987,16230896,5034459,18987857.036568414,15814213,5090919,19183372.217599999,15826282,5146299,19848020.362871911,16294823,5201349,19718785.499960002,16147421,5201349,19942249.616000004,16452356,5253339,20626908.302099995,16338880,5354919]
[710,"Mendon Upton                 ",20.79,17625772,7917147,9708625,19301063,8448890,10852173,20644958,8956960,11687998,21996366,9449432,11227445,1319489,22672457.180478469,10147020,12295995,229442,22132247.579999998,10574513,11793702,63314,734621,22155000,11066163,11857016,22015006,11315699,11954456,22375411,11860177,12014831,21900366,12299101,12074206,21475634,12907063,12131581,20452434,13459709,12253186,20207384.356621977,13867755,12317476,21244024.41,14784122,12382726,22449446.899046388,15888903,12448756,22739749.350000001,16799739,12448756,22629367.129999995,17240401,12511846,23959502.060000002,18041593,12636586]
[712,"Monomoy",17.5,0,0,0,0,0,0,0,0,0,0,0,0,0,0,0,0,0,0,0,0,0,0,17110771.399999999,16296303,2384540,17569657,16140983,2460460,17319106,16031006,2506360,17618966,15518373,2708296,18464076,15720020,2755146,19086298,15841935,3244363,19283171.949603103,15996456,3300373,20057741.48,16512901,3544840,20829711.826521438,17031398,3798314,21026943.91,17347229,3798314,20768967.640000001,17123821,3850274,22033322.210000001,17917457,4115865]
[715,"Mount Greylock               ",25.26,4676875,4597031,1666950,4791177,4533455,1699377,4697972,4234702,1727227,4870291,4171647,1590024,186865,5038820.6667942591,4176618,1741351,0,4954695.6780000003,4130699,1639621,8802,106828,4795752,4018167,1648423,4847655,3957893,1668783,4713594,3902934,1680908,5049227,3998439,1693808,4887694,3824463,1705983,4960436,3813364,1733153,5175933.9315482499,3845508,{"$f":"1748153+972741+768543","v":3489437},10983817.570000002,8251697,3521567,11569192.327752113,8401578,3554057,11284468.84,8495288,3554057,11519400.35,8440595,3584477,12823121.489999998,8909296,3913825]
[717,"Mohawk Trail                 ",36.159999999999997,10399815,5552327,5972084,10269301,5648614,6034784,10605776,5769493,6204233,10359333,5721445,5603580,658553,10590789.40784689,5820331,6136890,0,10304179.638,5807577,5778373,31021,355446,10123559,5977059,5809394,9875049,6107017,5850194,9444879,6294792,5874244,9300413,6365060,5897844,9310511,6523226,5921294,9915353,6433157,5973434,9838051.3509327304,6364738,6001454,10008929.639999999,6399727,6028994,10650334.810213417,6438287,6056894,10427668.720104279,6461323,6056894,9675020.5800967515,6376119,6081374.0000002449,10916936.219890831,6617874,6131053.9999997485]
[720,"Narragansett                 ",58.78,11727704,2977580,8750124,12694975,3200990,9493985,13440494,3363034,10077460,13890162,3558412,9267025,1089094,14047951.990813399,4510425,10148997,0,13273695.708000001,4548674,9556093,51301,579303,13213993,4564055,9607394,13537728,4721311,9664194,13335812,4863858,9698544,12841231,4967494,9731269,13170587,5169393,9764044,13256830,5303181,9834774,13504485.349651586,5366791,9873894,13898169.749999998,5553556,9912744,14647552.849426208,5831335,9951444,15197160.489999998,5910692,9951444,14626287.25,6105079,9988464,16984442.759999998,6309076,10675367]
[725,"Nashoba                      ",21.43,21474489,17977668,5332822.8,23697784,19133543,5871971.7999999998,25411849,20274365,6289003.7999999998,26805348,21157439,5911057.7999999998,694688,28088852.89033493,22132725,6473631,0,27791843.604000002,22306466,6095442,32723,426391,28345672,22733730,6128165,29407907,23699381,6330455.0653249994,29650929,24483221,6411680.0653249994,29833754,24514579,6492305.0653249994,30925691,25002991,6574230.0653249994,31260414,24600261,6756060.0653249994,31083245.77955449,24524720,6852150.0653249994,31883434.353059992,24892165,6991269,32964566.540986888,25692699,7273744,33255128.344112549,26177398,7273744,34773057.486100003,26910918,7867074,37188533.335978121,28095417,9093116]
[728,"New Salem Wendell            ",51.47,1009815,579782,602215.19999999995,1068078,538560,635233.19999999995,1119947,538342,663419.19999999995,1108280,538661,599333.19999999995,70436,1124015.5376076559,570244,656374,0,1039961.19,627734,618029,3318,37952,1102692,649363,621347,1136073,642537,626107,1171083,681574,629007,1217420,707520,631982,1255062,711713,635007,1416772,739591,677181,1424931.186973576,745274,{"$f":"694961-13670","v":681291},1262167.6700000002,672920,684861,1230159.2284731646,644109,688101,1245264.42,622259,688101,1358881.8199999998,631626,727256,1400561.7699999998,625870,774692]
[730,"Northboro Southboro          ",17.5,9277131,7604912,1700728,11057753,8704773,2352980,12033372,9631771,2591421,12946742,10026161,2613440,307141,13338720.275598086,10464106,2862169,12445,13069614.491999999,10623654,2706679,14531,189279,13569441,11147301,2721210,14179585,11573173,2838863.6458749999,14882231,12443854,2876913.6458749999,14903362,12767292,2914613.6458749999,15041278,12932868,2951913.6458749999,15182003,12730046,3034083.6458749999,15250791.830538824,12690623,3078273.6458749999,16210848.68,13373950,3123514,16651310.611277679,13737332,3168064,16134802.42,13311213,3168064,16306106.100000001,13325314,3209584,16339014.660000002,13206889,3287524]
[735,"North Middlesex              ",41.51,32397974,13915496,19063721,33499786,15279377,19658038,34412577,15653174,20148846,36029257,16080023,18814143,2211105,36456713.541818187,16064311,20604743,0,34774968.005999997,16111990,19401015,104153,1203025,34052825,16450543,19505168,34577589,16881292,19659168,33991777,17328829,19751668,32881223,17183613,19840443,32371795,17231131,19925993,31685058,17154907,20107493,31435627.826777488,17200693,20203733.000000961,32197040.990000002,17771448,20298593.000000961,33435820.144966502,18529976,20393183,34146333.740000002,19126198,20393183,33474930.930334739,19920829,20482913.000000898,37611036.840000004,20649455,20666873.000000898]
[740,"Old Rochester                ",22.88,8705281,7603741,1530510,9257160,7909870,1701522,9923961,8215414,1954417,10120297,8156604,1890481,222176,10028263.973971292,8036971,2070404,0,9726308.7780000009,7998372,1949451,10466,138637,10036210,8109683,1959917,10099046,8089994,2124850.6151999999,10378205,8357878,2238124.4918999998,10659228,8277118,2382613.4918999998,11419777,8704098,2715679,11377043,8557549,2819494,11640017.384192124,8739091,2900926,11899255.350000001,8889101,3010154,11988191.8913587,8962996,3043394,12077635.709879227,9154169,3043394,12039903.340120399,9317336,3074894.0000003148,12541083.76,9156644,3384440]
[745,"Pentucket                    ",19.34,22757511,10704624,12362390,24589511,11578381,13099037,24625431,12223789,13258787,25233854,12938684,12077530,1419394,26043317.600765556,14358256,13226986,0,25398255.107999999,14404858,12454267,66860,782234,24895122,14749468,12521127,25088106,15200680,12635127,24540719,15640639,12703677,24290785,16086295,12770527,23602673,16203424,12834852,22548383,15627476,12968282,22740652.535892259,15945385,13040102.000000719,23352744.289999999,16491919,13111292.000000719,24330802.105539996,17437199,13182092,24591001.459999997,18039518,13182092,24481014.440000001,18526892,13250162,25863556.119999997,19335867,13385162]
[750,"Pioneer                      ",32.22,7285294,3967896,3857345,7629462,4135816,4031666,7722039,4259679,4078816,8137059,4327512,3981402,300027,8250102.2009569379,4422230,4195800,0,8263519.067999999,4563544,3950682,21209,247084,8098758,4668314,3971891,8564268,4778263,4007811,7994487,4761551,4028736,7816227,4803095,4048786,7481050,4776255,4067561,7219392,4777146,4107161,7406666.4166055983,4744769,4128880.999999783,7354252.5499999998,4872782,4149941,7528912.3458293099,4812665,4170581,7480877.54,4952541,4170581,7287026.7699271282,4945385,4189121,8172163.4400000004,5256957,{"$f":"4227221-246092","v":3981129}]
[753,"Quabbin                      ",51.82,21479251,5822139,15657112,22828423,6355417,16510059,23457369,6739031,16898056,24154885,7104683,15503658,1822045,24370491.302583735,9043482,16979189,0,23447229.215999998,9241790.7475171536,15987266,85827,973446,22899542,9371400,16073093,22525878,9626834,16170613,22333577,9850748,16229913,21722178,9941651,16286563,22051647,10090036,16342038,22002910,10064723,16463038,21204474.702048939,9931036,16525257.999999378,21914160.40978086,10117115,16587418,21665640.411876366,10317745,16646098,21987482.310000002,10612170,16646098,22572922.539774276,10987702,16703518,25601192.900256008,11596905,16821478.000001181]
[755,"Ralph C Mahar                ",64.290000000000006,6412185,2094096,4365173,6917262,2152974,4764288,7718288,2334381,5383907,8079301,2414941,5068672,595688,8102223.5314832535,2701871,5551073,0,7695444.8340000007,2655320,5226780,28060,316133,7780312,2783833,5254840,8048219,2944041,5286040,7625909,2829128,5304190,7705540,2887638,5322215,7640717,2842068,5339690,7427448,2738987,5375880,7313027.7024783818,2601573,5394990,7595605.8999999985,2666288,5413830,7772179.2052953094,2691122,5432010,7840085.4000000013,2752972,5432010,8156581.7700000005,2902578,5450340,8477857.6699999999,2803575,5674283]
[760,"Silver Lake                  ",33.47,13321046,7724834,5693535.0000000009,14290967,8518476,6060844,15151746,9152272,6377611,16633749,9695605,6223582,731417,17042793.321339712,10087324,6815899,139570,17072736.708000001,10313024,6630012,35593,335739,17435883,10508810,6927073,18150262,11017327,7202389.2436499996,19039526,11580385,7571134.5369499996,18899966,11622559,7617506.5369499996,19669150,12263148,7663956.5369499996,20069649,12089575,7980074,20138841.102995191,12153382,8035064,20786645.581067868,12641731,8163253,20683221.322407395,12966860,8215063,20918448.416320004,13276729,8215063,21627662.329539999,13837284,8266093,22886572.072338864,14138025,8748547]
[763,"Somerset Berkley",45.89,null,null,null,null,null,null,null,null,null,null,null,null,null,0,null,null,null,8934024,6024631.0156340012,3020271,16235,120381,9240084,6119915,3120169,9949356,6253551,3771017.8262999998,10006703,6377384,3795642.8262999998,10050573,6394899,3820117.8262999998,9594365,6056531,3843167.8262999998,10019595,5882456,4137139,10632804.845514916,5777303,4855502,11100397.199999999,5893170,5210007,11820562.719098523,6097432,5723131,12334812.139999997,6312225,6024105,12639534.48,6636166,6054825,13192993.539999999,6608074,6584920]
[765,"Southern Berkshire           ",17.5,6853294,6969793,1733974,7077639,7054068,1779274,7434729,7019446,1862619,7749803,6862924,1735164,203923,7701585.2769377995,6957008,1900305,0,7684458.96,6952302,1789290,9606,123334,7591122,6997774,1798896,7425917,6948964,1830896,7307651,7007679,1850096,7132076,6413209,1869396,7553559,6368170,1888246,7411694,6160497,1927571,7039960.838086525,5901594,1947431.0000001986,7011413.5700000003,5742395,1966751.0000001986,7823768.9358960092,6244537,1986791,7868392.9199999999,6306994,1986791,7970637.4099999983,6494543,2006891,8757628.3300875779,7076021,2045891.00000039]
[766,"Southwick Tolland Granville",28.67,12815911,5574268,7241643,13803858,5990969,7812889,14257212,6442013,8037753,14939371,6703364,7499327,881347,15526560.214354068,6881234,8213061,432265,14765244.486,7056511,8140267,43700,503859,16668383,8578921,9431433,16707052,8956864,9503073,16783207,9329641,9546823,16539210,9831214,9588623,16275297,10235762,9628898,16154792,10380318,9715578,15643746.01680854,10452364,9760098.0000004452,15797808.300000001,10650508,9803658.0000004452,16378978.109002503,10967956,9846558,16651613.440000001,10981419,9846558,15958927.809999997,11074236,9886188,17233969.48,11574750,9964248]
[767,"Spencer East Brookfield      ",49.04,16645826,4067456,12578370,17597929,4757111,13106216,18350163,5038864,13522201,19528044,5259510,12767994,1500540,19758448.511387561,5909466,13983163,0,18373741.745999999,6026675,13166267,70682,795214,18885409,6269918,13236949,19620951,6527063,13315389,19752991,6679987,13363889,19886690,6981057,13412164,19202300,7237563,13457639,18292027,7540396,13553834,17851020.249539986,7818739,13601594,17809206.539999999,8048938,13648634,18497944.461317483,8498469,13695254,18621361.77,8878789,13695254,18910770.789999999,9144752,13740734,21076435.030000001,9910023,13831994]
[770,"Tantasqua                    ",43.97,13580390,7605305,6707029,15046973,8686343,7420522,15970260,9193635,7855113,16430281,9386267,7217816,848263,16633736.353684211,9400405,7904757,0,15980906.310000001,9314281,7442962,39957,462563,16224252,9446479,7482919,16427458,9458186,7547159,17338059,10016205,7602665.309475,17582598,10044332,7701145.309475,18183142,10066601,8116541,18521079,9975508,8545571,18792623.115065213,10112568,8680055,18681754.369813181,10189936,8727575,19884199.797400139,10661347,9222853,20061782.279999997,10777102,9284680,20438009.030000001,11223460,9331150,21751912.98,11388899,10363014]
[773,"Triton                       ",17.5,24298847,17072630,7792907.9999999981,25952449,18085444,8297753,26566548,19085868,8463498,27588090,19936190,7824273,919536,27881099.599617224,20765902,8568933,0,27238757.220000003,21107766,8068337,43314,535182,26824765,21271799,8111651,26774026,21942837,8226571,26448890,22380186,8295596,25789437,21866153,8362546,25722812,21834988,8428221,24821868,20787254,8564841,24376762.312073089,20355041,8636541,25305209.704000004,20876797,8708421,25527954.966463432,21060563,8777631,26062844.622510001,21501846,8777631,24917419.660840005,20556872,8841441,28334955.815970004,21719660,8973621]
[774,"Upisland",17.5,2818004,3631100,787574.4,2663328,3211483,806324.4,2717737,2976843,824474.4,2781909,2936509,753921.4,88603,2963440.2602870818,3058634,825674,0,2883583.122,2954241,777438,4174,53162,2947159,2938229,781612,2938330,2789900,795572,2924404,2799531,804072,3060576,2703741,812797,3393222,2857444,821922,3590852,2932767,842602,3842627.4814848243,3031561,854362,4032194.76,3211065,866452,4538258.3027917985,3744064,879292,4423020.3299557688,3648991,879292,4428346.7900442835,3653385,891082.00000011793,5035196.55,4154037,915262.00000011793]
[775,"Wachusett                    ",38.159999999999997,48282346,33777538,14580116,51403850,35230245,16173605,54801725,35455524,19346201,58236852,36308065,19622662,2306125,59911476.039043061,37367519,21490211,1053746,59254110.450000003,37595289,21243244,114043,1365920,60601665,38212334,22389331,63034725,39189250,24301041.254999999,63737669,39961275,24731803.504425,63713837,39643665,24988919.504425,65656785,40218460,25438325,65958496,39859181,26385616,67325906.778581902,40480754,26845153,68658655.170000017,40985980,27699197,71271709.733221024,42635066,28647835,73935156.649260655,44374979,29560178,73176176.700000003,45202423,29762018,79469578.500000015,47034063,32435516]
[778,"Quaboag",58.31,11141894,3567006,7574888,11791190,3881276,7991217,12254851,4136812,8281608,12617536,4373441,8157632,347753,12703713.843444977,4409832,8335277,0,12453350.286,4490234,7848331,42133,479238,13025123,4631357,8393766,12911828,4742222,8447086,13046235,4894859,8479786,13203478,5067470,8512186,13357209,5095756,8544111,13599319,5113624,8615171,14168290.710392267,5082901,9085390,13641132.549999999,5096479,9122230,14192752.457797423,5363869,9158560,14111900.640000004,5557868,9158560,14365916.490000002,5833977,9192100,15230825.089999996,6110748,9257500]
[780,"Whitman Hanson               ",43.27,30538240,9106058,21432182,32259424,9879380,22380044,33351647,10636667,22947017,35222900,11243141,21457945,2521814,36937606.644976079,12830981,23500164,606462,36853531.943999998,13057622,23339328,125296,749752,36625906,13430108,23464624,37691613,14011112,23680501,38579785,14560975,24018810,38173063,15278470,24120485,38322360,16147370,24219585,38333512,16774824,24436230,38233603.852514476,17627386,24552030,38780823.010000005,18467197,24665460,39870087.686414868,19523939,24776700,40183483.009999998,20355354,24776700,40067180.660000011,21155625,24882540,42679524.109999999,22110222,25089060]
[801,"Assabet Valley               ",35.659999999999997,8391985,7333682,2477600.4,9303432,7595626,2733990.4,9764859,7625516,2878463.4,9921868,7323853,2679432.4,314896,10283013.364976078,7403603,2934442,0,9970968.1919999998,7231682,2763012,14833,173097,10706516,7640401,3066115,11638299,8079707,3688749.9498749999,11645533,8015009,3773901.0669062501,11767240,7930239,3884226.0669062501,12473207,8071058,4402149,12802558,8119414,4744172,13483457.122205222,8363523,5119934,14604237.100950003,8891580,5712657,15341279.497413153,9400672,5955175,16217721.547997823,10027775,6208186,17308906.848700002,10888732,6421072,18912027.71474912,11434042,7477986]
[805,"Blackstone Valley            ",35.869999999999997,9538740,4657490,4881250,11634064,5661661,5972403,13058784,6650789,6607116,14423992,7306124,6462753,759526,15755118.710813399,8124101,7077833,553185,16047786.84,8574515,7329879,39350,290739,16495490,8881138,7614352,17182760,9269607,7913153,17574009,9547590,8026419,17695720,9764199,8056069,18218330,10300542,8086169,18149119,10436837,8153324,18527694.600344807,10824531,8190134.0000003679,19306561.990193069,11314851,8227334.0000007395,20173355.695973717,11937858,8264744,20447639.179795522,12329585,8264744,20972471.779999997,13049503,8302034,22300397.41,13631634,8668763]
[806,"Blue Hills                   ",30.34,8736268,7619162,3073959.2,10491975,8307024,3600320.2,11368895,8741919,3875673.2,12148540,8967009,3684433.2,433008,12332269.926889954,8910498,4035092,0,12217671.845999999,9020653,3799362,20397,236383,12473226,9088881,3819759,12759498,9108222,3898019.6005500001,13021004,9407988,3973984.1981125004,13656513,9688001,4130304.1981125004,14060446,9823319,4237127,14501647,9816982,4689160,14512296.336987162,9777318,4734978,14654739.316559998,9802331,4852408,15320678.136437576,10064969,5255709,15853872.642718541,10498516,5377315,16985563.998199999,11273090,5713327,18993506.711260065,12263867,6729640]
[810,"Bristol Plymouth             ",50.26,11388476,4427094,6961382,13514890,5510850,8086042,14637445,6248486,8665617,15904781,6720290,8345601,980805,17087281.950622011,7152445,9139878,794959,17171584.145999998,7555546.2191998027,9422839,50586,492612,17835184,7974320,9860864,18840987,8467645,10373342,19809952,9275499,10562802.050000001,19738678,9454533,10595527.050000001,20776046,10001847,10774199,20622505,9983312,10847624,21211911.426807255,10210686,11001225,21504737.259999998,10229317,11289055,22657735.468634516,10614555,12043180,23238134.84,11152285,12133330,24404455.759999998,12064493,12341965,25870713.669741295,12269006,13601708]
[815,"Cape Cod                     ",17.5,8147786,7106299,1812921.2,8939780,8238693,1951441.2,8959018,8344063,1986191.2,10056493,8988695,1949175.2,229074,10128081.632153112,9004924,2134684,0,9662450.2679999992,8722672,2009976,10791,131042,9969203,9140927,2020767,10009944,9018171,2047487,9858315,8884266,2063837,10012278,8734661,2080187,10180996,8693872,2096487,9867056,8195699,2130477,10216575.999388266,8480852,2149167,9979923.8499999996,8211309,2166897,10322933.41173223,8376084,2184147,11419229.199999999,9275007,2184147,11917313.979880825,9759779,2203137,13454322.920269083,10498402,2955921]
[817,"Essex North Shore",22.76,5267177,4108620,1440224,5871980,4830228,1577696,6088638,5073417,1627614,6185029,5030466,1476268,173496,6597337.6428708136,5303791,1616769,0,6438150.5279999999,5257509,1522317,8173,97479,6657128,5422037,1530490,7032311,5606831,1578772.356525,{"$f":"7223671+2406437","v":9630108},{"$f":"5744390+1758848","v":7503238},{"$f":"1633572.19536875+736211+279092","v":2648875.19536875},10537063,8095297,{"$f":"2685804.19536875+374740","v":3060544.19536875},12253746,9478745,3080269.19536875,14380155,10925830,3454325,16129989.412692271,12242834,3887155,17744843.639999997,13488298,4256546,18580518.657194056,13828438,4752081,19917637.840199184,14966372,4972500,22210361.840000004,16751014,5459940,24470236.15951059,17821075,6649161]
[818,"Franklin County              ",47.64,5609534,2938885,2670649,6238167,3104015,3134152,6391771,3127422,3264349,6770398,3246800,3153041,370557,6937473.1758851679,3512111,3453126,0,6832233.6720000003,3565201,3251395,17455,196151,6816703,3635743,3268850,7147655,3823257,3344405.5191250001,7343776,3944755,3416932.8843999999,7425790,4056096,3437610.8843999999,7597275,4196134,3449560.8843999999,7510077,4120671,3475025.8843999999,7241932.8547982732,3955977,3488135.8844003933,7536848.149849263,4066594,3501516,8190176.2362149609,4215767,3974409,8790347.6998241916,4547736,4242612,10081677.069899183,5276878,4805223,10955190.530000001,5484326,5470865]
[821,"Greater Fall River           ",66.69,14786630,3199554,11587076,17060238,4544760,12983299,18611314,5287988,13901536,19717271,5629515,13024771,1530717,20071537.276937805,5932617,14264378,0,19949613.684,6306552.870136939,13431054,72104,796545,20383237,6467055,13916182,20957230,6715829,14241401,21919605,7123557,14796048,22550978,7369160,15181818,23275199,7579429,15695770,23332972,7431313,15901659,23441355.209892597,7581869,15945069,24261247.829999998,7936940,16324308,25634449.811339363,8117565,17516885,26716946.030000001,8563722,18196847,28548221.689714517,8806953,19741656,29219681.09,8541329,20678352]
[823,"Greater Lawrence             ",74.91,20801927,3447460,17354467,23397863,2950685,20447178,24270329,2925720,21344609,22243985,2764043,19164616,2252293,21086064.186794262,2952089,20988571,0,21516841.079999998,3448145,19762420,106093,1154758,22406284,3637418,19868513,23647271,3930189,19925633,24165774,3918941,20246833,25639135,4446591,21192544,25953903,4514175,21439728,27130809,4613664,22517145,28198339.274539281,4675584,23522755,29226821.741229992,4527429,24699393,31698687.99088544,4601974,27096714,32861439.491759997,4907043,27954396,35868845.641520008,5883228,29985618,39053522.538119987,6645884,32407639]
[825,"Greater New Bedford          ",65.989999999999995,22363849,4239109,18124740,25632190,5757999,20279884,27124010,6752296,21235693,28611071,7172648,19857283,2333698,30517951.37531101,7763883,21747161,1006907,30298830.222000003,8132720,21740799,116714,949205,31299153,8624602,22674551,32530714,8972206,23558508,33301712,9217036,24084676,33725633,9588800,24138401,34323634,9854302,24469332,34911179,10102835,24808344,35334771.991298027,10506130,24873053.999999352,36428065.790000007,10914841,25513225,38180025.886437774,11239871,26940155,38691322.399999999,11380986,27384112,41130342.100000001,12175349,28956006,43594626.830435947,12514815,31079812]
[828,"Greater Lowell               ",66.39,24208574,6905055,17303519,27036778,7606125,19430653,27800682,7909037,19937045,29465237,8510997,18820473,2211849,29630457.502009567,8466385,20611676,552397,30423897.84,9232155,20785128,111584,319986,31597336,9860549,21736787,33772319,10353219,23419100,34324570,10693693,23630877,34545660,10980189,23685627,34992565,11434404,23740502,35531900,11891870,23860787,37509502.791465104,12482002,25027501,40339926.969999999,13264027,27075900,42372428.797708727,13540919,28831510,43544496.41956456,14050785,29582555,46396730.020000003,14488947,31907783,49349500.229999997,14778865,34570635]
[829,"South Middlesex              ",39.659999999999997,8446819,8588762,2167094,9208715,8268805,2366025,9654723,8165281,2493762,9715858,7715501,2327422,273527,9614405.0465071779,7341351,2548930,0,9792459.7200000007,7492557,2400022,12884,152274,10544997,7892246,2652751,10989581,7883290,3269602.165025,11813873,8259858,3686820.5708499998,11573926,7868569,3818290.5708499998,11914131,7823272,4090859,11942604,7592237,4386161,12170547.123704944,7850604,4407641.0000002151,12903118.393199999,8092298,4810820,13895820.049220048,8568391,5327429,15367478.658029996,9170454,6197025,16551959.786334479,10013400,6548952,18188255.970868111,10266168,7922088]
[830,"Minuteman                    ",18.66,6066584,5495202,2078300.4,6914249,6039013,2248003.4,6679422,5830500,2272053.4,6716739,5664903,2053740.4,241363,6448437.4476555018,5389510,2249201,0,6278768.8019999992,5380998,2117803,11369,130554,6529848,5563357,2129172,6720937,5635287,2146052,6466600,5367418,2155902,7154168,5853666,2166677,7012158,5684556,2177027,6744963,5436063,{"$f":"2198257-133774","v":2064483},6331977.4709823718,5038148,2074863,6123549.9733787654,4836180,2085122.9999998973,6695949.827739303,5244391,1977748,7604263.0698360428,5992288,1977748,9892046.4984500017,7861244,2031339,10873494.496371264,8487544,2385950]
[832,"Montachusett                 ",57.7,13742072,4888977,8853095,15840334,5296832,10543502,17251828,5727859,11523969,18210278,5909892,11006825,1293561,19239467.091291867,6487260,12054378,697829,19087950.695999995,6671879,12177840,65376,543116,19926696,7025474,12901222,21362521,7634846,13727675,21644238,8117570,13764000,22098279,8502935,13800675,22705864,8952868,13837825,22983366,9077316,13920325,23339671.662662312,9194861,14144811,24114937.890482295,9381190,14733748,25030257.115778331,9604460,15425797,25382631.02025383,9937436,15445809,25893443.339741066,10458906,15489639,27936175.670000002,10715954,17220222]
[851,"Northern Berkshire           ",62.16,4866072,1480368,3385704,5410246,1532260,3877986,5840580,1651415,4189165,6022166,1628309,3931780,462077,6405552.1010526326,1973265,4305980,126307,6194470.0919999992,1959117,4173354,22404,247404,6032835,2076564,4195758,{"$f":"5901249+265615+518532","v":6685396},2057940,{"$f":"4211358+97719+296789","v":4605866},7074072,2680139,4617441,7193835,2748884,4629241,7377904,2797399,4641116,7221555,2766472,4666196,7333874.6106536184,2825783,4679876,7476126.9300747626,2937807,4693196.0000001332,7897883.8046400165,3067978,4829906,8244375,3172855,5071520,8582446.4999999981,3268863,5316141,9724718.370000001,3451123,6273595]
[852,"Nashoba Valley               ",26.67,5158946,3321776,1931065.2,5389599,3394928,2023465,6238440,3743767,2494673,7033183,4130123,2597762,305298,7866987.6486124406,4598216,2844999,423773,8233340.9220000003,5083135.795428413,3080894,16540,185963,8193934,5151981,3097434,{"$f":"8811361+786722","v":9598083},5561630,{"$f":"3273055.84085+294572","v":3567627.8408499998},9643398,6347664,3583552.8408499998,10305011,6808953,3602853.8408499998,10872297,7267551,3620453.8408499998,10716963,7187884,3658183.8408499998,10765279.843473723,7259409,3678433.8408499998,10686139.044199999,7286534,3698114,10895286.797909893,7517024,3717284,11332310.899736676,8006848,3717284,11843081.30975157,8677220,3737294,13039564.664050002,9138788,3900777]
[853,"Northeast Metropolitan       ",40.130000000000003,13805435,8368989,5436446,15298678,8834989,6463689,16448129,9382830,7065299,17520203,9753752,6949698,816753,18195495.392153114,9906992,7611122,677381,18075511.403999995,10403784,7787386,41897,489726,18846605,10860660,7985945,19273753,10987834,8285919,19964083,11419748,8564871.3160750009,20104161,11494298,8609863,20386925,11746592,8640688,20458840,11667126,8818904,21001845.715027004,11813188,9188658,21695597.037383042,11983464,9712133,22663144.184447043,12097696,10565448,23843254.848850004,13124735,10745350,25599015.769705985,14354270,11244913,28012736.845560264,15244239,12768498]
[855,"Old Colony                   ",34.64,4989253,2641742,2546991,5820992,2972628,2935912,6621083,3475932,3292273,6827603,3546608,3028077,355870,7042233.7959808633,3704307,3316268,21659,6779947.8360000001,3833931.4919956997,3142926,16873,190453,6636605,3861415,3159799,6993936,4108774,3179079,7318581,4348047,3191479,7268292,4341070,3203704,7329579,4522220,3215679,7070588,4320680,3240924,7132027.5606843857,4376933,3254694,7339792.9800000004,4416012,3268404,7752983.70072567,4672558,3282354,7921696.2200000016,4845112,3282354,8771732.7200877182,5624848,3297294.0000001495,9593176.8600959312,5909947,3683230]
[860,"Pathfinder                   ",56.43,6096738,2786084,3310654,6802165,2722408,4079757,7765674,2973205,4792469,8192718,3079140,4575812,537766,7922637.1368421055,3002367,5011306,0,8264011.2758400002,3272693.2524828459,{"$f":"4773477+124459","v":4897936},25626,226728,8310204,3406888,4923562,9047750,3742148,5305602,9290876,3937256,5362159.7480999995,8740342,3869273,5376309.7480999995,9330426,4172839,5391009.7480999995,9305841,4136686,5422744.7480999995,9526647.0681404825,4148472,5440054.748100346,9675019.1999999993,4221512,5459444,10638203.377264135,4587025,6051178,10484384.559895158,4455062,6051178,10521613.089894783,4559455,6068008,11620603.830116205,4877462,6743142]
[871,"Shawsheen Valley             ",17.5,13777348,11493572,3136056.8,15354177,11614893,3739284,16399600,11925006,4474594,17333155,11848099,4908224,576832,18045396.186028711,12240655,5375355,429386,17891209.259999998,12538270,5465628,29342,342521,18725824,13125229,5600595,19899113,13950931,6159525.7945499998,20418808,14772092,6206185.7275124993,20894661,15270792,6241110.7275124993,20905729,15410372,6275835.7275124993,20610764,15409506,6350690.7275124993,20779974.22357462,15673209,6391250.7275124993,21319072.907946814,16426446,6431361,21756421.654655538,17141547,6470511,21443569.573314432,17321815,6470511,22505083.522360001,18566695,6509961,24071025.330000002,19187031,6589341]
[872,"Southeastern                 ",58.73,14936857,5393902,9542955,16539295,5950716,10588579,17132435,6118865,11013570,18651251,6606221,10778323,1266707,19547466.962679427,6794855,11804129,948483,18976858.698000003,6830054,12007606,64462,713969,19791640,7163181,12628459,20139028,7253938,12885090,20816397,7493594,13322803,21227292,7726584,13500708,22565360,8283596,14281764,23532615,8586706,14945909,24658561.658426791,9068356,15590206,25369687.710253701,9264693,16104995,26705365.084122326,9834210,16871155,26978734.039999999,10323654,16871155,31199664.219999995,11824738,19375182,32362813.119999997,12184542,20178271]
[873,"South Shore                  ",39.520000000000003,5603587,3304900,2298687,6624462,3491969,3132493,7292760,3896693,3409503,8002552,4267730,3342052,392770,8068943.0905263163,4326150,3660126,82667,8159816.8379999995,4585112,3524139,18919,214385,8361233,4747142,3614091,8898769,5090951,3814659,8843168,4991245,3851923,8975128,5135646,3866773,9246000,5264595,3981405,9836290,5547660,4288630,10085090.357912248,5811066,4307229.9999998137,10179751.535079999,5849405,4342636,10278115.468662532,5835267,4442848,9696307.4090200011,5540283,4442848,10334881.008950002,6044013,4459678,11690753.246806186,6690356,5000397]
[876,"Southern Worcester           ",53.01,9571032,4238701,5725706.91653415,12372691,5102480,7282028,13883285,5546098,8337187,15012157,5773697,8266904,971556,15581392.28478469,6076724,9053691,450977,15894028.614,6360940,9350174,50196,132719,15689978,6367969,9400370,16052759,6598237,9454522,16721381,6992891,9728490,17132815,7280728,9852087,17642332,7557770,10084562,17712277,7652484,10147042,18134754.555626247,7810739,10324016,18654311.879813455,8130478,10527326,19584275.952675201,8498663,11085613,20163226.599596739,8939018,11243208,21417723.040214177,9831831,11586540,22869920.629999999,9976240,12893681]
[878,"Tri County                   ",25.77,9016173,5636406,3446914,10212901,5924588,4288313,11290959,6500818,4790141,12442959,7015291,4856871,570797,12923675.155598087,7663565,5319115,0,13370766.120000003,8194447,5076999,27256,238385,13542704,8344586,5198118,14397568,8892150,5505418,14698799,9224159,5529518,15102844,9768353,5553893,15108183,10085613,5577743,15221337,10205482,5630378,15811834.242360983,10767622,5659267.9999997113,15797799.39597,10833554,5687408,17150334.906830095,11677869,5716838,16446455.91653554,11583064,5716838,16893468.743349999,12199549,5743988,17544445.759440001,12480824,5797748]
[879,"Upper Cape Cod               ",23.15,7297579,5382948,2593253,7871760,6175413,2762062,8334135,6672582,2884730,9055851,7109422,2747270,322869,9359958.3663157895,7254471,3008736,0,9469840.0140000004,7444031,2832966,15209,177786,9659521,7711247,2848175,9618705,7624553,2874735,10084443,8024477,2891885,10314759,8119608,2909460,11054587,8517332,2927510,11535664,8638647,2968265,11636066.279966651,8609575,3026491,12366494.259999998,9126256,3240238,12375568.23018039,9213425,3262258,12856564.119999999,9721410,3262258,13571524.320135718,10320217,3285088.0000002282,15047376.250150472,11135028,3912348]
[885,"Whittier                     ",45.45,11536179,7149342,4829933,11990774,6974949,5032319,12092901,6752086,5340815,12653763,7029551,5032746,591466,14137619.469473682,7657177,5511728,968714,14275034.699999999,7892558,6260014,33606,212122,15261656,8442171,6819485,16269465,8729868,7563919.4677499998,16875591,9062382,7879914.9927000003,17494788,9523686,8010858.9927000003,18310028,10028034,8281994,19322789,10384757,8938032,19762413.323503122,10544137,9218276,20237272.480202377,10694772,9542746,21419842.533375792,11214984,10204859,22219393.409999993,11408976,10835866,22987502.880689632,11920144,11067840,24944833.849999998,12643217,12301617]
[910,"Bristol County               ",45.2,4169889,2377115,1792774,4678752,2165472,2513280,4979099,2115459,2863640,5282006,2203905,2754395,323706,5380792.1852631588,2265291,3016539,98962,5285460.1679999996,2485563.5502734138,2933494,15748,175709,5518473,2608341,2949242,5541328,2713112,2964202,5650536,2907343,2973677,5797631,3091923,2983352,5839373,3169711,2992952,6281807,3336386,3015502,6434258.3084468814,3461793,3027862,6272468.1098745503,3267780,3039532,6469200.7539703678,3230305,3238896,6594994.5600000005,3396297,3238896,6769003.2801353801,3495898,3291775,8260047.1499999994,4239142,4020905]
[915,"Norfolk County               ",22.03,2581809,2385271,605727.6,3153664,2376238,777426,3314326,2403121,911205,3538156,2513756,916670,107730,3601674.9504306214,2554390,1003912,43373,3636172.7040000004,2694070,968927,5294,79925,3894722,2866575,1028147,4009287,2928531,1097231.0205000001,4057136,3005158,1109762.7805750002,3937649,2863375,1119500.7805750002,4240624,3129643,1126275.7805750002,4615273,3398333,1216940,4595770.9606507998,3415991,1225309.999999749,4801803.415529999,3550450,1251353,4971875.5058426186,3680317,1291559,4921619.8021892179,3697896,1291559,5268916.5291999988,3999047,1300079,5528618.7214800008,4095337,1433282]
[999,"State Total",41,7551933454,4743946672,3288603061.8000002,8014672861.3798904,4876428772,3505192038.9270248,8406096436.3857374,4997705374,3725343326.8219399,8811314229.2926865,5110365426,3536496064.2495604,411999998,9088557473.2006893,5250106061,3869526145,173630555,8921047970,5302200670.3241692,3850884455.5488005,20667814,200480583,9119340580.3732376,5413602268,3990504093.3881507,9467117140.6663704,5582113529,4173223954.2949104,9711217584.8007889,5748475145,4300854366.3566036,9866011313.0677662,5817618237,4400335961.8829308,10090177272.100754,5943909029,4511521973.6381674,10128238382.975546,5926185567,4627705061.1446953,10379173843.167685,6046916786,4745645155.949439,10777588551.40456,6246842886,{"$f":"SUM(AW10:AW447)","v":4906614765.8021221},11359048511.850758,6513607368,5175694094,11626531095.326303,6705321561,5283343073.4799995,11926225791.726231,6827673657,5502959666.6000013,12890335880.607767,7166744291,5997901328.6000023]

{"sheet":"dist435","index":16,"n_rows":448,"n_cols":38,"rows_kept":448,"cut":false,"hidden":true,"merged":[[6,37,8,37],[2,17,2,18],[2,20,2,21],[5,34,5,37],[6,34,8,34],[6,36,8,36],[6,35,8,35]]}
[null,"2023-02-14"]
[null,"source:  found24"]
[]
[null,null,"Foundation Enrollment",null,null,null,null,null,null,null,null,null,null,null,null,null,null,null,null,null,"Foundation Categories"]
[1,2,3,4,5,6,7,8,12,13,14,15,16,17,21,23,24,null,null,20,21,22,23,24,25,26,27,28,29,30,31,32,33,34,{"$f":"AH5+1","v":35},{"$f":"AI5+1","v":36},{"$f":"AJ5+1","v":37},{"$f":"AK5+1","v":38}]
[null,null,null,null,null,null,null,null,null,null,null,null,null,null,null,null,null,null,null,null,null,null,null,null,null,null,null,null,null,null,null,null,null,null,"Low-income group assignment"]
[null,null,null,null,null,null,null,null,null,null,null,null,null,null,null,null,null,null,null,null,null,null,null,null,null,null,null,null,null,null,null,null,null,null,"Total \nLow-Income Enrollment","Total Enrollment of Students Attending School in the District \nplus the Total Resident Students Attending Charter Schools","Low-Income % \nfor Group Assignment","Low-Income\nGroup"]
[null,null,null,null,null,null,null,null,null,null,null,null,null,null,null,null,null,"Low-Income","Low-Income"]
["LEA","District Name","PK","K Half","K Full","Elem","Jr/Middle","High School","Vocational","Assumed Special Education In-District","Assumed Special Education Tuition","EL PK-5","EL 6-8","EL high school/voc","Low-Income","Total Foundation Enrollment","WAF","Group","Percentage",null,"Administration","Instructional Leadership","Classroom & Specialist Teachers","Other Teaching Services","Professional Development","Instructional Materials, Equipment & Technology","Guidance & Psychological Services","Pupil Services","Operations & Maintenance","Employee Benefits & Fixed Charges","Special Education Tuition","Total Foundation Budget"]
[1,"Abington                     ",30,0,169,891,519,605,7,85,22,145,40,46,834,2206,1.036,7,0.3891,null,1452128.5867199998,2179167.7871600003,13045477.583880002,2644583.7630799999,544372.71644000011,1459131.57,1019356.6807200002,1321886.1373200002,2791974.9236399997,4091840.8699999996,737658.46,31287579.078960005,null,null,{"$f":"O10","v":834},2143.5,{"$f":"S10","v":0.3891},{"$f":"R10","v":7}]
[2,"Acton                        ",0,0,0,0,0,0,0,0,0,0,0,0,0,0,1.0640000000000001,0,0,null,0,0,0,0,0,0,0,0,0,0,0,0,null,null,{"$f":"O11","v":0},0,{"$f":"S11","v":0},{"$f":"R11","v":0}]
[3,"Acushnet                     ",56,0,95,518,317,263,0,47,12,3,3,0,384,1221,1,7,0.41,null,755825.67999999993,1113281.94,6429016.419999999,1409658.0299999998,270506.96999999997,762250.4800000001,517543.91999999993,614966.28,1446206.0099999998,2189640.5,402359.16000000003,15911255.389999999,null,null,384,936.5,0.41,7]
[4,"Adams                        ",0,0,0,0,0,0,0,0,0,0,0,0,0,0,1,0,0,null,0,0,0,0,0,0,0,0,0,0,0,0,null,null,0,0,0,0]
[5,"Agawam                       ",1,0,235,1237,825,962,161,135,33,150,30,29,1643,3421,1,8,0.47639999999999999,null,2196688.54,3393790.8400000003,21605990.480000004,3888244.9300000006,900908.39,2405841.64,1594972.71,2386905.4,4290736.1599999992,6626924.5199999996,1106487.69,50397491.299999997,null,null,1643,3449,0.47639999999999999,8]
[6,"Alford                       ",0,0,0,0,0,0,0,0,0,0,0,0,0,0,1,0,0,null,0,0,0,0,0,0,0,0,0,0,0,0,null,null,0,0,0,0]
[7,"Amesbury                     ",50,0,127,704,479,503,9,71,18,34,6,7,685,1847,1,7,0.37530000000000002,null,1154420.06,1728157.5600000003,10287878.76,2095834.5700000003,430410.20999999996,1202936.8800000001,811758.71,1059027.08,2214055.3499999996,3377729.11,603538.74,24965747.029999997,null,null,685,1825,0.37530000000000002,7]
[8,"Amherst                      ",60,0,135,731,159,0,0,40,10,112,16,0,416,1055,1,7,0.37990000000000002,null,669502.45000000019,1015021.19,5808328.9500000002,1351425.4000000001,251117.44,604815.44999999995,441534.98,481129.13,1265753.9600000004,1983262.69,335299.3,14207190.940000001,null,null,416,1095,0.37990000000000002,7]
[9,"Andover                      ",99,0,354,2074,1327,1743,6,214,55,152,20,17,784,5554,1.0880000000000001,3,0.1431,null,3670763.4553600005,5111599.9622400003,28568540.963199999,6817909.3721599998,1147776.9939200003,3640051.9800000004,2458648.9523199997,2423914.128,7241566.4864000008,9319490.0500000007,1844146.15,72244408.493600011,null,null,784,5480,0.1431,3]
[10,"Arlington                    ",52,0,490,2470,1457,1559,0,233,60,228,46,29,736,6002,1.0449999999999999,3,0.124,null,3822361.4258500002,5292992.9772500005,29084749.372249998,7238234.1536999997,1179439.4067500001,3836456.3800000008,2514710.9482,2296831.4891499998,7534943.292249999,10084233.390000001,2011795.8,74896748.635400012,null,null,736,5934.5,0.124,3]
[11,"Ashburnham                   ",0,0,0,0,0,0,0,0,0,0,0,0,0,0,1,0,0,null,0,0,0,0,0,0,0,0,0,0,0,0,null,null,0,0,0,0]
[12,"Ashby                        ",0,0,0,0,0,0,0,0,0,0,0,0,0,0,1,0,0,null,0,0,0,0,0,0,0,0,0,0,0,0,null,null,0,0,0,0]
[13,"Ashfield                     ",0,0,0,0,0,0,13,1,0,0,0,0,0,13,1,0,0,null,8809.880000000001,10393.629999999999,114926.93000000001,16737.73,3763.7400000000002,19738.18,5786.43,7794.4100000000008,29447.989999999998,27752.080000000002,0,245151,null,null,0,0,0,0]
[14,"Ashland                      ",24,0,174,1119,694,836,4,110,28,176,43,57,751,2839,1,5,0.26329999999999998,null,1769978.09,2549944.6599999997,14717948.66,3260148.53,603128.97000000009,1877511.24,1210336.5999999999,1355717.56,3463547.4199999995,5011130.84,938838.04,36758230.609999992,null,null,751,2852,0.26329999999999998,5]
[15,"Athol                        ",0,0,0,0,0,0,0,0,0,0,0,0,0,0,1,0,0,null,0,0,0,0,0,0,0,0,0,0,0,0,null,null,0,0,0,0]
[16,"Attleboro                    ",192,0,421,2204,1438,600,1479,254,47,284,47,69,2803,6238,1,8,0.4597,null,3970112.5500000007,6120099.7299999995,42795428.18,7173247.8399999999,1730830.5,5152793.71,2881642.46,4206196.1500000004,8959385.629999999,12539477.26,1575906.71,97105120.719999999,null,null,2803,6098,0.4597,8]
[17,"Auburn                       ",27,0,169,897,639,702,1,94,24,32,16,12,847,2422,1,6,0.33779999999999999,null,1509711.31,2228136.0200000005,13124431.48,2741336.0799999996,546269.03,1577885.88,1052997.29,1327595.6999999997,2898069.15,4364878.1000000006,804718.32000000007,32176028.359999999,null,null,847,2507.5,0.33779999999999999,6]
[18,"Avon                         ",23,0,51,216,154,153,0,22,6,60,18,15,401,586,1,10,0.54079999999999995,null,393564.22,655381.78,4244048.3599999994,677612.66,183973.91,393801.89999999997,299523.11,523223.03,722966.98,1241513.3899999999,201179.58000000002,9536788.9200000018,null,null,401,741.5,0.54079999999999995,10]
[19,"Ayer                         ",0,0,0,0,0,0,0,0,0,0,0,0,0,0,1,0,0,null,0,0,0,0,0,0,0,0,0,0,0,0,null,null,0,0,0,0]
[20,"Barnstable                   ",156,0,383,1937,1179,1609,116,205,51,617,172,217,3088,5302,1,10,0.60660000000000003,null,3539642.3800000004,5737325.3099999987,37320218.439999998,6151152.4899999993,1580703.87,3756637.3800000004,2659183.7799999998,4404679.97,6728745.4500000002,10953794.640000001,1710026.43,84542110.140000001,null,null,3088,5090.5,0.60660000000000003,10]
[21,"Barre                        ",0,0,0,0,0,0,0,0,0,0,0,0,0,0,1,0,0,null,0,0,0,0,0,0,0,0,0,0,0,0,null,null,0,0,0,0]
[22,"Becket                       ",0,0,0,0,0,0,14,1,0,0,0,0,0,14,1,0,0,null,9252.5499999999993,11193.14,122991.98,17301.190000000002,4015.85,21223.850000000002,6231.54,8393.9800000000014,31450.700000000004,29586.980000000003,0,261641.76000000004,null,null,0,0,0,0]
[23,"Bedford                      ",23,0,140,921,608,867,1,99,25,80,14,9,369,2549,1.0840000000000001,3,0.1467,null,1682575.8027999997,2343317.1411199998,13192573.449640002,3102303.0254400005,527833.88691999996,1692883.7,1133621.2924000002,1147590.8546,3321532.1502,4282883.49,838248.25,33265363.043120004,null,null,369,2516,0.1467,3]
[24,"Belchertown                  ",67,0,139,810,505,654,10,82,21,38,5,6,626,2152,1,5,0.29370000000000002,null,1322366.47,1918689.17,11153192.950000001,2422074.9900000002,456351.77999999991,1414584.7599999998,912541.64999999991,1066579.99,2573256.17,3769567.9200000009,704128.53,27713334.379999995,null,null,626,2131.5,0.29370000000000002,5]
[25,"Bellingham                   ",39,0,158,812,527,641,17,84,21,76,7,16,808,2175,1,7,0.3785,null,1364562.8,2043450.54,12276815.829999998,2468556.7400000002,510160.92000000004,1444047.1199999999,963272.7699999999,1269785.8999999999,2627990.0699999998,3987741.0100000007,704128.53,29660512.23,null,null,808,2135,0.3785,7]
[26,"Belmont                      ",29,0,287,1693,1057,1426,27,175,45,346,40,34,599,4505,1.0409999999999999,3,0.13750000000000001,null,2882627.4265499995,4008926.2274399996,22573746.133679993,5349810.2412599996,903735.91568999994,3013616.84,1929059.2780800001,1881478.3431299997,5737235.8280100003,7634892.7999999998,1508846.85,57423975.883839987,null,null,599,4356.5,0.13750000000000001,3]
[27,"Berkley                      ",36,0,68,357,255,0,0,27,7,7,2,0,248,698,1,6,0.3019,null,434508.72,641903.30000000005,3532588.33,845364.13000000012,156883.63,389017.51000000007,286540.36,301192.58,827482.73,1279597.3399999999,234709.51,8929788.1399999987,null,null,248,821.5,0.3019,6]
[28,"Berlin                       ",0,0,0,0,0,0,0,0,0,0,0,0,0,0,1.028,0,0,null,0,0,0,0,0,0,0,0,0,0,0,0,null,null,0,0,0,0]
[29,"Bernardston                  ",0,0,0,0,0,0,0,0,0,0,0,0,0,0,1,0,0,null,0,0,0,0,0,0,0,0,0,0,0,0,null,null,0,0,0,0]
[30,"Beverly                      ",127,0,357,1773,1031,1283,33,175,44,127,23,48,1682,4541,1,7,0.371,null,2847446.44,4263663.22,25563146.219999999,5189521.7200000007,1062273.97,2993947.61,2001307.1299999997,2612285.66,5472420.1899999995,8317486.1800000006,1475316.92,61798815.259999998,null,null,1682,4533.5,0.371,7]
[31,"Billerica                    ",93,0,378,1960,1223,1269,2,188,48,95,17,31,1506,4879,1,6,0.31230000000000002,null,3024426.14,4426644.88,25679620.580000002,5585653.1600000001,1067745.06,3130143.7699999996,2079819.8899999997,2465410.6399999997,5827818.830000001,8694137.0900000017,1609436.6400000001,63590856.680000007,null,null,1506,4822.5,0.31230000000000002,6]
[32,"Blackstone                   ",0,0,0,0,0,0,22,1,0,0,0,0,0,22,1,0,0,null,12793.91,17589.22,187512.38,21808.870000000003,6032.7300000000005,33109.21,9792.42,13190.54,47472.380000000005,44266.18,0,393567.83999999997,null,null,0,0,0,0]
[33,"Blandford                    ",0,0,0,0,0,0,13,1,0,0,0,0,0,13,1,0,0,null,8809.880000000001,10393.629999999999,114926.93000000001,16737.73,3763.7400000000002,19738.18,5786.43,7794.4100000000008,29447.989999999998,27752.080000000002,0,245151,null,null,0,0,0,0]
[34,"Bolton                       ",0,0,0,0,0,0,0,0,0,0,0,0,0,0,1.0429999999999999,0,0,null,0,0,0,0,0,0,0,0,0,0,0,0,null,null,0,0,0,0]
[35,"Boston                       ",3311,0,4019,20175,12694,17358,1836,2206,542,9103,2546,4068,43196,57738,1.0900000000000001,11,0.75870000000000004,null,43699523.213,75019092.059,510068021.87849998,73623819.508600011,21899335.024500005,42447175.54999999,34369590.648600005,64708000.2892,82092111.127800003,129613494.71000001,18173222.059999999,1095713386.0691998,null,null,43196,56934.5,0.75870000000000004,11]
[36,"Bourne                       ",64,0,116,631,438,461,0,64,16,16,2,5,679,1678,1,7,0.41639999999999999,null,1048087.83,1586325.3999999997,9478061.5199999996,1896359.8599999999,398395.85000000003,1084892.77,743515.54,1000726.0399999999,1995694.5599999998,3089812.26,536478.88,22858350.509999994,null,null,679,1630.5,0.41639999999999999,7]
[37,"Boxborough                   ",0,0,0,0,0,0,6,0,0,0,0,0,0,6,1.1080000000000001,0,0,null,2942.8701600000004,5315.1424799999995,53616.452400000009,3745.8820800000008,1676.0272800000002,8914.02,2959.0912800000001,3985.9413600000003,13314.016080000001,11009.400000000001,0,107478.84312000001,null,null,0,0,0,0]
[38,"Boxford                      ",43,0,93,510,96,0,0,27,7,10,2,0,74,721,1.044,2,0.10390000000000001,null,450730.36908000003,624922.70868000004,3220713.3362400001,948961.51668000012,134750.58336000002,396865.79000000004,274684.87728000002,167270.19156000001,874601.86499999999,1199839.5199999998,234709.51,8528050.2678800002,null,null,74,712,0.10390000000000001,2]
[39,"Boylston                     ",0,0,0,0,0,0,21,1,0,0,0,0,0,21,1,0,0,null,12351.24,16789.71,179447.33000000002,21245.41,5780.6200000000008,31623.54,9347.31,12590.970000000001,45469.670000000006,42431.28,0,377077.07999999996,null,null,0,0,0,0]
[40,"Braintree                    ",102,336,17,2033,1273,1702,0,203,52,277,36,53,1674,5244,1.0489999999999999,6,0.32740000000000002,null,3443030.464459999,5053023.0345000001,29841268.503069997,6228585.3880200004,1227484.0981000001,3500770.600000001,2403629.4333699998,2988370.07314,6659891.7349899998,9411638.9499999974,1743556.36,72501248.639650002,null,null,1674,5113.5,0.32740000000000002,6]
[41,"Brewster                     ",24,0,62,344,0,0,0,16,4,13,0,0,187,418,1,8,0.45279999999999998,null,264314.84000000003,407096.27,2398558,546292.9,102488.03000000001,235451.74,173870.05000000002,207671.15,484322.57999999996,788916.83,134119.72,5743102.1100000003,null,null,187,413,0.45279999999999998,8]
[42,"Bridgewater                  ",0,0,0,0,0,0,12,1,0,0,0,0,0,12,1,0,0,null,8367.2099999999991,9594.119999999999,106861.88,16174.27,3511.63,18252.510000000002,5341.32,7194.84,27445.279999999999,25917.180000000004,0,228660.24000000002,null,null,0,0,0,0]
[43,"Brimfield                    ",0,0,33,187,41,0,3,10,3,2,0,0,104,264,1,7,0.38100000000000001,null,165996.33000000002,248258.23999999996,1425767.38,330961.96999999997,61525.19,150132.84000000003,108379.06999999998,121393.23999999999,309987.86999999994,488289.83,100589.79000000001,3511281.75,null,null,104,273,0.38100000000000001,7]
[44,"Brockton                     ",489,0,1214,6089,4035,4653,383,643,160,2359,862,1216,12896,16619,1,11,0.79590000000000005,null,11614325.369999999,20005739.579999998,135546375.76999998,19586626.040000003,5868784.5800000001,11977803.710000001,9121549.4000000004,17349506.280000001,21551904.640000001,37659443.549999997,5364788.8,295646847.72000003,null,null,12896,16203,0.79590000000000005,11]
[45,"Brookfield                   ",2,0,24,166,32,0,0,9,2,1,0,0,133,223,1,8,0.4642,null,143958.83000000002,228586.85,1384628.3399999999,286257.63000000006,60903.820000000007,125919.67000000001,98642.39,140347.37,260789.74,443844.04999999993,67059.86,3240938.5500000003,null,null,133,286.5,0.4642,8]
[46,"Brookline                    ",73,0,509,2666,1566,2135,0,268,69,609,127,56,1100,6913,1.0469999999999999,3,0.15870000000000001,null,4475548.7605499988,6270986.408069998,35342518.284300007,8334325.3899899982,1422727.4146499999,4591974.2299999995,2999021.5859400001,2964102.9737699996,8853635.2959899995,11826234.550000001,2313565.17,89394640.063260004,null,null,1100,6933.5,0.15870000000000001,3]
[47,"Buckland                     ",0,0,0,0,0,0,1,0,0,0,0,0,0,1,1,0,0,null,442.67,799.51,8065.05,563.46,252.11,1485.67,445.11,599.57000000000005,2002.71,1834.9,0,16490.760000000002,null,null,0,0,0,0]
[48,"Burlington                   ",49,0,252,1386,843,915,3,132,34,153,33,52,713,3424,1.0960000000000001,4,0.2122,null,2311553.57608,3278867.6348000006,18487515.843440007,4319508.8063200004,756431.98632000003,2214622.27,1552969.7472000001,1594448.0096800001,4534110.8451999994,5913701.6500000013,1140017.6200000001,46103747.98904001,null,null,713,3360.5,0.2122,4]
[49,"Cambridge                    ",488,0,577,2780,1349,1492,588,271,62,431,81,84,2962,7030,1.127,8,0.43020000000000003,null,5026068.7028300008,7720742.2471899996,49361150.779429987,9172995.2135500014,2032235.8597800001,5044386.7000000011,3597651.0426500002,4999366.6016700007,10198651.992550001,13500368.710000001,2078855.66,112732473.50964999,null,null,2962,6885,0.43020000000000003,8]
[50,"Canton                       ",89,0,238,1255,764,958,0,125,32,84,15,13,802,3260,1.0640000000000001,5,0.25119999999999998,null,2129260.9676800002,3053469.3599200007,17473078.968800001,3939226.8137600003,713926.72064000019,2120460.5000000005,1450603.59136,1599912.0407200002,4146184.6664,5651053.379999999,1072957.76,43350134.769279994,null,null,802,3192.5,0.25119999999999998,5]
[51,"Carlisle                     ",9,61,0,327,202,0,2,22,6,9,5,0,29,567,1.054,1,5.16E-2,null,360585.06777999998,487873.45416000002,2435050.52948,725484.6423999999,105277.43034000002,314053.08,220918.37892000002,132389.40909999999,711606.36089999997,945527.23,201179.58000000002,6639945.1630799994,null,null,29,561.5,5.16E-2,1]
[52,"Carver                       ",54,0,119,583,395,405,6,59,15,21,6,5,568,1535,1.036,7,0.36220000000000002,null,993193.06015999999,1486088.0554799999,8823617.4079199992,1809574.5177999998,369657.38740000001,993186.72000000009,696525.52984000021,902626.50996000005,1901424.0607599998,2804489.3,502948.95,21283331.499319997,null,null,568,1568,0.36220000000000002,7]
[53,"Charlemont                   ",0,0,0,0,0,0,8,0,0,0,0,0,0,8,1,0,0,null,3541.36,6396.08,64520.4,4507.68,2016.88,11885.36,3560.88,4796.5600000000004,16021.68,14679.2,0,131926.08000000002,null,null,0,0,0,0]
[54,"Charlton                     ",0,0,0,0,0,0,0,0,0,0,0,0,0,0,1,0,0,null,0,0,0,0,0,0,0,0,0,0,0,0,null,null,0,0,0,0]
[55,"Chatham                      ",0,0,0,0,0,0,0,0,0,0,0,0,0,0,1,0,0,null,0,0,0,0,0,0,0,0,0,0,0,0,null,null,0,0,0,0]
[56,"Chelmsford                   ",201,0,354,1976,1226,1451,0,195,50,182,32,19,1100,5108,1,4,0.2175,null,3126654.0399999996,4449964.6399999997,25169289.890000001,5815331.9800000004,1026696.3599999999,3309935.7,2114487.6999999997,2219231.06,6121703.0700000003,8782516.8200000003,1676496.5,63812307.760000005,null,null,1100,5057.5,0.2175,4]
[57,"Chelsea                      ",272,0,484,2629,1611,2249,1,272,70,1665,426,690,5968,7110,1.0409999999999999,12,0.86070000000000002,null,5355983.787659999,9497714.5907400008,65183644.469969995,8863300.5528299995,2839827.5547600002,5199321.8500000006,4305107.1752399998,8629622.2756199986,9726102.4122599978,16915460.690000001,2347095.1,138863180.45907998,null,null,5968,6934,0.86070000000000002,12]
[58,"Cheshire                     ",0,0,0,0,0,0,2,0,0,0,0,0,0,2,1,0,0,null,885.34,1599.02,16130.1,1126.92,504.22,2971.34,890.22,1199.1400000000001,4005.42,3669.8,0,32981.520000000004,null,null,0,0,0,0]
[59,"Chester                      ",0,0,0,0,0,0,6,0,0,0,0,0,0,6,1,0,0,null,2656.02,4797.0599999999995,48390.3,3380.76,1512.66,8914.02,2670.66,3597.42,12016.26,11009.400000000001,0,98944.56,null,null,0,0,0,0]
[60,"Chesterfield                 ",0,0,0,0,0,0,16,1,0,0,0,0,0,16,1,0,0,null,10137.89,12792.16,139122.08000000002,18428.11,4520.0700000000006,24195.190000000002,7121.76,9593.1200000000008,35456.120000000003,33256.78,0,294623.28000000003,null,null,0,0,0,0]
[61,"Chicopee                     ",262,0,424,2478,1699,1784,650,281,64,250,83,102,5047,7166,1,11,0.72740000000000005,null,4788728.2100000009,8106267.1999999993,56110188.349999994,8105750.419999999,2389703.8200000003,5336887.6300000008,3742021.8000000003,7076108.0399999991,9276604.2800000012,15615187.93,2145915.52,122693363.2,null,null,5047,6938,0.72740000000000005,11]
[62,"Chilmark                     ",0,0,0,0,0,0,0,0,0,0,0,0,0,0,1,0,0,null,0,0,0,0,0,0,0,0,0,0,0,0,null,null,0,0,0,0]
[63,"Clarksburg                   ",14,0,15,83,40,26,0,6,2,0,0,0,83,171,1,8,0.4536,null,107690.88,167986.25,1003059.37,197033.86,43215.090000000004,103828.90000000002,75989.210000000006,105766.04999999999,199332.45999999996,324324.82,67059.86,2395286.75,null,null,83,183,0.4536,8]
[64,"Clinton                      ",107,0,129,762,442,612,63,79,19,201,65,79,1160,2062,1,10,0.58040000000000003,null,1362535.4999999998,2204805.96,14345724.719999999,2378886.23,605229.53,1465582.09,1023076.97,1676139.6800000002,2614285.0299999998,4220945.03,637068.67000000004,32534279.410000004,null,null,1160,1998.5,0.58040000000000003,10]
[65,"Cohasset                     ",27,113,3,544,301,448,0,53,14,0,0,0,109,1367,1.0409999999999999,2,8.09E-2,null,856066.64148000011,1167964.5656399999,6437362.6577999992,1598893.4695199998,255110.86407000001,892094.7,565132.45860000001,523088.96699999995,1687005.3230699999,2235301.0499999998,469419.02,16687439.717179999,null,null,109,1347.5,8.09E-2,2]
[66,"Colrain                      ",0,0,0,0,0,0,0,0,0,0,0,0,0,0,1,0,0,null,0,0,0,0,0,0,0,0,0,0,0,0,null,null,{"$f":"O75","v":0},0,{"$f":"S75","v":0},{"$f":"R75","v":0}]
[67,"Concord                      ",24,0,187,1061,665,0,0,75,19,34,11,0,205,1925,1.06,2,0.1067,null,1235043.4180000003,1699997.4508000005,8616147.6931999996,2491420.2793999999,374053.47840000002,1063476.4600000002,766234.0486000001,508157.21600000007,2424514.6588000003,3259508.96,637068.67000000004,23075622.333200004,null,null,205,1922,0.1067,2]
[68,"Conway                       ",2,0,7,45,11,0,2,2,1,0,0,0,40,66,1,6,0.34189999999999998,null,41653.699999999997,66014.03,395383.71,77284.809999999983,17168.900000000001,38741.290000000008,28808.440000000002,39279.69,76924.240000000005,127022.41,33529.93,941811.15000000014,null,null,40,117,0.34189999999999998,6]
[69,"Cummington                   ",0,0,0,0,0,0,6,0,0,0,0,0,0,6,1,0,0,null,2656.02,4797.0599999999995,48390.3,3380.76,1512.66,8914.02,2670.66,3597.42,12016.26,11009.400000000001,0,98944.56,null,null,0,0,0,0]
[70,"Dalton                       ",0,0,0,0,0,0,11,1,0,0,0,0,0,11,1,0,0,null,7924.54,8794.61,98796.83,15610.810000000001,3259.52,16766.84,4896.21,6595.27,25442.57,24082.280000000002,0,212169.47999999998,null,null,0,0,0,0]
[71,"Danvers                      ",112,0,254,1356,804,845,0,127,33,64,8,11,951,3315,1,5,0.29699999999999999,null,2041717.27,2953636.8499999996,16906863.169999998,3799817.5300000003,699392.76,2114077.37,1388670.86,1557016.23,3948110.19,5815917.5599999987,1106487.69,42331707.480000004,null,null,951,3201.5,0.29699999999999999,5]
[72,"Dartmouth                    ",91,0,229,1302,827,899,0,127,33,51,6,8,1193,3303,1,6,0.35780000000000001,null,2056936.1600000001,3047865.23,17936096.530000001,3758209.6100000003,748257.02,2129998.4099999997,1431737.75,1803687.2100000002,3934253.0699999994,5963238.0799999982,1106487.69,43916766.759999998,null,null,1193,3334,0.35780000000000001,6]
[73,"Dedham                       ",65,28,175,1010,557,739,1,97,25,94,25,37,805,2529,1.0449999999999999,6,0.3196,null,1648389.2595499998,2422587.5937999999,14229299.901849998,3026720.7888500001,586474.05354999995,1659909.8099999998,1141713.8304000001,1384264.9138999998,3180810.1979499999,4529639.53,838248.25,34648058.12985,null,null,805,2519,0.3196,6]
[74,"Deerfield                    ",11,0,28,200,45,0,2,11,3,3,0,0,82,281,1,5,0.26750000000000002,null,173923.38999999998,249608.81,1374056.08,355400.12000000005,58703.520000000004,157617.99,109504.62000000001,99270.93,329878.27999999997,497128.77999999997,100589.79000000001,3505682.31,null,null,82,306.5,0.26750000000000002,5]
[75,"Dennis                       ",0,0,0,0,0,0,0,0,0,0,0,0,0,0,1,0,0,null,0,0,0,0,0,0,0,0,0,0,0,0,null,null,0,0,0,0]
[76,"Dighton                      ",0,0,0,0,0,0,0,0,0,0,0,0,0,0,1,0,0,null,0,0,0,0,0,0,0,0,0,0,0,0,null,null,0,0,0,0]
[77,"Douglas                      ",60,0,73,424,288,304,13,43,11,8,1,1,342,1132,1,5,0.29599999999999999,null,694224.64,1010307.6799999999,5863889.8799999999,1276306.1299999999,241784.66000000003,736961.84,478148.43,555933.58000000007,1355681.6099999999,1992180.26,368829.23,14574247.939999998,null,null,342,1155.5,0.29599999999999999,5]
[78,"Dover                        ",11,0,76,417,0,0,1,19,5,10,0,0,22,500,1.06,1,4.4299999999999999E-2,null,317070.29519999999,431475.03520000004,2222823.074,689290.23860000004,90209.805400000012,275827.07999999996,187026.4742,93101.962400000004,612195.38919999998,814738.92,167649.65,5901407.9242000002,null,null,22,496.5,4.4299999999999999E-2,1]
[79,"Dracut                       ",68,0,279,1641,962,983,1,151,39,140,43,47,1634,3900,1,8,0.4279,null,2480775.1200000006,3778086,22780765.699999999,4510629.3399999989,962579.25000000012,2523776.0699999998,1754171.84,2405367.1800000006,4696145.6399999997,7339304.0499999998,1307667.27,54539267.460000008,null,null,1634,3818.5,0.4279,8]
[80,"Dudley                       ",0,0,0,0,0,0,1,0,0,0,0,0,0,1,1,0,0,null,442.67,799.51,8065.05,563.46,252.11,1485.67,445.11,599.57000000000005,2002.71,1834.9,0,16490.760000000002,null,null,0,0,0,0]
[81,"Dunstable                    ",0,0,0,0,0,0,0,0,0,0,0,0,0,0,1,0,0,null,0,0,0,0,0,0,0,0,0,0,0,0,null,null,0,0,0,0]
[82,"Duxbury                      ",49,203,0,1007,631,956,8,105,27,11,1,3,259,2729,1.042,2,9.6100000000000005E-2,null,1709248.6491800006,2349529.4422399998,13087211.422120003,3155413.1279399996,517719.44014000008,1811251.57,1144110.1022800002,1106325.5984400001,3388638.5591200003,4484255.1800000006,905308.11,33659011.201460004,null,null,259,2694,9.6100000000000005E-2,2]
[83,"East Bridgewater             ",12,0,126,780,495,604,11,79,20,42,4,11,679,2022,1,6,0.33439999999999998,null,1260761.9400000002,1852384.2900000005,10962253.489999998,2294675.2599999998,453055.60000000009,1333343.06,877137.45999999985,1099031.25,2431380.2999999993,3632652.81,670598.6,26867274.059999999,null,null,679,2030.5,0.33439999999999998,6]
[84,"East Brookfield              ",0,0,0,0,0,0,15,1,0,0,0,0,0,15,1,0,0,null,9695.2200000000012,11992.65,131057.03,17864.650000000001,4267.96,22709.520000000004,6676.6500000000005,8993.5500000000011,33453.410000000003,31421.88,0,278132.51999999996,null,null,0,0,0,0]
[85,"Eastham                      ",2,0,31,165,0,0,0,8,2,10,0,0,103,197,1,10,0.56440000000000001,null,128968.44,202889.49,1240687.3599999999,262523.09999999998,53610.78,112429.48000000001,86326.76999999999,119282.92,231075.72,391358.08999999997,67059.86,2896212.01,null,null,103,182.5,0.56440000000000001,10]
[86,"Easthampton                  ",31,0,115,613,375,392,80,62,15,24,11,9,654,1591,1,8,0.43099999999999999,null,1003336.9199999999,1526537.83,9530283.0800000001,1811766.11,396059.78999999992,1095430.8499999999,715622.8,999249.93,1976623.1700000004,3001156.0299999993,502948.95,22559015.459999997,null,null,654,1517.5,0.43099999999999999,8]
[87,"East Longmeadow              ",68,0,163,911,592,807,45,98,25,31,7,4,822,2552,1,6,0.32569999999999999,null,1579433.3699999999,2320602.4499999997,13864657.479999997,2854391.18,567113.85,1721111.74,1106015.43,1390959.0099999998,3083186.45,4555626.67,838248.25,33881345.879999995,null,null,822,2524,0.32569999999999999,6]
[88,"Easton                       ",32,0,201,1237,838,1126,0,133,34,70,6,14,810,3418,1,4,0.23949999999999999,null,2099322.9699999997,2987013.6400000006,17151221.59,3839694.47,696309.61000000022,2258033.9499999997,1434204.8000000003,1602396.0799999998,4093272.52,5890814.2400000002,1140017.6200000001,43192301.489999995,null,null,810,3382.5,0.23949999999999999,4]
[89,"Edgartown                    ",12,0,43,228,161,0,0,17,4,71,22,0,248,438,1,10,0.58279999999999998,null,292214.75,472697.58,2853104.46,547422.32000000007,128453.11000000002,259918.28999999998,208035.92,301036.38,548144.23,915718.58,134119.72,6660865.3400000008,null,null,248,425.5,0.58279999999999998,10]
[90,"Egremont                     ",0,0,0,0,0,0,0,0,0,0,0,0,0,0,1,0,0,null,0,0,0,0,0,0,0,0,0,0,0,0,null,null,0,0,0,0]
[91,"Erving                       ",23,0,13,85,45,48,0,7,2,0,1,0,64,203,1,9,0.53559999999999997,null,123601.28,187671.32,1095898.9200000002,226657.52,45853.010000000009,127698.9,87129.69,109162.2,236728.4,363927.68,67059.86,2671388.7799999998,null,null,64,119.5,0.53559999999999997,9]
[92,"Essex                        ",0,0,0,0,0,0,0,0,0,0,0,0,0,0,1.0409999999999999,0,0,null,0,0,0,0,0,0,0,0,0,0,0,0,null,null,0,0,0,0]
[93,"Everett                      ",364,0,519,2931,1783,1573,949,312,68,1653,509,639,6179,7937,1.0429999999999999,11,0.79120000000000001,null,5849783.8387800008,10110887.860710001,71466194.434179991,9934049.5365999993,3047885.1598999994,6341337.3699999992,4611070.1976499995,8719430.1341699995,11724843.072040003,18557763.640000001,2280035.2400000002,152643280.48403001,null,null,6179,7810,0.79120000000000001,11]
[94,"Fairhaven                    ",37,0,109,613,453,465,0,64,16,23,0,3,823,1659,1,8,0.4551,null,1054468.6800000002,1640986.8799999997,10088634.119999999,1873085.67,428955.8,1081256.8399999999,765594.19000000006,1145286.56,1978224.9300000002,3175520.1,536478.88,23768492.649999999,null,null,823,1808.5,0.4551,8]
[95,"Fall River                   ",315,0,931,4863,3030,2452,804,479,113,1396,512,647,10024,12238,1,12,0.83450000000000002,null,8591297.1400000006,15153272.669999998,105585685.13,14491148.09,4599287.37,8952514.5199999996,6837001.6900000013,13712283.989999998,16119816.83,28713736.09,3788882.09,226544925.61000004,null,null,10024,12012.5,0.83450000000000002,12]
[96,"Falmouth                     ",66,0,199,1127,707,781,112,115,28,103,32,36,1356,2959,1,8,0.44700000000000001,null,1886783.7900000005,2909637.18,18248837.960000001,3376485.6900000004,762978.5,2035166.7599999998,1361332.19,1977333.02,3672807.04,5676818.6900000004,938838.04,42847018.859999999,null,null,1356,3033.5,0.44700000000000001,8]
[97,"Fitchburg                    ",157,0,418,2107,1390,1667,0,218,56,567,156,174,4178,5661,1,11,0.78310000000000002,null,3868941.8200000008,6596559.54,43873600.539999992,6555903.21,1904830.06,3887999.4599999995,3012818.81,5672399.7999999998,7008514.29,12419186.82,1877676.08,96678430.429999992,null,null,4178,5335.5,0.78310000000000002,11]
[98,"Florida                      ",7,0,4,25,18,6,0,2,1,0,0,0,45,57,1,9,0.51429999999999998,null,38447.61,63151.96,401356.03,65001.279999999999,17948.260000000002,34043.399999999994,28087.18,49984.15,66195.87,120170.26,33529.93,917915.93000000017,null,null,45,87.5,0.51429999999999998,9]
[99,"Foxborough                   ",39,0,170,931,591,825,0,98,25,44,13,14,666,2537,1.0620000000000001,5,0.2651,null,1657601.50248,2381982.8029199997,13781310.37974,3032973.8818200007,560944.62990000006,1674520.7200000002,1138809.4048800003,1308368.13372,3221722.8657000004,4409303.43,838248.25,34005786.001159996,null,null,666,2512.5,0.2651,5]
[100,"Framingham                   ",254,1,731,3820,2308,2759,13,376,96,1982,599,657,5734,9759,1.01,10,0.60629999999999995,null,6742485.5122999996,10957039.408699999,70291353.343499988,11809090.4375,3003673.1279000002,6850344.4199999999,5033715.8912000014,8105123.1338999998,12768856.915899999,20571391.310000002,3218873.2800000003,159351946.7809,null,null,5734,9457.5,0.60629999999999995,10]
[101,"Franklin                     ",151,1,328,1787,1209,1703,0,196,50,82,14,17,825,5104,1.0569999999999999,3,0.16539999999999999,null,3272492.9708799999,4582314.3909200002,25811871.675519999,6032516.9533999991,1035693.0574199999,3365474.54,2211494.6041299999,2268075.6872899998,6440364.6948199999,8579181.1600000001,1676496.5,65275976.234380007,null,null,825,4986.5,0.16539999999999999,3]
[102,"Freetown                     ",0,0,0,0,0,0,53,3,0,0,0,0,0,53,1,0,0,null,32627.020000000004,42374.03,457691.49000000005,58101.630000000005,14820.76,80013.920000000013,23590.83,31777.210000000003,116381.91,108944.84000000001,0,966323.64,null,null,0,0,0,0]
[103,"Gardner                      ",39,0,194,935,564,684,0,93,24,128,27,18,1649,2397,1,10,0.69769999999999999,null,1595662.7600000002,2645597.0099999998,17242866.77,2756817.8299999996,744136.69,1603044.7400000002,1212783.6399999999,2163505.5,2897694.5300000003,5023536.040000001,804718.32000000007,38690363.829999998,null,null,1649,2363.5,0.69769999999999999,10]
[104,"Aquinnah",0,0,0,0,0,0,0,0,0,0,0,0,0,0,1,0,0,null,0,0,0,0,0,0,0,0,0,0,0,0,null,null,0,0,0,0]
[105,"Georgetown                   ",6,0,106,519,284,304,13,48,12,9,1,7,207,1229,1,3,0.16839999999999999,null,747325.62999999989,1044523.38,5844741.6700000018,1417074.77,237456.37,788300.61000000022,494528.64,478977.39,1473533.3499999999,2082866.5199999998,402359.16000000003,15011687.49,null,null,207,1229,0.16839999999999999,3]
[106,"Gill                         ",0,0,0,0,0,0,0,0,0,0,0,0,0,0,1,0,0,null,0,0,0,0,0,0,0,0,0,0,0,0,null,null,0,0,0,0]
[107,"Gloucester                   ",105,0,205,1155,700,771,151,117,28,132,43,73,1466,3035,1.0489999999999999,9,0.53239999999999998,null,2046318.1092699999,3209884.8645599992,20503765.161359999,3642439.1229099995,858801.15243999998,2126324.9,1495991.5509400002,2261639.4053799999,4006788.0516399997,5954319.5299999993,938838.04,47045109.888499998,null,null,1466,2753.5,0.53239999999999998,9]
[108,"Goshen                       ",0,0,0,0,0,0,9,0,0,0,0,0,0,9,1,0,0,null,3984.03,7195.59,72585.45,5071.1400000000003,2268.9900000000002,13371.03,4005.9900000000002,5396.13,18024.39,16514.100000000002,0,148416.84,null,null,0,0,0,0]
[109,"Gosnold                      ",0,0,0,0,0,0,0,0,0,0,0,0,0,0,1,0,0,null,0,0,0,0,0,0,0,0,0,0,0,0,null,null,0,0,0,0]
[110,"Grafton                      ",36,0,201,1116,742,867,6,114,29,52,15,12,642,2950,1,4,0.2109,null,1804928.5100000002,2561672.5299999998,14539384.020000001,3339165.51,592866.06000000006,1919926.3000000003,1222492.08,1305401.4100000001,3532787.3299999996,5067157.4400000013,972367.97,36858149.159999996,null,null,642,3044,0.2109,4]
[111,"Granby                       ",33,0,38,279,143,193,2,25,7,25,10,4,309,672,1,8,0.42649999999999999,null,427215.81000000006,660795.31999999995,4056700.5199999996,763440.87,170242.52000000002,444085.04,307608.3,444488,806039.71,1273163.29,234709.51,9588488.8899999987,null,null,309,724.5,0.42649999999999999,8]
[112,"Granville                    ",0,0,0,0,0,0,0,0,0,0,0,0,0,0,1,0,0,null,0,0,0,0,0,0,0,0,0,0,0,0,null,null,0,0,0,0]
[113,"Great Barrington             ",0,0,0,0,0,0,0,0,0,0,0,0,0,0,1,0,0,null,0,0,0,0,0,0,0,0,0,0,0,0,null,null,0,0,0,0]
[114,"Greenfield                   ",37,0,146,710,414,502,0,69,18,44,17,21,1010,1791,1,10,0.66800000000000004,null,1166090.17,1873991.4800000002,11894017.389999999,2051663.11,508639.9200000001,1181476.77,864036.7,1417562.7799999998,2147040.9900000002,3586232.6400000006,603538.74,27294290.690000001,null,null,1010,1512,0.66800000000000004,10]
[115,"Groton                       ",0,0,0,0,0,0,0,0,0,0,0,0,0,0,1,0,0,null,0,0,0,0,0,0,0,0,0,0,0,0,null,null,0,0,0,0]
[116,"Groveland                    ",0,0,0,0,0,0,9,0,0,0,0,0,0,9,1,0,0,null,3984.03,7195.59,72585.45,5071.1400000000003,2268.9900000000002,13371.03,4005.9900000000002,5396.13,18024.39,16514.100000000002,0,148416.84,null,null,0,0,0,0]
[117,"Hadley                       ",6,0,29,136,106,166,16,18,4,11,4,4,167,456,1,6,0.32050000000000001,null,284747.50000000006,423553.55000000005,2621445.62,505575.27,106382.79,324365.58,204154.2,275847.51,565409.39000000013,831505.4600000002,134119.72,6277106.5899999999,null,null,167,521,0.32050000000000001,6]
[118,"Halifax                      ",28,0,76,396,114,10,3,23,6,5,0,0,175,613,1.0309999999999999,6,0.30919999999999997,null,387227.09368999995,566013.03051000007,3119021.3368299995,782739.82918999996,133632.35360999999,345956.55,249732.52128999998,236295.89006999999,739611.73826999997,1088045.1000000001,201179.58000000002,7849455.0234599989,null,null,175,566,0.30919999999999997,6]
[119,"Hamilton                     ",0,0,0,0,0,0,0,0,0,0,0,0,0,0,1.044,0,0,null,0,0,0,0,0,0,0,0,0,0,0,0,null,null,0,0,0,0]
[120,"Hampden                      ",0,0,0,0,0,0,0,0,0,0,0,0,0,0,1,0,0,null,0,0,0,0,0,0,0,0,0,0,0,0,null,null,0,0,0,0]
[121,"Hancock                      ",4,0,4,30,23,15,12,4,1,0,0,0,24,86,1,8,0.45710000000000001,null,55730.33,77799.8,502707.53,102334.59,20379.809999999998,64222.89,37070.310000000005,46153.279999999999,115765.68,160800.59999999998,33529.93,1216494.7500000002,null,null,24,52.5,0.45710000000000001,8]
[122,"Hanover                      ",45,179,1,1029,635,699,4,96,25,28,3,3,326,2481,1.0409999999999999,3,0.13239999999999999,null,1564199.26095,2166932.1502799997,11969246.141309999,2926370.0383499996,484475.74737000006,1594333.3,1037379.2666699998,992023.94807999989,3079348.0905299992,4147625.08,838248.25,30800181.273539998,null,null,326,2462.5,0.13239999999999999,3]
[123,"Hanson                       ",0,0,0,0,0,0,5,0,0,0,0,0,0,5,1,0,0,null,2213.35,3997.55,40325.25,2817.3,1260.5500000000002,7428.35,2225.5500000000002,2997.8500000000004,10013.549999999999,9174.5,0,82453.8,null,null,0,0,0,0]
[124,"Hardwick                     ",0,0,0,0,0,0,0,0,0,0,0,0,0,0,1,0,0,null,0,0,0,0,0,0,0,0,0,0,0,0,null,null,0,0,0,0]
[125,"Harvard                      ",7,54,5,326,220,293,0,34,9,16,2,7,105,875,1,2,0.1046,null,531593.62,732728.81,4082028.89,979234.1100000001,163243.03000000003,577253.30999999994,355233.32000000007,348255.24999999994,1048625.8999999999,1456409.3399999996,301769.37,10576374.949999999,null,null,105,1003.5,0.1046,2]
[126,"Harwich                      ",0,0,0,0,0,0,0,0,0,0,0,0,0,0,1,0,0,null,0,0,0,0,0,0,0,0,0,0,0,0,null,null,0,0,0,0]
[127,"Hatfield                     ",21,0,20,105,70,83,28,12,3,1,0,0,91,317,1,5,0.26300000000000001,null,193273.43000000002,280734.11,1732894.92,350629.46,69295.209999999992,228327.22000000006,134721.31,161217.43,401359.75,562559.72,100589.79000000001,4215602.3500000006,null,null,91,346,0.26300000000000001,5]
[128,"Haverhill                    ",285,0,591,3171,2178,2072,132,318,80,541,175,201,5352,8287,1,10,0.66649999999999998,null,5500579.7800000003,9062733.2400000002,58746334.700000003,9561973.5600000005,2533958.1500000004,5608206.8400000008,4156183.6599999997,7138603.5200000005,10248978.049999999,17311942.349999998,2682394.4,132551888.25,null,null,5352,8029.5,0.66649999999999998,10]
[129,"Hawley                       ",0,0,0,0,0,0,4,0,0,0,0,0,0,4,1,0,0,null,1770.68,3198.04,32260.2,2253.84,1008.44,5942.68,1780.44,2398.2800000000002,8010.84,7339.6,0,65963.040000000008,null,null,0,0,0,0]
[130,"Heath                        ",0,0,0,0,0,0,0,0,0,0,0,0,0,0,1,0,0,null,0,0,0,0,0,0,0,0,0,0,0,0,null,null,{"$f":"O139","v":0},0,{"$f":"S139","v":0},{"$f":"R139","v":0}]
[131,"Hingham                      ",45,2,281,1430,859,1206,7,147,38,15,4,2,333,3807,1.054,2,8.8400000000000006E-2,null,2413522.6743400004,3307988.2014199998,18242066.455219999,4516911.9407999991,725357.64594000019,2482270.9799999995,1596899.6216200001,1473867.9091000003,4771274.4986000005,6253373.2000000011,1274137.3400000001,47057670.467040002,null,null,333,3768.5,8.8400000000000006E-2,2]
[132,"Hinsdale                     ",0,0,0,0,0,0,8,0,0,0,0,0,0,8,1,0,0,null,3541.36,6396.08,64520.4,4507.68,2016.88,11885.36,3560.88,4796.5600000000004,16021.68,14679.2,0,131926.08000000002,null,null,0,0,0,0]
[133,"Holbrook                     ",24,0,118,547,351,324,0,52,13,62,15,21,682,1352,1.0429999999999999,9,0.51119999999999999,null,909052.79801000003,1431327.63228,8831874.5561200008,1633059.0809400002,378149.32903999992,875870.40999999992,659234.70003999991,989601.02836,1703320.5047599999,2646449.5499999998,435889.09,20493828.679550003,null,null,682,1334,0.51119999999999999,9]
[134,"Holden                       ",0,0,0,0,0,0,1,0,0,0,0,0,0,1,1,0,0,null,442.67,799.51,8065.05,563.46,252.11,1485.67,445.11,599.57000000000005,2002.71,1834.9,0,16490.760000000002,null,null,0,0,0,0]
[135,"Holland                      ",1,0,21,125,28,0,0,7,2,0,0,0,101,175,1,8,0.44590000000000002,null,113726.69,177566.22999999998,1069418.27,222695.27,47082.63,98326.080000000002,76798.490000000005,107619.17,203926.22,345301.98,67059.86,2529520.8899999997,null,null,101,226.5,0.44590000000000002,8]
[136,"Holliston                    ",14,1,181,1007,667,804,19,105,27,55,15,7,361,2686,1.006,3,0.13139999999999999,null,1644756.4707400003,2277672.0249999999,12737768.697459998,3062067.7897600005,512483.77326000005,1761586.9100000001,1095003.335,1065638.6476999999,3254572.3684,4511396.41,905308.11,32828254.537319999,null,null,361,2748,0.13139999999999999,3]
[137,"Holyoke                      ",319,0,385,2142,1364,1491,384,229,54,402,244,324,4866,5926,1,12,0.88549999999999995,null,4121031.81,7293072.2400000002,51152054.950000003,6853543.3200000003,2214483.17,4389805.6900000004,3316138.4699999997,6764795.9000000004,7710965.3299999991,13785635.189999998,1810616.22,109412142.28999999,null,null,4866,5495,0.88549999999999995,12]
[138,"Hopedale                     ",17,0,74,343,206,241,2,34,9,51,5,6,281,875,1,5,0.26919999999999999,null,547445.59000000008,795902.4,4638295.75,1008754.9700000001,191506.96000000002,571682.93000000005,374905,438726.40000000008,1058674.3900000001,1561837.09,301769.37,11489500.85,null,null,281,1044,0.26919999999999999,5]
[139,"Hopkinton                    ",45,0,298,1569,982,1264,3,160,41,209,10,17,346,4139,1.036,2,8.4099999999999994E-2,null,2601591.5035600001,3572397.8054800001,19649244.334160008,4877690.7969999993,784781.71716,2707963.03,1719595.8768799999,1553658.0682000003,5168235.4844399989,6863409.080000001,1374727.1300000001,50873294.826880008,null,null,346,4116.5,8.4099999999999994E-2,2]
[140,"Hubbardston                  ",0,0,0,0,0,0,0,0,0,0,0,0,0,0,1,0,0,null,0,0,0,0,0,0,0,0,0,0,0,0,null,null,0,0,0,0]
[141,"Hudson                       ",21,0,182,911,590,723,0,94,24,244,60,65,1006,2417,1,7,0.40060000000000001,null,1557378.36,2359076.0500000003,14299266.34,2801362.58,597752.61,1628841.2200000002,1106390.6200000001,1493883.21,2990642.94,4568145.28,804718.32000000007,34207457.530000001,null,null,1006,2511,0.40060000000000001,7]
[142,"Hull                         ",46,0,48,277,179,261,3,30,8,2,1,6,290,791,1.032,7,0.37609999999999999,null,508510.23936000007,760415.79431999999,4574386.5225600004,909922.18128000002,188753.59463999997,527124.64,360711.79176000005,482512.84871999995,972702.8486400001,1433455.6699999997,268239.44,10986735.571280001,null,null,290,771,0.37609999999999999,7]
[143,"Huntington                   ",0,0,0,0,0,0,31,2,0,0,0,0,0,31,1,0,0,null,19833.11,24784.81,270179.11000000004,36292.76,8788.0300000000007,46904.710000000006,13798.41,18586.670000000002,68909.53,64678.66,0,572755.80000000005,null,null,0,0,0,0]
[144,"Ipswich                      ",43,0,97,575,348,501,14,60,15,31,3,12,357,1557,1.0569999999999999,4,0.22739999999999999,null,1006697.0528999998,1435173.6819699998,8288560.1120699989,1852080.5158800001,334497.12071999995,1038130.5900000001,688013.46606999997,760268.67538999999,1980938.35002,2679727.6399999997,502948.95,20567036.155019999,null,null,357,1570,0.22739999999999999,4]
[145,"Kingston                     ",0,0,175,777,153,15,5,44,11,49,5,0,291,1125,1.0369999999999999,5,0.26429999999999998,null,721424.28725999978,1034533.9206699999,5671045.2391399983,1488020.5641400001,240264.85287999996,638854.6100000001,454249.39844999998,390037.21774999995,1381017.6672899998,1982963.42,368829.23,14371240.407579998,null,null,291,1101,0.26429999999999998,5]
[146,"Lakeville                    ",0,0,0,0,0,0,11,1,0,0,0,0,0,11,1,0,0,null,7924.54,8794.61,98796.83,15610.810000000001,3259.52,16766.84,4896.21,6595.27,25442.57,24082.280000000002,0,212169.47999999998,null,null,0,0,0,0]
[147,"Lancaster                    ",0,0,0,0,0,0,2,0,0,0,0,0,0,2,1,0,0,null,885.34,1599.02,16130.1,1126.92,504.22,2971.34,890.22,1199.1400000000001,4005.42,3669.8,0,32981.520000000004,null,null,0,0,0,0]
[148,"Lanesborough                 ",0,0,0,0,0,0,0,0,0,0,0,0,0,0,1,0,0,null,0,0,0,0,0,0,0,0,0,0,0,0,null,null,0,0,0,0]
[149,"Lawrence                     ",699,0,1058,5804,3710,3548,96,556,141,2873,1080,1405,13121,14566,1,12,0.90690000000000004,null,10584511.640000001,19064181.030000001,131171014.06999999,17624727.140000001,5783614.75,10390841.130000003,8540883.6699999999,17476314.969999999,19102661.77,35406751.839999996,4727720.13,279873222.13999999,null,null,13121,14467.5,0.90690000000000004,12]
[150,"Lee                          ",16,0,37,202,128,190,5,22,6,21,5,11,328,570,1,9,0.49919999999999998,null,372477.19999999995,593933.76,3811362.6999999993,643316.67000000004,161008.07,391674.15000000008,277379.53000000003,457337.94000000006,693391.8899999999,1136643.17,201179.58000000002,8739704.6600000001,null,null,328,657,0.49919999999999998,9]
[151,"Leicester                    ",21,0,96,547,291,420,78,57,14,50,10,12,596,1443,1,8,0.43919999999999998,null,917431.01,1391659.36,8819447.8900000006,1643121.9200000002,362292.78,1023980.8200000002,656773.20000000007,935818.7,1810278.9699999997,2728984.8900000006,469419.02,20759208.559999999,null,null,596,1357,0.43919999999999998,8]
[152,"Lenox                        ",23,0,38,148,119,162,10,18,5,13,3,4,214,489,1,5,0.27879999999999999,null,304744.38000000006,459083.7,2796862.01,536707.59999999986,115073.18000000002,335411.69000000006,218796.88999999998,296267.90000000002,593794.26,893426.15,167649.65,6717817.4100000001,null,null,214,767.5,0.27879999999999999,5]
[153,"Leominster                   ",126,0,385,2194,1407,1272,699,239,53,505,152,173,3716,6020,1,10,0.61680000000000001,null,4005015.33,6542690.9399999995,44747944.429999992,6959727.5200000005,1880008.6300000001,4596592.419999999,3032756.7800000003,5190940.54,8093612.3499999987,12772625.350000001,1777086.29,99599000.579999998,null,null,3716,6025,0.61680000000000001,10]
[154,"Leverett                     ",6,0,13,70,15,0,0,4,1,0,0,0,31,101,1,4,0.23130000000000001,null,62377.090000000004,89824.429999999978,492565.74,128718.90000000001,21077.989999999998,55948.15,39278.170000000006,35378.729999999996,117752.51000000001,178695.66,33529.93,1255147.3,null,null,31,134,0.23130000000000001,4]
[155,"Lexington                    ",36,0,347,2369,1784,2375,0,268,69,408,90,70,643,6893,1.1080000000000001,2,9.4399999999999998E-2,null,4668169.98948,6421859.0281999996,35707661.103679992,8588728.491080001,1422836.5712400004,4617873.790000001,3123545.3046800001,2970241.915,9301376.7730400003,11511041.27,2313565.17,90646899.40639998,null,null,643,6809.5,9.4399999999999998E-2,2]
[156,"Leyden                       ",0,0,0,0,0,0,0,0,0,0,0,0,0,0,1,0,0,null,0,0,0,0,0,0,0,0,0,0,0,0,null,null,0,0,0,0]
[157,"Lincoln                      ",19,0,48,337,190,0,1,22,6,26,4,0,129,586,1.052,4,0.22589999999999999,null,377469.76112000004,538171.18764000002,2837761.7944000005,750278.58363999997,123687.08004000003,327775.60000000003,240823.62959999996,197901.24059999999,734437.62023999996,1025815.89,201179.58000000002,7355301.9672800004,null,null,129,571,0.22589999999999999,4]
[158,"Littleton                    ",59,0,127,615,387,506,0,64,16,32,3,4,213,1665,1,3,0.1245,null,1005836.76,1398539.4400000002,7763350.9799999986,1883158.51,311761.5,1081136.69,671135.56,643478.09000000008,1985094.48,2776980.69,536478.88,20056951.579999998,null,null,213,1711.5,0.1245,3]
[159,"Longmeadow                   ",29,0,190,989,612,899,20,106,27,15,5,3,382,2725,1,3,0.13919999999999999,null,1650615.33,2290880.7000000007,12931589.550000001,3057867.7199999997,515576.32000000001,1806953.3699999999,1106927.03,1112113.8400000001,3261782.7,4553086.3199999994,905308.11,33192700.990000002,null,null,382,2743.5,0.13919999999999999,3]
[160,"Lowell                       ",631,0,1236,6690,4173,3551,357,627,157,2824,994,890,12584,16323,1,11,0.78410000000000002,null,11421666.910000002,19675926.669999998,131893102.61999999,19594796.960000001,5755535.0800000001,11462707.799999999,8878902.4199999999,16530398.35,21208074.289999995,37106319.420000002,5264199.01,288791629.52999997,null,null,12584,16049.5,0.78410000000000002,11]
[161,"Ludlow                       ",39,0,109,795,494,732,98,88,21,94,24,22,983,2248,1,8,0.43569999999999998,null,1431466.3900000001,2194157.65,13933073.67,2526719.8700000006,573873.78,1602644.75,1040806.1100000001,1530824.63,2811326.56,4278770.2200000007,704128.53,32627792.160000004,null,null,983,2256,0.43569999999999998,8]
[162,"Lunenburg                    ",44,0,108,607,397,480,1,62,16,26,4,4,451,1615,1,5,0.28799999999999998,null,993316.1100000001,1434004.0599999998,8268805.2400000012,1823645.95,339358.66,1051551.6700000002,681584.73,782916.02,1926769.6199999999,2821263.9699999997,536478.88,20659694.909999996,null,null,451,1566,0.28799999999999998,5]
[163,"Lynn                         ",250,0,1218,6478,3862,5027,1185,705,166,4096,860,1633,14005,17895,1,11,0.79690000000000005,null,12730909.539999999,21940617.149999999,152649954.31999999,21383720.999999996,6526518.1600000001,13896220.48,10047297.539999999,19152808.43,24561029.220000003,41488452.850000001,5565968.3799999999,329943497.06999999,null,null,14005,17574,0.79690000000000005,11]
[164,"Lynnfield                    ",16,0,169,905,536,589,0,86,22,26,6,12,277,2207,1.0469999999999999,3,0.1268,null,1401751.2617399998,1938492.6602699999,10660867.597439999,2650167.2585399998,431875.86783,1406836.94,923085.95855999994,856137.34440000018,2755030.1717399997,3690468.2600000002,737658.46,27452371.780520003,null,null,277,2184.5,0.1268,3]
[165,"Malden                       ",243,0,460,2541,1667,2139,11,266,68,918,253,305,4639,6940,1.0389999999999999,10,0.6784,null,4884241.9989600005,8096010.7786300005,52844968.739289999,8382398.9515499994,2267781.4438100001,4832061.1900000004,3728100.9102299996,6497662.7077599997,9065352.7275899984,14738044.450000001,2280035.2400000002,117616659.13781999,null,null,4639,6838.5,0.6784,10]
[166,"Manchester                   ",0,0,0,0,0,0,0,0,0,0,0,0,0,0,1.0429999999999999,0,0,null,0,0,0,0,0,0,0,0,0,0,0,0,null,null,0,0,0,0]
[167,"Mansfield                    ",93,0,239,1262,815,1122,0,134,34,54,11,9,829,3485,1.0609999999999999,5,0.2414,null,2263031.1544599999,3236684.9342299998,18589679.28193,4155066.1418099999,755041.87030000018,2291289.4200000004,1548924.7012800002,1732000.94093,4410608.1509599993,6006742.7899999991,1140017.6200000001,46129087.005899996,null,null,829,3433.5,0.2414,5]
[168,"Marblehead                   ",67,161,11,927,693,903,9,102,26,67,31,27,405,2658,1,3,0.15559999999999999,null,1617674.4400000002,2263226.79,12766301.4,2957794.1799999997,512412.82,1774820.2100000002,1097465.0899999999,1126876.2800000003,3209675.9999999995,4483912.9000000004,871778.18,32681938.290000007,null,null,405,2602,0.15559999999999999,3]
[169,"Marion                       ",24,0,47,275,64,3,0,15,4,4,1,0,127,401,1,6,0.32519999999999999,null,246885.25000000003,363613.76,2013569.5300000003,501411.38,86461.08,223831.57,159228.53999999995,154996.32,466676.26000000007,717423.85,134119.72,5068217.2599999988,null,null,127,390.5,0.32519999999999999,6]
[170,"Marlborough                  ",190,0,395,2117,1302,1460,1,206,53,936,240,286,3153,5370,1.0189999999999999,10,0.60660000000000003,null,3704745.2232599994,6018887.2532999991,38456558.804849997,6500403.6689099986,1647867.2598299999,3700376.7100000004,2762110.3672000002,4462196.3227899997,6970911.2263099989,11220541.869999999,1777086.29,87221684.996450007,null,null,3153,5197.5,0.60660000000000003,10]
[171,"Marshfield                   ",147,0,262,1297,885,1062,203,147,35,62,17,10,820,3783,1.0389999999999999,4,0.22,null,2397527.9402899998,3409216.2563999998,20218649.838469993,4415104.0329200001,809559.79111999972,2631016.92,1638987.4233599999,1793393.8783199999,4896292.4664199995,6566999.4600000009,1173547.55,49950295.557299994,null,null,820,3728,0.22,4]
[172,"Mashpee                      ",82,0,102,488,337,454,0,54,14,56,16,3,686,1422,1,8,0.47389999999999999,null,906647.15000000014,1409699.5799999998,8722017.9800000004,1600592.51,366528.73000000004,950994.59,660997.50999999989,985602.41999999993,1708971.6500000001,2714663.3400000003,469419.02,20496134.48,null,null,686,1447.5,0.47389999999999999,8]
[173,"Mattapoisett                 ",25,0,52,279,64,4,2,16,4,1,0,0,109,414,1,5,0.26169999999999999,null,253112.69,363726.30000000005,1985001.79,520681.97000000003,84447.46,231907.91999999998,159927.67999999999,139179.91999999998,483524.23000000004,724303.04999999993,134119.72,5079932.7300000004,null,null,109,416.5,0.26169999999999999,5]
[174,"Maynard                      ",24,0,91,474,300,300,63,48,12,53,13,18,373,1240,1.085,6,0.30130000000000001,null,838985.74375000014,1227249.7821499996,7396916.1721000001,1539356.8784999996,302695.32895,854539.22,580202.14419999986,692294.7636500001,1689593.2696999996,2244679.5699999998,402359.16000000003,17768872.032999996,null,null,373,1238,0.30130000000000001,6]
[175,"Medfield                     ",28,161,8,979,589,756,0,94,24,17,8,3,238,2427,1.04,2,9.8699999999999996E-2,null,1521435.3855999999,2090977.7304000002,11515673.364,2842325.6575999996,460630.20640000002,1576682.45,1008738.7127999999,944015.06160000002,3005630.6592000001,4006261.45,804718.32000000007,29777088.9976,null,null,238,2410.5,9.8699999999999996E-2,2]
[176,"Medford                      ",107,0,325,1783,1017,718,662,182,38,331,93,135,2008,4559,1.052,8,0.44579999999999997,null,3081883.0126800006,4743556.9466000013,31482184.212240003,5598160.3503999999,1291379.1389200003,3488942.8699999992,2216425.4726400003,3140395.6103600003,6546752.1273200009,9024441.2599999998,1274137.3400000001,71888258.341159999,null,null,2008,4504.5,0.44579999999999997,8]
[177,"Medway                       ",47,1,160,820,493,622,0,82,21,61,13,9,358,2120,1.0429999999999999,3,0.1704,null,1348790.8285599998,1889339.2731499998,10585975.654030001,2520968.3498300002,428122.81749999995,1375894.0999999996,901890.25626000017,898754.09085000004,2647997.36411,3589036.5800000005,704128.53,26890897.844290003,null,null,358,2100.5,0.1704,3]
[178,"Melrose                      ",241,0,302,1685,936,1009,9,153,39,144,28,24,724,4062,1.038,4,0.1822,null,2563085.2471799999,3629535.58158,20219035.307579998,4845886.6930200001,824754.06888000004,2592016.54,1712554.5969600002,1668517.41582,5047413.0540000005,6919932.9899999984,1307667.27,51330398.765020005,null,null,724,3973,0.1822,4]
[179,"Mendon                       ",0,0,0,0,0,0,10,0,0,0,0,0,0,10,1,0,0,null,4426.7,7995.1,80650.5,5634.6,2521.1000000000004,14856.7,4451.1000000000004,5995.7000000000007,20027.099999999999,18349,0,164907.6,null,null,0,0,0,0]
[180,"Merrimac                     ",0,0,0,0,0,0,10,0,0,0,0,0,0,10,1,0,0,null,4426.7,7995.1,80650.5,5634.6,2521.1000000000004,14856.7,4451.1000000000004,5995.7000000000007,20027.099999999999,18349,0,164907.6,null,null,0,0,0,0]
[181,"Methuen                      ",141,0,433,2550,1660,1508,553,267,62,685,170,236,3923,6775,1,10,0.6008,null,4503443.1900000004,7283488.5299999993,48501465.819999993,7882775.5599999996,2048018.29,4986673.3199999994,3370498.22,5559979.46,8933384.9999999981,14150266.780000001,2078855.66,109298849.82999998,null,null,3923,6530,0.6008,10]
[182,"Middleborough                ",56,0,233,1214,732,906,24,121,31,42,9,20,1392,3137,1,8,0.45479999999999998,null,1986341.7100000002,3046219.04,18695861.57,3560668.24,784444.2,2075115.2500000005,1424899.55,2048045.7800000003,3763407.8499999996,5909382.1100000003,1039427.83,44333813.130000003,null,null,1392,3061,0.45479999999999998,8]
[183,"Middlefield                  ",0,0,0,0,0,0,3,0,0,0,0,0,0,3,1,0,0,null,1328.01,2398.5299999999997,24195.15,1690.38,756.33,4457.01,1335.33,1798.71,6008.13,5504.7000000000007,0,49472.28,null,null,0,0,0,0]
[184,"Middleton                    ",54,0,106,482,88,0,0,26,7,27,0,0,104,703,1.048,3,0.14960000000000001,null,444850.12488000008,625233.02720000001,3273622.25728,930634.7629600002,137399.10896000001,389825.6,274075.87344,183340.89279999997,860024.80928000004,1189054.2299999997,234709.51,8542770.1967999991,null,null,104,695,0.14960000000000001,3]
[185,"Milford                      ",79,1,366,1749,1116,1420,12,182,47,895,221,273,2689,4704,1,10,0.59360000000000002,null,3196459.74,5163293.12,33127548.149999999,5571620.7000000011,1410478.6800000002,3309730.5800000005,2384698.0900000003,3841211.7699999996,6048633.7999999998,9807929.9399999995,1575906.71,75437511.279999986,null,null,2689,4530,0.59360000000000002,10]
[186,"Millbury                     ",67,0,125,609,378,489,3,62,16,43,17,19,639,1638,1,7,0.3997,null,1027283.9900000001,1550677.0499999998,9317224.3600000013,1854468.1199999996,387750.68,1081082.99,728937.02,973798.55,1965583.1199999999,3011314.48,536478.88,22434599.240000002,null,null,639,1598.5,0.3997,7]
[187,"Millis                       ",23,83,3,439,273,320,0,42,11,27,4,1,248,1089,1.038,4,0.21920000000000001,null,692957.17439999979,984588.13224000018,5592860.0380200008,1279356.46584,228445.02258000005,706618.71000000008,469333.72410000005,507209.35800000007,1350841.1072999998,1873812.23,368829.23,14054851.192480003,null,null,248,1131.5,0.21920000000000001,4]
[188,"Millville                    ",0,0,0,0,0,0,6,0,0,0,0,0,0,6,1,0,0,null,2656.02,4797.0599999999995,48390.3,3380.76,1512.66,8914.02,2670.66,3597.42,12016.26,11009.400000000001,0,98944.56,null,null,0,0,0,0]
[189,"Milton                       ",60,0,344,1844,971,1105,0,166,43,77,15,23,682,4294,1.044,3,0.15959999999999999,null,2728222.4033999997,3808893.97872,21109231.95696,5170158.4899599999,857653.27668000001,2730494.2200000007,1802530.5922800002,1720625.1696000001,5341504.4679599991,7246373.9700000007,1441786.99,53957475.515560001,null,null,682,4272,0.15959999999999999,3]
[190,"Monroe                       ",0,0,1,10,5,2,0,1,0,0,0,0,0,18,1,0,0,null,11023.23,14391.18,76024.659999999989,24266.620000000003,3173.45,10612.15,6660.14,4197.0200000000004,22268.909999999996,30401.95,0,203019.31000000003,null,null,0,0,0,0]
[191,"Monson                       ",72,0,58,336,209,171,0,30,8,1,0,2,384,810,1,8,0.46429999999999999,null,509342.94,792863.5199999999,4780690.0100000007,925520.52,204597.58999999997,507892.24999999994,364402.27,517574.40000000002,954769.66,1535654.5699999998,268239.44,11361547.17,null,null,384,827,0.46429999999999999,8]
[192,"Montague                     ",0,0,0,0,0,0,1,0,0,0,0,0,0,1,1,0,0,null,442.67,799.51,8065.05,563.46,252.11,1485.67,445.11,599.57000000000005,2002.71,1834.9,0,16490.760000000002,null,null,0,0,0,0]
[193,"Monterey                     ",0,0,0,0,0,0,0,0,0,0,0,0,0,0,1,0,0,null,0,0,0,0,0,0,0,0,0,0,0,0,null,null,0,0,0,0]
[194,"Montgomery                   ",0,0,0,0,0,0,3,0,0,0,0,0,0,3,1,0,0,null,1328.01,2398.5299999999997,24195.15,1690.38,756.33,4457.01,1335.33,1798.71,6008.13,5504.7000000000007,0,49472.28,null,null,{"$f":"O203","v":0},0,{"$f":"S203","v":0},{"$f":"R203","v":0}]
[195,"Mount Washington             ",0,0,3,3,0,2,0,0,0,0,0,0,0,8,1,0,0,null,3541.36,6396.08,31483.83,6768.42,1175.4000000000001,4881.58,2971.1400000000003,1995.04,8248.1,11496.88,0,78957.830000000016,null,null,0,0,0,0]
[196,"Nahant                       ",36,0,20,91,60,58,1,9,2,0,0,0,37,248,1,5,0.24829999999999999,null,146701.78999999998,209459.71,1149576.3600000001,279968.54000000004,46917.85,155642.11000000002,98879.73000000001,92459.49000000002,292320.28000000003,415406.7,67059.86,2954392.4200000004,null,null,37,149,0.24829999999999999,5]
[197,"Nantucket                    ",48,0,115,595,384,595,0,66,17,175,48,75,794,1713,1,8,0.46839999999999998,null,1116023.3199999998,1726295.78,10741068.220000001,1965062.58,447826.94000000006,1189228.56,812476.65999999992,1188726.98,2131668.35,3313076.29,570008.81000000006,25201462.489999998,null,null,794,1695,0.46839999999999998,8]
[198,"Natick                       ",44,0,358,2014,1275,1634,6,206,53,154,28,21,802,5309,1.006,3,0.1517,null,3256209.2310000001,4537620.1810400002,25406967.750839997,6054817.3507199995,1023452.9833400002,3474575.9500000007,2178176.9852200001,2160700.7834000001,6412525.3882600004,8948938.1400000006,1777086.29,65231071.033819996,null,null,802,5287,0.1517,3]
[199,"Needham                      ",46,0,419,2118,1292,1706,0,216,55,127,26,20,531,5558,1.085,2,9.6799999999999997E-2,null,3650068.8654500004,5015033.7807500008,27639876.963299997,6848552.4197999993,1104603.8017,3618133.58,2413056.3618000001,2220032.3554500001,7216808.4397500008,9203330.1699999981,1844146.15,70773642.887999997,null,null,531,5483.5,9.6799999999999997E-2,2]
[200,"New Ashford                  ",0,0,0,6,7,5,1,1,0,0,0,0,0,19,1,0,0,null,11465.9,15190.69,86444.479999999996,23172.89,3472.17,13052.869999999999,7488.4400000000005,6372.51,24599.15,32168.460000000003,0,223427.56,null,null,0,0,0,0]
[201,"New Bedford                  ",539,0,1126,5769,3560,3359,64,542,138,2158,500,862,11828,14148,1,12,0.85680000000000001,null,10008012.92,17741829.219999999,120565376.18000001,16863123.530000001,5309073.42,9770017.8800000027,7964985.8100000005,15955167.440000001,17959021.989999998,33144399.530000001,4627130.34,259908138.25999999,null,null,11828,13805,0.85680000000000001,12]
[202,"New Braintree                ",0,0,0,0,0,0,2,0,0,0,0,0,0,2,1,0,0,null,885.34,1599.02,16130.1,1126.92,504.22,2971.34,890.22,1199.1400000000001,4005.42,3669.8,0,32981.520000000004,null,null,0,0,0,0]
[203,"Newbury                      ",0,0,0,0,0,0,1,0,0,0,0,0,0,1,1.0389999999999999,0,0,null,459.93412999999998,830.69088999999997,8379.586949999999,585.43493999999998,261.94229000000001,1485.67,462.46929,622.95322999999996,2080.8156899999999,1834.9,0,17004.397409999998,null,null,0,0,0,0]
[204,"Newburyport                  ",56,0,115,762,503,818,6,86,22,42,19,20,326,2232,1,3,0.1449,null,1356945.0200000003,1892553.11,10747739.75,2482067.7199999997,426686.05,1504894.61,920537.10999999987,953189.65,2684185.3499999992,3741751.16,737658.46,27448207.989999998,null,null,326,2249.5,0.1449,3]
[205,"New Marlborough              ",0,0,0,0,0,0,0,0,0,0,0,0,0,0,1,0,0,null,0,0,0,0,0,0,0,0,0,0,0,0,null,null,0,0,0,0]
[206,"New Salem                    ",0,0,0,0,0,0,0,0,0,0,0,0,0,0,1,0,0,null,0,0,0,0,0,0,0,0,0,0,0,0,null,null,0,0,0,0]
[207,"Newton                       ",115,0,713,4300,2792,3575,447,466,114,557,104,121,1848,11885,1.0629999999999999,3,0.15670000000000001,null,7742224.9568699999,10816172.268020002,62735367.810859993,14314329.362780001,2497919.4423399996,8213959.2699999996,5220983.3157899994,5315129.6434800001,15744314.135889998,20341791.390000001,3822412.02,156764603.61603001,null,null,1848,11792,0.15670000000000001,3]
[208,"Norfolk                      ",58,0,132,710,139,0,0,38,10,29,2,0,89,1010,1.05,2,8.8700000000000001E-2,null,637350.69300000009,879614.70449999999,4518542.1749999998,1340980.2420000001,188906.44500000004,558001.02000000014,386996.71500000003,227970.40349999999,1238798.5260000001,1680685.2199999997,335299.3,11993145.444000002,null,null,89,1003,8.8700000000000001E-2,2]
[209,"North Adams                  ",83,0,102,518,317,335,1,50,13,8,2,0,963,1315,1,11,0.78069999999999995,null,873990.1100000001,1490352.13,9833215.1199999973,1499099.57,429211.15,859432.89,676680.49,1280461.83,1557634.1699999997,2819089.37,435889.09,21755055.919999998,null,null,963,1233.5,0.78069999999999995,11]
[210,"Northampton                  ",70,0,174,921,652,886,0,103,26,79,18,26,906,2668,1,6,0.33439999999999998,null,1664405.4400000002,2456814.9099999997,14582246.130000001,2997614.2600000002,600519.21000000008,1780156.06,1169941.5,1489184.9700000002,3210108.59,4795896.7699999996,871778.18,35618666.020000003,null,null,906,2709,0.33439999999999998,6]
[211,"North Andover                ",128,0,301,1667,1052,1404,17,174,44,101,23,16,1170,4505,1,5,0.26629999999999998,null,2771170.51,3982206.3999999994,23034390.109999999,5090319.5100000007,938354.14000000013,2972286.02,1899815.94,2159701.1399999997,5405816.1500000004,7840340.4600000009,1475316.92,57569717.300000004,null,null,1170,4393,0.26629999999999998,5]
[212,"North Attleborough           ",149,0,261,1535,1002,1158,0,154,40,99,17,8,1135,4031,1,5,0.28639999999999999,null,2481845.04,3589081.9000000004,20649750.159999996,4564786.49,849618.05,2614433.0199999996,1701647.6500000004,1942691.46,4815238.7600000007,7057843.5999999996,1341197.2,51608133.329999998,null,null,1135,3963.5,0.28639999999999999,5]
[213,"Northborough                 ",19,0,153,894,548,12,1,63,16,64,20,0,348,1618,1,4,0.2203,null,995671.09000000008,1411121.62,7447767.6500000004,1981524.8,324999.73,908637.70000000007,633604.85,521352,1937653.6799999997,2839504.1,536478.88,19538316.099999998,null,null,348,1580,0.2203,4]
[214,"Northbridge                  ",46,0,148,731,513,569,13,77,20,34,10,10,869,1997,1,8,0.45689999999999997,null,1264941.43,1934424.5299999998,11811024.229999999,2259525.7400000002,497050.34000000008,1317078.18,906338.67000000016,1290815.33,2399919.2800000003,3757901.4400000009,670598.6,28109617.770000007,null,null,869,1902,0.45689999999999997,8]
[215,"North Brookfield             ",28,0,33,238,142,147,0,22,6,15,5,3,257,574,1,10,0.58409999999999995,null,367933.92,571888.37,3512633.63,658740.74999999988,149461.07,371746.4,264596.80000000005,391513.12,686811.17999999993,1104631.8499999999,201179.58000000002,8281136.6699999999,null,null,257,440,0.58409999999999995,10]
[216,"Northfield                   ",0,0,0,0,0,0,1,0,0,0,0,0,0,1,1,0,0,null,442.67,799.51,8065.05,563.46,252.11,1485.67,445.11,599.57000000000005,2002.71,1834.9,0,16490.760000000002,null,null,0,0,0,0]
[217,"North Reading                ",43,193,6,925,546,668,5,87,22,10,3,1,311,2269,1.0820000000000001,3,0.13930000000000001,null,1479734.7820400004,2060182.29476,11438947.074419999,2767603.8058799999,460886.53436000005,1466092.8199999998,987663.12500000012,959918.18885999988,2917923.1769400002,3785830.5300000007,737658.46,29062440.792260002,null,null,311,2232.5,0.13930000000000001,3]
[218,"Norton                       ",46,0,155,826,519,633,33,85,21,33,9,10,733,2189,1,6,0.30840000000000001,null,1359811.6700000002,2002886.8900000001,11920728.649999999,2481790.7800000003,491273.81000000006,1455402.2799999998,947812.63,1184656.1100000001,2645552.0999999996,3934823.7699999996,704128.53,29128867.219999995,null,null,733,2376.5,0.30840000000000001,6]
[219,"Norwell                      ",14,138,14,867,509,634,0,82,21,8,1,0,150,2100,1.0649999999999999,2,7.22E-2,null,1346090.4874500001,1833646.2946499996,10008350.2587,2530701.9793500002,399767.67615000001,1355118.77,884030.18385000003,792999.69224999996,2659478.3926499998,3441856.5399999996,704128.53,25956168.805050001,null,null,150,2076.5,7.22E-2,2]
[220,"Norwood                      ",77,0,277,1413,811,1007,0,137,35,352,80,73,1552,3547,1.0620000000000001,8,0.44600000000000001,null,2432933.8246799996,3735169.9810199998,22830702.278039999,4385963.1562200002,959087.22984000016,2372232.8100000005,1738992.6514800002,2429771.3904600004,4636601.5069799991,6788621.4900000002,1173547.55,53483623.868720002,null,null,1552,3480,0.44600000000000001,8]
[221,"Oak Bluffs                   ",18,0,46,223,157,0,0,17,4,85,26,0,228,435,1,9,0.50109999999999999,null,289971.00999999995,460089.92000000004,2734719.79,549091.41999999993,122489.95000000001,259789.05000000002,202898.2,272302.76,550638.49,894527.61999999988,134119.72,6470637.9299999997,null,null,228,455,0.50109999999999999,9]
[222,"Oakham                       ",0,0,0,0,0,0,0,0,0,0,0,0,0,0,1,0,0,null,0,0,0,0,0,0,0,0,0,0,0,0,null,null,0,0,0,0]
[223,"Orange                       ",41,0,68,402,92,0,0,22,6,5,2,0,395,583,1,11,0.77759999999999996,null,384901.48999999993,646503.84000000008,4077890.0999999996,732206.46,181696.47000000003,332403.21000000002,277597.89,466088.6,678237.5,1233794.78,201179.58000000002,9212499.9199999981,null,null,395,508,0.77759999999999996,11]
[224,"Orleans                      ",0,0,18,131,0,0,0,6,1,6,0,0,74,149,1,9,0.51029999999999998,null,94706.760000000009,149824.09,903251.21,197758.1,38860.36,84561.07,63848.18,83654.929999999993,174094.83000000002,289958.42,33529.93,2114047.8800000004,null,null,74,145,0.51029999999999998,9]
[225,"Otis                         ",0,0,0,0,0,0,0,0,0,0,0,0,0,0,1,0,0,null,0,0,0,0,0,0,0,0,0,0,0,0,null,null,0,0,0,0]
[226,"Oxford                       ",36,0,103,532,425,447,1,59,15,25,7,6,713,1526,1,9,0.4945,null,973047.81,1512242,9320542.8099999987,1717542.06,395685.89,1003910.41,707793.42999999993,1062834.5900000001,1828000.44,2925578.4200000004,502948.95,21950126.810000002,null,null,713,1442,0.4945,9]
[227,"Palmer                       ",17,0,89,506,315,324,1,48,12,23,11,11,722,1244,1,10,0.6401,null,808837.93,1307862.97,8295554.8399999999,1424964.7899999998,357001.83999999997,812664.27000000025,601407.01,995248.25,1489493.75,2505984.6800000002,402359.16000000003,19001379.489999998,null,null,722,1128,0.6401,10]
[228,"Paxton                       ",0,0,0,0,0,0,0,0,0,0,0,0,0,0,1,0,0,null,0,0,0,0,0,0,0,0,0,0,0,0,null,null,0,0,0,0]
[229,"Peabody                      ",248,0,434,2359,1412,1228,402,232,54,425,183,160,3069,5959,1,9,0.52470000000000006,null,3881158.06,6139196.5900000008,39666604.280000001,6952213.4999999991,1669885.1799999997,4230454.92,2837711.85,4319103.8800000008,7693606.4500000002,11976997.600000001,1810616.22,91177548.530000001,null,null,3069,5849.5,0.52470000000000006,9]
[230,"Pelham                       ",0,0,8,44,11,0,0,2,1,2,0,0,34,63,1,5,0.25369999999999998,null,39913.919999999998,61021.070000000007,349219.42,75594.489999999991,15220.54,35292.450000000004,26558.539999999997,31871.97,72546.739999999991,117713.48999999999,33529.93,858482.55999999994,null,null,34,134,0.25369999999999998,5]
[231,"Pembroke                     ",25,0,195,942,591,800,58,102,25,34,7,5,564,2599,1.0409999999999999,4,0.2243,null,1655262.7763100001,2343729.2401800002,13621642.78437,3054849.1653,548217.63476999989,1750433.78,1124985.15258,1228816.9077000001,3287308.9207800003,4473059.7700000005,838248.25,33926554.381990001,null,null,564,2514.5,0.2243,4]
[232,"Pepperell                    ",0,0,0,0,0,0,0,0,0,0,0,0,0,0,1,0,0,null,0,0,0,0,0,0,0,0,0,0,0,0,null,null,0,0,0,0]
[233,"Peru                         ",0,0,0,0,0,0,10,0,0,0,0,0,0,10,1,0,0,null,4426.7,7995.1,80650.5,5634.6,2521.1000000000004,14856.7,4451.1000000000004,5995.7000000000007,20027.099999999999,18349,0,164907.6,null,null,0,0,0,0]
[234,"Petersham                    ",0,0,10,60,7,0,0,3,1,2,0,0,49,77,1,7,0.38890000000000002,null,50658.740000000005,79282.62,481388.33999999997,99224.38,21036.66,43658.80000000001,34031.82,48110.859999999993,89868.84,153051.73000000001,33529.93,1133842.72,null,null,49,126,0.38890000000000002,7]
[235,"Phillipston                  ",0,0,0,0,0,0,0,0,0,0,0,0,0,0,1,0,0,null,0,0,0,0,0,0,0,0,0,0,0,0,null,null,0,0,0,0]
[236,"Pittsfield                   ",145,0,400,2027,1245,1337,495,219,50,215,81,83,3565,5577,1,11,0.71120000000000005,null,3697958.98,6151371.3799999999,42045922.979999997,6362492.0599999996,1781569.2000000002,4120238.12,2840750.8500000006,5132097.16,7213605.370000001,11893527.66,1676496.5,92916030.260000005,null,null,3565,5012.5,0.71120000000000005,11]
[237,"Plainfield                   ",0,0,0,0,0,0,4,0,0,0,0,0,0,4,1,0,0,null,1770.68,3198.04,32260.2,2253.84,1008.44,5942.68,1780.44,2398.2800000000002,8010.84,7339.6,0,65963.040000000008,null,null,0,0,0,0]
[238,"Plainville                   ",22,0,90,447,107,0,0,25,6,29,0,0,211,655,1,6,0.31950000000000001,null,405386.32,599017.07999999996,3326499.91,828784.38,143137.42000000001,367137.76,261853.36,253995.74,770630.80999999994,1182562.9099999999,201179.58000000002,8340185.2700000005,null,null,211,660.5,0.31950000000000001,6]
[239,"Plymouth                     ",194,0,488,2701,1687,2043,675,303,69,216,51,83,2812,7691,1.038,7,0.37569999999999998,null,5005899.3027599994,7485910.8253200008,47611265.941560008,9016358.6919000037,1932485.6944200003,5625083.9700000007,3561829.1563200001,4789726.2324000001,10270744.55226,14336997.039999999,2313565.17,111949866.57694001,null,null,2812,7485.5,0.37569999999999998,7]
[240,"Plympton                     ",7,0,33,184,26,4,0,10,2,2,0,0,55,251,1.056,4,0.2301,null,160635.39360000001,228891.16800000001,1237419.2371200002,339809.00448000006,52043.101439999999,139873.67000000001,100262.12063999999,79666.730880000003,308578.81823999999,432499.99,67059.86,3146739.0944000003,null,null,55,239,0.2301,4]
[241,"Princeton                    ",0,0,0,0,0,0,1,0,0,0,0,0,0,1,1,0,0,null,442.67,799.51,8065.05,563.46,252.11,1485.67,445.11,599.57000000000005,2002.71,1834.9,0,16490.760000000002,null,null,0,0,0,0]
[242,"Provincetown                 ",16,0,8,33,26,23,0,4,1,13,6,0,82,98,1,10,0.63319999999999999,null,68527.73000000001,116631.78,776558.94,117981.56,34092.83,66138.649999999994,52650.090000000004,99158.44,123090.98999999999,220436.03999999998,33529.93,1708796.98,null,null,82,129.5,0.63319999999999999,10]
[243,"Quincy                       ",306,0,698,3592,2182,1816,1274,385,83,1093,227,272,5311,9715,1.052,10,0.55640000000000001,null,6751808.9877600009,10852575.429680001,73782902.375519991,11918809.063320002,3074687.2800800004,7494410.1800000006,5036086.0711200004,8135276.0407600002,13953594.564319998,20285354.630000003,2782984.19,164068488.81255996,null,null,5311,9544.5,0.55640000000000001,10]
[244,"Randolph                     ",61,0,215,1230,723,850,1,118,30,292,55,89,1972,3050,1.042,10,0.6845,null,2125758.3896599999,3495726.3266600007,22599910.428680003,3701564.1528600007,972604.67560000008,2060080.3499999999,1602968.9630600002,2753779.7505400004,3915802.0620600004,6374420.3100000005,1005897.9,50608513.309120007,null,null,1972,2881,0.6845,10]
[245,"Raynham                      ",0,0,0,0,0,0,0,0,0,0,0,0,0,0,1,0,0,null,0,0,0,0,0,0,0,0,0,0,0,0,null,null,0,0,0,0]
[246,"Reading                      ",35,249,18,1491,907,1138,11,144,37,37,7,9,462,3708,1.0389999999999999,3,0.1258,null,2332573.2864000001,3225887.7506699995,17939554.941850003,4344329.9711999996,720402.89980999974,2417643.6600000011,1553022.5894099995,1505774.14753,4603127.8419899996,6181634.7999999998,1240607.4099999999,46064559.298859999,null,null,462,3673,0.1258,3]
[247,"Rehoboth                     ",0,0,0,0,0,0,0,0,0,0,0,0,0,0,1,0,0,null,0,0,0,0,0,0,0,0,0,0,0,0,null,null,0,0,0,0]
[248,"Revere                       ",92,0,576,3040,1835,2451,7,308,79,1550,362,461,5880,7955,1.032,11,0.753,null,5744392.4769600006,9791766.6720000003,65437128.921119995,9732100.2091200016,2828469.2426400003,5658855.2999999998,4471991.7405599998,8310686.7945600003,10551098.546399999,17792224.75,2648864.4700000002,142967579.12336001,null,null,5880,7809,0.753,11]
[249,"Richmond                     ",0,0,7,52,22,32,7,4,1,0,0,0,51,120,1,6,0.34110000000000001,null,72437,112830.36000000002,700725.25,130045.12,28607.320000000007,83470.250000000015,53099.13,72814.42,146253.62000000002,219641.34999999998,33529.93,1653453.7499999998,null,null,51,149.5,0.34110000000000001,6]
[250,"Rochester                    ",20,0,58,352,68,4,7,19,5,6,0,0,129,499,1,5,0.2671,null,305471.89,439070.68000000005,2414514.15,627370.07999999996,102026.43000000001,284435.46000000002,193041.83000000002,167758.39999999999,587681.55000000005,874075.74,167649.65,6163095.8600000003,null,null,129,483,0.2671,5]
[251,"Rockland                     ",58,0,152,836,578,608,10,85,22,150,50,47,1159,2213,1.0640000000000001,9,0.51759999999999995,null,1534279.2539199998,2425987.6278400007,15182324.421600003,2707460.3584000003,646852.17127999989,1481085.1900000002,1124927.1829600001,1735486.7717600001,2889427.0748000005,4383483.97,737658.46,34848972.482560009,null,null,1159,2239,0.51759999999999995,9]
[252,"Rockport                     ",21,0,34,201,161,180,0,22,6,2,0,2,237,587,1.0329999999999999,6,0.3296,null,377083.66518999997,566264.8989599999,3374515.8615699997,670837.4206699999,140975.80326000002,384099.24000000005,268134.11587999994,359301.07636000001,719616.81696999993,1067571.6399999999,201179.58000000002,8129580.1188599998,null,null,237,719,0.3296,6]
[253,"Rowe                         ",6,0,2,12,10,6,8,1,0,0,0,0,41,41,1,10,0.64570000000000005,null,24859.41,50096.17,366688.20999999996,40053.69,15657.57,32987.03,22882.170000000002,49002.94,54196.979999999996,94942.65,0,751366.82,null,null,41,63.5,0.64570000000000005,10]
[254,"Rowley                       ",0,0,0,0,0,0,6,0,0,0,0,0,0,6,1.0389999999999999,0,0,null,2759.6047799999997,4984.1453399999991,50277.521699999998,3512.6096400000001,1571.65374,8914.02,2774.8157399999996,3737.71938,12484.894139999999,11009.400000000001,0,102026.38446,null,null,0,0,0,0]
[255,"Royalston                    ",0,0,0,0,0,0,0,0,0,0,0,0,0,0,1,0,0,null,0,0,0,0,0,0,0,0,0,0,0,0,null,null,0,0,0,0]
[256,"Russell                      ",0,0,0,0,0,0,19,1,0,0,0,0,0,19,1,0,0,null,11465.9,15190.69,163317.23000000001,20118.490000000002,5276.4000000000005,28652.200000000004,8457.09,11391.830000000002,41464.25,38761.479999999996,0,344095.56,null,null,0,0,0,0]
[257,"Rutland                      ",0,0,0,0,0,0,0,0,0,0,0,0,0,0,1,0,0,null,0,0,0,0,0,0,0,0,0,0,0,0,null,null,0,0,0,0]
[258,"Salem                        ",167,0,291,1573,1008,772,474,165,36,401,122,149,2676,4202,1,10,0.64880000000000004,null,2803825.3100000005,4619139.8900000006,31481435.369999997,4900297.0600000005,1330842.43,3172605.94,2126528.6500000004,3639298.17,5655971.7300000004,8998620.1199999992,1207077.48,69935642.150000006,null,null,{"$f":"O267","v":2676},4124.5,{"$f":"S267","v":0.64880000000000004},{"$f":"R267","v":10}]
[259,"Salisbury                    ",0,0,0,0,0,0,2,0,0,0,0,0,0,2,1,0,0,null,885.34,1599.02,16130.1,1126.92,504.22,2971.34,890.22,1199.1400000000001,4005.42,3669.8,0,32981.520000000004,null,null,0,0,0,0]
[260,"Sandisfield                  ",0,0,0,0,0,0,0,0,0,0,0,0,0,0,1,0,0,null,0,0,0,0,0,0,0,0,0,0,0,0,null,null,0,0,0,0]
[261,"Sandwich                     ",77,0,150,798,547,742,0,87,22,24,7,5,659,2276,1,5,0.28760000000000002,null,1396776.12,2025362.4200000002,11770872.529999997,2542891.83,480892.48999999993,1499948.9999999998,967965.62,1144190.94,2710703.3700000006,3974687.4499999997,737658.46,29251950.23,null,null,659,2291.5,0.28760000000000002,5]
[262,"Saugus                       ",53,0,172,1060,684,872,15,110,28,163,45,60,1420,2830,1,9,0.52270000000000005,null,1836795.1500000001,2881301.9999999995,18087589.079999998,3234692.23,763873.87000000011,1918105.03,1345159.3,2072235.92,3463245.0499999993,5543618.3600000003,938838.04,42085454.029999994,null,null,1420,2716.5,0.52270000000000005,9]
[263,"Savoy                        ",1,0,4,16,15,3,1,1,0,0,0,0,25,40,1,10,0.63290000000000002,null,22769.14,42139.37999999999,258994.09,41094.289999999994,11529.3,24060.160000000003,18928.690000000002,31010.71,46048.81,79904.83,0,576479.4,null,null,25,39.5,0.63290000000000002,10]
[264,"Scituate                     ",82,0,237,1084,612,788,1,106,27,11,3,0,389,2763,1.04,3,0.1421,null,1733757.0640000005,2414764.5079999994,13391599.707200002,3266945.8536,539489.55839999998,1772788.7699999998,1151834.3512000002,1103348.1472,3404415.1024000002,4611348.8499999996,905308.11,34295600.022,null,null,389,2737,0.1421,3]
[265,"Seekonk                      ",24,0,159,842,496,558,0,80,21,39,14,5,472,2067,1,4,0.2316,null,1269104.32,1801891.94,10194137.5,2367894.9300000002,417574.32999999996,1326358.2700000003,853017.87,901076.34000000008,2467851.8200000003,3562499.0999999996,704128.53,25865534.950000003,null,null,472,2038,0.2316,4]
[266,"Sharon                       ",30,214,19,1283,871,1200,0,136,35,83,7,17,484,3495,1.046,3,0.1416,null,2224686.1878400007,3087589.7559000007,17337827.87796,4086780.7538200007,693963.53276000021,2318779.2200000002,1497338.87472,1516296.4218200003,4387080.5966600003,5855724.5000000009,1173547.55,44179615.271480002,null,null,484,3419,0.1416,3]
[267,"Sheffield                    ",0,0,0,0,0,0,4,0,0,0,0,0,0,4,1,0,0,null,1770.68,3198.04,32260.2,2253.84,1008.44,5942.68,1780.44,2398.2800000000002,8010.84,7339.6,0,65963.040000000008,null,null,0,0,0,0]
[268,"Shelburne                    ",0,0,0,0,0,0,0,0,0,0,0,0,0,0,1,0,0,null,0,0,0,0,0,0,0,0,0,0,0,0,null,null,0,0,0,0]
[269,"Sherborn                     ",13,0,55,338,0,0,1,15,4,5,0,0,25,401,1.0409999999999999,2,6.3399999999999998E-2,null,249033.87041999996,341436.09096,1766799.3263699997,539802.28446,71844.167369999996,221000.77,147934.70906999998,78196.068299999984,480417.31518000003,655024.71,134119.72,4685609.0321299993,null,null,25,394.5,6.3399999999999998E-2,2]
[270,"Shirley                      ",0,0,0,0,0,0,0,0,0,0,0,0,0,0,1,0,0,null,0,0,0,0,0,0,0,0,0,0,0,0,null,null,0,0,0,0]
[271,"Shrewsbury                   ",201,0,358,2071,1481,1898,63,230,58,119,27,40,1172,5972,1,4,0.20169999999999999,null,3643805.6900000009,5153160.3,29481558.07,6689597.2800000003,1189735.8500000001,3981058.0300000003,2480150.3800000004,2648913.02,7213011.7799999993,10207987.65,1944735.94,74633713.99000001,null,null,1172,5810.5,0.20169999999999999,4]
[272,"Shutesbury                   ",9,0,14,73,19,0,0,4,1,1,0,0,43,111,1,7,0.36599999999999999,null,67987.48000000001,103753.97,586948.68999999994,136785.96,25469.18,61569.81,45259.86,49812.849999999991,128088.91000000002,203087.58,33529.93,1442294.2199999997,null,null,43,117.5,0.36599999999999999,7]
[273,"Somerset                     ",62,0,141,862,594,0,0,62,16,19,4,0,605,1628,1,7,0.37940000000000002,null,1014293.6600000001,1520119.4600000002,8452970.6799999997,1963091.97,376237.39,908824.95000000019,677381.4,750394.1399999999,1927248.8900000001,3017618.17,536478.88,21144659.59,null,null,605,1594.5,0.37940000000000002,7]
[274,"Somerville                   ",282,0,384,1970,1117,791,697,200,43,717,217,247,2883,5100,1.0580000000000001,10,0.57599999999999996,null,3605411.4342400008,5843422.0256000003,39804279.813119993,6404282.0980200004,1664225.0916400002,3959695.73,2690887.0787400003,4322455.6038199998,7499385.4703200012,10834709.639999999,1441786.99,88070540.975499988,null,null,2883,5005,0.57599999999999996,10]
[275,"Southampton                  ",33,0,56,284,75,0,60,19,4,5,0,0,105,492,1,4,0.22459999999999999,null,296772.02,424635.22,2530926.36,599768.95000000007,102704.49,329066.90000000002,192224.35,171638.68000000002,632304.93999999994,870500.36999999988,134119.72,6284662,null,null,105,467.5,0.22459999999999999,4]
[276,"Southborough                 ",8,0,142,654,393,6,1,47,12,72,6,0,113,1200,1.0349999999999999,2,9.1999999999999998E-2,null,757764.5273999999,1040283.8613000001,5295256.5982500007,1531750.0405499998,228480.61769999997,672336.54,468627.55874999991,301821.95969999995,1492723.2127499997,2039433.05,402359.16000000003,14230837.126399998,null,null,113,1228,9.1999999999999998E-2,2]
[277,"Southbridge                  ",58,0,164,842,531,598,1,83,21,147,81,109,1652,2165,1,12,0.86240000000000006,null,1493227.98,2599969.44,17490922.16,2518192.7200000002,764677.81999999983,1480591.26,1178906.9500000002,2311119.1399999997,2677487.94,4875996.96,704128.53,38095220.899999999,null,null,1652,1915.5,0.86240000000000006,12]
[278,"South Hadley                 ",61,0,115,684,446,472,111,72,17,52,13,23,697,1859,1,7,0.39079999999999998,null,1164501.3000000003,1749596.99,10867369.079999998,2105944.2399999998,447146.35000000003,1303031.2,826375.03,1099009.97,2338886.0700000003,3456200.7800000003,570008.81000000006,25928069.819999997,null,null,697,1783.5,0.39079999999999998,7]
[279,"Southwick                    ",0,0,0,0,0,0,0,0,0,0,0,0,0,0,1,0,0,null,0,0,0,0,0,0,0,0,0,0,0,0,null,null,0,0,0,0]
[280,"Spencer                      ",0,0,0,0,0,0,4,0,0,0,0,0,0,4,1,0,0,null,1770.68,3198.04,32260.2,2253.84,1008.44,5942.68,1780.44,2398.2800000000002,8010.84,7339.6,0,65963.040000000008,null,null,0,0,0,0]
[281,"Springfield                  ",1922,0,1833,10029,6434,7691,1378,1081,260,2465,675,1132,24125,28326,1,12,0.88200000000000001,null,19708005.449999999,35204133.280000001,246563865.24000001,32537014.100000001,10709721.780000001,20695110.460000001,15990921.800000001,33217297.120000001,36249632.359999999,66170369.490000002,8717781.8000000007,525763852.88000005,null,null,24125,27353,0.88200000000000001,12]
[282,"Sterling                     ",0,0,0,0,0,0,1,0,0,0,0,0,0,1,1,0,0,null,442.67,799.51,8065.05,563.46,252.11,1485.67,445.11,599.57000000000005,2002.71,1834.9,0,16490.760000000002,null,null,0,0,0,0]
[283,"Stockbridge                  ",0,0,0,0,0,0,0,0,0,0,0,0,0,0,1,0,0,null,0,0,0,0,0,0,0,0,0,0,0,0,null,null,0,0,0,0]
[284,"Stoneham                     ",48,0,206,972,543,673,7,93,24,72,17,21,671,2425,1.042,5,0.27960000000000002,null,1560141.8565199999,2253601.1508400002,12996568.22766,2895413.5796999992,532959.45079999999,1576982.02,1063970.5908400002,1195760.7710400003,3033003.08384,4252480.66,804718.32000000007,32165599.711240005,null,null,671,2400,0.27960000000000002,5]
[285,"Stoughton                    ",67,0,291,1359,857,1152,0,143,37,207,62,106,1858,3693,1.0469999999999999,9,0.50929999999999997,null,2513123.5544100003,3944249.4481499991,24707633.824109998,4431662.3211599998,1043393.6713199998,2492477.25,1838836.0069200001,2826399.0628499994,4716592.5870599989,7232045.1600000001,1240607.4099999999,56987020.295979992,null,null,1858,3648,0.50929999999999997,9]
[286,"Stow                         ",0,0,0,0,0,0,0,0,0,0,0,0,0,0,1.0529999999999999,0,0,null,0,0,0,0,0,0,0,0,0,0,0,0,null,null,0,0,0,0]
[287,"Sturbridge                   ",68,0,110,601,136,0,2,33,8,27,0,0,213,883,1,5,0.246,null,536442.76,775423.84000000008,4182651.2699999996,1109800.8600000001,177958.64,492751.58,340068.67999999993,280449.28000000003,1033841.63,1539811.6099999999,268239.44,10737439.589999998,null,null,213,866,0.246,5]
[288,"Sudbury                      ",17,0,273,1359,862,0,10,97,25,57,1,0,221,2513,1,2,8.8099999999999998E-2,null,1515866.11,2080199.2300000002,10520394.58,3056874.37,455023.95,1396085.38,939033.87,602129.53,2991148.9800000004,4233092.18,838248.25,28628096.43,null,null,221,2509,8.8099999999999998E-2,2]
[289,"Sunderland                   ",10,0,21,98,22,0,0,5,1,7,0,0,65,146,1,7,0.39629999999999999,null,89047.01999999999,141053.85999999999,809779.9600000002,179917.73,35152.960000000006,82203.679999999993,61267.119999999995,71524.7,169834.97,273333.58999999997,33529.93,1946645.5199999998,null,null,65,164,0.39629999999999999,7]
[290,"Sutton                       ",50,0,91,498,308,363,9,49,13,12,6,5,268,1294,1,4,0.2109,null,787535.13000000012,1117473.1599999999,6330198.9199999999,1461773.88,257390.36,840445.91000000015,531872.18999999994,556472.08000000007,1546298.1299999997,2211092.1800000002,435889.09,16076441.029999997,null,null,268,1271,0.2109,4]
[291,"Swampscott                   ",47,0,160,726,491,617,6,78,20,79,19,19,534,2024,1,5,0.25750000000000001,null,1251586.18,1801676.08,10412773.020000001,2296281.88,425546.2,1336727.3299999998,858136.39,970921.72,2444740.3899999997,3543959.6099999994,670598.6,26012947.399999999,null,null,534,2073.5,0.25750000000000001,5]
[292,"Swansea                      ",48,0,140,779,521,569,0,78,20,6,6,5,680,2033,1,6,0.34320000000000001,null,1258311.0899999999,1853923.1999999997,10845064.979999999,2298501.7199999997,451032.76,1311712.56,874458.67999999993,1081043.6400000001,2415732.2599999998,3634083.09,670598.6,26694462.580000002,null,null,680,1981.5,0.34320000000000001,6]
[293,"Taunton                      ",339,0,583,2995,2002,1523,802,316,71,310,93,150,5104,8075,1,10,0.65200000000000002,null,5306661.2799999993,8718370.4800000004,58868577.030000001,9273973.6999999993,2498087.09,5902295.879999998,4015321.84,6914226.8399999999,10522225.739999998,16996111.399999999,2380625.0299999998,131396476.31,null,null,5104,7828.5,0.65200000000000002,10]
[294,"Templeton                    ",0,0,0,0,0,0,0,0,0,0,0,0,0,0,1,0,0,null,0,0,0,0,0,0,0,0,0,0,0,0,null,null,0,0,0,0]
[295,"Tewksbury                    ",65,0,297,1269,813,833,4,125,32,123,11,6,830,3249,1,5,0.26100000000000001,null,2001041.53,2874614.65,16361628.349999998,3729768.1799999997,674963.98,2082939.5999999999,1355354.94,1469202.55,3896035.22,5672741.2599999988,1072957.76,41191248.019999996,null,null,830,3180.5,0.26100000000000001,5]
[296,"Tisbury                      ",8,0,39,213,104,0,0,14,4,75,19,0,191,360,1,10,0.62009999999999998,null,243528.26,386416.43999999994,2328066.4499999997,461013.56999999995,103626.95000000001,215620.09,169016.91999999998,233765.03000000003,453886.68,746882.06999999983,134119.72,5475942.1799999988,null,null,191,308,0.62009999999999998,10]
[297,"Tolland                      ",0,0,0,0,0,0,0,0,0,0,0,0,0,0,1,0,0,null,0,0,0,0,0,0,0,0,0,0,0,0,null,null,0,0,0,0]
[298,"Topsfield                    ",47,0,69,424,90,0,0,23,6,1,0,0,49,607,1.05,2,8.1100000000000005E-2,null,381019.87349999999,523427.92950000009,2675303.463,801736.84500000009,112008.54000000001,332685.26,230687.94,134695.58549999999,739131.02550000011,1003216.07,201179.58000000002,7135092.1120000007,null,null,49,604.5,8.1100000000000005E-2,2]
[299,"Townsend                     ",0,0,0,0,0,0,0,0,0,0,0,0,0,0,1,0,0,null,0,0,0,0,0,0,0,0,0,0,0,0,null,null,0,0,0,0]
[300,"Truro                        ",16,0,10,59,39,57,0,6,2,1,0,0,49,173,1,10,0.55059999999999998,null,106451.59000000001,159198.53999999998,942335.99,187685.63,38767.89,114124.96,75585.760000000009,98152.25,203220.56999999998,307921.69999999995,67059.86,2300504.7399999998,null,null,49,89,0.55059999999999998,10]
[301,"Tyngsborough                 ",31,0,105,607,429,462,0,63,16,96,12,6,487,1619,1,6,0.30020000000000002,null,1011870.57,1476967.37,8603977.129999999,1850266.41,356665.76999999996,1059812.24,698724.6,832315.43,1960596.4399999997,2898687.14,536478.88,21286361.979999997,null,null,487,1622.5,0.30020000000000002,6]
[302,"Tyringham                    ",0,0,1,7,8,8,0,1,0,0,0,0,0,24,1,0,0,null,13679.25,19188.239999999998,103169.65,26857.15,4124.93,15705.91,9463.2799999999988,8096.96,28946.28,38922.04,0,268153.68999999994,null,null,0,0,0,0]
[303,"Upton                        ",0,0,0,0,0,0,5,0,0,0,0,0,0,5,1,0,0,null,2213.35,3997.55,40325.25,2817.3,1260.5500000000002,7428.35,2225.5500000000002,2997.8500000000004,10013.549999999999,9174.5,0,82453.8,null,null,0,0,0,0]
[304,"Uxbridge                     ",62,0,103,631,427,484,14,65,16,20,9,7,539,1690,1,6,0.33460000000000001,null,1044856.33,1536635.27,9037531.7800000012,1908564.47,373598.16000000009,1109713.2599999998,727471.78000000014,891900.57000000007,2029741.0699999998,3018166.0999999996,536478.88,22214657.669999998,null,null,539,1611,0.33460000000000001,6]
[305,"Wakefield                    ",43,0,246,1346,820,872,11,129,33,72,15,16,664,3317,1.06,4,0.2006,null,2152957.0218000002,3037644.8196,17089416.608399998,4033756.1498000002,698761.47640000004,2130860.52,1440045.1284,1470553.4972000001,4215375.8289999999,5685675.8100000005,1106487.69,43061534.5506,null,null,664,3310.5,0.2006,4]
[306,"Wales                        ",4,0,17,70,19,0,3,4,1,2,0,0,60,111,1,10,0.59409999999999996,null,70452.320000000007,114463.35,702096.07000000007,136314.23999999999,30709.930000000004,65569.430000000008,49809.37,72002.209999999992,131875.00000000003,221552.89,33529.93,1628374.74,null,null,60,101,0.59409999999999996,10]
[307,"Walpole                      ",86,0,296,1501,810,1030,0,142,36,107,19,25,683,3680,1.048,4,0.18820000000000001,null,2356683.5967200003,3323295.0887999996,18686622.709280003,4429038.1176800001,758120.61144000001,2376021.39,1576977.0672799998,1590704.4944000002,4614851.3367999997,6272011.0199999996,1207077.48,47191402.9124,null,null,683,3629,0.18820000000000001,4]
[308,"Waltham                      ",57,0,427,2173,1219,1417,392,223,52,839,171,353,3073,5657,1.097,10,0.54879999999999995,null,4161061.2953300006,6673399.5717500001,44111726.637960009,7328695.1984300017,1849738.6591900005,4203604.3600000003,3092639.2094200002,4935686.508679999,8265202.7600900009,11763979.5,1743556.36,98129290.060850009,null,null,3073,5600,0.54879999999999995,10]
[309,"Ware                         ",66,0,81,464,315,367,4,48,12,11,6,2,751,1264,1,10,0.68520000000000003,null,817604.05,1331436.1400000001,8514384.0800000001,1421842.1499999997,364967.29,837367.38000000024,615708.84,1042327.79,1506875.59,2545134.7799999998,402359.16000000003,19400007.25,null,null,751,1096,0.68520000000000003,10]
[310,"Wareham                      ",65,0,183,874,585,488,144,90,21,19,1,3,1512,2307,1,11,0.72240000000000004,null,1517635.25,2535351.38,17001283.629999999,2629120.2600000002,731115.13,1607931.4799999997,1161310.1399999999,2104581.94,2879965.74,4891245,704128.53,37763668.480000004,null,null,1512,2093,0.72240000000000004,11]
[311,"Warren                       ",0,0,0,0,0,0,1,0,0,0,0,0,0,1,1,0,0,null,442.67,799.51,8065.05,563.46,252.11,1485.67,445.11,599.57000000000005,2002.71,1834.9,0,16490.760000000002,null,null,0,0,0,0]
[312,"Warwick                      ",1,0,3,26,9,19,0,2,1,0,2,0,28,58,1,10,0.57730000000000004,null,37819.56,58196.99,365717.57,63813.479999999989,15279.680000000004,38551.390000000014,27052.87,42589.39,67804.97,110526.57999999999,33529.93,860882.41,null,null,28,48.5,0.57730000000000004,10]
[313,"Washington                   ",0,0,0,0,0,0,4,0,0,0,0,0,0,4,1,0,0,null,1770.68,3198.04,32260.2,2253.84,1008.44,5942.68,1780.44,2398.2800000000002,8010.84,7339.6,0,65963.040000000008,null,null,0,0,0,0]
[314,"Watertown                    ",41,0,221,1068,548,763,40,103,26,280,70,95,1072,2661,1.0680000000000001,7,0.41060000000000002,null,1829842.1538000002,2768589.9529199996,16931719.335719999,3322891.4153999998,701551.55663999997,1825330.25,1295055.45432,1720779.93756,3559629.9451199993,5028382.42,871778.18,39855550.60148,null,null,1072,2611,0.41060000000000002,7]
[315,"Wayland                      ",64,156,14,1083,631,839,4,103,26,78,11,3,269,2681,1.0409999999999999,2,0.1017,null,1685210.7639899997,2326226.0223300001,12859006.371749999,3149408.5668600001,513462.17375999998,1755037.7699999998,1121311.5989099997,1050141.6976499998,3344118.0396600002,4443733.0399999991,871778.18,33119434.224909998,null,null,269,2645.5,0.1017,2]
[316,"Webster                      ",50,0,142,730,519,468,23,74,19,154,48,47,1341,1907,1,11,0.78739999999999999,null,1293385.68,2181905.6900000004,14397749.629999999,2216934.9400000004,627149.02000000014,1292764.42,993976.79,1821479.85,2367645.3999999994,4141709.7499999995,637068.67000000004,31971769.840000004,null,null,1341,1703,0.78739999999999999,11]
[317,"Wellesley                    ",90,0,250,1495,930,1460,0,161,41,76,15,10,362,4180,1.07,2,8.7999999999999995E-2,null,2695318.0695000007,3702581.2838000003,20559187.836799994,4999191.9400000013,812467.54220000003,2772070.47,1799447.7723000001,1704229.6600000001,5343000.0279000001,6872575.5099999988,1374727.1300000001,52634797.2425,null,null,362,4113.5,8.7999999999999995E-2,2]
[318,"Wellfleet                    ",0,0,15,101,0,0,0,5,1,0,0,0,51,116,1,9,0.52039999999999997,null,74457.930000000008,113120.20999999999,674573.11,156186.70000000001,28911.260000000002,65152.11,48286.060000000005,59523.820000000007,135150.64000000001,221356.62,33529.93,1610248.3900000004,null,null,51,98,0.52039999999999997,9]
[319,"Wendell                      ",0,0,0,0,0,0,0,0,0,0,0,0,0,0,1,0,0,null,0,0,0,0,0,0,0,0,0,0,0,0,null,null,0,0,0,0]
[320,"Wenham                       ",0,0,0,0,0,0,0,0,0,0,0,0,0,0,1.0389999999999999,0,0,null,0,0,0,0,0,0,0,0,0,0,0,0,null,null,0,0,0,0]
[321,"Westborough                  ",36,0,237,1404,899,1206,0,146,37,263,59,49,701,3764,1,4,0.18609999999999999,null,2326902.3299999996,3285702.6700000004,18676379.009999998,4295301.2800000012,754469.57,2508837.6799999997,1575276.3900000004,1639010.6700000002,4591760.4800000004,6479656.75,1240607.4099999999,47373904.239999995,null,null,701,3766,0.18609999999999999,4]
[322,"West Boylston                ",36,0,65,327,180,203,33,32,8,37,4,5,300,826,1,6,0.35289999999999999,null,517643.17999999993,768515.03,4666750.5100000007,950721.27,192178.51000000004,561488.82999999996,360647.69,454476.20999999996,1023589.4199999999,1514245.67,268239.44,11278495.76,null,null,{"$f":"O331","v":300},850,{"$f":"S331","v":0.35289999999999999},{"$f":"R331","v":6}]
[323,"West Bridgewater             ",15,0,98,451,258,308,7,43,11,35,4,11,431,1130,1,6,0.31180000000000002,null,705822.74999999988,1055375.0900000001,6284050.9600000009,1290303.8800000001,261286.23000000007,739534.51,494619.28000000009,633475.43000000005,1358052.3299999998,2059092.2100000002,368829.23,15250441.900000002,null,null,431,1382.5,0.31180000000000002,6]
[324,"West Brookfield              ",0,0,0,0,0,0,22,1,0,0,0,0,0,22,1,0,0,null,12793.91,17589.22,187512.38,21808.870000000003,6032.7300000000005,33109.21,9792.42,13190.54,47472.380000000005,44266.18,0,393567.83999999997,null,null,0,0,0,0]
[325,"Westfield                    ",162,0,308,1699,1112,1414,235,189,45,182,65,72,2608,4849,1,10,0.54,null,3150593.8600000003,5040018.6100000003,32935190.949999996,5488175.3199999994,1383845.73,3451771.7199999997,2354766.7199999997,3860841.25,6087313.379999999,9747379.8699999992,1508846.85,75008744.25999999,null,null,2608,4829.5,0.54,10]
[326,"Westford                     ",98,0,284,1642,1146,1537,0,180,46,123,10,11,514,4658,1.0089999999999999,2,0.1104,null,2845053.1748100002,3927213.9990599989,21803076.663429998,5269846.3772900002,870878.81737999991,3067054.4600000004,1901473.4555599997,1825391.4854999997,5631448.9519099994,7735683.6100000003,1542376.78,56419497.774939992,null,null,514,4657.5,0.1104,2]
[327,"Westhampton                  ",2,0,14,50,16,0,11,4,1,0,0,0,34,92,1,6,0.33660000000000001,null,58854.12,84814.33,528856.40999999992,115848.65,21996.650000000005,61837.33,38145.769999999997,43433.31,119508.13,173340.4,33529.93,1280165.0299999996,null,null,34,101,0.33660000000000001,6]
[328,"Westminster                  ",0,0,0,0,0,0,0,0,0,0,0,0,0,0,1,0,0,null,0,0,0,0,0,0,0,0,0,0,0,0,null,null,0,0,0,0]
[329,"West Newbury                 ",0,0,0,0,0,0,2,0,0,0,0,0,0,2,1,0,0,null,885.34,1599.02,16130.1,1126.92,504.22,2971.34,890.22,1199.1400000000001,4005.42,3669.8,0,32981.520000000004,null,null,0,0,0,0]
[330,"Weston                       ",36,0,174,714,451,653,0,78,20,53,4,9,189,2010,1.071,2,9.5399999999999999E-2,null,1303206.8622300001,1790001.44505,9910649.4360300004,2434299.7083299998,394093.55664000008,1320263.5599999998,864353.01330000011,804180.96675000002,2577435.9666299992,3323175.84,670598.6,25392258.954960003,null,null,189,1982,9.5399999999999999E-2,2]
[331,"Westport                     ",68,0,108,586,420,412,0,60,15,20,3,3,572,1560,1,7,0.39329999999999998,null,972422.16999999993,1454662.7,8594390.8299999982,1771461.59,360970.14,1002628.19,682244.86,881151.96000000008,1858773.55,2844534.2,502948.95,20926189.139999997,null,null,572,1454.5,0.39329999999999998,7]
[332,"West Springfield             ",90,0,275,1460,957,1138,107,154,38,302,92,66,2457,3982,1,10,0.62539999999999996,null,2636999.65,4309865.9999999991,28176509.859999999,4563004.51,1200863.8700000001,2781274.31,1993795.1199999999,3405783.91,4977510.5399999991,8248178.9800000004,1274137.3400000001,63567924.089999989,null,null,2457,3928.5,0.62539999999999996,10]
[333,"West Stockbridge             ",0,0,0,0,0,0,0,0,0,0,0,0,0,0,1,0,0,null,0,0,0,0,0,0,0,0,0,0,0,0,null,null,0,0,0,0]
[334,"West Tisbury                 ",0,0,0,0,0,0,0,0,0,0,0,0,0,0,1,0,0,null,0,0,0,0,0,0,0,0,0,0,0,0,null,null,0,0,0,0]
[335,"Westwood                     ",9,0,195,1096,669,927,1,113,29,20,1,1,276,2893,1.0589999999999999,2,9.6199999999999994E-2,null,1849435.5243600002,2533443.0524999993,13999035.806190003,3455690.7077699993,557763.10032000009,1887281.1000000003,1223761.8251400001,1145567.4254999999,3647070.9638700001,4767723.4400000013,972367.97,36039140.915650003,null,null,276,2868,9.6199999999999994E-2,2]
[336,"Weymouth                     ",76,0,445,2149,1276,1491,464,232,54,289,73,110,2664,5863,1.0449999999999999,8,0.45900000000000002,null,3927913.0093499995,6042475.7656999994,39035979.378549993,7020001.7354500005,1610371.3548999999,4265193.29,2839992.2781999991,4150584.3785999999,7900427.7264,11376695.369999999,1810616.22,89980250.507149994,null,null,2664,5804,0.45900000000000002,8]
[337,"Whately                      ",4,0,14,54,15,0,0,3,1,2,0,0,37,85,1,6,0.30330000000000001,null,53125.26,80588.009999999995,457498.98,104639,19883.3,47534.170000000006,35146.840000000004,39415.289999999994,98697.82,157204.57999999999,33529.93,1127263.1800000002,null,null,37,122,0.30330000000000001,6]
[338,"Whitman                      ",0,0,0,0,0,0,13,1,0,0,0,0,0,13,1,0,0,null,8809.880000000001,10393.629999999999,114926.93000000001,16737.73,3763.7400000000002,19738.18,5786.43,7794.4100000000008,29447.989999999998,27752.080000000002,0,245151,null,null,0,0,0,0]
[339,"Wilbraham                    ",0,0,0,0,0,0,0,0,0,0,0,0,0,0,1,0,0,null,0,0,0,0,0,0,0,0,0,0,0,0,null,null,0,0,0,0]
[340,"Williamsburg                 ",3,0,11,91,23,0,27,6,1,0,0,0,49,154,1,7,0.37980000000000003,null,93473.2,140068.29,901175.4800000001,184626.99000000002,36571.089999999997,111041.33000000003,63762.43,73605.09,205294.96999999997,287208.89,33529.93,2130357.6900000004,null,null,49,129,0.37980000000000003,7]
[341,"Williamstown                 ",0,0,0,0,0,0,0,0,0,0,0,0,0,0,1,0,0,null,0,0,0,0,0,0,0,0,0,0,0,0,null,null,0,0,0,0]
[342,"Wilmington                   ",85,0,237,1191,652,700,9,108,28,33,6,2,467,2832,1.0680000000000001,3,0.16980000000000001,null,1831236.6093600004,2567356.0899600009,14228105.5416,3470286.9604800004,579149.12327999994,1794888.5,1213387.2885599998,1160540.5125599999,3594431.5474800006,4776385.96,938838.04,36154606.173280001,null,null,467,2750.5,0.16980000000000001,3]
[343,"Winchendon                   ",72,0,113,513,310,347,0,50,13,8,7,5,776,1319,1,10,0.64190000000000003,null,853956.24000000011,1386203.99,8803939.129999999,1503031.35,378349.11000000004,858147.71,636479.09,1059873.51,1564686.5699999998,2650135.23,435889.09,20130691.019999996,null,null,776,1209,0.64190000000000003,10]
[344,"Winchester                   ",28,0,251,1601,1050,1427,3,169,43,115,9,14,354,4346,1.0509999999999999,2,8.2299999999999998E-2,null,2761488.2484400002,3781327.5593299996,20868127.199859999,5139685.4466099991,830057.91817999992,2860714.1099999994,1832695.5961500001,1698560.1446500001,5479045.4010499995,7167492.8899999997,1441786.99,53860981.504270002,null,null,354,4301.5,8.2299999999999998E-2,2]
[345,"Windsor                      ",0,0,0,0,0,0,4,0,0,0,0,0,0,4,1,0,0,null,1770.68,3198.04,32260.2,2253.84,1008.44,5942.68,1780.44,2398.2800000000002,8010.84,7339.6,0,65963.040000000008,null,null,0,0,0,0]
[346,"Winthrop                     ",58,0,143,735,433,613,4,75,19,139,23,30,858,1957,1.0329999999999999,8,0.44269999999999998,null,1293107.29268,1988203.3961100003,12221964.529589999,2311141.3436299996,510548.07092999999,1318963.3499999999,931811.69991999969,1329470.9070300001,2462868.3319799998,3713546.54,637068.67000000004,28718694.131870005,null,null,858,1938,0.44269999999999998,8]
[347,"Woburn",142,0,378,1660,1001,1259,19,169,43,306,59,104,1878,4388,1.06,8,0.44169999999999998,null,2980243.2014000006,4564437.9736000001,27909273.1906,5367804.3097999999,1169415.6168000002,2934868.34,2130652.0566000002,2972896.9244000004,5690589.5314000007,8330182.209999999,1441786.99,65492150.344600007,null,null,1878,4252,0.44169999999999998,8]
[348,"Worcester                    ",1069,0,2073,9807,5846,6244,2047,1035,240,4687,1341,1719,20012,26552,1,11,0.77759999999999996,null,18536811.420000002,31815185.869999997,220155170.94999996,31551865.190000001,9424912.1099999994,20198761.919999998,14516569.99,27216820.809999999,35966677.859999999,60544919.289999984,8047183.2000000002,477974878.60999995,null,null,20012,25734.5,0.77759999999999996,11]
[349,"Worthington                  ",16,0,12,44,28,18,10,4,1,0,0,0,31,120,1,8,0.45590000000000003,null,71337.81,107620.20999999999,645331.06000000006,132608.95000000001,26429.85,81499.900000000009,50223.670000000006,57183.89,148992.38,214032.36,33529.93,1568790.0099999995,null,null,31,68,0.45590000000000003,8]
[350,"Wrentham                     ",8,0,131,657,133,0,0,36,9,29,2,0,158,925,1.034,3,0.16439999999999999,null,583210.86647999997,817023.75457999995,4315156.3925800007,1220021.8217,182182.61072000003,513531.02999999997,358676.44296000001,254609.68873999998,1122861.3602800001,1581335.5999999996,301769.37,11250378.938039999,null,null,158,961,0.16439999999999999,3]
[351,"Yarmouth                     ",0,0,0,0,0,0,0,0,0,0,0,0,0,0,1,0,0,null,0,0,0,0,0,0,0,0,0,0,0,0,null,null,0,0,0,0]
[406,"Northampton Smith            ",0,0,0,0,0,0,115,6,0,0,0,24,254,115,1,8,0.44879999999999998,null,92186.55,192451.34999999998,1955836.5500000003,126087.59999999999,78606.69,183786.07000000004,91078.670000000013,266201.13,259039.16999999998,396250.86,0,3641524.6399999997,null,null,254,566,0.44879999999999998,8]
[600,"Acton Boxborough             ",49,50,241,1830,1249,1750,0,199,51,229,43,23,637,5120,1.0640000000000001,3,0.12509999999999999,null,3324581.8586400002,4606954.0372799998,25819854.079599999,6125934.7055200012,1031256.5491200001,3411377.0100000002,2232448.8048800002,2207517.5611999999,6581301.4355199998,8584443.7699999996,1710026.43,65635696.241760008,null,null,637,5091,0.12509999999999999,3]
[603,"Hoosac Valley",56,0,82,457,301,278,0,44,11,7,2,1,670,1146,1,10,0.65080000000000005,null,741394.67,1201130.8500000001,7587854.5100000007,1310164.2499999998,327942.57000000007,737168.82000000007,550750.75,910869.6100000001,1360323.0599999998,2304123.31,368829.23,17400551.630000003,null,null,670,1029.5,0.65080000000000005,10]
[605,"Amherst Pelham               ",0,0,0,0,406,839,29,50,12,0,28,62,462,1274,1,6,0.35049999999999998,null,801688.18,1189597.0799999998,7647742.7399999993,1253190.6399999999,301018.2,1015998.6500000001,613294.58000000007,942827.60000000009,1605483.3699999999,2305326.0100000002,402359.16000000003,18078526.210000001,null,null,462,1318,0.35049999999999998,6]
[610,"Ashburnham Westminster       ",79,0,156,877,558,651,0,87,22,49,1,3,686,2282,1,6,0.30020000000000002,null,1407123.2500000002,2061289.58,11985218.99,2583034.42,495373.75,1478424.3599999999,973994.21,1163808.6599999999,2718345.56,4041841.26,737658.46,29646112.5,null,null,686,2285.5,0.30020000000000002,6]
[615,"Athol Royalston              ",65,0,135,662,412,504,0,67,17,25,2,11,1096,1746,1,11,0.71519999999999995,null,1146688.99,1900771.96,12348334.699999999,1981664.5,532471.90999999992,1156437.6500000001,873071.51,1556241.6600000001,2079630.0399999998,3613674.0600000005,570008.81000000006,27758995.789999995,null,null,1096,1532.5,0.71519999999999995,11]
[616,"Ayer Shirley",55,0,130,661,392,501,0,66,17,54,10,8,612,1712,1,7,0.36799999999999999,null,1072901.3700000001,1598752.8399999999,9518395.0999999996,1953141.5399999998,395407.16000000003,1121213.42,751670.39,971156.74,2050809.73,3116013.2700000005,570008.81000000006,23119470.369999997,null,null,612,1663,0.36799999999999999,7]
[618,"Berkshire Hills              ",59,0,49,289,217,305,28,35,9,33,12,32,528,918,1,8,0.46339999999999998,null,595440.72,947504.62,6120016.4000000004,1025009.7400000001,256532.75,650710.47000000009,445596.99,721159.72,1141260.8399999999,1822794.13,301769.37,14027795.750000002,null,null,528,1139.5,0.46339999999999998,8]
[620,"Berlin Boylston              ",13,0,86,418,218,275,0,39,10,14,5,8,210,1004,1,4,0.1978,null,614654.78000000014,869017.6399999999,4909272.7799999993,1155377.1199999999,199853.84,644772.92999999993,411235.37999999995,424924.92000000004,1196626.1200000003,1718560.9200000002,335299.3,12479595.730000002,null,null,210,1061.5,0.1978,4]
[622,"Blackstone Millville         ",77,0,106,608,382,446,0,60,15,27,3,4,578,1581,1,7,0.38650000000000001,null,982813.42999999993,1474695.57,8754283.6500000004,1789454.56,365172.78,1025568.82,692509.01,900003.19,1880764.02,2874224.9599999995,502948.95,21242438.940000001,null,null,578,1495.5,0.38650000000000001,7]
[625,"Bridgewater Raynham          ",149,0,440,2256,1333,1505,0,216,55,108,22,24,1751,5609,1,6,0.32240000000000002,null,3476132.02,5093464.3400000008,29641621.270000003,6420868.75,1229147.8299999998,3609945.8699999996,2393801.8099999996,2857921.7,6689755.7400000002,9990817.3100000005,1844146.15,73247622.790000007,null,null,1751,5431,0.32240000000000002,6]
[632,"Chesterfield Goshen",5,0,16,86,12,0,0,4,1,0,0,0,57,117,1,8,0.4254,null,71855.930000000008,114617.59,671763.9,144083.03000000003,29163.160000000003,65073.389999999992,49423.41,62882.61,133274.46,220996.3,33529.93,1596663.71,null,null,57,134,0.4254,8]
[635,"Central Berkshire            ",51,0,112,537,353,488,0,58,15,6,1,5,731,1516,1,8,0.47560000000000002,null,960501.65,1489393.73,9216133.1600000001,1697171.94,387084.30000000005,1005779.1,699026.80999999982,1050471.8500000001,1800350.5200000003,2873208.8099999996,502948.95,21682070.819999997,null,null,731,1537,0.47560000000000002,8]
[640,"Concord Carlisle             ",0,0,0,0,0,1335,0,52,13,0,0,5,128,1335,1.06,2,9.8000000000000004E-2,null,851933.38440000021,1169587.8456000001,7639055.5614,1317989.3720000002,260487.19840000002,1158693.6000000001,645011.272,924888.07520000008,1704203.6261999998,2098556.7000000002,435889.09,18206295.725200001,null,null,128,1306,9.8000000000000004E-2,2]
[645,"Dennis Yarmouth              ",81,0,259,1179,788,936,0,123,32,231,61,82,1851,3203,1,10,0.62909999999999999,null,2112672.0700000003,3414346,21779240.109999999,3682547.32,931806.47000000009,2157743.8500000006,1577432.0399999998,2601618.41,3919791.5999999992,6514139.1300000008,1072957.76,49764294.759999998,null,null,1851,2942.5,0.62909999999999999,10]
[650,"Dighton Rehoboth             ",54,0,198,1035,631,501,185,101,24,12,7,3,623,2577,1,5,0.24809999999999999,null,1576259.2499999998,2252873.5700000003,13409489.800000001,2954576.0799999996,544567.4,1763143.55,1065295.94,1151326.1299999999,3237655.2100000004,4543428.8599999994,804718.32000000007,33303334.109999999,null,null,623,2511.5,0.24809999999999999,5]
[655,"Dover Sherborn               ",0,0,0,0,491,698,0,46,12,0,2,3,76,1189,1.06,2,6.6000000000000003E-2,null,757066.17220000003,1030766.4084,5903338.3471999997,1229873.9569999997,229131.24299999999,874854.31,541988.80140000011,624380.3012000001,1534346.0037999998,1933453.14,402359.16000000003,15061557.844200002,null,null,76,1151,6.6000000000000003E-2,2]
[658,"Dudley Charlton              ",46,0,204,1341,838,869,0,127,33,98,15,9,1298,3275,1,7,0.38340000000000002,null,2064559.02,3101085.1600000006,18502360.550000001,3751612.6100000008,777767.58000000007,2118274.9899999998,1449841.2100000002,1923486.9,3924241.1399999997,6047587.5499999989,1106487.69,44767304.399999999,null,null,1298,3385.5,0.38340000000000002,7]
[660,"Nauset                       ",0,0,0,0,552,639,0,46,12,0,7,9,560,1191,1,7,0.39550000000000002,null,753803.99,1153631.19,7233386.46,1170503.3,301406.65000000002,871587.35000000021,579974.13,934256.30999999994,1455456.67,2235697.19,402359.16000000003,17092062.400000002,null,null,560,1416,0.39550000000000002,7]
[662,"Farmington River",14,0,16,84,41,57,12,9,2,0,0,0,61,217,1,10,0.54220000000000002,null,136056.59,199256.81,1233946.6800000002,252058.22999999998,50265.460000000006,150439.32000000004,94036.319999999992,120760.38,269915.33999999997,396303.28999999992,67059.86,2970098.28,null,null,61,112.5,0.54220000000000002,10]
[665,"Freetown Lakeville           ",23,0,191,1140,692,746,0,108,28,25,8,2,790,2781,1,5,0.2858,null,1713905.11,2468491.73,14159369.460000001,3175795.7100000004,584857.05000000005,1780816.7400000005,1165464.3599999999,1321501.73,3308714.6300000004,4868161.3099999996,938838.04,35485915.870000005,null,null,790,2764.5,0.2858,5]
[670,"Frontier                     ",0,0,0,0,166,322,0,19,5,0,2,2,195,488,1,6,0.30759999999999998,null,305814.83,455537.56,2890662.42,473702.04000000004,115257.36000000002,374772.8,234096.68,368980.45999999996,593981.33999999985,878950.47000000009,167649.65,6859405.6099999994,null,null,195,634,0.30759999999999998,6]
[672,"Gateway                      ",69,0,72,304,202,133,40,30,7,10,3,0,399,786,1,9,0.53310000000000002,null,499160.06999999995,789917.58999999985,4986164.88,905414.38,212483.96,523414.65999999992,362433.14000000007,543750.52,969884.88,1544301.6599999997,234709.51,11571635.25,null,null,399,748.5,0.53310000000000002,9]
[673,"Groton Dunstable             ",34,130,19,889,567,726,0,88,23,31,4,6,271,2283,1,2,0.11849999999999999,null,1380833.7899999998,1907299.4500000002,10568809.15,2561088.9499999997,423662.85999999993,1490841.7200000002,920868.87999999977,888418.2300000001,2724208.1999999997,3792722.5199999996,771188.39,27429942.139999997,null,null,271,2286,0.11849999999999999,2]
[674,"Gill Montague                ",41,0,57,389,241,239,0,36,9,35,7,7,559,947,1,10,0.61939999999999995,null,615955.64999999991,1002224.93,6354886.4399999995,1085151.2100000002,274023.82000000007,617437.95000000007,459750.32,762386.96,1135579.81,1916622.7999999998,301769.37,14525789.26,null,null,559,902.5,0.61939999999999995,10]
[675,"Hamilton Wenham              ",8,0,136,676,377,427,0,63,16,15,2,3,183,1620,1.044,2,0.1116,null,1021934.51712,1408485.3202799999,7709135.9842799995,1942574.3287199999,311359.77251999994,1028634.73,670151.11679999996,605450.8976400001,2009943.3250799996,2691478.64,536478.88,19935627.51244,null,null,183,1640.5,0.1116,2]
[680,"Hampden Wilbraham            ",82,0,184,968,649,907,43,108,27,28,5,2,741,2792,1,5,0.26129999999999998,null,1712319.9800000002,2462843.0500000003,14438401.990000002,3120980.7600000002,584771.16,1878140.53,1181736.3899999999,1377221.21,3367411.09,4860536.5300000012,905308.11,35889670.800000012,null,null,741,2836,0.26129999999999998,5]
[683,"Hampshire                    ",0,0,0,0,227,353,0,23,6,0,4,8,163,580,1,4,0.23899999999999999,null,359650.11,513830.68999999994,3121434.5900000003,571764.17000000004,123995.33,435074.35,265766.98000000004,369017.55000000005,710873.05999999994,1006813.97,201179.58000000002,7679400.3799999999,null,null,163,682,0.23899999999999999,4]
[685,"Hawlemont                    ",12,0,12,58,16,0,0,3,1,4,1,0,53,92,1,10,0.62719999999999998,null,58691.920000000006,96892.580000000016,585659.34000000008,111533.63,25873.72,52395.200000000004,41870.78,61416.829999999994,106897.66,184735.24,33529.93,1359496.8299999998,null,null,53,84.5,0.62719999999999998,10]
[690,"King Philip                  ",0,0,0,0,701,1196,0,74,19,0,5,3,356,1897,1.034,4,0.19350000000000001,null,1195133.1004800003,1677639.49122,10040002.033380002,1910347.7260999999,391279.70376,1427432.42,877149.54139999999,1151489.62522,2387237.6873400002,3187716.6700000004,637068.67000000004,24882496.668900006,null,null,356,1840,0.19350000000000001,4]
[695,"Lincoln Sudbury              ",0,0,0,0,0,1536,0,60,15,0,0,3,157,1536,1,2,0.1057,null,925637.96000000008,1271623.0499999998,8315554.6399999987,1431650.46,283928.58999999997,1333020.07,700934.21,1009297.15,1849439.85,2418588.9900000002,502948.95,20042623.919999998,null,null,157,1486,0.1057,2]
[698,"Manchester Essex",34,0,73,394,262,428,0,45,12,2,2,1,215,1174,1.0429999999999999,3,0.17849999999999999,null,743621.94220999989,1043514.4701800001,5950230.70474,1354618.1425699997,237476.99864000003,783408.6,506159.80631999997,544673.59302999999,1455087.7980799996,1974129.9799999997,402359.16000000003,14995281.195770001,null,null,215,1204.5,0.17849999999999999,3]
[700,"Marthas Vineyard             ",0,0,0,0,0,470,338,35,5,0,0,110,366,808,1,8,0.46100000000000002,null,523976.28,805955.08000000007,6809080.3599999994,807052.18,245511.61000000002,941794.27,423611.76,770840.48,1337117.08,1661111.2200000004,167649.65,14493699.970000001,null,null,366,794,0.46100000000000002,8]
[705,"Masconomet                   ",0,0,0,0,583,1030,0,63,16,0,1,2,183,1613,1.05,2,0.1179,null,1022618.2365,1407316.2390000003,8290291.8314999994,1647900.1980000001,318444.58800000005,1214581.3600000001,741785.8665,915724.61400000018,2059707.9720000001,2645352,536478.88,20800201.785499997,null,null,183,1552,0.1179,2]
[710,"Mendon Upton                 ",56,0,160,787,445,605,0,78,20,59,6,13,362,2025,1,3,0.17280000000000001,null,1235504.0900000001,1736453.44,9771662.2399999984,2309023.8400000003,394437.46,1318294.4800000002,828347.03999999992,836387.54,2422822.9400000004,3433930.88,670598.6,24957462.550000001,null,null,{"$f":"O395","v":362},2094.5,{"$f":"S395","v":0.17280000000000001},{"$f":"R395","v":3}]
[712,"Monomoy",24,0,99,570,441,532,0,64,16,37,19,12,781,1654,1,8,0.43590000000000001,null,1053843.6800000002,1629802.4400000002,10052839.789999999,1855007.5200000003,423513.08000000007,1104932.5899999999,767364.2,1142416.76,1990226.0100000002,3150233.27,536478.88,23706658.220000003,null,null,781,1791.5,0.43590000000000001,8]
[715,"Mount Greylock               ",54,0,78,395,283,303,0,41,11,20,5,3,368,1086,1,6,0.31240000000000001,null,673635.80999999994,995502.03,5823960.0700000003,1224282.0499999998,242430.46,702789.44,469396.93,580354.95000000007,1294679.3,1947448.6800000002,368829.23,14323308.950000001,null,null,368,1178,0.31240000000000001,6]
[717,"Mohawk Trail                 ",58,0,52,317,223,170,0,30,8,5,0,1,394,791,1,9,0.50739999999999996,null,503938.51999999996,790976.79,4832130.91,904898.22000000009,208202.49000000002,498807.27999999997,363609.03,542480.15,937522.56000000017,1530684.11,268239.44,11381489.5,null,null,394,776.5,0.50739999999999996,9]
[720,"Narragansett                 ",20,0,106,537,329,356,0,52,13,9,1,2,654,1338,1,8,0.45669999999999999,null,850389.62999999989,1318434.9700000002,8089729.879999999,1529715.6100000003,343396.44999999995,864894.50999999989,611949.21000000008,903214.16999999993,1590187.09,2552931.1899999995,435889.09,19090731.800000001,null,null,654,1432,0.45669999999999999,8]
[725,"Nashoba                      ",71,0,221,1180,785,885,0,120,31,49,10,15,444,3107,1.0429999999999999,3,0.1459,null,1967020.7762799996,2736480.69674,15158978.990469998,3677709.8361499999,614102.32736999996,2000312.0299999998,1308813.8484400001,1262133.8828,3869156.3765400001,5216939.16,1039427.83,38851075.754790001,null,null,444,3043,0.1459,3]
[728,"New Salem Wendell            ",15,0,12,79,14,0,0,4,1,0,0,0,68,113,1,10,0.5484,null,71614.180000000008,118664.45,726943.11,139794.96000000002,32037.630000000005,63476.159999999996,50987.939999999995,77275.09,129373.81,227010.41999999998,33529.93,1670707.68,null,null,68,124,0.5484,10]
[730,"Northboro Southboro          ",0,0,0,0,0,1245,0,49,12,0,0,28,184,1245,1,3,0.15079999999999999,null,757412.32000000007,1053117.83,6948422.4699999988,1168995.25,239965.12000000002,1085547.99,577167.35000000009,854308.85,1509100.96,1997860.8500000003,402359.16000000003,16594258.149999997,null,null,184,1220,0.15079999999999999,3]
[735,"North Middlesex              ",90,0,225,1235,739,852,0,119,31,59,3,10,987,3096,1,6,0.32669999999999999,null,1920371.16,2815856.6999999997,16429682.02,3530836.5500000003,681054.55,1998050.02,1325209.3700000001,1601546.3399999999,3688996.68,5519497.6999999993,1039427.83,40550528.920000002,null,null,987,3021,0.32669999999999999,6]
[740,"Old Rochester                ",0,0,0,0,393,536,44,38,9,0,0,1,272,973,1,5,0.25659999999999999,null,596060.9,860324.9,5352467,951175.52,212099.09000000003,751182.55,444398.01000000007,618807.18000000005,1225433.4500000002,1706279.54,301769.37,13019997.51,null,null,272,1060,0.25659999999999999,5]
[745,"Pentucket                    ",99,0,179,882,544,633,0,87,22,4,5,2,429,2288,1,4,0.19339999999999999,null,1383835.63,1956603.3800000004,10946974.34,2591265.5900000003,445574.77000000008,1462867.4499999997,930152.7699999999,943853.30000000016,2708809.4499999997,3874546.6699999995,737658.46,27982141.809999999,null,null,429,2218,0.19339999999999999,4]
[750,"Pioneer                      ",26,0,41,226,153,136,0,22,6,3,2,1,251,569,1,7,0.41349999999999998,null,359700.30999999994,544927.38,3262466.66,652025.75999999989,138526.5,361833.52,253083.51,345681.86,676500.10000000009,1062225.8700000001,201179.58000000002,7858151.0500000017,null,null,251,607,0.41349999999999998,7]
[753,"Quabbin                      ",132,0,132,758,458,537,0,74,19,3,1,2,880,1951,1,7,0.4148,null,1223242.5800000003,1872484.0199999998,11324582.079999998,2210180.98,476433.88,1261031.6499999999,873280.82,1222685.56,2307833.04,3631619.25,637068.67000000004,27040442.529999997,null,null,880,2121.5,0.4148,7]
[755,"Ralph C Mahar                ",0,0,0,0,203,348,0,21,6,0,1,2,339,551,1,10,0.62660000000000005,null,359820.7,584307.44999999995,3919424.7199999997,532074.84,163181.22,422888.63,291120.76,555607.5,669120.55999999982,1105949.8699999999,201179.58000000002,8804675.8299999982,null,null,339,541,0.62660000000000005,10]
[760,"Silver Lake                  ",35,0,0,0,544,748,324,66,13,0,13,15,504,1634,1.0369999999999999,5,0.29580000000000001,null,1043222.4251700001,1518082.0534399999,10548626.99357,1676031.18405,404085.43601,1457391.7200000002,786595.40260000003,1140388.40224,2387517.5892099999,3001295.22,435889.09,24399125.516289998,null,null,504,1704,0.29580000000000001,5]
[763,"Somerset Berkley",0,0,0,0,0,974,24,39,10,0,0,5,297,998,1,5,0.29520000000000002,null,615767.25000000012,888670.1,6090710.879999999,930972.58000000007,216338.05000000005,886329.83,480129.15,782876.8600000001,1225139.55,1683087.0100000002,335299.3,14135320.560000001,null,null,297,1006,0.29520000000000002,5]
[765,"Southern Berkshire           ",40,0,48,236,148,186,7,24,6,15,3,8,291,645,1,9,0.5,null,407449.70000000007,636981.87,3942923.0200000005,726014.2699999999,165677.89000000001,430359.86000000004,297320.15999999997,438520.74,776386.69,1229321.6600000001,201179.58000000002,9252135.4400000013,null,null,291,582,0.5,9]
[766,"Southwick Tolland Granville",18,0,99,447,321,319,86,50,12,38,8,5,515,1281,1,7,0.39369999999999999,null,806249.90999999992,1216215.7599999998,7628970.7599999998,1448349.6099999999,314755.71000000002,904829.47000000009,574500.43999999994,784724.84000000008,1620203.1300000001,2405538.0099999998,402359.16000000003,18106696.800000001,null,null,515,1308,0.39369999999999999,7]
[767,"Spencer East Brookfield      ",21,0,103,583,342,345,100,59,14,36,12,14,753,1484,1,9,0.53979999999999995,null,956747.59000000008,1498920.2999999998,9715532.3399999999,1705196.51,407254.74,1047938.1799999999,697414.87,1080273.0899999999,1877817.08,2935288.01,469419.02,22391801.729999993,null,null,753,1395,0.53979999999999995,9]
[770,"Tantasqua                    ",0,0,0,0,497,726,289,62,12,0,8,15,578,1512,1,6,0.3286,null,944144.32000000007,1404875.3699999999,9904181.2300000004,1497145.05,383840.46,1352924.4400000002,723737.87999999989,1131613.67,2123646.94,2854493.62,402359.16000000003,22722962.140000004,null,null,578,1759,0.3286,6]
[773,"Triton                       ",48,2,175,829,506,689,0,86,22,21,5,6,765,2224,1.0389999999999999,6,0.34749999999999998,null,1435816.4592800001,2117071.63656,12526663.592009999,2613149.9686699994,516878.92508999998,1458720.0599999998,1001774.3339599998,1266638.2919600001,2750526.6837399998,3982499.4400000009,737658.46,30407397.851270001,null,null,765,2201.5,0.34749999999999998,6]
[774,"Upisland",8,0,47,226,135,0,0,16,4,14,4,0,177,412,1,7,0.39069999999999999,null,260576.31,395483.51,2247918.04,506078.61,99849.069999999992,232405.97999999998,175089.91999999995,205665.05,491466.85000000003,780902.00999999989,134119.72,5529555.0699999994,null,null,177,453,0.39069999999999999,7]
[775,"Wachusett                    ",77,0,476,2603,1699,2051,0,266,68,91,25,20,1337,6868,1,4,0.1988,null,4190397.79,5908134.6899999995,33324749.229999997,7770442.8200000003,1354391.7000000002,4456894.6499999994,2824316.57,2948003.7500000005,8195985.9900000002,11699104.450000001,2280035.2400000002,84952456.879999995,null,null,1337,6725,0.1988,4]
[778,"Quaboag",47,0,57,410,281,309,29,42,11,24,7,3,617,1110,1,9,0.52890000000000004,null,714064.65999999992,1140099.07,7280067.3900000006,1244283,308821.74,755156.29,530671.02,856823.10000000009,1352689.4300000002,2198511.7800000003,368829.23,16750016.710000001,null,null,617,1166.5,0.52890000000000004,9]
[780,"Whitman Hanson               ",100,0,223,1331,859,1107,0,137,35,99,26,44,1242,3570,1,6,0.34989999999999999,null,2227965.4799999995,3298217.66,19527928.760000002,4037417.0200000005,807331.20000000007,2358044.5200000005,1561465.0700000003,1977399.5400000003,4288992.84,6436650.1100000003,1173547.55,47694959.75,null,null,1242,3550,0.34989999999999999,6]
[801,"Assabet Valley               ",0,0,0,0,0,0,971,48,0,0,0,70,548,971,1.0189999999999999,9,0.48580000000000001,null,642699.16582999984,1028493.1160899999,10751215.870209999,1032216.5930399999,382991.18056999991,1488878.9300000002,534740.0491699999,1053576.2698299999,2173026.8646099996,2343971.56,0,21431809.599350002,null,null,548,1128,0.48580000000000001,9]
[805,"Blackstone Valley            ",0,0,0,0,0,0,1244,61,0,0,0,6,237,1244,1,4,0.19270000000000001,null,752376.30999999994,1065166.01,11333521.220000001,1276325.29,376488.8,1879961.8399999999,581655.80999999994,888533.2300000001,2701612.3400000003,2634083.8700000006,0,23489724.720000003,null,null,237,1230,0.19270000000000001,4]
[806,"Blue Hills                   ",0,0,0,0,0,0,925,45,0,0,0,10,428,925,1.0640000000000001,8,0.4652,null,619389.46944000002,960580.53,10110118.56232,1007373.6540000001,353276.34496000002,1406488.38,506813.30056,942815.83704000001,2138128.0564000001,2135643.06,0,20180627.194719996,null,null,428,920,0.4652,8]
[810,"Bristol Plymouth             ",0,0,0,0,0,0,1320,65,0,0,0,7,512,1320,1,7,0.39079999999999998,null,821964.17,1237979.45,13080099.779999999,1356999.8000000003,450622.94000000006,2002836.03,659785.89000000013,1163882.55,2867813.13,2969604.0500000003,0,26611587.790000003,null,null,512,1310,0.39079999999999998,7]
[815,"Cape Cod                     ",0,0,0,0,0,0,669,33,0,0,0,16,369,669,1,10,0.55410000000000004,null,431693.1,693928.14,7272030.3600000003,690784.29,259433.84000000003,1021526.1200000001,360758.34,721685.6100000001,1457934.71,1612357.4700000002,0,14522131.980000002,null,null,369,666,0.55410000000000004,10]
[817,"Essex North Shore",0,0,0,0,0,0,1371,67,0,0,0,12,495,1371,1,5,0.29220000000000002,null,844543.26,1248128.76,13209804.35,1405564.5100000002,449762.41,2077872.24,670409.91,1129625.52,2978495.81,3021642.96,0,27035849.729999997,null,null,495,1694,0.29220000000000002,5]
[818,"Franklin County              ",0,0,0,0,0,0,560,27,0,0,0,1,304,560,1,9,0.51880000000000004,null,356135.71,569389.35,5975747.9800000004,569882.40000000014,211895.18,852395.13,297361.31,585280.65,1214005.9100000001,1328757.8699999999,0,11960851.490000002,null,null,304,586,0.51880000000000004,9]
[821,"Greater Fall River           ",0,0,0,0,0,10,1440,71,0,0,0,30,757,1450,1,9,0.53610000000000002,null,926064.38000000012,1467765.35,15371601.380000001,1491338.75,544057.12000000011,2204241.9700000007,767548.58,1491505.9,3147222.86,3429610.5599999996,0,30840956.849999998,null,null,757,1412,0.53610000000000002,9]
[823,"Greater Lawrence             ",0,0,0,0,0,0,1695,83,0,0,0,157,1299,1695,1.0880000000000001,11,0.76770000000000005,null,1247346.3801600002,2150749.1520000002,22291314.823040001,1923376.5184000004,822721.17440000013,2618771.36,1089352.3948800003,2429443.11552,4060228.3852800005,4434705.96,0,43068009.263679996,null,null,1299,1692,0.76770000000000005,11]
[825,"Greater New Bedford          ",0,0,0,0,0,0,2104,103,0,0,0,102,1262,2104,1,10,0.60240000000000005,null,1370244.0699999998,2235630.8400000003,23353589.579999998,2175489.19,838798.19000000006,3222873.49,1155969.24,2359227.8200000003,4600282.7,5153451.3800000008,0,46465556.500000007,null,null,1262,2095,0.60240000000000005,10]
[828,"Greater Lowell               ",0,0,0,0,0,0,2364,116,0,0,0,196,1383,2364,1,10,0.6008,null,1546613.8200000003,2513459.4900000002,26212395.25,2463206.2400000002,940256.5,3631840.22,1299978.0899999999,2622779.04,5197669.4400000004,5793733.290000001,0,52221931.379999995,null,null,1383,2302,0.6008,10]
[829,"South Middlesex              ",0,0,0,0,0,4,837,41,0,0,0,136,539,841,1.01,10,0.6401,null,566791.29500000004,936582.45360000012,9691904.7934000008,895938.08410000021,350638.62959999999,1300311.28,480772.88760000002,985485.33050000004,1885899.4619,2111534.13,0,19205858.345699999,null,null,539,842,0.6401,10]
[830,"Minuteman                    ",0,0,0,0,0,1,617,30,0,0,0,5,161,618,1.1080000000000001,4,0.23300000000000001,null,416325.17192000011,600786.67392000009,6371430.4801600007,699816.71124000009,213732.69031999999,934378.89999999991,325903.84032000002,517966.46608000004,1485655.0412000003,1327975.2499999998,0,12893971.225160003,null,null,161,691,0.23300000000000001,4]
[832,"Montachusett                 ",0,0,0,0,0,0,1465,72,0,0,0,10,559,1465,1,7,0.3962,null,911392.68,1371145.7,14486712.49,1505192.4,498633.54000000004,2222867.09,731160.93,1285077.5,3183126.77,3290712.26,0,29486021.359999999,null,null,559,1411,0.3962,7]
[851,"Northern Berkshire           ",0,0,0,0,0,0,501,25,0,0,0,0,252,501,1,9,0.499,null,319408.08,501241.11,5275522.8500000006,517612.21,186150.81999999998,762240.42,262800.99,507200.97000000003,1088676.71,1178916.48,0,10599770.640000001,null,null,252,505,0.499,9]
[852,"Nashoba Valley               ",0,0,0,0,0,0,715,35,0,0,0,1,285,715,1.0089999999999999,7,0.38,null,448850.57254999992,678780.48355,7169475.3001299994,739113.38630000001,247317.34206,1084578.24,361440.7512,641653.82405000005,1565693.5923600001,1611196.75,0,14548100.242199998,null,null,285,750,0.38,7]
[853,"Northeast Metropolitan       ",0,0,0,0,0,0,1294,63,0,0,0,47,753,1294,1.06,10,0.58279999999999998,null,888067.26859999995,1443742.6203999999,15096367.603800001,1411439.1204000001,540786.09360000002,1979017.85,748068.86040000001,1516258.6514000001,2992028.875,3147310,0,29763086.943600003,null,null,753,1292,0.58279999999999998,10]
[855,"Old Colony                   ",0,0,0,0,0,0,542,27,0,0,0,0,162,542,1,5,0.2888,null,332749.08999999997,482292.44,5121377.58,559539.57000000007,172961.05,820248.11,260602.13999999998,425528.44,1177613.3400000001,1178627.1800000002,0,10531538.940000001,null,null,162,561,0.2888,5]
[860,"Pathfinder                   ",0,0,0,0,0,3,599,29,0,0,0,3,318,602,1,9,0.49690000000000001,null,382248.01,608963.57000000007,6382093.0600000005,612774.32000000007,225921.36,914424.56,318438.99,622009.69000000006,1302834.9400000002,1421898.08,0,12791606.58,null,null,318,640,0.49690000000000001,9]
[871,"Shawsheen Valley             ",0,0,0,0,0,0,1295,63,0,0,0,4,354,1295,1,5,0.27400000000000002,null,788769.88,1143149.99,12129332.310000001,1323486.1500000001,408017.16,1959023.9800000002,619050.09000000008,996303.25,2809888.49,2795392.28,0,24972413.579999998,null,null,354,1292,0.27400000000000002,5]
[872,"Southeastern                 ",0,0,0,0,0,0,1637,80,0,0,0,82,818,1637,1,9,0.52500000000000002,null,1047443.53,1652074.87,17314629.690000001,1691849.12,611096.79,2501467.0700000003,864887.89000000013,1655177.9900000002,3579647.85,3868376.3200000003,0,34786651.120000005,null,null,818,1558,0.52500000000000002,9]
[873,"South Shore                  ",0,0,0,0,0,0,620,30,0,0,0,1,243,620,1.0409999999999999,7,0.37209999999999999,null,400139.19482999999,605764.77059999993,6395712.43518,657837.30825,220368.12407999998,940237.84,322766.95311,570921.04320000007,1399527.4683900001,1393445.15,0,12906720.28764,null,null,243,653,0.37209999999999999,7]
[876,"Southern Worcester           ",0,0,0,0,0,0,1232,60,0,0,0,19,489,1232,1,7,0.41270000000000001,null,767390.2300000001,1161888.3199999998,12257342.460000001,1262758.1700000002,422837.7,1871102.5000000002,618429.45000000007,1094742.04,2678636.33,2779386.05,0,24914513.250000004,null,null,489,1185,0.41270000000000001,7]
[878,"Tri County                   ",0,0,0,0,0,0,935,46,0,0,0,2,288,935,1.0569999999999999,6,0.3009,null,607554.9220299999,891386.10070999991,9447898.2178699989,1014955.3938999999,320667.08960999997,1415839.95,479929.74015000003,799682.45077000011,2145930.26823,2049216.2,0,19173060.333269998,null,null,288,957,0.3009,6]
[879,"Upper Cape Cod               ",0,0,0,0,0,0,793,39,0,0,0,3,372,793,1,9,0.48370000000000002,null,501903.5,783245.67999999993,8243914.8300000001,814522.68,289454.75,1205908.3600000001,411983.76,780845.3600000001,1722278.04,1847473.7500000002,0,16601530.709999997,null,null,372,769,0.48370000000000002,9]
[885,"Whittier                     ",0,0,0,0,0,0,1275,62,0,0,0,12,605,1275,1,8,0.4738,null,803309.59,1249715.6000000001,13149929.25,1304408.6000000001,460229.1,1938818.0699999998,658649.30000000005,1232986.9000000001,2769171.85,2952180.56,0,26519398.82,null,null,605,1277,0.4738,8]
[910,"Bristol County               ",0,0,0,0,0,0,487,24,0,0,0,0,208,487,1,7,0.37890000000000001,null,304444.05,462982.97,4888336.6300000008,500311.02,169316.05000000002,739054.17,245871.93,443216.99,1057226.01,1105738.22,0,9916498.040000001,null,null,208,549,0.37890000000000001,7]
[915,"Norfolk County               ",0,0,0,0,0,0,253,12,0,0,0,1,148,253,1.048,5,0.25519999999999998,null,165805.74632000003,259069.43568,2724234.6144800005,267982.95864000003,95221.363839999991,384358.51,136637.04528000002,255283.22128000003,574285.70192000002,583372.19000000006,0,5446250.787440001,null,null,148,580,0.25519999999999998,5]
[999,"State Total",{"$f":"SUM(C10:C447)","v":25932},{"$f":"SUM(D10:D447)","v":2518},59335,329125,206508,240919,55055,35325,8376,65866,17941,24868,421314,905239,null,null,null,null,601489033.7639097,941665892.92923105,6079314898.7445583,1064797135.61928,253295504.47941002,652243191.25999999,440657246.45157957,668388641.87213933,1190920311.2029896,1791398079.3299994,280846693.68000019,13965016629.333107]

{"sheet":"leas","index":17,"n_rows":537,"n_cols":18,"rows_kept":537,"cut":false,"hidden":true,"merged":[[1,0,1,4],[1,11,1,16]]}
[]
["leas",null,null,null,null,null,null,null,null,null,null,"regdetail"]
[{"$f":"Index!C4","v":999},{"$f":"'Regional District Members'!G4","v":1}]
["lea_order","reg_order","lea_list and reg_list ","LEA","District","org4code","org4code",null,"regcount",null,null,null,"Record"]
[null,null,null,null,"Select a district",999,"0999"]
[1,null,{"$f":"PROPER(D6&\" \"&E6)","v":"1 Abington"},1,"Abington",1,"0001",null,406,1,null,"code","Number","fraclea","District","memlea","Town"]
[2,null,"2 Acton",2,"Acton",2,"0002",null,600,2,null,40601,1,406,"NORTHAMPTON SMITH",210,{"$f":"VLOOKUP(P7,'Townwide Contributions'!$A$9:$B$361,2,0)","v":"Northampton"},"NORTHAMPTON                  "]
[355,null,"600 Acton Boxborough",600,"Acton Boxborough",600,"0600",null,603,2,null,60001,1,600,"ACTON BOXBOROUGH",2,{"$f":"VLOOKUP(P8,'Townwide Contributions'!$A$9:$B$361,2,0)","v":"Acton"},"ACTON                        "]
[3,null,"3 Acushnet",3,"Acushnet",3,"0003",null,605,4,null,60002,2,600,"ACTON BOXBOROUGH",37,{"$f":"VLOOKUP(P9,'Townwide Contributions'!$A$9:$B$361,2,0)","v":"Boxborough"},"BOXBOROUGH                   "]
[4,null,"4 Adams",4,"Adams",4,"0004",null,610,2,null,60301,1,603,"HOOSAC VALLEY",4,{"$f":"VLOOKUP(P10,'Townwide Contributions'!$A$9:$B$361,2,0)","v":"Adams"},"ADAMS                        "]
[5,null,"5 Agawam",5,"Agawam",5,"0005",null,615,2,null,60302,2,603,"HOOSAC VALLEY",58,{"$f":"VLOOKUP(P11,'Townwide Contributions'!$A$9:$B$361,2,0)","v":"Cheshire"},"CHESHIRE                     "]
[6,null,"6 Alford",6,"Alford",6,"0006",null,616,2,null,60501,1,605,"AMHERST PELHAM",8,{"$f":"VLOOKUP(P12,'Townwide Contributions'!$A$9:$B$361,2,0)","v":"Amherst"},"AMHERST                      "]
[7,null,"7 Amesbury",7,"Amesbury",7,"0007",null,618,3,null,60502,2,605,"AMHERST PELHAM",154,{"$f":"VLOOKUP(P13,'Townwide Contributions'!$A$9:$B$361,2,0)","v":"Leverett"},"LEVERETT                     "]
[8,null,"8 Amherst",8,"Amherst",8,"0008",null,620,2,null,60503,3,605,"AMHERST PELHAM",230,{"$f":"VLOOKUP(P14,'Townwide Contributions'!$A$9:$B$361,2,0)","v":"Pelham"},"PELHAM                       "]
[357,null,"605 Amherst Pelham",605,"Amherst Pelham",605,"0605",null,622,2,null,60504,4,605,"AMHERST PELHAM",272,{"$f":"VLOOKUP(P15,'Townwide Contributions'!$A$9:$B$361,2,0)","v":"Shutesbury"},"SHUTESBURY                   "]
[9,null,"9 Andover",9,"Andover",9,"0009",null,625,2,null,61001,1,610,"ASHBURNHAM WESTMINSTER",11,{"$f":"VLOOKUP(P16,'Townwide Contributions'!$A$9:$B$361,2,0)","v":"Ashburnham"},"ASHBURNHAM                   "]
[104,null,"104 Aquinnah",104,"Aquinnah",104,"0104",null,632,2,null,61002,2,610,"ASHBURNHAM WESTMINSTER",328,{"$f":"VLOOKUP(P17,'Townwide Contributions'!$A$9:$B$361,2,0)","v":"Westminster"},"WESTMINSTER                  "]
[10,null,"10 Arlington",10,"Arlington",10,"0010",null,635,7,null,61501,1,615,"ATHOL ROYALSTON",15,{"$f":"VLOOKUP(P18,'Townwide Contributions'!$A$9:$B$361,2,0)","v":"Athol"},"ATHOL                        "]
[11,null,"11 Ashburnham",11,"Ashburnham",11,"0011",null,640,2,null,61502,2,615,"ATHOL ROYALSTON",255,{"$f":"VLOOKUP(P19,'Townwide Contributions'!$A$9:$B$361,2,0)","v":"Royalston"},"ROYALSTON                    "]
[358,null,"610 Ashburnham Westminster",610,"Ashburnham Westminster",610,"0610",null,645,2,null,61601,1,616,"AYER SHIRLEY",19,{"$f":"VLOOKUP(P20,'Townwide Contributions'!$A$9:$B$361,2,0)","v":"Ayer"},"AYER                         "]
[12,null,"12 Ashby",12,"Ashby",12,"0012",null,650,2,null,61602,2,616,"AYER SHIRLEY",270,{"$f":"VLOOKUP(P21,'Townwide Contributions'!$A$9:$B$361,2,0)","v":"Shirley"},"SHIRLEY                      "]
[13,null,"13 Ashfield",13,"Ashfield",13,"0013",null,655,2,null,61801,1,618,"BERKSHIRE HILLS",113,{"$f":"VLOOKUP(P22,'Townwide Contributions'!$A$9:$B$361,2,0)","v":"Great Barrington"},"GREAT BARRINGTON             "]
[14,null,"14 Ashland",14,"Ashland",14,"0014",null,658,2,null,61802,2,618,"BERKSHIRE HILLS",283,{"$f":"VLOOKUP(P23,'Townwide Contributions'!$A$9:$B$361,2,0)","v":"Stockbridge"},"STOCKBRIDGE                  "]
[413,null,"801 Assabet Valley",801,"Assabet Valley",801,"0801",null,660,4,null,61803,3,618,"BERKSHIRE HILLS",333,{"$f":"VLOOKUP(P24,'Townwide Contributions'!$A$9:$B$361,2,0)","v":"West Stockbridge"},"WEST STOCKBRIDGE             "]
[15,null,"15 Athol",15,"Athol",15,"0015",null,662,2,null,62001,1,620,"BERLIN BOYLSTON",28,{"$f":"VLOOKUP(P25,'Townwide Contributions'!$A$9:$B$361,2,0)","v":"Berlin"},"BERLIN                       "]
[359,null,"615 Athol Royalston",615,"Athol Royalston",615,"0615",null,665,2,null,62002,2,620,"BERLIN BOYLSTON",39,{"$f":"VLOOKUP(P26,'Townwide Contributions'!$A$9:$B$361,2,0)","v":"Boylston"},"BOYLSTON                     "]
[16,null,"16 Attleboro",16,"Attleboro",16,"0016",null,670,4,null,62201,1,622,"BLACKSTONE MILLVILLE",32,{"$f":"VLOOKUP(P27,'Townwide Contributions'!$A$9:$B$361,2,0)","v":"Blackstone"},"BLACKSTONE                   "]
[17,null,"17 Auburn",17,"Auburn",17,"0017",null,672,6,null,62202,2,622,"BLACKSTONE MILLVILLE",188,{"$f":"VLOOKUP(P28,'Townwide Contributions'!$A$9:$B$361,2,0)","v":"Millville"},"MILLVILLE                    "]
[18,null,"18 Avon",18,"Avon",18,"0018",null,673,2,null,62501,1,625,"BRIDGEWATER RAYNHAM",42,{"$f":"VLOOKUP(P29,'Townwide Contributions'!$A$9:$B$361,2,0)","v":"Bridgewater"},"BRIDGEWATER                  "]
[19,null,"19 Ayer",19,"Ayer",19,"0019",null,674,2,null,62502,2,625,"BRIDGEWATER RAYNHAM",245,{"$f":"VLOOKUP(P30,'Townwide Contributions'!$A$9:$B$361,2,0)","v":"Raynham"},"RAYNHAM                      "]
[360,null,"616 Ayer Shirley",616,"Ayer Shirley",616,"0616",null,675,2,null,63201,1,632,"CHESTERFIELD GOSHEN",60,{"$f":"VLOOKUP(P31,'Townwide Contributions'!$A$9:$B$361,2,0)","v":"Chesterfield"},"CHESTERFIELD                 "]
[20,null,"20 Barnstable",20,"Barnstable",20,"0020",null,680,2,null,63202,2,632,"CHESTERFIELD GOSHEN",108,{"$f":"VLOOKUP(P32,'Townwide Contributions'!$A$9:$B$361,2,0)","v":"Goshen"},"GOSHEN                       "]
[21,null,"21 Barre",21,"Barre",21,"0021",null,683,5,null,63501,1,635,"CENTRAL BERKSHIRE",22,{"$f":"VLOOKUP(P33,'Townwide Contributions'!$A$9:$B$361,2,0)","v":"Becket"},"BECKET                       "]
[22,null,"22 Becket",22,"Becket",22,"0022",null,685,2,null,63502,2,635,"CENTRAL BERKSHIRE",69,{"$f":"VLOOKUP(P34,'Townwide Contributions'!$A$9:$B$361,2,0)","v":"Cummington"},"CUMMINGTON                   "]
[23,null,"23 Bedford",23,"Bedford",23,"0023",null,690,3,null,63503,3,635,"CENTRAL BERKSHIRE",70,{"$f":"VLOOKUP(P35,'Townwide Contributions'!$A$9:$B$361,2,0)","v":"Dalton"},"DALTON                       "]
[24,null,"24 Belchertown",24,"Belchertown",24,"0024",null,695,2,null,63504,4,635,"CENTRAL BERKSHIRE",132,{"$f":"VLOOKUP(P36,'Townwide Contributions'!$A$9:$B$361,2,0)","v":"Hinsdale"},"HINSDALE                     "]
[25,null,"25 Bellingham",25,"Bellingham",25,"0025",null,698,2,null,63505,5,635,"CENTRAL BERKSHIRE",233,{"$f":"VLOOKUP(P37,'Townwide Contributions'!$A$9:$B$361,2,0)","v":"Peru"},"PERU                         "]
[26,null,"26 Belmont",26,"Belmont",26,"0026",null,700,6,null,63506,6,635,"CENTRAL BERKSHIRE",313,{"$f":"VLOOKUP(P38,'Townwide Contributions'!$A$9:$B$361,2,0)","v":"Washington"},"WASHINGTON                   "]
[27,null,"27 Berkley",27,"Berkley",27,"0027",null,705,3,null,63507,7,635,"CENTRAL BERKSHIRE",345,{"$f":"VLOOKUP(P39,'Townwide Contributions'!$A$9:$B$361,2,0)","v":"Windsor"},"WINDSOR                      "]
[361,null,"618 Berkshire Hills",618,"Berkshire Hills",618,"0618",null,710,2,null,64001,1,640,"CONCORD CARLISLE",51,{"$f":"VLOOKUP(P40,'Townwide Contributions'!$A$9:$B$361,2,0)","v":"Carlisle"},"CARLISLE                     "]
[28,null,"28 Berlin",28,"Berlin",28,"0028",null,712,2,null,64002,2,640,"CONCORD CARLISLE",67,{"$f":"VLOOKUP(P41,'Townwide Contributions'!$A$9:$B$361,2,0)","v":"Concord"},"CONCORD                      "]
[362,null,"620 Berlin Boylston",620,"Berlin Boylston",620,"0620",null,715,2,null,64501,1,645,"DENNIS YARMOUTH",75,{"$f":"VLOOKUP(P42,'Townwide Contributions'!$A$9:$B$361,2,0)","v":"Dennis"},"DENNIS                       "]
[29,null,"29 Bernardston",29,"Bernardston",29,"0029",null,717,8,null,64502,2,645,"DENNIS YARMOUTH",351,{"$f":"VLOOKUP(P43,'Townwide Contributions'!$A$9:$B$361,2,0)","v":"Yarmouth"},"YARMOUTH                     "]
[30,null,"30 Beverly",30,"Beverly",30,"0030",null,720,2,null,65001,1,650,"DIGHTON REHOBOTH",76,{"$f":"VLOOKUP(P44,'Townwide Contributions'!$A$9:$B$361,2,0)","v":"Dighton"},"DIGHTON                      "]
[31,null,"31 Billerica",31,"Billerica",31,"0031",null,725,3,null,65002,2,650,"DIGHTON REHOBOTH",247,{"$f":"VLOOKUP(P45,'Townwide Contributions'!$A$9:$B$361,2,0)","v":"Rehoboth"},"REHOBOTH                     "]
[32,null,"32 Blackstone",32,"Blackstone",32,"0032",null,728,2,null,65501,1,655,"DOVER SHERBORN",78,{"$f":"VLOOKUP(P46,'Townwide Contributions'!$A$9:$B$361,2,0)","v":"Dover"},"DOVER                        "]
[363,null,"622 Blackstone Millville",622,"Blackstone Millville",622,"0622",null,730,2,null,65502,2,655,"DOVER SHERBORN",269,{"$f":"VLOOKUP(P47,'Townwide Contributions'!$A$9:$B$361,2,0)","v":"Sherborn"},"SHERBORN                     "]
[414,null,"805 Blackstone Valley",805,"Blackstone Valley",805,"0805",null,735,3,null,65801,1,658,"DUDLEY CHARLTON",54,{"$f":"VLOOKUP(P48,'Townwide Contributions'!$A$9:$B$361,2,0)","v":"Charlton"},"CHARLTON                     "]
[33,null,"33 Blandford",33,"Blandford",33,"0033",null,740,3,null,65802,2,658,"DUDLEY CHARLTON",80,{"$f":"VLOOKUP(P49,'Townwide Contributions'!$A$9:$B$361,2,0)","v":"Dudley"},"DUDLEY                       "]
[415,null,"806 Blue Hills",806,"Blue Hills",806,"0806",null,745,3,null,66001,1,660,"NAUSET",41,{"$f":"VLOOKUP(P50,'Townwide Contributions'!$A$9:$B$361,2,0)","v":"Brewster"},"BREWSTER                     "]
[34,null,"34 Bolton",34,"Bolton",34,"0034",null,750,3,"updated 12/7/22",66002,2,660,"NAUSET",85,{"$f":"VLOOKUP(P51,'Townwide Contributions'!$A$9:$B$361,2,0)","v":"Eastham"},"EASTHAM                      "]
[35,null,"35 Boston",35,"Boston",35,"0035",null,753,5,null,66003,3,660,"NAUSET",224,{"$f":"VLOOKUP(P52,'Townwide Contributions'!$A$9:$B$361,2,0)","v":"Orleans"},"ORLEANS                      "]
[36,null,"36 Bourne",36,"Bourne",36,"0036",null,755,4,null,66004,4,660,"NAUSET",318,{"$f":"VLOOKUP(P53,'Townwide Contributions'!$A$9:$B$361,2,0)","v":"Wellfleet"},"WELLFLEET                    "]
[37,null,"37 Boxborough",37,"Boxborough",37,"0037",null,760,3,null,66201,1,662,"FARMINGTON RIVER",225,{"$f":"VLOOKUP(P54,'Townwide Contributions'!$A$9:$B$361,2,0)","v":"Otis"},"OTIS                         "]
[38,null,"38 Boxford",38,"Boxford",38,"0038",null,763,2,null,66202,2,662,"FARMINGTON RIVER",260,{"$f":"VLOOKUP(P55,'Townwide Contributions'!$A$9:$B$361,2,0)","v":"Sandisfield"},"SANDISFIELD                  "]
[39,null,"39 Boylston",39,"Boylston",39,"0039",null,765,5,null,66501,1,665,"FREETOWN LAKEVILLE",102,{"$f":"VLOOKUP(P56,'Townwide Contributions'!$A$9:$B$361,2,0)","v":"Freetown"},"FREETOWN                     "]
[40,null,"40 Braintree",40,"Braintree",40,"0040",null,766,3,null,66502,2,665,"FREETOWN LAKEVILLE",146,{"$f":"VLOOKUP(P57,'Townwide Contributions'!$A$9:$B$361,2,0)","v":"Lakeville"},"LAKEVILLE                    "]
[41,null,"41 Brewster",41,"Brewster",41,"0041",null,767,2,null,67001,1,670,"FRONTIER",68,{"$f":"VLOOKUP(P58,'Townwide Contributions'!$A$9:$B$361,2,0)","v":"Conway"},"CONWAY                       "]
[42,null,"42 Bridgewater",42,"Bridgewater",42,"0042",null,770,5,null,67002,2,670,"FRONTIER",74,{"$f":"VLOOKUP(P59,'Townwide Contributions'!$A$9:$B$361,2,0)","v":"Deerfield"},"DEERFIELD                    "]
[364,null,"625 Bridgewater Raynham",625,"Bridgewater Raynham",625,"0625",null,773,3,null,67003,3,670,"FRONTIER",289,{"$f":"VLOOKUP(P60,'Townwide Contributions'!$A$9:$B$361,2,0)","v":"Sunderland"},"SUNDERLAND                   "]
[43,null,"43 Brimfield",43,"Brimfield",43,"0043",null,774,3,null,67004,4,670,"FRONTIER",337,{"$f":"VLOOKUP(P61,'Townwide Contributions'!$A$9:$B$361,2,0)","v":"Whately"},"WHATELY                      "]
[439,null,"910 Bristol County",910,"Bristol County",910,"0910",null,775,5,null,67201,1,672,"GATEWAY",33,{"$f":"VLOOKUP(P62,'Townwide Contributions'!$A$9:$B$361,2,0)","v":"Blandford"},"BLANDFORD                    "]
[416,null,"810 Bristol Plymouth",810,"Bristol Plymouth",810,"0810",null,778,2,null,67202,2,672,"GATEWAY",59,{"$f":"VLOOKUP(P63,'Townwide Contributions'!$A$9:$B$361,2,0)","v":"Chester"},"CHESTER                      "]
[44,null,"44 Brockton",44,"Brockton",44,"0044",null,780,2,null,67203,3,672,"GATEWAY",143,{"$f":"VLOOKUP(P64,'Townwide Contributions'!$A$9:$B$361,2,0)","v":"Huntington"},"HUNTINGTON                   "]
[45,null,"45 Brookfield",45,"Brookfield",45,"0045",null,801,7,null,67204,4,672,"GATEWAY",183,{"$f":"VLOOKUP(P65,'Townwide Contributions'!$A$9:$B$361,2,0)","v":"Middlefield"},"MIDDLEFIELD                  "]
[46,null,"46 Brookline",46,"Brookline",46,"0046",null,805,13,null,67205,5,672,"GATEWAY",194,{"$f":"VLOOKUP(P66,'Townwide Contributions'!$A$9:$B$361,2,0)","v":"Montgomery"},"MONTGOMERY                   "]
[47,null,"47 Buckland",47,"Buckland",47,"0047",null,806,9,null,67206,6,672,"GATEWAY",256,{"$f":"VLOOKUP(P67,'Townwide Contributions'!$A$9:$B$361,2,0)","v":"Russell"},"RUSSELL                      "]
[48,null,"48 Burlington",48,"Burlington",48,"0048",null,810,7,null,67301,1,673,"GROTON DUNSTABLE",81,{"$f":"VLOOKUP(P68,'Townwide Contributions'!$A$9:$B$361,2,0)","v":"Dunstable"},"DUNSTABLE                    "]
[49,null,"49 Cambridge",49,"Cambridge",49,"0049",null,815,12,null,67302,2,673,"GROTON DUNSTABLE",115,{"$f":"VLOOKUP(P69,'Townwide Contributions'!$A$9:$B$361,2,0)","v":"Groton"},"GROTON                       "]
[50,null,{"$f":"PROPER(D70&\" \"&E70)","v":"50 Canton"},50,"Canton",50,"0050",null,817,17,null,67401,1,674,"GILL MONTAGUE",106,{"$f":"VLOOKUP(P70,'Townwide Contributions'!$A$9:$B$361,2,0)","v":"Gill"},"GILL                         "]
[417,null,"815 Cape Cod",815,"Cape Cod",815,"0815",null,818,19,null,67402,2,674,"GILL MONTAGUE",192,{"$f":"VLOOKUP(P71,'Townwide Contributions'!$A$9:$B$361,2,0)","v":"Montague"},"MONTAGUE                     "]
[51,null,"51 Carlisle",51,"Carlisle",51,"0051",null,821,4,null,67501,1,675,"HAMILTON WENHAM",119,{"$f":"VLOOKUP(P72,'Townwide Contributions'!$A$9:$B$361,2,0)","v":"Hamilton"},"HAMILTON                     "]
[52,null,"52 Carver",52,"Carver",52,"0052",null,823,4,null,67502,2,675,"HAMILTON WENHAM",320,{"$f":"VLOOKUP(P73,'Townwide Contributions'!$A$9:$B$361,2,0)","v":"Wenham"},"WENHAM                       "]
[366,null,"635 Central Berkshire",635,"Central Berkshire",635,"0635",null,825,3,null,68001,1,680,"HAMPDEN WILBRAHAM",120,{"$f":"VLOOKUP(P74,'Townwide Contributions'!$A$9:$B$361,2,0)","v":"Hampden"},"HAMPDEN                      "]
[53,null,"53 Charlemont",53,"Charlemont",53,"0053",null,828,4,null,68002,2,680,"HAMPDEN WILBRAHAM",339,{"$f":"VLOOKUP(P75,'Townwide Contributions'!$A$9:$B$361,2,0)","v":"Wilbraham"},"WILBRAHAM                    "]
[54,null,"54 Charlton",54,"Charlton",54,"0054",null,829,5,null,68301,1,683,"HAMPSHIRE",60,{"$f":"VLOOKUP(P76,'Townwide Contributions'!$A$9:$B$361,2,0)","v":"Chesterfield"},"CHESTERFIELD                 "]
[55,null,"55 Chatham",55,"Chatham",55,"0055",null,830,9,null,68302,2,683,"HAMPSHIRE",108,{"$f":"VLOOKUP(P77,'Townwide Contributions'!$A$9:$B$361,2,0)","v":"Goshen"},"GOSHEN                       "]
[56,null,"56 Chelmsford",56,"Chelmsford",56,"0056",null,832,18,null,68303,3,683,"HAMPSHIRE",275,{"$f":"VLOOKUP(P78,'Townwide Contributions'!$A$9:$B$361,2,0)","v":"Southampton"},"SOUTHAMPTON                  "]
[57,null,"57 Chelsea",57,"Chelsea",57,"0057",null,851,9,null,68304,4,683,"HAMPSHIRE",327,{"$f":"VLOOKUP(P79,'Townwide Contributions'!$A$9:$B$361,2,0)","v":"Westhampton"},"WESTHAMPTON                  "]
[58,null,"58 Cheshire",58,"Cheshire",58,"0058",null,852,8,null,68305,5,683,"HAMPSHIRE",340,{"$f":"VLOOKUP(P80,'Townwide Contributions'!$A$9:$B$361,2,0)","v":"Williamsburg"},"WILLIAMSBURG                 "]
[59,null,"59 Chester",59,"Chester",59,"0059",null,853,12,null,68501,1,685,"HAWLEMONT",53,{"$f":"VLOOKUP(P81,'Townwide Contributions'!$A$9:$B$361,2,0)","v":"Charlemont"},"CHARLEMONT                   "]
[60,null,"60 Chesterfield",60,"Chesterfield",60,"0060",null,855,5,null,68502,2,685,"HAWLEMONT",129,{"$f":"VLOOKUP(P82,'Townwide Contributions'!$A$9:$B$361,2,0)","v":"Hawley"},"HAWLEY                       "]
[365,null,"632 Chesterfield Goshen",632,"Chesterfield Goshen",632,"0632",null,860,9,null,69001,1,690,"KING PHILIP",208,{"$f":"VLOOKUP(P83,'Townwide Contributions'!$A$9:$B$361,2,0)","v":"Norfolk"},"NORFOLK                      "]
[61,null,"61 Chicopee",61,"Chicopee",61,"0061",null,871,5,null,69002,2,690,"KING PHILIP",238,{"$f":"VLOOKUP(P84,'Townwide Contributions'!$A$9:$B$361,2,0)","v":"Plainville"},"PLAINVILLE                   "]
[62,null,"62 Chilmark",62,"Chilmark",62,"0062",null,872,9,null,69003,3,690,"KING PHILIP",350,{"$f":"VLOOKUP(P85,'Townwide Contributions'!$A$9:$B$361,2,0)","v":"Wrentham"},"WRENTHAM                     "]
[63,null,"63 Clarksburg",63,"Clarksburg",63,"0063",null,873,8,null,69501,1,695,"LINCOLN SUDBURY",157,{"$f":"VLOOKUP(P86,'Townwide Contributions'!$A$9:$B$361,2,0)","v":"Lincoln"},"LINCOLN                      "]
[64,null,"64 Clinton",64,"Clinton",64,"0064",null,876,10,null,69502,2,695,"LINCOLN SUDBURY",288,{"$f":"VLOOKUP(P87,'Townwide Contributions'!$A$9:$B$361,2,0)","v":"Sudbury"},"SUDBURY                      "]
[65,null,"65 Cohasset",65,"Cohasset",65,"0065",null,878,11,null,69801,1,698,"MANCHESTER ESSEX",92,{"$f":"VLOOKUP(P88,'Townwide Contributions'!$A$9:$B$361,2,0)","v":"Essex"},"ESSEX                        "]
[66,null,"66 Colrain",66,"Colrain",66,"0066",null,879,5,null,69802,2,698,"MANCHESTER ESSEX",166,{"$f":"VLOOKUP(P89,'Townwide Contributions'!$A$9:$B$361,2,0)","v":"Manchester"},"MANCHESTER                   "]
[67,null,"67 Concord",67,"Concord",67,"0067",null,885,11,null,70001,1,700,"MARTHAS VINEYARD",62,{"$f":"VLOOKUP(P90,'Townwide Contributions'!$A$9:$B$361,2,0)","v":"Chilmark"},"CHILMARK                     "]
[367,null,"640 Concord Carlisle",640,"Concord Carlisle",640,"0640",null,910,20,null,70002,2,700,"MARTHAS VINEYARD",89,{"$f":"VLOOKUP(P91,'Townwide Contributions'!$A$9:$B$361,2,0)","v":"Edgartown"},"EDGARTOWN                    "]
[68,null,"68 Conway",68,"Conway",68,"0068",null,915,28,null,70003,3,700,"MARTHAS VINEYARD",104,{"$f":"VLOOKUP(P92,'Townwide Contributions'!$A$9:$B$361,2,0)","v":"Aquinnah"},"AQUINNAH"]
[69,null,"69 Cummington",69,"Cummington",69,"0069",null,999,0,null,70004,4,700,"MARTHAS VINEYARD",221,{"$f":"VLOOKUP(P93,'Townwide Contributions'!$A$9:$B$361,2,0)","v":"Oak Bluffs"},"OAK BLUFFS                   "]
[70,null,"70 Dalton",70,"Dalton",70,"0070",null,null,null,null,70005,5,700,"MARTHAS VINEYARD",296,{"$f":"VLOOKUP(P94,'Townwide Contributions'!$A$9:$B$361,2,0)","v":"Tisbury"},"TISBURY                      "]
[71,null,"71 Danvers",71,"Danvers",71,"0071",null,null,null,null,70006,6,700,"MARTHAS VINEYARD",334,{"$f":"VLOOKUP(P95,'Townwide Contributions'!$A$9:$B$361,2,0)","v":"West Tisbury"},"WEST TISBURY                 "]
[72,null,"72 Dartmouth",72,"Dartmouth",72,"0072",null,null,null,null,70501,1,705,"MASCONOMET",38,{"$f":"VLOOKUP(P96,'Townwide Contributions'!$A$9:$B$361,2,0)","v":"Boxford"},"BOXFORD                      "]
[73,null,"73 Dedham",73,"Dedham",73,"0073",null,null,null,null,70502,2,705,"MASCONOMET",184,{"$f":"VLOOKUP(P97,'Townwide Contributions'!$A$9:$B$361,2,0)","v":"Middleton"},"MIDDLETON                    "]
[74,null,"74 Deerfield",74,"Deerfield",74,"0074",null,null,null,null,70503,3,705,"MASCONOMET",298,{"$f":"VLOOKUP(P98,'Townwide Contributions'!$A$9:$B$361,2,0)","v":"Topsfield"},"TOPSFIELD                    "]
[75,null,"75 Dennis",75,"Dennis",75,"0075",null,null,null,null,71001,1,710,"MENDON UPTON",179,{"$f":"VLOOKUP(P99,'Townwide Contributions'!$A$9:$B$361,2,0)","v":"Mendon"},"MENDON                       "]
[368,null,"645 Dennis Yarmouth",645,"Dennis Yarmouth",645,"0645",null,null,null,null,71002,2,710,"MENDON UPTON",303,{"$f":"VLOOKUP(P100,'Townwide Contributions'!$A$9:$B$361,2,0)","v":"Upton"},"UPTON                        "]
[352,null,"352 Devens",352,"Devens",352,"0352",null,null,null,null,71201,1,712,"MONOMOY",55,{"$f":"VLOOKUP(P101,'Townwide Contributions'!$A$9:$B$361,2,0)","v":"Chatham"},"CHATHAM                      "]
[76,null,"76 Dighton",76,"Dighton",76,"0076",null,null,null,null,71202,2,712,"MONOMOY",126,{"$f":"VLOOKUP(P102,'Townwide Contributions'!$A$9:$B$361,2,0)","v":"Harwich"},"HARWICH                      "]
[369,null,"650 Dighton Rehoboth",650,"Dighton Rehoboth",650,"0650",null,null,null,null,71501,1,715,"MOUNT GREYLOCK",148,{"$f":"VLOOKUP(P103,'Townwide Contributions'!$A$9:$B$361,2,0)","v":"Lanesborough"},"LANESBOROUGH                 "]
[77,null,"77 Douglas",77,"Douglas",77,"0077",null,null,null,null,71502,2,715,"MOUNT GREYLOCK",341,{"$f":"VLOOKUP(P104,'Townwide Contributions'!$A$9:$B$361,2,0)","v":"Williamstown"},"WILLIAMSTOWN                 "]
[78,null,"78 Dover",78,"Dover",78,"0078",null,null,null,null,71701,1,717,"MOHAWK TRAIL",13,{"$f":"VLOOKUP(P105,'Townwide Contributions'!$A$9:$B$361,2,0)","v":"Ashfield"},"ASHFIELD                     "]
[370,null,"655 Dover Sherborn",655,"Dover Sherborn",655,"0655",null,null,null,null,71702,2,717,"MOHAWK TRAIL",47,{"$f":"VLOOKUP(P106,'Townwide Contributions'!$A$9:$B$361,2,0)","v":"Buckland"},"BUCKLAND                     "]
[79,null,"79 Dracut",79,"Dracut",79,"0079",null,null,null,null,71703,3,717,"MOHAWK TRAIL",53,{"$f":"VLOOKUP(P107,'Townwide Contributions'!$A$9:$B$361,2,0)","v":"Charlemont"},"CHARLEMONT                   "]
[80,null,"80 Dudley",80,"Dudley",80,"0080",null,null,null,null,71704,4,717,"MOHAWK TRAIL",66,{"$f":"VLOOKUP(P108,'Townwide Contributions'!$A$9:$B$361,2,0)","v":"Colrain"},"COLRAIN                      "]
[371,null,"658 Dudley Charlton",658,"Dudley Charlton",658,"0658",null,null,null,null,71705,5,717,"MOHAWK TRAIL",129,{"$f":"VLOOKUP(P109,'Townwide Contributions'!$A$9:$B$361,2,0)","v":"Hawley"},"HAWLEY                       "]
[81,null,"81 Dunstable",81,"Dunstable",81,"0081",null,null,null,null,71706,6,717,"MOHAWK TRAIL",130,{"$f":"VLOOKUP(P110,'Townwide Contributions'!$A$9:$B$361,2,0)","v":"Heath"},"HEATH                        "]
[82,null,"82 Duxbury",82,"Duxbury",82,"0082",null,null,null,null,71707,7,717,"MOHAWK TRAIL",237,{"$f":"VLOOKUP(P111,'Townwide Contributions'!$A$9:$B$361,2,0)","v":"Plainfield"},"PLAINFIELD                   "]
[83,null,"83 East Bridgewater",83,"East Bridgewater",83,"0083",null,null,null,null,71708,8,717,"MOHAWK TRAIL",268,{"$f":"VLOOKUP(P112,'Townwide Contributions'!$A$9:$B$361,2,0)","v":"Shelburne"},"SHELBURNE                    "]
[84,null,"84 East Brookfield",84,"East Brookfield",84,"0084",null,null,null,null,72001,1,720,"NARRAGANSETT",235,{"$f":"VLOOKUP(P113,'Townwide Contributions'!$A$9:$B$361,2,0)","v":"Phillipston"},"PHILLIPSTON                  "]
[87,null,"87 East Longmeadow",87,"East Longmeadow",87,"0087",null,null,null,null,72002,2,720,"NARRAGANSETT",294,{"$f":"VLOOKUP(P114,'Townwide Contributions'!$A$9:$B$361,2,0)","v":"Templeton"},"TEMPLETON                    "]
[85,null,"85 Eastham",85,"Eastham",85,"0085",null,null,null,null,72501,1,725,"NASHOBA",34,{"$f":"VLOOKUP(P115,'Townwide Contributions'!$A$9:$B$361,2,0)","v":"Bolton"},"BOLTON                       "]
[86,null,"86 Easthampton",86,"Easthampton",86,"0086",null,null,null,null,72502,2,725,"NASHOBA",147,{"$f":"VLOOKUP(P116,'Townwide Contributions'!$A$9:$B$361,2,0)","v":"Lancaster"},"LANCASTER                    "]
[88,null,"88 Easton",88,"Easton",88,"0088",null,null,null,null,72503,3,725,"NASHOBA",286,{"$f":"VLOOKUP(P117,'Townwide Contributions'!$A$9:$B$361,2,0)","v":"Stow"},"STOW                         "]
[89,null,"89 Edgartown",89,"Edgartown",89,"0089",null,null,null,null,72801,1,728,"NEW SALEM WENDELL",206,{"$f":"VLOOKUP(P118,'Townwide Contributions'!$A$9:$B$361,2,0)","v":"New Salem"},"NEW SALEM                    "]
[90,null,"90 Egremont",90,"Egremont",90,"0090",null,null,null,null,72802,2,728,"NEW SALEM WENDELL",319,{"$f":"VLOOKUP(P119,'Townwide Contributions'!$A$9:$B$361,2,0)","v":"Wendell"},"WENDELL                      "]
[91,null,"91 Erving",91,"Erving",91,"0091",null,null,null,null,73001,1,730,"NORTHBORO SOUTHBORO",213,{"$f":"VLOOKUP(P120,'Townwide Contributions'!$A$9:$B$361,2,0)","v":"Northborough"},"NORTHBOROUGH                 "]
[92,null,"92 Essex",92,"Essex",92,"0092",null,null,null,null,73002,2,730,"NORTHBORO SOUTHBORO",276,{"$f":"VLOOKUP(P121,'Townwide Contributions'!$A$9:$B$361,2,0)","v":"Southborough"},"SOUTHBOROUGH                 "]
[418,null,"817 Essex North Shore",817,"Essex North Shore",817,"0817",null,null,null,null,73501,1,735,"NORTH MIDDLESEX",12,{"$f":"VLOOKUP(P122,'Townwide Contributions'!$A$9:$B$361,2,0)","v":"Ashby"},"ASHBY                        "]
[93,null,"93 Everett",93,"Everett",93,"0093",null,null,null,null,73502,2,735,"NORTH MIDDLESEX",232,{"$f":"VLOOKUP(P123,'Townwide Contributions'!$A$9:$B$361,2,0)","v":"Pepperell"},"PEPPERELL                    "]
[94,null,"94 Fairhaven",94,"Fairhaven",94,"0094",null,null,null,null,73503,3,735,"NORTH MIDDLESEX",299,{"$f":"VLOOKUP(P124,'Townwide Contributions'!$A$9:$B$361,2,0)","v":"Townsend"},"TOWNSEND                     "]
[95,null,"95 Fall River",95,"Fall River",95,"0095",null,null,null,null,74001,1,740,"OLD ROCHESTER",169,{"$f":"VLOOKUP(P125,'Townwide Contributions'!$A$9:$B$361,2,0)","v":"Marion"},"MARION                       "]
[96,null,"96 Falmouth",96,"Falmouth",96,"0096",null,null,null,null,74002,2,740,"OLD ROCHESTER",173,{"$f":"VLOOKUP(P126,'Townwide Contributions'!$A$9:$B$361,2,0)","v":"Mattapoisett"},"MATTAPOISETT                 "]
[373,null,"662 Farmington River",662,"Farmington River",662,"0662",null,null,null,null,74003,3,740,"OLD ROCHESTER",250,{"$f":"VLOOKUP(P127,'Townwide Contributions'!$A$9:$B$361,2,0)","v":"Rochester"},"ROCHESTER                    "]
[97,null,"97 Fitchburg",97,"Fitchburg",97,"0097",null,null,null,null,74501,1,745,"PENTUCKET",116,{"$f":"VLOOKUP(P128,'Townwide Contributions'!$A$9:$B$361,2,0)","v":"Groveland"},"GROVELAND                    "]
[98,null,"98 Florida",98,"Florida",98,"0098",null,null,null,null,74502,2,745,"PENTUCKET",180,{"$f":"VLOOKUP(P129,'Townwide Contributions'!$A$9:$B$361,2,0)","v":"Merrimac"},"MERRIMAC                     "]
[99,null,"99 Foxborough",99,"Foxborough",99,"0099",null,null,null,null,74503,3,745,"PENTUCKET",329,{"$f":"VLOOKUP(P130,'Townwide Contributions'!$A$9:$B$361,2,0)","v":"West Newbury"},"WEST NEWBURY                 "]
[100,null,"100 Framingham",100,"Framingham",100,"0100",null,null,null,null,75001,1,750,"PIONEER",29,{"$f":"VLOOKUP(P131,'Townwide Contributions'!$A$9:$B$361,2,0)","v":"Bernardston"},"BERNARDSTON                  "]
[101,null,"101 Franklin",101,"Franklin",101,"0101",null,null,null,null,75002,2,750,"PIONEER",156,{"$f":"VLOOKUP(P132,'Townwide Contributions'!$A$9:$B$361,2,0)","v":"Leyden"},"LEYDEN                       "]
[419,null,"818 Franklin County",818,"Franklin County",818,"0818",null,null,null,null,75003,3,750,"PIONEER",216,{"$f":"VLOOKUP(P133,'Townwide Contributions'!$A$9:$B$361,2,0)","v":"Northfield"},"NORTHFIELD                   "]
[102,null,{"$f":"PROPER(D134&\" \"&E134)","v":"102 Freetown"},102,"Freetown",102,"0102",null,null,null,null,75301,1,753,"QUABBIN",21,{"$f":"VLOOKUP(P134,'Townwide Contributions'!$A$9:$B$361,2,0)","v":"Barre"},"BARRE                        "]
[374,null,"665 Freetown Lakeville",665,"Freetown Lakeville",665,"0665",null,null,null,null,75302,2,753,"QUABBIN",124,{"$f":"VLOOKUP(P135,'Townwide Contributions'!$A$9:$B$361,2,0)","v":"Hardwick"},"HARDWICK                     "]
[375,null,"670 Frontier",670,"Frontier",670,"0670",null,null,null,null,75303,3,753,"QUABBIN",140,{"$f":"VLOOKUP(P136,'Townwide Contributions'!$A$9:$B$361,2,0)","v":"Hubbardston"},"HUBBARDSTON                  "]
[103,null,"103 Gardner",103,"Gardner",103,"0103",null,null,null,null,75304,4,753,"QUABBIN",202,{"$f":"VLOOKUP(P137,'Townwide Contributions'!$A$9:$B$361,2,0)","v":"New Braintree"},"NEW BRAINTREE                "]
[376,null,"672 Gateway",672,"Gateway",672,"0672",null,null,null,null,75305,5,753,"QUABBIN",222,{"$f":"VLOOKUP(P138,'Townwide Contributions'!$A$9:$B$361,2,0)","v":"Oakham"},"OAKHAM                       "]
[105,null,"105 Georgetown",105,"Georgetown",105,"0105",null,null,null,null,75501,1,755,"RALPH C MAHAR",206,{"$f":"VLOOKUP(P139,'Townwide Contributions'!$A$9:$B$361,2,0)","v":"New Salem"},"NEW SALEM                    "]
[106,null,"106 Gill",106,"Gill",106,"0106",null,null,null,null,75502,2,755,"RALPH C MAHAR",223,{"$f":"VLOOKUP(P140,'Townwide Contributions'!$A$9:$B$361,2,0)","v":"Orange"},"ORANGE                       "]
[378,null,"674 Gill Montague",674,"Gill Montague",674,"0674",null,null,null,null,75503,3,755,"RALPH C MAHAR",234,{"$f":"VLOOKUP(P141,'Townwide Contributions'!$A$9:$B$361,2,0)","v":"Petersham"},"PETERSHAM                    "]
[107,null,"107 Gloucester",107,"Gloucester",107,"0107",null,null,null,null,75504,4,755,"RALPH C MAHAR",319,{"$f":"VLOOKUP(P142,'Townwide Contributions'!$A$9:$B$361,2,0)","v":"Wendell"},"WENDELL                      "]
[108,null,"108 Goshen",108,"Goshen",108,"0108",null,null,null,null,76001,1,760,"SILVER LAKE",118,{"$f":"VLOOKUP(P143,'Townwide Contributions'!$A$9:$B$361,2,0)","v":"Halifax"},"HALIFAX                      "]
[109,null,"109 Gosnold",109,"Gosnold",109,"0109",null,null,null,null,76002,2,760,"SILVER LAKE",145,{"$f":"VLOOKUP(P144,'Townwide Contributions'!$A$9:$B$361,2,0)","v":"Kingston"},"KINGSTON                     "]
[110,null,"110 Grafton",110,"Grafton",110,"0110",null,null,null,null,76003,3,760,"SILVER LAKE",240,{"$f":"VLOOKUP(P145,'Townwide Contributions'!$A$9:$B$361,2,0)","v":"Plympton"},"PLYMPTON                     "]
[111,null,"111 Granby",111,"Granby",111,"0111",null,null,null,null,76301,1,763,"SOMERSET BERKLEY",27,{"$f":"VLOOKUP(P146,'Townwide Contributions'!$A$9:$B$361,2,0)","v":"Berkley"},"BERKLEY                      "]
[112,null,"112 Granville",112,"Granville",112,"0112",null,null,null,null,76302,2,763,"SOMERSET BERKLEY",273,{"$f":"VLOOKUP(P147,'Townwide Contributions'!$A$9:$B$361,2,0)","v":"Somerset"},"SOMERSET                     "]
[113,null,"113 Great Barrington",113,"Great Barrington",113,"0113",null,null,null,null,76501,1,765,"SOUTHERN BERKSHIRE",6,{"$f":"VLOOKUP(P148,'Townwide Contributions'!$A$9:$B$361,2,0)","v":"Alford"},"ALFORD                       "]
[420,null,"821 Greater Fall River",821,"Greater Fall River",821,"0821",null,null,null,null,76502,2,765,"SOUTHERN BERKSHIRE",90,{"$f":"VLOOKUP(P149,'Townwide Contributions'!$A$9:$B$361,2,0)","v":"Egremont"},"EGREMONT                     "]
[421,null,"823 Greater Lawrence",823,"Greater Lawrence",823,"0823",null,null,null,null,76503,3,765,"SOUTHERN BERKSHIRE",193,{"$f":"VLOOKUP(P150,'Townwide Contributions'!$A$9:$B$361,2,0)","v":"Monterey"},"MONTEREY                     "]
[423,null,"828 Greater Lowell",828,"Greater Lowell",828,"0828",null,null,null,null,76504,4,765,"SOUTHERN BERKSHIRE",205,{"$f":"VLOOKUP(P151,'Townwide Contributions'!$A$9:$B$361,2,0)","v":"New Marlborough"},"NEW MARLBOROUGH              "]
[422,null,"825 Greater New Bedford",825,"Greater New Bedford",825,"0825",null,null,null,null,76505,5,765,"SOUTHERN BERKSHIRE",267,{"$f":"VLOOKUP(P152,'Townwide Contributions'!$A$9:$B$361,2,0)","v":"Sheffield"},"SHEFFIELD                    "]
[114,null,"114 Greenfield",114,"Greenfield",114,"0114",null,null,null,null,76601,1,766,"SOUTHWICK TOLLAND GRANVILLE",112,{"$f":"VLOOKUP(P153,'Townwide Contributions'!$A$9:$B$361,2,0)","v":"Granville"},"GRANVILLE                    "]
[115,null,"115 Groton",115,"Groton",115,"0115",null,null,null,null,76602,2,766,"SOUTHWICK TOLLAND GRANVILLE",279,{"$f":"VLOOKUP(P154,'Townwide Contributions'!$A$9:$B$361,2,0)","v":"Southwick"},"SOUTHWICK                    "]
[377,null,"673 Groton Dunstable",673,"Groton Dunstable",673,"0673",null,null,null,null,76603,3,766,"SOUTHWICK TOLLAND GRANVILLE",297,{"$f":"VLOOKUP(P155,'Townwide Contributions'!$A$9:$B$361,2,0)","v":"Tolland"},"TOLLAND                      "]
[116,null,"116 Groveland",116,"Groveland",116,"0116",null,null,null,null,76701,1,767,"SPENCER EAST BROOKFIELD",84,{"$f":"VLOOKUP(P156,'Townwide Contributions'!$A$9:$B$361,2,0)","v":"East Brookfield"},"EAST BROOKFIELD              "]
[117,null,"117 Hadley",117,"Hadley",117,"0117",null,null,null,null,76702,2,767,"SPENCER EAST BROOKFIELD",280,{"$f":"VLOOKUP(P157,'Townwide Contributions'!$A$9:$B$361,2,0)","v":"Spencer"},"SPENCER                      "]
[118,null,"118 Halifax",118,"Halifax",118,"0118",null,null,null,null,77001,1,770,"TANTASQUA",43,{"$f":"VLOOKUP(P158,'Townwide Contributions'!$A$9:$B$361,2,0)","v":"Brimfield"},"BRIMFIELD                    "]
[119,null,"119 Hamilton",119,"Hamilton",119,"0119",null,null,null,null,77002,2,770,"TANTASQUA",45,{"$f":"VLOOKUP(P159,'Townwide Contributions'!$A$9:$B$361,2,0)","v":"Brookfield"},"BROOKFIELD                   "]
[379,null,"675 Hamilton Wenham",675,"Hamilton Wenham",675,"0675",null,null,null,null,77003,3,770,"TANTASQUA",135,{"$f":"VLOOKUP(P160,'Townwide Contributions'!$A$9:$B$361,2,0)","v":"Holland"},"HOLLAND                      "]
[120,null,"120 Hampden",120,"Hampden",120,"0120",null,null,null,null,77004,4,770,"TANTASQUA",287,{"$f":"VLOOKUP(P161,'Townwide Contributions'!$A$9:$B$361,2,0)","v":"Sturbridge"},"STURBRIDGE                   "]
[380,null,"680 Hampden Wilbraham",680,"Hampden Wilbraham",680,"0680",null,null,null,null,77005,5,770,"TANTASQUA",306,{"$f":"VLOOKUP(P162,'Townwide Contributions'!$A$9:$B$361,2,0)","v":"Wales"},"WALES                        "]
[381,null,"683 Hampshire",683,"Hampshire",683,"0683",null,null,null,null,77301,1,773,"TRITON",203,{"$f":"VLOOKUP(P163,'Townwide Contributions'!$A$9:$B$361,2,0)","v":"Newbury"},"NEWBURY                      "]
[121,null,"121 Hancock",121,"Hancock",121,"0121",null,null,null,null,77302,2,773,"TRITON",254,{"$f":"VLOOKUP(P164,'Townwide Contributions'!$A$9:$B$361,2,0)","v":"Rowley"},"ROWLEY                       "]
[122,null,"122 Hanover",122,"Hanover",122,"0122",null,null,null,null,77303,3,773,"TRITON",259,{"$f":"VLOOKUP(P165,'Townwide Contributions'!$A$9:$B$361,2,0)","v":"Salisbury"},"SALISBURY                    "]
[123,null,"123 Hanson",123,"Hanson",123,"0123",null,null,null,null,77401,1,774,"UPISLAND",62,{"$f":"VLOOKUP(P166,'Townwide Contributions'!$A$9:$B$361,2,0)","v":"Chilmark"},"CHILMARK                     "]
[124,null,"124 Hardwick",124,"Hardwick",124,"0124",null,null,null,null,77402,2,774,"UPISLAND",104,{"$f":"VLOOKUP(P167,'Townwide Contributions'!$A$9:$B$361,2,0)","v":"Aquinnah"},"AQUINNAH"]
[125,null,"125 Harvard",125,"Harvard",125,"0125",null,null,null,null,77403,3,774,"UPISLAND",334,{"$f":"VLOOKUP(P168,'Townwide Contributions'!$A$9:$B$361,2,0)","v":"West Tisbury"},"WEST TISBURY                 "]
[126,null,"126 Harwich",126,"Harwich",126,"0126",null,null,null,null,77501,1,775,"WACHUSETT",134,{"$f":"VLOOKUP(P169,'Townwide Contributions'!$A$9:$B$361,2,0)","v":"Holden"},"HOLDEN                       "]
[127,null,"127 Hatfield",127,"Hatfield",127,"0127",null,null,null,null,77502,2,775,"WACHUSETT",228,{"$f":"VLOOKUP(P170,'Townwide Contributions'!$A$9:$B$361,2,0)","v":"Paxton"},"PAXTON                       "]
[128,null,"128 Haverhill",128,"Haverhill",128,"0128",null,null,null,null,77503,3,775,"WACHUSETT",241,{"$f":"VLOOKUP(P171,'Townwide Contributions'!$A$9:$B$361,2,0)","v":"Princeton"},"PRINCETON                    "]
[382,null,"685 Hawlemont",685,"Hawlemont",685,"0685",null,null,null,null,77504,4,775,"WACHUSETT",257,{"$f":"VLOOKUP(P172,'Townwide Contributions'!$A$9:$B$361,2,0)","v":"Rutland"},"RUTLAND                      "]
[129,null,"129 Hawley",129,"Hawley",129,"0129",null,null,null,null,77505,5,775,"WACHUSETT",282,{"$f":"VLOOKUP(P173,'Townwide Contributions'!$A$9:$B$361,2,0)","v":"Sterling"},"STERLING                     "]
[130,null,"130 Heath",130,"Heath",130,"0130",null,null,null,null,77801,1,778,"QUABOAG",311,{"$f":"VLOOKUP(P174,'Townwide Contributions'!$A$9:$B$361,2,0)","v":"Warren"},"WARREN                       "]
[131,null,"131 Hingham",131,"Hingham",131,"0131",null,null,null,null,77802,2,778,"QUABOAG",324,{"$f":"VLOOKUP(P175,'Townwide Contributions'!$A$9:$B$361,2,0)","v":"West Brookfield"},"WEST BROOKFIELD              "]
[132,null,"132 Hinsdale",132,"Hinsdale",132,"0132",null,null,null,null,78001,1,780,"WHITMAN HANSON",123,{"$f":"VLOOKUP(P176,'Townwide Contributions'!$A$9:$B$361,2,0)","v":"Hanson"},"HANSON                       "]
[133,null,"133 Holbrook",133,"Holbrook",133,"0133",null,null,null,null,78002,2,780,"WHITMAN HANSON",338,{"$f":"VLOOKUP(P177,'Townwide Contributions'!$A$9:$B$361,2,0)","v":"Whitman"},"WHITMAN                      "]
[134,null,"134 Holden",134,"Holden",134,"0134",null,null,null,null,80101,1,801,"ASSABET VALLEY",28,{"$f":"VLOOKUP(P178,'Townwide Contributions'!$A$9:$B$361,2,0)","v":"Berlin"},"BERLIN                       "]
[135,null,"135 Holland",135,"Holland",135,"0135",null,null,null,null,80102,2,801,"ASSABET VALLEY",141,{"$f":"VLOOKUP(P179,'Townwide Contributions'!$A$9:$B$361,2,0)","v":"Hudson"},"HUDSON                       "]
[136,null,"136 Holliston",136,"Holliston",136,"0136",null,null,null,null,80103,3,801,"ASSABET VALLEY",170,{"$f":"VLOOKUP(P180,'Townwide Contributions'!$A$9:$B$361,2,0)","v":"Marlborough"},"MARLBOROUGH                  "]
[137,null,"137 Holyoke",137,"Holyoke",137,"0137",null,null,null,null,80104,4,801,"ASSABET VALLEY",174,{"$f":"VLOOKUP(P181,'Townwide Contributions'!$A$9:$B$361,2,0)","v":"Maynard"},"MAYNARD                      "]
[356,null,"603 Hoosac Valley",603,"Hoosac Valley",603,"0603",null,null,null,null,80105,5,801,"ASSABET VALLEY",213,{"$f":"VLOOKUP(P182,'Townwide Contributions'!$A$9:$B$361,2,0)","v":"Northborough"},"NORTHBOROUGH                 "]
[138,null,"138 Hopedale",138,"Hopedale",138,"0138",null,null,null,null,80106,6,801,"ASSABET VALLEY",276,{"$f":"VLOOKUP(P183,'Townwide Contributions'!$A$9:$B$361,2,0)","v":"Southborough"},"SOUTHBOROUGH                 "]
[139,null,"139 Hopkinton",139,"Hopkinton",139,"0139",null,null,null,null,80107,7,801,"ASSABET VALLEY",321,{"$f":"VLOOKUP(P184,'Townwide Contributions'!$A$9:$B$361,2,0)","v":"Westborough"},"WESTBOROUGH                  "]
[140,null,"140 Hubbardston",140,"Hubbardston",140,"0140",null,null,null,null,80501,1,805,"BLACKSTONE VALLEY",25,{"$f":"VLOOKUP(P185,'Townwide Contributions'!$A$9:$B$361,2,0)","v":"Bellingham"},"BELLINGHAM                   "]
[141,null,"141 Hudson",141,"Hudson",141,"0141",null,null,null,null,80502,2,805,"BLACKSTONE VALLEY",32,{"$f":"VLOOKUP(P186,'Townwide Contributions'!$A$9:$B$361,2,0)","v":"Blackstone"},"BLACKSTONE                   "]
[142,null,"142 Hull",142,"Hull",142,"0142",null,null,null,null,80503,3,805,"BLACKSTONE VALLEY",77,{"$f":"VLOOKUP(P187,'Townwide Contributions'!$A$9:$B$361,2,0)","v":"Douglas"},"DOUGLAS                      "]
[143,null,"143 Huntington",143,"Huntington",143,"0143",null,null,null,null,80504,4,805,"BLACKSTONE VALLEY",110,{"$f":"VLOOKUP(P188,'Townwide Contributions'!$A$9:$B$361,2,0)","v":"Grafton"},"GRAFTON                      "]
[144,null,"144 Ipswich",144,"Ipswich",144,"0144",null,null,null,null,80505,5,805,"BLACKSTONE VALLEY",138,{"$f":"VLOOKUP(P189,'Townwide Contributions'!$A$9:$B$361,2,0)","v":"Hopedale"},"HOPEDALE                     "]
[383,null,"690 King Philip",690,"King Philip",690,"0690",null,null,null,null,80506,6,805,"BLACKSTONE VALLEY",179,{"$f":"VLOOKUP(P190,'Townwide Contributions'!$A$9:$B$361,2,0)","v":"Mendon"},"MENDON                       "]
[145,null,"145 Kingston",145,"Kingston",145,"0145",null,null,null,null,80507,7,805,"BLACKSTONE VALLEY",185,{"$f":"VLOOKUP(P191,'Townwide Contributions'!$A$9:$B$361,2,0)","v":"Milford"},"MILFORD                      "]
[146,null,"146 Lakeville",146,"Lakeville",146,"0146",null,null,null,null,80508,8,805,"BLACKSTONE VALLEY",186,{"$f":"VLOOKUP(P192,'Townwide Contributions'!$A$9:$B$361,2,0)","v":"Millbury"},"MILLBURY                     "]
[147,null,"147 Lancaster",147,"Lancaster",147,"0147",null,null,null,null,80509,9,805,"BLACKSTONE VALLEY",188,{"$f":"VLOOKUP(P193,'Townwide Contributions'!$A$9:$B$361,2,0)","v":"Millville"},"MILLVILLE                    "]
[148,null,"148 Lanesborough",148,"Lanesborough",148,"0148",null,null,null,null,80510,10,805,"BLACKSTONE VALLEY",214,{"$f":"VLOOKUP(P194,'Townwide Contributions'!$A$9:$B$361,2,0)","v":"Northbridge"},"NORTHBRIDGE                  "]
[149,null,"149 Lawrence",149,"Lawrence",149,"0149",null,null,null,null,80511,11,805,"BLACKSTONE VALLEY",290,{"$f":"VLOOKUP(P195,'Townwide Contributions'!$A$9:$B$361,2,0)","v":"Sutton"},"SUTTON                       "]
[150,null,"150 Lee",150,"Lee",150,"0150",null,null,null,null,80512,12,805,"BLACKSTONE VALLEY",303,{"$f":"VLOOKUP(P196,'Townwide Contributions'!$A$9:$B$361,2,0)","v":"Upton"},"UPTON                        "]
[151,null,"151 Leicester",151,"Leicester",151,"0151",null,null,null,null,80513,13,805,"BLACKSTONE VALLEY",304,{"$f":"VLOOKUP(P197,'Townwide Contributions'!$A$9:$B$361,2,0)","v":"Uxbridge"},"UXBRIDGE                     "]
[152,null,{"$f":"PROPER(D198&\" \"&E198)","v":"152 Lenox"},152,"Lenox",152,"0152",null,null,null,null,80601,1,806,"BLUE HILLS",18,{"$f":"VLOOKUP(P198,'Townwide Contributions'!$A$9:$B$361,2,0)","v":"Avon"},"AVON                         "]
[153,null,"153 Leominster",153,"Leominster",153,"0153",null,null,null,null,80602,2,806,"BLUE HILLS",40,{"$f":"VLOOKUP(P199,'Townwide Contributions'!$A$9:$B$361,2,0)","v":"Braintree"},"BRAINTREE                    "]
[154,null,"154 Leverett",154,"Leverett",154,"0154",null,null,null,null,80603,3,806,"BLUE HILLS",50,{"$f":"VLOOKUP(P200,'Townwide Contributions'!$A$9:$B$361,2,0)","v":"Canton"},"CANTON                       "]
[155,null,"155 Lexington",155,"Lexington",155,"0155",null,null,null,null,80604,4,806,"BLUE HILLS",73,{"$f":"VLOOKUP(P201,'Townwide Contributions'!$A$9:$B$361,2,0)","v":"Dedham"},"DEDHAM                       "]
[156,null,"156 Leyden",156,"Leyden",156,"0156",null,null,null,null,80605,5,806,"BLUE HILLS",133,{"$f":"VLOOKUP(P202,'Townwide Contributions'!$A$9:$B$361,2,0)","v":"Holbrook"},"HOLBROOK                     "]
[157,null,"157 Lincoln",157,"Lincoln",157,"0157",null,null,null,null,80606,6,806,"BLUE HILLS",189,{"$f":"VLOOKUP(P203,'Townwide Contributions'!$A$9:$B$361,2,0)","v":"Milton"},"MILTON                       "]
[384,null,"695 Lincoln Sudbury",695,"Lincoln Sudbury",695,"0695",null,null,null,null,80607,7,806,"BLUE HILLS",220,{"$f":"VLOOKUP(P204,'Townwide Contributions'!$A$9:$B$361,2,0)","v":"Norwood"},"NORWOOD                      "]
[158,null,"158 Littleton",158,"Littleton",158,"0158",null,null,null,null,80608,8,806,"BLUE HILLS",244,{"$f":"VLOOKUP(P205,'Townwide Contributions'!$A$9:$B$361,2,0)","v":"Randolph"},"RANDOLPH                     "]
[159,null,"159 Longmeadow",159,"Longmeadow",159,"0159",null,null,null,null,80609,9,806,"BLUE HILLS",335,{"$f":"VLOOKUP(P206,'Townwide Contributions'!$A$9:$B$361,2,0)","v":"Westwood"},"WESTWOOD                     "]
[160,null,"160 Lowell",160,"Lowell",160,"0160",null,null,null,null,81001,1,810,"BRISTOL PLYMOUTH",27,{"$f":"VLOOKUP(P207,'Townwide Contributions'!$A$9:$B$361,2,0)","v":"Berkley"},"BERKLEY                      "]
[161,null,"161 Ludlow",161,"Ludlow",161,"0161",null,null,null,null,81002,2,810,"BRISTOL PLYMOUTH",42,{"$f":"VLOOKUP(P208,'Townwide Contributions'!$A$9:$B$361,2,0)","v":"Bridgewater"},"BRIDGEWATER                  "]
[162,null,"162 Lunenburg",162,"Lunenburg",162,"0162",null,null,null,null,81003,3,810,"BRISTOL PLYMOUTH",76,{"$f":"VLOOKUP(P209,'Townwide Contributions'!$A$9:$B$361,2,0)","v":"Dighton"},"DIGHTON                      "]
[163,null,"163 Lynn",163,"Lynn",163,"0163",null,null,null,null,81004,4,810,"BRISTOL PLYMOUTH",182,{"$f":"VLOOKUP(P210,'Townwide Contributions'!$A$9:$B$361,2,0)","v":"Middleborough"},"MIDDLEBOROUGH                "]
[164,null,"164 Lynnfield",164,"Lynnfield",164,"0164",null,null,null,null,81005,5,810,"BRISTOL PLYMOUTH",245,{"$f":"VLOOKUP(P211,'Townwide Contributions'!$A$9:$B$361,2,0)","v":"Raynham"},"RAYNHAM                      "]
[165,null,"165 Malden",165,"Malden",165,"0165",null,null,null,null,81006,6,810,"BRISTOL PLYMOUTH",247,{"$f":"VLOOKUP(P212,'Townwide Contributions'!$A$9:$B$361,2,0)","v":"Rehoboth"},"REHOBOTH                     "]
[166,null,"166 Manchester",166,"Manchester",166,"0166",null,null,null,null,81007,7,810,"BRISTOL PLYMOUTH",293,{"$f":"VLOOKUP(P213,'Townwide Contributions'!$A$9:$B$361,2,0)","v":"Taunton"},"TAUNTON                      "]
[385,null,"698 Manchester Essex",698,"Manchester Essex",698,"0698",null,null,null,null,81501,1,815,"CAPE COD",20,{"$f":"VLOOKUP(P214,'Townwide Contributions'!$A$9:$B$361,2,0)","v":"Barnstable"},"BARNSTABLE                   "]
[167,null,"167 Mansfield",167,"Mansfield",167,"0167",null,null,null,null,81502,2,815,"CAPE COD",41,{"$f":"VLOOKUP(P215,'Townwide Contributions'!$A$9:$B$361,2,0)","v":"Brewster"},"BREWSTER                     "]
[168,null,"168 Marblehead",168,"Marblehead",168,"0168",null,null,null,null,81503,3,815,"CAPE COD",55,{"$f":"VLOOKUP(P216,'Townwide Contributions'!$A$9:$B$361,2,0)","v":"Chatham"},"CHATHAM                      "]
[169,null,"169 Marion",169,"Marion",169,"0169",null,null,null,null,81504,4,815,"CAPE COD",75,{"$f":"VLOOKUP(P217,'Townwide Contributions'!$A$9:$B$361,2,0)","v":"Dennis"},"DENNIS                       "]
[170,null,"170 Marlborough",170,"Marlborough",170,"0170",null,null,null,null,81505,5,815,"CAPE COD",85,{"$f":"VLOOKUP(P218,'Townwide Contributions'!$A$9:$B$361,2,0)","v":"Eastham"},"EASTHAM                      "]
[171,null,"171 Marshfield",171,"Marshfield",171,"0171",null,null,null,null,81506,6,815,"CAPE COD",126,{"$f":"VLOOKUP(P219,'Townwide Contributions'!$A$9:$B$361,2,0)","v":"Harwich"},"HARWICH                      "]
[386,null,"700 Marthas Vineyard",700,"Marthas Vineyard",700,"0700",null,null,null,null,81507,7,815,"CAPE COD",172,{"$f":"VLOOKUP(P220,'Townwide Contributions'!$A$9:$B$361,2,0)","v":"Mashpee"},"MASHPEE                      "]
[387,null,"705 Masconomet",705,"Masconomet",705,"0705",null,null,null,null,81508,8,815,"CAPE COD",224,{"$f":"VLOOKUP(P221,'Townwide Contributions'!$A$9:$B$361,2,0)","v":"Orleans"},"ORLEANS                      "]
[172,null,"172 Mashpee",172,"Mashpee",172,"0172",null,null,null,null,81509,9,815,"CAPE COD",242,{"$f":"VLOOKUP(P222,'Townwide Contributions'!$A$9:$B$361,2,0)","v":"Provincetown"},"PROVINCETOWN                 "]
[173,null,"173 Mattapoisett",173,"Mattapoisett",173,"0173",null,null,null,null,81510,10,815,"CAPE COD",300,{"$f":"VLOOKUP(P223,'Townwide Contributions'!$A$9:$B$361,2,0)","v":"Truro"},"TRURO                        "]
[174,null,"174 Maynard",174,"Maynard",174,"0174",null,null,null,null,81511,11,815,"CAPE COD",318,{"$f":"VLOOKUP(P224,'Townwide Contributions'!$A$9:$B$361,2,0)","v":"Wellfleet"},"WELLFLEET                    "]
[175,null,"175 Medfield",175,"Medfield",175,"0175",null,null,null,null,81512,12,815,"CAPE COD",351,{"$f":"VLOOKUP(P225,'Townwide Contributions'!$A$9:$B$361,2,0)","v":"Yarmouth"},"YARMOUTH                     "]
[176,null,"176 Medford",176,"Medford",176,"0176",null,null,null,null,81701,1,817,"ESSEX NORTH SHORE",30,{"$f":"VLOOKUP(P226,'Townwide Contributions'!$A$9:$B$361,2,0)","v":"Beverly"},"BEVERLY                      "]
[177,null,"177 Medway",177,"Medway",177,"0177",null,null,null,null,81702,2,817,"ESSEX NORTH SHORE",38,{"$f":"VLOOKUP(P227,'Townwide Contributions'!$A$9:$B$361,2,0)","v":"Boxford"},"BOXFORD                      "]
[178,null,"178 Melrose",178,"Melrose",178,"0178",null,null,null,null,81703,3,817,"ESSEX NORTH SHORE",71,{"$f":"VLOOKUP(P228,'Townwide Contributions'!$A$9:$B$361,2,0)","v":"Danvers"},"DANVERS                      "]
[179,null,"179 Mendon",179,"Mendon",179,"0179",null,null,null,null,81704,4,817,"ESSEX NORTH SHORE",92,{"$f":"VLOOKUP(P229,'Townwide Contributions'!$A$9:$B$361,2,0)","v":"Essex"},"ESSEX                        "]
[388,null,"710 Mendon Upton",710,"Mendon Upton",710,"0710",null,null,null,null,81705,5,817,"ESSEX NORTH SHORE",107,{"$f":"VLOOKUP(P230,'Townwide Contributions'!$A$9:$B$361,2,0)","v":"Gloucester"},"GLOUCESTER                   "]
[180,null,"180 Merrimac",180,"Merrimac",180,"0180",null,null,null,null,81706,6,817,"ESSEX NORTH SHORE",119,{"$f":"VLOOKUP(P231,'Townwide Contributions'!$A$9:$B$361,2,0)","v":"Hamilton"},"HAMILTON                     "]
[181,null,"181 Methuen",181,"Methuen",181,"0181",null,null,null,null,81707,7,817,"ESSEX NORTH SHORE",164,{"$f":"VLOOKUP(P232,'Townwide Contributions'!$A$9:$B$361,2,0)","v":"Lynnfield"},"LYNNFIELD                    "]
[182,null,"182 Middleborough",182,"Middleborough",182,"0182",null,null,null,null,81708,8,817,"ESSEX NORTH SHORE",166,{"$f":"VLOOKUP(P233,'Townwide Contributions'!$A$9:$B$361,2,0)","v":"Manchester"},"MANCHESTER                   "]
[183,null,"183 Middlefield",183,"Middlefield",183,"0183",null,null,null,null,81709,9,817,"ESSEX NORTH SHORE",168,{"$f":"VLOOKUP(P234,'Townwide Contributions'!$A$9:$B$361,2,0)","v":"Marblehead"},"MARBLEHEAD                   "]
[184,null,"184 Middleton",184,"Middleton",184,"0184",null,null,null,null,81710,10,817,"ESSEX NORTH SHORE",184,{"$f":"VLOOKUP(P235,'Townwide Contributions'!$A$9:$B$361,2,0)","v":"Middleton"},"MIDDLETON                    "]
[185,null,"185 Milford",185,"Milford",185,"0185",null,null,null,null,81711,11,817,"ESSEX NORTH SHORE",196,{"$f":"VLOOKUP(P236,'Townwide Contributions'!$A$9:$B$361,2,0)","v":"Nahant"},"NAHANT                       "]
[186,null,"186 Millbury",186,"Millbury",186,"0186",null,null,null,null,81712,12,817,"ESSEX NORTH SHORE",229,{"$f":"VLOOKUP(P237,'Townwide Contributions'!$A$9:$B$361,2,0)","v":"Peabody"},"PEABODY"]
[187,null,"187 Millis",187,"Millis",187,"0187",null,null,null,null,81713,13,817,"ESSEX NORTH SHORE",252,{"$f":"VLOOKUP(P238,'Townwide Contributions'!$A$9:$B$361,2,0)","v":"Rockport"},"ROCKPORT                     "]
[188,null,"188 Millville",188,"Millville",188,"0188",null,null,null,null,81714,14,817,"ESSEX NORTH SHORE",258,{"$f":"VLOOKUP(P239,'Townwide Contributions'!$A$9:$B$361,2,0)","v":"Salem"},"SALEM                        "]
[189,null,"189 Milton",189,"Milton",189,"0189",null,null,null,null,81715,15,817,"ESSEX NORTH SHORE",291,{"$f":"VLOOKUP(P240,'Townwide Contributions'!$A$9:$B$361,2,0)","v":"Swampscott"},"SWAMPSCOTT                   "]
[425,null,"830 Minuteman",830,"Minuteman",830,"0830",null,null,null,null,81716,16,817,"ESSEX NORTH SHORE",298,{"$f":"VLOOKUP(P241,'Townwide Contributions'!$A$9:$B$361,2,0)","v":"Topsfield"},"TOPSFIELD                    "]
[391,null,"717 Mohawk Trail",717,"Mohawk Trail",717,"0717",null,null,null,null,81717,17,817,"ESSEX NORTH SHORE",320,{"$f":"VLOOKUP(P242,'Townwide Contributions'!$A$9:$B$361,2,0)","v":"Wenham"},"WENHAM                       "]
[389,null,"712 Monomoy",712,"Monomoy",712,"0712",null,null,null,null,81801,1,818,"FRANKLIN COUNTY",29,{"$f":"VLOOKUP(P243,'Townwide Contributions'!$A$9:$B$361,2,0)","v":"Bernardston"},"BERNARDSTON                  "]
[190,null,"190 Monroe",190,"Monroe",190,"0190",null,null,null,null,81802,2,818,"FRANKLIN COUNTY",47,{"$f":"VLOOKUP(P244,'Townwide Contributions'!$A$9:$B$361,2,0)","v":"Buckland"},"BUCKLAND                     "]
[191,null,"191 Monson",191,"Monson",191,"0191",null,null,null,null,81803,3,818,"FRANKLIN COUNTY",66,{"$f":"VLOOKUP(P245,'Townwide Contributions'!$A$9:$B$361,2,0)","v":"Colrain"},"COLRAIN                      "]
[426,null,"832 Montachusett",832,"Montachusett",832,"0832",null,null,null,null,81804,4,818,"FRANKLIN COUNTY",68,{"$f":"VLOOKUP(P246,'Townwide Contributions'!$A$9:$B$361,2,0)","v":"Conway"},"CONWAY                       "]
[192,null,"192 Montague",192,"Montague",192,"0192",null,null,null,null,81805,5,818,"FRANKLIN COUNTY",74,{"$f":"VLOOKUP(P247,'Townwide Contributions'!$A$9:$B$361,2,0)","v":"Deerfield"},"DEERFIELD                    "]
[193,null,"193 Monterey",193,"Monterey",193,"0193",null,null,null,null,81806,6,818,"FRANKLIN COUNTY",91,{"$f":"VLOOKUP(P248,'Townwide Contributions'!$A$9:$B$361,2,0)","v":"Erving"},"ERVING                       "]
[194,null,"194 Montgomery",194,"Montgomery",194,"0194",null,null,null,null,81807,7,818,"FRANKLIN COUNTY",106,{"$f":"VLOOKUP(P249,'Townwide Contributions'!$A$9:$B$361,2,0)","v":"Gill"},"GILL                         "]
[390,null,"715 Mount Greylock",715,"Mount Greylock",715,"0715",null,null,null,null,81808,8,818,"FRANKLIN COUNTY",114,{"$f":"VLOOKUP(P250,'Townwide Contributions'!$A$9:$B$361,2,0)","v":"Greenfield"},"GREENFIELD                   "]
[195,null,"195 Mount Washington",195,"Mount Washington",195,"0195",null,null,null,null,81809,9,818,"FRANKLIN COUNTY",130,{"$f":"VLOOKUP(P251,'Townwide Contributions'!$A$9:$B$361,2,0)","v":"Heath"},"HEATH                        "]
[196,null,"196 Nahant",196,"Nahant",196,"0196",null,null,null,null,81810,10,818,"FRANKLIN COUNTY",156,{"$f":"VLOOKUP(P252,'Townwide Contributions'!$A$9:$B$361,2,0)","v":"Leyden"},"LEYDEN                       "]
[197,null,"197 Nantucket",197,"Nantucket",197,"0197",null,null,null,null,81811,11,818,"FRANKLIN COUNTY",192,{"$f":"VLOOKUP(P253,'Townwide Contributions'!$A$9:$B$361,2,0)","v":"Montague"},"MONTAGUE                     "]
[392,null,"720 Narragansett",720,"Narragansett",720,"0720",null,null,null,null,81812,12,818,"FRANKLIN COUNTY",206,{"$f":"VLOOKUP(P254,'Townwide Contributions'!$A$9:$B$361,2,0)","v":"New Salem"},"NEW SALEM                    "]
[393,null,"725 Nashoba",725,"Nashoba",725,"0725",null,null,null,null,81813,13,818,"FRANKLIN COUNTY",216,{"$f":"VLOOKUP(P255,'Townwide Contributions'!$A$9:$B$361,2,0)","v":"Northfield"},"NORTHFIELD                   "]
[428,null,"852 Nashoba Valley",852,"Nashoba Valley",852,"0852",null,null,null,null,81814,14,818,"FRANKLIN COUNTY",223,{"$f":"VLOOKUP(P256,'Townwide Contributions'!$A$9:$B$361,2,0)","v":"Orange"},"ORANGE                       "]
[198,null,"198 Natick",198,"Natick",198,"0198",null,null,null,null,81815,15,818,"FRANKLIN COUNTY",268,{"$f":"VLOOKUP(P257,'Townwide Contributions'!$A$9:$B$361,2,0)","v":"Shelburne"},"SHELBURNE                    "]
[372,null,"660 Nauset",660,"Nauset",660,"0660",null,null,null,null,81816,16,818,"FRANKLIN COUNTY",289,{"$f":"VLOOKUP(P258,'Townwide Contributions'!$A$9:$B$361,2,0)","v":"Sunderland"},"SUNDERLAND                   "]
[199,null,"199 Needham",199,"Needham",199,"0199",null,null,null,null,81817,17,818,"FRANKLIN COUNTY",312,{"$f":"VLOOKUP(P259,'Townwide Contributions'!$A$9:$B$361,2,0)","v":"Warwick"},"WARWICK                      "]
[200,null,"200 New Ashford",200,"New Ashford",200,"0200",null,null,null,null,81818,18,818,"FRANKLIN COUNTY",319,{"$f":"VLOOKUP(P260,'Townwide Contributions'!$A$9:$B$361,2,0)","v":"Wendell"},"WENDELL                      "]
[201,null,"201 New Bedford",201,"New Bedford",201,"0201",null,null,null,null,81819,19,818,"FRANKLIN COUNTY",337,{"$f":"VLOOKUP(P261,'Townwide Contributions'!$A$9:$B$361,2,0)","v":"Whately"},"WHATELY                      "]
[202,null,{"$f":"PROPER(D262&\" \"&E262)","v":"202 New Braintree"},202,"New Braintree",202,"0202",null,null,null,null,82101,1,821,"GREATER FALL RIVER",95,{"$f":"VLOOKUP(P262,'Townwide Contributions'!$A$9:$B$361,2,0)","v":"Fall River"},"FALL RIVER                   "]
[205,null,"205 New Marlborough",205,"New Marlborough",205,"0205",null,null,null,null,82102,2,821,"GREATER FALL RIVER",273,{"$f":"VLOOKUP(P263,'Townwide Contributions'!$A$9:$B$361,2,0)","v":"Somerset"},"SOMERSET                     "]
[206,null,"206 New Salem",206,"New Salem",206,"0206",null,null,null,null,82103,3,821,"GREATER FALL RIVER",292,{"$f":"VLOOKUP(P264,'Townwide Contributions'!$A$9:$B$361,2,0)","v":"Swansea"},"SWANSEA                      "]
[394,null,"728 New Salem Wendell",728,"New Salem Wendell",728,"0728",null,null,null,null,82104,4,821,"GREATER FALL RIVER",331,{"$f":"VLOOKUP(P265,'Townwide Contributions'!$A$9:$B$361,2,0)","v":"Westport"},"WESTPORT                     "]
[203,null,"203 Newbury",203,"Newbury",203,"0203",null,null,null,null,82301,1,823,"GREATER LAWRENCE",9,{"$f":"VLOOKUP(P266,'Townwide Contributions'!$A$9:$B$361,2,0)","v":"Andover"},"ANDOVER                      "]
[204,null,"204 Newburyport",204,"Newburyport",204,"0204",null,null,null,null,82302,2,823,"GREATER LAWRENCE",149,{"$f":"VLOOKUP(P267,'Townwide Contributions'!$A$9:$B$361,2,0)","v":"Lawrence"},"LAWRENCE                     "]
[207,null,"207 Newton",207,"Newton",207,"0207",null,null,null,null,82303,3,823,"GREATER LAWRENCE",181,{"$f":"VLOOKUP(P268,'Townwide Contributions'!$A$9:$B$361,2,0)","v":"Methuen"},"METHUEN                      "]
[208,null,"208 Norfolk",208,"Norfolk",208,"0208",null,null,null,null,82304,4,823,"GREATER LAWRENCE",211,{"$f":"VLOOKUP(P269,'Townwide Contributions'!$A$9:$B$361,2,0)","v":"North Andover"},"NORTH ANDOVER                "]
[440,null,"915 Norfolk County",915,"Norfolk County",915,"0915",null,null,null,null,82501,1,825,"GREATER NEW BEDFORD",72,{"$f":"VLOOKUP(P270,'Townwide Contributions'!$A$9:$B$361,2,0)","v":"Dartmouth"},"DARTMOUTH                    "]
[209,null,"209 North Adams",209,"North Adams",209,"0209",null,null,null,null,82502,2,825,"GREATER NEW BEDFORD",94,{"$f":"VLOOKUP(P271,'Townwide Contributions'!$A$9:$B$361,2,0)","v":"Fairhaven"},"FAIRHAVEN                    "]
[211,null,"211 North Andover",211,"North Andover",211,"0211",null,null,null,null,82503,3,825,"GREATER NEW BEDFORD",201,{"$f":"VLOOKUP(P272,'Townwide Contributions'!$A$9:$B$361,2,0)","v":"New Bedford"},"NEW BEDFORD                  "]
[212,null,"212 North Attleborough",212,"North Attleborough",212,"0212",null,null,null,null,82801,1,828,"GREATER LOWELL",79,{"$f":"VLOOKUP(P273,'Townwide Contributions'!$A$9:$B$361,2,0)","v":"Dracut"},"DRACUT                       "]
[215,null,"215 North Brookfield",215,"North Brookfield",215,"0215",null,null,null,null,82802,2,828,"GREATER LOWELL",81,{"$f":"VLOOKUP(P274,'Townwide Contributions'!$A$9:$B$361,2,0)","v":"Dunstable"},"DUNSTABLE                    "]
[396,null,"735 North Middlesex",735,"North Middlesex",735,"0735",null,null,null,null,82803,3,828,"GREATER LOWELL",160,{"$f":"VLOOKUP(P275,'Townwide Contributions'!$A$9:$B$361,2,0)","v":"Lowell"},"LOWELL                       "]
[217,null,"217 North Reading",217,"North Reading",217,"0217",null,null,null,null,82804,4,828,"GREATER LOWELL",301,{"$f":"VLOOKUP(P276,'Townwide Contributions'!$A$9:$B$361,2,0)","v":"Tyngsborough"},"TYNGSBOROUGH                 "]
[210,null,"210 Northampton",210,"Northampton",210,"0210",null,null,null,null,82901,1,829,"SOUTH MIDDLESEX",14,{"$f":"VLOOKUP(P277,'Townwide Contributions'!$A$9:$B$361,2,0)","v":"Ashland"},"ASHLAND                      "]
[354,null,"406 Northampton Smith",406,"Northampton Smith",406,"0406",null,null,null,null,82902,2,829,"SOUTH MIDDLESEX",100,{"$f":"VLOOKUP(P278,'Townwide Contributions'!$A$9:$B$361,2,0)","v":"Framingham"},"FRAMINGHAM                   "]
[395,null,"730 Northboro Southboro",730,"Northboro Southboro",730,"0730",null,null,null,null,82903,3,829,"SOUTH MIDDLESEX",136,{"$f":"VLOOKUP(P279,'Townwide Contributions'!$A$9:$B$361,2,0)","v":"Holliston"},"HOLLISTON                    "]
[213,null,"213 Northborough",213,"Northborough",213,"0213",null,null,null,null,82904,4,829,"SOUTH MIDDLESEX",139,{"$f":"VLOOKUP(P280,'Townwide Contributions'!$A$9:$B$361,2,0)","v":"Hopkinton"},"HOPKINTON                    "]
[214,null,"214 Northbridge",214,"Northbridge",214,"0214",null,null,null,null,82905,5,829,"SOUTH MIDDLESEX",198,{"$f":"VLOOKUP(P281,'Townwide Contributions'!$A$9:$B$361,2,0)","v":"Natick"},"NATICK                       "]
[429,null,"853 Northeast Metropolitan",853,"Northeast Metropolitan",853,"0853",null,null,null,null,83001,1,830,"MINUTEMAN",2,{"$f":"VLOOKUP(P282,'Townwide Contributions'!$A$9:$B$361,2,0)","v":"Acton"},"ACTON                        "]
[427,null,"851 Northern Berkshire",851,"Northern Berkshire",851,"0851",null,null,null,null,83002,2,830,"MINUTEMAN",10,{"$f":"VLOOKUP(P283,'Townwide Contributions'!$A$9:$B$361,2,0)","v":"Arlington"},"ARLINGTON                    "]
[216,null,"216 Northfield",216,"Northfield",216,"0216",null,null,null,null,83003,3,830,"MINUTEMAN",34,{"$f":"VLOOKUP(P284,'Townwide Contributions'!$A$9:$B$361,2,0)","v":"Bolton"},"BOLTON                       "]
[218,null,"218 Norton",218,"Norton",218,"0218",null,null,null,null,83004,4,830,"MINUTEMAN",67,{"$f":"VLOOKUP(P285,'Townwide Contributions'!$A$9:$B$361,2,0)","v":"Concord"},"CONCORD                      "]
[219,null,"219 Norwell",219,"Norwell",219,"0219",null,null,null,null,83005,5,830,"MINUTEMAN",78,{"$f":"VLOOKUP(P286,'Townwide Contributions'!$A$9:$B$361,2,0)","v":"Dover"},"DOVER                        "]
[220,null,"220 Norwood",220,"Norwood",220,"0220",null,null,null,null,83006,6,830,"MINUTEMAN",147,{"$f":"VLOOKUP(P287,'Townwide Contributions'!$A$9:$B$361,2,0)","v":"Lancaster"},"LANCASTER                    "]
[221,null,"221 Oak Bluffs",221,"Oak Bluffs",221,"0221",null,null,null,null,83007,7,830,"MINUTEMAN",155,{"$f":"VLOOKUP(P288,'Townwide Contributions'!$A$9:$B$361,2,0)","v":"Lexington"},"LEXINGTON                    "]
[222,null,"222 Oakham",222,"Oakham",222,"0222",null,null,null,null,83008,8,830,"MINUTEMAN",199,{"$f":"VLOOKUP(P289,'Townwide Contributions'!$A$9:$B$361,2,0)","v":"Needham"},"NEEDHAM                      "]
[430,null,"855 Old Colony",855,"Old Colony",855,"0855",null,null,null,null,83009,9,830,"MINUTEMAN",286,{"$f":"VLOOKUP(P290,'Townwide Contributions'!$A$9:$B$361,2,0)","v":"Stow"},"STOW                         "]
[397,null,"740 Old Rochester",740,"Old Rochester",740,"0740",null,null,null,null,83201,1,832,"MONTACHUSETT",11,{"$f":"VLOOKUP(P291,'Townwide Contributions'!$A$9:$B$361,2,0)","v":"Ashburnham"},"ASHBURNHAM                   "]
[223,null,"223 Orange",223,"Orange",223,"0223",null,null,null,null,83202,2,832,"MONTACHUSETT",12,{"$f":"VLOOKUP(P292,'Townwide Contributions'!$A$9:$B$361,2,0)","v":"Ashby"},"ASHBY                        "]
[224,null,"224 Orleans",224,"Orleans",224,"0224",null,null,null,null,83203,3,832,"MONTACHUSETT",15,{"$f":"VLOOKUP(P293,'Townwide Contributions'!$A$9:$B$361,2,0)","v":"Athol"},"ATHOL                        "]
[225,null,"225 Otis",225,"Otis",225,"0225",null,null,null,null,83204,4,832,"MONTACHUSETT",21,{"$f":"VLOOKUP(P294,'Townwide Contributions'!$A$9:$B$361,2,0)","v":"Barre"},"BARRE                        "]
[226,null,"226 Oxford",226,"Oxford",226,"0226",null,null,null,null,83205,5,832,"MONTACHUSETT",97,{"$f":"VLOOKUP(P295,'Townwide Contributions'!$A$9:$B$361,2,0)","v":"Fitchburg"},"FITCHBURG                    "]
[227,null,"227 Palmer",227,"Palmer",227,"0227",null,null,null,null,83206,6,832,"MONTACHUSETT",103,{"$f":"VLOOKUP(P296,'Townwide Contributions'!$A$9:$B$361,2,0)","v":"Gardner"},"GARDNER                      "]
[431,null,"860 Pathfinder",860,"Pathfinder",860,"0860",null,null,null,null,83207,7,832,"MONTACHUSETT",125,{"$f":"VLOOKUP(P297,'Townwide Contributions'!$A$9:$B$361,2,0)","v":"Harvard"},"HARVARD                      "]
[228,null,"228 Paxton",228,"Paxton",228,"0228",null,null,null,null,83208,8,832,"MONTACHUSETT",134,{"$f":"VLOOKUP(P298,'Townwide Contributions'!$A$9:$B$361,2,0)","v":"Holden"},"HOLDEN                       "]
[229,null,"229 Peabody",229,"Peabody",229,"0229",null,null,null,null,83209,9,832,"MONTACHUSETT",140,{"$f":"VLOOKUP(P299,'Townwide Contributions'!$A$9:$B$361,2,0)","v":"Hubbardston"},"HUBBARDSTON                  "]
[230,null,"230 Pelham",230,"Pelham",230,"0230",null,null,null,null,83210,10,832,"MONTACHUSETT",162,{"$f":"VLOOKUP(P300,'Townwide Contributions'!$A$9:$B$361,2,0)","v":"Lunenburg"},"LUNENBURG                    "]
[231,null,"231 Pembroke",231,"Pembroke",231,"0231",null,null,null,null,83211,11,832,"MONTACHUSETT",234,{"$f":"VLOOKUP(P301,'Townwide Contributions'!$A$9:$B$361,2,0)","v":"Petersham"},"PETERSHAM                    "]
[398,null,"745 Pentucket",745,"Pentucket",745,"0745",null,null,null,null,83212,12,832,"MONTACHUSETT",235,{"$f":"VLOOKUP(P302,'Townwide Contributions'!$A$9:$B$361,2,0)","v":"Phillipston"},"PHILLIPSTON                  "]
[232,null,"232 Pepperell",232,"Pepperell",232,"0232",null,null,null,null,83213,13,832,"MONTACHUSETT",241,{"$f":"VLOOKUP(P303,'Townwide Contributions'!$A$9:$B$361,2,0)","v":"Princeton"},"PRINCETON                    "]
[233,null,"233 Peru",233,"Peru",233,"0233",null,null,null,null,83214,14,832,"MONTACHUSETT",255,{"$f":"VLOOKUP(P304,'Townwide Contributions'!$A$9:$B$361,2,0)","v":"Royalston"},"ROYALSTON                    "]
[234,null,"234 Petersham",234,"Petersham",234,"0234",null,null,null,null,83215,15,832,"MONTACHUSETT",282,{"$f":"VLOOKUP(P305,'Townwide Contributions'!$A$9:$B$361,2,0)","v":"Sterling"},"STERLING                     "]
[235,null,"235 Phillipston",235,"Phillipston",235,"0235",null,null,null,null,83216,16,832,"MONTACHUSETT",294,{"$f":"VLOOKUP(P306,'Townwide Contributions'!$A$9:$B$361,2,0)","v":"Templeton"},"TEMPLETON                    "]
[399,null,"750 Pioneer",750,"Pioneer",750,"0750",null,null,null,null,83217,17,832,"MONTACHUSETT",328,{"$f":"VLOOKUP(P307,'Townwide Contributions'!$A$9:$B$361,2,0)","v":"Westminster"},"WESTMINSTER                  "]
[236,null,"236 Pittsfield",236,"Pittsfield",236,"0236",null,null,null,null,83218,18,832,"MONTACHUSETT",343,{"$f":"VLOOKUP(P308,'Townwide Contributions'!$A$9:$B$361,2,0)","v":"Winchendon"},"WINCHENDON                   "]
[237,null,"237 Plainfield",237,"Plainfield",237,"0237",null,null,null,null,85101,1,851,"NORTHERN BERKSHIRE",4,{"$f":"VLOOKUP(P309,'Townwide Contributions'!$A$9:$B$361,2,0)","v":"Adams"},"ADAMS                        "]
[238,null,"238 Plainville",238,"Plainville",238,"0238",null,null,null,null,85102,2,851,"NORTHERN BERKSHIRE",58,{"$f":"VLOOKUP(P310,'Townwide Contributions'!$A$9:$B$361,2,0)","v":"Cheshire"},"CHESHIRE"]
[239,null,"239 Plymouth",239,"Plymouth",239,"0239",null,null,null,null,85103,3,851,"NORTHERN BERKSHIRE",63,{"$f":"VLOOKUP(P311,'Townwide Contributions'!$A$9:$B$361,2,0)","v":"Clarksburg"},"CLARKSBURG                   "]
[240,null,"240 Plympton",240,"Plympton",240,"0240",null,null,null,null,85104,4,851,"NORTHERN BERKSHIRE",98,{"$f":"VLOOKUP(P312,'Townwide Contributions'!$A$9:$B$361,2,0)","v":"Florida"},"FLORIDA                      "]
[241,null,"241 Princeton",241,"Princeton",241,"0241",null,null,null,null,85105,5,851,"NORTHERN BERKSHIRE",148,{"$f":"VLOOKUP(P313,'Townwide Contributions'!$A$9:$B$361,2,0)","v":"Lanesborough"},"LANESBOROUGH                 "]
[242,null,"242 Provincetown",242,"Provincetown",242,"0242",null,null,null,null,85106,6,851,"NORTHERN BERKSHIRE",190,{"$f":"VLOOKUP(P314,'Townwide Contributions'!$A$9:$B$361,2,0)","v":"Monroe"},"MONROE                       "]
[400,null,"753 Quabbin",753,"Quabbin",753,"0753",null,null,null,null,85107,7,851,"NORTHERN BERKSHIRE",209,{"$f":"VLOOKUP(P315,'Townwide Contributions'!$A$9:$B$361,2,0)","v":"North Adams"},"NORTH ADAMS                  "]
[411,null,"778 Quaboag",778,"Quaboag",778,"0778",null,null,null,null,85108,8,851,"NORTHERN BERKSHIRE",263,{"$f":"VLOOKUP(P316,'Townwide Contributions'!$A$9:$B$361,2,0)","v":"Savoy"},"SAVOY                        "]
[243,null,"243 Quincy",243,"Quincy",243,"0243",null,null,null,null,85109,9,851,"NORTHERN BERKSHIRE",341,{"$f":"VLOOKUP(P317,'Townwide Contributions'!$A$9:$B$361,2,0)","v":"Williamstown"},"WILLIAMSTOWN                 "]
[401,null,"755 Ralph C Mahar",755,"Ralph C Mahar",755,"0755",null,null,null,null,85201,1,852,"NASHOBA VALLEY",19,{"$f":"VLOOKUP(P318,'Townwide Contributions'!$A$9:$B$361,2,0)","v":"Ayer"},"AYER"]
[244,null,"244 Randolph",244,"Randolph",244,"0244",null,null,null,null,85202,2,852,"NASHOBA VALLEY",56,{"$f":"VLOOKUP(P319,'Townwide Contributions'!$A$9:$B$361,2,0)","v":"Chelmsford"},"CHELMSFORD                   "]
[245,null,"245 Raynham",245,"Raynham",245,"0245",null,null,null,null,85203,3,852,"NASHOBA VALLEY",115,{"$f":"VLOOKUP(P320,'Townwide Contributions'!$A$9:$B$361,2,0)","v":"Groton"},"GROTON                       "]
[246,null,"246 Reading",246,"Reading",246,"0246",null,null,null,null,85204,4,852,"NASHOBA VALLEY",158,{"$f":"VLOOKUP(P321,'Townwide Contributions'!$A$9:$B$361,2,0)","v":"Littleton"},"LITTLETON                    "]
[247,null,"247 Rehoboth",247,"Rehoboth",247,"0247",null,null,null,null,85205,5,852,"NASHOBA VALLEY",232,{"$f":"VLOOKUP(P322,'Townwide Contributions'!$A$9:$B$361,2,0)","v":"Pepperell"},"PEPPERELL                    "]
[248,null,"248 Revere",248,"Revere",248,"0248",null,null,null,null,85206,6,852,"NASHOBA VALLEY",270,{"$f":"VLOOKUP(P323,'Townwide Contributions'!$A$9:$B$361,2,0)","v":"Shirley"},"SHIRLEY                      "]
[249,null,"249 Richmond",249,"Richmond",249,"0249",null,null,null,null,85207,7,852,"NASHOBA VALLEY",299,{"$f":"VLOOKUP(P324,'Townwide Contributions'!$A$9:$B$361,2,0)","v":"Townsend"},"TOWNSEND                     "]
[250,null,"250 Rochester",250,"Rochester",250,"0250",null,null,null,null,85208,8,852,"NASHOBA VALLEY",326,{"$f":"VLOOKUP(P325,'Townwide Contributions'!$A$9:$B$361,2,0)","v":"Westford"},"WESTFORD                     "]
[251,null,{"$f":"PROPER(D326&\" \"&E326)","v":"251 Rockland"},251,"Rockland",251,"0251",null,null,null,null,85301,1,853,"NORTHEAST METROPOLITAN",57,{"$f":"VLOOKUP(P326,'Townwide Contributions'!$A$9:$B$361,2,0)","v":"Chelsea"},"CHELSEA                      "]
[252,null,"252 Rockport",252,"Rockport",252,"0252",null,null,null,null,85302,2,853,"NORTHEAST METROPOLITAN",165,{"$f":"VLOOKUP(P327,'Townwide Contributions'!$A$9:$B$361,2,0)","v":"Malden"},"MALDEN                       "]
[253,null,"253 Rowe",253,"Rowe",253,"0253",null,null,null,null,85303,3,853,"NORTHEAST METROPOLITAN",178,{"$f":"VLOOKUP(P328,'Townwide Contributions'!$A$9:$B$361,2,0)","v":"Melrose"},"MELROSE                      "]
[254,null,"254 Rowley",254,"Rowley",254,"0254",null,null,null,null,85304,4,853,"NORTHEAST METROPOLITAN",217,{"$f":"VLOOKUP(P329,'Townwide Contributions'!$A$9:$B$361,2,0)","v":"North Reading"},"NORTH READING                "]
[255,null,"255 Royalston",255,"Royalston",255,"0255",null,null,null,null,85305,5,853,"NORTHEAST METROPOLITAN",246,{"$f":"VLOOKUP(P330,'Townwide Contributions'!$A$9:$B$361,2,0)","v":"Reading"},"READING                      "]
[256,null,"256 Russell",256,"Russell",256,"0256",null,null,null,null,85306,6,853,"NORTHEAST METROPOLITAN",248,{"$f":"VLOOKUP(P331,'Townwide Contributions'!$A$9:$B$361,2,0)","v":"Revere"},"REVERE                       "]
[257,null,"257 Rutland",257,"Rutland",257,"0257",null,null,null,null,85307,7,853,"NORTHEAST METROPOLITAN",262,{"$f":"VLOOKUP(P332,'Townwide Contributions'!$A$9:$B$361,2,0)","v":"Saugus"},"SAUGUS                       "]
[258,null,"258 Salem",258,"Salem",258,"0258",null,null,null,null,85308,8,853,"NORTHEAST METROPOLITAN",284,{"$f":"VLOOKUP(P333,'Townwide Contributions'!$A$9:$B$361,2,0)","v":"Stoneham"},"STONEHAM                     "]
[259,null,"259 Salisbury",259,"Salisbury",259,"0259",null,null,null,null,85309,9,853,"NORTHEAST METROPOLITAN",305,{"$f":"VLOOKUP(P334,'Townwide Contributions'!$A$9:$B$361,2,0)","v":"Wakefield"},"WAKEFIELD                    "]
[260,null,"260 Sandisfield",260,"Sandisfield",260,"0260",null,null,null,null,85310,10,853,"NORTHEAST METROPOLITAN",344,{"$f":"VLOOKUP(P335,'Townwide Contributions'!$A$9:$B$361,2,0)","v":"Winchester"},"WINCHESTER                   "]
[261,null,"261 Sandwich",261,"Sandwich",261,"0261",null,null,null,null,85311,11,853,"NORTHEAST METROPOLITAN",346,{"$f":"VLOOKUP(P336,'Townwide Contributions'!$A$9:$B$361,2,0)","v":"Winthrop"},"WINTHROP                     "]
[262,null,"262 Saugus",262,"Saugus",262,"0262",null,null,null,null,85312,12,853,"NORTHEAST METROPOLITAN",347,{"$f":"VLOOKUP(P337,'Townwide Contributions'!$A$9:$B$361,2,0)","v":"Woburn"},"WOBURN"]
[263,null,"263 Savoy",263,"Savoy",263,"0263",null,null,null,null,85501,1,855,"OLD COLONY",3,{"$f":"VLOOKUP(P338,'Townwide Contributions'!$A$9:$B$361,2,0)","v":"Acushnet"},"ACUSHNET                     "]
[264,null,"264 Scituate",264,"Scituate",264,"0264",null,null,null,null,85502,2,855,"OLD COLONY",52,{"$f":"VLOOKUP(P339,'Townwide Contributions'!$A$9:$B$361,2,0)","v":"Carver"},"CARVER                       "]
[265,null,"265 Seekonk",265,"Seekonk",265,"0265",null,null,null,null,85503,3,855,"OLD COLONY",146,{"$f":"VLOOKUP(P340,'Townwide Contributions'!$A$9:$B$361,2,0)","v":"Lakeville"},"LAKEVILLE                    "]
[266,null,{"$f":"PROPER(D341&\" \"&E341)","v":"266 Sharon"},266,"Sharon",266,"0266",null,null,null,null,85504,4,855,"OLD COLONY",173,{"$f":"VLOOKUP(P341,'Townwide Contributions'!$A$9:$B$361,2,0)","v":"Mattapoisett"},"MATTAPOISETT                 "]
[432,null,"871 Shawsheen Valley",871,"Shawsheen Valley",871,"0871",null,null,null,null,85505,5,855,"OLD COLONY",250,{"$f":"VLOOKUP(P342,'Townwide Contributions'!$A$9:$B$361,2,0)","v":"Rochester"},"ROCHESTER                    "]
[267,null,"267 Sheffield",267,"Sheffield",267,"0267",null,null,null,null,86001,1,860,"PATHFINDER",24,{"$f":"VLOOKUP(P343,'Townwide Contributions'!$A$9:$B$361,2,0)","v":"Belchertown"},"BELCHERTOWN                  "]
[268,null,"268 Shelburne",268,"Shelburne",268,"0268",null,null,null,null,86002,2,860,"PATHFINDER",111,{"$f":"VLOOKUP(P344,'Townwide Contributions'!$A$9:$B$361,2,0)","v":"Granby"},"GRANBY                       "]
[269,null,"269 Sherborn",269,"Sherborn",269,"0269",null,null,null,null,86003,3,860,"PATHFINDER",124,{"$f":"VLOOKUP(P345,'Townwide Contributions'!$A$9:$B$361,2,0)","v":"Hardwick"},"HARDWICK                     "]
[270,null,"270 Shirley",270,"Shirley",270,"0270",null,null,null,null,86004,4,860,"PATHFINDER",191,{"$f":"VLOOKUP(P346,'Townwide Contributions'!$A$9:$B$361,2,0)","v":"Monson"},"MONSON                       "]
[271,null,"271 Shrewsbury",271,"Shrewsbury",271,"0271",null,null,null,null,86005,5,860,"PATHFINDER",202,{"$f":"VLOOKUP(P347,'Townwide Contributions'!$A$9:$B$361,2,0)","v":"New Braintree"},"NEW BRAINTREE                "]
[272,null,"272 Shutesbury",272,"Shutesbury",272,"0272",null,null,null,null,86006,6,860,"PATHFINDER",222,{"$f":"VLOOKUP(P348,'Townwide Contributions'!$A$9:$B$361,2,0)","v":"Oakham"},"OAKHAM                       "]
[402,null,"760 Silver Lake",760,"Silver Lake",760,"0760",null,null,null,null,86007,7,860,"PATHFINDER",227,{"$f":"VLOOKUP(P349,'Townwide Contributions'!$A$9:$B$361,2,0)","v":"Palmer"},"PALMER                       "]
[273,null,"273 Somerset",273,"Somerset",273,"0273",null,null,null,null,86008,8,860,"PATHFINDER",309,{"$f":"VLOOKUP(P350,'Townwide Contributions'!$A$9:$B$361,2,0)","v":"Ware"},"WARE                         "]
[403,null,"763 Somerset Berkley",763,"Somerset Berkley",763,"0763",null,null,null,null,86009,9,860,"PATHFINDER",311,{"$f":"VLOOKUP(P351,'Townwide Contributions'!$A$9:$B$361,2,0)","v":"Warren"},"WARREN                       "]
[274,null,"274 Somerville",274,"Somerville",274,"0274",null,null,null,null,87101,1,871,"SHAWSHEEN VALLEY",23,{"$f":"VLOOKUP(P352,'Townwide Contributions'!$A$9:$B$361,2,0)","v":"Bedford"},"BEDFORD                      "]
[278,null,"278 South Hadley",278,"South Hadley",278,"0278",null,null,null,null,87102,2,871,"SHAWSHEEN VALLEY",31,{"$f":"VLOOKUP(P353,'Townwide Contributions'!$A$9:$B$361,2,0)","v":"Billerica"},"BILLERICA                    "]
[424,null,"829 South Middlesex",829,"South Middlesex",829,"0829",null,null,null,null,87103,3,871,"SHAWSHEEN VALLEY",48,{"$f":"VLOOKUP(P354,'Townwide Contributions'!$A$9:$B$361,2,0)","v":"Burlington"},"BURLINGTON                   "]
[434,null,"873 South Shore",873,"South Shore",873,"0873",null,null,null,null,87104,4,871,"SHAWSHEEN VALLEY",295,{"$f":"VLOOKUP(P355,'Townwide Contributions'!$A$9:$B$361,2,0)","v":"Tewksbury"},"TEWKSBURY                    "]
[275,null,"275 Southampton",275,"Southampton",275,"0275",null,null,null,null,87105,5,871,"SHAWSHEEN VALLEY",342,{"$f":"VLOOKUP(P356,'Townwide Contributions'!$A$9:$B$361,2,0)","v":"Wilmington"},"WILMINGTON                   "]
[276,null,"276 Southborough",276,"Southborough",276,"0276",88,null,null,null,87201,1,872,"SOUTHEASTERN",44,{"$f":"VLOOKUP(P357,'Townwide Contributions'!$A$9:$B$361,2,0)","v":"Brockton"},"BROCKTON                     "]
[277,null,"277 Southbridge",277,"Southbridge",277,"0277",{"$f":"B358","v":0},null,null,null,87202,2,872,"SOUTHEASTERN",83,{"$f":"VLOOKUP(P358,'Townwide Contributions'!$A$9:$B$361,2,0)","v":"East Bridgewater"},"EAST BRIDGEWATER             "]
[433,null,"872 Southeastern",872,"Southeastern",872,"0872",{"$f":"B359","v":0},null,null,null,87203,3,872,"SOUTHEASTERN",88,{"$f":"VLOOKUP(P359,'Townwide Contributions'!$A$9:$B$361,2,0)","v":"Easton"},"EASTON                       "]
[404,null,"765 Southern Berkshire",765,"Southern Berkshire",765,"0765",0,null,null,null,87204,4,872,"SOUTHEASTERN",99,{"$f":"VLOOKUP(P360,'Townwide Contributions'!$A$9:$B$361,2,0)","v":"Foxborough"},"FOXBOROUGH                   "]
[435,null,"876 Southern Worcester",876,"Southern Worcester",876,"0876",0,null,null,null,87205,5,872,"SOUTHEASTERN",167,{"$f":"VLOOKUP(P361,'Townwide Contributions'!$A$9:$B$361,2,0)","v":"Mansfield"},"MANSFIELD                    "]
[279,null,"279 Southwick",279,"Southwick",279,"0279",0,null,null,null,87206,6,872,"SOUTHEASTERN",218,{"$f":"VLOOKUP(P362,'Townwide Contributions'!$A$9:$B$361,2,0)","v":"Norton"},"NORTON                       "]
[405,null,"766 Southwick Tolland Granville",766,"Southwick Tolland Granville",766,"0766",0,null,null,null,87207,7,872,"SOUTHEASTERN",266,{"$f":"VLOOKUP(P363,'Townwide Contributions'!$A$9:$B$361,2,0)","v":"Sharon"},"SHARON                       "]
[280,null,"280 Spencer",280,"Spencer",280,"0280",0,null,null,null,87208,8,872,"SOUTHEASTERN",285,{"$f":"VLOOKUP(P364,'Townwide Contributions'!$A$9:$B$361,2,0)","v":"Stoughton"},"STOUGHTON                    "]
[406,null,"767 Spencer East Brookfield",767,"Spencer East Brookfield",767,"0767",0,null,null,null,87209,9,872,"SOUTHEASTERN",323,{"$f":"VLOOKUP(P365,'Townwide Contributions'!$A$9:$B$361,2,0)","v":"West Bridgewater"},"WEST BRIDGEWATER             "]
[281,null,"281 Springfield",281,"Springfield",281,"0281",0,null,null,null,87301,1,873,"SOUTH SHORE",1,{"$f":"VLOOKUP(P366,'Townwide Contributions'!$A$9:$B$361,2,0)","v":"Abington"},"ABINGTON                     "]
[282,null,"282 Sterling",282,"Sterling",282,"0282",0,null,null,null,87302,2,873,"SOUTH SHORE",65,{"$f":"VLOOKUP(P367,'Townwide Contributions'!$A$9:$B$361,2,0)","v":"Cohasset"},"COHASSET                     "]
[283,null,"283 Stockbridge",283,"Stockbridge",283,"0283",0,null,null,null,87303,3,873,"SOUTH SHORE",122,{"$f":"VLOOKUP(P368,'Townwide Contributions'!$A$9:$B$361,2,0)","v":"Hanover"},"HANOVER                      "]
[284,null,"284 Stoneham",284,"Stoneham",284,"0284",0,null,null,null,87304,4,873,"SOUTH SHORE",123,{"$f":"VLOOKUP(P369,'Townwide Contributions'!$A$9:$B$361,2,0)","v":"Hanson"},"HANSON                       "]
[285,null,"285 Stoughton",285,"Stoughton",285,"0285",0,null,null,null,87305,5,873,"SOUTH SHORE",219,{"$f":"VLOOKUP(P370,'Townwide Contributions'!$A$9:$B$361,2,0)","v":"Norwell"},"NORWELL                      "]
[286,null,"286 Stow",286,"Stow",286,"0286",0,null,null,null,87306,6,873,"SOUTH SHORE",251,{"$f":"VLOOKUP(P371,'Townwide Contributions'!$A$9:$B$361,2,0)","v":"Rockland"},"ROCKLAND                     "]
[287,null,"287 Sturbridge",287,"Sturbridge",287,"0287",0,null,null,null,87307,7,873,"SOUTH SHORE",264,{"$f":"VLOOKUP(P372,'Townwide Contributions'!$A$9:$B$361,2,0)","v":"Scituate"},"SCITUATE                     "]
[288,null,{"$f":"PROPER(D373&\" \"&E373)","v":"288 Sudbury"},288,"Sudbury",288,"0288",0,null,null,null,87308,8,873,"SOUTH SHORE",338,{"$f":"VLOOKUP(P373,'Townwide Contributions'!$A$9:$B$361,2,0)","v":"Whitman"},"WHITMAN                      "]
[289,null,"289 Sunderland",289,"Sunderland",289,"0289",0,null,null,null,87601,1,876,"SOUTHERN WORCESTER",17,{"$f":"VLOOKUP(P374,'Townwide Contributions'!$A$9:$B$361,2,0)","v":"Auburn"},"AUBURN                       "]
[290,null,"290 Sutton",290,"Sutton",290,"0290",0,null,null,null,87602,2,876,"SOUTHERN WORCESTER",54,{"$f":"VLOOKUP(P375,'Townwide Contributions'!$A$9:$B$361,2,0)","v":"Charlton"},"CHARLTON                     "]
[291,null,"291 Swampscott",291,"Swampscott",291,"0291",0,null,null,null,87603,3,876,"SOUTHERN WORCESTER",80,{"$f":"VLOOKUP(P376,'Townwide Contributions'!$A$9:$B$361,2,0)","v":"Dudley"},"DUDLEY                       "]
[292,null,"292 Swansea",292,"Swansea",292,"0292",0,null,null,null,87604,4,876,"SOUTHERN WORCESTER",215,{"$f":"VLOOKUP(P377,'Townwide Contributions'!$A$9:$B$361,2,0)","v":"North Brookfield"},"NORTH BROOKFIELD             "]
[407,null,"770 Tantasqua",770,"Tantasqua",770,"0770",0,null,null,null,87605,5,876,"SOUTHERN WORCESTER",226,{"$f":"VLOOKUP(P378,'Townwide Contributions'!$A$9:$B$361,2,0)","v":"Oxford"},"OXFORD                       "]
[293,null,"293 Taunton",293,"Taunton",293,"0293",0,null,null,null,87606,6,876,"SOUTHERN WORCESTER",228,{"$f":"VLOOKUP(P379,'Townwide Contributions'!$A$9:$B$361,2,0)","v":"Paxton"},"PAXTON                       "]
[294,null,"294 Templeton",294,"Templeton",294,"0294",0,null,null,null,87607,7,876,"SOUTHERN WORCESTER",257,{"$f":"VLOOKUP(P380,'Townwide Contributions'!$A$9:$B$361,2,0)","v":"Rutland"},"RUTLAND                      "]
[295,null,"295 Tewksbury",295,"Tewksbury",295,"0295",0,null,null,null,87608,8,876,"SOUTHERN WORCESTER",277,{"$f":"VLOOKUP(P381,'Townwide Contributions'!$A$9:$B$361,2,0)","v":"Southbridge"},"SOUTHBRIDGE                  "]
[296,null,"296 Tisbury",296,"Tisbury",296,"0296",0,null,null,null,87609,9,876,"SOUTHERN WORCESTER",280,{"$f":"VLOOKUP(P382,'Townwide Contributions'!$A$9:$B$361,2,0)","v":"Spencer"},"SPENCER                      "]
[297,null,"297 Tolland",297,"Tolland",297,"0297",0,null,null,null,87610,10,876,"SOUTHERN WORCESTER",316,{"$f":"VLOOKUP(P383,'Townwide Contributions'!$A$9:$B$361,2,0)","v":"Webster"},"WEBSTER                      "]
[298,null,"298 Topsfield",298,"Topsfield",298,"0298",0,null,null,null,87801,1,878,"TRI COUNTY",101,{"$f":"VLOOKUP(P384,'Townwide Contributions'!$A$9:$B$361,2,0)","v":"Franklin"},"FRANKLIN                     "]
[299,null,"299 Townsend",299,"Townsend",299,"0299",0,null,null,null,87802,2,878,"TRI COUNTY",175,{"$f":"VLOOKUP(P385,'Townwide Contributions'!$A$9:$B$361,2,0)","v":"Medfield"},"MEDFIELD                     "]
[436,null,"878 Tri County",878,"Tri County",878,"0878",0,null,null,null,87803,3,878,"TRI COUNTY",177,{"$f":"VLOOKUP(P386,'Townwide Contributions'!$A$9:$B$361,2,0)","v":"Medway"},"MEDWAY                       "]
[408,null,"773 Triton",773,"Triton",773,"0773",0,null,null,null,87804,4,878,"TRI COUNTY",187,{"$f":"VLOOKUP(P387,'Townwide Contributions'!$A$9:$B$361,2,0)","v":"Millis"},"MILLIS                       "]
[300,null,"300 Truro",300,"Truro",300,"0300",0,null,null,null,87805,5,878,"TRI COUNTY",208,{"$f":"VLOOKUP(P388,'Townwide Contributions'!$A$9:$B$361,2,0)","v":"Norfolk"},"NORFOLK                      "]
[301,null,"301 Tyngsborough",301,"Tyngsborough",301,"0301",0,null,null,null,87806,6,878,"TRI COUNTY",212,{"$f":"VLOOKUP(P389,'Townwide Contributions'!$A$9:$B$361,2,0)","v":"North Attleborough"},"NORTH ATTLEBOROUGH           "]
[302,null,"302 Tyringham",302,"Tyringham",302,"0302",0,null,null,null,87807,7,878,"TRI COUNTY",238,{"$f":"VLOOKUP(P390,'Townwide Contributions'!$A$9:$B$361,2,0)","v":"Plainville"},"PLAINVILLE                   "]
[409,null,"774 Upisland",774,"Upisland",774,"0774",0,null,null,null,87808,8,878,"TRI COUNTY",265,{"$f":"VLOOKUP(P391,'Townwide Contributions'!$A$9:$B$361,2,0)","v":"Seekonk"},"SEEKONK                      "]
[437,null,"879 Upper Cape Cod",879,"Upper Cape Cod",879,"0879",0,null,null,null,87809,9,878,"TRI COUNTY",269,{"$f":"VLOOKUP(P392,'Townwide Contributions'!$A$9:$B$361,2,0)","v":"Sherborn"},"SHERBORN                     "]
[303,null,"303 Upton",303,"Upton",303,"0303",0,null,null,null,87810,10,878,"TRI COUNTY",307,{"$f":"VLOOKUP(P393,'Townwide Contributions'!$A$9:$B$361,2,0)","v":"Walpole"},"WALPOLE                      "]
[304,null,"304 Uxbridge",304,"Uxbridge",304,"0304",0,null,null,null,87811,11,878,"TRI COUNTY",350,{"$f":"VLOOKUP(P394,'Townwide Contributions'!$A$9:$B$361,2,0)","v":"Wrentham"},"WRENTHAM                     "]
[410,null,"775 Wachusett",775,"Wachusett",775,"0775",0,null,null,null,87901,1,879,"UPPER CAPE COD",36,{"$f":"VLOOKUP(P395,'Townwide Contributions'!$A$9:$B$361,2,0)","v":"Bourne"},"BOURNE                       "]
[305,null,"305 Wakefield",305,"Wakefield",305,"0305",0,null,null,null,87902,2,879,"UPPER CAPE COD",96,{"$f":"VLOOKUP(P396,'Townwide Contributions'!$A$9:$B$361,2,0)","v":"Falmouth"},"FALMOUTH                     "]
[306,null,"306 Wales",306,"Wales",306,"0306",0,null,null,null,87903,3,879,"UPPER CAPE COD",169,{"$f":"VLOOKUP(P397,'Townwide Contributions'!$A$9:$B$361,2,0)","v":"Marion"},"MARION                       "]
[307,null,"307 Walpole",307,"Walpole",307,"0307",0,null,null,null,87904,4,879,"UPPER CAPE COD",261,{"$f":"VLOOKUP(P398,'Townwide Contributions'!$A$9:$B$361,2,0)","v":"Sandwich"},"SANDWICH                     "]
[308,null,"308 Waltham",308,"Waltham",308,"0308",0,null,null,null,87905,5,879,"UPPER CAPE COD",310,{"$f":"VLOOKUP(P399,'Townwide Contributions'!$A$9:$B$361,2,0)","v":"Wareham"},"WAREHAM                      "]
[309,null,"309 Ware",309,"Ware",309,"0309",0,null,null,null,88501,1,885,"WHITTIER",7,{"$f":"VLOOKUP(P400,'Townwide Contributions'!$A$9:$B$361,2,0)","v":"Amesbury"},"AMESBURY                     "]
[310,null,"310 Wareham",310,"Wareham",310,"0310",0,null,null,null,88502,2,885,"WHITTIER",105,{"$f":"VLOOKUP(P401,'Townwide Contributions'!$A$9:$B$361,2,0)","v":"Georgetown"},"GEORGETOWN                   "]
[311,null,"311 Warren",311,"Warren",311,"0311",0,null,null,null,88503,3,885,"WHITTIER",116,{"$f":"VLOOKUP(P402,'Townwide Contributions'!$A$9:$B$361,2,0)","v":"Groveland"},"GROVELAND                    "]
[312,null,"312 Warwick",312,"Warwick",312,"0312",0,null,null,null,88504,4,885,"WHITTIER",128,{"$f":"VLOOKUP(P403,'Townwide Contributions'!$A$9:$B$361,2,0)","v":"Haverhill"},"HAVERHILL                    "]
[313,null,"313 Washington",313,"Washington",313,"0313",0,null,null,null,88505,5,885,"WHITTIER",144,{"$f":"VLOOKUP(P404,'Townwide Contributions'!$A$9:$B$361,2,0)","v":"Ipswich"},"IPSWICH                      "]
[314,null,{"$f":"PROPER(D405&\" \"&E405)","v":"314 Watertown"},314,"Watertown",314,"0314",0,null,null,null,88506,6,885,"WHITTIER",180,{"$f":"VLOOKUP(P405,'Townwide Contributions'!$A$9:$B$361,2,0)","v":"Merrimac"},"MERRIMAC                     "]
[315,null,"315 Wayland",315,"Wayland",315,"0315",0,null,null,null,88507,7,885,"WHITTIER",203,{"$f":"VLOOKUP(P406,'Townwide Contributions'!$A$9:$B$361,2,0)","v":"Newbury"},"NEWBURY                      "]
[316,null,"316 Webster",316,"Webster",316,"0316",0,null,null,null,88508,8,885,"WHITTIER",204,{"$f":"VLOOKUP(P407,'Townwide Contributions'!$A$9:$B$361,2,0)","v":"Newburyport"},"NEWBURYPORT                  "]
[317,null,"317 Wellesley",317,"Wellesley",317,"0317",0,null,null,null,88509,9,885,"WHITTIER",254,{"$f":"VLOOKUP(P408,'Townwide Contributions'!$A$9:$B$361,2,0)","v":"Rowley"},"ROWLEY                       "]
[318,null,"318 Wellfleet",318,"Wellfleet",318,"0318",0,null,null,null,88510,10,885,"WHITTIER",259,{"$f":"VLOOKUP(P409,'Townwide Contributions'!$A$9:$B$361,2,0)","v":"Salisbury"},"SALISBURY                    "]
[319,null,"319 Wendell",319,"Wendell",319,"0319",0,null,null,null,88511,11,885,"WHITTIER",329,{"$f":"VLOOKUP(P410,'Townwide Contributions'!$A$9:$B$361,2,0)","v":"West Newbury"},"WEST NEWBURY                 "]
[320,null,"320 Wenham",320,"Wenham",320,"0320",0,null,null,null,91001,1,910,"BRISTOL COUNTY",3,{"$f":"VLOOKUP(P411,'Townwide Contributions'!$A$9:$B$361,2,0)","v":"Acushnet"},"ACUSHNET                     "]
[322,null,"322 West Boylston",322,"West Boylston",322,"0322",0,null,null,null,91002,2,910,"BRISTOL COUNTY",16,{"$f":"VLOOKUP(P412,'Townwide Contributions'!$A$9:$B$361,2,0)","v":"Attleboro"},"ATTLEBORO                    "]
[323,null,"323 West Bridgewater",323,"West Bridgewater",323,"0323",0,null,null,null,91003,3,910,"BRISTOL COUNTY",27,{"$f":"VLOOKUP(P413,'Townwide Contributions'!$A$9:$B$361,2,0)","v":"Berkley"},"BERKLEY                      "]
[324,null,"324 West Brookfield",324,"West Brookfield",324,"0324",0,null,null,null,91004,4,910,"BRISTOL COUNTY",72,{"$f":"VLOOKUP(P414,'Townwide Contributions'!$A$9:$B$361,2,0)","v":"Dartmouth"},"DARTMOUTH                    "]
[329,null,"329 West Newbury",329,"West Newbury",329,"0329",0,null,null,null,91005,5,910,"BRISTOL COUNTY",76,{"$f":"VLOOKUP(P415,'Townwide Contributions'!$A$9:$B$361,2,0)","v":"Dighton"},"DIGHTON                      "]
[332,null,"332 West Springfield",332,"West Springfield",332,"0332",0,null,null,null,91006,6,910,"BRISTOL COUNTY",88,{"$f":"VLOOKUP(P416,'Townwide Contributions'!$A$9:$B$361,2,0)","v":"Easton"},"EASTON                       "]
[333,null,"333 West Stockbridge",333,"West Stockbridge",333,"0333",0,null,null,null,91007,7,910,"BRISTOL COUNTY",94,{"$f":"VLOOKUP(P417,'Townwide Contributions'!$A$9:$B$361,2,0)","v":"Fairhaven"},"FAIRHAVEN                    "]
[334,null,"334 West Tisbury",334,"West Tisbury",334,"0334",0,null,null,null,91008,8,910,"BRISTOL COUNTY",95,{"$f":"VLOOKUP(P418,'Townwide Contributions'!$A$9:$B$361,2,0)","v":"Fall River"},"FALL RIVER                   "]
[321,null,"321 Westborough",321,"Westborough",321,"0321",0,null,null,null,91009,9,910,"BRISTOL COUNTY",102,{"$f":"VLOOKUP(P419,'Townwide Contributions'!$A$9:$B$361,2,0)","v":"Freetown"},"FREETOWN                     "]
[325,null,"325 Westfield",325,"Westfield",325,"0325",0,null,null,null,91010,10,910,"BRISTOL COUNTY",167,{"$f":"VLOOKUP(P420,'Townwide Contributions'!$A$9:$B$361,2,0)","v":"Mansfield"},"MANSFIELD                    "]
[326,null,"326 Westford",326,"Westford",326,"0326",0,null,null,null,91011,11,910,"BRISTOL COUNTY",201,{"$f":"VLOOKUP(P421,'Townwide Contributions'!$A$9:$B$361,2,0)","v":"New Bedford"},"NEW BEDFORD                  "]
[327,null,"327 Westhampton",327,"Westhampton",327,"0327",0,null,null,null,91012,12,910,"BRISTOL COUNTY",212,{"$f":"VLOOKUP(P422,'Townwide Contributions'!$A$9:$B$361,2,0)","v":"North Attleborough"},"NORTH ATTLEBOROUGH           "]
[328,null,"328 Westminster",328,"Westminster",328,"0328",{"$f":"B423","v":0},null,null,null,91013,13,910,"BRISTOL COUNTY",218,{"$f":"VLOOKUP(P423,'Townwide Contributions'!$A$9:$B$361,2,0)","v":"Norton"},"NORTON                       "]
[330,null,"330 Weston",330,"Weston",330,"0330",0,null,null,null,91014,14,910,"BRISTOL COUNTY",245,{"$f":"VLOOKUP(P424,'Townwide Contributions'!$A$9:$B$361,2,0)","v":"Raynham"},"RAYNHAM                      "]
[331,null,"331 Westport",331,"Westport",331,"0331",0,null,null,null,91015,15,910,"BRISTOL COUNTY",247,{"$f":"VLOOKUP(P425,'Townwide Contributions'!$A$9:$B$361,2,0)","v":"Rehoboth"},"REHOBOTH                     "]
[335,null,"335 Westwood",335,"Westwood",335,"0335",0,null,null,null,91016,16,910,"BRISTOL COUNTY",265,{"$f":"VLOOKUP(P426,'Townwide Contributions'!$A$9:$B$361,2,0)","v":"Seekonk"},"SEEKONK                      "]
[336,null,"336 Weymouth",336,"Weymouth",336,"0336",0,null,null,null,91017,17,910,"BRISTOL COUNTY",273,{"$f":"VLOOKUP(P427,'Townwide Contributions'!$A$9:$B$361,2,0)","v":"Somerset"},"SOMERSET                     "]
[337,null,"337 Whately",337,"Whately",337,"0337",0,null,null,null,91018,18,910,"BRISTOL COUNTY",292,{"$f":"VLOOKUP(P428,'Townwide Contributions'!$A$9:$B$361,2,0)","v":"Swansea"},"SWANSEA                      "]
[338,null,"338 Whitman",338,"Whitman",338,"0338",0,null,null,null,91019,19,910,"BRISTOL COUNTY",293,{"$f":"VLOOKUP(P429,'Townwide Contributions'!$A$9:$B$361,2,0)","v":"Taunton"},"TAUNTON                      "]
[412,null,"780 Whitman Hanson",780,"Whitman Hanson",780,"0780",0,null,null,null,91020,20,910,"BRISTOL COUNTY",331,{"$f":"VLOOKUP(P430,'Townwide Contributions'!$A$9:$B$361,2,0)","v":"Westport"},"WESTPORT                     "]
[438,null,"885 Whittier",885,"Whittier",885,"0885",0,null,null,null,91501,1,915,"NORFOLK COUNTY",18,{"$f":"VLOOKUP(P431,'Townwide Contributions'!$A$9:$B$361,2,0)","v":"Avon"},"AVON                         "]
[339,null,"339 Wilbraham",339,"Wilbraham",339,"0339",0,null,null,null,91502,2,915,"NORFOLK COUNTY",25,{"$f":"VLOOKUP(P432,'Townwide Contributions'!$A$9:$B$361,2,0)","v":"Bellingham"},"BELLINGHAM                   "]
[340,null,"340 Williamsburg",340,"Williamsburg",340,"0340",0,null,null,null,91503,3,915,"NORFOLK COUNTY",40,{"$f":"VLOOKUP(P433,'Townwide Contributions'!$A$9:$B$361,2,0)","v":"Braintree"},"BRAINTREE                    "]
[341,null,"341 Williamstown",341,"Williamstown",341,"0341",0,null,null,null,91504,4,915,"NORFOLK COUNTY",46,{"$f":"VLOOKUP(P434,'Townwide Contributions'!$A$9:$B$361,2,0)","v":"Brookline"},"BROOKLINE                    "]
[342,null,"342 Wilmington",342,"Wilmington",342,"0342",0,null,null,null,91505,5,915,"NORFOLK COUNTY",50,{"$f":"VLOOKUP(P435,'Townwide Contributions'!$A$9:$B$361,2,0)","v":"Canton"},"CANTON                       "]
[343,null,"343 Winchendon",343,"Winchendon",343,"0343",0,null,null,null,91506,6,915,"NORFOLK COUNTY",65,{"$f":"VLOOKUP(P436,'Townwide Contributions'!$A$9:$B$361,2,0)","v":"Cohasset"},"COHASSET                     "]
[344,null,{"$f":"PROPER(D437&\" \"&E437)","v":"344 Winchester"},344,"Winchester",344,"0344",0,null,null,null,91507,7,915,"NORFOLK COUNTY",73,{"$f":"VLOOKUP(P437,'Townwide Contributions'!$A$9:$B$361,2,0)","v":"Dedham"},"DEDHAM                       "]
[345,null,"345 Windsor",345,"Windsor",345,"0345",0,null,null,null,91508,8,915,"NORFOLK COUNTY",78,{"$f":"VLOOKUP(P438,'Townwide Contributions'!$A$9:$B$361,2,0)","v":"Dover"},"DOVER                        "]
[346,null,"346 Winthrop",346,"Winthrop",346,"0346",0,null,null,null,91509,9,915,"NORFOLK COUNTY",99,{"$f":"VLOOKUP(P439,'Townwide Contributions'!$A$9:$B$361,2,0)","v":"Foxborough"},"FOXBOROUGH                   "]
[347,null,"347 Woburn",347,"Woburn",347,"0347",0,null,null,null,91510,10,915,"NORFOLK COUNTY",101,{"$f":"VLOOKUP(P440,'Townwide Contributions'!$A$9:$B$361,2,0)","v":"Franklin"},"FRANKLIN                     "]
[348,null,"348 Worcester",348,"Worcester",348,"0348",0,null,null,null,91511,11,915,"NORFOLK COUNTY",133,{"$f":"VLOOKUP(P441,'Townwide Contributions'!$A$9:$B$361,2,0)","v":"Holbrook"},"HOLBROOK                     "]
[349,null,"349 Worthington",349,"Worthington",349,"0349",0,null,null,null,91512,12,915,"NORFOLK COUNTY",175,{"$f":"VLOOKUP(P442,'Townwide Contributions'!$A$9:$B$361,2,0)","v":"Medfield"},"MEDFIELD                     "]
[350,null,"350 Wrentham",350,"Wrentham",350,"0350",0,null,null,null,91513,13,915,"NORFOLK COUNTY",177,{"$f":"VLOOKUP(P443,'Townwide Contributions'!$A$9:$B$361,2,0)","v":"Medway"},"MEDWAY                       "]
[351,null,"351 Yarmouth",351,"Yarmouth",351,"0351",0,null,null,null,91514,14,915,"NORFOLK COUNTY",187,{"$f":"VLOOKUP(P444,'Townwide Contributions'!$A$9:$B$361,2,0)","v":"Millis"},"MILLIS                       "]
[441,null,{"$f":"PROPER(D445&\" \"&E445)","v":"999 State Total"},999,"State Total",999,"0999",88,null,null,null,91515,15,915,"NORFOLK COUNTY",189,{"$f":"VLOOKUP(P445,'Townwide Contributions'!$A$9:$B$361,2,0)","v":"Milton"},"MILTON                       "]
[null,null,null,null,null,null,null,null,null,null,null,91516,16,915,"NORFOLK COUNTY",199,{"$f":"VLOOKUP(P446,'Townwide Contributions'!$A$9:$B$361,2,0)","v":"Needham"},"NEEDHAM                      "]
[null,null,null,null,null,null,null,null,null,null,null,91517,17,915,"NORFOLK COUNTY",208,{"$f":"VLOOKUP(P447,'Townwide Contributions'!$A$9:$B$361,2,0)","v":"Norfolk"},"NORFOLK                      "]
[null,null,null,null,null,null,null,null,null,null,null,91518,18,915,"NORFOLK COUNTY",220,{"$f":"VLOOKUP(P448,'Townwide Contributions'!$A$9:$B$361,2,0)","v":"Norwood"},"NORWOOD                      "]
[null,88,"Select a regional district",null,"Select a regional district",999,"0999",88,null,null,null,91519,19,915,"NORFOLK COUNTY",238,{"$f":"VLOOKUP(P449,'Townwide Contributions'!$A$9:$B$361,2,0)","v":"Plainville"},"PLAINVILLE                   "]
[null,1,{"$f":"PROPER(D450&\" \"&E450)","v":"600 Acton Boxborough"},600,"Acton Boxborough",{"$f":"D450","v":600},{"$f":"TEXT(D450,\"0000\")","v":"0600"},{"$f":"B450","v":1},null,null,null,91520,20,915,"NORFOLK COUNTY",243,{"$f":"VLOOKUP(P450,'Townwide Contributions'!$A$9:$B$361,2,0)","v":"Quincy"},"QUINCY                       "]
[null,{"$f":"B450+1","v":2},"605 Amherst Pelham",605,"Amherst Pelham",{"$f":"D451","v":605},{"$f":"TEXT(D451,\"0000\")","v":"0605"},2,null,null,null,91521,21,915,"NORFOLK COUNTY",244,{"$f":"VLOOKUP(P451,'Townwide Contributions'!$A$9:$B$361,2,0)","v":"Randolph"},"RANDOLPH                     "]
[null,{"$f":"B451+1","v":3},"610 Ashburnham Westminster",610,"Ashburnham Westminster",610,"0610",3,null,null,null,91522,22,915,"NORFOLK COUNTY",266,{"$f":"VLOOKUP(P452,'Townwide Contributions'!$A$9:$B$361,2,0)","v":"Sharon"},"SHARON                       "]
[null,4,"801 Assabet Valley",801,"Assabet Valley",801,"0801",4,null,null,null,91523,23,915,"NORFOLK COUNTY",285,{"$f":"VLOOKUP(P453,'Townwide Contributions'!$A$9:$B$361,2,0)","v":"Stoughton"},"STOUGHTON                    "]
[null,5,"615 Athol Royalston",615,"Athol Royalston",615,"0615",5,null,null,null,91524,24,915,"NORFOLK COUNTY",307,{"$f":"VLOOKUP(P454,'Townwide Contributions'!$A$9:$B$361,2,0)","v":"Walpole"},"WALPOLE                      "]
[null,6,"616 Ayer Shirley",616,"Ayer Shirley",616,"0616",6,null,null,null,91525,25,915,"NORFOLK COUNTY",317,{"$f":"VLOOKUP(P455,'Townwide Contributions'!$A$9:$B$361,2,0)","v":"Wellesley"},"WELLESLEY                    "]
[null,7,"618 Berkshire Hills",618,"Berkshire Hills",618,"0618",7,null,null,null,91526,26,915,"NORFOLK COUNTY",335,{"$f":"VLOOKUP(P456,'Townwide Contributions'!$A$9:$B$361,2,0)","v":"Westwood"},"WESTWOOD                     "]
[null,8,"620 Berlin Boylston",620,"Berlin Boylston",620,"0620",8,null,null,null,91527,27,915,"NORFOLK COUNTY",336,{"$f":"VLOOKUP(P457,'Townwide Contributions'!$A$9:$B$361,2,0)","v":"Weymouth"},"WEYMOUTH                     "]
[null,9,"622 Blackstone Millville",622,"Blackstone Millville",622,"0622",9,null,null,null,91528,28,915,"NORFOLK COUNTY",350,{"$f":"VLOOKUP(P458,'Townwide Contributions'!$A$9:$B$361,2,0)","v":"Wrentham"},"WRENTHAM                     "]
[null,10,"805 Blackstone Valley",805,"Blackstone Valley",805,"0805",10,null,null,null,99901,1,999," "," "," "]
[null,11,"806 Blue Hills",806,"Blue Hills",806,"0806",11]
[null,12,"625 Bridgewater Raynham",625,"Bridgewater Raynham",625,"0625",12]
[null,13,"910 Bristol County",910,"Bristol County",910,"0910",13]
[null,14,"810 Bristol Plymouth",810,"Bristol Plymouth",810,"0810",14]
[null,15,"815 Cape Cod",815,"Cape Cod",815,"0815",15]
[null,16,"635 Central Berkshire",635,"Central Berkshire",635,"0635",16]
[null,17,"632 Chesterfield Goshen",632,"Chesterfield Goshen",632,"0632",17]
[null,18,"640 Concord Carlisle",640,"Concord Carlisle",640,"0640",18]
[null,19,"645 Dennis Yarmouth",645,"Dennis Yarmouth",645,"0645",19]
[null,20,"650 Dighton Rehoboth",650,"Dighton Rehoboth",650,"0650",20]
[null,21,"655 Dover Sherborn",655,"Dover Sherborn",655,"0655",21]
[null,22,"658 Dudley Charlton",658,"Dudley Charlton",658,"0658",22]
[null,23,"817 Essex North Shore",817,"Essex North Shore",817,"0817",23]
[null,24,"662 Farmington River",662,"Farmington River",662,"0662",24]
[null,25,"818 Franklin County",818,"Franklin County",818,"0818",25]
[null,26,"665 Freetown Lakeville",665,"Freetown Lakeville",665,"0665",26]
[null,27,"670 Frontier",670,"Frontier",670,"0670",27]
[null,28,"672 Gateway",672,"Gateway",672,"0672",28]
[null,29,"674 Gill Montague",674,"Gill Montague",674,"0674",29]
[null,30,"821 Greater Fall River",821,"Greater Fall River",821,"0821",30]
[null,31,"823 Greater Lawrence",823,"Greater Lawrence",823,"0823",31]
[null,32,"828 Greater Lowell",828,"Greater Lowell",828,"0828",32]
[null,33,{"$f":"PROPER(D482&\" \"&E482)","v":"825 Greater New Bedford"},825,"Greater New Bedford",825,"0825",33]
[null,34,"673 Groton Dunstable",673,"Groton Dunstable",673,"0673",34]
[null,35,"675 Hamilton Wenham",675,"Hamilton Wenham",675,"0675",35]
[null,36,"680 Hampden Wilbraham",680,"Hampden Wilbraham",680,"0680",36]
[null,37,"683 Hampshire",683,"Hampshire",683,"0683",37]
[null,38,"685 Hawlemont",685,"Hawlemont",685,"0685",38]
[null,39,"603 Hoosac Valley",603,"Hoosac Valley",603,"0603",39]
[null,40,"690 King Philip",690,"King Philip",690,"0690",40]
[null,41,"695 Lincoln Sudbury",695,"Lincoln Sudbury",695,"0695",41]
[null,42,"698 Manchester Essex",698,"Manchester Essex",698,"0698",42]
[null,43,"700 Marthas Vineyard",700,"Marthas Vineyard",700,"0700",43]
[null,44,"705 Masconomet",705,"Masconomet",705,"0705",44]
[null,45,"710 Mendon Upton",710,"Mendon Upton",710,"0710",45]
[null,46,"830 Minuteman",830,"Minuteman",830,"0830",46]
[null,47,"717 Mohawk Trail",717,"Mohawk Trail",717,"0717",47]
[null,48,"712 Monomoy",712,"Monomoy",712,"0712",48]
[null,49,"832 Montachusett",832,"Montachusett",832,"0832",49]
[null,50,"715 Mount Greylock",715,"Mount Greylock",715,"0715",50]
[null,51,"720 Narragansett",720,"Narragansett",720,"0720",51]
[null,52,"725 Nashoba",725,"Nashoba",725,"0725",52]
[null,53,"852 Nashoba Valley",852,"Nashoba Valley",852,"0852",53]
[null,54,"660 Nauset",660,"Nauset",660,"0660",54]
[null,55,"728 New Salem Wendell",728,"New Salem Wendell",728,"0728",55]
[null,56,"915 Norfolk County",915,"Norfolk County",915,"0915",56]
[null,57,"735 North Middlesex",735,"North Middlesex",735,"0735",57]
[null,58,"406 Northampton Smith",406,"Northampton Smith",406,"0406",58]
[null,59,"730 Northboro Southboro",730,"Northboro Southboro",730,"0730",59]
[null,60,"853 Northeast Metropolitan",853,"Northeast Metropolitan",853,"0853",60]
[null,61,"851 Northern Berkshire",851,"Northern Berkshire",851,"0851",61]
[null,62,"855 Old Colony",855,"Old Colony",855,"0855",62]
[null,63,"740 Old Rochester",740,"Old Rochester",740,"0740",63]
[null,64,"860 Pathfinder",860,"Pathfinder",860,"0860",64]
[null,65,{"$f":"PROPER(D514&\" \"&E514)","v":"745 Pentucket"},745,"Pentucket",745,"0745",{"$f":"B514","v":65}]
[null,66,"750 Pioneer",750,"Pioneer",{"$f":"D515","v":750},{"$f":"TEXT(D515,\"0000\")","v":"0750"},66]
[null,{"$f":"B515+1","v":67},"753 Quabbin",753,"Quabbin",753,"0753",67]
[null,68,"778 Quaboag",778,"Quaboag",778,"0778",68]
[null,69,"755 Ralph C Mahar",755,"Ralph C Mahar",755,"0755",69]
[null,70,"871 Shawsheen Valley",871,"Shawsheen Valley",871,"0871",70]
[null,71,"760 Silver Lake",760,"Silver Lake",760,"0760",71]
[null,72,"763 Somerset Berkley",763,"Somerset Berkley",763,"0763",72]
[null,73,"829 South Middlesex",829,"South Middlesex",829,"0829",73]
[null,74,"873 South Shore",873,"South Shore",873,"0873",74]
[null,75,"872 Southeastern",872,"Southeastern",872,"0872",75]
[null,76,"765 Southern Berkshire",765,"Southern Berkshire",765,"0765",76]
[null,77,"876 Southern Worcester",876,"Southern Worcester",876,"0876",77]
[null,78,"766 Southwick Tolland Granville",766,"Southwick Tolland Granville",766,"0766",78]
[null,79,"767 Spencer East Brookfield",767,"Spencer East Brookfield",767,"0767",79]
[null,80,{"$f":"PROPER(D529&\" \"&E529)","v":"770 Tantasqua"},770,"Tantasqua",770,"0770",80]
[null,81,"878 Tri County",878,"Tri County",878,"0878",81]
[null,82,"773 Triton",773,"Triton",773,"0773",82]
[null,83,"774 Upisland",774,"Upisland",774,"0774",83]
[null,84,"879 Upper Cape Cod",879,"Upper Cape Cod",879,"0879",84]
[null,85,"775 Wachusett",775,"Wachusett",775,"0775",85]
[null,86,"780 Whitman Hanson",780,"Whitman Hanson",780,"0780",86]
[null,87,"885 Whittier",885,"Whittier",885,"0885",87]
[null,null,"999 State Total",999,"State Total",999,"0999"]

{"sheet":"frac","index":18,"n_rows":461,"n_cols":11,"rows_kept":461,"cut":false,"hidden":true,"merged":[[0,6,0,10],[1,6,1,10]]}
[]
[null,null,null,null,null,null,"2023-02-14"]
[]
["fraclea","regorder",null,null,"memlea",null,null,null,null,null,"memeffpct"]
[null,null,null,null,null,null,"distfrac24","distfrac24","distfrac24"]
[]
[null,null,null,null,null,null,null,"FY24","FY24","town ","weighted"]
[null,"Record",null,null,null,null,"Foundation","Reg'l Total","Member","effort ","effort goal"]
["fraclea","Number","fraconcat","District","memlea","Town","Percentage","Headcount","Headcount","goal pct","percentage"]
[406,1,{"$f":"A10*1000+E10","v":406210},"NORTHAMPTON SMITH            ",210,"NORTHAMPTON                  ",1,115,115,{"$f":"ROUND(VLOOKUP(E10,town351,12),2)","v":82.5},{"$f":"G10*J10","v":82.5}]
[600,{"$f":"B10+1","v":2},600002,"ACTON BOXBOROUGH             ",2,"ACTON                        ",0.82872277809999995,5097,4224,82.5,{"$f":"G11*J11","v":68.369629193249992}]
[600,{"$f":"B11+1","v":3},600037,"ACTON BOXBOROUGH             ",37,"BOXBOROUGH                   ",0.1712772219,5097,873,82.5,14.130370806749999]
[603,4,603004,"HOOSAC VALLEY",4,"ADAMS                        ",0.74701873934999996,1174,877,32.86,24.547035775041]
[603,5,603058,"HOOSAC VALLEY",58,"CHESHIRE                     ",0.25298126064999998,1174,297,53.57,13.552206133020499]
[605,6,605008,"AMHERST PELHAM               ",8,"AMHERST                      ",0.78257456829000005,1274,997,80.95,63.349411303075506]
[605,7,605154,"AMHERST PELHAM               ",154,"LEVERETT                     ",8.0062794349999994E-2,1274,102,82.5,6.6051805338749991]
[605,8,605230,"AMHERST PELHAM               ",230,"PELHAM                       ",5.57299843E-2,1274,71,82.28,4.5854631082040003]
[605,9,605272,"AMHERST PELHAM               ",272,"SHUTESBURY                   ",8.1632653060000004E-2,1274,104,62.19,5.0767346938014004]
[610,10,610011,"ASHBURNHAM WESTMINSTER       ",11,"ASHBURNHAM                   ",0.45885394226999998,2321,1065,45.29,20.781495045408299]
[610,11,610328,"ASHBURNHAM WESTMINSTER       ",328,"WESTMINSTER                  ",0.54114605773000002,2321,1256,58.25,31.5217578627725]
[615,12,615015,"ATHOL ROYALSTON              ",15,"ATHOL                        ",0.93475815523000005,1778,1662,28.52,26.659302587159601]
[615,13,615255,"ATHOL ROYALSTON              ",255,"ROYALSTON                    ",6.5241844770000001E-2,1778,116,55.77,3.6385376828229004]
[616,14,616019,"AYER SHIRLEY",19,"AYER",0.56699252444000003,1739,986,73.02,41.401794134608799]
[616,15,616270,"AYER SHIRLEY",270,"SHIRLEY",0.43300747556000002,1739,753,63.78,27.617216791216801]
[618,16,618113,"BERKSHIRE HILLS              ",113,"GREAT BARRINGTON             ",0.74682203390000002,944,705,82.5,61.612817796750001]
[618,17,618283,"BERKSHIRE HILLS              ",283,"STOCKBRIDGE                  ",0.13559322033999999,944,128,82.5,11.186440678049999]
[618,18,618333,"BERKSHIRE HILLS              ",333,"WEST STOCKBRIDGE             ",0.11758474576,944,111,82.5,9.7007415251999998]
[620,19,620028,"BERLIN BOYLSTON              ",28,"BERLIN                       ",0.38811881188000003,1010,392,82.5,32.019801980099999]
[620,20,620039,"BERLIN BOYLSTON              ",39,"BOYLSTON                     ",0.61188118812000003,1010,618,82.5,50.480198019900001]
[622,21,622032,"BLACKSTONE MILLVILLE         ",32,"BLACKSTONE                   ",0.74613959234000005,1619,1208,55.6,41.485361334104006]
[622,22,622188,"BLACKSTONE MILLVILLE         ",188,"MILLVILLE                    ",0.25386040766000001,1619,411,52.64,13.363211859222401]
[625,23,625042,"BRIDGEWATER RAYNHAM          ",42,"BRIDGEWATER                  ",0.61024106986000004,5683,3468,61.99,37.828843920621402]
[625,24,625245,"BRIDGEWATER RAYNHAM          ",245,"RAYNHAM                      ",0.38975893014000002,5683,2215,61.45,23.950686257103001]
[632,25,632060,"CHESTERFIELD GOSHEN",60,"CHESTERFIELD                 ",0.49579831933000001,119,59,76.290000000000006,37.824453781685705]
[632,26,632108,"CHESTERFIELD GOSHEN",108,"GOSHEN                       ",0.50420168067000004,119,60,61.84,31.179831932632805]
[635,27,635022,"CENTRAL BERKSHIRE            ",22,"BECKET                       ",0.13173264114,1541,203,82.5,10.86794289405]
[635,28,635069,"CENTRAL BERKSHIRE            ",69,"CUMMINGTON                   ",3.1797534070000001E-2,1541,49,82.5,2.6232965607750001]
[635,29,635070,"CENTRAL BERKSHIRE            ",70,"DALTON                       ",0.57819597664,1541,891,48.74,28.1812719014336]
[635,30,635132,"CENTRAL BERKSHIRE            ",132,"HINSDALE                     ",0.12329656067,1541,190,82.5,10.171966255275001]
[635,31,635233,"CENTRAL BERKSHIRE            ",233,"PERU                         ",5.7754704740000003E-2,1541,89,55.03,3.1782414018422003]
[635,32,635313,"CENTRAL BERKSHIRE            ",313,"WASHINGTON                   ",3.5691109669999999E-2,1541,55,82.5,2.9445165477749997]
[635,33,635345,"CENTRAL BERKSHIRE            ",345,"WINDSOR                      ",4.1531473069999998E-2,1541,64,82.5,3.4263465282749999]
[640,34,640051,"CONCORD CARLISLE             ",51,"CARLISLE                     ",0.23835832675999999,1267,302,82.5,19.664561957699998]
[640,35,640067,"CONCORD CARLISLE             ",67,"CONCORD                      ",0.76164167323999998,1267,965,82.5,62.835438042299998]
[645,36,645075,"DENNIS YARMOUTH              ",75,"DENNIS                       ",0.30588960839000001,3243,992,82.5,25.235892692175]
[645,37,645351,"DENNIS YARMOUTH              ",351,"YARMOUTH                     ",0.69411039160999999,3243,2251,82.5,57.264107307825]
[650,38,650076,"DIGHTON REHOBOTH             ",76,"DIGHTON                      ",0.43846153846000002,2600,1140,55.46,24.317076922991603]
[650,39,650247,"DIGHTON REHOBOTH             ",247,"REHOBOTH                     ",0.56153846153999998,2600,1460,82.5,46.326923077049997]
[655,40,655078,"DOVER SHERBORN               ",78,"DOVER                        ",0.53641816624000005,1167,626,82.5,44.254498714800008]
[655,41,655269,"DOVER SHERBORN               ",269,"SHERBORN                     ",0.46358183376000001,1167,541,82.5,38.2455012852]
[658,42,658054,"DUDLEY CHARLTON              ",54,"CHARLTON                     ",0.53660768760999999,3278,1759,59.09,31.7081482608749]
[658,43,658080,"DUDLEY CHARLTON              ",80,"DUDLEY                       ",0.46339231239000001,3278,1519,44.51,20.625591824478899]
[660,44,660041,"NAUSET                       ",41,"BREWSTER                     ",0.48026868177999998,1191,572,82.5,39.62216624685]
[660,45,660085,"NAUSET                       ",85,"EASTHAM                      ",0.1905961377,1191,227,82.5,15.72418136025]
[660,46,660224,"NAUSET                       ",224,"ORLEANS                      ",0.2107472712,1191,251,82.5,17.386649874]
[660,47,660318,"NAUSET                       ",318,"WELLFLEET                    ",0.11838790932,1191,141,82.5,9.7670025189]
[662,48,662225,"FARMINGTON RIVER",225,"OTIS                         ",0.58928571428999998,224,132,82.5,48.616071428924997]
[662,49,662260,"FARMINGTON RIVER",260,"SANDISFIELD                  ",0.41071428571000002,224,92,82.5,33.883928571075003]
[665,50,665102,"FREETOWN LAKEVILLE           ",102,"FREETOWN                     ",0.43174489430000001,2791,1205,74.09,31.987979218687002]
[665,51,665146,"FREETOWN LAKEVILLE           ",146,"LAKEVILLE                    ",0.56825510570000004,2791,1586,72.19,41.022336080483001]
[670,52,670068,"FRONTIER                     ",68,"CONWAY                       ",0.17453798768000001,487,85,82.5,14.3993839836]
[670,53,670074,"FRONTIER                     ",74,"DEERFIELD                    ",0.46201232033,487,225,82.5,38.116016427224999]
[670,54,670289,"FRONTIER                     ",289,"SUNDERLAND                   ",0.25667351128999999,487,125,82.5,21.175564681424998]
[670,55,670337,"FRONTIER                     ",337,"WHATELY                      ",0.1067761807,487,52,76.48,8.166242299936]
[672,56,672033,"GATEWAY                      ",33,"BLANDFORD                    ",0.10853658536999999,820,89,82.5,8.9542682930249988]
[672,57,672059,"GATEWAY                      ",59,"CHESTER                      ",0.16341463414999999,820,134,54.02,8.8276585367829998]
[672,58,672143,"GATEWAY                      ",143,"HUNTINGTON                   ",0.35731707317,820,293,44.48,15.893463414601598]
[672,59,672183,"GATEWAY                      ",183,"MIDDLEFIELD                  ",2.4390243900000001E-2,820,20,82.5,2.01219512175]
[672,60,672194,"GATEWAY                      ",194,"MONTGOMERY                   ",8.9024390240000001E-2,820,73,82.5,7.3445121948000001]
[672,61,672256,"GATEWAY                      ",256,"RUSSELL                      ",0.25731707317000002,820,211,44.7,11.502073170699001]
[673,62,673081,"GROTON DUNSTABLE             ",81,"DUNSTABLE                    ",0.22959830867,2365,543,82.5,18.941860465274999]
[673,63,673115,"GROTON DUNSTABLE             ",115,"GROTON                       ",0.77040169133000003,2365,1822,82.5,63.558139534725001]
[674,64,{"$f":"A73*1000+E73","v":674106},"GILL MONTAGUE                ",106,"GILL                         ",0.11076604555,966,107,64.959999999999994,7.1953623189279989]
[674,65,674192,"GILL MONTAGUE                ",192,"MONTAGUE                     ",0.88923395444999997,966,859,{"$f":"ROUND(VLOOKUP(E74,town351,12),2)","v":47.39},42.140797101385502]
[675,66,675119,"HAMILTON WENHAM              ",119,"HAMILTON                     ",0.66256157635000001,1624,1076,82.5,{"$f":"G75*J75","v":54.661330048875001}]
[675,{"$f":"B75+1","v":67},675320,"HAMILTON WENHAM              ",320,"WENHAM                       ",0.33743842364999999,1624,548,82.5,27.838669951124999]
[680,68,680120,"HAMPDEN WILBRAHAM            ",120,"HAMPDEN                      ",0.19915104350999999,2827,563,82.5,16.429961089574999]
[680,69,680339,"HAMPDEN WILBRAHAM            ",339,"WILBRAHAM                    ",0.80084895648999999,2827,2264,65.53,52.479632118789702]
[683,70,683060,"HAMPSHIRE                    ",60,"CHESTERFIELD                 ",4.3177892920000002E-2,579,25,76.290000000000006,3.2940414508668003]
[683,71,683108,"HAMPSHIRE                    ",108,"GOSHEN                       ",6.0449050089999998E-2,579,35,61.84,3.7381692575656]
[683,72,683275,"HAMPSHIRE                    ",275,"SOUTHAMPTON                  ",0.54922279792999995,579,318,75.55,41.493782383611496]
[683,73,683327,"HAMPSHIRE                    ",327,"WESTHAMPTON                  ",0.15025906736,579,87,82.5,12.3963730572]
[683,74,683340,"HAMPSHIRE                    ",340,"WILLIAMSBURG                 ",0.19689119171,579,114,67.64,13.317720207264401]
[685,75,685053,"HAWLEMONT                    ",53,"CHARLEMONT                   ",0.86734693878000002,98,85,54.08,46.906122449222401]
[685,76,685129,"HAWLEMONT                    ",129,"HAWLEY                       ",0.13265306122000001,98,13,82.5,10.943877550650001]
[690,77,690208,"KING PHILIP                  ",208,"NORFOLK                      ",0.34968354429999998,1896,663,82.5,28.84889240475]
[690,78,690238,"KING PHILIP                  ",238,"PLAINVILLE                   ",0.25580168776000001,1896,485,78.67,20.123918776079201]
[690,79,690350,"KING PHILIP                  ",350,"WRENTHAM                     ",0.39451476793000001,1896,748,82.5,32.547468354225003]
[695,80,695157,"LINCOLN SUDBURY              ",157,"LINCOLN                      ",0.12508833922000001,1415,177,82.5,10.319787985650001]
[695,81,695288,"LINCOLN SUDBURY              ",288,"SUDBURY                      ",0.87491166078000004,1415,1238,82.5,72.180212014350005]
[698,82,698092,"MANCHESTER ESSEX",92,"ESSEX",0.42268907563000002,1190,503,82.5,34.871848739474999]
[698,83,698166,"MANCHESTER ESSEX",166,"MANCHESTER",0.57731092436999998,1190,687,82.5,47.628151260525001]
[700,84,700062,"MARTHAS VINEYARD             ",62,"CHILMARK                     ",4.3316831680000001E-2,808,35,82.5,3.5736386136]
[700,85,700089,"MARTHAS VINEYARD             ",89,"EDGARTOWN                    ",0.23267326732999999,808,188,82.5,19.195544554725]
[700,86,700104,"MARTHAS VINEYARD             ",104,"GAY HEAD                     ",1.9801980199999999E-2,808,16,82.5,1.6336633665]
[700,87,700221,"MARTHAS VINEYARD             ",221,"OAK BLUFFS                   ",0.29331683168,808,237,82.5,24.1986386136]
[700,88,700296,"MARTHAS VINEYARD             ",296,"TISBURY                      ",0.26237623762000001,808,212,82.5,21.646039603649999]
[700,89,700334,"MARTHAS VINEYARD             ",334,"WEST TISBURY                 ",0.14851485148999999,808,120,82.5,12.252475247924998]
[705,90,705038,"MASCONOMET                   ",38,"BOXFORD                      ",0.37554314091000002,1611,605,82.5,30.982309125075002]
[705,91,705184,"MASCONOMET                   ",184,"MIDDLETON                    ",0.33271260086999999,1611,536,82.5,27.448789571774999]
[705,92,705298,"MASCONOMET                   ",298,"TOPSFIELD                    ",0.29174425822,1611,470,82.5,24.06890130315]
[710,93,710179,"MENDON UPTON                 ",179,"MENDON                       ",0.42766682902999997,2053,878,82.5,35.282513394974998]
[710,94,710303,"MENDON UPTON                 ",303,"UPTON                        ",0.57233317097000003,2053,1175,78.209999999999994,44.762177301563696]
[712,95,712055,"MONOMOY",55,"CHATHAM                      ",0.23349339735999999,1666,389,82.5,19.263205282199998]
[712,96,712126,"MONOMOY",126,"HARWICH                      ",0.76650660264000003,1666,1277,82.5,63.236794717800002]
[715,97,715148,"MOUNT GREYLOCK               ",148,"LANESBOROUGH                 ",0.33423180593000001,1113,372,56.95,19.034501347713501]
[715,98,715341,"MOUNT GREYLOCK               ",341,"WILLIAMSTOWN                 ",0.66576819406999999,1113,741,82.5,54.925876010774999]
[717,99,717013,"MOHAWK TRAIL                 ",13,"ASHFIELD                     ",0.17195121951,820,141,81.91,14.0845243900641]
[717,100,717047,"MOHAWK TRAIL                 ",47,"BUCKLAND                     ",0.22439024390000001,820,184,56.48,12.673560975472]
[717,101,717053,"MOHAWK TRAIL                 ",53,"CHARLEMONT                   ",5.2439024389999998E-2,820,43,54.08,2.8359024390111998]
[717,102,717066,"MOHAWK TRAIL                 ",66,"COLRAIN                      ",0.17560975609999999,820,144,59.66,10.476878048925998]
[717,103,717129,"MOHAWK TRAIL                 ",129,"HAWLEY                       ",9.7560975599999995E-3,820,8,82.5,0.80487804870000002]
[717,104,717130,"MOHAWK TRAIL                 ",130,"HEATH                        ",0.1,820,82,41.69,4.1689999999999996]
[717,105,717237,"MOHAWK TRAIL                 ",237,"PLAINFIELD                   ",7.43902439E-2,820,61,74.95,5.5755487803050006]
[717,106,717268,"MOHAWK TRAIL                 ",268,"SHELBURNE                    ",0.19146341463,820,157,77.709999999999994,14.878621950897298]
[720,107,720235,"NARRAGANSETT                 ",235,"PHILLIPSTON                  ",0.14836795252000001,1348,200,57.14,8.477744806992801]
[720,108,720294,"NARRAGANSETT                 ",294,"TEMPLETON                    ",0.85163204747999999,1348,1148,39.32,33.4861721069136]
[725,109,725034,"NASHOBA                      ",34,"BOLTON                       ",0.32527052832999998,3142,1022,82.5,26.834818587224998]
[725,110,725147,"NASHOBA                      ",147,"LANCASTER                    ",0.32622533417999999,3142,1025,67.53,22.029996817175398]
[725,111,725286,"NASHOBA                      ",286,"STOW                         ",0.34850413748999998,3142,1095,82.5,28.751591342924996]
[728,112,728206,"NEW SALEM WENDELL            ",206,"NEW SALEM                    ",0.38333333333000003,120,46,64.7,24.801666666451002]
[728,113,728319,"NEW SALEM WENDELL            ",319,"WENDELL                      ",0.61666666667000003,120,74,41.31,25.474500000137702]
[730,114,730213,"NORTHBORO SOUTHBORO          ",213,"NORTHBOROUGH                 ",0.61129032258000005,1240,758,82.5,50.431451612850005]
[730,115,730276,"NORTHBORO SOUTHBORO          ",276,"SOUTHBOROUGH                 ",0.38870967742000001,1240,482,82.5,32.068548387150003]
[735,116,735012,"NORTH MIDDLESEX              ",12,"ASHBY                        ",0.12870340873,3139,404,56.26,7.2408537751497999]
[735,117,735232,"NORTH MIDDLESEX              ",232,"PEPPERELL                    ",0.48837209302000001,3139,1533,61.83,30.196046511426601]
[735,118,735299,"NORTH MIDDLESEX              ",299,"TOWNSEND                     ",0.38292449825000002,3139,1202,55.85,21.386333227262501]
[740,119,740169,"OLD ROCHESTER                ",169,"MARION                       ",0.31346351490000002,973,305,82.5,25.860739979250003]
[740,120,740173,"OLD ROCHESTER                ",173,"MATTAPOISETT                 ",0.33915724562999999,973,330,82.5,27.980472764475]
[740,121,740250,"OLD ROCHESTER                ",250,"ROCHESTER                    ",0.34737923946999999,973,338,70.69,24.556238438134297]
[745,122,745116,"PENTUCKET                    ",116,"GROVELAND                    ",0.39100642398000002,2335,913,78.13,30.549331905557398]
[745,123,745180,"PENTUCKET                    ",180,"MERRIMAC                     ",0.35760171305999999,2335,835,75.650000000000006,27.052569592989002]
[745,124,745329,"PENTUCKET                    ",329,"WEST NEWBURY                 ",0.25139186295999999,2335,587,82.5,20.7398286942]
[750,125,750029,"PIONEER                      ",29,"BERNARDSTON                  ",0.39518900344000002,582,230,57.41,22.687800687490398]
[750,126,750156,"PIONEER                      ",156,"LEYDEN                       ",0.10481099655999999,582,61,82.5,8.6469072161999989]
[750,127,750216,"PIONEER                      ",216,"NORTHFIELD                   ",0.5,582,291,77.36,38.68]
[753,128,{"$f":"A137*1000+E137","v":753021},"QUABBIN                      ",21,"BARRE                        ",0.38071570577000002,2012,766,{"$f":"ROUND(VLOOKUP(E137,town351,12),2)","v":41.44},15.7768588471088]
[753,129,753124,"QUABBIN                      ",124,"HARDWICK                     ",0.16202783300000001,2012,326,46.28,{"$f":"G138*J138","v":7.4986481112400005}]
[753,130,753140,"QUABBIN                      ",140,"HUBBARDSTON                  ",0.27435387674,2012,552,58.13,15.9481908548962]
[753,{"$f":"B139+1","v":131},753202,"QUABBIN                      ",202,"NEW BRAINTREE                ",5.8648111330000002E-2,2012,118,61.19,3.5886779322827]
[753,132,753222,"QUABBIN                      ",222,"OAKHAM                       ",0.12425447316,2012,250,56.37,7.0042246520292002]
[755,133,755206,"RALPH C MAHAR                ",206,"NEW SALEM                    ",6.3520871140000004E-2,551,35,64.7,4.1098003627580004]
[755,134,755223,"RALPH C MAHAR                ",223,"ORANGE                       ",0.77313974592000001,551,426,28.48,22.0190199638016]
[755,135,755234,"RALPH C MAHAR                ",234,"PETERSHAM                    ",9.9818511799999995E-2,551,55,63.23,6.3115245011139995]
[755,136,755319,"RALPH C MAHAR                ",319,"WENDELL                      ",6.3520871140000004E-2,551,35,41.31,2.6240471867934003]
[760,137,760118,"SILVER LAKE                  ",118,"HALIFAX                      ",0.29739551787000001,1651,491,59.32,17.641502120048401]
[760,138,760145,"SILVER LAKE                  ",145,"KINGSTON                     ",0.58873410054999997,1651,972,68.03,40.0515808604165]
[760,139,760240,"SILVER LAKE                  ",240,"PLYMPTON                     ",0.11387038159,1651,188,77.11,8.7805451244049006]
[763,140,763027,"SOMERSET BERKLEY",27,"BERKLEY                      ",0.25803212851000001,996,257,57.66,14.878132529886599]
[763,141,763273,"SOMERSET BERKLEY",273,"SOMERSET                     ",0.74196787148999999,996,739,56.48,41.906345381755195]
[765,142,765006,"SOUTHERN BERKSHIRE           ",6,"ALFORD                       ",3.007518797E-2,665,20,82.5,2.481203007525]
[765,143,765090,"SOUTHERN BERKSHIRE           ",90,"EGREMONT                     ",0.13984962406000001,665,93,82.5,11.53759398495]
[765,144,765193,"SOUTHERN BERKSHIRE           ",193,"MONTEREY                     ",0.11578947368,665,77,82.5,9.5526315785999998]
[765,145,765205,"SOUTHERN BERKSHIRE           ",205,"NEW MARLBOROUGH              ",0.17593984962000001,665,117,82.5,14.51503759365]
[765,146,765267,"SOUTHERN BERKSHIRE           ",267,"SHEFFIELD                    ",0.53834586466000001,665,358,82.5,44.41353383445]
[766,147,766112,"SOUTHWICK TOLLAND",112,"GRANVILLE",0.12882953653000001,1273,164,74.77,9.6325844463480994]
[766,148,766279,"SOUTHWICK TOLLAND",279,"SOUTHWICK                    ",0.84367635507000005,1273,1074,71.58,60.390353495910603]
[766,149,766297,"SOUTHWICK TOLLAND",297,"TOLLAND                      ",2.7494108409999999E-2,1273,35,82.5,2.2682639438250001]
[767,150,767084,"SPENCER EAST BROOKFIELD      ",84,"EAST BROOKFIELD              ",0.17068273092,1494,255,57.94,9.8893574295048001]
[767,151,767280,"SPENCER EAST BROOKFIELD      ",280,"SPENCER                      ",0.82931726908000003,1494,1239,51.29,42.535682731113198]
[770,152,770043,"TANTASQUA                    ",43,"BRIMFIELD                    ",0.15873015872999999,1512,240,58.49,9.2841269841176999]
[770,153,770045,"TANTASQUA                    ",45,"BROOKFIELD                   ",0.1455026455,1512,220,45.63,6.6392857141650001]
[770,154,770135,"TANTASQUA                    ",135,"HOLLAND                      ",8.5317460319999996E-2,1512,129,64.98,5.5439285715936002]
[770,155,770287,"TANTASQUA                    ",287,"STURBRIDGE                   ",0.51322751323000004,1512,776,58.55,30.049470899616502]
[770,156,770306,"TANTASQUA                    ",306,"WALES                        ",9.7222222220000001E-2,1512,147,39.159999999999997,3.8072222221351999]
[773,157,773203,"TRITON                       ",203,"NEWBURY                      ",0.28501556246999998,2249,641,82.5,23.513783903775]
[773,158,773254,"TRITON                       ",254,"ROWLEY                       ",0.32636727434000001,2249,734,82.5,26.925300133050001]
[773,159,773259,"TRITON                       ",259,"SALISBURY                    ",0.38861716318,2249,874,82.5,32.060915962350002]
[774,160,774062,"UPISLAND",62,"CHILMARK                     ",0.17548076923,416,73,82.5,14.477163461475]
[774,161,774104,"UPISLAND",104,"AQUINNAH",0.10817307692,416,45,82.5,8.9242788459]
[774,162,774334,"UPISLAND",334,"WEST TISBURY                 ",0.71634615385,416,298,82.5,59.098557692625]
[775,163,775134,"WACHUSETT                    ",134,"HOLDEN                       ",0.47197682838999999,6905,3259,59.42,28.044863142933799]
[775,164,775228,"WACHUSETT                    ",228,"PAXTON                       ",9.3410572050000001E-2,6905,645,64.97,6.0688848660885002]
[775,165,775241,"WACHUSETT                    ",241,"PRINCETON                    ",5.9232440259999998E-2,6905,409,82.5,4.8866763214499995]
[775,166,775257,"WACHUSETT                    ",257,"RUTLAND                      ",0.23823316437,6905,1645,48.15,11.4709268644155]
[775,167,775282,"WACHUSETT                    ",282,"STERLING                     ",0.13714699492999999,6905,947,82.5,11.314627081725]
[778,168,778311,"QUABOAG",311,"WARREN                       ",0.58651286601999997,1127,661,31.86,18.686299911397199]
[778,169,778324,"QUABOAG",324,"WEST BROOKFIELD              ",0.41348713397999998,1127,466,57.21,23.655598934995798]
[780,170,780123,"WHITMAN HANSON               ",123,"HANSON                       ",0.38944168049,3618,1409,63.23,24.624397457382699]
[780,171,780338,"WHITMAN HANSON               ",338,"WHITMAN                      ",0.61055831950999995,3618,2209,49.45,30.192108899769501]
[801,172,801028,"ASSABET VALLEY               ",28,"BERLIN                       ",4.5314109169999998E-2,971,44,82.5,3.7384140065249998]
[801,173,801141,"ASSABET VALLEY               ",141,"HUDSON                       ",0.21112255407,971,205,66.849999999999994,14.113542739579499]
[801,174,801170,"ASSABET VALLEY               ",170,"MARLBOROUGH                  ",0.52523171987999995,971,510,52.5,27.574665293699997]
[801,175,801174,"ASSABET VALLEY               ",174,"MAYNARD                      ",7.0030895979999994E-2,971,68,73.25,5.1297631305349993]
[801,176,801213,"ASSABET VALLEY               ",213,"NORTHBOROUGH                 ",6.5911431509999993E-2,971,64,82.5,5.4376930995749992]
[801,177,801276,"ASSABET VALLEY               ",276,"SOUTHBOROUGH                 ",2.2657054579999999E-2,971,22,82.5,1.8692070028499999]
[801,178,801321,"ASSABET VALLEY               ",321,"WESTBOROUGH                  ",5.973223481E-2,971,58,78.569999999999993,4.6931616890216992]
[805,179,805025,"BLACKSTONE VALLEY            ",25,"BELLINGHAM                   ",6.0289389069999998E-2,1244,75,71.48,4.3094855307235997]
[805,180,805032,"BLACKSTONE VALLEY            ",32,"BLACKSTONE                   ",4.8231511249999998E-2,1244,60,55.6,2.6816720254999997]
[805,181,805077,"BLACKSTONE VALLEY            ",77,"DOUGLAS                      ",9.2443729899999993E-2,1244,115,62.66,5.7925241155339995]
[805,182,805110,"BLACKSTONE VALLEY            ",110,"GRAFTON                      ",7.7974276529999997E-2,1244,97,72.540000000000006,5.6562540194861999]
[805,183,805138,"BLACKSTONE VALLEY            ",138,"HOPEDALE                     ",5.868167203E-2,1244,73,59.08,3.4669131835323999]
[805,184,805179,"BLACKSTONE VALLEY            ",179,"MENDON                       ",6.8327974279999995E-2,1244,85,82.5,5.6370578780999994]
[805,185,805185,"BLACKSTONE VALLEY            ",185,"MILFORD                      ",0.12781350482000001,1244,159,41.9,5.3553858519580002]
[805,186,805186,"BLACKSTONE VALLEY            ",186,"MILLBURY                     ",7.4758842440000001E-2,1244,93,65.86,4.9236173630984004]
[805,187,805188,"BLACKSTONE VALLEY            ",188,"MILLVILLE                    ",2.0900321539999999E-2,1244,26,52.64,1.1001929258656]
[805,188,805214,"BLACKSTONE VALLEY            ",214,"NORTHBRIDGE                  ",0.11655948553000001,1244,145,59.84,6.9749196141152012]
[805,189,805290,"BLACKSTONE VALLEY            ",290,"SUTTON                       ",8.4405144690000003E-2,1244,105,82.5,6.963424436925]
[805,190,805303,"BLACKSTONE VALLEY            ",303,"UPTON                        ",7.3151125400000003E-2,1244,91,78.209999999999994,5.7211495175340001]
[805,191,{"$f":"A200*1000+E200","v":805304},"BLACKSTONE VALLEY            ",304,"UXBRIDGE                     ",9.6463022509999996E-2,1244,120,72.25,6.9694533763474995]
[806,192,806018,"BLUE HILLS                   ",18,"AVON                         ",5.4054054050000001E-2,925,50,{"$f":"ROUND(VLOOKUP(E201,town351,12),2)","v":63.13},3.4124324321765003]
[806,193,806040,"BLUE HILLS                   ",40,"BRAINTREE                    ",0.16972972973,925,157,79.05,{"$f":"G202*J202","v":13.417135135156499}]
[806,194,806050,"BLUE HILLS                   ",50,"CANTON                       ",8.8648648649999995E-2,925,82,82.5,7.3135135136249998]
[806,{"$f":"B203+1","v":195},806073,"BLUE HILLS                   ",73,"DEDHAM                       ",0.10918918918999999,925,101,82.5,9.0081081081749996]
[806,196,806133,"BLUE HILLS                   ",133,"HOLBROOK                     ",0.10702702703,925,99,52.66,5.6360432433997998]
[806,197,806189,"BLUE HILLS                   ",189,"MILTON                       ",5.5135135139999999E-2,925,51,82.5,4.5486486490499995]
[806,198,806220,"BLUE HILLS                   ",220,"NORWOOD                      ",0.11675675676,925,108,82.5,9.6324324326999999]
[806,199,806244,"BLUE HILLS                   ",244,"RANDOLPH                     ",0.29081081080999999,925,269,60.83,17.690021621572299]
[806,200,806335,"BLUE HILLS                   ",335,"WESTWOOD                     ",8.6486486500000001E-3,925,8,82.5,0.71351351362500004]
[810,201,810027,"BRISTOL PLYMOUTH             ",27,"BERKLEY                      ",7.0068545319999995E-2,1313,92,57.66,4.0401523231511991]
[810,202,810042,"BRISTOL PLYMOUTH             ",42,"BRIDGEWATER                  ",0.11271896419999999,1313,148,61.99,6.9874485907579995]
[810,203,810076,"BRISTOL PLYMOUTH             ",76,"DIGHTON",8.4539223149999995E-2,1313,111,55.46,4.6885453158989998]
[810,204,810182,"BRISTOL PLYMOUTH             ",182,"MIDDLEBOROUGH                ",0.11957349581,1313,157,53.97,6.4533815688656997]
[810,205,810245,"BRISTOL PLYMOUTH             ",245,"RAYNHAM                      ",0.14318354912,1313,188,61.45,8.798629093424001]
[810,206,810247,"BRISTOL PLYMOUTH             ",247,"REHOBOTH                     ",5.6359482099999997E-2,1313,74,82.5,4.6496572732499999]
[810,207,810293,"BRISTOL PLYMOUTH             ",293,"TAUNTON                      ",0.41355674029,1313,543,36.93,15.2726504189097]
[815,208,815020,"CAPE COD                     ",20,"BARNSTABLE                   ",0.29085457270999998,667,194,82.5,23.995502248574997]
[815,209,815041,"CAPE COD                     ",41,"BREWSTER                     ",7.9460269870000003E-2,667,53,82.5,6.5554722642750001]
[815,210,815055,"CAPE COD                     ",55,"CHATHAM                      ",1.9490254870000001E-2,667,13,82.5,1.6079460267750001]
[815,211,815075,"CAPE COD                     ",75,"DENNIS                       ",0.10194902549,667,68,82.5,8.4107946029249998]
[815,212,815085,"CAPE COD                     ",85,"EASTHAM                      ",3.2983508250000002E-2,667,22,82.5,2.7211394306250001]
[815,213,815126,"CAPE COD                     ",126,"HARWICH                      ",0.10494752624000001,667,70,82.5,8.6581709148000012]
[815,214,815172,"CAPE COD                     ",172,"MASHPEE                      ",7.4962518739999998E-2,667,50,82.5,6.1844077960499995]
[815,215,815224,"CAPE COD                     ",224,"ORLEANS                      ",2.0989505249999998E-2,667,14,82.5,1.7316341831249999]
[815,216,815242,"CAPE COD                     ",242,"PROVINCETOWN                 ",1.349325337E-2,667,9,82.5,1.1131934030249999]
[815,217,815300,"CAPE COD                     ",300,"TRURO                        ",1.649175412E-2,667,11,82.5,1.3605697149]
[815,218,815318,"CAPE COD                     ",318,"WELLFLEET                    ",1.9490254870000001E-2,667,13,82.5,1.6079460267750001]
[815,219,815351,"CAPE COD                     ",351,"YARMOUTH                     ",0.22488755622000001,667,150,82.5,18.553223388150002]
[817,220,817030,"ESSEX NORTH SHORE                  ",30,"BEVERLY                      ",0.12545587162999999,1371,172,82.5,10.350109409474999]
[817,221,817038,"ESSEX NORTH SHORE                  ",38,"BOXFORD                      ",1.604668125E-2,1371,22,82.5,1.323851203125]
[817,222,817071,"ESSEX NORTH SHORE                  ",71,"DANVERS                      ",0.17943107220999999,1371,246,82.5,14.803063457324999]
[817,223,817092,"ESSEX NORTH SHORE                  ",92,"ESSEX                        ",1.604668125E-2,1371,22,82.5,1.323851203125]
[817,224,817107,"ESSEX NORTH SHORE                  ",107,"GLOUCESTER                   ",7.8045222469999995E-2,1371,107,82.5,6.4387308537749997]
[817,225,817119,"ESSEX NORTH SHORE                  ",119,"HAMILTON                     ",1.312910284E-2,1371,18,82.5,1.0831509843]
[817,226,817164,"ESSEX NORTH SHORE                  ",164,"LYNNFIELD                    ",2.5528811089999999E-2,1371,35,82.5,2.1061269149249999]
[817,227,817166,"ESSEX NORTH SHORE                  ",166,"MANCHESTER                   ",9.4821298299999999E-3,1371,13,82.5,0.78227571097500004]
[817,228,817168,"ESSEX NORTH SHORE                  ",168,"MARBLEHEAD                   ",1.896425966E-2,1371,26,82.5,1.5645514219500001]
[817,229,817184,"ESSEX NORTH SHORE                  ",184,"MIDDLETON                    ",3.6469730120000002E-2,1371,50,82.5,3.0087527349000003]
[817,230,817196,"ESSEX NORTH SHORE                  ",196,"NAHANT                       ",7.2939460199999999E-3,1371,10,82.5,0.60175054664999994]
[817,231,817229,"ESSEX NORTH SHORE                  ",229,"PEABODY",0.27862873815,1371,382,67.739999999999995,18.874310722280999]
[817,232,817252,"ESSEX NORTH SHORE                  ",252,"ROCKPORT                     ",8.7527352299999993E-3,1371,12,82.5,0.72210065647499999]
[817,233,817258,"ESSEX NORTH SHORE                  ",258,"SALEM                        ",0.13639679065999999,1371,187,70.75,9.6500729391949989]
[817,234,817291,"ESSEX NORTH SHORE                  ",291,"SWAMPSCOTT                   ",2.1152443470000001E-2,1371,29,82.5,1.745076586275]
[817,235,817298,"ESSEX NORTH SHORE                  ",298,"TOPSFIELD                    ",2.1152443470000001E-2,1371,29,82.5,1.745076586275]
[817,236,817320,"ESSEX NORTH SHORE                  ",320,"WENHAM                       ",8.0233406300000004E-3,1371,11,82.5,0.66192560197500006]
[818,237,818029,"FRANKLIN COUNTY              ",29,"BERNARDSTON                  ",4.4642857139999999E-2,560,25,57.41,2.5629464284073999]
[818,238,818047,"FRANKLIN COUNTY              ",47,"BUCKLAND                     ",3.0357142859999998E-2,560,17,56.48,1.7145714287327998]
[818,239,818066,"FRANKLIN COUNTY              ",66,"COLRAIN                      ",3.7499999999999999E-2,560,21,59.66,2.23725]
[818,240,818068,"FRANKLIN COUNTY              ",68,"CONWAY                       ",1.6071428570000001E-2,560,9,82.5,1.3258928570250001]
[818,241,818074,"FRANKLIN COUNTY              ",74,"DEERFIELD                    ",4.4642857139999999E-2,560,25,82.5,3.6830357140499999]
[818,242,818091,"FRANKLIN COUNTY              ",91,"ERVING                       ",0.05,560,28,82.5,4.125]
[818,243,818106,"FRANKLIN COUNTY              ",106,"GILL                         ",2.6785714289999998E-2,560,15,64.959999999999994,1.7400000002783997]
[818,244,818114,"FRANKLIN COUNTY              ",114,"GREENFIELD                   ",0.20892857142999999,560,117,43.37,9.0612321429190992]
[818,245,818130,"FRANKLIN COUNTY              ",130,"HEATH                        ",1.4285714289999999E-2,560,8,41.69,0.59557142875009994]
[818,246,818156,"FRANKLIN COUNTY              ",156,"LEYDEN                       ",1.78571429E-3,560,1,82.5,0.147321428925]
[818,247,818192,"FRANKLIN COUNTY              ",192,"MONTAGUE                     ",0.16607142857000001,560,93,47.39,7.8701249999323011]
[818,248,818206,"FRANKLIN COUNTY              ",206,"NEW SALEM                    ",1.9642857140000001E-2,560,11,64.7,1.270892856958]
[818,249,818216,"FRANKLIN COUNTY              ",216,"NORTHFIELD                   ",7.1428571430000004E-2,560,40,77.36,5.5257142858248001]
[818,250,818223,"FRANKLIN COUNTY              ",223,"ORANGE                       ",0.16964285713999999,560,95,28.48,4.8314285713471996]
[818,251,818268,"FRANKLIN COUNTY              ",268,"SHELBURNE                    ",1.6071428570000001E-2,560,9,77.709999999999994,1.2489107141747]
[818,252,818289,"FRANKLIN COUNTY              ",289,"SUNDERLAND                   ",1.6071428570000001E-2,560,9,82.5,1.3258928570250001]
[818,253,818312,"FRANKLIN COUNTY              ",312,"WARWICK                      ",1.071428571E-2,560,6,62.48,0.66942857116080001]
[818,254,818319,"FRANKLIN COUNTY              ",319,"WENDELL                      ",1.6071428570000001E-2,560,9,41.31,0.66391071422670012]
[818,255,{"$f":"A264*1000+E264","v":818337},"FRANKLIN COUNTY              ",337,"WHATELY                      ",3.9285714290000003E-2,560,22,76.48,3.0045714288992005]
[821,256,821095,"GREATER FALL RIVER           ",95,"FALL RIVER                   ",0.73034482758999997,1450,1059,{"$f":"ROUND(VLOOKUP(E265,town351,12),2)","v":22.99},16.790627586294097]
[821,257,821273,"GREATER FALL RIVER           ",273,"SOMERSET                     ",0.10482758621,1450,152,56.48,{"$f":"G266*J266","v":5.9206620691407998}]
[821,258,821292,"GREATER FALL RIVER           ",292,"SWANSEA                      ",8.4137931030000002E-2,1450,122,66.16,5.5665655169447996]
[821,{"$f":"B267+1","v":259},821331,"GREATER FALL RIVER           ",331,"WESTPORT                     ",8.0689655169999999E-2,1450,117,82.5,6.6568965515249996]
[823,260,823009,"GREATER LAWRENCE             ",9,"ANDOVER                      ",3.0678466080000001E-2,1695,52,82.5,2.5309734516]
[823,261,823149,"GREATER LAWRENCE             ",149,"LAWRENCE                     ",0.70855457226999996,1695,1201,16.149999999999999,11.443156342160499]
[823,262,823181,"GREATER LAWRENCE             ",181,"METHUEN                      ",0.23834808260000001,1695,404,45.94,10.949710914643999]
[823,263,823211,"GREATER LAWRENCE             ",211,"NORTH ANDOVER                ",2.2418879060000001E-2,1695,38,82.5,1.84955752245]
[825,264,825072,"GREATER NEW BEDFORD          ",72,"DARTMOUTH                    ",0.15636882128999999,2104,329,82.5,12.900427756425]
[825,265,825094,"GREATER NEW BEDFORD          ",94,"FAIRHAVEN                    ",8.2224334600000004E-2,2104,173,66.55,5.4720294676299996]
[825,266,825201,"GREATER NEW BEDFORD          ",201,"NEW BEDFORD                  ",0.76140684411000004,2104,1602,20.53,15.631682509578301]
[828,267,828079,"GREATER LOWELL               ",79,"DRACUT                       ",0.19331641286000001,2364,457,56.61,10.9436421320046]
[828,268,828081,"GREATER LOWELL               ",81,"DUNSTABLE                    ",4.6531302899999998E-3,2364,11,82.5,0.38388324892499998]
[828,269,828160,"GREATER LOWELL               ",160,"LOWELL                       ",0.75846023688999997,2364,1793,25.84,19.598612521237598]
[828,270,828301,"GREATER LOWELL               ",301,"TYNGSBOROUGH                 ",4.3570219969999997E-2,2364,103,72.3,3.1501269038309996]
[829,271,829014,"SOUTH MIDDLESEX              ",14,"ASHLAND                      ",7.0405727919999994E-2,838,59,77.62,5.4648926011503995]
[829,272,829100,"SOUTH MIDDLESEX              ",100,"FRAMINGHAM                   ",0.76133651551000003,838,638,51.53,39.231670644230306]
[829,273,829136,"SOUTH MIDDLESEX              ",136,"HOLLISTON                    ",8.4725536990000003E-2,838,71,76.55,6.4857398565844999]
[829,274,829139,"SOUTH MIDDLESEX              ",139,"HOPKINTON                    ",2.863961814E-2,838,24,82.5,2.3627684965499998]
[829,275,829198,"SOUTH MIDDLESEX              ",198,"NATICK                       ",5.489260143E-2,838,46,82.5,4.5286396179750001]
[830,276,830002,"MINUTEMAN                    ",2,"ACTON                        ",0.14239482201000001,618,88,82.5,11.747572815825]
[830,277,830010,"MINUTEMAN                    ",10,"ARLINGTON                    ",0.35275080906,618,218,82.5,29.101941747449999]
[830,278,830034,"MINUTEMAN                    ",34,"BOLTON                       ",5.3398058249999998E-2,618,33,82.5,4.4053398056250002]
[830,279,830067,"MINUTEMAN                    ",67,"CONCORD                      ",5.8252427179999997E-2,618,36,82.5,4.8058252423500001]
[830,280,830078,"MINUTEMAN                    ",78,"DOVER                        ",6.4724919100000002E-3,618,4,82.5,0.53398058257500003]
[830,281,830147,"MINUTEMAN                    ",147,"LANCASTER                    ",9.3851132690000005E-2,618,58,67.53,6.3377669905557008]
[830,282,830155,"MINUTEMAN                    ",155,"LEXINGTON                    ",0.12459546925999999,618,77,82.5,10.279126213949999]
[830,283,830199,"MINUTEMAN                    ",199,"NEEDHAM                      ",6.3106796120000003E-2,618,39,82.5,5.2063106799000005]
[830,284,830286,"MINUTEMAN                    ",286,"STOW                         ",0.10517799353,618,65,82.5,8.6771844662250004]
[832,285,832011,"MONTACHUSETT                 ",11,"ASHBURNHAM                   ",4.9213943949999998E-2,1463,72,45.29,2.2288995214954999]
[832,286,832012,"MONTACHUSETT                 ",12,"ASHBY                        ",2.5290498969999999E-2,1463,37,56.26,1.4228434720521999]
[832,287,832015,"MONTACHUSETT                 ",15,"ATHOL                        ",7.5871496920000003E-2,1463,111,28.52,2.1638550921583999]
[832,288,832021,"MONTACHUSETT                 ",21,"BARRE                        ",2.8708133970000001E-2,1463,42,41.44,1.1896650717168]
[832,289,832097,"MONTACHUSETT                 ",97,"FITCHBURG                    ",0.24812030074999999,1463,363,27.05,6.7116541352874997]
[832,290,832103,"MONTACHUSETT                 ",103,"GARDNER                      ",0.11825017088000001,1463,173,33.01,3.9034381407488001]
[832,291,832125,"MONTACHUSETT                 ",125,"HARVARD                      ",4.1011620000000002E-3,1463,6,82.5,0.33834586500000002]
[832,292,832134,"MONTACHUSETT                 ",134,"HOLDEN",8.8858509909999994E-2,1463,130,59.42,5.2799726588522002]
[832,293,832140,"MONTACHUSETT                 ",140,"HUBBARDSTON                  ",2.7341079970000001E-2,1463,40,58.13,1.5893369786561002]
[832,294,832162,"MONTACHUSETT                 ",162,"LUNENBURG                    ",6.6302118930000001E-2,1463,97,64.27,4.2612371836311]
[832,295,832234,"MONTACHUSETT                 ",234,"PETERSHAM                    ",7.5187969899999998E-3,1463,11,63.23,0.47541353367769995]
[832,296,832235,"MONTACHUSETT                 ",235,"PHILLIPSTON                  ",1.503759398E-2,1463,22,57.14,0.85924812001719997]
[832,297,832241,"MONTACHUSETT                 ",241,"PRINCETON                    ",1.7088174979999999E-2,1463,25,82.5,1.40977443585]
[832,298,832255,"MONTACHUSETT                 ",255,"ROYALSTON                    ",6.8352699900000001E-3,1463,10,55.77,0.3812030073423]
[832,299,832282,"MONTACHUSETT                 ",282,"STERLING                     ",4.1695146959999999E-2,1463,61,82.5,3.4398496241999998]
[832,300,832294,"MONTACHUSETT                 ",294,"TEMPLETON                    ",5.6732740939999998E-2,1463,83,39.32,2.2307313737608001]
[832,301,832328,"MONTACHUSETT                 ",328,"WESTMINSTER                  ",5.0580997949999998E-2,1463,74,58.25,2.9463431305875001]
[832,302,832343,"MONTACHUSETT                 ",343,"WINCHENDON                   ",7.2453861930000002E-2,1463,106,34.729999999999997,2.5163226248288999]
[851,303,851004,"NORTHERN BERKSHIRE           ",4,"ADAMS                        ",0.27744510977999998,501,139,32.86,9.1168463073707997]
[851,304,851058,"NORTHERN BERKSHIRE           ",58,"CHESIRE",9.9800399200000001E-2,501,50,53.57,5.3463073851439997]
[851,305,851063,"NORTHERN BERKSHIRE           ",63,"CLARKSBURG                   ",0.10778443114,501,54,34.58,3.7271856288211995]
[851,306,851098,"NORTHERN BERKSHIRE           ",98,"FLORIDA                      ",6.5868263469999994E-2,501,33,56.13,3.6971856285710998]
[851,307,851148,"NORTHERN BERKSHIRE           ",148,"LANESBOROUGH                 ",6.1876247500000002E-2,501,31,56.95,3.5238522951250002]
[851,308,851190,"NORTHERN BERKSHIRE           ",190,"MONROE                       ",9.9800399199999994E-3,501,5,39.729999999999997,0.39650698602159995]
[851,309,851209,"NORTHERN BERKSHIRE           ",209,"NORTH ADAMS                  ",0.32734530938,501,164,27.49,8.9987225548561991]
[851,310,851263,"NORTHERN BERKSHIRE           ",263,"SAVOY                        ",1.796407186E-2,501,9,80.89,1.4531137727554]
[851,311,851341,"NORTHERN BERKSHIRE           ",341,"WILLIAMSTOWN                 ",3.193612774E-2,501,16,82.5,2.6347305385499999]
[852,312,{"$f":"A321*1000+E321","v":852019},"NASHOBA VALLEY               ",19,"AYER",9.6503496499999994E-2,715,69,73.02,7.0466853144299995]
[852,313,852056,"NASHOBA VALLEY               ",56,"CHELMSFORD                   ",0.29650349650000002,715,212,82.5,24.461538461250001]
[852,314,852115,"NASHOBA VALLEY               ",115,"GROTON                       ",5.7342657339999999E-2,715,41,82.5,4.73076923055]
[852,315,852158,"NASHOBA VALLEY               ",158,"LITTLETON                    ",6.1538461539999999E-2,715,44,82.5,5.07692307705]
[852,316,852232,"NASHOBA VALLEY               ",232,"PEPPERELL                    ",0.18461538461999999,715,132,61.83,11.414769231054599]
[852,317,852270,"NASHOBA VALLEY               ",270,"SHIRLEY                      ",6.1538461539999999E-2,715,44,63.78,3.9249230770211998]
[852,318,852299,"NASHOBA VALLEY               ",299,"TOWNSEND                     ",0.13146853147000001,715,94,55.85,7.3425174825995008]
[852,319,852326,"NASHOBA VALLEY               ",326,"WESTFORD                     ",0.11048951049,715,79,{"$f":"ROUND(VLOOKUP(E328,town351,12),2)","v":81.58},9.0137342657742003]
[853,320,853057,"NORTHEAST METROPOLITAN       ",57,"CHELSEA                      ",0.17928902628000001,1294,232,22.19,3.9784234931532003]
[853,321,853165,"NORTHEAST METROPOLITAN       ",165,"MALDEN                       ",0.1228748068,1294,159,55.74,{"$f":"G330*J330","v":6.849041731032}]
[853,322,853178,"NORTHEAST METROPOLITAN       ",178,"MELROSE                      ",5.1004636790000002E-2,1294,66,82.5,4.207882535175]
[853,{"$f":"B331+1","v":323},853217,"NORTHEAST METROPOLITAN       ",217,"NORTH READING                ",3.0911901080000002E-2,1294,40,82.5,2.5502318391000003]
[853,324,853246,"NORTHEAST METROPOLITAN       ",246,"READING                      ",2.395672334E-2,1294,31,82.5,1.9764296755499999]
[853,325,853248,"NORTHEAST METROPOLITAN       ",248,"REVERE                       ",0.19783616692,1294,256,39.5,7.8145285933400004]
[853,326,853262,"NORTHEAST METROPOLITAN       ",262,"SAUGUS                       ",0.11128284389,1294,144,82.5,9.1808346209249994]
[853,327,853284,"NORTHEAST METROPOLITAN       ",284,"STONEHAM                     ",5.4095826889999997E-2,1294,70,82.5,4.4629057184249996]
[853,328,853305,"NORTHEAST METROPOLITAN       ",305,"WAKEFIELD                    ",7.8052550230000003E-2,1294,101,82.5,6.439335393975]
[853,329,853344,"NORTHEAST METROPOLITAN       ",344,"WINCHESTER                   ",1.004636785E-2,1294,13,82.5,0.82882534762499993]
[853,330,853346,"NORTHEAST METROPOLITAN       ",346,"WINTHROP                     ",4.7140649149999998E-2,1294,61,77.430000000000007,3.6501004636845003]
[853,331,853347,"NORTHEAST METROPOLITAN       ",347,"WOBURN",9.3508500770000003E-2,1294,121,82.5,7.7144513135250001]
[855,332,855003,"OLD COLONY                   ",3,"ACUSHNET                     ",0.30996309963000002,542,168,61.79,19.152619926137699]
[855,333,855052,"OLD COLONY                   ",52,"CARVER                       ",0.16605166052000001,542,90,55.1,9.1494464946520004]
[855,334,855146,"OLD COLONY                   ",146,"LAKEVILLE                    ",0.27306273062999997,542,148,72.19,19.712398524179697]
[855,335,855173,"OLD COLONY                   ",173,"MATTAPOISETT                 ",7.9335793360000004E-2,542,43,82.5,6.5452029522000004]
[855,336,855250,"OLD COLONY                   ",250,"ROCHESTER                    ",0.17158671586999999,542,93,70.69,12.129464944850298]
[860,337,860024,"PATHFINDER                   ",24,"BELCHERTOWN                  ",0.17607973422000001,602,106,53.03,9.3375083056866011]
[860,338,860111,"PATHFINDER                   ",111,"GRANBY                       ",2.8239202660000001E-2,602,17,64.86,1.8315946845276001]
[860,339,860124,"PATHFINDER                   ",124,"HARDWICK",3.3222591359999998E-2,602,20,46.28,1.5375415281408]
[860,340,860191,"PATHFINDER                   ",191,"MONSON                       ",0.13787375415,602,83,58.81,8.1083554815614995]
[860,341,860202,"PATHFINDER                   ",202,"NEW BRAINTREE                ",1.328903654E-2,602,8,61.19,0.81315614588259999]
[860,342,860222,"PATHFINDER                   ",222,"OAKHAM",2.159468439E-2,602,13,56.37,1.2172923590642999]
[860,343,860227,"PATHFINDER                   ",227,"PALMER                       ",0.31395348836999998,602,189,41.19,12.931744185960298]
[860,344,860309,"PATHFINDER                   ",309,"WARE                         ",0.1926910299,602,116,33.479999999999997,6.4512956810519997]
[860,345,860311,"PATHFINDER                   ",311,"WARREN                       ",8.3056478409999995E-2,602,50,31.86,2.6461794021425997]
[871,346,871023,"SHAWSHEEN VALLEY             ",23,"BEDFORD                      ",2.934362934E-2,1295,38,82.5,2.4208494205500002]
[871,347,871031,"SHAWSHEEN VALLEY             ",31,"BILLERICA                    ",0.35984555985,1295,466,82.5,29.687258687625]
[871,348,871048,"SHAWSHEEN VALLEY             ",48,"BURLINGTON                   ",9.8841698840000006E-2,1295,128,82.5,8.1544401543000014]
[871,349,871295,"SHAWSHEEN VALLEY             ",295,"TEWKSBURY                    ",0.26949806949999999,1295,349,82.5,22.233590733749999]
[871,350,871342,"SHAWSHEEN VALLEY             ",342,"WILMINGTON                   ",0.24247104247000001,1295,314,82.5,20.003861003775]
[872,351,872044,"SOUTHEASTERN                 ",44,"BROCKTON                     ",0.61349693252000004,1630,1000,24.11,14.791411043057201]
[872,352,872083,"SOUTHEASTERN                 ",83,"EAST BRIDGEWATER             ",6.1349693249999997E-2,1630,100,57.62,3.5349693250649996]
[872,353,872088,"SOUTHEASTERN                 ",88,"EASTON                       ",4.6012269940000003E-2,1630,75,82.5,3.7960122700500003]
[872,354,872099,"SOUTHEASTERN                 ",99,"FOXBOROUGH                   ",2.6380368099999999E-2,1630,43,82.5,2.1763803682499998]
[872,355,872167,"SOUTHEASTERN                 ",167,"MANSFIELD                    ",5.950920245E-2,1630,97,77.400000000000006,4.6060122696299999]
[872,356,872218,"SOUTHEASTERN                 ",218,"NORTON                       ",6.5030674849999998E-2,1630,106,74.75,4.8610429450375001]
[872,357,872266,"SOUTHEASTERN                 ",266,"SHARON                       ",1.2269938649999999E-2,1630,20,82.5,1.012269938625]
[872,358,872285,"SOUTHEASTERN                 ",285,"STOUGHTON                    ",7.6073619630000006E-2,1630,124,59.45,4.5225766870035002]
[872,359,872323,"SOUTHEASTERN                 ",323,"WEST BRIDGEWATER             ",3.9877300609999999E-2,1630,65,59.65,2.3786809813864997]
[873,360,873001,"SOUTH SHORE                  ",1,"ABINGTON                     ",0.16612903226,620,103,60.07,9.9793709678582001]
[873,361,873065,"SOUTH SHORE                  ",65,"COHASSET                     ",1.7741935479999998E-2,620,11,82.5,1.4637096770999998]
[873,362,873122,"SOUTH SHORE                  ",122,"HANOVER                      ",0.10806451613,620,67,81.66,8.824548387175799]
[873,363,873123,"SOUTH SHORE                  ",123,"HANSON                       ",0.13870967742000001,620,86,63.23,8.7706129032666009]
[873,364,873219,"SOUTH SHORE                  ",219,"NORWELL                      ",4.1935483869999998E-2,620,26,82.5,3.4596774192749997]
[873,365,873251,"SOUTH SHORE                  ",251,"ROCKLAND                     ",0.21935483871,620,136,50.49,11.0752258064679]
[873,366,873264,"SOUTH SHORE                  ",264,"SCITUATE                     ",6.4516129029999994E-2,620,40,82.5,5.3225806449749999]
[873,367,873338,"SOUTH SHORE                  ",338,"WHITMAN                      ",0.24354838710000001,620,151,49.45,12.043467742095002]
[876,368,876017,"SOUTHERN WORCESTER           ",17,"AUBURN                       ",9.4967532470000005E-2,1232,117,58,5.5081168832600005]
[876,369,876054,"SOUTHERN WORCESTER           ",54,"CHARLTON                     ",0.17126623377,1232,211,59.09,10.1201217534693]
[876,370,876080,"SOUTHERN WORCESTER           ",80,"DUDLEY                       ",0.10714285714000001,1232,132,44.51,4.7689285713013998]
[876,371,876215,"SOUTHERN WORCESTER           ",215,"NORTH BROOKFIELD",3.896103896E-2,1232,48,46.4,1.8077922077439998]
[876,372,876226,"SOUTHERN WORCESTER           ",226,"OXFORD                       ",0.12418831169,1232,153,53.47,6.6403490260642997]
[876,373,876228,"SOUTHERN WORCESTER           ",228,"PAXTON                       ",2.840909091E-2,1232,35,64.97,1.8457386364227]
[876,374,876257,"SOUTHERN WORCESTER           ",257,"RUTLAND",4.6266233769999998E-2,1232,57,48.15,2.2277191560254996]
[876,375,876277,"SOUTHERN WORCESTER           ",277,"SOUTHBRIDGE                  ",0.16883116882999999,1232,208,27.06,4.5685714285397996]
[876,376,{"$f":"A385*1000+E385","v":876280},"SOUTHERN WORCESTER           ",280,"SPENCER                      ",0.10470779221,1232,129,51.29,5.3704626624509002]
[876,377,876316,"SOUTHERN WORCESTER           ",316,"WEBSTER                      ",0.11525974025999999,1232,142,45.08,5.1959090909207992]
[878,378,878101,"TRI COUNTY                   ",101,"FRANKLIN                     ",0.17540106952000001,935,164,77.72,13.6321711230944]
[878,379,878175,"TRI COUNTY                   ",175,"MEDFIELD                     ",6.4171122999999997E-3,935,6,82.5,0.52941176474999996]
[878,380,878177,"TRI COUNTY                   ",177,"MEDWAY                       ",9.0909090910000004E-2,935,85,80.09,7.2809090909819005]
[878,381,878187,"TRI COUNTY                   ",187,"MILLIS                       ",4.0641711230000002E-2,935,38,82.5,3.3529411764750003]
[878,382,878208,"TRI COUNTY                   ",208,"NORFOLK                      ",4.3850267380000002E-2,935,41,82.5,3.6176470588500003]
[878,383,878212,"TRI COUNTY                   ",212,"NORTH ATTLEBOROUGH           ",0.25454545454999999,935,238,{"$f":"ROUND(VLOOKUP(E392,town351,12),2)","v":68.03},17.316727273036499]
[878,384,878238,"TRI COUNTY                   ",238,"PLAINVILLE                   ",0.12085561497,935,113,78.67,9.5077112296898996]
[878,385,878265,"TRI COUNTY                   ",265,"SEEKONK                      ",9.1978609629999999E-2,935,86,75.599999999999994,{"$f":"G394*J394","v":6.9535828880279995}]
[878,386,878269,"TRI COUNTY                   ",269,"SHERBORN                     ",1.0695187199999999E-3,935,1,82.5,8.8235294399999997E-2]
[878,{"$f":"B395+1","v":387},878307,"TRI COUNTY                   ",307,"WALPOLE                      ",9.6256684489999994E-2,935,90,82.5,7.9411764704249999]
[878,388,878350,"TRI COUNTY                   ",350,"WRENTHAM                     ",7.8074866310000005E-2,935,73,82.5,6.4411764705750008]
[879,389,879036,"UPPER CAPE COD               ",36,"BOURNE                       ",0.2433460076,789,192,82.5,20.076045626999999]
[879,390,879096,"UPPER CAPE COD               ",96,"FALMOUTH                     ",0.23700887199000001,789,187,82.5,19.553231939174999]
[879,391,879169,"UPPER CAPE COD               ",169,"MARION                       ",3.2953105199999999E-2,789,26,82.5,2.718631179]
[879,392,879261,"UPPER CAPE COD               ",261,"SANDWICH                     ",0.18631178707000001,789,147,82.5,15.370722433275001]
[879,393,879310,"UPPER CAPE COD               ",310,"WAREHAM                      ",0.30038022813999998,789,237,63,18.923954372819999]
[885,394,885007,"WHITTIER                     ",7,"AMESBURY                     ",9.1764705880000005E-2,1275,117,79.62,7.3063058821656011]
[885,395,885105,"WHITTIER                     ",105,"GEORGETOWN                   ",4.3137254899999998E-2,1275,55,82.22,3.546745097878]
[885,396,885116,"WHITTIER                     ",116,"GROVELAND                    ",2.7450980390000001E-2,1275,35,78.13,2.1447450978706999]
[885,397,885128,"WHITTIER                     ",128,"HAVERHILL                    ",0.68,1275,867,42.93,29.192400000000003]
[885,398,885144,"WHITTIER                     ",144,"IPSWICH                      ",2.3529411760000001E-2,1275,30,82.5,1.9411764702000001]
[885,399,885180,"WHITTIER                     ",180,"MERRIMAC                     ",3.1372549020000001E-2,1275,40,75.650000000000006,2.3733333333630005]
[885,400,885203,"WHITTIER                     ",203,"NEWBURY                      ",1.254901961E-2,1275,16,82.5,1.0352941178249999]
[885,401,885204,"WHITTIER                     ",204,"NEWBURYPORT                  ",2.2745098040000002E-2,1275,29,82.5,1.8764705883000001]
[885,402,885254,"WHITTIER                     ",254,"ROWLEY                       ",1.8039215689999999E-2,1275,23,82.5,1.4882352944249999]
[885,403,885259,"WHITTIER                     ",259,"SALISBURY                    ",3.9215686270000001E-2,1275,50,82.5,3.235294117275]
[885,404,885329,"WHITTIER                     ",329,"WEST NEWBURY                 ",1.019607843E-2,1275,13,82.5,0.84117647047499999]
[910,405,910003,"BRISTOL COUNTY               ",3,"ACUSHNET                     ",2.669404517E-2,487,13,61.79,1.6494250510543]
[910,406,910016,"BRISTOL COUNTY               ",16,"ATTLEBORO                    ",3.9014373720000002E-2,487,19,48.49,1.8918069816828003]
[910,407,910027,"BRISTOL COUNTY               ",27,"BERKLEY                      ",3.2854209449999998E-2,487,16,57.66,1.8943737168869998]
[910,408,910072,"BRISTOL COUNTY               ",72,"DARTMOUTH                    ",4.1067761809999999E-2,487,20,82.5,3.3880903493250001]
[910,409,910076,"BRISTOL COUNTY               ",76,"DIGHTON                      ",5.1334702259999997E-2,487,25,55.46,2.8470225873396]
[910,410,910088,"BRISTOL COUNTY               ",88,"EASTON                       ",1.6427104719999999E-2,487,8,82.5,1.3552361393999999]
[910,411,910094,"BRISTOL COUNTY               ",94,"FAIRHAVEN                    ",5.338809035E-2,487,26,66.55,3.5529774127925]
[910,412,910095,"BRISTOL COUNTY               ",95,"FALL RIVER                   ",0.11088295687999999,487,54,22.99,2.5491991786711998]
[910,413,910102,"BRISTOL COUNTY               ",102,"FREETOWN                     ",3.6960985629999998E-2,487,18,74.09,2.7384394253267001]
[910,414,910167,"BRISTOL COUNTY               ",167,"MANSFIELD                    ",2.2587268989999999E-2,487,11,77.400000000000006,1.7482546198260001]
[910,415,910201,"BRISTOL COUNTY               ",201,"NEW BEDFORD                  ",0.11293634497,487,55,20.53,2.3185831622341002]
[910,416,910212,"BRISTOL COUNTY               ",212,"NORTH ATTLEBOROUGH           ",2.464065708E-2,487,12,68.03,1.6763039011523999]
[910,417,910218,"BRISTOL COUNTY               ",218,"NORTON                       ",2.669404517E-2,487,13,74.75,1.9953798764574999]
[910,418,910245,"BRISTOL COUNTY               ",245,"RAYNHAM                      ",3.4907597540000002E-2,487,17,61.45,2.1450718688330004]
[910,419,910247,"BRISTOL COUNTY               ",247,"REHOBOTH                     ",5.9548254619999998E-2,487,29,82.5,4.9127310061499996]
[910,420,910265,"BRISTOL COUNTY               ",265,"SEEKONK                      ",3.9014373720000002E-2,487,19,75.599999999999994,2.9494866532319999]
[910,421,910273,"BRISTOL COUNTY               ",273,"SOMERSET                     ",4.928131417E-2,487,24,56.48,2.7834086243215999]
[910,422,910292,"BRISTOL COUNTY               ",292,"SWANSEA                      ",6.3655030799999998E-2,487,31,66.16,4.2114168377279997]
[910,423,910293,"BRISTOL COUNTY               ",293,"TAUNTON                      ",8.8295687890000002E-2,487,43,36.93,3.2607597537777]
[910,424,910331,"BRISTOL COUNTY               ",331,"WESTPORT                     ",6.9815195070000002E-2,487,34,82.5,5.7597535932750006]
[915,425,915018,"NORFOLK COUNTY               ",18,"AVON                         ",3.9525691699999997E-3,253,1,63.13,0.24952569170209998]
[915,426,915025,"NORFOLK COUNTY               ",25,"BELLINGHAM                   ",6.7193675889999999E-2,253,17,71.48,4.8030039526172006]
[915,427,915040,"NORFOLK COUNTY               ",40,"BRAINTREE                    ",8.6956521740000001E-2,253,22,79.05,6.8739130435469997]
[915,428,915046,"NORFOLK COUNTY               ",46,"BROOKLINE                    ",0,253,0,82.5,0]
[915,429,915050,"NORFOLK COUNTY               ",50,"CANTON                       ",3.5573122530000001E-2,253,9,82.5,2.934782608725]
[915,430,915065,"NORFOLK COUNTY               ",65,"COHASSET                     ",0,253,0,82.5,0]
[915,431,915073,"NORFOLK COUNTY               ",73,"DEDHAM                       ",4.7430830039999997E-2,253,12,82.5,3.9130434782999997]
[915,432,915078,"NORFOLK COUNTY               ",78,"DOVER                        ",3.9525691699999997E-3,253,1,82.5,0.32608695652499997]
[915,433,915099,"NORFOLK COUNTY               ",99,"FOXBOROUGH                   ",4.7430830039999997E-2,253,12,82.5,3.9130434782999997]
[915,434,915101,"NORFOLK COUNTY               ",101,"FRANKLIN                     ",6.3241106719999995E-2,253,16,77.72,4.9150988142783998]
[915,435,915133,"NORFOLK COUNTY               ",133,"HOLBROOK                     ",3.1620553359999998E-2,253,8,52.66,1.6651383399375999]
[915,436,915175,"NORFOLK COUNTY               ",175,"MEDFIELD                     ",1.5810276679999999E-2,253,4,82.5,1.3043478260999999]
[915,437,915177,"NORFOLK COUNTY               ",177,"MEDWAY                       ",3.1620553359999998E-2,253,8,80.09,2.5324901186024]
[915,438,915187,"NORFOLK COUNTY               ",187,"MILLIS                       ",2.7667984190000001E-2,253,7,82.5,2.282608695675]
[915,439,915189,"NORFOLK COUNTY               ",189,"MILTON                       ",3.1620553359999998E-2,253,8,82.5,2.6086956521999998]
[915,440,{"$f":"A449*1000+E449","v":915199},"NORFOLK COUNTY               ",199,"NEEDHAM                      ",3.9525691699999997E-3,253,1,82.5,0.32608695652499997]
[915,441,915208,"NORFOLK COUNTY               ",208,"NORFOLK                      ",5.138339921E-2,253,13,82.5,4.2391304348250003]
[915,442,915220,"NORFOLK COUNTY               ",220,"NORWOOD                      ",3.5573122530000001E-2,253,9,82.5,2.934782608725]
[915,443,915238,"NORFOLK COUNTY               ",238,"PLAINVILLE                   ",1.5810276679999999E-2,253,4,78.67,1.2437944664156]
[915,444,915243,"NORFOLK COUNTY               ",243,"QUINCY                       ",6.3241106719999995E-2,253,16,81.34,5.1440316206047996]
[915,445,915244,"NORFOLK COUNTY               ",244,"RANDOLPH                     ",1.9762845849999999E-2,253,5,60.83,1.2021739130554998]
[915,446,915266,"NORFOLK COUNTY               ",266,"SHARON                       ",2.3715415019999998E-2,253,6,82.5,1.9565217391499998]
[915,447,915285,"NORFOLK COUNTY               ",285,"STOUGHTON                    ",2.7667984190000001E-2,253,7,{"$f":"ROUND(VLOOKUP(E456,town351,12),2)","v":59.45},1.6448616600955002]
[915,448,915307,"NORFOLK COUNTY               ",307,"WALPOLE                      ",8.3003952569999997E-2,253,21,82.5,6.8478260870250001]
[915,449,915317,"NORFOLK COUNTY               ",317,"WELLESLEY",3.9525691699999997E-3,253,1,82.5,{"$f":"G458*J458","v":0.32608695652499997}]
[915,450,915335,"NORFOLK COUNTY               ",335,"WESTWOOD                     ",3.9525691699999997E-2,253,10,82.5,3.2608695652499997]
[915,{"$f":"B459+1","v":451},915336,"NORFOLK COUNTY               ",336,"WEYMOUTH                     ",0.10671936759,253,27,81.349999999999994,8.6816205534464999]
[915,452,915350,"NORFOLK COUNTY               ",350,"WRENTHAM                     ",3.1620553359999998E-2,253,8,82.5,2.6086956521999998]