{"text_format":"1","workbook":"xlsx","n_sheets":21,"sheets":["notes","Index","localcont","Locked sheet","MoreAboutData","Foundation Budget","Municipal Contribution","Regional Allocation","Summary","parameters","Regional District Members","Comparison to FY26","Aid436","Rates","Townwide Contributions","ceyregionalcalc","disthist","dist435","RegPivot","leas","frac"],"not_rendered":{"charts":6,"images":8,"macros":1,"external_links":1,"defined_names":146,"comments":1,"pivot_tables":1},"unopened":[],"bounds":{"document_bytes":16777216,"sheet_cells":100000,"rows_first":2000,"rows_last":500,"rows_between":2000,"halvings":0,"cell_chars":16384,"cell_head_chars":4096},"cells_cut":0,"cells_raw":0,"read":"whole","date_system":"1900"}

{"sheet":"notes","index":0,"n_rows":19,"n_cols":4,"rows_kept":19,"cut":false,"hidden":true,"merged":[]}
["FY26 Chapter 70 Prelim"]
[]
["Tabs","What happens on this sheet","Data source (if any)","Notes"]
["Parameters","Allows the user to adjust all of the policy levers in Chapter 70, except for changes to foundation.  Foundation budget scenarios can be changed, but they must 1st be run separately and dropped into localcont (all the way to the right).  Up to 11 alternatives can be included.",null,"Updated"]
["Index","Controls the district being viewed for all reports except regional dist members","Dropdown box reads LEAs"]
["Rates","CY and PY foundation budget rates\nUsed to calculate foundation budget report","Copied in from found file","Updated"]
["Foundation Budget","1 district report showing build-up of foundation budget","Rates, dist435"]
["Municipal Contribution","1 city/town report showing build-up of required local contribution (municipal level)","townwide contributions"]
["Regional Allocation","1 city/town report showing allocation of total municipal required local contribution based on proportion of foundation budget at each district to which it belongs","localcont"]
["Summary","1 district report summarizing C70 calculation and comparison to PY","aid436, disthist"]
["Regional Dist Members","1 regional district report summarizing enrollment and local contribution for each member town\nChanged in FY18 to vlookup on localcont","localcont, leas"]
["LocalCont","Results from distfrac get copied into the far right (up to 11 versions of foundation budget can be entered).  Toggle is on parameters sheet.\nData is organized in 5 row format for each city/town (municipality and its districts, blanks are 998 and total is 999).\nUsed to calculate each municipal-district combination's RLC.","found file, distfrac (allocate sheet)","Updated"]
[]
["Comparison to FY25","2 year comparison for operating districts","aid436, disthist, localcont","Updated"]
["Townwide Contributions","Calculates municipal required local contributions","DOR (EQV, Income, MRGFs), PY file (RLCs), parameters","Updated"]
["Aid436","Calculates district Ch 70 aid","disthist, localcont, frac, parameters\nStarting w/ LEA 406, in col J (target aid %), formula changes to pull from frac tab.","min aid adjustment only applied to operating districts; adjusted base aid for Southwick, Tolland, Granville, and Southwick-Tolland-Granville"]
["Frac","Calculates target aid percentage for regional districts",null,"Updated"]
["DistHist","***Don't forget to copy in target aid %s from PY\nHistorical C70 data used in summary report, and other places",null,"Updated"]
["Dist435","Data source for foundation budget report, shows detailed enrollment and budget columns","found26prelim","Updated"]

{"sheet":"Index","index":1,"n_rows":465,"n_cols":7,"rows_kept":465,"cut":false,"hidden":false,"merged":[]}
["Massachusetts Department of Elementary and Secondary Education"]
[{"$f":"parameters!B1& \" Chapter 70 and Net School Spending Formula Spreadsheet\"","v":"FY27 Chapter 70 and Net School Spending Formula Spreadsheet"}]
[null,"Select or type full district name below","LEA code"]
[{"$f":"C4","v":999},"Select a district",{"$f":"VLOOKUP(B4,leas!$E$4:$F$445,2,FALSE)","v":999}]
[]
[null,"Use the drop-down menu to select a municipal or regional district  and then go to any of the first four links below.  "]
[null,"Only municipal district selections will activate the Municipal Contribution Requirement and Regional Allocation reports."]
[null,"A list of LEAs by code begins on row 26 of this sheet."]
[]
[null,"We recommend that you save this workbook to your computer before proceeding, then leave this browser, and open the workbook using Excel or My Computer."]
[]
[null,"Summary"]
[null,"Foundation Budget"]
[null,"Municipal Contribution Requirement"]
[null,"Regional Allocation"]
[]
[null,"Regional District Detail",null,"(go to this sheet to see any particular regional district's comparison of enrollment and minimum contributions to the prior year)"]
[]
[null,"There are also a number of \"hidden\" sheets which contain the underlying spreadsheet calculations."]
[null,"They can be accessed by right-clicking on any of the tabs below and choosing a sheet to unhide."]
[]
[null,"Questions or comments about Chapter 70 may be directed to:"]
[]
[null,"Meghan Ryan",null,"Meghan.Ryan2@mass.gov",null,null,"781-338-6507"]
[null,"Rob O'Donnell",null,"Robert.F.O'Donnell@mass.gov",null,null,"781-338-6512"]
[]
[null,"District",null,"LEA Number"]
[null,"Abington                     ",null,1]
[null,"Acton                        ",null,2]
[null,"Acton Boxborough             ",null,600]
[null,"Acushnet                     ",null,3]
[null,"Adams                        ",null,4]
[null,"Agawam                       ",null,5]
[null,"Alford                       ",null,6]
[null,"Amesbury                     ",null,7]
[null,"Amherst                      ",null,8]
[null,"Amherst Pelham               ",null,605]
[null,"Andover                      ",null,9]
[null,"Aquinnah",null,104]
[null,"Arlington                    ",null,10]
[null,"Ashburnham                   ",null,11]
[null,"Ashburnham Westminster       ",null,610]
[null,"Ashby                        ",null,12]
[null,"Ashfield                     ",null,13]
[null,"Ashland                      ",null,14]
[null,"Assabet Valley               ",null,801]
[null,"Athol                        ",null,15]
[null,"Athol Royalston              ",null,615]
[null,"Attleboro                    ",null,16]
[null,"Auburn                       ",null,17]
[null,"Avon                         ",null,18]
[null,"Ayer                         ",null,19]
[null,"Ayer Shirley",null,616]
[null,"Barnstable                   ",null,20]
[null,"Barre                        ",null,21]
[null,"Becket                       ",null,22]
[null,"Bedford                      ",null,23]
[null,"Belchertown                  ",null,24]
[null,"Bellingham                   ",null,25]
[null,"Belmont                      ",null,26]
[null,"Berkley                      ",null,27]
[null,"Berkshire Hills              ",null,618]
[null,"Berlin                       ",null,28]
[null,"Berlin Boylston              ",null,620]
[null,"Bernardston                  ",null,29]
[null,"Beverly                      ",null,30]
[null,"Billerica                    ",null,31]
[null,"Blackstone                   ",null,32]
[null,"Blackstone Millville         ",null,622]
[null,"Blackstone Valley            ",null,805]
[null,"Blandford                    ",null,33]
[null,"Blue Hills                   ",null,806]
[null,"Bolton                       ",null,34]
[null,"Boston                       ",null,35]
[null,"Bourne                       ",null,36]
[null,"Boxborough                   ",null,37]
[null,"Boxford                      ",null,38]
[null,"Boylston                     ",null,39]
[null,"Braintree                    ",null,40]
[null,"Brewster                     ",null,41]
[null,"Bridgewater                  ",null,42]
[null,"Bridgewater Raynham          ",null,625]
[null,"Brimfield                    ",null,43]
[null,"Bristol County               ",null,910]
[null,"Bristol Plymouth             ",null,810]
[null,"Brockton                     ",null,44]
[null,"Brookfield                   ",null,45]
[null,"Brookline                    ",null,46]
[null,"Buckland                     ",null,47]
[null,"Burlington                   ",null,48]
[null,"Cambridge                    ",null,49]
[null,"Canton                       ",null,50]
[null,"Cape Cod                     ",null,815]
[null,"Carlisle                     ",null,51]
[null,"Carver                       ",null,52]
[null,"Central Berkshire            ",null,635]
[null,"Charlemont                   ",null,53]
[null,"Charlton                     ",null,54]
[null,"Chatham                      ",null,55]
[null,"Chelmsford                   ",null,56]
[null,"Chelsea                      ",null,57]
[null,"Cheshire                     ",null,58]
[null,"Chester                      ",null,59]
[null,"Chesterfield                 ",null,60]
[null,"Chesterfield Goshen",null,632]
[null,"Chicopee                     ",null,61]
[null,"Chilmark                     ",null,62]
[null,"Clarksburg                   ",null,63]
[null,"Clinton                      ",null,64]
[null,"Cohasset                     ",null,65]
[null,"Colrain                      ",null,66]
[null,"Concord                      ",null,67]
[null,"Concord Carlisle             ",null,640]
[null,"Conway                       ",null,68]
[null,"Cummington                   ",null,69]
[null,"Dalton                       ",null,70]
[null,"Danvers                      ",null,71]
[null,"Dartmouth                    ",null,72]
[null,"Dedham                       ",null,73]
[null,"Deerfield                    ",null,74]
[null,"Dennis                       ",null,75]
[null,"Dennis Yarmouth              ",null,645]
[null,"Dighton                      ",null,76]
[null,"Dighton Rehoboth             ",null,650]
[null,"Douglas                      ",null,77]
[null,"Dover                        ",null,78]
[null,"Dover Sherborn               ",null,655]
[null,"Dracut                       ",null,79]
[null,"Dudley                       ",null,80]
[null,"Dudley Charlton              ",null,658]
[null,"Dunstable                    ",null,81]
[null,"Duxbury                      ",null,82]
[null,"East Bridgewater             ",null,83]
[null,"East Brookfield              ",null,84]
[null,"East Longmeadow              ",null,87]
[null,"Eastham                      ",null,85]
[null,"Easthampton                  ",null,86]
[null,"Easton                       ",null,88]
[null,"Edgartown                    ",null,89]
[null,"Egremont                     ",null,90]
[null,"Erving                       ",null,91]
[null,"Essex                        ",null,92]
[null,"Essex North Shore",null,817]
[null,"Everett                      ",null,93]
[null,"Fairhaven                    ",null,94]
[null,"Fall River                   ",null,95]
[null,"Falmouth                     ",null,96]
[null,"Farmington River",null,662]
[null,"Fitchburg                    ",null,97]
[null,"Florida                      ",null,98]
[null,"Foxborough                   ",null,99]
[null,"Framingham                   ",null,100]
[null,"Franklin                     ",null,101]
[null,"Franklin County              ",null,818]
[null,"Freetown                     ",null,102]
[null,"Freetown Lakeville           ",null,665]
[null,"Frontier                     ",null,670]
[null,"Gardner                      ",null,103]
[null,"Gateway                      ",null,672]
[null,"Georgetown                   ",null,105]
[null,"Gill                         ",null,106]
[null,"Gill Montague                ",null,674]
[null,"Gloucester                   ",null,107]
[null,"Goshen                       ",null,108]
[null,"Gosnold                      ",null,109]
[null,"Grafton                      ",null,110]
[null,"Granby                       ",null,111]
[null,"Granville                    ",null,112]
[null,"Great Barrington             ",null,113]
[null,"Greater Fall River           ",null,821]
[null,"Greater Lawrence             ",null,823]
[null,"Greater Lowell               ",null,828]
[null,"Greater New Bedford          ",null,825]
[null,"Greenfield                   ",null,114]
[null,"Groton                       ",null,115]
[null,"Groton Dunstable             ",null,673]
[null,"Groveland                    ",null,116]
[null,"Hadley                       ",null,117]
[null,"Halifax                      ",null,118]
[null,"Hamilton                     ",null,119]
[null,"Hamilton Wenham              ",null,675]
[null,"Hampden                      ",null,120]
[null,"Hampden Wilbraham            ",null,680]
[null,"Hampshire                    ",null,683]
[null,"Hancock                      ",null,121]
[null,"Hanover                      ",null,122]
[null,"Hanson                       ",null,123]
[null,"Hardwick                     ",null,124]
[null,"Harvard                      ",null,125]
[null,"Harwich                      ",null,126]
[null,"Hatfield                     ",null,127]
[null,"Haverhill                    ",null,128]
[null,"Hawlemont                    ",null,685]
[null,"Hawley                       ",null,129]
[null,"Heath                        ",null,130]
[null,"Hingham                      ",null,131]
[null,"Hinsdale                     ",null,132]
[null,"Holbrook                     ",null,133]
[null,"Holden                       ",null,134]
[null,"Holland                      ",null,135]
[null,"Holliston                    ",null,136]
[null,"Holyoke                      ",null,137]
[null,"Hoosac Valley",null,603]
[null,"Hopedale                     ",null,138]
[null,"Hopkinton                    ",null,139]
[null,"Hubbardston                  ",null,140]
[null,"Hudson                       ",null,141]
[null,"Hull                         ",null,142]
[null,"Huntington                   ",null,143]
[null,"Ipswich                      ",null,144]
[null,"King Philip                  ",null,690]
[null,"Kingston                     ",null,145]
[null,"Lakeville                    ",null,146]
[null,"Lancaster                    ",null,147]
[null,"Lanesborough                 ",null,148]
[null,"Lawrence                     ",null,149]
[null,"Lee                          ",null,150]
[null,"Leicester                    ",null,151]
[null,"Lenox                        ",null,152]
[null,"Leominster                   ",null,153]
[null,"Leverett                     ",null,154]
[null,"Lexington                    ",null,155]
[null,"Leyden                       ",null,156]
[null,"Lincoln                      ",null,157]
[null,"Lincoln Sudbury              ",null,695]
[null,"Littleton                    ",null,158]
[null,"Longmeadow                   ",null,159]
[null,"Lowell                       ",null,160]
[null,"Ludlow                       ",null,161]
[null,"Lunenburg                    ",null,162]
[null,"Lynn                         ",null,163]
[null,"Lynnfield                    ",null,164]
[null,"Malden                       ",null,165]
[null,"Manchester                   ",null,166]
[null,"Manchester Essex",null,698]
[null,"Mansfield                    ",null,167]
[null,"Marblehead                   ",null,168]
[null,"Marion                       ",null,169]
[null,"Marlborough                  ",null,170]
[null,"Marshfield                   ",null,171]
[null,"Marthas Vineyard             ",null,700]
[null,"Masconomet                   ",null,705]
[null,"Mashpee                      ",null,172]
[null,"Mattapoisett                 ",null,173]
[null,"Maynard                      ",null,174]
[null,"Medfield                     ",null,175]
[null,"Medford                      ",null,176]
[null,"Medway                       ",null,177]
[null,"Melrose                      ",null,178]
[null,"Mendon                       ",null,179]
[null,"Mendon Upton                 ",null,710]
[null,"Merrimac                     ",null,180]
[null,"Methuen                      ",null,181]
[null,"Middleborough                ",null,182]
[null,"Middlefield                  ",null,183]
[null,"Middleton                    ",null,184]
[null,"Milford                      ",null,185]
[null,"Millbury                     ",null,186]
[null,"Millis                       ",null,187]
[null,"Millville                    ",null,188]
[null,"Milton                       ",null,189]
[null,"Minuteman                    ",null,830]
[null,"Mohawk Trail                 ",null,717]
[null,"Monomoy",null,712]
[null,"Monroe                       ",null,190]
[null,"Monson                       ",null,191]
[null,"Montachusett                 ",null,832]
[null,"Montague                     ",null,192]
[null,"Monterey                     ",null,193]
[null,"Montgomery                   ",null,194]
[null,"Mount Greylock               ",null,715]
[null,"Mount Washington             ",null,195]
[null,"Nahant                       ",null,196]
[null,"Nantucket                    ",null,197]
[null,"Narragansett                 ",null,720]
[null,"Nashoba                      ",null,725]
[null,"Nashoba Valley               ",null,852]
[null,"Natick                       ",null,198]
[null,"Nauset                       ",null,660]
[null,"Needham                      ",null,199]
[null,"New Ashford                  ",null,200]
[null,"New Bedford                  ",null,201]
[null,"New Braintree                ",null,202]
[null,"New Marlborough              ",null,205]
[null,"New Salem                    ",null,206]
[null,"New Salem Wendell            ",null,728]
[null,"Newbury                      ",null,203]
[null,"Newburyport                  ",null,204]
[null,"Newton                       ",null,207]
[null,"Norfolk                      ",null,208]
[null,"Norfolk County               ",null,915]
[null,"North Adams                  ",null,209]
[null,"North Andover                ",null,211]
[null,"North Attleborough           ",null,212]
[null,"North Brookfield             ",null,215]
[null,"North Middlesex              ",null,735]
[null,"North Reading                ",null,217]
[null,"Northampton                  ",null,210]
[null,"Northampton Smith            ",null,406]
[null,"Northboro Southboro          ",null,730]
[null,"Northborough                 ",null,213]
[null,"Northbridge                  ",null,214]
[null,"Northeast Metropolitan       ",null,853]
[null,"Northern Berkshire           ",null,851]
[null,"Northfield                   ",null,216]
[null,"Norton                       ",null,218]
[null,"Norwell                      ",null,219]
[null,"Norwood                      ",null,220]
[null,"Oak Bluffs                   ",null,221]
[null,"Oakham                       ",null,222]
[null,"Old Colony                   ",null,855]
[null,"Old Rochester                ",null,740]
[null,"Orange                       ",null,223]
[null,"Orleans                      ",null,224]
[null,"Otis                         ",null,225]
[null,"Oxford                       ",null,226]
[null,"Palmer                       ",null,227]
[null,"Pathfinder                   ",null,860]
[null,"Paxton                       ",null,228]
[null,"Peabody                      ",null,229]
[null,"Pelham                       ",null,230]
[null,"Pembroke                     ",null,231]
[null,"Pentucket                    ",null,745]
[null,"Pepperell                    ",null,232]
[null,"Peru                         ",null,233]
[null,"Petersham                    ",null,234]
[null,"Phillipston                  ",null,235]
[null,"Pioneer                      ",null,750]
[null,"Pittsfield                   ",null,236]
[null,"Plainfield                   ",null,237]
[null,"Plainville                   ",null,238]
[null,"Plymouth                     ",null,239]
[null,"Plympton                     ",null,240]
[null,"Princeton                    ",null,241]
[null,"Provincetown                 ",null,242]
[null,"Quabbin                      ",null,753]
[null,"Quaboag",null,778]
[null,"Quincy                       ",null,243]
[null,"Ralph C Mahar                ",null,755]
[null,"Randolph                     ",null,244]
[null,"Raynham                      ",null,245]
[null,"Reading                      ",null,246]
[null,"Rehoboth                     ",null,247]
[null,"Revere                       ",null,248]
[null,"Richmond                     ",null,249]
[null,"Rochester                    ",null,250]
[null,"Rockland                     ",null,251]
[null,"Rockport                     ",null,252]
[null,"Rowe                         ",null,253]
[null,"Rowley                       ",null,254]
[null,"Royalston                    ",null,255]
[null,"Russell                      ",null,256]
[null,"Rutland                      ",null,257]
[null,"Salem                        ",null,258]
[null,"Salisbury                    ",null,259]
[null,"Sandisfield                  ",null,260]
[null,"Sandwich                     ",null,261]
[null,"Saugus                       ",null,262]
[null,"Savoy                        ",null,263]
[null,"Scituate                     ",null,264]
[null,"Seekonk                      ",null,265]
[null,"Sharon                       ",null,266]
[null,"Shawsheen Valley             ",null,871]
[null,"Sheffield                    ",null,267]
[null,"Shelburne                    ",null,268]
[null,"Sherborn                     ",null,269]
[null,"Shirley                      ",null,270]
[null,"Shrewsbury                   ",null,271]
[null,"Shutesbury                   ",null,272]
[null,"Silver Lake                  ",null,760]
[null,"Somerset                     ",null,273]
[null,"Somerset Berkley",null,763]
[null,"Somerville                   ",null,274]
[null,"South Hadley                 ",null,278]
[null,"South Middlesex              ",null,829]
[null,"South Shore                  ",null,873]
[null,"Southampton                  ",null,275]
[null,"Southborough                 ",null,276]
[null,"Southbridge                  ",null,277]
[null,"Southeastern                 ",null,872]
[null,"Southern Berkshire           ",null,765]
[null,"Southern Worcester           ",null,876]
[null,"Southwick                    ",null,279]
[null,"Southwick Tolland Granville",null,766]
[null,"Spencer                      ",null,280]
[null,"Spencer East Brookfield      ",null,767]
[null,"Springfield                  ",null,281]
[null,"Sterling                     ",null,282]
[null,"Stockbridge                  ",null,283]
[null,"Stoneham                     ",null,284]
[null,"Stoughton                    ",null,285]
[null,"Stow                         ",null,286]
[null,"Sturbridge                   ",null,287]
[null,"Sudbury                      ",null,288]
[null,"Sunderland                   ",null,289]
[null,"Sutton                       ",null,290]
[null,"Swampscott                   ",null,291]
[null,"Swansea                      ",null,292]
[null,"Tantasqua                    ",null,770]
[null,"Taunton                      ",null,293]
[null,"Templeton                    ",null,294]
[null,"Tewksbury                    ",null,295]
[null,"Tisbury                      ",null,296]
[null,"Tolland                      ",null,297]
[null,"Topsfield                    ",null,298]
[null,"Townsend                     ",null,299]
[null,"Tri County                   ",null,878]
[null,"Triton                       ",null,773]
[null,"Truro                        ",null,300]
[null,"Tyngsborough                 ",null,301]
[null,"Tyringham                    ",null,302]
[null,"Upisland",null,774]
[null,"Upper Cape Cod               ",null,879]
[null,"Upton                        ",null,303]
[null,"Uxbridge                     ",null,304]
[null,"Wachusett                    ",null,775]
[null,"Wakefield                    ",null,305]
[null,"Wales                        ",null,306]
[null,"Walpole                      ",null,307]
[null,"Waltham                      ",null,308]
[null,"Ware                         ",null,309]
[null,"Wareham                      ",null,310]
[null,"Warren                       ",null,311]
[null,"Warwick                      ",null,312]
[null,"Washington                   ",null,313]
[null,"Watertown                    ",null,314]
[null,"Wayland                      ",null,315]
[null,"Webster                      ",null,316]
[null,"Wellesley                    ",null,317]
[null,"Wellfleet                    ",null,318]
[null,"Wendell                      ",null,319]
[null,"Wenham                       ",null,320]
[null,"West Boylston                ",null,322]
[null,"West Bridgewater             ",null,323]
[null,"West Brookfield              ",null,324]
[null,"West Newbury                 ",null,329]
[null,"West Springfield             ",null,332]
[null,"West Stockbridge             ",null,333]
[null,"West Tisbury                 ",null,334]
[null,"Westborough                  ",null,321]
[null,"Westfield                    ",null,325]
[null,"Westford                     ",null,326]
[null,"Westhampton                  ",null,327]
[null,"Westminster                  ",null,328]
[null,"Weston                       ",null,330]
[null,"Westport                     ",null,331]
[null,"Westwood                     ",null,335]
[null,"Weymouth                     ",null,336]
[null,"Whately                      ",null,337]
[null,"Whitman                      ",null,338]
[null,"Whitman Hanson               ",null,780]
[null,"Whittier                     ",null,885]
[null,"Wilbraham                    ",null,339]
[null,"Williamsburg                 ",null,340]
[null,"Williamstown                 ",null,341]
[null,"Wilmington                   ",null,342]
[null,"Winchendon                   ",null,343]
[null,"Winchester                   ",null,344]
[null,"Windsor                      ",null,345]
[null,"Winthrop                     ",null,346]
[null,"Woburn",null,347]
[null,"Worcester                    ",null,348]
[null,"Worthington                  ",null,349]
[null,"Wrentham                     ",null,350]
[null,"Yarmouth                     ",null,351]

{"sheet":"localcont","index":2,"n_rows":1765,"n_cols":93,"rows_kept":1765,"cut":false,"hidden":true,"merged":[[4,55,4,59],[5,55,5,59],[5,19,5,23],[4,43,4,47],[5,43,5,47],[4,49,4,53],[5,49,5,53],[5,25,5,29],[4,31,4,35],[5,31,5,35],[4,37,4,41],[5,37,5,41],[4,25,4,29],[5,95,5,99],[4,95,4,99],[4,61,4,65],[5,61,5,65],[4,67,4,71],[5,67,5,71],[4,85,4,89],[5,85,5,89],[4,73,4,77],[5,73,5,77],[4,79,4,83],[5,79,5,83]]}
[null,null,null,null,null,null,null,null,"c70fy26","c70fy26",null,null,null,null,"c70fy26",null,null,"c70fy26",null,null,null,null,null,null,null,null,null,null,null,null,null,null,null,null,null,null,null,null,null,null,null,null,null,null,null,null,null,null,null,null,null,null,null,null,null,null,null,null,null,null,null,null,null,null,null,null,null,null,null,null,null,null,null,null,null,null,null,null,null,null,null,null,null,null,null,null,null,null,null,null,"Lookup table for foundation budget scenarios",1,2]
[null,null,null,null,null,null,null,null,null,null,null,null,null,null,null,null,null,null,null,null,null,null,null,null,null,null,null,null,null,null,null,null,null,null,null,null,null,null,null,null,null,null,null,null,null,null,null,null,null,null,null,null,null,null,null,null,null,null,null,null,null,null,null,null,null,null,null,null,null,null,null,null,null,null,null,null,null,null,null,null,null,null,null,null,null,null,null,null,null,null,null,2,8]
[null,null,null,1,2,3,4,5,6,7,8,9,10,11,12,13,14,15,16,17,18,19,20,21,null,null,null,null,null,null,null,null,null,null,null,null,null,null,null,null,null,null,null,null,null,null,null,null,null,null,null,null,null,null,null,null,null,null,null,null,null,null,null,null,null,null,null,null,null,null,null,null,null,null,null,null,null,null,null,null,null,null,null,null,null,null,null,null,null,null,null,3,14]
[null,null,null,null,null,null,"lea1755",null,null,null,"found1755",null,null,"prelcont1755","pynetmin",null,null,"pyenro",null,null,null,null,"enro1755",null,null,null,null,null,null,null,null,null,null,null,null,null,null,null,null,null,null,null,null,null,null,null,null,null,null,null,null,null,null,null,null,null,null,null,null,null,null,null,null,null,null,null,null,null,null,null,null,null,null,null,null,null,null,null,null,null,null,null,null,null,null,null,null,null,null,null,null,4,20]
[null,null,null,null,null,null,null,null,null,null,null,null,null,null,null,null,null,null,null,null,null,null,null,null,null,1,null,null,null,null,null,2,null,null,null,null,null,3,null,null,null,null,null,4,null,null,null,null,null,5,null,null,null,null,null,6,null,null,null,null,null,7,null,null,null,null,null,8,null,null,null,null,null,9,null,null,null,null,null,10,null,null,null,null,null,11,null,null,null,null,null,5,26]
[null,null,null,null,null,null,null,null,null,null,null,null,null,null,null,null,null,null,null,{"$f":"parameters!$C$6","v":1},null,null,null,null,null,"2.76% Inflation",null,null,null,null,null,null,null,null,null,null,null,null,null,null,null,null,null,null,null,null,null,null,null,null,null,null,null,null,null,null,null,null,null,null,null,null,null,null,null,null,null,null,null,null,null,null,null,null,null,null,null,null,null,null,null,null,null,null,null,null,null,null,null,null,null,6,32]
[null,null,null,null,null,null,null,null,{"$f":"PYr","v":"FY26"},{"$f":"PYr","v":"FY26"},{"$f":"CYr","v":"FY27"},{"$f":"CYr","v":"FY27"},{"$f":"CYr","v":"FY27"},{"$f":"CYr","v":"FY27"},{"$f":"PYr","v":"FY26"},null,null,null,null,null,null,null,null,null,null,null,null,null,null,null,null,null,null,null,null,null,null,null,null,null,null,null,null,null,null,null,null,null,null,null,null,null,null,null,null,null,null,null,null,null,null,null,null,null,null,null,null,null,null,null,null,null,null,null,null,null,null,null,null,null,null,null,null,null,null,null,null,null,null,null,null,7,38]
[null,null,null,null,null,null,null,null,"Foundation","Share of Total","Foundation","Share of Total","Townwide","Net Minimum","Net Minimum",{"$f":"PYr&\" to \"&CYr","v":"FY26 to FY27"},"Percent",{"$f":"PYr","v":"FY26"},{"$f":"CYr","v":"FY27"},null,null,null,"final","foundation",null,null,null,null,null,null,null,null,null,null,null,null,null,null,null,null,null,null,null,null,null,null,null,null,null,null,null,null,null,null,null,null,null,null,"final","foundation",null,null,null,null,"final","foundation",null,null,null,null,"final","foundation",null,null,null,null,"final","foundation",null,null,null,null,"final","foundation",null,null,null,null,"final","foundation",null,8,44]
["TownLEA","Town","LEA","Order","Town","City or Town","LEA","School District","Budget26","Foundation26","Budget27","Foundation27","Contribution27","Contribution27","Contribution26","Change","Change","Enrollment26","Enrollment27","Town","LEA","Order","enrollment","budget",null,"Town","LEA","Order","Foundation Enrollment","Foundation Budget",null,"Town","LEA","Order","Foundation Enrollment","Foundation Budget",null,"Town","LEA","Order","Foundation Enrollment","Foundation Budget",null,"Town","LEA","Order","Foundation Enrollment","Foundation Budget",null,"Town","LEA","Order","Foundation Enrollment","Foundation Budget",null,"Town","LEA","Order","enrollment","budget",null,"Town","LEA","Order","Foundation Enrollment","Foundation Budget",null,"Town","LEA","Order","enrollment","budget",null,"Town","LEA","Order","enrollment","budget",null,"Town","LEA","Order","enrollment","budget",null,"Town","LEA","Order","enrollment","budget",null,9,50]
[{"$f":"B10&C10","v":"00010001"},"0001","0001",1,1,"Abington                     ",1,"Abington",33501030.561300002,0.93688446059734598,{"$f":"X10","v":34347724.25632},{"$f":"IF(K14>0, K10/K14, 0)","v":0.94358989432178886},null,{"$f":"ROUND(M14*L10,0)","v":19908440},18800612,{"$f":"N10-O10","v":1107828},{"$f":"IF(O10>0,P10*100/O10,IF(P10>0,100,0))","v":5.8925103076431764},2200,{"$f":"W10","v":2199},{"$f":"VLOOKUP($D10, foundoptions, VLOOKUP($T$6, foundoptcell, 2, FALSE), FALSE)","v":1},{"$f":"VLOOKUP($D10, foundoptions, VLOOKUP($T$6, foundoptcell, 2, FALSE)+1, FALSE)","v":1},{"$f":"VLOOKUP($D10, foundoptions, VLOOKUP($T$6, foundoptcell, 2, FALSE)+2, FALSE)","v":1},{"$f":"VLOOKUP($D10, foundoptions, VLOOKUP($T$6, foundoptcell, 2, FALSE)+3, FALSE)","v":2199},{"$f":"VLOOKUP($D10, foundoptions, VLOOKUP($T$6, foundoptcell, 2, FALSE)+4, FALSE)","v":34347724.25632},{"$f":"D10","v":1},1,1,1,2199,34347724.25632,null,null,null,null,null,null,null,null,null,null,null,null,null,null,null,null,null,null,null,null,null,null,null,null,null,null,null,null,null,null,null,null,null,null,null,null,null,null,null,null,null,null,null,null,null,null,null,null,null,null,null,null,null,null,null,null,null,null,null,null,null,10,56]
["00010873","0001","0873",2,1,"Abington                     ",873,"South Shore",2256879.8003898021,6.3115539402653978E-2,{"$f":"X11","v":2053390.7439711408},{"$f":"IF(K14>0, K11/K14, 0)","v":5.6410105678211163E-2},null,{"$f":"ROUND(M14*L11,0)","v":1190175},1266550,{"$f":"N11-O11","v":-76375},-6.0301606726935377,105.00000000154,{"$f":"W11","v":94.00000000224},{"$f":"VLOOKUP($D11, foundoptions, VLOOKUP($T$6, foundoptcell, 2, FALSE), FALSE)","v":1},873,2,94.00000000224,2053390.7439711408,{"$f":"D11","v":2},1,873,2,94.00000000224,2053390.7439711408,null,null,null,null,null,null,null,null,null,null,null,null,null,null,null,null,null,null,null,null,null,null,null,null,null,null,null,null,null,null,null,null,null,null,null,null,null,null,null,null,null,null,null,null,null,null,null,null,null,null,null,null,null,null,null,null,null,null,null,null,null,11,62]
["00010998","0001","0998",3,1,"",998,"",0,0,{"$f":"X12","v":0},{"$f":"IF(K14>0, K12/K14, 0)","v":0},null,{"$f":"ROUND(M14*L12,0)","v":0},0,{"$f":"N12-O12","v":0},0,0,0,1,998,3,0,0,3,1,998,3,0,0]
["00010998","0001","0998",4,1,"",998,"",0,0,{"$f":"X13","v":0},{"$f":"IF(K14>0, K13/K14, 0)","v":0},null,{"$f":"ROUND(M14*L13,0)","v":0},0,{"$f":"N13-O13","v":0},0,0,0,1,998,4,0,0,4,1,998,4,0,0]
["00010999","0001","0999",5,1,"Abington                     ",999,"Total",35757910.361689806,1,{"$f":"SUM(K10:K13)","v":36401115.000291139},{"$f":"SUM(L10:L13)","v":1},{"$f":"VLOOKUP(E14,town351,24)","v":21098615},{"$f":"SUM(N10:N13)","v":21098615},20067162,{"$f":"SUM(P10:P13)","v":1031453},5.1400043513876055,2305.0000000015398,2293.0000000022401,1,999,5,2293.0000000022401,36401115.000291139,5,1,999,5,2293.0000000022401,36401115.000291139]
["00020002","0002","0002",6,2,"Acton                        ",2,"Acton",0,0,{"$f":"X15","v":0},{"$f":"IF(K19>0, K15/K19, 0)","v":0},null,{"$f":"ROUND(M19*L15,0)","v":0},0,{"$f":"N15-O15","v":0},0,0,0,2,2,6,0,0,6,2,2,6,0,0]
["00020600","0002","0600",7,2,"Acton                        ",600,"Acton Boxborough",56088694.2634167,0.96816783264672202,57509134.071801566,{"$f":"IF(K19>0, K16/K19, 0)","v":0.9728173280818222},null,{"$f":"ROUND(M19*L16,0)","v":47303894},45393703,{"$f":"N16-O16","v":1910191},4.2080528217757429,4082.2228401365596,4002.9681617926099,2,600,7,4002.9681617926099,57509134.071801566,7,2,600,7,4002.9681617926099,57509134.071801566]
["00020830","0002","0830",8,2,"Acton                        ",830,"Minuteman",1844127.2703091477,3.1832167353277985E-2,1606932.6467022013,{"$f":"IF(K19>0, K17/K19, 0)","v":2.7182671918177866E-2},null,{"$f":"ROUND(M19*L17,0)","v":1321776},1492489,{"$f":"N17-O17","v":-170713},-11.438141252632347,85.000000002200011,71.000000002340002,2,830,8,71.000000002340002,1606932.6467022013,8,2,830,8,71.000000002340002,1606932.6467022013]
["00020998","0002","0998",9,2,"",998,"",0,0,0,{"$f":"IF(K19>0, K18/K19, 0)","v":0},null,{"$f":"ROUND(M19*L18,0)","v":0},0,{"$f":"N18-O18","v":0},0,0,0,2,998,9,0,0,9,2,998,9,0,0]
["00020999","0002","0999",10,2,"Acton                        ",999,"Total",57932821.53372585,1,{"$f":"SUM(K15:K18)","v":59116066.718503766},{"$f":"SUM(L15:L18)","v":1},{"$f":"VLOOKUP(E19,town351,24)","v":48625670},{"$f":"SUM(N15:N18)","v":48625670},46886192,{"$f":"SUM(P15:P18)","v":1739478},{"$f":"IF(O19>0,P19*100/O19,IF(P19>0,100,0))","v":3.7100005903657092},4167.2228401387592,4073.96816179495,2,999,10,4073.96816179495,59116066.718503766,10,2,999,10,4073.96816179495,59116066.718503766]
["00030003","0003","0003",11,3,"Acushnet                     ",3,"Acushnet",15639642.750000002,0.7814618070274737,{"$f":"X20","v":15971692.030000001},{"$f":"IF(K24>0, K20/K24, 0)","v":0.76679792073465669},null,{"$f":"ROUND(M24*L20,0)","v":9654882},9288698,{"$f":"N20-O20","v":366184},3.9422532630515064,1131,1118,3,3,11,1118,15971692.030000001,11,3,3,11,1118,15971692.030000001]
["00030855","0003","0855",12,3,"Acushnet                     ",855,"Old Colony",3929419.5460639698,0.19634024562589353,4353163.6408957159,{"$f":"IF(K24>0, K21/K24, 0)","v":0.20899456502083219},null,{"$f":"ROUND(M24*L21,0)","v":2631486},2333761,{"$f":"N21-O21","v":297725},12.757304625452221,193.99999999979002,206.99999999812002,3,855,12,206.99999999812002,4353163.6408957159,12,3,855,12,206.99999999812002,4353163.6408957159]
["00030910","0003","0910",13,3,"Acushnet                     ",910,"Bristol County",444254.55366168765,2.2197947346632722E-2,504220.1496252637,{"$f":"IF(K24>0, K22/K24, 0)","v":2.4207514244511116E-2},null,{"$f":"ROUND(M24*L22,0)","v":304801},263852,{"$f":"N22-O22","v":40949},15.519685278110456,20.999999998180002,23.000000000349999,3,910,13,23.000000000349999,504220.1496252637,13,3,910,13,23.000000000349999,504220.1496252637]
["00030998","0003","0998",14,3,"",998,"",0,0,0,{"$f":"IF(K24>0, K23/K24, 0)","v":0},null,{"$f":"ROUND(M24*L23,0)","v":0},0,{"$f":"N23-O23","v":0},0,0,0,3,998,14,0,0,14,3,998,14,0,0]
["00030999","0003","0999",15,3,"Acushnet                     ",999,"Total",20013316.84972566,1,{"$f":"SUM(K20:K23)","v":20829075.820520982},{"$f":"SUM(L20:L23)","v":1},{"$f":"VLOOKUP(E24,town351,24)","v":12591169},{"$f":"SUM(N20:N23)","v":12591169},11886311,{"$f":"SUM(P20:P23)","v":704858},5.92999796152061,1345.99999999797,1347.99999999847,3,999,15,1347.99999999847,20829075.820520982,15,3,999,15,1347.99999999847,20829075.820520982]
["00040004","0004","0004",16,4,"Adams                        ",4,"Adams",0,0,{"$f":"X25","v":18046.96},{"$f":"IF(K29>0, K25/K29, 0)","v":1.026033767846686E-3},null,{"$f":"ROUND(M29*L25,0)","v":5654},0,{"$f":"N25-O25","v":5654},100,0,1,4,4,16,1,18046.96,16,4,4,16,1,18046.96]
["00040603","0004","0603",17,4,"Adams                        ",603,"Hoosac Valley",14076200.332084276,0.82400660025944827,14354337.039946169,{"$f":"IF(K29>0, K26/K29, 0)","v":0.81609503861244292},null,{"$f":"ROUND(M29*L26,0)","v":4497272},4301696,{"$f":"N26-O26","v":195576},4.5464858511619601,847.35817103800002,815.27272726966999,4,603,17,815.27272726966999,14354337.039946169,17,4,603,17,815.27272726966999,14354337.039946169]
["00040851","0004","0851",18,4,"Adams                        ",851,"Northern Berkshire",3006430.2289479002,0.17599339974055167,3216666.7365366556,{"$f":"IF(K29>0, K27/K29, 0)","v":0.18287892761971034},null,{"$f":"ROUND(M29*L27,0)","v":1007795},918767,{"$f":"N27-O27","v":89028},9.6899431520722885,132.00000000075002,136.00000000110001,4,851,18,136.00000000110001,3216666.7365366556,18,4,851,18,136.00000000110001,3216666.7365366556]
["00040998","0004","0998",19,4,"",998,"",0,0,0,{"$f":"IF(K29>0, K28/K29, 0)","v":0},null,{"$f":"ROUND(M29*L28,0)","v":0},0,{"$f":"N28-O28","v":0},0,0,0,4,998,19,0,0,19,4,998,19,0,0]
["00040999","0004","0999",20,4,"Adams                        ",999,"Total",17082630.561032176,1,{"$f":"SUM(K25:K28)","v":17589050.736482825},{"$f":"SUM(L25:L28)","v":1},{"$f":"VLOOKUP(E29,town351,24)","v":5510721},{"$f":"SUM(N25:N28)","v":5510721},5220463,{"$f":"SUM(P25:P28)","v":290258},5.5600049267660738,979.35817103875002,952.27272727077002,4,999,20,952.27272727077002,17589050.736482825,20,4,999,20,952.27272727077002,17589050.736482825]
["00050005","0005","0005",21,5,"Agawam                       ",5,"Agawam",55345476.310000002,1,{"$f":"X30","v":57507213.809999995},{"$f":"IF(K34>0, K30/K34, 0)","v":1},null,{"$f":"ROUND(M34*L30,0)","v":29862697},28135196,{"$f":"N30-O30","v":1727501},6.1399998777332137,3463,3437,5,5,21,3437,57507213.809999995,21,5,5,21,3437,57507213.809999995]
["00050998","0005","0998",22,5,"",998,"",0,0,0,{"$f":"IF(K34>0, K31/K34, 0)","v":0},null,{"$f":"ROUND(M34*L31,0)","v":0},0,{"$f":"N31-O31","v":0},0,0,0,5,998,22,0,0,22,5,998,22,0,0]
["00050998","0005","0998",23,5,"",998,"",0,0,0,{"$f":"IF(K34>0, K32/K34, 0)","v":0},null,{"$f":"ROUND(M34*L32,0)","v":0},0,{"$f":"N32-O32","v":0},0,0,0,5,998,23,0,0,23,5,998,23,0,0]
["00050998","0005","0998",24,5,"",998,"",0,0,0,{"$f":"IF(K34>0, K33/K34, 0)","v":0},null,{"$f":"ROUND(M34*L33,0)","v":0},0,{"$f":"N33-O33","v":0},0,0,0,5,998,24,0,0,24,5,998,24,0,0]
["00050999","0005","0999",25,5,"Agawam                       ",999,"Total",55345476.310000002,1,{"$f":"SUM(K30:K33)","v":57507213.809999995},{"$f":"SUM(L30:L33)","v":1},{"$f":"VLOOKUP(E34,town351,24)","v":29862697},{"$f":"SUM(N30:N33)","v":29862697},28135196,{"$f":"SUM(P30:P33)","v":1727501},6.1399998777332137,3463,3437,5,999,25,3437,57507213.809999995,25,5,999,25,3437,57507213.809999995]
["00060006","0006","0006",26,6,"Alford                       ",6,"Alford",0,0,{"$f":"X35","v":0},{"$f":"IF(K39>0, K35/K39, 0)","v":0},null,{"$f":"ROUND(M39*L35,0)","v":0},0,{"$f":"N35-O35","v":0},0,0,0,6,6,26,0,0,26,6,6,26,0,0]
["00060765","0006","0765",27,6,"Alford                       ",765,"Southern Berkshire",307313.01633393567,1,290012.72824779706,{"$f":"IF(K39>0, K36/K39, 0)","v":1},null,{"$f":"ROUND(M39*L36,0)","v":239261},253533,{"$f":"N36-O36","v":-14272},-5.6292474746877135,20.349845202440001,18.304140127349999,6,765,27,18.304140127349999,290012.72824779706,27,6,765,27,18.304140127349999,290012.72824779706]
["00060998","0006","0998",28,6,"",998,"",0,0,0,{"$f":"IF(K39>0, K37/K39, 0)","v":0},null,{"$f":"ROUND(M39*L37,0)","v":0},0,{"$f":"N37-O37","v":0},0,0,0,6,998,28,0,0,28,6,998,28,0,0]
["00060998","0006","0998",29,6,"",998,"",0,0,0,{"$f":"IF(K39>0, K38/K39, 0)","v":0},null,{"$f":"ROUND(M39*L38,0)","v":0},0,{"$f":"N38-O38","v":0},0,0,0,6,998,29,0,0,29,6,998,29,0,0]
["00060999","0006","0999",30,6,"Alford                       ",999,"Total",307313.01633393567,1,{"$f":"SUM(K35:K38)","v":290012.72824779706},{"$f":"SUM(L35:L38)","v":1},{"$f":"VLOOKUP(E39,town351,24)","v":239261},{"$f":"SUM(N35:N38)","v":239261},253533,{"$f":"SUM(P35:P38)","v":-14272},-5.6292474746877135,20.349845202440001,18.304140127349999,6,999,30,18.304140127349999,290012.72824779706,30,6,999,30,18.304140127349999,290012.72824779706]
["00070007","0007","0007",31,7,"Amesbury                     ",7,"Amesbury",28109289.029999997,0.91607598969626813,{"$f":"X40","v":29502412.490000006},{"$f":"IF(K44>0, K40/K44, 0)","v":0.92387672169218527},null,{"$f":"ROUND(M44*L40,0)","v":21809838},20286760,{"$f":"N40-O40","v":1523078},7.5077439670011374,1919,1953,7,7,31,1953,29502412.490000006,31,7,7,31,1953,29502412.490000006]
["00070885","0007","0885",32,7,"Amesbury                     ",885,"Whittier",2575162.2012999784,8.3924010303731908E-2,2430865.8330677971,{"$f":"IF(K44>0, K41/K44, 0)","v":7.6123278307814721E-2},null,{"$f":"ROUND(M44*L41,0)","v":1797032},1858521,{"$f":"N41-O41","v":-61489},-3.3084909990255693,117.00000000382001,108.00000000384,7,885,32,108.00000000384,2430865.8330677971,32,7,885,32,108.00000000384,2430865.8330677971]
["00070998","0007","0998",33,7,"",998,null,0,0,0,{"$f":"IF(K44>0, K42/K44, 0)","v":0},null,{"$f":"ROUND(M44*L42,0)","v":0},0,{"$f":"N42-O42","v":0},0,0,0,7,998,33,0,0,33,7,998,33,0,0]
["00070998","0007","0998",34,7,"",998,"",0,0,0,{"$f":"IF(K44>0, K43/K44, 0)","v":0},null,{"$f":"ROUND(M44*L43,0)","v":0},0,{"$f":"N43-O43","v":0},0,0,0,7,998,34,0,0,34,7,998,34,0,0]
["00070999","0007","0999",35,7,"Amesbury                     ",999,"Total",30684451.231299974,1,{"$f":"SUM(K40:K43)","v":31933278.323067803},{"$f":"SUM(L40:L43)","v":1},{"$f":"VLOOKUP(E44,town351,24)","v":23606870},{"$f":"SUM(N40:N43)","v":23606870},22145281,{"$f":"SUM(P40:P43)","v":1461589},6.6000020500981673,2036.0000000038201,2061.0000000038399,7,999,35,2061.0000000038399,31933278.323067803,35,7,999,35,2061.0000000038399,31933278.323067803]
["00080008","0008","0008",36,8,"Amherst                      ",8,"Amherst",14981907.18,0.50130289154447127,{"$f":"X45","v":15814005.690000001},{"$f":"IF(K49>0, K45/K49, 0)","v":0.49789095132115346},null,{"$f":"ROUND(M49*L45,0)","v":12488880},11896370,{"$f":"N45-O45","v":592510},4.9805949209716918,1037,1033,8,8,36,1033,15814005.690000001,36,8,8,36,1033,15814005.690000001]
["00080605","0008","0605",37,8,"Amherst                      ",605,"Amherst Pelham",14904030.907933282,0.49869710845552878,15947980.84146345,{"$f":"IF(K49>0, K46/K49, 0)","v":0.50210904867884654},null,{"$f":"ROUND(M49*L46,0)","v":12594684},11834533,{"$f":"N46-O46","v":760151},6.4231600858267921,987.58139535058001,1009.0000000061799,8,605,37,1009.0000000061799,15947980.84146345,37,8,605,37,1009.0000000061799,15947980.84146345]
["00080998","0008","0998",38,8,"",998,"",0,0,0,{"$f":"IF(K49>0, K47/K49, 0)","v":0},null,{"$f":"ROUND(M49*L47,0)","v":0},0,{"$f":"N47-O47","v":0},0,0,0,8,998,38,0,0,38,8,998,38,0,0]
["00080998","0008","0998",39,8,"",998,"",0,0,0,{"$f":"IF(K49>0, K48/K49, 0)","v":0},null,{"$f":"ROUND(M49*L48,0)","v":0},0,{"$f":"N48-O48","v":0},0,0,0,8,998,39,0,0,39,8,998,39,0,0]
["00080999","0008","0999",40,8,"Amherst                      ",999,"Total",29885938.08793328,1,{"$f":"SUM(K45:K48)","v":31761986.531463452},{"$f":"SUM(L45:L48)","v":1},{"$f":"VLOOKUP(E49,town351,24)","v":25083564},{"$f":"SUM(N45:N48)","v":25083564},23730903,{"$f":"SUM(P45:P48)","v":1352661},5.6999980152461962,2024.5813953505799,2042.00000000618,8,999,40,2042.00000000618,31761986.531463452,40,8,999,40,2042.00000000618,31761986.531463452]
["00090009","0009","0009",41,9,"Andover                      ",9,"Andover",75901319.687480003,0.98301884472103895,{"$f":"X50","v":77328687.063940004},{"$f":"IF(K54>0, K50/K54, 0)","v":0.98278492293156861},null,{"$f":"ROUND(M54*L50,0)","v":63796166},62087646,{"$f":"N50-O50","v":1708520},2.7517873684565202,5464,5370,9,9,41,5370,77328687.063940004,41,9,9,41,5370,77328687.063940004]
["00090823","0009","0823",42,9,"Andover                      ",823,"Greater Lawrence",1311157.0570724157,1.6981155278961078E-2,1354537.7796755508,{"$f":"IF(K54>0, K51/K54, 0)","v":1.7215077068431308E-2},null,{"$f":"ROUND(M54*L51,0)","v":1117494},1072533,{"$f":"N51-O51","v":44961},4.1920388463571747,47.9999999968,49.000000006560001,9,823,42,49.000000006560001,1354537.7796755508,42,9,823,42,49.000000006560001,1354537.7796755508]
["00090998","0009","0998",43,9,"",998,null,0,0,0,{"$f":"IF(K54>0, K52/K54, 0)","v":0},null,{"$f":"ROUND(M54*L52,0)","v":0},0,{"$f":"N52-O52","v":0},0,0,0,9,998,43,0,0,43,9,998,43,0,0]
["00090998","0009","0998",44,9,"",998,"",0,0,0,{"$f":"IF(K54>0, K53/K54, 0)","v":0},null,{"$f":"ROUND(M54*L53,0)","v":0},0,{"$f":"N53-O53","v":0},0,0,0,9,998,44,0,0,44,9,998,44,0,0]
["00090999","0009","0999",45,9,"Andover                      ",999,"Total",77212476.744552419,1,{"$f":"SUM(K50:K53)","v":78683224.843615562},{"$f":"SUM(L50:L53)","v":0.99999999999999989},{"$f":"VLOOKUP(E54,town351,24)","v":64913660},{"$f":"SUM(N50:N53)","v":64913660},63160179,{"$f":"SUM(P50:P53)","v":1753481},2.7762445068434656,5511.9999999968004,5419.0000000065602,9,999,45,5419.0000000065602,78683224.843615562,45,9,999,45,5419.0000000065602,78683224.843615562]
["00100010","0010","0010",46,10,"Arlington                    ",10,"Arlington",81515548.272249982,0.94969966564268982,{"$f":"X55","v":85724971.74188},{"$f":"IF(K59>0, K55/K59, 0)","v":0.95223291230181073},null,{"$f":"ROUND(M59*L55,0)","v":65397888},61905761,{"$f":"N55-O55","v":3492127},5.6410371887682631,6114,6123,10,10,46,6123,85724971.74188,46,10,10,46,6123,85724971.74188]
["00100830","0010","0830",47,10,"Arlington                    ",830,"Minuteman",4317427.373883361,5.0300334357310086E-2,4300242.2938951189,{"$f":"IF(K59>0, K56/K59, 0)","v":4.7767087698189145E-2},null,{"$f":"ROUND(M59*L56,0)","v":3280570},3278805,{"$f":"N56-O56","v":1765},5.3830587668373078E-2,198.99999999894999,190.00000000199,10,830,47,190.00000000199,4300242.2938951189,47,10,830,47,190.00000000199,4300242.2938951189]
["00100998","0010","0998",48,10,"",998,"",0,0,0,{"$f":"IF(K59>0, K57/K59, 0)","v":0},null,{"$f":"ROUND(M59*L57,0)","v":0},0,{"$f":"N57-O57","v":0},0,0,0,10,998,48,0,0,48,10,998,48,0,0]
["00100998","0010","0998",49,10,"",998,"",0,0,0,{"$f":"IF(K59>0, K58/K59, 0)","v":0},null,{"$f":"ROUND(M59*L58,0)","v":0},0,{"$f":"N58-O58","v":0},0,0,0,10,998,49,0,0,49,10,998,49,0,0]
["00100999","0010","0999",50,10,"Arlington                    ",999,"Total",85832975.646133348,0.99999999999999989,{"$f":"SUM(K55:K58)","v":90025214.035775125},{"$f":"SUM(L55:L58)","v":0.99999999999999989},{"$f":"VLOOKUP(E59,town351,24)","v":68678458},{"$f":"SUM(N55:N58)","v":68678458},65184566,{"$f":"SUM(P55:P58)","v":3493892},5.3599988684437969,6312.9999999989504,6313.00000000199,10,999,50,6313.00000000199,90025214.035775125,50,10,999,50,6313.00000000199,90025214.035775125]
["00110011","0011","0011",51,11,"Ashburnham                   ",11,"Ashburnham",0,0,{"$f":"X60","v":0},{"$f":"IF(K64>0, K60/K64, 0)","v":0},null,{"$f":"ROUND(M64*L60,0)","v":0},0,{"$f":"N60-O60","v":0},0,0,0,11,11,51,0,0,51,11,11,51,0,0]
["00110610","0011","0610",52,11,"Ashburnham                   ",610,"Ashburnham Westminster",13604805.480996178,0.91076814472761591,14044455.834176518,{"$f":"IF(K64>0, K61/K64, 0)","v":0.91277783816821023},null,{"$f":"ROUND(M64*L61,0)","v":6566149},6245654,{"$f":"N61-O61","v":320495},5.1314882316567649,989.8699294487501,982.11320754455994,11,610,52,982.11320754455994,14044455.834176518,52,11,610,52,982.11320754455994,14044455.834176518]
["00110832","0011","0832",53,11,"Ashburnham                   ",832,"Montachusett",1332921.05209966,8.9231855272384114E-2,1342043.7574013735,{"$f":"IF(K64>0, K62/K64, 0)","v":8.7222161831789727E-2},null,{"$f":"ROUND(M64*L62,0)","v":627440},611914,{"$f":"N62-O62","v":15526},2.5372846511111038,64.00000000272,62.000000004740002,11,832,53,62.000000004740002,1342043.7574013735,53,11,832,53,62.000000004740002,1342043.7574013735]
["00110998","0011","0998",54,11,"",998,"",0,0,0,{"$f":"IF(K64>0, K63/K64, 0)","v":0},null,{"$f":"ROUND(M64*L63,0)","v":0},0,{"$f":"N63-O63","v":0},0,0,0,11,998,54,0,0,54,11,998,54,0,0]
["00110999","0011","0999",55,11,"Ashburnham                   ",999,"Total",14937726.533095839,1,{"$f":"SUM(K60:K63)","v":15386499.591577891},{"$f":"SUM(L60:L63)","v":1},{"$f":"VLOOKUP(E64,town351,24)","v":7193589},{"$f":"SUM(N60:N63)","v":7193589},6857568,{"$f":"SUM(P60:P63)","v":336021},4.9000024498481096,1053.8699294514702,1044.1132075492999,11,999,55,1044.1132075492999,15386499.591577891,55,11,999,55,1044.1132075492999,15386499.591577891]
["00120012","0012","0012",56,12,"Ashby                        ",12,"Ashby",0,0,{"$f":"X65","v":0},{"$f":"IF(K69>0, K65/K69, 0)","v":0},null,{"$f":"ROUND(M69*L65,0)","v":0},0,{"$f":"N65-O65","v":0},0,0,0,12,12,56,0,0,56,12,12,56,0,0]
["00120735","0012","0735",57,12,"Ashby                        ",735,"North Middlesex",5465706.9352635546,0.88830033347547455,5167873.4842866845,{"$f":"IF(K69>0, K66/K69, 0)","v":0.87856326212157754},null,{"$f":"ROUND(M69*L66,0)","v":3041718},2931213,{"$f":"N66-O66","v":110505},3.7699409766536927,389.26874585089996,352.66447367523,12,735,57,352.66447367523,5167873.4842866845,57,12,735,57,352.66447367523,5167873.4842866845]
["00120832","0012","0832",58,12,"Ashby                        ",832,"Montachusett",687287.41730972391,0.11169966652452551,714313.61264150776,{"$f":"IF(K69>0, K67/K69, 0)","v":0.12143673787842248},null,{"$f":"ROUND(M69*L67,0)","v":420432},368587,{"$f":"N67-O67","v":51845},14.065878612105147,32.999999992799999,32.99999999472,12,832,58,32.99999999472,714313.61264150776,58,12,832,58,32.99999999472,714313.61264150776]
["00120998","0012","0998",59,12,"",998,"",0,0,0,{"$f":"IF(K69>0, K68/K69, 0)","v":0},null,{"$f":"ROUND(M69*L68,0)","v":0},0,{"$f":"N68-O68","v":0},0,0,0,12,998,59,0,0,59,12,998,59,0,0]
["00120999","0012","0999",60,12,"Ashby                        ",999,"Total",6152994.3525732784,1,{"$f":"SUM(K65:K68)","v":5882187.0969281923},{"$f":"SUM(L65:L68)","v":1},{"$f":"VLOOKUP(E69,town351,24)","v":3462150},{"$f":"SUM(N65:N68)","v":3462150},3299800,{"$f":"SUM(P65:P68)","v":162350},4.9199951512212863,422.26874584369995,385.66447366994998,12,999,60,385.66447366994998,5882187.0969281923,60,12,999,60,385.66447366994998,5882187.0969281923]
["00130013","0013","0013",61,13,"Ashfield                     ",13,"Ashfield",240365.82,9.9745187839815688E-2,{"$f":"X70","v":321996.95999999996},{"$f":"IF(K74>0, K70/K74, 0)","v":0.12920256612446274},null,{"$f":"ROUND(M74*L70,0)","v":252246},182183,{"$f":"N70-O70","v":70063},38.457485056234667,12,16,13,13,61,16,321996.95999999996,61,13,13,61,16,321996.95999999996]
["00130717","0013","0717",62,13,"Ashfield                     ",717,"Mohawk Trail",2169432.8400216941,0.90025481216018444,2170190.0735749798,{"$f":"IF(K74>0, K71/K74, 0)","v":0.87079743387553721},null,{"$f":"ROUND(M74*L71,0)","v":1700087},1644305,{"$f":"N71-O71","v":55782},3.3924363180796751,136.36363636500002,131.72727272669999,13,717,62,131.72727272669999,2170190.0735749798,62,13,717,62,131.72727272669999,2170190.0735749798]
["00130998","0013","0998",63,13,"",998,"",0,0,0,{"$f":"IF(K74>0, K72/K74, 0)","v":0},null,{"$f":"ROUND(M74*L72,0)","v":0},0,{"$f":"N72-O72","v":0},0,0,0,13,998,63,0,0,63,13,998,63,0,0]
["00130998","0013","0998",64,13,"",998,"",0,0,0,{"$f":"IF(K74>0, K73/K74, 0)","v":0},null,{"$f":"ROUND(M74*L73,0)","v":0},0,{"$f":"N73-O73","v":0},0,0,0,13,998,64,0,0,64,13,998,64,0,0]
[{"$f":"B74&C74","v":"00130999"},"0013","0999",65,13,"Ashfield                     ",999,"Total",2409798.6600216939,1.0000000000000002,{"$f":"SUM(K70:K73)","v":2492187.0335749798},{"$f":"SUM(L70:L73)","v":1},{"$f":"VLOOKUP(E74,town351,24)","v":1952333},{"$f":"SUM(N70:N73)","v":1952333},1826488,{"$f":"SUM(P70:P73)","v":125845},6.8899987298027687,148.36363636500002,147.72727272669999,{"$f":"VLOOKUP($D74, foundoptions, VLOOKUP($T$6, foundoptcell, 2, FALSE), FALSE)","v":13},{"$f":"VLOOKUP($D74, foundoptions, VLOOKUP($T$6, foundoptcell, 2, FALSE)+1, FALSE)","v":999},{"$f":"VLOOKUP($D74, foundoptions, VLOOKUP($T$6, foundoptcell, 2, FALSE)+2, FALSE)","v":65},{"$f":"VLOOKUP($D74, foundoptions, VLOOKUP($T$6, foundoptcell, 2, FALSE)+3, FALSE)","v":147.72727272669999},{"$f":"VLOOKUP($D74, foundoptions, VLOOKUP($T$6, foundoptcell, 2, FALSE)+4, FALSE)","v":2492187.0335749798},65,13,999,65,147.72727272669999,2492187.0335749798]
["00140014","0014","0014",66,14,"Ashland                      ",14,"Ashland",39209499.740000002,0.96512921594383738,{"$f":"X75","v":41080212.259999998},{"$f":"IF(K79>0, K75/K79, 0)","v":0.95594383731844523},null,{"$f":"ROUND(M79*L75,0)","v":29773789},28541470,{"$f":"N75-O75","v":1232319},4.3176437653701791,2837,{"$f":"W75","v":2818},14,14,66,2818,41080212.259999998,{"$f":"D75","v":66},14,14,66,2818,41080212.259999998]
["00140829","0014","0829",67,14,"Ashland                      ",829,"South Middlesex",1416666.2616741939,3.4870784056162556E-2,1893245.6527950473,{"$f":"IF(K79>0, K76/K79, 0)","v":4.4056162681554809E-2},null,{"$f":"ROUND(M79*L76,0)","v":1372171},1031223,{"$f":"N76-O76","v":340948},33.062489878522882,58.260674161019999,75.24972253304,14,829,67,75.24972253304,1893245.6527950473,67,14,829,67,75.24972253304,1893245.6527950473]
["00140998","0014","0998",68,14,"",998,"",0,0,0,{"$f":"IF(K79>0, K77/K79, 0)","v":0},null,{"$f":"ROUND(M79*L77,0)","v":0},0,{"$f":"N77-O77","v":0},0,0,0,14,998,68,0,0,68,14,998,68,0,0]
["00140998","0014","0998",69,14,"",998,"",0,0,0,{"$f":"IF(K79>0, K78/K79, 0)","v":0},null,{"$f":"ROUND(M79*L78,0)","v":0},0,{"$f":"N78-O78","v":0},0,0,0,14,998,69,0,0,69,14,998,69,0,0]
["00140999","0014","0999",70,14,"Ashland                      ",999,"Total",40626166.001674198,0.99999999999999989,{"$f":"SUM(K75:K78)","v":42973457.912795044},{"$f":"SUM(L75:L78)","v":1},{"$f":"VLOOKUP(E79,town351,24)","v":31145960},{"$f":"SUM(N75:N78)","v":31145960},29572693,{"$f":"SUM(P75:P78)","v":1573267},5.3199990951111555,2895.2606741610198,2893.2497225330399,14,999,70,2893.2497225330399,42973457.912795044,70,14,999,70,2893.2497225330399,42973457.912795044]
["00150015","0015","0015",71,15,"Athol                        ",15,"Athol",0,0,{"$f":"X80","v":0},{"$f":"IF(K84>0, K80/K84, 0)","v":0},null,{"$f":"ROUND(M84*L80,0)","v":0},0,{"$f":"N80-O80","v":0},{"$f":"IF(O80>0,P80*100/O80,IF(P80>0,100,0))","v":0},0,0,15,15,71,0,0,71,15,15,71,0,0]
["00150615","0015","0615",72,15,"Athol                        ",615,"Athol Royalston",28544905.736193962,0.92633040895419372,29707191.686715238,{"$f":"IF(K84>0, K81/K84, 0)","v":0.92830177038106709},null,{"$f":"ROUND(M84*L81,0)","v":4517866},4250280,{"$f":"N81-O81","v":267586},{"$f":"IF(O81>0,P81*100/O81,IF(P81>0,100,0))","v":6.2957263992019348},1674.3707557451401,1664.9584026606001,15,615,72,1664.9584026606001,29707191.686715238,72,15,615,72,1664.9584026606001,29707191.686715238]
["00150832","0015","0832",73,15,"Athol                        ",832,"Montachusett",2270131.1666974388,7.3669591045806296E-2,2294461.9075900507,{"$f":"IF(K84>0, K82/K84, 0)","v":7.1698229618932921E-2},null,{"$f":"ROUND(M84*L82,0)","v":348942},338018,{"$f":"N82-O82","v":10924},{"$f":"IF(O82>0,P82*100/O82,IF(P82>0,100,0))","v":3.2317805560650616},108.99999999696,105.9999999977,15,832,73,105.9999999977,2294461.9075900507,73,15,832,73,105.9999999977,2294461.9075900507]
["00150998","0015","0998",74,15,"",998,"",0,0,0,{"$f":"IF(K84>0, K83/K84, 0)","v":0},null,{"$f":"ROUND(M84*L83,0)","v":0},0,{"$f":"N83-O83","v":0},{"$f":"IF(O83>0,P83*100/O83,IF(P83>0,100,0))","v":0},0,0,15,998,74,0,0,74,15,998,74,0,0]
["00150999","0015","0999",75,15,"Athol                        ",999,"Total",30815036.902891401,1,{"$f":"SUM(K80:K83)","v":32001653.594305288},{"$f":"SUM(L80:L83)","v":1},{"$f":"VLOOKUP(E84,town351,24)","v":4866808},{"$f":"SUM(N80:N83)","v":4866808},4588298,{"$f":"SUM(P80:P83)","v":278510},{"$f":"IF(O84>0,P84*100/O84,IF(P84>0,100,0))","v":6.0700067868303238},1783.3707557421001,1770.9584026583002,15,999,75,1770.9584026583002,32001653.594305288,75,15,999,75,1770.9584026583002,32001653.594305288]
["00160016","0016","0016",76,16,"Attleboro                    ",16,"Attleboro",110074456.17000002,0.99559913151823654,{"$f":"X85","v":113893945.42000003},{"$f":"IF(K89>0, K85/K89, 0)","v":0.99521097736560249},null,{"$f":"ROUND(M89*L85,0)","v":50667309},48277999,{"$f":"N85-O85","v":2389310},4.9490659295966264,6440,6364,16,16,76,6364,113893945.42000003,76,16,16,76,6364,113893945.42000003]
["00160910","0016","0910",77,16,"Attleboro                    ",910,"Bristol County",486564.51122760144,4.400868481763358E-3,548065.3800474006,{"$f":"IF(K89>0, K86/K89, 0)","v":4.7890226343975904E-3},null,{"$f":"ROUND(M89*L86,0)","v":243815},213404,{"$f":"N86-O86","v":30411},14.250435793143522,23.00000000152,25.000000001290001,16,910,77,25.000000001290001,548065.3800474006,77,16,910,77,25.000000001290001,548065.3800474006]
["00160998","0016","0998",78,16,"",998,"",0,0,0,{"$f":"IF(K89>0, K87/K89, 0)","v":0},null,{"$f":"ROUND(M89*L87,0)","v":0},0,{"$f":"N87-O87","v":0},0,0,0,16,998,78,0,0,78,16,998,78,0,0]
["00160998","0016","0998",79,16,"",998,"",0,0,0,{"$f":"IF(K89>0, K88/K89, 0)","v":0},null,{"$f":"ROUND(M89*L88,0)","v":0},0,{"$f":"N88-O88","v":0},0,0,0,16,998,79,0,0,79,16,998,79,0,0]
["00160999","0016","0999",80,16,"Attleboro                    ",999,"Total",110561020.68122762,0.99999999999999989,{"$f":"SUM(K85:K88)","v":114442010.80004743},{"$f":"SUM(L85:L88)","v":1},{"$f":"VLOOKUP(E89,town351,24)","v":50911124},{"$f":"SUM(N85:N88)","v":50911124},48491403,{"$f":"SUM(P85:P88)","v":2419721},4.9899999799964538,6463.0000000015198,6389.0000000012897,16,999,80,6389.0000000012897,114442010.80004743,80,16,999,80,6389.0000000012897,114442010.80004743]
["00170017","0017","0017",81,17,"Auburn                       ",17,"Auburn",34174444.380000003,0.92490492221178444,{"$f":"X90","v":34749450.580000006},{"$f":"IF(K94>0, K90/K94, 0)","v":0.91603549706815834},null,{"$f":"ROUND(M94*L90,0)","v":19768081},18808409,{"$f":"N90-O90","v":959672},5.1023560791346041,2400,2346,17,17,81,2346,34749450.580000006,81,17,17,81,2346,34749450.580000006]
["00170876","0017","0876",82,17,"Auburn                       ",876,"Southern Worcester",2774698.7797925309,7.5095077788215503E-2,3185160.7873741603,{"$f":"IF(K94>0, K91/K94, 0)","v":8.3964502931841614E-2},null,{"$f":"ROUND(M94*L91,0)","v":1811957},1527096,{"$f":"N91-O91","v":284861},18.653771603095024,131.00000000471999,144.00000000226001,17,876,82,144.00000000226001,3185160.7873741603,82,17,876,82,144.00000000226001,3185160.7873741603]
["00170998","0017","0998",83,17,"",998,"",0,0,0,{"$f":"IF(K94>0, K92/K94, 0)","v":0},null,{"$f":"ROUND(M94*L92,0)","v":0},0,{"$f":"N92-O92","v":0},0,0,0,17,998,83,0,0,83,17,998,83,0,0]
["00170998","0017","0998",84,17,"",998,"",0,0,0,{"$f":"IF(K94>0, K93/K94, 0)","v":0},null,{"$f":"ROUND(M94*L93,0)","v":0},0,{"$f":"N93-O93","v":0},0,0,0,17,998,84,0,0,84,17,998,84,0,0]
["00170999","0017","0999",85,17,"Auburn                       ",999,"Total",36949143.159792535,1,{"$f":"SUM(K90:K93)","v":37934611.367374167},{"$f":"SUM(L90:L93)","v":1},{"$f":"VLOOKUP(E94,town351,24)","v":21580038},{"$f":"SUM(N90:N93)","v":21580038},20335505,{"$f":"SUM(P90:P93)","v":1244533},6.1200004622457129,2531.0000000047198,2490.0000000022601,17,999,85,2490.0000000022601,37934611.367374167,85,17,999,85,2490.0000000022601,37934611.367374167]
["00180018","0018","0018",86,18,"Avon                         ",18,"Avon",10349488.58,0.8923645784153823,{"$f":"X95","v":10182039.74},{"$f":"IF(K99>0, K95/K99, 0)","v":0.8566818024011793},null,{"$f":"ROUND(M99*L95,0)","v":5979732},5949758,{"$f":"N95-O95","v":29974},0.50378519596931504,588,552,18,18,86,552,10182039.74,86,18,18,86,552,10182039.74]
["00180806","0018","0806",87,18,"Avon                         ",806,"Blue Hills",1225553.771052229,0.1056709967624704,1610894.5639479947,{"$f":"IF(K99>0, K96/K99, 0)","v":0.13553512790760625},null,{"$f":"ROUND(M99*L96,0)","v":946050},704552,{"$f":"N96-O96","v":241498},34.276817041183619,53.999999999399996,67.072589383800008,18,806,87,67.072589383800008,1610894.5639479947,87,18,806,87,67.072589383800008,1610894.5639479947]
["00180915","0018","0915",88,18,"Avon                         ",915,"Norfolk County",22783.056112766168,1.9644248221473547E-3,92505.204001081569,{"$f":"IF(K99>0, K97/K99, 0)","v":7.7830696912144772E-3},null,{"$f":"ROUND(M99*L97,0)","v":54327},13098,{"$f":"N97-O97","v":41229},314.77324782409528,1.00000000031,3.9999999996,18,915,88,3.9999999996,92505.204001081569,88,18,915,88,3.9999999996,92505.204001081569]
["00180998","0018","0998",89,18,"",998,"",0,0,0,{"$f":"IF(K99>0, K98/K99, 0)","v":0},null,{"$f":"ROUND(M99*L98,0)","v":0},0,{"$f":"N98-O98","v":0},0,0,0,18,998,89,0,0,89,18,998,89,0,0]
["00180999","0018","0999",90,18,"Avon                         ",999,"Total",11597825.407164995,1,{"$f":"SUM(K95:K98)","v":11885439.507949077},{"$f":"SUM(L95:L98)","v":1},{"$f":"VLOOKUP(E99,town351,24)","v":6980108},{"$f":"SUM(N95:N98)","v":6980109},6667408,{"$f":"SUM(P95:P98)","v":312701},4.689993472725833,642.99999999970998,623.0725893834001,18,999,90,623.0725893834001,11885439.507949077,90,18,999,90,623.0725893834001,11885439.507949077]
["00190019","0019","0019",91,19,"Ayer                         ",19,"Ayer",0,0,{"$f":"X100","v":0},{"$f":"IF(K104>0, K100/K104, 0)","v":0},null,{"$f":"ROUND(M104*L100,0)","v":0},0,{"$f":"N100-O100","v":0},0,0,0,19,19,91,0,0,91,19,19,91,0,0]
["00190616","0019","0616",92,19,"Ayer                         ",616,"Ayer Shirley",15286162.829695676,0.92965856600319197,14328146.853214607,{"$f":"IF(K104>0, K101/K104, 0)","v":0.91569534008406073},null,{"$f":"ROUND(M104*L101,0)","v":11283655},10635704,{"$f":"N101-O101","v":647951},6.092224830627103,1040.45099150037,952.93716969835998,19,616,92,952.93716969835998,14328146.853214607,92,19,616,92,952.93716969835998,14328146.853214607]
["00190852","0019","0852",93,19,"Ayer                         ",852,"Nashoba Valley",1156608.0850222672,7.0341433996808048E-2,1319139.1228167708,{"$f":"IF(K104>0, K102/K104, 0)","v":8.4304659915939245E-2},null,{"$f":"ROUND(M104*L102,0)","v":1038844},804737,{"$f":"N102-O102","v":234107},29.091119210375563,55.000000003199993,59.9999999984,19,852,93,59.9999999984,1319139.1228167708,93,19,852,93,59.9999999984,1319139.1228167708]
["00190998","0019","0998",94,19,"",998,"",0,0,0,{"$f":"IF(K104>0, K103/K104, 0)","v":0},null,{"$f":"ROUND(M104*L103,0)","v":0},0,{"$f":"N103-O103","v":0},0,0,0,19,998,94,0,0,94,19,998,94,0,0]
["00190999","0019","0999",95,19,"Ayer                         ",999,"Total",16442770.914717942,1,{"$f":"SUM(K100:K103)","v":15647285.976031378},{"$f":"SUM(L100:L103)","v":1},{"$f":"VLOOKUP(E104,town351,24)","v":12322499},{"$f":"SUM(N100:N103)","v":12322499},11440441,{"$f":"SUM(P100:P103)","v":882058},7.7099999903849863,1095.4509915035701,1012.93716969676,19,999,95,1012.93716969676,15647285.976031378,95,19,999,95,1012.93716969676,15647285.976031378]
["00200020","0020","0020",96,20,"Barnstable                   ",20,"Barnstable",91282281.549999982,0.95528629168799295,{"$f":"X105","v":92442313.109999999},{"$f":"IF(K109>0, K105/K109, 0)","v":0.95382109008172755},null,{"$f":"ROUND(M109*L105,0)","v":71854310},68459559,{"$f":"N105-O105","v":3394751},4.9587684314472433,5230,5038,20,20,96,5038,92442313.109999999,96,20,20,96,5038,92442313.109999999]
["00200815","0020","0815",97,20,"Barnstable                   ",815,"Cape Cod",4272613.7146478398,4.4713708312006981E-2,4475561.8156625619,{"$f":"IF(K109>0, K106/K109, 0)","v":4.6178909918272393E-2},null,{"$f":"ROUND(M109*L106,0)","v":3478801},3204360,{"$f":"N106-O106","v":274441},8.5646119661960576,195.00000000225,198.99999999939999,20,815,97,198.99999999939999,4475561.8156625619,97,20,815,97,198.99999999939999,4475561.8156625619]
["00200998","0020","0998",98,20,"",998,"",0,0,0,{"$f":"IF(K109>0, K107/K109, 0)","v":0},null,{"$f":"ROUND(M109*L107,0)","v":0},0,{"$f":"N107-O107","v":0},0,0,0,20,998,98,0,0,98,20,998,98,0,0]
["00200998","0020","0998",99,20,"",998,"",0,0,0,{"$f":"IF(K109>0, K108/K109, 0)","v":0},null,{"$f":"ROUND(M109*L108,0)","v":0},0,{"$f":"N108-O108","v":0},0,0,0,20,998,99,0,0,99,20,998,99,0,0]
["00200999","0020","0999",100,20,"Barnstable                   ",999,"Total",95554895.264647827,0.99999999999999989,{"$f":"SUM(K105:K108)","v":96917874.925662562},{"$f":"SUM(L105:L108)","v":1},{"$f":"VLOOKUP(E109,town351,24)","v":75333111},{"$f":"SUM(N105:N108)","v":75333111},71663919,{"$f":"SUM(P105:P108)","v":3669192},5.1199990890813547,5425.0000000022501,5236.9999999993997,20,999,100,5236.9999999993997,96917874.925662562,100,20,999,100,5236.9999999993997,96917874.925662562]
["00210021","0021","0021",101,21,"Barre                        ",21,"Barre",0,0,{"$f":"X110","v":0},{"$f":"IF(K114>0, K110/K114, 0)","v":0},null,{"$f":"ROUND(M114*L110,0)","v":0},0,{"$f":"N110-O110","v":0},0,0,0,21,21,101,0,0,101,21,21,101,0,0]
["00210753","0021","0753",102,21,"Barre                        ",753,"Quabbin",10666409.625818415,0.91594324549291595,11126553.71322155,{"$f":"IF(K114>0, K111/K114, 0)","v":0.92115072698581624},null,{"$f":"ROUND(M114*L111,0)","v":4441167},4210985,{"$f":"N111-O111","v":230182},5.4662270228936931,721.30371900841999,723.82265504520001,21,753,102,723.82265504520001,11126553.71322155,102,21,753,102,723.82265504520001,11126553.71322155]
["00210832","0021","0832",103,21,"Barre                        ",832,"Montachusett",978863.89773737499,8.405675450708408E-2,952418.15018867725,{"$f":"IF(K114>0, K112/K114, 0)","v":7.8849273014183791E-2},null,{"$f":"ROUND(M114*L112,0)","v":380158},386445,{"$f":"N112-O112","v":-6287},-1.6268809274282239,47.000000006880001,43.999999992959999,21,832,103,43.999999992959999,952418.15018867725,103,21,832,103,43.999999992959999,952418.15018867725]
["00210998","0021","0998",104,21,"",998,"",0,0,0,{"$f":"IF(K114>0, K113/K114, 0)","v":0},null,{"$f":"ROUND(M114*L113,0)","v":0},0,{"$f":"N113-O113","v":0},0,0,0,21,998,104,0,0,104,21,998,104,0,0]
["00210999","0021","0999",105,21,"Barre                        ",999,"Total",11645273.523555789,1,{"$f":"SUM(K110:K113)","v":12078971.863410227},{"$f":"SUM(L110:L113)","v":1},{"$f":"VLOOKUP(E114,town351,24)","v":4821325},{"$f":"SUM(N110:N113)","v":4821325},4597430,{"$f":"SUM(P110:P113)","v":223895},4.8700034584539624,768.30371901529998,767.82265503816006,21,999,105,767.82265503816006,12078971.863410227,105,21,999,105,767.82265503816006,12078971.863410227]
["00220022","0022","0022",106,22,"Becket                       ",22,"Becket",361845.85,0.11638142957766523,{"$f":"X115","v":340043.92000000004},{"$f":"IF(K119>0, K115/K119, 0)","v":0.10918175822205888},null,{"$f":"ROUND(M119*L115,0)","v":280536},287491,{"$f":"N115-O115","v":-6955},-2.4192061664539062,19,17,22,22,106,17,340043.92000000004,106,22,22,106,17,340043.92000000004]
["00220635","0022","0635",107,22,"Becket                       ",635,"Central Berkshire",2747291.5038982704,0.88361857042233471,2774431.6621609237,{"$f":"IF(K119>0, K116/K119, 0)","v":0.89081824177794111},null,{"$f":"ROUND(M119*L116,0)","v":2288906},2182755,{"$f":"N116-O116","v":106151},4.8631660447462037,177.66578947604,172.36662107039999,22,635,107,172.36662107039999,2774431.6621609237,107,22,635,107,172.36662107039999,2774431.6621609237]
["00220998","0022","0998",108,22,"",998,"",0,0,0,{"$f":"IF(K119>0, K117/K119, 0)","v":0},null,{"$f":"ROUND(M119*L117,0)","v":0},0,{"$f":"N117-O117","v":0},0,0,0,22,998,108,0,0,108,22,998,108,0,0]
["00220998","0022","0998",109,22,"",998,"",0,0,0,{"$f":"IF(K119>0, K118/K119, 0)","v":0},null,{"$f":"ROUND(M119*L118,0)","v":0},0,{"$f":"N118-O118","v":0},0,0,0,22,998,109,0,0,109,22,998,109,0,0]
["00220999","0022","0999",110,22,"Becket                       ",999,"Total",3109137.3538982705,1,{"$f":"SUM(K115:K118)","v":3114475.5821609236},{"$f":"SUM(L115:L118)","v":1},{"$f":"VLOOKUP(E119,town351,24)","v":2569442},{"$f":"SUM(N115:N118)","v":2569442},2470246,{"$f":"SUM(P115:P118)","v":99196},4.0156324511809753,196.66578947604,189.36662107039999,22,999,110,189.36662107039999,3114475.5821609236,110,22,999,110,189.36662107039999,3114475.5821609236]
["00230023","0023","0023",111,23,"Bedford                      ",23,"Bedford",35245066.36964,0.97453748517859062,{"$f":"X120","v":35093223.97964},{"$f":"IF(K124>0, K120/K124, 0)","v":0.9688655529350102},null,{"$f":"ROUND(M124*L120,0)","v":28951910},29077179,{"$f":"N120-O120","v":-125269},-0.4308155203088993,2528,2416,23,23,111,2416,35093223.97964,111,23,23,111,2416,35093223.97964]
["00230871","0023","0871",112,23,"Bedford                      ",871,"Shawsheen Valley",920875.83953125973,2.5462514821409422E-2,1127719.0328669092,{"$f":"IF(K124>0, K121/K124, 0)","v":3.1134447064989818E-2},null,{"$f":"ROUND(M124*L121,0)","v":930368},759723,{"$f":"N121-O121","v":170645},22.46147609062777,45.000000004920004,52.999999996980002,23,871,112,52.999999996980002,1127719.0328669092,112,23,871,112,52.999999996980002,1127719.0328669092]
["00230998","0023","0998",113,23,"",998,null,0,0,0,{"$f":"IF(K124>0, K122/K124, 0)","v":0},null,{"$f":"ROUND(M124*L122,0)","v":0},0,{"$f":"N122-O122","v":0},0,0,0,23,998,113,0,0,113,23,998,113,0,0]
["00230998","0023","0998",114,23,"",998,"",0,0,0,{"$f":"IF(K124>0, K123/K124, 0)","v":0},null,{"$f":"ROUND(M124*L123,0)","v":0},0,{"$f":"N123-O123","v":0},0,0,0,23,998,114,0,0,114,23,998,114,0,0]
["00230999","0023","0999",115,23,"Bedford                      ",999,"Total",36165942.209171258,1,{"$f":"SUM(K120:K123)","v":36220943.01250691},{"$f":"SUM(L120:L123)","v":1},{"$f":"VLOOKUP(E124,town351,24)","v":29882278},{"$f":"SUM(N120:N123)","v":29882278},29836902,{"$f":"SUM(P120:P123)","v":45376},0.15208013217994282,2573.0000000049199,2468.99999999698,23,999,115,2468.99999999698,36220943.01250691,115,23,999,115,2468.99999999698,36220943.01250691]
["00240024","0024","0024",116,24,"Belchertown                  ",24,"Belchertown",27957662.77,0.91953007785803353,{"$f":"X125","v":28303896.729999997},{"$f":"IF(K129>0, K125/K129, 0)","v":0.92636364768476209},null,{"$f":"ROUND(M129*L125,0)","v":15826711},15052180,{"$f":"N125-O125","v":774531},5.1456400335366705,2043,1982,24,24,116,1982,28303896.729999997,116,24,24,116,1982,28303896.729999997]
["00240860","0024","0860",117,24,"Belchertown                  ",860,"Pathfinder",2446631.1657948736,8.0469922141966369E-2,2249867.7670624997,{"$f":"IF(K129>0, K126/K129, 0)","v":7.3636352315237838E-2},null,{"$f":"ROUND(M129*L126,0)","v":1258060},1317247,{"$f":"N126-O126","v":-59187},-4.4932347539983013,110.0000000008,97,24,860,117,97,2249867.7670624997,117,24,860,117,97,2249867.7670624997]
["00240998","0024","0998",118,24,"",998,"",0,0,0,{"$f":"IF(K129>0, K127/K129, 0)","v":0},null,{"$f":"ROUND(M129*L127,0)","v":0},0,{"$f":"N127-O127","v":0},0,0,0,24,998,118,0,0,118,24,998,118,0,0]
["00240998","0024","0998",119,24,"",998,"",0,0,0,{"$f":"IF(K129>0, K128/K129, 0)","v":0},null,{"$f":"ROUND(M129*L128,0)","v":0},0,{"$f":"N128-O128","v":0},0,0,0,24,998,119,0,0,119,24,998,119,0,0]
["00240999","0024","0999",120,24,"Belchertown                  ",999,"Total",30404293.935794875,0.99999999999999989,{"$f":"SUM(K125:K128)","v":30553764.497062497},{"$f":"SUM(L125:L128)","v":0.99999999999999989},{"$f":"VLOOKUP(E129,town351,24)","v":17084771},{"$f":"SUM(N125:N128)","v":17084771},16369427,{"$f":"SUM(P125:P128)","v":715344},4.3700002449688675,2153.0000000007999,2079,24,999,120,2079,30553764.497062497,120,24,999,120,2079,30553764.497062497]
["00250025","0025","0025",121,25,"Bellingham                   ",25,"Bellingham",31820375.339999996,0.94263351139726892,{"$f":"X130","v":34592550.339999989},{"$f":"IF(K134>0, K130/K134, 0)","v":0.94651217975479618},null,{"$f":"ROUND(M134*L130,0)","v":23625313},22163244,{"$f":"N130-O130","v":1462069},6.596818588470172,2206,2237,25,25,121,2237,34592550.339999989,121,25,25,121,2237,34592550.339999989]
["00250805","0025","0805",122,25,"Bellingham                   ",805,"Blackstone Valley",1526419.2103100619,4.521800527821241E-2,1607945.7437120001,{"$f":"IF(K134>0, K131/K134, 0)","v":4.3996184607656558E-2},null,{"$f":"ROUND(M134*L131,0)","v":1098162},1063168,{"$f":"N131-O131","v":34994},3.2914835660967974,75.99999999999001,77,25,805,122,77,1607945.7437120001,122,25,805,122,77,1607945.7437120001]
["00250915","0025","0915",123,25,"Bellingham                   ",915,"Norfolk County",410095.00990995212,1.2148483324518698E-2,346894.51506672817,{"$f":"IF(K134>0, K132/K134, 0)","v":9.4916356375472719E-3},null,{"$f":"ROUND(M134*L132,0)","v":236915},285636,{"$f":"N132-O132","v":-48721},-17.057023624473107,18.00000000032,15.000000001209999,25,915,123,15.000000001209999,346894.51506672817,123,25,915,123,15.000000001209999,346894.51506672817]
["00250998","0025","0998",124,25,"",998,"",0,0,0,{"$f":"IF(K134>0, K133/K134, 0)","v":0},null,{"$f":"ROUND(M134*L133,0)","v":0},0,{"$f":"N133-O133","v":0},0,0,0,25,998,124,0,0,124,25,998,124,0,0]
["00250999","0025","0999",125,25,"Bellingham                   ",999,"Total",33756889.560220011,1,{"$f":"SUM(K130:K133)","v":36547390.598778717},{"$f":"SUM(L130:L133)","v":1},{"$f":"VLOOKUP(E134,town351,24)","v":24960390},{"$f":"SUM(N130:N133)","v":24960390},23512048,{"$f":"SUM(P130:P133)","v":1448342},6.1599993331078604,2300.0000000003101,2329.0000000012101,25,999,125,2329.0000000012101,36547390.598778717,125,25,999,125,2329.0000000012101,36547390.598778717]
["00260026","0026","0026",126,26,"Belmont                      ",26,"Belmont",61875520.813840009,1,{"$f":"X135","v":64651862.962739997},{"$f":"IF(K139>0, K135/K139, 0)","v":1},null,{"$f":"ROUND(M139*L135,0)","v":51418074},49876878,{"$f":"N135-O135","v":1541196},3.0900009419194201,4538,4530,26,26,126,4530,64651862.962739997,126,26,26,126,4530,64651862.962739997]
["00260830","0026","0830",127,26,null,998,null,0,0,0,{"$f":"IF(K139>0, K136/K139, 0)","v":0},null,{"$f":"ROUND(M139*L136,0)","v":0},0,{"$f":"N136-O136","v":0},0,0,0,26,998,127,0,0,127,26,998,127,0,0]
["00260998","0026","0998",128,26,"",998,"",0,0,0,{"$f":"IF(K139>0, K137/K139, 0)","v":0},null,{"$f":"ROUND(M139*L137,0)","v":0},0,{"$f":"N137-O137","v":0},0,0,0,26,998,128,0,0,128,26,998,128,0,0]
[{"$f":"B138&C138","v":"00260998"},"0026","0998",129,26,"",998,"",0,0,0,{"$f":"IF(K139>0, K138/K139, 0)","v":0},null,{"$f":"ROUND(M139*L138,0)","v":0},0,{"$f":"N138-O138","v":0},0,0,0,{"$f":"VLOOKUP($D138, foundoptions, VLOOKUP($T$6, foundoptcell, 2, FALSE), FALSE)","v":26},{"$f":"VLOOKUP($D138, foundoptions, VLOOKUP($T$6, foundoptcell, 2, FALSE)+1, FALSE)","v":998},{"$f":"VLOOKUP($D138, foundoptions, VLOOKUP($T$6, foundoptcell, 2, FALSE)+2, FALSE)","v":129},{"$f":"VLOOKUP($D138, foundoptions, VLOOKUP($T$6, foundoptcell, 2, FALSE)+3, FALSE)","v":0},{"$f":"VLOOKUP($D138, foundoptions, VLOOKUP($T$6, foundoptcell, 2, FALSE)+4, FALSE)","v":0},129,26,998,129,0,0]
["00260999","0026","0999",130,26,"Belmont                      ",999,"Total",61875520.813840009,1,{"$f":"SUM(K135:K138)","v":64651862.962739997},{"$f":"SUM(L135:L138)","v":1},{"$f":"VLOOKUP(E139,town351,24)","v":51418074},{"$f":"SUM(N135:N138)","v":51418074},49876878,{"$f":"SUM(P135:P138)","v":1541196},3.0900009419194201,4538,{"$f":"W139","v":4530},26,999,130,4530,64651862.962739997,{"$f":"D139","v":130},26,999,130,4530,64651862.962739997]
["00270027","0027","0027",131,27,"Berkley                      ",27,"Berkley",8738336.5500000026,0.59197971951044215,{"$f":"X140","v":8934075.3899999987},{"$f":"IF(K144>0, K140/K144, 0)","v":0.58670556794773754},null,{"$f":"ROUND(M144*L140,0)","v":5539772},5232212,{"$f":"N140-O140","v":307560},5.8782021829390709,640,599,27,27,131,599,8934075.3899999987,131,27,27,131,599,8934075.3899999987]
["00270763","0027","0763",132,27,"Berkley                      ",763,"Somerset Berkley",3495358.0010676701,0.2367934717575759,3690552.3980218587,{"$f":"IF(K144>0, K141/K144, 0)","v":0.24236057411670214},null,{"$f":"ROUND(M144*L141,0)","v":2288409},2092899,{"$f":"N141-O141","v":195510},9.341587912269059,226.51685392896002,229.77277840279999,27,763,132,229.77277840279999,3690552.3980218587,132,27,763,132,229.77277840279999,3690552.3980218587]
["00270810","0027","0810",133,27,"Berkley                      ",810,"Bristol Plymouth",2167880.1253000675,0.14686331444940692,2142525.1671923026,{"$f":"IF(K144>0, K142/K144, 0)","v":0.14070078773533626},null,{"$f":"ROUND(M144*L142,0)","v":1328520},1298051,{"$f":"N142-O142","v":30469},2.3472883576993508,104.37983929650001,99.290748899219992,27,810,133,99.290748899219992,2142525.1671923026,133,27,810,133,99.290748899219992,2142525.1671923026]
["00270910","0027","0910",134,27,"Berkley                      ",910,"Bristol County",359634.63875283353,2.4363494282575039E-2,460374.91920312686,{"$f":"IF(K144>0, K143/K144, 0)","v":3.0233070200224085E-2},null,{"$f":"ROUND(M144*L143,0)","v":285466},215337,{"$f":"N143-O143","v":70129},32.567092510808642,17.00000000204,20.999999999410001,27,910,134,20.999999999410001,460374.91920312686,134,27,910,134,20.999999999410001,460374.91920312686]
["00270999","0027","0999",135,27,"Berkley                      ",999,"Total",14761209.315120574,1,{"$f":"SUM(K140:K143)","v":15227527.874417286},{"$f":"SUM(L140:L143)","v":0.99999999999999989},{"$f":"VLOOKUP(E144,town351,24)","v":9442167},{"$f":"SUM(N140:N143)","v":9442167},8838499,{"$f":"SUM(P140:P143)","v":603668},{"$f":"IF(O144>0,P144*100/O144,IF(P144>0,100,0))","v":6.8299832358412891},987.89669322750001,949.06352730142999,27,999,135,949.06352730142999,15227527.874417286,135,27,999,135,949.06352730142999,15227527.874417286]
["00280028","0028","0028",136,28,"Berlin                       ",28,"Berlin",0,0,{"$f":"X145","v":0},{"$f":"IF(K149>0, K145/K149, 0)","v":0},null,{"$f":"ROUND(M149*L145,0)","v":0},0,{"$f":"N145-O145","v":0},0,0,0,28,28,136,0,0,136,28,28,136,0,0]
["00280620","0028","0620",137,28,"Berlin                       ",620,"Berlin Boylston",5607166.9877880281,0.84164967013601488,5524540.9808751261,{"$f":"IF(K149>0, K146/K149, 0)","v":0.85192910292419421},null,{"$f":"ROUND(M149*L146,0)","v":4199822},3932096,{"$f":"N146-O146","v":267726},6.8087350868340959,422.00188501152002,402.86303939776997,28,620,137,402.86303939776997,5524540.9808751261,137,28,620,137,402.86303939776997,5524540.9808751261]
["00280801","0028","0801",138,28,"Berlin                       ",801,"Assabet Valley",1054948.1258338678,0.15835032986398509,960201.66016446112,{"$f":"IF(K149>0, K147/K149, 0)","v":0.1480708970758057},null,{"$f":"ROUND(M149*L147,0)","v":729957},739795,{"$f":"N147-O147","v":-9838},-1.3298278577173406,43.999999996500001,37.99999999728,28,801,138,37.99999999728,960201.66016446112,138,28,801,138,37.99999999728,960201.66016446112]
["00280998","0028","0998",139,28,"",998,"",0,0,0,{"$f":"IF(K149>0, K148/K149, 0)","v":0},null,{"$f":"ROUND(M149*L148,0)","v":0},0,{"$f":"N148-O148","v":0},0,0,0,28,998,139,0,0,139,28,998,139,0,0]
["00280999","0028","0999",140,28,"Berlin                       ",999,"Total",6662115.1136218961,1,{"$f":"SUM(K145:K148)","v":6484742.6410395876},{"$f":"SUM(L145:L148)","v":0.99999999999999989},{"$f":"VLOOKUP(E149,town351,24)","v":4929779},{"$f":"SUM(N145:N148)","v":4929779},4671891,{"$f":"SUM(P145:P148)","v":257888},5.5199917977538435,466.00188500802,440.86303939504995,28,999,140,440.86303939504995,6484742.6410395876,140,28,999,140,440.86303939504995,6484742.6410395876]
["00290029","0029","0029",141,29,"Bernardston                  ",29,"Bernardston",0,0,{"$f":"X150","v":0},{"$f":"IF(K154>0, K150/K154, 0)","v":0},null,{"$f":"ROUND(M154*L150,0)","v":0},0,{"$f":"N150-O150","v":0},0,0,0,29,29,141,0,0,141,29,29,141,0,0]
["00290750","0029","0750",142,29,"Bernardston                  ",750,"Pioneer",3212120.3158024373,0.85000306562925254,3424454.3414946166,{"$f":"IF(K154>0, K151/K154, 0)","v":0.8641774067624759},null,{"$f":"ROUND(M154*L151,0)","v":1984405},1839118,{"$f":"N151-O151","v":145287},7.8998193699371111,222.00000000035001,229.55854126919999,29,750,142,229.55854126919999,3424454.3414946166,142,29,750,142,229.55854126919999,3424454.3414946166]
["00290818","0029","0818",143,29,"Bernardston                  ",818,"Franklin County",566831.13236030831,0.14999693437074743,538220.81605650799,{"$f":"IF(K154>0, K152/K154, 0)","v":0.13582259323752408},null,{"$f":"ROUND(M154*L152,0)","v":311889},324543,{"$f":"N152-O152","v":-12654},-3.8990210850334162,24.999999998130001,23.000000002709999,29,818,143,23.000000002709999,538220.81605650799,143,29,818,143,23.000000002709999,538220.81605650799]
["00290998","0029","0998",144,29,"",998,"",0,0,0,{"$f":"IF(K154>0, K153/K154, 0)","v":0},null,{"$f":"ROUND(M154*L153,0)","v":0},0,{"$f":"N153-O153","v":0},0,0,0,29,998,144,0,0,144,29,998,144,0,0]
["00290999","0029","0999",145,29,"Bernardston                  ",999,"Total",3778951.4481627457,1,{"$f":"SUM(K150:K153)","v":3962675.1575511247},{"$f":"SUM(L150:L153)","v":1},{"$f":"VLOOKUP(E154,town351,24)","v":2296294},{"$f":"SUM(N150:N153)","v":2296294},2163661,{"$f":"SUM(P150:P153)","v":132633},6.1300268387700294,246.99999999848001,252.55854127191,29,999,145,252.55854127191,3962675.1575511247,145,29,999,145,252.55854127191,3962675.1575511247]
["00300030","0030","0030",146,30,"Beverly                      ",30,"Beverly",64124970,0.93686555145055528,{"$f":"X155","v":67719159.889999986},{"$f":"IF(K159>0, K155/K159, 0)","v":0.93190371507614422},null,{"$f":"ROUND(M159*L155,0)","v":53954926},51585549,{"$f":"N155-O155","v":2369377},4.5931022271372939,4437,4461,30,30,146,4461,67719159.889999986,146,30,30,146,4461,67719159.889999986]
["00300817","0030","0817",147,30,"Beverly                      ",817,"Essex North Shore",4321318.6918137521,6.3134448549444666E-2,4948390.1953291334,{"$f":"IF(K159>0, K156/K159, 0)","v":6.8096284923855804E-2},null,{"$f":"ROUND(M159*L156,0)","v":3942607},3476299,{"$f":"N156-O156","v":466308},13.413920954440339,206.99999999765001,223.99999999649998,30,817,147,223.99999999649998,4948390.1953291334,147,30,817,147,223.99999999649998,4948390.1953291334]
["00300998","0030","0998",148,30,"",998,null,0,0,0,{"$f":"IF(K159>0, K157/K159, 0)","v":0},null,{"$f":"ROUND(M159*L157,0)","v":0},0,{"$f":"N157-O157","v":0},0,0,0,30,998,148,0,0,148,30,998,148,0,0]
["00300998","0030","0998",149,30,"",998,"",0,0,0,{"$f":"IF(K159>0, K158/K159, 0)","v":0},null,{"$f":"ROUND(M159*L158,0)","v":0},0,{"$f":"N158-O158","v":0},0,0,0,30,998,149,0,0,149,30,998,149,0,0]
["00300999","0030","0999",150,30,"Beverly                      ",999,"Total",68446288.691813752,1,{"$f":"SUM(K155:K158)","v":72667550.085329115},{"$f":"SUM(L155:L158)","v":1},{"$f":"VLOOKUP(E159,town351,24)","v":57897533},{"$f":"SUM(N155:N158)","v":57897533},55061848,{"$f":"SUM(P155:P158)","v":2835685},5.1499996876239971,4643.9999999976499,4684.9999999965003,30,999,150,4684.9999999965003,72667550.085329115,150,30,999,150,4684.9999999965003,72667550.085329115]
["00310031","0031","0031",151,31,"Billerica                    ",31,"Billerica",68911291.640000015,0.879356206766432,{"$f":"X160","v":72151964.440000013},{"$f":"IF(K164>0, K160/K164, 0)","v":0.87645269953637495},null,{"$f":"ROUND(M164*L160,0)","v":57776251},55154759,{"$f":"N160-O160","v":2621492},4.7529751693774962,4999,4983,31,31,151,4983,72151964.440000013,151,31,31,151,4983,72151964.440000013]
["00310871","0031","0871",152,31,"Billerica                    ",871,"Shawsheen Valley",9454325.2849098165,0.12064379323356797,10170749.01409384,{"$f":"IF(K164>0, K161/K164, 0)","v":0.12354730046362503},null,{"$f":"ROUND(M164*L161,0)","v":8144307},7566990,{"$f":"N161-O161","v":577317},7.6294140734955382,462.00000000436,478.00000000520998,31,871,152,478.00000000520998,10170749.01409384,152,31,871,152,478.00000000520998,10170749.01409384]
["00310998","0031","0998",153,31,"",998,null,0,0,0,{"$f":"IF(K164>0, K162/K164, 0)","v":0},null,{"$f":"ROUND(M164*L162,0)","v":0},0,{"$f":"N162-O162","v":0},0,0,0,31,998,153,0,0,153,31,998,153,0,0]
["00310998","0031","0998",154,31,"",998,"",0,0,0,{"$f":"IF(K164>0, K163/K164, 0)","v":0},null,{"$f":"ROUND(M164*L163,0)","v":0},0,{"$f":"N163-O163","v":0},0,0,0,31,998,154,0,0,154,31,998,154,0,0]
["00310999","0031","0999",155,31,"Billerica                    ",999,"Total",78365616.92490983,1,{"$f":"SUM(K160:K163)","v":82322713.454093859},{"$f":"SUM(L160:L163)","v":1},{"$f":"VLOOKUP(E164,town351,24)","v":65920558},{"$f":"SUM(N160:N163)","v":65920558},62721749,{"$f":"SUM(P160:P163)","v":3198809},5.0999996827256844,5461.0000000043601,5461.0000000052096,31,999,155,5461.0000000052096,82322713.454093859,155,31,999,155,5461.0000000052096,82322713.454093859]
["00320032","0032","0032",156,32,"Blackstone                   ",32,"Blackstone",240365.82,1.2319715322432879E-2,{"$f":"X165","v":162422.63999999998},{"$f":"IF(K169>0, K165/K169, 0)","v":8.1715811381536611E-3},null,{"$f":"ROUND(M169*L165,0)","v":83894},120024,{"$f":"N165-O165","v":-36130},-30.102312870759182,12,9,32,32,156,9,162422.63999999998,156,32,32,156,9,162422.63999999998]
["00320622","0032","0622",157,32,"Blackstone                   ",622,"Blackstone Millville",17984892.023399279,0.9217980735903839,18461158.018438976,{"$f":"IF(K169>0, K166/K169, 0)","v":0.92879201232014308},null,{"$f":"ROUND(M169*L166,0)","v":9535478},8980523,{"$f":"N166-O166","v":554955},6.1795398775772856,1212.74303404904,1195.52661596247,32,622,157,1195.52661596247,18461158.018438976,157,32,622,157,1195.52661596247,18461158.018438976]
["00320805","0032","0805",158,32,"Blackstone                   ",805,"Blackstone Valley",1285405.6507741332,6.5882211087183257E-2,1252944.73536,{"$f":"IF(K169>0, K167/K169, 0)","v":6.3036406541703227E-2},null,{"$f":"ROUND(M169*L167,0)","v":647166},641851,{"$f":"N167-O167","v":5315},0.82807380529125918,63.999999999330001,60,32,805,158,60,1252944.73536,158,32,805,158,60,1252944.73536]
["00320998","0032","0998",159,32,"",998,"",0,0,0,{"$f":"IF(K169>0, K168/K169, 0)","v":0},null,{"$f":"ROUND(M169*L168,0)","v":0},0,{"$f":"N168-O168","v":0},0,0,0,32,998,159,0,0,159,32,998,159,0,0]
["00320999","0032","0999",160,32,"Blackstone                   ",999,"Total",19510663.494173411,1,{"$f":"SUM(K165:K168)","v":19876525.393798977},{"$f":"SUM(L165:L168)","v":1},{"$f":"VLOOKUP(E169,town351,24)","v":10266538},{"$f":"SUM(N165:N168)","v":10266538},9742398,{"$f":"SUM(P165:P168)","v":524140},5.3799896083079339,1288.74303404837,1264.52661596247,32,999,160,1264.52661596247,19876525.393798977,160,32,999,160,1264.52661596247,19876525.393798977]
["00330033","0033","0033",161,33,"Blandford                    ",33,"Blandford",223011.53000000003,0.130366833708907,{"$f":"X170","v":231762.16},{"$f":"IF(K174>0, K170/K174, 0)","v":0.11750796633144284},null,{"$f":"ROUND(M174*L170,0)","v":158363},162784,{"$f":"N170-O170","v":-4421},-2.7158688814625518,11,11,33,33,161,11,231762.16,161,33,33,161,11,231762.16]
["00330672","0033","0672",162,33,"Blandford                    ",672,"Gateway",1487634.6800472362,0.869633166291093,1740548.0350917261,{"$f":"IF(K174>0, K171/K174, 0)","v":0.88249203366855722},null,{"$f":"ROUND(M174*L171,0)","v":1189320},1085880,{"$f":"N171-O171","v":103440},9.5259144656868155,93.49095607532,104.14285714223999,33,672,162,104.14285714223999,1740548.0350917261,162,33,672,162,104.14285714223999,1740548.0350917261]
["00330998","0033","0998",163,33,"",998,"",0,0,0,{"$f":"IF(K174>0, K172/K174, 0)","v":0},null,{"$f":"ROUND(M174*L172,0)","v":0},0,{"$f":"N172-O172","v":0},0,0,0,33,998,163,0,0,163,33,998,163,0,0]
["00330998","0033","0998",164,33,"",998,"",0,0,0,{"$f":"IF(K174>0, K173/K174, 0)","v":0},null,{"$f":"ROUND(M174*L173,0)","v":0},0,{"$f":"N173-O173","v":0},0,0,0,33,998,164,0,0,164,33,998,164,0,0]
["00330999","0033","0999",165,33,"Blandford                    ",999,"Total",1710646.2100472362,1,{"$f":"SUM(K170:K173)","v":1972310.195091726},{"$f":"SUM(L170:L173)","v":1},{"$f":"VLOOKUP(E174,town351,24)","v":1347683},{"$f":"SUM(N170:N173)","v":1347683},1248664,{"$f":"SUM(P170:P173)","v":99019},7.9299955792751291,104.49095607532,115.14285714223999,33,999,165,115.14285714223999,1972310.195091726,165,33,999,165,115.14285714223999,1972310.195091726]
["00340034","0034","0034",166,34,"Bolton                       ",34,"Bolton",17898.514400000004,1.2555571726478507E-3,{"$f":"X175","v":18620.186329999997},{"$f":"IF(K179>0, K175/K179, 0)","v":1.2723559593264581E-3},null,{"$f":"ROUND(M179*L175,0)","v":15073},14425,{"$f":"N175-O175","v":648},4.4922010398613521,1,1,34,34,166,1,18620.186329999997,166,34,34,166,1,18620.186329999997]
["00340725","0034","0725",167,34,"Bolton                       ",725,"Nashoba",13413103.704269959,0.9409115296946432,13914177.272225391,{"$f":"IF(K179>0, K176/K179, 0)","v":0.9507845978381646},null,{"$f":"ROUND(M179*L176,0)","v":11263144},10809995,{"$f":"N176-O176","v":453149},4.1919445846182164,1002.3309018632999,990.68833334328997,34,725,167,990.68833334328997,13914177.272225391,167,34,725,167,990.68833334328997,13914177.272225391]
["00340830","0034","0830",168,34,"Bolton                       ",830,"Minuteman",824433.36794991593,5.783291313270901E-2,701618.47946315713,{"$f":"IF(K179>0, K177/K179, 0)","v":4.7943046202508985E-2},null,{"$f":"ROUND(M179*L177,0)","v":567941},664434,{"$f":"N177-O177","v":-96493},-14.522586140986162,38.000000003149999,30.999999997360003,34,830,168,30.999999997360003,701618.47946315713,168,34,830,168,30.999999997360003,701618.47946315713]
["00340998","0034","0998",169,34,"",998,"",0,0,0,{"$f":"IF(K179>0, K178/K179, 0)","v":0},null,{"$f":"ROUND(M179*L178,0)","v":0},0,{"$f":"N178-O178","v":0},0,0,0,34,998,169,0,0,169,34,998,169,0,0]
["00340999","0034","0999",170,34,"Bolton                       ",999,"Total",14255435.586619874,1,{"$f":"SUM(K175:K178)","v":14634415.938018547},{"$f":"SUM(L175:L178)","v":1},{"$f":"VLOOKUP(E179,town351,24)","v":11846157},{"$f":"SUM(N175:N178)","v":11846158},11488854,{"$f":"SUM(P175:P178)","v":357304},3.1100055758389828,1041.3309018664499,1022.6883333406499,34,999,170,1022.6883333406499,14634415.938018547,170,34,999,170,1022.6883333406499,14634415.938018547]
["00350035","0035","0035",171,35,"Boston                       ",35,"Boston",1220875806.5343199,1,{"$f":"X180","v":1258580176.0585201},{"$f":"IF(K184>0, K180/K184, 0)","v":1},null,{"$f":"ROUND(M184*L180,0)","v":1038328645},1007222540,{"$f":"N180-O180","v":31106105},3.0883050929340801,57616,55975,35,35,171,55975,1258580176.0585201,171,35,35,171,55975,1258580176.0585201]
["00350998","0035","0998",172,35,"",998,null,0,0,0,{"$f":"IF(K184>0, K181/K184, 0)","v":0},null,{"$f":"ROUND(M184*L181,0)","v":0},0,{"$f":"N181-O181","v":0},0,0,0,35,998,172,0,0,172,35,998,172,0,0]
["00350998","0035","0998",173,35,"",998,"",0,0,0,{"$f":"IF(K184>0, K182/K184, 0)","v":0},null,{"$f":"ROUND(M184*L182,0)","v":0},0,{"$f":"N182-O182","v":0},0,0,0,35,998,173,0,0,173,35,998,173,0,0]
["00350998","0035","0998",174,35,"",998,"",0,0,0,{"$f":"IF(K184>0, K183/K184, 0)","v":0},null,{"$f":"ROUND(M184*L183,0)","v":0},0,{"$f":"N183-O183","v":0},0,0,0,35,998,174,0,0,174,35,998,174,0,0]
["00350999","0035","0999",175,35,"Boston                       ",999,"Total",1220875806.5343199,1,{"$f":"SUM(K180:K183)","v":1258580176.0585201},{"$f":"SUM(L180:L183)","v":1},{"$f":"VLOOKUP(E184,town351,24)","v":1038328645},{"$f":"SUM(N180:N183)","v":1038328645},1007222540,{"$f":"SUM(P180:P183)","v":31106105},3.0883050929340801,57616,55975,35,999,175,55975,1258580176.0585201,175,35,999,175,55975,1258580176.0585201]
["00360036","0036","0036",176,36,"Bourne                       ",36,"Bourne",24040569.220000006,0.83604173762547929,{"$f":"X185","v":24467743.599999998},{"$f":"IF(K189>0, K185/K189, 0)","v":0.81732195862196144},null,{"$f":"ROUND(M189*L185,0)","v":20185888},19771933,{"$f":"N185-O185","v":413955},2.0936496193872394,1624,1585,36,36,176,1585,24467743.599999998,176,36,36,176,1585,24467743.599999998]
["00360879","0036","0879",177,36,"Bourne                       ",879,"Upper Cape Cod",4714656.9105516644,0.16395826237452071,5468737.7851980999,{"$f":"IF(K189>0, K186/K189, 0)","v":0.18267804137803859},null,{"$f":"ROUND(M189*L186,0)","v":4511709},3877524,{"$f":"N186-O186","v":634185},16.355411339813756,214.74048442739999,239.07207207384002,36,879,177,239.07207207384002,5468737.7851980999,177,36,879,177,239.07207207384002,5468737.7851980999]
["00360998","0036","0998",178,36,"",998,"",0,0,0,{"$f":"IF(K189>0, K187/K189, 0)","v":0},null,{"$f":"ROUND(M189*L187,0)","v":0},0,{"$f":"N187-O187","v":0},0,0,0,36,998,178,0,0,178,36,998,178,0,0]
["00360998","0036","0998",179,36,"",998,"",0,0,0,{"$f":"IF(K189>0, K188/K189, 0)","v":0},null,{"$f":"ROUND(M189*L188,0)","v":0},0,{"$f":"N188-O188","v":0},0,0,0,36,998,179,0,0,179,36,998,179,0,0]
["00360999","0036","0999",180,36,"Bourne                       ",999,"Total",28755226.13055167,1,{"$f":"SUM(K185:K188)","v":29936481.385198098},{"$f":"SUM(L185:L188)","v":1},{"$f":"VLOOKUP(E189,town351,24)","v":24697597},{"$f":"SUM(N185:N188)","v":24697597},23649457,{"$f":"SUM(P185:P188)","v":1048140},4.431983364353778,1838.7404844273999,1824.07207207384,36,999,180,1824.07207207384,29936481.385198098,180,36,999,180,1824.07207207384,29936481.385198098]
["00370037","0037","0037",181,37,"Boxborough                   ",37,"Boxborough",74532.869360000012,6.2265928133169298E-3,{"$f":"X190","v":58544.935950000006},{"$f":"IF(K194>0, K190/K194, 0)","v":4.6407401429229859E-3},null,{"$f":"ROUND(M194*L190,0)","v":45409},57871,{"$f":"N190-O190","v":-12462},-21.534101708973406,4,3,37,37,181,3,58544.935950000006,181,37,37,181,3,58544.935950000006]
["00370600","0037","0600",182,37,"Boxborough                   ",600,"Acton Boxborough",11895556.005023303,0.99377340718668306,12556885.824438425,{"$f":"IF(K194>0, K191/K194, 0)","v":0.99535925985707707},null,{"$f":"ROUND(M194*L191,0)","v":9739459},9236267,{"$f":"N191-O191","v":503192},5.4480018821456762,865.77715986343992,874.03183820738991,37,600,182,874.03183820738991,12556885.824438425,182,37,600,182,874.03183820738991,12556885.824438425]
["00370830","0037","0830",183,37,null,998,null,0,0,0,{"$f":"IF(K194>0, K192/K194, 0)","v":0},null,{"$f":"ROUND(M194*L192,0)","v":0},0,{"$f":"N192-O192","v":0},0,0,0,37,998,183,0,0,183,37,998,183,0,0]
["00370998","0037","0998",184,37,"",998,"",0,0,0,{"$f":"IF(K194>0, K193/K194, 0)","v":0},null,{"$f":"ROUND(M194*L193,0)","v":0},0,{"$f":"N193-O193","v":0},0,0,0,37,998,184,0,0,184,37,998,184,0,0]
["00370999","0037","0999",185,37,"Boxborough",999,"Total",11970088.874383302,1,{"$f":"SUM(K190:K193)","v":12615430.760388425},{"$f":"SUM(L190:L193)","v":1},{"$f":"VLOOKUP(E194,town351,24)","v":9784868},{"$f":"SUM(N190:N193)","v":9784868},9294138,{"$f":"SUM(P190:P193)","v":490730},5.279994766593739,869.77715986343992,877.03183820738991,37,999,185,877.03183820738991,12615430.760388425,185,37,999,185,877.03183820738991,12615430.760388425]
["00380038","0038","0038",186,38,"Boxford",38,"Boxford",9386167.0081999991,0.5245138492208411,{"$f":"X195","v":9544654.4138799999},{"$f":"IF(K199>0, K195/K199, 0)","v":0.51509286046342595},null,{"$f":"ROUND(M199*L195,0)","v":7685047},7523174,{"$f":"N195-O195","v":161873},2.151658329316855,749,728,38,38,186,728,9544654.4138799999,186,38,38,186,728,9544654.4138799999]
["00380705","0038","0705",187,38,"Boxford",705,"Masconomet",7799035.3086108174,0.43582242105376634,8101672.8535464499,{"$f":"IF(K199>0, K196/K199, 0)","v":0.43722000438313557},null,{"$f":"ROUND(M199*L196,0)","v":6523205},6251061,{"$f":"N196-O196","v":272144},4.3535649388159863,567.87665782986994,566.11807388472005,38,705,187,566.11807388472005,8101672.8535464499,187,38,705,187,566.11807388472005,8101672.8535464499]
["00380817","0038","0817",188,38,"Boxford",817,"Essex North Shore",709781.81400486256,3.9663729725392595E-2,883641.10622317111,{"$f":"IF(K199>0, K197/K199, 0)","v":4.7687135153438538E-2},null,{"$f":"ROUND(M199*L197,0)","v":711479},568902,{"$f":"N197-O197","v":142577},25.061785685408033,33.99999999437,39.999999995499998,38,817,188,39.999999995499998,883641.10622317111,188,38,817,188,39.999999995499998,883641.10622317111]
["00380998","0038","0998",189,38,"",998,null,0,0,0,{"$f":"IF(K199>0, K198/K199, 0)","v":0},null,{"$f":"ROUND(M199*L198,0)","v":0},0,{"$f":"N198-O198","v":0},0,0,0,38,998,189,0,0,189,38,998,189,0,0]
["00380999","0038","0999",190,38,"Boxford                      ",999,"Total",17894984.130815677,1,{"$f":"SUM(K195:K198)","v":18529968.37364962},{"$f":"SUM(L195:L198)","v":1},{"$f":"VLOOKUP(E199,town351,24)","v":14919731},{"$f":"SUM(N195:N198)","v":14919731},14343137,{"$f":"SUM(P195:P198)","v":576594},4.0199992512098293,1350.8766578242401,1334.1180738802202,38,999,190,1334.1180738802202,18529968.37364962,190,38,999,190,1334.1180738802202,18529968.37364962]
["00390039","0039","0039",191,39,"Boylston                     ",39,"Boylston",156188.61000000002,1.8203453725747342E-2,{"$f":"X200","v":54140.88},{"$f":"IF(K204>0, K200/K204, 0)","v":5.9451502528576339E-3},null,{"$f":"ROUND(M204*L200,0)","v":44053},128856,{"$f":"N200-O200","v":-84803},-65.812224498665174,9,3,39,39,191,3,54140.88,191,39,39,191,3,54140.88]
["00390620","0039","0620",192,39,"Boylston                     ",620,"Berlin Boylston",8423974.9322119709,0.98179654627425272,9052589.4291248694,{"$f":"IF(K204>0, K201/K204, 0)","v":0.99405484974714231},null,{"$f":"ROUND(M204*L201,0)","v":7365862},6949779,{"$f":"N201-O201","v":416083},5.9869961332583381,633.99811498847998,660.13696060222992,39,620,192,660.13696060222992,9052589.4291248694,192,39,620,192,660.13696060222992,9052589.4291248694]
[{"$f":"B202&C202","v":"00390998"},"0039","0998",193,39,"",998,"",0,0,0,{"$f":"IF(K204>0, K202/K204, 0)","v":0},null,{"$f":"ROUND(M204*L202,0)","v":0},0,{"$f":"N202-O202","v":0},0,0,0,{"$f":"VLOOKUP($D202, foundoptions, VLOOKUP($T$6, foundoptcell, 2, FALSE), FALSE)","v":39},{"$f":"VLOOKUP($D202, foundoptions, VLOOKUP($T$6, foundoptcell, 2, FALSE)+1, FALSE)","v":998},{"$f":"VLOOKUP($D202, foundoptions, VLOOKUP($T$6, foundoptcell, 2, FALSE)+2, FALSE)","v":193},{"$f":"VLOOKUP($D202, foundoptions, VLOOKUP($T$6, foundoptcell, 2, FALSE)+3, FALSE)","v":0},{"$f":"VLOOKUP($D202, foundoptions, VLOOKUP($T$6, foundoptcell, 2, FALSE)+4, FALSE)","v":0},193,39,998,193,0,0]
["00390998","0039","0998",194,39,"",998,"",0,0,0,{"$f":"IF(K204>0, K203/K204, 0)","v":0},null,{"$f":"ROUND(M204*L203,0)","v":0},0,{"$f":"N203-O203","v":0},0,0,{"$f":"W203","v":0},39,998,194,0,0,{"$f":"D203","v":194},39,998,194,0,0]
["00390999","0039","0999",195,39,"Boylston                     ",999,"Total",8580163.5422119703,1,{"$f":"SUM(K200:K203)","v":9106730.3091248702},{"$f":"SUM(L200:L203)","v":1},{"$f":"VLOOKUP(E204,town351,24)","v":7409915},{"$f":"SUM(N200:N203)","v":7409915},7078635,{"$f":"SUM(P200:P203)","v":331280},4.6799983330119437,642.99811498847998,663.13696060222992,39,999,195,663.13696060222992,9106730.3091248702,195,39,999,195,663.13696060222992,9106730.3091248702]
["00400040","0040","0040",196,40,"Braintree                    ",40,"Braintree",75740827.680080011,0.95096604428816112,{"$f":"X205","v":76951750.130320013},{"$f":"IF(K209>0, K205/K209, 0)","v":0.95148312690493231},null,{"$f":"ROUND(M209*L205,0)","v":60143288},57604796,{"$f":"N205-O205","v":2538492},4.4067372445863713,5121,4970,40,40,196,4970,76951750.130320013,196,40,40,196,4970,76951750.130320013]
["00400806","0040","0806",197,40,"Braintree                    ",806,"Blue Hills",3449706.9110870305,4.331288996532523E-2,3438177.9497433067,{"$f":"IF(K209>0, K206/K209, 0)","v":4.2511941585957357E-2},null,{"$f":"ROUND(M209*L206,0)","v":2687182},2623680,{"$f":"N206-O206","v":63502},2.4203408952311256,151.99999999729999,143.15492957303999,40,806,197,143.15492957303999,3438177.9497433067,197,40,806,197,143.15492957303999,3438177.9497433067]
["00400915","0040","0915",198,40,"Braintree                    ",915,"Norfolk County",455661.12213548442,5.7210657465134864E-3,485652.32106835057,{"$f":"IF(K209>0, K207/K209, 0)","v":6.0049315091104437E-3},null,{"$f":"ROUND(M209*L207,0)","v":379572},346554,{"$f":"N207-O207","v":33018},9.527519520767326,20.000000000939998,21.000000000610001,40,915,198,21.000000000610001,485652.32106835057,198,40,915,198,21.000000000610001,485652.32106835057]
["00400998","0040","0998",199,40,"",998,"",0,0,0,{"$f":"IF(K209>0, K208/K209, 0)","v":0},null,{"$f":"ROUND(M209*L208,0)","v":0},0,{"$f":"N208-O208","v":0},{"$f":"IF(O208>0,P208*100/O208,IF(P208>0,100,0))","v":0},0,0,40,998,199,0,0,199,40,998,199,0,0]
["00400999","0040","0999",200,40,"Braintree                    ",999,"Total",79646195.713302538,0.99999999999999978,{"$f":"SUM(K205:K208)","v":80875580.40113166},{"$f":"SUM(L205:L208)","v":1.0000000000000002},{"$f":"VLOOKUP(E209,town351,24)","v":63210042},{"$f":"SUM(N205:N208)","v":63210042},60575030,{"$f":"SUM(P205:P208)","v":2635012},{"$f":"IF(O209>0,P209*100/O209,IF(P209>0,100,0))","v":4.3499970202243396},5292.9999999982401,5134.1549295736504,40,999,200,5134.1549295736504,80875580.40113166,200,40,999,200,5134.1549295736504,80875580.40113166]
["00410041","0041","0041",201,41,"Brewster                     ",41,"Brewster",6081078.0800000001,0.39458496623841538,{"$f":"X210","v":5944818.4399999995},{"$f":"IF(K214>0, K210/K214, 0)","v":0.38228748083019987},null,{"$f":"ROUND(M214*L210,0)","v":4904475},5016889,{"$f":"N210-O210","v":-112414},-2.2407113252854507,419,394,41,41,201,394,5944818.4399999995,201,41,41,201,394,5944818.4399999995]
["00410660","0041","0660",202,41,"Brewster                     ",660,"Nauset",7993688.051429037,0.51868913511690196,8188944.1782562137,{"$f":"IF(K214>0, K211/K214, 0)","v":0.52659822535550793},null,{"$f":"ROUND(M214*L211,0)","v":6755879},6594793,{"$f":"N211-O211","v":161086},2.442624052036205,522.27074236299995,510.93235831880003,41,660,202,510.93235831880003,8188944.1782562137,202,41,660,202,510.93235831880003,8188944.1782562137]
["00410815","0041","0815",203,41,"Brewster                     ",815,"Cape Cod",1336561.2132770028,8.6725898644682692E-2,1416886.4040184701,{"$f":"IF(K214>0, K212/K214, 0)","v":9.1114293814292119E-2},null,{"$f":"ROUND(M214*L212,0)","v":1168931},1102663,{"$f":"N212-O212","v":66268},6.0098144219947525,60.999999999650001,63.000000002699998,41,815,203,63.000000002699998,1416886.4040184701,203,41,815,203,63.000000002699998,1416886.4040184701]
["00410998","0041","0998",204,41,"",998,"",0,0,0,{"$f":"IF(K214>0, K213/K214, 0)","v":0},null,{"$f":"ROUND(M214*L213,0)","v":0},0,{"$f":"N213-O213","v":0},0,0,0,41,998,204,0,0,204,41,998,204,0,0]
["00410999","0041","0999",205,41,"Brewster                     ",999,"Total",15411327.34470604,1,{"$f":"SUM(K210:K213)","v":15550649.022274684},{"$f":"SUM(L210:L213)","v":1},{"$f":"VLOOKUP(E214,town351,24)","v":12829285},{"$f":"SUM(N210:N213)","v":12829285},12714345,{"$f":"SUM(P210:P213)","v":114940},0.90401825654408463,1002.2707423626499,967.93235832149992,41,999,205,967.93235832149992,15550649.022274684,205,41,999,205,967.93235832149992,15550649.022274684]
["00420042","0042","0042",206,42,"Bridgewater                  ",42,"Bridgewater",448617.29999999993,8.2816589638832535E-3,{"$f":"X215","v":430278.72000000003},{"$f":"IF(K219>0, K215/K219, 0)","v":7.7472186902322309E-3},null,{"$f":"ROUND(M219*L215,0)","v":257942},258421,{"$f":"N215-O215","v":-479},-0.18535645322942021,24,22,42,42,206,22,430278.72000000003,206,42,42,206,22,430278.72000000003]
["00420625","0042","0625",207,42,"Bridgewater                  ",625,"Bridgewater Raynham",50136022.439411446,0.92553149343282981,51300554.526255645,{"$f":"IF(K219>0, K216/K219, 0)","v":0.92367248569737626},null,{"$f":"ROUND(M219*L216,0)","v":30753438},28880350,{"$f":"N216-O216","v":1873088},6.4856831721222212,3543.737534634,3479.0763480871497,42,625,207,3479.0763480871497,51300554.526255645,207,42,625,207,3479.0763480871497,51300554.526255645]
["00420810","0042","0810",208,42,"Bridgewater                  ",810,"Bristol Plymouth",3585340.2074136217,6.6186847603286969E-2,3808933.6306623472,{"$f":"IF(K219>0, K217/K219, 0)","v":6.8580295612391526E-2},null,{"$f":"ROUND(M219*L217,0)","v":2283363},2065299,{"$f":"N217-O217","v":218064},10.558471194727737,172.62819576858001,176.51688693650001,42,810,208,176.51688693650001,3808933.6306623472,208,42,810,208,176.51688693650001,3808933.6306623472]
["00420998","0042","0998",209,42,"",998,"",0,0,0,{"$f":"IF(K219>0, K218/K219, 0)","v":0},null,{"$f":"ROUND(M219*L218,0)","v":0},0,{"$f":"N218-O218","v":0},0,0,0,42,998,209,0,0,209,42,998,209,0,0]
["00420999","0042","0999",210,42,"Bridgewater                  ",999,"Total",54169979.946825065,1,{"$f":"SUM(K215:K218)","v":55539766.876917988},{"$f":"SUM(L215:L218)","v":1},{"$f":"VLOOKUP(E219,town351,24)","v":33294743},{"$f":"SUM(N215:N218)","v":33294743},31204070,{"$f":"SUM(P215:P218)","v":2090673},6.7000009934601481,3740.3657304025801,3677.5932350236499,42,999,210,3677.5932350236499,55539766.876917988,210,42,999,210,3677.5932350236499,55539766.876917988]
["00430043","0043","0043",211,43,"Brimfield                    ",43,"Brimfield",3424747.8600000008,0.44917529799199252,{"$f":"X220","v":3601518.5399999996},{"$f":"IF(K224>0, K220/K224, 0)","v":0.45027761110584202},null,{"$f":"ROUND(M224*L220,0)","v":2018377},1917011,{"$f":"N220-O220","v":101366},5.2877109208032715,251,252,43,43,211,252,3601518.5399999996,211,43,43,211,252,3601518.5399999996]
["00430770","0043","0770",212,43,"Brimfield                    ",770,"Tantasqua",4199776.1850890825,0.55082470200800759,4396921.6470547998,{"$f":"IF(K224>0, K221/K224, 0)","v":0.54972238889415792},null,{"$f":"ROUND(M224*L221,0)","v":2464140},2350834,{"$f":"N221-O221","v":113306},4.8198213910467516,256.99999999535999,256.99999999959999,43,770,212,256.99999999959999,4396921.6470547998,212,43,770,212,256.99999999959999,4396921.6470547998]
["00430998","0043","0998",213,43,"",998,"",0,0,0,{"$f":"IF(K224>0, K222/K224, 0)","v":0},null,{"$f":"ROUND(M224*L222,0)","v":0},0,{"$f":"N222-O222","v":0},0,0,0,43,998,213,0,0,213,43,998,213,0,0]
["00430998","0043","0998",214,43,"",998,"",0,0,0,{"$f":"IF(K224>0, K223/K224, 0)","v":0},null,{"$f":"ROUND(M224*L223,0)","v":0},0,{"$f":"N223-O223","v":0},0,0,0,43,998,214,0,0,214,43,998,214,0,0]
["00430999","0043","0999",215,43,"Brimfield                    ",999,"Total",7624524.0450890828,1,{"$f":"SUM(K220:K223)","v":7998440.1870547999},{"$f":"SUM(L220:L223)","v":1},{"$f":"VLOOKUP(E224,town351,24)","v":4482517},{"$f":"SUM(N220:N223)","v":4482517},4267845,{"$f":"SUM(P220:P223)","v":214672},5.0299858593739932,507.99999999535999,508.99999999959999,43,999,215,508.99999999959999,7998440.1870547999,215,43,999,215,508.99999999959999,7998440.1870547999]
["00440044","0044","0044",216,44,"Brockton                     ",44,"Brockton",344720845.48999995,0.93355956266843643,{"$f":"X225","v":352935379.09999996},{"$f":"IF(K229>0, K225/K229, 0)","v":0.92899711791861839},null,{"$f":"ROUND(M229*L225,0)","v":64908788},62646528,{"$f":"N225-O225","v":2262260},3.6111498469635861,17203,16574,44,44,216,16574,352935379.09999996,216,44,44,216,16574,352935379.09999996]
["00440872","0044","0872",217,44,"Brockton                     ",872,"Southeastern",24533414.521721672,6.6440437331563573E-2,26974711.354034826,{"$f":"IF(K229>0, K226/K229, 0)","v":7.100288208138153E-2},null,{"$f":"ROUND(M229*L226,0)","v":4960953},4458487,{"$f":"N226-O226","v":502466},11.269876978445827,1078.0000000038801,1136.6581691798301,44,872,217,1136.6581691798301,26974711.354034826,217,44,872,217,1136.6581691798301,26974711.354034826]
["00440998","0044","0998",218,44,"",998,"",0,0,0,{"$f":"IF(K229>0, K227/K229, 0)","v":0},null,{"$f":"ROUND(M229*L227,0)","v":0},0,{"$f":"N227-O227","v":0},0,0,0,44,998,218,0,0,218,44,998,218,0,0]
["00440998","0044","0998",219,44,"",998,"",0,0,0,{"$f":"IF(K229>0, K228/K229, 0)","v":0},null,{"$f":"ROUND(M229*L228,0)","v":0},0,{"$f":"N228-O228","v":0},0,0,0,44,998,219,0,0,219,44,998,219,0,0]
["00440999","0044","0999",220,44,"Brockton                     ",999,"Total",369254260.01172161,1,{"$f":"SUM(K225:K228)","v":379910090.45403481},{"$f":"SUM(L225:L228)","v":0.99999999999999989},{"$f":"VLOOKUP(E229,town351,24)","v":69869741},{"$f":"SUM(N225:N228)","v":69869741},67105015,{"$f":"SUM(P225:P228)","v":2764726},4.1199990790554182,18281.000000003882,17710.658169179831,44,999,220,17710.658169179831,379910090.45403481,220,44,999,220,17710.658169179831,379910090.45403481]
["00450045","0045","0045",221,45,"Brookfield                   ",45,"Brookfield",3273863.3800000004,0.48351587226522957,{"$f":"X230","v":3203866.4800000004},{"$f":"IF(K234>0, K230/K234, 0)","v":0.48481091122735942},null,{"$f":"ROUND(M234*L230,0)","v":1520945},1445613,{"$f":"N230-O230","v":75332},5.2110765467659741,221,213,45,45,221,213,3203866.4800000004,221,45,45,221,213,3203866.4800000004]
["00450770","0045","0770",222,45,"Brookfield                   ",770,"Tantasqua",3497089.8974223873,0.51648412773477048,3404620.2636028035,{"$f":"IF(K234>0, K231/K234, 0)","v":0.51518908877264058},null,{"$f":"ROUND(M234*L231,0)","v":1616247},1544182,{"$f":"N231-O231","v":72065},4.6668721692132147,214.00000000291999,198.99999999559998,45,770,222,198.99999999559998,3404620.2636028035,222,45,770,222,198.99999999559998,3404620.2636028035]
["00450998","0045","0998",223,45,"",998,"",0,0,0,{"$f":"IF(K234>0, K232/K234, 0)","v":0},null,{"$f":"ROUND(M234*L232,0)","v":0},0,{"$f":"N232-O232","v":0},0,0,0,45,998,223,0,0,223,45,998,223,0,0]
["00450998","0045","0998",224,45,"",998,"",0,0,0,{"$f":"IF(K234>0, K233/K234, 0)","v":0},null,{"$f":"ROUND(M234*L233,0)","v":0},0,{"$f":"N233-O233","v":0},0,0,0,45,998,224,0,0,224,45,998,224,0,0]
["00450999","0045","0999",225,45,"Brookfield                   ",999,"Total",6770953.2774223872,1,{"$f":"SUM(K230:K233)","v":6608486.7436028039},{"$f":"SUM(L230:L233)","v":1},{"$f":"VLOOKUP(E234,town351,24)","v":3137192},{"$f":"SUM(N230:N233)","v":3137192},2989795,{"$f":"SUM(P230:P233)","v":147397},4.9300035621171352,435.00000000291999,411.99999999559998,45,999,225,411.99999999559998,6608486.7436028039,225,45,999,225,411.99999999559998,6608486.7436028039]
["00460046","0046","0046",226,46,"Brookline                    ",46,"Brookline",95312162.890479997,1,{"$f":"X235","v":98953992.458999991},{"$f":"IF(K239>0, K235/K239, 0)","v":1},null,{"$f":"ROUND(M239*L235,0)","v":81637044},78632534,{"$f":"N235-O235","v":3004510},3.8209502443352519,6881,6822,46,46,226,6822,98953992.458999991,226,46,46,226,6822,98953992.458999991]
["00460915","0046","0915",227,46,"Brookline                    ",915,"Norfolk County",0,0,0,{"$f":"IF(K239>0, K236/K239, 0)","v":0},null,{"$f":"ROUND(M239*L236,0)","v":0},0,{"$f":"N236-O236","v":0},0,0,0,46,915,227,0,0,227,46,915,227,0,0]
["00460998","0046","0998",228,46,"",998,"",0,0,0,{"$f":"IF(K239>0, K237/K239, 0)","v":0},null,{"$f":"ROUND(M239*L237,0)","v":0},0,{"$f":"N237-O237","v":0},0,0,0,46,998,228,0,0,228,46,998,228,0,0]
["00460998","0046","0998",229,46,"",998,"",0,0,0,{"$f":"IF(K239>0, K238/K239, 0)","v":0},null,{"$f":"ROUND(M239*L238,0)","v":0},0,{"$f":"N238-O238","v":0},0,0,0,46,998,229,0,0,229,46,998,229,0,0]
["00460999","0046","0999",230,46,"Brookline                    ",999,"Total",95312162.890479997,1,{"$f":"SUM(K235:K238)","v":98953992.458999991},{"$f":"SUM(L235:L238)","v":1},{"$f":"VLOOKUP(E239,town351,24)","v":81637044},{"$f":"SUM(N235:N238)","v":81637044},78632534,{"$f":"SUM(P235:P238)","v":3004510},3.8209502443352519,6881,6822,46,999,230,6822,98953992.458999991,230,46,999,230,6822,98953992.458999991]
["00470047","0047","0047",231,47,"Buckland                     ",47,"Buckland",0,0,{"$f":"X240","v":18046.96},{"$f":"IF(K244>0, K240/K244, 0)","v":5.9345904867463047E-3},null,{"$f":"ROUND(M244*L240,0)","v":10370},0,{"$f":"N240-O240","v":10370},100,0,1,47,47,231,1,18046.96,231,47,47,231,1,18046.96]
["00470717","0047","0717",232,47,"Buckland                     ",717,"Mohawk Trail",2483843.3965068045,0.82029139482299296,2484710.3740457101,{"$f":"IF(K244>0, K241/K244, 0)","v":0.81707603652534966},null,{"$f":"ROUND(M244*L241,0)","v":1427701},1357695,{"$f":"N241-O241","v":70006},5.156239066948026,156.12648221250001,150.81818181464999,47,717,232,150.81818181464999,2484710.3740457101,232,47,717,232,150.81818181464999,2484710.3740457101]
["00470818","0047","0818",233,47,"Buckland                     ",818,"Franklin County",544157.88716237526,0.1797086051770071,538220.81605650799,{"$f":"IF(K244>0, K242/K244, 0)","v":0.17698937298790407},null,{"$f":"ROUND(M244*L242,0)","v":309259},297443,{"$f":"N242-O242","v":11816},3.9725258284780613,24.000000002460002,23.000000002709999,47,818,233,23.000000002709999,538220.81605650799,233,47,818,233,23.000000002709999,538220.81605650799]
["00470998","0047","0998",234,47,"",998,"",0,0,0,{"$f":"IF(K244>0, K243/K244, 0)","v":0},null,{"$f":"ROUND(M244*L243,0)","v":0},0,{"$f":"N243-O243","v":0},0,0,0,47,998,234,0,0,234,47,998,234,0,0]
["00470999","0047","0999",235,47,"Buckland                     ",999,"Total",3028001.2836691798,1,{"$f":"SUM(K240:K243)","v":3040978.1501022181},{"$f":"SUM(L240:L243)","v":1},{"$f":"VLOOKUP(E244,town351,24)","v":1747329},{"$f":"SUM(N240:N243)","v":1747330},1655138,{"$f":"SUM(P240:P243)","v":92192},5.5700491439384514,180.12648221496002,174.81818181736,47,999,235,174.81818181736,3040978.1501022181,235,47,999,235,174.81818181736,3040978.1501022181]
["00480048","0048","0048",236,48,"Burlington                   ",48,"Burlington",50997674.377630003,0.95442497155092365,{"$f":"X245","v":52951493.562580004},{"$f":"IF(K249>0, K245/K249, 0)","v":0.94566020718100097},null,{"$f":"ROUND(M249*L245,0)","v":42983788},41124446,{"$f":"N245-O245","v":1859342},4.521257259003562,3523,3477,48,48,236,3477,52951493.562580004,236,48,48,236,3477,52951493.562580004]
["00480871","0048","0871",237,48,"Burlington                   ",871,"Shawsheen Valley",2435204.997644186,4.5575028449076349E-2,3042713.6172141219,{"$f":"IF(K249>0, K246/K249, 0)","v":5.4339792818999047E-2},null,{"$f":"ROUND(M249*L246,0)","v":2469946},1963746,{"$f":"N246-O246","v":506200},25.777264473103955,119.00000000189999,143.00000000283001,48,871,237,143.00000000283001,3042713.6172141219,237,48,871,237,143.00000000283001,3042713.6172141219]
["00480998","0048","0998",238,48,"",998,"",0,0,0,{"$f":"IF(K249>0, K247/K249, 0)","v":0},null,{"$f":"ROUND(M249*L247,0)","v":0},0,{"$f":"N247-O247","v":0},0,0,0,48,998,238,0,0,238,48,998,238,0,0]
["00480998","0048","0998",239,48,"",998,"",0,0,0,{"$f":"IF(K249>0, K248/K249, 0)","v":0},null,{"$f":"ROUND(M249*L248,0)","v":0},0,{"$f":"N248-O248","v":0},0,0,0,48,998,239,0,0,239,48,998,239,0,0]
["00480999","0048","0999",240,48,"Burlington                   ",999,"Total",53432879.375274189,1,{"$f":"SUM(K245:K248)","v":55994207.179794125},{"$f":"SUM(L245:L248)","v":1},{"$f":"VLOOKUP(E249,town351,24)","v":45453734},{"$f":"SUM(N245:N248)","v":45453734},43088192,{"$f":"SUM(P245:P248)","v":2365542},5.4900006015569183,3642.0000000018999,3620.0000000028299,48,999,240,3620.0000000028299,55994207.179794125,240,48,999,240,3620.0000000028299,55994207.179794125]
["00490049","0049","0049",241,49,"Cambridge                    ",49,"Cambridge",129510666.66434997,1,{"$f":"X250","v":130485995.78392002},{"$f":"IF(K254>0, K250/K254, 0)","v":1},null,{"$f":"ROUND(M254*L250,0)","v":107650947},106846300,{"$f":"N250-O250","v":804647},0.7530883147100087,7446,7397,49,49,241,7397,130485995.78392002,241,49,49,241,7397,130485995.78392002]
["00490998","0049","0998",242,49,"",998,"",0,0,0,{"$f":"IF(K254>0, K251/K254, 0)","v":0},null,{"$f":"ROUND(M254*L251,0)","v":0},0,{"$f":"N251-O251","v":0},0,0,0,49,998,242,0,0,242,49,998,242,0,0]
["00490998","0049","0998",243,49,"",998,"",0,0,0,{"$f":"IF(K254>0, K252/K254, 0)","v":0},null,{"$f":"ROUND(M254*L252,0)","v":0},0,{"$f":"N252-O252","v":0},0,0,0,49,998,243,0,0,243,49,998,243,0,0]
["00490998","0049","0998",244,49,"",998,"",0,0,0,{"$f":"IF(K254>0, K253/K254, 0)","v":0},null,{"$f":"ROUND(M254*L253,0)","v":0},0,{"$f":"N253-O253","v":0},0,0,0,49,998,244,0,0,244,49,998,244,0,0]
["00490999","0049","0999",245,49,"Cambridge                    ",999,"Total",129510666.66434997,1,{"$f":"SUM(K250:K253)","v":130485995.78392002},{"$f":"SUM(L250:L253)","v":1},{"$f":"VLOOKUP(E254,town351,24)","v":107650947},{"$f":"SUM(N250:N253)","v":107650947},106846300,{"$f":"SUM(P250:P253)","v":804647},0.7530883147100087,7446,7397,49,999,245,7397,130485995.78392002,245,49,999,245,7397,130485995.78392002]
["00500050","0050","0050",246,50,"Canton                       ",50,"Canton",47358582.59928,0.95381428488338682,{"$f":"X255","v":49640688.383860007},{"$f":"IF(K259>0, K255/K259, 0)","v":0.95353054402271564},null,{"$f":"ROUND(M259*L255,0)","v":39968834},38091394,{"$f":"N255-O255","v":1877440},4.9287773506005061,3301,3324,50,50,246,3324,49640688.383860007,246,50,50,246,3324,49640688.383860007]
["00500806","0050","0806",247,50,"Canton                       ",806,"Blue Hills",2042589.6184203818,4.1138291082079094E-2,2187931.422725318,{"$f":"IF(K259>0, K256/K259, 0)","v":4.2027206062557047E-2},null,{"$f":"ROUND(M259*L256,0)","v":1761641},1642893,{"$f":"N256-O256","v":118748},7.22798137188484,89.999999998999996,91.098591553199995,50,806,247,91.098591553199995,2187931.422725318,247,50,806,247,91.098591553199995,2187931.422725318]
["00500915","0050","0915",248,50,"Canton                       ",915,"Norfolk County",250613.61718050839,5.0474240345339139E-3,231263.01000270396,{"$f":"IF(K259>0, K257/K259, 0)","v":4.4422499147273491E-3},null,{"$f":"ROUND(M259*L257,0)","v":186204},201573,{"$f":"N257-O257","v":-15369},-7.6245330475807771,11.00000000078,9.9999999989999999,50,915,248,9.9999999989999999,231263.01000270396,248,50,915,248,9.9999999989999999,231263.01000270396]
["00500998","0050","0998",249,50,"",998,"",0,0,0,{"$f":"IF(K259>0, K258/K259, 0)","v":0},null,{"$f":"ROUND(M259*L258,0)","v":0},0,{"$f":"N258-O258","v":0},0,0,0,50,998,249,0,0,249,50,998,249,0,0]
["00500999","0050","0999",250,50,"Canton                       ",999,"Total",49651785.834880896,0.99999999999999989,{"$f":"SUM(K255:K258)","v":52059882.816588029},{"$f":"SUM(L255:L258)","v":1},{"$f":"VLOOKUP(E259,town351,24)","v":41916679},{"$f":"SUM(N255:N258)","v":41916679},39935860,{"$f":"SUM(P255:P258)","v":1980819},4.960000861381225,3401.9999999997799,3425.0985915522001,50,999,250,3425.0985915522001,52059882.816588029,250,50,999,250,3425.0985915522001,52059882.816588029]
["00510051","0051","0051",251,51,"Carlisle                     ",51,"Carlisle",7237676.1200499991,0.63364801215663502,{"$f":"X260","v":7493326.1847400004},{"$f":"IF(K264>0, K260/K264, 0)","v":0.62303063807550563},null,{"$f":"ROUND(M264*L260,0)","v":6103524},5971083,{"$f":"N260-O260","v":132441},2.2180398430234516,576,571,51,51,251,571,7493326.1847400004,251,51,51,251,571,7493326.1847400004]
["00510640","0051","0640",252,51,"Carlisle                     ",640,"Concord Carlisle",4184558.276956012,0.36635198784336503,4533893.2275930997,{"$f":"IF(K264>0, K261/K264, 0)","v":0.37696936192449426},null,{"$f":"ROUND(M264*L261,0)","v":3692983},3452260,{"$f":"N261-O261","v":240723},6.9729104992092132,289.0136986352,300.20707964016003,51,640,252,300.20707964016003,4533893.2275930997,252,51,640,252,300.20707964016003,4533893.2275930997]
["00510830","0051","0830",253,51,null,998,null,0,0,0,{"$f":"IF(K264>0, K262/K264, 0)","v":0},null,{"$f":"ROUND(M264*L262,0)","v":0},0,{"$f":"N262-O262","v":0},0,0,0,51,998,253,0,0,253,51,998,253,0,0]
["00510998","0051","0998",254,51,"",998,"",0,0,0,{"$f":"IF(K264>0, K263/K264, 0)","v":0},null,{"$f":"ROUND(M264*L263,0)","v":0},0,{"$f":"N263-O263","v":0},0,0,0,51,998,254,0,0,254,51,998,254,0,0]
["00510999","0051","0999",255,51,"Carlisle                     ",999,"Total",11422234.397006011,1,{"$f":"SUM(K260:K263)","v":12027219.412333101},{"$f":"SUM(L260:L263)","v":0.99999999999999989},{"$f":"VLOOKUP(E264,town351,24)","v":9796507},{"$f":"SUM(N260:N263)","v":9796507},9423343,{"$f":"SUM(P260:P263)","v":373164},3.9599959377473577,865.01369863519994,871.20707964016003,51,999,255,871.20707964016003,12027219.412333101,255,51,999,255,871.20707964016003,12027219.412333101]
["00520052","0052","0052",256,52,"Carver                       ",52,"Carver",21388080.561930001,0.91985743972797263,{"$f":"X265","v":21694607.700759999},{"$f":"IF(K269>0, K265/K269, 0)","v":0.91324468783789714},null,{"$f":"ROUND(M269*L265,0)","v":12833218},11861024,{"$f":"N265-O265","v":972194},8.1965435699312295,1467,1424,52,52,256,1424,21694607.700759999,256,52,52,256,1424,21694607.700759999]
[{"$f":"B266&C266","v":"00520855"},"0052","0855",257,52,"Carver                       ",855,"Old Colony",1863436.0733597574,8.0142560272027416E-2,2060918.0522798458,{"$f":"IF(K269>0, K266/K269, 0)","v":8.6755312162102888E-2},null,{"$f":"ROUND(M269*L266,0)","v":1219115},1033391,{"$f":"N266-O266","v":185724},17.972287352996108,91.999999998349992,98.000000002359997,{"$f":"VLOOKUP($D266, foundoptions, VLOOKUP($T$6, foundoptcell, 2, FALSE), FALSE)","v":52},{"$f":"VLOOKUP($D266, foundoptions, VLOOKUP($T$6, foundoptcell, 2, FALSE)+1, FALSE)","v":855},{"$f":"VLOOKUP($D266, foundoptions, VLOOKUP($T$6, foundoptcell, 2, FALSE)+2, FALSE)","v":257},{"$f":"VLOOKUP($D266, foundoptions, VLOOKUP($T$6, foundoptcell, 2, FALSE)+3, FALSE)","v":98.000000002359997},{"$f":"VLOOKUP($D266, foundoptions, VLOOKUP($T$6, foundoptcell, 2, FALSE)+4, FALSE)","v":2060918.0522798458},257,52,855,257,98.000000002359997,2060918.0522798458]
["00520998","0052","0998",258,52,"",998,"",0,0,0,{"$f":"IF(K269>0, K267/K269, 0)","v":0},null,{"$f":"ROUND(M269*L267,0)","v":0},0,{"$f":"N267-O267","v":0},0,0,{"$f":"W267","v":0},52,998,258,0,0,{"$f":"D267","v":258},52,998,258,0,0]
["00520998","0052","0998",259,52,"",998,"",0,0,0,{"$f":"IF(K269>0, K268/K269, 0)","v":0},null,{"$f":"ROUND(M269*L268,0)","v":0},0,{"$f":"N268-O268","v":0},0,0,0,52,998,259,0,0,259,52,998,259,0,0]
["00520999","0052","0999",260,52,"Carver                       ",999,"Total",23251516.635289758,1,{"$f":"SUM(K265:K268)","v":23755525.753039844},{"$f":"SUM(L265:L268)","v":1},{"$f":"VLOOKUP(E269,town351,24)","v":14052333},{"$f":"SUM(N265:N268)","v":14052333},12894415,{"$f":"SUM(P265:P268)","v":1157918},8.979996378276951,1558.9999999983499,1522.0000000023599,52,999,260,1522.0000000023599,23755525.753039844,260,52,999,260,1522.0000000023599,23755525.753039844]
["00530053","0053","0053",261,53,"Charlemont                   ",53,"Charlemont",240365.82,0.12018649328521576,{"$f":"X270","v":303950},{"$f":"IF(K274>0, K270/K274, 0)","v":0.15382428984752264},null,{"$f":"ROUND(M274*L270,0)","v":183419},133498,{"$f":"N270-O270","v":49921},37.394567708879535,12,15,53,53,261,15,303950,261,53,53,261,15,303950]
["00530685","0053","0685",262,53,"Charlemont                   ",685,"Hawlemont",1130753.4381598779,0.56539357593619921,1153047.3190272728,{"$f":"IF(K274>0, K271/K274, 0)","v":0.58353901960835697},null,{"$f":"ROUND(M274*L271,0)","v":695808},628013,{"$f":"N271-O271","v":67795},10.79515869894413,74.25287356314999,69.365853658709995,53,685,262,69.365853658709995,1153047.3190272728,262,53,685,262,69.365853658709995,1153047.3190272728]
["00530717","0053","0717",263,53,"Charlemont                   ",717,"Mohawk Trail",628821.11308953934,0.31441993077858499,518958.49589174014,{"$f":"IF(K274>0, K272/K274, 0)","v":0.26263669054412048},null,{"$f":"ROUND(M274*L272,0)","v":313166},349243,{"$f":"N272-O272","v":-36077},{"$f":"IF(O272>0,P272*100/O272,IF(P272>0,100,0))","v":-10.330056722683061},39.525691702499998,31.500000002100002,53,717,263,31.500000002100002,518958.49589174014,263,53,717,263,31.500000002100002,518958.49589174014]
["00530998","0053","0998",264,53,"",998,"",0,0,0,{"$f":"IF(K274>0, K273/K274, 0)","v":0},null,{"$f":"ROUND(M274*L273,0)","v":0},0,{"$f":"N273-O273","v":0},{"$f":"IF(O273>0,P273*100/O273,IF(P273>0,100,0))","v":0},0,0,53,998,264,0,0,264,53,998,264,0,0]
["00530999","0053","0999",265,53,"Charlemont                   ",999,"Total",1999940.3712494173,1,{"$f":"SUM(K270:K273)","v":1975955.8149190128},{"$f":"SUM(L270:L273)","v":1},{"$f":"VLOOKUP(E274,town351,24)","v":1192393},{"$f":"SUM(N270:N273)","v":1192393},1110754,{"$f":"SUM(P270:P273)","v":81639},{"$f":"IF(O274>0,P274*100/O274,IF(P274>0,100,0))","v":7.3498722489408097},125.77856526564999,115.86585366080999,53,999,265,115.86585366080999,1975955.8149190128,265,53,999,265,115.86585366080999,1975955.8149190128]
["00540054","0054","0054",266,54,"Charlton                     ",54,"Charlton",0,0,{"$f":"X275","v":0},{"$f":"IF(K279>0, K275/K279, 0)","v":0},null,{"$f":"ROUND(M279*L275,0)","v":0},0,{"$f":"N275-O275","v":0},0,0,0,54,54,266,0,0,266,54,54,266,0,0]
["00540658","0054","0658",267,54,"Charlton                     ",658,"Dudley Charlton",26011698.330013633,0.87092866251582457,26987451.682943869,{"$f":"IF(K279>0, K276/K279, 0)","v":0.87833789766604642},null,{"$f":"ROUND(M279*L276,0)","v":17196924},15494647,{"$f":"N276-O276","v":1702277},10.986226404512475,1759.1344410915999,1745.5568495187499,54,658,267,1745.5568495187499,26987451.682943869,267,54,658,267,1745.5568495187499,26987451.682943869]
["00540876","0054","0876",268,54,"Charlton                     ",876,"Southern Worcester",3854925.0222072578,0.12907133748417546,3738140.0906275241,{"$f":"IF(K279>0, K277/K279, 0)","v":0.12166210233395354},null,{"$f":"ROUND(M279*L277,0)","v":2382015},2296302,{"$f":"N277-O277","v":85713},3.7326536317958179,182.00000000183999,168.99999999767002,54,876,268,168.99999999767002,3738140.0906275241,268,54,876,268,168.99999999767002,3738140.0906275241]
["00540998","0054","0998",269,54,"",998,"",0,0,0,{"$f":"IF(K279>0, K278/K279, 0)","v":0},null,{"$f":"ROUND(M279*L278,0)","v":0},0,{"$f":"N278-O278","v":0},0,0,0,54,998,269,0,0,269,54,998,269,0,0]
["00540999","0054","0999",270,54,"Charlton                     ",999,"Total",29866623.352220889,1,{"$f":"SUM(K275:K278)","v":30725591.773571394},{"$f":"SUM(L275:L278)","v":1},{"$f":"VLOOKUP(E279,town351,24)","v":19578939},{"$f":"SUM(N275:N278)","v":19578939},17790949,{"$f":"SUM(P275:P278)","v":1787990},10.049997894997057,1941.1344410934398,1914.55684951642,54,999,270,1914.55684951642,30725591.773571394,270,54,999,270,1914.55684951642,30725591.773571394]
["00550055","0055","0055",271,55,"Chatham                      ",55,"Chatham",0,0,{"$f":"X280","v":0},{"$f":"IF(K284>0, K280/K284, 0)","v":0},null,{"$f":"ROUND(M284*L280,0)","v":0},0,{"$f":"N280-O280","v":0},0,0,0,55,55,271,0,0,271,55,55,271,0,0]
["00550712","0055","0712",272,55,"Chatham                      ",712,"Monomoy",5793949.1652733264,0.92968467234808994,5482159.8411227893,{"$f":"IF(K284>0, K281/K284, 0)","v":0.92768986034702661},null,{"$f":"ROUND(M284*L281,0)","v":4522782},4780008,{"$f":"N281-O281","v":-257226},-5.3812880647898496,369.72154222011,341.04427083837999,55,712,272,341.04427083837999,5482159.8411227893,272,55,712,272,341.04427083837999,5482159.8411227893]
["00550815","0055","0815",273,55,"Chatham                      ",815,"Cape Cod",438216.79121129628,7.0315327651910162E-2,427314.94722085411,{"$f":"IF(K284>0, K282/K284, 0)","v":7.2310139652973365E-2},null,{"$f":"ROUND(M284*L282,0)","v":352535},361529,{"$f":"N282-O282","v":-8994},-2.4877672330573759,19.999999998650001,18.9999999998,55,815,273,18.9999999998,427314.94722085411,273,55,815,273,18.9999999998,427314.94722085411]
["00550998","0055","0998",274,55,"",998,"",0,0,0,{"$f":"IF(K284>0, K283/K284, 0)","v":0},null,{"$f":"ROUND(M284*L283,0)","v":0},0,{"$f":"N283-O283","v":0},0,0,0,55,998,274,0,0,274,55,998,274,0,0]
["00550999","0055","0999",275,55,"Chatham                      ",999,"Total",6232165.9564846223,1,{"$f":"SUM(K280:K283)","v":5909474.7883436438},{"$f":"SUM(L280:L283)","v":1},{"$f":"VLOOKUP(E284,town351,24)","v":4875317},{"$f":"SUM(N280:N283)","v":4875317},5141537,{"$f":"SUM(P280:P283)","v":-266220},-5.1778291199693784,389.72154221876002,360.04427083818001,55,999,275,360.04427083818001,5909474.7883436438,275,55,999,275,360.04427083818001,5909474.7883436438]
["00560056","0056","0056",276,56,"Chelmsford                   ",56,"Chelmsford",68619087.450000003,0.939534110903261,{"$f":"X285","v":72340954.5},{"$f":"IF(K289>0, K285/K289, 0)","v":0.93839784987024721},null,{"$f":"ROUND(M289*L285,0)","v":57928714},55152965,{"$f":"N285-O285","v":2775749},5.0328191784430807,5132,5175,56,56,276,5175,72340954.5,276,56,56,276,5175,72340954.5]
["00560852","0056","0852",277,56,"Chelmsford                   ",852,"Nashoba Valley",4416139.9607750252,6.0465889096738855E-2,4748900.8422758058,{"$f":"IF(K289>0, K286/K289, 0)","v":6.1602150129752876E-2},null,{"$f":"ROUND(M289*L286,0)","v":3802794},3549496,{"$f":"N286-O286","v":253298},7.1361680644237939,210.0000000018,216.00000000039998,56,852,277,216.00000000039998,4748900.8422758058,277,56,852,277,216.00000000039998,4748900.8422758058]
["00560998","0056","0998",278,56,"",998,"",0,0,0,{"$f":"IF(K289>0, K287/K289, 0)","v":0},null,{"$f":"ROUND(M289*L287,0)","v":0},0,{"$f":"N287-O287","v":0},0,0,0,56,998,278,0,0,278,56,998,278,0,0]
["00560998","0056","0998",279,56,"",998,"",0,0,0,{"$f":"IF(K289>0, K288/K289, 0)","v":0},null,{"$f":"ROUND(M289*L288,0)","v":0},0,{"$f":"N288-O288","v":0},0,0,0,56,998,279,0,0,279,56,998,279,0,0]
["00560999","0056","0999",280,56,"Chelmsford                   ",999,"Total",73035227.410775036,0.99999999999999989,{"$f":"SUM(K285:K288)","v":77089855.342275798},{"$f":"SUM(L285:L288)","v":1},{"$f":"VLOOKUP(E289,town351,24)","v":61731508},{"$f":"SUM(N285:N288)","v":61731508},58702461,{"$f":"SUM(P285:P288)","v":3029047},5.1600000211234756,5342.0000000017999,5391.0000000004002,56,999,280,5391.0000000004002,77089855.342275798,280,56,999,280,5391.0000000004002,77089855.342275798]
["00570057","0057","0057",281,57,"Chelsea                      ",57,"Chelsea",155824471.33182999,0.96140489451981481,{"$f":"X290","v":158213129.28880003},{"$f":"IF(K294>0, K290/K294, 0)","v":0.96194689482868934},null,{"$f":"ROUND(M294*L290,0)","v":26862562},25069966,{"$f":"N290-O290","v":1792596},7.1503726810000456,7029,6708,57,57,281,6708,158213129.28880003,281,57,57,281,6708,158213129.28880003]
["00570853","0057","0853",282,57,"Chelsea                      ",853,"Northeast Metropolitan",6255493.3324422846,3.8595105480185236E-2,6258662.3863275237,{"$f":"IF(K294>0, K291/K294, 0)","v":3.8053105171310643E-2},null,{"$f":"ROUND(M294*L291,0)","v":1062641},1006421,{"$f":"N291-O291","v":56220},5.586131449959808,252.99999999949,241.9999999968,57,853,282,241.9999999968,6258662.3863275237,282,57,853,282,241.9999999968,6258662.3863275237]
["00570998","0057","0998",283,57,"",998,"",0,0,0,{"$f":"IF(K294>0, K292/K294, 0)","v":0},null,{"$f":"ROUND(M294*L292,0)","v":0},0,{"$f":"N292-O292","v":0},0,0,0,57,998,283,0,0,283,57,998,283,0,0]
["00570998","0057","0998",284,57,"",998,"",0,0,0,{"$f":"IF(K294>0, K293/K294, 0)","v":0},null,{"$f":"ROUND(M294*L293,0)","v":0},0,{"$f":"N293-O293","v":0},0,0,0,57,998,284,0,0,284,57,998,284,0,0]
["00570999","0057","0999",285,57,"Chelsea                      ",999,"Total",162079964.66427228,1,{"$f":"SUM(K290:K293)","v":164471791.67512757},{"$f":"SUM(L290:L293)","v":1},{"$f":"VLOOKUP(E294,town351,24)","v":27925203},{"$f":"SUM(N290:N293)","v":27925203},26076387,{"$f":"SUM(P290:P293)","v":1848816},7.0900006201012431,7281.9999999994898,6949.9999999968004,57,999,285,6949.9999999968004,164471791.67512757,285,57,999,285,6949.9999999968004,164471791.67512757]
["00580058","0058","0058",286,58,"Cheshire                     ",58,"Cheshire",17354.29,2.8769364414844645E-3,{"$f":"X295","v":0},{"$f":"IF(K299>0, K295/K299, 0)","v":0},null,{"$f":"ROUND(M299*L295,0)","v":0},8633,{"$f":"N295-O295","v":-8633},-100,1,0,58,58,286,0,0,286,58,58,286,0,0]
["00580603","0058","0603",287,58,"Cheshire                     ",603,"Hoosac Valley",4944386.1579157282,0.81966388244515442,5382876.3900538282,{"$f":"IF(K299>0, K296/K299, 0)","v":0.82883378208284653},null,{"$f":"ROUND(M299*L296,0)","v":2604870},2459706,{"$f":"N296-O296","v":145164},5.9016809325992616,297.64182896200003,305.72727273033001,58,603,287,305.72727273033001,5382876.3900538282,287,58,603,287,305.72727273033001,5382876.3900538282]
["00580851","0058","0851",288,58,"Cheshire                     ",851,"Northern Berkshire",1070471.3694038773,0.17745918111336115,1111642.1810000001,{"$f":"IF(K299>0, K297/K299, 0)","v":0.17116621791715353},null,{"$f":"ROUND(M299*L297,0)","v":537944},532532,{"$f":"N297-O297","v":5412},1.0162769561265801,47.000000000520004,47,58,851,288,47,1111642.1810000001,288,58,851,288,47,1111642.1810000001]
["00580998","0058","0998",289,58,"",998,"",0,0,0,{"$f":"IF(K299>0, K298/K299, 0)","v":0},null,{"$f":"ROUND(M299*L298,0)","v":0},0,{"$f":"N298-O298","v":0},0,0,0,58,998,289,0,0,289,58,998,289,0,0]
["00580999","0058","0999",290,58,"Cheshire                     ",999,"Total",6032211.8173196055,1,{"$f":"SUM(K295:K298)","v":6494518.5710538281},{"$f":"SUM(L295:L298)","v":1},{"$f":"VLOOKUP(E299,town351,24)","v":3142814},{"$f":"SUM(N295:N298)","v":3142814},3000871,{"$f":"SUM(P295:P298)","v":141943},4.7300600392352754,345.64182896252004,352.72727273033001,58,999,290,352.72727273033001,6494518.5710538281,290,58,999,290,352.72727273033001,6494518.5710538281]
["00590059","0059","0059",291,59,"Chester                      ",59,"Chester",156188.61000000002,7.3170330646359791E-2,{"$f":"X300","v":231762.16},{"$f":"IF(K304>0, K300/K304, 0)","v":0.10544532527733294},null,{"$f":"ROUND(M304*L300,0)","v":116039},76907,{"$f":"N300-O300","v":39132},50.88223438698688,9,11,59,59,291,11,231762.16,291,59,59,291,11,231762.16]
["00590672","0059","0672",292,59,"Chester                      ",672,"Gateway",1978400.7600395677,0.9268296693536402,1966174.6322706835,{"$f":"IF(K304>0, K301/K304, 0)","v":0.89455467472266703},null,{"$f":"ROUND(M304*L301,0)","v":984431},974162,{"$f":"N301-O301","v":10269},1.0541367862840061,124.33333333581999,117.6428571444,59,672,292,117.6428571444,1966174.6322706835,292,59,672,292,117.6428571444,1966174.6322706835]
["00590998","0059","0998",293,59,"",998,"",0,0,0,{"$f":"IF(K304>0, K302/K304, 0)","v":0},null,{"$f":"ROUND(M304*L302,0)","v":0},0,{"$f":"N302-O302","v":0},0,0,0,59,998,293,0,0,293,59,998,293,0,0]
["00590998","0059","0998",294,59,"",998,"",0,0,0,{"$f":"IF(K304>0, K303/K304, 0)","v":0},null,{"$f":"ROUND(M304*L303,0)","v":0},0,{"$f":"N303-O303","v":0},0,0,0,59,998,294,0,0,294,59,998,294,0,0]
["00590999","0059","0999",295,59,"Chester                      ",999,"Total",2134589.3700395678,1,{"$f":"SUM(K300:K303)","v":2197936.7922706837},{"$f":"SUM(L300:L303)","v":1},{"$f":"VLOOKUP(E304,town351,24)","v":1100470},{"$f":"SUM(N300:N303)","v":1100470},1051069,{"$f":"SUM(P300:P303)","v":49401},4.7000720219129288,133.33333333581999,128.64285714440001,59,999,295,128.64285714440001,2197936.7922706837,295,59,999,295,128.64285714440001,2197936.7922706837]
["00600060","0060","0060",296,60,"Chesterfield                 ",60,"Chesterfield",292428.69,0.19853390618967259,{"$f":"X305","v":108281.76},{"$f":"IF(K309>0, K305/K309, 0)","v":7.1794558279236101E-2},null,{"$f":"ROUND(M309*L305,0)","v":86457},227046,{"$f":"N305-O305","v":-140589},-61.920932322084511,15,6,60,60,296,6,108281.76,296,60,60,296,6,108281.76]
["00600632","0060","0632",297,60,"Chesterfield                 ",632,"Chesterfield Goshen",822073.48924414918,0.55811712932344204,913862.75388549641,{"$f":"IF(K309>0, K306/K309, 0)","v":0.6059226664126578},null,{"$f":"ROUND(M309*L306,0)","v":729668},638271,{"$f":"N306-O306","v":91397},14.319466182859632,56.90566037728,63.318965517670001,60,632,297,63.318965517670001,913862.75388549641,297,60,632,297,63.318965517670001,913862.75388549641]
["00600683","0060","0683",298,60,"Chesterfield                 ",683,"Hampshire",358438.61768261588,0.24334896448688526,486072.30080471188,{"$f":"IF(K309>0, K307/K309, 0)","v":0.32228277530810606},null,{"$f":"ROUND(M309*L307,0)","v":388101},278298,{"$f":"N307-O307","v":109803},39.455188323308107,25.086505192799997,32.999999998349999,60,683,298,32.999999998349999,486072.30080471188,298,60,683,298,32.999999998349999,486072.30080471188]
["00600998","0060","0998",299,60,"",998,"",0,0,0,{"$f":"IF(K309>0, K308/K309, 0)","v":0},null,{"$f":"ROUND(M309*L308,0)","v":0},0,{"$f":"N308-O308","v":0},0,0,0,60,998,299,0,0,299,60,998,299,0,0]
["00600999","0060","0999",300,60,"Chesterfield                 ",999,"Total",1472940.7969267652,0.99999999999999989,{"$f":"SUM(K305:K308)","v":1508216.8146902083},{"$f":"SUM(L305:L308)","v":1},{"$f":"VLOOKUP(E309,town351,24)","v":1204226},{"$f":"SUM(N305:N308)","v":1204226},1143615,{"$f":"SUM(P305:P308)","v":60611},5.2999479720010667,96.992165570080004,102.31896551602,60,999,300,102.31896551602,1508216.8146902083,300,60,999,300,102.31896551602,1508216.8146902083]
["00610061","0061","0061",301,61,"Chicopee                     ",61,"Chicopee",136705068.66,1,{"$f":"X310","v":136875016.69},{"$f":"IF(K314>0, K310/K314, 0)","v":1},null,{"$f":"ROUND(M314*L310,0)","v":38338156},36463911,{"$f":"N310-O310","v":1874245},5.1399999303420856,7198,7057,61,61,301,7057,136875016.69,301,61,61,301,7057,136875016.69]
["00610998","0061","0998",302,61,"",998,"",0,0,0,{"$f":"IF(K314>0, K311/K314, 0)","v":0},null,{"$f":"ROUND(M314*L311,0)","v":0},0,{"$f":"N311-O311","v":0},0,0,0,61,998,302,0,0,302,61,998,302,0,0]
["00610998","0061","0998",303,61,"",998,"",0,0,0,{"$f":"IF(K314>0, K312/K314, 0)","v":0},null,{"$f":"ROUND(M314*L312,0)","v":0},0,{"$f":"N312-O312","v":0},0,0,0,61,998,303,0,0,303,61,998,303,0,0]
["00610998","0061","0998",304,61,"",998,"",0,0,0,{"$f":"IF(K314>0, K313/K314, 0)","v":0},null,{"$f":"ROUND(M314*L313,0)","v":0},0,{"$f":"N313-O313","v":0},0,0,0,61,998,304,0,0,304,61,998,304,0,0]
["00610999","0061","0999",305,61,"Chicopee                     ",999,"Total",136705068.66,1,{"$f":"SUM(K310:K313)","v":136875016.69},{"$f":"SUM(L310:L313)","v":1},{"$f":"VLOOKUP(E314,town351,24)","v":38338156},{"$f":"SUM(N310:N313)","v":38338156},36463911,{"$f":"SUM(P310:P313)","v":1874245},5.1399999303420856,7198,7057,61,999,305,7057,136875016.69,305,61,999,305,7057,136875016.69]
["00620062","0062","0062",306,62,"Chilmark                     ",62,"Chilmark",0,0,{"$f":"X315","v":0},{"$f":"IF(K319>0, K315/K319, 0)","v":0},null,{"$f":"ROUND(M319*L315,0)","v":0},0,{"$f":"N315-O315","v":0},0,0,0,62,62,306,0,0,306,62,62,306,0,0]
["00620700","0062","0700",307,62,"Chilmark                     ",700,"Marthas Vineyard",628904.85505530494,0.38941603350859438,624508.37363747822,{"$f":"IF(K319>0, K316/K319, 0)","v":0.37682082708900483},null,{"$f":"ROUND(M319*L316,0)","v":515220},518847,{"$f":"N316-O316","v":-3627},-0.69905000896217961,32.999999996600003,32.000000000989999,62,700,307,32.000000000989999,624508.37363747822,307,62,700,307,32.000000000989999,624508.37363747822]
["00620774","0062","0774",308,62,"Chilmark                     ",774,"Upisland",986089.90874253691,0.61058396649140556,1032800.1633186539,{"$f":"IF(K319>0, K317/K319, 0)","v":0.62317917291099523},null,{"$f":"ROUND(M319*L317,0)","v":852060},813524,{"$f":"N317-O317","v":38536},4.7369223280444093,70.812664908300007,70.818877551179995,62,774,308,70.818877551179995,1032800.1633186539,308,62,774,308,70.818877551179995,1032800.1633186539]
["00620998","0062","0998",309,62,"",998,"",0,0,0,{"$f":"IF(K319>0, K318/K319, 0)","v":0},null,{"$f":"ROUND(M319*L318,0)","v":0},0,{"$f":"N318-O318","v":0},0,0,0,62,998,309,0,0,309,62,998,309,0,0]
["00620999","0062","0999",310,62,"Chilmark                     ",999,"Total",1614994.763797842,1,{"$f":"SUM(K315:K318)","v":1657308.5369561322},{"$f":"SUM(L315:L318)","v":1},{"$f":"VLOOKUP(E319,town351,24)","v":1367280},{"$f":"SUM(N315:N318)","v":1367280},1332371,{"$f":"SUM(P315:P318)","v":34909},2.6200660326590719,103.8126649049,102.81887755216999,62,999,310,102.81887755216999,1657308.5369561322,310,62,999,310,102.81887755216999,1657308.5369561322]
["00630063","0063","0063",311,63,"Clarksburg                   ",63,"Clarksburg",2998078.92,0.68333620912263304,{"$f":"X320","v":3011061.5099999993},{"$f":"IF(K324>0, K320/K324, 0)","v":0.70605697959722546},null,{"$f":"ROUND(M324*L320,0)","v":853595},793818,{"$f":"N320-O320","v":59777},7.530315513127694,201,196,63,63,311,196,3011061.5099999993,311,63,63,311,196,3011061.5099999993]
["00630851","0063","0851",312,63,"Clarksburg                   ",851,"Northern Berkshire",1389335.1815436191,0.3166637908773669,1253553.9488227121,{"$f":"IF(K324>0, K321/K324, 0)","v":0.29394302040277459},null,{"$f":"ROUND(M324*L321,0)","v":355366},367862,{"$f":"N321-O321","v":-12496},-3.3969260211709824,60.999999999660005,53.000000001499998,63,851,312,53.000000001499998,1253553.9488227121,312,63,851,312,53.000000001499998,1253553.9488227121]
["00630998","0063","0998",313,63,"",998,"",0,0,0,{"$f":"IF(K324>0, K322/K324, 0)","v":0},null,{"$f":"ROUND(M324*L322,0)","v":0},0,{"$f":"N322-O322","v":0},0,0,0,63,998,313,0,0,313,63,998,313,0,0]
["00630998","0063","0998",314,63,"",998,"",0,0,0,{"$f":"IF(K324>0, K323/K324, 0)","v":0},null,{"$f":"ROUND(M324*L323,0)","v":0},0,{"$f":"N323-O323","v":0},0,0,0,63,998,314,0,0,314,63,998,314,0,0]
["00630999","0063","0999",315,63,"Clarksburg                   ",999,"Total",4387414.1015436193,1,{"$f":"SUM(K320:K323)","v":4264615.4588227114},{"$f":"SUM(L320:L323)","v":1},{"$f":"VLOOKUP(E324,town351,24)","v":1208961},{"$f":"SUM(N320:N323)","v":1208961},1161680,{"$f":"SUM(P320:P323)","v":47281},4.0700537153088634,261.99999999966002,249.00000000149998,63,999,315,249.00000000149998,4264615.4588227114,315,63,999,315,249.00000000149998,4264615.4588227114]
["00640064","0064","0064",316,64,"Clinton                      ",64,"Clinton",36558782.019999996,1,{"$f":"X325","v":38523372.390000001},{"$f":"IF(K329>0, K325/K329, 0)","v":1},null,{"$f":"ROUND(M329*L325,0)","v":15572690},14710647,{"$f":"N325-O325","v":862043},5.8599937854534883,2129,2137,64,64,316,2137,38523372.390000001,316,64,64,316,2137,38523372.390000001]
["00640998","0064","0998",317,64,"",998,"",0,0,0,{"$f":"IF(K329>0, K326/K329, 0)","v":0},null,{"$f":"ROUND(M329*L326,0)","v":0},0,{"$f":"N326-O326","v":0},0,0,0,64,998,317,0,0,317,64,998,317,0,0]
["00640998","0064","0998",318,64,"",998,"",0,0,0,{"$f":"IF(K329>0, K327/K329, 0)","v":0},null,{"$f":"ROUND(M329*L327,0)","v":0},0,{"$f":"N327-O327","v":0},0,0,0,64,998,318,0,0,318,64,998,318,0,0]
["00640998","0064","0998",319,64,"",998,"",0,0,0,{"$f":"IF(K329>0, K328/K329, 0)","v":0},null,{"$f":"ROUND(M329*L328,0)","v":0},0,{"$f":"N328-O328","v":0},0,0,0,64,998,319,0,0,319,64,998,319,0,0]
["00640999","0064","0999",320,64,"Clinton                      ",999,"Total",36558782.019999996,1,{"$f":"SUM(K325:K328)","v":38523372.390000001},{"$f":"SUM(L325:L328)","v":1},{"$f":"VLOOKUP(E329,town351,24)","v":15572690},{"$f":"SUM(N325:N328)","v":15572690},14710647,{"$f":"SUM(P325:P328)","v":862043},5.8599937854534883,2129,2137,64,999,320,2137,38523372.390000001,320,64,999,320,2137,38523372.390000001]
[{"$f":"B330&C330","v":"00650065"},"0065","0065",321,65,"Cohasset                     ",65,"Cohasset",18191220.125599999,0.98716955441491394,{"$f":"X330","v":18899522.727249999},{"$f":"IF(K334>0, K330/K334, 0)","v":0.98295805519269386},null,{"$f":"ROUND(M334*L330,0)","v":15592106},15007757,{"$f":"N330-O330","v":584349},3.8936464656244101,1408,1396,{"$f":"VLOOKUP($D330, foundoptions, VLOOKUP($T$6, foundoptcell, 2, FALSE), FALSE)","v":65},{"$f":"VLOOKUP($D330, foundoptions, VLOOKUP($T$6, foundoptcell, 2, FALSE)+1, FALSE)","v":65},{"$f":"VLOOKUP($D330, foundoptions, VLOOKUP($T$6, foundoptcell, 2, FALSE)+2, FALSE)","v":321},{"$f":"VLOOKUP($D330, foundoptions, VLOOKUP($T$6, foundoptcell, 2, FALSE)+3, FALSE)","v":1396},{"$f":"VLOOKUP($D330, foundoptions, VLOOKUP($T$6, foundoptcell, 2, FALSE)+4, FALSE)","v":18899522.727249999},321,65,65,321,1396,18899522.727249999]
["00650873","0065","0873",322,65,"Cohasset                     ",873,"South Shore",236435.02669221364,1.283044558508593E-2,327668.73571129661,{"$f":"IF(K334>0, K331/K334, 0)","v":1.7041944807306267E-2},null,{"$f":"ROUND(M334*L331,0)","v":270327},195059,{"$f":"N331-O331","v":75268},38.587299227413247,10.999999999450001,{"$f":"W331","v":14.99999999904},65,873,322,14.99999999904,327668.73571129661,{"$f":"D331","v":322},65,873,322,14.99999999904,327668.73571129661]
["00650915","0065","0915",323,65,"Cohasset                     ",915,"Norfolk County",0,0,0,{"$f":"IF(K334>0, K332/K334, 0)","v":0},null,{"$f":"ROUND(M334*L332,0)","v":0},0,{"$f":"N332-O332","v":0},0,0,0,65,915,323,0,0,323,65,915,323,0,0]
["00650998","0065","0998",324,65,"",998,"",0,0,0,{"$f":"IF(K334>0, K333/K334, 0)","v":0},null,{"$f":"ROUND(M334*L333,0)","v":0},0,{"$f":"N333-O333","v":0},0,0,0,65,998,324,0,0,324,65,998,324,0,0]
["00650999","0065","0999",325,65,"Cohasset                     ",999,"Total",18427655.152292214,0.99999999999999989,{"$f":"SUM(K330:K333)","v":19227191.462961294},{"$f":"SUM(L330:L333)","v":1.0000000000000002},{"$f":"VLOOKUP(E334,town351,24)","v":15862433},{"$f":"SUM(N330:N333)","v":15862433},15202816,{"$f":"SUM(P330:P333)","v":659617},4.3387817099147945,1418.99999999945,1410.99999999904,65,999,325,1410.99999999904,19227191.462961294,325,65,999,325,1410.99999999904,19227191.462961294]
["00660066","0066","0066",326,66,"Colrain                      ",66,"Colrain",0,0,{"$f":"X335","v":18046.96},{"$f":"IF(K339>0, K335/K339, 0)","v":5.772199938964849E-3},null,{"$f":"ROUND(M339*L335,0)","v":9287},0,{"$f":"N335-O335","v":9287},100,0,1,66,66,326,1,18046.96,326,66,66,326,1,18046.96]
["00660717","0066","0717",327,66,"Colrain                      ",717,"Mohawk Trail",2279476.5347258574,0.77612394674167751,2453258.3440834,{"$f":"IF(K339>0, K336/K339, 0)","v":0.78465833935373097},null,{"$f":"ROUND(M339*L336,0)","v":1262391},1190902,{"$f":"N336-O336","v":71489},{"$f":"IF(O336>0,P336*100/O336,IF(P336>0,100,0))","v":6.0029288724009193},143.28063240750001,148.90909091099999,66,717,327,148.90909091099999,2453258.3440834,327,66,717,327,148.90909091099999,2453258.3440834]
["00660818","0066","0818",328,66,"Colrain                      ",818,"Franklin County",657524.11355403753,0.22387605325832252,655225.34122138342,{"$f":"IF(K339>0, K337/K339, 0)","v":0.20956946070730426},null,{"$f":"ROUND(M339*L337,0)","v":337164},343521,{"$f":"N337-O337","v":-6357},{"$f":"IF(O337>0,P337*100/O337,IF(P337>0,100,0))","v":-1.8505418882688394},28.999999998540002,28.000000000529997,66,818,328,28.000000000529997,655225.34122138342,328,66,818,328,28.000000000529997,655225.34122138342]
["00660998","0066","0998",329,66,"",998,"",0,0,0,{"$f":"IF(K339>0, K338/K339, 0)","v":0},null,{"$f":"ROUND(M339*L338,0)","v":0},0,{"$f":"N338-O338","v":0},{"$f":"IF(O338>0,P338*100/O338,IF(P338>0,100,0))","v":0},0,0,66,998,329,0,0,329,66,998,329,0,0]
["00660999","0066","0999",330,66,"Colrain                      ",999,"Total",2937000.6482798951,1,{"$f":"SUM(K335:K338)","v":3126530.6453047832},{"$f":"SUM(L335:L338)","v":1},{"$f":"VLOOKUP(E339,town351,24)","v":1608842},{"$f":"SUM(N335:N338)","v":1608842},1534423,{"$f":"SUM(P335:P338)","v":74419},{"$f":"IF(O339>0,P339*100/O339,IF(P339>0,100,0))","v":4.8499664043096331},172.28063240604001,177.90909091153,66,999,330,177.90909091153,3126530.6453047832,330,66,999,330,177.90909091153,3126530.6453047832]
["00670067","0067","0067",331,67,"Concord                      ",67,"Concord",24461959.490359999,0.62820167699110296,{"$f":"X340","v":24593938.521120001},{"$f":"IF(K344>0, K340/K344, 0)","v":0.6328557010658753},null,{"$f":"ROUND(M344*L340,0)","v":20289999},20181116,{"$f":"N340-O340","v":108883},0.53952913208565867,1892,1837,67,67,331,1837,24593938.521120001,331,67,67,331,1837,24593938.521120001]
["00670640","0067","0640",332,67,"Concord                      ",640,"Concord Carlisle",13653266.78654399,0.35062624869008957,13317324.010316899,{"$f":"IF(K344>0, K341/K344, 0)","v":0.34268380461441883},null,{"$f":"ROUND(M344*L341,0)","v":10986792},11263945,{"$f":"N341-O341","v":-277153},-2.4605322557949281,942.98630136479994,881.79292035984008,67,640,332,881.79292035984008,13317324.010316899,332,67,640,332,881.79292035984008,13317324.010316899]
["00670830","0067","0830",333,67,"Concord                      ",830,"Minuteman",824433.36794991593,2.1172074318807493E-2,950579.87544688932,{"$f":"IF(K344>0, K342/K344, 0)","v":2.4460494319705969E-2},null,{"$f":"ROUND(M344*L342,0)","v":784228},680158,{"$f":"N342-O342","v":104070},15.300856565680327,38.000000003149999,41.999999998419995,67,830,333,41.999999998419995,950579.87544688932,333,67,830,333,41.999999998419995,950579.87544688932]
["00670998","0067","0998",334,67,"",998,"",0,0,0,{"$f":"IF(K344>0, K343/K344, 0)","v":0},null,{"$f":"ROUND(M344*L343,0)","v":0},0,{"$f":"N343-O343","v":0},0,0,0,67,998,334,0,0,334,67,998,334,0,0]
["00670999","0067","0999",335,67,"Concord                      ",999,"Total",38939659.644853905,1,{"$f":"SUM(K340:K343)","v":38861842.406883784},{"$f":"SUM(L340:L343)","v":1},{"$f":"VLOOKUP(E344,town351,24)","v":32061020},{"$f":"SUM(N340:N343)","v":32061019},32125219,{"$f":"SUM(P340:P343)","v":-64200},-0.19984299562284696,2872.9863013679501,2760.7929203582603,67,999,335,2760.7929203582603,38861842.406883784,335,67,999,335,2760.7929203582603,38861842.406883784]
["00680068","0068","0068",336,68,"Conway                       ",68,"Conway",1196505.07,0.50930064942544684,{"$f":"X345","v":1135501.8099999998},{"$f":"IF(K349>0, K345/K349, 0)","v":0.5083357955973109},null,{"$f":"ROUND(M349*L345,0)","v":936789},987117,{"$f":"N345-O345","v":-50328},-5.0984837663620421,83,78,68,68,336,78,1135501.8099999998,336,68,68,336,78,1135501.8099999998]
["00680670","0068","0670",337,68,"Conway                       ",670,"Frontier",971418.89162265917,0.41349116253019141,1004657.8023479682,{"$f":"IF(K349>0, K346/K349, 0)","v":0.44976020184380017},null,{"$f":"ROUND(M349*L346,0)","v":828843},801421,{"$f":"N346-O346","v":27422},3.4216722546576643,67.142250532879999,65.999999997700002,68,670,337,65.999999997700002,1004657.8023479682,337,68,670,337,65.999999997700002,1004657.8023479682]
["00680818","0068","0818",338,68,"Conway                       ",818,"Franklin County",181385.96238745839,7.7208188044361761E-2,93603.620213195129,{"$f":"IF(K349>0, K347/K349, 0)","v":4.1904002558888993E-2},null,{"$f":"ROUND(M349*L347,0)","v":77223},149643,{"$f":"N347-O347","v":-72420},-48.395180529660593,8.0000000008200001,4.0000000017300001,68,818,338,4.0000000017300001,93603.620213195129,338,68,818,338,4.0000000017300001,93603.620213195129]
["00680998","0068","0998",339,68,"",998,"",0,0,0,{"$f":"IF(K349>0, K348/K349, 0)","v":0},null,{"$f":"ROUND(M349*L348,0)","v":0},0,{"$f":"N348-O348","v":0},0,0,0,68,998,339,0,0,339,68,998,339,0,0]
["00680999","0068","0999",340,68,"Conway                       ",999,"Total",2349309.9240101175,1,{"$f":"SUM(K345:K348)","v":2233763.2325611631},{"$f":"SUM(L345:L348)","v":1},{"$f":"VLOOKUP(E349,town351,24)","v":1842855},{"$f":"SUM(N345:N348)","v":1842855},1938181,{"$f":"SUM(P345:P348)","v":-95326},-4.9183229017310559,158.14225053369998,147.99999999943,68,999,340,147.99999999943,2233763.2325611631,340,68,999,340,147.99999999943,2233763.2325611631]
["00690069","0069","0069",341,69,"Cummington                   ",69,"Cummington",86771.45,0.1127195129324826,{"$f":"X350","v":126328.72},{"$f":"IF(K354>0, K350/K354, 0)","v":0.13512865245106606},null,{"$f":"ROUND(M354*L350,0)","v":90358},71586,{"$f":"N350-O350","v":18772},26.223004498086219,5,7,69,69,341,7,126328.72,341,69,69,341,7,126328.72]
["00690635","0069","0635",342,69,"Cummington                   ",635,"Central Berkshire",683028.2744893604,0.8872804870675175,808548.65580856323,{"$f":"IF(K354>0, K351/K354, 0)","v":0.86487134754893402},null,{"$f":"ROUND(M354*L351,0)","v":578323},563499,{"$f":"N351-O351","v":14824},2.6307056445530517,44.171052634719999,50.232558139200002,69,635,342,50.232558139200002,808548.65580856323,342,69,635,342,50.232558139200002,808548.65580856323]
["00690998","0069","0998",343,69,"",998,"",0,0,0,{"$f":"IF(K354>0, K352/K354, 0)","v":0},null,{"$f":"ROUND(M354*L352,0)","v":0},0,{"$f":"N352-O352","v":0},0,0,0,69,998,343,0,0,343,69,998,343,0,0]
["00690998","0069","0998",344,69,"",998,"",0,0,0,{"$f":"IF(K354>0, K353/K354, 0)","v":0},null,{"$f":"ROUND(M354*L353,0)","v":0},0,{"$f":"N353-O353","v":0},0,0,0,69,998,344,0,0,344,69,998,344,0,0]
["00690999","0069","0999",345,69,"Cummington                   ",999,"Total",769799.72448936035,1,{"$f":"SUM(K350:K353)","v":934877.3758085632},{"$f":"SUM(L350:L353)","v":1},{"$f":"VLOOKUP(E354,town351,24)","v":668681},{"$f":"SUM(N350:N353)","v":668681},635085,{"$f":"SUM(P350:P353)","v":33596},5.2900005511073322,49.171052634719999,57.232558139200002,69,999,345,57.232558139200002,934877.3758085632,345,69,999,345,57.232558139200002,934877.3758085632]
["00700070","0070","0070",346,70,"Dalton                       ",70,"Dalton",483325.88,3.4921574545675918E-2,{"$f":"X355","v":643993.91999999993},{"$f":"IF(K359>0, K355/K359, 0)","v":4.6390583920140532E-2},null,{"$f":"ROUND(M359*L355,0)","v":306208},221639,{"$f":"N355-O355","v":84569},38.156190923077617,26,32,70,70,346,32,643993.91999999993,346,70,70,346,32,643993.91999999993]
["00700635","0070","0635",347,70,"Dalton                       ",635,"Central Berkshire",13356997.366817823,0.96507842545432398,13238002.502131887,{"$f":"IF(K359>0, K356/K359, 0)","v":0.9536094160798595},null,{"$f":"ROUND(M359*L356,0)","v":6294439},6125137,{"$f":"N356-O356","v":169302},2.7640524611939292,863.78947368264005,822.43502052479994,70,635,347,822.43502052479994,13238002.502131887,347,70,635,347,822.43502052479994,13238002.502131887]
["00700998","0070","0998",348,70,"",998,"",0,0,0,{"$f":"IF(K359>0, K357/K359, 0)","v":0},null,{"$f":"ROUND(M359*L357,0)","v":0},0,{"$f":"N357-O357","v":0},0,0,0,70,998,348,0,0,348,70,998,348,0,0]
["00700998","0070","0998",349,70,"",998,"",0,0,0,{"$f":"IF(K359>0, K358/K359, 0)","v":0},null,{"$f":"ROUND(M359*L358,0)","v":0},0,{"$f":"N358-O358","v":0},0,0,0,70,998,349,0,0,349,70,998,349,0,0]
["00700999","0070","0999",350,70,"Dalton                       ",999,"Total",13840323.246817823,0.99999999999999989,{"$f":"SUM(K355:K358)","v":13881996.422131887},{"$f":"SUM(L355:L358)","v":1},{"$f":"VLOOKUP(E359,town351,24)","v":6600647},{"$f":"SUM(N355:N358)","v":6600647},6346776,{"$f":"SUM(P355:P358)","v":253871},3.9999993697587564,889.78947368264005,854.43502052479994,70,999,350,854.43502052479994,13881996.422131887,350,70,999,350,854.43502052479994,13881996.422131887]
["00710071","0071","0071",351,71,"Danvers                      ",71,"Danvers",46476053.399999999,0.90342077037686541,{"$f":"X360","v":45833930.899999999},{"$f":"IF(K364>0, K360/K364, 0)","v":0.89786980030150265},null,{"$f":"ROUND(M364*L360,0)","v":37812993},36728197,{"$f":"N360-O360","v":1084796},2.9535781459677968,3313,3197,71,71,351,3197,45833930.899999999,351,71,71,351,3197,45833930.899999999]
["00710817","0071","0817",352,71,"Danvers                      ",817,"Essex North Shore",4968472.6989653129,9.657922962313463E-2,5213482.5274357731,{"$f":"IF(K364>0, K361/K364, 0)","v":0.1021301996984974},null,{"$f":"ROUND(M364*L361,0)","v":4301123},3926388,{"$f":"N361-O361","v":374735},9.5440134800737972,238.00000000519998,236.00000000600002,71,817,352,236.00000000600002,5213482.5274357731,352,71,817,352,236.00000000600002,5213482.5274357731]
["00710998","0071","0998",353,71,"",998,null,0,0,0,{"$f":"IF(K364>0, K362/K364, 0)","v":0},null,{"$f":"ROUND(M364*L362,0)","v":0},0,{"$f":"N362-O362","v":0},0,0,0,71,998,353,0,0,353,71,998,353,0,0]
["00710998","0071","0998",354,71,"",998,"",0,0,0,{"$f":"IF(K364>0, K363/K364, 0)","v":0},null,{"$f":"ROUND(M364*L363,0)","v":0},0,{"$f":"N363-O363","v":0},0,0,0,71,998,354,0,0,354,71,998,354,0,0]
["00710999","0071","0999",355,71,"Danvers                      ",999,"Total",51444526.09896531,1,{"$f":"SUM(K360:K363)","v":51047413.427435771},{"$f":"SUM(L360:L363)","v":1},{"$f":"VLOOKUP(E364,town351,24)","v":42114116},{"$f":"SUM(N360:N363)","v":42114116},40654585,{"$f":"SUM(P360:P363)","v":1459531},3.5900772323712071,3551.0000000052,3433.0000000059999,71,999,355,3433.0000000059999,51047413.427435771,355,71,999,355,3433.0000000059999,51047413.427435771]
["00720072","0072","0072",356,72,"Dartmouth                    ",72,"Dartmouth",45395663.050000004,0.85071659455152759,{"$f":"X365","v":47009657.390000001},{"$f":"IF(K369>0, K365/K369, 0)","v":0.86253596610289762},null,{"$f":"ROUND(M369*L365,0)","v":38782967},37451422,{"$f":"N365-O365","v":1331545},3.5553923693471505,3203,3181,72,72,356,3181,47009657.390000001,356,72,72,356,3181,47009657.390000001]
["00720825","0072","0825",357,72,"Dartmouth                    ",825,"Greater New Bedford",7542913.097265129,0.14135450199363275,7119336.0380701805,{"$f":"IF(K369>0, K366/K369, 0)","v":0.13062599747672909},null,{"$f":"ROUND(M369*L366,0)","v":5873452},6222903,{"$f":"N366-O366","v":-349451},-5.6155623830228434,318.99999999168,283.99999999488,72,825,357,283.99999999488,7119336.0380701805,357,72,825,357,283.99999999488,7119336.0380701805]
["00720910","0072","0910",358,72,"Dartmouth                    ",910,"Bristol County",423099.57499021746,7.9289034548395351E-3,372684.45835885307,{"$f":"IF(K369>0, K367/K369, 0)","v":6.8380364203732488E-3},null,{"$f":"ROUND(M369*L367,0)","v":307465},349057,{"$f":"N367-O367","v":-41592},-11.915532420206443,20.000000001779998,16.999999997530001,72,910,358,16.999999997530001,372684.45835885307,358,72,910,358,16.999999997530001,372684.45835885307]
["00720998","0072","0998",359,72,"",998,"",0,0,0,{"$f":"IF(K369>0, K368/K369, 0)","v":0},null,{"$f":"ROUND(M369*L368,0)","v":0},0,{"$f":"N368-O368","v":0},0,0,0,72,998,359,0,0,359,72,998,359,0,0]
["00720999","0072","0999",360,72,"Dartmouth                    ",999,"Total",53361675.722255357,0.99999999999999989,{"$f":"SUM(K365:K368)","v":54501677.886429034},{"$f":"SUM(L365:L368)","v":1},{"$f":"VLOOKUP(E369,town351,24)","v":44963884},{"$f":"SUM(N365:N368)","v":44963884},44023382,{"$f":"SUM(P365:P368)","v":940502},2.136369259408557,3541.9999999934598,3481.9999999924098,72,999,360,3481.9999999924098,54501677.886429034,360,72,999,360,3481.9999999924098,54501677.886429034]
["00730073","0073","0073",361,73,"Dedham                       ",73,"Dedham",40094755.539070003,0.94386842793052095,{"$f":"X370","v":38674910.382760003},{"$f":"IF(K374>0, K370/K374, 0)","v":0.94395499313214737},null,{"$f":"ROUND(M374*L370,0)","v":31906801},30840581,{"$f":"N370-O370","v":1066220},3.457198163679212,2707,2566,73,73,361,2566,38674910.382760003,361,73,73,361,2566,38674910.382760003]
["00730806","0073","0806",362,73,"Dedham                       ",806,"Blue Hills",2019894.1781927634,4.755021740185017E-2,1995585.803132877,{"$f":"IF(K374>0, K371/K374, 0)","v":4.8707111779905145E-2},null,{"$f":"ROUND(M374*L371,0)","v":1646358},1553687,{"$f":"N371-O371","v":92671},5.9645861746928439,88.999999998000007,83.089924163399999,73,806,362,83.089924163399999,1995585.803132877,362,73,806,362,83.089924163399999,1995585.803132877]
["00730915","0073","0915",363,73,"Dedham                       ",915,"Norfolk County",364528.89768441982,8.5813546676289237E-3,300641.9130035151,{"$f":"IF(K374>0, K372/K374, 0)","v":7.3378950879476124E-3},null,{"$f":"ROUND(M374*L372,0)","v":248030},280393,{"$f":"N372-O372","v":-32363},-11.542014244292831,15.9999999997,12.9999999987,73,915,363,12.9999999987,300641.9130035151,363,73,915,363,12.9999999987,300641.9130035151]
["00730998","0073","0998",364,73,"",998,"",0,0,0,{"$f":"IF(K374>0, K373/K374, 0)","v":0},null,{"$f":"ROUND(M374*L373,0)","v":0},0,{"$f":"N373-O373","v":0},0,0,0,73,998,364,0,0,364,73,998,364,0,0]
["00730999","0073","0999",365,73,"Dedham                       ",999,"Total",42479178.614947185,1,{"$f":"SUM(K370:K373)","v":40971138.098896392},{"$f":"SUM(L370:L373)","v":1.0000000000000002},{"$f":"VLOOKUP(E374,town351,24)","v":33801189},{"$f":"SUM(N370:N373)","v":33801189},32674661,{"$f":"SUM(P370:P373)","v":1126528},3.4477113626366314,2811.9999999976999,2662.0899241621,73,999,365,2662.0899241621,40971138.098896392,365,73,999,365,2662.0899241621,40971138.098896392]
["00740074","0074","0074",366,74,"Deerfield                    ",74,"Deerfield",3493016.6899999995,0.46966245074285001,{"$f":"X375","v":3599915.77},{"$f":"IF(K379>0, K375/K379, 0)","v":0.47769146635317472},null,{"$f":"ROUND(M379*L375,0)","v":2969931},2881739,{"$f":"N375-O375","v":88192},3.0603743087073463,261,254,74,74,366,254,3599915.77,366,74,74,366,254,3599915.77]
["00740670","0074","0670",367,74,"Deerfield                    ",670,"Frontier",3218731.2527536424,0.43278270406743452,3257526.813814634,{"$f":"IF(K379>0, K376/K379, 0)","v":0.43225810263218956},null,{"$f":"ROUND(M379*L376,0)","v":2687460},2655453,{"$f":"N376-O376","v":32007},1.2053310678065099,222.47133758064001,214.00000000179998,74,670,367,214.00000000179998,3257526.813814634,367,74,670,367,214.00000000179998,3257526.813814634]
["00740818","0074","0818",368,74,"Deerfield                    ",818,"Franklin County",725543.84941583464,9.7554845189715439E-2,678626.24630855513,{"$f":"IF(K379>0, K377/K379, 0)","v":9.0050431014635765E-2},null,{"$f":"ROUND(M379*L377,0)","v":559867},598574,{"$f":"N377-O377","v":-38707},-6.4665354659574259,31.999999997369997,29.000000002410001,74,818,368,29.000000002410001,678626.24630855513,368,74,818,368,29.000000002410001,678626.24630855513]
["00740998","0074","0998",369,74,"",998,"",0,0,0,{"$f":"IF(K379>0, K378/K379, 0)","v":0},null,{"$f":"ROUND(M379*L378,0)","v":0},0,{"$f":"N378-O378","v":0},0,0,0,74,998,369,0,0,369,74,998,369,0,0]
["00740999","0074","0999",370,74,"Deerfield                    ",999,"Total",7437291.7921694769,1,{"$f":"SUM(K375:K378)","v":7536068.8301231889},{"$f":"SUM(L375:L378)","v":1},{"$f":"VLOOKUP(E379,town351,24)","v":6217257},{"$f":"SUM(N375:N378)","v":6217258},6135766,{"$f":"SUM(P375:P378)","v":81492},1.3281471294700613,515.47133757800998,497.00000000420999,74,999,370,497.00000000420999,7536068.8301231889,370,74,999,370,497.00000000420999,7536068.8301231889]
["00750075","0075","0075",371,75,"Dennis                       ",75,"Dennis",0,0,{"$f":"X380","v":0},{"$f":"IF(K384>0, K380/K384, 0)","v":0},null,{"$f":"ROUND(M384*L380,0)","v":0},0,{"$f":"N380-O380","v":0},0,0,0,75,75,371,0,0,371,75,75,371,0,0]
["00750645","0075","0645",372,75,"Dennis                       ",645,"Dennis Yarmouth",17363368.425473183,0.91459458922322789,17649105.589480229,{"$f":"IF(K384>0, K381/K384, 0)","v":0.91170433270188123},null,{"$f":"ROUND(M384*L381,0)","v":14560512},14324779,{"$f":"N381-O381","v":235733},1.6456309727361238,1006.6122205501199,977.69933453792009,75,645,372,977.69933453792009,17649105.589480229,372,75,645,372,977.69933453792009,17649105.589480229]
["00750815","0075","0815",373,75,"Dennis                       ",815,"Cape Cod",1621402.1275868586,8.5405410776772037E-2,1709259.7888834164,{"$f":"IF(K384>0, K382/K384, 0)","v":8.8295667298118705E-2},null,{"$f":"ROUND(M384*L382,0)","v":1410139},1337657,{"$f":"N382-O382","v":72482},5.4185789032614489,73.999999999799996,75.9999999992,75,815,373,75.9999999992,1709259.7888834164,373,75,815,373,75.9999999992,1709259.7888834164]
["00750998","0075","0998",374,75,"",998,"",0,0,0,{"$f":"IF(K384>0, K383/K384, 0)","v":0},null,{"$f":"ROUND(M384*L383,0)","v":0},0,{"$f":"N383-O383","v":0},0,0,0,75,998,374,0,0,374,75,998,374,0,0]
["00750999","0075","0999",375,75,"Dennis                       ",999,"Total",18984770.553060044,0.99999999999999989,{"$f":"SUM(K380:K383)","v":19358365.378363647},{"$f":"SUM(L380:L383)","v":0.99999999999999989},{"$f":"VLOOKUP(E384,town351,24)","v":15970651},{"$f":"SUM(N380:N383)","v":15970651},15662436,{"$f":"SUM(P380:P383)","v":308215},1.9678611934950605,1080.6122205499198,1053.6993345371202,75,999,375,1053.6993345371202,19358365.378363647,375,75,999,375,1053.6993345371202,19358365.378363647]
["00760076","0076","0076",376,76,"Dighton                      ",76,"Dighton",17354.29,9.680809096420653E-4,{"$f":"X385","v":0},{"$f":"IF(K389>0, K385/K389, 0)","v":0},null,{"$f":"ROUND(M389*L385,0)","v":0},9474,{"$f":"N385-O385","v":-9474},-100,1,0,76,76,376,0,0,376,76,76,376,0,0]
["00760650","0076","0650",377,76,"Dighton                      ",650,"Dighton Rehoboth",15125898.499342598,0.8437737054294433,15714826.145815339,{"$f":"IF(K389>0, K386/K389, 0)","v":0.84281132281036031},null,{"$f":"ROUND(M389*L386,0)","v":8671263},8257552,{"$f":"N386-O386","v":413711},5.0100925794957147,1099.73580534142,1087.2875637505799,76,650,377,1087.2875637505799,15714826.145815339,377,76,650,377,1087.2875637505799,15714826.145815339]
["00760810","0076","0810",378,76,"Dighton                      ",810,"Bristol Plymouth",2042810.1180547539,0.11395484789711713,2207450.1722051436,{"$f":"IF(K389>0, K387/K389, 0)","v":0.11838909208483944},null,{"$f":"ROUND(M389*L387,0)","v":1218046},1115214,{"$f":"N387-O387","v":102832},9.2208311588627829,98.357925490139991,102.29955946944,76,810,378,102.29955946944,2207450.1722051436,378,76,810,378,102.29955946944,2207450.1722051436]
["00760910","0076","0910",379,76,"Dighton                      ",910,"Bristol County",740424.25617713726,4.1303365763797457E-2,723446.30162129283,{"$f":"IF(K389>0, K388/K389, 0)","v":3.8799585104800402E-2},null,{"$f":"ROUND(M389*L388,0)","v":399189},404213,{"$f":"N388-O388","v":-5024},-1.2429090603221569,35.00000000048,32.999999999819998,76,910,379,32.999999999819998,723446.30162129283,379,76,910,379,32.999999999819998,723446.30162129283]
["00760999","0076","0999",380,76,"Dighton                      ",999,"Total",17926487.163574491,0.99999999999999989,{"$f":"SUM(K385:K388)","v":18645722.619641773},{"$f":"SUM(L385:L388)","v":1.0000000000000002},{"$f":"VLOOKUP(E389,town351,24)","v":10288499},{"$f":"SUM(N385:N388)","v":10288498},9786453,{"$f":"SUM(P385:P388)","v":502045},5.1299996025117576,1234.0937308320399,1222.5871232198399,76,999,380,1222.5871232198399,18645722.619641773,380,76,999,380,1222.5871232198399,18645722.619641773]
["00770077","0077","0077",381,77,"Douglas                      ",77,"Douglas",14294446.849999998,0.85060653374530637,{"$f":"X390","v":14629344.890000002},{"$f":"IF(K394>0, K390/K394, 0)","v":0.84145252318556607},null,{"$f":"ROUND(M394*L390,0)","v":9866311},9322034,{"$f":"N390-O390","v":544277},5.8386077544879154,1041,1022,77,77,381,1022,14629344.890000002,381,77,77,381,1022,14629344.890000002]
["00770805","0077","0805",382,77,"Douglas                      ",805,"Blackstone Valley",2510557.9117905148,0.14939346625469352,2756478.4177919999,{"$f":"IF(K394>0, K391/K394, 0)","v":0.1585474768144341},null,{"$f":"ROUND(M394*L391,0)","v":1859022},1637245,{"$f":"N391-O391","v":221777},13.545743001200186,125.00000000478001,132,77,805,382,132,2756478.4177919999,382,77,805,382,132,2756478.4177919999]
["00770998","0077","0998",383,77,"",998,"",0,0,0,{"$f":"IF(K394>0, K392/K394, 0)","v":0},null,{"$f":"ROUND(M394*L392,0)","v":0},0,{"$f":"N392-O392","v":0},0,0,0,77,998,383,0,0,383,77,998,383,0,0]
["00770998","0077","0998",384,77,"",998,"",0,0,0,{"$f":"IF(K394>0, K393/K394, 0)","v":0},null,{"$f":"ROUND(M394*L393,0)","v":0},0,{"$f":"N393-O393","v":0},0,0,0,77,998,384,0,0,384,77,998,384,0,0]
[{"$f":"B394&C394","v":"00770999"},"0077","0999",385,77,"Douglas                      ",999,"Total",16805004.761790514,0.99999999999999989,{"$f":"SUM(K390:K393)","v":17385823.307792},{"$f":"SUM(L390:L393)","v":1.0000000000000002},{"$f":"VLOOKUP(E394,town351,24)","v":11725333},{"$f":"SUM(N390:N393)","v":11725333},10959279,{"$f":"SUM(P390:P393)","v":766054},6.9900036307132982,1166.0000000047801,1154,{"$f":"VLOOKUP($D394, foundoptions, VLOOKUP($T$6, foundoptcell, 2, FALSE), FALSE)","v":77},{"$f":"VLOOKUP($D394, foundoptions, VLOOKUP($T$6, foundoptcell, 2, FALSE)+1, FALSE)","v":999},{"$f":"VLOOKUP($D394, foundoptions, VLOOKUP($T$6, foundoptcell, 2, FALSE)+2, FALSE)","v":385},{"$f":"VLOOKUP($D394, foundoptions, VLOOKUP($T$6, foundoptcell, 2, FALSE)+3, FALSE)","v":1154},{"$f":"VLOOKUP($D394, foundoptions, VLOOKUP($T$6, foundoptcell, 2, FALSE)+4, FALSE)","v":17385823.307792},385,77,999,385,1154,17385823.307792]
["00780078","0078","0078",386,78,"Dover                        ",78,"Dover",6012595.3087300006,0.42418384302905615,{"$f":"X395","v":6029124.488570001},{"$f":"IF(K399>0, K395/K399, 0)","v":0.41602518722043902},null,{"$f":"ROUND(M399*L395,0)","v":4974028},4960391,{"$f":"N395-O395","v":13637},0.27491784417800935,474,{"$f":"W395","v":454},78,78,386,454,6029124.488570001,{"$f":"D395","v":386},78,78,386,454,6029124.488570001]
["00780655","0078","0655",387,78,"Dover                        ",655,"Dover Sherborn",8007863.8653732901,0.56494846142988431,8303175.4563376727,{"$f":"IF(K399>0, K396/K399, 0)","v":0.57294058702814066},null,{"$f":"ROUND(M399*L396,0)","v":6850119},6606488,{"$f":"N396-O396","v":243631},3.6877536143257963,591.21441605322991,586.19485294380002,78,655,387,586.19485294380002,8303175.4563376727,387,78,655,387,586.19485294380002,8303175.4563376727]
["00780830","0078","0830",388,78,"Dover                        ",830,"Minuteman",108478.07474837935,7.6530423666381969E-3,90531.416695884953,{"$f":"IF(K399>0, K397/K399, 0)","v":6.2469019592544823E-3},null,{"$f":"ROUND(M399*L397,0)","v":74688},89494,{"$f":"N397-O397","v":-14806},-16.544125863186359,5.0000000012499992,3.9999999992599999,78,830,388,3.9999999992599999,90531.416695884953,388,78,830,388,3.9999999992599999,90531.416695884953]
["00780915","0078","0915",389,78,"Dover                        ",915,"Norfolk County",45566.112225532335,3.2146531744213086E-3,69378.903000811173,{"$f":"IF(K399>0, K398/K399, 0)","v":4.7873237921658863E-3},null,{"$f":"ROUND(M399*L398,0)","v":57238},37592,{"$f":"N398-O398","v":19646},52.261119387103641,2.0000000006200001,2.9999999997,78,915,389,2.9999999997,69378.903000811173,389,78,915,389,2.9999999997,69378.903000811173]
["00780999","0078","0999",390,78,"Dover                        ",999,"Total",14174503.361077202,0.99999999999999989,{"$f":"SUM(K395:K398)","v":14492210.264604369},{"$f":"SUM(L395:L398)","v":1},{"$f":"VLOOKUP(E399,town351,24)","v":11956073},{"$f":"SUM(N395:N398)","v":11956073},11693965,{"$f":"SUM(P395:P398)","v":262108},2.2413954548350365,1072.2144160550999,1047.19485294276,78,999,390,1047.19485294276,14492210.264604369,390,78,999,390,1047.19485294276,14492210.264604369]
["00790079","0079","0079",391,79,"Dracut                       ",79,"Dracut",55951048.689999998,0.81574319765217129,{"$f":"X400","v":58046318.310000002},{"$f":"IF(K404>0, K400/K404, 0)","v":0.82487309144343823},null,{"$f":"ROUND(M404*L400,0)","v":30656645},28785919,{"$f":"N400-O400","v":1870726},{"$f":"IF(O400>0,P400*100/O400,IF(P400>0,100,0))","v":6.4987537830562223},3775,3730,79,79,391,3730,58046318.310000002,391,79,79,391,3730,58046318.310000002]
["00790828","0079","0828",392,79,"Dracut                       ",828,"Greater Lowell",12637998.513869222,0.18425680234782868,12323680.314182602,{"$f":"IF(K404>0, K401/K404, 0)","v":0.17512690855656171},null,{"$f":"ROUND(M404*L401,0)","v":6508642},6502048,{"$f":"N401-O401","v":6594},{"$f":"IF(O401>0,P401*100/O401,IF(P401>0,100,0))","v":0.10141420057188136},540.99999999787997,512.99999998911994,79,828,392,512.99999998911994,12323680.314182602,392,79,828,392,512.99999998911994,12323680.314182602]
["00790998","0079","0998",393,79,"",998,null,0,0,0,{"$f":"IF(K404>0, K402/K404, 0)","v":0},null,{"$f":"ROUND(M404*L402,0)","v":0},0,{"$f":"N402-O402","v":0},{"$f":"IF(O402>0,P402*100/O402,IF(P402>0,100,0))","v":0},0,0,79,998,393,0,0,393,79,998,393,0,0]
["00790998","0079","0998",394,79,"",998,"",0,0,0,{"$f":"IF(K404>0, K403/K404, 0)","v":0},null,{"$f":"ROUND(M404*L403,0)","v":0},0,{"$f":"N403-O403","v":0},{"$f":"IF(O403>0,P403*100/O403,IF(P403>0,100,0))","v":0},0,0,79,998,394,0,0,394,79,998,394,0,0]
["00790999","0079","0999",395,79,"Dracut                       ",999,"Total",68589047.203869224,1,{"$f":"SUM(K400:K403)","v":70369998.624182612},{"$f":"SUM(L400:L403)","v":1},{"$f":"VLOOKUP(E404,town351,24)","v":37165287},{"$f":"SUM(N400:N403)","v":37165287},35287967,{"$f":"SUM(P400:P403)","v":1877320},{"$f":"IF(O404>0,P404*100/O404,IF(P404>0,100,0))","v":5.3200004409435095},4315.99999999788,4242.9999999891197,79,999,395,4242.9999999891197,70369998.624182612,395,79,999,395,4242.9999999891197,70369998.624182612]
["00800080","0080","0080",396,80,"Dudley                       ",80,"Dudley",17354.29,6.8574166337669691E-4,{"$f":"X405","v":18046.96},{"$f":"IF(K409>0, K405/K409, 0)","v":6.9611208567036591E-4},null,{"$f":"ROUND(M409*L405,0)","v":7007},6371,{"$f":"N405-O405","v":636},9.982734264636635,1,1,80,80,396,1,18046.96,396,80,80,396,1,18046.96]
["00800658","0080","0658",397,80,"Dudley                       ",658,"Dudley Charlton",22769446.979986366,0.89971750191009592,23275136.697056122,{"$f":"IF(K409>0, K406/K409, 0)","v":0.89777469171819568},null,{"$f":"ROUND(M409*L406,0)","v":9037239},8359605,{"$f":"N406-O406","v":677634},8.1060528577606235,1539.8655589083999,1505.4431504812499,80,658,397,1505.4431504812499,23275136.697056122,397,80,658,397,1505.4431504812499,23275136.697056122]
["00800876","0080","0876",398,80,"Dudley                       ",876,"Southern Worcester",2520527.8990549622,9.9596756426527433E-2,2632181.4838471822,{"$f":"IF(K409>0, K407/K409, 0)","v":0.1015291961961339},null,{"$f":"ROUND(M409*L407,0)","v":1022020},925390,{"$f":"N407-O407","v":96630},10.442083878148672,118.9999999974,118.99999999448001,80,876,398,118.99999999448001,2632181.4838471822,398,80,876,398,118.99999999448001,2632181.4838471822]
["00800998","0080","0998",399,80,"",998,"",0,0,0,{"$f":"IF(K409>0, K408/K409, 0)","v":0},null,{"$f":"ROUND(M409*L408,0)","v":0},0,{"$f":"N408-O408","v":0},0,0,0,80,998,399,0,0,399,80,998,399,0,0]
["00800999","0080","0999",400,80,"Dudley                       ",999,"Total",25307329.169041328,1,{"$f":"SUM(K405:K408)","v":25925365.140903305},{"$f":"SUM(L405:L408)","v":0.99999999999999989},{"$f":"VLOOKUP(E409,town351,24)","v":10066266},{"$f":"SUM(N405:N408)","v":10066266},9291366,{"$f":"SUM(P405:P408)","v":774900},8.3400008136586159,1659.8655589057998,1625.4431504757299,80,999,400,1625.4431504757299,25925365.140903305,400,80,999,400,1625.4431504757299,25925365.140903305]
["00810081","0081","0081",401,81,"Dunstable                    ",81,"Dunstable",0,0,{"$f":"X410","v":0},{"$f":"IF(K414>0, K410/K414, 0)","v":0},null,{"$f":"ROUND(M414*L410,0)","v":0},0,{"$f":"N410-O410","v":0},0,0,0,81,81,401,0,0,401,81,81,401,0,0]
["00810673","0081","0673",402,81,"Dunstable                    ",673,"Groton Dunstable",7001792.008549328,0.97084818094639147,7151503.4914152706,{"$f":"IF(K414>0, K411/K414, 0)","v":0.95815857683565386},null,{"$f":"ROUND(M414*L411,0)","v":5752429},5525275,{"$f":"N411-O411","v":227154},4.1111799865165084,546.42733564067998,529.92879120975999,81,673,402,529.92879120975999,7151503.4914152706,402,81,673,402,529.92879120975999,7151503.4914152706]
["00810828","0081","0828",403,81,"Dunstable                    ",828,"Greater Lowell",210243.96779037034,2.9151819053608606E-2,312295.99262558244,{"$f":"IF(K414>0, K412/K414, 0)","v":4.1841423164346241E-2},null,{"$f":"ROUND(M414*L412,0)","v":251200},165908,{"$f":"N412-O412","v":85292},51.409214745521616,8.9999999959900006,13.000000010480001,81,828,403,13.000000010480001,312295.99262558244,403,81,828,403,13.000000010480001,312295.99262558244]
["00810998","0081","0998",404,81,"",998,"",0,0,0,{"$f":"IF(K414>0, K413/K414, 0)","v":0},null,{"$f":"ROUND(M414*L413,0)","v":0},0,{"$f":"N413-O413","v":0},0,0,0,81,998,404,0,0,404,81,998,404,0,0]
["00810999","0081","0999",405,81,"Dunstable                    ",999,"Total",7212035.9763396978,1,{"$f":"SUM(K410:K413)","v":7463799.4840408526},{"$f":"SUM(L410:L413)","v":1},{"$f":"VLOOKUP(E414,town351,24)","v":6003629},{"$f":"SUM(N410:N413)","v":6003629},5691183,{"$f":"SUM(P410:P413)","v":312446},5.4900009365363935,555.42733563667002,542.92879122023999,81,999,405,542.92879122023999,7463799.4840408526,405,81,999,405,542.92879122023999,7463799.4840408526]
["00820082","0082","0082",406,82,"Duxbury                      ",82,"Duxbury",35054190.457200006,1,{"$f":"X415","v":35156207.320330001},{"$f":"IF(K419>0, K415/K419, 0)","v":1},null,{"$f":"ROUND(M419*L415,0)","v":29003871},28849041,{"$f":"N415-O415","v":154830},0.53669028374288075,2693,2572,82,82,406,2572,35156207.320330001,406,82,82,406,2572,35156207.320330001]
["00820998","0082","0998",407,82,"",998,"",0,0,0,{"$f":"IF(K419>0, K416/K419, 0)","v":0},null,{"$f":"ROUND(M419*L416,0)","v":0},0,{"$f":"N416-O416","v":0},0,0,0,82,998,407,0,0,407,82,998,407,0,0]
["00820998","0082","0998",408,82,"",998,"",0,0,0,{"$f":"IF(K419>0, K417/K419, 0)","v":0},null,{"$f":"ROUND(M419*L417,0)","v":0},0,{"$f":"N417-O417","v":0},0,0,0,82,998,408,0,0,408,82,998,408,0,0]
["00820998","0082","0998",409,82,"",998,"",0,0,0,{"$f":"IF(K419>0, K418/K419, 0)","v":0},null,{"$f":"ROUND(M419*L418,0)","v":0},0,{"$f":"N418-O418","v":0},0,0,0,82,998,409,0,0,409,82,998,409,0,0]
["00820999","0082","0999",410,82,"Duxbury                      ",999,"Total",35054190.457200006,1,{"$f":"SUM(K415:K418)","v":35156207.320330001},{"$f":"SUM(L415:L418)","v":1},{"$f":"VLOOKUP(E419,town351,24)","v":29003871},{"$f":"SUM(N415:N418)","v":29003871},28849041,{"$f":"SUM(P415:P418)","v":154830},0.53669028374288075,2693,2572,82,999,410,2572,35156207.320330001,410,82,999,410,2572,35156207.320330001]
["00830083","0083","0083",411,83,"East Bridgewater             ",83,"East Bridgewater",27680260.599999998,0.92332642712375401,{"$f":"X420","v":28408134.669999994},{"$f":"IF(K424>0, K420/K424, 0)","v":0.92715247949754664},null,{"$f":"ROUND(M424*L420,0)","v":16296001},15476590,{"$f":"N420-O420","v":819411},5.294519012263037,1956,1918,83,83,411,1918,28408134.669999994,411,83,83,411,1918,28408134.669999994]
["00830872","0083","0872",412,83,"East Bridgewater             ",872,"Southeastern",2298585.2197027188,7.6673572876246002E-2,2232062.3830190119,{"$f":"IF(K424>0, K421/K424, 0)","v":7.2847520502453328E-2},null,{"$f":"ROUND(M424*L421,0)","v":1280397},1285185,{"$f":"N421-O421","v":-4788},-0.37255336780307896,101.0000000063,94.05446117583999,83,872,412,94.05446117583999,2232062.3830190119,412,83,872,412,94.05446117583999,2232062.3830190119]
["00830998","0083","0998",413,83,"",998,"",0,0,0,{"$f":"IF(K424>0, K422/K424, 0)","v":0},null,{"$f":"ROUND(M424*L422,0)","v":0},0,{"$f":"N422-O422","v":0},0,0,0,83,998,413,0,0,413,83,998,413,0,0]
["00830998","0083","0998",414,83,"",998,"",0,0,0,{"$f":"IF(K424>0, K423/K424, 0)","v":0},null,{"$f":"ROUND(M424*L423,0)","v":0},0,{"$f":"N423-O423","v":0},0,0,0,83,998,414,0,0,414,83,998,414,0,0]
["00830999","0083","0999",415,83,"East Bridgewater             ",999,"Total",29978845.819702715,1,{"$f":"SUM(K420:K423)","v":30640197.053019006},{"$f":"SUM(L420:L423)","v":1},{"$f":"VLOOKUP(E424,town351,24)","v":17576398},{"$f":"SUM(N420:N423)","v":17576398},16761775,{"$f":"SUM(P420:P423)","v":814623},4.8600043849771284,2057.0000000063001,2012.0544611758401,83,999,415,2012.0544611758401,30640197.053019006,415,83,999,415,2012.0544611758401,30640197.053019006]
["00840084","0084","0084",416,84,"East Brookfield              ",84,"East Brookfield",448617.29999999993,9.6599089144109127E-2,{"$f":"X425","v":412231.75999999995},{"$f":"IF(K429>0, K425/K429, 0)","v":8.5722622113448541E-2},null,{"$f":"ROUND(M429*L425,0)","v":212357},227537,{"$f":"N425-O425","v":-15180},-6.6714424467229509,24,21,84,84,416,21,412231.75999999995,416,84,84,416,21,412231.75999999995]
["00840767","0084","0767",417,84,"East Brookfield              ",767,"Spencer East Brookfield",4195497.9186304836,0.90340091085589092,4396671.0691089481,{"$f":"IF(K429>0, K426/K429, 0)","v":0.9142773778865515},null,{"$f":"ROUND(M429*L426,0)","v":2264903},2127944,{"$f":"N426-O426","v":136959},6.4362126070986827,251.66819672255002,256.11278687956002,84,767,417,256.11278687956002,4396671.0691089481,417,84,767,417,256.11278687956002,4396671.0691089481]
["00840998","0084","0998",418,84,"",998,"",0,0,0,{"$f":"IF(K429>0, K427/K429, 0)","v":0},null,{"$f":"ROUND(M429*L427,0)","v":0},0,{"$f":"N427-O427","v":0},0,0,0,84,998,418,0,0,418,84,998,418,0,0]
["00840998","0084","0998",419,84,"",998,"",0,0,0,{"$f":"IF(K429>0, K428/K429, 0)","v":0},null,{"$f":"ROUND(M429*L428,0)","v":0},0,{"$f":"N428-O428","v":0},0,0,0,84,998,419,0,0,419,84,998,419,0,0]
["00840999","0084","0999",420,84,"East Brookfield              ",999,"Total",4644115.2186304834,1,{"$f":"SUM(K425:K428)","v":4808902.8291089479},{"$f":"SUM(L425:L428)","v":1},{"$f":"VLOOKUP(E429,town351,24)","v":2477260},{"$f":"SUM(N425:N428)","v":2477260},2355481,{"$f":"SUM(P425:P428)","v":121779},5.170026843774159,275.66819672255002,277.11278687956002,84,999,420,277.11278687956002,4808902.8291089479,420,84,999,420,277.11278687956002,4808902.8291089479]
["00850085","0085","0085",421,85,"Eastham                      ",85,"Eastham",2811123.1,0.40374663197973876,{"$f":"X430","v":3056888.3199999994},{"$f":"IF(K434>0, K430/K434, 0)","v":0.42667169486766399},null,{"$f":"ROUND(M434*L430,0)","v":2521933},2319176,{"$f":"N430-O430","v":202757},8.7426310034253554,195,197,85,85,421,197,3056888.3199999994,421,85,85,421,197,3056888.3199999994]
["00850660","0085","0660",422,85,"Eastham                      ",660,"Nauset",3581787.1460581287,0.51443300248547996,3500372.2172964881,{"$f":"IF(K434>0, K431/K434, 0)","v":0.48857190393582189},null,{"$f":"ROUND(M434*L431,0)","v":2887807},2954974,{"$f":"N431-O431","v":-67167},-2.273014923312354,234.01746724700001,218.39853747271999,85,660,422,218.39853747271999,3500372.2172964881,422,85,660,422,218.39853747271999,3500372.2172964881]
["00850815","0085","0815",423,85,"Eastham                      ",815,"Cape Cod",569681.82861971192,8.1820365534781253E-2,607237.03020238399,{"$f":"IF(K434>0, K432/K434, 0)","v":8.4756401196514147E-2},null,{"$f":"ROUND(M434*L432,0)","v":500971},469987,{"$f":"N432-O432","v":30984},6.5925227719064567,26.000000000299998,26.999999997100002,85,815,423,26.999999997100002,607237.03020238399,423,85,815,423,26.999999997100002,607237.03020238399]
["00850998","0085","0998",424,85,"",998,"",0,0,0,{"$f":"IF(K434>0, K433/K434, 0)","v":0},null,{"$f":"ROUND(M434*L433,0)","v":0},0,{"$f":"N433-O433","v":0},0,0,0,85,998,424,0,0,424,85,998,424,0,0]
["00850999","0085","0999",425,85,"Eastham                      ",999,"Total",6962592.0746778408,0.99999999999999989,{"$f":"SUM(K430:K433)","v":7164497.5674988711},{"$f":"SUM(L430:L433)","v":1},{"$f":"VLOOKUP(E434,town351,24)","v":5910710},{"$f":"SUM(N430:N433)","v":5910711},5744137,{"$f":"SUM(P430:P433)","v":166574},2.8998960157113243,455.01746724730003,442.39853746982004,85,999,425,442.39853746982004,7164497.5674988711,425,85,999,425,442.39853746982004,7164497.5674988711]
["00860086","0086","0086",426,86,"Easthampton                  ",86,"Easthampton",23886649.57,1,{"$f":"X435","v":23938957.649999999},{"$f":"IF(K439>0, K435/K439, 0)","v":1},null,{"$f":"ROUND(M439*L435,0)","v":16827061},15814907,{"$f":"N435-O435","v":1012154},6.399999696488889,1565,1533,86,86,426,1533,23938957.649999999,426,86,86,426,1533,23938957.649999999]
["00860998","0086","0998",427,86,"",998,"",0,0,0,{"$f":"IF(K439>0, K436/K439, 0)","v":0},null,{"$f":"ROUND(M439*L436,0)","v":0},0,{"$f":"N436-O436","v":0},0,0,0,86,998,427,0,0,427,86,998,427,0,0]
["00860998","0086","0998",428,86,"",998,"",0,0,0,{"$f":"IF(K439>0, K437/K439, 0)","v":0},null,{"$f":"ROUND(M439*L437,0)","v":0},0,{"$f":"N437-O437","v":0},0,0,0,86,998,428,0,0,428,86,998,428,0,0]
["00860998","0086","0998",429,86,"",998,"",0,0,0,{"$f":"IF(K439>0, K438/K439, 0)","v":0},null,{"$f":"ROUND(M439*L438,0)","v":0},0,{"$f":"N438-O438","v":0},0,0,0,86,998,429,0,0,429,86,998,429,0,0]
["00860999","0086","0999",430,86,"Easthampton                  ",999,"Total",23886649.57,1,{"$f":"SUM(K435:K438)","v":23938957.649999999},{"$f":"SUM(L435:L438)","v":1},{"$f":"VLOOKUP(E439,town351,24)","v":16827061},{"$f":"SUM(N435:N438)","v":16827061},15814907,{"$f":"SUM(P435:P438)","v":1012154},6.399999696488889,1565,1533,86,999,430,1533,23938957.649999999,430,86,999,430,1533,23938957.649999999]
["00870087","0087","0087",431,87,"East Longmeadow              ",87,"East Longmeadow",34975334.979999997,1,{"$f":"X440","v":34286215.829999998},{"$f":"IF(K444>0, K440/K444, 0)","v":1},null,{"$f":"ROUND(M444*L440,0)","v":21652294},20638923,{"$f":"N440-O440","v":1013371},4.9099994219659617,2468,2355,87,87,431,2355,34286215.829999998,431,87,87,431,2355,34286215.829999998]
["00870998","0087","0998",432,87,"",998,"",0,0,0,{"$f":"IF(K444>0, K441/K444, 0)","v":0},null,{"$f":"ROUND(M444*L441,0)","v":0},0,{"$f":"N441-O441","v":0},0,0,0,87,998,432,0,0,432,87,998,432,0,0]
["00870998","0087","0998",433,87,"",998,"",0,0,0,{"$f":"IF(K444>0, K442/K444, 0)","v":0},null,{"$f":"ROUND(M444*L442,0)","v":0},0,{"$f":"N442-O442","v":0},0,0,0,87,998,433,0,0,433,87,998,433,0,0]
["00870998","0087","0998",434,87,"",998,"",0,0,0,{"$f":"IF(K444>0, K443/K444, 0)","v":0},null,{"$f":"ROUND(M444*L443,0)","v":0},0,{"$f":"N443-O443","v":0},0,0,0,87,998,434,0,0,434,87,998,434,0,0]
["00870999","0087","0999",435,87,"East Longmeadow              ",999,"Total",34975334.979999997,1,{"$f":"SUM(K440:K443)","v":34286215.829999998},{"$f":"SUM(L440:L443)","v":1},{"$f":"VLOOKUP(E444,town351,24)","v":21652294},{"$f":"SUM(N440:N443)","v":21652294},20638923,{"$f":"SUM(P440:P443)","v":1013371},4.9099994219659617,2468,2355,87,999,435,2355,34286215.829999998,435,87,999,435,2355,34286215.829999998]
["00880088","0088","0088",436,88,"Easton                       ",88,"Easton",45287684.259999998,0.9501669006855592,{"$f":"X445","v":46300939.709999993},{"$f":"IF(K449>0, K445/K449, 0)","v":0.95569929296109324},null,{"$f":"ROUND(M449*L445,0)","v":38111434},36311272,{"$f":"N445-O445","v":1800162},4.9575845208617313,3349,3286,88,88,436,3286,46300939.709999993,436,88,88,436,3286,46300939.709999993]
["00880872","0088","0872",437,88,"Easton                       ",872,"Southeastern",2184793.8721620026,4.5838484702175671E-2,1970863.5936475887,{"$f":"IF(K449>0, K446/K449, 0)","v":4.0680663389753048E-2},null,{"$f":"ROUND(M449*L446,0)","v":1622266},1751749,{"$f":"N446-O446","v":-129483},-7.3916411540694469,96.00000000464,83.048088065030001,88,872,437,83.048088065030001,1970863.5936475887,437,88,872,437,83.048088065030001,1970863.5936475887]
["00880910","0088","0910",438,88,"Easton                       ",910,"Bristol County",190394.80871215186,3.9946146122651236E-3,175380.92157389229,{"$f":"IF(K449>0, K447/K449, 0)","v":3.6200436491536994E-3},null,{"$f":"ROUND(M449*L447,0)","v":144360},152657,{"$f":"N447-O447","v":-8297},-5.4350602985778576,8.9999999992199999,7.9999999985299999,88,910,438,7.9999999985299999,175380.92157389229,438,88,910,438,7.9999999985299999,175380.92157389229]
["00880998","0088","0998",439,88,"",998,"",0,0,0,{"$f":"IF(K449>0, K448/K449, 0)","v":0},null,{"$f":"ROUND(M449*L448,0)","v":0},0,{"$f":"N448-O448","v":0},0,0,0,88,998,439,0,0,439,88,998,439,0,0]
["00880999","0088","0999",440,88,"Easton                       ",999,"Total",47662872.940874152,1,{"$f":"SUM(K445:K448)","v":48447184.225221477},{"$f":"SUM(L445:L448)","v":1},{"$f":"VLOOKUP(E449,town351,24)","v":39878060},{"$f":"SUM(N445:N448)","v":39878060},38215678,{"$f":"SUM(P445:P448)","v":1662382},4.3500000183170897,3454.0000000038599,3377.0480880635596,88,999,440,3377.0480880635596,48447184.225221477,440,88,999,440,3377.0480880635596,48447184.225221477]
["00890089","0089","0089",441,89,"Edgartown                    ",89,"Edgartown",6271711.71,0.5993373027213641,{"$f":"X450","v":6499194.0899999999},{"$f":"IF(K454>0, K450/K454, 0)","v":0.61327440554219481},null,{"$f":"ROUND(M454*L450,0)","v":5361835},5174162,{"$f":"N450-O450","v":187673},3.627118748891125,393,384,89,89,441,384,6499194.0899999999,441,89,89,441,384,6499194.0899999999]
["00890700","0089","0700",442,89,"Edgartown                    ",700,"Marthas Vineyard",4192699.0342045217,0.40066269727863596,4098336.201932,{"$f":"IF(K454>0, K451/K454, 0)","v":0.38672559445780513},null,{"$f":"ROUND(M454*L451,0)","v":3381127},3458977,{"$f":"N451-O451","v":-77850},-2.2506654424125978,220.00000000369999,210.00000000322001,89,700,442,210.00000000322001,4098336.201932,442,89,700,442,210.00000000322001,4098336.201932]
["00890998","0089","0998",443,89,"",998,"",0,0,0,{"$f":"IF(K454>0, K452/K454, 0)","v":0},null,{"$f":"ROUND(M454*L452,0)","v":0},0,{"$f":"N452-O452","v":0},0,0,0,89,998,443,0,0,443,89,998,443,0,0]
["00890998","0089","0998",444,89,"",998,"",0,0,0,{"$f":"IF(K454>0, K453/K454, 0)","v":0},null,{"$f":"ROUND(M454*L453,0)","v":0},0,{"$f":"N453-O453","v":0},0,0,0,89,998,444,0,0,444,89,998,444,0,0]
["00890999","0089","0999",445,89,"Edgartown                    ",999,"Total",10464410.744204521,1,{"$f":"SUM(K450:K453)","v":10597530.291932},{"$f":"SUM(L450:L453)","v":1},{"$f":"VLOOKUP(E454,town351,24)","v":8742962},{"$f":"SUM(N450:N453)","v":8742962},8633139,{"$f":"SUM(P450:P453)","v":109823},1.2721097158287384,613.00000000370005,594.00000000322007,89,999,445,594.00000000322007,10597530.291932,445,89,999,445,594.00000000322007,10597530.291932]
["00900090","0090","0090",446,90,"Egremont                     ",90,"Egremont",0,0,{"$f":"X455","v":0},{"$f":"IF(K459>0, K455/K459, 0)","v":0},null,{"$f":"ROUND(M459*L455,0)","v":0},0,{"$f":"N455-O455","v":0},0,0,0,90,90,446,0,0,446,90,90,446,0,0]
["00900765","0090","0765",447,90,"Egremont                     ",765,"Southern Berkshire",1331689.7374155428,1,1282161.5353810426,{"$f":"IF(K459>0, K456/K459, 0)","v":1},null,{"$f":"ROUND(M459*L456,0)","v":1057783},1098644,{"$f":"N456-O456","v":-40861},-3.7192211489800155,88.182662541820008,80.923566876899997,90,765,447,80.923566876899997,1282161.5353810426,447,90,765,447,80.923566876899997,1282161.5353810426]
["00900998","0090","0998",448,90,"",998,"",0,0,0,{"$f":"IF(K459>0, K457/K459, 0)","v":0},null,{"$f":"ROUND(M459*L457,0)","v":0},0,{"$f":"N457-O457","v":0},0,0,0,90,998,448,0,0,448,90,998,448,0,0]
[{"$f":"B458&C458","v":"00900998"},"0090","0998",449,90,"",998,"",0,0,0,{"$f":"IF(K459>0, K458/K459, 0)","v":0},null,{"$f":"ROUND(M459*L458,0)","v":0},0,{"$f":"N458-O458","v":0},0,0,0,{"$f":"VLOOKUP($D458, foundoptions, VLOOKUP($T$6, foundoptcell, 2, FALSE), FALSE)","v":90},{"$f":"VLOOKUP($D458, foundoptions, VLOOKUP($T$6, foundoptcell, 2, FALSE)+1, FALSE)","v":998},{"$f":"VLOOKUP($D458, foundoptions, VLOOKUP($T$6, foundoptcell, 2, FALSE)+2, FALSE)","v":449},{"$f":"VLOOKUP($D458, foundoptions, VLOOKUP($T$6, foundoptcell, 2, FALSE)+3, FALSE)","v":0},{"$f":"VLOOKUP($D458, foundoptions, VLOOKUP($T$6, foundoptcell, 2, FALSE)+4, FALSE)","v":0},449,90,998,449,0,0]
["00900999","0090","0999",450,90,"Egremont                     ",999,"Total",1331689.7374155428,1,{"$f":"SUM(K455:K458)","v":1282161.5353810426},{"$f":"SUM(L455:L458)","v":1},{"$f":"VLOOKUP(E459,town351,24)","v":1057783},{"$f":"SUM(N455:N458)","v":1057783},1098644,{"$f":"SUM(P455:P458)","v":-40861},-3.7192211489800155,88.182662541820008,{"$f":"W459","v":80.923566876899997},90,999,450,80.923566876899997,1282161.5353810426,{"$f":"D459","v":450},90,999,450,80.923566876899997,1282161.5353810426]
["00910091","0091","0091",451,91,"Erving                       ",91,"Erving",2485223.59,0.7795326733154041,{"$f":"X460","v":2479188.0699999998},{"$f":"IF(K464>0, K460/K464, 0)","v":0.84119940248946923},null,{"$f":"ROUND(M464*L460,0)","v":2045330},2050310,{"$f":"N460-O460","v":-4980},-0.24289009954592233,175,165,91,91,451,165,2479188.0699999998,451,91,91,451,165,2479188.0699999998]
["00910818","0091","0818",452,91,"Erving                       ",818,"Franklin County",702870.60421790159,0.22046732668459587,468018.10093048442,{"$f":"IF(K464>0, K461/K464, 0)","v":0.15880059751053077},null,{"$f":"ROUND(M464*L461,0)","v":386115},579868,{"$f":"N461-O461","v":-193753},-33.413294060027454,31.000000001699998,20.000000002859998,91,818,452,20.000000002859998,468018.10093048442,452,91,818,452,20.000000002859998,468018.10093048442]
["00910998","0091","0998",453,91,"",998,"",0,0,0,{"$f":"IF(K464>0, K462/K464, 0)","v":0},null,{"$f":"ROUND(M464*L462,0)","v":0},0,{"$f":"N462-O462","v":0},0,0,0,91,998,453,0,0,453,91,998,453,0,0]
["00910998","0091","0998",454,91,"",998,"",0,0,0,{"$f":"IF(K464>0, K463/K464, 0)","v":0},null,{"$f":"ROUND(M464*L463,0)","v":0},0,{"$f":"N463-O463","v":0},0,0,0,91,998,454,0,0,454,91,998,454,0,0]
["00910999","0091","0999",455,91,"Erving                       ",999,"Total",3188094.1942179017,1,{"$f":"SUM(K460:K463)","v":2947206.1709304843},{"$f":"SUM(L460:L463)","v":1},{"$f":"VLOOKUP(E464,town351,24)","v":2431445},{"$f":"SUM(N460:N463)","v":2431445},2630178,{"$f":"SUM(P460:P463)","v":-198733},{"$f":"IF(O464>0,P464*100/O464,IF(P464>0,100,0))","v":-7.5558764463849979},206.00000000169999,185.00000000285999,91,999,455,185.00000000285999,2947206.1709304843,455,91,999,455,185.00000000285999,2947206.1709304843]
["00920092","0092","0092",456,92,"Essex                        ",92,"Essex",0,0,{"$f":"X465","v":0},{"$f":"IF(K469>0, K465/K469, 0)","v":0},null,{"$f":"ROUND(M469*L465,0)","v":0},0,{"$f":"N465-O465","v":0},0,0,0,92,92,456,0,0,456,92,92,456,0,0]
["00920698","0092","0698",457,92,"Essex                        ",698,"Manchester Essex",6348991.5110861072,0.94412188172353528,6445716.8849286167,{"$f":"IF(K469>0, K466/K469, 0)","v":0.96049771000718931},null,{"$f":"ROUND(M469*L466,0)","v":5317717},5237918,{"$f":"N466-O466","v":79799},1.5234870038057107,470.15135134655998,457.8403755878,92,698,457,457.8403755878,6445716.8849286167,457,92,698,457,457.8403755878,6445716.8849286167]
["00920817","0092","0817",458,92,"Essex                        ",817,"Essex North Shore",375766.84267193603,5.5878118276464703E-2,265092.33176422806,{"$f":"IF(K469>0, K467/K469, 0)","v":3.9502289992810774E-2},null,{"$f":"ROUND(M469*L467,0)","v":218701},310008,{"$f":"N467-O467","v":-91307},-29.453110887460969,17.999999995270002,11.999999994,92,817,458,11.999999994,265092.33176422806,458,92,817,458,11.999999994,265092.33176422806]
["00920998","0092","0998",459,92,"",998,"",0,0,0,{"$f":"IF(K469>0, K468/K469, 0)","v":0},null,{"$f":"ROUND(M469*L468,0)","v":0},0,{"$f":"N468-O468","v":0},0,0,0,92,998,459,0,0,459,92,998,459,0,0]
["00920999","0092","0999",460,92,"Essex                        ",999,"Total",6724758.3537580436,1,{"$f":"SUM(K465:K468)","v":6710809.2166928444},{"$f":"SUM(L465:L468)","v":1},{"$f":"VLOOKUP(E469,town351,24)","v":5536418},{"$f":"SUM(N465:N468)","v":5536418},5547926,{"$f":"SUM(P465:P468)","v":-11508},-0.20742886621054427,488.15135134182998,469.8403755818,92,999,460,469.8403755818,6710809.2166928444,460,92,999,460,469.8403755818,6710809.2166928444]
["00930093","0093","0093",461,93,"Everett                      ",93,"Everett",172711734.58173999,1,{"$f":"X470","v":174880352.35727996},{"$f":"IF(K474>0, K470/K474, 0)","v":1},null,{"$f":"ROUND(M474*L470,0)","v":47849900},45846412,{"$f":"N470-O470","v":2003488},4.3699995541635843,8009,7670,93,93,461,7670,174880352.35727996,461,93,93,461,7670,174880352.35727996]
["00930998","0093","0998",462,93,"",998,"",0,0,0,{"$f":"IF(K474>0, K471/K474, 0)","v":0},null,{"$f":"ROUND(M474*L471,0)","v":0},0,{"$f":"N471-O471","v":0},0,0,0,93,998,462,0,0,462,93,998,462,0,0]
["00930998","0093","0998",463,93,"",998,"",0,0,0,{"$f":"IF(K474>0, K472/K474, 0)","v":0},null,{"$f":"ROUND(M474*L472,0)","v":0},0,{"$f":"N472-O472","v":0},0,0,0,93,998,463,0,0,463,93,998,463,0,0]
["00930998","0093","0998",464,93,"",998,"",0,0,0,{"$f":"IF(K474>0, K473/K474, 0)","v":0},null,{"$f":"ROUND(M474*L473,0)","v":0},0,{"$f":"N473-O473","v":0},0,0,0,93,998,464,0,0,464,93,998,464,0,0]
["00930999","0093","0999",465,93,"Everett                      ",999,"Total",172711734.58173999,1,{"$f":"SUM(K470:K473)","v":174880352.35727996},{"$f":"SUM(L470:L473)","v":1},{"$f":"VLOOKUP(E474,town351,24)","v":47849900},{"$f":"SUM(N470:N473)","v":47849900},45846412,{"$f":"SUM(P470:P473)","v":2003488},4.3699995541635843,8009,7670,93,999,465,7670,174880352.35727996,465,93,999,465,7670,174880352.35727996]
["00940094","0094","0094",466,94,"Fairhaven                    ",94,"Fairhaven",24525650.529999997,0.842002568852942,{"$f":"X475","v":25249369.249999993},{"$f":"IF(K479>0, K475/K479, 0)","v":0.83598528041588538},null,{"$f":"ROUND(M479*L475,0)","v":16358510},15860855,{"$f":"N475-O475","v":497655},3.1376303484269923,1590,1558,94,94,466,1558,25249369.249999993,466,94,94,466,1558,25249369.249999993]
["00940825","0094","0825",467,94,"Fairhaven                    ",825,"Greater New Bedford",3925152.270087068,0.13475639679810231,4361846.7274040664,{"$f":"IF(K479>0, K476/K479, 0)","v":0.14441705942971234},null,{"$f":"ROUND(M479*L476,0)","v":2825944},2538415,{"$f":"N476-O476","v":287529},11.327107663640501,165.99999999722999,173.99999999104,94,825,467,173.99999999104,4361846.7274040664,467,94,825,467,173.99999999104,4361846.7274040664]
["00940910","0094","0910",468,94,"Fairhaven                    ",910,"Bristol County",676959.31993975327,2.3241034348955674E-2,591910.61046953744,{"$f":"IF(K479>0, K477/K479, 0)","v":1.9597660154402244E-2},null,{"$f":"ROUND(M479*L477,0)","v":383486},437793,{"$f":"N477-O477","v":-54307},-12.404720952596318,32.000000000740002,27.000000002229999,94,910,468,27.000000002229999,591910.61046953744,468,94,910,468,27.000000002229999,591910.61046953744]
["00940998","0094","0998",469,94,"",998,"",0,0,0,{"$f":"IF(K479>0, K478/K479, 0)","v":0},null,{"$f":"ROUND(M479*L478,0)","v":0},0,{"$f":"N478-O478","v":0},0,0,0,94,998,469,0,0,469,94,998,469,0,0]
["00940999","0094","0999",470,94,"Fairhaven                    ",999,"Total",29127762.120026819,0.99999999999999989,{"$f":"SUM(K475:K478)","v":30203126.587873597},{"$f":"SUM(L475:L478)","v":0.99999999999999989},{"$f":"VLOOKUP(E479,town351,24)","v":19567940},{"$f":"SUM(N475:N478)","v":19567940},18837063,{"$f":"SUM(P475:P478)","v":730877},3.8799944556112598,1787.99999999797,1758.9999999932702,94,999,470,1758.9999999932702,30203126.587873597,470,94,999,470,1758.9999999932702,30203126.587873597]
["00950095","0095","0095",471,95,"Fall River                   ",95,"Fall River",273966514.06,0.91502286520158338,{"$f":"X480","v":297582870.11000001},{"$f":"IF(K484>0, K480/K484, 0)","v":0.91695445903328865},null,{"$f":"ROUND(M484*L480,0)","v":47033824},43178238,{"$f":"N480-O480","v":3855586},8.9294658109948806,13106,13241,95,95,471,13241,297582870.11000001,471,95,95,471,13241,297582870.11000001]
["00950821","0095","0821",472,95,"Fall River                   ",821,"Greater Fall River",24364055.250124816,8.1373695319627515E-2,25723432.577995822,{"$f":"IF(K484>0, K481/K484, 0)","v":7.926268133416596E-2},null,{"$f":"ROUND(M484*L481,0)","v":4065662},3839874,{"$f":"N481-O481","v":225788},5.8800887737462215,1071.9999999936001,1084.9999999965898,95,821,472,1084.9999999965898,25723432.577995822,472,95,821,472,1084.9999999965898,25723432.577995822]
["00950910","0095","0910",473,95,"Fall River                   ",910,"Bristol County",1078903.9161470139,3.6034394787891602E-3,1227666.4512465568,{"$f":"IF(K484>0, K482/K484, 0)","v":3.7828596325453446E-3},null,{"$f":"ROUND(M484*L482,0)","v":194036},170040,{"$f":"N482-O482","v":23996},14.111973653258056,51.000000000850001,56.000000000170004,95,910,473,56.000000000170004,1227666.4512465568,473,95,910,473,56.000000000170004,1227666.4512465568]
["00950998","0095","0998",474,95,"",998,"",0,0,0,{"$f":"IF(K484>0, K483/K484, 0)","v":0},null,{"$f":"ROUND(M484*L483,0)","v":0},0,{"$f":"N483-O483","v":0},0,0,0,95,998,474,0,0,474,95,998,474,0,0]
["00950999","0095","0999",475,95,"Fall River                   ",999,"Total",299409473.22627181,1,{"$f":"SUM(K480:K483)","v":324533969.13924241},{"$f":"SUM(L480:L483)","v":0.99999999999999989},{"$f":"VLOOKUP(E484,town351,24)","v":51293522},{"$f":"SUM(N480:N483)","v":51293522},47188152,{"$f":"SUM(P480:P483)","v":4105370},8.7000016444805883,14228.99999999445,14381.999999996759,95,999,475,14381.999999996759,324533969.13924241,475,95,999,475,14381.999999996759,324533969.13924241]
["00960096","0096","0096",476,96,"Falmouth                     ",96,"Falmouth",43846641.970000006,0.9037332911469973,{"$f":"X485","v":43356186.710000001},{"$f":"IF(K489>0, K485/K489, 0)","v":0.9007096140723464},null,{"$f":"ROUND(M489*L485,0)","v":35768854},36173479,{"$f":"N485-O485","v":-404625},-1.118568108972875,2810,2721,96,96,476,2721,43356186.710000001,476,96,96,476,2721,43356186.710000001]
["00960879","0096","0879",477,96,"Falmouth                     ",879,"Upper Cape Cod",4670594.6965289721,9.6266708853002703E-2,4779401.0894631529,{"$f":"IF(K489>0, K486/K489, 0)","v":9.9290385927653643E-2},null,{"$f":"ROUND(M489*L486,0)","v":3943006},3853241,{"$f":"N486-O486","v":89765},2.3295973441578139,212.7335640165,208.93693693316001,96,879,477,208.93693693316001,4779401.0894631529,477,96,879,477,208.93693693316001,4779401.0894631529]
["00960998","0096","0998",478,96,"",998,"",0,0,0,{"$f":"IF(K489>0, K487/K489, 0)","v":0},null,{"$f":"ROUND(M489*L487,0)","v":0},0,{"$f":"N487-O487","v":0},0,0,0,96,998,478,0,0,478,96,998,478,0,0]
["00960998","0096","0998",479,96,"",998,"",0,0,0,{"$f":"IF(K489>0, K488/K489, 0)","v":0},null,{"$f":"ROUND(M489*L488,0)","v":0},0,{"$f":"N488-O488","v":0},0,0,0,96,998,479,0,0,479,96,998,479,0,0]
["00960999","0096","0999",480,96,"Falmouth                     ",999,"Total",48517236.666528977,1,{"$f":"SUM(K485:K488)","v":48135587.799463153},{"$f":"SUM(L485:L488)","v":1},{"$f":"VLOOKUP(E489,town351,24)","v":39711860},{"$f":"SUM(N485:N488)","v":39711860},40026720,{"$f":"SUM(P485:P488)","v":-314860},-0.78662453481074646,3022.7335640165002,2929.9369369331598,96,999,480,2929.9369369331598,48135587.799463153,480,96,999,480,2929.9369369331598,48135587.799463153]
["00970097","0097","0097",481,97,"Fitchburg                    ",97,"Fitchburg",110532274.87,0.93056517779130621,{"$f":"X490","v":118652851.60999998},{"$f":"IF(K494>0, K490/K494, 0)","v":0.93341901615653589},null,{"$f":"ROUND(M494*L490,0)","v":25866520},24320887,{"$f":"N490-O490","v":1545633},6.355167062780235,5791,5826,97,97,481,5826,118652851.60999998,481,97,97,481,5826,118652851.60999998]
["00970832","0097","0832",482,97,"Fitchburg                    ",832,"Montachusett",8247449.0095761111,6.9434822208693819E-2,8463534.0177186932,{"$f":"IF(K494>0, K491/K494, 0)","v":6.6580983843464128E-2},null,{"$f":"ROUND(M494*L491,0)","v":1845065},1814721,{"$f":"N491-O491","v":30344},1.6721027640061474,396.00000000288003,390.99999999607996,97,832,482,390.99999999607996,8463534.0177186932,482,97,832,482,390.99999999607996,8463534.0177186932]
["00970998","0097","0998",483,97,"",998,"",0,0,0,{"$f":"IF(K494>0, K492/K494, 0)","v":0},null,{"$f":"ROUND(M494*L492,0)","v":0},0,{"$f":"N492-O492","v":0},0,0,0,97,998,483,0,0,483,97,998,483,0,0]
["00970998","0097","0998",484,97,"",998,"",0,0,0,{"$f":"IF(K494>0, K493/K494, 0)","v":0},null,{"$f":"ROUND(M494*L493,0)","v":0},0,{"$f":"N493-O493","v":0},0,0,0,97,998,484,0,0,484,97,998,484,0,0]
["00970999","0097","0999",485,97,"Fitchburg                    ",999,"Total",118779723.87957612,1,{"$f":"SUM(K490:K493)","v":127116385.62771867},{"$f":"SUM(L490:L493)","v":1},{"$f":"VLOOKUP(E494,town351,24)","v":27711585},{"$f":"SUM(N490:N493)","v":27711585},26135608,{"$f":"SUM(P490:P493)","v":1575977},6.0299993786255133,6187.0000000028804,6216.9999999960801,97,999,485,6216.9999999960801,127116385.62771867,485,97,999,485,6216.9999999960801,127116385.62771867]
["00980098","0098","0098",486,98,"Florida                      ",98,"Florida",767290.65999999992,0.5373958109027982,{"$f":"X495","v":762027.87},{"$f":"IF(K499>0, K495/K499, 0)","v":0.57309335266853345},null,{"$f":"ROUND(M499*L495,0)","v":502830},449313,{"$f":"N495-O495","v":53517},11.910850565196199,47,45,98,98,486,45,762027.87,486,98,98,486,45,762027.87]
["00980851","0098","0851",487,98,"Florida                      ",851,"Northern Berkshire",660503.61087641399,0.46260418909720186,567647.07117968379,{"$f":"IF(K499>0, K496/K499, 0)","v":0.42690664733146649},null,{"$f":"ROUND(M499*L496,0)","v":374567},386781,{"$f":"N496-O496","v":-12214},-3.1578593571038907,28.999999998899998,24.000000001300002,98,851,487,24.000000001300002,567647.07117968379,487,98,851,487,24.000000001300002,567647.07117968379]
["00980998","0098","0998",488,98,"",998,"",0,0,0,{"$f":"IF(K499>0, K497/K499, 0)","v":0},null,{"$f":"ROUND(M499*L497,0)","v":0},0,{"$f":"N497-O497","v":0},0,0,0,98,998,488,0,0,488,98,998,488,0,0]
["00980998","0098","0998",489,98,"",998,"",0,0,0,{"$f":"IF(K499>0, K498/K499, 0)","v":0},null,{"$f":"ROUND(M499*L498,0)","v":0},0,{"$f":"N498-O498","v":0},0,0,0,98,998,489,0,0,489,98,998,489,0,0]
["00980999","0098","0999",490,98,"Florida                      ",999,"Total",1427794.2708764139,1,{"$f":"SUM(K495:K498)","v":1329674.9411796839},{"$f":"SUM(L495:L498)","v":1},{"$f":"VLOOKUP(E499,town351,24)","v":877397},{"$f":"SUM(N495:N498)","v":877397},836094,{"$f":"SUM(P495:P498)","v":41303},4.9399947852753394,75.999999998899995,69.000000001300009,98,999,490,69.000000001300009,1329674.9411796839,490,98,999,490,69.000000001300009,1329674.9411796839]
["00990099","0099","0099",491,99,"Foxborough                   ",99,"Foxborough",37172001.841999993,0.96513331145811254,{"$f":"X500","v":37565196.074800007},{"$f":"IF(K504>0, K500/K504, 0)","v":0.96714683413864977},null,{"$f":"ROUND(M504*L500,0)","v":30991287},29764062,{"$f":"N500-O500","v":1227225},4.1231771389268035,2580,2518,99,99,491,2518,37565196.074800007,491,99,99,491,2518,37565196.074800007]
["00990872","0099","0872",492,99,"Foxborough                   ",872,"Southeastern",1206188.2836217177,3.1317454931858758E-2,1044795.1578955381,{"$f":"IF(K504>0, K501/K504, 0)","v":2.689910967774551E-2},null,{"$f":"ROUND(M504*L501,0)","v":861956},965809,{"$f":"N501-O501","v":-103853},-10.752954259071929,53.000000003979999,44.025492460510002,99,872,492,44.025492460510002,1044795.1578955381,492,99,872,492,44.025492460510002,1044795.1578955381]
["00990915","0099","0915",493,99,"Foxborough                   ",915,"Norfolk County",136698.33661667755,3.549233610028556E-3,231263.01000270396,{"$f":"IF(K504>0, K502/K504, 0)","v":5.9540561836048077E-3},null,{"$f":"ROUND(M504*L502,0)","v":190792},109456,{"$f":"N502-O502","v":81336},74.309311504166061,5.9999999992299999,9.9999999989999999,99,915,493,9.9999999989999999,231263.01000270396,493,99,915,493,9.9999999989999999,231263.01000270396]
["00990998","0099","0998",494,99,"",998,"",0,0,0,{"$f":"IF(K504>0, K503/K504, 0)","v":0},null,{"$f":"ROUND(M504*L503,0)","v":0},0,{"$f":"N503-O503","v":0},0,0,0,99,998,494,0,0,494,99,998,494,0,0]
["00990999","0099","0999",495,99,"Foxborough                   ",999,"Total",38514888.462238394,0.99999999999999989,{"$f":"SUM(K500:K503)","v":38841254.242698245},{"$f":"SUM(L500:L503)","v":1.0000000000000002},{"$f":"VLOOKUP(E504,town351,24)","v":32044035},{"$f":"SUM(N500:N503)","v":32044035},30839327,{"$f":"SUM(P500:P503)","v":1204708},3.9064017188183127,2639.0000000032101,2572.0254924595101,99,999,495,2572.0254924595101,38841254.242698245,495,99,999,495,2572.0254924595101,38841254.242698245]
["01000100","0100","0100",496,100,"Framingham                   ",100,"Framingham",173968070.02614003,0.91366769326322961,{"$f":"X505","v":171534104.08094999},{"$f":"IF(K509>0, K505/K509, 0)","v":0.91012878809455622},null,{"$f":"ROUND(M509*L505,0)","v":85137964},81468888,{"$f":"N505-O505","v":3669076},4.5036529773181631,9532,8948,100,100,496,8948,171534104.08094999,496,100,100,496,8948,171534104.08094999]
["01000829","0100","0829",497,100,"Framingham                   ",829,"South Middlesex",16438213.690427205,8.6332306736770351E-2,16938237.773078643,{"$f":"IF(K509>0, K506/K509, 0)","v":8.9871211905443754E-2},null,{"$f":"ROUND(M509*L506,0)","v":8406999},7697981,{"$f":"N506-O506","v":709018},9.2104410234319882,676.02471910032,673.23418423863995,100,829,497,673.23418423863995,16938237.773078643,497,100,829,497,673.23418423863995,16938237.773078643]
["01000998","0100","0998",498,100,"",998,"",0,0,0,{"$f":"IF(K509>0, K507/K509, 0)","v":0},null,{"$f":"ROUND(M509*L507,0)","v":0},0,{"$f":"N507-O507","v":0},0,0,0,100,998,498,0,0,498,100,998,498,0,0]
["01000998","0100","0998",499,100,"",998,"",0,0,0,{"$f":"IF(K509>0, K508/K509, 0)","v":0},null,{"$f":"ROUND(M509*L508,0)","v":0},0,{"$f":"N508-O508","v":0},0,0,0,100,998,499,0,0,499,100,998,499,0,0]
["01000999","0100","0999",500,100,"Framingham                   ",999,"Total",190406283.71656725,1,{"$f":"SUM(K505:K508)","v":188472341.85402864},{"$f":"SUM(L505:L508)","v":1},{"$f":"VLOOKUP(E509,town351,24)","v":93544963},{"$f":"SUM(N505:N508)","v":93544963},89166869,{"$f":"SUM(P505:P508)","v":4378094},4.910000821044866,10208.02471910032,9621.2341842386395,100,999,500,9621.2341842386395,188472341.85402864,500,100,999,500,9621.2341842386395,188472341.85402864]
["01010101","0101","0101",501,101,"Franklin                     ",101,"Franklin",68009481.34450002,0.94070289474167934,{"$f":"X510","v":68032792.415000007},{"$f":"IF(K514>0, K510/K514, 0)","v":0.93921193990532248},null,{"$f":"ROUND(M514*L510,0)","v":54507737},52439022,{"$f":"N510-O510","v":2068715},3.9449915751670579,4951,4734,101,101,501,4734,68032792.415000007,501,101,101,501,4734,68032792.415000007]
["01010878","0101","0878",502,101,"Franklin                     ",878,"Tri County",3876875.2932440857,5.3624696715940223E-2,4010099.1557054566,{"$f":"IF(K514>0, K511/K514, 0)","v":5.5360552956112516E-2},null,{"$f":"ROUND(M514*L511,0)","v":3212883},2989282,{"$f":"N511-O511","v":223601},7.480090536791109,180.00000000474,182.00000000411998,101,878,502,182.00000000411998,4010099.1557054566,502,101,878,502,182.00000000411998,4010099.1557054566]
["01010915","0101","0915",503,101,"Franklin                     ",915,"Norfolk County",410095.00990995212,5.6724085423805063E-3,393147.11706726893,{"$f":"IF(K514>0, K512/K514, 0)","v":5.4275071385651652E-3},null,{"$f":"ROUND(M514*L512,0)","v":314989},316206,{"$f":"N512-O512","v":-1217},-0.38487568230836861,18.00000000032,17.000000001009997,101,915,503,17.000000001009997,393147.11706726893,503,101,915,503,17.000000001009997,393147.11706726893]
["01010998","0101","0998",504,101,"",998,"",0,0,0,{"$f":"IF(K514>0, K513/K514, 0)","v":0},null,{"$f":"ROUND(M514*L513,0)","v":0},0,{"$f":"N513-O513","v":0},0,0,0,101,998,504,0,0,504,101,998,504,0,0]
["01010999","0101","0999",505,101,"Franklin                     ",999,"Total",72296451.647654057,1,{"$f":"SUM(K510:K513)","v":72436038.687772721},{"$f":"SUM(L510:L513)","v":1.0000000000000002},{"$f":"VLOOKUP(E514,town351,24)","v":58035609},{"$f":"SUM(N510:N513)","v":58035609},55744510,{"$f":"SUM(P510:P513)","v":2291099},4.1099993524025953,5149.0000000050604,4933.0000000051305,101,999,505,4933.0000000051305,72436038.687772721,505,101,999,505,4933.0000000051305,72436038.687772721]
["01020102","0102","0102",506,102,"Freetown                     ",102,"Freetown",17354.29,1.0140421615269738E-3,{"$f":"X515","v":18046.96},{"$f":"IF(K519>0, K515/K519, 0)","v":9.7101833581236883E-4},null,{"$f":"ROUND(M519*L515,0)","v":13223},13171,{"$f":"N515-O515","v":52},0.39480677245463519,1,1,102,102,506,1,18046.96,506,102,102,506,1,18046.96]
["01020665","0102","0665",507,102,"Freetown                     ",665,"Freetown Lakeville",14899833.996588387,0.87062391329714872,15897762.986807531,{"$f":"IF(K519>0, K516/K519, 0)","v":0.85538059366172048},null,{"$f":"ROUND(M519*L516,0)","v":11648144},11308395,{"$f":"N516-O516","v":339749},3.00439629142774,1109.3424553318,1128.6706151961901,102,665,507,1128.6706151961901,15897762.986807531,507,102,665,507,1128.6706151961901,15897762.986807531]
["01020810","0102","0810",508,102,"Freetown                     ",810,"Bristol Plymouth",1646755.0951112609,9.6222841507902668E-2,2055958.4938418486,{"$f":"IF(K519>0, K517/K519, 0)","v":0.11062103507680053},null,{"$f":"ROUND(M519*L517,0)","v":1506382},1249823,{"$f":"N517-O517","v":256559},20.527626711942411,79.288531770000006,95.279001472260006,102,810,508,95.279001472260006,2055958.4938418486,508,102,810,508,95.279001472260006,2055958.4938418486]
["01020910","0102","0910",509,102,"Freetown                     ",910,"Bristol County",550029.44746498531,3.213920303342175E-2,613833.22556595074,{"$f":"IF(K519>0, K518/K519, 0)","v":3.3027352925666588E-2},null,{"$f":"ROUND(M519*L518,0)","v":449750},417451,{"$f":"N518-O518","v":32299},7.7371955031848048,26.000000001259998,27.999999997470002,102,910,509,27.999999997470002,613833.22556595074,509,102,910,509,27.999999997470002,613833.22556595074]
["01020999","0102","0999",510,102,"Freetown                     ",999,"Total",17113972.829164632,1.0000000000000002,{"$f":"SUM(K515:K518)","v":18585601.66621533},{"$f":"SUM(L515:L518)","v":1},{"$f":"VLOOKUP(E519,town351,24)","v":13617499},{"$f":"SUM(N515:N518)","v":13617499},12988840,{"$f":"SUM(P515:P518)","v":628659},4.8399934097271196,1215.6309871030601,1252.9496166659201,102,999,510,1252.9496166659201,18585601.66621533,510,102,999,510,1252.9496166659201,18585601.66621533]
["01030103","0103","0103",511,103,"Gardner                      ",103,"Gardner",45038410.019999996,0.93231335898435863,{"$f":"X520","v":46507130.32},{"$f":"IF(K524>0, K520/K524, 0)","v":0.93596293351597648},null,{"$f":"ROUND(M524*L520,0)","v":13487454},12662453,{"$f":"N520-O520","v":825001},6.5153331664883574,2500,2465,103,103,511,2465,46507130.32,511,103,103,511,2465,46507130.32]
["01030832","0103","0832",512,103,"Gardner                      ",832,"Montachusett",3269821.9558496601,6.76866410156413E-2,3181942.4569468279,{"$f":"IF(K524>0, K521/K524, 0)","v":6.4037066484023533E-2},null,{"$f":"ROUND(M524*L521,0)","v":922790},919303,{"$f":"N521-O521","v":3487},0.37930910700824427,157.00000000272001,147.00000000579999,103,832,512,147.00000000579999,3181942.4569468279,512,103,832,512,147.00000000579999,3181942.4569468279]
[{"$f":"B522&C522","v":"01030998"},"0103","0998",513,103,"",998,"",0,0,0,{"$f":"IF(K524>0, K522/K524, 0)","v":0},null,{"$f":"ROUND(M524*L522,0)","v":0},0,{"$f":"N522-O522","v":0},0,0,0,{"$f":"VLOOKUP($D522, foundoptions, VLOOKUP($T$6, foundoptcell, 2, FALSE), FALSE)","v":103},{"$f":"VLOOKUP($D522, foundoptions, VLOOKUP($T$6, foundoptcell, 2, FALSE)+1, FALSE)","v":998},{"$f":"VLOOKUP($D522, foundoptions, VLOOKUP($T$6, foundoptcell, 2, FALSE)+2, FALSE)","v":513},{"$f":"VLOOKUP($D522, foundoptions, VLOOKUP($T$6, foundoptcell, 2, FALSE)+3, FALSE)","v":0},{"$f":"VLOOKUP($D522, foundoptions, VLOOKUP($T$6, foundoptcell, 2, FALSE)+4, FALSE)","v":0},513,103,998,513,0,0]
["01030998","0103","0998",514,103,"",998,"",0,0,0,{"$f":"IF(K524>0, K523/K524, 0)","v":0},null,{"$f":"ROUND(M524*L523,0)","v":0},0,{"$f":"N523-O523","v":0},0,0,{"$f":"W523","v":0},103,998,514,0,0,{"$f":"D523","v":514},103,998,514,0,0]
["01030999","0103","0999",515,103,"Gardner                      ",999,"Total",48308231.975849658,0.99999999999999989,{"$f":"SUM(K520:K523)","v":49689072.776946828},{"$f":"SUM(L520:L523)","v":1},{"$f":"VLOOKUP(E524,town351,24)","v":14410244},{"$f":"SUM(N520:N523)","v":14410244},13581756,{"$f":"SUM(P520:P523)","v":828488},6.1000065087312718,2657.0000000027198,2612.0000000057998,103,999,515,2612.0000000057998,49689072.776946828,515,103,999,515,2612.0000000057998,49689072.776946828]
["01040104","0104","0104",516,104,"Aquinnah",104,"Aquinnah",0,0,{"$f":"X525","v":0},{"$f":"IF(K529>0, K525/K529, 0)","v":0},null,{"$f":"ROUND(M529*L525,0)","v":0},0,{"$f":"N525-O525","v":0},0,0,0,104,104,516,0,0,516,104,104,516,0,0]
["01040700","0104","0700",517,104,"Aquinnah",700,"Marthas Vineyard",228692.6746203824,0.27232105482874913,253706.52677652173,{"$f":"IF(K529>0, K526/K529, 0)","v":0.27932074782850735},null,{"$f":"ROUND(M529*L526,0)","v":209308},188671,{"$f":"N526-O526","v":20637},10.938087994445358,12.00000000164,12.9999999997,104,700,517,12.9999999997,253706.52677652173,517,104,700,517,12.9999999997,253706.52677652173]
["01040774","0104","0774",518,104,"Aquinnah",774,"Upisland",611097.9716232483,0.72767894517125087,654591.65282125084,{"$f":"IF(K529>0, K527/K529, 0)","v":0.72067925217149265},null,{"$f":"ROUND(M529*L527,0)","v":540038},504156,{"$f":"N527-O527","v":35882},7.1172414887455471,43.883905014180002,44.885204082670001,104,774,518,44.885204082670001,654591.65282125084,518,104,774,518,44.885204082670001,654591.65282125084]
["01040998","0104","0998",519,104,"",998,"",0,0,0,{"$f":"IF(K529>0, K528/K529, 0)","v":0},null,{"$f":"ROUND(M529*L528,0)","v":0},0,{"$f":"N528-O528","v":0},{"$f":"IF(O528>0,P528*100/O528,IF(P528>0,100,0))","v":0},0,0,104,998,519,0,0,519,104,998,519,0,0]
["01040999","0104","0999",520,104,"Aquinnah",999,"Total",839790.64624363068,1,{"$f":"SUM(K525:K528)","v":908298.17959777254},{"$f":"SUM(L525:L528)","v":1},{"$f":"VLOOKUP(E529,town351,24)","v":749346},{"$f":"SUM(N525:N528)","v":749346},692827,{"$f":"SUM(P525:P528)","v":56519},{"$f":"IF(O529>0,P529*100/O529,IF(P529>0,100,0))","v":8.1577363468802453},55.883905015820005,57.885204082370002,104,999,520,57.885204082370002,908298.17959777254,520,104,999,520,57.885204082370002,908298.17959777254]
["01050105","0105","0105",521,105,"Georgetown                   ",105,"Georgetown",15021753.369999997,0.92043143022726137,{"$f":"X530","v":15137073.930000005},{"$f":"IF(K534>0, K530/K534, 0)","v":0.91186670315581064},null,{"$f":"ROUND(M534*L530,0)","v":12426278},12206104,{"$f":"N530-O530","v":220174},1.8038024254094509,1157,1114,105,105,521,1114,15137073.930000005,521,105,105,521,1114,15137073.930000005]
["01050885","0105","0885",522,105,"Georgetown                   ",885,"Whittier",1298586.0672256683,7.9568569772738629E-2,1463021.1032030368,{"$f":"IF(K534>0, K531/K534, 0)","v":8.8133296844189329E-2},null,{"$f":"ROUND(M534*L531,0)","v":1201019},1055182,{"$f":"N531-O531","v":145837},13.821028031183246,58.999999997539994,65.000000000879993,105,885,522,65.000000000879993,1463021.1032030368,522,105,885,522,65.000000000879993,1463021.1032030368]
["01050998","0105","0998",523,105,"",998,null,0,0,0,{"$f":"IF(K534>0, K532/K534, 0)","v":0},null,{"$f":"ROUND(M534*L532,0)","v":0},0,{"$f":"N532-O532","v":0},0,0,0,105,998,523,0,0,523,105,998,523,0,0]
["01050998","0105","0998",524,105,"",998,"",0,0,0,{"$f":"IF(K534>0, K533/K534, 0)","v":0},null,{"$f":"ROUND(M534*L533,0)","v":0},0,{"$f":"N533-O533","v":0},0,0,0,105,998,524,0,0,524,105,998,524,0,0]
["01050999","0105","0999",525,105,"Georgetown                   ",999,"Total",16320339.437225666,1,{"$f":"SUM(K530:K533)","v":16600095.033203043},{"$f":"SUM(L530:L533)","v":1},{"$f":"VLOOKUP(E534,town351,24)","v":13627297},{"$f":"SUM(N530:N533)","v":13627297},13261286,{"$f":"SUM(P530:P533)","v":366011},2.7599962778873786,1215.99999999754,1179.0000000008799,105,999,525,1179.0000000008799,16600095.033203043,525,105,999,525,1179.0000000008799,16600095.033203043]
["01060106","0106","0106",526,106,"Gill                         ",106,"Gill",0,0,{"$f":"X535","v":0},{"$f":"IF(K539>0, K535/K539, 0)","v":0},null,{"$f":"ROUND(M539*L535,0)","v":0},0,{"$f":"N535-O535","v":0},0,0,0,106,106,526,0,0,526,106,106,526,0,0]
["01060674","0106","0674",527,106,"Gill                         ",674,"Gill Montague",1868411.5079745958,0.83740829218695434,2069899.492671662,{"$f":"IF(K539>0, K536/K539, 0)","v":0.86335307258517524},null,{"$f":"ROUND(M539*L536,0)","v":1188591},1107254,{"$f":"N536-O536","v":81337},7.3458303153567295,110.19548872208,115.74353205503999,106,674,527,115.74353205503999,2069899.492671662,527,106,674,527,115.74353205503999,2069899.492671662]
["01060818","0106","0818",528,106,"Gill                         ",818,"Franklin County",362771.92477491678,0.16259170781304558,327612.67054294614,{"$f":"IF(K539>0, K537/K539, 0)","v":0.13664692741482481},null,{"$f":"ROUND(M539*L537,0)","v":188124},214985,{"$f":"N537-O537","v":-26861},-12.494360071632904,16.00000000164,13.999999997370001,106,818,528,13.999999997370001,327612.67054294614,528,106,818,528,13.999999997370001,327612.67054294614]
["01060998","0106","0998",529,106,"",998,"",0,0,0,{"$f":"IF(K539>0, K538/K539, 0)","v":0},null,{"$f":"ROUND(M539*L538,0)","v":0},0,{"$f":"N538-O538","v":0},0,0,0,106,998,529,0,0,529,106,998,529,0,0]
["01060999","0106","0999",530,106,"Gill                         ",999,"Total",2231183.4327495126,0.99999999999999989,{"$f":"SUM(K535:K538)","v":2397512.1632146081},{"$f":"SUM(L535:L538)","v":1},{"$f":"VLOOKUP(E539,town351,24)","v":1376715},{"$f":"SUM(N535:N538)","v":1376715},1322239,{"$f":"SUM(P535:P538)","v":54476},4.1199813346906273,126.19548872372,129.74353205240999,106,999,530,129.74353205240999,2397512.1632146081,530,106,999,530,129.74353205240999,2397512.1632146081]
["01070107","0107","0107",531,107,"Gloucester                   ",107,"Gloucester",50710044.196819998,0.95743196153089216,{"$f":"X540","v":52844391.700600013},{"$f":"IF(K544>0, K540/K544, 0)","v":0.95718493112896019},null,{"$f":"ROUND(M544*L540,0)","v":41501767},39344590,{"$f":"N540-O540","v":2157177},5.4827792080181803,3009,2952,107,107,531,2952,52844391.700600013,531,107,107,531,2952,52844391.700600013]
["01070817","0107","0817",532,107,"Gloucester                   ",817,"Essex North Shore",2254601.0566524668,4.2568038469107859E-2,2363739.9592582667,{"$f":"IF(K544>0, K541/K544, 0)","v":4.2815068871039828E-2},null,{"$f":"ROUND(M544*L541,0)","v":1856382},1749286,{"$f":"N541-O541","v":107096},6.1222693144517253,108.00000000136001,106.999999993,107,817,532,106.999999993,2363739.9592582667,532,107,817,532,106.999999993,2363739.9592582667]
["01070998","0107","0998",533,107,"",998,null,0,0,0,{"$f":"IF(K544>0, K542/K544, 0)","v":0},null,{"$f":"ROUND(M544*L542,0)","v":0},0,{"$f":"N542-O542","v":0},0,0,0,107,998,533,0,0,533,107,998,533,0,0]
["01070998","0107","0998",534,107,"",998,"",0,0,0,{"$f":"IF(K544>0, K543/K544, 0)","v":0},null,{"$f":"ROUND(M544*L543,0)","v":0},0,{"$f":"N543-O543","v":0},0,0,0,107,998,534,0,0,534,107,998,534,0,0]
["01070999","0107","0999",535,107,"Gloucester                   ",999,"Total",52964645.253472462,1,{"$f":"SUM(K540:K543)","v":55208131.659858279},{"$f":"SUM(L540:L543)","v":1},{"$f":"VLOOKUP(E544,town351,24)","v":43358149},{"$f":"SUM(N540:N543)","v":43358149},41093876,{"$f":"SUM(P540:P543)","v":2264273},5.5100010522249105,3117.0000000013601,3058.9999999930001,107,999,535,3058.9999999930001,55208131.659858279,535,107,999,535,3058.9999999930001,55208131.659858279]
["01080108","0108","0108",536,108,"Goshen                       ",108,"Goshen",240365.82,0.16728616935077181,{"$f":"X545","v":303950},{"$f":"IF(K549>0, K545/K549, 0)","v":0.1997328737116961},null,{"$f":"ROUND(M549*L545,0)","v":192480},155850,{"$f":"N545-O545","v":36630},23.503368623676611,12,15,108,108,536,15,303950,536,108,108,536,15,303950]
["01080632","0108","0632",537,108,"Goshen                       ",632,"Chesterfield Goshen",680336.68075585098,0.47349043716974926,717030.77611450339,{"$f":"IF(K549>0, K546/K549, 0)","v":0.47117821172257784},null,{"$f":"ROUND(M549*L546,0)","v":454069},441123,{"$f":"N546-O546","v":12946},2.9347823622889759,47.09433962272,49.681034482329999,108,632,537,49.681034482329999,717030.77611450339,537,108,632,537,49.681034482329999,717030.77611450339]
["01080683","0108","0683",538,108,"Goshen                       ",683,"Hampshire",516151.6093767811,0.35922339347947896,500801.76449388859,{"$f":"IF(K549>0, K547/K549, 0)","v":0.32908891456572598},null,{"$f":"ROUND(M549*L547,0)","v":317139},334667,{"$f":"N547-O547","v":-17528},-5.2374449826245195,36.124567471600002,34.000000000230003,108,683,538,34.000000000230003,500801.76449388859,538,108,683,538,34.000000000230003,500801.76449388859]
["01080998","0108","0998",539,108,"",998,"",0,0,0,{"$f":"IF(K549>0, K548/K549, 0)","v":0},null,{"$f":"ROUND(M549*L548,0)","v":0},0,{"$f":"N548-O548","v":0},0,0,0,108,998,539,0,0,539,108,998,539,0,0]
["01080999","0108","0999",540,108,"Goshen                       ",999,"Total",1436854.1101326321,1,{"$f":"SUM(K545:K548)","v":1521782.5406083921},{"$f":"SUM(L545:L548)","v":0.99999999999999989},{"$f":"VLOOKUP(E549,town351,24)","v":963688},{"$f":"SUM(N545:N548)","v":963688},931640,{"$f":"SUM(P545:P548)","v":32048},3.4399553475591431,95.218907094320002,98.681034482560008,108,999,540,98.681034482560008,1521782.5406083921,540,108,999,540,98.681034482560008,1521782.5406083921]
["01090109","0109","0109",541,109,"Gosnold                      ",109,"Gosnold",0,0,{"$f":"X550","v":0},{"$f":"IF(K554>0, K550/K554, 0)","v":0},null,{"$f":"ROUND(M554*L550,0)","v":0},0,{"$f":"N550-O550","v":0},0,0,0,109,109,541,0,0,541,109,109,541,0,0]
["01090998","0109","0998",542,109,"",998,"",0,0,0,{"$f":"IF(K554>0, K551/K554, 0)","v":0},null,{"$f":"ROUND(M554*L551,0)","v":0},0,{"$f":"N551-O551","v":0},0,0,0,109,998,542,0,0,542,109,998,542,0,0]
["01090998","0109","0998",543,109,"",998,"",0,0,0,{"$f":"IF(K554>0, K552/K554, 0)","v":0},null,{"$f":"ROUND(M554*L552,0)","v":0},0,{"$f":"N552-O552","v":0},0,0,0,109,998,543,0,0,543,109,998,543,0,0]
["01090998","0109","0998",544,109,"",998,"",0,0,0,{"$f":"IF(K554>0, K553/K554, 0)","v":0},null,{"$f":"ROUND(M554*L553,0)","v":0},0,{"$f":"N553-O553","v":0},0,0,0,109,998,544,0,0,544,109,998,544,0,0]
["01090999","0109","0999",545,109,"Gosnold                      ",999,"Total",0,0,{"$f":"SUM(K550:K553)","v":0},{"$f":"SUM(L550:L553)","v":0},{"$f":"VLOOKUP(E554,town351,24)","v":0},{"$f":"SUM(N550:N553)","v":0},0,{"$f":"SUM(P550:P553)","v":0},0,0,0,109,999,545,0,0,545,109,999,545,0,0]
["01100110","0110","0110",546,110,"Grafton                      ",110,"Grafton",39402336.330000006,0.95427641231755311,{"$f":"X555","v":41546834.43},{"$f":"IF(K559>0, K555/K559, 0)","v":0.95580240166127983},null,{"$f":"ROUND(M559*L555,0)","v":29482229},27625677,{"$f":"N555-O555","v":1856552},6.7203855311853538,2956,2971,110,110,546,2971,41546834.43,546,110,110,546,2971,41546834.43]
["01100805","0110","0805",547,110,"Grafton                      ",805,"Blackstone Valley",1887939.5496139552,4.5723587682446998E-2,1921181.9275519999,{"$f":"IF(K559>0, K556/K559, 0)","v":4.4197598338720133E-2},null,{"$f":"ROUND(M559*L556,0)","v":1363298},1323668,{"$f":"N556-O556","v":39630},2.9939531665039874,94.000000000980009,92,110,805,547,92,1921181.9275519999,547,110,805,547,92,1921181.9275519999]
["01100998","0110","0998",548,110,"",998,"",0,0,0,{"$f":"IF(K559>0, K557/K559, 0)","v":0},null,{"$f":"ROUND(M559*L557,0)","v":0},0,{"$f":"N557-O557","v":0},0,0,0,110,998,548,0,0,548,110,998,548,0,0]
["01100998","0110","0998",549,110,"",998,"",0,0,0,{"$f":"IF(K559>0, K558/K559, 0)","v":0},null,{"$f":"ROUND(M559*L558,0)","v":0},0,{"$f":"N558-O558","v":0},0,0,0,110,998,549,0,0,549,110,998,549,0,0]
["01100999","0110","0999",550,110,"Grafton                      ",999,"Total",41290275.879613958,1,{"$f":"SUM(K555:K558)","v":43468016.357551999},{"$f":"SUM(L555:L558)","v":1},{"$f":"VLOOKUP(E559,town351,24)","v":30845527},{"$f":"SUM(N555:N558)","v":30845527},28949345,{"$f":"SUM(P555:P558)","v":1896182},6.5499996632048152,3050.00000000098,3063,110,999,550,3063,43468016.357551999,550,110,999,550,3063,43468016.357551999]
["01110111","0111","0111",551,111,"Granby                       ",111,"Granby",9473831.2400000002,0.95301397162875512,{"$f":"X560","v":9405693.3199999984},{"$f":"IF(K564>0, K560/K564, 0)","v":0.9354115023712315},null,{"$f":"ROUND(M564*L560,0)","v":6621887},6338906,{"$f":"N560-O560","v":282981},4.4641930326778789,641,626,111,111,551,626,9405693.3199999984,551,111,111,551,626,9405693.3199999984]
["01110860","0111","0860",552,111,"Granby                       ",860,"Pathfinder",467084.13169038919,4.6986028371244902E-2,649446.36574999988,{"$f":"IF(K564>0, K561/K564, 0)","v":6.4588497628768504E-2},null,{"$f":"ROUND(M564*L561,0)","v":457230},312524,{"$f":"N561-O561","v":144706},46.302363978446458,21.000000001889997,28,111,860,552,28,649446.36574999988,552,111,860,552,28,649446.36574999988]
["01110998","0111","0998",553,111,"",998,"",0,0,0,{"$f":"IF(K564>0, K562/K564, 0)","v":0},null,{"$f":"ROUND(M564*L562,0)","v":0},0,{"$f":"N562-O562","v":0},0,0,0,111,998,553,0,0,553,111,998,553,0,0]
["01110998","0111","0998",554,111,"",998,"",0,0,0,{"$f":"IF(K564>0, K563/K564, 0)","v":0},null,{"$f":"ROUND(M564*L563,0)","v":0},0,{"$f":"N563-O563","v":0},0,0,0,111,998,554,0,0,554,111,998,554,0,0]
["01110999","0111","0999",555,111,"Granby                       ",999,"Total",9940915.3716903888,1,{"$f":"SUM(K560:K563)","v":10055139.685749998},{"$f":"SUM(L560:L563)","v":1},{"$f":"VLOOKUP(E564,town351,24)","v":7079117},{"$f":"SUM(N560:N563)","v":7079117},6651430,{"$f":"SUM(P560:P563)","v":427687},6.4300007667524124,662.00000000189004,654,111,999,555,654,10055139.685749998,555,111,999,555,654,10055139.685749998]
["01120112","0112","0112",556,112,"Granville                    ",112,"Granville",465971.59,0.18056109619760141,{"$f":"X565","v":430278.72000000003},{"$f":"IF(K569>0, K565/K569, 0)","v":0.1545805572958375},null,{"$f":"ROUND(M569*L565,0)","v":295997},326452,{"$f":"N565-O565","v":-30455},-9.3290897283521002,25,22,112,112,556,22,430278.72000000003,556,112,112,556,22,430278.72000000003]
["01120766","0112","0766",557,112,"Granville                    ",766,"Southwick Tolland Granville",2114714.9466504683,0.8194389038023987,2353245.4665283817,{"$f":"IF(K569>0, K566/K569, 0)","v":0.84541944270416247},null,{"$f":"ROUND(M569*L566,0)","v":1618844},1481537,{"$f":"N566-O566","v":137307},9.2678751863773901,140.39932886503999,149.64867180580001,112,766,557,149.64867180580001,2353245.4665283817,557,112,766,557,149.64867180580001,2353245.4665283817]
["01120998","0112","0998",558,112,"",998,"",0,0,0,{"$f":"IF(K569>0, K567/K569, 0)","v":0},null,{"$f":"ROUND(M569*L567,0)","v":0},0,{"$f":"N567-O567","v":0},0,0,0,112,998,558,0,0,558,112,998,558,0,0]
["01120998","0112","0998",559,112,"",998,"",0,0,0,{"$f":"IF(K569>0, K568/K569, 0)","v":0},null,{"$f":"ROUND(M569*L568,0)","v":0},0,{"$f":"N568-O568","v":0},0,0,0,112,998,559,0,0,559,112,998,559,0,0]
["01120999","0112","0999",560,112,"Granville                    ",999,"Total",2580686.5366504681,1,{"$f":"SUM(K565:K568)","v":2783524.1865283819},{"$f":"SUM(L565:L568)","v":1},{"$f":"VLOOKUP(E569,town351,24)","v":1914841},{"$f":"SUM(N565:N568)","v":1914841},1807989,{"$f":"SUM(P565:P568)","v":106852},5.9099917090203533,165.39932886503999,171.64867180580001,112,999,560,171.64867180580001,2783524.1865283819,560,112,999,560,171.64867180580001,2783524.1865283819]
["01130113","0113","0113",561,113,"Great Barrington             ",113,"Great Barrington",0,0,{"$f":"X570","v":0},{"$f":"IF(K574>0, K570/K574, 0)","v":0},null,{"$f":"ROUND(M574*L570,0)","v":0},0,{"$f":"N570-O570","v":0},0,0,0,113,113,561,0,0,561,113,113,561,0,0]
["01130618","0113","0618",562,113,"Great Barrington             ",618,"Berkshire Hills",11563250.825278234,1,11414551.678842165,{"$f":"IF(K574>0, K571/K574, 0)","v":1},null,{"$f":"ROUND(M574*L571,0)","v":9417005},9169459,{"$f":"N571-O571","v":247546},2.6996794467372611,677.30097087017998,652.71902655077997,113,618,562,652.71902655077997,11414551.678842165,562,113,618,562,652.71902655077997,11414551.678842165]
["01130998","0113","0998",563,113,"",998,"",0,0,0,{"$f":"IF(K574>0, K572/K574, 0)","v":0},null,{"$f":"ROUND(M574*L572,0)","v":0},0,{"$f":"N572-O572","v":0},0,0,0,113,998,563,0,0,563,113,998,563,0,0]
["01130998","0113","0998",564,113,"",998,"",0,0,0,{"$f":"IF(K574>0, K573/K574, 0)","v":0},null,{"$f":"ROUND(M574*L573,0)","v":0},0,{"$f":"N573-O573","v":0},0,0,0,113,998,564,0,0,564,113,998,564,0,0]
["01130999","0113","0999",565,113,"Great Barrington             ",999,"Total",11563250.825278234,1,{"$f":"SUM(K570:K573)","v":11414551.678842165},{"$f":"SUM(L570:L573)","v":1},{"$f":"VLOOKUP(E574,town351,24)","v":9417005},{"$f":"SUM(N570:N573)","v":9417005},9169459,{"$f":"SUM(P570:P573)","v":247546},2.6996794467372611,677.30097087017998,652.71902655077997,113,999,565,652.71902655077997,11414551.678842165,565,113,999,565,652.71902655077997,11414551.678842165]
["01140114","0114","0114",566,114,"Greenfield                   ",114,"Greenfield",28110844.75,0.90180564782059469,{"$f":"X575","v":28107599.75},{"$f":"IF(K579>0, K575/K579, 0)","v":0.90301721854878891},null,{"$f":"ROUND(M579*L575,0)","v":12549723},11981726,{"$f":"N575-O575","v":567997},4.7405273664245033,1686,1631,114,114,566,1631,28107599.75,566,114,114,566,1631,28107599.75]
["01140818","0114","0818",567,114,"Greenfield                   ",818,"Franklin County",3060888.114986863,9.8194352179405309E-2,3018716.7505545034,{"$f":"IF(K579>0, K576/K579, 0)","v":9.6982781451211114E-2},null,{"$f":"ROUND(M579*L576,0)","v":1347823},1304647,{"$f":"N576-O576","v":43176},3.3094009337391648,135.00000000054001,128.99999999933999,114,818,567,128.99999999933999,3018716.7505545034,567,114,818,567,128.99999999933999,3018716.7505545034]
["01140998","0114","0998",568,114,"",998,"",0,0,0,{"$f":"IF(K579>0, K577/K579, 0)","v":0},null,{"$f":"ROUND(M579*L577,0)","v":0},0,{"$f":"N577-O577","v":0},0,0,0,114,998,568,0,0,568,114,998,568,0,0]
["01140998","0114","0998",569,114,"",998,"",0,0,0,{"$f":"IF(K579>0, K578/K579, 0)","v":0},null,{"$f":"ROUND(M579*L578,0)","v":0},0,{"$f":"N578-O578","v":0},0,0,0,114,998,569,0,0,569,114,998,569,0,0]
["01140999","0114","0999",570,114,"Greenfield                   ",999,"Total",31171732.864986863,1,{"$f":"SUM(K575:K578)","v":31126316.500554502},{"$f":"SUM(L575:L578)","v":1},{"$f":"VLOOKUP(E579,town351,24)","v":13897546},{"$f":"SUM(N575:N578)","v":13897546},13286373,{"$f":"SUM(P575:P578)","v":611173},4.5999988108116492,1821.00000000054,1759.9999999993399,114,999,570,1759.9999999993399,31126316.500554502,570,114,999,570,1759.9999999993399,31126316.500554502]
["01150115","0115","0115",571,115,"Groton                       ",115,"Groton",0,0,{"$f":"X580","v":0},{"$f":"IF(K584>0, K580/K584, 0)","v":0},null,{"$f":"ROUND(M584*L580,0)","v":0},0,{"$f":"N580-O580","v":0},0,0,0,115,115,571,0,0,571,115,115,571,0,0]
["01150673","0115","0673",572,115,"Groton                       ",673,"Groton Dunstable",21649788.741450675,0.95722955184395364,22591952.528584722,{"$f":"IF(K584>0, K581/K584, 0)","v":0.95715258821596205},null,{"$f":"ROUND(M584*L581,0)","v":18543664},17861075,{"$f":"N581-O581","v":682589},3.8216568711569714,1689.57266435932,1674.07120879024,115,673,572,1674.07120879024,22591952.528584722,572,115,673,572,1674.07120879024,22591952.528584722]
["01150852","0115","0852",573,115,"Groton                       ",852,"Nashoba Valley",967344.94371995924,4.277044815604631E-2,1011339.9941820962,{"$f":"IF(K584>0, K582/K584, 0)","v":4.2847411784038052E-2},null,{"$f":"ROUND(M584*L582,0)","v":830116},798060,{"$f":"N582-O582","v":32056},4.0167405959451674,45.99999999712,45.999999999800004,115,852,573,45.999999999800004,1011339.9941820962,573,115,852,573,45.999999999800004,1011339.9941820962]
["01150998","0115","0998",574,115,"",998,"",0,0,0,{"$f":"IF(K584>0, K583/K584, 0)","v":0},null,{"$f":"ROUND(M584*L583,0)","v":0},0,{"$f":"N583-O583","v":0},0,0,0,115,998,574,0,0,574,115,998,574,0,0]
["01150999","0115","0999",575,115,"Groton                       ",999,"Total",22617133.685170636,1,{"$f":"SUM(K580:K583)","v":23603292.522766817},{"$f":"SUM(L580:L583)","v":1},{"$f":"VLOOKUP(E584,town351,24)","v":19373780},{"$f":"SUM(N580:N583)","v":19373780},18659135,{"$f":"SUM(P580:P583)","v":714645},3.8300006940300286,1735.5726643564401,1720.0712087900399,115,999,575,1720.0712087900399,23603292.522766817,575,115,999,575,1720.0712087900399,23603292.522766817]
["01160116","0116","0116",576,116,"Groveland                    ",116,"Groveland",138834.32,1.0951090015326187E-2,{"$f":"X585","v":126328.72},{"$f":"IF(K589>0, K585/K589, 0)","v":9.6064788857102811E-3},null,{"$f":"ROUND(M589*L585,0)","v":94383},101705,{"$f":"N585-O585","v":-7322},-7.1992527407698734,8,7,116,116,576,7,126328.72,576,116,116,576,7,126328.72]
[{"$f":"B586&C586","v":"01160745"},"0116","0745",577,116,"Groveland                    ",745,"Pentucket",11680449.616818842,0.92134030816922918,12281273.4155271,{"$f":"IF(K589>0, K586/K589, 0)","v":0.93391109920132243},null,{"$f":"ROUND(M589*L586,0)","v":9175614},8556675,{"$f":"N586-O586","v":618939},7.2334054992155243,891.73670444380002,903.68925334536004,{"$f":"VLOOKUP($D586, foundoptions, VLOOKUP($T$6, foundoptcell, 2, FALSE), FALSE)","v":116},{"$f":"VLOOKUP($D586, foundoptions, VLOOKUP($T$6, foundoptcell, 2, FALSE)+1, FALSE)","v":745},{"$f":"VLOOKUP($D586, foundoptions, VLOOKUP($T$6, foundoptcell, 2, FALSE)+2, FALSE)","v":577},{"$f":"VLOOKUP($D586, foundoptions, VLOOKUP($T$6, foundoptcell, 2, FALSE)+3, FALSE)","v":903.68925334536004},{"$f":"VLOOKUP($D586, foundoptions, VLOOKUP($T$6, foundoptcell, 2, FALSE)+4, FALSE)","v":12281273.4155271},577,116,745,577,903.68925334536004,12281273.4155271]
["01160885","0116","0885",578,116,"Groveland                    ",885,"Whittier",858387.40052745515,6.770860181544458E-2,742764.56000741466,{"$f":"IF(K589>0, K587/K589, 0)","v":5.6482421912967345E-2},null,{"$f":"ROUND(M589*L587,0)","v":554936},628824,{"$f":"N587-O587","v":-73888},-11.750187651870794,39.00000000555,{"$f":"W587","v":32.99999999688},116,885,578,32.99999999688,742764.56000741466,{"$f":"D587","v":578},116,885,578,32.99999999688,742764.56000741466]
["01160998","0116","0998",579,116,"",998,null,0,0,0,{"$f":"IF(K589>0, K588/K589, 0)","v":0},null,{"$f":"ROUND(M589*L588,0)","v":0},0,{"$f":"N588-O588","v":0},0,0,0,116,998,579,0,0,579,116,998,579,0,0]
["01160999","0116","0999",580,116,"Groveland                    ",999,"Total",12677671.337346297,1,{"$f":"SUM(K585:K588)","v":13150366.695534514},{"$f":"SUM(L585:L588)","v":1},{"$f":"VLOOKUP(E589,town351,24)","v":9824933},{"$f":"SUM(N585:N588)","v":9824933},9287204,{"$f":"SUM(P585:P588)","v":537729},5.7899987983466286,938.73670444934999,943.68925334224002,116,999,580,943.68925334224002,13150366.695534514,580,116,999,580,943.68925334224002,13150366.695534514]
["01170117","0117","0117",581,117,"Hadley                       ",117,"Hadley",6594207.0499999998,1,{"$f":"X590","v":6534075.6100000003},{"$f":"IF(K594>0, K590/K594, 0)","v":1},null,{"$f":"ROUND(M594*L590,0)","v":5390612},5374427,{"$f":"N590-O590","v":16185},0.30114838288807344,435,415,117,117,581,415,6534075.6100000003,581,117,117,581,415,6534075.6100000003]
["01170998","0117","0998",582,117,"",998,"",0,0,0,{"$f":"IF(K594>0, K591/K594, 0)","v":0},null,{"$f":"ROUND(M594*L591,0)","v":0},0,{"$f":"N591-O591","v":0},0,0,0,117,998,582,0,0,582,117,998,582,0,0]
["01170998","0117","0998",583,117,"",998,"",0,0,0,{"$f":"IF(K594>0, K592/K594, 0)","v":0},null,{"$f":"ROUND(M594*L592,0)","v":0},0,{"$f":"N592-O592","v":0},{"$f":"IF(O592>0,P592*100/O592,IF(P592>0,100,0))","v":0},0,0,117,998,583,0,0,583,117,998,583,0,0]
["01170998","0117","0998",584,117,"",998,"",0,0,0,{"$f":"IF(K594>0, K593/K594, 0)","v":0},null,{"$f":"ROUND(M594*L593,0)","v":0},0,{"$f":"N593-O593","v":0},{"$f":"IF(O593>0,P593*100/O593,IF(P593>0,100,0))","v":0},0,0,117,998,584,0,0,584,117,998,584,0,0]
["01170999","0117","0999",585,117,"Hadley                       ",999,"Total",6594207.0499999998,1,{"$f":"SUM(K590:K593)","v":6534075.6100000003},{"$f":"SUM(L590:L593)","v":1},{"$f":"VLOOKUP(E594,town351,24)","v":5390612},{"$f":"SUM(N590:N593)","v":5390612},5374427,{"$f":"SUM(P590:P593)","v":16185},{"$f":"IF(O594>0,P594*100/O594,IF(P594>0,100,0))","v":0.30114838288807344},435,415,117,999,585,415,6534075.6100000003,585,117,999,585,415,6534075.6100000003]
["01180118","0118","0118",586,118,"Halifax                      ",118,"Halifax",7476145.6879400015,0.45966751896430225,{"$f":"X595","v":7659877.793300001},{"$f":"IF(K599>0, K595/K599, 0)","v":0.4615181633166725},null,{"$f":"ROUND(M599*L595,0)","v":4407182},4173331,{"$f":"N595-O595","v":233851},5.6034615993794885,543,538,118,118,586,538,7659877.793300001,586,118,118,586,538,7659877.793300001]
["01180760","0118","0760",587,118,"Halifax                      ",760,"Silver Lake",8788100.488915924,0.54033248103569775,8937254.0254192241,{"$f":"IF(K599>0, K596/K599, 0)","v":0.5384818366833275},null,{"$f":"ROUND(M599*L596,0)","v":5142132},4905690,{"$f":"N596-O596","v":236442},4.8197501268934646,559.25056948200006,543.23790088176008,118,760,587,543.23790088176008,8937254.0254192241,587,118,760,587,543.23790088176008,8937254.0254192241]
["01180998","0118","0998",588,118,"",998,"",0,0,0,{"$f":"IF(K599>0, K597/K599, 0)","v":0},null,{"$f":"ROUND(M599*L597,0)","v":0},0,{"$f":"N597-O597","v":0},0,0,0,118,998,588,0,0,588,118,998,588,0,0]
["01180998","0118","0998",589,118,"",998,"",0,0,0,{"$f":"IF(K599>0, K598/K599, 0)","v":0},null,{"$f":"ROUND(M599*L598,0)","v":0},0,{"$f":"N598-O598","v":0},0,0,0,118,998,589,0,0,589,118,998,589,0,0]
["01180999","0118","0999",590,118,"Halifax                      ",999,"Total",16264246.176855925,1,{"$f":"SUM(K595:K598)","v":16597131.818719225},{"$f":"SUM(L595:L598)","v":1},{"$f":"VLOOKUP(E599,town351,24)","v":9549314},{"$f":"SUM(N595:N598)","v":9549314},9079021,{"$f":"SUM(P595:P598)","v":470293},5.1799968300546944,1102.2505694820002,1081.2379008817602,118,999,590,1081.2379008817602,16597131.818719225,590,118,999,590,1081.2379008817602,16597131.818719225]
["01190119","0119","0119",591,119,"Hamilton                     ",119,"Hamilton",0,0,{"$f":"X600","v":0},{"$f":"IF(K604>0, K600/K604, 0)","v":0},null,{"$f":"ROUND(M604*L600,0)","v":0},0,{"$f":"N600-O600","v":0},0,0,0,119,119,591,0,0,591,119,119,591,0,0]
["01190675","0119","0675",592,119,"Hamilton                     ",675,"Hamilton Wenham",14030211.852935949,0.96413589616831208,14906699.869793219,{"$f":"IF(K604>0, K601/K604, 0)","v":0.96565468487409722},null,{"$f":"ROUND(M604*L601,0)","v":11895520},11400279,{"$f":"N601-O601","v":495241},4.3441129817963224,1078.7389993897,1096.7513290091999,119,675,592,1096.7513290091999,14906699.869793219,592,119,675,592,1096.7513290091999,14906699.869793219]
["01190817","0119","0817",593,119,"Hamilton                     ",817,"Essex North Shore",521898.39282410714,3.5864103831687838E-2,530184.66387086711,{"$f":"IF(K604>0, K602/K604, 0)","v":3.4345315125902734E-2},null,{"$f":"ROUND(M604*L602,0)","v":423086},424070,{"$f":"N602-O602","v":-984},-0.23203716367580823,25.000000004170001,24.000000003500002,119,817,593,24.000000003500002,530184.66387086711,593,119,817,593,24.000000003500002,530184.66387086711]
["01190998","0119","0998",594,119,"",998,null,0,0,0,{"$f":"IF(K604>0, K603/K604, 0)","v":0},null,{"$f":"ROUND(M604*L603,0)","v":0},0,{"$f":"N603-O603","v":0},0,0,0,119,998,594,0,0,594,119,998,594,0,0]
["01190999","0119","0999",595,119,"Hamilton                     ",999,"Total",14552110.245760057,0.99999999999999989,{"$f":"SUM(K600:K603)","v":15436884.533664087},{"$f":"SUM(L600:L603)","v":1},{"$f":"VLOOKUP(E604,town351,24)","v":12318606},{"$f":"SUM(N600:N603)","v":12318606},11824349,{"$f":"SUM(P600:P603)","v":494257},4.1799933340939104,1103.73899939387,1120.7513290126999,119,999,595,1120.7513290126999,15436884.533664087,595,119,999,595,1120.7513290126999,15436884.533664087]
["01200120","0120","0120",596,120,"Hampden                      ",120,"Hampden",0,0,{"$f":"X605","v":0},{"$f":"IF(K609>0, K605/K609, 0)","v":0},null,{"$f":"ROUND(M609*L605,0)","v":0},0,{"$f":"N605-O605","v":0},0,0,0,120,120,596,0,0,596,120,120,596,0,0]
["01200680","0120","0680",597,120,"Hampden                      ",680,"Hampden Wilbraham",7610161.8443807391,1,8187895.8354886882,{"$f":"IF(K609>0, K606/K609, 0)","v":1},null,{"$f":"ROUND(M609*L606,0)","v":6507250},6158086,{"$f":"N606-O606","v":349164},5.6700085058896548,549.80347448252996,567.95711143702999,120,680,597,567.95711143702999,8187895.8354886882,597,120,680,597,567.95711143702999,8187895.8354886882]
["01200998","0120","0998",598,120,"",998,"",0,0,0,{"$f":"IF(K609>0, K607/K609, 0)","v":0},null,{"$f":"ROUND(M609*L607,0)","v":0},0,{"$f":"N607-O607","v":0},0,0,0,120,998,598,0,0,598,120,998,598,0,0]
["01200998","0120","0998",599,120,"",998,"",0,0,0,{"$f":"IF(K609>0, K608/K609, 0)","v":0},null,{"$f":"ROUND(M609*L608,0)","v":0},0,{"$f":"N608-O608","v":0},0,0,0,120,998,599,0,0,599,120,998,599,0,0]
["01200999","0120","0999",600,120,"Hampden                      ",999,"Total",7610161.8443807391,1,{"$f":"SUM(K605:K608)","v":8187895.8354886882},{"$f":"SUM(L605:L608)","v":1},{"$f":"VLOOKUP(E609,town351,24)","v":6507250},{"$f":"SUM(N605:N608)","v":6507250},6158086,{"$f":"SUM(P605:P608)","v":349164},5.6700085058896548,549.80347448252996,567.95711143702999,120,999,600,567.95711143702999,8187895.8354886882,600,120,999,600,567.95711143702999,8187895.8354886882]
["01210121","0121","0121",601,121,"Hancock                      ",121,"Hancock",1251017.0000000002,1,{"$f":"X610","v":1236469.67},{"$f":"IF(K614>0, K610/K614, 0)","v":1},null,{"$f":"ROUND(M614*L610,0)","v":894467},855049,{"$f":"N610-O610","v":39418},4.6100281972144286,86,79,121,121,601,79,1236469.67,601,121,121,601,79,1236469.67]
["01210998","0121","0998",602,121,"",998,"",0,0,0,{"$f":"IF(K614>0, K611/K614, 0)","v":0},null,{"$f":"ROUND(M614*L611,0)","v":0},0,{"$f":"N611-O611","v":0},0,0,0,121,998,602,0,0,602,121,998,602,0,0]
["01210998","0121","0998",603,121,"",998,"",0,0,0,{"$f":"IF(K614>0, K612/K614, 0)","v":0},null,{"$f":"ROUND(M614*L612,0)","v":0},0,{"$f":"N612-O612","v":0},0,0,0,121,998,603,0,0,603,121,998,603,0,0]
["01210998","0121","0998",604,121,"",998,"",0,0,0,{"$f":"IF(K614>0, K613/K614, 0)","v":0},null,{"$f":"ROUND(M614*L613,0)","v":0},0,{"$f":"N613-O613","v":0},0,0,0,121,998,604,0,0,604,121,998,604,0,0]
["01210999","0121","0999",605,121,"Hancock                      ",999,"Total",1251017.0000000002,1,{"$f":"SUM(K610:K613)","v":1236469.67},{"$f":"SUM(L610:L613)","v":1},{"$f":"VLOOKUP(E614,town351,24)","v":894467},{"$f":"SUM(N610:N613)","v":894467},855049,{"$f":"SUM(P610:P613)","v":39418},4.6100281972144286,86,79,121,999,605,79,1236469.67,605,121,999,605,79,1236469.67]
["01220122","0122","0122",606,122,"Hanover                      ",122,"Hanover",32549060.685959999,0.94803815317104778,{"$f":"X615","v":32396385.677299999},{"$f":"IF(K619>0, K615/K619, 0)","v":0.9451894091410924},null,{"$f":"ROUND(M619*L615,0)","v":26727018},25651759,{"$f":"N615-O615","v":1075259},4.191755426986508,2472,2366,122,122,606,2366,32396385.677299999,606,122,122,606,2366,32396385.677299999]
["01220873","0122","0873",607,122,"Hanover                      ",873,"South Shore",1784009.7470053749,5.1961846828952211E-2,1878634.0848649999,{"$f":"IF(K619>0, K616/K619, 0)","v":5.4810590858907653E-2},null,{"$f":"ROUND(M619*L616,0)","v":1549873},1405970,{"$f":"N616-O616","v":143903},10.235140152350334,83.000000002639993,86,122,873,607,86,1878634.0848649999,607,122,873,607,86,1878634.0848649999]
["01220998","0122","0998",608,122,"",998,"",0,0,0,{"$f":"IF(K619>0, K617/K619, 0)","v":0},null,{"$f":"ROUND(M619*L617,0)","v":0},0,{"$f":"N617-O617","v":0},0,0,0,122,998,608,0,0,608,122,998,608,0,0]
["01220998","0122","0998",609,122,"",998,"",0,0,0,{"$f":"IF(K619>0, K618/K619, 0)","v":0},null,{"$f":"ROUND(M619*L618,0)","v":0},0,{"$f":"N618-O618","v":0},0,0,0,122,998,609,0,0,609,122,998,609,0,0]
["01220999","0122","0999",610,122,"Hanover                      ",999,"Total",34333070.432965375,1,{"$f":"SUM(K615:K618)","v":34275019.762164995},{"$f":"SUM(L615:L618)","v":1},{"$f":"VLOOKUP(E619,town351,24)","v":28276891},{"$f":"SUM(N615:N618)","v":28276891},27057729,{"$f":"SUM(P615:P618)","v":1219162},4.5057809544917831,2555.0000000026398,2452,122,999,610,2452,34275019.762164995,610,122,999,610,2452,34275019.762164995]
["01230123","0123","0123",611,123,"Hanson                       ",123,"Hanson",86771.45,4.1328832710651161E-3,{"$f":"X620","v":90234.8},{"$f":"IF(K624>0, K620/K624, 0)","v":4.1354373763358571E-3},null,{"$f":"ROUND(M624*L620,0)","v":57838},54413,{"$f":"N620-O620","v":3425},6.2944516935291199,5,5,123,123,611,5,90234.8,611,123,123,611,5,90234.8]
["01230780","0123","0780",612,123,"Hanson                       ",780,"Whitman Hanson",19382526.768464088,0.9231806156559218,20113158.847509556,{"$f":"IF(K624>0, K621/K624, 0)","v":0.92178083016941637},null,{"$f":"ROUND(M624*L621,0)","v":12892071},12154428,{"$f":"N621-O621","v":737643},6.0689240168274479,1341.22254252947,1329.74055636906,123,780,612,1329.74055636906,20113158.847509556,612,123,780,612,1329.74055636906,20113158.847509556]
["01230873","0123","0873",613,123,"Hanson                       ",873,"South Shore",1526080.6269775056,7.2686501073013041E-2,1616499.0962057882,{"$f":"IF(K624>0, K622/K624, 0)","v":7.4083732454247694E-2},null,{"$f":"ROUND(M624*L622,0)","v":1036139},956977,{"$f":"N622-O622","v":79162},8.2720901338276676,71.000000003240004,73.99999999664,123,873,613,73.99999999664,1616499.0962057882,613,123,873,613,73.99999999664,1616499.0962057882]
["01230998","0123","0998",614,123,"",998,"",0,0,0,{"$f":"IF(K624>0, K623/K624, 0)","v":0},null,{"$f":"ROUND(M624*L623,0)","v":0},0,{"$f":"N623-O623","v":0},0,0,0,123,998,614,0,0,614,123,998,614,0,0]
["01230999","0123","0999",615,123,"Hanson                       ",999,"Total",20995378.845441595,0.99999999999999989,{"$f":"SUM(K620:K623)","v":21819892.743715346},{"$f":"SUM(L620:L623)","v":0.99999999999999989},{"$f":"VLOOKUP(E624,town351,24)","v":13986048},{"$f":"SUM(N620:N623)","v":13986048},13165818,{"$f":"SUM(P620:P623)","v":820230},6.2299964954703153,1417.2225425327101,1408.7405563657001,123,999,615,1408.7405563657001,21819892.743715346,615,123,999,615,1408.7405563657001,21819892.743715346]
["01240124","0124","0124",616,124,"Hardwick                     ",124,"Hardwick",0,0,{"$f":"X625","v":18046.96},{"$f":"IF(K629>0, K625/K629, 0)","v":3.4022628974673054E-3},null,{"$f":"ROUND(M629*L625,0)","v":7547},0,{"$f":"N625-O625","v":7547},100,0,1,124,124,616,1,18046.96,616,124,124,616,1,18046.96]
["01240753","0124","0753",617,124,"Hardwick                     ",753,"Quabbin",4226313.2479027743,0.87963749534476054,4683294.7265156377,{"$f":"IF(K629>0, K626/K629, 0)","v":0.88290769669398317},null,{"$f":"ROUND(M629*L626,0)","v":1958382},1843470,{"$f":"N626-O626","v":114912},6.2334618952301906,285.79958677266001,304.66529984730005,124,753,617,304.66529984730005,4683294.7265156377,617,124,753,617,304.66529984730005,4683294.7265156377]
["01240860","0124","0860",618,124,"Hardwick                     ",860,"Pathfinder",578294.63917499909,0.12036250465523955,603057.33962499991,{"$f":"IF(K629>0, K627/K629, 0)","v":0.11369004040854953},null,{"$f":"ROUND(M629*L627,0)","v":252176},252246,{"$f":"N627-O627","v":-70},-2.7750687820619555E-2,25.999999999610001,26,124,860,618,26,603057.33962499991,618,124,860,618,26,603057.33962499991]
["01240998","0124","0998",619,124,"",998,"",0,0,0,{"$f":"IF(K629>0, K628/K629, 0)","v":0},null,{"$f":"ROUND(M629*L628,0)","v":0},0,{"$f":"N628-O628","v":0},0,0,0,124,998,619,0,0,619,124,998,619,0,0]
["01240999","0124","0999",620,124,"Hardwick                     ",999,"Total",4804607.887077773,1,{"$f":"SUM(K625:K628)","v":5304399.0261406377},{"$f":"SUM(L625:L628)","v":1},{"$f":"VLOOKUP(E629,town351,24)","v":2218105},{"$f":"SUM(N625:N628)","v":2218105},2095716,{"$f":"SUM(P625:P628)","v":122389},5.8399611397727558,311.79958677227,331.66529984730005,124,999,620,331.66529984730005,5304399.0261406377,620,124,999,620,331.66529984730005,5304399.0261406377]
["01250125","0125","0125",621,125,"Harvard                      ",125,"Harvard",11305864.01,0.98191188899548321,{"$f":"X630","v":11655609.100000001},{"$f":"IF(K634>0, K630/K634, 0)","v":0.98356068627472182},null,{"$f":"ROUND(M634*L630,0)","v":9391727},9082614,{"$f":"N630-O630","v":309113},3.4033484192986734,868,855,125,125,621,855,11655609.100000001,621,125,125,621,855,11655609.100000001]
["01250832","0125","0832",622,125,"Harvard                      ",832,"Montachusett",208268.9144583634,1.80881110045167E-2,194812.80344768398,{"$f":"IF(K634>0, K631/K634, 0)","v":1.6439313725278119E-2},null,{"$f":"ROUND(M634*L631,0)","v":156974},167314,{"$f":"N631-O631","v":-10340},-6.1799968920711956,10.00000000368,8.9999999985599999,125,832,622,8.9999999985599999,194812.80344768398,622,125,832,622,8.9999999985599999,194812.80344768398]
["01250998","0125","0998",623,125,"",998,"",0,0,0,{"$f":"IF(K634>0, K632/K634, 0)","v":0},null,{"$f":"ROUND(M634*L632,0)","v":0},0,{"$f":"N632-O632","v":0},0,0,0,125,998,623,0,0,623,125,998,623,0,0]
["01250998","0125","0998",624,125,"",998,"",0,0,0,{"$f":"IF(K634>0, K633/K634, 0)","v":0},null,{"$f":"ROUND(M634*L633,0)","v":0},0,{"$f":"N633-O633","v":0},0,0,0,125,998,624,0,0,624,125,998,624,0,0]
["01250999","0125","0999",625,125,"Harvard                      ",999,"Total",11514132.924458364,0.99999999999999989,{"$f":"SUM(K630:K633)","v":11850421.903447686},{"$f":"SUM(L630:L633)","v":0.99999999999999989},{"$f":"VLOOKUP(E634,town351,24)","v":9548701},{"$f":"SUM(N630:N633)","v":9548701},9249928,{"$f":"SUM(P630:P633)","v":298773},3.2300035200273993,878.00000000368004,863.99999999856004,125,999,625,863.99999999856004,11850421.903447686,625,125,999,625,863.99999999856004,11850421.903447686]
["01260126","0126","0126",626,126,"Harwich                      ",126,"Harwich",0,0,{"$f":"X635","v":0},{"$f":"IF(K639>0, K635/K639, 0)","v":0},null,{"$f":"ROUND(M639*L635,0)","v":0},0,{"$f":"N635-O635","v":0},0,0,0,126,126,626,0,0,626,126,126,626,0,0]
["01260712","0126","0712",627,126,"Harwich                      ",712,"Monomoy",19452218.664726675,0.92498357022049726,18854827.198877212,{"$f":"IF(K639>0, K636/K639, 0)","v":0.93113829009803828},null,{"$f":"ROUND(M639*L636,0)","v":15555232},16048080,{"$f":"N636-O636","v":-492848},-3.0710714303517928,1241.27845777989,1172.95572916162,126,712,627,1172.95572916162,18854827.198877212,627,126,712,627,1172.95572916162,18854827.198877212]
["01260815","0126","0815",628,126,"Harwich                      ",815,"Cape Cod",1577580.4484507202,7.5016429779502694E-2,1394396.1435459785,{"$f":"IF(K639>0, K637/K639, 0)","v":6.8861709901961776E-2},null,{"$f":"ROUND(M639*L637,0)","v":1150377},1301504,{"$f":"N637-O637","v":-151127},-11.611719979346971,71.999999999250008,61.999999998600003,126,815,628,61.999999998600003,1394396.1435459785,628,126,815,628,61.999999998600003,1394396.1435459785]
["01260998","0126","0998",629,126,"",998,"",0,0,0,{"$f":"IF(K639>0, K638/K639, 0)","v":0},null,{"$f":"ROUND(M639*L638,0)","v":0},0,{"$f":"N638-O638","v":0},0,0,0,126,998,629,0,0,629,126,998,629,0,0]
["01260999","0126","0999",630,126,"Harwich                      ",999,"Total",21029799.113177396,1,{"$f":"SUM(K635:K638)","v":20249223.342423189},{"$f":"SUM(L635:L638)","v":1},{"$f":"VLOOKUP(E639,town351,24)","v":16705609},{"$f":"SUM(N635:N638)","v":16705609},17349584,{"$f":"SUM(P635:P638)","v":-643975},-3.7117604664180996,1313.2784577791399,1234.95572916022,126,999,630,1234.95572916022,20249223.342423189,630,126,999,630,1234.95572916022,20249223.342423189]
["01270127","0127","0127",631,127,"Hatfield                     ",127,"Hatfield",3981919.64,1,{"$f":"X640","v":4069015.5300000003},{"$f":"IF(K644>0, K640/K644, 0)","v":1},null,{"$f":"ROUND(M644*L640,0)","v":3356938},3285084,{"$f":"N640-O640","v":71854},2.1872804470144445,278,271,127,127,631,271,4069015.5300000003,631,127,127,631,271,4069015.5300000003]
["01270998","0127","0998",632,127,"",998,"",0,0,0,{"$f":"IF(K644>0, K641/K644, 0)","v":0},null,{"$f":"ROUND(M644*L641,0)","v":0},0,{"$f":"N641-O641","v":0},0,0,0,127,998,632,0,0,632,127,998,632,0,0]
["01270998","0127","0998",633,127,"",998,"",0,0,0,{"$f":"IF(K644>0, K642/K644, 0)","v":0},null,{"$f":"ROUND(M644*L642,0)","v":0},0,{"$f":"N642-O642","v":0},0,0,0,127,998,633,0,0,633,127,998,633,0,0]
["01270998","0127","0998",634,127,"",998,"",0,0,0,{"$f":"IF(K644>0, K643/K644, 0)","v":0},null,{"$f":"ROUND(M644*L643,0)","v":0},0,{"$f":"N643-O643","v":0},0,0,0,127,998,634,0,0,634,127,998,634,0,0]
["01270999","0127","0999",635,127,"Hatfield                     ",999,"Total",3981919.64,1,{"$f":"SUM(K640:K643)","v":4069015.5300000003},{"$f":"SUM(L640:L643)","v":1},{"$f":"VLOOKUP(E644,town351,24)","v":3356938},{"$f":"SUM(N640:N643)","v":3356938},3285084,{"$f":"SUM(P640:P643)","v":71854},2.1872804470144445,278,271,127,999,635,271,4069015.5300000003,635,127,999,635,271,4069015.5300000003]
["01280128","0128","0128",636,128,"Haverhill                    ",128,"Haverhill",149713124.65000004,0.88810653097627423,{"$f":"X645","v":154969203.75},{"$f":"IF(K649>0, K645/K649, 0)","v":0.88712892109906827},null,{"$f":"ROUND(M649*L645,0)","v":58542162},55493490,{"$f":"N645-O645","v":3048672},5.4937471043900823,8435,8240,128,128,636,8240,154969203.75,636,128,128,636,8240,154969203.75]
["01280885","0128","0885",637,128,"Haverhill                    ",885,"Whittier",18862512.875628781,0.11189346902372584,19717022.867443502,{"$f":"IF(K649>0, K646/K649, 0)","v":0.1128710789009317},null,{"$f":"ROUND(M649*L646,0)","v":7448429},6991683,{"$f":"N646-O646","v":456746},6.5327046435028588,857.00000000253999,875.99999999680006,128,885,637,875.99999999680006,19717022.867443502,637,128,885,637,875.99999999680006,19717022.867443502]
["01280998","0128","0998",638,128,"",998,null,0,0,0,{"$f":"IF(K649>0, K647/K649, 0)","v":0},null,{"$f":"ROUND(M649*L647,0)","v":0},0,{"$f":"N647-O647","v":0},0,0,0,128,998,638,0,0,638,128,998,638,0,0]
["01280998","0128","0998",639,128,"",998,"",0,0,0,{"$f":"IF(K649>0, K648/K649, 0)","v":0},null,{"$f":"ROUND(M649*L648,0)","v":0},0,{"$f":"N648-O648","v":0},0,0,0,128,998,639,0,0,639,128,998,639,0,0]
["01280999","0128","0999",640,128,"Haverhill                    ",999,"Total",168575637.52562881,1,{"$f":"SUM(K645:K648)","v":174686226.6174435},{"$f":"SUM(L645:L648)","v":1},{"$f":"VLOOKUP(E649,town351,24)","v":65990591},{"$f":"SUM(N645:N648)","v":65990591},62485173,{"$f":"SUM(P645:P648)","v":3505418},5.6099996714420559,9292.0000000025393,9115.9999999968004,128,999,640,9115.9999999968004,174686226.6174435,640,128,999,640,9115.9999999968004,174686226.6174435]
[{"$f":"B650&C650","v":"01290129"},"0129","0129",641,129,"Hawley                       ",129,"Hawley",34708.58,9.7612394784259329E-2,{"$f":"X650","v":108281.76},{"$f":"IF(K654>0, K650/K654, 0)","v":0.24530692398139489},null,{"$f":"ROUND(M654*L650,0)","v":76034},28635,{"$f":"N650-O650","v":47399},165.52819975554391,2,6,{"$f":"VLOOKUP($D650, foundoptions, VLOOKUP($T$6, foundoptcell, 2, FALSE), FALSE)","v":129},{"$f":"VLOOKUP($D650, foundoptions, VLOOKUP($T$6, foundoptcell, 2, FALSE)+1, FALSE)","v":129},{"$f":"VLOOKUP($D650, foundoptions, VLOOKUP($T$6, foundoptcell, 2, FALSE)+2, FALSE)","v":641},{"$f":"VLOOKUP($D650, foundoptions, VLOOKUP($T$6, foundoptcell, 2, FALSE)+3, FALSE)","v":6},{"$f":"VLOOKUP($D650, foundoptions, VLOOKUP($T$6, foundoptcell, 2, FALSE)+4, FALSE)","v":108281.76},641,129,129,641,6,108281.76]
["01290685","0129","0685",642,129,"Hawley                       ",685,"Hawlemont",163661.68184012192,0.46027260979371171,160145.4609727271,{"$f":"IF(K654>0, K651/K654, 0)","v":0.36280155051785468},null,{"$f":"ROUND(M654*L651,0)","v":112452},135021,{"$f":"N651-O651","v":-22569},-16.715177639033929,10.747126436849999,{"$f":"W651","v":9.6341463412900001},129,685,642,9.6341463412900001,160145.4609727271,{"$f":"D651","v":642},129,685,642,9.6341463412900001,160145.4609727271]
["01290717","0129","0717",643,129,"Hawley                       ",717,"Mohawk Trail",157205.27830221454,0.44211499542202887,172986.16533761015,{"$f":"IF(K654>0, K652/K654, 0)","v":0.39189152550075046},null,{"$f":"ROUND(M654*L652,0)","v":121468},129694,{"$f":"N652-O652","v":-8226},-6.3426218637716474,9.8814229274999992,10.500000003149999,129,717,643,10.500000003149999,172986.16533761015,643,129,717,643,10.500000003149999,172986.16533761015]
["01290998","0129","0998",644,129,"",998,"",0,0,0,{"$f":"IF(K654>0, K653/K654, 0)","v":0},null,{"$f":"ROUND(M654*L653,0)","v":0},0,{"$f":"N653-O653","v":0},0,0,0,129,998,644,0,0,644,129,998,644,0,0]
["01290999","0129","0999",645,129,"Hawley                       ",999,"Total",355575.54014233651,1,{"$f":"SUM(K650:K653)","v":441413.38631033723},{"$f":"SUM(L650:L653)","v":1},{"$f":"VLOOKUP(E654,town351,24)","v":309954},{"$f":"SUM(N650:N653)","v":309954},293350,{"$f":"SUM(P650:P653)","v":16604},5.6601329469916486,22.62854936435,26.134146344439998,129,999,645,26.134146344439998,441413.38631033723,645,129,999,645,26.134146344439998,441413.38631033723]
["01300130","0130","0130",646,130,"Heath                        ",130,"Heath",0,0,{"$f":"X655","v":0},{"$f":"IF(K659>0, K655/K659, 0)","v":0},null,{"$f":"ROUND(M659*L655,0)","v":0},0,{"$f":"N655-O655","v":0},0,0,0,130,130,646,0,0,646,130,130,646,0,0]
["01300717","0130","0717",647,130,"Heath                        ",717,"Mohawk Trail",1116157.4756235625,0.7910906726902952,1132273.0819125902,{"$f":"IF(K659>0, K656/K659, 0)","v":0.71804176732191249},null,{"$f":"ROUND(M659*L656,0)","v":397370},422583,{"$f":"N656-O656","v":-25213},{"$f":"IF(O656>0,P656*100/O656,IF(P656>0,100,0))","v":-5.9664018666155521},70.158102764999995,68.72727272985,130,717,647,68.72727272985,1132273.0819125902,647,130,717,647,68.72727272985,1132273.0819125902]
["01300818","0130","0818",648,130,"Heath                        ",818,"Franklin County",294752.18891311961,0.20890932730970488,444617.19584331283,{"$f":"IF(K659>0, K657/K659, 0)","v":0.28195823267808745},null,{"$f":"ROUND(M659*L657,0)","v":156038},111595,{"$f":"N657-O657","v":44443},{"$f":"IF(O657>0,P657*100/O657,IF(P657>0,100,0))","v":39.825260988395534},13.000000002809999,19.000000000979998,130,818,648,19.000000000979998,444617.19584331283,648,130,818,648,19.000000000979998,444617.19584331283]
["01300998","0130","0998",649,130,"",998,"",0,0,0,{"$f":"IF(K659>0, K658/K659, 0)","v":0},null,{"$f":"ROUND(M659*L658,0)","v":0},0,{"$f":"N658-O658","v":0},{"$f":"IF(O658>0,P658*100/O658,IF(P658>0,100,0))","v":0},0,0,130,998,649,0,0,649,130,998,649,0,0]
["01300999","0130","0999",650,130,"Heath                        ",999,"Total",1410909.664536682,1,{"$f":"SUM(K655:K658)","v":1576890.2777559031},{"$f":"SUM(L655:L658)","v":1},{"$f":"VLOOKUP(E659,town351,24)","v":553408},{"$f":"SUM(N655:N658)","v":553408},534178,{"$f":"SUM(P655:P658)","v":19230},{"$f":"IF(O659>0,P659*100/O659,IF(P659>0,100,0))","v":3.5999236209652961},83.158102767809993,87.727272730829995,130,999,650,87.727272730829995,1576890.2777559031,650,130,999,650,87.727272730829995,1576890.2777559031]
["01310131","0131","0131",651,131,"Hingham                      ",131,"Hingham",46634192.56592001,1,{"$f":"X660","v":48104960.021279998},{"$f":"IF(K664>0, K660/K664, 0)","v":1},null,{"$f":"ROUND(M664*L660,0)","v":39686592},38473209,{"$f":"N660-O660","v":1213383},3.1538388180720771,3528,3481,131,131,651,3481,48104960.021279998,651,131,131,651,3481,48104960.021279998]
["01310998","0131","0998",652,131,"",998,"",0,0,0,{"$f":"IF(K664>0, K661/K664, 0)","v":0},null,{"$f":"ROUND(M664*L661,0)","v":0},0,{"$f":"N661-O661","v":0},0,0,0,131,998,652,0,0,652,131,998,652,0,0]
["01310998","0131","0998",653,131,"",998,"",0,0,0,{"$f":"IF(K664>0, K662/K664, 0)","v":0},null,{"$f":"ROUND(M664*L662,0)","v":0},0,{"$f":"N662-O662","v":0},0,0,0,131,998,653,0,0,653,131,998,653,0,0]
["01310998","0131","0998",654,131,"",998,"",0,0,0,{"$f":"IF(K664>0, K663/K664, 0)","v":0},null,{"$f":"ROUND(M664*L663,0)","v":0},0,{"$f":"N663-O663","v":0},0,0,0,131,998,654,0,0,654,131,998,654,0,0]
["01310999","0131","0999",655,131,"Hingham                      ",999,"Total",46634192.56592001,1,{"$f":"SUM(K660:K663)","v":48104960.021279998},{"$f":"SUM(L660:L663)","v":1},{"$f":"VLOOKUP(E664,town351,24)","v":39686592},{"$f":"SUM(N660:N663)","v":39686592},38473209,{"$f":"SUM(P660:P663)","v":1213383},3.1538388180720771,3528,3481,131,999,655,3481,48104960.021279998,655,131,999,655,3481,48104960.021279998]
["01320132","0132","0132",656,132,"Hinsdale                     ",132,"Hinsdale",173542.9,5.2343331392598814E-2,{"$f":"X665","v":126328.72},{"$f":"IF(K669>0, K665/K669, 0)","v":3.6060863520668299E-2},null,{"$f":"ROUND(M669*L665,0)","v":90223},123025,{"$f":"N665-O665","v":-32802},-26.662873399715505,10,7,132,132,656,7,126328.72,656,132,132,656,7,126328.72]
["01320635","0132","0635",657,132,"Hinsdale                     ",635,"Central Berkshire",3141930.0625126311,0.94765666860740116,3376879.6800871091,{"$f":"IF(K669>0, K666/K669, 0)","v":0.9639391364793316},null,{"$f":"ROUND(M669*L666,0)","v":2411729},2227329,{"$f":"N666-O666","v":184400},8.2789745026441981,203.18684211075998,209.7948016368,132,635,657,209.7948016368,3376879.6800871091,657,132,635,657,209.7948016368,3376879.6800871091]
["01320998","0132","0998",658,132,"",998,"",0,0,0,{"$f":"IF(K669>0, K667/K669, 0)","v":0},null,{"$f":"ROUND(M669*L667,0)","v":0},0,{"$f":"N667-O667","v":0},0,0,0,132,998,658,0,0,658,132,998,658,0,0]
["01320998","0132","0998",659,132,"",998,"",0,0,0,{"$f":"IF(K669>0, K668/K669, 0)","v":0},null,{"$f":"ROUND(M669*L668,0)","v":0},0,{"$f":"N668-O668","v":0},0,0,0,132,998,659,0,0,659,132,998,659,0,0]
["01320999","0132","0999",660,132,"Hinsdale                     ",999,"Total",3315472.962512631,1,{"$f":"SUM(K665:K668)","v":3503208.4000871093},{"$f":"SUM(L665:L668)","v":0.99999999999999989},{"$f":"VLOOKUP(E669,town351,24)","v":2501952},{"$f":"SUM(N665:N668)","v":2501952},2350354,{"$f":"SUM(P665:P668)","v":151598},6.4500071053126469,213.18684211075998,216.7948016368,132,999,660,216.7948016368,3503208.4000871093,660,132,999,660,216.7948016368,3503208.4000871093]
["01330133","0133","0133",661,133,"Holbrook                     ",133,"Holbrook",23413602.22656,0.8926736308005202,{"$f":"X670","v":24189420.925409999},{"$f":"IF(K674>0, K670/K674, 0)","v":0.88273028693335509},null,{"$f":"ROUND(M674*L670,0)","v":11032723},10616613,{"$f":"N670-O670","v":416110},3.9194232661584256,1394,1383,133,133,661,1383,24189420.925409999,661,133,133,661,1383,24189420.925409999]
["01330806","0133","0806",662,133,"Holbrook                     ",806,"Blue Hills",2609975.6234912593,9.9508669942288658E-2,3005400.3058267534,{"$f":"IF(K674>0, K671/K674, 0)","v":0.10967430276618235},null,{"$f":"ROUND(M674*L671,0)","v":1370754},1183462,{"$f":"N671-O671","v":187292},15.825772183644258,114.9999999967,125.13542795292,133,806,662,125.13542795292,3005400.3058267534,662,133,806,662,125.13542795292,3005400.3058267534]
["01330915","0133","0915",663,133,"Holbrook                     ",915,"Norfolk County",205047.50495497606,7.8176992571911061E-3,208136.70900243355,{"$f":"IF(K674>0, K672/K674, 0)","v":7.5954103004625059E-3},null,{"$f":"ROUND(M674*L672,0)","v":94931},92976,{"$f":"N672-O672","v":1955},2.1026931681294099,9.00000000016,8.9999999991000017,133,915,663,8.9999999991000017,208136.70900243355,663,133,915,663,8.9999999991000017,208136.70900243355]
["01330998","0133","0998",664,133,"",998,"",0,0,0,{"$f":"IF(K674>0, K673/K674, 0)","v":0},null,{"$f":"ROUND(M674*L673,0)","v":0},0,{"$f":"N673-O673","v":0},0,0,0,133,998,664,0,0,664,133,998,664,0,0]
["01330999","0133","0999",665,133,"Holbrook                     ",999,"Total",26228625.355006237,1,{"$f":"SUM(K670:K673)","v":27402957.940239187},{"$f":"SUM(L670:L673)","v":1},{"$f":"VLOOKUP(E674,town351,24)","v":12498408},{"$f":"SUM(N670:N673)","v":12498408},11893051,{"$f":"SUM(P670:P673)","v":605357},5.0900059202638586,1517.99999999686,1517.1354279520201,133,999,665,1517.1354279520201,27402957.940239187,665,133,999,665,1517.1354279520201,27402957.940239187]
["01340134","0134","0134",666,134,"Holden                       ",134,"Holden",17354.29,3.9114791567108973E-4,{"$f":"X675","v":18046.96},{"$f":"IF(K679>0, K675/K679, 0)","v":3.9709562391083281E-4},null,{"$f":"ROUND(M679*L675,0)","v":11082},10322,{"$f":"N675-O675","v":760},7.3629141639217206,1,1,134,134,666,1,18046.96,666,134,134,666,1,18046.96]
["01340775","0134","0775",667,134,"Holden                       ",775,"Wachusett",41059585.963204987,0.92544099861334361,41749546.428706884,{"$f":"IF(K679>0, K676/K679, 0)","v":0.91863461697159199},null,{"$f":"ROUND(M679*L676,0)","v":25635809},24421513,{"$f":"N676-O676","v":1214296},4.9722390254854396,3120.0647610461001,3033.9366336498701,134,775,667,3033.9366336498701,41749546.428706884,667,134,775,667,3033.9366336498701,41749546.428706884]
["01340832","0134","0832",668,134,"Holden                       ",832,"Montachusett",3290648.8472645059,7.4167853470985298E-2,3679797.3990909094,{"$f":"IF(K679>0, K677/K679, 0)","v":8.0968287404497186E-2},null,{"$f":"ROUND(M679*L677,0)","v":2259536},1957220,{"$f":"N677-O677","v":302316},15.446194091619747,158.0000000016,170.00000000212,134,832,668,170.00000000212,3679797.3990909094,668,134,832,668,170.00000000212,3679797.3990909094]
["01340998","0134","0998",669,134,"",998,"",0,0,0,{"$f":"IF(K679>0, K678/K679, 0)","v":0},null,{"$f":"ROUND(M679*L678,0)","v":0},0,{"$f":"N678-O678","v":0},0,0,0,134,998,669,0,0,669,134,998,669,0,0]
["01340999","0134","0999",670,134,"Holden                       ",999,"Total",44367589.100469492,1,{"$f":"SUM(K675:K678)","v":45447390.787797794},{"$f":"SUM(L675:L678)","v":1},{"$f":"VLOOKUP(E679,town351,24)","v":27906426},{"$f":"SUM(N675:N678)","v":27906427},26389055,{"$f":"SUM(P675:P678)","v":1517372},5.7500050683891484,3279.0647610476999,3204.9366336519902,134,999,670,3204.9366336519902,45447390.787797794,670,134,999,670,3204.9366336519902,45447390.787797794]
["01350135","0135","0135",671,135,"Holland                      ",135,"Holland",2321784.9899999998,0.51463115481840893,{"$f":"X680","v":2645254.84},{"$f":"IF(K684>0, K680/K684, 0)","v":0.52480372351161153},null,{"$f":"ROUND(M684*L680,0)","v":1609921},1507847,{"$f":"N680-O680","v":102074},6.7695197191757517,153,175,135,135,671,175,2645254.84,671,135,135,671,175,2645254.84]
["01350770","0135","0770",672,135,"Holland                      ",770,"Tantasqua",2189766.5712716002,0.4853688451815909,2395210.2357807984,{"$f":"IF(K684>0, K681/K684, 0)","v":0.47519627648838858},null,{"$f":"ROUND(M684*L681,0)","v":1457743},1422109,{"$f":"N681-O681","v":35634},2.5057151034133107,134.00000000111999,140.0000000016,135,770,672,140.0000000016,2395210.2357807984,672,135,770,672,140.0000000016,2395210.2357807984]
["01350998","0135","0998",673,135,"",998,"",0,0,0,{"$f":"IF(K684>0, K682/K684, 0)","v":0},null,{"$f":"ROUND(M684*L682,0)","v":0},0,{"$f":"N682-O682","v":0},0,0,0,135,998,673,0,0,673,135,998,673,0,0]
["01350998","0135","0998",674,135,"",998,"",0,0,0,{"$f":"IF(K684>0, K683/K684, 0)","v":0},null,{"$f":"ROUND(M684*L683,0)","v":0},0,{"$f":"N683-O683","v":0},0,0,0,135,998,674,0,0,674,135,998,674,0,0]
["01350999","0135","0999",675,135,"Holland                      ",999,"Total",4511551.5612716004,0.99999999999999978,{"$f":"SUM(K680:K683)","v":5040465.0757807977},{"$f":"SUM(L680:L683)","v":1},{"$f":"VLOOKUP(E684,town351,24)","v":3067664},{"$f":"SUM(N680:N683)","v":3067664},2929956,{"$f":"SUM(P680:P683)","v":137708},4.7000023208539652,287.00000000111999,315.00000000160003,135,999,675,315.00000000160003,5040465.0757807977,675,135,999,675,315.00000000160003,5040465.0757807977]
["01360136","0136","0136",676,136,"Holliston                    ",136,"Holliston",33988555.889320008,0.95275693617394841,{"$f":"X685","v":35077456.984029993},{"$f":"IF(K689>0, K685/K689, 0)","v":0.95531344738746782},null,{"$f":"ROUND(M689*L685,0)","v":27908236},26548599,{"$f":"N685-O685","v":1359637},5.121313557826535,2577,2542,136,136,676,2542,35077456.984029993,676,136,136,676,2542,35077456.984029993]
["01360829","0136","0829",677,136,"Holliston                    ",829,"South Middlesex",1685344.3457285967,4.7243063826051548E-2,1640812.8989677387,{"$f":"IF(K689>0, K686/K689, 0)","v":4.4686552612532314E-2},null,{"$f":"ROUND(M689*L686,0)","v":1305459},1316429,{"$f":"N686-O686","v":-10970},-0.83331497558926459,69.310112361660003,65.216426190479993,136,829,677,65.216426190479993,1640812.8989677387,677,136,829,677,65.216426190479993,1640812.8989677387]
["01360998","0136","0998",678,136,"",998,"",0,0,0,{"$f":"IF(K689>0, K687/K689, 0)","v":0},null,{"$f":"ROUND(M689*L687,0)","v":0},0,{"$f":"N687-O687","v":0},0,0,0,136,998,678,0,0,678,136,998,678,0,0]
["01360998","0136","0998",679,136,"",998,"",0,0,0,{"$f":"IF(K689>0, K688/K689, 0)","v":0},null,{"$f":"ROUND(M689*L688,0)","v":0},0,{"$f":"N688-O688","v":0},0,0,0,136,998,679,0,0,679,136,998,679,0,0]
["01360999","0136","0999",680,136,"Holliston                    ",999,"Total",35673900.235048607,1,{"$f":"SUM(K685:K688)","v":36718269.882997729},{"$f":"SUM(L685:L688)","v":1.0000000000000002},{"$f":"VLOOKUP(E689,town351,24)","v":29213695},{"$f":"SUM(N685:N688)","v":29213695},27865028,{"$f":"SUM(P685:P688)","v":1348667},4.8399987252838939,2646.3101123616598,2607.21642619048,136,999,680,2607.21642619048,36718269.882997729,680,136,999,680,2607.21642619048,36718269.882997729]
["01370137","0137","0137",681,137,"Holyoke                      ",137,"Holyoke",120721754.33999999,1,{"$f":"X690","v":125376814.92000002},{"$f":"IF(K694>0, K690/K694, 0)","v":1},null,{"$f":"ROUND(M694*L690,0)","v":14778343},13957634,{"$f":"N690-O690","v":820709},5.8800008654761973,5804,5620,137,137,681,5620,125376814.92000002,681,137,137,681,5620,125376814.92000002]
["01370998","0137","0998",682,137,"",998,"",0,0,0,{"$f":"IF(K694>0, K691/K694, 0)","v":0},null,{"$f":"ROUND(M694*L691,0)","v":0},0,{"$f":"N691-O691","v":0},0,0,0,137,998,682,0,0,682,137,998,682,0,0]
["01370998","0137","0998",683,137,"",998,"",0,0,0,{"$f":"IF(K694>0, K692/K694, 0)","v":0},null,{"$f":"ROUND(M694*L692,0)","v":0},0,{"$f":"N692-O692","v":0},0,0,0,137,998,683,0,0,683,137,998,683,0,0]
["01370998","0137","0998",684,137,"",998,"",0,0,0,{"$f":"IF(K694>0, K693/K694, 0)","v":0},null,{"$f":"ROUND(M694*L693,0)","v":0},0,{"$f":"N693-O693","v":0},0,0,0,137,998,684,0,0,684,137,998,684,0,0]
["01370999","0137","0999",685,137,"Holyoke                      ",999,"Total",120721754.33999999,1,{"$f":"SUM(K690:K693)","v":125376814.92000002},{"$f":"SUM(L690:L693)","v":1},{"$f":"VLOOKUP(E694,town351,24)","v":14778343},{"$f":"SUM(N690:N693)","v":14778343},13957634,{"$f":"SUM(P690:P693)","v":820709},5.8800008654761973,5804,5620,137,999,685,5620,125376814.92000002,685,137,999,685,5620,125376814.92000002]
["01380138","0138","0138",686,138,"Hopedale                     ",138,"Hopedale",12503191.355299996,0.89892142209959214,{"$f":"X695","v":13165360.090000002},{"$f":"IF(K699>0, K695/K699, 0)","v":0.90653561539241434},null,{"$f":"ROUND(M699*L695,0)","v":7772067},7211367,{"$f":"N695-O695","v":560700},7.7752248637463603,883,885,138,138,686,885,13165360.090000002,686,138,138,686,885,13165360.090000002]
["01380805","0138","0805",687,138,"Hopedale                     ",805,"Blackstone Valley",1405912.4305420974,0.10107857790040782,1357356.7966399998,{"$f":"IF(K699>0, K696/K699, 0)","v":9.3464384607585646E-2},null,{"$f":"ROUND(M699*L696,0)","v":801305},810877,{"$f":"N696-O696","v":-9572},-1.1804503025736333,69.999999999659991,65,138,805,687,65,1357356.7966399998,687,138,805,687,65,1357356.7966399998]
["01380998","0138","0998",688,138,"",998,"",0,0,0,{"$f":"IF(K699>0, K697/K699, 0)","v":0},null,{"$f":"ROUND(M699*L697,0)","v":0},0,{"$f":"N697-O697","v":0},0,0,0,138,998,688,0,0,688,138,998,688,0,0]
["01380998","0138","0998",689,138,"",998,"",0,0,0,{"$f":"IF(K699>0, K698/K699, 0)","v":0},null,{"$f":"ROUND(M699*L698,0)","v":0},0,{"$f":"N698-O698","v":0},0,0,0,138,998,689,0,0,689,138,998,689,0,0]
["01380999","0138","0999",690,138,"Hopedale                     ",999,"Total",13909103.785842095,1,{"$f":"SUM(K695:K698)","v":14522716.886640001},{"$f":"SUM(L695:L698)","v":1},{"$f":"VLOOKUP(E699,town351,24)","v":8573372},{"$f":"SUM(N695:N698)","v":8573372},8022244,{"$f":"SUM(P695:P698)","v":551128},6.8699979706426282,952.99999999965996,950,138,999,690,950,14522716.886640001,690,138,999,690,950,14522716.886640001]
["01390139","0139","0139",691,139,"Hopkinton                    ",139,"Hopkinton",55425077.173420005,0.98867185575200356,{"$f":"X700","v":58274271.760200001},{"$f":"IF(K704>0, K700/K704, 0)","v":0.98801629829680337},null,{"$f":"ROUND(M704*L700,0)","v":47107356},45725689,{"$f":"N700-O700","v":1381667},3.0216428231404016,4208,4228,139,139,691,4228,58274271.760200001,691,139,139,691,4228,58274271.760200001]
["01390829","0139","0829",692,139,"Hopkinton                    ",829,"South Middlesex",635057.28976099414,1.13281442479965E-2,706811.71044353396,{"$f":"IF(K704>0, K701/K704, 0)","v":1.1983701703196637E-2},null,{"$f":"ROUND(M704*L701,0)","v":571368},523922,{"$f":"N701-O701","v":47446},9.0559281725142284,26.1168539361,28.093229748319999,139,829,692,28.093229748319999,706811.71044353396,692,139,829,692,28.093229748319999,706811.71044353396]
["01390998","0139","0998",693,139,"",998,"",0,0,0,{"$f":"IF(K704>0, K702/K704, 0)","v":0},null,{"$f":"ROUND(M704*L702,0)","v":0},0,{"$f":"N702-O702","v":0},0,0,0,139,998,693,0,0,693,139,998,693,0,0]
["01390998","0139","0998",694,139,"",998,"",0,0,0,{"$f":"IF(K704>0, K703/K704, 0)","v":0},null,{"$f":"ROUND(M704*L703,0)","v":0},0,{"$f":"N703-O703","v":0},0,0,0,139,998,694,0,0,694,139,998,694,0,0]
["01390999","0139","0999",695,139,"Hopkinton                    ",999,"Total",56060134.463180996,1,{"$f":"SUM(K700:K703)","v":58981083.470643535},{"$f":"SUM(L700:L703)","v":1},{"$f":"VLOOKUP(E704,town351,24)","v":47678724},{"$f":"SUM(N700:N703)","v":47678724},46249611,{"$f":"SUM(P700:P703)","v":1429113},3.0900000434598249,4234.1168539360997,4256.0932297483196,139,999,695,4256.0932297483196,58981083.470643535,695,139,999,695,4256.0932297483196,58981083.470643535]
["01400140","0140","0140",696,140,"Hubbardston                  ",140,"Hubbardston",0,0,{"$f":"X705","v":0},{"$f":"IF(K709>0, K705/K709, 0)","v":0},null,{"$f":"ROUND(M709*L705,0)","v":0},0,{"$f":"N705-O705","v":0},0,0,0,140,140,696,0,0,696,140,140,696,0,0]
["01400753","0140","0753",697,140,"Hubbardston                  ",753,"Quabbin",8121996.5480931122,0.91764248928658876,8307627.9064285904,{"$f":"IF(K709>0, K706/K709, 0)","v":0.91642737416865672},null,{"$f":"ROUND(M709*L706,0)","v":4661167},4421512,{"$f":"N706-O706","v":239655},5.420204672066931,549.24070248836006,540.44131213901994,140,753,697,540.44131213901994,8307627.9064285904,697,140,753,697,540.44131213901994,8307627.9064285904]
["01400832","0140","0832",698,140,"Hubbardston                  ",832,"Montachusett",728941.20044931979,8.2357510713411297E-2,757605.34674099321,{"$f":"IF(K709>0, K707/K709, 0)","v":8.3572625831343367E-2},null,{"$f":"ROUND(M709*L707,0)","v":425070},396826,{"$f":"N707-O707","v":28244},7.1174771814346842,35.00000000544,34.9999999944,140,832,698,34.9999999944,757605.34674099321,698,140,832,698,34.9999999944,757605.34674099321]
["01400998","0140","0998",699,140,"",998,"",0,0,0,{"$f":"IF(K709>0, K708/K709, 0)","v":0},null,{"$f":"ROUND(M709*L708,0)","v":0},0,{"$f":"N708-O708","v":0},0,0,0,140,998,699,0,0,699,140,998,699,0,0]
["01400999","0140","0999",700,140,"Hubbardston                  ",999,"Total",8850937.7485424317,1,{"$f":"SUM(K705:K708)","v":9065233.2531695832},{"$f":"SUM(L705:L708)","v":1},{"$f":"VLOOKUP(E709,town351,24)","v":5086237},{"$f":"SUM(N705:N708)","v":5086237},4818338,{"$f":"SUM(P705:P708)","v":267899},5.5599876970025761,584.24070249380009,575.44131213341996,140,999,700,575.44131213341996,9065233.2531695832,700,140,999,700,575.44131213341996,9065233.2531695832]
["01410141","0141","0141",701,141,"Hudson                       ",141,"Hudson",37349315.827400006,0.88874772716201134,{"$f":"X710","v":37694133.730259992},{"$f":"IF(K714>0, K710/K714, 0)","v":0.88860733614836973},null,{"$f":"ROUND(M714*L710,0)","v":24750368},23481576,{"$f":"N710-O710","v":1268792},5.4033511208958034,2414,2346,141,141,701,2346,37694133.730259992,701,141,141,701,2346,37694133.730259992]
["01410801","0141","0801",702,141,"Hudson                       ",801,"Assabet Valley",4675338.2852642257,0.11125227283798872,4725202.9068238186,{"$f":"IF(K714>0, K711/K714, 0)","v":0.1113926638516302},null,{"$f":"ROUND(M714*L711,0)","v":3102618},2939393,{"$f":"N711-O711","v":163225},5.5530172385931378,194.99999999778001,186.99999999552,141,801,702,186.99999999552,4725202.9068238186,702,141,801,702,186.99999999552,4725202.9068238186]
["01410998","0141","0998",703,141,"",998,"",0,0,0,{"$f":"IF(K714>0, K712/K714, 0)","v":0},null,{"$f":"ROUND(M714*L712,0)","v":0},0,{"$f":"N712-O712","v":0},0,0,0,141,998,703,0,0,703,141,998,703,0,0]
["01410998","0141","0998",704,141,"",998,"",0,0,0,{"$f":"IF(K714>0, K713/K714, 0)","v":0},null,{"$f":"ROUND(M714*L713,0)","v":0},0,{"$f":"N713-O713","v":0},0,0,0,141,998,704,0,0,704,141,998,704,0,0]
[{"$f":"B714&C714","v":"01410999"},"0141","0999",705,141,"Hudson                       ",999,"Total",42024654.11266423,1,{"$f":"SUM(K710:K713)","v":42419336.637083814},{"$f":"SUM(L710:L713)","v":0.99999999999999989},{"$f":"VLOOKUP(E714,town351,24)","v":27852986},{"$f":"SUM(N710:N713)","v":27852986},26420969,{"$f":"SUM(P710:P713)","v":1432017},5.4200018174957929,2608.9999999977799,2532.9999999955198,{"$f":"VLOOKUP($D714, foundoptions, VLOOKUP($T$6, foundoptcell, 2, FALSE), FALSE)","v":141},{"$f":"VLOOKUP($D714, foundoptions, VLOOKUP($T$6, foundoptcell, 2, FALSE)+1, FALSE)","v":999},{"$f":"VLOOKUP($D714, foundoptions, VLOOKUP($T$6, foundoptcell, 2, FALSE)+2, FALSE)","v":705},{"$f":"VLOOKUP($D714, foundoptions, VLOOKUP($T$6, foundoptcell, 2, FALSE)+3, FALSE)","v":2532.9999999955198},{"$f":"VLOOKUP($D714, foundoptions, VLOOKUP($T$6, foundoptcell, 2, FALSE)+4, FALSE)","v":42419336.637083814},705,141,999,705,2532.9999999955198,42419336.637083814]
["01420142","0142","0142",706,142,"Hull                         ",142,"Hull",10469817.630829999,1,{"$f":"X715","v":10380828.725029999},{"$f":"IF(K719>0, K715/K719, 0)","v":1},null,{"$f":"ROUND(M719*L715,0)","v":8564184},8637600,{"$f":"N715-O715","v":-73416},-0.84995832175604336,700,{"$f":"W715","v":675},142,142,706,675,10380828.725029999,{"$f":"D715","v":706},142,142,706,675,10380828.725029999]
["01420998","0142","0998",707,142,"",998,"",0,0,0,{"$f":"IF(K719>0, K716/K719, 0)","v":0},null,{"$f":"ROUND(M719*L716,0)","v":0},0,{"$f":"N716-O716","v":0},0,0,0,142,998,707,0,0,707,142,998,707,0,0]
["01420998","0142","0998",708,142,"",998,"",0,0,0,{"$f":"IF(K719>0, K717/K719, 0)","v":0},null,{"$f":"ROUND(M719*L717,0)","v":0},0,{"$f":"N717-O717","v":0},0,0,0,142,998,708,0,0,708,142,998,708,0,0]
["01420998","0142","0998",709,142,"",998,"",0,0,0,{"$f":"IF(K719>0, K718/K719, 0)","v":0},null,{"$f":"ROUND(M719*L718,0)","v":0},0,{"$f":"N718-O718","v":0},0,0,0,142,998,709,0,0,709,142,998,709,0,0]
["01420999","0142","0999",710,142,"Hull                         ",999,"Total",10469817.630829999,1,{"$f":"SUM(K715:K718)","v":10380828.725029999},{"$f":"SUM(L715:L718)","v":1},{"$f":"VLOOKUP(E719,town351,24)","v":8564184},{"$f":"SUM(N715:N718)","v":8564184},8637600,{"$f":"SUM(P715:P718)","v":-73416},-0.84995832175604336,700,675,142,999,710,675,10380828.725029999,710,142,999,710,675,10380828.725029999]
["01430143","0143","0143",711,143,"Huntington                   ",143,"Huntington",741045.99,0.15520816394855003,{"$f":"X720","v":662040.87999999989},{"$f":"IF(K724>0, K720/K724, 0)","v":0.13509390582479763},null,{"$f":"ROUND(M724*L720,0)","v":277266},304598,{"$f":"N720-O720","v":-27332},{"$f":"IF(O720>0,P720*100/O720,IF(P720>0,100,0))","v":-8.9731383659774515},39,33,143,143,711,33,662040.87999999989,711,143,143,711,33,662040.87999999989]
["01430672","0143","0672",712,143,"Huntington                   ",672,"Gateway",4033483.719955524,0.84479183605145003,4238556.789139837,{"$f":"IF(K724>0, K721/K724, 0)","v":0.86490609417520237},null,{"$f":"ROUND(M724*L721,0)","v":1775129},1657914,{"$f":"N721-O721","v":117215},{"$f":"IF(O721>0,P721*100/O721,IF(P721>0,100,0))","v":7.0700289641079088},253.48578811089999,253.60714285451999,143,672,712,253.60714285451999,4238556.789139837,712,143,672,712,253.60714285451999,4238556.789139837]
["01430998","0143","0998",713,143,"",998,"",0,0,0,{"$f":"IF(K724>0, K722/K724, 0)","v":0},null,{"$f":"ROUND(M724*L722,0)","v":0},0,{"$f":"N722-O722","v":0},{"$f":"IF(O722>0,P722*100/O722,IF(P722>0,100,0))","v":0},0,0,143,998,713,0,0,713,143,998,713,0,0]
["01430998","0143","0998",714,143,"",998,"",0,0,0,{"$f":"IF(K724>0, K723/K724, 0)","v":0},null,{"$f":"ROUND(M724*L723,0)","v":0},0,{"$f":"N723-O723","v":0},{"$f":"IF(O723>0,P723*100/O723,IF(P723>0,100,0))","v":0},0,0,143,998,714,0,0,714,143,998,714,0,0]
["01430999","0143","0999",715,143,"Huntington                   ",999,"Total",4774529.7099555237,1,{"$f":"SUM(K720:K723)","v":4900597.6691398369},{"$f":"SUM(L720:L723)","v":1},{"$f":"VLOOKUP(E724,town351,24)","v":2052395},{"$f":"SUM(N720:N723)","v":2052395},1962512,{"$f":"SUM(P720:P723)","v":89883},{"$f":"IF(O724>0,P724*100/O724,IF(P724>0,100,0))","v":4.5799974726269186},292.48578811089999,286.60714285452002,143,999,715,286.60714285452002,4900597.6691398369,715,143,999,715,286.60714285452002,4900597.6691398369]
["01440144","0144","0144",716,144,"Ipswich                      ",144,"Ipswich",21484399.094409999,0.9692192470104195,{"$f":"X725","v":21735094.242119998},{"$f":"IF(K729>0, K725/K729, 0)","v":0.96598843995489447},null,{"$f":"ROUND(M729*L725,0)","v":17931453},17724629,{"$f":"N725-O725","v":206824},1.1668735069151519,1534,1486,144,144,716,1486,21735094.242119998,716,144,144,716,1486,21735094.242119998]
["01440885","0144","0885",717,144,"Ipswich                      ",885,"Whittier",682307.93362226,3.0780752989580544E-2,765272.57710911054,{"$f":"IF(K729>0, K726/K729, 0)","v":3.4011560045105513E-2},null,{"$f":"ROUND(M729*L726,0)","v":631350},562904,{"$f":"N726-O726","v":68446},12.159444594460156,30.999999998490001,34.00000000264,144,885,717,34.00000000264,765272.57710911054,717,144,885,717,34.00000000264,765272.57710911054]
["01440998","0144","0998",718,144,"",998,null,0,0,0,{"$f":"IF(K729>0, K727/K729, 0)","v":0},null,{"$f":"ROUND(M729*L727,0)","v":0},0,{"$f":"N727-O727","v":0},0,0,0,144,998,718,0,0,718,144,998,718,0,0]
["01440998","0144","0998",719,144,"",998,"",0,0,0,{"$f":"IF(K729>0, K728/K729, 0)","v":0},null,{"$f":"ROUND(M729*L728,0)","v":0},0,{"$f":"N728-O728","v":0},0,0,0,144,998,719,0,0,719,144,998,719,0,0]
["01440999","0144","0999",720,144,"Ipswich                      ",999,"Total",22166707.028032258,1,{"$f":"SUM(K725:K728)","v":22500366.819229107},{"$f":"SUM(L725:L728)","v":1},{"$f":"VLOOKUP(E729,town351,24)","v":18562803},{"$f":"SUM(N725:N728)","v":18562803},18287533,{"$f":"SUM(P725:P728)","v":275270},1.5052331006046578,1564.99999999849,1520.00000000264,144,999,720,1520.00000000264,22500366.819229107,720,144,999,720,1520.00000000264,22500366.819229107]
["01450145","0145","0145",721,145,"Kingston                     ",145,"Kingston",16585038.479599999,0.51567458376889086,{"$f":"X730","v":16109128.8708},{"$f":"IF(K734>0, K730/K734, 0)","v":0.5047322859708695},null,{"$f":"ROUND(M734*L730,0)","v":10977022},10539421,{"$f":"N730-O730","v":437601},4.1520402306730135,1202,1139,145,145,721,1139,16109128.8708,721,145,145,721,1139,16109128.8708]
["01450760","0145","0760",722,145,"Kingston                     ",760,"Silver Lake",15576791.871598564,0.4843254162311092,15807055.844456621,{"$f":"IF(K734>0, K731/K734, 0)","v":0.49526771402913045},null,{"$f":"ROUND(M734*L731,0)","v":10771184},9898702,{"$f":"N731-O731","v":872482},8.8141051220654987,991.26423689412002,960.80874635993996,145,760,722,960.80874635993996,15807055.844456621,722,145,760,722,960.80874635993996,15807055.844456621]
["01450998","0145","0998",723,145,"",998,"",0,0,0,{"$f":"IF(K734>0, K732/K734, 0)","v":0},null,{"$f":"ROUND(M734*L732,0)","v":0},0,{"$f":"N732-O732","v":0},0,0,0,145,998,723,0,0,723,145,998,723,0,0]
["01450998","0145","0998",724,145,"",998,"",0,0,0,{"$f":"IF(K734>0, K733/K734, 0)","v":0},null,{"$f":"ROUND(M734*L733,0)","v":0},0,{"$f":"N733-O733","v":0},0,0,0,145,998,724,0,0,724,145,998,724,0,0]
["01450999","0145","0999",725,145,"Kingston                     ",999,"Total",32161830.351198561,1,{"$f":"SUM(K730:K733)","v":31916184.71525662},{"$f":"SUM(L730:L733)","v":1},{"$f":"VLOOKUP(E734,town351,24)","v":21748206},{"$f":"SUM(N730:N733)","v":21748206},20438123,{"$f":"SUM(P730:P733)","v":1310083},6.4099966518451819,2193.2642368941201,2099.80874635994,145,999,725,2099.80874635994,31916184.71525662,725,145,999,725,2099.80874635994,31916184.71525662]
["01460146","0146","0146",726,146,"Lakeville                    ",146,"Lakeville",379200.13999999996,1.6146758567873891E-2,{"$f":"X735","v":484419.6},{"$f":"IF(K739>0, K735/K739, 0)","v":2.0061871539567174E-2},null,{"$f":"ROUND(M739*L735,0)","v":364971},277801,{"$f":"N735-O735","v":87170},31.378576750983619,20,25,146,146,726,25,484419.6,726,146,146,726,25,484419.6]
["01460665","0146","0665",727,146,"Lakeville                    ",665,"Freetown Lakeville",20289989.383411609,0.86397003945903528,20822842.253192466,{"$f":"IF(K739>0, K736/K739, 0)","v":0.86236227099856977},null,{"$f":"ROUND(M739*L736,0)","v":15688333},14864367,{"$f":"N736-O736","v":823966},5.5432296578791416,1510.6575446682,1478.3293848038102,146,665,727,1478.3293848038102,20822842.253192466,727,146,665,727,1478.3293848038102,20822842.253192466]
["01460855","0146","0855",728,146,"Lakeville                    ",855,"Old Colony",2815408.8500643368,0.11988320197309081,2839019.7658778089,{"$f":"IF(K739>0, K737/K739, 0)","v":0.11757585746186298},null,{"$f":"ROUND(M739*L737,0)","v":2138973},2062558,{"$f":"N737-O737","v":76415},3.7048655116607629,139.00000000228999,135.00000000239999,146,855,728,135.00000000239999,2839019.7658778089,728,146,855,728,135.00000000239999,2839019.7658778089]
["01460998","0146","0998",729,146,"",998,"",0,0,0,{"$f":"IF(K739>0, K738/K739, 0)","v":0},null,{"$f":"ROUND(M739*L738,0)","v":0},0,{"$f":"N738-O738","v":0},0,0,0,146,998,729,0,0,729,146,998,729,0,0]
["01460999","0146","0999",730,146,"Lakeville                    ",999,"Total",23484598.373475946,0.99999999999999989,{"$f":"SUM(K735:K738)","v":24146281.619070277},{"$f":"SUM(L735:L738)","v":0.99999999999999989},{"$f":"VLOOKUP(E739,town351,24)","v":18192277},{"$f":"SUM(N735:N738)","v":18192277},17204726,{"$f":"SUM(P735:P738)","v":987551},5.7399984167141049,1669.6575446704901,1638.3293848062101,146,999,730,1638.3293848062101,24146281.619070277,730,146,999,730,1638.3293848062101,24146281.619070277]
["01470147","0147","0147",731,147,"Lancaster                    ",147,"Lancaster",17354.29,1.1970812569010978E-3,{"$f":"X740","v":0},{"$f":"IF(K744>0, K740/K744, 0)","v":0},null,{"$f":"ROUND(M744*L740,0)","v":0},11992,{"$f":"N740-O740","v":-11992},-100,1,0,147,147,731,0,0,731,147,147,731,0,0]
["01470725","0147","0725",732,147,"Lancaster                    ",725,"Nashoba",13199774.023001587,0.91050697425623284,13942145.467467487,{"$f":"IF(K744>0, K741/K744, 0)","v":0.90721835011663543},null,{"$f":"ROUND(M744*L741,0)","v":9532918},9121436,{"$f":"N741-O741","v":411482},4.5111537262334567,986.38925729435005,992.67966665670997,147,725,732,992.67966665670997,13942145.467467487,732,147,725,732,992.67966665670997,13942145.467467487]
["01470830","0147","0830",733,147,"Lancaster                    ",830,"Minuteman",1280041.2817553421,8.8295944486866201E-2,1425869.8131703341,{"$f":"IF(K744>0, K742/K744, 0)","v":9.2781649883364514E-2},null,{"$f":"ROUND(M744*L742,0)","v":974936},884547,{"$f":"N742-O742","v":90389},10.218676904675501,59.000000002050001,62.999999997629999,147,830,733,62.999999997629999,1425869.8131703341,733,147,830,733,62.999999997629999,1425869.8131703341]
["01470998","0147","0998",734,147,"",998,"",0,0,0,{"$f":"IF(K744>0, K743/K744, 0)","v":0},null,{"$f":"ROUND(M744*L743,0)","v":0},0,{"$f":"N743-O743","v":0},0,0,0,147,998,734,0,0,734,147,998,734,0,0]
["01470999","0147","0999",735,147,"Lancaster                    ",999,"Total",14497169.594756927,1.0000000000000002,{"$f":"SUM(K740:K743)","v":15368015.280637821},{"$f":"SUM(L740:L743)","v":1},{"$f":"VLOOKUP(E744,town351,24)","v":10507854},{"$f":"SUM(N740:N743)","v":10507854},10017975,{"$f":"SUM(P740:P743)","v":489879},4.8900002245962879,1046.3892572964,1055.6796666543401,147,999,735,1055.6796666543401,15368015.280637821,735,147,999,735,1055.6796666543401,15368015.280637821]
["01480148","0148","0148",736,148,"Lanesborough                 ",148,"Lanesborough",0,0,{"$f":"X745","v":18046.96},{"$f":"IF(K749>0, K745/K749, 0)","v":3.1191749265030095E-3},null,{"$f":"ROUND(M749*L745,0)","v":10846},0,{"$f":"N745-O745","v":10846},100,0,1,148,148,736,1,18046.96,736,148,148,736,1,18046.96]
["01480715","0148","0715",737,148,"Lanesborough                 ",715,"Mount Greylock",5089495.7600569185,0.91785059351105158,5081858.2521691099,{"$f":"IF(K749>0, K746/K749, 0)","v":0.87833102307581423},null,{"$f":"ROUND(M749*L746,0)","v":3054039},3042085,{"$f":"N746-O746","v":11954},0.39295417452175069,368.42402183952004,353.94177449020003,148,715,737,353.94177449020003,5081858.2521691099,737,148,715,737,353.94177449020003,5081858.2521691099]
["01480851","0148","0851",738,148,"Lanesborough                 ",851,"Northern Berkshire",455519.73161268246,8.2149406488948459E-2,685906.87764302827,{"$f":"IF(K749>0, K747/K749, 0)","v":0.11854980199768279},null,{"$f":"ROUND(M749*L747,0)","v":412209},272273,{"$f":"N747-O747","v":139936},51.395474395184245,19.999999998090001,29.0000000002,148,851,738,29.0000000002,685906.87764302827,738,148,851,738,29.0000000002,685906.87764302827]
["01480998","0148","0998",739,148,"",998,"",0,0,0,{"$f":"IF(K749>0, K748/K749, 0)","v":0},null,{"$f":"ROUND(M749*L748,0)","v":0},0,{"$f":"N748-O748","v":0},0,0,0,148,998,739,0,0,739,148,998,739,0,0]
["01480999","0148","0999",740,148,"Lanesborough                 ",999,"Total",5545015.4916696008,1,{"$f":"SUM(K745:K748)","v":5785812.0898121381},{"$f":"SUM(L745:L748)","v":1},{"$f":"VLOOKUP(E749,town351,24)","v":3477093},{"$f":"SUM(N745:N748)","v":3477094},3314358,{"$f":"SUM(P745:P748)","v":162736},4.9100308415687142,388.42402183761004,383.94177449040001,148,999,740,383.94177449040001,5785812.0898121381,740,148,999,740,383.94177449040001,5785812.0898121381]
["01490149","0149","0149",741,149,"Lawrence                     ",149,"Lawrence",333930425.07999992,0.90414783285991063,{"$f":"X750","v":349301506.88999999},{"$f":"IF(K754>0, K750/K754, 0)","v":0.90652045164279182},null,{"$f":"ROUND(M754*L750,0)","v":17109259},16318715,{"$f":"N750-O750","v":790544},4.8444010450577757,15214,14894,149,149,741,14894,349301506.88999999,741,149,149,741,14894,349301506.88999999]
["01490823","0149","0823",742,149,"Lawrence                     ",823,"Greater Lawrence",35401240.543468274,9.5852167140089373E-2,36019647.483293615,{"$f":"IF(K754>0, K751/K754, 0)","v":9.3479548357208286E-2},null,{"$f":"ROUND(M754*L751,0)","v":1764291},1730009,{"$f":"N751-O751","v":34282},1.981608188165495,1296.0000000056,1303.0000000003201,149,823,742,1303.0000000003201,36019647.483293615,742,149,823,742,1303.0000000003201,36019647.483293615]
["01490998","0149","0998",743,149,"",998,null,0,0,0,{"$f":"IF(K754>0, K752/K754, 0)","v":0},null,{"$f":"ROUND(M754*L752,0)","v":0},0,{"$f":"N752-O752","v":0},0,0,0,149,998,743,0,0,743,149,998,743,0,0]
["01490998","0149","0998",744,149,"",998,"",0,0,0,{"$f":"IF(K754>0, K753/K754, 0)","v":0},null,{"$f":"ROUND(M754*L753,0)","v":0},0,{"$f":"N753-O753","v":0},0,0,0,149,998,744,0,0,744,149,998,744,0,0]
["01490999","0149","0999",745,149,"Lawrence                     ",999,"Total",369331665.62346822,1,{"$f":"SUM(K750:K753)","v":385321154.37329358},{"$f":"SUM(L750:L753)","v":1},{"$f":"VLOOKUP(E754,town351,24)","v":18873550},{"$f":"SUM(N750:N753)","v":18873550},18048724,{"$f":"SUM(P750:P753)","v":824826},4.5699961947448475,16510.000000005599,16197.00000000032,149,999,745,16197.00000000032,385321154.37329358,745,149,999,745,16197.00000000032,385321154.37329358]
["01500150","0150","0150",746,150,"Lee                          ",150,"Lee",8801759.2699999996,1,{"$f":"X755","v":9200604.0700000003},{"$f":"IF(K759>0, K755/K759, 0)","v":1},null,{"$f":"ROUND(M759*L755,0)","v":7560623},7261451,{"$f":"N755-O755","v":299172},4.1200030131718854,537,531,150,150,746,531,9200604.0700000003,746,150,150,746,531,9200604.0700000003]
["01500998","0150","0998",747,150,"",998,"",0,0,0,{"$f":"IF(K759>0, K756/K759, 0)","v":0},null,{"$f":"ROUND(M759*L756,0)","v":0},0,{"$f":"N756-O756","v":0},0,0,0,150,998,747,0,0,747,150,998,747,0,0]
["01500998","0150","0998",748,150,"",998,"",0,0,0,{"$f":"IF(K759>0, K757/K759, 0)","v":0},null,{"$f":"ROUND(M759*L757,0)","v":0},0,{"$f":"N757-O757","v":0},0,0,0,150,998,748,0,0,748,150,998,748,0,0]
["01500998","0150","0998",749,150,"",998,"",0,0,0,{"$f":"IF(K759>0, K758/K759, 0)","v":0},null,{"$f":"ROUND(M759*L758,0)","v":0},0,{"$f":"N758-O758","v":0},0,0,0,150,998,749,0,0,749,150,998,749,0,0]
["01500999","0150","0999",750,150,"Lee                          ",999,"Total",8801759.2699999996,1,{"$f":"SUM(K755:K758)","v":9200604.0700000003},{"$f":"SUM(L755:L758)","v":1},{"$f":"VLOOKUP(E759,town351,24)","v":7560623},{"$f":"SUM(N755:N758)","v":7560623},7261451,{"$f":"SUM(P755:P758)","v":299172},4.1200030131718854,537,531,150,999,750,531,9200604.0700000003,750,150,999,750,531,9200604.0700000003]
["01510151","0151","0151",751,151,"Leicester                    ",151,"Leicester",21685353.440000005,1,{"$f":"X760","v":23075674.879999999},{"$f":"IF(K764>0, K760/K764, 0)","v":1},null,{"$f":"ROUND(M764*L760,0)","v":12302450},11866934,{"$f":"N760-O760","v":435516},3.6699959736862109,1360,1356,151,151,751,1356,23075674.879999999,751,151,151,751,1356,23075674.879999999]
["01510998","0151","0998",752,151,"",998,"",0,0,0,{"$f":"IF(K764>0, K761/K764, 0)","v":0},null,{"$f":"ROUND(M764*L761,0)","v":0},0,{"$f":"N761-O761","v":0},0,0,0,151,998,752,0,0,752,151,998,752,0,0]
["01510998","0151","0998",753,151,"",998,"",0,0,0,{"$f":"IF(K764>0, K762/K764, 0)","v":0},null,{"$f":"ROUND(M764*L762,0)","v":0},0,{"$f":"N762-O762","v":0},0,0,0,151,998,753,0,0,753,151,998,753,0,0]
["01510998","0151","0998",754,151,"",998,"",0,0,0,{"$f":"IF(K764>0, K763/K764, 0)","v":0},null,{"$f":"ROUND(M764*L763,0)","v":0},0,{"$f":"N763-O763","v":0},0,0,0,151,998,754,0,0,754,151,998,754,0,0]
["01510999","0151","0999",755,151,"Leicester                    ",999,"Total",21685353.440000005,1,{"$f":"SUM(K760:K763)","v":23075674.879999999},{"$f":"SUM(L760:L763)","v":1},{"$f":"VLOOKUP(E764,town351,24)","v":12302450},{"$f":"SUM(N760:N763)","v":12302450},11866934,{"$f":"SUM(P760:P763)","v":435516},3.6699959736862109,1360,1356,151,999,755,1356,23075674.879999999,755,151,999,755,1356,23075674.879999999]
["01520152","0152","0152",756,152,"Lenox                        ",152,"Lenox",6520538.4500000002,1,{"$f":"X765","v":6819131.9299999997},{"$f":"IF(K769>0, K765/K769, 0)","v":1},null,{"$f":"ROUND(M769*L765,0)","v":5625784},5379444,{"$f":"N765-O765","v":246340},4.579283658311156,441,452,152,152,756,452,6819131.9299999997,756,152,152,756,452,6819131.9299999997]
["01520998","0152","0998",757,152,"",998,"",0,0,0,{"$f":"IF(K769>0, K766/K769, 0)","v":0},null,{"$f":"ROUND(M769*L766,0)","v":0},0,{"$f":"N766-O766","v":0},0,0,0,152,998,757,0,0,757,152,998,757,0,0]
["01520998","0152","0998",758,152,"",998,"",0,0,0,{"$f":"IF(K769>0, K767/K769, 0)","v":0},null,{"$f":"ROUND(M769*L767,0)","v":0},0,{"$f":"N767-O767","v":0},0,0,0,152,998,758,0,0,758,152,998,758,0,0]
["01520998","0152","0998",759,152,"",998,"",0,0,0,{"$f":"IF(K769>0, K768/K769, 0)","v":0},null,{"$f":"ROUND(M769*L768,0)","v":0},0,{"$f":"N768-O768","v":0},0,0,0,152,998,759,0,0,759,152,998,759,0,0]
["01520999","0152","0999",760,152,"Lenox                        ",999,"Total",6520538.4500000002,1,{"$f":"SUM(K765:K768)","v":6819131.9299999997},{"$f":"SUM(L765:L768)","v":1},{"$f":"VLOOKUP(E769,town351,24)","v":5625784},{"$f":"SUM(N765:N768)","v":5625784},5379444,{"$f":"SUM(P765:P768)","v":246340},4.579283658311156,441,452,152,999,760,452,6819131.9299999997,760,152,999,760,452,6819131.9299999997]
["01530153","0153","0153",761,153,"Leominster                   ",153,"Leominster",111313888.00000001,1,{"$f":"X770","v":116573692.46999998},{"$f":"IF(K774>0, K770/K774, 0)","v":1},null,{"$f":"ROUND(M774*L770,0)","v":40416037},38590697,{"$f":"N770-O770","v":1825340},4.7300000826624098,6122,6098,153,153,761,6098,116573692.46999998,761,153,153,761,6098,116573692.46999998]
["01530998","0153","0998",762,153,"",998,"",0,0,0,{"$f":"IF(K774>0, K771/K774, 0)","v":0},null,{"$f":"ROUND(M774*L771,0)","v":0},0,{"$f":"N771-O771","v":0},0,0,0,153,998,762,0,0,762,153,998,762,0,0]
["01530998","0153","0998",763,153,"",998,"",0,0,0,{"$f":"IF(K774>0, K772/K774, 0)","v":0},null,{"$f":"ROUND(M774*L772,0)","v":0},0,{"$f":"N772-O772","v":0},0,0,0,153,998,763,0,0,763,153,998,763,0,0]
["01530998","0153","0998",764,153,"",998,"",0,0,0,{"$f":"IF(K774>0, K773/K774, 0)","v":0},null,{"$f":"ROUND(M774*L773,0)","v":0},0,{"$f":"N773-O773","v":0},0,0,0,153,998,764,0,0,764,153,998,764,0,0]
["01530999","0153","0999",765,153,"Leominster                   ",999,"Total",111313888.00000001,1,{"$f":"SUM(K770:K773)","v":116573692.46999998},{"$f":"SUM(L770:L773)","v":1},{"$f":"VLOOKUP(E774,town351,24)","v":40416037},{"$f":"SUM(N770:N773)","v":40416037},38590697,{"$f":"SUM(P770:P773)","v":1825340},4.7300000826624098,6122,6098,153,999,765,6098,116573692.46999998,765,153,999,765,6098,116573692.46999998]
["01540154","0154","0154",766,154,"Leverett                     ",154,"Leverett",1304428.1500000001,0.48949647612573227,{"$f":"X775","v":1363486.12},{"$f":"IF(K779>0, K775/K779, 0)","v":0.47590633571407781},null,{"$f":"ROUND(M779*L775,0)","v":1088545},1076153,{"$f":"N775-O775","v":12392},1.1515091255611423,96,95,154,154,766,95,1363486.12,766,154,154,766,95,1363486.12]
["01540605","0154","0605",767,154,"Leverett                     ",605,"Amherst Pelham",1360408.5007646608,0.51050352387426778,1501544.2813165647,{"$f":"IF(K779>0, K776/K779, 0)","v":0.52409366428592219},null,{"$f":"ROUND(M779*L776,0)","v":1198764},1122337,{"$f":"N776-O776","v":76427},6.809630262568195,90.14434643428001,94.999999994899994,154,605,767,94.999999994899994,1501544.2813165647,767,154,605,767,94.999999994899994,1501544.2813165647]
["01540998","0154","0998",768,154,"",998,"",0,0,0,{"$f":"IF(K779>0, K777/K779, 0)","v":0},null,{"$f":"ROUND(M779*L777,0)","v":0},0,{"$f":"N777-O777","v":0},0,0,0,154,998,768,0,0,768,154,998,768,0,0]
[{"$f":"B778&C778","v":"01540998"},"0154","0998",769,154,"",998,"",0,0,0,{"$f":"IF(K779>0, K778/K779, 0)","v":0},null,{"$f":"ROUND(M779*L778,0)","v":0},0,{"$f":"N778-O778","v":0},0,0,0,{"$f":"VLOOKUP($D778, foundoptions, VLOOKUP($T$6, foundoptcell, 2, FALSE), FALSE)","v":154},{"$f":"VLOOKUP($D778, foundoptions, VLOOKUP($T$6, foundoptcell, 2, FALSE)+1, FALSE)","v":998},{"$f":"VLOOKUP($D778, foundoptions, VLOOKUP($T$6, foundoptcell, 2, FALSE)+2, FALSE)","v":769},{"$f":"VLOOKUP($D778, foundoptions, VLOOKUP($T$6, foundoptcell, 2, FALSE)+3, FALSE)","v":0},{"$f":"VLOOKUP($D778, foundoptions, VLOOKUP($T$6, foundoptcell, 2, FALSE)+4, FALSE)","v":0},769,154,998,769,0,0]
["01540999","0154","0999",770,154,"Leverett                     ",999,"Total",2664836.6507646609,1,{"$f":"SUM(K775:K778)","v":2865030.4013165645},{"$f":"SUM(L775:L778)","v":1},{"$f":"VLOOKUP(E779,town351,24)","v":2287309},{"$f":"SUM(N775:N778)","v":2287309},2198490,{"$f":"SUM(P775:P778)","v":88819},4.0400001819430607,186.14434643428001,{"$f":"W779","v":189.99999999490001},154,999,770,189.99999999490001,2865030.4013165645,{"$f":"D779","v":770},154,999,770,189.99999999490001,2865030.4013165645]
["01550155","0155","0155",771,155,"Lexington                    ",155,"Lexington",94617837.13944,0.98066177335332017,{"$f":"X780","v":95900340.861210018},{"$f":"IF(K784>0, K780/K784, 0)","v":0.97671855214527847},null,{"$f":"ROUND(M784*L780,0)","v":79117781},78059716,{"$f":"N780-O780","v":1058065},1.355455866634206,6816,6594,155,155,771,6594,95900340.861210018,771,155,155,771,6594,95900340.861210018]
["01550830","0155","0830",772,155,"Lexington                    ",830,"Minuteman",1865822.8852588234,1.9338226646679779E-2,2285918.272061436,{"$f":"IF(K784>0, K781/K784, 0)","v":2.328144785472154E-2},null,{"$f":"ROUND(M784*L781,0)","v":1885883},1539304,{"$f":"N781-O781","v":346579},22.515305618643232,86.000000002450008,101.00000000298,155,830,772,101.00000000298,2285918.272061436,772,155,830,772,101.00000000298,2285918.272061436]
["01550998","0155","0998",773,155,"",998,null,0,0,0,{"$f":"IF(K784>0, K782/K784, 0)","v":0},null,{"$f":"ROUND(M784*L782,0)","v":0},0,{"$f":"N782-O782","v":0},0,0,0,155,998,773,0,0,773,155,998,773,0,0]
["01550998","0155","0998",774,155,"",998,"",0,0,0,{"$f":"IF(K784>0, K783/K784, 0)","v":0},null,{"$f":"ROUND(M784*L783,0)","v":0},0,{"$f":"N783-O783","v":0},0,0,0,155,998,774,0,0,774,155,998,774,0,0]
["01550999","0155","0999",775,155,"Lexington                    ",999,"Total",96483660.024698824,1,{"$f":"SUM(K780:K783)","v":98186259.133271456},{"$f":"SUM(L780:L783)","v":1},{"$f":"VLOOKUP(E784,town351,24)","v":81003664},{"$f":"SUM(N780:N783)","v":81003664},79599020,{"$f":"SUM(P780:P783)","v":1404644},{"$f":"IF(O784>0,P784*100/O784,IF(P784>0,100,0))","v":1.7646498662923238},6902.0000000024502,6695.0000000029804,155,999,775,6695.0000000029804,98186259.133271456,775,155,999,775,6695.0000000029804,98186259.133271456]
["01560156","0156","0156",776,156,"Leyden                       ",156,"Leyden",0,0,{"$f":"X785","v":0},{"$f":"IF(K789>0, K785/K789, 0)","v":0},null,{"$f":"ROUND(M789*L785,0)","v":0},0,{"$f":"N785-O785","v":0},0,0,0,156,156,776,0,0,776,156,156,776,0,0]
["01560750","0156","0750",777,156,"Leyden                       ",750,"Pioneer",969423.69892759097,0.81044911856397817,997558.43861031299,{"$f":"IF(K789>0, K786/K789, 0)","v":0.78033666742573815},null,{"$f":"ROUND(M789*L786,0)","v":518902},510395,{"$f":"N786-O786","v":8507},1.6667483027850978,67.000000001090001,66.871401152399997,156,750,777,66.871401152399997,997558.43861031299,777,156,750,777,66.871401152399997,997558.43861031299]
["01560818","0156","0818",778,156,"Leyden                       ",818,"Franklin County",226732.45291732356,0.18955088143602186,280810.86050409416,{"$f":"IF(K789>0, K787/K789, 0)","v":0.21966333257426196},null,{"$f":"ROUND(M789*L787,0)","v":146070},119373,{"$f":"N787-O787","v":26697},22.364353748335052,9.999999998069999,11.9999999994,156,818,778,11.9999999994,280810.86050409416,778,156,818,778,11.9999999994,280810.86050409416]
["01560998","0156","0998",779,156,"",998,"",0,0,0,{"$f":"IF(K789>0, K788/K789, 0)","v":0},null,{"$f":"ROUND(M789*L788,0)","v":0},0,{"$f":"N788-O788","v":0},0,0,0,156,998,779,0,0,779,156,998,779,0,0]
["01560999","0156","0999",780,156,"Leyden                       ",999,"Total",1196156.1518449145,1,{"$f":"SUM(K785:K788)","v":1278369.299114407},{"$f":"SUM(L785:L788)","v":1},{"$f":"VLOOKUP(E789,town351,24)","v":664972},{"$f":"SUM(N785:N788)","v":664972},629768,{"$f":"SUM(P785:P788)","v":35204},5.5899950457946419,76.999999999159996,78.871401151800001,156,999,780,78.871401151800001,1278369.299114407,780,156,999,780,78.871401151800001,1278369.299114407]
["01570157","0157","0157",781,157,"Lincoln                      ",157,"Lincoln",8265928.5509799998,0.75618905262408154,{"$f":"X790","v":7681767.1268799994},{"$f":"IF(K794>0, K790/K794, 0)","v":0.73667901391359814},null,{"$f":"ROUND(M794*L790,0)","v":6337458},6819391,{"$f":"N790-O790","v":-481933},-7.0670973405103181,610,557,157,157,781,557,7681767.1268799994,781,157,157,781,557,7681767.1268799994]
["01570695","0157","0695",782,157,"Lincoln                      ",695,"Lincoln Sudbury",2665105.854101738,0.24381094737591849,2745796.2783413697,{"$f":"IF(K794>0, K791/K794, 0)","v":0.26332098608640192},null,{"$f":"ROUND(M794*L791,0)","v":2265282},2198712,{"$f":"N791-O791","v":66570},3.027681660899654,191.06018854062003,189.63439194630001,157,695,782,189.63439194630001,2745796.2783413697,782,157,695,782,189.63439194630001,2745796.2783413697]
["01570830","0157","0830",783,157,null,998,null,0,0,0,{"$f":"IF(K794>0, K792/K794, 0)","v":0},null,{"$f":"ROUND(M794*L792,0)","v":0},0,{"$f":"N792-O792","v":0},0,0,0,157,998,783,0,0,783,157,998,783,0,0]
["01570998","0157","0998",784,157,"",998,"",0,0,0,{"$f":"IF(K794>0, K793/K794, 0)","v":0},null,{"$f":"ROUND(M794*L793,0)","v":0},0,{"$f":"N793-O793","v":0},0,0,0,157,998,784,0,0,784,157,998,784,0,0]
["01570999","0157","0999",785,157,"Lincoln                      ",999,"Total",10931034.405081738,1,{"$f":"SUM(K790:K793)","v":10427563.405221369},{"$f":"SUM(L790:L793)","v":1},{"$f":"VLOOKUP(E794,town351,24)","v":8602740},{"$f":"SUM(N790:N793)","v":8602740},9018103,{"$f":"SUM(P790:P793)","v":-415363},-4.6058799727614552,801.06018854062006,746.63439194629996,157,999,785,746.63439194629996,10427563.405221369,785,157,999,785,746.63439194629996,10427563.405221369]
["01580158","0158","0158",786,158,"Littleton                    ",158,"Littleton",20480046,0.95489684753458504,{"$f":"X795","v":21209266.969999999},{"$f":"IF(K799>0, K795/K799, 0)","v":0.95827897756828684},null,{"$f":"ROUND(M799*L795,0)","v":17477691},16667629,{"$f":"N795-O795","v":810062},4.8600913783238155,1601,1579,158,158,786,1579,21209266.969999999,786,158,158,786,1579,21209266.969999999]
["01580852","0158","0852",787,158,"Littleton                    ",852,"Nashoba Valley",967344.94371995924,4.510315246541486E-2,923397.38607331319,{"$f":"IF(K799>0, K796/K799, 0)","v":4.1721022431713169E-2},null,{"$f":"ROUND(M799*L796,0)","v":760934},787271,{"$f":"N796-O796","v":-26337},-3.3453537600140231,45.99999999712,42.000000003499999,158,852,787,42.000000003499999,923397.38607331319,787,158,852,787,42.000000003499999,923397.38607331319]
["01580998","0158","0998",788,158,"",998,"",0,0,0,{"$f":"IF(K799>0, K797/K799, 0)","v":0},null,{"$f":"ROUND(M799*L797,0)","v":0},0,{"$f":"N797-O797","v":0},0,0,0,158,998,788,0,0,788,158,998,788,0,0]
["01580998","0158","0998",789,158,"",998,"",0,0,0,{"$f":"IF(K799>0, K798/K799, 0)","v":0},null,{"$f":"ROUND(M799*L798,0)","v":0},0,{"$f":"N798-O798","v":0},0,0,0,158,998,789,0,0,789,158,998,789,0,0]
["01580999","0158","0999",790,158,"Littleton                    ",999,"Total",21447390.943719961,0.99999999999999989,{"$f":"SUM(K795:K798)","v":22132664.356073312},{"$f":"SUM(L795:L798)","v":1},{"$f":"VLOOKUP(E799,town351,24)","v":18238625},{"$f":"SUM(N795:N798)","v":18238625},17454900,{"$f":"SUM(P795:P798)","v":783725},4.4899999427094972,1646.9999999971201,1621.0000000035,158,999,790,1621.0000000035,22132664.356073312,790,158,999,790,1621.0000000035,22132664.356073312]
["01590159","0159","0159",791,159,"Longmeadow                   ",159,"Longmeadow",35588989.330000006,1,{"$f":"X800","v":36519529.629999995},{"$f":"IF(K804>0, K800/K804, 0)","v":1},null,{"$f":"ROUND(M804*L800,0)","v":29526327},28680259,{"$f":"N800-O800","v":846068},2.9500012534754307,2729,2678,159,159,791,2678,36519529.629999995,791,159,159,791,2678,36519529.629999995]
["01590998","0159","0998",792,159,"",998,"",0,0,0,{"$f":"IF(K804>0, K801/K804, 0)","v":0},null,{"$f":"ROUND(M804*L801,0)","v":0},0,{"$f":"N801-O801","v":0},0,0,0,159,998,792,0,0,792,159,998,792,0,0]
["01590998","0159","0998",793,159,"",998,"",0,0,0,{"$f":"IF(K804>0, K802/K804, 0)","v":0},null,{"$f":"ROUND(M804*L802,0)","v":0},0,{"$f":"N802-O802","v":0},0,0,0,159,998,793,0,0,793,159,998,793,0,0]
["01590998","0159","0998",794,159,"",998,"",0,0,0,{"$f":"IF(K804>0, K803/K804, 0)","v":0},null,{"$f":"ROUND(M804*L803,0)","v":0},0,{"$f":"N803-O803","v":0},0,0,0,159,998,794,0,0,794,159,998,794,0,0]
["01590999","0159","0999",795,159,"Longmeadow                   ",999,"Total",35588989.330000006,1,{"$f":"SUM(K800:K803)","v":36519529.629999995},{"$f":"SUM(L800:L803)","v":1},{"$f":"VLOOKUP(E804,town351,24)","v":29526327},{"$f":"SUM(N800:N803)","v":29526327},28680259,{"$f":"SUM(P800:P803)","v":846068},2.9500012534754307,2729,2678,159,999,795,2678,36519529.629999995,795,159,999,795,2678,36519529.629999995]
["01600160","0160","0160",796,160,"Lowell                       ",160,"Lowell",330445792.43000001,0.89288326336233548,{"$f":"X805","v":349052320.75999999},{"$f":"IF(K809>0, K805/K809, 0)","v":0.89625008914633297},null,{"$f":"ROUND(M809*L805,0)","v":73085908},68956678,{"$f":"N805-O805","v":4129230},5.9881509953249195,16836,16778,160,160,796,16778,349052320.75999999,796,160,160,796,16778,349052320.75999999]
["01600828","0160","0828",797,160,"Lowell                       ",828,"Greater Lowell",39642668.166336499,0.10711673663766463,40406296.859182604,{"$f":"IF(K809>0, K806/K809, 0)","v":0.10374991085366707},null,{"$f":"ROUND(M809*L806,0)","v":8460425},8272542,{"$f":"N806-O806","v":187883},2.2711640509047886,1696.9999999895501,1681.9999999891202,160,828,797,1681.9999999891202,40406296.859182604,797,160,828,797,1681.9999999891202,40406296.859182604]
["01600998","0160","0998",798,160,"",998,null,0,0,0,{"$f":"IF(K809>0, K807/K809, 0)","v":0},null,{"$f":"ROUND(M809*L807,0)","v":0},0,{"$f":"N807-O807","v":0},0,0,0,160,998,798,0,0,798,160,998,798,0,0]
["01600998","0160","0998",799,160,"",998,"",0,0,0,{"$f":"IF(K809>0, K808/K809, 0)","v":0},null,{"$f":"ROUND(M809*L808,0)","v":0},0,{"$f":"N808-O808","v":0},0,0,0,160,998,799,0,0,799,160,998,799,0,0]
["01600999","0160","0999",800,160,"Lowell                       ",999,"Total",370088460.59633648,1,{"$f":"SUM(K805:K808)","v":389458617.61918259},{"$f":"SUM(L805:L808)","v":1},{"$f":"VLOOKUP(E809,town351,24)","v":81546333},{"$f":"SUM(N805:N808)","v":81546333},77229220,{"$f":"SUM(P805:P808)","v":4317113},5.5899994846510168,18532.999999989552,18459.999999989119,160,999,800,18459.999999989119,389458617.61918259,800,160,999,800,18459.999999989119,389458617.61918259]
["01610161","0161","0161",801,161,"Ludlow                       ",161,"Ludlow",34386677.929999992,1,{"$f":"X810","v":35222182.710000001},{"$f":"IF(K814>0, K810/K814, 0)","v":1},null,{"$f":"ROUND(M814*L810,0)","v":21458115},19968467,{"$f":"N810-O810","v":1489648},7.4600018118566638,2201,2186,161,161,801,2186,35222182.710000001,801,161,161,801,2186,35222182.710000001]
["01610998","0161","0998",802,161,"",998,"",0,0,0,{"$f":"IF(K814>0, K811/K814, 0)","v":0},null,{"$f":"ROUND(M814*L811,0)","v":0},0,{"$f":"N811-O811","v":0},0,0,0,161,998,802,0,0,802,161,998,802,0,0]
["01610998","0161","0998",803,161,"",998,"",0,0,0,{"$f":"IF(K814>0, K812/K814, 0)","v":0},null,{"$f":"ROUND(M814*L812,0)","v":0},0,{"$f":"N812-O812","v":0},0,0,0,161,998,803,0,0,803,161,998,803,0,0]
["01610998","0161","0998",804,161,"",998,"",0,0,0,{"$f":"IF(K814>0, K813/K814, 0)","v":0},null,{"$f":"ROUND(M814*L813,0)","v":0},0,{"$f":"N813-O813","v":0},0,0,0,161,998,804,0,0,804,161,998,804,0,0]
["01610999","0161","0999",805,161,"Ludlow                       ",999,"Total",34386677.929999992,1,{"$f":"SUM(K810:K813)","v":35222182.710000001},{"$f":"SUM(L810:L813)","v":1},{"$f":"VLOOKUP(E814,town351,24)","v":21458115},{"$f":"SUM(N810:N813)","v":21458115},19968467,{"$f":"SUM(P810:P813)","v":1489648},7.4600018118566638,2201,2186,161,999,805,2186,35222182.710000001,805,161,999,805,2186,35222182.710000001]
["01620162","0162","0162",806,162,"Lunenburg                    ",162,"Lunenburg",22073945.75,0.91299682100414803,{"$f":"X815","v":23089579.619999997},{"$f":"IF(K819>0, K815/K819, 0)","v":0.91116402664340901},null,{"$f":"ROUND(M819*L815,0)","v":14135611},13334631,{"$f":"N815-O815","v":800980},6.0067653915582664,1603,1599,162,162,806,1599,23089579.619999997,806,162,162,806,1599,23089579.619999997]
["01620832","0162","0832",807,162,"Lunenburg                    ",832,"Montachusett",2103516.0353786717,8.7003178995851985E-2,2251170.1734905653,{"$f":"IF(K819>0, K816/K819, 0)","v":8.883597335659095E-2},null,{"$f":"ROUND(M819*L816,0)","v":1378183},1270711,{"$f":"N816-O816","v":107472},8.4576272653656108,101.00000000592,103.99999999802,162,832,807,103.99999999802,2251170.1734905653,807,162,832,807,103.99999999802,2251170.1734905653]
["01620998","0162","0998",808,162,"",998,"",0,0,0,{"$f":"IF(K819>0, K817/K819, 0)","v":0},null,{"$f":"ROUND(M819*L817,0)","v":0},0,{"$f":"N817-O817","v":0},0,0,0,162,998,808,0,0,808,162,998,808,0,0]
["01620998","0162","0998",809,162,"",998,"",0,0,0,{"$f":"IF(K819>0, K818/K819, 0)","v":0},null,{"$f":"ROUND(M819*L818,0)","v":0},0,{"$f":"N818-O818","v":0},0,0,0,162,998,809,0,0,809,162,998,809,0,0]
["01620999","0162","0999",810,162,"Lunenburg                    ",999,"Total",24177461.785378672,1,{"$f":"SUM(K815:K818)","v":25340749.793490563},{"$f":"SUM(L815:L818)","v":1},{"$f":"VLOOKUP(E819,town351,24)","v":15513794},{"$f":"SUM(N815:N818)","v":15513794},14605342,{"$f":"SUM(P815:P818)","v":908452},6.2199981349289866,1704.0000000059199,1702.99999999802,162,999,810,1702.99999999802,25340749.793490563,810,162,999,810,1702.99999999802,25340749.793490563]
["01630163","0163","0163",811,163,"Lynn                         ",163,"Lynn",384629298.81999999,1,{"$f":"X820","v":398807328.27000004},{"$f":"IF(K824>0, K820/K824, 0)","v":1},null,{"$f":"ROUND(M824*L820,0)","v":71472168},67502992,{"$f":"N820-O820","v":3969176},5.8800001042916739,18512,18077,163,163,811,18077,398807328.27000004,811,163,163,811,18077,398807328.27000004]
["01630998","0163","0998",812,163,"",998,null,0,0,0,{"$f":"IF(K824>0, K821/K824, 0)","v":0},null,{"$f":"ROUND(M824*L821,0)","v":0},0,{"$f":"N821-O821","v":0},0,0,0,163,998,812,0,0,812,163,998,812,0,0]
["01630998","0163","0998",813,163,"",998,"",0,0,0,{"$f":"IF(K824>0, K822/K824, 0)","v":0},null,{"$f":"ROUND(M824*L822,0)","v":0},0,{"$f":"N822-O822","v":0},0,0,0,163,998,813,0,0,813,163,998,813,0,0]
["01630998","0163","0998",814,163,"",998,"",0,0,0,{"$f":"IF(K824>0, K823/K824, 0)","v":0},null,{"$f":"ROUND(M824*L823,0)","v":0},0,{"$f":"N823-O823","v":0},0,0,0,163,998,814,0,0,814,163,998,814,0,0]
["01630999","0163","0999",815,163,"Lynn                         ",999,"Total",384629298.81999999,1,{"$f":"SUM(K820:K823)","v":398807328.27000004},{"$f":"SUM(L820:L823)","v":1},{"$f":"VLOOKUP(E824,town351,24)","v":71472168},{"$f":"SUM(N820:N823)","v":71472168},67502992,{"$f":"SUM(P820:P823)","v":3969176},5.8800001042916739,18512,18077,163,999,815,18077,398807328.27000004,815,163,999,815,18077,398807328.27000004]
["01640164","0164","0164",816,164,"Lynnfield                    ",164,"Lynnfield",28903113.111520004,0.97465713583457991,{"$f":"X825","v":30099223.853599995},{"$f":"IF(K829>0, K825/K829, 0)","v":0.9673413515894127},null,{"$f":"ROUND(M829*L825,0)","v":24071411},23204609,{"$f":"N825-O825","v":866802},3.7354734139239323,2196,2174,164,164,816,2174,30099223.853599995,816,164,164,816,2174,30099223.853599995]
["01640817","0164","0817",817,164,"Lynnfield                    ",817,"Essex North Shore",751533.68565429712,2.5342864165420052E-2,1016187.2721052852,{"$f":"IF(K829>0, K826/K829, 0)","v":3.2658648410587306E-2},null,{"$f":"ROUND(M829*L826,0)","v":812681},603362,{"$f":"N826-O826","v":209319},34.692108551748369,36.000000005409994,45.999999992500001,164,817,817,45.999999992500001,1016187.2721052852,817,164,817,817,45.999999992500001,1016187.2721052852]
["01640998","0164","0998",818,164,"",998,null,0,0,0,{"$f":"IF(K829>0, K827/K829, 0)","v":0},null,{"$f":"ROUND(M829*L827,0)","v":0},0,{"$f":"N827-O827","v":0},0,0,0,164,998,818,0,0,818,164,998,818,0,0]
["01640998","0164","0998",819,164,"",998,"",0,0,0,{"$f":"IF(K829>0, K828/K829, 0)","v":0},null,{"$f":"ROUND(M829*L828,0)","v":0},0,{"$f":"N828-O828","v":0},0,0,0,164,998,819,0,0,819,164,998,819,0,0]
["01640999","0164","0999",820,164,"Lynnfield                    ",999,"Total",29654646.797174301,1,{"$f":"SUM(K825:K828)","v":31115411.125705279},{"$f":"SUM(L825:L828)","v":1},{"$f":"VLOOKUP(E829,town351,24)","v":24884092},{"$f":"SUM(N825:N828)","v":24884092},23807971,{"$f":"SUM(P825:P828)","v":1076121},4.5200029855547115,2232.0000000054101,2219.9999999924999,164,999,820,2219.9999999924999,31115411.125705279,820,164,999,820,2219.9999999924999,31115411.125705279]
["01650165","0165","0165",821,165,"Malden                       ",165,"Malden",130437793.37532003,0.96400172915363314,{"$f":"X830","v":132410256.17298003},{"$f":"IF(K834>0, K830/K834, 0)","v":0.95897976977463417},null,{"$f":"ROUND(M834*L830,0)","v":64123681},60667748,{"$f":"N830-O830","v":3455933},5.6964913218799547,6927,6680,165,165,821,6680,132410256.17298003,821,165,165,821,6680,132410256.17298003]
["01650853","0165","0853",822,165,"Malden                       ",853,"Northeast Metropolitan",4870878.2075004661,3.5998270846366795E-2,5663830.8373196796,{"$f":"IF(K834>0, K831/K834, 0)","v":4.1020230225365772E-2},null,{"$f":"ROUND(M834*L831,0)","v":2742882},2265488,{"$f":"N831-O831","v":477394},21.072457677992556,197.00000000064003,219.00000000120002,165,853,822,219.00000000120002,5663830.8373196796,822,165,853,822,219.00000000120002,5663830.8373196796]
["01650998","0165","0998",823,165,"",998,null,0,0,0,{"$f":"IF(K834>0, K832/K834, 0)","v":0},null,{"$f":"ROUND(M834*L832,0)","v":0},0,{"$f":"N832-O832","v":0},0,0,0,165,998,823,0,0,823,165,998,823,0,0]
["01650998","0165","0998",824,165,"",998,"",0,0,0,{"$f":"IF(K834>0, K833/K834, 0)","v":0},null,{"$f":"ROUND(M834*L833,0)","v":0},0,{"$f":"N833-O833","v":0},0,0,0,165,998,824,0,0,824,165,998,824,0,0]
["01650999","0165","0999",825,165,"Malden                       ",999,"Total",135308671.5828205,0.99999999999999989,{"$f":"SUM(K830:K833)","v":138074087.01029971},{"$f":"SUM(L830:L833)","v":1},{"$f":"VLOOKUP(E834,town351,24)","v":66866563},{"$f":"SUM(N830:N833)","v":66866563},62933236,{"$f":"SUM(P830:P833)","v":3933327},6.2499996027536229,7124.0000000006403,6899.0000000011996,165,999,825,6899.0000000011996,138074087.01029971,825,165,999,825,6899.0000000011996,138074087.01029971]
["01660166","0166","0166",826,166,"Manchester                   ",166,"Manchester",0,0,{"$f":"X835","v":0},{"$f":"IF(K839>0, K835/K839, 0)","v":0},null,{"$f":"ROUND(M839*L835,0)","v":0},0,{"$f":"N835-O835","v":0},0,0,0,166,166,826,0,0,826,166,166,826,0,0]
["01660698","0166","0698",827,166,"Manchester                   ",698,"Manchester Essex",8613599.9483138919,0.97865320951059842,8477518.9464513827,{"$f":"IF(K839>0, K836/K839, 0)","v":0.97957901851506757},null,{"$f":"ROUND(M839*L836,0)","v":6993953},7106220,{"$f":"N836-O836","v":-112267},-1.5798413221093635,637.84864865344002,602.15962441220006,166,698,827,602.15962441220006,8477518.9464513827,827,166,698,827,602.15962441220006,8477518.9464513827]
["01660817","0166","0817",828,166,"Manchester                   ",817,"Essex North Shore",187883.42149118058,2.134679048940152E-2,176728.22117615206,{"$f":"IF(K839>0, K837/K839, 0)","v":2.0420981484932578E-2},null,{"$f":"ROUND(M839*L837,0)","v":145801},155004,{"$f":"N837-O837","v":-9203},-5.9372661350674818,9.0000000050699995,7.9999999960000006,166,817,828,7.9999999960000006,176728.22117615206,828,166,817,828,7.9999999960000006,176728.22117615206]
["01660998","0166","0998",829,166,"",998,"",0,0,0,{"$f":"IF(K839>0, K838/K839, 0)","v":0},null,{"$f":"ROUND(M839*L838,0)","v":0},0,{"$f":"N838-O838","v":0},0,0,0,166,998,829,0,0,829,166,998,829,0,0]
["01660999","0166","0999",830,166,"Manchester                   ",999,"Total",8801483.3698050734,0.99999999999999989,{"$f":"SUM(K835:K838)","v":8654247.1676275339},{"$f":"SUM(L835:L838)","v":1.0000000000000002},{"$f":"VLOOKUP(E839,town351,24)","v":7139754},{"$f":"SUM(N835:N838)","v":7139754},7261224,{"$f":"SUM(P835:P838)","v":-121470},-1.6728584602265404,646.84864865851,610.1596244082001,166,999,830,610.1596244082001,8654247.1676275339,830,166,999,830,610.1596244082001,8654247.1676275339]
["01670167","0167","0167",831,167,"Mansfield                    ",167,"Mansfield",45824586.929839998,0.95708043755536654,{"$f":"X840","v":47441613.832800001},{"$f":"IF(K844>0, K840/K844, 0)","v":0.95763548141739807},null,{"$f":"ROUND(M844*L840,0)","v":38096357},36857964,{"$f":"N840-O840","v":1238393},3.359906152168362,3272,3237,167,167,831,3237,47441613.832800001,831,167,167,831,3237,47441613.832800001]
["01670872","0167","0872",832,167,"Mansfield                    ",872,"Southeastern",1843419.8295398531,3.850118845054698E-2,1923372.904708225,{"$f":"IF(K844>0, K841/K844, 0)","v":3.8824356693194985E-2},null,{"$f":"ROUND(M844*L841,0)","v":1544498},1482713,{"$f":"N841-O841","v":61785},4.1670235574922456,80.999999999660005,81.046929319179995,167,872,832,81.046929319179995,1923372.904708225,832,167,872,832,81.046929319179995,1923372.904708225]
[{"$f":"B842&C842","v":"01670910"},"0167","0910",833,167,"Mansfield                    ",910,"Bristol County",211549.78749510873,4.4183739940865498E-3,175380.92157389229,{"$f":"IF(K844>0, K842/K844, 0)","v":3.5401618894069743E-3},null,{"$f":"ROUND(M844*L842,0)","v":140834},170155,{"$f":"N842-O842","v":-29321},-17.231935588140225,10.000000000889999,7.9999999985299999,{"$f":"VLOOKUP($D842, foundoptions, VLOOKUP($T$6, foundoptcell, 2, FALSE), FALSE)","v":167},{"$f":"VLOOKUP($D842, foundoptions, VLOOKUP($T$6, foundoptcell, 2, FALSE)+1, FALSE)","v":910},{"$f":"VLOOKUP($D842, foundoptions, VLOOKUP($T$6, foundoptcell, 2, FALSE)+2, FALSE)","v":833},{"$f":"VLOOKUP($D842, foundoptions, VLOOKUP($T$6, foundoptcell, 2, FALSE)+3, FALSE)","v":7.9999999985299999},{"$f":"VLOOKUP($D842, foundoptions, VLOOKUP($T$6, foundoptcell, 2, FALSE)+4, FALSE)","v":175380.92157389229},833,167,910,833,7.9999999985299999,175380.92157389229]
["01670998","0167","0998",834,167,"",998,"",0,0,0,{"$f":"IF(K844>0, K843/K844, 0)","v":0},null,{"$f":"ROUND(M844*L843,0)","v":0},0,{"$f":"N843-O843","v":0},0,0,{"$f":"W843","v":0},167,998,834,0,0,{"$f":"D843","v":834},167,998,834,0,0]
["01670999","0167","0999",835,167,"Mansfield                    ",999,"Total",47879556.546874955,1,{"$f":"SUM(K840:K843)","v":49540367.659082115},{"$f":"SUM(L840:L843)","v":1},{"$f":"VLOOKUP(E844,town351,24)","v":39781689},{"$f":"SUM(N840:N843)","v":39781689},38510832,{"$f":"SUM(P840:P843)","v":1270857},3.2999988159175579,3363.0000000005498,3326.0469293177098,167,999,835,3326.0469293177098,49540367.659082115,835,167,999,835,3326.0469293177098,49540367.659082115]
["01680168","0168","0168",836,168,"Marblehead                   ",168,"Marblehead",33445073.459999997,0.98041720406435806,{"$f":"X845","v":33000504.549999997},{"$f":"IF(K849>0, K845/K849, 0)","v":0.97710685577650236},null,{"$f":"ROUND(M849*L845,0)","v":27225417},27592185,{"$f":"N845-O845","v":-366768},-1.3292459440961273,2552,2401,168,168,836,2401,33000504.549999997,836,168,168,836,2401,33000504.549999997]
["01680817","0168","0817",837,168,"Marblehead                   ",817,"Essex North Shore",668029.94266585307,1.9582795935641793E-2,773185.96798807604,{"$f":"IF(K849>0, K846/K849, 0)","v":2.2893144223497652E-2},null,{"$f":"ROUND(M849*L846,0)","v":637878},551125,{"$f":"N846-O846","v":86753},15.74107507371286,31.9999999982,34.999999998,168,817,837,34.999999998,773185.96798807604,837,168,817,837,34.999999998,773185.96798807604]
["01680998","0168","0998",838,168,"",998,null,0,0,0,{"$f":"IF(K849>0, K847/K849, 0)","v":0},null,{"$f":"ROUND(M849*L847,0)","v":0},0,{"$f":"N847-O847","v":0},0,0,0,168,998,838,0,0,838,168,998,838,0,0]
["01680998","0168","0998",839,168,"",998,"",0,0,0,{"$f":"IF(K849>0, K848/K849, 0)","v":0},null,{"$f":"ROUND(M849*L848,0)","v":0},0,{"$f":"N848-O848","v":0},{"$f":"IF(O848>0,P848*100/O848,IF(P848>0,100,0))","v":0},0,0,168,998,839,0,0,839,168,998,839,0,0]
["01680999","0168","0999",840,168,"Marblehead                   ",999,"Total",34113103.402665854,0.99999999999999989,{"$f":"SUM(K845:K848)","v":33773690.517988071},{"$f":"SUM(L845:L848)","v":1},{"$f":"VLOOKUP(E849,town351,24)","v":27863295},{"$f":"SUM(N845:N848)","v":27863295},28143310,{"$f":"SUM(P845:P848)","v":-280015},{"$f":"IF(O849>0,P849*100/O849,IF(P849>0,100,0))","v":-0.99496114707189742},2583.9999999982001,2435.999999998,168,999,840,2435.999999998,33773690.517988071,840,168,999,840,2435.999999998,33773690.517988071]
["01690169","0169","0169",841,169,"Marion                       ",169,"Marion",5064172.8500000006,0.48741046574084174,{"$f":"X850","v":4924376.1999999993},{"$f":"IF(K854>0, K850/K854, 0)","v":0.47888292885108047},null,{"$f":"ROUND(M854*L850,0)","v":4062611},4004960,{"$f":"N850-O850","v":57651},1.4394900323598738,372,344,169,169,841,344,4924376.1999999993,841,169,169,841,344,4924376.1999999993]
["01690740","0169","0740",842,169,"Marion                       ",740,"Old Rochester",4554693.4941213895,0.43837470462258965,4485512.1030678656,{"$f":"IF(K854>0, K851/K854, 0)","v":0.43620452339001015},null,{"$f":"ROUND(M854*L851,0)","v":3700548},3602042,{"$f":"N851-O851","v":98506},2.7347265800898493,310.99999999773996,295.99999999950995,169,740,842,295.99999999950995,4485512.1030678656,842,169,740,842,295.99999999950995,4485512.1030678656]
["01690879","0169","0879",843,169,"Marion                       ",879,"Upper Cape Cod",771088.74702070991,7.4214829636568641E-2,873159.8143799518,{"$f":"IF(K854>0, K852/K854, 0)","v":8.4912547758909468E-2},null,{"$f":"ROUND(M854*L852,0)","v":720357},609809,{"$f":"N852-O852","v":110548},18.128299188762384,35.121107264700001,38.171171168679997,169,879,843,38.171171168679997,873159.8143799518,843,169,879,843,38.171171168679997,873159.8143799518]
["01690998","0169","0998",844,169,"",998,"",0,0,0,{"$f":"IF(K854>0, K853/K854, 0)","v":0},null,{"$f":"ROUND(M854*L853,0)","v":0},0,{"$f":"N853-O853","v":0},0,0,0,169,998,844,0,0,844,169,998,844,0,0]
["01690999","0169","0999",845,169,"Marion                       ",999,"Total",10389955.091142099,1,{"$f":"SUM(K850:K853)","v":10283048.117447816},{"$f":"SUM(L850:L853)","v":1},{"$f":"VLOOKUP(E854,town351,24)","v":8483515},{"$f":"SUM(N850:N853)","v":8483516},8216811,{"$f":"SUM(P850:P853)","v":266705},3.2458456206428505,718.12110726243986,678.17117116818997,169,999,845,678.17117116818997,10283048.117447816,845,169,999,845,678.17117116818997,10283048.117447816]
["01700170","0170","0170",846,170,"Marlborough                  ",170,"Marlborough",97477474.835680008,0.86805053269131549,{"$f":"X855","v":95710135.489779994},{"$f":"IF(K859>0, K855/K859, 0)","v":0.84969930445934738},null,{"$f":"ROUND(M859*L855,0)","v":47097956},45576532,{"$f":"N855-O855","v":1521424},3.3381741287380091,5378,5041,170,170,846,5041,95710135.489779994,846,170,170,846,5041,95710135.489779994]
["01700801","0170","0801",847,170,"Marlborough                  ",801,"Assabet Valley",14817225.950297909,0.13194946730868456,16929871.377919052,{"$f":"IF(K859>0, K856/K859, 0)","v":0.15030069554065259},null,{"$f":"ROUND(M859*L856,0)","v":8331012},6927937,{"$f":"N856-O856","v":1403075},20.25242146399426,617.99999999612999,670.00000000488001,170,801,847,670.00000000488001,16929871.377919052,847,170,801,847,670.00000000488001,16929871.377919052]
["01700998","0170","0998",848,170,"",998,"",0,0,0,{"$f":"IF(K859>0, K857/K859, 0)","v":0},null,{"$f":"ROUND(M859*L857,0)","v":0},0,{"$f":"N857-O857","v":0},0,0,0,170,998,848,0,0,848,170,998,848,0,0]
["01700998","0170","0998",849,170,"",998,"",0,0,0,{"$f":"IF(K859>0, K858/K859, 0)","v":0},null,{"$f":"ROUND(M859*L858,0)","v":0},0,{"$f":"N858-O858","v":0},0,0,0,170,998,849,0,0,849,170,998,849,0,0]
["01700999","0170","0999",850,170,"Marlborough                  ",999,"Total",112294700.78597791,1,{"$f":"SUM(K855:K858)","v":112640006.86769904},{"$f":"SUM(L855:L858)","v":1},{"$f":"VLOOKUP(E859,town351,24)","v":55428968},{"$f":"SUM(N855:N858)","v":55428968},52504469,{"$f":"SUM(P855:P858)","v":2924499},5.570000146082803,5995.9999999961301,5711.0000000048803,170,999,850,5711.0000000048803,112640006.86769904,850,170,999,850,5711.0000000048803,112640006.86769904]
["01710171","0171","0171",851,171,"Marshfield                   ",171,"Marshfield",51268162.588479996,0.98431839268707166,{"$f":"X860","v":50998622.837800011},{"$f":"IF(K864>0, K860/K864, 0)","v":0.972102070736653},null,{"$f":"ROUND(M864*L860,0)","v":42073864},41905509,{"$f":"N860-O860","v":168355},0.40174908745291699,3620,3545,171,171,851,3545,50998622.837800011,851,171,171,851,3545,50998622.837800011]
["01710873","0171","0873",852,171,"Marshfield                   ",873,"South Shore",816775.54675491981,1.5681607312928336E-2,1463587.0196006326,{"$f":"IF(K864>0, K861/K864, 0)","v":2.7897929263347072E-2},null,{"$f":"ROUND(M864*L861,0)","v":1207459},667615,{"$f":"N861-O861","v":539844},80.861574410401204,37.999999998100002,66.99999999984,171,873,852,66.99999999984,1463587.0196006326,852,171,873,852,66.99999999984,1463587.0196006326]
["01710998","0171","0998",853,171,"",998,"",0,0,0,{"$f":"IF(K864>0, K862/K864, 0)","v":0},null,{"$f":"ROUND(M864*L862,0)","v":0},0,{"$f":"N862-O862","v":0},0,0,0,171,998,853,0,0,853,171,998,853,0,0]
["01710998","0171","0998",854,171,"",998,"",0,0,0,{"$f":"IF(K864>0, K863/K864, 0)","v":0},null,{"$f":"ROUND(M864*L863,0)","v":0},0,{"$f":"N863-O863","v":0},0,0,0,171,998,854,0,0,854,171,998,854,0,0]
["01710999","0171","0999",855,171,"Marshfield                   ",999,"Total",52084938.135234915,1,{"$f":"SUM(K860:K863)","v":52462209.857400641},{"$f":"SUM(L860:L863)","v":1},{"$f":"VLOOKUP(E864,town351,24)","v":43281323},{"$f":"SUM(N860:N863)","v":43281323},42573124,{"$f":"SUM(P860:P863)","v":708199},1.6634884487217805,3657.9999999981001,3611.9999999998399,171,999,855,3611.9999999998399,52462209.857400641,855,171,999,855,3611.9999999998399,52462209.857400641]
["01720172","0172","0172",856,172,"Mashpee                      ",172,"Mashpee",21964764.180000003,0.94619906255623576,{"$f":"X865","v":22069624.379999999},{"$f":"IF(K869>0, K865/K869, 0)","v":0.95244089675259225},null,{"$f":"ROUND(M869*L865,0)","v":18207440},18120931,{"$f":"N865-O865","v":86509},0.47739820873441879,1405,1367,172,172,856,1367,22069624.379999999,856,172,172,856,1367,22069624.379999999]
["01720815","0172","0815",857,172,"Mashpee                      ",815,"Cape Cod",1248917.8550047255,5.3800937443764345E-2,1102022.7586810326,{"$f":"IF(K869>0, K866/K869, 0)","v":4.7559103247407794E-2},null,{"$f":"ROUND(M869*L866,0)","v":909169},1030357,{"$f":"N866-O866","v":-121188},-11.761748597816096,56.999999998549995,49.000000002100002,172,815,857,49.000000002100002,1102022.7586810326,857,172,815,857,49.000000002100002,1102022.7586810326]
["01720998","0172","0998",858,172,"",998,"",0,0,0,{"$f":"IF(K869>0, K867/K869, 0)","v":0},null,{"$f":"ROUND(M869*L867,0)","v":0},0,{"$f":"N867-O867","v":0},0,0,0,172,998,858,0,0,858,172,998,858,0,0]
["01720998","0172","0998",859,172,"",998,"",0,0,0,{"$f":"IF(K869>0, K868/K869, 0)","v":0},null,{"$f":"ROUND(M869*L868,0)","v":0},0,{"$f":"N868-O868","v":0},0,0,0,172,998,859,0,0,859,172,998,859,0,0]
["01720999","0172","0999",860,172,"Mashpee                      ",999,"Total",23213682.035004728,1,{"$f":"SUM(K865:K868)","v":23171647.138681032},{"$f":"SUM(L865:L868)","v":1},{"$f":"VLOOKUP(E869,town351,24)","v":19116609},{"$f":"SUM(N865:N868)","v":19116609},19151288,{"$f":"SUM(P865:P868)","v":-34679},-0.18107920469892155,1461.99999999855,1416.0000000021,172,999,860,1416.0000000021,23171647.138681032,860,172,999,860,1416.0000000021,23171647.138681032]
["01730173","0173","0173",861,173,"Mattapoisett                 ",173,"Mattapoisett",4742122.1000000006,0.46746241351784129,{"$f":"X870","v":4665496.2399999984},{"$f":"IF(K874>0, K870/K874, 0)","v":0.46351389211471833},null,{"$f":"ROUND(M874*L870,0)","v":3849034},3912251,{"$f":"N870-O870","v":-63217},-1.6158728057069958,364,345,173,173,861,345,4665496.2399999984,861,173,173,861,345,4665496.2399999984]
["01730740","0173","0740",862,173,"Mattapoisett                 ",740,"Old Rochester",4774373.2446187064,0.47064162265338283,4621895.9169618059,{"$f":"IF(K874>0, K871/K874, 0)","v":0.45918222954565974},null,{"$f":"ROUND(M874*L871,0)","v":3813064},3938858,{"$f":"N871-O871","v":-125794},-3.1936667937762673,325.99999999606001,304.99999999615,173,740,862,304.99999999615,4621895.9169618059,862,173,740,862,304.99999999615,4621895.9169618059]
["01730855","0173","0855",863,173,"Mattapoisett                 ",855,"Old Colony",627896.93777601619,6.1895963828775796E-2,778101.71359796345,{"$f":"IF(K874>0, K872/K874, 0)","v":7.7303878339622031E-2},null,{"$f":"ROUND(M874*L872,0)","v":641934},518015,{"$f":"N872-O872","v":123919},23.9218941536442,31.000000000109999,37.000000000040004,173,855,863,37.000000000040004,778101.71359796345,863,173,855,863,37.000000000040004,778101.71359796345]
["01730998","0173","0998",864,173,"",998,"",0,0,0,{"$f":"IF(K874>0, K873/K874, 0)","v":0},null,{"$f":"ROUND(M874*L873,0)","v":0},0,{"$f":"N873-O873","v":0},0,0,0,173,998,864,0,0,864,173,998,864,0,0]
["01730999","0173","0999",865,173,"Mattapoisett                 ",999,"Total",10144392.282394724,0.99999999999999989,{"$f":"SUM(K870:K873)","v":10065493.870559767},{"$f":"SUM(L870:L873)","v":1},{"$f":"VLOOKUP(E874,town351,24)","v":8304032},{"$f":"SUM(N870:N873)","v":8304032},8369124,{"$f":"SUM(P870:P873)","v":-65092},-0.7777635986753213,720.99999999617012,686.99999999619001,173,999,865,686.99999999619001,10065493.870559767,865,173,999,865,686.99999999619001,10065493.870559767]
["01740174","0174","0174",866,174,"Maynard                      ",174,"Maynard",18638398.791749999,0.9250334035696679,{"$f":"X875","v":19485079.486799996},{"$f":"IF(K879>0, K875/K879, 0)","v":0.93004651768424407},null,{"$f":"ROUND(M879*L875,0)","v":14387405},13605109,{"$f":"N875-O875","v":782296},5.7500164092768387,1265,1265,174,174,866,1265,19485079.486799996,866,174,174,866,1265,19485079.486799996]
["01740801","0174","0801",867,174,"Maynard                      ",801,"Assabet Valley",1510493.9075029609,7.4966596430332072E-2,1465570.9551978826,{"$f":"IF(K879>0, K876/K879, 0)","v":6.9953482315755919E-2},null,{"$f":"ROUND(M879*L876,0)","v":1082149},1102586,{"$f":"N876-O876","v":-20437},-1.8535515596969308,62.999999997450004,58.00000000416,174,801,867,58.00000000416,1465570.9551978826,867,174,801,867,58.00000000416,1465570.9551978826]
["01740998","0174","0998",868,174,"",998,"",0,0,0,{"$f":"IF(K879>0, K877/K879, 0)","v":0},null,{"$f":"ROUND(M879*L877,0)","v":0},0,{"$f":"N877-O877","v":0},0,0,0,174,998,868,0,0,868,174,998,868,0,0]
["01740998","0174","0998",869,174,"",998,"",0,0,0,{"$f":"IF(K879>0, K878/K879, 0)","v":0},null,{"$f":"ROUND(M879*L878,0)","v":0},0,{"$f":"N878-O878","v":0},0,0,0,174,998,869,0,0,869,174,998,869,0,0]
["01740999","0174","0999",870,174,"Maynard                      ",999,"Total",20148892.699252959,1,{"$f":"SUM(K875:K878)","v":20950650.441997878},{"$f":"SUM(L875:L878)","v":1},{"$f":"VLOOKUP(E879,town351,24)","v":15469554},{"$f":"SUM(N875:N878)","v":15469554},14707695,{"$f":"SUM(P875:P878)","v":761859},5.1800027128656119,1327.99999999745,1323.00000000416,174,999,870,1323.00000000416,20950650.441997878,870,174,999,870,1323.00000000416,20950650.441997878]
["01750175","0175","0175",871,175,"Medfield                     ",175,"Medfield",31077353.328160003,0.99159441151483607,{"$f":"X880","v":31890716.881099995},{"$f":"IF(K884>0, K880/K884, 0)","v":0.98761616074770131},null,{"$f":"ROUND(M884*L880,0)","v":26309842},25638817,{"$f":"N880-O880","v":671025},2.6172229397323599,2374,2340,175,175,871,2340,31890716.881099995,871,175,175,871,2340,31890716.881099995]
["01750878","0175","0878",872,175,"Medfield                     ",878,"Tri County",172305.56851258184,5.4978053312907003E-3,330502.67771078687,{"$f":"IF(K884>0, K881/K884, 0)","v":1.0235260213639432E-2},null,{"$f":"ROUND(M884*L881,0)","v":272665},142152,{"$f":"N881-O881","v":130513},91.812285440936463,7.9999999966799997,15.00000000228,175,878,872,15.00000000228,330502.67771078687,872,175,878,872,15.00000000228,330502.67771078687]
["01750915","0175","0915",873,175,"Medfield                     ",915,"Norfolk County",91132.224451064671,2.9077831538732819E-3,69378.903000811173,{"$f":"IF(K884>0, K882/K884, 0)","v":2.1485790386592549E-3},null,{"$f":"ROUND(M884*L882,0)","v":57238},75184,{"$f":"N882-O882","v":-17946},-23.86944030644818,4.0000000012400001,2.9999999997,175,915,873,2.9999999997,69378.903000811173,873,175,915,873,2.9999999997,69378.903000811173]
["01750998","0175","0998",874,175,"",998,"",0,0,0,{"$f":"IF(K884>0, K883/K884, 0)","v":0},null,{"$f":"ROUND(M884*L883,0)","v":0},0,{"$f":"N883-O883","v":0},0,0,0,175,998,874,0,0,874,175,998,874,0,0]
["01750999","0175","0999",875,175,"Medfield                     ",999,"Total",31340791.121123649,1,{"$f":"SUM(K880:K883)","v":32290598.461811595},{"$f":"SUM(L880:L883)","v":1},{"$f":"VLOOKUP(E884,town351,24)","v":26639744},{"$f":"SUM(N880:N883)","v":26639745},25856153,{"$f":"SUM(P880:P883)","v":783592},3.0305823143914719,2385.99999999792,2358.00000000198,175,999,875,2358.00000000198,32290598.461811595,875,175,999,875,2358.00000000198,32290598.461811595]
["01760176","0176","0176",876,176,"Medford                      ",176,"Medford",76664491.980000004,1,{"$f":"X885","v":80126099.611029997},{"$f":"IF(K889>0, K885/K889, 0)","v":1},null,{"$f":"ROUND(M889*L885,0)","v":64178308},60826753,{"$f":"N885-O885","v":3351555},5.5100014955590346,4511,4486,176,176,876,4486,80126099.611029997,876,176,176,876,4486,80126099.611029997]
["01760998","0176","0998",877,176,"",998,null,0,0,0,{"$f":"IF(K889>0, K886/K889, 0)","v":0},null,{"$f":"ROUND(M889*L886,0)","v":0},0,{"$f":"N886-O886","v":0},0,0,0,176,998,877,0,0,877,176,998,877,0,0]
["01760998","0176","0998",878,176,"",998,"",0,0,0,{"$f":"IF(K889>0, K887/K889, 0)","v":0},null,{"$f":"ROUND(M889*L887,0)","v":0},0,{"$f":"N887-O887","v":0},0,0,0,176,998,878,0,0,878,176,998,878,0,0]
["01760998","0176","0998",879,176,"",998,"",0,0,0,{"$f":"IF(K889>0, K888/K889, 0)","v":0},null,{"$f":"ROUND(M889*L888,0)","v":0},0,{"$f":"N888-O888","v":0},0,0,0,176,998,879,0,0,879,176,998,879,0,0]
["01760999","0176","0999",880,176,"Medford                      ",999,"Total",76664491.980000004,1,{"$f":"SUM(K885:K888)","v":80126099.611029997},{"$f":"SUM(L885:L888)","v":1},{"$f":"VLOOKUP(E889,town351,24)","v":64178308},{"$f":"SUM(N885:N888)","v":64178308},60826753,{"$f":"SUM(P885:P888)","v":3351555},5.5100014955590346,4511,4486,176,999,880,4486,80126099.611029997,880,176,999,880,4486,80126099.611029997]
["01770177","0177","0177",881,177,"Medway                       ",177,"Medway",29200155.629280001,0.93558225624585478,{"$f":"X890","v":30303728.297169995},{"$f":"IF(K894>0, K890/K894, 0)","v":0.92995321205325898},null,{"$f":"ROUND(M894*L890,0)","v":22827269},21596243,{"$f":"N890-O890","v":1231026},5.7001859073358272,2145,2121,177,177,881,2121,30303728.297169995,881,177,177,881,2121,30303728.297169995]
["01770878","0177","0878",882,177,"Medway                       ",878,"Tri County",1873823.0583228874,6.0037885652682123E-2,2005049.5778527283,{"$f":"IF(K894>0, K891/K894, 0)","v":6.1530458462574961E-2},null,{"$f":"ROUND(M894*L891,0)","v":1510369},1385867,{"$f":"N891-O891","v":124502},8.9836903541248905,86.999999998649997,91.000000002059991,177,878,882,91.000000002059991,2005049.5778527283,882,177,878,882,91.000000002059991,2005049.5778527283]
["01770915","0177","0915",883,177,"Medway                       ",915,"Norfolk County",136698.33661667755,4.3798581014631403E-3,277515.61200324469,{"$f":"IF(K894>0, K892/K894, 0)","v":8.5163294841659673E-3},null,{"$f":"ROUND(M894*L892,0)","v":209048},101101,{"$f":"N892-O892","v":107947},106.77144637540677,5.9999999992299999,11.9999999988,177,915,883,11.9999999988,277515.61200324469,883,177,915,883,11.9999999988,277515.61200324469]
["01770998","0177","0998",884,177,"",998,"",0,0,0,{"$f":"IF(K894>0, K893/K894, 0)","v":0},null,{"$f":"ROUND(M894*L893,0)","v":0},0,{"$f":"N893-O893","v":0},0,0,0,177,998,884,0,0,884,177,998,884,0,0]
["01770999","0177","0999",885,177,"Medway                       ",999,"Total",31210677.024219565,1,{"$f":"SUM(K890:K893)","v":32586293.487025969},{"$f":"SUM(L890:L893)","v":0.99999999999999989},{"$f":"VLOOKUP(E894,town351,24)","v":24546686},{"$f":"SUM(N890:N893)","v":24546686},23083211,{"$f":"SUM(P890:P893)","v":1463475},6.3399974986149026,2237.99999999788,2224.0000000008599,177,999,885,2224.0000000008599,32586293.487025969,885,177,999,885,2224.0000000008599,32586293.487025969]
["01780178","0178","0178",886,178,"Melrose                      ",178,"Melrose",54259488.060880005,0.96525174196590402,{"$f":"X895","v":56067589.012019999},{"$f":"IF(K899>0, K895/K899, 0)","v":0.96656163053511424},null,{"$f":"ROUND(M899*L895,0)","v":45191733},43224298,{"$f":"N895-O895","v":1967435},4.5516875716524074,3985,3908,178,178,886,3908,56067589.012019999,886,178,178,886,3908,56067589.012019999]
["01780853","0178","0853",887,178,"Melrose                      ",853,"Northeast Metropolitan",1953296.3370751515,3.4748258034096001E-2,1939668.0947818635,{"$f":"IF(K899>0, K896/K899, 0)","v":3.3438369464885806E-2},null,{"$f":"ROUND(M899*L896,0)","v":1563416},1556039,{"$f":"N896-O896","v":7377},0.47408837439164442,79.000000002570005,74.999999993040007,178,853,887,74.999999993040007,1939668.0947818635,887,178,853,887,74.999999993040007,1939668.0947818635]
["01780998","0178","0998",888,178,"",998,null,0,0,0,{"$f":"IF(K899>0, K897/K899, 0)","v":0},null,{"$f":"ROUND(M899*L897,0)","v":0},0,{"$f":"N897-O897","v":0},0,0,0,178,998,888,0,0,888,178,998,888,0,0]
["01780998","0178","0998",889,178,"",998,"",0,0,0,{"$f":"IF(K899>0, K898/K899, 0)","v":0},null,{"$f":"ROUND(M899*L898,0)","v":0},0,{"$f":"N898-O898","v":0},0,0,0,178,998,889,0,0,889,178,998,889,0,0]
["01780999","0178","0999",890,178,"Melrose                      ",999,"Total",56212784.397955157,1,{"$f":"SUM(K895:K898)","v":58007257.10680186},{"$f":"SUM(L895:L898)","v":1},{"$f":"VLOOKUP(E899,town351,24)","v":46755149},{"$f":"SUM(N895:N898)","v":46755149},44780337,{"$f":"SUM(P895:P898)","v":1974812},4.4099980757179207,4064.0000000025702,3982.9999999930401,178,999,890,3982.9999999930401,58007257.10680186,890,178,999,890,3982.9999999930401,58007257.10680186]
["01790179","0179","0179",891,179,"Mendon                       ",179,"Mendon",138834.32,1.1208822011476582E-2,{"$f":"X900","v":108281.76},{"$f":"IF(K904>0, K900/K904, 0)","v":8.3806950390206605E-3},null,{"$f":"ROUND(M904*L900,0)","v":89332},114538,{"$f":"N900-O900","v":-25206},-22.006670275367128,8,6,179,179,891,6,108281.76,891,179,179,891,6,108281.76]
["01790710","0179","0710",892,179,"Mendon                       ",710,"Mendon Upton",10740996.032075368,0.86717688212474409,11266799.187962573,{"$f":"IF(K904>0, K901/K904, 0)","v":0.87201767001385966},null,{"$f":"ROUND(M904*L901,0)","v":9295109},8861322,{"$f":"N901-O901","v":433787},4.8952853761549351,816.8793371388,819.41644840384993,179,710,892,819.41644840384993,11266799.187962573,892,179,710,892,819.41644840384993,11266799.187962573]
["01790805","0179","0805",893,179,"Mendon                       ",805,"Blackstone Valley",1506334.7469733241,0.12161429586377923,1545298.506944,{"$f":"IF(K904>0, K902/K904, 0)","v":0.11960163494711959},null,{"$f":"ROUND(M904*L902,0)","v":1274871},1242726,{"$f":"N902-O902","v":32145},2.5866522467543125,74.999999997839993,74,179,805,893,74,1545298.506944,893,179,805,893,74,1545298.506944]
["01790998","0179","0998",894,179,"",998,"",0,0,0,{"$f":"IF(K904>0, K903/K904, 0)","v":0},null,{"$f":"ROUND(M904*L903,0)","v":0},0,{"$f":"N903-O903","v":0},0,0,0,179,998,894,0,0,894,179,998,894,0,0]
["01790999","0179","0999",895,179,"Mendon                       ",999,"Total",12386165.099048693,0.99999999999999989,{"$f":"SUM(K900:K903)","v":12920379.454906574},{"$f":"SUM(L900:L903)","v":0.99999999999999989},{"$f":"VLOOKUP(E904,town351,24)","v":10659313},{"$f":"SUM(N900:N903)","v":10659312},10218586,{"$f":"SUM(P900:P903)","v":440726},4.3129842034896022,899.87933713663995,899.41644840384993,179,999,895,899.41644840384993,12920379.454906574,895,179,999,895,899.41644840384993,12920379.454906574]
["01800180","0180","0180",896,180,"Merrimac                     ",180,"Merrimac",138834.32,1.1746510049238578E-2,{"$f":"X905","v":36093.919999999998},{"$f":"IF(K909>0, K905/K909, 0)","v":3.0133830533789186E-3},null,{"$f":"ROUND(M909*L905,0)","v":27386},101564,{"$f":"N905-O905","v":-74178},-73.035721318577444,8,2,180,180,896,2,36093.919999999998,896,180,180,896,2,36093.919999999998]
[{"$f":"B906&C906","v":"01800745"},"0180","0745",897,180,"Merrimac                     ",745,"Pentucket",10821975.591528596,0.91562695044355935,11063966.57933403,{"$f":"IF(K909>0, K906/K909, 0)","v":0.92370042913919825},null,{"$f":"ROUND(M909*L906,0)","v":8394703},7916783,{"$f":"N906-O906","v":477920},6.0367955014050532,826.19703574298001,814.11653000701995,{"$f":"VLOOKUP($D906, foundoptions, VLOOKUP($T$6, foundoptcell, 2, FALSE), FALSE)","v":180},{"$f":"VLOOKUP($D906, foundoptions, VLOOKUP($T$6, foundoptcell, 2, FALSE)+1, FALSE)","v":745},{"$f":"VLOOKUP($D906, foundoptions, VLOOKUP($T$6, foundoptcell, 2, FALSE)+2, FALSE)","v":897},{"$f":"VLOOKUP($D906, foundoptions, VLOOKUP($T$6, foundoptcell, 2, FALSE)+3, FALSE)","v":814.11653000701995},{"$f":"VLOOKUP($D906, foundoptions, VLOOKUP($T$6, foundoptcell, 2, FALSE)+4, FALSE)","v":11063966.57933403},897,180,745,897,814.11653000701995,11063966.57933403]
["01800885","0180","0885",898,180,"Merrimac                     ",885,"Whittier",858387.40052745515,7.2626539507202048E-2,877812.66203778342,{"$f":"IF(K909>0, K907/K909, 0)","v":7.328618780742277E-2},null,{"$f":"ROUND(M909*L907,0)","v":666034},627951,{"$f":"N907-O907","v":38083},6.0646451713589116,39.00000000555,{"$f":"W907","v":39.00000000568},180,885,898,39.00000000568,877812.66203778342,{"$f":"D907","v":898},180,885,898,39.00000000568,877812.66203778342]
["01800998","0180","0998",899,180,"",998,null,0,0,0,{"$f":"IF(K909>0, K908/K909, 0)","v":0},null,{"$f":"ROUND(M909*L908,0)","v":0},0,{"$f":"N908-O908","v":0},0,0,0,180,998,899,0,0,899,180,998,899,0,0]
["01800999","0180","0999",900,180,"Merrimac                     ",999,"Total",11819197.312056052,1,{"$f":"SUM(K905:K908)","v":11977873.161371814},{"$f":"SUM(L905:L908)","v":1},{"$f":"VLOOKUP(E909,town351,24)","v":9088123},{"$f":"SUM(N905:N908)","v":9088123},8646298,{"$f":"SUM(P905:P908)","v":441825},5.1099904259603361,873.19703574852997,855.11653001269997,180,999,900,855.11653001269997,11977873.161371814,900,180,999,900,855.11653001269997,11977873.161371814]
["01810181","0181","0181",901,181,"Methuen                      ",181,"Methuen",120570223.17999999,0.90636438071778302,{"$f":"X910","v":124723583.64},{"$f":"IF(K914>0, K910/K914, 0)","v":0.90257736721544035},null,{"$f":"ROUND(M914*L910,0)","v":52046906},49535858,{"$f":"N910-O910","v":2511048},5.0691521281411944,6767,6553,181,181,901,6553,124723583.64,901,181,181,901,6553,124723583.64]
["01810823","0181","0823",902,181,"Methuen                      ",823,"Greater Lawrence",12455992.043193169,9.3635619282216961E-2,13462446.91025326,{"$f":"IF(K914>0, K911/K914, 0)","v":9.7422632784559607E-2},null,{"$f":"ROUND(M914*L911,0)","v":5617853},5117501,{"$f":"N911-O911","v":500352},9.7772721490430587,456.0000000064,486.99999999167994,181,823,902,486.99999999167994,13462446.91025326,902,181,823,902,486.99999999167994,13462446.91025326]
["01810998","0181","0998",903,181,"",998,null,0,0,0,{"$f":"IF(K914>0, K912/K914, 0)","v":0},null,{"$f":"ROUND(M914*L912,0)","v":0},0,{"$f":"N912-O912","v":0},{"$f":"IF(O912>0,P912*100/O912,IF(P912>0,100,0))","v":0},0,0,181,998,903,0,0,903,181,998,903,0,0]
["01810998","0181","0998",904,181,"",998,"",0,0,0,{"$f":"IF(K914>0, K913/K914, 0)","v":0},null,{"$f":"ROUND(M914*L913,0)","v":0},0,{"$f":"N913-O913","v":0},{"$f":"IF(O913>0,P913*100/O913,IF(P913>0,100,0))","v":0},0,0,181,998,904,0,0,904,181,998,904,0,0]
["01810999","0181","0999",905,181,"Methuen                      ",999,"Total",133026215.22319317,1,{"$f":"SUM(K910:K913)","v":138186030.55025327},{"$f":"SUM(L910:L913)","v":1},{"$f":"VLOOKUP(E914,town351,24)","v":57664759},{"$f":"SUM(N910:N913)","v":57664759},54653359,{"$f":"SUM(P910:P913)","v":3011400},{"$f":"IF(O914>0,P914*100/O914,IF(P914>0,100,0))","v":5.5099998519761613},7223.0000000064001,7039.9999999916799,181,999,905,7039.9999999916799,138186030.55025327,905,181,999,905,7039.9999999916799,138186030.55025327]
["01820182","0182","0182",906,182,"Middleborough                ",182,"Middleborough",45765962.310000002,0.92383874803602339,{"$f":"X915","v":48396103.460000001},{"$f":"IF(K919>0, K915/K919, 0)","v":0.9239746836494559},null,{"$f":"ROUND(M919*L915,0)","v":26329701},25060283,{"$f":"N915-O915","v":1269418},5.0654575608743126,3000,3022,182,182,906,3022,48396103.460000001,906,182,182,906,3022,48396103.460000001]
["01820810","0182","0810",907,182,"Middleborough                ",810,"Bristol Plymouth",3772945.2182815922,7.616125196397662E-2,3982066.9773632558,{"$f":"IF(K919>0, K916/K919, 0)","v":7.6025316350544048E-2},null,{"$f":"ROUND(M919*L916,0)","v":2166427},2065969,{"$f":"N916-O916","v":100458},4.8625124578345558,181.66106647812001,184.54038179041999,182,810,907,184.54038179041999,3982066.9773632558,907,182,810,907,184.54038179041999,3982066.9773632558]
["01820998","0182","0998",908,182,"",998,"",0,0,0,{"$f":"IF(K919>0, K917/K919, 0)","v":0},null,{"$f":"ROUND(M919*L917,0)","v":0},0,{"$f":"N917-O917","v":0},0,0,0,182,998,908,0,0,908,182,998,908,0,0]
["01820998","0182","0998",909,182,"",998,"",0,0,0,{"$f":"IF(K919>0, K918/K919, 0)","v":0},null,{"$f":"ROUND(M919*L918,0)","v":0},0,{"$f":"N918-O918","v":0},0,0,0,182,998,909,0,0,909,182,998,909,0,0]
["01820999","0182","0999",910,182,"Middleborough                ",999,"Total",49538907.528281592,1,{"$f":"SUM(K915:K918)","v":52378170.437363259},{"$f":"SUM(L915:L918)","v":1},{"$f":"VLOOKUP(E919,town351,24)","v":28496128},{"$f":"SUM(N915:N918)","v":28496128},27126252,{"$f":"SUM(P915:P918)","v":1369876},5.0500010100916262,3181.6610664781201,3206.5403817904198,182,999,910,3206.5403817904198,52378170.437363259,910,182,999,910,3206.5403817904198,52378170.437363259]
["01830183","0183","0183",911,183,"Middlefield                  ",183,"Middlefield",52062.869999999995,0.13915786758967988,{"$f":"X920","v":54140.88},{"$f":"IF(K924>0, K920/K924, 0)","v":0.15024592669237591},null,{"$f":"ROUND(M924*L920,0)","v":44666},41959,{"$f":"N920-O920","v":2707},6.4515360232608021,3,3,183,183,911,3,54140.88,911,183,183,911,3,54140.88]
["01830672","0183","0672",912,183,"Middlefield                  ",672,"Gateway",322065.24005061021,0.86084213241032015,306207.52472482057,{"$f":"IF(K924>0, K921/K924, 0)","v":0.84975407330762409},null,{"$f":"ROUND(M924*L921,0)","v":252621},259565,{"$f":"N921-O921","v":-6944},-2.6752451216458306,20.240310080699999,18.321428573280002,183,672,912,18.321428573280002,306207.52472482057,912,183,672,912,18.321428573280002,306207.52472482057]
["01830998","0183","0998",913,183,"",998,"",0,0,0,{"$f":"IF(K924>0, K922/K924, 0)","v":0},null,{"$f":"ROUND(M924*L922,0)","v":0},0,{"$f":"N922-O922","v":0},0,0,0,183,998,913,0,0,913,183,998,913,0,0]
["01830998","0183","0998",914,183,"",998,"",0,0,0,{"$f":"IF(K924>0, K923/K924, 0)","v":0},null,{"$f":"ROUND(M924*L923,0)","v":0},0,{"$f":"N923-O923","v":0},0,0,0,183,998,914,0,0,914,183,998,914,0,0]
["01830999","0183","0999",915,183,"Middlefield                  ",999,"Total",374128.11005061021,1,{"$f":"SUM(K920:K923)","v":360348.40472482058},{"$f":"SUM(L920:L923)","v":1},{"$f":"VLOOKUP(E924,town351,24)","v":297287},{"$f":"SUM(N920:N923)","v":297287},301524,{"$f":"SUM(P920:P923)","v":-4237},-1.4051949430227777,23.240310080699999,21.321428573280002,183,999,915,21.321428573280002,360348.40472482058,915,183,999,915,21.321428573280002,360348.40472482058]
["01840184","0184","0184",916,184,"Middleton                    ",184,"Middleton",8953831.1144600008,0.53493555791360925,{"$f":"X925","v":8820111.6593199987},{"$f":"IF(K929>0, K925/K929, 0)","v":0.52022596894672279},null,{"$f":"ROUND(M929*L925,0)","v":7276592},7386911,{"$f":"N925-O925","v":-110319},-1.4934388677486434,678,643,184,184,916,643,8820111.6593199987,916,184,184,916,643,8820111.6593199987]
["01840705","0184","0705",917,184,"Middleton                    ",705,"Masconomet",6490009.9476384874,0.38773761173562699,6897176.3584374301,{"$f":"IF(K929>0, K926/K929, 0)","v":0.40680780387548643},null,{"$f":"ROUND(M929*L926,0)","v":5690170},5354258,{"$f":"N926-O926","v":335912},6.2737357818767796,472.56167109263004,481.95184696609999,184,705,917,481.95184696609999,6897176.3584374301,917,184,705,917,481.95184696609999,6897176.3584374301]
["01840817","0184","0817",918,184,"Middleton                    ",817,"Essex North Shore",1294308.0139926963,7.7326830350763764E-2,1237097.5489178861,{"$f":"IF(K929>0, K927/K929, 0)","v":7.2966227177790652E-2},null,{"$f":"ROUND(M929*L927,0)","v":1020605},1067804,{"$f":"N927-O927","v":-47199},-4.4201932189802626,62.000000000229996,56.000000002999997,184,817,918,56.000000002999997,1237097.5489178861,918,184,817,918,56.000000002999997,1237097.5489178861]
["01840998","0184","0998",919,184,"",998,"",0,0,0,{"$f":"IF(K929>0, K928/K929, 0)","v":0},null,{"$f":"ROUND(M929*L928,0)","v":0},0,{"$f":"N928-O928","v":0},0,0,0,184,998,919,0,0,919,184,998,919,0,0]
["01840999","0184","0999",920,184,"Middleton                    ",999,"Total",16738149.076091185,1,{"$f":"SUM(K925:K928)","v":16954385.566675317},{"$f":"SUM(L925:L928)","v":0.99999999999999989},{"$f":"VLOOKUP(E929,town351,24)","v":13987368},{"$f":"SUM(N925:N928)","v":13987367},13808973,{"$f":"SUM(P925:P928)","v":178394},1.2918701484896813,1212.5616710928603,1180.9518469691,184,999,920,1180.9518469691,16954385.566675317,920,184,999,920,1180.9518469691,16954385.566675317]
["01850185","0185","0185",921,185,"Milford                      ",185,"Milford",86368278.706520006,0.95619548450808711,{"$f":"X930","v":86403728.090000004},{"$f":"IF(K934>0, K930/K934, 0)","v":0.95301305581166229},null,{"$f":"ROUND(M934*L930,0)","v":33581632},31831621,{"$f":"N930-O930","v":1750011},5.4977124790471716,4791,4585,185,185,921,4585,86403728.090000004,921,185,185,921,4585,86403728.090000004]
["01850805","0185","0805",922,185,"Milford                      ",805,"Blackstone Valley",3956639.2687536259,4.380451549191279E-2,4260012.1002240004,{"$f":"IF(K934>0, K931/K934, 0)","v":4.6986944188337647E-2},null,{"$f":"ROUND(M934*L931,0)","v":1655694},1458247,{"$f":"N931-O931","v":197447},13.540024426588911,196.99999999616998,204.00000000000003,185,805,922,204.00000000000003,4260012.1002240004,922,185,805,922,204.00000000000003,4260012.1002240004]
["01850998","0185","0998",923,185,"",998,"",0,0,0,{"$f":"IF(K934>0, K932/K934, 0)","v":0},null,{"$f":"ROUND(M934*L932,0)","v":0},0,{"$f":"N932-O932","v":0},0,0,0,185,998,923,0,0,923,185,998,923,0,0]
["01850998","0185","0998",924,185,"",998,"",0,0,0,{"$f":"IF(K934>0, K933/K934, 0)","v":0},null,{"$f":"ROUND(M934*L933,0)","v":0},0,{"$f":"N933-O933","v":0},0,0,0,185,998,924,0,0,924,185,998,924,0,0]
["01850999","0185","0999",925,185,"Milford                      ",999,"Total",90324917.975273639,0.99999999999999989,{"$f":"SUM(K930:K933)","v":90663740.190224007},{"$f":"SUM(L930:L933)","v":0.99999999999999989},{"$f":"VLOOKUP(E934,town351,24)","v":35237326},{"$f":"SUM(N930:N933)","v":35237326},33289868,{"$f":"SUM(P930:P933)","v":1947458},5.8500021688280652,4987.9999999961701,4789,185,999,925,4789,90663740.190224007,925,185,999,925,4789,90663740.190224007]
["01860186","0186","0186",926,186,"Millbury                     ",186,"Millbury",23480532.759999994,0.92631266739310447,{"$f":"X935","v":24323216.77},{"$f":"IF(K939>0, K935/K939, 0)","v":0.93799176018962727},null,{"$f":"ROUND(M939*L935,0)","v":16403273},15188966,{"$f":"N935-O935","v":1214307},7.9946653379828492,1583,1574,186,186,926,1574,24323216.77,926,186,186,926,1574,24323216.77]
["01860805","0186","0805",927,186,"Millbury                     ",805,"Blackstone Valley",1867855.0862772174,7.3687332606895542E-2,1607945.7437120001,{"$f":"IF(K939>0, K936/K939, 0)","v":6.2008239810372678E-2},null,{"$f":"ROUND(M939*L936,0)","v":1084378},1208269,{"$f":"N936-O936","v":-123891},-10.253594191359705,92.999999998830006,77,186,805,927,77,1607945.7437120001,927,186,805,927,77,1607945.7437120001]
["01860998","0186","0998",928,186,"",998,"",0,0,0,{"$f":"IF(K939>0, K937/K939, 0)","v":0},null,{"$f":"ROUND(M939*L937,0)","v":0},0,{"$f":"N937-O937","v":0},0,0,0,186,998,928,0,0,928,186,998,928,0,0]
["01860998","0186","0998",929,186,"",998,"",0,0,0,{"$f":"IF(K939>0, K938/K939, 0)","v":0},null,{"$f":"ROUND(M939*L938,0)","v":0},0,{"$f":"N938-O938","v":0},0,0,0,186,998,929,0,0,929,186,998,929,0,0]
["01860999","0186","0999",930,186,"Millbury                     ",999,"Total",25348387.846277211,1,{"$f":"SUM(K935:K938)","v":25931162.513712},{"$f":"SUM(L935:L938)","v":1},{"$f":"VLOOKUP(E939,town351,24)","v":17487651},{"$f":"SUM(N935:N938)","v":17487651},16397235,{"$f":"SUM(P935:P938)","v":1090416},6.6499992224298792,1675.9999999988299,1651,186,999,930,1651,25931162.513712,930,186,999,930,1651,25931162.513712]
["01870187","0187","0187",931,187,"Millis                       ",187,"Millis",14821764.156880002,0.92527228179561216,{"$f":"X940","v":15646696.541280001},{"$f":"IF(K944>0, K940/K944, 0)","v":0.9335518990976559},null,{"$f":"ROUND(M944*L940,0)","v":12908525},12227955,{"$f":"N940-O940","v":680570},5.5656894386673814,1081,1091,187,187,931,1091,15646696.541280001,931,187,187,931,1091,15646696.541280001]
["01870878","0187","0878",932,187,"Millis                       ",878,"Tri County",969218.8232040843,6.0505031831114803E-2,859306.96187512681,{"$f":"IF(K944>0, K941/K944, 0)","v":5.1270096793270832E-2},null,{"$f":"ROUND(M944*L941,0)","v":708928},799606,{"$f":"N941-O941","v":-90678},-11.340335115044159,44.999999996219998,38.99999999808,187,878,932,38.99999999808,859306.96187512681,932,187,878,932,38.99999999808,859306.96187512681]
["01870915","0187","0915",933,187,"Millis                       ",915,"Norfolk County",227830.56106774221,1.4222686373273067E-2,254389.31100297434,{"$f":"IF(K944>0, K942/K944, 0)","v":1.5178004109073303E-2},null,{"$f":"ROUND(M944*L942,0)","v":209871},187960,{"$f":"N942-O942","v":21911},11.657267503724198,10.000000000469999,10.9999999989,187,915,933,10.9999999989,254389.31100297434,933,187,915,933,10.9999999989,254389.31100297434]
["01870998","0187","0998",934,187,"",998,"",0,0,0,{"$f":"IF(K944>0, K943/K944, 0)","v":0},null,{"$f":"ROUND(M944*L943,0)","v":0},0,{"$f":"N943-O943","v":0},0,0,0,187,998,934,0,0,934,187,998,934,0,0]
["01870999","0187","0999",935,187,"Millis                       ",999,"Total",16018813.541151829,1,{"$f":"SUM(K940:K943)","v":16760392.814158102},{"$f":"SUM(L940:L943)","v":1},{"$f":"VLOOKUP(E944,town351,24)","v":13827324},{"$f":"SUM(N940:N943)","v":13827324},13215521,{"$f":"SUM(P940:P943)","v":611803},4.6294277766271943,1135.9999999966899,1140.99999999698,187,999,935,1140.99999999698,16760392.814158102,935,187,999,935,1140.99999999698,16760392.814158102]
["01880188","0188","0188",936,188,"Millville                    ",188,"Millville",121480.03,1.885129444510459E-2,{"$f":"X945","v":90234.8},{"$f":"IF(K949>0, K945/K949, 0)","v":1.4497596257175874E-2},null,{"$f":"ROUND(M949*L945,0)","v":47162},58377,{"$f":"N945-O945","v":-11215},-19.21133323055313,7,5,188,188,936,5,90234.8,936,188,188,936,5,90234.8]
["01880622","0188","0622",937,188,"Millville                    ",622,"Blackstone Millville",5920952.1066007242,0.91881448791947573,5674473.5915610231,{"$f":"IF(K949>0, K946/K949, 0)","v":0.91169069031524896},null,{"$f":"ROUND(M949*L946,0)","v":2965826},2845313,{"$f":"N946-O946","v":120513},4.2354918421980292,399.25696595095997,367.47338403753002,188,622,937,367.47338403753002,5674473.5915610231,937,188,622,937,367.47338403753002,5674473.5915610231]
["01880805","0188","0805",938,188,"Millville                    ",805,"Blackstone Valley",401689.26597736857,6.2334217635419652E-2,459413.06963200006,{"$f":"IF(K949>0, K947/K949, 0)","v":7.3811713427575198E-2},null,{"$f":"ROUND(M949*L947,0)","v":240117},193032,{"$f":"N947-O947","v":47085},24.392328733059802,20.000000005290001,22,188,805,938,22,459413.06963200006,938,188,805,938,22,459413.06963200006]
["01880998","0188","0998",939,188,"",998,"",0,0,0,{"$f":"IF(K949>0, K948/K949, 0)","v":0},null,{"$f":"ROUND(M949*L948,0)","v":0},0,{"$f":"N948-O948","v":0},0,0,0,188,998,939,0,0,939,188,998,939,0,0]
["01880999","0188","0999",940,188,"Millville                    ",999,"Total",6444121.4025780931,1,{"$f":"SUM(K945:K948)","v":6224121.4611930232},{"$f":"SUM(L945:L948)","v":1},{"$f":"VLOOKUP(E949,town351,24)","v":3253106},{"$f":"SUM(N945:N948)","v":3253105},3096722,{"$f":"SUM(P945:P948)","v":156383},5.049952821079839,426.25696595624999,394.47338403753002,188,999,940,394.47338403753002,6224121.4611930232,940,188,999,940,394.47338403753002,6224121.4611930232]
["01890189","0189","0189",941,189,"Milton                       ",189,"Milton",58361210.542160012,0.98166283660597187,{"$f":"X950","v":61112912.354039997},{"$f":"IF(K954>0, K950/K954, 0)","v":0.98234006634241489},null,{"$f":"ROUND(M954*L950,0)","v":48893991},46814490,{"$f":"N950-O950","v":2079501},4.4420028926941209,4355,4354,189,189,941,4354,61112912.354039997,941,189,189,941,4354,61112912.354039997]
["01890806","0189","0806",942,189,"Milton                       ",806,"Blue Hills",885122.16805100837,1.4888168531118717E-2,913641.69300861552,{"$f":"IF(K954>0, K951/K954, 0)","v":1.4686042715880289E-2},null,{"$f":"ROUND(M954*L951,0)","v":730968},710001,{"$f":"N951-O951","v":20967},2.9530944322613628,39.000000002600004,38.041170099240006,189,806,942,38.041170099240006,913641.69300861552,942,189,806,942,38.041170099240006,913641.69300861552]
["01890915","0189","0915",943,189,"Milton                       ",915,"Norfolk County",205047.50495497606,3.4489948629093155E-3,185010.40800216314,{"$f":"IF(K954>0, K952/K954, 0)","v":2.9738909417048537E-3},null,{"$f":"ROUND(M954*L952,0)","v":148019},164479,{"$f":"N952-O952","v":-16460},-10.007356562235909,9.00000000016,7.9999999991999999,189,915,943,7.9999999991999999,185010.40800216314,943,189,915,943,7.9999999991999999,185010.40800216314]
["01890998","0189","0998",944,189,"",998,"",0,0,0,{"$f":"IF(K954>0, K953/K954, 0)","v":0},null,{"$f":"ROUND(M954*L953,0)","v":0},0,{"$f":"N953-O953","v":0},0,0,0,189,998,944,0,0,944,189,998,944,0,0]
["01890999","0189","0999",945,189,"Milton                       ",999,"Total",59451380.215166003,0.99999999999999989,{"$f":"SUM(K950:K953)","v":62211564.455050774},{"$f":"SUM(L950:L953)","v":1},{"$f":"VLOOKUP(E954,town351,24)","v":49772978},{"$f":"SUM(N950:N953)","v":49772978},47688970,{"$f":"SUM(P950:P953)","v":2084008},4.3700000230661304,4403.0000000027603,4400.0411700984396,189,999,945,4400.0411700984396,62211564.455050774,945,189,999,945,4400.0411700984396,62211564.455050774]
["01900190","0190","0190",946,190,"Monroe                       ",190,"Monroe",234621.64000000004,0.77445766610031341,{"$f":"X955","v":260752.65999999997},{"$f":"IF(K959>0, K955/K959, 0)","v":0.73376938678690784},null,{"$f":"ROUND(M959*L955,0)","v":90687},93490,{"$f":"N955-O955","v":-2803},-2.9981816237030698,20,21,190,190,946,21,260752.65999999997,946,190,190,946,21,260752.65999999997]
["01900851","0190","0851",947,190,"Monroe                       ",851,"Northern Berkshire",68327.959790791021,0.22554233389968661,94607.845215141322,{"$f":"IF(K959>0, K956/K959, 0)","v":0.26623061321309222},null,{"$f":"ROUND(M959*L956,0)","v":32903},27227,{"$f":"N956-O956","v":5676},20.846953391853674,3.0000000018599997,4.0000000010000001,190,851,947,4.0000000010000001,94607.845215141322,947,190,851,947,4.0000000010000001,94607.845215141322]
["01900998","0190","0998",948,190,"",998,"",0,0,0,{"$f":"IF(K959>0, K957/K959, 0)","v":0},null,{"$f":"ROUND(M959*L957,0)","v":0},0,{"$f":"N957-O957","v":0},0,0,0,190,998,948,0,0,948,190,998,948,0,0]
["01900998","0190","0998",949,190,"",998,"",0,0,0,{"$f":"IF(K959>0, K958/K959, 0)","v":0},null,{"$f":"ROUND(M959*L958,0)","v":0},0,{"$f":"N958-O958","v":0},0,0,0,190,998,949,0,0,949,190,998,949,0,0]
["01900999","0190","0999",950,190,"Monroe                       ",999,"Total",302949.59979079105,1,{"$f":"SUM(K955:K958)","v":355360.50521514128},{"$f":"SUM(L955:L958)","v":1},{"$f":"VLOOKUP(E959,town351,24)","v":123590},{"$f":"SUM(N955:N958)","v":123590},120717,{"$f":"SUM(P955:P958)","v":2873},2.3799464864103648,23.000000001859998,25.000000001,190,999,950,25.000000001,355360.50521514128,950,190,999,950,25.000000001,355360.50521514128]
["01910191","0191","0191",951,191,"Monson                       ",191,"Monson",11784464.360000001,0.84390602679357851,{"$f":"X960","v":12112206.459999999},{"$f":"IF(K964>0, K960/K964, 0)","v":0.83391923867862006},null,{"$f":"ROUND(M964*L960,0)","v":7025493},6807381,{"$f":"N960-O960","v":218112},3.2040516022241152,775,779,191,191,951,779,12112206.459999999,951,191,191,951,779,12112206.459999999]
["01910860","0191","0860",952,191,"Monson                       ",860,"Pathfinder",2179725.9477468007,0.15609397320642154,2412229.3584999996,{"$f":"IF(K964>0, K961/K964, 0)","v":0.16608076132137992},null,{"$f":"ROUND(M964*L961,0)","v":1399175},1259134,{"$f":"N961-O961","v":140041},11.122009253979323,98.000000002449994,104,191,860,952,104,2412229.3584999996,952,191,860,952,104,2412229.3584999996]
["01910998","0191","0998",953,191,"",998,"",0,0,0,{"$f":"IF(K964>0, K962/K964, 0)","v":0},null,{"$f":"ROUND(M964*L962,0)","v":0},0,{"$f":"N962-O962","v":0},0,0,0,191,998,953,0,0,953,191,998,953,0,0]
["01910998","0191","0998",954,191,"",998,"",0,0,0,{"$f":"IF(K964>0, K963/K964, 0)","v":0},null,{"$f":"ROUND(M964*L963,0)","v":0},0,{"$f":"N963-O963","v":0},0,0,0,191,998,954,0,0,954,191,998,954,0,0]
["01910999","0191","0999",955,191,"Monson                       ",999,"Total",13964190.307746802,1,{"$f":"SUM(K960:K963)","v":14524435.818499999},{"$f":"SUM(L960:L963)","v":1},{"$f":"VLOOKUP(E964,town351,24)","v":8424668},{"$f":"SUM(N960:N963)","v":8424668},8066515,{"$f":"SUM(P960:P963)","v":358153},4.4399967024173392,873.00000000244995,883,191,999,955,883,14524435.818499999,955,191,999,955,883,14524435.818499999]
["01920192","0192","0192",956,192,"Montague                     ",192,"Montague",17354.29,1.1316593005615951E-3,{"$f":"X965","v":0},{"$f":"IF(K969>0, K965/K969, 0)","v":0},null,{"$f":"ROUND(M969*L965,0)","v":0},8313,{"$f":"N965-O965","v":-8313},-100,1,0,192,192,956,0,0,956,192,192,956,0,0]
["01920674","0192","0674",957,192,"Montague                     ",674,"Gill Montague",13662759.152025403,0.89093754142189618,13524512.787328336,{"$f":"IF(K969>0, K966/K969, 0)","v":0.86785760572399795},null,{"$f":"ROUND(M969*L966,0)","v":6660658},6544595,{"$f":"N966-O966","v":116063},1.7734176064370675,805.80451127792003,756.25646794495992,192,674,957,756.25646794495992,13524512.787328336,957,192,674,957,756.25646794495992,13524512.787328336]
["01920818","0192","0818",958,192,"Montague                     ",818,"Franklin County",1655146.9065510598,0.10793079927754232,2059279.6437418542,{"$f":"IF(K969>0, K967/K969, 0)","v":0.13214239427600211},null,{"$f":"ROUND(M969*L967,0)","v":1014170},792831,{"$f":"N967-O967","v":221339},27.917551155290347,72.999999997139994,87.999999997529997,192,818,958,87.999999997529997,2059279.6437418542,958,192,818,958,87.999999997529997,2059279.6437418542]
["01920998","0192","0998",959,192,"",998,"",0,0,0,{"$f":"IF(K969>0, K968/K969, 0)","v":0},null,{"$f":"ROUND(M969*L968,0)","v":0},0,{"$f":"N968-O968","v":0},0,0,0,192,998,959,0,0,959,192,998,959,0,0]
["01920999","0192","0999",960,192,"Montague                     ",999,"Total",15335260.348576462,1,{"$f":"SUM(K965:K968)","v":15583792.43107019},{"$f":"SUM(L965:L968)","v":1},{"$f":"VLOOKUP(E969,town351,24)","v":7674828},{"$f":"SUM(N965:N968)","v":7674828},7345739,{"$f":"SUM(P965:P968)","v":329089},4.4799985406505733,879.80451127506001,844.25646794248996,192,999,960,844.25646794248996,15583792.43107019,960,192,999,960,844.25646794248996,15583792.43107019]
[{"$f":"B970&C970","v":"01930193"},"0193","0193",961,193,"Monterey                     ",193,"Monterey",0,0,{"$f":"X970","v":0},{"$f":"IF(K974>0, K970/K974, 0)","v":0},null,{"$f":"ROUND(M974*L970,0)","v":0},0,{"$f":"N970-O970","v":0},0,0,0,{"$f":"VLOOKUP($D970, foundoptions, VLOOKUP($T$6, foundoptcell, 2, FALSE), FALSE)","v":193},{"$f":"VLOOKUP($D970, foundoptions, VLOOKUP($T$6, foundoptcell, 2, FALSE)+1, FALSE)","v":193},{"$f":"VLOOKUP($D970, foundoptions, VLOOKUP($T$6, foundoptcell, 2, FALSE)+2, FALSE)","v":961},{"$f":"VLOOKUP($D970, foundoptions, VLOOKUP($T$6, foundoptcell, 2, FALSE)+3, FALSE)","v":0},{"$f":"VLOOKUP($D970, foundoptions, VLOOKUP($T$6, foundoptcell, 2, FALSE)+4, FALSE)","v":0},961,193,193,961,0,0]
["01930765","0193","0765",962,193,"Monterey                     ",765,"Southern Berkshire",1258519.9715362166,1,1190578.5686365804,{"$f":"IF(K974>0, K971/K974, 0)","v":1},null,{"$f":"ROUND(M974*L971,0)","v":982227},1038279,{"$f":"N971-O971","v":-56052},-5.3985489449367652,83.337461297480004,{"$f":"W971","v":75.143312104300009},193,765,962,75.143312104300009,1190578.5686365804,{"$f":"D971","v":962},193,765,962,75.143312104300009,1190578.5686365804]
["01930998","0193","0998",963,193,"",998,"",0,0,0,{"$f":"IF(K974>0, K972/K974, 0)","v":0},null,{"$f":"ROUND(M974*L972,0)","v":0},0,{"$f":"N972-O972","v":0},0,0,0,193,998,963,0,0,963,193,998,963,0,0]
["01930998","0193","0998",964,193,"",998,"",0,0,0,{"$f":"IF(K974>0, K973/K974, 0)","v":0},null,{"$f":"ROUND(M974*L973,0)","v":0},0,{"$f":"N973-O973","v":0},0,0,0,193,998,964,0,0,964,193,998,964,0,0]
["01930999","0193","0999",965,193,"Monterey                     ",999,"Total",1258519.9715362166,1,{"$f":"SUM(K970:K973)","v":1190578.5686365804},{"$f":"SUM(L970:L973)","v":1},{"$f":"VLOOKUP(E974,town351,24)","v":982227},{"$f":"SUM(N970:N973)","v":982227},1038279,{"$f":"SUM(P970:P973)","v":-56052},-5.3985489449367652,83.337461297480004,75.143312104300009,193,999,965,75.143312104300009,1190578.5686365804,965,193,999,965,75.143312104300009,1190578.5686365804]
["01940194","0194","0194",966,194,"Montgomery                   ",194,"Montgomery",121480.03,0.10036625494660482,{"$f":"X975","v":126328.72},{"$f":"IF(K979>0, K975/K979, 0)","v":0.10070352838918731},null,{"$f":"ROUND(M979*L975,0)","v":94169},90244,{"$f":"N975-O975","v":3925},4.3493196223571653,7,7,194,194,966,7,126328.72,966,194,194,966,7,126328.72]
["01940672","0194","0672",967,194,"Montgomery                   ",672,"Gateway",1088887.2400015336,0.89963374505339511,1128132.9857684358,{"$f":"IF(K979>0, K976/K979, 0)","v":0.89929647161081272},null,{"$f":"ROUND(M979*L976,0)","v":840940},808899,{"$f":"N976-O976","v":32041},{"$f":"IF(O976>0,P976*100/O976,IF(P976>0,100,0))","v":3.9610631240735863},68.431524547899997,67.500000003240004,194,672,967,67.500000003240004,1128132.9857684358,967,194,672,967,67.500000003240004,1128132.9857684358]
["01940998","0194","0998",968,194,"",998,"",0,0,0,{"$f":"IF(K979>0, K977/K979, 0)","v":0},null,{"$f":"ROUND(M979*L977,0)","v":0},0,{"$f":"N977-O977","v":0},{"$f":"IF(O977>0,P977*100/O977,IF(P977>0,100,0))","v":0},0,0,194,998,968,0,0,968,194,998,968,0,0]
["01940998","0194","0998",969,194,"",998,"",0,0,0,{"$f":"IF(K979>0, K978/K979, 0)","v":0},null,{"$f":"ROUND(M979*L978,0)","v":0},0,{"$f":"N978-O978","v":0},{"$f":"IF(O978>0,P978*100/O978,IF(P978>0,100,0))","v":0},0,0,194,998,969,0,0,969,194,998,969,0,0]
["01940999","0194","0999",970,194,"Montgomery                   ",999,"Total",1210367.2700015337,0.99999999999999989,{"$f":"SUM(K975:K978)","v":1254461.7057684357},{"$f":"SUM(L975:L978)","v":1},{"$f":"VLOOKUP(E979,town351,24)","v":935109},{"$f":"SUM(N975:N978)","v":935109},899143,{"$f":"SUM(P975:P978)","v":35966},{"$f":"IF(O979>0,P979*100/O979,IF(P979>0,100,0))","v":4.0000311407640385},75.431524547899997,74.500000003240004,194,999,970,74.500000003240004,1254461.7057684357,970,194,999,970,74.500000003240004,1254461.7057684357]
["01950195","0195","0195",971,195,"Mount Washington             ",195,"Mount Washington",50509.919999999998,1,{"$f":"X980","v":54677.719999999994},{"$f":"IF(K984>0, K980/K984, 0)","v":1},null,{"$f":"ROUND(M984*L980,0)","v":45109},41671,{"$f":"N980-O980","v":3438},8.2503419644356981,5,5,195,195,971,5,54677.719999999994,971,195,195,971,5,54677.719999999994]
["01950998","0195","0998",972,195,"",998,"",0,0,0,{"$f":"IF(K984>0, K981/K984, 0)","v":0},null,{"$f":"ROUND(M984*L981,0)","v":0},0,{"$f":"N981-O981","v":0},0,0,0,195,998,972,0,0,972,195,998,972,0,0]
["01950998","0195","0998",973,195,"",998,"",0,0,0,{"$f":"IF(K984>0, K982/K984, 0)","v":0},null,{"$f":"ROUND(M984*L982,0)","v":0},0,{"$f":"N982-O982","v":0},0,0,0,195,998,973,0,0,973,195,998,973,0,0]
["01950998","0195","0998",974,195,"",998,"",0,0,0,{"$f":"IF(K984>0, K983/K984, 0)","v":0},null,{"$f":"ROUND(M984*L983,0)","v":0},0,{"$f":"N983-O983","v":0},0,0,0,195,998,974,0,0,974,195,998,974,0,0]
["01950999","0195","0999",975,195,"Mount Washington             ",999,"Total",50509.919999999998,1,{"$f":"SUM(K980:K983)","v":54677.719999999994},{"$f":"SUM(L980:L983)","v":1},{"$f":"VLOOKUP(E984,town351,24)","v":45109},{"$f":"SUM(N980:N983)","v":45109},41671,{"$f":"SUM(P980:P983)","v":3438},8.2503419644356981,5,5,195,999,975,5,54677.719999999994,975,195,999,975,5,54677.719999999994]
["01960196","0196","0196",976,196,"Nahant                       ",196,"Nahant",3159072.39,0.93223514261979579,{"$f":"X985","v":3413694.24},{"$f":"IF(K989>0, K985/K989, 0)","v":0.96262346860008119},null,{"$f":"ROUND(M989*L985,0)","v":2816297},2606235,{"$f":"N985-O985","v":210062},8.0599792420867651,245,252,196,196,976,252,3413694.24,976,196,196,976,252,3413694.24]
["01960817","0196","0817",977,196,"Nahant                       ",817,"Essex North Shore",229635.29283019013,6.7764857380204213E-2,132546.16588211403,{"$f":"IF(K989>0, K986/K989, 0)","v":3.7376531399918915E-2},null,{"$f":"ROUND(M989*L986,0)","v":109351},189449,{"$f":"N986-O986","v":-80098},-42.279452517564096,11.00000000124,5.9999999969999998,196,817,977,5.9999999969999998,132546.16588211403,977,196,817,977,5.9999999969999998,132546.16588211403]
["01960998","0196","0998",978,196,"",998,null,0,0,0,{"$f":"IF(K989>0, K987/K989, 0)","v":0},null,{"$f":"ROUND(M989*L987,0)","v":0},0,{"$f":"N987-O987","v":0},0,0,0,196,998,978,0,0,978,196,998,978,0,0]
["01960998","0196","0998",979,196,"",998,"",0,0,0,{"$f":"IF(K989>0, K988/K989, 0)","v":0},null,{"$f":"ROUND(M989*L988,0)","v":0},0,{"$f":"N988-O988","v":0},0,0,0,196,998,979,0,0,979,196,998,979,0,0]
["01960999","0196","0999",980,196,"Nahant                       ",999,"Total",3388707.6828301903,1,{"$f":"SUM(K985:K988)","v":3546240.4058821141},{"$f":"SUM(L985:L988)","v":1},{"$f":"VLOOKUP(E989,town351,24)","v":2925648},{"$f":"SUM(N985:N988)","v":2925648},2795684,{"$f":"SUM(P985:P988)","v":129964},4.6487371247966509,256.00000000123998,257.99999999699997,196,999,980,257.99999999699997,3546240.4058821141,980,196,999,980,257.99999999699997,3546240.4058821141]
["01970197","0197","0197",981,197,"Nantucket                    ",197,"Nantucket",27110453.819999997,1,{"$f":"X990","v":27241613.429999992},{"$f":"IF(K994>0, K990/K994, 0)","v":1},null,{"$f":"ROUND(M994*L990,0)","v":22474331},22366124,{"$f":"N990-O990","v":108207},0.48379862331086065,1701,1627,197,197,981,1627,27241613.429999992,981,197,197,981,1627,27241613.429999992]
["01970998","0197","0998",982,197,"",998,"",0,0,0,{"$f":"IF(K994>0, K991/K994, 0)","v":0},null,{"$f":"ROUND(M994*L991,0)","v":0},0,{"$f":"N991-O991","v":0},0,0,0,197,998,982,0,0,982,197,998,982,0,0]
["01970998","0197","0998",983,197,"",998,"",0,0,0,{"$f":"IF(K994>0, K992/K994, 0)","v":0},null,{"$f":"ROUND(M994*L992,0)","v":0},0,{"$f":"N992-O992","v":0},0,0,0,197,998,983,0,0,983,197,998,983,0,0]
["01970998","0197","0998",984,197,"",998,"",0,0,0,{"$f":"IF(K994>0, K993/K994, 0)","v":0},null,{"$f":"ROUND(M994*L993,0)","v":0},0,{"$f":"N993-O993","v":0},0,0,0,197,998,984,0,0,984,197,998,984,0,0]
["01970999","0197","0999",985,197,"Nantucket                    ",999,"Total",27110453.819999997,1,{"$f":"SUM(K990:K993)","v":27241613.429999992},{"$f":"SUM(L990:L993)","v":1},{"$f":"VLOOKUP(E994,town351,24)","v":22474331},{"$f":"SUM(N990:N993)","v":22474331},22366124,{"$f":"SUM(P990:P993)","v":108207},0.48379862331086065,1701,1627,197,999,985,1627,27241613.429999992,985,197,999,985,1627,27241613.429999992]
["01980198","0198","0198",986,198,"Natick                       ",198,"Natick",70521736.71668002,0.97831422727268713,{"$f":"X995","v":72661462.079600006},{"$f":"IF(K999>0, K995/K999, 0)","v":0.97891477948151462},null,{"$f":"ROUND(M999*L995,0)","v":59488956},56626783,{"$f":"N995-O995","v":2862173},5.0544510006863712,5287,5218,198,198,986,5218,72661462.079600006,986,198,198,986,5218,72661462.079600006]
["01980829","0198","0829",987,198,"Natick                       ",829,"South Middlesex",1563217.9438263995,2.1685772727312938E-2,1565083.0728650347,{"$f":"IF(K999>0, K996/K999, 0)","v":2.1085220518485343E-2},null,{"$f":"ROUND(M999*L996,0)","v":1281355},1255216,{"$f":"N996-O996","v":26139},2.0824304342838205,64.287640449839998,62.206437289520004,198,829,987,62.206437289520004,1565083.0728650347,987,198,829,987,62.206437289520004,1565083.0728650347]
["01980998","0198","0998",988,198,"",998,"",0,0,0,{"$f":"IF(K999>0, K997/K999, 0)","v":0},null,{"$f":"ROUND(M999*L997,0)","v":0},0,{"$f":"N997-O997","v":0},0,0,0,198,998,988,0,0,988,198,998,988,0,0]
["01980998","0198","0998",989,198,"",998,"",0,0,0,{"$f":"IF(K999>0, K998/K999, 0)","v":0},null,{"$f":"ROUND(M999*L998,0)","v":0},0,{"$f":"N998-O998","v":0},0,0,0,198,998,989,0,0,989,198,998,989,0,0]
["01980999","0198","0999",990,198,"Natick                       ",999,"Total",72084954.660506412,1,{"$f":"SUM(K995:K998)","v":74226545.152465045},{"$f":"SUM(L995:L998)","v":1},{"$f":"VLOOKUP(E999,town351,24)","v":60770311},{"$f":"SUM(N995:N998)","v":60770311},57881999,{"$f":"SUM(P995:P998)","v":2888312},4.9900004317404445,5351.2876404498402,5280.2064372895202,198,999,990,5280.2064372895202,74226545.152465045,990,198,999,990,5280.2064372895202,74226545.152465045]
["01990199","0199","0199",991,199,"Needham                      ",199,"Needham",74618544.113240004,0.98312076093287049,{"$f":"X1000","v":77008161.460039988},{"$f":"IF(K1004>0, K1000/K1004, 0)","v":0.98153137127355106},null,{"$f":"ROUND(M1004*L1000,0)","v":63531733},61560299,{"$f":"N1000-O1000","v":1971434},3.2024438347838435,5523,5465,199,199,991,5465,77008161.460039988,991,199,199,991,5465,77008161.460039988]
["01990830","0199","0830",992,199,"Needham                      ",830,"Minuteman",1258345.6668056662,1.6579065755948728E-2,1425869.8131703341,{"$f":"IF(K1004>0, K1001/K1004, 0)","v":1.8173865294847585E-2},null,{"$f":"ROUND(M1004*L1001,0)","v":1176343},1038135,{"$f":"N1001-O1001","v":138208},13.313104750345572,58.000000001800004,62.999999997629999,199,830,992,62.999999997629999,1425869.8131703341,992,199,830,992,62.999999997629999,1425869.8131703341]
["01990915","0199","0915",993,199,"Needham                      ",915,"Norfolk County",22783.056112766168,3.0017331118076138E-4,23126.301000270392,{"$f":"IF(K1004>0, K1002/K1004, 0)","v":2.947634316014549E-4},null,{"$f":"ROUND(M1004*L1002,0)","v":19079},18796,{"$f":"N1002-O1002","v":283},1.5056394977654821,1.00000000031,0.99999999989999999,199,915,993,0.99999999989999999,23126.301000270392,993,199,915,993,0.99999999989999999,23126.301000270392]
["01990998","0199","0998",994,199,"",998,"",0,0,0,{"$f":"IF(K1004>0, K1003/K1004, 0)","v":0},null,{"$f":"ROUND(M1004*L1003,0)","v":0},0,{"$f":"N1003-O1003","v":0},0,0,0,199,998,994,0,0,994,199,998,994,0,0]
["01990999","0199","0999",995,199,"Needham                      ",999,"Total",75899672.83615844,0.99999999999999989,{"$f":"SUM(K1000:K1003)","v":78457157.574210584},{"$f":"SUM(L1000:L1003)","v":1},{"$f":"VLOOKUP(E1004,town351,24)","v":64727155},{"$f":"SUM(N1000:N1003)","v":64727155},62617230,{"$f":"SUM(P1000:P1003)","v":2109925},3.3695597841041516,5582.00000000211,5528.9999999975298,199,999,995,5528.9999999975298,78457157.574210584,995,199,999,995,5528.9999999975298,78457157.574210584]
["02000200","0200","0200",996,200,"New Ashford                  ",200,"New Ashford",123072.46,1,{"$f":"X1005","v":136849.65999999997},{"$f":"IF(K1009>0, K1005/K1009, 0)","v":1},null,{"$f":"ROUND(M1009*L1005,0)","v":112901},101535,{"$f":"N1005-O1005","v":11366},11.194169498202591,12,12,200,200,996,12,136849.65999999997,996,200,200,996,12,136849.65999999997]
["02000998","0200","0998",997,200,"",998,"",0,0,0,{"$f":"IF(K1009>0, K1006/K1009, 0)","v":0},null,{"$f":"ROUND(M1009*L1006,0)","v":0},0,{"$f":"N1006-O1006","v":0},0,0,0,200,998,997,0,0,997,200,998,997,0,0]
["02000998","0200","0998",998,200,"",998,"",0,0,0,{"$f":"IF(K1009>0, K1007/K1009, 0)","v":0},null,{"$f":"ROUND(M1009*L1007,0)","v":0},0,{"$f":"N1007-O1007","v":0},0,0,0,200,998,998,0,0,998,200,998,998,0,0]
["02000998","0200","0998",999,200,"",998,"",0,0,0,{"$f":"IF(K1009>0, K1008/K1009, 0)","v":0},null,{"$f":"ROUND(M1009*L1008,0)","v":0},0,{"$f":"N1008-O1008","v":0},0,0,0,200,998,999,0,0,999,200,998,999,0,0]
["02000999","0200","0999",1000,200,"New Ashford                  ",999,"Total",123072.46,1,{"$f":"SUM(K1005:K1008)","v":136849.65999999997},{"$f":"SUM(L1005:L1008)","v":1},{"$f":"VLOOKUP(E1009,town351,24)","v":112901},{"$f":"SUM(N1005:N1008)","v":112901},101535,{"$f":"SUM(P1005:P1008)","v":11366},11.194169498202591,12,12,200,999,1000,12,136849.65999999997,1000,200,999,1000,12,136849.65999999997]
["02010201","0201","0201",1001,201,"New Bedford                  ",201,"New Bedford",295054094.75999993,0.87824637908081005,{"$f":"X1010","v":314496325.39000005},{"$f":"IF(K1014>0, K1010/K1014, 0)","v":0.87659828892191993},null,{"$f":"ROUND(M1014*L1010,0)","v":43254588},40756053,{"$f":"N1010-O1010","v":2498535},6.1304636148156941,14156,14160,201,201,1001,14160,314496325.39000005,1001,201,201,1001,14160,314496325.39000005]
["02010825","0201","0825",1002,201,"New Bedford                  ",825,"Greater New Bedford",39677141.622136354,0.11810141455675136,43066969.413980275,{"$f":"IF(K1014>0, K1011/K1014, 0)","v":0.12004093100462079},null,{"$f":"ROUND(M1014*L1011,0)","v":5923262},5480635,{"$f":"N1011-O1011","v":442627},8.0761991995453073,1677.9999999894601,1717.99999999232,201,825,1002,1717.99999999232,43066969.413980275,1002,201,825,1002,1717.99999999232,43066969.413980275]
["02010910","0201","0910",1003,201,"New Bedford                  ",910,"Bristol County",1226988.7674047386,3.6522063624386154E-3,1205743.8360354882,{"$f":"IF(K1014>0, K1012/K1014, 0)","v":3.3607800734592255E-3},null,{"$f":"ROUND(M1014*L1012,0)","v":165833},169485,{"$f":"N1012-O1012","v":-3652},-2.1547629583738974,58.000000002,54.999999999700002,201,910,1003,54.999999999700002,1205743.8360354882,1003,201,910,1003,54.999999999700002,1205743.8360354882]
["02010998","0201","0998",1004,201,"",998,"",0,0,0,{"$f":"IF(K1014>0, K1013/K1014, 0)","v":0},null,{"$f":"ROUND(M1014*L1013,0)","v":0},0,{"$f":"N1013-O1013","v":0},0,0,0,201,998,1004,0,0,1004,201,998,1004,0,0]
["02010999","0201","0999",1005,201,"New Bedford                  ",999,"Total",335958225.14954102,1,{"$f":"SUM(K1010:K1013)","v":358769038.64001584},{"$f":"SUM(L1010:L1013)","v":0.99999999999999989},{"$f":"VLOOKUP(E1014,town351,24)","v":49343683},{"$f":"SUM(N1010:N1013)","v":49343683},46406173,{"$f":"SUM(P1010:P1013)","v":2937510},6.3299983818963055,15891.999999991462,15932.99999999202,201,999,1005,15932.99999999202,358769038.64001584,1005,201,999,1005,15932.99999999202,358769038.64001584]
["02020202","0202","0202",1006,202,"New Braintree                ",202,"New Braintree",0,0,{"$f":"X1015","v":0},{"$f":"IF(K1019>0, K1015/K1019, 0)","v":0},null,{"$f":"ROUND(M1019*L1015,0)","v":0},0,{"$f":"N1015-O1015","v":0},0,0,0,202,202,1006,0,0,1006,202,202,1006,0,0]
["02020753","0202","0753",1007,202,"New Braintree                ",753,"Quabbin",1595648.8792278762,0.86705345770886466,1506410.087289568,{"$f":"IF(K1019>0, K1016/K1019, 0)","v":0.82266545632376809},null,{"$f":"ROUND(M1019*L1016,0)","v":1039439},1030208,{"$f":"N1016-O1016","v":9231},0.89603264583462761,107.90392561268,97.997437218420004,202,753,1007,97.997437218420004,1506410.087289568,1007,202,753,1007,97.997437218420004,1506410.087289568]
["02020860","0202","0860",1008,202,"New Braintree                ",860,"Pathfinder",244663.1165794874,0.13294654229113537,324723.18287499994,{"$f":"IF(K1019>0, K1017/K1019, 0)","v":0.17733454367623191},null,{"$f":"ROUND(M1019*L1017,0)","v":224062},157963,{"$f":"N1017-O1017","v":66099},41.844609180630904,11.00000000008,14,202,860,1008,14,324723.18287499994,1008,202,860,1008,14,324723.18287499994]
["02020998","0202","0998",1009,202,"",998,"",0,0,0,{"$f":"IF(K1019>0, K1018/K1019, 0)","v":0},null,{"$f":"ROUND(M1019*L1018,0)","v":0},0,{"$f":"N1018-O1018","v":0},0,0,0,202,998,1009,0,0,1009,202,998,1009,0,0]
["02020999","0202","0999",1010,202,"New Braintree                ",999,"Total",1840311.9958073637,1,{"$f":"SUM(K1015:K1018)","v":1831133.270164568},{"$f":"SUM(L1015:L1018)","v":1},{"$f":"VLOOKUP(E1019,town351,24)","v":1263501},{"$f":"SUM(N1015:N1018)","v":1263501},1188171,{"$f":"SUM(P1015:P1018)","v":75330},6.3399965156530502,118.90392561275999,111.99743721842,202,999,1010,111.99743721842,1831133.270164568,1010,202,999,1010,111.99743721842,1831133.270164568]
["02030203","0203","0203",1011,203,"Newbury                      ",203,"Newbury",17830.486349999999,1.9244231507249694E-3,{"$f":"X1020","v":55650.842040000003},{"$f":"IF(K1024>0, K1020/K1024, 0)","v":5.8976285989107919E-3},null,{"$f":"ROUND(M1024*L1020,0)","v":45912},14710,{"$f":"N1020-O1020","v":31202},212.11420802175391,1,3,203,203,1011,3,55650.842040000003,1011,203,203,1011,3,55650.842040000003]
["02030773","0203","0773",1012,203,"Newbury                      ",773,"Triton",8719297.9031695854,0.94106343559872851,8840295.5489835162,{"$f":"IF(K1024>0, K1021/K1024, 0)","v":0.93685518388086109},null,{"$f":"ROUND(M1024*L1021,0)","v":7293244},7193421,{"$f":"N1021-O1021","v":99823},1.3876985651194333,604.68761905259998,595.98278335506996,203,773,1012,595.98278335506996,8840295.5489835162,1012,203,773,1012,595.98278335506996,8840295.5489835162]
["02030885","0203","0885",1013,203,"Newbury                      ",885,"Whittier",528238.40015081095,5.7012141250546475E-2,540192.4072517649,{"$f":"IF(K1024>0, K1022/K1024, 0)","v":5.7247187520228109E-2},null,{"$f":"ROUND(M1024*L1022,0)","v":445659},435797,{"$f":"N1022-O1022","v":9862},2.2629802408001889,23.99999999552,23.99999999656,203,885,1013,23.99999999656,540192.4072517649,1013,203,885,1013,23.99999999656,540192.4072517649]
["02030998","0203","0998",1014,203,"",998,null,0,0,0,{"$f":"IF(K1024>0, K1023/K1024, 0)","v":0},null,{"$f":"ROUND(M1024*L1023,0)","v":0},0,{"$f":"N1023-O1023","v":0},0,0,0,203,998,1014,0,0,1014,203,998,1014,0,0]
["02030999","0203","0999",1015,203,"Newbury                      ",999,"Total",9265366.7896703966,0.99999999999999989,{"$f":"SUM(K1020:K1023)","v":9436138.7982752807},{"$f":"SUM(L1020:L1023)","v":0.99999999999999989},{"$f":"VLOOKUP(E1024,town351,24)","v":7784815},{"$f":"SUM(N1020:N1023)","v":7784815},7643928,{"$f":"SUM(P1020:P1023)","v":140887},1.8431230644767977,629.68761904812004,622.98278335162991,203,999,1015,622.98278335162991,9436138.7982752807,1015,203,999,1015,622.98278335162991,9436138.7982752807]
["02040204","0204","0204",1016,204,"Newburyport                  ",204,"Newburyport",26732481.829999998,0.97199023950765528,{"$f":"X1025","v":27238492.659999996},{"$f":"IF(K1029>0, K1025/K1029, 0)","v":0.97896726826393543},null,{"$f":"ROUND(M1029*L1025,0)","v":22471756},22054297,{"$f":"N1025-O1025","v":417459},1.8928692218119672,2037,1985,204,204,1016,1985,27238492.659999996,1016,204,204,1016,1985,27238492.659999996]
["02040885","0204","0885",1017,204,"Newburyport                  ",885,"Whittier",770347.66707485751,2.8009760492344618E-2,585208.44116525352,{"$f":"IF(K1029>0, K1026/K1029, 0)","v":2.1032731736064587E-2},null,{"$f":"ROUND(M1029*L1026,0)","v":482797},635537,{"$f":"N1026-O1026","v":-152740},-24.033219151678029,35.000000002019995,25.999999995200003,204,885,1017,25.999999995200003,585208.44116525352,1017,204,885,1017,25.999999995200003,585208.44116525352]
["02040998","0204","0998",1018,204,"",998,null,0,0,0,{"$f":"IF(K1029>0, K1027/K1029, 0)","v":0},null,{"$f":"ROUND(M1029*L1027,0)","v":0},0,{"$f":"N1027-O1027","v":0},0,0,0,204,998,1018,0,0,1018,204,998,1018,0,0]
["02040998","0204","0998",1019,204,"",998,"",0,0,0,{"$f":"IF(K1029>0, K1028/K1029, 0)","v":0},null,{"$f":"ROUND(M1029*L1028,0)","v":0},0,{"$f":"N1028-O1028","v":0},0,0,0,204,998,1019,0,0,1019,204,998,1019,0,0]
["02040999","0204","0999",1020,204,"Newburyport                  ",999,"Total",27502829.497074857,0.99999999999999989,{"$f":"SUM(K1025:K1028)","v":27823701.10116525},{"$f":"SUM(L1025:L1028)","v":1},{"$f":"VLOOKUP(E1029,town351,24)","v":22954553},{"$f":"SUM(N1025:N1028)","v":22954553},22689834,{"$f":"SUM(P1025:P1028)","v":264719},1.1666854856672817,2072.00000000202,2010.9999999951999,204,999,1020,2010.9999999951999,27823701.10116525,1020,204,999,1020,2010.9999999951999,27823701.10116525]
["02050205","0205","0205",1021,205,"New Marlborough              ",205,"New Marlborough",0,0,{"$f":"X1030","v":0},{"$f":"IF(K1034>0, K1030/K1034, 0)","v":0},null,{"$f":"ROUND(M1034*L1030,0)","v":0},0,{"$f":"N1030-O1030","v":0},0,0,0,205,205,1021,0,0,1021,205,205,1021,0,0]
["02050765","0205","0765",1022,205,"New Marlborough              ",765,"Southern Berkshire",1712172.5194397338,1,1709548.7138413903,{"$f":"IF(K1034>0, K1031/K1034, 0)","v":1},null,{"$f":"ROUND(M1034*L1031,0)","v":1410378},1412542,{"$f":"N1031-O1031","v":-2164},-0.15319898452576985,113.37770897608,107.89808916920001,205,765,1022,107.89808916920001,1709548.7138413903,1022,205,765,1022,107.89808916920001,1709548.7138413903]
["02050998","0205","0998",1023,205,"",998,"",0,0,0,{"$f":"IF(K1034>0, K1032/K1034, 0)","v":0},null,{"$f":"ROUND(M1034*L1032,0)","v":0},0,{"$f":"N1032-O1032","v":0},0,0,0,205,998,1023,0,0,1023,205,998,1023,0,0]
["02050998","0205","0998",1024,205,"",998,"",0,0,0,{"$f":"IF(K1034>0, K1033/K1034, 0)","v":0},null,{"$f":"ROUND(M1034*L1033,0)","v":0},0,{"$f":"N1033-O1033","v":0},0,0,0,205,998,1024,0,0,1024,205,998,1024,0,0]
[{"$f":"B1034&C1034","v":"02050999"},"0205","0999",1025,205,"New Marlborough              ",999,"Total",1712172.5194397338,1,{"$f":"SUM(K1030:K1033)","v":1709548.7138413903},{"$f":"SUM(L1030:L1033)","v":1},{"$f":"VLOOKUP(E1034,town351,24)","v":1410378},{"$f":"SUM(N1030:N1033)","v":1410378},1412542,{"$f":"SUM(P1030:P1033)","v":-2164},-0.15319898452576985,113.37770897608,107.89808916920001,{"$f":"VLOOKUP($D1034, foundoptions, VLOOKUP($T$6, foundoptcell, 2, FALSE), FALSE)","v":205},{"$f":"VLOOKUP($D1034, foundoptions, VLOOKUP($T$6, foundoptcell, 2, FALSE)+1, FALSE)","v":999},{"$f":"VLOOKUP($D1034, foundoptions, VLOOKUP($T$6, foundoptcell, 2, FALSE)+2, FALSE)","v":1025},{"$f":"VLOOKUP($D1034, foundoptions, VLOOKUP($T$6, foundoptcell, 2, FALSE)+3, FALSE)","v":107.89808916920001},{"$f":"VLOOKUP($D1034, foundoptions, VLOOKUP($T$6, foundoptcell, 2, FALSE)+4, FALSE)","v":1709548.7138413903},1025,205,999,1025,107.89808916920001,1709548.7138413903]
["02060206","0206","0206",1026,206,"New Salem                    ",206,"New Salem",0,0,{"$f":"X1035","v":0},{"$f":"IF(K1039>0, K1035/K1039, 0)","v":0},null,{"$f":"ROUND(M1039*L1035,0)","v":0},0,{"$f":"N1035-O1035","v":0},0,0,{"$f":"W1035","v":0},206,206,1026,0,0,{"$f":"D1035","v":1026},206,206,1026,0,0]
["02060728","0206","0728",1027,206,"New Salem                    ",728,"New Salem Wendell",656541.62848109682,0.46852993792615349,646417.7583385047,{"$f":"IF(K1039>0, K1036/K1039, 0)","v":0.44494990856917721},null,{"$f":"ROUND(M1039*L1036,0)","v":424927},427605,{"$f":"N1036-O1036","v":-2678},-0.6262789256439939,41.575757575520001,38.750000000310003,206,728,1027,38.750000000310003,646417.7583385047,1027,206,728,1027,38.750000000310003,646417.7583385047]
["02060755","0206","0755",1028,206,"New Salem                    ",755,"Ralph C Mahar",472659.4216711715,0.33730548054986237,572360.90030532214,{"$f":"IF(K1039>0, K1037/K1039, 0)","v":0.39397421709764185},null,{"$f":"ROUND(M1039*L1037,0)","v":376245},307843,{"$f":"N1037-O1037","v":68402},22.219767868686311,26.99999999852,31.00000000272,206,755,1028,31.00000000272,572360.90030532214,1028,206,755,1028,31.00000000272,572360.90030532214]
["02060818","0206","0818",1029,206,"New Salem                    ",818,"Franklin County",272078.94358118763,0.19416458152398416,234009.05046524221,{"$f":"IF(K1039>0, K1038/K1039, 0)","v":0.16107587433318091},null,{"$f":"ROUND(M1039*L1038,0)","v":153827},177205,{"$f":"N1038-O1038","v":-23378},-13.192630004796705,12.000000001230001,10.000000001429999,206,818,1029,10.000000001429999,234009.05046524221,1029,206,818,1029,10.000000001429999,234009.05046524221]
["02060999","0206","0999",1030,206,"New Salem                    ",999,"Total",1401279.9937334559,1,{"$f":"SUM(K1035:K1038)","v":1452787.7091090691},{"$f":"SUM(L1035:L1038)","v":1},{"$f":"VLOOKUP(E1039,town351,24)","v":955000},{"$f":"SUM(N1035:N1038)","v":954999},912653,{"$f":"SUM(P1035:P1038)","v":42346},4.6398795599203639,80.575757575270003,79.750000004460006,206,999,1030,79.750000004460006,1452787.7091090691,1030,206,999,1030,79.750000004460006,1452787.7091090691]
["02070207","0207","0207",1031,207,"Newton                       ",207,"Newton",163854442.56515002,1,{"$f":"X1040","v":169131329.11532003},{"$f":"IF(K1044>0, K1040/K1044, 0)","v":1},null,{"$f":"ROUND(M1044*L1040,0)","v":139533347},135179915,{"$f":"N1040-O1040","v":4353432},{"$f":"IF(O1040>0,P1040*100/O1040,IF(P1040>0,100,0))","v":3.2204725088042849},11630,11468,207,207,1031,11468,169131329.11532003,1031,207,207,1031,11468,169131329.11532003]
["02070998","0207","0998",1032,207,"",998,"",0,0,0,{"$f":"IF(K1044>0, K1041/K1044, 0)","v":0},null,{"$f":"ROUND(M1044*L1041,0)","v":0},0,{"$f":"N1041-O1041","v":0},{"$f":"IF(O1041>0,P1041*100/O1041,IF(P1041>0,100,0))","v":0},0,0,207,998,1032,0,0,1032,207,998,1032,0,0]
["02070998","0207","0998",1033,207,"",998,"",0,0,0,{"$f":"IF(K1044>0, K1042/K1044, 0)","v":0},null,{"$f":"ROUND(M1044*L1042,0)","v":0},0,{"$f":"N1042-O1042","v":0},{"$f":"IF(O1042>0,P1042*100/O1042,IF(P1042>0,100,0))","v":0},0,0,207,998,1033,0,0,1033,207,998,1033,0,0]
["02070998","0207","0998",1034,207,"",998,"",0,0,0,{"$f":"IF(K1044>0, K1043/K1044, 0)","v":0},null,{"$f":"ROUND(M1044*L1043,0)","v":0},0,{"$f":"N1043-O1043","v":0},{"$f":"IF(O1043>0,P1043*100/O1043,IF(P1043>0,100,0))","v":0},0,0,207,998,1034,0,0,1034,207,998,1034,0,0]
["02070999","0207","0999",1035,207,"Newton                       ",999,"Total",163854442.56515002,1,{"$f":"SUM(K1040:K1043)","v":169131329.11532003},{"$f":"SUM(L1040:L1043)","v":1},{"$f":"VLOOKUP(E1044,town351,24)","v":139533347},{"$f":"SUM(N1040:N1043)","v":139533347},135179915,{"$f":"SUM(P1040:P1043)","v":4353432},{"$f":"IF(O1044>0,P1044*100/O1044,IF(P1044>0,100,0))","v":3.2204725088042849},11630,11468,207,999,1035,11468,169131329.11532003,1035,207,999,1035,11468,169131329.11532003]
["02080208","0208","0208",1036,208,"Norfolk                      ",208,"Norfolk",13116177.873539999,0.54584024385130647,{"$f":"X1045","v":13448983.686729999},{"$f":"IF(K1049>0, K1045/K1049, 0)","v":0.54249665149582271},null,{"$f":"ROUND(M1049*L1045,0)","v":10764396},10294403,{"$f":"N1045-O1045","v":469993},4.5655197295073835,1029,1004,208,208,1036,1004,13448983.686729999,1036,208,208,1036,1004,13448983.686729999]
["02080690","0208","0690",1037,208,"Norfolk                      ",690,"King Philip",9519773.8865207713,0.39617301242235636,9894445.3531881813,{"$f":"IF(K1049>0, K1046/K1049, 0)","v":0.39911591816482456},null,{"$f":"ROUND(M1049*L1046,0)","v":7919389},7471718,{"$f":"N1046-O1046","v":447671},5.9915403659506419,681.05699482325997,680.20010816765,208,690,1037,680.20010816765,9894445.3531881813,1037,208,690,1037,680.20010816765,9894445.3531881813]
["02080878","0208","0878",1038,208,"Norfolk                      ",878,"Tri County",1119986.1957595306,4.6609122268519758E-2,1123709.1039572968,{"$f":"IF(K1049>0, K1047/K1049, 0)","v":4.5327471603203773E-2},null,{"$f":"ROUND(M1049*L1047,0)","v":899403},879036,{"$f":"N1047-O1047","v":20367},2.3169699534490054,51.999999998280003,50.999999995979998,208,878,1038,50.999999995979998,1123709.1039572968,1038,208,878,1038,50.999999995979998,1123709.1039572968]
["02080915","0208","0915",1039,208,"Norfolk                      ",915,"Norfolk County",273396.67329327454,1.1377621457817283E-2,323768.21406645776,{"$f":"IF(K1049>0, K1048/K1049, 0)","v":1.305995873614909E-2},null,{"$f":"ROUND(M1049*L1048,0)","v":259140},214579,{"$f":"N1048-O1048","v":44561},20.766710628719494,12.000000001089999,14.000000001309999,208,915,1039,14.000000001309999,323768.21406645776,1039,208,915,1039,14.000000001309999,323768.21406645776]
["02080999","0208","0999",1040,208,"Norfolk                      ",999,"Total",24029334.629113577,0.99999999999999989,{"$f":"SUM(K1045:K1048)","v":24790906.357941933},{"$f":"SUM(L1045:L1048)","v":1},{"$f":"VLOOKUP(E1049,town351,24)","v":19842328},{"$f":"SUM(N1045:N1048)","v":19842328},18859736,{"$f":"SUM(P1045:P1048)","v":982592},5.2099986977548358,1774.05699482263,1749.2001081649398,208,999,1040,1749.2001081649398,24790906.357941933,1040,208,999,1040,1749.2001081649398,24790906.357941933]
["02090209","0209","0209",1041,209,"North Adams                  ",209,"North Adams",22791831.230000004,0.86964407403773214,{"$f":"X1050","v":22873270.939999998},{"$f":"IF(K1054>0, K1050/K1054, 0)","v":0.86805222408274618},null,{"$f":"ROUND(M1054*L1050,0)","v":6331531},6084549,{"$f":"N1050-O1050","v":246982},4.0591669160688824,1254,1192,209,209,1041,1192,22873270.939999998,1041,209,209,1041,1192,22873270.939999998]
["02090851","0209","0851",1042,209,"North Adams                  ",851,"Northern Berkshire",3416397.9874753635,0.13035592596226783,3476838.3108227123,{"$f":"IF(K1054>0, K1051/K1054, 0)","v":0.13194777591725385},null,{"$f":"ROUND(M1054*L1051,0)","v":962421},912048,{"$f":"N1051-O1051","v":50373},5.5230645755486556,150.00000000237,147.00000000150001,209,851,1042,147.00000000150001,3476838.3108227123,1042,209,851,1042,147.00000000150001,3476838.3108227123]
["02090998","0209","0998",1043,209,"",998,"",0,0,0,{"$f":"IF(K1054>0, K1052/K1054, 0)","v":0},null,{"$f":"ROUND(M1054*L1052,0)","v":0},0,{"$f":"N1052-O1052","v":0},0,0,0,209,998,1043,0,0,1043,209,998,1043,0,0]
["02090998","0209","0998",1044,209,"",998,"",0,0,0,{"$f":"IF(K1054>0, K1053/K1054, 0)","v":0},null,{"$f":"ROUND(M1054*L1053,0)","v":0},0,{"$f":"N1053-O1053","v":0},0,0,0,209,998,1044,0,0,1044,209,998,1044,0,0]
["02090999","0209","0999",1045,209,"North Adams                  ",999,"Total",26208229.21747537,1,{"$f":"SUM(K1050:K1053)","v":26350109.250822708},{"$f":"SUM(L1050:L1053)","v":1},{"$f":"VLOOKUP(E1054,town351,24)","v":7293952},{"$f":"SUM(N1050:N1053)","v":7293952},6996597,{"$f":"SUM(P1050:P1053)","v":297355},4.2499946759831957,1404.0000000023699,1339.0000000015,209,999,1045,1339.0000000015,26350109.250822708,1045,209,999,1045,1339.0000000015,26350109.250822708]
["02100210","0210","0210",1046,210,"Northampton                  ",210,"Northampton",37433634.749999993,0.89412762744638552,{"$f":"X1055","v":37355374.600000009},{"$f":"IF(K1059>0, K1055/K1059, 0)","v":0.90207466485824472},null,{"$f":"ROUND(M1059*L1055,0)","v":30818184},30204769,{"$f":"N1055-O1055","v":613415},2.0308547964727026,2602,2499,210,210,1046,2499,37355374.600000009,1046,210,210,1046,2499,37355374.600000009]
["02100406","0210","0406",1047,210,"Northampton                  ",406,"Northampton Smith",4432463.1100000013,0.10587237255361448,4055138.3600000003,{"$f":"IF(K1059>0, K1056/K1059, 0)","v":9.7925335141755263E-2},null,{"$f":"ROUND(M1059*L1056,0)","v":3345489},3576504,{"$f":"N1056-O1056","v":-231015},-6.4592406439360897,139,126,210,406,1047,126,4055138.3600000003,1047,210,406,1047,126,4055138.3600000003]
["02100998","0210","0998",1048,210,"",998,"",0,0,0,{"$f":"IF(K1059>0, K1057/K1059, 0)","v":0},null,{"$f":"ROUND(M1059*L1057,0)","v":0},0,{"$f":"N1057-O1057","v":0},0,0,0,210,998,1048,0,0,1048,210,998,1048,0,0]
["02100998","0210","0998",1049,210,"",998,"",0,0,0,{"$f":"IF(K1059>0, K1058/K1059, 0)","v":0},null,{"$f":"ROUND(M1059*L1058,0)","v":0},0,{"$f":"N1058-O1058","v":0},0,0,0,210,998,1049,0,0,1049,210,998,1049,0,0]
["02100999","0210","0999",1050,210,"Northampton                  ",999,"Total",41866097.859999992,1,{"$f":"SUM(K1055:K1058)","v":41410512.960000008},{"$f":"SUM(L1055:L1058)","v":1},{"$f":"VLOOKUP(E1059,town351,24)","v":34163673},{"$f":"SUM(N1055:N1058)","v":34163673},33781273,{"$f":"SUM(P1055:P1058)","v":382400},1.131988128452116,2741,2625,210,999,1050,2625,41410512.960000008,1050,210,999,1050,2625,41410512.960000008]
["02110211","0211","0211",1051,211,"North Andover                ",211,"North Andover",61037819.240000017,0.98241392298618402,{"$f":"X1060","v":63468657.769999996},{"$f":"IF(K1064>0, K1060/K1064, 0)","v":0.97577519129358636},null,{"$f":"ROUND(M1064*L1060,0)","v":52361642},49916865,{"$f":"N1060-O1060","v":2444777},4.897697401469423,4433,4403,211,211,1051,4403,63468657.769999996,1051,211,211,1051,4403,63468657.769999996]
["02110823","0211","0823",1052,211,"North Andover                ",823,"Greater Lawrence",1092630.880726143,1.7586077013815985E-2,1575686.8047575597,{"$f":"IF(K1064>0, K1061/K1064, 0)","v":2.4224808706413702E-2},null,{"$f":"ROUND(M1064*L1061,0)","v":1299942},893556,{"$f":"N1061-O1061","v":406386},45.479634180734053,39.999999991199999,57.00000000144,211,823,1052,57.00000000144,1575686.8047575597,1052,211,823,1052,57.00000000144,1575686.8047575597]
["02110998","0211","0998",1053,211,"",998,null,0,0,0,{"$f":"IF(K1064>0, K1062/K1064, 0)","v":0},null,{"$f":"ROUND(M1064*L1062,0)","v":0},0,{"$f":"N1062-O1062","v":0},0,0,0,211,998,1053,0,0,1053,211,998,1053,0,0]
["02110998","0211","0998",1054,211,"",998,"",0,0,0,{"$f":"IF(K1064>0, K1063/K1064, 0)","v":0},null,{"$f":"ROUND(M1064*L1063,0)","v":0},0,{"$f":"N1063-O1063","v":0},0,0,0,211,998,1054,0,0,1054,211,998,1054,0,0]
["02110999","0211","0999",1055,211,"North Andover                ",999,"Total",62130450.120726161,1,{"$f":"SUM(K1060:K1063)","v":65044344.574757554},{"$f":"SUM(L1060:L1063)","v":1},{"$f":"VLOOKUP(E1064,town351,24)","v":53661584},{"$f":"SUM(N1060:N1063)","v":53661584},50810421,{"$f":"SUM(P1060:P1063)","v":2851163},5.6113744855607477,4472.9999999911997,4460.0000000014397,211,999,1055,4460.0000000014397,65044344.574757554,1055,211,999,1055,4460.0000000014397,65044344.574757554]
["02120212","0212","0212",1056,212,"North Attleborough           ",212,"North Attleborough",52893827.050000004,0.90397899055151254,{"$f":"X1065","v":53752172.830000006},{"$f":"IF(K1069>0, K1065/K1069, 0)","v":0.91181146647227895},null,{"$f":"ROUND(M1069*L1065,0)","v":38296559},36308302,{"$f":"N1065-O1065","v":1988257},5.476039612097531,3838,3719,212,212,1056,3719,53752172.830000006,1056,212,212,1056,3719,53752172.830000006]
["02120878","0212","0878",1057,212,"North Attleborough           ",878,"Tri County",5449163.6064560805,9.3128625608008581E-2,4979573.6768175131,{"$f":"IF(K1069>0, K1066/K1069, 0)","v":8.4469745828240114E-2},null,{"$f":"ROUND(M1069*L1066,0)","v":3547774},3740510,{"$f":"N1066-O1066","v":-192736},-5.1526663476370871,252.99999999926999,226.00000000296001,212,878,1057,226.00000000296001,4979573.6768175131,1057,212,878,1057,226.00000000296001,4979573.6768175131]
["02120910","0212","0910",1058,212,"North Attleborough           ",910,"Bristol County",169239.82992919497,2.8923838404788546E-3,219226.15199602919,{"$f":"IF(K1069>0, K1067/K1069, 0)","v":3.7187876994808746E-3},null,{"$f":"ROUND(M1069*L1067,0)","v":156191},116173,{"$f":"N1067-O1067","v":40018},34.446902464428049,7.9999999975499998,9.9999999994700008,212,910,1058,9.9999999994700008,219226.15199602919,1058,212,910,1058,9.9999999994700008,219226.15199602919]
["02120998","0212","0998",1059,212,"",998,"",0,0,0,{"$f":"IF(K1069>0, K1068/K1069, 0)","v":0},null,{"$f":"ROUND(M1069*L1068,0)","v":0},0,{"$f":"N1068-O1068","v":0},0,0,0,212,998,1059,0,0,1059,212,998,1059,0,0]
["02120999","0212","0999",1060,212,"North Attleborough           ",999,"Total",58512230.486385278,1,{"$f":"SUM(K1065:K1068)","v":58950972.658813551},{"$f":"SUM(L1065:L1068)","v":0.99999999999999989},{"$f":"VLOOKUP(E1069,town351,24)","v":42000524},{"$f":"SUM(N1065:N1068)","v":42000524},40164985,{"$f":"SUM(P1065:P1068)","v":1835539},4.5699979721142681,4098.9999999968204,3955.0000000024302,212,999,1060,3955.0000000024302,58950972.658813551,1060,212,999,1060,3955.0000000024302,58950972.658813551]
["02130213","0213","0213",1061,213,"Northborough                 ",213,"Northborough",20570416.460000001,0.62496323129527909,{"$f":"X1070","v":22109021.609999996},{"$f":"IF(K1074>0, K1070/K1074, 0)","v":0.63278408262978103},null,{"$f":"ROUND(M1074*L1070,0)","v":17861692},16970593,{"$f":"N1070-O1070","v":891099},5.2508418533164987,1587,1623,213,213,1061,1623,22109021.609999996,1061,213,213,1061,1623,22109021.609999996]
["02130730","0213","0730",1062,213,"Northborough                 ",730,"Northboro Southboro",10545979.206938291,0.32040426868153832,11162541.87791626,{"$f":"IF(K1074>0, K1071/K1074, 0)","v":0.31948400732662519},null,{"$f":"ROUND(M1074*L1071,0)","v":9018124},8700433,{"$f":"N1071-O1071","v":317691},3.6514389571185708,748.26535626952,755.28443357746005,213,730,1062,755.28443357746005,11162541.87791626,1062,213,730,1062,755.28443357746005,11162541.87791626]
["02130801","0213","0801",1063,213,"Northborough                 ",801,"Assabet Valley",1798207.0327539849,5.4632500023182616E-2,1667718.67309724,{"$f":"IF(K1074>0, K1072/K1074, 0)","v":4.7731910043593874E-2},null,{"$f":"ROUND(M1074*L1072,0)","v":1347336},1483521,{"$f":"N1072-O1072","v":-136185},-9.1798498302349607,74.999999997480003,66.0000000024,213,801,1063,66.0000000024,1667718.67309724,1063,213,801,1063,66.0000000024,1667718.67309724]
["02130998","0213","0998",1064,213,"",998,"",0,0,0,{"$f":"IF(K1074>0, K1073/K1074, 0)","v":0},null,{"$f":"ROUND(M1074*L1073,0)","v":0},0,{"$f":"N1073-O1073","v":0},0,0,0,213,998,1064,0,0,1064,213,998,1064,0,0]
["02130999","0213","0999",1065,213,"Northborough                 ",999,"Total",32914602.699692275,1,{"$f":"SUM(K1070:K1073)","v":34939282.161013491},{"$f":"SUM(L1070:L1073)","v":1},{"$f":"VLOOKUP(E1074,town351,24)","v":28227152},{"$f":"SUM(N1070:N1073)","v":28227152},27154547,{"$f":"SUM(P1070:P1073)","v":1072605},3.9500014491127398,2410.2653562669998,2444.28443357986,213,999,1065,2444.28443357986,34939282.161013491,1065,213,999,1065,2444.28443357986,34939282.161013491]
["02140214","0214","0214",1066,214,"Northbridge                  ",214,"Northbridge",28797160.489999998,0.90187462484657754,{"$f":"X1075","v":29934557.589999996},{"$f":"IF(K1079>0, K1075/K1079, 0)","v":0.89565641946423991},null,{"$f":"ROUND(M1079*L1075,0)","v":16963175},16088295,{"$f":"N1075-O1075","v":874880},5.4379907877124332,1900,1886,214,214,1066,1886,29934557.589999996,1066,214,214,1066,1886,29934557.589999996]
["02140805","0214","0805",1067,214,"Northbridge                  ",805,"Blackstone Valley",3133176.2737146127,9.8125375153422442E-2,3487362.846752,{"$f":"IF(K1079>0, K1076/K1079, 0)","v":0.10434358053576015},null,{"$f":"ROUND(M1079*L1076,0)","v":1976202},1750432,{"$f":"N1076-O1076","v":225770},12.897958903859161,155.99999999600999,167,214,805,1067,167,3487362.846752,1067,214,805,1067,167,3487362.846752]
["02140998","0214","0998",1068,214,"",998,"",0,0,0,{"$f":"IF(K1079>0, K1077/K1079, 0)","v":0},null,{"$f":"ROUND(M1079*L1077,0)","v":0},0,{"$f":"N1077-O1077","v":0},0,0,0,214,998,1068,0,0,1068,214,998,1068,0,0]
["02140998","0214","0998",1069,214,"",998,"",0,0,0,{"$f":"IF(K1079>0, K1078/K1079, 0)","v":0},null,{"$f":"ROUND(M1079*L1078,0)","v":0},0,{"$f":"N1078-O1078","v":0},0,0,0,214,998,1069,0,0,1069,214,998,1069,0,0]
["02140999","0214","0999",1070,214,"Northbridge                  ",999,"Total",31930336.763714612,1,{"$f":"SUM(K1075:K1078)","v":33421920.436751995},{"$f":"SUM(L1075:L1078)","v":1},{"$f":"VLOOKUP(E1079,town351,24)","v":18939377},{"$f":"SUM(N1075:N1078)","v":18939377},17838727,{"$f":"SUM(P1075:P1078)","v":1100650},6.170003050105537,2055.99999999601,2053,214,999,1070,2053,33421920.436751995,1070,214,999,1070,2053,33421920.436751995]
["02150215","0215","0215",1071,215,"North Brookfield             ",215,"North Brookfield",8296193.1099999985,0.88279910628348268,{"$f":"X1080","v":9042500.3499999996},{"$f":"IF(K1084>0, K1080/K1084, 0)","v":0.90083917896679999},null,{"$f":"ROUND(M1084*L1080,0)","v":4010247},3734618,{"$f":"N1080-O1080","v":275629},7.3803800013816678,551,561,215,215,1071,561,9042500.3499999996,1071,215,215,1071,561,9042500.3499999996]
["02150876","0215","0876",1072,215,"North Brookfield             ",876,"Southern Worcester",1101407.1491646743,0.11720089371651732,995362.74602022325,{"$f":"IF(K1084>0, K1081/K1084, 0)","v":9.9160821033199897E-2},null,{"$f":"ROUND(M1084*L1081,0)","v":441432},495810,{"$f":"N1081-O1081","v":-54378},-10.967507714648757,51.999999998759996,44.999999999159996,215,876,1072,44.999999999159996,995362.74602022325,1072,215,876,1072,44.999999999159996,995362.74602022325]
["02150998","0215","0998",1073,215,"",998,"",0,0,0,{"$f":"IF(K1084>0, K1082/K1084, 0)","v":0},null,{"$f":"ROUND(M1084*L1082,0)","v":0},0,{"$f":"N1082-O1082","v":0},0,0,0,215,998,1073,0,0,1073,215,998,1073,0,0]
["02150998","0215","0998",1074,215,"",998,"",0,0,0,{"$f":"IF(K1084>0, K1083/K1084, 0)","v":0},null,{"$f":"ROUND(M1084*L1083,0)","v":0},0,{"$f":"N1083-O1083","v":0},0,0,0,215,998,1074,0,0,1074,215,998,1074,0,0]
["02150999","0215","0999",1075,215,"North Brookfield             ",999,"Total",9397600.2591646723,1,{"$f":"SUM(K1080:K1083)","v":10037863.096020224},{"$f":"SUM(L1080:L1083)","v":0.99999999999999989},{"$f":"VLOOKUP(E1084,town351,24)","v":4451679},{"$f":"SUM(N1080:N1083)","v":4451679},4230428,{"$f":"SUM(P1080:P1083)","v":221251},5.2299909134489466,602.99999999876002,605.99999999915997,215,999,1075,605.99999999915997,10037863.096020224,1075,215,999,1075,605.99999999915997,10037863.096020224]
["02160216","0216","0216",1076,216,"Northfield                   ",216,"Northfield",0,0,{"$f":"X1085","v":0},{"$f":"IF(K1089>0, K1085/K1089, 0)","v":0},null,{"$f":"ROUND(M1089*L1085,0)","v":0},0,{"$f":"N1085-O1085","v":0},0,0,0,216,216,1076,0,0,1076,216,216,1076,0,0]
["02160750","0216","0750",1077,216,"Northfield                   ",750,"Pioneer",3530438.5452699712,0.75693873031352132,3335120.7499726438,{"$f":"IF(K1089>0, K1086/K1089, 0)","v":0.71075350950306504},null,{"$f":"ROUND(M1089*L1086,0)","v":2688580},2758995,{"$f":"N1086-O1086","v":-70415},-2.5521974487086783,243.99999999855999,223.57005758359998,216,750,1077,223.57005758359998,3335120.7499726438,1077,216,750,1077,223.57005758359998,3335120.7499726438]
["02160818","0216","0818",1078,216,"Northfield                   ",818,"Franklin County",1133662.2648546156,0.24306126968647859,1357252.4924816189,{"$f":"IF(K1089>0, K1087/K1089, 0)","v":0.28924649049693502},null,{"$f":"ROUND(M1089*L1087,0)","v":1094138},885944,{"$f":"N1087-O1087","v":208194},23.499679437978021,50.000000002169998,57.999999999030003,216,818,1078,57.999999999030003,1357252.4924816189,1078,216,818,1078,57.999999999030003,1357252.4924816189]
["02160998","0216","0998",1079,216,"",998,"",0,0,0,{"$f":"IF(K1089>0, K1088/K1089, 0)","v":0},null,{"$f":"ROUND(M1089*L1088,0)","v":0},0,{"$f":"N1088-O1088","v":0},0,0,0,216,998,1079,0,0,1079,216,998,1079,0,0]
["02160999","0216","0999",1080,216,"Northfield                   ",999,"Total",4664100.8101245873,0.99999999999999989,{"$f":"SUM(K1085:K1088)","v":4692373.2424542625},{"$f":"SUM(L1085:L1088)","v":1},{"$f":"VLOOKUP(E1089,town351,24)","v":3782718},{"$f":"SUM(N1085:N1088)","v":3782718},3644939,{"$f":"SUM(P1085:P1088)","v":137779},3.7800083897151642,294.00000000072998,281.57005758263,216,999,1080,281.57005758263,4692373.2424542625,1080,216,999,1080,281.57005758263,4692373.2424542625]
["02170217","0217","0217",1081,217,"North Reading                ",217,"North Reading",30731201.128249995,0.96731279897274314,{"$f":"X1090","v":32523143.82144},{"$f":"IF(K1094>0, K1090/K1094, 0)","v":0.97292181052442983},null,{"$f":"ROUND(M1094*L1090,0)","v":26732590},24625659,{"$f":"N1090-O1090","v":2106931},8.5558360082871285,2262,2271,217,217,1081,2271,32523143.82144,1081,217,217,1081,2271,32523143.82144]
["02170853","0217","0853",1082,217,"North Reading                ",853,"Northeast Metropolitan",1038461.3437917285,3.2687201027256939E-2,905178.44415829435,{"$f":"IF(K1094>0, K1091/K1094, 0)","v":2.7078189475570249E-2},null,{"$f":"ROUND(M1094*L1091,0)","v":744017},832144,{"$f":"N1091-O1091","v":-88127},-10.590354554019497,42.000000002589999,34.999999993919999,217,853,1082,34.999999993919999,905178.44415829435,1082,217,853,1082,34.999999993919999,905178.44415829435]
["02170998","0217","0998",1083,217,"",998,null,0,0,0,{"$f":"IF(K1094>0, K1092/K1094, 0)","v":0},null,{"$f":"ROUND(M1094*L1092,0)","v":0},0,{"$f":"N1092-O1092","v":0},0,0,0,217,998,1083,0,0,1083,217,998,1083,0,0]
["02170998","0217","0998",1084,217,"",998,"",0,0,0,{"$f":"IF(K1094>0, K1093/K1094, 0)","v":0},null,{"$f":"ROUND(M1094*L1093,0)","v":0},0,{"$f":"N1093-O1093","v":0},0,0,0,217,998,1084,0,0,1084,217,998,1084,0,0]
["02170999","0217","0999",1085,217,"North Reading                ",999,"Total",31769662.472041722,1,{"$f":"SUM(K1090:K1093)","v":33428322.265598293},{"$f":"SUM(L1090:L1093)","v":1},{"$f":"VLOOKUP(E1094,town351,24)","v":27476607},{"$f":"SUM(N1090:N1093)","v":27476607},25457803,{"$f":"SUM(P1090:P1093)","v":2018804},7.930000872424066,2304.0000000025898,2305.99999999392,217,999,1085,2305.99999999392,33428322.265598293,1085,217,999,1085,2305.99999999392,33428322.265598293]
["02180218","0218","0218",1086,218,"Norton                       ",218,"Norton",30090005.920000002,0.92967530904936391,{"$f":"X1095","v":30928801.829999998},{"$f":"IF(K1099>0, K1095/K1099, 0)","v":0.92936104739402114},null,{"$f":"ROUND(M1099*L1095,0)","v":24826897},23659419,{"$f":"N1095-O1095","v":1167478},4.9345167774407308,2143,2104,218,218,1086,2104,30928801.829999998,1086,218,218,1086,2104,30928801.829999998]
["02180872","0218","0872",1087,218,"Norton                       ",872,"Southeastern",1979969.4467436511,6.1174089237590344E-2,2065844.9715263166,{"$f":"IF(K1099>0, K1096/K1099, 0)","v":6.2075338612991769E-2},null,{"$f":"ROUND(M1099*L1096,0)","v":1658277},1556827,{"$f":"N1096-O1096","v":101450},6.5164594396166047,87.000000008459992,87.050405556729999,218,872,1087,87.050405556729999,2065844.9715263166,1087,218,872,1087,87.050405556729999,2065844.9715263166]
["02180910","0218","0910",1088,218,"Norton                       ",910,"Bristol County",296169.70251544955,9.1506017130457487E-3,284993.99762923451,{"$f":"IF(K1099>0, K1097/K1099, 0)","v":8.5636139929871503E-3},null,{"$f":"ROUND(M1099*L1097,0)","v":228768},232875,{"$f":"N1097-O1097","v":-4107},-1.7636070853462158,14.000000002299998,13.00000000088,218,910,1088,13.00000000088,284993.99762923451,1088,218,910,1088,13.00000000088,284993.99762923451]
[{"$f":"B1098&C1098","v":"02180998"},"0218","0998",1089,218,"",998,"",0,0,0,{"$f":"IF(K1099>0, K1098/K1099, 0)","v":0},null,{"$f":"ROUND(M1099*L1098,0)","v":0},0,{"$f":"N1098-O1098","v":0},0,0,0,{"$f":"VLOOKUP($D1098, foundoptions, VLOOKUP($T$6, foundoptcell, 2, FALSE), FALSE)","v":218},{"$f":"VLOOKUP($D1098, foundoptions, VLOOKUP($T$6, foundoptcell, 2, FALSE)+1, FALSE)","v":998},{"$f":"VLOOKUP($D1098, foundoptions, VLOOKUP($T$6, foundoptcell, 2, FALSE)+2, FALSE)","v":1089},{"$f":"VLOOKUP($D1098, foundoptions, VLOOKUP($T$6, foundoptcell, 2, FALSE)+3, FALSE)","v":0},{"$f":"VLOOKUP($D1098, foundoptions, VLOOKUP($T$6, foundoptcell, 2, FALSE)+4, FALSE)","v":0},1089,218,998,1089,0,0]
["02180999","0218","0999",1090,218,"Norton                       ",999,"Total",32366145.069259103,1,{"$f":"SUM(K1095:K1098)","v":33279640.799155548},{"$f":"SUM(L1095:L1098)","v":1},{"$f":"VLOOKUP(E1099,town351,24)","v":26713942},{"$f":"SUM(N1095:N1098)","v":26713942},25449121,{"$f":"SUM(P1095:P1098)","v":1264821},4.9699987673444594,2244.0000000107602,{"$f":"W1099","v":2204.0504055576098},218,999,1090,2204.0504055576098,33279640.799155548,{"$f":"D1099","v":1090},218,999,1090,2204.0504055576098,33279640.799155548]
["02190219","0219","0219",1091,219,"Norwell                      ",219,"Norwell",27721329.640999999,0.98023893396601602,{"$f":"X1100","v":28540632.825939994},{"$f":"IF(K1104>0, K1100/K1104, 0)","v":0.98196209425781844},null,{"$f":"ROUND(M1104*L1100,0)","v":23546022},22870097,{"$f":"N1100-O1100","v":675925},2.9554968656232634,2115,2083,219,219,1091,2083,28540632.825939994,1091,219,219,1091,2083,28540632.825939994]
["02190873","0219","0873",1092,219,"Norwell                      ",873,"South Shore",558846.42672705045,1.976106603398408E-2,524269.97716813273,{"$f":"IF(K1104>0, K1101/K1104, 0)","v":1.8037905742181552E-2},null,{"$f":"ROUND(M1104*L1101,0)","v":432523},461048,{"$f":"N1101-O1101","v":-28525},-6.1869913761690754,25.999999998700002,23.99999999984,219,873,1092,23.99999999984,524269.97716813273,1092,219,873,1092,23.99999999984,524269.97716813273]
["02190998","0219","0998",1093,219,"",998,"",0,0,0,{"$f":"IF(K1104>0, K1102/K1104, 0)","v":0},null,{"$f":"ROUND(M1104*L1102,0)","v":0},0,{"$f":"N1102-O1102","v":0},0,0,0,219,998,1093,0,0,1093,219,998,1093,0,0]
["02190998","0219","0998",1094,219,"",998,"",0,0,0,{"$f":"IF(K1104>0, K1103/K1104, 0)","v":0},null,{"$f":"ROUND(M1104*L1103,0)","v":0},0,{"$f":"N1103-O1103","v":0},0,0,0,219,998,1094,0,0,1094,219,998,1094,0,0]
["02190999","0219","0999",1095,219,"Norwell                      ",999,"Total",28280176.067727048,1,{"$f":"SUM(K1100:K1103)","v":29064902.803108126},{"$f":"SUM(L1100:L1103)","v":1},{"$f":"VLOOKUP(E1104,town351,24)","v":23978545},{"$f":"SUM(N1100:N1103)","v":23978545},23331145,{"$f":"SUM(P1100:P1103)","v":647400},{"$f":"IF(O1104>0,P1104*100/O1104,IF(P1104>0,100,0))","v":2.7748316681414478},2140.9999999986999,2106.9999999998399,219,999,1095,2106.9999999998399,29064902.803108126,1095,219,999,1095,2106.9999999998399,29064902.803108126]
["02200220","0220","0220",1096,220,"Norwood                      ",220,"Norwood",59825304.49205,0.96132592159940666,{"$f":"X1105","v":60923118.738080002},{"$f":"IF(K1109>0, K1105/K1109, 0)","v":0.95178833052209311},null,{"$f":"ROUND(M1109*L1105,0)","v":43524945},41305173,{"$f":"N1105-O1105","v":2219772},5.3740774793510733,3637,3540,220,220,1096,3540,60923118.738080002,1096,220,220,1096,3540,60923118.738080002]
["02200806","0220","0806",1097,220,"Norwood                      ",806,"Blue Hills",2133371.3793308558,3.4280898772885739E-2,2692838.6740722563,{"$f":"IF(K1109>0, K1106/K1109, 0)","v":4.2069619531124695E-2},null,{"$f":"ROUND(M1109*L1106,0)","v":1923829},1472943,{"$f":"N1106-O1106","v":450886},30.611232070759019,94.000000002999997,112.12134344796,220,806,1097,112.12134344796,2692838.6740722563,1097,220,806,1097,112.12134344796,2692838.6740722563]
["02200915","0220","0915",1098,220,"Norwood                      ",915,"Norfolk County",273396.67329327454,4.3931796277074499E-3,393147.11706726893,{"$f":"IF(K1109>0, K1107/K1109, 0)","v":6.1420499467821979E-3},null,{"$f":"ROUND(M1109*L1107,0)","v":280874},188761,{"$f":"N1107-O1107","v":92113},48.798745503573301,12.000000001089999,17.000000001009997,220,915,1098,17.000000001009997,393147.11706726893,1098,220,915,1098,17.000000001009997,393147.11706726893]
["02200998","0220","0998",1099,220,"",998,"",0,0,0,{"$f":"IF(K1109>0, K1108/K1109, 0)","v":0},null,{"$f":"ROUND(M1109*L1108,0)","v":0},0,{"$f":"N1108-O1108","v":0},0,0,0,220,998,1099,0,0,1099,220,998,1099,0,0]
["02200999","0220","0999",1100,220,"Norwood                      ",999,"Total",62232072.544674136,0.99999999999999989,{"$f":"SUM(K1105:K1108)","v":64009104.529219531},{"$f":"SUM(L1105:L1108)","v":1},{"$f":"VLOOKUP(E1109,town351,24)","v":45729648},{"$f":"SUM(N1105:N1108)","v":45729648},42966877,{"$f":"SUM(P1105:P1108)","v":2762771},6.4300018826129719,3743.00000000409,3669.12134344897,220,999,1100,3669.12134344897,64009104.529219531,1100,220,999,1100,3669.12134344897,64009104.529219531]
["02210221","0221","0221",1101,221,"Oak Bluffs                   ",221,"Oak Bluffs",6005152.3400000008,0.58776605360423506,{"$f":"X1110","v":6199181.6200000001},{"$f":"IF(K1114>0, K1110/K1114, 0)","v":0.62326936534472877},null,{"$f":"ROUND(M1114*L1110,0)","v":5114325},4954251,{"$f":"N1110-O1110","v":160074},3.2310434009096429,390,383,221,221,1101,383,6199181.6200000001,1101,221,221,1101,383,6199181.6200000001]
["02210700","0221","0700",1102,221,"Oak Bluffs                   ",700,"Marthas Vineyard",4211756.7570393048,0.41223394639576505,3747050.2416786952,{"$f":"IF(K1114>0, K1111/K1114, 0)","v":0.37673063465527129},null,{"$f":"ROUND(M1114*L1111,0)","v":3091316},3474699,{"$f":"N1111-O1111","v":-383383},-11.033560029228431,221.00000000120002,191.99999999844999,221,700,1102,191.99999999844999,3747050.2416786952,1102,221,700,1102,191.99999999844999,3747050.2416786952]
["02210998","0221","0998",1103,221,"",998,"",0,0,0,{"$f":"IF(K1114>0, K1112/K1114, 0)","v":0},null,{"$f":"ROUND(M1114*L1112,0)","v":0},0,{"$f":"N1112-O1112","v":0},0,0,0,221,998,1103,0,0,1103,221,998,1103,0,0]
["02210998","0221","0998",1104,221,"",998,"",0,0,0,{"$f":"IF(K1114>0, K1113/K1114, 0)","v":0},null,{"$f":"ROUND(M1114*L1113,0)","v":0},0,{"$f":"N1113-O1113","v":0},0,0,0,221,998,1104,0,0,1104,221,998,1104,0,0]
["02210999","0221","0999",1105,221,"Oak Bluffs                   ",999,"Total",10216909.097039305,1,{"$f":"SUM(K1110:K1113)","v":9946231.8616786953},{"$f":"SUM(L1110:L1113)","v":1},{"$f":"VLOOKUP(E1114,town351,24)","v":8205641},{"$f":"SUM(N1110:N1113)","v":8205641},8428950,{"$f":"SUM(P1110:P1113)","v":-223309},-2.6493098191352424,611.00000000120008,574.99999999844999,221,999,1105,574.99999999844999,9946231.8616786953,1105,221,999,1105,574.99999999844999,9946231.8616786953]
["02220222","0222","0222",1106,222,"Oakham                       ",222,"Oakham",0,0,{"$f":"X1115","v":0},{"$f":"IF(K1119>0, K1115/K1119, 0)","v":0},null,{"$f":"ROUND(M1119*L1115,0)","v":0},0,{"$f":"N1115-O1115","v":0},0,0,0,222,222,1106,0,0,1106,222,222,1106,0,0]
["02220753","0222","0753",1107,222,"Oakham                       ",753,"Quabbin",3220048.1889578202,0.89491425775887234,3475183.666544653,{"$f":"IF(K1119>0, K1116/K1119, 0)","v":0.89809853948120721},null,{"$f":"ROUND(M1119*L1116,0)","v":1957252},1860453,{"$f":"N1116-O1116","v":96799},5.2029801344081257,217.75206611787999,226.07329575006,222,753,1107,226.07329575006,3475183.666544653,1107,222,753,1107,226.07329575006,3475183.666544653]
["02220860","0222","0860",1108,222,"Oakham                       ",860,"Pathfinder",378115.72567436489,0.10508574224112772,394306.7220624999,{"$f":"IF(K1119>0, K1117/K1119, 0)","v":0.10190146051879279},null,{"$f":"ROUND(M1119*L1117,0)","v":222077},218465,{"$f":"N1117-O1117","v":3612},1.6533540841782437,17.00000000244,17,222,860,1108,17,394306.7220624999,1108,222,860,1108,17,394306.7220624999]
["02220998","0222","0998",1109,222,"",998,"",0,0,0,{"$f":"IF(K1119>0, K1118/K1119, 0)","v":0},null,{"$f":"ROUND(M1119*L1118,0)","v":0},0,{"$f":"N1118-O1118","v":0},0,0,0,222,998,1109,0,0,1109,222,998,1109,0,0]
["02220999","0222","0999",1110,222,"Oakham                       ",999,"Total",3598163.9146321849,1,{"$f":"SUM(K1115:K1118)","v":3869490.3886071527},{"$f":"SUM(L1115:L1118)","v":1},{"$f":"VLOOKUP(E1119,town351,24)","v":2179329},{"$f":"SUM(N1115:N1118)","v":2179329},2078918,{"$f":"SUM(P1115:P1118)","v":100411},4.8299644334216163,234.75206612031999,243.07329575006,222,999,1110,243.07329575006,3869490.3886071527,1110,222,999,1110,243.07329575006,3869490.3886071527]
["02230223","0223","0223",1111,223,"Orange                       ",223,"Orange",9107782.0099999998,0.48748814110551192,{"$f":"X1120","v":9347133.2100000009},{"$f":"IF(K1124>0, K1120/K1124, 0)","v":0.47754789653277019},null,{"$f":"ROUND(M1124*L1120,0)","v":2507516},2457008,{"$f":"N1120-O1120","v":50508},2.055670962406309,511,523,223,223,1111,523,9347133.2100000009,1111,223,223,1111,523,9347133.2100000009]
["02230755","0223","0755",1112,223,"Orange                       ",755,"Ralph C Mahar",7580056.6516465796,0.40571762944353362,8400780.9553623125,{"$f":"IF(K1124>0, K1121/K1124, 0)","v":0.42919847019766905},null,{"$f":"ROUND(M1124*L1121,0)","v":2253642},2044873,{"$f":"N1121-O1121","v":208769},10.209387086630809,432.99999999920004,455.00000000028001,223,755,1112,455.00000000028001,8400780.9553623125,1112,223,755,1112,455.00000000028001,8400780.9553623125]
["02230818","0223","0818",1113,223,"Orange                       ",818,"Franklin County",1995245.5859940446,0.10679422945095439,1825270.5934121034,{"$f":"IF(K1124>0, K1122/K1124, 0)","v":9.325363326956064E-2},null,{"$f":"ROUND(M1124*L1122,0)","v":489658},538258,{"$f":"N1122-O1122","v":-48600},-9.0291272958321098,87.999999997199993,78.000000001890001,223,818,1113,78.000000001890001,1825270.5934121034,1113,223,818,1113,78.000000001890001,1825270.5934121034]
["02230998","0223","0998",1114,223,"",998,"",0,0,0,{"$f":"IF(K1124>0, K1123/K1124, 0)","v":0},null,{"$f":"ROUND(M1124*L1123,0)","v":0},0,{"$f":"N1123-O1123","v":0},0,0,0,223,998,1114,0,0,1114,223,998,1114,0,0]
["02230999","0223","0999",1115,223,"Orange                       ",999,"Total",18683084.247640625,0.99999999999999989,{"$f":"SUM(K1120:K1123)","v":19573184.758774418},{"$f":"SUM(L1120:L1123)","v":0.99999999999999978},{"$f":"VLOOKUP(E1124,town351,24)","v":5250815},{"$f":"SUM(N1120:N1123)","v":5250816},5040139,{"$f":"SUM(P1120:P1123)","v":210677},4.1799839250465114,1031.9999999964,1056.0000000021701,223,999,1115,1056.0000000021701,19573184.758774418,1115,223,999,1115,1056.0000000021701,19573184.758774418]
["02240224","0224","0224",1116,224,"Orleans                      ",224,"Orleans",2277162.9099999997,0.35298062538136366,{"$f":"X1125","v":2343511.5999999996},{"$f":"IF(K1129>0, K1125/K1129, 0)","v":0.35740734773310406},null,{"$f":"ROUND(M1129*L1125,0)","v":1933397},1878659,{"$f":"N1125-O1125","v":54738},2.9136740621901049,150,154,224,224,1116,154,2343511.5999999996,1116,224,224,1116,154,2343511.5999999996]
["02240660","0224","0660",1117,224,"Orleans                      ",660,"Nauset",3889236.6865247865,0.60286648435954981,3853620.7897986285,{"$f":"IF(K1129>0, K1126/K1129, 0)","v":0.58771306515021215},null,{"$f":"ROUND(M1129*L1126,0)","v":3179237},3208620,{"$f":"N1126-O1126","v":-29383},-0.91575194320299691,254.10480349350001,240.43875685783999,224,660,1117,240.43875685783999,3853620.7897986285,1117,224,660,1117,240.43875685783999,3853620.7897986285]
["02240815","0224","0815",1118,224,"Orleans                      ",815,"Cape Cod",284840.91430985596,4.4152890259086634E-2,359844.16612274054,{"$f":"IF(K1129>0, K1127/K1129, 0)","v":5.4879587116683878E-2},null,{"$f":"ROUND(M1129*L1127,0)","v":296871},234994,{"$f":"N1127-O1127","v":61877},26.331310586653277,13.000000000149999,16.000000001700002,224,815,1118,16.000000001700002,359844.16612274054,1118,224,815,1118,16.000000001700002,359844.16612274054]
["02240998","0224","0998",1119,224,"",998,"",0,0,0,{"$f":"IF(K1129>0, K1128/K1129, 0)","v":0},null,{"$f":"ROUND(M1129*L1128,0)","v":0},0,{"$f":"N1128-O1128","v":0},0,0,0,224,998,1119,0,0,1119,224,998,1119,0,0]
["02240999","0224","0999",1120,224,"Orleans                      ",999,"Total",6451240.5108346418,1,{"$f":"SUM(K1125:K1128)","v":6556976.5559213683},{"$f":"SUM(L1125:L1128)","v":1},{"$f":"VLOOKUP(E1129,town351,24)","v":5409506},{"$f":"SUM(N1125:N1128)","v":5409505},5322273,{"$f":"SUM(P1125:P1128)","v":87232},1.6389989765650879,417.10480349365002,410.43875685953998,224,999,1120,410.43875685953998,6556976.5559213683,1120,224,999,1120,410.43875685953998,6556976.5559213683]
["02250225","0225","0225",1121,225,"Otis                         ",225,"Otis",0,0,{"$f":"X1130","v":0},{"$f":"IF(K1134>0, K1130/K1134, 0)","v":0},null,{"$f":"ROUND(M1134*L1130,0)","v":0},0,{"$f":"N1130-O1130","v":0},0,0,0,225,225,1121,0,0,1121,225,225,1121,0,0]
["02250662","0225","0662",1122,225,"Otis                         ",662,"Farmington River",1986766.7141971572,1,1741602.4955459803,{"$f":"IF(K1134>0, K1131/K1134, 0)","v":1},null,{"$f":"ROUND(M1134*L1131,0)","v":1436822},1639083,{"$f":"N1131-O1131","v":-202261},-12.33988760788807,131.99999999927002,113.4213197978,225,662,1122,113.4213197978,1741602.4955459803,1122,225,662,1122,113.4213197978,1741602.4955459803]
["02250998","0225","0998",1123,225,"",998,"",0,0,0,{"$f":"IF(K1134>0, K1132/K1134, 0)","v":0},null,{"$f":"ROUND(M1134*L1132,0)","v":0},0,{"$f":"N1132-O1132","v":0},0,0,0,225,998,1123,0,0,1123,225,998,1123,0,0]
["02250998","0225","0998",1124,225,"",998,"",0,0,0,{"$f":"IF(K1134>0, K1133/K1134, 0)","v":0},null,{"$f":"ROUND(M1134*L1133,0)","v":0},0,{"$f":"N1133-O1133","v":0},0,0,0,225,998,1124,0,0,1124,225,998,1124,0,0]
["02250999","0225","0999",1125,225,"Otis                         ",999,"Total",1986766.7141971572,1,{"$f":"SUM(K1130:K1133)","v":1741602.4955459803},{"$f":"SUM(L1130:L1133)","v":1},{"$f":"VLOOKUP(E1134,town351,24)","v":1436822},{"$f":"SUM(N1130:N1133)","v":1436822},1639083,{"$f":"SUM(P1130:P1133)","v":-202261},-12.33988760788807,131.99999999927002,113.4213197978,225,999,1125,113.4213197978,1741602.4955459803,1125,225,999,1125,113.4213197978,1741602.4955459803]
["02260226","0226","0226",1126,226,"Oxford                       ",226,"Oxford",24166880.359999996,0.88931972606615717,{"$f":"X1135","v":23801612.039999999},{"$f":"IF(K1139>0, K1135/K1139, 0)","v":0.89741986072035029},null,{"$f":"ROUND(M1139*L1135,0)","v":12917509},12243821,{"$f":"N1135-O1135","v":673688},5.502269267085822,1523,1457,226,226,1126,1457,23801612.039999999,1126,226,226,1126,1457,23801612.039999999]
["02260876","0226","0876",1127,226,"Oxford                       ",876,"Southern Worcester",3007688.753518356,0.11068027393384285,2720658.1724005542,{"$f":"IF(K1139>0, K1136/K1139, 0)","v":0.10258013927964975},null,{"$f":"ROUND(M1139*L1136,0)","v":1476544},1523805,{"$f":"N1136-O1136","v":-47261},-3.1015123326147376,141.99999999803998,122.99999999523,226,876,1127,122.99999999523,2720658.1724005542,1127,226,876,1127,122.99999999523,2720658.1724005542]
["02260998","0226","0998",1128,226,"",998,"",0,0,0,{"$f":"IF(K1139>0, K1137/K1139, 0)","v":0},null,{"$f":"ROUND(M1139*L1137,0)","v":0},0,{"$f":"N1137-O1137","v":0},0,0,0,226,998,1128,0,0,1128,226,998,1128,0,0]
["02260998","0226","0998",1129,226,"",998,"",0,0,0,{"$f":"IF(K1139>0, K1138/K1139, 0)","v":0},null,{"$f":"ROUND(M1139*L1138,0)","v":0},0,{"$f":"N1138-O1138","v":0},0,0,0,226,998,1129,0,0,1129,226,998,1129,0,0]
["02260999","0226","0999",1130,226,"Oxford                       ",999,"Total",27174569.11351835,1,{"$f":"SUM(K1135:K1138)","v":26522270.212400552},{"$f":"SUM(L1135:L1138)","v":1},{"$f":"VLOOKUP(E1139,town351,24)","v":14394053},{"$f":"SUM(N1135:N1138)","v":14394053},13767626,{"$f":"SUM(P1135:P1138)","v":626427},4.5500001234780783,1664.99999999804,1579.9999999952299,226,999,1130,1579.9999999952299,26522270.212400552,1130,226,999,1130,1579.9999999952299,26522270.212400552]
["02270227","0227","0227",1131,227,"Palmer                       ",227,"Palmer",20132069.309999999,0.82051128433002618,{"$f":"X1140","v":20520407.920000002},{"$f":"IF(K1144>0, K1140/K1144, 0)","v":0.81863767699693191},null,{"$f":"ROUND(M1144*L1140,0)","v":8448110},7960370,{"$f":"N1140-O1140","v":487740},6.1271021321873231,1219,1177,227,227,1131,1177,20520407.920000002,1131,227,227,1131,1177,20520407.920000002]
["02270860","0227","0860",1132,227,"Palmer                       ",860,"Pathfinder",4403936.0984307732,0.17948871566997393,4546124.5602499992,{"$f":"IF(K1144>0, K1141/K1144, 0)","v":0.18136232300306812},null,{"$f":"ROUND(M1144*L1141,0)","v":1871608},1741349,{"$f":"N1141-O1141","v":130259},7.4803500045079989,198.00000000144001,196,227,860,1132,196,4546124.5602499992,1132,227,860,1132,196,4546124.5602499992]
["02270998","0227","0998",1133,227,"",998,"",0,0,0,{"$f":"IF(K1144>0, K1142/K1144, 0)","v":0},null,{"$f":"ROUND(M1144*L1142,0)","v":0},0,{"$f":"N1142-O1142","v":0},0,0,0,227,998,1133,0,0,1133,227,998,1133,0,0]
["02270998","0227","0998",1134,227,"",998,"",0,0,0,{"$f":"IF(K1144>0, K1143/K1144, 0)","v":0},null,{"$f":"ROUND(M1144*L1143,0)","v":0},0,{"$f":"N1143-O1143","v":0},0,0,0,227,998,1134,0,0,1134,227,998,1134,0,0]
["02270999","0227","0999",1135,227,"Palmer                       ",999,"Total",24536005.40843077,1,{"$f":"SUM(K1140:K1143)","v":25066532.480250001},{"$f":"SUM(L1140:L1143)","v":1},{"$f":"VLOOKUP(E1144,town351,24)","v":10319718},{"$f":"SUM(N1140:N1143)","v":10319718},9701719,{"$f":"SUM(P1140:P1143)","v":617999},6.3699948431819147,1417.00000000144,1373,227,999,1135,1373,25066532.480250001,1135,227,999,1135,1373,25066532.480250001]
["02280228","0228","0228",1136,228,"Paxton                       ",228,"Paxton",0,0,{"$f":"X1145","v":0},{"$f":"IF(K1149>0, K1145/K1149, 0)","v":0},null,{"$f":"ROUND(M1149*L1145,0)","v":0},0,{"$f":"N1145-O1145","v":0},0,0,0,228,228,1136,0,0,1136,228,228,1136,0,0]
["02280775","0228","0775",1137,228,"Paxton                       ",775,"Wachusett",8159528.5664952472,0.90169238242652905,8223810.852695507,{"$f":"IF(K1149>0, K1146/K1149, 0)","v":0.8877734147184505},null,{"$f":"ROUND(M1149*L1146,0)","v":5456275},5269394,{"$f":"N1146-O1146","v":186881},3.5465368503474974,620.03200835694997,597.62376237564001,228,775,1137,597.62376237564001,8223810.852695507,1137,228,775,1137,597.62376237564001,8223810.852695507]
["02280876","0228","0876",1138,228,"Paxton                       ",876,"Southern Worcester",889598.08192699973,9.8307617573471021E-2,1039601.0904337162,{"$f":"IF(K1149>0, K1147/K1149, 0)","v":0.11222658528154954},null,{"$f":"ROUND(M1149*L1147,0)","v":689747},574499,{"$f":"N1147-O1147","v":115248},20.060609330912673,41.999999994719992,47.000000005719997,228,876,1138,47.000000005719997,1039601.0904337162,1138,228,876,1138,47.000000005719997,1039601.0904337162]
["02280998","0228","0998",1139,228,"",998,"",0,0,0,{"$f":"IF(K1149>0, K1148/K1149, 0)","v":0},null,{"$f":"ROUND(M1149*L1148,0)","v":0},0,{"$f":"N1148-O1148","v":0},0,0,0,228,998,1139,0,0,1139,228,998,1139,0,0]
["02280999","0228","0999",1140,228,"Paxton                       ",999,"Total",9049126.6484222468,1,{"$f":"SUM(K1145:K1148)","v":9263411.9431292228},{"$f":"SUM(L1145:L1148)","v":1},{"$f":"VLOOKUP(E1149,town351,24)","v":6146022},{"$f":"SUM(N1145:N1148)","v":6146022},5843893,{"$f":"SUM(P1145:P1148)","v":302129},5.1699954123047771,662.03200835167002,644.62376238136005,228,999,1140,644.62376238136005,9263411.9431292228,1140,228,999,1140,644.62376238136005,9263411.9431292228]
["02290229","0229","0229",1141,229,"Peabody                      ",229,"Peabody",98600551.810000002,0.91195497061468689,{"$f":"X1150","v":101220183.82000001},{"$f":"IF(K1154>0, K1150/K1154, 0)","v":0.90410340801249389},null,{"$f":"ROUND(M1154*L1150,0)","v":62683035},60475751,{"$f":"N1150-O1150","v":2207284},3.6498662083584543,5850,5746,229,229,1141,5746,101220183.82000001,1141,229,229,1141,5746,101220183.82000001]
["02290817","0229","0817",1142,229,"Peabody                      ",817,"Essex North Shore",9519426.6836092547,8.8045029385313167E-2,10736239.441929812,{"$f":"IF(K1154>0, K1151/K1154, 0)","v":9.5896591987506011E-2},null,{"$f":"ROUND(M1154*L1151,0)","v":6648675},5838654,{"$f":"N1151-O1151","v":810021},13.873420141011952,456.00000000409,486.000000005,229,817,1142,486.000000005,10736239.441929812,1142,229,817,1142,486.000000005,10736239.441929812]
["02290998","0229","0998",1143,229,"",998,"",0,0,0,{"$f":"IF(K1154>0, K1152/K1154, 0)","v":0},null,{"$f":"ROUND(M1154*L1152,0)","v":0},0,{"$f":"N1152-O1152","v":0},0,0,0,229,998,1143,0,0,1143,229,998,1143,0,0]
["02290998","0229","0998",1144,229,"",998,"",0,0,0,{"$f":"IF(K1154>0, K1153/K1154, 0)","v":0},null,{"$f":"ROUND(M1154*L1153,0)","v":0},0,{"$f":"N1153-O1153","v":0},0,0,0,229,998,1144,0,0,1144,229,998,1144,0,0]
["02290999","0229","0999",1145,229,"Peabody                      ",999,"Total",108119978.49360925,1,{"$f":"SUM(K1150:K1153)","v":111956423.26192982},{"$f":"SUM(L1150:L1153)","v":0.99999999999999989},{"$f":"VLOOKUP(E1154,town351,24)","v":69331710},{"$f":"SUM(N1150:N1153)","v":69331710},66314405,{"$f":"SUM(P1150:P1153)","v":3017305},4.5499993553436839,6306.00000000409,6232.0000000050004,229,999,1145,6232.0000000050004,111956423.26192982,1145,229,999,1145,6232.0000000050004,111956423.26192982]
["02300230","0230","0230",1146,230,"Pelham                       ",230,"Pelham",994542.49000000011,0.46076750594182686,{"$f":"X1155","v":1100951.8599999999},{"$f":"IF(K1159>0, K1155/K1159, 0)","v":0.46543802802137463},null,{"$f":"ROUND(M1159*L1155,0)","v":742739},701943,{"$f":"N1155-O1155","v":40796},5.8118679152010921,65,66,230,230,1146,66,1100951.8599999999,1146,230,230,1146,66,1100951.8599999999]
["02300605","0230","0605",1147,230,"Pelham                       ",605,"Amherst Pelham",1163905.0506248889,0.53923249405817308,1264458.3422567011,{"$f":"IF(K1159>0, K1156/K1159, 0)","v":0.53456197197862532},null,{"$f":"ROUND(M1159*L1156,0)","v":853045},821479,{"$f":"N1156-O1156","v":31566},3.8425814902146009,77.123496391830002,80.000000001740005,230,605,1147,80.000000001740005,1264458.3422567011,1147,230,605,1147,80.000000001740005,1264458.3422567011]
["02300998","0230","0998",1148,230,"",998,"",0,0,0,{"$f":"IF(K1159>0, K1157/K1159, 0)","v":0},null,{"$f":"ROUND(M1159*L1157,0)","v":0},0,{"$f":"N1157-O1157","v":0},0,0,0,230,998,1148,0,0,1148,230,998,1148,0,0]
["02300998","0230","0998",1149,230,"",998,"",0,0,0,{"$f":"IF(K1159>0, K1158/K1159, 0)","v":0},null,{"$f":"ROUND(M1159*L1158,0)","v":0},0,{"$f":"N1158-O1158","v":0},0,0,0,230,998,1149,0,0,1149,230,998,1149,0,0]
["02300999","0230","0999",1150,230,"Pelham                       ",999,"Total",2158447.5406248891,1,{"$f":"SUM(K1155:K1158)","v":2365410.202256701},{"$f":"SUM(L1155:L1158)","v":1},{"$f":"VLOOKUP(E1159,town351,24)","v":1595784},{"$f":"SUM(N1155:N1158)","v":1595784},1523422,{"$f":"SUM(P1155:P1158)","v":72362},4.7499642252770409,142.12349639183,146.00000000174001,230,999,1150,146.00000000174001,2365410.202256701,1150,230,999,1150,146.00000000174001,2365410.202256701]
["02310231","0231","0231",1151,231,"Pembroke                     ",231,"Pembroke",33498160.487529997,1,{"$f":"X1160","v":34261298.371089995},{"$f":"IF(K1164>0, K1160/K1164, 0)","v":1},null,{"$f":"ROUND(M1164*L1160,0)","v":27714122},26492804,{"$f":"N1160-O1160","v":1221318},4.6099990019931454,2437,2387,231,231,1151,2387,34261298.371089995,1151,231,231,1151,2387,34261298.371089995]
["02310998","0231","0998",1152,231,"",998,"",0,0,0,{"$f":"IF(K1164>0, K1161/K1164, 0)","v":0},null,{"$f":"ROUND(M1164*L1161,0)","v":0},0,{"$f":"N1161-O1161","v":0},0,0,0,231,998,1152,0,0,1152,231,998,1152,0,0]
[{"$f":"B1162&C1162","v":"02310998"},"0231","0998",1153,231,"",998,"",0,0,0,{"$f":"IF(K1164>0, K1162/K1164, 0)","v":0},null,{"$f":"ROUND(M1164*L1162,0)","v":0},0,{"$f":"N1162-O1162","v":0},0,0,0,{"$f":"VLOOKUP($D1162, foundoptions, VLOOKUP($T$6, foundoptcell, 2, FALSE), FALSE)","v":231},{"$f":"VLOOKUP($D1162, foundoptions, VLOOKUP($T$6, foundoptcell, 2, FALSE)+1, FALSE)","v":998},{"$f":"VLOOKUP($D1162, foundoptions, VLOOKUP($T$6, foundoptcell, 2, FALSE)+2, FALSE)","v":1153},{"$f":"VLOOKUP($D1162, foundoptions, VLOOKUP($T$6, foundoptcell, 2, FALSE)+3, FALSE)","v":0},{"$f":"VLOOKUP($D1162, foundoptions, VLOOKUP($T$6, foundoptcell, 2, FALSE)+4, FALSE)","v":0},1153,231,998,1153,0,0]
["02310998","0231","0998",1154,231,"",998,"",0,0,0,{"$f":"IF(K1164>0, K1163/K1164, 0)","v":0},null,{"$f":"ROUND(M1164*L1163,0)","v":0},0,{"$f":"N1163-O1163","v":0},0,0,{"$f":"W1163","v":0},231,998,1154,0,0,{"$f":"D1163","v":1154},231,998,1154,0,0]
["02310999","0231","0999",1155,231,"Pembroke                     ",999,"Total",33498160.487529997,1,{"$f":"SUM(K1160:K1163)","v":34261298.371089995},{"$f":"SUM(L1160:L1163)","v":1},{"$f":"VLOOKUP(E1164,town351,24)","v":27714122},{"$f":"SUM(N1160:N1163)","v":27714122},26492804,{"$f":"SUM(P1160:P1163)","v":1221318},4.6099990019931454,2437,2387,231,999,1155,2387,34261298.371089995,1155,231,999,1155,2387,34261298.371089995]
["02320232","0232","0232",1156,232,"Pepperell                    ",232,"Pepperell",0,0,{"$f":"X1165","v":0},{"$f":"IF(K1169>0, K1165/K1169, 0)","v":0},null,{"$f":"ROUND(M1169*L1165,0)","v":0},0,{"$f":"N1165-O1165","v":0},0,0,0,232,232,1156,0,0,1156,232,232,1156,0,0]
["02320735","0232","0735",1157,232,"Pepperell                    ",735,"North Middlesex",20454571.617635619,0.86561926649566456,20584149.597274259,{"$f":"IF(K1169>0, K1166/K1169, 0)","v":0.86589642123560129},null,{"$f":"ROUND(M1169*L1166,0)","v":12896303},12098513,{"$f":"N1166-O1166","v":797790},6.5941161529520196,1456.7786994109099,1404.6973684335298,232,735,1157,1404.6973684335298,20584149.597274259,1157,232,735,1157,1404.6973684335298,20584149.597274259]
["02320852","0232","0852",1158,232,"Pepperell                    ",852,"Nashoba Valley",3175414.9241878036,0.13438073350433533,3187919.5468636258,{"$f":"IF(K1169>0, K1167/K1169, 0)","v":0.13410357876439866},null,{"$f":"ROUND(M1169*L1167,0)","v":1997283},1878201,{"$f":"N1167-O1167","v":119082},6.3402159832733558,151.00000000183999,144.99999999869999,232,852,1158,144.99999999869999,3187919.5468636258,1158,232,852,1158,144.99999999869999,3187919.5468636258]
["02320998","0232","0998",1159,232,"",998,"",0,0,0,{"$f":"IF(K1169>0, K1168/K1169, 0)","v":0},null,{"$f":"ROUND(M1169*L1168,0)","v":0},0,{"$f":"N1168-O1168","v":0},{"$f":"IF(O1168>0,P1168*100/O1168,IF(P1168>0,100,0))","v":0},0,0,232,998,1159,0,0,1159,232,998,1159,0,0]
["02320999","0232","0999",1160,232,"Pepperell                    ",999,"Total",23629986.541823424,0.99999999999999989,{"$f":"SUM(K1165:K1168)","v":23772069.144137885},{"$f":"SUM(L1165:L1168)","v":1},{"$f":"VLOOKUP(E1169,town351,24)","v":14893586},{"$f":"SUM(N1165:N1168)","v":14893586},13976714,{"$f":"SUM(P1165:P1168)","v":916872},{"$f":"IF(O1169>0,P1169*100/O1169,IF(P1169>0,100,0))","v":6.5599968633542902},1607.7786994127498,1549.6973684322297,232,999,1160,1549.6973684322297,23772069.144137885,1160,232,999,1160,1549.6973684322297,23772069.144137885]
["02330233","0233","0233",1161,233,"Peru                         ",233,"Peru",104125.73999999999,6.6051562875288378E-2,{"$f":"X1170","v":126328.72},{"$f":"IF(K1174>0, K1170/K1174, 0)","v":8.6641889688948981E-2},null,{"$f":"ROUND(M1174*L1170,0)","v":63744},46233,{"$f":"N1170-O1170","v":17511},37.875543442995266,6,7,233,233,1161,7,126328.72,1161,233,233,1161,7,126328.72]
["02330635","0233","0635",1162,233,"Peru                         ",635,"Central Berkshire",1472305.3914873695,0.93394843712471165,1331727.1979114143,{"$f":"IF(K1174>0, K1171/K1174, 0)","v":0.91335811031105107},null,{"$f":"ROUND(M1174*L1171,0)","v":671970},653714,{"$f":"N1171-O1171","v":18256},2.7926585632248964,95.213157889239994,82.735978118399998,233,635,1162,82.735978118399998,1331727.1979114143,1162,233,635,1162,82.735978118399998,1331727.1979114143]
["02330998","0233","0998",1163,233,"",998,"",0,0,0,{"$f":"IF(K1174>0, K1172/K1174, 0)","v":0},null,{"$f":"ROUND(M1174*L1172,0)","v":0},0,{"$f":"N1172-O1172","v":0},0,0,0,233,998,1163,0,0,1163,233,998,1163,0,0]
["02330998","0233","0998",1164,233,"",998,"",0,0,0,{"$f":"IF(K1174>0, K1173/K1174, 0)","v":0},null,{"$f":"ROUND(M1174*L1173,0)","v":0},0,{"$f":"N1173-O1173","v":0},0,0,0,233,998,1164,0,0,1164,233,998,1164,0,0]
["02330999","0233","0999",1165,233,"Peru                         ",999,"Total",1576431.1314873695,1,{"$f":"SUM(K1170:K1173)","v":1458055.9179114143},{"$f":"SUM(L1170:L1173)","v":1},{"$f":"VLOOKUP(E1174,town351,24)","v":735714},{"$f":"SUM(N1170:N1173)","v":735714},699947,{"$f":"SUM(P1170:P1173)","v":35767},5.1099583254160672,101.21315788923999,89.735978118399998,233,999,1165,89.735978118399998,1458055.9179114143,1165,233,999,1165,89.735978118399998,1458055.9179114143]
["02340234","0234","0234",1166,234,"Petersham                    ",234,"Petersham",1523839.1400000001,0.58762469145495722,{"$f":"X1175","v":1303394.22},{"$f":"IF(K1179>0, K1175/K1179, 0)","v":0.493757397666168},null,{"$f":"ROUND(M1179*L1175,0)","v":723389},809811,{"$f":"N1175-O1175","v":-86422},-10.671872819707314,100,83,234,234,1166,83,1303394.22,1166,234,234,1166,83,1303394.22]
["02340755","0234","0755",1167,234,"Petersham                    ",755,"Ralph C Mahar",840283.41638957825,0.32403110691240233,1163185.0553261247,{"$f":"IF(K1179>0, K1176/K1179, 0)","v":0.44064275958044752},null,{"$f":"ROUND(M1179*L1176,0)","v":645572},446551,{"$f":"N1176-O1176","v":199021},44.568481539622574,48.00000000224,62.99999999832,234,755,1167,62.99999999832,1163185.0553261247,1167,234,755,1167,62.99999999832,1163185.0553261247]
["02340832","0234","0832",1168,234,"Petersham                    ",832,"Montachusett",229095.80587320932,8.8344201632640437E-2,173166.93639794129,{"$f":"IF(K1179>0, K1177/K1179, 0)","v":6.5599842753384555E-2},null,{"$f":"ROUND(M1179*L1177,0)","v":96108},121748,{"$f":"N1177-O1177","v":-25640},-21.059894207707725,11.00000000256,7.9999999987199999,234,832,1168,7.9999999987199999,173166.93639794129,1168,234,832,1168,7.9999999987199999,173166.93639794129]
["02340998","0234","0998",1169,234,"",998,"",0,0,0,{"$f":"IF(K1179>0, K1178/K1179, 0)","v":0},null,{"$f":"ROUND(M1179*L1178,0)","v":0},0,{"$f":"N1178-O1178","v":0},0,0,0,234,998,1169,0,0,1169,234,998,1169,0,0]
["02340999","0234","0999",1170,234,"Petersham                    ",999,"Total",2593218.3622627878,1,{"$f":"SUM(K1175:K1178)","v":2639746.2117240657},{"$f":"SUM(L1175:L1178)","v":1},{"$f":"VLOOKUP(E1179,town351,24)","v":1465069},{"$f":"SUM(N1175:N1178)","v":1465069},1378110,{"$f":"SUM(P1175:P1178)","v":86959},6.3100187938553525,159.0000000048,153.99999999703999,234,999,1170,153.99999999703999,2639746.2117240657,1170,234,999,1170,153.99999999703999,2639746.2117240657]
["02350235","0235","0235",1171,235,"Phillipston                  ",235,"Phillipston",0,0,{"$f":"X1180","v":0},{"$f":"IF(K1184>0, K1180/K1184, 0)","v":0},null,{"$f":"ROUND(M1184*L1180,0)","v":0},0,{"$f":"N1180-O1180","v":0},0,0,0,235,235,1171,0,0,1171,235,235,1171,0,0]
["02350720","0235","0720",1172,235,"Phillipston                  ",720,"Narragansett",3016153.2501718225,0.83798184257029318,2959728.7753238771,{"$f":"IF(K1184>0, K1181/K1184, 0)","v":0.86140346658587685},null,{"$f":"ROUND(M1184*L1181,0)","v":1685661},1568763,{"$f":"N1181-O1181","v":116898},7.4516035883049252,197.97119645846999,189.82189668737999,235,720,1172,189.82189668737999,2959728.7753238771,1172,235,720,1172,189.82189668737999,2959728.7753238771]
["02350832","0235","0832",1173,235,"Phillipston                  ",832,"Montachusett",583152.96023549419,0.16201815742970685,476209.07509433862,{"$f":"IF(K1184>0, K1182/K1184, 0)","v":0.13859653341412312},null,{"$f":"ROUND(M1184*L1182,0)","v":271216},303310,{"$f":"N1182-O1182","v":-32094},-10.581253503016715,27.9999999984,21.99999999648,235,832,1173,21.99999999648,476209.07509433862,1173,235,832,1173,21.99999999648,476209.07509433862]
["02350998","0235","0998",1174,235,"",998,"",0,0,0,{"$f":"IF(K1184>0, K1183/K1184, 0)","v":0},null,{"$f":"ROUND(M1184*L1183,0)","v":0},0,{"$f":"N1183-O1183","v":0},0,0,0,235,998,1174,0,0,1174,235,998,1174,0,0]
["02350999","0235","0999",1175,235,"Phillipston                  ",999,"Total",3599306.2104073167,1,{"$f":"SUM(K1180:K1183)","v":3435937.8504182156},{"$f":"SUM(L1180:L1183)","v":1},{"$f":"VLOOKUP(E1184,town351,24)","v":1956877},{"$f":"SUM(N1180:N1183)","v":1956877},1872073,{"$f":"SUM(P1180:P1183)","v":84804},4.5299515563762736,225.97119645686999,211.82189668385999,235,999,1175,211.82189668385999,3435937.8504182156,1175,235,999,1175,211.82189668385999,3435937.8504182156]
["02360236","0236","0236",1176,236,"Pittsfield                   ",236,"Pittsfield",104024895.27,1,{"$f":"X1185","v":102927840.99999999},{"$f":"IF(K1189>0, K1185/K1189, 0)","v":1},null,{"$f":"ROUND(M1189*L1185,0)","v":37502673},35574534,{"$f":"N1185-O1185","v":1928139},5.4199979119895145,5576,5396,236,236,1176,5396,102927840.99999999,1176,236,236,1176,5396,102927840.99999999]
["02360998","0236","0998",1177,236,"",998,"",0,0,0,{"$f":"IF(K1189>0, K1186/K1189, 0)","v":0},null,{"$f":"ROUND(M1189*L1186,0)","v":0},0,{"$f":"N1186-O1186","v":0},0,0,0,236,998,1177,0,0,1177,236,998,1177,0,0]
["02360998","0236","0998",1178,236,"",998,"",0,0,0,{"$f":"IF(K1189>0, K1187/K1189, 0)","v":0},null,{"$f":"ROUND(M1189*L1187,0)","v":0},0,{"$f":"N1187-O1187","v":0},0,0,0,236,998,1178,0,0,1178,236,998,1178,0,0]
["02360998","0236","0998",1179,236,"",998,"",0,0,0,{"$f":"IF(K1189>0, K1188/K1189, 0)","v":0},null,{"$f":"ROUND(M1189*L1188,0)","v":0},0,{"$f":"N1188-O1188","v":0},0,0,0,236,998,1179,0,0,1179,236,998,1179,0,0]
["02360999","0236","0999",1180,236,"Pittsfield                   ",999,"Total",104024895.27,1,{"$f":"SUM(K1185:K1188)","v":102927840.99999999},{"$f":"SUM(L1185:L1188)","v":1},{"$f":"VLOOKUP(E1189,town351,24)","v":37502673},{"$f":"SUM(N1185:N1188)","v":37502673},35574534,{"$f":"SUM(P1185:P1188)","v":1928139},5.4199979119895145,5576,5396,236,999,1180,5396,102927840.99999999,1180,236,999,1180,5396,102927840.99999999]
["02370237","0237","0237",1181,237,"Plainfield                   ",237,"Plainfield",156188.61000000002,0.14624686182618757,{"$f":"X1190","v":213715.20000000001},{"$f":"IF(K1194>0, K1190/K1194, 0)","v":0.17743738986903598},null,{"$f":"ROUND(M1194*L1190,0)","v":129893},103133,{"$f":"N1190-O1190","v":26760},25.947078044854702,9,10,237,237,1181,10,213715.20000000001,1181,237,237,1181,10,213715.20000000001]
["02370717","0237","0717",1182,237,"Plainfield                   ",717,"Mohawk Trail",911790.61396193423,0.85375313817381249,990738.9466583801,{"$f":"IF(K1194>0, K1191/K1194, 0)","v":0.8225626101309641},null,{"$f":"ROUND(M1194*L1191,0)","v":602159},602063,{"$f":"N1191-O1191","v":96},1.5945175172697872E-2,57.312252967500001,60.136363637700001,237,717,1182,60.136363637700001,990738.9466583801,1182,237,717,1182,60.136363637700001,990738.9466583801]
["02370998","0237","0998",1183,237,"",998,"",0,0,0,{"$f":"IF(K1194>0, K1192/K1194, 0)","v":0},null,{"$f":"ROUND(M1194*L1192,0)","v":0},0,{"$f":"N1192-O1192","v":0},0,0,0,237,998,1183,0,0,1183,237,998,1183,0,0]
["02370998","0237","0998",1184,237,"",998,"",0,0,0,{"$f":"IF(K1194>0, K1193/K1194, 0)","v":0},null,{"$f":"ROUND(M1194*L1193,0)","v":0},0,{"$f":"N1193-O1193","v":0},0,0,0,237,998,1184,0,0,1184,237,998,1184,0,0]
["02370999","0237","0999",1185,237,"Plainfield                   ",999,"Total",1067979.2239619342,1,{"$f":"SUM(K1190:K1193)","v":1204454.1466583801},{"$f":"SUM(L1190:L1193)","v":1},{"$f":"VLOOKUP(E1194,town351,24)","v":732052},{"$f":"SUM(N1190:N1193)","v":732052},705196,{"$f":"SUM(P1190:P1193)","v":26856},3.8083029398918882,66.312252967500001,70.136363637700001,237,999,1185,70.136363637700001,1204454.1466583801,1185,237,999,1185,70.136363637700001,1204454.1466583801]
["02380238","0238","0238",1186,238,"Plainville                   ",238,"Plainville",9318021.790000001,0.49298331785064342,{"$f":"X1195","v":9110344.2199999988},{"$f":"IF(K1199>0, K1195/K1199, 0)","v":0.49084271702505516},null,{"$f":"ROUND(M1199*L1195,0)","v":7467644},7105163,{"$f":"N1195-O1195","v":362481},5.1016563589040818,650,634,238,238,1186,634,9110344.2199999988,1186,238,238,1186,634,9110344.2199999988]
["02380690","0238","0690",1187,238,"Plainville                   ",690,"King Philip",7055832.4098791853,0.37329894155788845,7107072.1048386823,{"$f":"IF(K1199>0, K1196/K1199, 0)","v":0.38291139146792819},null,{"$f":"ROUND(M1199*L1196,0)","v":5825585},5380202,{"$f":"N1196-O1196","v":445383},8.2781836072325916,504.78341968321001,488.58031369174995,238,690,1187,488.58031369174995,7107072.1048386823,1187,238,690,1187,488.58031369174995,7107072.1048386823]
["02380878","0238","0878",1188,238,"Plainville                   ",878,"Tri County",2390739.7640745076,0.12648551887652487,2181317.6725021256,{"$f":"IF(K1199>0, K1197/K1199, 0)","v":0.11752397793216565},null,{"$f":"ROUND(M1199*L1197,0)","v":1788001},1822983,{"$f":"N1197-O1197","v":-34982},-1.9189427438434696,110.99999999862001,98.999999997390006,238,878,1188,98.999999997390006,2181317.6725021256,1188,238,878,1188,98.999999997390006,2181317.6725021256]
["02380915","0238","0915",1189,238,"Plainville                   ",915,"Norfolk County",136698.33661667755,7.2322217149434018E-3,161884.10700189276,{"$f":"IF(K1199>0, K1198/K1199, 0)","v":8.72191357485105E-3},null,{"$f":"ROUND(M1199*L1198,0)","v":132695},104235,{"$f":"N1198-O1198","v":28460},27.303688780160215,5.9999999992299999,6.9999999992999999,238,915,1189,6.9999999992999999,161884.10700189276,1189,238,915,1189,6.9999999992999999,161884.10700189276]
["02380999","0238","0999",1190,238,"Plainville                   ",999,"Total",18901292.300570369,1.0000000000000002,{"$f":"SUM(K1195:K1198)","v":18560618.104342699},{"$f":"SUM(L1195:L1198)","v":1},{"$f":"VLOOKUP(E1199,town351,24)","v":15213924},{"$f":"SUM(N1195:N1198)","v":15213925},14412583,{"$f":"SUM(P1195:P1198)","v":801342},5.5600165494276768,1271.7834196810602,1228.5803136884399,238,999,1190,1228.5803136884399,18560618.104342699,1190,238,999,1190,1228.5803136884399,18560618.104342699]
["02390239","0239","0239",1191,239,"Plymouth                     ",239,"Plymouth",115252249.87069999,1,{"$f":"X1200","v":116667017.01678},{"$f":"IF(K1204>0, K1200/K1204, 0)","v":1},null,{"$f":"ROUND(M1204*L1200,0)","v":96250289},92866994,{"$f":"N1200-O1200","v":3383295},3.6431619612884205,7381,7247,239,239,1191,7247,116667017.01678,1191,239,239,1191,7247,116667017.01678]
["02390998","0239","0998",1192,239,"",998,"",0,0,0,{"$f":"IF(K1204>0, K1201/K1204, 0)","v":0},null,{"$f":"ROUND(M1204*L1201,0)","v":0},0,{"$f":"N1201-O1201","v":0},0,0,0,239,998,1192,0,0,1192,239,998,1192,0,0]
["02390998","0239","0998",1193,239,"",998,"",0,0,0,{"$f":"IF(K1204>0, K1202/K1204, 0)","v":0},null,{"$f":"ROUND(M1204*L1202,0)","v":0},0,{"$f":"N1202-O1202","v":0},0,0,0,239,998,1193,0,0,1193,239,998,1193,0,0]
["02390998","0239","0998",1194,239,"",998,"",0,0,0,{"$f":"IF(K1204>0, K1203/K1204, 0)","v":0},null,{"$f":"ROUND(M1204*L1203,0)","v":0},0,{"$f":"N1203-O1203","v":0},0,0,0,239,998,1194,0,0,1194,239,998,1194,0,0]
["02390999","0239","0999",1195,239,"Plymouth                     ",999,"Total",115252249.87069999,1,{"$f":"SUM(K1200:K1203)","v":116667017.01678},{"$f":"SUM(L1200:L1203)","v":1},{"$f":"VLOOKUP(E1204,town351,24)","v":96250289},{"$f":"SUM(N1200:N1203)","v":96250289},92866994,{"$f":"SUM(P1200:P1203)","v":3383295},3.6431619612884205,7381,7247,239,999,1195,7247,116667017.01678,1195,239,999,1195,7247,116667017.01678]
["02400240","0240","0240",1196,240,"Plympton                     ",240,"Plympton",3562008.9879999999,0.55535952561751822,{"$f":"X1205","v":3832357.2770500001},{"$f":"IF(K1209>0, K1205/K1209, 0)","v":0.54694893247684107},null,{"$f":"ROUND(M1209*L1205,0)","v":2617477},2543035,{"$f":"N1205-O1205","v":74442},2.9272896362024117,258,264,240,240,1196,264,3832357.2770500001,1196,240,240,1196,264,3832357.2770500001]
["02400760","0240","0760",1197,240,"Plympton                     ",760,"Silver Lake",2851870.3526655138,0.44464047438248183,3174434.4899533475,{"$f":"IF(K1209>0, K1206/K1209, 0)","v":0.45305106752315888},null,{"$f":"ROUND(M1209*L1206,0)","v":2168119},2036044,{"$f":"N1206-O1206","v":132075},6.4868440957071654,181.48519362388001,192.95335277526999,240,760,1197,192.95335277526999,3174434.4899533475,1197,240,760,1197,192.95335277526999,3174434.4899533475]
["02400998","0240","0998",1198,240,"",998,"",0,0,0,{"$f":"IF(K1209>0, K1207/K1209, 0)","v":0},null,{"$f":"ROUND(M1209*L1207,0)","v":0},0,{"$f":"N1207-O1207","v":0},0,0,0,240,998,1198,0,0,1198,240,998,1198,0,0]
["02400998","0240","0998",1199,240,"",998,"",0,0,0,{"$f":"IF(K1209>0, K1208/K1209, 0)","v":0},null,{"$f":"ROUND(M1209*L1208,0)","v":0},0,{"$f":"N1208-O1208","v":0},0,0,0,240,998,1199,0,0,1199,240,998,1199,0,0]
["02400999","0240","0999",1200,240,"Plympton                     ",999,"Total",6413879.3406655136,1,{"$f":"SUM(K1205:K1208)","v":7006791.7670033481},{"$f":"SUM(L1205:L1208)","v":1},{"$f":"VLOOKUP(E1209,town351,24)","v":4785596},{"$f":"SUM(N1205:N1208)","v":4785596},4579079,{"$f":"SUM(P1205:P1208)","v":206517},4.5100117294329278,439.48519362388004,456.95335277526999,240,999,1200,456.95335277526999,7006791.7670033481,1200,240,999,1200,456.95335277526999,7006791.7670033481]
["02410241","0241","0241",1201,241,"Princeton                    ",241,"Princeton",0,0,{"$f":"X1210","v":0},{"$f":"IF(K1214>0, K1210/K1214, 0)","v":0},null,{"$f":"ROUND(M1214*L1210,0)","v":0},0,{"$f":"N1210-O1210","v":0},0,0,0,241,241,1201,0,0,1201,241,241,1201,0,0]
["02410775","0241","0775",1202,241,"Princeton                    ",775,"Wachusett",5579388.7150491988,0.90844152022534486,6140445.4366073254,{"$f":"IF(K1214>0, K1211/K1214, 0)","v":0.91016355028644236},null,{"$f":"ROUND(M1214*L1211,0)","v":4648322},4377739,{"$f":"N1211-O1211","v":270583},6.1808846986994883,423.97052258644999,446.22574256857996,241,775,1202,446.22574256857996,6140445.4366073254,1202,241,775,1202,446.22574256857996,6140445.4366073254]
["02410832","0241","0832",1203,241,"Princeton                    ",832,"Montachusett",562326.06882064824,9.1558479774655213E-2,606084.27739279461,{"$f":"IF(K1214>0, K1212/K1214, 0)","v":8.9836449713557712E-2},null,{"$f":"ROUND(M1214*L1212,0)","v":458806},441216,{"$f":"N1212-O1212","v":17590},3.9867094574992747,26.99999999952,27.99999999552,241,832,1203,27.99999999552,606084.27739279461,1203,241,832,1203,27.99999999552,606084.27739279461]
["02410998","0241","0998",1204,241,"",998,"",0,0,0,{"$f":"IF(K1214>0, K1213/K1214, 0)","v":0},null,{"$f":"ROUND(M1214*L1213,0)","v":0},0,{"$f":"N1213-O1213","v":0},0,0,0,241,998,1204,0,0,1204,241,998,1204,0,0]
["02410999","0241","0999",1205,241,"Princeton                    ",999,"Total",6141714.7838698467,1,{"$f":"SUM(K1210:K1213)","v":6746529.7140001198},{"$f":"SUM(L1210:L1213)","v":1},{"$f":"VLOOKUP(E1214,town351,24)","v":5107128},{"$f":"SUM(N1210:N1213)","v":5107128},4818955,{"$f":"SUM(P1210:P1213)","v":288173},5.9799894375440319,450.97052258597,474.22574256409996,241,999,1205,474.22574256409996,6746529.7140001198,1205,241,999,1205,474.22574256409996,6746529.7140001198]
["02420242","0242","0242",1206,242,"Provincetown                 ",242,"Provincetown",1658443.61,0.92655209661187898,{"$f":"X1215","v":1493180.93},{"$f":"IF(K1219>0, K1215/K1219, 0)","v":0.9171182985374482},null,{"$f":"ROUND(M1219*L1215,0)","v":1231874},1368216,{"$f":"N1215-O1215","v":-136342},-9.9649470551433392,94,79,242,242,1206,79,1493180.93,1206,242,242,1206,79,1493180.93]
["02420815","0242","0815",1207,242,"Provincetown                 ",815,"Cape Cod",131465.03740841566,7.3447903388121002E-2,134941.56235590801,{"$f":"IF(K1219>0, K1216/K1219, 0)","v":8.2881701462551721E-2},null,{"$f":"ROUND(M1219*L1216,0)","v":111327},108459,{"$f":"N1216-O1216","v":2868},2.6443172074240033,6.0000000016500001,6.0000000033000003,242,815,1207,6.0000000033000003,134941.56235590801,1207,242,815,1207,6.0000000033000003,134941.56235590801]
["02420998","0242","0998",1208,242,"",998,"",0,0,0,{"$f":"IF(K1219>0, K1217/K1219, 0)","v":0},null,{"$f":"ROUND(M1219*L1217,0)","v":0},0,{"$f":"N1217-O1217","v":0},0,0,0,242,998,1208,0,0,1208,242,998,1208,0,0]
["02420998","0242","0998",1209,242,"",998,"",0,0,0,{"$f":"IF(K1219>0, K1218/K1219, 0)","v":0},null,{"$f":"ROUND(M1219*L1218,0)","v":0},0,{"$f":"N1218-O1218","v":0},0,0,0,242,998,1209,0,0,1209,242,998,1209,0,0]
["02420999","0242","0999",1210,242,"Provincetown                 ",999,"Total",1789908.6474084158,1,{"$f":"SUM(K1215:K1218)","v":1628122.492355908},{"$f":"SUM(L1215:L1218)","v":0.99999999999999989},{"$f":"VLOOKUP(E1219,town351,24)","v":1343201},{"$f":"SUM(N1215:N1218)","v":1343201},1476675,{"$f":"SUM(P1215:P1218)","v":-133474},-9.0388203226844084,100.00000000164999,85.000000003300002,242,999,1210,85.000000003300002,1628122.492355908,1210,242,999,1210,85.000000003300002,1628122.492355908]
["02430243","0243","0243",1211,243,"Quincy                       ",243,"Quincy",177359599.78528002,0.99782099193731288,{"$f":"X1220","v":183203446.08495995},{"$f":"IF(K1224>0, K1220/K1224, 0)","v":0.99873926253573431},null,{"$f":"ROUND(M1224*L1220,0)","v":143434414},135165569,{"$f":"N1220-O1220","v":8268845},6.1175675589395109,9851,9674,243,243,1211,9674,183203446.08495995,1211,243,243,1211,9674,183203446.08495995]
["02430915","0243","0915",1212,243,"Quincy                       ",915,"Norfolk County",387311.95379718597,2.1790080626871247E-3,231263.01000270396,{"$f":"IF(K1224>0, K1221/K1224, 0)","v":1.260737464265724E-3},null,{"$f":"ROUND(M1224*L1221,0)","v":181061},295170,{"$f":"N1221-O1221","v":-114109},-38.658739031744418,17.000000000010001,9.9999999989999999,243,915,1212,9.9999999989999999,231263.01000270396,1212,243,915,1212,9.9999999989999999,231263.01000270396]
["02430998","0243","0998",1213,243,"",998,"",0,0,0,{"$f":"IF(K1224>0, K1222/K1224, 0)","v":0},null,{"$f":"ROUND(M1224*L1222,0)","v":0},0,{"$f":"N1222-O1222","v":0},0,0,0,243,998,1213,0,0,1213,243,998,1213,0,0]
["02430998","0243","0998",1214,243,"",998,"",0,0,0,{"$f":"IF(K1224>0, K1223/K1224, 0)","v":0},null,{"$f":"ROUND(M1224*L1223,0)","v":0},0,{"$f":"N1223-O1223","v":0},0,0,0,243,998,1214,0,0,1214,243,998,1214,0,0]
["02430999","0243","0999",1215,243,"Quincy                       ",999,"Total",177746911.73907721,1,{"$f":"SUM(K1220:K1223)","v":183434709.09496266},{"$f":"SUM(L1220:L1223)","v":1},{"$f":"VLOOKUP(E1224,town351,24)","v":143615475},{"$f":"SUM(N1220:N1223)","v":143615475},135460739,{"$f":"SUM(P1220:P1223)","v":8154736},6.0199996398956603,9868.0000000000091,9683.9999999989996,243,999,1215,9683.9999999989996,183434709.09496266,1215,243,999,1215,9683.9999999989996,183434709.09496266]
["02440244","0244","0244",1216,244,"Randolph                     ",244,"Randolph",60202189.727940001,0.90389481254702964,{"$f":"X1225","v":63464836.434990004},{"$f":"IF(K1229>0, K1225/K1229, 0)","v":0.90732318941517887},null,{"$f":"ROUND(M1229*L1225,0)","v":31461041},29584825,{"$f":"N1225-O1225","v":1876216},6.3418188209664921,3265,3218,244,244,1216,3218,63464836.434990004,1216,244,244,1216,3218,63464836.434990004]
[{"$f":"B1226&C1226","v":"02440806"},"0244","0806",1217,244,"Randolph                     ",806,"Blue Hills",6195855.1759440005,9.3026539036823175E-2,6251232.6361995377,{"$f":"IF(K1229>0, K1226/K1229, 0)","v":8.9370565684239983E-2},null,{"$f":"ROUND(M1229*L1226,0)","v":3098886},3044794,{"$f":"N1226-O1226","v":54092},1.7765405475707059,273,260.28169014539998,{"$f":"VLOOKUP($D1226, foundoptions, VLOOKUP($T$6, foundoptcell, 2, FALSE), FALSE)","v":244},{"$f":"VLOOKUP($D1226, foundoptions, VLOOKUP($T$6, foundoptcell, 2, FALSE)+1, FALSE)","v":806},{"$f":"VLOOKUP($D1226, foundoptions, VLOOKUP($T$6, foundoptcell, 2, FALSE)+2, FALSE)","v":1217},{"$f":"VLOOKUP($D1226, foundoptions, VLOOKUP($T$6, foundoptcell, 2, FALSE)+3, FALSE)","v":260.28169014539998},{"$f":"VLOOKUP($D1226, foundoptions, VLOOKUP($T$6, foundoptcell, 2, FALSE)+4, FALSE)","v":6251232.6361995377},1217,244,806,1217,260.28169014539998,6251232.6361995377]
["02440915","0244","0915",1218,244,"Randolph                     ",915,"Norfolk County",205047.50495497606,3.0786484161471751E-3,231263.01000270396,{"$f":"IF(K1229>0, K1227/K1229, 0)","v":3.3062449005812336E-3},null,{"$f":"ROUND(M1229*L1227,0)","v":114643},100765,{"$f":"N1227-O1227","v":13878},13.772639309283978,9.00000000016,{"$f":"W1227","v":9.9999999989999999},244,915,1218,9.9999999989999999,231263.01000270396,{"$f":"D1227","v":1218},244,915,1218,9.9999999989999999,231263.01000270396]
["02440998","0244","0998",1219,244,"",998,"",0,0,0,{"$f":"IF(K1229>0, K1228/K1229, 0)","v":0},null,{"$f":"ROUND(M1229*L1228,0)","v":0},0,{"$f":"N1228-O1228","v":0},0,0,0,244,998,1219,0,0,1219,244,998,1219,0,0]
["02440999","0244","0999",1220,244,"Randolph                     ",999,"Total",66603092.40883898,1,{"$f":"SUM(K1225:K1228)","v":69947332.08119224},{"$f":"SUM(L1225:L1228)","v":1},{"$f":"VLOOKUP(E1229,town351,24)","v":34674570},{"$f":"SUM(N1225:N1228)","v":34674570},32730384,{"$f":"SUM(P1225:P1228)","v":1944186},5.9400036369875773,3547.0000000001601,3488.2816901443998,244,999,1220,3488.2816901443998,69947332.08119224,1220,244,999,1220,3488.2816901443998,69947332.08119224]
["02450245","0245","0245",1221,245,"Raynham                      ",245,"Raynham",0,0,{"$f":"X1230","v":0},{"$f":"IF(K1234>0, K1230/K1234, 0)","v":0},null,{"$f":"ROUND(M1234*L1230,0)","v":0},0,{"$f":"N1230-O1230","v":0},0,0,0,245,245,1221,0,0,1221,245,245,1221,0,0]
["02450625","0245","0625",1222,245,"Raynham                      ",625,"Bridgewater Raynham",31185422.550588537,0.87885518394926176,31200251.393744357,{"$f":"IF(K1234>0, K1231/K1234, 0)","v":0.87273972803953581},null,{"$f":"ROUND(M1234*L1231,0)","v":18851951},18231105,{"$f":"N1231-O1231","v":620846},3.4054216680777167,2204.262465366,2115.9236519128499,245,625,1222,2115.9236519128499,31200251.393744357,1222,245,625,1222,2115.9236519128499,31200251.393744357]
["02450810","0245","0810",1223,245,"Raynham                      ",810,"Bristol Plymouth",3981395.2300717463,0.11220209800342701,4176841.9926965376,{"$f":"IF(K1234>0, K1232/K1234, 0)","v":0.11683546708540209},null,{"$f":"ROUND(M1234*L1232,0)","v":2523749},2327537,{"$f":"N1232-O1232","v":196212},{"$f":"IF(O1232>0,P1232*100/O1232,IF(P1232>0,100,0))","v":8.4300271059063725},191.69758947497999,193.56681351474001,245,810,1223,193.56681351474001,4176841.9926965376,1223,245,810,1223,193.56681351474001,4176841.9926965376]
["02450910","0245","0910",1224,245,"Raynham                      ",910,"Bristol County",317324.68118691974,8.9427180473111156E-3,372684.45835885307,{"$f":"IF(K1234>0, K1233/K1234, 0)","v":1.0424804875062033E-2},null,{"$f":"ROUND(M1234*L1233,0)","v":225185},185509,{"$f":"N1233-O1233","v":39676},{"$f":"IF(O1233>0,P1233*100/O1233,IF(P1233>0,100,0))","v":21.387641569950784},14.9999999987,16.999999997530001,245,910,1224,16.999999997530001,372684.45835885307,1224,245,910,1224,16.999999997530001,372684.45835885307]
["02450999","0245","0999",1225,245,"Raynham                      ",999,"Total",35484142.461847208,1,{"$f":"SUM(K1230:K1233)","v":35749777.84479975},{"$f":"SUM(L1230:L1233)","v":0.99999999999999989},{"$f":"VLOOKUP(E1234,town351,24)","v":21600885},{"$f":"SUM(N1230:N1233)","v":21600885},20744151,{"$f":"SUM(P1230:P1233)","v":856734},{"$f":"IF(O1234>0,P1234*100/O1234,IF(P1234>0,100,0))","v":4.1300027173924834},2410.9600548396797,2326.4904654251195,245,999,1225,2326.4904654251195,35749777.84479975,1225,245,999,1225,2326.4904654251195,35749777.84479975]
["02460246","0246","0246",1226,246,"Reading                      ",246,"Reading",48771409.240159996,0.97479655534268594,{"$f":"X1235","v":52462148.049119994},{"$f":"IF(K1239>0, K1235/K1239, 0)","v":0.97735510384604918},null,{"$f":"ROUND(M1239*L1235,0)","v":42173548},40236412,{"$f":"N1235-O1235","v":1937136},4.8143855371597253,3663,3783,246,246,1226,3783,52462148.049119994,1226,246,246,1226,3783,52462148.049119994]
["02460853","0246","0853",1227,246,"Reading                      ",853,"Northeast Metropolitan",1260988.7744335139,2.520344465731399E-2,1215525.3396749534,{"$f":"IF(K1239>0, K1236/K1239, 0)","v":2.2644896153950867E-2},null,{"$f":"ROUND(M1239*L1236,0)","v":977143},1040316,{"$f":"N1236-O1236","v":-63173},-6.0724818228307553,50.99999999624,47.000000006400001,246,853,1227,47.000000006400001,1215525.3396749534,1227,246,853,1227,47.000000006400001,1215525.3396749534]
["02460998","0246","0998",1228,246,"",998,null,0,0,0,{"$f":"IF(K1239>0, K1237/K1239, 0)","v":0},null,{"$f":"ROUND(M1239*L1237,0)","v":0},0,{"$f":"N1237-O1237","v":0},0,0,0,246,998,1228,0,0,1228,246,998,1228,0,0]
["02460998","0246","0998",1229,246,"",998,"",0,0,0,{"$f":"IF(K1239>0, K1238/K1239, 0)","v":0},null,{"$f":"ROUND(M1239*L1238,0)","v":0},0,{"$f":"N1238-O1238","v":0},0,0,0,246,998,1229,0,0,1229,246,998,1229,0,0]
["02460999","0246","0999",1230,246,"Reading                      ",999,"Total",50032398.014593512,0.99999999999999989,{"$f":"SUM(K1235:K1238)","v":53677673.388794944},{"$f":"SUM(L1235:L1238)","v":1},{"$f":"VLOOKUP(E1239,town351,24)","v":43150691},{"$f":"SUM(N1235:N1238)","v":43150691},41276728,{"$f":"SUM(P1235:P1238)","v":1873963},4.5399989068901005,3713.9999999962401,3830.0000000064001,246,999,1230,3830.0000000064001,53677673.388794944,1230,246,999,1230,3830.0000000064001,53677673.388794944]
["02470247","0247","0247",1231,247,"Rehoboth                     ",247,"Rehoboth",0,0,{"$f":"X1240","v":0},{"$f":"IF(K1244>0, K1240/K1244, 0)","v":0},null,{"$f":"ROUND(M1244*L1240,0)","v":0},0,{"$f":"N1240-O1240","v":0},0,0,0,247,247,1231,0,0,1231,247,247,1231,0,0]
["02470650","0247","0650",1232,247,"Rehoboth                     ",650,"Dighton Rehoboth",20345977.600657396,0.91852373842384272,20967492.39418466,{"$f":"IF(K1244>0, K1241/K1244, 0)","v":0.9059572013485403},null,{"$f":"ROUND(M1244*L1241,0)","v":17298181},16785432,{"$f":"N1241-O1241","v":512749},3.0547262650136142,1479.26419465858,1450.7124362494201,247,650,1232,1450.7124362494201,20967492.39418466,1232,247,650,1232,1450.7124362494201,20967492.39418466]
["02470810","0247","0810",1233,247,"Rehoboth                     ",810,"Bristol Plymouth",979715.05675495637,4.4229456759630636E-2,{"$f":"X1242","v":1211933.4277906397},{"$f":"IF(K1244>0, K1242/K1244, 0)","v":5.236486060519429E-2},null,{"$f":"ROUND(M1244*L1242,0)","v":999845},808265,{"$f":"N1242-O1242","v":191580},23.702622283533248,47.171658149819997,56.164464018419999,247,810,1233,56.164464018419999,1211933.4277906397,1233,247,810,1233,56.164464018419999,1211933.4277906397]
["02470910","0247","0910",1234,247,"Rehoboth                     ",910,"Bristol County",825044.17119747808,3.7246804816526612E-2,964595.06882839056,{"$f":"IF(K1244>0, K1243/K1244, 0)","v":4.1677938046265503E-2},null,{"$f":"ROUND(M1244*L1243,0)","v":795791},680661,{"$f":"N1243-O1243","v":115130},16.914440521786911,39.000000001890001,43.99999999976,247,910,1234,43.99999999976,964595.06882839056,1234,247,910,1234,43.99999999976,964595.06882839056]
["02470999","0247","0999",1235,247,"Rehoboth                     ",999,"Total",22150736.828609832,1,{"$f":"SUM(K1240:K1243)","v":23144020.890803687},{"$f":"SUM(L1240:L1243)","v":1},{"$f":"VLOOKUP(E1244,town351,24)","v":19093817},{"$f":"SUM(N1240:N1243)","v":19093817},18274358,{"$f":"SUM(P1240:P1243)","v":819459},4.4842013054576251,1565.4358528102898,1550.8769002675999,247,999,1235,1550.8769002675999,23144020.890803687,1235,247,999,1235,1550.8769002675999,23144020.890803687]
["02480248","0248","0248",1236,248,"Revere                       ",248,"Revere",159415532.16808999,0.95894979196293473,{"$f":"X1245","v":161211763.5869},{"$f":"IF(K1249>0, K1245/K1249, 0)","v":0.95613147058182868},null,{"$f":"ROUND(M1249*L1245,0)","v":55820962},52200934,{"$f":"N1245-O1245","v":3620028},6.9347954578743742,7962,7639,248,248,1236,7639,161211763.5869,1236,248,248,1236,7639,161211763.5869]
["02480853","0248","0853",1237,248,"Revere                       ",853,"Northeast Metropolitan",6824174.5445756167,4.1050208037065133E-2,7396601.002123313,{"$f":"IF(K1249>0, K1246/K1249, 0)","v":4.3868529418171251E-2},null,{"$f":"ROUND(M1249*L1246,0)","v":2561137},2234590,{"$f":"N1246-O1246","v":326547},14.613284763647918,276.00000000321,286.00000000008004,248,853,1237,286.00000000008004,7396601.002123313,1237,248,853,1237,286.00000000008004,7396601.002123313]
["02480998","0248","0998",1238,248,"",998,null,0,0,0,{"$f":"IF(K1249>0, K1247/K1249, 0)","v":0},null,{"$f":"ROUND(M1249*L1247,0)","v":0},0,{"$f":"N1247-O1247","v":0},0,0,0,248,998,1238,0,0,1238,248,998,1238,0,0]
["02480998","0248","0998",1239,248,"",998,"",0,0,0,{"$f":"IF(K1249>0, K1248/K1249, 0)","v":0},null,{"$f":"ROUND(M1249*L1248,0)","v":0},0,{"$f":"N1248-O1248","v":0},0,0,0,248,998,1239,0,0,1239,248,998,1239,0,0]
["02480999","0248","0999",1240,248,"Revere                       ",999,"Total",166239706.71266562,0.99999999999999989,{"$f":"SUM(K1245:K1248)","v":168608364.58902332},{"$f":"SUM(L1245:L1248)","v":0.99999999999999989},{"$f":"VLOOKUP(E1249,town351,24)","v":58382099},{"$f":"SUM(N1245:N1248)","v":58382099},54435524,{"$f":"SUM(P1245:P1248)","v":3946575},7.2499990998525154,8238.0000000032105,7925.00000000008,248,999,1240,7925.00000000008,168608364.58902332,1240,248,999,1240,7925.00000000008,168608364.58902332]
["02490249","0249","0249",1241,249,"Richmond                     ",249,"Richmond",1789484.8800000001,1,{"$f":"X1250","v":1875388.28},{"$f":"IF(K1254>0, K1250/K1254, 0)","v":1},null,{"$f":"ROUND(M1254*L1250,0)","v":1547195},1476325,{"$f":"N1250-O1250","v":70870},4.8004335088818522,123,123,249,249,1241,123,1875388.28,1241,249,249,1241,123,1875388.28]
["02490998","0249","0998",1242,249,"",998,"",0,0,0,{"$f":"IF(K1254>0, K1251/K1254, 0)","v":0},null,{"$f":"ROUND(M1254*L1251,0)","v":0},0,{"$f":"N1251-O1251","v":0},0,0,0,249,998,1242,0,0,1242,249,998,1242,0,0]
["02490998","0249","0998",1243,249,"",998,"",0,0,0,{"$f":"IF(K1254>0, K1252/K1254, 0)","v":0},null,{"$f":"ROUND(M1254*L1252,0)","v":0},0,{"$f":"N1252-O1252","v":0},0,0,0,249,998,1243,0,0,1243,249,998,1243,0,0]
["02490998","0249","0998",1244,249,"",998,"",0,0,0,{"$f":"IF(K1254>0, K1253/K1254, 0)","v":0},null,{"$f":"ROUND(M1254*L1253,0)","v":0},0,{"$f":"N1253-O1253","v":0},0,0,0,249,998,1244,0,0,1244,249,998,1244,0,0]
["02490999","0249","0999",1245,249,"Richmond                     ",999,"Total",1789484.8800000001,1,{"$f":"SUM(K1250:K1253)","v":1875388.28},{"$f":"SUM(L1250:L1253)","v":1},{"$f":"VLOOKUP(E1254,town351,24)","v":1547195},{"$f":"SUM(N1250:N1253)","v":1547195},1476325,{"$f":"SUM(P1250:P1253)","v":70870},4.8004335088818522,123,123,249,999,1245,123,1875388.28,1245,249,999,1245,123,1875388.28]
["02500250","0250","0250",1246,250,"Rochester                    ",250,"Rochester",6154033.3700000001,0.47702324562140591,{"$f":"X1255","v":6139467.4500000002},{"$f":"IF(K1259>0, K1255/K1259, 0)","v":0.47287037551415018},null,{"$f":"ROUND(M1259*L1255,0)","v":4486494},4242497,{"$f":"N1255-O1255","v":243997},5.7512592230471817,473,452,250,250,1246,452,6139467.4500000002,1246,250,250,1246,452,6139467.4500000002]
["02500740","0250","0740",1247,250,"Rochester                    ",740,"Old Rochester",4701146.6611196008,0.36440430260934831,5182584.9299703268,{"$f":"IF(K1259>0, K1256/K1259, 0)","v":0.39916994461287425},null,{"$f":"ROUND(M1259*L1256,0)","v":3787240},3240899,{"$f":"N1256-O1256","v":546341},16.857699052022294,320.99999999661998,342.00000000434,250,740,1247,342.00000000434,5182584.9299703268,1247,250,740,1247,342.00000000434,5182584.9299703268]
["02500855","0250","0855",1248,250,"Rochester                    ",855,"Old Colony",2045728.7327359207,0.15857245176924586,1661352.3074655903,{"$f":"IF(K1259>0, K1257/K1259, 0)","v":0.12795967987297555},null,{"$f":"ROUND(M1259*L1257,0)","v":1214054},1410294,{"$f":"N1257-O1257","v":-196240},-13.914829106555088,100.99999999945999,79.000000002640007,250,855,1248,79.000000002640007,1661352.3074655903,1248,250,855,1248,79.000000002640007,1661352.3074655903]
["02500998","0250","0998",1249,250,"",998,"",0,0,0,{"$f":"IF(K1259>0, K1258/K1259, 0)","v":0},null,{"$f":"ROUND(M1259*L1258,0)","v":0},0,{"$f":"N1258-O1258","v":0},0,0,0,250,998,1249,0,0,1249,250,998,1249,0,0]
["02500999","0250","0999",1250,250,"Rochester                    ",999,"Total",12900908.763855521,1.0000000000000002,{"$f":"SUM(K1255:K1258)","v":12983404.687435918},{"$f":"SUM(L1255:L1258)","v":0.99999999999999989},{"$f":"VLOOKUP(E1259,town351,24)","v":9487789},{"$f":"SUM(N1255:N1258)","v":9487788},8893690,{"$f":"SUM(P1255:P1258)","v":594098},6.6799944679879779,894.99999999607996,873.00000000698003,250,999,1250,873.00000000698003,12983404.687435918,1250,250,999,1250,873.00000000698003,12983404.687435918]
["02510251","0251","0251",1251,251,"Rockland                     ",251,"Rockland",37854417.122810006,0.92636053138869823,{"$f":"X1260","v":39192538.375899993},{"$f":"IF(K1264>0, K1260/K1264, 0)","v":0.9329226781067852},null,{"$f":"ROUND(M1264*L1260,0)","v":18983640},17961039,{"$f":"N1260-O1260","v":1022601},5.6934401178016483,2203,2178,251,251,1251,2178,39192538.375899993,1251,251,251,1251,2178,39192538.375899993]
["02510873","0251","0873",1252,251,"Rockland                     ",873,"South Shore",3009173.0671377545,7.3639468611301703E-2,2817951.1272974997,{"$f":"IF(K1264>0, K1261/K1264, 0)","v":6.7077321893214803E-2},null,{"$f":"ROUND(M1264*L1261,0)","v":1364927},1427782,{"$f":"N1261-O1261","v":-62855},-4.4022827014208055,139.99999999978999,129,251,873,1252,129,2817951.1272974997,1252,251,873,1252,129,2817951.1272974997]
["02510998","0251","0998",1253,251,"",998,"",0,0,0,{"$f":"IF(K1264>0, K1262/K1264, 0)","v":0},null,{"$f":"ROUND(M1264*L1262,0)","v":0},0,{"$f":"N1262-O1262","v":0},0,0,0,251,998,1253,0,0,1253,251,998,1253,0,0]
["02510998","0251","0998",1254,251,"",998,"",0,0,0,{"$f":"IF(K1264>0, K1263/K1264, 0)","v":0},null,{"$f":"ROUND(M1264*L1263,0)","v":0},0,{"$f":"N1263-O1263","v":0},0,0,0,251,998,1254,0,0,1254,251,998,1254,0,0]
["02510999","0251","0999",1255,251,"Rockland                     ",999,"Total",40863590.189947762,0.99999999999999989,{"$f":"SUM(K1260:K1263)","v":42010489.503197491},{"$f":"SUM(L1260:L1263)","v":1},{"$f":"VLOOKUP(E1264,town351,24)","v":20348567},{"$f":"SUM(N1260:N1263)","v":20348567},19388821,{"$f":"SUM(P1260:P1263)","v":959746},4.9499967017076489,2342.9999999997899,2307,251,999,1255,2307,42010489.503197491,1255,251,999,1255,2307,42010489.503197491]
["02520252","0252","0252",1256,252,"Rockport                     ",252,"Rockport",7625722.318,0.96308870444119055,{"$f":"X1265","v":7744376.1380000003},{"$f":"IF(K1269>0, K1265/K1269, 0)","v":0.94858842561221191},null,{"$f":"ROUND(M1269*L1265,0)","v":6389110},6291221,{"$f":"N1265-O1265","v":97889},1.5559618713124208,520,516,252,252,1256,516,7744376.1380000003,1256,252,252,1256,516,7744376.1380000003]
["02520817","0252","0817",1257,252,"Rockport                     ",817,"Essex North Shore",292263.09999391699,3.6911295558809468E-2,419729.52563577204,{"$f":"IF(K1269>0, K1266/K1269, 0)","v":5.1411574387788025E-2},null,{"$f":"ROUND(M1269*L1266,0)","v":346277},241117,{"$f":"N1266-O1266","v":105160},43.613681324834005,14.000000002929999,19.000000006,252,817,1257,19.000000006,419729.52563577204,1257,252,817,1257,19.000000006,419729.52563577204]
["02520998","0252","0998",1258,252,"",998,null,0,0,0,{"$f":"IF(K1269>0, K1267/K1269, 0)","v":0},null,{"$f":"ROUND(M1269*L1267,0)","v":0},0,{"$f":"N1267-O1267","v":0},0,0,0,252,998,1258,0,0,1258,252,998,1258,0,0]
["02520998","0252","0998",1259,252,"",998,"",0,0,0,{"$f":"IF(K1269>0, K1268/K1269, 0)","v":0},null,{"$f":"ROUND(M1269*L1268,0)","v":0},0,{"$f":"N1268-O1268","v":0},0,0,0,252,998,1259,0,0,1259,252,998,1259,0,0]
["02520999","0252","0999",1260,252,"Rockport                     ",999,"Total",7917985.4179939171,1,{"$f":"SUM(K1265:K1268)","v":8164105.6636357727},{"$f":"SUM(L1265:L1268)","v":0.99999999999999989},{"$f":"VLOOKUP(E1269,town351,24)","v":6735387},{"$f":"SUM(N1265:N1268)","v":6735387},6532338,{"$f":"SUM(P1265:P1268)","v":203049},3.1083664072495942,534.00000000293005,535.00000000600005,252,999,1260,535.00000000600005,8164105.6636357727,1260,252,999,1260,535.00000000600005,8164105.6636357727]
["02530253","0253","0253",1261,253,"Rowe                         ",253,"Rowe",704404.78000000014,1,{"$f":"X1270","v":750141.88},{"$f":"IF(K1274>0, K1270/K1274, 0)","v":1},null,{"$f":"ROUND(M1274*L1270,0)","v":618867},581134,{"$f":"N1270-O1270","v":37733},6.4929947309914757,41,38,253,253,1261,38,750141.88,1261,253,253,1261,38,750141.88]
["02530998","0253","0998",1262,253,"",998,"",0,0,0,{"$f":"IF(K1274>0, K1271/K1274, 0)","v":0},null,{"$f":"ROUND(M1274*L1271,0)","v":0},0,{"$f":"N1271-O1271","v":0},0,0,0,253,998,1262,0,0,1262,253,998,1262,0,0]
["02530998","0253","0998",1263,253,"",998,"",0,0,0,{"$f":"IF(K1274>0, K1272/K1274, 0)","v":0},null,{"$f":"ROUND(M1274*L1272,0)","v":0},0,{"$f":"N1272-O1272","v":0},0,0,0,253,998,1263,0,0,1263,253,998,1263,0,0]
["02530998","0253","0998",1264,253,"",998,"",0,0,0,{"$f":"IF(K1274>0, K1273/K1274, 0)","v":0},null,{"$f":"ROUND(M1274*L1273,0)","v":0},0,{"$f":"N1273-O1273","v":0},0,0,0,253,998,1264,0,0,1264,253,998,1264,0,0]
["02530999","0253","0999",1265,253,"Rowe                         ",999,"Total",704404.78000000014,1,{"$f":"SUM(K1270:K1273)","v":750141.88},{"$f":"SUM(L1270:L1273)","v":1},{"$f":"VLOOKUP(E1274,town351,24)","v":618867},{"$f":"SUM(N1270:N1273)","v":618867},581134,{"$f":"SUM(P1270:P1273)","v":37733},6.4929947309914757,41,38,253,999,1265,38,750141.88,1265,253,999,1265,38,750141.88]
["02540254","0254","0254",1266,254,"Rowley                       ",254,"Rowley",89152.431750000003,8.4974669680870692E-3,{"$f":"X1275","v":18508.337289999996},{"$f":"IF(K1279>0, K1275/K1279, 0)","v":1.6946061439517895E-3},null,{"$f":"ROUND(M1279*L1275,0)","v":15180},73551,{"$f":"N1275-O1275","v":-58371},-79.361259534200755,5,1,254,254,1266,1,18508.337289999996,1266,254,254,1266,1,18508.337289999996]
["02540773","0254","0773",1267,254,"Rowley                       ",773,"Triton",9940286.9009454641,0.94744762353711864,10475750.225442259,{"$f":"IF(K1279>0, K1276/K1279, 0)","v":0.95914994504289153},null,{"$f":"ROUND(M1279*L1276,0)","v":8591769},8200737,{"$f":"N1276-O1276","v":391032},4.7682543654308143,689.36380951583999,706.23959826880002,254,773,1267,706.23959826880002,10475750.225442259,1267,254,773,1267,706.23959826880002,10475750.225442259]
["02540885","0254","0885",1268,254,"Rowley                       ",885,"Whittier",462208.6001319596,4.4054909494794472E-2,427652.3226129954,{"$f":"IF(K1279>0, K1277/K1279, 0)","v":3.9155448813156732E-2},null,{"$f":"ROUND(M1279*L1277,0)","v":350742},381322,{"$f":"N1277-O1277","v":-30580},-8.0194691100959297,20.999999996080003,19.000000006400001,254,885,1268,19.000000006400001,427652.3226129954,1268,254,885,1268,19.000000006400001,427652.3226129954]
["02540998","0254","0998",1269,254,"",998,null,0,0,0,{"$f":"IF(K1279>0, K1278/K1279, 0)","v":0},null,{"$f":"ROUND(M1279*L1278,0)","v":0},0,{"$f":"N1278-O1278","v":0},0,0,0,254,998,1269,0,0,1269,254,998,1269,0,0]
["02540999","0254","0999",1270,254,"Rowley                       ",999,"Total",10491647.932827422,1.0000000000000002,{"$f":"SUM(K1275:K1278)","v":10921910.885345254},{"$f":"SUM(L1275:L1278)","v":1},{"$f":"VLOOKUP(E1279,town351,24)","v":8957691},{"$f":"SUM(N1275:N1278)","v":8957691},8655610,{"$f":"SUM(P1275:P1278)","v":302081},3.4900024377253596,715.36380951191995,726.23959827520002,254,999,1270,726.23959827520002,10921910.885345254,1270,254,999,1270,726.23959827520002,10921910.885345254]
["02550255","0255","0255",1271,255,"Royalston                    ",255,"Royalston",0,0,{"$f":"X1280","v":0},{"$f":"IF(K1284>0, K1280/K1284, 0)","v":0},null,{"$f":"ROUND(M1284*L1280,0)","v":0},0,{"$f":"N1280-O1280","v":0},0,0,0,255,255,1271,0,0,1271,255,255,1271,0,0]
["02550615","0255","0615",1272,255,"Royalston                    ",615,"Athol Royalston",1954215.3138060323,0.90368997297819864,1874215.5132847617,{"$f":"IF(K1284>0, K1281/K1284, 0)","v":0.89646465614941662},null,{"$f":"ROUND(M1284*L1281,0)","v":768477},728279,{"$f":"N1281-O1281","v":40198},5.5195879601086943,114.62924425486,105.0415973394,255,615,1272,105.0415973394,1874215.5132847617,1272,255,615,1272,105.0415973394,1874215.5132847617]
["02550832","0255","0832",1273,255,"Royalston                    ",832,"Montachusett",208268.9144583634,9.6310027021801456E-2,216458.67049742662,{"$f":"IF(K1284>0, K1282/K1284, 0)","v":0.10353534385058338},null,{"$f":"ROUND(M1284*L1282,0)","v":88754},77616,{"$f":"N1282-O1282","v":11138},14.350133992991136,10.00000000368,9.9999999983999999,255,832,1273,9.9999999983999999,216458.67049742662,1273,255,832,1273,9.9999999983999999,216458.67049742662]
["02550998","0255","0998",1274,255,"",998,"",0,0,0,{"$f":"IF(K1284>0, K1283/K1284, 0)","v":0},null,{"$f":"ROUND(M1284*L1283,0)","v":0},0,{"$f":"N1283-O1283","v":0},0,0,0,255,998,1274,0,0,1274,255,998,1274,0,0]
["02550999","0255","0999",1275,255,"Royalston                    ",999,"Total",2162484.2282643956,1,{"$f":"SUM(K1280:K1283)","v":2090674.1837821882},{"$f":"SUM(L1280:L1283)","v":1},{"$f":"VLOOKUP(E1284,town351,24)","v":857231},{"$f":"SUM(N1280:N1283)","v":857231},805895,{"$f":"SUM(P1280:P1283)","v":51336},6.3700606158370503,124.62924425854,115.0415973378,255,999,1275,115.0415973378,2090674.1837821882,1275,255,999,1275,115.0415973378,2090674.1837821882]
["02560256","0256","0256",1276,256,"Russell                      ",256,"Russell",448617.29999999993,0.13161528246364249,{"$f":"X1285","v":412231.75999999995},{"$f":"IF(K1289>0, K1285/K1289, 0)","v":0.11239513084938747},null,{"$f":"ROUND(M1289*L1285,0)","v":173223},193038,{"$f":"N1285-O1285","v":-19815},-10.264818325925466,24,21,256,256,1276,21,412231.75999999995,1276,256,256,1276,21,412231.75999999995]
["02560672","0256","0672",1277,256,"Russell                      ",672,"Gateway",2959932.9200242311,0.86838471753635749,3255469.4730044948,{"$f":"IF(K1289>0, K1286/K1289, 0)","v":0.88760486915061254},null,{"$f":"ROUND(M1289*L1286,0)","v":1367972},1273649,{"$f":"N1286-O1286","v":94323},7.4057295220268688,186.01808785681999,194.78571428231999,256,672,1277,194.78571428231999,3255469.4730044948,1277,256,672,1277,194.78571428231999,3255469.4730044948]
["02560998","0256","0998",1278,256,"",998,"",0,0,0,{"$f":"IF(K1289>0, K1287/K1289, 0)","v":0},null,{"$f":"ROUND(M1289*L1287,0)","v":0},0,{"$f":"N1287-O1287","v":0},0,0,0,256,998,1278,0,0,1278,256,998,1278,0,0]
["02560998","0256","0998",1279,256,"",998,"",0,0,0,{"$f":"IF(K1289>0, K1288/K1289, 0)","v":0},null,{"$f":"ROUND(M1289*L1288,0)","v":0},0,{"$f":"N1288-O1288","v":0},0,0,0,256,998,1279,0,0,1279,256,998,1279,0,0]
["02560999","0256","0999",1280,256,"Russell                      ",999,"Total",3408550.2200242309,1,{"$f":"SUM(K1285:K1288)","v":3667701.2330044946},{"$f":"SUM(L1285:L1288)","v":1},{"$f":"VLOOKUP(E1289,town351,24)","v":1541195},{"$f":"SUM(N1285:N1288)","v":1541195},1466687,{"$f":"SUM(P1285:P1288)","v":74508},5.0800204815342331,210.01808785681999,215.78571428231999,256,999,1280,215.78571428231999,3667701.2330044946,1280,256,999,1280,215.78571428231999,3667701.2330044946]
[{"$f":"B1290&C1290","v":"02570257"},"0257","0257",1281,257,"Rutland                      ",257,"Rutland",0,0,{"$f":"X1290","v":0},{"$f":"IF(K1294>0, K1290/K1294, 0)","v":0},null,{"$f":"ROUND(M1294*L1290,0)","v":0},0,{"$f":"N1290-O1290","v":0},0,0,0,{"$f":"VLOOKUP($D1290, foundoptions, VLOOKUP($T$6, foundoptcell, 2, FALSE), FALSE)","v":257},{"$f":"VLOOKUP($D1290, foundoptions, VLOOKUP($T$6, foundoptcell, 2, FALSE)+1, FALSE)","v":257},{"$f":"VLOOKUP($D1290, foundoptions, VLOOKUP($T$6, foundoptcell, 2, FALSE)+2, FALSE)","v":1281},{"$f":"VLOOKUP($D1290, foundoptions, VLOOKUP($T$6, foundoptcell, 2, FALSE)+3, FALSE)","v":0},{"$f":"VLOOKUP($D1290, foundoptions, VLOOKUP($T$6, foundoptcell, 2, FALSE)+4, FALSE)","v":0},1281,257,257,1281,0,0]
["02570775","0257","0775",1282,257,"Rutland                      ",775,"Wachusett",21269782.330243912,0.92535910736143545,21916455.922847442,{"$f":"IF(K1294>0, K1291/K1294, 0)","v":0.92184848948960163},null,{"$f":"ROUND(M1294*L1291,0)","v":10102963},9599089,{"$f":"N1291-O1291","v":503874},5.2491856258442855,1616.2632127656,{"$f":"W1291","v":1592.66732676116},257,775,1282,1592.66732676116,21916455.922847442,{"$f":"D1291","v":1282},257,775,1282,1592.66732676116,21916455.922847442]
["02570876","0257","0876",1283,257,"Rutland                      ",876,"Southern Worcester",1715653.4438659546,7.4640892638564521E-2,1858010.4593471959,{"$f":"IF(K1294>0, K1292/K1294, 0)","v":7.8151510510398328E-2},null,{"$f":"ROUND(M1294*L1292,0)","v":856499},774277,{"$f":"N1292-O1292","v":82222},10.619197005722759,80.999999996879993,84.000000003380009,257,876,1283,84.000000003380009,1858010.4593471959,1283,257,876,1283,84.000000003380009,1858010.4593471959]
["02570998","0257","0998",1284,257,"",998,"",0,0,0,{"$f":"IF(K1294>0, K1293/K1294, 0)","v":0},null,{"$f":"ROUND(M1294*L1293,0)","v":0},0,{"$f":"N1293-O1293","v":0},0,0,0,257,998,1284,0,0,1284,257,998,1284,0,0]
["02570999","0257","0999",1285,257,"Rutland                      ",999,"Total",22985435.774109866,1,{"$f":"SUM(K1290:K1293)","v":23774466.382194638},{"$f":"SUM(L1290:L1293)","v":1},{"$f":"VLOOKUP(E1294,town351,24)","v":10959462},{"$f":"SUM(N1290:N1293)","v":10959462},10373366,{"$f":"SUM(P1290:P1293)","v":586096},5.6500079144994979,1697.26321276248,1676.6673267645399,257,999,1285,1676.6673267645399,23774466.382194638,1285,257,999,1285,1676.6673267645399,23774466.382194638]
["02580258","0258","0258",1286,258,"Salem                        ",258,"Salem",79288061.75999999,0.95691675386483177,{"$f":"X1295","v":84299912.020000011},{"$f":"IF(K1299>0, K1295/K1299, 0)","v":0.95639124978996726},null,{"$f":"ROUND(M1299*L1295,0)","v":51401175},48249759,{"$f":"N1295-O1295","v":3151416},6.5314647478342849,4278,4335,258,258,1286,4335,84299912.020000011,1286,258,258,1286,4335,84299912.020000011]
["02580817","0258","0817",1287,258,"Salem                        ",817,"Essex North Shore",3569785.0064698802,4.3083246135168299E-2,3843838.8126357729,{"$f":"IF(K1299>0, K1296/K1299, 0)","v":4.3608750210032667E-2},null,{"$f":"ROUND(M1299*L1296,0)","v":2343749},2172348,{"$f":"N1296-O1296","v":171401},{"$f":"IF(O1296>0,P1296*100/O1296,IF(P1296>0,100,0))","v":7.8901262596968813},171.00000000711,174.00000000600002,258,817,1287,174.00000000600002,3843838.8126357729,1287,258,817,1287,174.00000000600002,3843838.8126357729]
["02580998","0258","0998",1288,258,"",998,null,0,0,0,{"$f":"IF(K1299>0, K1297/K1299, 0)","v":0},null,{"$f":"ROUND(M1299*L1297,0)","v":0},0,{"$f":"N1297-O1297","v":0},{"$f":"IF(O1297>0,P1297*100/O1297,IF(P1297>0,100,0))","v":0},0,0,258,998,1288,0,0,1288,258,998,1288,0,0]
["02580998","0258","0998",1289,258,"",998,"",0,0,0,{"$f":"IF(K1299>0, K1298/K1299, 0)","v":0},null,{"$f":"ROUND(M1299*L1298,0)","v":0},0,{"$f":"N1298-O1298","v":0},{"$f":"IF(O1298>0,P1298*100/O1298,IF(P1298>0,100,0))","v":0},0,0,258,998,1289,0,0,1289,258,998,1289,0,0]
["02580999","0258","0999",1290,258,"Salem                        ",999,"Total",82857846.766469866,1,{"$f":"SUM(K1295:K1298)","v":88143750.83263579},{"$f":"SUM(L1295:L1298)","v":0.99999999999999989},{"$f":"VLOOKUP(E1299,town351,24)","v":53744924},{"$f":"SUM(N1295:N1298)","v":53744924},50422107,{"$f":"SUM(P1295:P1298)","v":3322817},{"$f":"IF(O1299>0,P1299*100/O1299,IF(P1299>0,100,0))","v":6.5900002949103254},4449.0000000071104,4509.0000000059999,258,999,1290,4509.0000000059999,88143750.83263579,1290,258,999,1290,4509.0000000059999,88143750.83263579]
["02590259","0259","0259",1291,259,"Salisbury                    ",259,"Salisbury",52062.869999999995,4.1128505978832866E-3,{"$f":"X1300","v":90234.8},{"$f":"IF(K1304>0, K1300/K1304, 0)","v":7.0630887118669165E-3},null,{"$f":"ROUND(M1304*L1300,0)","v":74444},42952,{"$f":"N1300-O1300","v":31492},73.319053827528407,3,5,259,259,1291,5,90234.8,1291,259,259,1291,5,90234.8]
["02590773","0259","0773",1292,259,"Salisbury                    ",773,"Triton",11506025.733784951,0.90895036747797275,11492384.213586146,{"$f":"IF(K1304>0, K1301/K1304, 0)","v":0.89956124700689599},null,{"$f":"ROUND(M1304*L1301,0)","v":9481217},9492471,{"$f":"N1301-O1301","v":-11254},-0.11855711753030375,797.94857143155991,774.77761835536,259,773,1292,774.77761835536,11492384.213586146,1292,259,773,1292,774.77761835536,11492384.213586146]
["02590885","0259","0885",1293,259,"Salisbury                    ",885,"Whittier",1100496.6671691143,8.693678192414396E-2,1192924.8994322028,{"$f":"IF(K1304>0, K1302/K1304, 0)","v":9.3375664281237045E-2},null,{"$f":"ROUND(M1304*L1302,0)","v":984163},907910,{"$f":"N1302-O1302","v":76253},8.3987399632122131,49.999999999219995,52.999999996160007,259,885,1293,52.999999996160007,1192924.8994322028,1293,259,885,1293,52.999999996160007,1192924.8994322028]
["02590998","0259","0998",1294,259,"",998,null,0,0,0,{"$f":"IF(K1304>0, K1303/K1304, 0)","v":0},null,{"$f":"ROUND(M1304*L1303,0)","v":0},0,{"$f":"N1303-O1303","v":0},0,0,0,259,998,1294,0,0,1294,259,998,1294,0,0]
["02590999","0259","0999",1295,259,"Salisbury                    ",999,"Total",12658585.270954065,1,{"$f":"SUM(K1300:K1303)","v":12775543.91301835},{"$f":"SUM(L1300:L1303)","v":0.99999999999999989},{"$f":"VLOOKUP(E1304,town351,24)","v":10539824},{"$f":"SUM(N1300:N1303)","v":10539824},10443333,{"$f":"SUM(P1300:P1303)","v":96491},0.92394832186237863,850.94857143077991,832.77761835152,259,999,1295,832.77761835152,12775543.91301835,1295,259,999,1295,832.77761835152,12775543.91301835]
["02600260","0260","0260",1296,260,"Sandisfield                  ",260,"Sandisfield",0,0,{"$f":"X1305","v":0},{"$f":"IF(K1309>0, K1305/K1309, 0)","v":0},null,{"$f":"ROUND(M1309*L1305,0)","v":0},0,{"$f":"N1305-O1305","v":0},0,0,0,260,260,1296,0,0,1296,260,260,1296,0,0]
["02600662","0260","0662",1297,260,"Sandisfield                  ",662,"Farmington River",1339562.4058028425,1,1268008.8344540193,{"$f":"IF(K1309>0, K1306/K1309, 0)","v":1},null,{"$f":"ROUND(M1309*L1306,0)","v":1046107},1017541,{"$f":"N1306-O1306","v":28566},2.807356165500948,89.000000000729997,82.578680202200005,260,662,1297,82.578680202200005,1268008.8344540193,1297,260,662,1297,82.578680202200005,1268008.8344540193]
["02600998","0260","0998",1298,260,"",998,"",0,0,0,{"$f":"IF(K1309>0, K1307/K1309, 0)","v":0},null,{"$f":"ROUND(M1309*L1307,0)","v":0},0,{"$f":"N1307-O1307","v":0},0,0,0,260,998,1298,0,0,1298,260,998,1298,0,0]
["02600998","0260","0998",1299,260,"",998,"",0,0,0,{"$f":"IF(K1309>0, K1308/K1309, 0)","v":0},null,{"$f":"ROUND(M1309*L1308,0)","v":0},0,{"$f":"N1308-O1308","v":0},0,0,0,260,998,1299,0,0,1299,260,998,1299,0,0]
["02600999","0260","0999",1300,260,"Sandisfield                  ",999,"Total",1339562.4058028425,1,{"$f":"SUM(K1305:K1308)","v":1268008.8344540193},{"$f":"SUM(L1305:L1308)","v":1},{"$f":"VLOOKUP(E1309,town351,24)","v":1046107},{"$f":"SUM(N1305:N1308)","v":1046107},1017541,{"$f":"SUM(P1305:P1308)","v":28566},2.807356165500948,89.000000000729997,82.578680202200005,260,999,1300,82.578680202200005,1268008.8344540193,1300,260,999,1300,82.578680202200005,1268008.8344540193]
["02610261","0261","0261",1301,261,"Sandwich                     ",261,"Sandwich",29672861.210000001,0.89263431741104082,{"$f":"X1310","v":30358178.609999996},{"$f":"IF(K1314>0, K1310/K1314, 0)","v":0.88778321263491367},null,{"$f":"ROUND(M1314*L1310,0)","v":25045497},24480111,{"$f":"N1310-O1310","v":565386},2.3095728610054098,2162,2124,261,261,1301,2124,30358178.609999996,1301,261,261,1301,2124,30358178.609999996]
["02610879","0261","0879",1302,261,"Sandwich                     ",879,"Upper Cape Cod",3569039.3434785204,0.10736568258895915,3837307.6054893024,{"$f":"IF(K1314>0, K1311/K1314, 0)","v":0.11221678736508631},null,{"$f":"ROUND(M1314*L1311,0)","v":3165779},2944457,{"$f":"N1311-O1311","v":221322},7.5165641746508776,162.56055363089999,167.75225224952001,261,879,1302,167.75225224952001,3837307.6054893024,1302,261,879,1302,167.75225224952001,3837307.6054893024]
["02610998","0261","0998",1303,261,"",998,"",0,0,0,{"$f":"IF(K1314>0, K1312/K1314, 0)","v":0},null,{"$f":"ROUND(M1314*L1312,0)","v":0},0,{"$f":"N1312-O1312","v":0},0,0,0,261,998,1303,0,0,1303,261,998,1303,0,0]
["02610998","0261","0998",1304,261,"",998,"",0,0,0,{"$f":"IF(K1314>0, K1313/K1314, 0)","v":0},null,{"$f":"ROUND(M1314*L1313,0)","v":0},0,{"$f":"N1313-O1313","v":0},0,0,0,261,998,1304,0,0,1304,261,998,1304,0,0]
["02610999","0261","0999",1305,261,"Sandwich                     ",999,"Total",33241900.55347852,1,{"$f":"SUM(K1310:K1313)","v":34195486.215489298},{"$f":"SUM(L1310:L1313)","v":1},{"$f":"VLOOKUP(E1314,town351,24)","v":28211276},{"$f":"SUM(N1310:N1313)","v":28211276},27424568,{"$f":"SUM(P1310:P1313)","v":786708},2.8686249497166192,2324.5605536308999,2291.7522522495201,261,999,1305,2291.7522522495201,34195486.215489298,1305,261,999,1305,2291.7522522495201,34195486.215489298]
["02620262","0262","0262",1306,262,"Saugus                       ",262,"Saugus",50782365.639999993,0.94610443180959947,{"$f":"X1315","v":50951259.570000008},{"$f":"IF(K1319>0, K1315/K1319, 0)","v":0.94213578015691246},null,{"$f":"ROUND(M1319*L1315,0)","v":36868897},34611764,{"$f":"N1315-O1315","v":2257133},6.5212885422424582,3018,2943,262,262,1306,2943,50951259.570000008,1306,262,262,1306,2943,50951259.570000008]
["02620853","0262","0853",1307,262,"Saugus                       ",853,"Northeast Metropolitan",2892856.6003919444,5.3895568190400485E-2,3129331.1931637619,{"$f":"IF(K1319>0, K1316/K1319, 0)","v":5.7864219843087622E-2},null,{"$f":"ROUND(M1319*L1316,0)","v":2264419},1971686,{"$f":"N1316-O1316","v":292733},14.846836666690335,117.00000000031001,120.9999999984,262,853,1307,120.9999999984,3129331.1931637619,1307,262,853,1307,120.9999999984,3129331.1931637619]
["02620998","0262","0998",1308,262,"",998,null,0,0,0,{"$f":"IF(K1319>0, K1317/K1319, 0)","v":0},null,{"$f":"ROUND(M1319*L1317,0)","v":0},0,{"$f":"N1317-O1317","v":0},0,0,0,262,998,1308,0,0,1308,262,998,1308,0,0]
["02620998","0262","0998",1309,262,"",998,"",0,0,0,{"$f":"IF(K1319>0, K1318/K1319, 0)","v":0},null,{"$f":"ROUND(M1319*L1318,0)","v":0},0,{"$f":"N1318-O1318","v":0},0,0,0,262,998,1309,0,0,1309,262,998,1309,0,0]
["02620999","0262","0999",1310,262,"Saugus                       ",999,"Total",53675222.24039194,1,{"$f":"SUM(K1315:K1318)","v":54080590.763163768},{"$f":"SUM(L1315:L1318)","v":1},{"$f":"VLOOKUP(E1319,town351,24)","v":39133316},{"$f":"SUM(N1315:N1318)","v":39133316},36583450,{"$f":"SUM(P1315:P1318)","v":2549866},6.9699987289334384,3135.0000000003101,3063.9999999984002,262,999,1310,3063.9999999984002,54080590.763163768,1310,262,999,1310,3063.9999999984002,54080590.763163768]
["02630263","0263","0263",1311,263,"Savoy                        ",263,"Savoy",599224.78999999992,0.66929112758754228,{"$f":"X1320","v":550415.80000000005},{"$f":"IF(K1324>0, K1320/K1324, 0)","v":0.60806308754403626},null,{"$f":"ROUND(M1324*L1320,0)","v":403867},419808,{"$f":"N1320-O1320","v":-15941},-3.7972120588459486,36,37,263,263,1311,37,550415.80000000005,1311,263,263,1311,37,550415.80000000005]
["02630851","0263","0851",1312,263,"Savoy                        ",851,"Northern Berkshire",296087.82554281148,0.33070887241245778,354779.41950119787,{"$f":"IF(K1324>0, K1321/K1324, 0)","v":0.39193691245596374},null,{"$f":"ROUND(M1324*L1321,0)","v":260319},207434,{"$f":"N1321-O1321","v":52885},25.494856195223541,12.99999999852,15.000000001400002,263,851,1312,15.000000001400002,354779.41950119787,1312,263,851,1312,15.000000001400002,354779.41950119787]
["02630998","0263","0998",1313,263,"",998,"",0,0,0,{"$f":"IF(K1324>0, K1322/K1324, 0)","v":0},null,{"$f":"ROUND(M1324*L1322,0)","v":0},0,{"$f":"N1322-O1322","v":0},0,0,0,263,998,1313,0,0,1313,263,998,1313,0,0]
["02630998","0263","0998",1314,263,"",998,"",0,0,0,{"$f":"IF(K1324>0, K1323/K1324, 0)","v":0},null,{"$f":"ROUND(M1324*L1323,0)","v":0},0,{"$f":"N1323-O1323","v":0},0,0,0,263,998,1314,0,0,1314,263,998,1314,0,0]
["02630999","0263","0999",1315,263,"Savoy                        ",999,"Total",895312.61554281134,1,{"$f":"SUM(K1320:K1323)","v":905195.21950119792},{"$f":"SUM(L1320:L1323)","v":1},{"$f":"VLOOKUP(E1324,town351,24)","v":664186},{"$f":"SUM(N1320:N1323)","v":664186},627242,{"$f":"SUM(P1320:P1323)","v":36944},5.8899117087184854,48.999999998519996,52.000000001400004,263,999,1315,52.000000001400004,905195.21950119792,1315,263,999,1315,52.000000001400004,905195.21950119792]
["02640264","0264","0264",1316,264,"Scituate                     ",264,"Scituate",35753574.680160008,0.96630676774368873,{"$f":"X1325","v":37004547.377539992},{"$f":"IF(K1329>0, K1325/K1329, 0)","v":0.96304701743096299},null,{"$f":"ROUND(M1329*L1325,0)","v":30528751},29496699,{"$f":"N1325-O1325","v":1032052},3.4988728738764974,2716,2697,264,264,1316,2697,37004547.377539992,1316,264,264,1316,2697,37004547.377539992]
["02640873","0264","0873",1317,264,"Scituate                     ",873,"South Shore",1246657.4134680354,3.3693232256311365E-2,1419897.8548992428,{"$f":"IF(K1329>0, K1326/K1329, 0)","v":3.6952982569036973E-2},null,{"$f":"ROUND(M1329*L1326,0)","v":1171416},1028492,{"$f":"N1326-O1326","v":142924},13.896462004565908,57.999999997099998,65.00000000272,264,873,1317,65.00000000272,1419897.8548992428,1317,264,873,1317,65.00000000272,1419897.8548992428]
["02640998","0264","0998",1318,264,"",998,"",0,0,0,{"$f":"IF(K1329>0, K1327/K1329, 0)","v":0},null,{"$f":"ROUND(M1329*L1327,0)","v":0},0,{"$f":"N1327-O1327","v":0},0,0,0,264,998,1318,0,0,1318,264,998,1318,0,0]
["02640998","0264","0998",1319,264,"",998,"",0,0,0,{"$f":"IF(K1329>0, K1328/K1329, 0)","v":0},null,{"$f":"ROUND(M1329*L1328,0)","v":0},0,{"$f":"N1328-O1328","v":0},0,0,0,264,998,1319,0,0,1319,264,998,1319,0,0]
["02640999","0264","0999",1320,264,"Scituate                     ",999,"Total",37000232.093628041,1,{"$f":"SUM(K1325:K1328)","v":38424445.232439235},{"$f":"SUM(L1325:L1328)","v":1},{"$f":"VLOOKUP(E1329,town351,24)","v":31700167},{"$f":"SUM(N1325:N1328)","v":31700167},30525191,{"$f":"SUM(P1325:P1328)","v":1174976},3.8492011401337343,2773.9999999971001,2762.0000000027198,264,999,1320,2762.0000000027198,38424445.232439235,1320,264,999,1320,2762.0000000027198,38424445.232439235]
["02650265","0265","0265",1321,265,"Seekonk                      ",265,"Seekonk",27170412.23,0.93010096923450369,{"$f":"X1330","v":28113390.649999999},{"$f":"IF(K1334>0, K1330/K1334, 0)","v":0.9287061922952291},null,{"$f":"ROUND(M1334*L1330,0)","v":21373614},20374751,{"$f":"N1330-O1330","v":998863},4.9024550042353896,2040,2018,265,265,1321,2018,28113390.649999999,1321,265,265,1321,2018,28113390.649999999]
["02650878","0265","0878",1322,265,"Seekonk                      ",878,"Tri County",1809208.4702376064,6.193305193423896E-2,1938949.0422241115,{"$f":"IF(K1334>0, K1331/K1334, 0)","v":6.4051825141854105E-2},null,{"$f":"ROUND(M1334*L1331,0)","v":1474114},1356703,{"$f":"N1331-O1331","v":117411},8.6541416949767189,84.000000004859999,87.999999997679993,265,878,1322,87.999999997679993,1938949.0422241115,1322,265,878,1322,87.999999997679993,1938949.0422241115]
["02650910","0265","0910",1323,265,"Seekonk                      ",910,"Bristol County",232704.76627806562,7.9659788312574122E-3,219226.15199602919,{"$f":"IF(K1334>0, K1332/K1334, 0)","v":7.2419825629167723E-3},null,{"$f":"ROUND(M1334*L1332,0)","v":166670},174502,{"$f":"N1332-O1332","v":-7832},-4.4882007083013375,11.00000000256,9.9999999994700008,265,910,1323,9.9999999994700008,219226.15199602919,1323,265,910,1323,9.9999999994700008,219226.15199602919]
["02650998","0265","0998",1324,265,"",998,"",0,0,0,{"$f":"IF(K1334>0, K1333/K1334, 0)","v":0},null,{"$f":"ROUND(M1334*L1333,0)","v":0},0,{"$f":"N1333-O1333","v":0},0,0,0,265,998,1324,0,0,1324,265,998,1324,0,0]
["02650999","0265","0999",1325,265,"Seekonk                      ",999,"Total",29212325.466515671,1,{"$f":"SUM(K1330:K1333)","v":30271565.844220139},{"$f":"SUM(L1330:L1333)","v":1},{"$f":"VLOOKUP(E1334,town351,24)","v":23014398},{"$f":"SUM(N1330:N1333)","v":23014398},21905956,{"$f":"SUM(P1330:P1333)","v":1108442},5.0600028594962945,2135.0000000074197,2115.9999999971501,265,999,1325,2115.9999999971501,30271565.844220139,1325,265,999,1325,2115.9999999971501,30271565.844220139]
["02660266","0266","0266",1326,266,"Sharon                       ",266,"Sharon",46223465.281550005,0.98639636020838717,{"$f":"X1335","v":47116523.199549995},{"$f":"IF(K1339>0, K1335/K1339, 0)","v":0.98719426304168645},null,{"$f":"ROUND(M1339*L1335,0)","v":38337600},36996923,{"$f":"N1335-O1335","v":1340677},3.6237527104618943,3420,3348,266,266,1326,3348,47116523.199549995,1326,266,266,1326,3348,47116523.199549995]
["02660872","0266","0872",1327,266,"Sharon                       ",872,"Southeastern",409648.85083670256,8.7417966820016423E-3,379925.51192475529,{"$f":"IF(K1339>0, K1336/K1339, 0)","v":7.9602708410130823E-3},null,{"$f":"ROUND(M1339*L1336,0)","v":309136},327880,{"$f":"N1336-O1336","v":-18744},-5.7167256313285346,17.999999992359999,16.009269984070002,266,872,1327,16.009269984070002,379925.51192475529,1327,266,872,1327,16.009269984070002,379925.51192475529]
["02660915","0266","0915",1328,266,"Sharon                       ",915,"Norfolk County",227830.56106774221,4.8618431096111824E-3,231263.01000270396,{"$f":"IF(K1339>0, K1337/K1339, 0)","v":4.8454661173004798E-3},null,{"$f":"ROUND(M1339*L1337,0)","v":188173},182354,{"$f":"N1337-O1337","v":5819},3.1910459874749115,10.000000000469999,9.9999999989999999,266,915,1328,9.9999999989999999,231263.01000270396,1328,266,915,1328,9.9999999989999999,231263.01000270396]
["02660998","0266","0998",1329,266,"",998,"",0,0,0,{"$f":"IF(K1339>0, K1338/K1339, 0)","v":0},null,{"$f":"ROUND(M1339*L1338,0)","v":0},0,{"$f":"N1338-O1338","v":0},0,0,0,266,998,1329,0,0,1329,266,998,1329,0,0]
["02660999","0266","0999",1330,266,"Sharon                       ",999,"Total",46860944.693454452,0.99999999999999989,{"$f":"SUM(K1335:K1338)","v":47727711.721477456},{"$f":"SUM(L1335:L1338)","v":1},{"$f":"VLOOKUP(E1339,town351,24)","v":38834910},{"$f":"SUM(N1335:N1338)","v":38834909},37507157,{"$f":"SUM(P1335:P1338)","v":1327752},3.5399963798909098,3447.99999999283,3374.0092699830702,266,999,1330,3374.0092699830702,47727711.721477456,1330,266,999,1330,3374.0092699830702,47727711.721477456]
["02670267","0267","0267",1331,267,"Sheffield                    ",267,"Sheffield",86771.45,1.7598522487701652E-2,{"$f":"X1340","v":90234.8},{"$f":"IF(K1344>0, K1340/K1344, 0)","v":1.734078392491277E-2},null,{"$f":"ROUND(M1344*L1340,0)","v":72330},71586,{"$f":"N1340-O1340","v":744},1.0393093621657865,5,5,267,267,1331,5,90234.8,1331,267,267,1331,5,90234.8]
["02670765","0267","0765",1332,267,"Sheffield                    ",765,"Southern Berkshire",4843838.4952745736,0.98240147751229834,5113382.3138931897,{"$f":"IF(K1344>0, K1341/K1344, 0)","v":0.98265921607508722},null,{"$f":"ROUND(M1344*L1341,0)","v":4098744},3996167,{"$f":"N1341-O1341","v":102577},2.5668847172803337,320.75232198217998,322.73089172225002,267,765,1332,322.73089172225002,5113382.3138931897,1332,267,765,1332,322.73089172225002,5113382.3138931897]
["02670998","0267","0998",1333,267,"",998,"",0,0,0,{"$f":"IF(K1344>0, K1342/K1344, 0)","v":0},null,{"$f":"ROUND(M1344*L1342,0)","v":0},0,{"$f":"N1342-O1342","v":0},0,0,0,267,998,1333,0,0,1333,267,998,1333,0,0]
["02670998","0267","0998",1334,267,"",998,"",0,0,0,{"$f":"IF(K1344>0, K1343/K1344, 0)","v":0},null,{"$f":"ROUND(M1344*L1343,0)","v":0},0,{"$f":"N1343-O1343","v":0},0,0,0,267,998,1334,0,0,1334,267,998,1334,0,0]
["02670999","0267","0999",1335,267,"Sheffield                    ",999,"Total",4930609.9452745738,1,{"$f":"SUM(K1340:K1343)","v":5203617.1138931895},{"$f":"SUM(L1340:L1343)","v":1},{"$f":"VLOOKUP(E1344,town351,24)","v":4171074},{"$f":"SUM(N1340:N1343)","v":4171074},4067753,{"$f":"SUM(P1340:P1343)","v":103321},2.5400018142694503,325.75232198217998,327.73089172225002,267,999,1335,327.73089172225002,5203617.1138931895,1335,267,999,1335,327.73089172225002,5203617.1138931895]
["02680268","0268","0268",1336,268,"Shelburne                    ",268,"Shelburne",0,0,{"$f":"X1345","v":0},{"$f":"IF(K1349>0, K1345/K1349, 0)","v":0},null,{"$f":"ROUND(M1349*L1345,0)","v":0},0,{"$f":"N1345-O1345","v":0},0,0,0,268,268,1336,0,0,1336,268,268,1336,0,0]
["02680717","0268","0717",1337,268,"Shelburne                    ",717,"Mohawk Trail",2185153.3677683924,0.8975561111946142,2185916.0886166799,{"$f":"IF(K1349>0, K1346/K1349, 0)","v":0.89464772577303142},null,{"$f":"ROUND(M1349*L1346,0)","v":1760043},1692156,{"$f":"N1346-O1346","v":67887},4.0118641543687463,137.3517786525,132.6818181822,268,717,1337,132.6818181822,2185916.0886166799,1337,268,717,1337,132.6818181822,2185916.0886166799]
["02680818","0268","0818",1338,268,"Shelburne                    ",818,"Franklin County",249405.69824925557,0.10244388880538569,257409.95541692257,{"$f":"IF(K1349>0, K1347/K1349, 0)","v":0.10535227422696866},null,{"$f":"ROUND(M1349*L1347,0)","v":207260},193137,{"$f":"N1347-O1347","v":14123},7.3124258945722467,10.999999999649999,10.99999999752,268,818,1338,10.99999999752,257409.95541692257,1338,268,818,1338,10.99999999752,257409.95541692257]
["02680998","0268","0998",1339,268,"",998,"",0,0,0,{"$f":"IF(K1349>0, K1348/K1349, 0)","v":0},null,{"$f":"ROUND(M1349*L1348,0)","v":0},0,{"$f":"N1348-O1348","v":0},0,0,0,268,998,1339,0,0,1339,268,998,1339,0,0]
["02680999","0268","0999",1340,268,"Shelburne                    ",999,"Total",2434559.0660176482,0.99999999999999989,{"$f":"SUM(K1345:K1348)","v":2443326.0440336023},{"$f":"SUM(L1345:L1348)","v":1},{"$f":"VLOOKUP(E1349,town351,24)","v":1967303},{"$f":"SUM(N1345:N1348)","v":1967303},1885293,{"$f":"SUM(P1345:P1348)","v":82010},4.3499869781514064,148.35177865214999,143.68181817972001,268,999,1340,143.68181817972001,2443326.0440336023,1340,268,999,1340,143.68181817972001,2443326.0440336023]
["02690269","0269","0269",1341,269,"Sherborn                     ",269,"Sherborn",5048450.2009800002,0.4084818903538418,{"$f":"X1350","v":5207058.5938899992},{"$f":"IF(K1354>0, K1350/K1354, 0)","v":0.40656312683653029},null,{"$f":"ROUND(M1354*L1350,0)","v":4295823},4164971,{"$f":"N1350-O1350","v":130852},3.1417265570396529,398,393,269,269,1341,393,5207058.5938899992,1341,269,269,1341,393,5207058.5938899992]
["02690655","0269","0655",1342,269,"Sherborn                     ",655,"Dover Sherborn",7202913.9448967073,0.58280458103683108,7490277.1598423226,{"$f":"IF(K1354>0, K1351/K1354, 0)","v":0.5848350749405975},null,{"$f":"ROUND(M1354*L1351,0)","v":6179479},5942404,{"$f":"N1351-O1351","v":237075},3.9895469914196342,531.78558394676998,528.80514705619998,269,655,1342,528.80514705619998,7490277.1598423226,1342,269,655,1342,528.80514705619998,7490277.1598423226]
["02690878","0269","0878",1343,269,"Sherborn                     ",878,"Tri County",107690.98042730079,8.7135286093271043E-3,110167.55923692895,{"$f":"IF(K1354>0, K1352/K1354, 0)","v":8.601798222872218E-3},null,{"$f":"ROUND(M1354*L1352,0)","v":90888},88845,{"$f":"N1352-O1352","v":2043},2.2995103832517305,5.0000000028900002,5.0000000007600001,269,878,1343,5.0000000007600001,110167.55923692895,1343,269,878,1343,5.0000000007600001,110167.55923692895]
["02690998","0269","0998",1344,269,"",998,"",0,0,0,{"$f":"IF(K1354>0, K1353/K1354, 0)","v":0},null,{"$f":"ROUND(M1354*L1353,0)","v":0},0,{"$f":"N1353-O1353","v":0},0,0,0,269,998,1344,0,0,1344,269,998,1344,0,0]
[{"$f":"B1354&C1354","v":"02690999"},"0269","0999",1345,269,"Sherborn                     ",999,"Total",12359055.126304008,0.99999999999999989,{"$f":"SUM(K1350:K1353)","v":12807503.312969251},{"$f":"SUM(L1350:L1353)","v":1},{"$f":"VLOOKUP(E1354,town351,24)","v":10566190},{"$f":"SUM(N1350:N1353)","v":10566190},10196220,{"$f":"SUM(P1350:P1353)","v":369970},3.6285015427285798,934.78558394966001,926.80514705695998,{"$f":"VLOOKUP($D1354, foundoptions, VLOOKUP($T$6, foundoptcell, 2, FALSE), FALSE)","v":269},{"$f":"VLOOKUP($D1354, foundoptions, VLOOKUP($T$6, foundoptcell, 2, FALSE)+1, FALSE)","v":999},{"$f":"VLOOKUP($D1354, foundoptions, VLOOKUP($T$6, foundoptcell, 2, FALSE)+2, FALSE)","v":1345},{"$f":"VLOOKUP($D1354, foundoptions, VLOOKUP($T$6, foundoptcell, 2, FALSE)+3, FALSE)","v":926.80514705695998},{"$f":"VLOOKUP($D1354, foundoptions, VLOOKUP($T$6, foundoptcell, 2, FALSE)+4, FALSE)","v":12807503.312969251},1345,269,999,1345,926.80514705695998,12807503.312969251]
["02700270","0270","0270",1346,270,"Shirley                      ",270,"Shirley",0,0,{"$f":"X1355","v":0},{"$f":"IF(K1359>0, K1355/K1359, 0)","v":0},null,{"$f":"ROUND(M1359*L1355,0)","v":0},0,{"$f":"N1355-O1355","v":0},0,0,{"$f":"W1355","v":0},270,270,1346,0,0,{"$f":"D1355","v":1346},270,270,1346,0,0]
["02700616","0270","0616",1347,270,"Shirley                      ",616,"Ayer Shirley",10556823.180304326,0.90942142714584806,11142452.406785395,{"$f":"IF(K1359>0, K1356/K1359, 0)","v":0.91513268049479002},null,{"$f":"ROUND(M1359*L1356,0)","v":6672346},6319772,{"$f":"N1356-O1356","v":352574},5.5789037958964345,718.54900849963008,741.06283030164002,270,616,1347,741.06283030164002,11142452.406785395,1347,270,616,1347,741.06283030164002,11142452.406785395]
["02700852","0270","0852",1348,270,"Shirley                      ",852,"Nashoba Valley",1051461.8954455771,9.0578572854151926E-2,1033325.6462516143,{"$f":"IF(K1359>0, K1357/K1359, 0)","v":8.4867319505209884E-2},null,{"$f":"ROUND(M1359*L1357,0)","v":618778},629451,{"$f":"N1357-O1357","v":-10673},-1.6956045824059378,50.00000000152,47.0000000008,270,852,1348,47.0000000008,1033325.6462516143,1348,270,852,1348,47.0000000008,1033325.6462516143]
["02700998","0270","0998",1349,270,"",998,"",0,0,0,{"$f":"IF(K1359>0, K1358/K1359, 0)","v":0},null,{"$f":"ROUND(M1359*L1358,0)","v":0},0,{"$f":"N1358-O1358","v":0},0,0,0,270,998,1349,0,0,1349,270,998,1349,0,0]
["02700999","0270","0999",1350,270,"Shirley                      ",999,"Total",11608285.075749904,1,{"$f":"SUM(K1355:K1358)","v":12175778.05303701},{"$f":"SUM(L1355:L1358)","v":0.99999999999999989},{"$f":"VLOOKUP(E1359,town351,24)","v":7291124},{"$f":"SUM(N1355:N1358)","v":7291124},6949223,{"$f":"SUM(P1355:P1358)","v":341901},4.9199888966003824,768.54900850115007,788.06283030244003,270,999,1350,788.06283030244003,12175778.05303701,1350,270,999,1350,788.06283030244003,12175778.05303701]
["02710271","0271","0271",1351,271,"Shrewsbury                   ",271,"Shrewsbury",80350322.87999998,1,{"$f":"X1360","v":82737349.679999992},{"$f":"IF(K1364>0, K1360/K1364, 0)","v":1},null,{"$f":"ROUND(M1364*L1360,0)","v":67575060},64461566,{"$f":"N1360-O1360","v":3113494},{"$f":"IF(O1360>0,P1360*100/O1360,IF(P1360>0,100,0))","v":4.8300005618852015},5945,5837,271,271,1351,5837,82737349.679999992,1351,271,271,1351,5837,82737349.679999992]
["02710998","0271","0998",1352,271,"",998,"",0,0,0,{"$f":"IF(K1364>0, K1361/K1364, 0)","v":0},null,{"$f":"ROUND(M1364*L1361,0)","v":0},0,{"$f":"N1361-O1361","v":0},{"$f":"IF(O1361>0,P1361*100/O1361,IF(P1361>0,100,0))","v":0},0,0,271,998,1352,0,0,1352,271,998,1352,0,0]
["02710998","0271","0998",1353,271,"",998,"",0,0,0,{"$f":"IF(K1364>0, K1362/K1364, 0)","v":0},null,{"$f":"ROUND(M1364*L1362,0)","v":0},0,{"$f":"N1362-O1362","v":0},{"$f":"IF(O1362>0,P1362*100/O1362,IF(P1362>0,100,0))","v":0},0,0,271,998,1353,0,0,1353,271,998,1353,0,0]
["02710998","0271","0998",1354,271,"",998,"",0,0,0,{"$f":"IF(K1364>0, K1363/K1364, 0)","v":0},null,{"$f":"ROUND(M1364*L1363,0)","v":0},0,{"$f":"N1363-O1363","v":0},{"$f":"IF(O1363>0,P1363*100/O1363,IF(P1363>0,100,0))","v":0},0,0,271,998,1354,0,0,1354,271,998,1354,0,0]
["02710999","0271","0999",1355,271,"Shrewsbury                   ",999,"Total",80350322.87999998,1,{"$f":"SUM(K1360:K1363)","v":82737349.679999992},{"$f":"SUM(L1360:L1363)","v":1},{"$f":"VLOOKUP(E1364,town351,24)","v":67575060},{"$f":"SUM(N1360:N1363)","v":67575060},64461566,{"$f":"SUM(P1360:P1363)","v":3113494},{"$f":"IF(O1364>0,P1364*100/O1364,IF(P1364>0,100,0))","v":4.8300005618852015},5945,5837,271,999,1355,5837,82737349.679999992,1355,271,999,1355,5837,82737349.679999992]
["02720272","0272","0272",1356,272,"Shutesbury                   ",272,"Shutesbury",1485214.6700000002,0.51107048697118018,{"$f":"X1365","v":1425997.22},{"$f":"IF(K1369>0, K1365/K1369, 0)","v":0.50061112327975932},null,{"$f":"ROUND(M1369*L1365,0)","v":961885},941768,{"$f":"N1365-O1365","v":20117},2.1360887182405857,106,101,272,272,1356,101,1425997.22,1356,272,272,1356,101,1425997.22]
["02720605","0272","0605",1357,272,"Shutesbury                   ",605,"Amherst Pelham",1420871.1006771729,0.48892951302881987,1422515.6349632768,{"$f":"IF(K1369>0, K1366/K1369, 0)","v":0.49938887672024079},null,{"$f":"ROUND(M1369*L1366,0)","v":959536},900969,{"$f":"N1366-O1366","v":58567},6.5004456313147285,94.150761823309992,89.999999997179998,272,605,1357,89.999999997179998,1422515.6349632768,1357,272,605,1357,89.999999997179998,1422515.6349632768]
["02720998","0272","0998",1358,272,"",998,"",0,0,0,{"$f":"IF(K1369>0, K1367/K1369, 0)","v":0},null,{"$f":"ROUND(M1369*L1367,0)","v":0},0,{"$f":"N1367-O1367","v":0},0,0,0,272,998,1358,0,0,1358,272,998,1358,0,0]
["02720998","0272","0998",1359,272,"",998,"",0,0,0,{"$f":"IF(K1369>0, K1368/K1369, 0)","v":0},null,{"$f":"ROUND(M1369*L1368,0)","v":0},0,{"$f":"N1368-O1368","v":0},0,0,0,272,998,1359,0,0,1359,272,998,1359,0,0]
["02720999","0272","0999",1360,272,"Shutesbury                   ",999,"Total",2906085.770677173,1,{"$f":"SUM(K1365:K1368)","v":2848512.8549632765},{"$f":"SUM(L1365:L1368)","v":1},{"$f":"VLOOKUP(E1369,town351,24)","v":1921421},{"$f":"SUM(N1365:N1368)","v":1921421},1842737,{"$f":"SUM(P1365:P1368)","v":78684},4.2699527930464303,200.15076182331001,190.99999999718,272,999,1360,190.99999999718,2848512.8549632765,1360,272,999,1360,190.99999999718,2848512.8549632765]
["02730273","0273","0273",1361,273,"Somerset                     ",273,"Somerset",22010520.120000001,0.60160309910176979,{"$f":"X1370","v":21569616.309999999},{"$f":"IF(K1374>0, K1370/K1374, 0)","v":0.59186027069705871},null,{"$f":"ROUND(M1374*L1370,0)","v":12247874},11879285,{"$f":"N1370-O1370","v":368589},3.102787751956452,1606,1502,273,273,1361,1502,21569616.309999999,1361,273,273,1361,1502,21569616.309999999]
["02730763","0273","0763",1362,273,"Somerset                     ",763,"Somerset Berkley",10330724.75893233,0.28236479633635636,10636526.561978139,{"$f":"IF(K1374>0, K1371/K1374, 0)","v":0.29186135718743517},null,{"$f":"ROUND(M1374*L1371,0)","v":6039738},5575589,{"$f":"N1371-O1371","v":464149},8.3246630983740015,669.48314607103998,662.22722159720001,273,763,1362,662.22722159720001,10636526.561978139,1362,273,763,1362,662.22722159720001,10636526.561978139]
["02730821","0273","0821",1363,273,"Somerset                     ",821,"Greater Fall River",3568243.1662812037,9.7529096790080025E-2,3579943.1514379312,{"$f":"IF(K1374>0, K1372/K1374, 0)","v":9.823198021875873E-2},null,{"$f":"ROUND(M1374*L1372,0)","v":2032799},1925814,{"$f":"N1372-O1372","v":106985},5.555313233780625,156.9999999984,151.00000000080001,273,821,1363,151.00000000080001,3579943.1514379312,1363,273,821,1363,151.00000000080001,3579943.1514379312]
["02730910","0273","0910",1364,273,"Somerset                     ",910,"Bristol County",676959.31993975327,1.8503007771793721E-2,657678.45598808757,{"$f":"IF(K1374>0, K1373/K1374, 0)","v":1.8046391896747335E-2},null,{"$f":"ROUND(M1374*L1373,0)","v":373450},365361,{"$f":"N1373-O1373","v":8089},2.2139746716261453,32.000000000740002,29.999999998410001,273,910,1364,29.999999998410001,657678.45598808757,1364,273,910,1364,29.999999998410001,657678.45598808757]
["02730999","0273","0999",1365,273,"Somerset                     ",999,"Total",36586447.36515329,0.99999999999999989,{"$f":"SUM(K1370:K1373)","v":36443764.479404159},{"$f":"SUM(L1370:L1373)","v":1},{"$f":"VLOOKUP(E1374,town351,24)","v":20693860},{"$f":"SUM(N1370:N1373)","v":20693861},19746049,{"$f":"SUM(P1370:P1373)","v":947812},4.8000083459734144,2464.4831460701803,2345.2272215964099,273,999,1365,2345.2272215964099,36443764.479404159,1365,273,999,1365,2345.2272215964099,36443764.479404159]
["02740274","0274","0274",1366,274,"Somerville                   ",274,"Somerville",95463549.588399991,1,{"$f":"X1375","v":98699357.768680006},{"$f":"IF(K1379>0, K1375/K1379, 0)","v":1},null,{"$f":"ROUND(M1379*L1375,0)","v":81426970},78757428,{"$f":"N1375-O1375","v":2669542},3.3895748855587309,5155,5080,274,274,1366,5080,98699357.768680006,1366,274,274,1366,5080,98699357.768680006]
["02740998","0274","0998",1367,274,"",998,"",0,0,0,{"$f":"IF(K1379>0, K1376/K1379, 0)","v":0},null,{"$f":"ROUND(M1379*L1376,0)","v":0},0,{"$f":"N1376-O1376","v":0},0,0,0,274,998,1367,0,0,1367,274,998,1367,0,0]
["02740998","0274","0998",1368,274,"",998,"",0,0,0,{"$f":"IF(K1379>0, K1377/K1379, 0)","v":0},null,{"$f":"ROUND(M1379*L1377,0)","v":0},0,{"$f":"N1377-O1377","v":0},0,0,0,274,998,1368,0,0,1368,274,998,1368,0,0]
["02740998","0274","0998",1369,274,"",998,"",0,0,0,{"$f":"IF(K1379>0, K1378/K1379, 0)","v":0},null,{"$f":"ROUND(M1379*L1378,0)","v":0},0,{"$f":"N1378-O1378","v":0},0,0,0,274,998,1369,0,0,1369,274,998,1369,0,0]
["02740999","0274","0999",1370,274,"Somerville                   ",999,"Total",95463549.588399991,1,{"$f":"SUM(K1375:K1378)","v":98699357.768680006},{"$f":"SUM(L1375:L1378)","v":1},{"$f":"VLOOKUP(E1379,town351,24)","v":81426970},{"$f":"SUM(N1375:N1378)","v":81426970},78757428,{"$f":"SUM(P1375:P1378)","v":2669542},3.3895748855587309,5155,5080,274,999,1370,5080,98699357.768680006,1370,274,999,1370,5080,98699357.768680006]
["02750275","0275","0275",1371,275,"Southampton                  ",275,"Southampton",6438163.6200000001,0.58162912501241693,{"$f":"X1380","v":6669767.8999999994},{"$f":"IF(K1384>0, K1380/K1384, 0)","v":0.58669018546278007},null,{"$f":"ROUND(M1384*L1380,0)","v":4991288},4736509,{"$f":"N1380-O1380","v":254779},5.3790460442490451,476,479,275,275,1371,479,6669767.8999999994,1371,275,275,1371,479,6669767.8999999994]
["02750683","0275","0683",1372,275,"Southampton                  ",683,"Hampshire",4631026.9399853759,0.41837087498758296,4698698.9079778763,{"$f":"IF(K1384>0, K1381/K1384, 0)","v":0.41330981453721993},null,{"$f":"ROUND(M1384*L1381,0)","v":3516248},3407012,{"$f":"N1381-O1381","v":109236},3.2062111903333479,324.11764705780001,318.99999999756,275,683,1372,318.99999999756,4698698.9079778763,1372,275,683,1372,318.99999999756,4698698.9079778763]
["02750998","0275","0998",1373,275,"",998,"",0,0,0,{"$f":"IF(K1384>0, K1382/K1384, 0)","v":0},null,{"$f":"ROUND(M1384*L1382,0)","v":0},0,{"$f":"N1382-O1382","v":0},0,0,0,275,998,1373,0,0,1373,275,998,1373,0,0]
["02750998","0275","0998",1374,275,"",998,"",0,0,0,{"$f":"IF(K1384>0, K1383/K1384, 0)","v":0},null,{"$f":"ROUND(M1384*L1383,0)","v":0},0,{"$f":"N1383-O1383","v":0},0,0,0,275,998,1374,0,0,1374,275,998,1374,0,0]
["02750999","0275","0999",1375,275,"Southampton                  ",999,"Total",11069190.559985377,0.99999999999999989,{"$f":"SUM(K1380:K1383)","v":11368466.807977876},{"$f":"SUM(L1380:L1383)","v":1},{"$f":"VLOOKUP(E1384,town351,24)","v":8507536},{"$f":"SUM(N1380:N1383)","v":8507536},8143521,{"$f":"SUM(P1380:P1383)","v":364015},4.4699952268803633,800.11764705780001,797.99999999756005,275,999,1375,797.99999999756005,11368466.807977876,1375,275,999,1375,797.99999999756005,11368466.807977876]
["02760276","0276","0276",1376,276,"Southborough                 ",276,"Southborough",15401749.173959998,0.67805705392644966,{"$f":"X1385","v":16436576.661360001},{"$f":"IF(K1389>0, K1385/K1389, 0)","v":0.67724706686725156},null,{"$f":"ROUND(M1389*L1385,0)","v":13084365},12482147,{"$f":"N1385-O1385","v":602218},4.8246347363157955,1218,1241,276,276,1376,1241,16436576.661360001,1376,276,276,1376,1241,16436576.661360001]
["02760730","0276","0730",1377,276,"Southborough                 ",730,"Northboro Southboro",6761333.4430617103,0.29766553027418552,7075059.8320837384,{"$f":"IF(K1389>0, K1386/K1389, 0)","v":0.29151833851469139},null,{"$f":"ROUND(M1389*L1386,0)","v":5632113},5479635,{"$f":"N1386-O1386","v":152478},2.7826305949210122,479.73464373048,478.71556642254001,276,730,1377,478.71556642254001,7075059.8320837384,1377,276,730,1377,478.71556642254001,7075059.8320837384]
["02760801","0276","0801",1378,276,"Southborough                 ",801,"Assabet Valley",551450.15683932148,2.4277415799364717E-2,758053.9422651038,{"$f":"IF(K1389>0, K1387/K1389, 0)","v":3.123459461805712E-2},null,{"$f":"ROUND(M1389*L1387,0)","v":603450},446916,{"$f":"N1387-O1387","v":156534},35.025373895765647,23.000000004569998,29.999999999039996,276,801,1378,29.999999999039996,758053.9422651038,1378,276,801,1378,29.999999999039996,758053.9422651038]
["02760998","0276","0998",1379,276,"",998,"",0,0,0,{"$f":"IF(K1389>0, K1388/K1389, 0)","v":0},null,{"$f":"ROUND(M1389*L1388,0)","v":0},0,{"$f":"N1388-O1388","v":0},0,0,0,276,998,1379,0,0,1379,276,998,1379,0,0]
["02760999","0276","0999",1380,276,"Southborough                 ",999,"Total",22714532.773861032,0.99999999999999989,{"$f":"SUM(K1385:K1388)","v":24269690.435708843},{"$f":"SUM(L1385:L1388)","v":1.0000000000000002},{"$f":"VLOOKUP(E1389,town351,24)","v":19319928},{"$f":"SUM(N1385:N1388)","v":19319928},18408698,{"$f":"SUM(P1385:P1388)","v":911230},4.9499970068496966,1720.73464373505,1749.71556642158,276,999,1380,1749.71556642158,24269690.435708843,1380,276,999,1380,1749.71556642158,24269690.435708843]
["02770277","0277","0277",1381,277,"Southbridge                  ",277,"Southbridge",44392355.590000004,0.90892795046652319,{"$f":"X1390","v":47044351.420000002},{"$f":"IF(K1394>0, K1390/K1394, 0)","v":0.91052540584377684},null,{"$f":"ROUND(M1394*L1390,0)","v":10602631},10094448,{"$f":"N1390-O1390","v":508183},5.0342822113700523,2242,2221,277,277,1381,2221,47044351.420000002,1381,277,277,1381,2221,47044351.420000002]
["02770876","0277","0876",1382,277,"Southbridge                  ",876,"Southern Worcester",4447990.4101585913,9.1072049533476848E-2,4622906.9761612434,{"$f":"IF(K1394>0, K1391/K1394, 0)","v":8.9474594156223206E-2},null,{"$f":"ROUND(M1394*L1391,0)","v":1041889},1011436,{"$f":"N1391-O1391","v":30453},3.0108677167907807,209.99999999832002,209.00000000516999,277,876,1382,209.00000000516999,4622906.9761612434,1382,277,876,1382,209.00000000516999,4622906.9761612434]
["02770998","0277","0998",1383,277,"",998,"",0,0,0,{"$f":"IF(K1394>0, K1392/K1394, 0)","v":0},null,{"$f":"ROUND(M1394*L1392,0)","v":0},0,{"$f":"N1392-O1392","v":0},0,0,0,277,998,1383,0,0,1383,277,998,1383,0,0]
["02770998","0277","0998",1384,277,"",998,"",0,0,0,{"$f":"IF(K1394>0, K1393/K1394, 0)","v":0},null,{"$f":"ROUND(M1394*L1393,0)","v":0},0,{"$f":"N1393-O1393","v":0},0,0,0,277,998,1384,0,0,1384,277,998,1384,0,0]
["02770999","0277","0999",1385,277,"Southbridge                  ",999,"Total",48840346.000158593,1,{"$f":"SUM(K1390:K1393)","v":51667258.396161243},{"$f":"SUM(L1390:L1393)","v":1},{"$f":"VLOOKUP(E1394,town351,24)","v":11644520},{"$f":"SUM(N1390:N1393)","v":11644520},11105884,{"$f":"SUM(P1390:P1393)","v":538636},4.8500056366517068,2451.9999999983202,2430.00000000517,277,999,1385,2430.00000000517,51667258.396161243,1385,277,999,1385,2430.00000000517,51667258.396161243]
["02780278","0278","0278",1386,278,"South Hadley                 ",278,"South Hadley",26607493.200000003,1,{"$f":"X1395","v":26750270.849999998},{"$f":"IF(K1399>0, K1395/K1399, 0)","v":1},null,{"$f":"ROUND(M1399*L1395,0)","v":17487629},16689854,{"$f":"N1395-O1395","v":797775},4.7799998729767195,1798,1751,278,278,1386,1751,26750270.849999998,1386,278,278,1386,1751,26750270.849999998]
["02780998","0278","0998",1387,278,"",998,"",0,0,0,{"$f":"IF(K1399>0, K1396/K1399, 0)","v":0},null,{"$f":"ROUND(M1399*L1396,0)","v":0},0,{"$f":"N1396-O1396","v":0},0,0,0,278,998,1387,0,0,1387,278,998,1387,0,0]
["02780998","0278","0998",1388,278,"",998,"",0,0,0,{"$f":"IF(K1399>0, K1397/K1399, 0)","v":0},null,{"$f":"ROUND(M1399*L1397,0)","v":0},0,{"$f":"N1397-O1397","v":0},0,0,0,278,998,1388,0,0,1388,278,998,1388,0,0]
["02780998","0278","0998",1389,278,"",998,"",0,0,0,{"$f":"IF(K1399>0, K1398/K1399, 0)","v":0},null,{"$f":"ROUND(M1399*L1398,0)","v":0},0,{"$f":"N1398-O1398","v":0},0,0,0,278,998,1389,0,0,1389,278,998,1389,0,0]
["02780999","0278","0999",1390,278,"South Hadley                 ",999,"Total",26607493.200000003,1,{"$f":"SUM(K1395:K1398)","v":26750270.849999998},{"$f":"SUM(L1395:L1398)","v":1},{"$f":"VLOOKUP(E1399,town351,24)","v":17487629},{"$f":"SUM(N1395:N1398)","v":17487629},16689854,{"$f":"SUM(P1395:P1398)","v":797775},4.7799998729767195,1798,1751,278,999,1390,1751,26750270.849999998,1390,278,999,1390,1751,26750270.849999998]
["02790279","0279","0279",1391,279,"Southwick                    ",279,"Southwick",671628.83000000007,4.1022399658581739E-2,{"$f":"X1400","v":662040.87999999989},{"$f":"IF(K1404>0, K1400/K1404, 0)","v":3.9934308153661599E-2},null,{"$f":"ROUND(M1404*L1400,0)","v":458715},451570,{"$f":"N1400-O1400","v":7145},1.5822574573155879,35,33,279,279,1391,33,662040.87999999989,1391,279,279,1391,33,662040.87999999989]
["02790766","0279","0766",1392,279,"Southwick                    ",766,"Southwick Tolland",15700617.444956705,0.95897760034141821,15916207.513650887,{"$f":"IF(K1404>0, K1401/K1404, 0)","v":0.9600656918463385},null,{"$f":"ROUND(M1404*L1401,0)","v":11028016},10556318,{"$f":"N1401-O1401","v":471698},4.4683951355008444,1042.38926174432,1012.1508140488,279,766,1392,1012.1508140488,15916207.513650887,1392,279,766,1392,1012.1508140488,15916207.513650887]
["02790998","0279","0998",1393,279,"",998,"",0,0,0,{"$f":"IF(K1404>0, K1402/K1404, 0)","v":0},null,{"$f":"ROUND(M1404*L1402,0)","v":0},0,{"$f":"N1402-O1402","v":0},0,0,0,279,998,1393,0,0,1393,279,998,1393,0,0]
["02790998","0279","0998",1394,279,"",998,"",0,0,0,{"$f":"IF(K1404>0, K1403/K1404, 0)","v":0},null,{"$f":"ROUND(M1404*L1403,0)","v":0},0,{"$f":"N1403-O1403","v":0},0,0,0,279,998,1394,0,0,1394,279,998,1394,0,0]
["02790999","0279","0999",1395,279,"Southwick                    ",999,"Total",16372246.274956705,1,{"$f":"SUM(K1400:K1403)","v":16578248.393650886},{"$f":"SUM(L1400:L1403)","v":1},{"$f":"VLOOKUP(E1404,town351,24)","v":11486731},{"$f":"SUM(N1400:N1403)","v":11486731},11007888,{"$f":"SUM(P1400:P1403)","v":478843},4.3499988371974716,1077.38926174432,1045.1508140487999,279,999,1395,1045.1508140487999,16578248.393650886,1395,279,999,1395,1045.1508140487999,16578248.393650886]
["02800280","0280","0280",1396,280,"Spencer                      ",280,"Spencer",34708.58,1.4633429791723704E-3,{"$f":"X1405","v":36093.919999999998},{"$f":"IF(K1409>0, K1405/K1409, 0)","v":1.4724251443762174E-3},null,{"$f":"ROUND(M1409*L1405,0)","v":16546},15612,{"$f":"N1405-O1405","v":934},5.9825775044837304,2,2,280,280,1396,2,36093.919999999998,1396,280,280,1396,2,36093.919999999998]
["02800767","0280","0767",1397,280,"Spencer                      ",767,"Spencer East Brookfield",20994007.301369522,0.88512503793449837,21491063.990891054,{"$f":"IF(K1409>0, K1406/K1409, 0)","v":0.87671228283285074},null,{"$f":"ROUND(M1409*L1406,0)","v":9851695},9442922,{"$f":"N1406-O1406","v":408773},4.3288825217448581,1259.33180327745,1251.88721312044,280,767,1397,1251.88721312044,21491063.990891054,1397,280,767,1397,1251.88721312044,21491063.990891054]
["02800876","0280","0876",1398,280,"Spencer                      ",876,"Southern Worcester",2689975.1527927429,0.11341161908632923,2986088.23806067,{"$f":"IF(K1409>0, K1407/K1409, 0)","v":0.121815292022773},null,{"$f":"ROUND(M1409*L1407,0)","v":1368849},1209927,{"$f":"N1407-O1407","v":158922},13.134842019394558,126.99999999816001,134.99999999747999,280,876,1398,134.99999999747999,2986088.23806067,1398,280,876,1398,134.99999999747999,2986088.23806067]
["02800998","0280","0998",1399,280,"",998,"",0,0,0,{"$f":"IF(K1409>0, K1408/K1409, 0)","v":0},null,{"$f":"ROUND(M1409*L1408,0)","v":0},0,{"$f":"N1408-O1408","v":0},0,0,0,280,998,1399,0,0,1399,280,998,1399,0,0]
["02800999","0280","0999",1400,280,"Spencer                      ",999,"Total",23718691.034162264,1,{"$f":"SUM(K1405:K1408)","v":24513246.148951724},{"$f":"SUM(L1405:L1408)","v":0.99999999999999989},{"$f":"VLOOKUP(E1409,town351,24)","v":11237090},{"$f":"SUM(N1405:N1408)","v":11237090},10668461,{"$f":"SUM(P1405:P1408)","v":568629},5.3300002690172459,1388.3318032756101,1388.8872131179201,280,999,1400,1388.8872131179201,24513246.148951724,1400,280,999,1400,1388.8872131179201,24513246.148951724]
["02810281","0281","0281",1401,281,"Springfield                  ",281,"Springfield",600170350.39999998,1,{"$f":"X1410","v":640504628.06999993},{"$f":"IF(K1414>0, K1410/K1414, 0)","v":1},null,{"$f":"ROUND(M1414*L1410,0)","v":57346053},54330699,{"$f":"N1410-O1410","v":3015354},5.550000378239198,28380,28270,281,281,1401,28270,640504628.06999993,1401,281,281,1401,28270,640504628.06999993]
["02810998","0281","0998",1402,281,"",998,"",0,0,0,{"$f":"IF(K1414>0, K1411/K1414, 0)","v":0},null,{"$f":"ROUND(M1414*L1411,0)","v":0},0,{"$f":"N1411-O1411","v":0},0,0,0,281,998,1402,0,0,1402,281,998,1402,0,0]
["02810998","0281","0998",1403,281,"",998,"",0,0,0,{"$f":"IF(K1414>0, K1412/K1414, 0)","v":0},null,{"$f":"ROUND(M1414*L1412,0)","v":0},0,{"$f":"N1412-O1412","v":0},0,0,0,281,998,1403,0,0,1403,281,998,1403,0,0]
["02810998","0281","0998",1404,281,"",998,"",0,0,0,{"$f":"IF(K1414>0, K1413/K1414, 0)","v":0},null,{"$f":"ROUND(M1414*L1413,0)","v":0},0,{"$f":"N1413-O1413","v":0},0,0,0,281,998,1404,0,0,1404,281,998,1404,0,0]
["02810999","0281","0999",1405,281,"Springfield                  ",999,"Total",600170350.39999998,1,{"$f":"SUM(K1410:K1413)","v":640504628.06999993},{"$f":"SUM(L1410:L1413)","v":1},{"$f":"VLOOKUP(E1414,town351,24)","v":57346053},{"$f":"SUM(N1410:N1413)","v":57346053},54330699,{"$f":"SUM(P1410:P1413)","v":3015354},5.550000378239198,28380,28270,281,999,1405,28270,640504628.06999993,1405,281,999,1405,28270,640504628.06999993]
["02820282","0282","0282",1406,282,"Sterling                     ",282,"Sterling",0,0,{"$f":"X1415","v":0},{"$f":"IF(K1419>0, K1415/K1419, 0)","v":0},null,{"$f":"ROUND(M1419*L1415,0)","v":0},0,{"$f":"N1415-O1415","v":0},0,0,0,282,282,1406,0,0,1406,282,282,1406,0,0]
["02820775","0282","0775",1407,282,"Sterling                     ",775,"Wachusett",11905315.355886368,0.90072985489026491,11951938.439142823,{"$f":"IF(K1419>0, K1416/K1419, 0)","v":0.90198608691503068},null,{"$f":"ROUND(M1419*L1416,0)","v":9860350},9821885,{"$f":"N1416-O1416","v":38465},0.39162543646153464,904.66949531174998,868.54653464474995,282,775,1407,868.54653464474995,11951938.439142823,1407,282,775,1407,868.54653464474995,11951938.439142823]
["02820832","0282","0832",1408,282,"Sterling                     ",832,"Montachusett",1312094.1606848142,9.9270145109735045E-2,1298752.0233018883,{"$f":"IF(K1419>0, K1417/K1419, 0)","v":9.8013913084969345E-2},null,{"$f":"ROUND(M1419*L1417,0)","v":1071470},1082478,{"$f":"N1417-O1417","v":-11008},-1.0169259790961109,63.000000003840007,60.000000005060002,282,832,1408,60.000000005060002,1298752.0233018883,1408,282,832,1408,60.000000005060002,1298752.0233018883]
[{"$f":"B1418&C1418","v":"02820998"},"0282","0998",1409,282,"",998,"",0,0,0,{"$f":"IF(K1419>0, K1418/K1419, 0)","v":0},null,{"$f":"ROUND(M1419*L1418,0)","v":0},0,{"$f":"N1418-O1418","v":0},0,0,0,{"$f":"VLOOKUP($D1418, foundoptions, VLOOKUP($T$6, foundoptcell, 2, FALSE), FALSE)","v":282},{"$f":"VLOOKUP($D1418, foundoptions, VLOOKUP($T$6, foundoptcell, 2, FALSE)+1, FALSE)","v":998},{"$f":"VLOOKUP($D1418, foundoptions, VLOOKUP($T$6, foundoptcell, 2, FALSE)+2, FALSE)","v":1409},{"$f":"VLOOKUP($D1418, foundoptions, VLOOKUP($T$6, foundoptcell, 2, FALSE)+3, FALSE)","v":0},{"$f":"VLOOKUP($D1418, foundoptions, VLOOKUP($T$6, foundoptcell, 2, FALSE)+4, FALSE)","v":0},1409,282,998,1409,0,0]
["02820999","0282","0999",1410,282,"Sterling                     ",999,"Total",13217409.516571183,1,{"$f":"SUM(K1415:K1418)","v":13250690.462444711},{"$f":"SUM(L1415:L1418)","v":1},{"$f":"VLOOKUP(E1419,town351,24)","v":10931820},{"$f":"SUM(N1415:N1418)","v":10931820},10904363,{"$f":"SUM(P1415:P1418)","v":27457},0.25179829394894504,967.66949531558998,{"$f":"W1419","v":928.54653464980993},282,999,1410,928.54653464980993,13250690.462444711,{"$f":"D1419","v":1410},282,999,1410,928.54653464980993,13250690.462444711]
["02830283","0283","0283",1411,283,"Stockbridge                  ",283,"Stockbridge",0,0,{"$f":"X1420","v":0},{"$f":"IF(K1424>0, K1420/K1424, 0)","v":0},null,{"$f":"ROUND(M1424*L1420,0)","v":0},0,{"$f":"N1420-O1420","v":0},0,0,0,283,283,1411,0,0,1411,283,283,1411,0,0]
["02830618","0283","0618",1412,283,"Stockbridge                  ",618,"Berkshire Hills",2152466.6038236013,1,2115701.6564151328,{"$f":"IF(K1424>0, K1421/K1424, 0)","v":1},null,{"$f":"ROUND(M1424*L1421,0)","v":1745454},1775785,{"$f":"N1421-O1421","v":-30331},-1.7080333486317318,126.07766990130001,120.98230088237999,283,618,1412,120.98230088237999,2115701.6564151328,1412,283,618,1412,120.98230088237999,2115701.6564151328]
["02830998","0283","0998",1413,283,"",998,"",0,0,0,{"$f":"IF(K1424>0, K1422/K1424, 0)","v":0},null,{"$f":"ROUND(M1424*L1422,0)","v":0},0,{"$f":"N1422-O1422","v":0},0,0,0,283,998,1413,0,0,1413,283,998,1413,0,0]
["02830998","0283","0998",1414,283,"",998,"",0,0,0,{"$f":"IF(K1424>0, K1423/K1424, 0)","v":0},null,{"$f":"ROUND(M1424*L1423,0)","v":0},0,{"$f":"N1423-O1423","v":0},0,0,0,283,998,1414,0,0,1414,283,998,1414,0,0]
["02830999","0283","0999",1415,283,"Stockbridge                  ",999,"Total",2152466.6038236013,1,{"$f":"SUM(K1420:K1423)","v":2115701.6564151328},{"$f":"SUM(L1420:L1423)","v":1},{"$f":"VLOOKUP(E1424,town351,24)","v":1745454},{"$f":"SUM(N1420:N1423)","v":1745454},1775785,{"$f":"SUM(P1420:P1423)","v":-30331},{"$f":"IF(O1424>0,P1424*100/O1424,IF(P1424>0,100,0))","v":-1.7080333486317318},126.07766990130001,120.98230088237999,283,999,1415,120.98230088237999,2115701.6564151328,1415,283,999,1415,120.98230088237999,2115701.6564151328]
["02840284","0284","0284",1416,284,"Stoneham                     ",284,"Stoneham",35320286.730629995,0.95456093427208766,{"$f":"X1425","v":36759959.435520001},{"$f":"IF(K1429>0, K1425/K1429, 0)","v":0.95178707980284682},null,{"$f":"ROUND(M1429*L1425,0)","v":28768336},27572799,{"$f":"N1425-O1425","v":1195537},4.3359290436926621,2511,2498,284,284,1416,2498,36759959.435520001,1416,284,284,1416,2498,36759959.435520001]
["02840853","0284","0853",1417,284,"Stoneham                     ",853,"Northeast Metropolitan",1681318.3660251703,4.5439065727912335E-2,1862081.371268908,{"$f":"IF(K1429>0, K1426/K1429, 0)","v":4.8212920197153203E-2},null,{"$f":"ROUND(M1429*L1426,0)","v":1457264},1312522,{"$f":"N1426-O1426","v":144742},11.02777705821312,67.999999999590003,72.000000004080007,284,853,1417,72.000000004080007,1862081.371268908,1417,284,853,1417,72.000000004080007,1862081.371268908]
["02840998","0284","0998",1418,284,"",998,null,0,0,0,{"$f":"IF(K1429>0, K1427/K1429, 0)","v":0},null,{"$f":"ROUND(M1429*L1427,0)","v":0},0,{"$f":"N1427-O1427","v":0},0,0,0,284,998,1418,0,0,1418,284,998,1418,0,0]
["02840998","0284","0998",1419,284,"",998,"",0,0,0,{"$f":"IF(K1429>0, K1428/K1429, 0)","v":0},null,{"$f":"ROUND(M1429*L1428,0)","v":0},0,{"$f":"N1428-O1428","v":0},0,0,0,284,998,1419,0,0,1419,284,998,1419,0,0]
["02840999","0284","0999",1420,284,"Stoneham                     ",999,"Total",37001605.096655168,1,{"$f":"SUM(K1425:K1428)","v":38622040.806788906},{"$f":"SUM(L1425:L1428)","v":1},{"$f":"VLOOKUP(E1429,town351,24)","v":30225600},{"$f":"SUM(N1425:N1428)","v":30225600},28885321,{"$f":"SUM(P1425:P1428)","v":1340279},4.6400003655836128,2578.9999999995898,2570.00000000408,284,999,1420,2570.00000000408,38622040.806788906,1420,284,999,1420,2570.00000000408,38622040.806788906]
["02850285","0285","0285",1421,285,"Stoughton                    ",285,"Stoughton",65412011.168519996,0.96120461765623422,{"$f":"X1430","v":64112449.850499995},{"$f":"IF(K1434>0, K1430/K1434, 0)","v":0.9561524522992757},null,{"$f":"ROUND(M1434*L1430,0)","v":36135976},33998047,{"$f":"N1430-O1430","v":2137929},6.2883876829748484,3860,3656,285,285,1421,3656,64112449.850499995,1421,285,285,1421,3656,64112449.850499995]
["02850872","0285","0872",1422,285,"Stoughton                    ",872,"Southeastern",2503409.6451210701,3.6786652295038608E-2,2778205.3068463076,{"$f":"IF(K1434>0, K1431/K1434, 0)","v":4.1433260206500164E-2},null,{"$f":"ROUND(M1434*L1431,0)","v":1565892},1301153,{"$f":"N1431-O1431","v":264739},20.346492687639348,110.00000000247999,117.06778679628999,285,872,1422,117.06778679628999,2778205.3068463076,1422,285,872,1422,117.06778679628999,2778205.3068463076]
["02850915","0285","0915",1423,285,"Stoughton                    ",915,"Norfolk County",136698.33661667755,2.0087300487270691E-3,161884.10700189276,{"$f":"IF(K1434>0, K1432/K1434, 0)","v":2.4142874942241965E-3},null,{"$f":"ROUND(M1434*L1432,0)","v":91243},71049,{"$f":"N1432-O1432","v":20194},28.422637897788849,5.9999999992299999,6.9999999992999999,285,915,1423,6.9999999992999999,161884.10700189276,1423,285,915,1423,6.9999999992999999,161884.10700189276]
["02850998","0285","0998",1424,285,"",998,"",0,0,0,{"$f":"IF(K1434>0, K1433/K1434, 0)","v":0},null,{"$f":"ROUND(M1434*L1433,0)","v":0},0,{"$f":"N1433-O1433","v":0},0,0,0,285,998,1424,0,0,1424,285,998,1424,0,0]
["02850999","0285","0999",1425,285,"Stoughton                    ",999,"Total",68052119.150257751,0.99999999999999989,{"$f":"SUM(K1430:K1433)","v":67052539.264348194},{"$f":"SUM(L1430:L1433)","v":1},{"$f":"VLOOKUP(E1434,town351,24)","v":37793111},{"$f":"SUM(N1430:N1433)","v":37793111},35370249,{"$f":"SUM(P1430:P1433)","v":2422862},6.8499998402612317,3976.0000000017103,3780.0677867955901,285,999,1425,3780.0677867955901,67052539.264348194,1425,285,999,1425,3780.0677867955901,67052539.264348194]
["02860286","0286","0286",1426,286,"Stow                         ",286,"Stow",0,0,{"$f":"X1435","v":0},{"$f":"IF(K1439>0, K1435/K1439, 0)","v":0},null,{"$f":"ROUND(M1439*L1435,0)","v":0},0,{"$f":"N1435-O1435","v":0},0,0,0,286,286,1426,0,0,1426,286,286,1426,0,0]
["02860725","0286","0725",1427,286,"Stow                         ",725,"Nashoba",13599767.175128456,0.90343651453571583,14095970.542977121,{"$f":"IF(K1439>0, K1436/K1439, 0)","v":0.92021395853665},null,{"$f":"ROUND(M1439*L1436,0)","v":11629175},11219808,{"$f":"N1436-O1436","v":409367},3.648609673178008,1016.27984084235,1003.6320000000001,286,725,1427,1003.6320000000001,14095970.542977121,1427,286,725,1427,1003.6320000000001,14095970.542977121]
["02860830","0286","0830",1428,286,"Stow                         ",830,"Minuteman",1453606.201214982,9.6563485464284171E-2,1222174.1256746417,{"$f":"IF(K1439>0, K1437/K1439, 0)","v":7.9786041463349888E-2},null,{"$f":"ROUND(M1439*L1437,0)","v":1008294},1199225,{"$f":"N1437-O1437","v":-190931},-15.921199107757094,66.999999997700002,54.000000002390003,286,830,1428,54.000000002390003,1222174.1256746417,1428,286,830,1428,54.000000002390003,1222174.1256746417]
["02860998","0286","0998",1429,286,"",998,"",0,0,0,{"$f":"IF(K1439>0, K1438/K1439, 0)","v":0},null,{"$f":"ROUND(M1439*L1438,0)","v":0},0,{"$f":"N1438-O1438","v":0},0,0,0,286,998,1429,0,0,1429,286,998,1429,0,0]
["02860999","0286","0999",1430,286,"Stow                         ",999,"Total",15053373.376343438,1,{"$f":"SUM(K1435:K1438)","v":15318144.668651763},{"$f":"SUM(L1435:L1438)","v":0.99999999999999989},{"$f":"VLOOKUP(E1439,town351,24)","v":12637469},{"$f":"SUM(N1435:N1438)","v":12637469},12419033,{"$f":"SUM(P1435:P1438)","v":218436},1.7588809048176295,1083.2798408400499,1057.63200000239,286,999,1430,1057.63200000239,15318144.668651763,1430,286,999,1430,1057.63200000239,15318144.668651763]
["02870287","0287","0287",1431,287,"Sturbridge                   ",287,"Sturbridge",10928183.49,0.45938014160415297,{"$f":"X1440","v":10921745.060000002},{"$f":"IF(K1444>0, K1440/K1444, 0)","v":0.46079613419732879},null,{"$f":"ROUND(M1444*L1440,0)","v":6692501},6377304,{"$f":"N1440-O1440","v":315197},4.9424803961046866,827,793,287,287,1431,793,10921745.060000002,1431,287,287,1431,793,10921745.060000002]
["02870770","0287","0770",1432,287,"Sturbridge                   ",770,"Tantasqua",12860793.220745143,0.54061985839584714,12780157.472287595,{"$f":"IF(K1444>0, K1441/K1444, 0)","v":0.53920386580267121},null,{"$f":"ROUND(M1444*L1441,0)","v":7831278},7505108,{"$f":"N1441-O1441","v":326170},4.3459734356920645,787.00000000160003,747.00000000520004,287,770,1432,747.00000000520004,12780157.472287595,1432,287,770,1432,747.00000000520004,12780157.472287595]
["02870998","0287","0998",1433,287,"",998,"",0,0,0,{"$f":"IF(K1444>0, K1442/K1444, 0)","v":0},null,{"$f":"ROUND(M1444*L1442,0)","v":0},0,{"$f":"N1442-O1442","v":0},0,0,0,287,998,1433,0,0,1433,287,998,1433,0,0]
["02870998","0287","0998",1434,287,"",998,"",0,0,0,{"$f":"IF(K1444>0, K1443/K1444, 0)","v":0},null,{"$f":"ROUND(M1444*L1443,0)","v":0},0,{"$f":"N1443-O1443","v":0},0,0,0,287,998,1434,0,0,1434,287,998,1434,0,0]
["02870999","0287","0999",1435,287,"Sturbridge                   ",999,"Total",23788976.710745141,1,{"$f":"SUM(K1440:K1443)","v":23701902.532287598},{"$f":"SUM(L1440:L1443)","v":1},{"$f":"VLOOKUP(E1444,town351,24)","v":14523779},{"$f":"SUM(N1440:N1443)","v":14523779},13882412,{"$f":"SUM(P1440:P1443)","v":641367},4.6199968708607697,1614.0000000016,1540.0000000052,287,999,1435,1540.0000000052,23701902.532287598,1435,287,999,1435,1540.0000000052,23701902.532287598]
["02880288","0288","0288",1436,288,"Sudbury                      ",288,"Sudbury",30743352.286760002,0.62792850486360485,{"$f":"X1445","v":32224355.789999999},{"$f":"IF(K1449>0, K1445/K1449, 0)","v":0.646412060305951},null,{"$f":"ROUND(M1449*L1445,0)","v":26585094},24941706,{"$f":"N1445-O1445","v":1643388},6.5889157702364063,2492,2507,288,288,1436,2507,32224355.789999999,1436,288,288,1436,2507,32224355.789999999]
["02880695","0288","0695",1437,288,"Sudbury                      ",695,"Lincoln Sudbury",18216604.218858264,0.37207149513639515,17626749.671658628,{"$f":"IF(K1449>0, K1446/K1449, 0)","v":0.353587939694049},null,{"$f":"ROUND(M1449*L1446,0)","v":14542068},14778909,{"$f":"N1446-O1446","v":-236841},-1.6025607844259682,1305.9398114593801,1217.3656080537,288,695,1437,1217.3656080537,17626749.671658628,1437,288,695,1437,1217.3656080537,17626749.671658628]
["02880830","0288","0830",1438,288,null,998,null,0,0,0,{"$f":"IF(K1449>0, K1447/K1449, 0)","v":0},null,{"$f":"ROUND(M1449*L1447,0)","v":0},0,{"$f":"N1447-O1447","v":0},0,0,0,288,998,1438,0,0,1438,288,998,1438,0,0]
["02880998","0288","0998",1439,288,"",998,"",0,0,0,{"$f":"IF(K1449>0, K1448/K1449, 0)","v":0},null,{"$f":"ROUND(M1449*L1448,0)","v":0},0,{"$f":"N1448-O1448","v":0},0,0,0,288,998,1439,0,0,1439,288,998,1439,0,0]
["02880999","0288","0999",1440,288,"Sudbury                      ",999,"Total",48959956.505618267,1,{"$f":"SUM(K1445:K1448)","v":49851105.461658627},{"$f":"SUM(L1445:L1448)","v":1},{"$f":"VLOOKUP(E1449,town351,24)","v":41127162},{"$f":"SUM(N1445:N1448)","v":41127162},39720615,{"$f":"SUM(P1445:P1448)","v":1406547},3.5411007609021161,3797.9398114593801,3724.3656080537003,288,999,1440,3724.3656080537003,49851105.461658627,1440,288,999,1440,3724.3656080537003,49851105.461658627]
["02890289","0289","0289",1441,289,"Sunderland                   ",289,"Sunderland",2093428.05,0.50403577094074181,{"$f":"X1450","v":2272880.0099999998},{"$f":"IF(K1454>0, K1450/K1454, 0)","v":0.49912904829470595},null,{"$f":"ROUND(M1454*L1450,0)","v":1805015},1712476,{"$f":"N1450-O1450","v":92539},5.4038129585465722,142,145,289,289,1441,145,2272880.0099999998,1441,289,289,1441,145,2272880.0099999998]
["02890670","0289","0670",1442,289,"Sunderland                   ",670,"Frontier",1855845.0466382678,0.44683278645706326,2070203.9564422767,{"$f":"IF(K1454>0, K1451/K1454, 0)","v":0.45462097691420522},null,{"$f":"ROUND(M1454*L1451,0)","v":1644059},1518127,{"$f":"N1451-O1451","v":125932},8.295221677764772,128.27176220903999,136.00000000110001,289,670,1442,136.00000000110001,2070203.9564422767,1442,289,670,1442,136.00000000110001,2070203.9564422767]
["02890818","0289","0818",1443,289,"Sunderland                   ",818,"Franklin County",204059.20771939043,4.9131442602194965E-2,210608.14537807062,{"$f":"IF(K1454>0, K1452/K1454, 0)","v":4.6249974791088715E-2},null,{"$f":"ROUND(M1454*L1452,0)","v":167255},166925,{"$f":"N1452-O1452","v":330},0.19769357495881384,9.0000000024000002,8.9999999995500009,289,818,1443,8.9999999995500009,210608.14537807062,1443,289,818,1443,8.9999999995500009,210608.14537807062]
["02890998","0289","0998",1444,289,"",998,"",0,0,0,{"$f":"IF(K1454>0, K1453/K1454, 0)","v":0},null,{"$f":"ROUND(M1454*L1453,0)","v":0},0,{"$f":"N1453-O1453","v":0},0,0,0,289,998,1444,0,0,1444,289,998,1444,0,0]
["02890999","0289","0999",1445,289,"Sunderland                   ",999,"Total",4153332.3043576581,1,{"$f":"SUM(K1450:K1453)","v":4553692.1118203476},{"$f":"SUM(L1450:L1453)","v":0.99999999999999989},{"$f":"VLOOKUP(E1454,town351,24)","v":3616329},{"$f":"SUM(N1450:N1453)","v":3616329},3397528,{"$f":"SUM(P1450:P1453)","v":218801},6.440005792446744,279.27176221143998,290.00000000065006,289,999,1445,290.00000000065006,4553692.1118203476,1445,289,999,1445,290.00000000065006,4553692.1118203476]
["02900290","0290","0290",1446,290,"Sutton                       ",290,"Sutton",17087859.710000001,0.91503548395627521,{"$f":"X1455","v":17294423.279999997},{"$f":"IF(K1459>0, K1455/K1459, 0)","v":0.92001611210000989},null,{"$f":"ROUND(M1459*L1455,0)","v":14267899},14097484,{"$f":"N1455-O1455","v":170415},1.2088327250451216,1280,1245,290,290,1446,1245,17294423.279999997,1446,290,290,1446,1245,17294423.279999997]
["02900805","0290","0805",1447,290,"Sutton                       ",805,"Blackstone Valley",1586672.6000678132,8.4964516043724764E-2,1503533.6824320001,{"$f":"IF(K1459>0, K1456/K1459, 0)","v":7.9983887899990141E-2},null,{"$f":"ROUND(M1459*L1456,0)","v":1240415},1309005,{"$f":"N1456-O1456","v":-68590},-5.2398577545540315,78.999999993869991,72,290,805,1447,72,1503533.6824320001,1447,290,805,1447,72,1503533.6824320001]
["02900998","0290","0998",1448,290,"",998,"",0,0,0,{"$f":"IF(K1459>0, K1457/K1459, 0)","v":0},null,{"$f":"ROUND(M1459*L1457,0)","v":0},0,{"$f":"N1457-O1457","v":0},0,0,0,290,998,1448,0,0,1448,290,998,1448,0,0]
["02900998","0290","0998",1449,290,"",998,"",0,0,0,{"$f":"IF(K1459>0, K1458/K1459, 0)","v":0},null,{"$f":"ROUND(M1459*L1458,0)","v":0},0,{"$f":"N1458-O1458","v":0},0,0,0,290,998,1449,0,0,1449,290,998,1449,0,0]
["02900999","0290","0999",1450,290,"Sutton                       ",999,"Total",18674532.310067814,1,{"$f":"SUM(K1455:K1458)","v":18797956.962431997},{"$f":"SUM(L1455:L1458)","v":1},{"$f":"VLOOKUP(E1459,town351,24)","v":15508314},{"$f":"SUM(N1455:N1458)","v":15508314},15406489,{"$f":"SUM(P1455:P1458)","v":101825},0.66092280986277929,1358.99999999387,1317,290,999,1450,1317,18797956.962431997,1450,290,999,1450,1317,18797956.962431997]
["02910291","0291","0291",1451,291,"Swampscott                   ",291,"Swampscott",28287967.390000001,0.98402383609690669,{"$f":"X1460","v":28972097.420000002},{"$f":"IF(K1464>0, K1460/K1464, 0)","v":0.97690853014790824},null,{"$f":"ROUND(M1464*L1460,0)","v":23020797},22504337,{"$f":"N1460-O1460","v":516460},2.2949354162266591,2055,2036,291,291,1451,2036,28972097.420000002,1451,291,291,1451,2036,28972097.420000002]
["02910817","0291","0817",1452,291,"Swampscott                   ",817,"Essex North Shore",459270.58566038025,1.5976163903093369E-2,684821.8574000001,{"$f":"IF(K1464>0, K1461/K1464, 0)","v":2.3091469852091727E-2},null,{"$f":"ROUND(M1464*L1461,0)","v":544149},365370,{"$f":"N1461-O1461","v":178779},48.930946711552672,22.00000000248,31,291,817,1452,31,684821.8574000001,1452,291,817,1452,31,684821.8574000001]
["02910998","0291","0998",1453,291,"",998,null,0,0,0,{"$f":"IF(K1464>0, K1462/K1464, 0)","v":0},null,{"$f":"ROUND(M1464*L1462,0)","v":0},0,{"$f":"N1462-O1462","v":0},0,0,0,291,998,1453,0,0,1453,291,998,1453,0,0]
["02910998","0291","0998",1454,291,"",998,"",0,0,0,{"$f":"IF(K1464>0, K1463/K1464, 0)","v":0},null,{"$f":"ROUND(M1464*L1463,0)","v":0},0,{"$f":"N1463-O1463","v":0},0,0,0,291,998,1454,0,0,1454,291,998,1454,0,0]
["02910999","0291","0999",1455,291,"Swampscott                   ",999,"Total",28747237.97566038,1,{"$f":"SUM(K1460:K1463)","v":29656919.277400002},{"$f":"SUM(L1460:L1463)","v":1},{"$f":"VLOOKUP(E1464,town351,24)","v":23564946},{"$f":"SUM(N1460:N1463)","v":23564946},22869707,{"$f":"SUM(P1460:P1463)","v":695239},3.039999594223048,2077.0000000024802,2067,291,999,1455,2067,29656919.277400002,1455,291,999,1455,2067,29656919.277400002]
["02920292","0292","0292",1456,292,"Swansea                      ",292,"Swansea",27821964.430000003,0.87680787615614597,{"$f":"X1465","v":28217787.699999999},{"$f":"IF(K1469>0, K1465/K1469, 0)","v":0.87922496233215741},null,{"$f":"ROUND(M1469*L1465,0)","v":19146600},18113997,{"$f":"N1465-O1465","v":1032603},5.7005806062571391,1999,1961,292,292,1456,1961,28217787.699999999,1456,292,292,1456,1961,28217787.699999999]
["02920821","0292","0821",1457,292,"Swansea                      ",821,"Greater Fall River",3295511.2044608095,0.10385787773189474,3437693.7546126731,{"$f":"IF(K1469>0, K1466/K1469, 0)","v":0.1071135056384601},null,{"$f":"ROUND(M1469*L1466,0)","v":2332576},2145603,{"$f":"N1466-O1466","v":186973},8.7142402392241252,144.99999999560001,144.99999999741999,292,821,1457,144.99999999741999,3437693.7546126731,1457,292,821,1457,144.99999999741999,3437693.7546126731]
["02920910","0292","0910",1458,292,"Swansea                      ",910,"Bristol County",613494.38370236929,1.933424611195932E-2,438452.30399205838,{"$f":"IF(K1469>0, K1467/K1469, 0)","v":1.3661532029382487E-2},null,{"$f":"ROUND(M1469*L1467,0)","v":297503},399427,{"$f":"N1467-O1467","v":-101924},-25.517553895955956,29.000000001,19.999999998940002,292,910,1458,19.999999998940002,438452.30399205838,1458,292,910,1458,19.999999998940002,438452.30399205838]
["02920998","0292","0998",1459,292,"",998,"",0,0,0,{"$f":"IF(K1469>0, K1468/K1469, 0)","v":0},null,{"$f":"ROUND(M1469*L1468,0)","v":0},0,{"$f":"N1468-O1468","v":0},0,0,0,292,998,1459,0,0,1459,292,998,1459,0,0]
["02920999","0292","0999",1460,292,"Swansea                      ",999,"Total",31730970.018163182,1,{"$f":"SUM(K1465:K1468)","v":32093933.758604731},{"$f":"SUM(L1465:L1468)","v":1},{"$f":"VLOOKUP(E1469,town351,24)","v":21776679},{"$f":"SUM(N1465:N1468)","v":21776679},20659027,{"$f":"SUM(P1465:P1468)","v":1117652},5.4099934135329804,2172.9999999965999,2125.9999999963597,292,999,1460,2125.9999999963597,32093933.758604731,1460,292,999,1460,2125.9999999963597,32093933.758604731]
["02930293","0293","0293",1461,293,"Taunton                      ",293,"Taunton",153498975.16,0.93088618453427907,{"$f":"X1470","v":160533555.88},{"$f":"IF(K1474>0, K1470/K1474, 0)","v":0.93618627319538472},null,{"$f":"ROUND(M1474*L1470,0)","v":50916140},48056845,{"$f":"N1470-O1470","v":2859295},5.9498183869540329,8457,8364,293,293,1461,8364,160533555.88,1461,293,293,1461,8364,160533555.88]
["02930810","0293","0810",1462,293,"Taunton                      ",810,"Bristol Plymouth",10359965.599012004,6.2827447794477326E-2,9890242.438542679,{"$f":"IF(K1474>0, K1471/K1474, 0)","v":5.767709535107636E-2},null,{"$f":"ROUND(M1474*L1471,0)","v":3136870},3243457,{"$f":"N1471-O1471","v":-106587},-3.2862159109863334,498.81519357186005,458.34214391265999,293,810,1462,458.34214391265999,9890242.438542679,1462,293,810,1462,458.34214391265999,9890242.438542679]
["02930910","0293","0910",1463,293,"Taunton                      ",910,"Bristol County",1036593.9585811001,6.2863676712435765E-3,1052285.5296726644,{"$f":"IF(K1474>0, K1472/K1474, 0)","v":6.13663145353909E-3},null,{"$f":"ROUND(M1474*L1472,0)","v":333752},324533,{"$f":"N1472-O1472","v":9219},2.8406972480456534,48.999999997510002,48.000000001640004,293,910,1463,48.000000001640004,1052285.5296726644,1463,293,910,1463,48.000000001640004,1052285.5296726644]
["02930998","0293","0998",1464,293,"",998,"",0,0,0,{"$f":"IF(K1474>0, K1473/K1474, 0)","v":0},null,{"$f":"ROUND(M1474*L1473,0)","v":0},0,{"$f":"N1473-O1473","v":0},0,0,0,293,998,1464,0,0,1464,293,998,1464,0,0]
["02930999","0293","0999",1465,293,"Taunton                      ",999,"Total",164895534.7175931,1,{"$f":"SUM(K1470:K1473)","v":171476083.84821531},{"$f":"SUM(L1470:L1473)","v":1.0000000000000002},{"$f":"VLOOKUP(E1474,town351,24)","v":54386762},{"$f":"SUM(N1470:N1473)","v":54386762},51624835,{"$f":"SUM(P1470:P1473)","v":2761927},5.3499967602802023,9004.8151935693695,8870.3421439143003,293,999,1465,8870.3421439143003,171476083.84821531,1465,293,999,1465,8870.3421439143003,171476083.84821531]
["02940294","0294","0294",1466,294,"Templeton                    ",294,"Templeton",17354.29,9.0143725091999978E-4,{"$f":"X1475","v":18046.96},{"$f":"IF(K1479>0, K1475/K1479, 0)","v":9.5875577840891951E-4},null,{"$f":"ROUND(M1479*L1475,0)","v":6581},5861,{"$f":"N1475-O1475","v":720},12.284593072854461,1,1,294,294,1466,1,18046.96,1466,294,294,1466,1,18046.96]
["02940720","0294","0720",1467,294,"Templeton                    ",720,"Narragansett",17505814.089828175,0.90930789610242235,17138534.164676122,{"$f":"IF(K1479>0, K1476/K1479, 0)","v":0.91049510077275719},null,{"$f":"ROUND(M1479*L1476,0)","v":6249750},5912287,{"$f":"N1476-O1476","v":337463},5.7078250768272918,1149.0288035415299,1099.1781033126201,294,720,1467,1099.1781033126201,17138534.164676122,1467,294,720,1467,1099.1781033126201,17138534.164676122]
["02940832","0294","0832",1468,294,"Templeton                    ",832,"Montachusett",1728631.9892916365,8.9790666646657594E-2,1666731.7631475134,{"$f":"IF(K1479>0, K1477/K1479, 0)","v":8.8546143448833783E-2},null,{"$f":"ROUND(M1479*L1477,0)","v":607792},583816,{"$f":"N1477-O1477","v":23976},4.1067733669512316,82.99999999632,77.000000002340002,294,832,1468,77.000000002340002,1666731.7631475134,1468,294,832,1468,77.000000002340002,1666731.7631475134]
["02940998","0294","0998",1469,294,"",998,"",0,0,0,{"$f":"IF(K1479>0, K1478/K1479, 0)","v":0},null,{"$f":"ROUND(M1479*L1478,0)","v":0},0,{"$f":"N1478-O1478","v":0},0,0,0,294,998,1469,0,0,1469,294,998,1469,0,0]
["02940999","0294","0999",1470,294,"Templeton                    ",999,"Total",19251800.369119812,0.99999999999999989,{"$f":"SUM(K1475:K1478)","v":18823312.887823638},{"$f":"SUM(L1475:L1478)","v":0.99999999999999989},{"$f":"VLOOKUP(E1479,town351,24)","v":6864123},{"$f":"SUM(N1475:N1478)","v":6864123},6501964,{"$f":"SUM(P1475:P1478)","v":362159},5.569993927988528,1233.0288035378499,1177.17810331496,294,999,1470,1177.17810331496,18823312.887823638,1470,294,999,1470,1177.17810331496,18823312.887823638]
["02950295","0295","0295",1471,295,"Tewksbury                    ",295,"Tewksbury",44323386.889999993,0.85951989538310414,{"$f":"X1480","v":46625859.059999995},{"$f":"IF(K1484>0, K1480/K1484, 0)","v":0.86227520450312234},null,{"$f":"ROUND(M1484*L1480,0)","v":37685831},35797036,{"$f":"N1480-O1480","v":1888795},5.2764005377428456,3274,3316,295,295,1471,3316,46625859.059999995,1471,295,295,1471,3316,46625859.059999995]
["02950871","0295","0871",1472,295,"Tewksbury                    ",871,"Shawsheen Valley",7244223.2701397315,0.14048010461689589,7447201.1608000295,{"$f":"IF(K1484>0, K1481/K1484, 0)","v":0.13772479549687758},null,{"$f":"ROUND(M1484*L1481,0)","v":6019277},5850675,{"$f":"N1481-O1481","v":168602},2.8817529601285323,353.99999999767999,349.99999999689004,295,871,1472,349.99999999689004,7447201.1608000295,1472,295,871,1472,349.99999999689004,7447201.1608000295]
[{"$f":"B1482&C1482","v":"02950998"},"0295","0998",1473,295,"",998,null,0,0,0,{"$f":"IF(K1484>0, K1482/K1484, 0)","v":0},null,{"$f":"ROUND(M1484*L1482,0)","v":0},0,{"$f":"N1482-O1482","v":0},0,0,0,{"$f":"VLOOKUP($D1482, foundoptions, VLOOKUP($T$6, foundoptcell, 2, FALSE), FALSE)","v":295},{"$f":"VLOOKUP($D1482, foundoptions, VLOOKUP($T$6, foundoptcell, 2, FALSE)+1, FALSE)","v":998},{"$f":"VLOOKUP($D1482, foundoptions, VLOOKUP($T$6, foundoptcell, 2, FALSE)+2, FALSE)","v":1473},{"$f":"VLOOKUP($D1482, foundoptions, VLOOKUP($T$6, foundoptcell, 2, FALSE)+3, FALSE)","v":0},{"$f":"VLOOKUP($D1482, foundoptions, VLOOKUP($T$6, foundoptcell, 2, FALSE)+4, FALSE)","v":0},1473,295,998,1473,0,0]
["02950998","0295","0998",1474,295,"",998,"",0,0,0,{"$f":"IF(K1484>0, K1483/K1484, 0)","v":0},null,{"$f":"ROUND(M1484*L1483,0)","v":0},0,{"$f":"N1483-O1483","v":0},0,0,{"$f":"W1483","v":0},295,998,1474,0,0,{"$f":"D1483","v":1474},295,998,1474,0,0]
["02950999","0295","0999",1475,295,"Tewksbury                    ",999,"Total",51567610.160139725,1,{"$f":"SUM(K1480:K1483)","v":54073060.220800027},{"$f":"SUM(L1480:L1483)","v":0.99999999999999989},{"$f":"VLOOKUP(E1484,town351,24)","v":43705108},{"$f":"SUM(N1480:N1483)","v":43705108},41647711,{"$f":"SUM(P1480:P1483)","v":2057397},4.9400001839236731,3627.9999999976799,3665.99999999689,295,999,1475,3665.99999999689,54073060.220800027,1475,295,999,1475,3665.99999999689,54073060.220800027]
["02960296","0296","0296",1476,296,"Tisbury                      ",296,"Tisbury",6110458.1700000009,0.65217672595286791,{"$f":"X1485","v":5771702.3499999987},{"$f":"IF(K1489>0, K1485/K1489, 0)","v":0.63499245177288033},null,{"$f":"ROUND(M1489*L1485,0)","v":4761655},5041128,{"$f":"N1485-O1485","v":-279473},-5.5438584380321227,393,364,296,296,1476,364,5771702.3499999987,1476,296,296,1476,364,5771702.3499999987]
["02960700","0296","0700",1477,296,"Tisbury                      ",700,"Marthas Vineyard",3258870.6128882091,0.3478232740471322,3317700.7348486083,{"$f":"IF(K1489>0, K1486/K1489, 0)","v":0.36500754822711967},null,{"$f":"ROUND(M1489*L1486,0)","v":2737103},2688568,{"$f":"N1486-O1486","v":48535},1.8052360959440119,170.99999999963998,170.00000000010999,296,700,1477,170.00000000010999,3317700.7348486083,1477,296,700,1477,170.00000000010999,3317700.7348486083]
["02960998","0296","0998",1478,296,"",998,"",0,0,0,{"$f":"IF(K1489>0, K1487/K1489, 0)","v":0},null,{"$f":"ROUND(M1489*L1487,0)","v":0},0,{"$f":"N1487-O1487","v":0},0,0,0,296,998,1478,0,0,1478,296,998,1478,0,0]
["02960998","0296","0998",1479,296,"",998,"",0,0,0,{"$f":"IF(K1489>0, K1488/K1489, 0)","v":0},null,{"$f":"ROUND(M1489*L1488,0)","v":0},0,{"$f":"N1488-O1488","v":0},{"$f":"IF(O1488>0,P1488*100/O1488,IF(P1488>0,100,0))","v":0},0,0,296,998,1479,0,0,1479,296,998,1479,0,0]
["02960999","0296","0999",1480,296,"Tisbury                      ",999,"Total",9369328.7828882094,1,{"$f":"SUM(K1485:K1488)","v":9089403.084848607},{"$f":"SUM(L1485:L1488)","v":1},{"$f":"VLOOKUP(E1489,town351,24)","v":7498758},{"$f":"SUM(N1485:N1488)","v":7498758},7729696,{"$f":"SUM(P1485:P1488)","v":-230938},{"$f":"IF(O1489>0,P1489*100/O1489,IF(P1489>0,100,0))","v":-2.9876724776757069},563.99999999963995,534.00000000011005,296,999,1480,534.00000000011005,9089403.084848607,1480,296,999,1480,534.00000000011005,9089403.084848607]
["02970297","0297","0297",1481,297,"Tolland                      ",297,"Tolland",0,0,{"$f":"X1490","v":0},{"$f":"IF(K1494>0, K1490/K1494, 0)","v":0},null,{"$f":"ROUND(M1494*L1490,0)","v":0},0,{"$f":"N1490-O1490","v":0},0,0,0,297,297,1481,0,0,1481,297,297,1481,0,0]
["02970766","0297","0766",1482,297,"Tolland                      ",766,"Southwick Tolland",319489.30839282559,1,286205.5296351781,{"$f":"IF(K1494>0, K1491/K1494, 0)","v":1},null,{"$f":"ROUND(M1494*L1491,0)","v":236120},263579,{"$f":"N1491-O1491","v":-27459},-10.417749517222541,21.21140939064,18.200514133599999,297,766,1482,18.200514133599999,286205.5296351781,1482,297,766,1482,18.200514133599999,286205.5296351781]
["02970998","0297","0998",1483,297,"",998,"",0,0,0,{"$f":"IF(K1494>0, K1492/K1494, 0)","v":0},null,{"$f":"ROUND(M1494*L1492,0)","v":0},0,{"$f":"N1492-O1492","v":0},0,0,0,297,998,1483,0,0,1483,297,998,1483,0,0]
["02970998","0297","0998",1484,297,"",998,"",0,0,0,{"$f":"IF(K1494>0, K1493/K1494, 0)","v":0},null,{"$f":"ROUND(M1494*L1493,0)","v":0},0,{"$f":"N1493-O1493","v":0},0,0,0,297,998,1484,0,0,1484,297,998,1484,0,0]
["02970999","0297","0999",1485,297,"Tolland                      ",999,"Total",319489.30839282559,1,{"$f":"SUM(K1490:K1493)","v":286205.5296351781},{"$f":"SUM(L1490:L1493)","v":1},{"$f":"VLOOKUP(E1494,town351,24)","v":236120},{"$f":"SUM(N1490:N1493)","v":236120},263579,{"$f":"SUM(P1490:P1493)","v":-27459},-10.417749517222541,21.21140939064,18.200514133599999,297,999,1485,18.200514133599999,286205.5296351781,1485,297,999,1485,18.200514133599999,286205.5296351781]
["02980298","0298","0298",1486,298,"Topsfield                    ",298,"Topsfield",6879714.2048400007,0.49449882882833929,{"$f":"X1495","v":7006867.7280499991},{"$f":"IF(K1499>0, K1495/K1499, 0)","v":0.48702933243907715},null,{"$f":"ROUND(M1499*L1495,0)","v":5650936},5572112,{"$f":"N1495-O1495","v":78824},1.4146162173337506,552,534,298,298,1486,534,7006867.7280499991,1486,298,298,1486,534,7006867.7280499991]
["02980705","0298","0705",1487,298,"Topsfield                    ",705,"Masconomet",6490009.9476384874,0.46648773810018196,6739444.6744661173,{"$f":"IF(K1499>0, K1496/K1499, 0)","v":0.46844144462375742},null,{"$f":"ROUND(M1499*L1496,0)","v":5435263},5256477,{"$f":"N1496-O1496","v":178786},3.4012514465487054,472.56167109263004,470.93007914917996,298,705,1487,470.93007914917996,6739444.6744661173,1487,298,705,1487,470.93007914917996,6739444.6744661173]
["02980817","0298","0817",1488,298,"Topsfield                    ",817,"Essex North Shore",542774.3283383993,3.901343307147874E-2,640639.80210596207,{"$f":"IF(K1499>0, K1497/K1499, 0)","v":4.4529222937165568E-2},null,{"$f":"ROUND(M1499*L1497,0)","v":516667},439611,{"$f":"N1497-O1497","v":77056},17.528223816055558,25.999999994819998,29.000000001,298,817,1488,29.000000001,640639.80210596207,1488,298,817,1488,29.000000001,640639.80210596207]
["02980998","0298","0998",1489,298,"",998,null,0,0,0,{"$f":"IF(K1499>0, K1498/K1499, 0)","v":0},null,{"$f":"ROUND(M1499*L1498,0)","v":0},0,{"$f":"N1498-O1498","v":0},0,0,0,298,998,1489,0,0,1489,298,998,1489,0,0]
["02980999","0298","0999",1490,298,"Topsfield                    ",999,"Total",13912498.480816888,1,{"$f":"SUM(K1495:K1498)","v":14386952.204622077},{"$f":"SUM(L1495:L1498)","v":1.0000000000000002},{"$f":"VLOOKUP(E1499,town351,24)","v":11602866},{"$f":"SUM(N1495:N1498)","v":11602866},11268200,{"$f":"SUM(P1495:P1498)","v":334666},2.9700040822846594,1050.5616710874501,1033.9300791501801,298,999,1490,1033.9300791501801,14386952.204622077,1490,298,999,1490,1033.9300791501801,14386952.204622077]
["02990299","0299","0299",1491,299,"Townsend                     ",299,"Townsend",0,0,{"$f":"X1500","v":0},{"$f":"IF(K1504>0, K1500/K1504, 0)","v":0},null,{"$f":"ROUND(M1504*L1500,0)","v":0},0,{"$f":"N1500-O1500","v":0},0,0,0,299,299,1491,0,0,1491,299,299,1491,0,0]
["02990735","0299","0735",1492,299,"Townsend                     ",735,"North Middlesex",16104315.077100823,0.8734041407519314,16289719.518439068,{"$f":"IF(K1504>0, K1501/K1504, 0)","v":0.86364000248777284},null,{"$f":"ROUND(M1504*L1501,0)","v":8592110},8316664,{"$f":"N1501-O1501","v":275446},3.311977013860365,1146.95255473819,1111.6381578912401,299,735,1492,1111.6381578912401,16289719.518439068,1492,299,735,1492,1111.6381578912401,16289719.518439068]
["02990852","0299","0852",1493,299,"Townsend                     ",852,"Nashoba Valley",2334245.4078956074,0.1265958592480686,2550335.6375247589,{"$f":"IF(K1504>0, K1502/K1504, 0)","v":0.13521238802444377},null,{"$f":"ROUND(M1504*L1502,0)","v":1345190},1205462,{"$f":"N1502-O1502","v":139728},11.591240536823227,111.00000000368,116.00000000050001,299,852,1493,116.00000000050001,2550335.6375247589,1493,299,852,1493,116.00000000050001,2550335.6375247589]
["02990998","0299","0998",1494,299,"Townsend                     ",832,"Montachusett",0,0,21645.867049742661,{"$f":"IF(K1504>0, K1503/K1504, 0)","v":1.1476094877833165E-3},null,{"$f":"ROUND(M1504*L1503,0)","v":11417},0,{"$f":"N1503-O1503","v":11417},100,0,{"$f":"W1503","v":0.99999999983999999},299,832,1494,0.99999999983999999,21645.867049742661,1494,299,832,1494,0.99999999983999999,21645.867049742661]
["02990999","0299","0999",1495,299,"Townsend                     ",999,"Total",18438560.484996431,1,{"$f":"SUM(K1500:K1503)","v":18861701.023013569},{"$f":"SUM(L1500:L1503)","v":1},{"$f":"VLOOKUP(E1504,town351,24)","v":9948717},{"$f":"SUM(N1500:N1503)","v":9948717},9522126,{"$f":"SUM(P1500:P1503)","v":426591},4.4799974291455502,1257.95255474187,1228.63815789158,299,999,1495,1228.63815789158,18861701.023013569,1495,299,999,1495,1228.63815789158,18861701.023013569]
["03000300","0300","0300",1496,300,"Truro                        ",300,"Truro",2145078.7199999997,0.92445727996811233,{"$f":"X1505","v":2005803.2399999998},{"$f":"IF(K1509>0, K1505/K1509, 0)","v":0.90833669277099549},null,{"$f":"ROUND(M1509*L1505,0)","v":1654788},1769689,{"$f":"N1505-O1505","v":-114901},-6.4927227326383337,155,140,300,300,1496,140,2005803.2399999998,1496,300,300,1496,140,2005803.2399999998]
["03000815","0300","0815",1497,300,"Truro                        ",815,"Cape Cod",175286.71654455419,7.5542720031887736E-2,202412.34345402158,{"$f":"IF(K1509>0, K1506/K1509, 0)","v":9.1663307229004592E-2},null,{"$f":"ROUND(M1509*L1506,0)","v":166990},144612,{"$f":"N1506-O1506","v":22378},15.474511105579067,8.0000000022000002,9.0000000014000001,300,815,1497,9.0000000014000001,202412.34345402158,1497,300,815,1497,9.0000000014000001,202412.34345402158]
["03000998","0300","0998",1498,300,"",998,"",0,0,0,{"$f":"IF(K1509>0, K1507/K1509, 0)","v":0},null,{"$f":"ROUND(M1509*L1507,0)","v":0},0,{"$f":"N1507-O1507","v":0},0,0,0,300,998,1498,0,0,1498,300,998,1498,0,0]
["03000998","0300","0998",1499,300,"",998,"",0,0,0,{"$f":"IF(K1509>0, K1508/K1509, 0)","v":0},null,{"$f":"ROUND(M1509*L1508,0)","v":0},0,{"$f":"N1508-O1508","v":0},0,0,0,300,998,1499,0,0,1499,300,998,1499,0,0]
["03000999","0300","0999",1500,300,"Truro                        ",999,"Total",2320365.4365445538,1,{"$f":"SUM(K1505:K1508)","v":2208215.5834540213},{"$f":"SUM(L1505:L1508)","v":1},{"$f":"VLOOKUP(E1509,town351,24)","v":1821778},{"$f":"SUM(N1505:N1508)","v":1821778},1914301,{"$f":"SUM(P1505:P1508)","v":-92523},-4.8332524508946086,163.00000000220001,149.0000000014,300,999,1500,149.0000000014,2208215.5834540213,1500,300,999,1500,149.0000000014,2208215.5834540213]
["03010301","0301","0301",1501,301,"Tyngsborough                 ",301,"Tyngsborough",21820276.790000003,0.88953112809769253,{"$f":"X1510","v":23223406.279999997},{"$f":"IF(K1514>0, K1510/K1514, 0)","v":0.88146525028054978},null,{"$f":"ROUND(M1514*L1510,0)","v":16393254},15537955,{"$f":"N1510-O1510","v":855299},5.5045789487741468,1567,1581,301,301,1501,1581,23223406.279999997,1501,301,301,1501,1581,23223406.279999997]
["03010828","0301","0828",1502,301,"Tyngsborough                 ",828,"Greater Lowell",2709811.141451898,0.11046887190230745,3122959.9240092146,{"$f":"IF(K1514>0, K1511/K1514, 0)","v":0.11853474971945026},null,{"$f":"ROUND(M1514*L1511,0)","v":2204478},1929624,{"$f":"N1511-O1511","v":274854},14.243914876680638,115.99999999295001,130.00000001128001,301,828,1502,130.00000001128001,3122959.9240092146,1502,301,828,1502,130.00000001128001,3122959.9240092146]
["03010998","0301","0998",1503,301,"",998,"",0,0,0,{"$f":"IF(K1514>0, K1512/K1514, 0)","v":0},null,{"$f":"ROUND(M1514*L1512,0)","v":0},0,{"$f":"N1512-O1512","v":0},0,0,0,301,998,1503,0,0,1503,301,998,1503,0,0]
["03010998","0301","0998",1504,301,"",998,"",0,0,0,{"$f":"IF(K1514>0, K1513/K1514, 0)","v":0},null,{"$f":"ROUND(M1514*L1513,0)","v":0},0,{"$f":"N1513-O1513","v":0},0,0,0,301,998,1504,0,0,1504,301,998,1504,0,0]
["03010999","0301","0999",1505,301,"Tyngsborough                 ",999,"Total",24530087.931451902,1,{"$f":"SUM(K1510:K1513)","v":26346366.204009213},{"$f":"SUM(L1510:L1513)","v":1},{"$f":"VLOOKUP(E1514,town351,24)","v":18597732},{"$f":"SUM(N1510:N1513)","v":18597732},17467579,{"$f":"SUM(P1510:P1513)","v":1130153},6.4700036564884007,1682.9999999929501,1711.00000001128,301,999,1505,1711.00000001128,26346366.204009213,1505,301,999,1505,1711.00000001128,26346366.204009213]
["03020302","0302","0302",1506,302,"Tyringham                    ",302,"Tyringham",415290.22000000003,1,{"$f":"X1515","v":413286.38999999996},{"$f":"IF(K1519>0, K1515/K1519, 0)","v":1},null,{"$f":"ROUND(M1519*L1515,0)","v":340961},342614,{"$f":"N1515-O1515","v":-1653},-0.48246714962027237,35,34,302,302,1506,34,413286.38999999996,1506,302,302,1506,34,413286.38999999996]
["03020998","0302","0998",1507,302,"",998,"",0,0,0,{"$f":"IF(K1519>0, K1516/K1519, 0)","v":0},null,{"$f":"ROUND(M1519*L1516,0)","v":0},0,{"$f":"N1516-O1516","v":0},0,0,0,302,998,1507,0,0,1507,302,998,1507,0,0]
["03020998","0302","0998",1508,302,"",998,"",0,0,0,{"$f":"IF(K1519>0, K1517/K1519, 0)","v":0},null,{"$f":"ROUND(M1519*L1517,0)","v":0},0,{"$f":"N1517-O1517","v":0},0,0,0,302,998,1508,0,0,1508,302,998,1508,0,0]
["03020998","0302","0998",1509,302,"",998,"",0,0,0,{"$f":"IF(K1519>0, K1518/K1519, 0)","v":0},null,{"$f":"ROUND(M1519*L1518,0)","v":0},0,{"$f":"N1518-O1518","v":0},0,0,0,302,998,1509,0,0,1509,302,998,1509,0,0]
["03020999","0302","0999",1510,302,"Tyringham                    ",999,"Total",415290.22000000003,1,{"$f":"SUM(K1515:K1518)","v":413286.38999999996},{"$f":"SUM(L1515:L1518)","v":1},{"$f":"VLOOKUP(E1519,town351,24)","v":340961},{"$f":"SUM(N1515:N1518)","v":340961},342614,{"$f":"SUM(P1515:P1518)","v":-1653},-0.48246714962027237,35,34,302,999,1510,34,413286.38999999996,1510,302,999,1510,34,413286.38999999996]
["03030303","0303","0303",1511,303,"Upton                        ",303,"Upton",156188.61000000002,9.4618218739008306E-3,{"$f":"X1520","v":144375.67999999999},{"$f":"IF(K1524>0, K1520/K1524, 0)","v":8.4895098676950227E-3},null,{"$f":"ROUND(M1524*L1520,0)","v":116271},125121,{"$f":"N1520-O1520","v":-8850},-7.0731531877142926,9,8,303,303,1511,8,144375.67999999999,1511,303,303,1511,8,144375.67999999999]
["03030710","0303","0710",1512,303,"Upton                        ",710,"Mendon Upton",14583623.427924637,0.88346805283093255,14899039.802037422,{"$f":"IF(K1524>0, K1521/K1524, 0)","v":0.87608623154936893},null,{"$f":"ROUND(M1524*L1521,0)","v":11998726},11682753,{"$f":"N1521-O1521","v":315973},2.7046108053469933,1109.1206628611999,1083.5835515961501,303,710,1512,1083.5835515961501,14899039.802037422,1512,303,710,1512,1083.5835515961501,14899039.802037422]
["03030805","0303","0805",1513,303,"Upton                        ",805,"Blackstone Valley",1767432.7698459909,0.1070701252951667,1962946.7520640001,{"$f":"IF(K1524>0, K1522/K1524, 0)","v":0.11542425858293602},null,{"$f":"ROUND(M1524*L1522,0)","v":1580831},1415868,{"$f":"N1522-O1522","v":164963},11.651015490144561,88.000000000650004,94,303,805,1513,94,1962946.7520640001,1513,303,805,1513,94,1962946.7520640001]
["03030998","0303","0998",1514,303,"",998,"",0,0,0,{"$f":"IF(K1524>0, K1523/K1524, 0)","v":0},null,{"$f":"ROUND(M1524*L1523,0)","v":0},0,{"$f":"N1523-O1523","v":0},0,0,0,303,998,1514,0,0,1514,303,998,1514,0,0]
["03030999","0303","0999",1515,303,"Upton                        ",999,"Total",16507244.807770627,1.0000000000000002,{"$f":"SUM(K1520:K1523)","v":17006362.234101422},{"$f":"SUM(L1520:L1523)","v":1},{"$f":"VLOOKUP(E1524,town351,24)","v":13695828},{"$f":"SUM(N1520:N1523)","v":13695828},13223742,{"$f":"SUM(P1520:P1523)","v":472086},3.5699879807092425,1206.12066286185,1185.5835515961501,303,999,1515,1185.5835515961501,17006362.234101422,1515,303,999,1515,1185.5835515961501,17006362.234101422]
["03040304","0304","0304",1516,304,"Uxbridge                     ",304,"Uxbridge",22882209.760000002,0.9047088926998148,{"$f":"X1525","v":24071934.779999994},{"$f":"IF(K1529>0, K1525/K1529, 0)","v":0.91000501588179561},null,{"$f":"ROUND(M1529*L1525,0)","v":18825113},17241412,{"$f":"N1525-O1525","v":1583701},9.1854483843898631,1604,1619,304,304,1516,1619,24071934.779999994,1516,304,304,1516,1619,24071934.779999994]
["03040805","0304","0805",1517,304,"Uxbridge                     ",805,"Blackstone Valley",2410135.5951068266,9.5291107300185252E-2,2380594.997184,{"$f":"IF(K1529>0, K1526/K1529, 0)","v":8.9994984118204308E-2},null,{"$f":"ROUND(M1529*L1526,0)","v":1861710},1816002,{"$f":"N1526-O1526","v":45708},2.5169575804431932,119.99999999403001,114,304,805,1517,114,2380594.997184,1517,304,805,1517,114,2380594.997184]
["03040998","0304","0998",1518,304,"",998,"",0,0,0,{"$f":"IF(K1529>0, K1527/K1529, 0)","v":0},null,{"$f":"ROUND(M1529*L1527,0)","v":0},0,{"$f":"N1527-O1527","v":0},0,0,0,304,998,1518,0,0,1518,304,998,1518,0,0]
["03040998","0304","0998",1519,304,"",998,"",0,0,0,{"$f":"IF(K1529>0, K1528/K1529, 0)","v":0},null,{"$f":"ROUND(M1529*L1528,0)","v":0},0,{"$f":"N1528-O1528","v":0},0,0,0,304,998,1519,0,0,1519,304,998,1519,0,0]
["03040999","0304","0999",1520,304,"Uxbridge                     ",999,"Total",25292345.355106827,1,{"$f":"SUM(K1525:K1528)","v":26452529.777183995},{"$f":"SUM(L1525:L1528)","v":0.99999999999999989},{"$f":"VLOOKUP(E1529,town351,24)","v":20686823},{"$f":"SUM(N1525:N1528)","v":20686823},19057414,{"$f":"SUM(P1525:P1528)","v":1629409},8.5500005404720696,1723.9999999940301,1733,304,999,1520,1733,26452529.777183995,1520,304,999,1520,1733,26452529.777183995]
["03050305","0305","0305",1521,305,"Wakefield                    ",305,"Wakefield",46900988.453170016,0.95087435570101353,{"$f":"X1530","v":49378390.627280012},{"$f":"IF(K1534>0, K1530/K1534, 0)","v":0.94881440879466128},null,{"$f":"ROUND(M1534*L1530,0)","v":39741317},37837354,{"$f":"N1530-O1530","v":1903963},5.0319665587609537,3397,3415,305,305,1521,3415,49378390.627280012,1521,305,305,1521,3415,49378390.627280012]
["03050853","0305","0853",1522,305,"Wakefield                    ",853,"Northeast Metropolitan",2423076.4687335477,4.9125644298986415E-2,2663810.8502549822,{"$f":"IF(K1534>0, K1531/K1534, 0)","v":5.1185591205338742E-2},null,{"$f":"ROUND(M1534*L1531,0)","v":2143921},1954816,{"$f":"N1531-O1531","v":189105},9.6738005009167107,98.00000000144,102.99999999383999,305,853,1522,102.99999999383999,2663810.8502549822,1522,305,853,1522,102.99999999383999,2663810.8502549822]
["03050998","0305","0998",1523,305,"",998,null,0,0,0,{"$f":"IF(K1534>0, K1532/K1534, 0)","v":0},null,{"$f":"ROUND(M1534*L1532,0)","v":0},0,{"$f":"N1532-O1532","v":0},0,0,0,305,998,1523,0,0,1523,305,998,1523,0,0]
["03050998","0305","0998",1524,305,"",998,"",0,0,0,{"$f":"IF(K1534>0, K1533/K1534, 0)","v":0},null,{"$f":"ROUND(M1534*L1533,0)","v":0},0,{"$f":"N1533-O1533","v":0},0,0,0,305,998,1524,0,0,1524,305,998,1524,0,0]
["03050999","0305","0999",1525,305,"Wakefield                    ",999,"Total",49324064.921903566,1,{"$f":"SUM(K1530:K1533)","v":52042201.477534994},{"$f":"SUM(L1530:L1533)","v":1},{"$f":"VLOOKUP(E1534,town351,24)","v":41885238},{"$f":"SUM(N1530:N1533)","v":41885238},39792170,{"$f":"SUM(P1530:P1533)","v":2093068},5.2599996431458749,3495.0000000014402,3517.99999999384,305,999,1525,3517.99999999384,52042201.477534994,1525,305,999,1525,3517.99999999384,52042201.477534994]
["03060306","0306","0306",1526,306,"Wales                        ",306,"Wales",1672912.0100000002,0.45222843987274031,{"$f":"X1535","v":1877628.0699999998},{"$f":"IF(K1539>0, K1535/K1539, 0)","v":0.48400715613147993},null,{"$f":"ROUND(M1539*L1535,0)","v":741752},662192,{"$f":"N1535-O1535","v":79560},12.01464227897649,104,113,306,306,1526,113,1877628.0699999998,1526,306,306,1526,113,1877628.0699999998]
["03060770","0306","0770",1527,306,"Wales                        ",770,"Tantasqua",2026351.155471785,0.54777156012725969,2001711.4112740017,{"$f":"IF(K1539>0, K1536/K1539, 0)","v":0.51599284386852018},null,{"$f":"ROUND(M1539*L1536,0)","v":790771},802095,{"$f":"N1536-O1536","v":-11324},-1.4118028413093213,123.99999999900001,116.99999999800001,306,770,1527,116.99999999800001,2001711.4112740017,1527,306,770,1527,116.99999999800001,2001711.4112740017]
["03060998","0306","0998",1528,306,"",998,"",0,0,0,{"$f":"IF(K1539>0, K1537/K1539, 0)","v":0},null,{"$f":"ROUND(M1539*L1537,0)","v":0},0,{"$f":"N1537-O1537","v":0},0,0,0,306,998,1528,0,0,1528,306,998,1528,0,0]
["03060998","0306","0998",1529,306,"",998,"",0,0,0,{"$f":"IF(K1539>0, K1538/K1539, 0)","v":0},null,{"$f":"ROUND(M1539*L1538,0)","v":0},0,{"$f":"N1538-O1538","v":0},0,0,0,306,998,1529,0,0,1529,306,998,1529,0,0]
["03060999","0306","0999",1530,306,"Wales                        ",999,"Total",3699263.1654717852,1,{"$f":"SUM(K1535:K1538)","v":3879339.4812740013},{"$f":"SUM(L1535:L1538)","v":1},{"$f":"VLOOKUP(E1539,town351,24)","v":1532523},{"$f":"SUM(N1535:N1538)","v":1532523},1464287,{"$f":"SUM(P1535:P1538)","v":68236},4.6600154204742648,227.99999999900001,229.99999999800002,306,999,1530,229.99999999800002,3879339.4812740013,1530,306,999,1530,229.99999999800002,3879339.4812740013]
["03070307","0307","0307",1531,307,"Walpole                      ",307,"Walpole",48588432.383949995,0.95422687696719155,{"$f":"X1540","v":50898857.362050004},{"$f":"IF(K1544>0, K1540/K1544, 0)","v":0.94946899429976173},null,{"$f":"ROUND(M1544*L1540,0)","v":41289558},40085457,{"$f":"N1540-O1540","v":1204101},3.0038350317423101,3589,3598,307,307,1531,3598,50898857.362050004,1531,307,307,1531,3598,50898857.362050004]
["03070878","0307","0878",1532,307,"Walpole                      ",878,"Tri County",1852284.862365752,3.6376971076200561E-2,2269451.7199348984,{"$f":"IF(K1544>0, K1541/K1544, 0)","v":4.2334428586702298E-2},null,{"$f":"ROUND(M1544*L1541,0)","v":1840997},1528135,{"$f":"N1541-O1541","v":312862},20.473452934459324,86.000000004029999,102.99999999996,307,878,1532,102.99999999996,2269451.7199348984,1532,307,878,1532,102.99999999996,2269451.7199348984]
["03070915","0307","0915",1533,307,"Walpole                      ",915,"Norfolk County",478444.17824825062,9.3961519566079024E-3,439399.71906780981,{"$f":"IF(K1544>0, K1542/K1544, 0)","v":8.1965771135359775E-3},null,{"$f":"ROUND(M1544*L1542,0)","v":356445},394716,{"$f":"N1542-O1542","v":-38271},-9.6958319399264283,21.000000001250001,19.000000000810001,307,915,1533,19.000000000810001,439399.71906780981,1533,307,915,1533,19.000000000810001,439399.71906780981]
["03070998","0307","0998",1534,307,"",998,"",0,0,0,{"$f":"IF(K1544>0, K1543/K1544, 0)","v":0},null,{"$f":"ROUND(M1544*L1543,0)","v":0},0,{"$f":"N1543-O1543","v":0},0,0,0,307,998,1534,0,0,1534,307,998,1534,0,0]
["03070999","0307","0999",1535,307,"Walpole                      ",999,"Total",50919161.424563996,1,{"$f":"SUM(K1540:K1543)","v":53607708.801052712},{"$f":"SUM(L1540:L1543)","v":1},{"$f":"VLOOKUP(E1544,town351,24)","v":43487000},{"$f":"SUM(N1540:N1543)","v":43487000},42008308,{"$f":"SUM(P1540:P1543)","v":1478692},3.5199989487793699,3696.0000000052801,3720.0000000007699,307,999,1535,3720.0000000007699,53607708.801052712,1535,307,999,1535,3720.0000000007699,53607708.801052712]
["03080308","0308","0308",1536,308,"Waltham                      ",308,"Waltham",111848740.7475,1,{"$f":"X1545","v":116139540.79914001},{"$f":"IF(K1549>0, K1545/K1549, 0)","v":1},null,{"$f":"ROUND(M1549*L1545,0)","v":90065983},85467815,{"$f":"N1545-O1545","v":4598168},5.3799994769961064,5815,5776,308,308,1536,5776,116139540.79914001,1536,308,308,1536,5776,116139540.79914001]
[{"$f":"B1546&C1546","v":"03080998"},"0308","0998",1537,308,"",998,"",0,0,0,{"$f":"IF(K1549>0, K1546/K1549, 0)","v":0},null,{"$f":"ROUND(M1549*L1546,0)","v":0},0,{"$f":"N1546-O1546","v":0},0,0,0,{"$f":"VLOOKUP($D1546, foundoptions, VLOOKUP($T$6, foundoptcell, 2, FALSE), FALSE)","v":308},{"$f":"VLOOKUP($D1546, foundoptions, VLOOKUP($T$6, foundoptcell, 2, FALSE)+1, FALSE)","v":998},{"$f":"VLOOKUP($D1546, foundoptions, VLOOKUP($T$6, foundoptcell, 2, FALSE)+2, FALSE)","v":1537},{"$f":"VLOOKUP($D1546, foundoptions, VLOOKUP($T$6, foundoptcell, 2, FALSE)+3, FALSE)","v":0},{"$f":"VLOOKUP($D1546, foundoptions, VLOOKUP($T$6, foundoptcell, 2, FALSE)+4, FALSE)","v":0},1537,308,998,1537,0,0]
["03080998","0308","0998",1538,308,"",998,"",0,0,0,{"$f":"IF(K1549>0, K1547/K1549, 0)","v":0},null,{"$f":"ROUND(M1549*L1547,0)","v":0},0,{"$f":"N1547-O1547","v":0},0,0,{"$f":"W1547","v":0},308,998,1538,0,0,{"$f":"D1547","v":1538},308,998,1538,0,0]
["03080998","0308","0998",1539,308,"",998,"",0,0,0,{"$f":"IF(K1549>0, K1548/K1549, 0)","v":0},null,{"$f":"ROUND(M1549*L1548,0)","v":0},0,{"$f":"N1548-O1548","v":0},0,0,0,308,998,1539,0,0,1539,308,998,1539,0,0]
["03080999","0308","0999",1540,308,"Waltham                      ",999,"Total",111848740.7475,1,{"$f":"SUM(K1545:K1548)","v":116139540.79914001},{"$f":"SUM(L1545:L1548)","v":1},{"$f":"VLOOKUP(E1549,town351,24)","v":90065983},{"$f":"SUM(N1545:N1548)","v":90065983},85467815,{"$f":"SUM(P1545:P1548)","v":4598168},5.3799994769961064,5815,5776,308,999,1540,5776,116139540.79914001,1540,308,999,1540,5776,116139540.79914001]
["03090309","0309","0309",1541,309,"Ware                         ",309,"Ware",21252179.18,0.89844788017959565,{"$f":"X1550","v":21265037.789999999},{"$f":"IF(K1554>0, K1550/K1554, 0)","v":0.89287244208891914},null,{"$f":"ROUND(M1554*L1550,0)","v":6770588},6508279,{"$f":"N1550-O1550","v":262309},4.0303896006916728,1213,1192,309,309,1541,1192,21265037.789999999,1541,309,309,1541,1192,21265037.789999999]
["03090860","0309","0860",1542,309,"Ware                         ",860,"Pathfinder",2402146.9627160206,0.10155211982040437,2551396.4368749997,{"$f":"IF(K1554>0, K1551/K1554, 0)","v":0.10712755791108085},null,{"$f":"ROUND(M1554*L1551,0)","v":812341},735635,{"$f":"N1551-O1551","v":76706},10.427181958444065,107.99999999789,110,309,860,1542,110,2551396.4368749997,1542,309,860,1542,110,2551396.4368749997]
["03090998","0309","0998",1543,309,"",998,"",0,0,0,{"$f":"IF(K1554>0, K1552/K1554, 0)","v":0},null,{"$f":"ROUND(M1554*L1552,0)","v":0},0,{"$f":"N1552-O1552","v":0},{"$f":"IF(O1552>0,P1552*100/O1552,IF(P1552>0,100,0))","v":0},0,0,309,998,1543,0,0,1543,309,998,1543,0,0]
["03090998","0309","0998",1544,309,"",998,"",0,0,0,{"$f":"IF(K1554>0, K1553/K1554, 0)","v":0},null,{"$f":"ROUND(M1554*L1553,0)","v":0},0,{"$f":"N1553-O1553","v":0},{"$f":"IF(O1553>0,P1553*100/O1553,IF(P1553>0,100,0))","v":0},0,0,309,998,1544,0,0,1544,309,998,1544,0,0]
["03090999","0309","0999",1545,309,"Ware                         ",999,"Total",23654326.14271602,1,{"$f":"SUM(K1550:K1553)","v":23816434.226875},{"$f":"SUM(L1550:L1553)","v":1},{"$f":"VLOOKUP(E1554,town351,24)","v":7582929},{"$f":"SUM(N1550:N1553)","v":7582929},7243914,{"$f":"SUM(P1550:P1553)","v":339015},{"$f":"IF(O1554>0,P1554*100/O1554,IF(P1554>0,100,0))","v":4.679997581418001},1320.99999999789,1302,309,999,1545,1302,23816434.226875,1545,309,999,1545,1302,23816434.226875]
["03100310","0310","0310",1546,310,"Wareham                      ",310,"Wareham",38595665.049999997,0.877747630779668,{"$f":"X1555","v":41004971.409999996},{"$f":"IF(K1559>0, K1555/K1559, 0)","v":0.88276266611440524},null,{"$f":"ROUND(M1559*L1555,0)","v":25984418},24257628,{"$f":"N1555-O1555","v":1726790},7.1185443193374063,2220,2258,310,310,1546,2258,41004971.409999996,1546,310,310,1546,2258,41004971.409999996]
["03100879","0310","0879",1547,310,"Wareham                      ",879,"Upper Cape Cod",5375590.1224201368,0.12225236922033193,5445759.8952654516,{"$f":"IF(K1559>0, K1556/K1559, 0)","v":0.11723733388559471},null,{"$f":"ROUND(M1559*L1556,0)","v":3450921},3378593,{"$f":"N1556-O1556","v":72328},2.1407728009854989,244.84429066050001,238.06756756588001,310,879,1547,238.06756756588001,5445759.8952654516,1547,310,879,1547,238.06756756588001,5445759.8952654516]
["03100998","0310","0998",1548,310,"",998,"",0,0,0,{"$f":"IF(K1559>0, K1557/K1559, 0)","v":0},null,{"$f":"ROUND(M1559*L1557,0)","v":0},0,{"$f":"N1557-O1557","v":0},0,0,0,310,998,1548,0,0,1548,310,998,1548,0,0]
["03100998","0310","0998",1549,310,"",998,"",0,0,0,{"$f":"IF(K1559>0, K1558/K1559, 0)","v":0},null,{"$f":"ROUND(M1559*L1558,0)","v":0},0,{"$f":"N1558-O1558","v":0},0,0,0,310,998,1549,0,0,1549,310,998,1549,0,0]
["03100999","0310","0999",1550,310,"Wareham                      ",999,"Total",43971255.172420137,0.99999999999999989,{"$f":"SUM(K1555:K1558)","v":46450731.305265449},{"$f":"SUM(L1555:L1558)","v":1},{"$f":"VLOOKUP(E1559,town351,24)","v":29435339},{"$f":"SUM(N1555:N1558)","v":29435339},27636221,{"$f":"SUM(P1555:P1558)","v":1799118},6.5100000466778729,2464.8442906605001,2496.0675675658799,310,999,1550,2496.0675675658799,46450731.305265449,1550,310,999,1550,2496.0675675658799,46450731.305265449]
["03110311","0311","0311",1551,311,"Warren                       ",311,"Warren",17354.29,1.5465368498671992E-3,{"$f":"X1560","v":18046.96},{"$f":"IF(K1564>0, K1560/K1564, 0)","v":1.5496919646920673E-3},null,{"$f":"ROUND(M1564*L1560,0)","v":5824},5565,{"$f":"N1560-O1560","v":259},4.6540880503144653,1,1,311,311,1551,1,18046.96,1551,311,311,1551,1,18046.96]
["03110778","0311","0778",1552,311,"Warren                       ",778,"Quaboag",10136412.806203738,0.903311857198414,10514130.754675012,{"$f":"IF(K1564>0, K1561/K1564, 0)","v":0.90284812213478671},null,{"$f":"ROUND(M1564*L1561,0)","v":3393207},3250310,{"$f":"N1561-O1561","v":142897},4.3964114192184747,618.19001919528,611.61352657502994,311,778,1552,611.61352657502994,10514130.754675012,1552,311,778,1552,611.61352657502994,10514130.754675012]
["03110860","0311","0860",1553,311,"Warren                       ",860,"Pathfinder",1067620.8723339739,9.5141605951718861E-2,1113336.6269999999,{"$f":"IF(K1564>0, K1562/K1564, 0)","v":9.560218590052115E-2},null,{"$f":"ROUND(M1564*L1562,0)","v":359305},342340,{"$f":"N1562-O1562","v":16965},4.9555996962084476,47.999999999770004,48,311,860,1553,48,1113336.6269999999,1553,311,860,1553,48,1113336.6269999999]
["03110998","0311","0998",1554,311,"",998,"",0,0,0,{"$f":"IF(K1564>0, K1563/K1564, 0)","v":0},null,{"$f":"ROUND(M1564*L1563,0)","v":0},0,{"$f":"N1563-O1563","v":0},0,0,0,311,998,1554,0,0,1554,311,998,1554,0,0]
["03110999","0311","0999",1555,311,"Warren                       ",999,"Total",11221387.968537711,1,{"$f":"SUM(K1560:K1563)","v":11645514.341675013},{"$f":"SUM(L1560:L1563)","v":0.99999999999999989},{"$f":"VLOOKUP(E1564,town351,24)","v":3758336},{"$f":"SUM(N1560:N1563)","v":3758336},3598215,{"$f":"SUM(P1560:P1563)","v":160121},4.4500120198487307,667.19001919505001,660.61352657502994,311,999,1555,660.61352657502994,11645514.341675013,1555,311,999,1555,660.61352657502994,11645514.341675013]
["03120312","0312","0312",1556,312,"Warwick                      ",312,"Warwick",594996.94999999995,0.83996030527491095,{"$f":"X1565","v":904734.07},{"$f":"IF(K1569>0, K1565/K1569, 0)","v":0.90624052248973386},null,{"$f":"ROUND(M1569*L1565,0)","v":568003},490873,null,0,46,58,312,312,1556,58,904734.07,1556,312,312,1556,58,904734.07]
["03120818","0312","0818",1557,312,"Warwick                      ",818,"Franklin County",113366.22652566122,0.16003969472508911,93603.620213195129,{"$f":"IF(K1569>0, K1566/K1569, 0)","v":9.3759477510266157E-2},null,{"$f":"ROUND(M1569*L1566,0)","v":58766},93527,{"$f":"N1566-O1566","v":-34761},-37.166807445978165,5.0000000019900002,4.0000000017300001,312,818,1557,4.0000000017300001,93603.620213195129,1557,312,818,1557,4.0000000017300001,93603.620213195129]
["03120312","0312","0312",1558,312,null,998,null,0,0,0,{"$f":"IF(K1569>0, K1567/K1569, 0)","v":0},null,{"$f":"ROUND(M1569*L1567,0)","v":0},0,{"$f":"N1567-O1567","v":0},0,0,0,312,998,1558,0,0,1558,312,998,1558,0,0]
["03120998","0312","0998",1559,312,"",998,"",0,0,0,{"$f":"IF(K1569>0, K1568/K1569, 0)","v":0},null,{"$f":"ROUND(M1569*L1568,0)","v":0},0,{"$f":"N1568-O1568","v":0},0,0,0,312,998,1559,0,0,1559,312,998,1559,0,0]
["03120999","0312","0999",1560,312,"Warwick                      ",999,"Total",708363.17652566114,1,{"$f":"SUM(K1565:K1568)","v":998337.69021319505},{"$f":"SUM(L1565:L1568)","v":1},{"$f":"VLOOKUP(E1569,town351,24)","v":626769},{"$f":"SUM(N1565:N1568)","v":626769},584400,465071,79.580937713894599,51.000000001990003,62.000000001730001,312,999,1560,62.000000001730001,998337.69021319505,1560,312,999,1560,62.000000001730001,998337.69021319505]
["03130313","0313","0313",1561,313,"Washington                   ",313,"Washington",86771.45,0.10260411018401595,{"$f":"X1570","v":72187.839999999997},{"$f":"IF(K1574>0, K1570/K1574, 0)","v":9.0069632587261195E-2},null,{"$f":"ROUND(M1574*L1570,0)","v":59555},64812,{"$f":"N1570-O1570","v":-5257},-8.1111522557551066,5,4,313,313,1561,4,72187.839999999997,1561,313,313,1561,4,72187.839999999997]
["03130635","0313","0635",1562,313,"Washington                   ",635,"Central Berkshire",758920.30488563981,0.89739588981598406,729279.17975344497,{"$f":"IF(K1574>0, K1571/K1574, 0)","v":0.90993036741273881},null,{"$f":"ROUND(M1574*L1571,0)","v":601655},566857,{"$f":"N1571-O1571","v":34798},6.1387616277121033,49.078947365280001,45.307797537600003,313,635,1562,45.307797537600003,729279.17975344497,1562,313,635,1562,45.307797537600003,729279.17975344497]
["03130998","0313","0998",1563,313,"",998,"",0,0,0,{"$f":"IF(K1574>0, K1572/K1574, 0)","v":0},null,{"$f":"ROUND(M1574*L1572,0)","v":0},0,{"$f":"N1572-O1572","v":0},0,0,0,313,998,1563,0,0,1563,313,998,1563,0,0]
["03130998","0313","0998",1564,313,"",998,"",0,0,0,{"$f":"IF(K1574>0, K1573/K1574, 0)","v":0},null,{"$f":"ROUND(M1574*L1573,0)","v":0},0,{"$f":"N1573-O1573","v":0},0,0,0,313,998,1564,0,0,1564,313,998,1564,0,0]
["03130999","0313","0999",1565,313,"Washington                   ",999,"Total",845691.75488563976,1,{"$f":"SUM(K1570:K1573)","v":801467.01975344494},{"$f":"SUM(L1570:L1573)","v":1},{"$f":"VLOOKUP(E1574,town351,24)","v":661210},{"$f":"SUM(N1570:N1573)","v":661210},631669,{"$f":"SUM(P1570:P1573)","v":29541},4.6766581864869101,54.078947365280001,49.307797537600003,313,999,1565,49.307797537600003,801467.01975344494,1565,313,999,1565,49.307797537600003,801467.01975344494]
["03140314","0314","0314",1566,314,"Watertown                    ",314,"Watertown",45294898.797560006,1,{"$f":"X1575","v":46749581.240119986},{"$f":"IF(K1579>0, K1575/K1579, 0)","v":1},null,{"$f":"ROUND(M1579*L1575,0)","v":38568405},37368292,{"$f":"N1575-O1575","v":1200113},3.2115810912631488,2825,2816,314,314,1566,2816,46749581.240119986,1566,314,314,1566,2816,46749581.240119986]
["03140998","0314","0998",1567,314,"",998,"",0,0,0,{"$f":"IF(K1579>0, K1576/K1579, 0)","v":0},null,{"$f":"ROUND(M1579*L1576,0)","v":0},0,{"$f":"N1576-O1576","v":0},0,0,0,314,998,1567,0,0,1567,314,998,1567,0,0]
["03140998","0314","0998",1568,314,"",998,"",0,0,0,{"$f":"IF(K1579>0, K1577/K1579, 0)","v":0},null,{"$f":"ROUND(M1579*L1577,0)","v":0},0,{"$f":"N1577-O1577","v":0},0,0,0,314,998,1568,0,0,1568,314,998,1568,0,0]
["03140998","0314","0998",1569,314,"",998,"",0,0,0,{"$f":"IF(K1579>0, K1578/K1579, 0)","v":0},null,{"$f":"ROUND(M1579*L1578,0)","v":0},0,{"$f":"N1578-O1578","v":0},0,0,0,314,998,1569,0,0,1569,314,998,1569,0,0]
["03140999","0314","0999",1570,314,"Watertown                    ",999,"Total",45294898.797560006,1,{"$f":"SUM(K1575:K1578)","v":46749581.240119986},{"$f":"SUM(L1575:L1578)","v":1},{"$f":"VLOOKUP(E1579,town351,24)","v":38568405},{"$f":"SUM(N1575:N1578)","v":38568405},37368292,{"$f":"SUM(P1575:P1578)","v":1200113},3.2115810912631488,2825,2816,314,999,1570,2816,46749581.240119986,1570,314,999,1570,2816,46749581.240119986]
["03150315","0315","0315",1571,315,"Wayland                      ",315,"Wayland",35459917.689330004,1,{"$f":"X1580","v":36737120.222759999},{"$f":"IF(K1584>0, K1580/K1584, 0)","v":1},null,{"$f":"ROUND(M1584*L1580,0)","v":30308124},28984466,{"$f":"N1580-O1580","v":1323658},4.5667841525871138,2700,2676,315,315,1571,2676,36737120.222759999,1571,315,315,1571,2676,36737120.222759999]
["03150830","0315","0830",1572,315,null,998,null,0,0,0,{"$f":"IF(K1584>0, K1581/K1584, 0)","v":0},null,{"$f":"ROUND(M1584*L1581,0)","v":0},0,{"$f":"N1581-O1581","v":0},0,0,0,315,998,1572,0,0,1572,315,998,1572,0,0]
["03150998","0315","0998",1573,315,"",998,"",0,0,0,{"$f":"IF(K1584>0, K1582/K1584, 0)","v":0},null,{"$f":"ROUND(M1584*L1582,0)","v":0},0,{"$f":"N1582-O1582","v":0},0,0,0,315,998,1573,0,0,1573,315,998,1573,0,0]
["03150998","0315","0998",1574,315,"",998,"",0,0,0,{"$f":"IF(K1584>0, K1583/K1584, 0)","v":0},null,{"$f":"ROUND(M1584*L1583,0)","v":0},0,{"$f":"N1583-O1583","v":0},0,0,0,315,998,1574,0,0,1574,315,998,1574,0,0]
["03150999","0315","0999",1575,315,"Wayland                      ",999,"Total",35459917.689330004,1,{"$f":"SUM(K1580:K1583)","v":36737120.222759999},{"$f":"SUM(L1580:L1583)","v":1},{"$f":"VLOOKUP(E1584,town351,24)","v":30308124},{"$f":"SUM(N1580:N1583)","v":30308124},28984466,{"$f":"SUM(P1580:P1583)","v":1323658},4.5667841525871138,2700,2676,315,999,1575,2676,36737120.222759999,1575,315,999,1575,2676,36737120.222759999]
["03160316","0316","0316",1576,316,"Webster                      ",316,"Webster",35685383.880000003,0.91824678336676802,{"$f":"X1585","v":39242117.710000001},{"$f":"IF(K1589>0, K1585/K1589, 0)","v":0.91632760204419761},null,{"$f":"ROUND(M1589*L1585,0)","v":14982578},14323563,{"$f":"N1585-O1585","v":659015},4.6009152890241065,1916,1966,316,316,1576,1966,39242117.710000001,1576,316,316,1576,1966,39242117.710000001]
["03160876","0316","0876",1577,316,"Webster                      ",876,"Southern Worcester",3177136.0072561367,8.175321663323197E-2,3583305.8857275271,{"$f":"IF(K1589>0, K1586/K1589, 0)","v":8.3672397955802474E-2},null,{"$f":"ROUND(M1589*L1586,0)","v":1368101},1275253,{"$f":"N1586-O1586","v":92848},7.2807513489480122,149.99999999880001,161.99999999945001,316,876,1577,161.99999999945001,3583305.8857275271,1577,316,876,1577,161.99999999945001,3583305.8857275271]
["03160998","0316","0998",1578,316,"",998,"",0,0,0,{"$f":"IF(K1589>0, K1587/K1589, 0)","v":0},null,{"$f":"ROUND(M1589*L1587,0)","v":0},0,{"$f":"N1587-O1587","v":0},0,0,0,316,998,1578,0,0,1578,316,998,1578,0,0]
["03160998","0316","0998",1579,316,"",998,"",0,0,0,{"$f":"IF(K1589>0, K1588/K1589, 0)","v":0},null,{"$f":"ROUND(M1589*L1588,0)","v":0},0,{"$f":"N1588-O1588","v":0},0,0,0,316,998,1579,0,0,1579,316,998,1579,0,0]
["03160999","0316","0999",1580,316,"Webster                      ",999,"Total",38862519.887256138,1,{"$f":"SUM(K1585:K1588)","v":42825423.595727526},{"$f":"SUM(L1585:L1588)","v":1},{"$f":"VLOOKUP(E1589,town351,24)","v":16350679},{"$f":"SUM(N1585:N1588)","v":16350679},15598816,{"$f":"SUM(P1585:P1588)","v":751863},4.8200004410591166,2065.9999999987999,2127.9999999994502,316,999,1580,2127.9999999994502,42825423.595727526,1580,316,999,1580,2127.9999999994502,42825423.595727526]
["03170317","0317","0317",1581,317,"Wellesley                    ",317,"Wellesley",53406327.744700007,0.99957358346842595,{"$f":"X1590","v":54901421.593699984},{"$f":"IF(K1594>0, K1590/K1594, 0)","v":0.99915824277046172},null,{"$f":"ROUND(M1594*L1590,0)","v":45293673},44060220,{"$f":"N1590-O1590","v":1233453},2.7994708151706913,3982,3915,317,317,1581,3915,54901421.593699984,1581,317,317,1581,3915,54901421.593699984]
["03170915","0317","0915",1582,317,"Wellesley                    ",915,"Norfolk County",22783.056112766168,4.2641653157401201E-4,46252.602000540785,{"$f":"IF(K1594>0, K1591/K1594, 0)","v":8.417572295382049E-4},null,{"$f":"ROUND(M1594*L1591,0)","v":38158},18796,{"$f":"N1591-O1591","v":19362},103.01127899553096,1.00000000031,1.9999999998,317,915,1582,1.9999999998,46252.602000540785,1582,317,915,1582,1.9999999998,46252.602000540785]
["03170998","0317","0998",1583,317,"",998,"",0,0,0,{"$f":"IF(K1594>0, K1592/K1594, 0)","v":0},null,{"$f":"ROUND(M1594*L1592,0)","v":0},0,{"$f":"N1592-O1592","v":0},0,0,0,317,998,1583,0,0,1583,317,998,1583,0,0]
["03170998","0317","0998",1584,317,"",998,"",0,0,0,{"$f":"IF(K1594>0, K1593/K1594, 0)","v":0},null,{"$f":"ROUND(M1594*L1593,0)","v":0},0,{"$f":"N1593-O1593","v":0},0,0,0,317,998,1584,0,0,1584,317,998,1584,0,0]
["03170999","0317","0999",1585,317,"Wellesley                    ",999,"Total",53429110.800812773,1,{"$f":"SUM(K1590:K1593)","v":54947674.195700526},{"$f":"SUM(L1590:L1593)","v":0.99999999999999989},{"$f":"VLOOKUP(E1594,town351,24)","v":45331831},{"$f":"SUM(N1590:N1593)","v":45331831},44079016,{"$f":"SUM(P1590:P1593)","v":1252815},2.842202738827019,3983.0000000003101,3916.9999999997999,317,999,1585,3916.9999999997999,54947674.195700526,1585,317,999,1585,3916.9999999997999,54947674.195700526]
["03180318","0318","0318",1586,318,"Wellfleet                    ",318,"Wellfleet",1341102.3700000001,0.35850618846093707,{"$f":"X1595","v":1445799.54},{"$f":"IF(K1599>0, K1595/K1599, 0)","v":0.39140689061956963},null,{"$f":"ROUND(M1599*L1595,0)","v":1192785},1106410,{"$f":"N1595-O1595","v":86375},7.8067804882457681,95,93,318,318,1586,93,1445799.54,1586,318,318,1586,93,1445799.54]
["03180660","0318","0660",1587,318,"Wellfleet                    ",660,"Nauset",2136774.3059880487,0.57120681401900686,2023150.9146486714,{"$f":"IF(K1599>0, K1596/K1599, 0)","v":0.5477074703985414},null,{"$f":"ROUND(M1599*L1596,0)","v":1669100},1762839,{"$f":"N1596-O1596","v":-93739},-5.31750205208757,139.60698689650002,126.23034735064,318,660,1587,126.23034735064,2023150.9146486714,1587,318,660,1587,126.23034735064,2023150.9146486714]
["03180815","0318","0815",1588,318,"Wellfleet                    ",815,"Cape Cod",262930.07481683133,7.0286997520055988E-2,224902.6037668325,{"$f":"IF(K1599>0, K1597/K1599, 0)","v":6.0885638981888882E-2},null,{"$f":"ROUND(M1599*L1597,0)","v":185545},216917,{"$f":"N1597-O1597","v":-31372},-14.462674663581002,12.0000000033,9.9999999983999999,318,815,1588,9.9999999983999999,224902.6037668325,1588,318,815,1588,9.9999999983999999,224902.6037668325]
["03180998","0318","0998",1589,318,"",998,"",0,0,0,{"$f":"IF(K1599>0, K1598/K1599, 0)","v":0},null,{"$f":"ROUND(M1599*L1598,0)","v":0},0,{"$f":"N1598-O1598","v":0},0,0,0,318,998,1589,0,0,1589,318,998,1589,0,0]
["03180999","0318","0999",1590,318,"Wellfleet                    ",999,"Total",3740806.7508048802,0.99999999999999989,{"$f":"SUM(K1595:K1598)","v":3693853.0584155042},{"$f":"SUM(L1595:L1598)","v":0.99999999999999989},{"$f":"VLOOKUP(E1599,town351,24)","v":3047429},{"$f":"SUM(N1595:N1598)","v":3047430},3086166,{"$f":"SUM(P1595:P1598)","v":-38736},-1.2551495933789691,246.60698689980001,229.23034734903999,318,999,1590,229.23034734903999,3693853.0584155042,1590,318,999,1590,229.23034734903999,3693853.0584155042]
["03190319","0319","0319",1591,319,"Wendell                      ",319,"Wendell",0,0,{"$f":"X1600","v":0},{"$f":"IF(K1604>0, K1600/K1604, 0)","v":0},null,{"$f":"ROUND(M1604*L1600,0)","v":0},0,{"$f":"N1600-O1600","v":0},0,0,0,319,319,1591,0,0,1591,319,319,1591,0,0]
["03190728","0319","0728",1592,319,"Wendell                      ",728,"New Salem Wendell",891020.7815189031,0.5158470568339546,904984.86166149541,{"$f":"IF(K1604>0, K1601/K1604, 0)","v":0.50590085566068443},null,{"$f":"ROUND(M1604*L1601,0)","v":361058},359880,{"$f":"N1601-O1601","v":1178},0.32733133266644437,56.424242424479999,54.249999999690004,319,728,1592,54.249999999690004,904984.86166149541,1592,319,728,1592,54.249999999690004,904984.86166149541]
["03190755","0319","0755",1593,319,"Wendell                      ",755,"Ralph C Mahar",700236.18029267096,0.40539432994690655,720066.93900624081,{"$f":"IF(K1604>0, K1602/K1604, 0)","v":0.4025288112636794},null,{"$f":"ROUND(M1604*L1602,0)","v":287282},282823,{"$f":"N1602-O1602","v":4459},1.57660444871881,40.000000000039996,38.999999998680003,319,755,1593,38.999999998680003,720066.93900624081,1593,319,755,1593,38.999999998680003,720066.93900624081]
["03190818","0319","0818",1594,319,"Wendell                      ",818,"Franklin County",136039.47172359435,7.8758613219138879E-2,163806.33533921867,{"$f":"IF(K1604>0, K1603/K1604, 0)","v":9.1570333075636251E-2},null,{"$f":"ROUND(M1604*L1603,0)","v":65353},54946,{"$f":"N1603-O1603","v":10407},18.940414224875333,5.9999999976599998,7.0000000015799992,319,818,1594,7.0000000015799992,163806.33533921867,1594,319,818,1594,7.0000000015799992,163806.33533921867]
["03190999","0319","0999",1595,319,"Wendell                      ",999,"Total",1727296.4335351684,1,{"$f":"SUM(K1600:K1603)","v":1788858.1360069548},{"$f":"SUM(L1600:L1603)","v":1.0000000000000002},{"$f":"VLOOKUP(E1604,town351,24)","v":713694},{"$f":"SUM(N1600:N1603)","v":713693},697649,{"$f":"SUM(P1600:P1603)","v":16044},2.299723786603292,102.42424242218,100.24999999995002,319,999,1595,100.24999999995002,1788858.1360069548,1595,319,999,1595,100.24999999995002,1788858.1360069548]
["03200320","0320","0320",1596,320,"Wenham                       ",320,"Wenham",0,0,{"$f":"X1605","v":0},{"$f":"IF(K1609>0, K1605/K1609, 0)","v":0},null,{"$f":"ROUND(M1609*L1605,0)","v":0},0,{"$f":"N1605-O1605","v":0},0,0,0,320,320,1596,0,0,1596,320,320,1596,0,0]
["03200675","0320","0675",1597,320,"Wenham                       ",675,"Hamilton Wenham",7481915.1934440481,0.95217841076480159,8036066.3841967778,{"$f":"IF(K1609>0, K1606/K1609, 0)","v":0.9553536958738178},null,{"$f":"ROUND(M1609*L1606,0)","v":6268277},5923432,{"$f":"N1606-O1606","v":344845},5.8217094414184212,575.26100061030002,591.24867099079995,320,675,1597,591.24867099079995,8036066.3841967778,1597,320,675,1597,591.24867099079995,8036066.3841967778]
["03200817","0320","0817",1598,320,"Wenham                       ",817,"Essex North Shore",375766.84267193603,4.78215892351984E-2,375547.47034173401,{"$f":"IF(K1609>0, K1607/K1609, 0)","v":4.4646304126182187E-2},null,{"$f":"ROUND(M1609*L1607,0)","v":292934},297495,{"$f":"N1607-O1607","v":-4561},-1.5331350106724482,17.999999995270002,17.000000007000001,320,817,1598,17.000000007000001,375547.47034173401,1598,320,817,1598,17.000000007000001,375547.47034173401]
["03200998","0320","0998",1599,320,"",998,null,0,0,0,{"$f":"IF(K1609>0, K1608/K1609, 0)","v":0},null,{"$f":"ROUND(M1609*L1608,0)","v":0},0,{"$f":"N1608-O1608","v":0},0,0,0,320,998,1599,0,0,1599,320,998,1599,0,0]
["03200999","0320","0999",1600,320,"Wenham                       ",999,"Total",7857682.0361159844,1,{"$f":"SUM(K1605:K1608)","v":8411613.8545385115},{"$f":"SUM(L1605:L1608)","v":1},{"$f":"VLOOKUP(E1609,town351,24)","v":6561211},{"$f":"SUM(N1605:N1608)","v":6561211},6220927,{"$f":"SUM(P1605:P1608)","v":340284},5.4699886367417587,593.26100060556996,608.24867099779999,320,999,1600,608.24867099779999,8411613.8545385115,1600,320,999,1600,608.24867099779999,8411613.8545385115]
[{"$f":"B1610&C1610","v":"03210321"},"0321","0321",1601,321,"Westborough                  ",321,"Westborough",51329832.729999997,0.97053324234199112,{"$f":"X1610","v":51163571.100000001},{"$f":"IF(K1614>0, K1610/K1614, 0)","v":0.96244889046617677},null,{"$f":"ROUND(M1614*L1610,0)","v":42209946},40916886,{"$f":"N1610-O1610","v":1293060},3.16021116562976,3770,3610,{"$f":"VLOOKUP($D1610, foundoptions, VLOOKUP($T$6, foundoptcell, 2, FALSE), FALSE)","v":321},{"$f":"VLOOKUP($D1610, foundoptions, VLOOKUP($T$6, foundoptcell, 2, FALSE)+1, FALSE)","v":321},{"$f":"VLOOKUP($D1610, foundoptions, VLOOKUP($T$6, foundoptcell, 2, FALSE)+2, FALSE)","v":1601},{"$f":"VLOOKUP($D1610, foundoptions, VLOOKUP($T$6, foundoptcell, 2, FALSE)+3, FALSE)","v":3610},{"$f":"VLOOKUP($D1610, foundoptions, VLOOKUP($T$6, foundoptcell, 2, FALSE)+4, FALSE)","v":51163571.100000001},1601,321,321,1601,3610,51163571.100000001]
["03210801","0321","0801",1602,321,"Westborough                  ",801,"Assabet Valley",1558446.0950880751,2.9466757658008925E-2,1996208.7146124386,{"$f":"IF(K1614>0, K1611/K1614, 0)","v":3.7551109533823263E-2},null,{"$f":"ROUND(M1614*L1611,0)","v":1646872},1242294,{"$f":"N1611-O1611","v":404578},32.567009097685414,64.999999999259998,{"$f":"W1611","v":78.999999996720007},321,801,1602,78.999999996720007,1996208.7146124386,{"$f":"D1611","v":1602},321,801,1602,78.999999996720007,1996208.7146124386]
["03210998","0321","0998",1603,321,"",998,"",0,0,0,{"$f":"IF(K1614>0, K1612/K1614, 0)","v":0},null,{"$f":"ROUND(M1614*L1612,0)","v":0},0,{"$f":"N1612-O1612","v":0},0,0,0,321,998,1603,0,0,1603,321,998,1603,0,0]
["03210998","0321","0998",1604,321,"",998,"",0,0,0,{"$f":"IF(K1614>0, K1613/K1614, 0)","v":0},null,{"$f":"ROUND(M1614*L1613,0)","v":0},0,{"$f":"N1613-O1613","v":0},0,0,0,321,998,1604,0,0,1604,321,998,1604,0,0]
["03210999","0321","0999",1605,321,"Westborough                  ",999,"Total",52888278.825088069,1,{"$f":"SUM(K1610:K1613)","v":53159779.814612441},{"$f":"SUM(L1610:L1613)","v":1},{"$f":"VLOOKUP(E1614,town351,24)","v":43856818},{"$f":"SUM(N1610:N1613)","v":43856818},42159180,{"$f":"SUM(P1610:P1613)","v":1697638},4.0267339165515077,3834.9999999992601,3688.9999999967199,321,999,1605,3688.9999999967199,53159779.814612441,1605,321,999,1605,3688.9999999967199,53159779.814612441]
["03220322","0322","0322",1606,322,"West Boylston                ",322,"West Boylston",12268268.470000003,1,{"$f":"X1615","v":12721018.73},{"$f":"IF(K1619>0, K1615/K1619, 0)","v":1},null,{"$f":"ROUND(M1619*L1615,0)","v":9845468},9365042,{"$f":"N1615-O1615","v":480426},5.129993010175502,839,833,322,322,1606,833,12721018.73,1606,322,322,1606,833,12721018.73]
["03220998","0322","0998",1607,322,"",998,"",0,0,0,{"$f":"IF(K1619>0, K1616/K1619, 0)","v":0},null,{"$f":"ROUND(M1619*L1616,0)","v":0},0,{"$f":"N1616-O1616","v":0},{"$f":"IF(O1616>0,P1616*100/O1616,IF(P1616>0,100,0))","v":0},0,0,322,998,1607,0,0,1607,322,998,1607,0,0]
["03220998","0322","0998",1608,322,"",998,"",0,0,0,{"$f":"IF(K1619>0, K1617/K1619, 0)","v":0},null,{"$f":"ROUND(M1619*L1617,0)","v":0},0,{"$f":"N1617-O1617","v":0},{"$f":"IF(O1617>0,P1617*100/O1617,IF(P1617>0,100,0))","v":0},0,0,322,998,1608,0,0,1608,322,998,1608,0,0]
["03220998","0322","0998",1609,322,"",998,"",0,0,0,{"$f":"IF(K1619>0, K1618/K1619, 0)","v":0},null,{"$f":"ROUND(M1619*L1618,0)","v":0},0,{"$f":"N1618-O1618","v":0},{"$f":"IF(O1618>0,P1618*100/O1618,IF(P1618>0,100,0))","v":0},0,0,322,998,1609,0,0,1609,322,998,1609,0,0]
["03220999","0322","0999",1610,322,"West Boylston                ",999,"Total",12268268.470000003,1,{"$f":"SUM(K1615:K1618)","v":12721018.73},{"$f":"SUM(L1615:L1618)","v":1},{"$f":"VLOOKUP(E1619,town351,24)","v":9845468},{"$f":"SUM(N1615:N1618)","v":9845468},9365042,{"$f":"SUM(P1615:P1618)","v":480426},{"$f":"IF(O1619>0,P1619*100/O1619,IF(P1619>0,100,0))","v":5.129993010175502},839,833,322,999,1610,833,12721018.73,1610,322,999,1610,833,12721018.73]
["03230323","0323","0323",1611,323,"West Bridgewater             ",323,"West Bridgewater",16002951.560000002,0.9001498831522099,{"$f":"X1620","v":16912875.629999999},{"$f":"IF(K1624>0, K1620/K1624, 0)","v":0.91402107119599263},null,{"$f":"ROUND(M1624*L1620,0)","v":10396554},9541306,{"$f":"N1620-O1620","v":855248},8.9636366342301574,1141,1151,323,323,1611,1151,16912875.629999999,1611,323,323,1611,1151,16912875.629999999]
["03230872","0323","0872",1612,323,"West Bridgewater             ",872,"Southeastern",1775145.0209379543,9.9850116847790202E-2,1590938.0817228334,{"$f":"IF(K1624>0, K1621/K1624, 0)","v":8.5978928804007412E-2},null,{"$f":"ROUND(M1624*L1621,0)","v":977969},1058380,{"$f":"N1621-O1621","v":-80411},-7.5975547534911847,77.999999995260012,67.038818080959999,323,872,1612,67.038818080959999,1590938.0817228334,1612,323,872,1612,67.038818080959999,1590938.0817228334]
["03230998","0323","0998",1613,323,"",998,"",0,0,0,{"$f":"IF(K1624>0, K1622/K1624, 0)","v":0},null,{"$f":"ROUND(M1624*L1622,0)","v":0},0,{"$f":"N1622-O1622","v":0},0,0,0,323,998,1613,0,0,1613,323,998,1613,0,0]
["03230998","0323","0998",1614,323,"",998,"",0,0,0,{"$f":"IF(K1624>0, K1623/K1624, 0)","v":0},null,{"$f":"ROUND(M1624*L1623,0)","v":0},0,{"$f":"N1623-O1623","v":0},0,0,0,323,998,1614,0,0,1614,323,998,1614,0,0]
["03230999","0323","0999",1615,323,"West Bridgewater             ",999,"Total",17778096.580937956,1,{"$f":"SUM(K1620:K1623)","v":18503813.711722832},{"$f":"SUM(L1620:L1623)","v":1},{"$f":"VLOOKUP(E1624,town351,24)","v":11374523},{"$f":"SUM(N1620:N1623)","v":11374523},10599686,{"$f":"SUM(P1620:P1623)","v":774837},7.3099995603643357,1218.9999999952599,1218.03881808096,323,999,1615,1218.03881808096,18503813.711722832,1615,323,999,1615,1218.03881808096,18503813.711722832]
["03240324","0324","0324",1616,324,"West Brookfield              ",324,"West Brookfield",500680.17000000004,6.9186265264864197E-2,{"$f":"X1625","v":376137.83999999997},{"$f":"IF(K1629>0, K1625/K1629, 0)","v":5.0734672768557289E-2},null,{"$f":"ROUND(M1629*L1625,0)","v":225731},291447,{"$f":"N1625-O1625","v":-65716},-22.548182002216528,27,19,324,324,1616,19,376137.83999999997,1616,324,324,1616,19,376137.83999999997]
["03240778","0324","0778",1617,324,"West Brookfield              ",778,"Quaboag",6736018.7337962603,0.93081373473513584,7037684.2953249896,{"$f":"IF(K1629>0, K1626/K1629, 0)","v":0.94926532723144275},null,{"$f":"ROUND(M1629*L1626,0)","v":4223509},3921051,{"$f":"N1626-O1626","v":302458},7.7136971694578822,410.80998080472,409.38647342497001,324,778,1617,409.38647342497001,7037684.2953249896,1617,324,778,1617,409.38647342497001,7037684.2953249896]
["03240998","0324","0998",1618,324,"",998,"",0,0,0,{"$f":"IF(K1629>0, K1627/K1629, 0)","v":0},null,{"$f":"ROUND(M1629*L1627,0)","v":0},0,{"$f":"N1627-O1627","v":0},0,0,0,324,998,1618,0,0,1618,324,998,1618,0,0]
["03240998","0324","0998",1619,324,"",998,"",0,0,0,{"$f":"IF(K1629>0, K1628/K1629, 0)","v":0},null,{"$f":"ROUND(M1629*L1628,0)","v":0},0,{"$f":"N1628-O1628","v":0},0,0,0,324,998,1619,0,0,1619,324,998,1619,0,0]
["03240999","0324","0999",1620,324,"West Brookfield              ",999,"Total",7236698.9037962602,1,{"$f":"SUM(K1625:K1628)","v":7413822.1353249894},{"$f":"SUM(L1625:L1628)","v":1},{"$f":"VLOOKUP(E1629,town351,24)","v":4449240},{"$f":"SUM(N1625:N1628)","v":4449240},4212498,{"$f":"SUM(P1625:P1628)","v":236742},5.6199907988086881,437.80998080472,428.38647342497001,324,999,1620,428.38647342497001,7413822.1353249894,1620,324,999,1620,428.38647342497001,7413822.1353249894]
["03250325","0325","0325",1621,325,"Westfield                    ",325,"Westfield",80715329.109999985,1,{"$f":"X1630","v":83297544.069999993},{"$f":"IF(K1634>0, K1630/K1634, 0)","v":1},null,{"$f":"ROUND(M1634*L1630,0)","v":37205507},35572719,{"$f":"N1630-O1630","v":1632788},4.5900005563252,4730,4665,325,325,1621,4665,83297544.069999993,1621,325,325,1621,4665,83297544.069999993]
["03250998","0325","0998",1622,325,"",998,"",0,0,0,{"$f":"IF(K1634>0, K1631/K1634, 0)","v":0},null,{"$f":"ROUND(M1634*L1631,0)","v":0},0,{"$f":"N1631-O1631","v":0},0,0,0,325,998,1622,0,0,1622,325,998,1622,0,0]
["03250998","0325","0998",1623,325,"",998,"",0,0,0,{"$f":"IF(K1634>0, K1632/K1634, 0)","v":0},null,{"$f":"ROUND(M1634*L1632,0)","v":0},0,{"$f":"N1632-O1632","v":0},0,0,0,325,998,1623,0,0,1623,325,998,1623,0,0]
["03250998","0325","0998",1624,325,"",998,"",0,0,0,{"$f":"IF(K1634>0, K1633/K1634, 0)","v":0},null,{"$f":"ROUND(M1634*L1633,0)","v":0},0,{"$f":"N1633-O1633","v":0},0,0,0,325,998,1624,0,0,1624,325,998,1624,0,0]
["03250999","0325","0999",1625,325,"Westfield                    ",999,"Total",80715329.109999985,1,{"$f":"SUM(K1630:K1633)","v":83297544.069999993},{"$f":"SUM(L1630:L1633)","v":1},{"$f":"VLOOKUP(E1634,town351,24)","v":37205507},{"$f":"SUM(N1630:N1633)","v":37205507},35572719,{"$f":"SUM(P1630:P1633)","v":1632788},4.5900005563252,4730,4665,325,999,1625,4665,83297544.069999993,1625,325,999,1625,4665,83297544.069999993]
["03260326","0326","0326",1626,326,"Westford                     ",326,"Westford",58121126.024580009,0.96676956030758388,{"$f":"X1635","v":60365431.103199989},{"$f":"IF(K1639>0, K1635/K1639, 0)","v":0.96553753936469733},null,{"$f":"ROUND(M1639*L1635,0)","v":47386640},45508445,{"$f":"N1635-O1635","v":1878195},4.1271350844881649,4511,4441,326,326,1626,4441,60365431.103199989,1626,326,326,1626,4441,60365431.103199989]
["03260852","0326","0852",1627,326,"Westford                     ",852,"Nashoba Valley",1997777.6013144637,3.3230439692416132E-2,2154593.9006120116,{"$f":"IF(K1639>0, K1636/K1639, 0)","v":3.44624606353027E-2},null,{"$f":"ROUND(M1639*L1636,0)","v":1691348},1564246,{"$f":"N1636-O1636","v":127102},8.1254482990527066,95.000000001360007,97.999999997899991,326,852,1627,97.999999997899991,2154593.9006120116,1627,326,852,1627,97.999999997899991,2154593.9006120116]
["03260998","0326","0998",1628,326,"",998,"",0,0,0,{"$f":"IF(K1639>0, K1637/K1639, 0)","v":0},null,{"$f":"ROUND(M1639*L1637,0)","v":0},0,{"$f":"N1637-O1637","v":0},0,0,0,326,998,1628,0,0,1628,326,998,1628,0,0]
["03260998","0326","0998",1629,326,"",998,"",0,0,0,{"$f":"IF(K1639>0, K1638/K1639, 0)","v":0},null,{"$f":"ROUND(M1639*L1638,0)","v":0},0,{"$f":"N1638-O1638","v":0},0,0,0,326,998,1629,0,0,1629,326,998,1629,0,0]
["03260999","0326","0999",1630,326,"Westford                     ",999,"Total",60118903.625894472,1,{"$f":"SUM(K1635:K1638)","v":62520025.003812},{"$f":"SUM(L1635:L1638)","v":1},{"$f":"VLOOKUP(E1639,town351,24)","v":49077988},{"$f":"SUM(N1635:N1638)","v":49077988},47072691,{"$f":"SUM(P1635:P1638)","v":2005297},4.2600007719975048,4606.0000000013597,4538.9999999979,326,999,1630,4538.9999999979,62520025.003812,1630,326,999,1630,4538.9999999979,62520025.003812]
["03270327","0327","0327",1631,327,"Westhampton                  ",327,"Westhampton",1313472.22,0.53695747534364113,{"$f":"X1640","v":1247229.23},{"$f":"IF(K1644>0, K1640/K1644, 0)","v":0.523738268717996},null,{"$f":"ROUND(M1644*L1640,0)","v":1028964},1083615,{"$f":"N1640-O1640","v":-54651},-5.0433964092412893,91,80,327,327,1631,80,1247229.23,1631,327,327,1631,80,1247229.23]
["03270683","0327","0683",1632,327,"Westhampton                  ",683,"Hampshire",1132666.0317477875,0.46304252465635887,1134168.7019345169,{"$f":"IF(K1644>0, K1641/K1644, 0)","v":0.476261731282004},null,{"$f":"ROUND(M1644*L1641,0)","v":935689},934449,{"$f":"N1641-O1641","v":1240},0.13269852073253863,79.273356400200001,77.000000000010004,327,683,1632,77.000000000010004,1134168.7019345169,1632,327,683,1632,77.000000000010004,1134168.7019345169]
["03270998","0327","0998",1633,327,"",998,"",0,0,0,{"$f":"IF(K1644>0, K1642/K1644, 0)","v":0},null,{"$f":"ROUND(M1644*L1642,0)","v":0},0,{"$f":"N1642-O1642","v":0},0,0,0,327,998,1633,0,0,1633,327,998,1633,0,0]
["03270998","0327","0998",1634,327,"",998,"",0,0,0,{"$f":"IF(K1644>0, K1643/K1644, 0)","v":0},null,{"$f":"ROUND(M1644*L1643,0)","v":0},0,{"$f":"N1643-O1643","v":0},0,0,0,327,998,1634,0,0,1634,327,998,1634,0,0]
["03270999","0327","0999",1635,327,"Westhampton                  ",999,"Total",2446138.2517477875,1,{"$f":"SUM(K1640:K1643)","v":2381397.9319345169},{"$f":"SUM(L1640:L1643)","v":1},{"$f":"VLOOKUP(E1644,town351,24)","v":1964653},{"$f":"SUM(N1640:N1643)","v":1964653},2018064,{"$f":"SUM(P1640:P1643)","v":-53411},-2.6466454978632985,170.27335640019999,157.00000000001,327,999,1635,157.00000000001,2381397.9319345169,1635,327,999,1635,157.00000000001,2381397.9319345169]
["03280328","0328","0328",1636,328,"Westminster                  ",328,"Westminster",0,0,{"$f":"X1645","v":0},{"$f":"IF(K1649>0, K1645/K1649, 0)","v":0},null,{"$f":"ROUND(M1649*L1645,0)","v":0},0,{"$f":"N1645-O1645","v":0},0,0,0,328,328,1636,0,0,1636,328,328,1636,0,0]
["03280610","0328","0610",1637,328,"Westminster                  ",610,"Ashburnham Westminster",16975669.079003822,0.92091147480708047,17187271.125823487,{"$f":"IF(K1649>0, K1646/K1649, 0)","v":0.90950961334119529},null,{"$f":"ROUND(M1649*L1646,0)","v":9811890},9417854,{"$f":"N1646-O1646","v":394036},4.1839255524666239,1235.1300705512499,1201.8867924554399,328,610,1637,1201.8867924554399,17187271.125823487,1637,328,610,1637,1201.8867924554399,17187271.125823487]
["03280832","0328","0832",1638,328,"Westminster                  ",832,"Montachusett",1457882.4005887355,7.9088525192919548E-2,1710023.4972469988,{"$f":"IF(K1649>0, K1647/K1649, 0)","v":9.049038665880467E-2},null,{"$f":"ROUND(M1649*L1647,0)","v":976220},808812,{"$f":"N1647-O1647","v":167408},20.698011404380747,69.999999996,79.000000002020002,328,832,1638,79.000000002020002,1710023.4972469988,1638,328,832,1638,79.000000002020002,1710023.4972469988]
["03280998","0328","0998",1639,328,"",998,"",0,0,0,{"$f":"IF(K1649>0, K1648/K1649, 0)","v":0},null,{"$f":"ROUND(M1649*L1648,0)","v":0},0,{"$f":"N1648-O1648","v":0},0,0,0,328,998,1639,0,0,1639,328,998,1639,0,0]
["03280999","0328","0999",1640,328,"Westminster                  ",999,"Total",18433551.479592558,1,{"$f":"SUM(K1645:K1648)","v":18897294.623070486},{"$f":"SUM(L1645:L1648)","v":1},{"$f":"VLOOKUP(E1649,town351,24)","v":10788110},{"$f":"SUM(N1645:N1648)","v":10788110},10226666,{"$f":"SUM(P1645:P1648)","v":561444},5.4900003578878982,1305.1300705472499,1280.8867924574599,328,999,1640,1280.8867924574599,18897294.623070486,1640,328,999,1640,1280.8867924574599,18897294.623070486]
["03290329","0329","0329",1641,329,"West Newbury                 ",329,"West Newbury",52062.869999999995,6.8232436580114731E-3,{"$f":"X1650","v":54140.88},{"$f":"IF(K1654>0, K1650/K1654, 0)","v":6.5266326163875357E-3},null,{"$f":"ROUND(M1654*L1650,0)","v":42979},42952,{"$f":"N1650-O1650","v":27},6.2860867945613713E-2,3,3,329,329,1641,3,54140.88,1641,329,329,1641,3,54140.88]
["03290745","0329","0745",1642,329,"West Newbury                 ",745,"Pentucket",7336050.7616525656,0.9614464556851382,7993648.2254522545,{"$f":"IF(K1654>0, K1651/K1654, 0)","v":0.96362684227085027},null,{"$f":"ROUND(M1654*L1651,0)","v":6345608},6052242,{"$f":"N1651-O1651","v":293366},4.847228514656222,560.06625981321997,588.19421667068002,329,745,1642,588.19421667068002,7993648.2254522545,1642,329,745,1642,588.19421667068002,7993648.2254522545]
["03290885","0329","0885",1643,329,"West Newbury                 ",885,"Whittier",242109.2666416592,3.1730300656850265E-2,247588.18666913826,{"$f":"IF(K1654>0, K1652/K1654, 0)","v":2.9846525112762177E-2},null,{"$f":"ROUND(M1654*L1652,0)","v":196543},199740,{"$f":"N1652-O1652","v":-3197},-1.6005807549814759,10.99999999367,10.999999998960002,329,885,1643,10.999999998960002,247588.18666913826,1643,329,885,1643,10.999999998960002,247588.18666913826]
["03290998","0329","0998",1644,329,"",998,null,0,0,0,{"$f":"IF(K1654>0, K1653/K1654, 0)","v":0},null,{"$f":"ROUND(M1654*L1653,0)","v":0},0,{"$f":"N1653-O1653","v":0},0,0,0,329,998,1644,0,0,1644,329,998,1644,0,0]
["03290999","0329","0999",1645,329,"West Newbury                 ",999,"Total",7630222.8982942253,0.99999999999999989,{"$f":"SUM(K1650:K1653)","v":8295377.2921213927},{"$f":"SUM(L1650:L1653)","v":1},{"$f":"VLOOKUP(E1654,town351,24)","v":6585130},{"$f":"SUM(N1650:N1653)","v":6585130},6294934,{"$f":"SUM(P1650:P1653)","v":290196},4.6099927338396238,574.06625980689,602.19421666964001,329,999,1645,602.19421666964001,8295377.2921213927,1645,329,999,1645,602.19421666964001,8295377.2921213927]
["03300330","0330","0330",1646,330,"Weston                       ",330,"Weston",27475067.223499995,1,{"$f":"X1655","v":29003216.312879998},{"$f":"IF(K1659>0, K1655/K1659, 0)","v":1},null,{"$f":"ROUND(M1659*L1655,0)","v":23927653},22666930,{"$f":"N1655-O1655","v":1260723},5.561948618538108,2045,2055,330,330,1646,2055,29003216.312879998,1646,330,330,1646,2055,29003216.312879998]
["03300830","0330","0830",1647,330,null,998,null,0,0,0,{"$f":"IF(K1659>0, K1656/K1659, 0)","v":0},null,{"$f":"ROUND(M1659*L1656,0)","v":0},0,{"$f":"N1656-O1656","v":0},0,0,0,330,998,1647,0,0,1647,330,998,1647,0,0]
["03300998","0330","0998",1648,330,"",998,"",0,0,0,{"$f":"IF(K1659>0, K1657/K1659, 0)","v":0},null,{"$f":"ROUND(M1659*L1657,0)","v":0},0,{"$f":"N1657-O1657","v":0},0,0,0,330,998,1648,0,0,1648,330,998,1648,0,0]
["03300998","0330","0998",1649,330,"",998,"",0,0,0,{"$f":"IF(K1659>0, K1658/K1659, 0)","v":0},null,{"$f":"ROUND(M1659*L1658,0)","v":0},0,{"$f":"N1658-O1658","v":0},0,0,0,330,998,1649,0,0,1649,330,998,1649,0,0]
["03300999","0330","0999",1650,330,"Weston                       ",999,"Total",27475067.223499995,1,{"$f":"SUM(K1655:K1658)","v":29003216.312879998},{"$f":"SUM(L1655:L1658)","v":1},{"$f":"VLOOKUP(E1659,town351,24)","v":23927653},{"$f":"SUM(N1655:N1658)","v":23927653},22666930,{"$f":"SUM(P1655:P1658)","v":1260723},5.561948618538108,2045,2055,330,999,1650,2055,29003216.312879998,1650,330,999,1650,2055,29003216.312879998]
["03310331","0331","0331",1651,331,"Westport                     ",331,"Westport",22861328.349999998,0.88394637378780927,{"$f":"X1660","v":23725740.499999996},{"$f":"IF(K1664>0, K1660/K1664, 0)","v":0.88211283555747644},null,{"$f":"ROUND(M1664*L1660,0)","v":19035294},17959571,{"$f":"N1660-O1660","v":1075723},5.9896920700388669,1557,1550,331,331,1651,1550,23725740.499999996,1651,331,331,1651,1550,23725740.499999996]
["03310821","0331","0821",1652,331,"Westport                     ",821,"Greater Fall River",2409132.3287968053,9.3150483358282923E-2,2513072.6759535773,{"$f":"IF(K1664>0, K1661/K1664, 0)","v":9.3434962088851367E-2},null,{"$f":"ROUND(M1664*L1661,0)","v":2016252},1892584,{"$f":"N1661-O1661","v":123668},6.5343466921415381,105.99999999760001,106.00000000518999,331,821,1652,106.00000000518999,2513072.6759535773,1652,331,821,1652,106.00000000518999,2513072.6759535773]
["03310910","0331","0910",1653,331,"Westport                     ",910,"Bristol County",592339.40491941245,2.2903142853907855E-2,657678.45598808757,{"$f":"IF(K1664>0, K1662/K1664, 0)","v":2.4452202353672164E-2},null,{"$f":"ROUND(M1664*L1662,0)","v":527659},465334,{"$f":"N1662-O1662","v":62325},13.393605453287316,27.999999999330001,29.999999998410001,331,910,1653,29.999999998410001,657678.45598808757,1653,331,910,1653,29.999999998410001,657678.45598808757]
["03310998","0331","0998",1654,331,"",998,"",0,0,0,{"$f":"IF(K1664>0, K1663/K1664, 0)","v":0},null,{"$f":"ROUND(M1664*L1663,0)","v":0},0,{"$f":"N1663-O1663","v":0},0,0,0,331,998,1654,0,0,1654,331,998,1654,0,0]
["03310999","0331","0999",1655,331,"Westport                     ",999,"Total",25862800.083716214,1,{"$f":"SUM(K1660:K1663)","v":26896491.631941661},{"$f":"SUM(L1660:L1663)","v":1},{"$f":"VLOOKUP(E1664,town351,24)","v":21579205},{"$f":"SUM(N1660:N1663)","v":21579205},20317489,{"$f":"SUM(P1660:P1663)","v":1261716},6.2099996707270275,1690.99999999693,1686.0000000036,331,999,1655,1686.0000000036,26896491.631941661,1655,331,999,1655,1686.0000000036,26896491.631941661]
["03320332","0332","0332",1656,332,"West Springfield             ",332,"West Springfield",72601734.330000013,1,{"$f":"X1665","v":72848167.090000004},{"$f":"IF(K1669>0, K1665/K1669, 0)","v":1},null,{"$f":"ROUND(M1669*L1665,0)","v":26746709},25460932,{"$f":"N1665-O1665","v":1285777},5.0499997407793238,4111,3945,332,332,1656,3945,72848167.090000004,1656,332,332,1656,3945,72848167.090000004]
["03320998","0332","0998",1657,332,"",998,"",0,0,0,{"$f":"IF(K1669>0, K1666/K1669, 0)","v":0},null,{"$f":"ROUND(M1669*L1666,0)","v":0},0,{"$f":"N1666-O1666","v":0},0,0,0,332,998,1657,0,0,1657,332,998,1657,0,0]
["03320998","0332","0998",1658,332,"",998,"",0,0,0,{"$f":"IF(K1669>0, K1667/K1669, 0)","v":0},null,{"$f":"ROUND(M1669*L1667,0)","v":0},0,{"$f":"N1667-O1667","v":0},0,0,0,332,998,1658,0,0,1658,332,998,1658,0,0]
["03320998","0332","0998",1659,332,"",998,"",0,0,0,{"$f":"IF(K1669>0, K1668/K1669, 0)","v":0},null,{"$f":"ROUND(M1669*L1668,0)","v":0},0,{"$f":"N1668-O1668","v":0},0,0,0,332,998,1659,0,0,1659,332,998,1659,0,0]
["03320999","0332","0999",1660,332,"West Springfield             ",999,"Total",72601734.330000013,1,{"$f":"SUM(K1665:K1668)","v":72848167.090000004},{"$f":"SUM(L1665:L1668)","v":1},{"$f":"VLOOKUP(E1669,town351,24)","v":26746709},{"$f":"SUM(N1665:N1668)","v":26746709},25460932,{"$f":"SUM(P1665:P1668)","v":1285777},5.0499997407793238,4111,3945,332,999,1660,3945,72848167.090000004,1660,332,999,1660,3945,72848167.090000004]
["03330333","0333","0333",1661,333,"West Stockbridge             ",333,"West Stockbridge",0,0,{"$f":"X1670","v":0},{"$f":"IF(K1674>0, K1670/K1674, 0)","v":0},null,{"$f":"ROUND(M1674*L1670,0)","v":0},0,{"$f":"N1670-O1670","v":0},0,0,0,333,333,1661,0,0,1661,333,333,1661,0,0]
["03330618","0333","0618",1662,333,"West Stockbridge             ",618,"Berkshire Hills",1752007.7007434862,1,1893894.2247427031,{"$f":"IF(K1674>0, K1671/K1674, 0)","v":1},null,{"$f":"ROUND(M1674*L1671,0)","v":1562463},1445406,{"$f":"N1671-O1671","v":117057},8.0985550080738555,102.62135921946,108.29867256684,333,618,1662,108.29867256684,1893894.2247427031,1662,333,618,1662,108.29867256684,1893894.2247427031]
["03330998","0333","0998",1663,333,"",998,"",0,0,0,{"$f":"IF(K1674>0, K1672/K1674, 0)","v":0},null,{"$f":"ROUND(M1674*L1672,0)","v":0},0,{"$f":"N1672-O1672","v":0},0,0,0,333,998,1663,0,0,1663,333,998,1663,0,0]
["03330998","0333","0998",1664,333,"",998,"",0,0,0,{"$f":"IF(K1674>0, K1673/K1674, 0)","v":0},null,{"$f":"ROUND(M1674*L1673,0)","v":0},0,{"$f":"N1673-O1673","v":0},0,0,0,333,998,1664,0,0,1664,333,998,1664,0,0]
[{"$f":"B1674&C1674","v":"03330999"},"0333","0999",1665,333,"West Stockbridge             ",999,"Total",1752007.7007434862,1,{"$f":"SUM(K1670:K1673)","v":1893894.2247427031},{"$f":"SUM(L1670:L1673)","v":1},{"$f":"VLOOKUP(E1674,town351,24)","v":1562463},{"$f":"SUM(N1670:N1673)","v":1562463},1445406,{"$f":"SUM(P1670:P1673)","v":117057},8.0985550080738555,102.62135921946,108.29867256684,{"$f":"VLOOKUP($D1674, foundoptions, VLOOKUP($T$6, foundoptcell, 2, FALSE), FALSE)","v":333},{"$f":"VLOOKUP($D1674, foundoptions, VLOOKUP($T$6, foundoptcell, 2, FALSE)+1, FALSE)","v":999},{"$f":"VLOOKUP($D1674, foundoptions, VLOOKUP($T$6, foundoptcell, 2, FALSE)+2, FALSE)","v":1665},{"$f":"VLOOKUP($D1674, foundoptions, VLOOKUP($T$6, foundoptcell, 2, FALSE)+3, FALSE)","v":108.29867256684},{"$f":"VLOOKUP($D1674, foundoptions, VLOOKUP($T$6, foundoptcell, 2, FALSE)+4, FALSE)","v":1893894.2247427031},1665,333,999,1665,108.29867256684,1893894.2247427031]
["03340334","0334","0334",1666,334,"West Tisbury                 ",334,"West Tisbury",0,0,{"$f":"X1675","v":0},{"$f":"IF(K1679>0, K1675/K1679, 0)","v":0},null,{"$f":"ROUND(M1679*L1675,0)","v":0},0,{"$f":"N1675-O1675","v":0},0,0,{"$f":"W1675","v":0},334,334,1666,0,0,{"$f":"D1675","v":1666},334,334,1666,0,0]
["03340700","0334","0700",1667,334,"West Tisbury                 ",700,"Marthas Vineyard",2553734.8661922789,0.41054700713609271,2576097.0411266955,{"$f":"IF(K1679>0, K1676/K1679, 0)","v":0.39085510923873218},null,{"$f":"ROUND(M1679*L1676,0)","v":2125280},2106831,{"$f":"N1676-O1676","v":18449},0.87567536266553891,133.99999999721999,131.99999999753001,334,700,1667,131.99999999753001,2576097.0411266955,1667,334,700,1667,131.99999999753001,2576097.0411266955]
["03340774","0334","0774",1668,334,"West Tisbury                 ",774,"Upisland",3666587.8296342148,0.58945299286390729,4014828.8038600953,{"$f":"IF(K1679>0, K1677/K1679, 0)","v":0.60914489076126777},null,{"$f":"ROUND(M1679*L1677,0)","v":3312234},3024935,{"$f":"N1677-O1677","v":287299},9.4976916859370526,263.30343007752003,275.29591836614998,334,774,1668,275.29591836614998,4014828.8038600953,1668,334,774,1668,275.29591836614998,4014828.8038600953]
["03340998","0334","0998",1669,334,"",998,"",0,0,0,{"$f":"IF(K1679>0, K1678/K1679, 0)","v":0},null,{"$f":"ROUND(M1679*L1678,0)","v":0},0,{"$f":"N1678-O1678","v":0},0,0,0,334,998,1669,0,0,1669,334,998,1669,0,0]
["03340999","0334","0999",1670,334,"West Tisbury                 ",999,"Total",6220322.6958264932,1,{"$f":"SUM(K1675:K1678)","v":6590925.8449867908},{"$f":"SUM(L1675:L1678)","v":1},{"$f":"VLOOKUP(E1679,town351,24)","v":5437514},{"$f":"SUM(N1675:N1678)","v":5437514},5131766,{"$f":"SUM(P1675:P1678)","v":305748},5.9579489789674742,397.30343007474005,407.29591836368002,334,999,1670,407.29591836368002,6590925.8449867908,1670,334,999,1670,407.29591836368002,6590925.8449867908]
["03350335","0335","0335",1671,335,"Westwood                     ",335,"Westwood",37402634.289359994,0.99455699103948692,{"$f":"X1680","v":39111176.240100004},{"$f":"IF(K1684>0, K1680/K1684, 0)","v":0.9951990149259099},null,{"$f":"ROUND(M1684*L1680,0)","v":32084386},30857173,{"$f":"N1680-O1680","v":1227213},{"$f":"IF(O1680>0,P1680*100/O1680,IF(P1680>0,100,0))","v":3.9770752816533128},2844,2836,335,335,1671,2836,39111176.240100004,1671,335,335,1671,2836,39111176.240100004]
["03350806","0335","0806",1672,335,"Westwood                     ",806,"Blue Hills",90781.760910474084,2.4139378599349493E-3,96172.809685261149,{"$f":"IF(K1684>0, K1681/K1684, 0)","v":2.4471543600189144E-3},null,{"$f":"ROUND(M1684*L1681,0)","v":78894},74895,{"$f":"N1681-O1681","v":3999},{"$f":"IF(O1681>0,P1681*100/O1681,IF(P1681>0,100,0))","v":5.3394752653715205},4.0000000040000003,4.0043336902800002,335,806,1672,4.0043336902800002,96172.809685261149,1672,335,806,1672,4.0043336902800002,96172.809685261149]
["03350915","0335","0915",1673,335,"Westwood                     ",915,"Norfolk County",113915.2805039114,3.0290711005780306E-3,92505.204001081569,{"$f":"IF(K1684>0, K1682/K1684, 0)","v":2.3538307140711381E-3},null,{"$f":"ROUND(M1684*L1682,0)","v":75886},93980,{"$f":"N1682-O1682","v":-18094},{"$f":"IF(O1682>0,P1682*100/O1682,IF(P1682>0,100,0))","v":-19.253032560119173},4.9999999989200008,3.9999999996,335,915,1673,3.9999999996,92505.204001081569,1673,335,915,1673,3.9999999996,92505.204001081569]
["03350998","0335","0998",1674,335,"",998,"",0,0,0,{"$f":"IF(K1684>0, K1683/K1684, 0)","v":0},null,{"$f":"ROUND(M1684*L1683,0)","v":0},0,{"$f":"N1683-O1683","v":0},{"$f":"IF(O1683>0,P1683*100/O1683,IF(P1683>0,100,0))","v":0},0,0,335,998,1674,0,0,1674,335,998,1674,0,0]
["03350999","0335","0999",1675,335,"Westwood                     ",999,"Total",37607331.330774382,0.99999999999999989,{"$f":"SUM(K1680:K1683)","v":39299854.253786348},{"$f":"SUM(L1680:L1683)","v":1},{"$f":"VLOOKUP(E1684,town351,24)","v":32239166},{"$f":"SUM(N1680:N1683)","v":32239166},31026048,{"$f":"SUM(P1680:P1683)","v":1213118},{"$f":"IF(O1684>0,P1684*100/O1684,IF(P1684>0,100,0))","v":3.9099984632267701},2853.0000000029199,2844.0043336898798,335,999,1675,2844.0043336898798,39299854.253786348,1675,335,999,1675,2844.0043336898798,39299854.253786348]
["03360336","0336","0336",1676,336,"Weymouth                     ",336,"Weymouth",95705608.23864001,0.99455458414546616,{"$f":"X1685","v":101624016.37731999},{"$f":"IF(K1689>0, K1685/K1689, 0)","v":0.99434300168975254},null,{"$f":"ROUND(M1689*L1685,0)","v":77273720},73567640,{"$f":"N1685-O1685","v":3706080},5.0376497057673726,5832,5898,336,336,1676,5898,101624016.37731999,1676,336,336,1676,5898,101624016.37731999]
["03360915","0336","0915",1677,336,"Weymouth                     ",915,"Norfolk County",524010.29041386355,5.4454158545339465E-3,578157.5250694321,{"$f":"IF(K1689>0, K1686/K1689, 0)","v":5.6569983102474413E-3},null,{"$f":"ROUND(M1689*L1686,0)","v":439624},402800,{"$f":"N1686-O1686","v":36824},9.1420059582919571,22.99999999924,25.000000000210001,336,915,1677,25.000000000210001,578157.5250694321,1677,336,915,1677,25.000000000210001,578157.5250694321]
["03360998","0336","0998",1678,336,"",998,"",0,0,0,{"$f":"IF(K1689>0, K1687/K1689, 0)","v":0},null,{"$f":"ROUND(M1689*L1687,0)","v":0},0,{"$f":"N1687-O1687","v":0},0,0,0,336,998,1678,0,0,1678,336,998,1678,0,0]
["03360998","0336","0998",1679,336,"",998,"",0,0,0,{"$f":"IF(K1689>0, K1688/K1689, 0)","v":0},null,{"$f":"ROUND(M1689*L1688,0)","v":0},0,{"$f":"N1688-O1688","v":0},0,0,0,336,998,1679,0,0,1679,336,998,1679,0,0]
["03360999","0336","0999",1680,336,"Weymouth                     ",999,"Total",96229618.529053867,1,{"$f":"SUM(K1685:K1688)","v":102202173.90238942},{"$f":"SUM(L1685:L1688)","v":1},{"$f":"VLOOKUP(E1689,town351,24)","v":77713344},{"$f":"SUM(N1685:N1688)","v":77713344},73970440,{"$f":"SUM(P1685:P1688)","v":3742904},5.0599996431006762,5854.9999999992397,5923.0000000002101,336,999,1680,5923.0000000002101,102202173.90238942,1680,336,999,1680,5923.0000000002101,102202173.90238942]
["03370337","0337","0337",1681,337,"Whately                      ",337,"Whately",1207816.8600000001,0.52327741772235803,{"$f":"X1690","v":1424476.9000000001},{"$f":"IF(K1694>0, K1690/K1694, 0)","v":0.55846915759353677},null,{"$f":"ROUND(M1694*L1690,0)","v":1082145},966499,{"$f":"N1690-O1690","v":115646},11.965454697832072,92,100,337,337,1681,100,1424476.9000000001,1681,337,337,1681,100,1424476.9000000001]
["03370670","0337","0670",1682,337,"Whately                      ",670,"Frontier",782934.62905372027,0.33920044048453085,821992.74739512219,{"$f":"IF(K1694>0, K1691/K1694, 0)","v":0.32226398138555334},null,{"$f":"ROUND(M1694*L1691,0)","v":624450},626507,{"$f":"N1691-O1691","v":-2057},-0.32832833471932477,54.11464968216,53.999999999400004,337,670,1682,53.999999999400004,821992.74739512219,1682,337,670,1682,53.999999999400004,821992.74739512219]
["03370818","0337","0818",1683,337,"Whately                      ",818,"Franklin County",317425.43411105277,0.13752214179311106,304211.76559126575,{"$f":"IF(K1694>0, K1692/K1694, 0)","v":0.11926686102090996},null,{"$f":"ROUND(M1694*L1692,0)","v":231103},254005,{"$f":"N1692-O1692","v":-22902},-9.0163579457097303,13.99999999848,13.00000000128,337,818,1683,13.00000000128,304211.76559126575,1683,337,818,1683,13.00000000128,304211.76559126575]
["03370998","0337","0998",1684,337,"",998,"",0,0,0,{"$f":"IF(K1694>0, K1693/K1694, 0)","v":0},null,{"$f":"ROUND(M1694*L1693,0)","v":0},0,{"$f":"N1693-O1693","v":0},0,0,0,337,998,1684,0,0,1684,337,998,1684,0,0]
["03370999","0337","0999",1685,337,"Whately                      ",999,"Total",2308176.9231647733,0.99999999999999989,{"$f":"SUM(K1690:K1693)","v":2550681.412986388},{"$f":"SUM(L1690:L1693)","v":1},{"$f":"VLOOKUP(E1694,town351,24)","v":1937698},{"$f":"SUM(N1690:N1693)","v":1937698},1847011,{"$f":"SUM(P1690:P1693)","v":90687},4.9099328590896318,160.11464968064001,167.00000000068002,337,999,1685,167.00000000068002,2550681.412986388,1685,337,999,1685,167.00000000068002,2550681.412986388]
["03380338","0338","0338",1686,338,"Whitman                      ",338,"Whitman",327137.26999999996,9.6366842162803265E-3,{"$f":"X1695","v":267856.07999999996},{"$f":"IF(K1699>0, K1695/K1699, 0)","v":7.7599809754731307E-3},null,{"$f":"ROUND(M1699*L1695,0)","v":130007},152786,{"$f":"N1695-O1695","v":-22779},-14.90908852905371,17,13,338,338,1686,13,267856.07999999996,1686,338,338,1686,13,267856.07999999996]
["03380780","0338","0780",1687,338,"Whitman                      ",780,"Whitman Hanson",30460308.931535918,0.89728809653377273,31298845.242490441,{"$f":"IF(K1699>0, K1696/K1699, 0)","v":0.9067497875575703},null,{"$f":"ROUND(M1699*L1696,0)","v":15191258},14226121,{"$f":"N1696-O1696","v":965137},6.784259743045908,2107.77745747053,2069.25944363094,338,780,1687,2069.25944363094,31298845.242490441,1687,338,780,1687,2069.25944363094,31298845.242490441]
["03380873","0338","0873",1688,338,"Whitman                      ",873,"South Shore",3159631.720487345,9.3075219249946828E-2,2927174.0392012652,{"$f":"IF(K1699>0, K1697/K1699, 0)","v":8.4802311958349655E-2},null,{"$f":"ROUND(M1699*L1697,0)","v":1420738},1475668,{"$f":"N1697-O1697","v":-54930},-3.7223819992030727,146.99999999944001,133.99999999968,338,873,1688,133.99999999968,2927174.0392012652,1688,338,873,1688,133.99999999968,2927174.0392012652]
["03380998","0338","0998",1689,338,"Whitman                      ",872,"Southeastern",0,0,23745.344674604235,{"$f":"IF(K1699>0, K1698/K1699, 0)","v":6.879195086069396E-4},null,{"$f":"ROUND(M1699*L1698,0)","v":11525},0,{"$f":"N1698-O1698","v":11525},100,0,1.0005793815599999,338,872,1689,1.0005793815599999,23745.344674604235,1689,338,872,1689,1.0005793815599999,23745.344674604235]
["03380999","0338","0999",1690,338,"Whitman                      ",999,"Total",33947077.922023267,0.99999999999999978,{"$f":"SUM(K1695:K1698)","v":34517620.706366308},{"$f":"SUM(L1695:L1698)","v":1},{"$f":"VLOOKUP(E1699,town351,24)","v":16753528},{"$f":"SUM(N1695:N1698)","v":16753528},15854575,{"$f":"SUM(P1695:P1698)","v":898953},5.6699911539729069,2271.7774574699702,2217.2600230121798,338,999,1690,2217.2600230121798,34517620.706366308,1690,338,999,1690,2217.2600230121798,34517620.706366308]
["03390339","0339","0339",1691,339,"Wilbraham                    ",339,"Wilbraham",0,0,{"$f":"X1700","v":0},{"$f":"IF(K1704>0, K1700/K1704, 0)","v":0},null,{"$f":"ROUND(M1704*L1700,0)","v":0},0,{"$f":"N1700-O1700","v":0},0,0,0,339,339,1691,0,0,1691,339,339,1691,0,0]
["03390680","0339","0680",1692,339,"Wilbraham                    ",680,"Hampden Wilbraham",30551139.745619263,1,31067956.254511315,{"$f":"IF(K1704>0, K1701/K1704, 0)","v":1},null,{"$f":"ROUND(M1704*L1701,0)","v":20639885},19751086,{"$f":"N1701-O1701","v":888799},4.5000006581916558,2207.19652551747,2155.0428885629699,339,680,1692,2155.0428885629699,31067956.254511315,1692,339,680,1692,2155.0428885629699,31067956.254511315]
["03390998","0339","0998",1693,339,"",998,"",0,0,0,{"$f":"IF(K1704>0, K1702/K1704, 0)","v":0},null,{"$f":"ROUND(M1704*L1702,0)","v":0},0,{"$f":"N1702-O1702","v":0},0,0,0,339,998,1693,0,0,1693,339,998,1693,0,0]
["03390998","0339","0998",1694,339,"",998,"",0,0,0,{"$f":"IF(K1704>0, K1703/K1704, 0)","v":0},null,{"$f":"ROUND(M1704*L1703,0)","v":0},0,{"$f":"N1703-O1703","v":0},0,0,0,339,998,1694,0,0,1694,339,998,1694,0,0]
["03390999","0339","0999",1695,339,"Wilbraham                    ",999,"Total",30551139.745619263,1,{"$f":"SUM(K1700:K1703)","v":31067956.254511315},{"$f":"SUM(L1700:L1703)","v":1},{"$f":"VLOOKUP(E1704,town351,24)","v":20639885},{"$f":"SUM(N1700:N1703)","v":20639885},19751086,{"$f":"SUM(P1700:P1703)","v":888799},4.5000006581916558,2207.19652551747,2155.0428885629699,339,999,1695,2155.0428885629699,31067956.254511315,1695,339,999,1695,2155.0428885629699,31067956.254511315]
["03400340","0340","0340",1696,340,"Williamsburg                 ",340,"Williamsburg",1785677.7,0.51992433315464115,{"$f":"X1705","v":1749761.4900000002},{"$f":"IF(K1709>0, K1705/K1709, 0)","v":0.50594840849255951},null,{"$f":"ROUND(M1709*L1705,0)","v":1337813},1318975,{"$f":"N1705-O1705","v":18838},1.4282302545537253,119,109,340,340,1696,109,1749761.4900000002,1696,340,340,1696,109,1749761.4900000002]
["03400683","0340","0683",1697,340,"Williamsburg                 ",683,"Hampshire",1648817.6412074398,0.48007566684535879,1708617.7847037218,{"$f":"IF(K1709>0, K1706/K1709, 0)","v":0.49405159150744055},null,{"$f":"ROUND(M1709*L1706,0)","v":1306356},1217884,{"$f":"N1706-O1706","v":88472},7.264402849532468,115.39792387760001,115.99999999806001,340,683,1697,115.99999999806001,1708617.7847037218,1697,340,683,1697,115.99999999806001,1708617.7847037218]
["03400998","0340","0998",1698,340,"",998,"",0,0,0,{"$f":"IF(K1709>0, K1707/K1709, 0)","v":0},null,{"$f":"ROUND(M1709*L1707,0)","v":0},0,{"$f":"N1707-O1707","v":0},0,0,0,340,998,1698,0,0,1698,340,998,1698,0,0]
["03400998","0340","0998",1699,340,"",998,"",0,0,0,{"$f":"IF(K1709>0, K1708/K1709, 0)","v":0},null,{"$f":"ROUND(M1709*L1708,0)","v":0},0,{"$f":"N1708-O1708","v":0},0,0,0,340,998,1699,0,0,1699,340,998,1699,0,0]
["03400999","0340","0999",1700,340,"Williamsburg                 ",999,"Total",3434495.34120744,1,{"$f":"SUM(K1705:K1708)","v":3458379.274703722},{"$f":"SUM(L1705:L1708)","v":1},{"$f":"VLOOKUP(E1709,town351,24)","v":2644169},{"$f":"SUM(N1705:N1708)","v":2644169},2536859,{"$f":"SUM(P1705:P1708)","v":107310},4.2300340696901166,234.39792387760002,224.99999999805999,340,999,1700,224.99999999805999,3458379.274703722,1700,340,999,1700,224.99999999805999,3458379.274703722]
["03410341","0341","0341",1701,341,"Williamstown                 ",341,"Williamstown",0,0,{"$f":"X1710","v":0},{"$f":"IF(K1714>0, K1710/K1714, 0)","v":0},null,{"$f":"ROUND(M1714*L1710,0)","v":0},0,{"$f":"N1710-O1710","v":0},0,0,0,341,341,1701,0,0,1701,341,341,1701,0,0]
["03410715","0341","0715",1702,341,"Williamstown                 ",715,"Mount Greylock",9746991.8799430858,0.95110571859134441,10065719.237830894,{"$f":"IF(K1714>0, K1711/K1714, 0)","v":0.96595370037771011},null,{"$f":"ROUND(M1714*L1711,0)","v":8155261},7736684,{"$f":"N1711-O1711","v":418577},5.4102894728542612,705.57597816047996,701.05822550980008,341,715,1702,701.05822550980008,10065719.237830894,1702,341,715,1702,701.05822550980008,10065719.237830894]
["03410851","0341","0851",1703,341,"Williamstown                 ",851,"Northern Berkshire",501071.70480654307,4.8894281408655482E-2,354779.41950119787,{"$f":"IF(K1714>0, K1712/K1714, 0)","v":3.4046299622289881E-2},null,{"$f":"ROUND(M1714*L1712,0)","v":287443},397726,{"$f":"N1712-O1712","v":-110283},-27.728385873691938,21.999999999330001,15.000000001400002,341,851,1703,15.000000001400002,354779.41950119787,1703,341,851,1703,15.000000001400002,354779.41950119787]
["03410998","0341","0998",1704,341,"",998,"",0,0,0,{"$f":"IF(K1714>0, K1713/K1714, 0)","v":0},null,{"$f":"ROUND(M1714*L1713,0)","v":0},0,{"$f":"N1713-O1713","v":0},0,0,0,341,998,1704,0,0,1704,341,998,1704,0,0]
["03410999","0341","0999",1705,341,"Williamstown                 ",999,"Total",10248063.58474963,0.99999999999999989,{"$f":"SUM(K1710:K1713)","v":10420498.657332093},{"$f":"SUM(L1710:L1713)","v":1},{"$f":"VLOOKUP(E1714,town351,24)","v":8442704},{"$f":"SUM(N1710:N1713)","v":8442704},8134410,{"$f":"SUM(P1710:P1713)","v":308294},3.7899982912098111,727.57597815981001,716.05822551120013,341,999,1705,716.05822551120013,10420498.657332093,1705,341,999,1705,716.05822551120013,10420498.657332093]
["03420342","0342","0342",1706,342,"Wilmington                   ",342,"Wilmington",37975001.813760005,0.86003655719826511,{"$f":"X1715","v":40162342.191840008},{"$f":"IF(K1719>0, K1715/K1719, 0)","v":0.87526260690991442},null,{"$f":"ROUND(M1719*L1715,0)","v":33133932},31329376,{"$f":"N1715-O1715","v":1804556},5.7599487458671375,2778,2805,342,342,1706,2805,40162342.191840008,1706,342,342,1706,2805,40162342.191840008]
["03420871","0342","0871",1707,342,"Wilmington                   ",871,"Shawsheen Valley",6180100.078037356,0.13996344280173489,5723706.0350250974,{"$f":"IF(K1719>0, K1716/K1719, 0)","v":0.12473739309008559},null,{"$f":"ROUND(M1719*L1716,0)","v":4722058},5098583,{"$f":"N1716-O1716","v":-376525},-7.3848949796443444,302.00000000396,268.99999999809,342,871,1707,268.99999999809,5723706.0350250974,1707,342,871,1707,268.99999999809,5723706.0350250974]
["03420998","0342","0998",1708,342,"",998,null,0,0,0,{"$f":"IF(K1719>0, K1717/K1719, 0)","v":0},null,{"$f":"ROUND(M1719*L1717,0)","v":0},0,{"$f":"N1717-O1717","v":0},0,0,0,342,998,1708,0,0,1708,342,998,1708,0,0]
["03420998","0342","0998",1709,342,"",998,"",0,0,0,{"$f":"IF(K1719>0, K1718/K1719, 0)","v":0},null,{"$f":"ROUND(M1719*L1718,0)","v":0},0,{"$f":"N1718-O1718","v":0},0,0,0,342,998,1709,0,0,1709,342,998,1709,0,0]
["03420999","0342","0999",1710,342,"Wilmington                   ",999,"Total",44155101.891797364,1,{"$f":"SUM(K1715:K1718)","v":45886048.226865105},{"$f":"SUM(L1715:L1718)","v":1},{"$f":"VLOOKUP(E1719,town351,24)","v":37855990},{"$f":"SUM(N1715:N1718)","v":37855990},36427959,{"$f":"SUM(P1715:P1718)","v":1428031},3.9201510026954844,3080.0000000039599,3073.9999999980901,342,999,1710,3073.9999999980901,45886048.226865105,1710,342,999,1710,3073.9999999980901,45886048.226865105]
["03430343","0343","0343",1711,343,"Winchendon                   ",343,"Winchendon",21245551.259999998,0.92224947720376182,{"$f":"X1720","v":21259695.539999999},{"$f":"IF(K1724>0, K1720/K1724, 0)","v":0.92468175023514509},null,{"$f":"ROUND(M1724*L1720,0)","v":7229420},6850740,{"$f":"N1720-O1720","v":378680},5.527578042664004,1286,1221,343,343,1711,1221,21259695.539999999,1711,343,343,1711,1221,21259695.539999999]
["03430832","0343","0832",1712,343,"Winchendon                   ",832,"Montachusett",1791112.6635361745,7.7750522796238064E-2,1731669.3642967413,{"$f":"IF(K1724>0, K1721/K1724, 0)","v":7.5318249764854905E-2},null,{"$f":"ROUND(M1724*L1721,0)","v":588859},577554,{"$f":"N1721-O1721","v":11305},1.9573927286452868,85.999999992959999,80.000000001860002,343,832,1712,80.000000001860002,1731669.3642967413,1712,343,832,1712,80.000000001860002,1731669.3642967413]
["03430998","0343","0998",1713,343,"",998,"",0,0,0,{"$f":"IF(K1724>0, K1722/K1724, 0)","v":0},null,{"$f":"ROUND(M1724*L1722,0)","v":0},0,{"$f":"N1722-O1722","v":0},0,0,0,343,998,1713,0,0,1713,343,998,1713,0,0]
["03430998","0343","0998",1714,343,"",998,"",0,0,0,{"$f":"IF(K1724>0, K1723/K1724, 0)","v":0},null,{"$f":"ROUND(M1724*L1723,0)","v":0},0,{"$f":"N1723-O1723","v":0},0,0,0,343,998,1714,0,0,1714,343,998,1714,0,0]
["03430999","0343","0999",1715,343,"Winchendon                   ",999,"Total",23036663.923536174,0.99999999999999989,{"$f":"SUM(K1720:K1723)","v":22991364.904296741},{"$f":"SUM(L1720:L1723)","v":1},{"$f":"VLOOKUP(E1724,town351,24)","v":7818279},{"$f":"SUM(N1720:N1723)","v":7818279},7428294,{"$f":"SUM(P1720:P1723)","v":389985},5.2499941440120708,1371.9999999929601,1301.0000000018599,343,999,1715,1301.0000000018599,22991364.904296741,1715,343,999,1715,1301.0000000018599,22991364.904296741]
["03440344","0344","0344",1716,344,"Winchester                   ",344,"Winchester",58362713.363759995,0.99536148370770883,{"$f":"X1725","v":60361166.947999999},{"$f":"IF(K1729>0, K1725/K1729, 0)","v":0.9936141668698194},null,{"$f":"ROUND(M1729*L1725,0)","v":48960912},47287902,{"$f":"N1725-O1725","v":1673010},3.5379239281962644,4398,4347,344,344,1716,4347,60361166.947999999,1716,344,344,1716,4347,60361166.947999999]
["03440853","0344","0853",1717,344,"Winchester                   ",853,"Northeast Metropolitan",271977.97104998108,4.6385162922911892E-3,387933.61902961455,{"$f":"IF(K1729>0, K1726/K1729, 0)","v":6.3858331301806627E-3},null,{"$f":"ROUND(M1729*L1726,0)","v":314666},220368,{"$f":"N1726-O1726","v":94298},42.791149350177882,11.00000000298,15.000000001440002,344,853,1717,15.000000001440002,387933.61902961455,1717,344,853,1717,15.000000001440002,387933.61902961455]
["03440998","0344","0998",1718,344,"",998,"",0,0,0,{"$f":"IF(K1729>0, K1727/K1729, 0)","v":0},null,{"$f":"ROUND(M1729*L1727,0)","v":0},0,{"$f":"N1727-O1727","v":0},0,0,0,344,998,1718,0,0,1718,344,998,1718,0,0]
["03440998","0344","0998",1719,344,"",998,"",0,0,0,{"$f":"IF(K1729>0, K1728/K1729, 0)","v":0},null,{"$f":"ROUND(M1729*L1728,0)","v":0},0,{"$f":"N1728-O1728","v":0},0,0,0,344,998,1719,0,0,1719,344,998,1719,0,0]
["03440999","0344","0999",1720,344,"Winchester                   ",999,"Total",58634691.334809974,1,{"$f":"SUM(K1725:K1728)","v":60749100.56702961},{"$f":"SUM(L1725:L1728)","v":1},{"$f":"VLOOKUP(E1729,town351,24)","v":49275578},{"$f":"SUM(N1725:N1728)","v":49275578},47508270,{"$f":"SUM(P1725:P1728)","v":1767308},3.7200007493432197,4409.0000000029804,4362.0000000014397,344,999,1720,4362.0000000014397,60749100.56702961,1720,344,999,1720,4362.0000000014397,60749100.56702961]
["03450345","0345","0345",1721,345,"Windsor                      ",345,"Windsor",121480.03,0.11769217833701932,{"$f":"X1730","v":90234.8},{"$f":"IF(K1734>0, K1730/K1734, 0)","v":8.9362556891157643E-2},null,{"$f":"ROUND(M1734*L1730,0)","v":72647},92496,{"$f":"N1730-O1730","v":-19849},-21.459306348382633,7,5,345,345,1721,5,90234.8,1721,345,345,1721,5,90234.8]
["03450635","0345","0635",1722,345,"Windsor                      ",635,"Central Berkshire",910704.36590891005,0.88230782166298061,919525.92237844248,{"$f":"IF(K1734>0, K1731/K1734, 0)","v":0.91063744310884231},null,{"$f":"ROUND(M1734*L1731,0)","v":740305},693420,{"$f":"N1731-O1731","v":46885},6.7614144385797932,58.894736841319997,57.127222987200007,345,635,1722,57.127222987200007,919525.92237844248,1722,345,635,1722,57.127222987200007,919525.92237844248]
["03450998","0345","0998",1723,345,"",998,"",0,0,0,{"$f":"IF(K1734>0, K1732/K1734, 0)","v":0},null,{"$f":"ROUND(M1734*L1732,0)","v":0},0,{"$f":"N1732-O1732","v":0},0,0,0,345,998,1723,0,0,1723,345,998,1723,0,0]
["03450998","0345","0998",1724,345,"",998,"",0,0,0,{"$f":"IF(K1734>0, K1733/K1734, 0)","v":0},null,{"$f":"ROUND(M1734*L1733,0)","v":0},0,{"$f":"N1733-O1733","v":0},0,0,0,345,998,1724,0,0,1724,345,998,1724,0,0]
["03450999","0345","0999",1725,345,"Windsor                      ",999,"Total",1032184.3959089101,0.99999999999999989,{"$f":"SUM(K1730:K1733)","v":1009760.7223784425},{"$f":"SUM(L1730:L1733)","v":1},{"$f":"VLOOKUP(E1734,town351,24)","v":812952},{"$f":"SUM(N1730:N1733)","v":812952},785916,{"$f":"SUM(P1730:P1733)","v":27036},3.440062296734002,65.894736841319997,62.127222987200007,345,999,1725,62.127222987200007,1009760.7223784425,1725,345,999,1725,62.127222987200007,1009760.7223784425]
["03460346","0346","0346",1726,346,"Winthrop                     ",346,"Winthrop",31680910.483599998,0.95669434703582545,{"$f":"X1735","v":32954210.573959999},{"$f":"IF(K1739>0, K1735/K1739, 0)","v":0.95431467851942675},null,{"$f":"ROUND(M1739*L1735,0)","v":22617516},21322094,{"$f":"N1735-O1735","v":1295422},6.0754914597037235,1996,1999,346,346,1726,1999,32954210.573959999,1726,346,346,1726,1999,32954210.573959999]
["03460853","0346","0853",1727,346,"Winthrop                     ",853,"Northeast Metropolitan",1434065.6650085594,4.3305652964174539E-2,1577596.7174115132,{"$f":"IF(K1739>0, K1736/K1739, 0)","v":4.5685321480573318E-2},null,{"$f":"ROUND(M1739*L1736,0)","v":1082754},965164,{"$f":"N1736-O1736","v":117590},12.183421677559462,57.999999994370008,61.000000006800001,346,853,1727,61.000000006800001,1577596.7174115132,1727,346,853,1727,61.000000006800001,1577596.7174115132]
["03460998","0346","0998",1728,346,"",998,null,0,0,0,{"$f":"IF(K1739>0, K1737/K1739, 0)","v":0},null,{"$f":"ROUND(M1739*L1737,0)","v":0},0,{"$f":"N1737-O1737","v":0},0,0,0,346,998,1728,0,0,1728,346,998,1728,0,0]
[{"$f":"B1738&C1738","v":"03460998"},"0346","0998",1729,346,"",998,"",0,0,0,{"$f":"IF(K1739>0, K1738/K1739, 0)","v":0},null,{"$f":"ROUND(M1739*L1738,0)","v":0},0,{"$f":"N1738-O1738","v":0},0,0,0,{"$f":"VLOOKUP($D1738, foundoptions, VLOOKUP($T$6, foundoptcell, 2, FALSE), FALSE)","v":346},{"$f":"VLOOKUP($D1738, foundoptions, VLOOKUP($T$6, foundoptcell, 2, FALSE)+1, FALSE)","v":998},{"$f":"VLOOKUP($D1738, foundoptions, VLOOKUP($T$6, foundoptcell, 2, FALSE)+2, FALSE)","v":1729},{"$f":"VLOOKUP($D1738, foundoptions, VLOOKUP($T$6, foundoptcell, 2, FALSE)+3, FALSE)","v":0},{"$f":"VLOOKUP($D1738, foundoptions, VLOOKUP($T$6, foundoptcell, 2, FALSE)+4, FALSE)","v":0},1729,346,998,1729,0,0]
["03460999","0346","0999",1730,346,"Winthrop                     ",999,"Total",33114976.148608558,1,{"$f":"SUM(K1735:K1738)","v":34531807.291371509},{"$f":"SUM(L1735:L1738)","v":1},{"$f":"VLOOKUP(E1739,town351,24)","v":23700270},{"$f":"SUM(N1735:N1738)","v":23700270},22287258,{"$f":"SUM(P1735:P1738)","v":1413012},6.3399992946642429,2053.9999999943702,{"$f":"W1739","v":2060.0000000067998},346,999,1730,2060.0000000067998,34531807.291371509,{"$f":"D1739","v":1730},346,999,1730,2060.0000000067998,34531807.291371509]
["03470347","0347","0347",1731,347,"Woburn",347,"Woburn",75539782.354959995,0.95888474208565455,{"$f":"X1740","v":75547563.502450004},{"$f":"IF(K1744>0, K1740/K1744, 0)","v":0.95426559852289827},null,{"$f":"ROUND(M1744*L1740,0)","v":62326740},60461178,{"$f":"N1740-O1740","v":1865562},3.085553510055659,4600,4416,347,347,1731,4416,75547563.502450004,1731,347,347,1731,4416,75547563.502450004]
["03470853","0347","0853",1732,347,"Woburn",853,"Northeast Metropolitan",3239010.3815420354,4.1115257914345324E-2,3620713.777365596,{"$f":"IF(K1744>0, K1741/K1744, 0)","v":4.5734401477101706E-2},null,{"$f":"ROUND(M1744*L1741,0)","v":2987089},2592467,{"$f":"N1741-O1741","v":394622},15.221871676669366,130.99999999657001,140.00000000399999,347,853,1732,140.00000000399999,3620713.777365596,1732,347,853,1732,140.00000000399999,3620713.777365596]
["03470998","0347","0998",1733,347,"",998,null,0,0,0,{"$f":"IF(K1744>0, K1742/K1744, 0)","v":0},null,{"$f":"ROUND(M1744*L1742,0)","v":0},0,{"$f":"N1742-O1742","v":0},0,0,0,347,998,1733,0,0,1733,347,998,1733,0,0]
["03470998","0347","0998",1734,347,"",998,"",0,0,0,{"$f":"IF(K1744>0, K1743/K1744, 0)","v":0},null,{"$f":"ROUND(M1744*L1743,0)","v":0},0,{"$f":"N1743-O1743","v":0},0,0,0,347,998,1734,0,0,1734,347,998,1734,0,0]
["03470999","0347","0999",1735,347,"Woburn",999,"Total",78778792.736502036,0.99999999999999989,{"$f":"SUM(K1740:K1743)","v":79168277.279815599},{"$f":"SUM(L1740:L1743)","v":1},{"$f":"VLOOKUP(E1744,town351,24)","v":65313829},{"$f":"SUM(N1740:N1743)","v":65313829},63053645,{"$f":"SUM(P1740:P1743)","v":2260184},{"$f":"IF(O1744>0,P1744*100/O1744,IF(P1744>0,100,0))","v":3.5845413853552794},4730.9999999965703,4556.000000004,347,999,1735,4556.000000004,79168277.279815599,1735,347,999,1735,4556.000000004,79168277.279815599]
["03480348","0348","0348",1736,348,"Worcester                    ",348,"Worcester",547442458.76000011,1,{"$f":"X1745","v":581293882.04999995},{"$f":"IF(K1749>0, K1745/K1749, 0)","v":1},null,{"$f":"ROUND(M1749*L1745,0)","v":143531666},135663200,{"$f":"N1745-O1745","v":7868466},5.8000002948478286,27173,27183,348,348,1736,27183,581293882.04999995,1736,348,348,1736,27183,581293882.04999995]
["03480998","0348","0998",1737,348,"",998,"",0,0,0,{"$f":"IF(K1749>0, K1746/K1749, 0)","v":0},null,{"$f":"ROUND(M1749*L1746,0)","v":0},0,{"$f":"N1746-O1746","v":0},0,0,0,348,998,1737,0,0,1737,348,998,1737,0,0]
["03480998","0348","0998",1738,348,"",998,"",0,0,0,{"$f":"IF(K1749>0, K1747/K1749, 0)","v":0},null,{"$f":"ROUND(M1749*L1747,0)","v":0},0,{"$f":"N1747-O1747","v":0},0,0,0,348,998,1738,0,0,1738,348,998,1738,0,0]
["03480998","0348","0998",1739,348,"",998,"",0,0,0,{"$f":"IF(K1749>0, K1748/K1749, 0)","v":0},null,{"$f":"ROUND(M1749*L1748,0)","v":0},0,{"$f":"N1748-O1748","v":0},0,0,0,348,998,1739,0,0,1739,348,998,1739,0,0]
["03480999","0348","0999",1740,348,"Worcester                    ",999,"Total",547442458.76000011,1,{"$f":"SUM(K1745:K1748)","v":581293882.04999995},{"$f":"SUM(L1745:L1748)","v":1},{"$f":"VLOOKUP(E1749,town351,24)","v":143531666},{"$f":"SUM(N1745:N1748)","v":143531666},135663200,{"$f":"SUM(P1745:P1748)","v":7868466},5.8000002948478286,27173,27183,348,999,1740,27183,581293882.04999995,1740,348,999,1740,27183,581293882.04999995]
["03490349","0349","0349",1741,349,"Worthington                  ",349,"Worthington",1728156.65,1,{"$f":"X1750","v":1757174.0299999998},{"$f":"IF(K1754>0, K1750/K1754, 0)","v":1},null,{"$f":"ROUND(M1754*L1750,0)","v":1354641},1251748,{"$f":"N1750-O1750","v":102893},8.2199452285923371,122,117,349,349,1741,117,1757174.0299999998,1741,349,349,1741,117,1757174.0299999998]
["03490998","0349","0998",1742,349,null,998,null,0,0,0,{"$f":"IF(K1754>0, K1751/K1754, 0)","v":0},null,{"$f":"ROUND(M1754*L1751,0)","v":0},0,{"$f":"N1751-O1751","v":0},0,0,0,349,998,1742,0,0,1742,349,998,1742,0,0]
["03490998","0349","0998",1743,349,"",998,"",0,0,0,{"$f":"IF(K1754>0, K1752/K1754, 0)","v":0},null,{"$f":"ROUND(M1754*L1752,0)","v":0},0,{"$f":"N1752-O1752","v":0},0,0,0,349,998,1743,0,0,1743,349,998,1743,0,0]
["03490998","0349","0998",1744,349,"",998,"",0,0,0,{"$f":"IF(K1754>0, K1753/K1754, 0)","v":0},null,{"$f":"ROUND(M1754*L1753,0)","v":0},0,{"$f":"N1753-O1753","v":0},0,0,0,349,998,1744,0,0,1744,349,998,1744,0,0]
["03490999","0349","0999",1745,349,"Worthington                  ",999,"Total",1728156.65,1,{"$f":"SUM(K1750:K1753)","v":1757174.0299999998},{"$f":"SUM(L1750:L1753)","v":1},{"$f":"VLOOKUP(E1754,town351,24)","v":1354641},{"$f":"SUM(N1750:N1753)","v":1354641},1251748,{"$f":"SUM(P1750:P1753)","v":102893},8.2199452285923371,122,117,349,999,1745,117,1757174.0299999998,1745,349,999,1745,117,1757174.0299999998]
["03500350","0350","0350",1746,350,"Wrentham                     ",350,"Wrentham",12166663.342719998,0.49449180878979387,{"$f":"X1755","v":13110944.070250001},{"$f":"IF(K1759>0, K1755/K1759, 0)","v":0.52218535664866517},null,{"$f":"ROUND(M1759*L1755,0)","v":10743879},9726662,{"$f":"N1755-O1755","v":1017217},10.45802763579119,934,965,350,350,1746,965,13110944.070250001,1746,350,350,1746,965,13110944.070250001]
["03500690","0350","0690",1747,350,"Wrentham                     ",690,"King Philip",10443751.940160045,0.42446722178203294,9982006.816602964,{"$f":"IF(K1759>0, K1756/K1759, 0)","v":0.39756540502867338},null,{"$f":"ROUND(M1759*L1756,0)","v":8179844},8349277,{"$f":"N1756-O1756","v":-169433},-2.0293134363610168,747.15958549353002,686.21957815915005,350,690,1747,686.21957815915005,9982006.816602964,1747,350,690,1747,686.21957815915005,9982006.816602964]
["03500878","0350","0878",1748,350,"Wrentham                     ",878,"Tri County",1766132.0778955868,7.1781212412919529E-2,1806747.9711830264,{"$f":"IF(K1759>0, K1757/K1759, 0)","v":7.1959526991443479E-2},null,{"$f":"ROUND(M1759*L1757,0)","v":1480556},1411938,{"$f":"N1757-O1757","v":68618},4.859845120678103,81.999999995760007,81.999999998730004,350,878,1748,81.999999998730004,1806747.9711830264,1748,350,878,1748,81.999999998730004,1806747.9711830264]
["03500915","0350","0915",1749,350,"Wrentham                     ",915,"Norfolk County",227830.56106774221,9.2597570152536911E-3,208136.70900243355,{"$f":"IF(K1759>0, K1758/K1759, 0)","v":8.2897113312178708E-3},null,{"$f":"ROUND(M1759*L1758,0)","v":170559},182140,{"$f":"N1758-O1758","v":-11581},-6.3582958164049632,10.000000000469999,8.9999999991000017,350,915,1749,8.9999999991000017,208136.70900243355,1749,350,915,1749,8.9999999991000017,208136.70900243355]
["03500999","0350","0999",1750,350,"Wrentham                     ",999,"Total",24604377.921843372,1,{"$f":"SUM(K1755:K1758)","v":25107835.567038428},{"$f":"SUM(L1755:L1758)","v":1},{"$f":"VLOOKUP(E1759,town351,24)","v":20574838},{"$f":"SUM(N1755:N1758)","v":20574838},19670017,{"$f":"SUM(P1755:P1758)","v":904821},4.600001108285773,1773.1595854897598,1742.2195781569799,350,999,1750,1742.2195781569799,25107835.567038428,1750,350,999,1750,1742.2195781569799,25107835.567038428]
["03510351","0351","0351",1751,351,"Yarmouth                     ",351,"Yarmouth",0,0,{"$f":"X1760","v":0},{"$f":"IF(K1764>0, K1760/K1764, 0)","v":0},null,{"$f":"ROUND(M1764*L1760,0)","v":0},0,{"$f":"N1760-O1760","v":0},0,0,0,351,351,1751,0,0,1751,351,351,1751,0,0]
["03510645","0351","0645",1752,351,"Yarmouth                     ",645,"Dennis Yarmouth",39973345.224526808,0.92825756169891793,40874408.030519776,{"$f":"IF(K1764>0, K1761/K1764, 0)","v":0.91262547215079326},null,{"$f":"ROUND(M1764*L1761,0)","v":30048939},29055650,{"$f":"N1761-O1761","v":993289},3.4185743564504665,2317.3877794498799,2264.3006654620804,351,645,1752,2264.3006654620804,40874408.030519776,1752,351,645,1752,2264.3006654620804,40874408.030519776]
["03510815","0351","0815",1753,351,"Yarmouth                     ",815,"Cape Cod",3089428.3782722768,7.1742438301082012E-2,3913305.3062454811,{"$f":"IF(K1764>0, K1762/K1764, 0)","v":8.7374527849206671E-2},null,{"$f":"ROUND(M1764*L1762,0)","v":2876878},2245630,{"$f":"N1762-O1762","v":631248},28.110062655023313,141.00000000110001,174.0000000034,351,815,1753,174.0000000034,3913305.3062454811,1753,351,815,1753,174.0000000034,3913305.3062454811]
["03510998","0351","0998",1754,351,"",998,"",0,0,0,{"$f":"IF(K1764>0, K1763/K1764, 0)","v":0},null,{"$f":"ROUND(M1764*L1763,0)","v":0},0,{"$f":"N1763-O1763","v":0},0,0,0,351,998,1754,0,0,1754,351,998,1754,0,0]
["03510999","0351","0999",1755,351,"Yarmouth                     ",999,"Total",43062773.602799088,1,{"$f":"SUM(K1760:K1763)","v":44787713.33676526},{"$f":"SUM(L1760:L1763)","v":0.99999999999999989},{"$f":"VLOOKUP(E1764,town351,24)","v":32925817},{"$f":"SUM(N1760:N1763)","v":32925817},31301280,{"$f":"SUM(P1760:P1763)","v":1624537},5.1900018146222777,2458.3877794509799,2438.3006654654805,351,999,1755,2438.3006654654805,44787713.33676526,1755,351,999,1755,2438.3006654654805,44787713.33676526]
[null,null,null,1756,999,"State Total",999,"STATE TOTAL",{"$f":"SUM(I10:I1764)/2","v":15314834159.40806},null,{"$f":"SUM(K10:K1764)/2","v":15830181514.788061},null,{"$f":"SUM(M10:M1764)","v":8736823768},{"$f":"SUM(N10:N1764)/2","v":8736823771},{"$f":"SUM(O10:O1764)/2","v":8377180548},{"$f":"SUM(P10:P1764)/2","v":359816009},4.2951922420474018,{"$f":"SUM(R10:R1764)/2","v":905307.00000009884},{"$f":"SUM(S10:S1764)/2","v":890622.0000000383},null,null,null,{"$f":"SUM(W10:W1764)/2","v":890622.0000000383},15830181514.788061,null,null,null,null,{"$f":"SUM(AC10:AC1764)/2","v":890622.0000000383},15830181514.788061,null,null,null,null,{"$f":"SUM(AI10:AI1764)/2","v":0},0,null,null,null,null,{"$f":"SUM(AO10:AO1764)/2","v":0},0,null,null,null,null,{"$f":"SUM(AU10:AU1764)/2","v":0},0,null,null,null,null,{"$f":"SUM(BA10:BA1764)/2","v":0},0,null,null,null,null,{"$f":"SUM(BG10:BG1764)/2","v":0},0,null,null,null,null,{"$f":"SUM(BM10:BM1764)/2","v":0},0,null,null,null,null,{"$f":"SUM(BS10:BS1764)/2","v":0},0,null,null,null,null,{"$f":"SUM(BY10:BY1764)/2","v":0},0,null,null,null,null,{"$f":"SUM(CE10:CE1764)/2","v":0},0,null,null,null,null,null,{"$f":"SUM(CL10:CL1764)/2","v":0}]

{"sheet":"Locked sheet","index":3,"n_rows":5,"n_cols":1,"rows_kept":5,"cut":false,"hidden":true,"merged":[]}
[1]
[2]
[3]
[4]
[5]

{"sheet":"MoreAboutData","index":4,"n_rows":34,"n_cols":7,"rows_kept":34,"cut":false,"hidden":false,"merged":[]}
[{"$f":"CYr&\" Chapter 70 and Net School Spending Formula\"","v":"FY27 Chapter 70 and Net School Spending Formula"},null,"FY18 Chapter 70 and Net School Spending Formula Spreadsheet","FY18 Chapter 70 and Net School Spending Formula Spreadsheet","FY18 Chapter 70 and Net School Spending Formula Spreadsheet","FY18 Chapter 70 and Net School Spending Formula Spreadsheet","Return to Index"]
["More about the data"]
["TABLE OF CONTENTS\n"]
["Index",null,null,null,null,null,"Back to the top"]
["Select the district you're interested in from the dropdown list on this sheet."]
["Foundation Budget",null,null,null,null,null,"Back to the top"]
["This report displays the foundation enrollment and foundation budget for a single district. A district’s foundation budget is updated each year and it is derived by multiplying the number of pupils in thirteen enrollment categories by cost rates in eleven functional areas. "]
[]
["Key Terms"]
["Foundation Enrollment: A count of the students for whom a school district is financially responsible on October 1st of any given year.\n\nInflation: Foundation budget rates are adjusted each year by a statutorily defined inflationary factor.  It affects all districts in the same way. The general inflation rate applied to this file is 2.76%. The GIC inflation rate applied to this file is 8.29%.\nWage Adjustment Factor (WAF): Gives a district credit for having higher school costs if it is located in a geographic area where average wages are higher than in other areas of the state. Calculated using the latest available average wage data supplied by the state’s Executive Office of Labor and Workforce Development (EOLWD).  \nLow-Income Group: Determined based on the relative concentration of low-income students served in the district. Corresponds to a foundation budget rate for low-income students."]
["Municipal Contribution",null,null,null,null,null,"Back to the top"]
["This report displays the required local contribution for a single municipality. Each municipality has a target local share of its foundation budget, based on local ability to pay. The required local contribution for each municipality is based on the previous year's required contribution, and includes some transition factors so that the shift toward the target levels occurs over a period of several years."]
[]
["Key Terms"]
["Equalized Valuation (EQV): Calculated by DOR every two years. Full and fair cash value of all taxable property for each municipality.\nIncome: Derived annually by DOR from state income tax returns. Includes all forms of wage, pension, interest, business, investment, and capital gains income.\nCombined Effort Yield (CEY): Sum of property and income effort. Based on DESE-calculated property and income percentages, which, when applied to all municipalities in the Commonwealth, yields 59% of statewide foundation coming from local revenue.\nTarget Local Contribution/Share: Calculated for each municipality as an equitable share of its foundation budget based on property wealth and income.\nMunicipal Revenue Growth Factor (MRGF): Calculated each year by DOR and quantifies the most recent annual percentage change in each community's local revenues (such as the annual increase in the Proposition 2½ levy limit) that should be available for schools. "]
["Regional Allocation",null,null,null,null,null,"Back to the top"]
["This report displays the allocation of a municipality's required local contribution across the districts to which it belongs. The municipality's required contribution is allocated in direct proportion to the district's share of the municipality's foundation budget."]
["Summary",null,null,null,null,null,"Back to the top"]
["This report displays the Chapter 70 aid calculation for a single district. The aid calculation begins with each district's prior year Chapter 70 amount. The difference between each district's foundation budget and its required contribution equals foundation aid. On the right-hand side, there is a comparison to the prior year."]
["Key Terms"]
["Foundation Aid: The amount of aid needed by a district to reach its foundation budget, after factoring in this year's required local contribution. Foundation budget - Required Local Contribution = Foundation Aid\nMinimum Aid: A guaranteed per pupil aid increase over the prior year.\nRequired Net School Spending (NSS): The sum of this year's required local contribution and Chapter 70 aid. A district must spend this amount to be in compliance."]
["Regional District Members",null,null,null,null,null,"Back to the top"]
["This report displays relevant data for municipal members of a single regional district."]
["Key Terms"]
["Foundation Enrollment: Foundation enrollment for the selected district, in total and by member.\nRequired Minimum Contribution: Total required minimum contribution for the selected district, in total and by member."]
[{"$f":"\"Comparison to \"&PYr","v":"Comparison to FY26"},null,null,null,null,null,"Back to the top"]
["This report displays prior year and current year foundation enrollment, foundation budget, required local contribution and Chapter 70 aid for all operating districts."]
[]
["Rates",null,null,null,null,null,"Back to the top"]
[{"$f":"\"This sheet displays the \"&CYr&\" foundation budget rates.\"","v":"This sheet displays the FY27 foundation budget rates."}]
["Townwide Contributions",null,null,null,null,null,"Back to the top"]
[{"$f":"\"This sheet calculates the \"&CYr&\" required local contribution for each municipality\"","v":"This sheet calculates the FY27 required local contribution for each municipality"}]
["Aid436",null,null,null,null,null,"Back to the top"]
[{"$f":"\"This sheet calculates the \"&CYr&\" Chapter 70 aid for each district.\"","v":"This sheet calculates the FY27 Chapter 70 aid for each district."}]

{"sheet":"Foundation Budget","index":5,"n_rows":50,"n_cols":21,"rows_kept":50,"cut":false,"hidden":false,"merged":[[4,1,4,6]]}
["Return to Index",null,null,null,null,null,null,null,null,null,null,null,null,null,null,null,null,null,null,null,"More about the data"]
["Massachusetts Department of Elementary and Secondary Education"]
["Office of School Finance"]
[{"$f":"parameters!B1&\" Chapter 70 Foundation Budget\"","v":"FY27 Chapter 70 Foundation Budget"}]
[{"$f":"lea","v":999},{"$f":"IF(lea=999,\"State total cannot be computed on this page; Please enter an lea code on the index sheet\",VLOOKUP(A5,dist915,2))","v":"State total cannot be computed on this page; Please enter an lea code on the index sheet"}]
[null,null,null,null,null,"Base Foundation Components",null,null,null,null,null,null,null,"Incremental Costs Above the Base"]
[null,null,"1","2","3","4","5","6","7",null,"8",9,"10","11","12","13",14]
[null,null,null," ------ Kindergarten ------",null,null," Junior/","High",null,null,"Special Ed","Special Ed","English learners","English learners","English learners"]
[null,null,"Pre-school","Half-Day","Full-Day","Elementary","Middle","School","Vocational",null,"In-District","Tuitioned-Out","PK-5","6-8","High School/Voc","Low income","TOTAL"]
[null,"Foundation Enrollment",{"$f":"IF($A$5<>999,VLOOKUP(lea,dist915,VALUE(C$7)+2),0)","v":0},0,0,0,0,0,{"$f":"IF($A$5<>999,VLOOKUP(lea,dist915,VALUE(I$7)+2),0)","v":0},null,{"$f":"IF($A$5<>999,VLOOKUP(lea,dist915,VALUE(K$7)+2),0)","v":0},0,0,0,0,0,0]
[]
[1,"Administration",{"$f":"(VLOOKUP(VALUE(C$7),newrates,$A12+2)*C$10*waf)","v":0},{"$f":"(VLOOKUP(VALUE(D$7),newrates,$A12+2)*D$10*waf)","v":0},0,0,0,0,0,null,{"$f":"(VLOOKUP(VALUE(K$7),newrates,$A12+2)*K$10*waf)","v":0},0,0,0,0,{"$f":"IF(C29=0,0,(VLOOKUP(VALUE(P$7)+$C$29-1, newrates, $A12+2, FALSE))*P$10*waf)","v":0},{"$f":"SUM(C12:P12)","v":0}]
[2,"Instructional Leadership",0,0,0,0,0,0,0,null,0,0,0,0,0,{"$f":"IF(C29=0,0,(VLOOKUP(VALUE(P$7)+$C$29-1, newrates, $A13+2, FALSE))*P$10*waf)","v":0},0]
[3,"Classroom & Specialist Teachers",0,0,0,0,0,0,0,null,0,0,0,0,0,{"$f":"IF(C29=0,0,(VLOOKUP(VALUE(P$7)+$C$29-1, newrates, $A14+2, FALSE))*P$10*waf)","v":0},0]
[4,"Other Teaching Services",0,0,0,0,0,0,0,null,0,0,0,0,0,{"$f":"IF(C29=0,0,(VLOOKUP(VALUE(P$7)+$C$29-1, newrates, $A15+2, FALSE))*P$10*waf)","v":0},0]
[5,"Professional Development",0,0,0,0,0,0,0,null,0,0,0,0,0,{"$f":"IF(C29=0,0,(VLOOKUP(VALUE(P$7)+$C$29-1, newrates, $A16+2, FALSE))*P$10*waf)","v":0},0]
[6,"Instructional Materials, Equipment & Technology*",{"$f":"(VLOOKUP(VALUE(C$7),newrates,$A17+2)*C$10)","v":0},0,0,0,0,0,0,null,{"$f":"(VLOOKUP(VALUE(K$7),newrates,$A17+2)*K$10)","v":0},{"$f":"(VLOOKUP(VALUE(L$7),newrates,$A17+2)*L$10)","v":0},{"$f":"(VLOOKUP(VALUE(M$7),newrates,$A17+2)*M$10)","v":0},{"$f":"(VLOOKUP(VALUE(N$7),newrates,$A17+2)*N$10)","v":0},{"$f":"(VLOOKUP(VALUE(O$7),newrates,$A17+2)*O$10)","v":0},{"$f":"IF(C29=0,0,(VLOOKUP(VALUE(P$7)+$C$29-1, newrates, $A17+2, FALSE))*P$10)","v":0},0]
[7,"Guidance & Psychological Services",{"$f":"(VLOOKUP(VALUE(C$7),newrates,$A18+2)*C$10*waf)","v":0},0,0,0,0,0,0,null,{"$f":"(VLOOKUP(VALUE(K$7),newrates,$A18+2)*K$10*waf)","v":0},0,0,0,0,{"$f":"IF(C29=0,0,(VLOOKUP(VALUE(P$7)+$C$29-1, newrates, $A18+2, FALSE))*P$10*waf)","v":0},0]
[8,"Pupil Services",0,0,0,0,0,0,0,null,0,0,0,0,0,{"$f":"IF(C29=0,0,(VLOOKUP(VALUE(P$7)+$C$29-1, newrates, $A19+2, FALSE))*P$10*waf)","v":0},0]
[9,"Operations & Maintenance",0,0,0,0,0,0,0,null,0,0,0,0,0,{"$f":"IF(C29=0,0,(VLOOKUP(VALUE(P$7)+$C$29-1, newrates, $A20+2, FALSE))*P$10*waf)","v":0},0]
[10,"Employee Benefits/Fixed Charges*",{"$f":"(VLOOKUP(VALUE(C$7),newrates,$A21+2)*C$10)","v":0},0,0,0,0,0,0,null,{"$f":"(VLOOKUP(VALUE(K$7),newrates,$A21+2)*K$10)","v":0},{"$f":"(VLOOKUP(VALUE(L$7),newrates,$A21+2)*L$10)","v":0},{"$f":"(VLOOKUP(VALUE(M$7),newrates,$A21+2)*M$10)","v":0},{"$f":"(VLOOKUP(VALUE(N$7),newrates,$A21+2)*N$10)","v":0},{"$f":"(VLOOKUP(VALUE(O$7),newrates,$A21+2)*O$10)","v":0},{"$f":"IF(C29=0,0,(VLOOKUP(VALUE(P$7)+$C$29-1, newrates, $A21+2, FALSE))*P$10)","v":0},0]
[11,"Special Education Tuition*",0,0,0,0,0,0,0,null,{"$f":"(VLOOKUP(VALUE(K$7)-2,newrates,$A22+2)*K$10)","v":0},{"$f":"(VLOOKUP(VALUE(L$7),newrates,$A22+2)*L$10)","v":0},{"$f":"(VLOOKUP(VALUE(M$7),newrates,$A22+2)*M$10)","v":0},{"$f":"(VLOOKUP(VALUE(N$7),newrates,$A22+2)*N$10)","v":0},{"$f":"(VLOOKUP(VALUE(O$7)-2,newrates,$A22+2)*O$10)","v":0},{"$f":"IF(C29=0,0,(VLOOKUP(VALUE(P$7)+$C$29-1, newrates, $A22+2, FALSE))*P$10)","v":0},0]
[]
[12,"Total",{"$f":"SUM(C12:C22)","v":0},{"$f":"SUM(D12:D22)","v":0},{"$f":"SUM(E12:E22)","v":0},0,0,0,{"$f":"SUM(I12:I22)","v":0},null,0,0,0,0,0,0,{"$f":"SUM(Q12:Q23)","v":0}]
[]
[13,"Wage Adjustment Factor",{"$f":"VLOOKUP(lea,dist915,17)","v":1},null,null,null,null,null,null,null,null,null,null,"Foundation Budget per Pupil",null,null,{"$f":"IFERROR(IF(A5<>999,Q24/Q10,\" \"),\"\")","v":" "}]
[null,"*The wage adjustment factor is applied to underlying rates in all functions except instructional equipment, benefits and special education tuition."]
[14,"Low-income percentage",{"$f":"VLOOKUP(lea,dist915,19)","v":0},null,null,null,null,null,null,null,null,"English learner foundation budget as % total foundation budget",null,null,null,null,{"$f":"IFERROR(IF(A5=999,\"\",SUM(M24:O24)/Q24),\"\")","v":""}]
[15,"Low-income group",{"$f":"VLOOKUP(lea,dist915,18)","v":0},null,null,null,null,null,null,null,null,"Low-income foundation budget as % total foundation budget",null,null,null,null,{"$f":"IFERROR(IF(A5=999,\"\",P24/Q24),\"\")","v":""}]
[]
[]
[null,"Total foundation enrollment (column 14) does not include incremental costs above the base.  The pupils are already counted in columns 1 to 7.",null,null,null,null,null,null,null,null,"Low-income group","Low-income %"]
[null,"Total foundation enrollment assigns pupils in pre-kindergarten and half-time kindergarten an enrollment count of .5.",null,null,null,null,null,null,null,null,"Group 1","0-5.99%"]
[null,"Special education in-district enrollment is an assumed percentage, representing 3.97 percent of K-12 non-vocational enrollment and",null,null,null,null,null,null,null,null,"Group 2","6-11.99%"]
[null,"4.97 percent of vocational enrollment.",null,null,null,null,null,null,null,null,"Group 3","12-17.99%"]
[null,"Special education tuitioned-out enrollment is also an assumed percentage, representing 1 percent of non-vocational K-12 enrollment.",null,null,null,null,null,null,null,null,"Group 4","18-23.99%"]
[null,"Low-income enrollment is based on: (1) participation in Supplemental Nutrition Assistance Program (SNAP), ",null,null,null,null,null,null,null,null,"Group 5","24-29.99%"]
[null,"the Transitional Assistance for Families with Dependent Children (TAFDC), MassHealth (Medicaid), or foster care; ",null,null,null,null,null,null,null,null,"Group 6","30-35.99%"]
[null,"(2) homeless designation through the McKinney-Vento Homeless Education Assistance program; ",null,null,null,null,null,null,null,null,"Group 7","36-41.99%"]
[null,"or (3) verification as low income through a supplemental data collection process.",null,null,null,null,null,null,null,null,"Group 8","42-47.99%"]
[null,"Low-income and English learner foundation budget increments are based on the number of students attending school in the district",null,null,null,null,null,null,null,null,"Group 9","48-53.99%"]
[null,"or district residents who attend charter schools.",null,null,null,null,null,null,null,null,"Group 10","54-69.99%"]
[null,"The low-income percentage is the ratio of the low-income enrollment to:",null,null,null,null,null,null,null,null,"Group 11","70-79.99%"]
[null,"the total students attending school in the district and the total resident students attending charter schools.",null,null,null,null,null,null,null,null,"Group 12","80%+"]
[]
[null,"Each component of the foundation budget represents the enrollment in row 10 multiplied by the appropriate statewide foundation allotment."]
[null,"The foundation budget shown on this page may differ from the final number used in the formula, due to rounding error."]
[]
[]
[null,"Return to Index"]

{"sheet":"Municipal Contribution","index":6,"n_rows":31,"n_cols":13,"rows_kept":31,"cut":false,"hidden":false,"merged":[]}
[null,null,null,null,null,null,null,null,null,null,null,null,{"$f":"IF(VLOOKUP(A6,town351,18)>0,\"lo\",\"hi\")","v":"hi"}]
["Return to Index",null,null,null,null,null,"More about the data"]
["Massachusetts Department of Elementary and Secondary Education"]
["Office of School Finance"]
[{"$f":"parameters!B1&\" Chapter 70 Determination of City and Town Total Required Contribution\"","v":"FY27 Chapter 70 Determination of City and Town Total Required Contribution"}]
[{"$f":"lea","v":999},{"$f":"IF(lea>351, \"This lea code does not refer to a city or a town - this table shows municipal data only\",VLOOKUP(A6,aidcalc,2))","v":"This lea code does not refer to a city or a town - this table shows municipal data only"}]
[]
["Effort Goal",null,null,null,{"$f":"parameters!B1&\" Increments Toward Goal\"","v":"FY27 Increments Toward Goal"}]
[]
["1)","2024 equalized valuation",{"$f":"IF(A6<352,VLOOKUP($A$6,town351,3),\" \")","v":" "},null,"13)",{"$f":"PYr&\" required local contribution\"","v":"FY26 required local contribution"},{"$f":"IF(A6<352,VLOOKUP($A$6,town351,14),\" \")","v":" "}]
["2)","Uniform property percentage",{"$f":"IF(A6<352,'Townwide Contributions'!D5,\" \")","v":" "},null,"14)","Municipal revenue growth factor (DOR)",{"$f":"IF(A$6<352,VLOOKUP($A$6,town351,15),\" \")","v":" "}]
["3)","Local effort from property wealth",{"$f":"IF(A6<352,VLOOKUP($A$6,town351,4),\" \")","v":" "},null,"15)",{"$f":"parameters!B1&\" preliminary contribution (13 raised by 14)\"","v":"FY27 preliminary contribution (13 raised by 14)"},{"$f":"IF(A$6<352,VLOOKUP($A$6,town351,16),\" \")","v":" "}]
[null,null,null,null,"16)","Preliminary contribution pct of foundation (15 / 8)",{"$f":"IF(A$6<352,VLOOKUP($A$6,town351,17)/100,\" \")","v":" "}]
["4)","2023 income",{"$f":"IF(A6<352,VLOOKUP($A$6,town351,5),\" \")","v":" "}]
["5)","Uniform income percentage",{"$f":"IF(A6<352,'Townwide Contributions'!F5,\" \")","v":" "},null,"If preliminary contribution is above the target share:"]
["6)","Local effort from income",{"$f":"IF(A6<352,VLOOKUP($A$6,town351,6),\" \")","v":" "},null,"17)","Excess local effort (15 - 10)",{"$f":"IF(AND(A$6<352,M$1=\"hi\"),VLOOKUP($A$6,town351,21),\" \")","v":" "}]
[null,null,null,null,"18)",{"$f":"parameters!$C$50&\" reduction toward target (17 x \"&parameters!$C$50&\")\"","v":"100% reduction toward target (17 x 100%)"},{"$f":"IF(AND(A$6<352,M$1=\"hi\"),VLOOKUP($A$6,town351,22),\" \")","v":" "}]
["7)","Combined effort yield (3 + 6)",{"$f":"IF(A6<352,VLOOKUP($A$6,town351,7),\" \")","v":" "},null,"19)",{"$f":"parameters!B1&\" required local contribution (15 - 18), capped at 90% of foundation\"","v":"FY27 required local contribution (15 - 18), capped at 90% of foundation"},{"$f":"IF(AND(A$6<352,M$1=\"hi\"),VLOOKUP($A$6,town351,24),\" \")","v":" "}]
[null,null,null,null,"20)","Contribution as percentage of foundation (19 / 8)",{"$f":"IF(AND(A$6<352,M$1=\"hi\"),VLOOKUP($A$6,town351,25)/100,\" \")","v":" "}]
["8)",{"$f":"parameters!B1&\" Foundation budget\"","v":"FY27 Foundation budget"},{"$f":"IF(A6<352,VLOOKUP($A$6,town351,8),\" \")","v":" "}]
["9)","Maximum local contribution (82.5% * 8)",{"$f":"IF(A6<352,VLOOKUP($A$6,town351,10),\" \")","v":" "},null,"If preliminary contribution is below the target share:"]
[null,null,null,null,"21)","Shortfall from target local share (10 - 15)",{"$f":"IF(AND(A$6<352,M1=\"lo\"),-1*VLOOKUP($A$6,town351,27),\" \")","v":" "}]
["10)","Target local contribution (lesser of 7 or 9)",{"$f":"IF(A6<352,VLOOKUP($A$6,town351,11),\" \")","v":" "},null,"22)","Shortfall percentage (11 - 16)",{"$f":"IF(AND(A$6<352,M1=\"lo\"),VLOOKUP($A$6,town351,18)/100,\" \")","v":" "}]
[null,null,null,null,"23)","Added increment toward target (13 x 1% or 2%)*",{"$f":"IF(AND(A$6<352,M1=\"lo\"),VLOOKUP($A$6,town351,20),\" \")","v":" "}]
["11)","Target local share (10 as % of 8)",{"$f":"IF(A6<352,VLOOKUP(lea,town351,12)/100,\" \")","v":" "},null,null,"*1% if shortfall is between 2.5% and 7.5%; 2% if shortfall > 7.5%"]
["12)","Target aid share (100% minus 11)",{"$f":"IF(A6<352,VLOOKUP(lea,aidcalc,13)/100,\" \")","v":" "},null,"24)","Special increment toward 82.5% target**",{"$f":"IF(AND(A$6<352,M1=\"lo\"),VLOOKUP($A$6,town351,23),\" \")","v":" "}]
[null,null,null,null,null,"**if combined effort yield > 175% foundation"]
[null,null,null,null,null,"    Combined effort yield as % of foundation",{"$f":"IF(AND(A$6<352,M1=\"lo\"),IF(VLOOKUP($A$6,town351,9)>175%,VLOOKUP($A$6,town351,9),\" \"),\"\")","v":""}]
[null,"See a listing of all 351 communities",null,null,"25)","Shortfall from target after adding increments (10 - 15 - 23 - 24)",{"$f":"IF(AND(A$6<352,M1=\"lo\"),-1*VLOOKUP($A$6,town351,28),\" \")","v":" "}]
[null,null,null,null,"26)",{"$f":"parameters!B1&\" required local contribution (15 + 23 + 24)\"","v":"FY27 required local contribution (15 + 23 + 24)"},{"$f":"IF(AND(A$6<352,M1=\"lo\"),VLOOKUP($A$6,town351,24),\" \")","v":" "}]
[null,null,null,null,"27)","Contribution as percentage of foundation (26 / 8)",{"$f":"IF(AND(A$6<352,M1=\"lo\"),VLOOKUP($A$6,town351,25)/100,\" \")","v":" "}]

{"sheet":"Regional Allocation","index":7,"n_rows":26,"n_cols":10,"rows_kept":26,"cut":false,"hidden":false,"merged":[]}
[null,null,null,null,null,null,null,null,null,"More about the data"]
[null,null,null,"Return to Index"]
[null,null,null,"Massachusetts Department of Elementary and Secondary Education"]
[null,null,null,"Office of School Finance"]
[null,null,null,{"$f":"CYr& \" Chapter 70 Apportionment of Local Contribution Across School Districts\"","v":"FY27 Chapter 70 Apportionment of Local Contribution Across School Districts"}]
[]
[null,null,null,null,4,4,3,2,1]
[null,null,null,null,null,null,null," "," "]
[5,null,null,{"$f":"lea","v":999},{"$f":"IF($D$9>351, \"\", IF(AND($D$9>0, VLOOKUP($D$9*5-E$7, order1755, $A9)<>0), VLOOKUP($D$9*5-E$7, order1755, $A9), \"\"))","v":""},{"$f":"IF(OR($D$9=\"\", $D$9>351), \"\", IF(AND($D$9>0, VLOOKUP($D$9*5-F$7, order1755, $A9)<>0), VLOOKUP($D$9*5-F$7, order1755, $A9), \"\"))","v":""},{"$f":"IF(OR($D$9=\"\", $D$9>351), \"\", IF(AND($D$9>0, VLOOKUP($D$9*5-G$7, order1755, $A9)<>0), VLOOKUP($D$9*5-G$7, order1755, $A9), \"\"))","v":""},{"$f":"IF(OR($D$9=\"\", $D$9>351), \"\", IF(AND($D$9>0, VLOOKUP($D$9*5-H$7, order1755, $A9)<>0), VLOOKUP($D$9*5-H$7, order1755, $A9), \"\"))","v":""},{"$f":"IF(OR($D$9=\"\", $D$9>351), \"\", IF(AND($D$9>0, VLOOKUP($D$9*5-I$7, order1755, $A9)<>0), VLOOKUP($D$9*5-I$7, order1755, $A9), \"\"))","v":""},"Combined Total for All Districts"]
[6]
[null,null,null,null,"Prior Year Data (for comparison purposes)"]
[]
[15,null,null,1,{"$f":"parameters!B2&\" foundation enrollment\"","v":"FY26 foundation enrollment"},{"$f":"IF(OR($D$9=\"\", $D$9>351), \"\", IF(AND($D$9>0, VLOOKUP($D$9*5-F$7, order1755, $A13)<>0), VLOOKUP($D$9*5-F$7, order1755, $A13), \"\"))","v":""},"","","",{"$f":"IF(OR($D$9=\"\", $D$9>351), \"\", VLOOKUP($D$9*5, order1755, $A13))","v":""}]
[6,null,null,2,{"$f":"parameters!B2&\" foundation budget\"","v":"FY26 foundation budget"},"","","","",{"$f":"IF(OR($D$9=\"\", $D$9>351), \"\", VLOOKUP($D$9*5, order1755, $A14))","v":""}]
[7,null,null,3,{"$f":"\"Each district's share of municipality's combined \"& parameters!B2&\" foundation\"","v":"Each district's share of municipality's combined FY26 foundation"},"","","","",{"$f":"IF(OR($D$9=\"\", $D$9>351), \"\", VLOOKUP($D$9*5, order1755, $A15))","v":""}]
[12,null,null,4,{"$f":"parameters!B2&\" required contribution\"","v":"FY26 required contribution"},"","","","",{"$f":"IF(OR($D$9=\"\", $D$9>351), \"\", VLOOKUP($D$9*5, order1755, $A16))","v":""}]
[null,null,null,null,{"$f":"parameters!B1& \" apportionment of contribution among community's districts\"","v":"FY27 apportionment of contribution among community's districts"}]
[null,null,null,5,{"$f":"parameters!B1&\" total unapportioned required contribution ('municipal contribution' tab row 19 or 25)\"","v":"FY27 total unapportioned required contribution ('municipal contribution' tab row 19 or 25)"},null,null,null,null,{"$f":"IF(OR($D$9=\"\", $D$9>351), \"\", VLOOKUP($D$9,town351,24))","v":""}]
[20,null,null,6,{"$f":"parameters!B1&\" foundation enrollment\"","v":"FY27 foundation enrollment"},{"$f":"IF(OR($D$9=\"\", $D$9>351), \"\", IF(AND($D$9>0, VLOOKUP($D$9*5-F$7, order1755, $A19)<>0), VLOOKUP($D$9*5-F$7, order1755, $A19), \"\"))","v":""},"","","",{"$f":"IF(OR($D$9=\"\", $D$9>351), \"\", VLOOKUP($D$9*5, order1755, $A19))","v":""}]
[8,null,null,7,{"$f":"parameters!B1&\" foundation budget\"","v":"FY27 foundation budget"},"","","","",{"$f":"IF(OR($D$9=\"\", $D$9>351), \"\", VLOOKUP($D$9*5, order1755, $A20))","v":""}]
[9,null,null,8,{"$f":"\"Each district's share of municipality's total \"& parameters!B1&\" foundation \"","v":"Each district's share of municipality's total FY27 foundation "},"","","","",{"$f":"IF(OR($D$9=\"\", $D$9>351), \"\", VLOOKUP($D$9*5, order1755, $A21))","v":""}]
[11,null,null,9,{"$f":"parameters!B1&\" Required Contribution\"","v":"FY27 Required Contribution"},"","","","",{"$f":"VLOOKUP($D$9*5, order1755, $A22)","v":8736823771}]
[]
[13,null,null,10,{"$f":"\"Change \"&parameters!B1&\" to \"&parameters!B2& \" (9 - 4)\"","v":"Change FY27 to FY26 (9 - 4)"},{"$f":"IF(OR($D$9=\"\", $D$9>351), \"\", IF(AND($D$9>0, VLOOKUP($D$9*5-F$7, order1755, $A24)<>0), VLOOKUP($D$9*5-F$7, order1755, $A24), \"\"))","v":""},{"$f":"IF(OR($D$9=\"\", $D$9>351), \"\", IF(AND($D$9>0, VLOOKUP($D$9*5-G$7, order1755, $A24)<>0), VLOOKUP($D$9*5-G$7, order1755, $A24), \"\"))","v":""},{"$f":"IF(OR($D$9=\"\", $D$9>351), \"\", IF(AND($D$9>0, VLOOKUP($D$9*5-H$7, order1755, $A24)<>0), VLOOKUP($D$9*5-H$7, order1755, $A24), \"\"))","v":""},{"$f":"IF(OR($D$9=\"\", $D$9>351), \"\", IF(AND($D$9>0, VLOOKUP($D$9*5-I$7, order1755, $A24)<>0), VLOOKUP($D$9*5-I$7, order1755, $A24), \"\"))","v":""},{"$f":"IF(OR($D$9=\"\", $D$9>351), \"\", VLOOKUP($D$9*5, order1755, $A24))","v":""}]
[]
[null,null,null,null,"The combined totals on lines 5 and 9 may differ due to rounding."]

{"sheet":"Summary","index":8,"n_rows":44,"n_cols":43,"rows_kept":44,"cut":false,"hidden":false,"merged":[[52,1,58,2]]}
[null,"Return to Index",null,null,null,null,null,null,null,null,"More about the data"]
[]
[null,"Massachusetts Department of Elementary and Secondary Education"]
[null,{"$f":"parameters!B1&\" Chapter 70 Summary\"","v":"FY27 Chapter 70 Summary"}]
[]
[null,{"$f":"lea","v":999},{"$f":"PROPER(VLOOKUP(B6,dist915,2))","v":"State Total"}]
[]
[null,{"$f":"\"Aid Calculation \"&CYr","v":"Aid Calculation FY27"},null,null,null,{"$f":"\"Comparison to \"&PYr","v":"Comparison to FY26"}]
[]
[null,null,null,null,null,null,{"$f":"PYr","v":"FY26"},{"$f":"CYr","v":"FY27"},"Change","Pct Chg",null,null,null,null,null,null,null,null,null,null,null,"FY06","FY07","FY08","FY09","FY10","FY11","FY12","FY13","FY14","FY15","FY16","FY17","FY18","FY19","FY20","FY21","FY22","FY23","FY24","FY25","FY26","FY27"]
[null,"Prior Year Aid",null,null,null,"Enrollment",{"$f":"VLOOKUP(B6,aidcalc,14)","v":905307.00000009779},{"$f":"VLOOKUP(B6,aidcalc,15)","v":890622.0000000397},{"$f":"H11-G11","v":-14685.000000058091},{"$f":"IF(G11>0, I11/G11, 0)","v":-1.622101673803086E-2},null,null,null,null,null,null,null,null,null,null,"Required District Contribution",{"$f":"VLOOKUP($B$6,disthist,5)","v":4743946672},{"$f":"VLOOKUP($B$6,disthist,8)","v":4876428772},{"$f":"VLOOKUP($B$6,disthist,11)","v":4997705374},{"$f":"VLOOKUP($B$6,disthist,14)","v":5110365426},{"$f":"VLOOKUP($B$6,disthist,18)","v":5250106061},{"$f":"VLOOKUP($B$6,disthist,22)","v":5302200670.3241692},{"$f":"VLOOKUP($B$6,disthist,27)","v":5413602268},{"$f":"VLOOKUP($B$6,disthist,30)","v":5582113529},{"$f":"VLOOKUP($B$6,disthist, 33)","v":5748475145},{"$f":"VLOOKUP($B$6,disthist, 36)","v":5817618237},{"$f":"VLOOKUP($B$6,disthist, 39)","v":5943909029},{"$f":"VLOOKUP($B$6,disthist, 42)","v":5926185567},{"$f":"VLOOKUP($B$6,disthist, 45)","v":6046916786},{"$f":"VLOOKUP($B$6,disthist, 48)","v":6246842886},{"$f":"VLOOKUP($B$6,disthist, 51)","v":6513607368},{"$f":"VLOOKUP($B$6,disthist, 54)","v":6705321561},{"$f":"VLOOKUP($B$6,disthist, 57)","v":6827673657},{"$f":"VLOOKUP($B$6,disthist, 60)","v":7166744291},{"$f":"VLOOKUP($B$6,disthist, 63)","v":7566302116},{"$f":"VLOOKUP($B$6,disthist, 66)","v":7972055321},{"$f":"VLOOKUP($B$6,disthist,69)","v":8377180548},{"$f":"VLOOKUP($B$6,aidcalc,10 )","v":8736823771}]
[null,1,{"$f":"\"Chapter 70 \"&PYr","v":"Chapter 70 FY26"},{"$f":"VLOOKUP(B6,aidcalc,6)","v":7361555994.4900179},null,"Foundation budget",{"$f":"VLOOKUP(B6,disthist,68)","v":15314834159.408045},{"$f":"VLOOKUP(B6,aidcalc,9)","v":15830181514.78808},{"$f":"H12-G12","v":515347355.3800354},{"$f":"IF(G12>0, I12/G12, 0)","v":3.3650208028106705E-2},null,null,null,null,null,null,null,null,null,null,"C70 Aid",{"$f":"VLOOKUP($B$6,disthist,6)","v":3288603061.8000002},{"$f":"VLOOKUP($B$6,disthist,9)","v":3505192038.9270248},{"$f":"VLOOKUP($B$6,disthist,12)","v":3725343326.8219399},{"$f":"VLOOKUP($B$6,disthist,15)+VLOOKUP($B$6,disthist,16)","v":3948496062.2495604},{"$f":"VLOOKUP($B$6,disthist,19)+VLOOKUP($B$6,disthist,20)","v":4043156700},{"$f":"VLOOKUP($B$6,disthist,23)+VLOOKUP($B$6,disthist,24)+VLOOKUP($B$6,disthist,25)","v":4072032852.5488005},{"$f":"VLOOKUP($B$6,disthist,28)","v":3990504093.3881507},{"$f":"VLOOKUP($B$6,disthist,31)","v":4173223954.2949104},{"$f":"VLOOKUP($B$6,disthist,34)","v":4300854366.3566036},{"$f":"VLOOKUP($B$6,disthist,37)","v":4400335961.8829308},{"$f":"VLOOKUP($B$6,disthist,40)","v":4511521973.6381674},{"$f":"VLOOKUP($B$6,disthist,43)","v":4627705061.1446953},{"$f":"VLOOKUP($B$6,disthist,46)","v":4745645155.949439},{"$f":"VLOOKUP($B$6,disthist,49)","v":4906614765.8021221},{"$f":"VLOOKUP($B$6,disthist,52)","v":5175694094},{"$f":"VLOOKUP($B$6,disthist,55)","v":5283343073.4799995},{"$f":"VLOOKUP($B$6,disthist,58)","v":5502959666.6000013},{"$f":"VLOOKUP($B$6,disthist,61)","v":5997901328.6000023},{"$f":"VLOOKUP($B$6,disthist,64)","v":6592314527.6000013},{"$f":"VLOOKUP($B$6,disthist,67)","v":6901610127.2600069},{"$f":"VLOOKUP($B$6,disthist,70)","v":7361555994.4900179},{"$f":"VLOOKUP($B$6,aidcalc,25)","v":7603314535.0273123}]
[null,null,null,null,null,"Required district contribution",{"$f":"VLOOKUP(B6,disthist,69)","v":8377180548},{"$f":"VLOOKUP($B$6, aidcalc, 10)","v":8736823771},{"$f":"H13-G13","v":359643223},{"$f":"IF(G13>0, I13/G13, 0)","v":4.2931296626507902E-2},null,null,null,null,null,null,null,null,null,null,"Foundation Budget",{"$f":"VLOOKUP($B$6,disthist,4)","v":7551933454},{"$f":"VLOOKUP($B$6,disthist,7)","v":8014672861.3798904},{"$f":"VLOOKUP($B$6,disthist,10)","v":8406096436.3857374},{"$f":"VLOOKUP($B$6,disthist,13)","v":8811314229.2926865},{"$f":"VLOOKUP($B$6,disthist,17)","v":9088557473.2006893},{"$f":"VLOOKUP($B$6,disthist,21)","v":8921047970},{"$f":"VLOOKUP($B$6,disthist,26)","v":9119340580.3732376},{"$f":"VLOOKUP($B$6,disthist,29)","v":9467117140.6663704},{"$f":"VLOOKUP($B$6,disthist, 32)","v":9711217584.8007889},{"$f":"VLOOKUP($B$6,disthist, 35)","v":9866011313.0677662},{"$f":"VLOOKUP($B$6,disthist, 38)","v":10090177272.100754},{"$f":"VLOOKUP($B$6,disthist, 41)","v":10128238382.975546},{"$f":"VLOOKUP($B$6,disthist, 44)","v":10379173843.167685},{"$f":"VLOOKUP($B$6,disthist, 47)","v":10777588551.40456},{"$f":"VLOOKUP($B$6,disthist, 50)","v":11359048511.850758},{"$f":"VLOOKUP($B$6,disthist, 53)","v":11626531095.326303},{"$f":"VLOOKUP($B$6,disthist, 56)","v":11926225791.726231},{"$f":"VLOOKUP($B$6,disthist, 59)","v":12890335880.607767},{"$f":"VLOOKUP($B$6,disthist, 62)","v":13963389872.29413},{"$f":"VLOOKUP($B$6,disthist, 65)","v":14535103399.717712},{"$f":"VLOOKUP($B$6,disthist,68)","v":15314834159.408045},{"$f":"VLOOKUP($B$6,aidcalc,9 )","v":15830181514.78808}]
[null,"Foundation Aid",null,null,null,"Chapter 70 aid",{"$f":"IF(B6=999,VLOOKUP(B6,disthist,70,0)+308558,VLOOKUP(B6,disthist,70,0))","v":7361864552.4900179},{"$f":"IF(B6=999,VLOOKUP($B$6,aidcalc,25,0)+308558,VLOOKUP($B$6,aidcalc,25,0))","v":7603623093.0273123},{"$f":"H14-G14","v":241758540.53729439},{"$f":"IF(G14>0, I14/G14, 0)","v":3.2839308413454026E-2}]
[null,2,{"$f":"\"Foundation budget \"&CYr","v":"Foundation budget FY27"},{"$f":"VLOOKUP($B$6, aidcalc, 9)","v":15830181514.78808},null,"Required net school spending (NSS)",{"$f":"G13+G14","v":15739045100.490017},{"$f":"H13+H14","v":16340446864.027313},{"$f":"H15-G15","v":601401763.5372963},{"$f":"IF(G15>0, I15/G15, 0)","v":3.8210816456620507E-2}]
[null,3,{"$f":"\"Required district contribution \"& CYr","v":"Required district contribution FY27"},{"$f":"VLOOKUP($B$6, aidcalc, 10)","v":8736823771}]
[null,4,"Foundation aid (2 -3)",{"$f":"VLOOKUP($B$6, aidcalc, 11)","v":7093357752},null,"Target aid share",{"$f":"VLOOKUP(B$6,disthist,3)/100","v":0.41},{"$f":"VLOOKUP(B6,aidcalc,13)/100","v":0.41}]
[null,5,{"$f":"\"Increase over \" & PYr&\" (4 - 1)\"","v":"Increase over FY26 (4 - 1)"},{"$f":"VLOOKUP($B$6, aidcalc, 12)","v":196780108.00000182},null,"C70 % of foundation",{"$f":"IF(G12>0,G14/G12,IF(G14>0,1,0))","v":0.48070155222461591},{"$f":"IF(H12>0,H14/H12,IF(H14>0,1,0))","v":0.48032444137954045}]
[]
[null,"Minimum Aid",null,null,null,"Required NSS % of foundation",{"$f":"IF(G12>0,G15/G12,IF(G15>0,1,0))","v":1.02769934931495},{"$f":"IF(H12>0,H15/H12,IF(H15>0,1,0))","v":1.0322337017274601}]
[null,6,"$75 per pupil increase",{"$f":"IF(B6=999,\"\",VLOOKUP($B$6,aidcalc,17,0))","v":""}]
[null,7,"Minimum aid amount"]
[null,null,"(if line 6 - line 5 > 0, then line 6 - line 5, otherwise 0)",{"$f":"VLOOKUP($B$6, aidcalc, 18,0)","v":45190129.000003852}]
[]
[null,"Subtotal"]
[null,8,"Sum of 1,5,7",{"$f":"D12+D18+D23","v":7603526231.4900236}]
[]
[null,"Minimum Aid Adjustment"]
[null,9,"Minimum aid adjustment",{"$f":"IF(B6=999,\"\",VLOOKUP($B$6, aidcalc, 20))","v":""}]
[null,10,"Aid adjustment increment"]
[null,null,"(if line 9 - line 8 > 0, then line 9 - line 8, otherwise 0)",{"$f":"VLOOKUP($B$6, aidcalc, 21, FALSE)","v":26908}]
[]
[null,"Non-Operating District Reduction to Foundation"]
[null,11,"Reduction to foundation",{"$f":"VLOOKUP($B$6, aidcalc, 23)","v":238604.46271000005}]
[]
[null,"Hold Harmless Aid"]
[null,12,"Hold harmless aid",{"$f":"VLOOKUP($B$6, aidcalc, 24)","v":0}]
[]
[null,{"$f":"CYr&\" Chapter 70 Aid\"","v":"FY27 Chapter 70 Aid"}]
[null,13,"Sum of 1,5,7,10, 12 minus 11",{"$f":"VLOOKUP($B$6, aidcalc, 25)","v":7603314535.0273123}]
[null,null,{"$f":"IF(B6=999,\"with Devens aid\",\"\")","v":"with Devens aid"},{"$f":"IF(B6=999,D40+308558,\"\")","v":7603623093.0273123}]
[]
[null,"Note on Minimum Aid Adjustment on lines 9 and 10:"]
[null,"The minimum aid adjustment is the sum of (a) the greater of foundation aid or base aid determined based on the FY21 base and incremental rates, inflated to FY27, and (b) foundation enrollment multiplied by $30. The aid adjustment increment (line 10) is the line 9 amount less the line 8 amount if the difference is positive. Otherwise, the increment is zero."]

{"sheet":"parameters","index":9,"n_rows":50,"n_cols":32,"rows_kept":50,"cut":false,"hidden":true,"merged":[[4,10,4,30]]}
["Cyr","FY27",27]
["Pyr","FY26",26]
["As of","2026-01-16"]
[]
["Parameters",null,null,"Base",null,null,null,null,null,null,"Analysis of Aggregate Wealth Model Implementation"]
[null,"Which version of foundation budget? ",1,1,null,null,"FY26 C70 including Devens",7361864552.4900179]
[null,"Effort reduction",1,0,null,null,null,null,null,null,"Progress Towards Target Local Share"]
[null,"Pct downpayment on target aid share",0,0,null,null,"FY26 foundation aid increase",{"$f":"'Aid436'!L448","v":196780108.00000182}]
[null,null,null,0,null,null,null,null,null,null,null,"FY07","FY08","FY09","FY10","FY11","FY12","FY13","FY14","FY15","FY16","FY17","FY18","FY19","FY20","FY21","FY22","FY23","FY24","FY25","FY26",{"$f":"CYr","v":"FY27"}]
[null,null,null,null,null,null,"Minimum per pupil aid increase",{"$f":"'Aid436'!R448","v":45190129.000003852},null,null,"excess effort before effort reduction",621.084157,494.05891200000002,372.382091,228.110232,366,293.3,229.8,234.5,307.90301399999998,235.358789,299.86437000000001,151.670894,68.664220999999998,21.435137000000001,104.649236,93.814687000000006,3.8705799999999999,{"$f":"2463965/1000000","v":2.463965},{"$f":"35208638/1000000","v":35.208638000000001},59.095751999999997,{"$f":"'Townwide Contributions'!V361/1000000","v":77.583273000000005}]
[null,null,null,null,null,null,"Min aid adjustment increase",{"$f":"'Aid436'!U448","v":26908},null,null,"effort reduction",124.21683139999998,123.51472800000001,122.88609003000001,34.216535,109.8,58.7,34.5,35.200000000000003,153.95150699999999,117.6793945,254.88471449999989,128.92025990000005,68.664220999999998,21.435137000000001,104.649236,93.814687000000006,3.8705799999999999,{"$f":"2463965/1000000","v":2.463965},35.208638000000001,59.095751999999997,{"$f":"'Townwide Contributions'!V361/1000000","v":77.583273000000005}]
[null,null,null,null,null,null,"Non-op reduction",{"$f":"'Aid436'!W448","v":238604.46271000005},null,null,"net excess after effort reduction",496.86732560000002,370.54418399999997,249.49600097000001,193.893697,256.2,{"$f":"Q10-Q11","v":234.60000000000002},{"$f":"R10-R11","v":195.3},199.3,152.08069825743701,117.482913201,44.978793475999993,22.749214023213945,0,0,0,0,0,0,{"$f":"0/1000000","v":0},0,{"$f":"'Townwide Contributions'!AC361/1000000","v":0}]
[null,null,null,null,null,null,"FY26 Chapter 70",{"$f":"'Aid436'!Y448","v":7603314535.0273123},null,null,"shortfall below target before increment",-321.45232199999998,-352.17487499999999,-359.19356299999998,-427.2,-228,-211,-200,-180.2,-162.97221500000001,-132.627218,-96.928090999999995,-103.17317,-117.254713,-207.485209,-163.71,-228.99932699999999,-494.81849599999998,{"$f":"-745851507/1000000","v":-745.85150699999997},{"$f":"-662497802/1000000","v":-662.49780199999998},-719.61640999999997,{"$f":"'Townwide Contributions'!AA361/1000000","v":-654.70242699999994}]
[null,"Per pupil guaranteed increase",75,0,null,null,"Devens",{"$f":"308558","v":308558},null,null,"additional increments toward target",0,-19.739149000000001,-21.387588000000001,-121.2,-10.6,-10,-4.2,-3.9,-7.5630930000000003,-5.8487390000000001,-2.4742150000000001,-3.6281780000000001,-5.3203490000000002,-19.253945000000002,-9.3782169999999994,-20.199767999999999,-56.264627000000004,{"$f":"(63801354/1000000*-1)+(9952246/1000000*-1)","v":-73.753600000000006},-58.842122000000003,-61.044795999999998,{"$f":"('Townwide Contributions'!T361/1000000*-1)+('Townwide Contributions'!W361/1000000*-1)","v":-51.719105000000006}]
[null,"Which version of mrgf? ",1,1,null,null,null,null,null,null,"net shortfall below target after increment",-321.45232199999998,-332.43572599999999,-337.80597499999999,-306,-217.4,-200.9,-195.7,-176.3,-155.409122,-126.778479,-94.453875999999994,-99.544991999999993,-111.934364,-188.23126400000001,-154.331783,-208.79955899999999,-438.55386900000002,{"$f":"-672097907/1000000","v":-672.09790699999996},{"$f":"-603655680/1000000","v":-603.65567999999996},-658.57161399999995,{"$f":"'Townwide Contributions'!AB361/1000000","v":-602.98332200000004}]
[null,"Below effort threshold 1",2.5,2.5,null,null,"Change in C70 Appropriation",{"$f":"H13+H14-H6","v":241758540.53729439},null,null,"n of municipalities with effort too high",232,218,214,193,282,257,249,255,279,278,303,291,0,0,0,0,0,0,0,0,{"$f":"'Townwide Contributions'!AC364","v":0}]
[null,"Below effort threshold 2",7.5,7.5,null,null,"Percent Change",{"$f":"H16/H6","v":3.2839308413454026E-2}]
[null,"Below effort contribution increment, 5-10% under",0.01,0.01]
[null,"Below effort contribution increment, >10% under",0.02,0.02,null,null,"N of Foundation Aid Districts",{"$f":"'Aid436'!P448","v":61}]
[null,"Maximum local contribution pct of foundation",0.82499999999999996,0.82499999999999996,null,null,"N of Operating Districts with an Aid Increase",{"$f":"'Comparison to FY26'!N332","v":319}]
[null,"Statewide target for local contribution % of foundation",0.59,0.59,null,null,"Total C70 Including Devens",{"$f":"H13+H14","v":7603623093.0273123}]
[null,"Cap contributions at fixed percentage of foundation",0.9,0.9]
[null,null,null,0]
["Eqv/income percentages"]
[]
[null,"Target effort",{"$f":"C21*localcont!K1765","v":9339807093.7249565}]
[null,"Effort based upon following percentages",{"$f":"'Townwide Contributions'!K361","v":9339807090}]
[null,"Difference  from target",{"$f":"IF(ABS(C27-C26)<10,0,C27-C26)","v":0}]
[null,"           Percentage of EQV ",3.3093370728761689E-3]
[null,"           Percentage of INCOME",{"$f":"C29*1/C34","v":1.5896634465605342E-2}]
[]
[null,"Total EQV",{"$f":"'Townwide Contributions'!C361","v":1955053248000}]
[null,"Total Income",{"$f":"'Townwide Contributions'!E361","v":406999997833}]
[null,"State Average % of EQV",{"$f":"C33/C32","v":0.20817847199269734}]
[]
[]
["See Progress Towards Targets"]
[]
[]
[]
[]
[null,null,null,null,null,null,null,null,null,null,"Progress Towards Target Aid Share"]
[]
[null,null,null,null,null,null,null,null,null,null,null,"FY07","FY08","FY09","FY10","FY11","FY12","FY13","FY14","FY15","FY16","FY17","FY18","FY19","FY20","FY21","FY22","FY23","FY24","FY25","FY26",{"$f":"CYr","v":"FY27"}]
[null,null,null,null,null,null,null,null,null,null,"aid above target",394.9,421,440.4,413.59914561056684,489.29058672761249,360.5802896250691,372.91397258755205,385.3,404.65393358144092,419.07307786449184,488.13621374028867,497.40384494550671,487.80696944632837,518.44879540449108,516.49432754833651,613.17696001292984,712.80310162890635,{"$f":"867309653/1000000","v":867.30965300000003},942.22343281827125,1082.521836020296,{"$f":"'Aid436'!AE449/1000000","v":1112.9019628818019}]
[null,null,null,null,null,null,null,null,null,null,"aid below target",-176.3,-143,-105.5,-97.823632622684812,-75.730739773442338,-110.4290612110001,-84.706296922117531,-66.900000000000006,-49.399214270156875,-44.487988876901781,-13.013026762936654,-7.2026888360463408,-1.8096836867057722E-2,-1.1899810261307884E-3,-1.2838879272505514E-2,-1.7719228420077125E-3,-1.9628827480482868E-6,{"$f":"3/1000000","v":3.0000000000000001E-6},-1.045870017260313E-7,-1.2745670000022073E-6,{"$f":"'Aid436'!AE450/1000000","v":-9.0000000000145516E-8}]
[]
[]
[]
[null,null,{"$f":"TEXT(effortred,\"0%\")","v":"100%"}]

{"sheet":"Regional District Members","index":10,"n_rows":68,"n_cols":16,"rows_kept":68,"cut":false,"hidden":false,"merged":[[13,12,13,14],[14,6,14,7],[14,9,14,10],[13,9,13,11],[13,6,13,8]]}
[]
[null,null,null,null,"Return to Index"]
[null,null,null,null,null,"Select or type full regional district name below"]
[null,null,null,{"$f":"VLOOKUP(F4,leas!$E$450:$H$536,4,FALSE)","v":49},{"$f":"VLOOKUP(reg_order, regdistricts, 3, FALSE)","v":832},"Montachusett"]
[]
[null,null,null,null,"Massachusetts Department of Elementary and Secondary Education"]
[null,null,null,null,"Office of School Finance"]
[null,null,null,null,{"$f":"CYr&\" Chapter 70\"","v":"FY27 Chapter 70"}]
[null,null,null,null,"Regional District Enrollment and Contributions by Member City or Town"]
[null,null,null,null,"The table below presents the minimum required local contribution for each member to the selected regional district. "]
[null,null,null,null,"Note: A city or town might belong to more than one regional district (e.g., a regional district and a vocational district) and therefore be required to contribute to multiple districts. See the regional allocation tab for a full list of minimum required contributions for each city or town.\n\nFoundation enrollments are presented as whole numbers. The change column reflects differences prior to rounding."]
[null,{"$f":"VLOOKUP(E4, leas!D6:G445, 4, FALSE)","v":"0832"},null,2,{"$f":"VLOOKUP(reg_order, regdistricts, 2, FALSE)","v":"832 Montachusett"}]
[]
[null,null,null,null,null,null,"Foundation Enrollment in Regional District",null,null,"Required Minimum Contribution to Regional District"]
[]
[null,{"$f":"VLOOKUP($E$4, regcount, 2, FALSE)","v":18},null,null,"LEA","Member",{"$f":"PYr","v":"FY26"},{"$f":"CYr","v":"FY27"},"Change",{"$f":"PYr","v":"FY26"},{"$f":"CYr","v":"FY27"},"Change"]
[]
[null,null,null,null,null,"Total",{"$f":"SUM(G20:G67)","v":1488.0000000148805},{"$f":"SUM(H20:H67)","v":1464.9999999854999},{"$f":"SUM(I20:I67)","v":-23.000000029380082},{"$f":"SUM(J20:J67)","v":12227609},{"$f":"SUM(K20:K67)","v":12923815},{"$f":"SUM(L20:L62)","v":696206}]
[]
[{"$f":"IF($C20<=$B$16,VLOOKUP(E20,leas!D6:G445,4,FALSE),\"\")","v":"0011"},{"$f":"$E$4*100+C20","v":83201},1,null,{"$f":"IF($C20<=$B$16, VLOOKUP($B20, regdetail, 5), \" \")","v":11},{"$f":"IF($C20<=$B$16, VLOOKUP($B20, regdetail, 6), \" \")","v":"Ashburnham"},{"$f":"IF($C20<=$B$16,VLOOKUP(A20&$B$12, localcont!A10:X1764, 18, FALSE), \"\")","v":64.00000000272},{"$f":"IF($C20<=$B$16,VLOOKUP(A20&$B$12, localcont!$A$10:$X$1764, 23, FALSE), \"\")","v":62.000000004740002},{"$f":"IF($C20<=$B$16, H20-G20, \" \")","v":-1.9999999979799981},{"$f":"IF($C20<=$B$16,VLOOKUP(A20&$B$12, localcont!$A$10:$X$1764, 15, FALSE), \"\")","v":611914},{"$f":"IF($C20<=$B$16,VLOOKUP(A20&$B$12, localcont!$A$10:$X$1764, 14, FALSE),\"\")","v":627440},{"$f":"IF($C20<=$B$16, K20-J20, \" \")","v":15526}]
[{"$f":"IF($C21<=$B$16,VLOOKUP(E21,leas!D7:G446,4,FALSE),\"\")","v":"0012"},{"$f":"$E$4*100+C21","v":83202},2,null,12,"Ashby",{"$f":"IF($C21<=$B$16,VLOOKUP(A21&$B$12, localcont!A11:X1765, 18, FALSE), \"\")","v":32.999999992799999},{"$f":"IF($C21<=$B$16,VLOOKUP(A21&$B$12, localcont!$A$10:$X$1764, 23, FALSE), \"\")","v":32.99999999472},{"$f":"IF($C21<=$B$16, H21-G21, \" \")","v":1.9200001588615123E-9},{"$f":"IF($C21<=$B$16,VLOOKUP(A21&$B$12, localcont!$A$10:$X$1764, 15, FALSE), \"\")","v":368587},{"$f":"IF($C21<=$B$16,VLOOKUP(A21&$B$12, localcont!$A$10:$X$1764, 14, FALSE),\"\")","v":420432},{"$f":"IF($C21<=$B$16, K21-J21, \" \")","v":51845}]
[{"$f":"IF($C22<=$B$16,VLOOKUP(E22,leas!D8:G447,4,FALSE),\"\")","v":"0015"},83203,3,null,15,"Athol",{"$f":"IF($C22<=$B$16,VLOOKUP(A22&$B$12, localcont!A12:X1766, 18, FALSE), \"\")","v":108.99999999696},{"$f":"IF($C22<=$B$16,VLOOKUP(A22&$B$12, localcont!$A$10:$X$1764, 23, FALSE), \"\")","v":105.9999999977},-2.9999999992599982,{"$f":"IF($C22<=$B$16,VLOOKUP(A22&$B$12, localcont!$A$10:$X$1764, 15, FALSE), \"\")","v":338018},{"$f":"IF($C22<=$B$16,VLOOKUP(A22&$B$12, localcont!$A$10:$X$1764, 14, FALSE),\"\")","v":348942},10924]
[{"$f":"IF($C23<=$B$16,VLOOKUP(E23,leas!D9:G448,4,FALSE),\"\")","v":"0021"},83204,4,null,21,"Barre",{"$f":"IF($C23<=$B$16,VLOOKUP(A23&$B$12, localcont!A13:X1767, 18, FALSE), \"\")","v":47.000000006880001},{"$f":"IF($C23<=$B$16,VLOOKUP(A23&$B$12, localcont!$A$10:$X$1764, 23, FALSE), \"\")","v":43.999999992959999},-3.0000000139200012,{"$f":"IF($C23<=$B$16,VLOOKUP(A23&$B$12, localcont!$A$10:$X$1764, 15, FALSE), \"\")","v":386445},{"$f":"IF($C23<=$B$16,VLOOKUP(A23&$B$12, localcont!$A$10:$X$1764, 14, FALSE),\"\")","v":380158},-6287]
[{"$f":"IF($C24<=$B$16,VLOOKUP(E24,leas!D10:G449,4,FALSE),\"\")","v":"0097"},83205,5,null,97,"Fitchburg",{"$f":"IF($C24<=$B$16,VLOOKUP(A24&$B$12, localcont!A14:X1768, 18, FALSE), \"\")","v":396.00000000288003},{"$f":"IF($C24<=$B$16,VLOOKUP(A24&$B$12, localcont!$A$10:$X$1764, 23, FALSE), \"\")","v":390.99999999607996},-5.0000000068000645,{"$f":"IF($C24<=$B$16,VLOOKUP(A24&$B$12, localcont!$A$10:$X$1764, 15, FALSE), \"\")","v":1814721},{"$f":"IF($C24<=$B$16,VLOOKUP(A24&$B$12, localcont!$A$10:$X$1764, 14, FALSE),\"\")","v":1845065},30344]
[{"$f":"IF($C25<=$B$16,VLOOKUP(E25,leas!D11:G450,4,FALSE),\"\")","v":"0103"},83206,6,null,103,"Gardner",{"$f":"IF($C25<=$B$16,VLOOKUP(A25&$B$12, localcont!A15:X1769, 18, FALSE), \"\")","v":157.00000000272001},{"$f":"IF($C25<=$B$16,VLOOKUP(A25&$B$12, localcont!$A$10:$X$1764, 23, FALSE), \"\")","v":147.00000000579999},-9.9999999969200246,{"$f":"IF($C25<=$B$16,VLOOKUP(A25&$B$12, localcont!$A$10:$X$1764, 15, FALSE), \"\")","v":919303},{"$f":"IF($C25<=$B$16,VLOOKUP(A25&$B$12, localcont!$A$10:$X$1764, 14, FALSE),\"\")","v":922790},3487]
[{"$f":"IF($C26<=$B$16,VLOOKUP(E26,leas!D12:G451,4,FALSE),\"\")","v":"0125"},83207,7,null,125,"Harvard",{"$f":"IF($C26<=$B$16,VLOOKUP(A26&$B$12, localcont!A16:X1770, 18, FALSE), \"\")","v":10.00000000368},{"$f":"IF($C26<=$B$16,VLOOKUP(A26&$B$12, localcont!$A$10:$X$1764, 23, FALSE), \"\")","v":8.9999999985599999},-1.0000000051200004,{"$f":"IF($C26<=$B$16,VLOOKUP(A26&$B$12, localcont!$A$10:$X$1764, 15, FALSE), \"\")","v":167314},{"$f":"IF($C26<=$B$16,VLOOKUP(A26&$B$12, localcont!$A$10:$X$1764, 14, FALSE),\"\")","v":156974},-10340]
[{"$f":"IF($C27<=$B$16,VLOOKUP(E27,leas!D13:G452,4,FALSE),\"\")","v":"0134"},83208,8,null,134,"Holden",{"$f":"IF($C27<=$B$16,VLOOKUP(A27&$B$12, localcont!A17:X1771, 18, FALSE), \"\")","v":158.0000000016},{"$f":"IF($C27<=$B$16,VLOOKUP(A27&$B$12, localcont!$A$10:$X$1764, 23, FALSE), \"\")","v":170.00000000212},12.000000000520004,{"$f":"IF($C27<=$B$16,VLOOKUP(A27&$B$12, localcont!$A$10:$X$1764, 15, FALSE), \"\")","v":1957220},{"$f":"IF($C27<=$B$16,VLOOKUP(A27&$B$12, localcont!$A$10:$X$1764, 14, FALSE),\"\")","v":2259536},302316]
[{"$f":"IF($C28<=$B$16,VLOOKUP(E28,leas!D14:G453,4,FALSE),\"\")","v":"0140"},83209,9,null,140,"Hubbardston",{"$f":"IF($C28<=$B$16,VLOOKUP(A28&$B$12, localcont!A18:X1772, 18, FALSE), \"\")","v":35.00000000544},{"$f":"IF($C28<=$B$16,VLOOKUP(A28&$B$12, localcont!$A$10:$X$1764, 23, FALSE), \"\")","v":34.9999999944},-1.1040000913453696E-8,{"$f":"IF($C28<=$B$16,VLOOKUP(A28&$B$12, localcont!$A$10:$X$1764, 15, FALSE), \"\")","v":396826},{"$f":"IF($C28<=$B$16,VLOOKUP(A28&$B$12, localcont!$A$10:$X$1764, 14, FALSE),\"\")","v":425070},28244]
[{"$f":"IF($C29<=$B$16,VLOOKUP(E29,leas!D15:G454,4,FALSE),\"\")","v":"0162"},83210,10,null,162,"Lunenburg",{"$f":"IF($C29<=$B$16,VLOOKUP(A29&$B$12, localcont!A19:X1773, 18, FALSE), \"\")","v":101.00000000592},{"$f":"IF($C29<=$B$16,VLOOKUP(A29&$B$12, localcont!$A$10:$X$1764, 23, FALSE), \"\")","v":103.99999999802},2.9999999921000011,{"$f":"IF($C29<=$B$16,VLOOKUP(A29&$B$12, localcont!$A$10:$X$1764, 15, FALSE), \"\")","v":1270711},{"$f":"IF($C29<=$B$16,VLOOKUP(A29&$B$12, localcont!$A$10:$X$1764, 14, FALSE),\"\")","v":1378183},107472]
[{"$f":"IF($C30<=$B$16,VLOOKUP(E30,leas!D16:G455,4,FALSE),\"\")","v":"0234"},83211,11,null,234,"Petersham",{"$f":"IF($C30<=$B$16,VLOOKUP(A30&$B$12, localcont!A20:X1774, 18, FALSE), \"\")","v":11.00000000256},{"$f":"IF($C30<=$B$16,VLOOKUP(A30&$B$12, localcont!$A$10:$X$1764, 23, FALSE), \"\")","v":7.9999999987199999},-3.0000000038400003,{"$f":"IF($C30<=$B$16,VLOOKUP(A30&$B$12, localcont!$A$10:$X$1764, 15, FALSE), \"\")","v":121748},{"$f":"IF($C30<=$B$16,VLOOKUP(A30&$B$12, localcont!$A$10:$X$1764, 14, FALSE),\"\")","v":96108},-25640]
[{"$f":"IF($C31<=$B$16,VLOOKUP(E31,leas!D17:G456,4,FALSE),\"\")","v":"0235"},83212,12,null,235,"Phillipston",{"$f":"IF($C31<=$B$16,VLOOKUP(A31&$B$12, localcont!A21:X1775, 18, FALSE), \"\")","v":27.9999999984},{"$f":"IF($C31<=$B$16,VLOOKUP(A31&$B$12, localcont!$A$10:$X$1764, 23, FALSE), \"\")","v":21.99999999648},-6.0000000019200002,{"$f":"IF($C31<=$B$16,VLOOKUP(A31&$B$12, localcont!$A$10:$X$1764, 15, FALSE), \"\")","v":303310},{"$f":"IF($C31<=$B$16,VLOOKUP(A31&$B$12, localcont!$A$10:$X$1764, 14, FALSE),\"\")","v":271216},-32094]
[{"$f":"IF($C32<=$B$16,VLOOKUP(E32,leas!D18:G457,4,FALSE),\"\")","v":"0241"},83213,13,null,241,"Princeton",{"$f":"IF($C32<=$B$16,VLOOKUP(A32&$B$12, localcont!A22:X1776, 18, FALSE), \"\")","v":26.99999999952},{"$f":"IF($C32<=$B$16,VLOOKUP(A32&$B$12, localcont!$A$10:$X$1764, 23, FALSE), \"\")","v":27.99999999552},0.99999999599999967,{"$f":"IF($C32<=$B$16,VLOOKUP(A32&$B$12, localcont!$A$10:$X$1764, 15, FALSE), \"\")","v":441216},{"$f":"IF($C32<=$B$16,VLOOKUP(A32&$B$12, localcont!$A$10:$X$1764, 14, FALSE),\"\")","v":458806},17590]
[{"$f":"IF($C33<=$B$16,VLOOKUP(E33,leas!D19:G458,4,FALSE),\"\")","v":"0255"},83214,14,null,255,"Royalston",{"$f":"IF($C33<=$B$16,VLOOKUP(A33&$B$12, localcont!A23:X1777, 18, FALSE), \"\")","v":10.00000000368},{"$f":"IF($C33<=$B$16,VLOOKUP(A33&$B$12, localcont!$A$10:$X$1764, 23, FALSE), \"\")","v":9.9999999983999999},-5.2800004368691589E-9,{"$f":"IF($C33<=$B$16,VLOOKUP(A33&$B$12, localcont!$A$10:$X$1764, 15, FALSE), \"\")","v":77616},{"$f":"IF($C33<=$B$16,VLOOKUP(A33&$B$12, localcont!$A$10:$X$1764, 14, FALSE),\"\")","v":88754},11138]
[{"$f":"IF($C34<=$B$16,VLOOKUP(E34,leas!D20:G459,4,FALSE),\"\")","v":"0282"},83215,15,null,282,"Sterling",{"$f":"IF($C34<=$B$16,VLOOKUP(A34&$B$12, localcont!A24:X1778, 18, FALSE), \"\")","v":63.000000003840007},{"$f":"IF($C34<=$B$16,VLOOKUP(A34&$B$12, localcont!$A$10:$X$1764, 23, FALSE), \"\")","v":60.000000005060002},-2.9999999987800052,{"$f":"IF($C34<=$B$16,VLOOKUP(A34&$B$12, localcont!$A$10:$X$1764, 15, FALSE), \"\")","v":1082478},{"$f":"IF($C34<=$B$16,VLOOKUP(A34&$B$12, localcont!$A$10:$X$1764, 14, FALSE),\"\")","v":1071470},-11008]
[{"$f":"IF($C35<=$B$16,VLOOKUP(E35,leas!D21:G460,4,FALSE),\"\")","v":"0294"},83216,16,null,294,"Templeton",{"$f":"IF($C35<=$B$16,VLOOKUP(A35&$B$12, localcont!A25:X1779, 18, FALSE), \"\")","v":82.99999999632},{"$f":"IF($C35<=$B$16,VLOOKUP(A35&$B$12, localcont!$A$10:$X$1764, 23, FALSE), \"\")","v":77.000000002340002},-5.9999999939799977,{"$f":"IF($C35<=$B$16,VLOOKUP(A35&$B$12, localcont!$A$10:$X$1764, 15, FALSE), \"\")","v":583816},{"$f":"IF($C35<=$B$16,VLOOKUP(A35&$B$12, localcont!$A$10:$X$1764, 14, FALSE),\"\")","v":607792},23976]
[{"$f":"IF($C36<=$B$16,VLOOKUP(E36,leas!D22:G461,4,FALSE),\"\")","v":"0328"},83217,17,null,328,"Westminster",{"$f":"IF($C36<=$B$16,VLOOKUP(A36&$B$12, localcont!A26:X1780, 18, FALSE), \"\")","v":69.999999996},{"$f":"IF($C36<=$B$16,VLOOKUP(A36&$B$12, localcont!$A$10:$X$1764, 23, FALSE), \"\")","v":79.000000002020002},9.0000000060200023,{"$f":"IF($C36<=$B$16,VLOOKUP(A36&$B$12, localcont!$A$10:$X$1764, 15, FALSE), \"\")","v":808812},{"$f":"IF($C36<=$B$16,VLOOKUP(A36&$B$12, localcont!$A$10:$X$1764, 14, FALSE),\"\")","v":976220},167408]
[{"$f":"IF($C37<=$B$16,VLOOKUP(E37,leas!D23:G462,4,FALSE),\"\")","v":"0343"},83218,18,null,343,"Winchendon",{"$f":"IF($C37<=$B$16,VLOOKUP(A37&$B$12, localcont!A27:X1781, 18, FALSE), \"\")","v":85.999999992959999},{"$f":"IF($C37<=$B$16,VLOOKUP(A37&$B$12, localcont!$A$10:$X$1764, 23, FALSE), \"\")","v":80.000000001860002},-5.9999999910999975,{"$f":"IF($C37<=$B$16,VLOOKUP(A37&$B$12, localcont!$A$10:$X$1764, 15, FALSE), \"\")","v":577554},{"$f":"IF($C37<=$B$16,VLOOKUP(A37&$B$12, localcont!$A$10:$X$1764, 14, FALSE),\"\")","v":588859},11305]
[{"$f":"IF($C38<=$B$16,VLOOKUP(E38,leas!D24:G463,4,FALSE),\"\")","v":""},83219,19,null," "," ",{"$f":"IF($C38<=$B$16,VLOOKUP(A38&$B$12, localcont!A28:X1782, 18, FALSE), \"\")","v":""},{"$f":"IF($C38<=$B$16,VLOOKUP(A38&$B$12, localcont!$A$10:$X$1764, 23, FALSE), \"\")","v":""}," ",{"$f":"IF($C38<=$B$16,VLOOKUP(A38&$B$12, localcont!$A$10:$X$1764, 15, FALSE), \"\")","v":""},{"$f":"IF($C38<=$B$16,VLOOKUP(A38&$B$12, localcont!$A$10:$X$1764, 14, FALSE),\"\")","v":""}," "]
[{"$f":"IF($C39<=$B$16,VLOOKUP(E39,leas!D25:G464,4,FALSE),\"\")","v":""},83220,20,null," "," ",{"$f":"IF($C39<=$B$16,VLOOKUP(A39&$B$12, localcont!A29:X1783, 18, FALSE), \"\")","v":""},{"$f":"IF($C39<=$B$16,VLOOKUP(A39&$B$12, localcont!$A$10:$X$1764, 23, FALSE), \"\")","v":""}," ",{"$f":"IF($C39<=$B$16,VLOOKUP(A39&$B$12, localcont!$A$10:$X$1764, 15, FALSE), \"\")","v":""},{"$f":"IF($C39<=$B$16,VLOOKUP(A39&$B$12, localcont!$A$10:$X$1764, 14, FALSE),\"\")","v":""}," "]
[{"$f":"IF($C40<=$B$16,VLOOKUP(E40,leas!D26:G465,4,FALSE),\"\")","v":""},83221,21,null," "," ",{"$f":"IF($C40<=$B$16,VLOOKUP(A40&$B$12, localcont!A30:X1784, 18, FALSE), \"\")","v":""},{"$f":"IF($C40<=$B$16,VLOOKUP(A40&$B$12, localcont!$A$10:$X$1764, 23, FALSE), \"\")","v":""}," ",{"$f":"IF($C40<=$B$16,VLOOKUP(A40&$B$12, localcont!$A$10:$X$1764, 15, FALSE), \"\")","v":""},{"$f":"IF($C40<=$B$16,VLOOKUP(A40&$B$12, localcont!$A$10:$X$1764, 14, FALSE),\"\")","v":""}," "]
[{"$f":"IF($C41<=$B$16,VLOOKUP(E41,leas!D27:G466,4,FALSE),\"\")","v":""},83222,22,null," "," ",{"$f":"IF($C41<=$B$16,VLOOKUP(A41&$B$12, localcont!A31:X1785, 18, FALSE), \"\")","v":""},{"$f":"IF($C41<=$B$16,VLOOKUP(A41&$B$12, localcont!$A$10:$X$1764, 23, FALSE), \"\")","v":""}," ",{"$f":"IF($C41<=$B$16,VLOOKUP(A41&$B$12, localcont!$A$10:$X$1764, 15, FALSE), \"\")","v":""},{"$f":"IF($C41<=$B$16,VLOOKUP(A41&$B$12, localcont!$A$10:$X$1764, 14, FALSE),\"\")","v":""}," "]
[{"$f":"IF($C42<=$B$16,VLOOKUP(E42,leas!D28:G467,4,FALSE),\"\")","v":""},83223,23,null," "," ",{"$f":"IF($C42<=$B$16,VLOOKUP(A42&$B$12, localcont!A32:X1786, 18, FALSE), \"\")","v":""},{"$f":"IF($C42<=$B$16,VLOOKUP(A42&$B$12, localcont!$A$10:$X$1764, 23, FALSE), \"\")","v":""}," ",{"$f":"IF($C42<=$B$16,VLOOKUP(A42&$B$12, localcont!$A$10:$X$1764, 15, FALSE), \"\")","v":""},{"$f":"IF($C42<=$B$16,VLOOKUP(A42&$B$12, localcont!$A$10:$X$1764, 14, FALSE),\"\")","v":""}," "]
[{"$f":"IF($C43<=$B$16,VLOOKUP(E43,leas!D29:G468,4,FALSE),\"\")","v":""},83224,24,null," "," ",{"$f":"IF($C43<=$B$16,VLOOKUP(A43&$B$12, localcont!A33:X1787, 18, FALSE), \"\")","v":""},{"$f":"IF($C43<=$B$16,VLOOKUP(A43&$B$12, localcont!$A$10:$X$1764, 23, FALSE), \"\")","v":""}," ",{"$f":"IF($C43<=$B$16,VLOOKUP(A43&$B$12, localcont!$A$10:$X$1764, 15, FALSE), \"\")","v":""},{"$f":"IF($C43<=$B$16,VLOOKUP(A43&$B$12, localcont!$A$10:$X$1764, 14, FALSE),\"\")","v":""}," "]
[{"$f":"IF($C44<=$B$16,VLOOKUP(E44,leas!D30:G469,4,FALSE),\"\")","v":""},83225,25,null," "," ",{"$f":"IF($C44<=$B$16,VLOOKUP(A44&$B$12, localcont!A34:X1788, 18, FALSE), \"\")","v":""},{"$f":"IF($C44<=$B$16,VLOOKUP(A44&$B$12, localcont!$A$10:$X$1764, 23, FALSE), \"\")","v":""}," ",{"$f":"IF($C44<=$B$16,VLOOKUP(A44&$B$12, localcont!$A$10:$X$1764, 15, FALSE), \"\")","v":""},{"$f":"IF($C44<=$B$16,VLOOKUP(A44&$B$12, localcont!$A$10:$X$1764, 14, FALSE),\"\")","v":""}," "]
[{"$f":"IF($C45<=$B$16,VLOOKUP(E45,leas!D31:G470,4,FALSE),\"\")","v":""},83226,26,null," "," ",{"$f":"IF($C45<=$B$16,VLOOKUP(A45&$B$12, localcont!A35:X1789, 18, FALSE), \"\")","v":""},{"$f":"IF($C45<=$B$16,VLOOKUP(A45&$B$12, localcont!$A$10:$X$1764, 23, FALSE), \"\")","v":""}," ",{"$f":"IF($C45<=$B$16,VLOOKUP(A45&$B$12, localcont!$A$10:$X$1764, 15, FALSE), \"\")","v":""},{"$f":"IF($C45<=$B$16,VLOOKUP(A45&$B$12, localcont!$A$10:$X$1764, 14, FALSE),\"\")","v":""}," "]
[{"$f":"IF($C46<=$B$16,VLOOKUP(E46,leas!D32:G471,4,FALSE),\"\")","v":""},83227,27,null," "," ",{"$f":"IF($C46<=$B$16,VLOOKUP(A46&$B$12, localcont!A36:X1790, 18, FALSE), \"\")","v":""},{"$f":"IF($C46<=$B$16,VLOOKUP(A46&$B$12, localcont!$A$10:$X$1764, 23, FALSE), \"\")","v":""}," ",{"$f":"IF($C46<=$B$16,VLOOKUP(A46&$B$12, localcont!$A$10:$X$1764, 15, FALSE), \"\")","v":""},{"$f":"IF($C46<=$B$16,VLOOKUP(A46&$B$12, localcont!$A$10:$X$1764, 14, FALSE),\"\")","v":""}," "]
[{"$f":"IF($C47<=$B$16,VLOOKUP(E47,leas!D33:G472,4,FALSE),\"\")","v":""},83228,28,null," "," ",{"$f":"IF($C47<=$B$16,VLOOKUP(A47&$B$12, localcont!A37:X1791, 18, FALSE), \"\")","v":""},{"$f":"IF($C47<=$B$16,VLOOKUP(A47&$B$12, localcont!$A$10:$X$1764, 23, FALSE), \"\")","v":""}," ",{"$f":"IF($C47<=$B$16,VLOOKUP(A47&$B$12, localcont!$A$10:$X$1764, 15, FALSE), \"\")","v":""},{"$f":"IF($C47<=$B$16,VLOOKUP(A47&$B$12, localcont!$A$10:$X$1764, 14, FALSE),\"\")","v":""}," "]
[{"$f":"IF($C48<=$B$16,VLOOKUP(E48,leas!D34:G473,4,FALSE),\"\")","v":""},83229,29,null," "," ",{"$f":"IF($C48<=$B$16,VLOOKUP(A48&$B$12, localcont!A38:X1792, 18, FALSE), \"\")","v":""},{"$f":"IF($C48<=$B$16,VLOOKUP(A48&$B$12, localcont!$A$10:$X$1764, 23, FALSE), \"\")","v":""}," ",{"$f":"IF($C48<=$B$16,VLOOKUP(A48&$B$12, localcont!$A$10:$X$1764, 15, FALSE), \"\")","v":""},{"$f":"IF($C48<=$B$16,VLOOKUP(A48&$B$12, localcont!$A$10:$X$1764, 14, FALSE),\"\")","v":""}," "]
[{"$f":"IF($C49<=$B$16,VLOOKUP(E49,leas!D35:G474,4,FALSE),\"\")","v":""},83230,30,null," "," ",{"$f":"IF($C49<=$B$16,VLOOKUP(A49&$B$12, localcont!A39:X1793, 18, FALSE), \"\")","v":""},{"$f":"IF($C49<=$B$16,VLOOKUP(A49&$B$12, localcont!$A$10:$X$1764, 23, FALSE), \"\")","v":""}," ",{"$f":"IF($C49<=$B$16,VLOOKUP(A49&$B$12, localcont!$A$10:$X$1764, 15, FALSE), \"\")","v":""},{"$f":"IF($C49<=$B$16,VLOOKUP(A49&$B$12, localcont!$A$10:$X$1764, 14, FALSE),\"\")","v":""}," "]
[{"$f":"IF($C50<=$B$16,VLOOKUP(E50,leas!D36:G475,4,FALSE),\"\")","v":""},83231,31,null," "," ",{"$f":"IF($C50<=$B$16,VLOOKUP(A50&$B$12, localcont!A40:X1794, 18, FALSE), \"\")","v":""},{"$f":"IF($C50<=$B$16,VLOOKUP(A50&$B$12, localcont!$A$10:$X$1764, 23, FALSE), \"\")","v":""}," ",{"$f":"IF($C50<=$B$16,VLOOKUP(A50&$B$12, localcont!$A$10:$X$1764, 15, FALSE), \"\")","v":""},{"$f":"IF($C50<=$B$16,VLOOKUP(A50&$B$12, localcont!$A$10:$X$1764, 14, FALSE),\"\")","v":""}," "]
[{"$f":"IF($C51<=$B$16,VLOOKUP(E51,leas!D37:G476,4,FALSE),\"\")","v":""},83232,32,null," "," ",{"$f":"IF($C51<=$B$16,VLOOKUP(A51&$B$12, localcont!A41:X1795, 18, FALSE), \"\")","v":""},{"$f":"IF($C51<=$B$16,VLOOKUP(A51&$B$12, localcont!$A$10:$X$1764, 23, FALSE), \"\")","v":""}," ",{"$f":"IF($C51<=$B$16,VLOOKUP(A51&$B$12, localcont!$A$10:$X$1764, 15, FALSE), \"\")","v":""},{"$f":"IF($C51<=$B$16,VLOOKUP(A51&$B$12, localcont!$A$10:$X$1764, 14, FALSE),\"\")","v":""}," "]
[{"$f":"IF($C52<=$B$16,VLOOKUP(E52,leas!D38:G477,4,FALSE),\"\")","v":""},83233,33,null," ",{"$f":"IF($C52<=$B$16, VLOOKUP($B52, regdetail, 6), \" \")","v":" "},{"$f":"IF($C52<=$B$16,VLOOKUP(A52&$B$12, localcont!A42:X1796, 18, FALSE), \"\")","v":""},{"$f":"IF($C52<=$B$16,VLOOKUP(A52&$B$12, localcont!$A$10:$X$1764, 23, FALSE), \"\")","v":""}," ",{"$f":"IF($C52<=$B$16,VLOOKUP(A52&$B$12, localcont!$A$10:$X$1764, 15, FALSE), \"\")","v":""},{"$f":"IF($C52<=$B$16,VLOOKUP(A52&$B$12, localcont!$A$10:$X$1764, 14, FALSE),\"\")","v":""}," "]
[{"$f":"IF($C53<=$B$16,VLOOKUP(E53,leas!D39:G478,4,FALSE),\"\")","v":""},83234,34,null," "," ",{"$f":"IF($C53<=$B$16,VLOOKUP(A53&$B$12, localcont!A43:X1797, 18, FALSE), \"\")","v":""},{"$f":"IF($C53<=$B$16,VLOOKUP(A53&$B$12, localcont!$A$10:$X$1764, 23, FALSE), \"\")","v":""}," ",{"$f":"IF($C53<=$B$16,VLOOKUP(A53&$B$12, localcont!$A$10:$X$1764, 15, FALSE), \"\")","v":""},{"$f":"IF($C53<=$B$16,VLOOKUP(A53&$B$12, localcont!$A$10:$X$1764, 14, FALSE),\"\")","v":""}," "]
[{"$f":"IF($C54<=$B$16,VLOOKUP(E54,leas!D40:G479,4,FALSE),\"\")","v":""},83235,35,null," "," ",{"$f":"IF($C54<=$B$16,VLOOKUP(A54&$B$12, localcont!A44:X1798, 18, FALSE), \"\")","v":""},{"$f":"IF($C54<=$B$16,VLOOKUP(A54&$B$12, localcont!$A$10:$X$1764, 23, FALSE), \"\")","v":""}," ",{"$f":"IF($C54<=$B$16,VLOOKUP(A54&$B$12, localcont!$A$10:$X$1764, 15, FALSE), \"\")","v":""},{"$f":"IF($C54<=$B$16,VLOOKUP(A54&$B$12, localcont!$A$10:$X$1764, 14, FALSE),\"\")","v":""}," "]
[{"$f":"IF($C55<=$B$16,VLOOKUP(E55,leas!D41:G480,4,FALSE),\"\")","v":""},83236,36,null," "," ",{"$f":"IF($C55<=$B$16,VLOOKUP(A55&$B$12, localcont!A45:X1799, 18, FALSE), \"\")","v":""},{"$f":"IF($C55<=$B$16,VLOOKUP(A55&$B$12, localcont!$A$10:$X$1764, 23, FALSE), \"\")","v":""}," ",{"$f":"IF($C55<=$B$16,VLOOKUP(A55&$B$12, localcont!$A$10:$X$1764, 15, FALSE), \"\")","v":""},{"$f":"IF($C55<=$B$16,VLOOKUP(A55&$B$12, localcont!$A$10:$X$1764, 14, FALSE),\"\")","v":""}," "]
[{"$f":"IF($C56<=$B$16,VLOOKUP(E56,leas!D42:G481,4,FALSE),\"\")","v":""},83237,37,null," "," ",{"$f":"IF($C56<=$B$16,VLOOKUP(A56&$B$12, localcont!A46:X1800, 18, FALSE), \"\")","v":""},{"$f":"IF($C56<=$B$16,VLOOKUP(A56&$B$12, localcont!$A$10:$X$1764, 23, FALSE), \"\")","v":""}," ",{"$f":"IF($C56<=$B$16,VLOOKUP(A56&$B$12, localcont!$A$10:$X$1764, 15, FALSE), \"\")","v":""},{"$f":"IF($C56<=$B$16,VLOOKUP(A56&$B$12, localcont!$A$10:$X$1764, 14, FALSE),\"\")","v":""}," "]
[{"$f":"IF($C57<=$B$16,VLOOKUP(E57,leas!D43:G482,4,FALSE),\"\")","v":""},83238,38,null," "," ",{"$f":"IF($C57<=$B$16,VLOOKUP(A57&$B$12, localcont!A47:X1801, 18, FALSE), \"\")","v":""},{"$f":"IF($C57<=$B$16,VLOOKUP(A57&$B$12, localcont!$A$10:$X$1764, 23, FALSE), \"\")","v":""}," ",{"$f":"IF($C57<=$B$16,VLOOKUP(A57&$B$12, localcont!$A$10:$X$1764, 15, FALSE), \"\")","v":""},{"$f":"IF($C57<=$B$16,VLOOKUP(A57&$B$12, localcont!$A$10:$X$1764, 14, FALSE),\"\")","v":""}," "]
[{"$f":"IF($C58<=$B$16,VLOOKUP(E58,leas!D44:G483,4,FALSE),\"\")","v":""},83239,39,null," "," ",{"$f":"IF($C58<=$B$16,VLOOKUP(A58&$B$12, localcont!A48:X1802, 18, FALSE), \"\")","v":""},{"$f":"IF($C58<=$B$16,VLOOKUP(A58&$B$12, localcont!$A$10:$X$1764, 23, FALSE), \"\")","v":""}," ",{"$f":"IF($C58<=$B$16,VLOOKUP(A58&$B$12, localcont!$A$10:$X$1764, 15, FALSE), \"\")","v":""},{"$f":"IF($C58<=$B$16,VLOOKUP(A58&$B$12, localcont!$A$10:$X$1764, 14, FALSE),\"\")","v":""}," "]
[{"$f":"IF($C59<=$B$16,VLOOKUP(E59,leas!D45:G484,4,FALSE),\"\")","v":""},83240,40,null," "," ",{"$f":"IF($C59<=$B$16,VLOOKUP(A59&$B$12, localcont!A49:X1803, 18, FALSE), \"\")","v":""},{"$f":"IF($C59<=$B$16,VLOOKUP(A59&$B$12, localcont!$A$10:$X$1764, 23, FALSE), \"\")","v":""}," ",{"$f":"IF($C59<=$B$16,VLOOKUP(A59&$B$12, localcont!$A$10:$X$1764, 15, FALSE), \"\")","v":""},{"$f":"IF($C59<=$B$16,VLOOKUP(A59&$B$12, localcont!$A$10:$X$1764, 14, FALSE),\"\")","v":""}," "]
[{"$f":"IF($C60<=$B$16,VLOOKUP(E60,leas!D46:G485,4,FALSE),\"\")","v":""},83241,41,null," "," ",{"$f":"IF($C60<=$B$16,VLOOKUP(A60&$B$12, localcont!A50:X1804, 18, FALSE), \"\")","v":""},{"$f":"IF($C60<=$B$16,VLOOKUP(A60&$B$12, localcont!$A$10:$X$1764, 23, FALSE), \"\")","v":""}," ",{"$f":"IF($C60<=$B$16,VLOOKUP(A60&$B$12, localcont!$A$10:$X$1764, 15, FALSE), \"\")","v":""},{"$f":"IF($C60<=$B$16,VLOOKUP(A60&$B$12, localcont!$A$10:$X$1764, 14, FALSE),\"\")","v":""}," "]
[{"$f":"IF($C61<=$B$16,VLOOKUP(E61,leas!D47:G486,4,FALSE),\"\")","v":""},83242,42,null," "," ",{"$f":"IF($C61<=$B$16,VLOOKUP(A61&$B$12, localcont!A51:X1805, 18, FALSE), \"\")","v":""},{"$f":"IF($C61<=$B$16,VLOOKUP(A61&$B$12, localcont!$A$10:$X$1764, 23, FALSE), \"\")","v":""}," ",{"$f":"IF($C61<=$B$16,VLOOKUP(A61&$B$12, localcont!$A$10:$X$1764, 15, FALSE), \"\")","v":""},{"$f":"IF($C61<=$B$16,VLOOKUP(A61&$B$12, localcont!$A$10:$X$1764, 14, FALSE),\"\")","v":""}," "]
[{"$f":"IF($C62<=$B$16,VLOOKUP(E62,leas!D48:G487,4,FALSE),\"\")","v":""},83243,43,null," "," ",{"$f":"IF($C62<=$B$16,VLOOKUP(A62&$B$12, localcont!A52:X1806, 18, FALSE), \"\")","v":""},{"$f":"IF($C62<=$B$16,VLOOKUP(A62&$B$12, localcont!$A$10:$X$1764, 23, FALSE), \"\")","v":""}," ",{"$f":"IF($C62<=$B$16,VLOOKUP(A62&$B$12, localcont!$A$10:$X$1764, 15, FALSE), \"\")","v":""},{"$f":"IF($C62<=$B$16,VLOOKUP(A62&$B$12, localcont!$A$10:$X$1764, 14, FALSE),\"\")","v":""}," "]
[{"$f":"IF($C63<=$B$16,VLOOKUP(E63,leas!D49:G488,4,FALSE),\"\")","v":""},83244,44,null," "," ",{"$f":"IF($C63<=$B$16,VLOOKUP(A63&$B$12, localcont!A53:X1807, 18, FALSE), \"\")","v":""},{"$f":"IF($C63<=$B$16,VLOOKUP(A63&$B$12, localcont!$A$10:$X$1764, 23, FALSE), \"\")","v":""}," ",{"$f":"IF($C63<=$B$16,VLOOKUP(A63&$B$12, localcont!$A$10:$X$1764, 15, FALSE), \"\")","v":""},{"$f":"IF($C63<=$B$16,VLOOKUP(A63&$B$12, localcont!$A$10:$X$1764, 14, FALSE),\"\")","v":""}," ",null,null,null,{"$f":"IF($C63>$B$16,\"\",O63*$P$13)","v":""}]
[{"$f":"IF($C64<=$B$16,VLOOKUP(E64,leas!D50:G489,4,FALSE),\"\")","v":""},83245,45,null," "," ",{"$f":"IF($C64<=$B$16,VLOOKUP(A64&$B$12, localcont!A54:X1808, 18, FALSE), \"\")","v":""},{"$f":"IF($C64<=$B$16,VLOOKUP(A64&$B$12, localcont!$A$10:$X$1764, 23, FALSE), \"\")","v":""}," ",{"$f":"IF($C64<=$B$16,VLOOKUP(A64&$B$12, localcont!$A$10:$X$1764, 15, FALSE), \"\")","v":""},{"$f":"IF($C64<=$B$16,VLOOKUP(A64&$B$12, localcont!$A$10:$X$1764, 14, FALSE),\"\")","v":""}," ",null,null,null,""]
[{"$f":"IF($C65<=$B$16,VLOOKUP(E65,leas!D51:G490,4,FALSE),\"\")","v":""},83246,46,null," "," ",{"$f":"IF($C65<=$B$16,VLOOKUP(A65&$B$12, localcont!A55:X1809, 18, FALSE), \"\")","v":""},{"$f":"IF($C65<=$B$16,VLOOKUP(A65&$B$12, localcont!$A$10:$X$1764, 23, FALSE), \"\")","v":""}," ",{"$f":"IF($C65<=$B$16,VLOOKUP(A65&$B$12, localcont!$A$10:$X$1764, 15, FALSE), \"\")","v":""},{"$f":"IF($C65<=$B$16,VLOOKUP(A65&$B$12, localcont!$A$10:$X$1764, 14, FALSE),\"\")","v":""}," ",null,null,null,""]
[{"$f":"IF($C66<=$B$16,VLOOKUP(E66,leas!D52:G491,4,FALSE),\"\")","v":""},83247,47,null," "," ",{"$f":"IF($C66<=$B$16,VLOOKUP(A66&$B$12, localcont!A56:X1810, 18, FALSE), \"\")","v":""},{"$f":"IF($C66<=$B$16,VLOOKUP(A66&$B$12, localcont!$A$10:$X$1764, 23, FALSE), \"\")","v":""}," ",{"$f":"IF($C66<=$B$16,VLOOKUP(A66&$B$12, localcont!$A$10:$X$1764, 15, FALSE), \"\")","v":""},{"$f":"IF($C66<=$B$16,VLOOKUP(A66&$B$12, localcont!$A$10:$X$1764, 14, FALSE),\"\")","v":""}," ",null,null,null,""]
[{"$f":"IF($C67<=$B$16,VLOOKUP(E67,leas!D53:G492,4,FALSE),\"\")","v":""},83248,48,null," "," ",{"$f":"IF($C67<=$B$16,VLOOKUP(A67&$B$12, localcont!A57:X1811, 18, FALSE), \"\")","v":""},{"$f":"IF($C67<=$B$16,VLOOKUP(A67&$B$12, localcont!$A$10:$X$1764, 23, FALSE), \"\")","v":""}," ",{"$f":"IF($C67<=$B$16,VLOOKUP(A67&$B$12, localcont!$A$10:$X$1764, 15, FALSE), \"\")","v":""},{"$f":"IF($C67<=$B$16,VLOOKUP(A67&$B$12, localcont!$A$10:$X$1764, 14, FALSE),\"\")","v":""}," ",null,null,null,""]
[{"$f":"IF($C68<=$B$16,VLOOKUP(E68,leas!D54:G493,4,FALSE),\"\")","v":""},83249,49,null," "," ",{"$f":"IF($C68<=$B$16,VLOOKUP(A68&$B$12, localcont!A58:X1812, 18, FALSE), \"\")","v":""},{"$f":"IF($C68<=$B$16,VLOOKUP(A68&$B$12, localcont!$A$10:$X$1764, 23, FALSE), \"\")","v":""}," ",{"$f":"IF($C68<=$B$16,VLOOKUP(A68&$B$12, localcont!$A$10:$X$1764, 15, FALSE), \"\")","v":""},{"$f":"IF($C68<=$B$16,VLOOKUP(A68&$B$12, localcont!$A$10:$X$1764, 14, FALSE),\"\")","v":""}," ",null,null,null,""]

{"sheet":"Comparison to FY26","index":11,"n_rows":333,"n_cols":16,"rows_kept":333,"cut":false,"hidden":false,"merged":[]}
[null,"Return to Index",null,null,null,null,null,null,null,null,null,null,null,null,null,"More about the data"]
["Massachusetts Department of Elementary and Secondary Education"]
[{"$f":"CYr&\" Chapter 70 Comparison to \"&PYr","v":"FY27 Chapter 70 Comparison to FY26"}]
[]
[]
[]
[null,null,{"$f":"PYr","v":"FY26"},{"$f":"CYr","v":"FY27"},null,{"$f":"PYr","v":"FY26"},{"$f":"CYr","v":"FY27"},null,{"$f":"PYr","v":"FY26"},{"$f":"CYr","v":"FY27"},null,{"$f":"PYr","v":"FY26"},{"$f":"CYr","v":"FY27"}]
[null,"Operating","Foundation ","Foundation ",null,"Foundation","Foundation",null,"Minimum","Minimum",null,"Chapter 70","Chapter 70"]
["LEA","District name","Enrollment","Enrollment","change","Budget","Budget","change per pupil","Contribution","Contribution","change per pupil","aid","aid","change in aid","change in aid per pupil","% change in aid"]
[1,"Abington                     ",{"$f":"VLOOKUP(A10,aidcalc,14,FALSE)","v":2200},{"$f":"VLOOKUP(A10,aidcalc,15,FALSE)","v":2199},{"$f":"D10-C10","v":-1},{"$f":"VLOOKUP(A10,aidcalc,4,FALSE)","v":33501030.561300002},{"$f":"VLOOKUP(A10,aidcalc,9,FALSE)","v":34347724.25632},{"$f":"(G10-F10)/$D10","v":385.03578673033093},{"$f":"VLOOKUP(A10,aidcalc,5,FALSE)","v":18800612},{"$f":"VLOOKUP(A10,aidcalc,10,FALSE)","v":19908440},{"$f":"(J10-I10)/$D10","v":503.78717598908594},{"$f":"VLOOKUP(A10,aidcalc,6,FALSE)","v":14812278},{"$f":"VLOOKUP(A10,aidcalc,25,FALSE)","v":14977203},{"$f":"M10-L10","v":164925},{"$f":"(M10-L10)/$D10","v":75},{"$f":"ROUND(IF(F10>0,(M10-L10)/L10,100),2)","v":0.01}]
[3,"Acushnet                     ",1131,1118,-13,15639642.750000002,15971692.030000001,297.00293381037505,9288698,9654882,327.53488372093022,7461972,7545822,83850,75,0.01]
[5,"Agawam                       ",3463,3437,-26,55345476.310000002,57507213.809999995,628.96057608379181,28135196,29862697,502.61885365144019,27210280,27644517,434237,126.34186790805936,0.02]
[7,"Amesbury                     ",1919,1953,34,28109289.029999997,29502412.490000006,713.3248643113202,20286760,21809838,779.86584741423451,9957529,10104004,146475,75,0.01]
[8,"Amherst                      ",1037,1033,-4,14981907.18,15814005.690000001,805.51646660213135,11896370,12488880,573.58180058083258,6538659,6616134,77475,75,0.01]
[9,"Andover                      ",5464,5370,-94,75901319.687480003,77328687.063940004,265.80398071880836,62087646,63796166,318.16014897579146,15338760,15741510,402750,75,0.03]
[10,"Arlington                    ",6114,6123,9,81515548.272249982,85724971.74188,687.47729374979872,61905761,65397888,570.32941368610159,20246693,20705918,459225,75,0.02]
[14,"Ashland                      ",2837,2818,-19,39209499.740000002,41080212.259999998,663.84404542228378,28541470,29773789,437.3026969481902,11996178,12207528,211350,75,0.02]
[16,"Attleboro                    ",6440,6364,-76,110074456.17000002,113893945.42000003,600.1711580766837,48277999,50667309,375.44154619736014,61796457,63226636,1430179,224.72957259585166,0.02]
[17,"Auburn                       ",2400,2346,-54,34174444.380000003,34749450.580000006,245.10068201193647,18808409,19768081,409.06734867860189,15740489,15916439,175950,75,0.01]
[18,"Avon                         ",588,552,-36,10349488.58,10182039.74,-303.34934782608667,5949758,5979732,54.300724637681157,4399731,4441131,41400,75,0.01]
[20,"Barnstable                   ",5230,5038,-192,91282281.549999982,92442313.109999999,230.25636363636707,68459559,71854310,673.82909884874948,26088377,26466227,377850,75,0.01]
[23,"Bedford                      ",2528,2416,-112,35245066.36964,35093223.97964,-62.848671357616141,29077179,28951910,-51.849751655629142,6667909,6849109,181200,75,0.03]
[24,"Belchertown                  ",2043,1982,-61,27957662.77,28303896.729999997,174.68918264379272,15052180,15826711,390.78254288597378,14735480,14884130,148650,75,0.01]
[25,"Bellingham                   ",2206,2237,31,31820375.339999996,34592550.339999989,1239.2378185069256,22163244,23625313,653.58471166741174,10531532,10967237,435705,194.77201609298166,0.04]
[26,"Belmont                      ",4538,4530,-8,61875520.813840009,64651862.962739997,612.87906156732618,49876878,51418074,340.21986754966889,12935419,13275169,339750,75,0.03]
[27,"Berkley                      ",640,599,-41,8738336.5500000026,8934075.3899999987,326.77602671117882,5232212,5539772,513.45575959933217,4318848,4363773,44925,75,0.01]
[30,"Beverly                      ",4437,4461,24,64124970,67719159.889999986,805.69152432189776,51585549,53954926,531.1313606814615,15674495,16009070,334575,75,0.02]
[31,"Billerica                    ",4999,4983,-16,68911291.640000015,72151964.440000013,650.34573550070184,55154759,57776251,526.08709612683117,21331984,21705709,373725,75,0.02]
[35,"Boston                       ",57616,55975,-1641,1220875806.5343199,1258580176.0585201,673.59302410362125,1007222540,1038328645,555.71424743188925,245309561,249507686,4198125,75,0.02]
[36,"Bourne                       ",1624,1585,-39,24040569.220000006,24467743.599999998,269.51064984226593,19771933,20185888,261.17034700315457,5892775,6011650,118875,75,0.02]
[38,"Boxford                      ",749,728,-21,9386167.0081999991,9544654.4138799999,217.7024803296714,7523174,7685047,222.35302197802199,2044923,2099523,54600,75,0.03]
[40,"Braintree                    ",5121,4970,-151,75740827.680080011,76951750.130320013,243.64636825754548,57604796,60143288,510.76297786720323,21959550,22332300,372750,75,0.02]
[41,"Brewster                     ",419,394,-25,6081078.0800000001,5944818.4399999995,-345.83664974619438,5016889,4904475,-285.31472081218271,1484085,1513635,29550,75,0.02]
[43,"Brimfield                    ",251,252,1,3424747.8600000008,3601518.5399999996,701.47095238094755,1917011,2018377,402.24603174603175,1791067,1809967,18900,75,0.01]
[44,"Brockton                     ",17203,16574,-629,344720845.48999995,352935379.09999996,495.62770664896914,62646528,64908788,136.49450947266803,282074317,288026591,5952274,359.13322070713167,0.02]
[45,"Brookfield                   ",221,213,-8,3273863.3800000004,3203866.4800000004,-328.6239436619714,1445613,1520945,353.67136150234739,1968286,1984261,15975,75,0.01]
[46,"Brookline                    ",6881,6822,-59,95312162.890479997,98953992.458999991,533.83605519202501,78632534,81637044,440.41483435942541,17784893,18296543,511650,75,0.03]
[48,"Burlington                   ",3523,3477,-46,50997674.377630003,52951493.562580004,561.92671410698927,41124446,42983788,534.75467356916886,10503556,10764331,260775,75,0.02]
[49,"Cambridge                    ",7446,7397,-49,129510666.66434997,130485995.78392002,131.85468697715922,106846300,107650947,108.7801811545221,22664367,23219142,554775,75,0.02]
[50,"Canton                       ",3301,3324,23,47358582.59928,49640688.383860007,686.55408681709002,38091394,39968834,564.81347773766549,9502600,9751900,249300,75,0.03]
[51,"Carlisle                     ",576,571,-5,7237676.1200499991,7493326.1847400004,447.72340576182364,5971083,6103524,231.94570928196148,1533774,1576599,42825,75,0.03]
[52,"Carver                       ",1467,1424,-43,21388080.561930001,21694607.700759999,215.25782221207771,11861024,12833218,682.72050561797755,10839443,10946243,106800,75,0.01]
[56,"Chelmsford                   ",5132,5175,43,68619087.450000003,72340954.5,719.20136231883998,55152965,57928714,536.37661835748793,15450424,15838549,388125,75,0.03]
[57,"Chelsea                      ",7029,6708,-321,155824471.33182999,158213129.28880003,356.09092978086403,25069966,26862562,267.23255813953489,130754505,131350567,596062,88.858378056052473,0]
[61,"Chicopee                     ",7198,7057,-141,136705068.66,136875016.69,24.082192149638825,36463911,38338156,265.58665155165085,100241158,100770433,529275,75,0.01]
[63,"Clarksburg                   ",201,196,-5,2998078.92,3011061.5099999993,66.237704081629516,793818,853595,304.98469387755102,2204261,2218961,14700,75,0.01]
[64,"Clinton                      ",2129,2137,8,36558782.019999996,38523372.390000001,919.32165184838777,14710647,15572690,403.38933083762282,21848135,22950682,1102547,515.93214787084696,0.05]
[65,"Cohasset                     ",1408,1396,-12,18191220.125599999,18899522.727249999,507.38008714183354,15007757,15592106,418.58810888252151,3333035,3437735,104700,75,0.03]
[67,"Concord                      ",1892,1837,-55,24461959.490359999,24593938.521120001,71.844872487752525,20181116,20289999,59.272182906913443,4524105,4661880,137775,75,0.03]
[68,"Conway                       ",83,78,-5,1196505.07,1135501.8099999998,-782.09307692308005,987117,936789,-645.23076923076928,656966,662816,5850,75,0.01]
[71,"Danvers                      ",3313,3197,-116,46476053.399999999,45833930.899999999,-200.85157960588052,36728197,37812993,339.31685955583362,10137350,10377125,239775,75,0.02]
[72,"Dartmouth                    ",3203,3181,-22,45395663.050000004,47009657.390000001,507.38583464319277,37451422,38782967,418.59320968248977,11271317,11509892,238575,75,0.02]
[73,"Dedham                       ",2707,2566,-141,40094755.539070003,38674910.382760003,-553.33014665237704,30840581,31906801,415.51831644583007,10145563,10338013,192450,75,0.02]
[74,"Deerfield                    ",261,254,-7,3493016.6899999995,3599915.77,420.86251968504149,2881739,2969931,347.21259842519686,1225219,1244269,19050,75,0.02]
[77,"Douglas                      ",1041,1022,-19,14294446.849999998,14629344.890000002,327.68888454012199,9322034,9866311,532.56066536203525,9195163,9271813,76650,75,0.01]
[78,"Dover                        ",474,454,-20,6012595.3087300006,6029124.488570001,36.407885110132924,4960391,4974028,30.037444933920703,1154911,1188961,34050,75,0.03]
[79,"Dracut                       ",3775,3730,-45,55951048.689999998,58046318.310000002,561.73448257372786,28785919,30656645,501.53512064343164,28136689,28416439,279750,75,0.01]
[82,"Duxbury                      ",2693,2572,-121,35054190.457200006,35156207.320330001,39.664410237167871,28849041,29003871,60.198289269051322,7351890,7544790,192900,75,0.03]
[83,"East Bridgewater             ",1956,1918,-38,27680260.599999998,28408134.669999994,379.49638686131209,15476590,16296001,427.22158498435869,13370869,13514719,143850,75,0.01]
[85,"Eastham                      ",195,197,2,2811123.1,3056888.3199999994,1247.5391878172552,2319176,2521933,1029.2233502538072,556679,571454,14775,75,0.03]
[86,"Easthampton                  ",1565,1533,-32,23886649.57,23938957.649999999,34.121382909326947,15814907,16827061,660.24396607958249,9063542,9178517,114975,75,0.01]
[87,"East Longmeadow              ",2468,2355,-113,34975334.979999997,34286215.829999998,-292.61959660297174,20638923,21652294,430.30615711252653,15669936,15846561,176625,75,0.01]
[88,"Easton                       ",3349,3286,-63,45287684.259999998,46300939.709999993,308.35527997565293,36311272,38111434,547.82775410833835,11511787,11758237,246450,75,0.02]
[89,"Edgartown                    ",393,384,-9,6271711.71,6499194.0899999999,592.40203124999971,5174162,5361835,488.73177083333331,1269737,1298537,28800,75,0.02]
[91,"Erving                       ",175,165,-10,2485223.59,2479188.0699999998,-36.578909090909207,2050310,2045330,-30.181818181818183,603466,615841,12375,75,0.02]
[93,"Everett                      ",8009,7670,-339,172711734.58173999,174880352.35727996,282.74025756714008,45846412,47849900,261.21095176010431,126865323,127440573,575250,75,0]
[94,"Fairhaven                    ",1590,1558,-32,24525650.529999997,25249369.249999993,464.51779204107515,15860855,16358510,319.41912708600768,10036083,10152933,116850,75,0.01]
[95,"Fall River                   ",13106,13241,135,273966514.06,297582870.11000001,1783.5779812702976,43178238,47033824,291.18540895702739,230788276,250549046,19760770,1492.3925685371196,0.09]
[96,"Falmouth                     ",2810,2721,-89,43846641.970000006,43356186.710000001,-180.24816611540072,36173479,35768854,-148.7045203969129,10042889,10246964,204075,75,0.02]
[97,"Fitchburg                    ",5791,5826,35,110532274.87,118652851.60999998,1393.8511397184998,24320887,25866520,265.29917610710606,86211388,92786332,6574944,1128.5520082389289,0.08]
[98,"Florida                      ",47,45,-2,767290.65999999992,762027.87,-116.95088888888714,449313,502830,1189.2666666666667,572487,575862,3375,75,0.01]
[99,"Foxborough                   ",2580,2518,-62,37172001.841999993,37565196.074800007,156.15338872121299,29764062,30991287,487.3808578236696,10082632,10271482,188850,75,0.02]
[100,"Framingham                   ",9532,8948,-584,173968070.02614003,171534104.08094999,-272.01228712450182,81468888,85137964,410.04425569959767,92499182,93170282,671100,75,0.01]
[101,"Franklin                     ",{"$f":"VLOOKUP(A74,aidcalc,14,FALSE)","v":4951},{"$f":"VLOOKUP(A74,aidcalc,15,FALSE)","v":4734},{"$f":"D74-C74","v":-217},{"$f":"VLOOKUP(A74,aidcalc,4,FALSE)","v":68009481.34450002},{"$f":"VLOOKUP(A74,aidcalc,9,FALSE)","v":68032792.415000007},{"$f":"(G74-F74)/$D74","v":4.9241805027432211},{"$f":"VLOOKUP(A74,aidcalc,5,FALSE)","v":52439022},{"$f":"VLOOKUP(A74,aidcalc,10,FALSE)","v":54507737},{"$f":"(J74-I74)/$D74","v":436.99091677228557},{"$f":"VLOOKUP(A74,aidcalc,6,FALSE)","v":30460643},{"$f":"VLOOKUP(A74,aidcalc,25,FALSE)","v":30815693},{"$f":"M74-L74","v":355050},{"$f":"(M74-L74)/$D74","v":75},{"$f":"ROUND(IF(F74>0,(M74-L74)/L74,100),2)","v":0.01}]
[103,"Gardner                      ",2500,2465,-35,45038410.019999996,46507130.32,595.82973630831827,12662453,13487454,334.68600405679513,32375957,33019676,643719,261.14361054766732,0.02]
[105,"Georgetown                   ",1157,1114,-43,15021753.369999997,15137073.930000005,103.51935368043803,12206104,12426278,197.64272890484739,6011432,6094982,83550,75,0.01]
[107,"Gloucester                   ",3009,2952,-57,50710044.196819998,52844391.700600013,723.01744707995078,39344590,41501767,730.7510162601626,12161741,12383141,221400,75,0.02]
[110,"Grafton                      ",2956,2971,15,39402336.330000006,41546834.43,721.8101985863326,27625677,29482229,624.89128239649949,13539728,13762553,222825,75,0.02]
[111,"Granby                       ",641,626,-15,9473831.2400000002,9405693.3199999984,-108.84651757188784,6338906,6621887,452.04632587859425,4929700,4976650,46950,75,0.01]
[114,"Greenfield                   ",1686,1631,-55,28110844.75,28107599.75,-1.9895769466584918,11981726,12549723,348.25076640098098,16748064,16870389,122325,75,0.01]
[117,"Hadley                       ",435,415,-20,6594207.0499999998,6534075.6100000003,-144.89503614457706,5374427,5390612,39,1462046,1493171,31125,75,0.02]
[118,"Halifax                      ",543,538,-5,7476145.6879400015,7659877.793300001,341.50948951672763,4173331,4407182,434.66728624535318,3649183,3689533,40350,75,0.01]
[121,"Hancock                      ",86,79,-7,1251017.0000000002,1236469.67,-184.14341772152287,855049,894467,498.96202531645571,463156,469081,5925,75,0.01]
[122,"Hanover                      ",2472,2366,-106,32549060.685959999,32396385.677299999,-64.528744150464846,25651759,26727018,454.46280642434488,8088931,8266381,177450,75,0.02]
[125,"Harvard                      ",868,855,-13,11305864.01,11655609.100000001,409.05858479532367,9082614,9391727,361.53567251461988,2418691,2482816,64125,75,0.03]
[127,"Hatfield                     ",278,271,-7,3981919.64,4069015.5300000003,321.38704797048018,3285084,3356938,265.14391143911439,969096,989421,20325,75,0.02]
[128,"Haverhill                    ",8435,8240,-195,149713124.65000004,154969203.75,637.87367718446171,55493490,58542162,369.98446601941748,94219635,96427042,2207407,267.88919902912619,0.02]
[131,"Hingham                      ",3528,3481,-47,46634192.56592001,48104960.021279998,422.51291449583107,38473209,39686592,348.5731111749497,9439417,9700492,261075,75,0.03]
[133,"Holbrook                     ",1394,1383,-11,23413602.22656,24189420.925409999,560.96796735357805,10616613,11032723,300.87490961677514,12796989,13156698,359709,260.09327548806942,0.03]
[135,"Holland                      ",153,175,22,2321784.9899999998,2645254.84,1848.3991428571435,1507847,1609921,583.28,1052634,1065759,13125,75,0.01]
[136,"Holliston                    ",2577,2542,-35,33988555.889320008,35077456.984029993,428.36392396144174,26548599,27908236,534.86900078678207,9575140,9765790,190650,75,0.02]
[137,"Holyoke                      ",5804,5620,-184,120721754.33999999,125376814.92000002,828.30259430605486,13957634,14778343,146.03362989323844,106764120,110598472,3834352,682.26903914590753,0.04]
[138,"Hopedale                     ",883,885,2,12503191.355299996,13165360.090000002,748.21325954802876,7211367,7772067,633.5593220338983,6443660,6510035,66375,75,0.01]
[139,"Hopkinton                    ",4208,4228,20,55425077.173420005,58274271.760200001,673.88708296594052,45725689,47107356,326.78973509933775,10864019,11181119,317100,75,0.03]
[141,"Hudson                       ",2414,2346,-68,37349315.827400006,37694133.730259992,146.98120326512611,23481576,24750368,540.83205456095482,13867740,14043690,175950,75,0.01]
[142,"Hull                         ",700,675,-25,10469817.630829999,10380828.725029999,-131.83541599999975,8637600,8564184,-108.76444444444445,4180024,4230649,50625,75,0.01]
[144,"Ipswich                      ",1534,1486,-48,21484399.094409999,21735094.242119998,168.70467544414484,17724629,17931453,139.18169582772543,4538746,4650196,111450,75,0.02]
[145,"Kingston                     ",1202,1139,-63,16585038.479599999,16109128.8708,-417.83108762071959,10539421,10977022,384.19754170324848,6045617,6131042,85425,75,0.01]
[149,"Lawrence                     ",15214,14894,-320,333930425.07999992,349301506.88999999,1032.0318121391206,16318715,17109259,53.078017993823018,317611710,332192248,14580538,978.95380690210823,0.05]
[150,"Lee                          ",537,531,-6,8801759.2699999996,9200604.0700000003,751.12015065913511,7261451,7560623,563.4124293785311,2307885,2347710,39825,75,0.02]
[151,"Leicester                    ",1360,1356,-4,21685353.440000005,23075674.879999999,1025.3107964601725,11866934,12302450,321.17699115044246,11448367,11550067,101700,75,0.01]
[152,"Lenox                        ",441,452,11,6520538.4500000002,6819131.9299999997,660.60504424778651,5379444,5625784,545,1461523,1495423,33900,75,0.02]
[153,"Leominster                   ",6122,6098,-24,111313888.00000001,116573692.46999998,862.54582978025076,38590697,40416037,299.33420793702851,72723191,76157655,3434464,563.21154476877666,0.05]
[154,"Leverett                     ",96,95,-1,1304428.1500000001,1363486.12,621.66284210526283,1076153,1088545,130.44210526315788,422288,429413,7125,75,0.02]
[155,"Lexington                    ",6816,6594,-222,94617837.13944,95900340.861210018,194.49555986806465,78059716,79117781,160.45875037913254,19344035,19838585,494550,75,0.03]
[157,"Lincoln                      ",610,557,-53,8265928.5509799998,7681767.1268799994,-1048.7637775583489,6819391,6337458,-865.22980251346496,1446538,1488313,41775,75,0.03]
[158,"Littleton                    ",1601,1579,-22,20480046,21209266.969999999,461.8245535148821,16667629,17477691,513.02216592780246,5259250,5377675,118425,75,0.02]
[159,"Longmeadow                   ",2729,2678,-51,35588989.330000006,36519529.629999995,347.47584017923435,28680259,29526327,315.93278566094102,7791911,7992761,200850,75,0.03]
[160,"Lowell                       ",16836,16778,-58,330445792.43000001,349052320.75999999,1108.9836887590882,68956678,73085908,246.10978662534271,261489114,275966413,14477299,862.87394206699253,0.06]
[161,"Ludlow                       ",2201,2186,-15,34386677.929999992,35222182.710000001,382.20712717292253,19968467,21458115,681.44922232387921,15020153,15184103,163950,75,0.01]
[162,"Lunenburg                    ",1603,1599,-4,22073945.75,23089579.619999997,635.16814884302516,13334631,14135611,500.92557848655412,9229410,9349335,119925,75,0.01]
[163,"Lynn                         ",18512,18077,-435,384629298.81999999,398807328.27000004,784.31318526304403,67502992,71472168,219.57050395530231,317126307,327335160,10208853,564.74265641422801,0.03]
[164,"Lynnfield                    ",2196,2174,-22,28903113.111520004,30099223.853599995,550.18893379944427,23204609,24071411,398.71297148114076,6502690,6665740,163050,75,0.03]
[165,"Malden                       ",6927,6680,-247,130437793.37532003,132410256.17298003,295.2788619251487,60667748,64123681,517.35523952095809,69770045,70271045,501000,75,0.01]
[167,"Mansfield                    ",3272,3237,-35,45824586.929839998,47441613.832800001,499.54491904850244,36857964,38096357,382.574297188755,20336797,20579572,242775,75,0.01]
[168,"Marblehead                   ",2552,2401,-151,33445073.459999997,33000504.549999997,-185.15989587671811,27592185,27225417,-152.75635152019993,7006279,7186354,180075,75,0.03]
[169,"Marion                       ",372,344,-28,5064172.8500000006,4924376.1999999993,-406.38561046512007,4004960,4062611,167.59011627906978,1250902,1276702,25800,75,0.02]
[170,"Marlborough                  ",5378,5041,-337,97477474.835680008,95710135.489779994,-350.59300652648562,45576532,47097956,301.80995834159887,51900943,52279018,378075,75,0.01]
[171,"Marshfield                   ",3620,3545,-75,51268162.588479996,50998622.837800011,-76.033780163606394,41905509,42073864,47.490832157968967,16133973,16399848,265875,75,0.02]
[172,"Mashpee                      ",1405,1367,-38,21964764.180000003,22069624.379999999,76.708266276514649,18120931,18207440,63.283833211411853,5216280,5318805,102525,75,0.02]
[173,"Mattapoisett                 ",364,345,-19,4742122.1000000006,4665496.2399999984,-222.10394202899187,3912251,3849034,-183.23768115942028,1099653,1125528,25875,75,0.02]
[174,"Maynard                      ",1265,1265,0,18638398.791749999,19485079.486799996,669.31280241106515,13605109,14387405,618.41581027667985,5983800,6078675,94875,75,0.02]
[175,"Medfield                     ",2374,2340,-34,31077353.328160003,31890716.881099995,347.59126194016767,25638817,26309842,286.7628205128205,7255778,7431278,175500,75,0.02]
[176,"Medford                      ",4511,4486,-25,76664491.980000004,80126099.611029997,771.6468192220226,60826753,64178308,747.11435577351756,18554446,18890896,336450,75,0.02]
[177,"Medway                       ",2145,2121,-24,29200155.629280001,30303728.297169995,520.30771706270332,21596243,22827269,580.39886845827436,11364627,11523702,159075,75,0.01]
[178,"Melrose                      ",3985,3908,-77,54259488.060880005,56067589.012019999,462.66656886898517,43224298,45191733,503.43781985670421,13285756,13578856,293100,75,0.02]
[181,"Methuen                      ",6767,6553,-214,120570223.17999999,124723583.64,633.8105386845732,49535858,52046906,383.19059972531664,71034365,72676678,1642313,250.62002136426065,0.02]
[182,"Middleborough                ",3000,3022,22,45765962.310000002,48396103.460000001,870.33128722700144,25060283,26329701,420.05890138980806,23101805,23328455,226650,75,0.01]
[184,"Middleton                    ",678,643,-35,8953831.1144600008,8820111.6593199987,-207.9618275894278,7386911,7276592,-171.56920684292379,1943879,1992104,48225,75,0.02]
[185,"Milford                      ",4791,4585,-206,86368278.706520006,86403728.090000004,7.7315994503811378,31831621,33581632,381.68178844056706,54536658,54880533,343875,75,0.01]
[186,"Millbury                     ",1583,1574,-9,23480532.759999994,24323216.77,535.37738881830069,15188966,16403273,771.47839898348161,9261393,9379443,118050,75,0.01]
[187,"Millis                       ",1081,1091,10,14821764.156880002,15646696.541280001,756.12500861594765,12227955,12908525,623.80384967919338,5267116,5348941,81825,75,0.02]
[189,"Milton                       ",4355,4354,-1,58361210.542160012,61112912.354039997,631.99398527330845,46814490,48893991,477.60702802021132,12776644,13103194,326550,75,0.03]
[191,"Monson                       ",775,779,4,11784464.360000001,12112206.459999999,420.72156611039509,6807381,7025493,279.98973042362002,7867879,7926304,58425,75,0.01]
[196,"Nahant                       ",245,252,7,3159072.39,3413694.24,1010.404166666667,2606235,2816297,833.57936507936506,622905,641805,18900,75,0.03]
[197,"Nantucket                    ",1701,1627,-74,27110453.819999997,27241613.429999992,80.614388444988123,22366124,22474331,66.507068223724644,4838877,4960902,122025,75,0.03]
[198,"Natick                       ",5287,5218,-69,70521736.71668002,72661462.079600006,410.06618683786627,56626783,59488956,548.51916443081643,14509257,14900607,391350,75,0.03]
[199,"Needham                      ",{"$f":"VLOOKUP(A138,aidcalc,14,FALSE)","v":5523},{"$f":"VLOOKUP(A138,aidcalc,15,FALSE)","v":5465},{"$f":"D138-C138","v":-58},{"$f":"VLOOKUP(A138,aidcalc,4,FALSE)","v":74618544.113240004},{"$f":"VLOOKUP(A138,aidcalc,9,FALSE)","v":77008161.460039988},{"$f":"(G138-F138)/$D138","v":437.25843491308041},{"$f":"VLOOKUP(A138,aidcalc,5,FALSE)","v":61560299},{"$f":"VLOOKUP(A138,aidcalc,10,FALSE)","v":63531733},{"$f":"(J138-I138)/$D138","v":360.73815187557182},{"$f":"VLOOKUP(A138,aidcalc,6,FALSE)","v":14721434},{"$f":"VLOOKUP(A138,aidcalc,25,FALSE)","v":15131309},{"$f":"M138-L138","v":409875},{"$f":"(M138-L138)/$D138","v":75},{"$f":"ROUND(IF(F138>0,(M138-L138)/L138,100),2)","v":0.03}]
[201,"New Bedford                  ",14156,14160,4,295054094.75999993,314496325.39000005,1373.0388862994432,40756053,43254588,176.45021186440678,254298042,271241737,16943695,1196.5886299435028,7.0000000000000007E-2]
[204,"Newburyport                  ",2037,1985,-52,26732481.829999998,27238492.659999996,254.91729471032656,22054297,22471756,210.30680100755669,6192935,6341810,148875,75,0.02]
[207,"Newton                       ",11630,11468,-162,163854442.56515002,169131329.11532003,460.14008982996199,135179915,139533347,379.61562608998952,30401034,31261134,860100,75,0.03]
[208,"Norfolk                      ",1029,1004,-25,13116177.873539999,13448983.686729999,331.479893615538,10294403,10764396,468.12051792828686,3873979,3949279,75300,75,0.02]
[209,"North Adams                  ",1254,1192,-62,22791831.230000004,22873270.939999998,68.321904362410606,6084549,6331531,207.1996644295302,16707282,16796682,89400,75,0.01]
[210,"Northampton                  ",2602,2499,-103,37433634.749999993,37355374.600000009,-31.316586634647301,30204769,30818184,245.46418567426971,8619389,8806814,187425,75,0.02]
[211,"North Andover                ",4433,4403,-30,61037819.240000017,63468657.769999996,552.08687940040397,49916865,52361642,555.25255507608449,13071489,13401714,330225,75,0.03]
[212,"North Attleborough           ",3838,3719,-119,52893827.050000004,53752172.830000006,230.80015595590245,36308302,38296559,534.62140360311912,22282527,22561452,278925,75,0.01]
[213,"Northborough                 ",1587,1623,36,20570416.460000001,22109021.609999996,948.00070856438367,16970593,17861692,549.0443622920518,4644408,4766133,121725,75,0.03]
[214,"Northbridge                  ",1900,1886,-14,28797160.489999998,29934557.589999996,603.07375397666897,16088295,16963175,463.88123011664896,16390353,16531803,141450,75,0.01]
[215,"North Brookfield             ",551,561,10,8296193.1099999985,9042500.3499999996,1330.315935828879,3734618,4010247,491.31729055258467,5046966,5089041,42075,75,0.01]
[217,"North Reading                ",2262,2271,9,30731201.128249995,32523143.82144,789.05446639806462,24625659,26732590,927.75473359753414,8066587,8236912,170325,75,0.02]
[218,"Norton                       ",2143,2104,-39,30090005.920000002,30928801.829999998,398.66725760456103,23659419,24826897,554.88498098859316,13707982,13865782,157800,75,0.01]
[219,"Norwell                      ",2115,2083,-32,27721329.640999999,28540632.825939994,393.32846132500981,22870097,23546022,324.49591934709554,5549338,5705563,156225,75,0.03]
[220,"Norwood                      ",3637,3540,-97,59825304.49205,60923118.738080002,310.11701865254315,41305173,43524945,627.0542372881356,18520131,18785631,265500,75,0.01]
[221,"Oak Bluffs                   ",390,383,-7,6005152.3400000008,6199181.6200000001,506.60386422976325,4954251,5114325,417.94778067885119,2053849,2082574,28725,75,0.01]
[223,"Orange                       ",511,523,12,9107782.0099999998,9347133.2100000009,457.65047801147443,2457008,2507516,96.573613766730404,7047875,7087100,39225,75,0.01]
[224,"Orleans                      ",150,154,4,2277162.9099999997,2343511.5999999996,430.83564935064896,1878659,1933397,355.44155844155841,492134,503684,11550,75,0.02]
[226,"Oxford                       ",1523,1457,-66,24166880.359999996,23801612.039999999,-250.69891557995646,12243821,12917509,462.38023335621142,12453663,12562938,109275,75,0.01]
[227,"Palmer                       ",1219,1177,-42,20132069.309999999,20520407.920000002,329.93934579439519,7960370,8448110,414.39252336448595,12171699,12259974,88275,75,0.01]
[229,"Peabody                      ",5850,5746,-104,98600551.810000002,101220183.82000001,455.90532718412902,60475751,62683035,384.14270797076227,38124801,38555751,430950,75,0.01]
[230,"Pelham                       ",65,66,1,994542.49000000011,1100951.8599999999,1612.2631818181783,701943,742739,618.12121212121212,292599,358213,65614,994.15151515151513,0.22]
[231,"Pembroke                     ",2437,2387,-50,33498160.487529997,34261298.371089995,319.70585821533228,26492804,27714122,511.6539589442815,14632674,14811699,179025,75,0.01]
[234,"Petersham                    ",100,83,-17,1523839.1400000001,1303394.22,-2655.962891566267,809811,723389,-1041.2289156626507,714028,720253,6225,75,0.01]
[236,"Pittsfield                   ",5576,5396,-180,104024895.27,102927840.99999999,-203.30879725722957,35574534,37502673,357.32746478873241,68450361,68855061,404700,75,0.01]
[238,"Plainville                   ",650,634,-16,9318021.790000001,9110344.2199999988,-327.56714511041349,7105163,7467644,571.73659305993692,3190373,3237923,47550,75,0.01]
[239,"Plymouth                     ",7381,7247,-134,115252249.87069999,116667017.01678,195.22107714640777,92866994,96250289,466.85456050779635,30162897,30706422,543525,75,0.02]
[240,"Plympton                     ",258,264,6,3562008.9879999999,3832357.2770500001,1024.0465494318191,2543035,2617477,281.97727272727275,1145742,1239922,94180,356.74242424242425,0.08]
[242,"Provincetown                 ",94,79,-15,1658443.61,1493180.93,-2091.9326582278504,1368216,1231874,-1725.8481012658228,328599,334524,5925,75,0.02]
[243,"Quincy                       ",9851,9674,-177,177359599.78528002,183203446.08495995,604.07755837088428,135165569,143434414,854.74932809592724,47604553,48330103,725550,75,0.02]
[244,"Randolph                     ",3265,3218,-47,60202189.727940001,63464836.434990004,1013.874054397142,29584825,31461041,583.0379117464264,30617365,32003795,1386430,430.83592293349909,0.05]
[246,"Reading                      ",3663,3783,120,48771409.240159996,52462148.049119994,975.61163334919331,40236412,42173548,512.06344171292631,12326033,12609758,283725,75,0.02]
[248,"Revere                       ",7962,7639,-323,159415532.16808999,161211763.5869,235.13960188637387,52200934,55820962,473.88768163372168,107214598,107787523,572925,75,0.01]
[249,"Richmond                     ",123,123,0,1789484.8800000001,1875388.28,698.40162601625946,1476325,1547195,576.17886178861784,553593,562818,9225,75,0.02]
[250,"Rochester                    ",473,452,-21,6154033.3700000001,6139467.4500000002,-32.225486725663551,4242497,4486494,539.81637168141594,2537232,2571132,33900,75,0.01]
[251,"Rockland                     ",2203,2178,-25,37854417.122810006,39192538.375899993,614.38074062901137,17961039,18983640,469.51377410468319,19893378,20208898,315520,144.86685032139579,0.02]
[252,"Rockport                     ",520,516,-4,7625722.318,7744376.1380000003,229.94926356589204,6291221,6389110,189.70736434108528,1726466,1765166,38700,75,0.02]
[253,"Rowe                         ",41,38,-3,704404.78000000014,750141.88,1203.6078947368385,581134,618867,992.97368421052636,156995,159845,2850,75,0.02]
[258,"Salem                        ",4278,4335,57,79288061.75999999,84299912.020000011,1156.13616147636,48249759,51401175,726.97024221453285,31038303,32898737,1860434,429.16585928489042,0.06]
[261,"Sandwich                     ",2162,2124,-38,29672861.210000001,30358178.609999996,322.65414312617457,24480111,25045497,266.18926553672316,8063976,8223276,159300,75,0.02]
[262,"Saugus                       ",3018,2943,-75,50782365.639999993,50951259.570000008,57.388355419644782,34611764,36868897,766.94971117906903,16170602,16391327,220725,75,0.01]
[263,"Savoy                        ",36,37,1,599224.78999999992,550415.80000000005,-1319.1618918918884,419808,403867,-430.83783783783781,531339,534114,2775,75,0.01]
[264,"Scituate                     ",2716,2697,-19,35753574.680160008,37004547.377539992,463.83859747125842,29496699,30528751,382.66666666666669,7234435,7436710,202275,75,0.03]
[265,"Seekonk                      ",2040,2018,-22,27170412.23,28113390.649999999,467.283657086223,20374751,21373614,494.9767096134787,8276778,8428128,151350,75,0.02]
[266,"Sharon                       ",3420,3348,-72,46223465.281550005,47116523.199549995,266.74370310632924,36996923,38337600,400.44115890083634,11377366,11628466,251100,75,0.02]
[269,"Sherborn                     ",398,393,-5,5048450.2009800002,5207058.5938899992,403.58369697200766,4164971,4295823,332.95674300254456,948465,977940,29475,75,0.03]
[271,"Shrewsbury                   ",5945,5837,-108,80350322.87999998,82737349.679999992,408.94754154531643,64461566,67575060,533.40654445776943,22487010,22924785,437775,75,0.02]
[272,"Shutesbury                   ",106,101,-5,1485214.6700000002,1425997.22,-586.31138613861572,941768,961885,199.17821782178217,672182,679757,7575,75,0.01]
[273,"Somerset                     ",1606,1502,-104,22010520.120000001,21569616.309999999,-293.5444806924117,11879285,12247874,245.39880159786949,11039877,11152527,112650,75,0.01]
[274,"Somerville                   ",5155,5080,-75,95463549.588399991,98699357.768680006,636.97011422834942,78757428,81426970,525.50039370078741,22553482,22934482,381000,75,0.02]
[275,"Southampton                  ",476,479,3,6438163.6200000001,6669767.8999999994,483.51624217118859,4736509,4991288,531.89770354906057,2742798,2778723,35925,75,0.01]
[276,"Southborough                 ",1218,1241,23,15401749.173959998,16436576.661360001,833.86582385173472,12482147,13084365,485.26833199033035,3473063,3566138,93075,75,0.03]
[277,"Southbridge                  ",2242,2221,-21,44392355.590000004,47044351.420000002,1194.0548536695173,10094448,10602631,228.80819450697885,34297908,36441720,2143812,965.24628545700136,0.06]
[278,"South Hadley                 ",1798,1751,-47,26607493.200000003,26750270.849999998,81.540633923469329,16689854,17487629,455.61107938320959,11136899,11268224,131325,75,0.01]
[281,"Springfield                  ",28380,28270,-110,600170350.39999998,640504628.06999993,1426.7519515387321,54330699,57346053,106.66268128758401,545839651,583158575,37318924,1320.0892819243013,7.0000000000000007E-2]
[284,"Stoneham                     ",2511,2498,-13,35320286.730629995,36759959.435520001,576.33014607286043,27572799,28768336,478.59767814251398,7891703,8079053,187350,75,0.02]
[285,"Stoughton                    ",3860,3656,-204,65412011.168519996,64112449.850499995,-355.45987910831536,33998047,36135976,584.77270240700216,31413964,31688164,274200,75,0.01]
[287,"Sturbridge                   ",827,793,-34,10928183.49,10921745.060000002,-8.1190794451422938,6377304,6692501,397.47414880201768,5304154,5363629,59475,75,0.01]
[288,"Sudbury                      ",2492,2507,15,30743352.286760002,32224355.789999999,590.74730883127108,24941706,26585094,655.51974471479855,6192244,6380269,188025,75,0.03]
[289,"Sunderland                   ",142,145,3,2093428.05,2272880.0099999998,1237.5997241379291,1712476,1805015,638.20000000000005,931556,942431,10875,75,0.01]
[290,"Sutton                       ",1280,1245,-35,17087859.710000001,17294423.279999997,165.91451405622215,14097484,14267899,136.87951807228916,5997981,6091356,93375,75,0.02]
[291,"Swampscott                   ",2055,2036,-19,28287967.390000001,28972097.420000002,336.01671414538367,22504337,23020797,253.664047151277,5783630,5951300,167670,82.352652259332018,0.03]
[292,"Swansea                      ",1999,1961,-38,27821964.430000003,28217787.699999999,201.84766445690761,18113997,19146600,526.56960734319227,11323738,11470813,147075,75,0.01]
[293,"Taunton                      ",{"$f":"VLOOKUP(A202,aidcalc,14,FALSE)","v":8457},{"$f":"VLOOKUP(A202,aidcalc,15,FALSE)","v":8364},{"$f":"D202-C202","v":-93},{"$f":"VLOOKUP(A202,aidcalc,4,FALSE)","v":153498975.16},{"$f":"VLOOKUP(A202,aidcalc,9,FALSE)","v":160533555.88},{"$f":"(G202-F202)/$D202","v":841.05460545193671},{"$f":"VLOOKUP(A202,aidcalc,5,FALSE)","v":48056845},{"$f":"VLOOKUP(A202,aidcalc,10,FALSE)","v":50916140},{"$f":"(J202-I202)/$D202","v":341.8573648971784},{"$f":"VLOOKUP(A202,aidcalc,6,FALSE)","v":105442130},{"$f":"VLOOKUP(A202,aidcalc,25,FALSE)","v":109617416},{"$f":"M202-L202","v":4175286},{"$f":"(M202-L202)/$D202","v":499.19727403156384},{"$f":"ROUND(IF(F202>0,(M202-L202)/L202,100),2)","v":0.04}]
[295,"Tewksbury                    ",3274,3316,42,44323386.889999993,46625859.059999995,694.35228287092934,35797036,37685831,569.60042219541617,14642447,14891147,248700,75,0.02]
[296,"Tisbury                      ",393,364,-29,6110458.1700000009,5771702.3499999987,-930.64785714286313,5041128,4761655,-767.78296703296701,1736199,1763499,27300,75,0.02]
[298,"Topsfield                    ",552,534,-18,6879714.2048400007,7006867.7280499991,238.1152120037423,5572112,5650936,147.61048689138576,1635187,1675237,40050,75,0.02]
[300,"Truro                        ",155,140,-15,2145078.7199999997,2005803.2399999998,-994.82485714285701,1769689,1654788,-820.72142857142853,470826,481326,10500,75,0.02]
[301,"Tyngsborough                 ",1567,1581,14,21820276.790000003,23223406.279999997,887.49493358633435,15537955,16393254,540.98608475648325,8055660,8174235,118575,75,0.01]
[304,"Uxbridge                     ",1604,1619,15,22882209.760000002,24071934.779999994,734.85177269919211,17241412,18825113,978.1970352069178,10102020,10223445,121425,75,0.01]
[305,"Wakefield                    ",3397,3415,18,46900988.453170016,49378390.627280012,725.4471959326487,37837354,39741317,557.52942898975107,9402623,9658748,256125,75,0.03]
[306,"Wales                        ",104,113,9,1672912.0100000002,1877628.0699999998,1811.6465486725629,662192,741752,704.07079646017701,1203868,1212343,8475,75,0.01]
[307,"Walpole                      ",3589,3598,9,48588432.383949995,50898857.362050004,642.14146139522211,40085457,41289558,334.65842134519175,10801800,11071650,269850,75,0.02]
[308,"Waltham                      ",5815,5776,-39,111848740.7475,116139540.79914001,742.86704495152424,85467815,90065983,796.08171745152356,26380926,26814126,433200,75,0.02]
[309,"Ware                         ",1213,1192,-21,21252179.18,21265037.789999999,10.787424496643796,6508279,6770588,220.05788590604027,14743900,14833300,89400,75,0.01]
[310,"Wareham                      ",2220,2258,38,38595665.049999997,41004971.409999996,1067.0090168290519,24257628,25984418,764.74313551815771,16793832,16963182,169350,75,0.01]
[312,"Warwick",{"$f":"VLOOKUP(A215,aidcalc,14,FALSE)","v":46},{"$f":"VLOOKUP(A215,aidcalc,15,FALSE)","v":58},{"$f":"D215-C215","v":12},{"$f":"VLOOKUP(A215,aidcalc,4,FALSE)","v":594996.94999999995},{"$f":"VLOOKUP(A215,aidcalc,9,FALSE)","v":904734.07},{"$f":"(G215-F215)/$D215","v":5340.2951724137929},{"$f":"VLOOKUP(A215,aidcalc,5,FALSE)","v":490873},{"$f":"VLOOKUP(A215,aidcalc,10,FALSE)","v":568003},{"$f":"(J215-I215)/$D215","v":1329.8275862068965},{"$f":"VLOOKUP(A215,aidcalc,6,FALSE)","v":392384},{"$f":"VLOOKUP(A215,aidcalc,25,FALSE)","v":396734},{"$f":"M215-L215","v":4350},{"$f":"(M215-L215)/$D215","v":75},{"$f":"ROUND(IF(F215>0,(M215-L215)/L215,100),2)","v":0.01}]
[314,"Watertown                    ",2825,2816,-9,45294898.797560006,46749581.240119986,516.57757193181101,37368292,38568405,426.17649147727275,8513866,8725066,211200,75,0.02]
[315,"Wayland                      ",2700,2676,-24,35459917.689330004,36737120.222759999,477.28046839685919,28984466,30308124,494.64050822122573,7949860,8150560,200700,75,0.03]
[316,"Webster                      ",1916,1966,50,35685383.880000003,39242117.710000001,1809.1219888097651,14323563,14982578,335.20600203458798,21361821,24259540,2897719,1473.9160732451678,0.14000000000000001]
[317,"Wellesley                    ",3982,3915,-67,53406327.744700007,54901421.593699984,381.88859489143732,44060220,45293673,315.0582375478927,10942336,11235961,293625,75,0.03]
[318,"Wellfleet                    ",95,93,-2,1341102.3700000001,1445799.54,1125.7760215053756,1106410,1192785,928.76344086021504,327563,334538,6975,75,0.02]
[321,"Westborough                  ",3770,3610,-160,51329832.729999997,51163571.100000001,-46.055853185594245,40916886,42209946,358.1883656509695,12875256,13146006,270750,75,0.02]
[322,"West Boylston                ",839,833,-6,12268268.470000003,12721018.73,543.5177190876326,9365042,9845468,576.74189675870343,3370195,3432670,62475,75,0.02]
[323,"West Bridgewater             ",1141,1151,10,16002951.560000002,16912875.629999999,790.55088618592231,9541306,10396554,743.04778453518679,7102423,7188748,86325,75,0.01]
[325,"Westfield                    ",4730,4665,-65,80715329.109999985,83297544.069999993,553.52946623794389,35572719,37205507,350.00814576634514,45142610,46092037,949427,203.52132904608789,0.02]
[326,"Westford                     ",4511,4441,-70,58121126.024580009,60365431.103199989,505.36029691960806,45508445,47386640,422.92163927043458,18982269,19315344,333075,75,0.02]
[327,"Westhampton                  ",91,80,-11,1313472.22,1247229.23,-828.03737499999988,1083615,1028964,-683.13750000000005,514848,520848,6000,75,0.01]
[330,"Weston                       ",2045,2055,10,27475067.223499995,29003216.312879998,743.62486101216712,22666930,23927653,613.49051094890513,4962659,5116784,154125,75,0.03]
[331,"Westport                     ",1557,1550,-7,22861328.349999998,23725740.499999996,557.68525806451521,17959571,19035294,694.01483870967741,5829452,5945702,116250,75,0.02]
[332,"West Springfield             ",4111,3945,-166,72601734.330000013,72848167.090000004,62.467112801011524,25460932,26746709,325.9257287705957,47140802,47436677,295875,75,0.01]
[335,"Westwood                     ",2844,2836,-8,37402634.289359994,39111176.240100004,602.44779645275366,30857173,32084386,432.72672778561355,7796626,8009326,212700,75,0.03]
[336,"Weymouth                     ",5832,5898,66,95705608.23864001,101624016.37731999,1003.4601794981318,73567640,77273720,628.36215666327564,30801983,31244333,442350,75,0.01]
[337,"Whately                      ",92,100,8,1207816.8600000001,1424476.9000000001,2166.6004000000003,966499,1082145,1156.46,351983,361349,9366,93.66,0.03]
[340,"Williamsburg                 ",119,109,-10,1785677.7,1749761.4900000002,-329.50651376146538,1318975,1337813,172.8256880733945,875431,883606,8175,75,0.01]
[342,"Wilmington                   ",2778,2805,27,37975001.813760005,40162342.191840008,779.80049129411873,31329376,33133932,643.33547237076652,12602570,12812945,210375,75,0.02]
[343,"Winchendon                   ",1286,1221,-65,21245551.259999998,21259695.539999999,11.58417690417788,6850740,7229420,310.13923013923016,14394811,14486386,91575,75,0.01]
[344,"Winchester                   ",4398,4347,-51,58362713.363759995,60361166.947999999,459.73167339314574,47287902,48960912,384.86542443064184,11388803,11714828,326025,75,0.03]
[346,"Winthrop                     ",1996,1999,3,31680910.483599998,32954210.573959999,636.96852944472278,21322094,22617516,648.03501750875432,10448196,10598121,149925,75,0.01]
[347,"Woburn",4600,4416,-184,75539782.354959995,75547563.502450004,1.7620352106000148,60461178,62326740,422.45516304347825,15419389,15750589,331200,75,0.02]
[348,"Worcester                    ",27173,27183,10,547442458.76000011,581293882.04999995,1245.3159434205145,135663200,143531666,289.46275245557888,411779259,437762216,25982957,955.85318029650887,0.06]
[349,"Worthington",122,117,-5,1728156.65,1757174.0299999998,248.01179487179391,1251748,1354641,879.42735042735046,495642,504417,8775,75,0.02]
[350,"Wrentham                     ",934,965,31,12166663.342719998,13110944.070250001,978.52925132642758,9726662,10743879,1054.1108808290155,4163597,4235972,72375,75,0.02]
[406,"Northampton Smith            ",139,126,-13,4432463.1100000013,4055138.3600000003,-2994.6408730158805,3576504,3345489,-1833.452380952381,963771,973221,9450,75,0.01]
[600,"Acton Boxborough             ",4948,4877,-71,67984250.268440008,70066019.896239996,426.85454742669424,54629970,57043353,494.84990773016199,17200971,17566746,365775,75,0.02]
[603,"Hoosac Valley",1145,1121,-24,19020586.490000002,19737213.429999996,639.27470115967344,6761402,7102142,303.96074933095451,12259184,12635071,375887,335.31400535236395,0.03]
[605,"Amherst Pelham               ",1249,1274,25,18849215.560000006,20136499.099999994,1010.4266405023453,14679318,15606029,727.4026687598116,10072810.999999108,10168360.999999108,95550,75,0.01]
[610,"Ashburnham Westminster       ",2225,2184,-41,30580474.560000002,31231726.960000005,298.19249084249185,15663508,16378039,327.16620879120882,16262637,16426437,163800,75,0.01]
[615,"Athol Royalston              ",1789,1770,-19,30499121.049999993,31581407.199999999,611.46110169491863,4978559,5286343,173.88926553672317,25520562,26295064,774502,437.57175141242936,0.03]
[616,"Ayer Shirley",1759,1694,-65,25842986.010000002,25470599.260000002,-219.82688902007084,16955476,17956001,590.62868949232586,8993333,9120383,127050,75,0.01]
[618,"Berkshire Hills              ",905.99999999094007,881.99999999999989,-23.999999990940182,15467725.129845321,15424147.560000001,-49.40767556158805,12390650,12724922,378.99319727891162,3534167.9999986412,3600317.9999986412,66150,75.000000000000014,0.02]
[620,"Berlin Boylston              ",1056,1063,7,14031141.919999998,14577130.409999996,513.62981185324395,10881875,11565684,643.28222013170273,3149921,3229646,79725,75,0.03]
[622,"Blackstone Millville         ",1612,1563,-49,23905844.130000003,24135631.609999999,147.01694177862873,11825836,12501304,432.1612284069098,12080008,12197233,117225,75,0.01]
[625,"Bridgewater Raynham          ",5748,5595,-153,81321444.98999998,82500805.920000002,210.78836997319428,47111455,49605389,445.74334226988384,34209990,34629615,419625,75,0.01]
[632,"Chesterfield Goshen",104,113,9,1502410.1700000002,1630893.5299999998,1137.0208849557489,1079394,1183737,923.38938053097343,796622,805097,8475,75,0.01]
[635,"Central Berkshire            ",1492,1440.0000000143998,-51.999999985600198,23071177.270000007,23178394.800231785,74.456618215767648,13012711,13587327,399.03888888489854,10080937,10188937.00000108,108000.00000108033,75.000000000000242,0.01]
[640,"Concord Carlisle             ",1232,1182,-50,17837825.063500002,17851217.237909999,11.330096793567444,14716205,14679775,-30.820642978003384,3610473,3699123,88650,75,0.02]
[645,"Dennis Yarmouth              ",3324,3242.0000000000005,-81.999999999999545,57336713.649999991,58523513.620000005,366.07031770512447,43380429,44609451,379.09376927822325,13956285,14199435,243150,74.999999999999986,0.02]
[650,"Dighton Rehoboth             ",2579,2538,-41,35471876.099999994,36682318.539999999,476.92767533491138,25042984,25969444,365.03546099290782,14005428,14195778,190350,75,0.01]
[655,"Dover Sherborn               ",1123,1115,-8,15210777.810269997,15793452.616179995,522.57830126457281,12548892,13029598,431.12645739910312,2942852,3026477,83625,75,0.03]
[658,"Dudley Charlton              ",3299,3251,-48,48781145.310000002,50262588.379999995,455.68842509996705,23854252,26234163,732.0550599815441,25823037,26066862,243825,75,0.01]
[660,"Nauset                       ",1150,1096,-54,17601486.190000001,17566088.100000001,-32.297527372262635,14521226,14492023,-26.645072992700729,4000728.9999996317,4082928.9999996317,82200,75,0.02]
[662,"Farmington River",221,196,-25,3326329.1199999996,3009611.3299999996,-1615.9070918367349,2656624,2482929,-886.19897959183675,768194,782894,14700,75,0.02]
[665,"Freetown Lakeville           ",2620,2607,-13,35189823.379999995,36720605.239999995,587.18138089758315,26172762,27336477,446.3808975834292,12333339,12528864,195525,75,0.02]
[670,"Frontier                     ",472.00000000471999,470.00000000000006,-2.0000000047199364,6828929.8200682895,7154381.3200000012,692.44999985470565,5601508,5784812,390.00851063829782,3053027.0000007078,3088277.0000007078,35250,74.999999999999986,0.01]
[672,"Gateway                      ",746.00000000746002,756,9.9999999925399834,11870404.560118703,12635089.439999998,1011.4879363509186,6060069,6410413,463.41798941798942,6340830.0000011194,6397530.0000011194,56700,75,0.01]
[673,"Groton Dunstable             ",2236,2204,-32,28651580.750000004,29743456.019999992,495.40620235934136,23386350,24296093,412.769056261343,11831303,11996603,165300,75,0.01]
[674,"Gill Montague                ",916,871.99999999999989,-44.000000000000114,15531170.66,15594412.279999997,72.524793577978585,7651849,7849249,226.37614678899087,8069823,8135223,65400,75.000000000000014,0.01]
[675,"Hamilton Wenham              ",{"$f":"VLOOKUP(A267,aidcalc,14,FALSE)","v":1654},{"$f":"VLOOKUP(A267,aidcalc,15,FALSE)","v":1688},{"$f":"D267-C267","v":34},{"$f":"VLOOKUP(A267,aidcalc,4,FALSE)","v":21512127.046379998},{"$f":"VLOOKUP(A267,aidcalc,9,FALSE)","v":22942766.253989998},{"$f":"(G267-F267)/$D267","v":847.53507559834122},{"$f":"VLOOKUP(A267,aidcalc,5,FALSE)","v":17323711},{"$f":"VLOOKUP(A267,aidcalc,10,FALSE)","v":18163797},{"$f":"(J267-I267)/$D267","v":497.6812796208531},{"$f":"VLOOKUP(A267,aidcalc,6,FALSE)","v":4436892},{"$f":"VLOOKUP(A267,aidcalc,25,FALSE)","v":4778969},{"$f":"M267-L267","v":342077},{"$f":"(M267-L267)/$D267","v":202.65225118483411},{"$f":"ROUND(IF(F267>0,(M267-L267)/L267,100),2)","v":0.08}]
[680,"Hampden Wilbraham            ",2757,2723,-34,38161301.590000004,39255852.090000004,401.96492838780756,25909172,27147135,454.63202350348882,13043530,13247755,204225,75,0.02]
[683,"Hampshire                    ",580,578.99999999421004,-1.000000005789957,8287100.8399999999,8528359.459914716,416.68155426101674,6172310,6463533,502.97582038499519,3510417.000000712,3553842.0000002775,43424.999999565538,74.999999999999631,0.01]
[685,"Hawlemont                    ",84.999999999999986,79,-5.9999999999999858,1294415.1199999999,1313192.7799999998,237.69189873417616,763034,808260,572.48101265822788,669970,675895,5925,75,0.01]
[690,"King Philip                  ",1933,1855.0000000185501,-77.999999981449946,27019358.236560002,26983524.274629828,-19.317499692623201,21201197,21924818,390.09218328450879,8379177.9999976857,8518302.9999990761,139125.00000139046,74.999999999999574,0.02]
[695,"Lincoln Sudbury              ",1497,1407,-90,20881710.072960004,20372545.949999996,-361.87926294243687,16977621,16807350,-121.01705756929637,4225817,4331342,105525,75,0.02]
[698,"Manchester Essex",1108,1060,-48,14962591.459399998,14923235.831379998,-37.127950962263881,12344138,12311670,-30.630188679245283,3514666,3594166,79500,75,0.02]
[700,"Marthas Vineyard             ",791,749,-42,15074658.800000003,14617399.119999997,-610.49356475301101,12436593,12059354,-503.65687583444594,3749388,3805563,56175,75,0.01]
[705,"Masconomet                   ",1513.0000000151299,1519,5.9999999848701009,20779055.20388779,21738293.886449996,631.4935369073113,16861796,17648638,518,5842553.0000022696,5956478.0000022696,113925,75,0.02]
[710,"Mendon Upton                 ",1926,1903,-23,25324619.460000005,26165838.989999995,442.04914871255386,20544075,21293835,393.98843930635837,13252594,13395319,142725,75,0.01]
[712,"Monomoy",1611,1514,-97,25246167.830000002,24336987.039999999,-600.51571334214191,20828088,20078014,-495.42536327608985,4624715,4738265,113550,75,0.02]
[715,"Mount Greylock               ",1074,1055,-19,14836487.640000004,15147577.490000004,294.87189573459682,10778769,11209300,408.08625592417064,5133546,5212671,79125,75,0.02]
[717,"Mohawk Trail                 ",750.00000000000011,735.00000000734997,-14.999999992650146,11931880.619999999,12109031.570121091,241.02170084261249,7388641,7584385,266.3183673442756,6372134.0000008959,6427259.0000014473,55125.000000551343,75.000000000000128,0.01]
[720,"Narragansett                 ",1347,1289,-58,20521967.339999996,20098262.939999998,-328.70783553141854,7481050,7935411,352.49107835531419,13040917,13137592,96675,75,0.01]
[725,"Nashoba                      ",3005,2987,-18,40212644.902400002,41952293.282669999,582.40655516236916,31151239,32425237,426.51422832273181,10547898,10771923,224025,75,0.02]
[728,"New Salem Wendell            ",98,93,-5,1547562.41,1551402.62,41.29258064516339,787485,785985,-16.129032258064516,938840,945815,6975,75,0.01]
[730,"Northboro Southboro          ",1228,1234,6,17307312.650000002,18237601.709999997,753.8809238249554,14180068,14650237,381.01215559157214,3673616,3766166,92550,75,0.03]
[735,"North Middlesex              ",2993,2869,-124,42024593.629999995,42041742.600000009,5.9773335657071138,23346390,24530131,412.59707215057512,21623879.000000898,21839054.000000898,215175,75,0.01]
[740,"Old Rochester                ",957.99999999041995,942.99999999999989,-14.999999990420065,14030213.399859697,14289992.949999999,275.48202559947259,10781799,11300852,550.4273594909863,3710720.999998563,3781445.999998563,70725,75.000000000000014,0.02]
[745,"Pentucket                    ",2278,2306.0000000230598,28.000000023059783,29838475.970000006,31338888.220313385,650.65578937483735,22525700,23915925,602.87294015008581,14101990,14274940.00000173,172950.0000017304,75.000000000000398,0.01]
[750,"Pioneer                      ",533,520.00000000520004,-12.999999994799964,7711982.5599999996,7757133.5300775729,86.828788609849639,5108508,5191887,160.34423076762732,4151899,4190899.0000003902,39000.000000390224,75.000000000000426,0.01]
[753,"Quabbin                      ",1882.0000000000002,1892.9999999999998,10.999999999999545,27830416.489999998,29099070.099999998,670.1815161119913,13366628,14057407,364.91230850501853,17421662.000001181,17563637.000001181,141975,75.000000000000014,0.01]
[755,"Ralph C Mahar                ",548.00000000000011,588,39.999999999999886,9593235.6700000018,10856393.85,2148.2281972789078,3082090,3562741,817.43367346938771,6511146,7293653,782507,1330.7942176870749,0.12]
[760,"Silver Lake                  ",1732,1697.0000000169703,-34.999999983029738,27216762.713180002,27918744.359829191,413.66036926468439,16840436,18081435,731.28992338691205,10796658,10923933.000001272,127275.00000127219,74.999999999999659,0.01]
[763,"Somerset Berkley",896,892,-4,13826082.76,14327078.959999997,561.65493273542313,7668488,8328147,739.52802690582962,7204101,7271001,66900,75,0.01]
[765,"Southern Berkshire           ",626,605,-21,9453533.7400000021,9585683.8599999994,218.42995041321871,7799165,7788393,-17.804958677685949,2243594.9999993518,2288969.9999993518,45375,75,0.02]
[766,"Southwick Tolland Granville",1204,1179.9999999882002,-24.000000011799784,18134821.699999999,18555658.509814449,356.64136425309977,12301434,12882980,492.83559322526725,10169546.000000769,10258045.999999885,88499.999999115244,75.000000000000199,0.01]
[767,"Spencer East Brookfield      ",1511,1508,-3,25189505.220000006,25887735.060000002,463.017135278512,11570866,12116598,361.89124668435011,14306180,14419280,113100,75,0.01]
[770,"Tantasqua                    ",1516,1460,-56,24773777.030000001,24978621.029999997,140.30410958903855,13624328,14160179,367.0212328767123,11688349,11797849,109500,75,0.01]
[773,"Triton                       ",2092,2076.9999999792299,-15.000000020770131,30165610.537900001,30808429.988011919,309.4941984200031,24886629,25366230,230.91044776350316,9645084.9999986663,9800859.9999971092,155774.99999844283,75.000000000000284,0.02]
[774,"Upisland",378.00000000000006,391,12.999999999999943,5263775.71,5702220.6200000001,1121.3424808184147,4342615,4704332,925.10741687979544,1064412,1093737,29325,75,0.03]
[775,"Wachusett                    ",6685.0000000668506,6539,-146.00000006685059,87973600.930879712,89982197.079999983,307.171761602733,53489620,55703719,338.59902125707293,37561713.000010028,38052138.000010028,490425,75,0.01]
[778,"Quaboag",1029,1021,-8,16872431.539999999,17551815.050000001,665.40990205680862,7171361,7616716,436.19490695396672,10600015,10676590,76575,75,0.01]
[780,"Whitman Hanson               ",3449,3399,-50,49842835.700000003,51412004.089999996,461.65589585171909,26380549,28083329,500.96498970285376,26188146,26443071,254925,75,0.01]
[801,"Assabet Valley               ",1082.99999998917,1128,45.000000010830036,25966109.553580347,28502828.230079997,2248.8640749110373,14882442,16843394,1738.4326241134752,11083668,11659434,575766,510.43085106382978,0.05]
[805,"Blackstone Valley            ",1256.9999999874301,1250,-6.9999999874301011,25246170.35974754,26103015.320000004,685.475968201971,15870390,16683171,650.22479999999996,9595821.999998115,9689571.999998115,93750,75,0.01]
[806,"Blue Hills                   ",909.99999999999989,924.00000000924001,14.000000009240125,20652850.586480003,22191875.858341917,1665.6117660676668,13010907,14244562,1335.1244588611075,7641944,7947314,305370,330.4870129837081,0.04]
[810,"Bristol Plymouth             ",1374,1366.0000000136599,-7.9999999863400717,28536806.650000006,29475952.300294753,687.51511733920631,14173615,15163202,724.44143483902212,14666169.000001416,14768619.00000244,102450.00000102445,74.999999999999972,0.01]
[815,"Cape Cod                     ",685.00000000685009,710.00000000710008,25.000000000249997,15008925.100150086,15968084.87015968,1350.92925352113,11758669,12608534,1196.9929577345088,3579390.0000017215,3632640.0000022543,53250.000000532717,75.000000000000298,0.01]
[817,"Essex North Shore",1487.0000000148698,1549.9999999999998,62.999999985129989,31042516.400310419,34241092.870000005,2063.5977223803779,22376292,24872145,1610.2277419354841,8666224,9368948,702724,453.37032258064522,0.08]
[818,"Franklin County              ",590.99999999999989,579.00000001158003,-11.999999988419859,13399887.970000003,13549124.020270983,257.74792792399916,7200970,7301102,172.93955094645486,6198918,6248022,49104,84.808290153744238,0.01]
[821,"Greater Fall River           ",1479.9999999852002,1486.9999999999998,7.0000000147995252,33636941.949663639,35254142.160000004,1087.5589847588199,9803875,10447289,432.6926698049765,23833067,24806853,973786,654.86617350369886,0.04]
[823,"Greater Lawrence             ",1839.9999999999998,1896,56.000000000000227,50261020.524460003,52412318.97797998,1134.6510830801569,8813599,9799580,520.03217299578057,41447422,42612739,1165317,614.61867088607596,0.03]
[825,"Greater New Bedford          ",2162.9999999783699,2175.9999999782399,12.999999999869942,51145206.98948855,54548152.17945452,1563.8534880514708,14241953,14622658,174.95634191351428,36903254,39925494,3022240,1388.8970588374184,0.08]
[828,"Greater Lowell               ",2362.99999997637,2338,-24.999999976369963,55200721.789447986,56165233.089999996,412.53691212660846,16870122,17424745,237.22112917023097,38330600,38740488,409888,175.31565440547476,0.01]
[829,"South Middlesex              ",894.00000000893999,903.99999999999989,9.9999999910598945,21738499.531417388,22744191.108149998,1112.4906822263381,11824771,12937352,1230.7311946902657,9913729,9981529,67800,75.000000000000014,0.01]
[830,"Minuteman                    ",635.00000001269996,619.00000000000011,-16.000000012699843,13776715.489875535,14009736.736279998,376.44789402982775,10866591,11074659,336.13570274636504,3142029.0000025854,3188454.0000025854,46425,74.999999999999986,0.01]
[832,"Montachusett                 ",1488.0000000148805,1465.9999999853399,-22.000000029540615,30990414.460309908,31732841.099682663,506.43017693054514,12227609,12935232,482.68963165557727,18762805,18872754.999998901,109949.99999890104,75.000000000000369,0.01]
[851,"Northern Berkshire           ",477.00000000000006,470.00000000939997,-6.999999990600088,10864145.600000003,11116421.810222331,536.75789407932461,4022650,4230967,443.22765956560357,7106152,7141402.000000705,35250.000000705011,75.000000000000028,0]
[852,"Nashoba Valley               ",764.0000000076401,770,5.9999999923599034,16066337.762080662,16928952.0766,1120.2783305445953,11216924,12085287,1127.7441558441558,5001664.0000011465,5059414.0000011465,57750,75,0.01]
[853,"Northeast Metropolitan       ",1381,1416,35,34145597.992569998,36620933.63288001,1748.1183900494434,17952021,19901349,1376.6440677966102,16193577,16719585,526008,371.47457627118644,0.03]
[855,"Old Colony                   ",557,556.00000000555997,-0.99999999444003151,11281890.140000001,11692555.480116924,738.60672682161339,7358019,7845562,876.87589927180682,4312664.9999994244,4354364.9999998417,41700.000000417233,75.000000000000426,0.01]
[860,"Pathfinder                   ",637.00000000636999,640,2.9999999936300128,14168218.66014168,14844488.359999999,1056.6714060286236,6336903,6856034,811.14218749999998,7831316,7988454,157138,245.52812499999999,0.02]
[871,"Shawsheen Valley             ",1282.00000001282,1293,10.99999998717999,26234729.470262349,27512088.859999996,987.90362702060872,21239717,22285956,809.15622583139987,6995373.0000032838,7092348.0000032838,96975,75,0.01]
[872,"Southeastern                 ",1702.0000000170201,1727.0000000000002,24.999999982980171,38734574.690387338,40984464.610000007,1302.7735492835368,14188183,14792869,350.13665315576139,24546392,26191596,1645204,952.63694267515916,7.0000000000000007E-2]
[873,"South Shore                  ",678.99999999999989,687.99999999999989,9,14594489.375639999,15029072.678919999,631.66177802325535,8885161,9643577,1102.3488372093025,5963097,6014697,51600,75.000000000000014,0.01]
[876,"Southern Worcester           ",1235.99999998764,1237,1.000000012360033,26179600.699738208,27361415.929999996,955.38822171526897,11613795,12459053,683.31285367825387,14644386.999998147,14902363,257976.00000185333,208.54971705889517,0.02]
[878,"Tri County                   ",993.00000000000011,980.99999999999989,-12.000000000000227,21387428.700500004,21614875.119000003,231.85159887869395,16145057,16826578,694.72069317023454,6100766.0000015404,6174341.0000015404,73575,75.000000000000014,0.01]
[879,"Upper Cape Cod               ",870,891.99999999108013,21.999999991080131,19100969.820000004,20404366.189795956,1461.2066926109705,14663624,15791772,1264.7399103265486,4720060,4786959.9999993313,66899.99999933131,75.000000000000341,0.01]
[885,"Whittier                     ",1283,1288,5,28238744.479999997,28990325.859999996,583.52591614906748,14285371,14758704,367.49456521739131,13953373,14231622,278249,216.03183229813664,0.02]
[910,"Bristol County               ",527.00000001054002,522.9999999895399,-4.000000021000119,11148673.800222971,11465527.749770688,605.83929169035275,5907819,6124004,413.35564054364005,5240855,5341524,100669,192.48374761379236,0.02]
[915,"Norfolk County               ",263.00000000526001,270.99999999186997,7.9999999866099643,5991943.7559198383,6267227.5715119839,1015.8074376398675,4480349,4734754,938.76383766653942,1531455.0000000154,1551779.9999994056,20324.999999390217,74.999999999999886,0.01]
[999,"State Total, All Districts",905307.00000009779,890622.0000000397,-14685.000000058091,15314834159.408045,15830181514.78808,578.63757618834074,8377180548,8736823771,403.81129480293993,{"$f":"VLOOKUP(A329,aidcalc,6,FALSE)+308558","v":7361864552.4900179},{"$f":"VLOOKUP(A329,aidcalc,25,FALSE)+308558","v":7603623093.0273123},241758540.53729439,271.44910022128761,0.03]
[null,null,null,null,null,null,null,null,null,null,null,"includes Devens aid","includes Devens aid"]
[]
["# of Districts Increasing",null,null,null,{"$f":"COUNTIF(E10:E328,\">0\")","v":81},null,null,{"$f":"COUNTIF(H10:H328,\">.5\")","v":265},null,null,{"$f":"COUNTIF(K10:K328,\">.5\")","v":293},null,null,{"$f":"COUNTIF(N10:N328,\">.5\")","v":319},{"$f":"COUNTIF(O10:O328,\">.5\")","v":319}]
["# of Districts Decreasing",null,null,null,{"$f":"COUNTIF(E10:E328,\"<0\")","v":236},null,null,{"$f":"COUNTIF(H10:H328,\"<-.5\")","v":54},null,null,{"$f":"COUNTIF(K10:K328,\"<-.5\")","v":26},null,null,{"$f":"COUNTIF(N10:N328,\"<-.5\")","v":0},{"$f":"COUNTIF(O10:O328,\"<-.5\")","v":0}]

{"sheet":"Aid436","index":12,"n_rows":463,"n_cols":45,"rows_kept":463,"cut":false,"hidden":false,"merged":[]}
[null,null,null,"c70fy26","c70fy26","c70fy26",null,null,null,null,null,null,null,"c70fy26"]
[]
[null,2,3,4,5,6,7,8,9,10,11,12,13,14,15,16,17,18,19,20,21,22,23,24,25,26,27,28,29,30,31,32,33,34,35,36,37,38,39,40,41,null,42,43,44]
["Return to Index",null,"nonop",null,null,null,null,"priorc70","found","prelcont436","foundaid","foundinc",null,null,"enro",null,null,"minaid",null,null,null,null,"rednonop","holdharmlessaid","chapter70"]
["More about the data",null,null,null,null,null,{"$f":"COUNTIF(G10:G447,\"<>0\")","v":0},"Base Aid",null,"Foundation Aid Calculation",null,null,null,null,null,null,"Minimum Aid Calculation",null,"Minimum Aid Adjustment",null,null,null,null,{"$f":"COUNTIF(X10:X447,\"<>0\")","v":0},null,null,null,null,null,null,"Analysis",null,null,null,null,null,null,null,"SUMMARY FOR EXPORT (reads from columns to the left)"]
[null,null,null,null,null,null,null,null,null,null,null,null,null,null,null,null,75]
[null,null,null,"foundation","required",null,null,null,"foundation","required",null,null,"district","foundation","foundation","operating dist",null,null,null,null,null,"c70 prior ",null,null,null,null,null,"nss ",null,null,null,null,null,null,null,null,null,null,null,null,null,{"$f":"O7","v":"foundation"},{"$f":"I7","v":"foundation"},{"$f":"J7","v":"required"}]
[null,null,null,"budget","contribution","chapter 70","base aid",null,"budget","contribution","foundation","foundation","target aid","enrollment","enrollment","foundation ","Min Aid ","Addl Aid ","Aid from",null,"Increment","to non-op","non-op ","hold","Chapter 70","c70 pct of",{"$f":"CYr","v":"FY27"},"percent of",null,null,"Aid Comp'd","Distance from","Foundation ",null,null,null,"per pupil",null,{"$f":"A9","v":"LEA"},{"$f":"B9","v":"District"},{"$f":"C9","v":"Non-Op"},{"$f":"O8","v":"enrollment"},"budget","contribution",{"$f":"Y8","v":"Chapter 70"}]
["LEA","District","Non-Op",{"$f":"PYr","v":"FY26"},{"$f":"PYr","v":"FY26"},{"$f":"PYr","v":"FY26"},"adjusement","base aid",{"$f":"CYr","v":"FY27"},{"$f":"CYr","v":"FY27"},"aid","aid increase","percentage",{"$f":"PYr","v":"FY26"},{"$f":"CYr","v":"FY27"},"aid?","Per Pupil","to Reach Min","MinAidAdj Formula","plus $30/pupil","above min aid","reduction","reduction","harmless aid",{"$f":"CYr","v":"FY27"},"foundation","Required NSS","foundation","∆ in Foundation Budget","∆ in Aid","to Target","Aid Target","Budget PP","blank","blank","blank","∆ in Aid","blank",{"$f":"CYr","v":"FY27"},{"$f":"CYr","v":"FY27"},{"$f":"CYr","v":"FY27"},"FY27","FY27","FY27","FY27"]
[1,"Abington                     ",1,33501030.561300002,18800612,14812278,0,{"$f":"F10+G10","v":14812278},{"$f":"SUMIF(dist1755,A10,found1755)","v":34347724.25632},{"$f":"SUMIF(dist1755,A10,prelcont1755)","v":19908440},{"$f":"ROUND(MAX(found-prelcont436,0),0)","v":14439284},{"$f":"IF(foundaid>priorc70,foundaid-priorc70,0)","v":0},{"$f":"ROUND(100-'Townwide Contributions'!L10,2)","v":35.770000000000003},2200,{"$f":"SUMIF(dist1755,A10,enro1755)","v":2199},{"$f":"IF(AND(C10=1,L10>0),1,0)","v":0},{"$f":"IF(nonop=1,enro*$Q$6,0)","v":164925},{"$f":"IF((foundinc)<Q10,Q10-(foundinc),0)","v":164925},14812278,{"$f":"S10+30*enro","v":14878248},{"$f":"IF(AND(T10-priorc70-foundinc-minaid>0,nonop=1), T10-priorc70-foundinc-minaid,0)","v":0},{"$f":"priorc70+ foundinc+minaidadjincrement+minaid","v":14977203},{"$f":"IF(AND(C10=0,V10>found),V10-found,0)","v":0},0,{"$f":"priorc70+foundinc+minaidadjincrement+minaid-rednonop+holdharmlessaid","v":14977203},{"$f":"IF(C10=1, Y10/I10*100, 0)","v":43.604644337518771},{"$f":"prelcont436+chapter70","v":34885643},{"$f":"IF(found>0,AA10*100/found,0)","v":101.5660971878829},{"$f":"I10-D10","v":846693.69501999766},{"$f":"Y10-F10","v":164925},{"$f":"Y10-((M10/100)*I10)","v":2691022.0335143358},{"$f":"IF(C10=1, (Y10/I10*100)-M10, \"\")","v":7.8346443375187675},{"$f":"IFERROR(ROUND(I10/O10, 2), 0)","v":15619.7},null,null,null,{"$f":"IFERROR(AD10/O10, 0)","v":75},null,{"$f":"A10","v":1},{"$f":"B10","v":"Abington                     "},{"$f":"C10","v":1},{"$f":"O10","v":2199},{"$f":"I10","v":34347724.25632},{"$f":"J10","v":19908440},{"$f":"Y10","v":14977203}]
[2,"Acton                        ",0,0,0,0,0,{"$f":"F11+G11","v":0},0,{"$f":"SUMIF(dist1755,A11,prelcont1755)","v":0},{"$f":"ROUND(MAX(found-prelcont436,0),0)","v":0},{"$f":"IF(foundaid>priorc70,foundaid-priorc70,0)","v":0},{"$f":"ROUND(100-'Townwide Contributions'!L11,2)","v":17.5},0,0,0,0,{"$f":"IF((foundinc)<Q11,Q11-(foundinc),0)","v":0},0,0,0,0,0,0,{"$f":"priorc70+foundinc+minaidadjincrement+minaid-rednonop+holdharmlessaid","v":0},0,0,0,0,0,{"$f":"Y11-((M11/100)*I11)","v":0},{"$f":"IF(C11=1, (Y11/I11*100)-M11, \"\")","v":""},0,null,null,null,0,null,2,"Acton                        ",0,{"$f":"O11","v":0},0,0,0]
[3,"Acushnet                     ",1,15639642.750000002,9288698,7461972,0,7461972,15971692.030000001,9654882,6316810,0,{"$f":"ROUND(100-'Townwide Contributions'!L12,2)","v":32.840000000000003},1131,1118,0,83850,83850,7461972,{"$f":"S12+30*enro","v":7495512},0,7545822,0,0,7545822,47.244975584468492,17200704,107.69493906901984,332049.27999999933,83850,2300718.3373479992,14.404975584468488,14285.95,null,null,null,75,null,3,"Acushnet                     ",1,1118,15971692.030000001,9654882,7545822]
[4,"Adams                        ",0,0,0,0,0,0,18046.96,5654,12393,12393,{"$f":"ROUND(100-'Townwide Contributions'!L13,2)","v":64.12},0,1,0,0,0,11306,11336,0,12393,0,0,12393,0,18047,100.00022164397771,18046.96,12393,821.28924800000095,"",18046.96,null,null,null,12393,null,4,"Adams                        ",0,1,18046.96,5654,12393]
[5,"Agawam                       ",1,55345476.310000002,28135196,27210280,0,27210280,57507213.809999995,29862697,27644517,434237,{"$f":"ROUND(100-'Townwide Contributions'!L14,2)","v":45.9},3463,3437,1,257775,0,27210280,27313390,0,27644517,0,0,27644517,48.071389950025477,57507214,100.00000033039333,2161737.4999999925,434237,1248705.8612100035,2.1713899500254783,16731.810000000001,null,null,null,126.34186790805936,null,5,"Agawam                       ",1,3437,57507213.809999995,29862697,27644517]
[6,"Alford                       ",0,0,0,0,0,0,0,0,0,0,{"$f":"ROUND(100-'Townwide Contributions'!L15,2)","v":17.5},0,0,0,0,0,0,0,0,0,0,0,0,0,0,0,0,0,0,"",0,null,null,null,0,null,6,"Alford                       ",0,0,0,0,0]
[7,"Amesbury                     ",1,28109289.029999997,20286760,9957529,0,9957529,29502412.490000006,21809838,7692574,0,{"$f":"ROUND(100-'Townwide Contributions'!L16,2)","v":17.5},1919,1953,0,146475,146475,9957529,10016119,0,10104004,0,0,10104004,34.248060233802249,31913842,108.17366888493393,1393123.4600000083,146475,4941081.8142499989,16.748060233802249,15106.2,null,null,null,75,null,7,"Amesbury                     ",1,1953,29502412.490000006,21809838,10104004]
[8,"Amherst                      ",1,14981907.18,11896370,6538659,0,6538659,15814005.690000001,12488880,3325126,0,{"$f":"ROUND(100-'Townwide Contributions'!L17,2)","v":17.5},1037,1033,0,77475,77475,6538659,6569649,0,6616134,0,0,6616134,41.837179837261083,19105014,120.81071914676919,832098.51000000164,77475,3848683.0042499998,24.337179837261083,15308.81,null,null,null,75,null,8,"Amherst                      ",1,1033,15814005.690000001,12488880,6616134]
[9,"Andover                      ",1,75901319.687480003,62087646,15338760,0,15338760,77328687.063940004,63796166,13532521,0,{"$f":"ROUND(100-'Townwide Contributions'!L18,2)","v":17.5},5464,5370,0,402750,402750,15338760,15499860,0,15741510,0,0,15741510,20.356623909809791,79537676,102.85662283937845,1427367.3764600009,402750,2208989.7638105005,2.856623909809791,14400.13,null,null,null,75,null,9,"Andover                      ",1,5370,77328687.063940004,63796166,15741510]
[10,"Arlington                    ",1,81515548.272249982,61905761,20246693,0,20246693,85724971.74188,65397888,20327084,80391,{"$f":"ROUND(100-'Townwide Contributions'!L19,2)","v":17.5},6114,6123,1,459225,378834,20246693,20430383,0,20705918,0,0,20705918,24.153893059709635,{"$f":"prelcont436+chapter70","v":86103806},100.44191820705485,4209423.4696300179,459225,5704047.9451710004,6.6538930597096346,14000.49,null,null,null,75,null,10,"Arlington                    ",1,6123,85724971.74188,65397888,20705918]
[11,"Ashburnham                   ",0,0,0,0,0,0,0,0,0,0,{"$f":"ROUND(100-'Townwide Contributions'!L20,2)","v":47.2},0,0,0,0,0,0,0,0,0,0,0,0,0,0,0,0,0,0,"",0,null,null,null,0,null,11,"Ashburnham                   ",0,0,0,0,0]
[12,"Ashby                        ",0,0,0,0,0,0,0,0,0,0,{"$f":"ROUND(100-'Townwide Contributions'!L21,2)","v":34.020000000000003},0,0,0,0,0,0,0,0,0,0,0,0,0,0,0,0,0,0,"",0,null,null,null,0,null,12,"Ashby                        ",0,0,0,0,0]
[13,"Ashfield                     ",0,240365.82,182183,93683,0,93683,321996.95999999996,252246,69751,0,{"$f":"ROUND(100-'Townwide Contributions'!L22,2)","v":17.5},12,16,0,0,0,93683,94163,0,93683,0,0,93683,0,345929,107.43238072806652,81631.139999999956,0,37333.532000000007,"",20124.810000000001,null,null,null,0,null,13,"Ashfield                     ",0,16,321996.95999999996,252246,93683]
[14,"Ashland                      ",1,39209499.740000002,28541470,11996178,0,11996178,41080212.259999998,29773789,11306423,0,{"$f":"ROUND(100-'Townwide Contributions'!L23,2)","v":18.239999999999998},2837,2818,0,211350,211350,11996178,12080718,0,12207528,0,0,12207528,29.716321626425795,41981317,102.19352503413769,1870712.5199999958,211350,4714497.2837760011,11.476321626425797,14577.79,null,null,null,75,null,14,"Ashland                      ",1,2818,41080212.259999998,29773789,12207528]
[15,"Athol                        ",0,0,0,0,0,0,0,0,0,0,{"$f":"ROUND(100-'Townwide Contributions'!L24,2)","v":68.83},0,0,0,0,0,0,0,0,0,0,0,0,0,0,0,0,0,0,"",0,null,null,null,0,null,15,"Athol                        ",0,0,0,0,0]
[16,"Attleboro                    ",1,110074456.17000002,48277999,61796457,0,61796457,113893945.42000003,50667309,63226636,1430179,{"$f":"ROUND(100-'Townwide Contributions'!L25,2)","v":50.71},6440,6364,1,477300,0,61796457,61987377,0,63226636,0,0,63226636,55.513605896119266,113893945,99.999999631235852,3819489.2500000149,1430179,5471016.2775179818,4.8036058961192651,17896.599999999999,null,null,null,224.72957259585166,null,16,"Attleboro                    ",1,6364,113893945.42000003,50667309,63226636]
[17,"Auburn                       ",1,34174444.380000003,18808409,15740489,0,15740489,34749450.580000006,19768081,14981370,0,{"$f":"ROUND(100-'Townwide Contributions'!L26,2)","v":39.19},2400,2346,0,175950,175950,15740489,15810869,0,15916439,0,0,15916439,45.803426340100707,35684520,102.69088979650853,575006.20000000298,175950,2298129.3176979981,6.613426340100709,14812.21,null,null,null,75,null,17,"Auburn                       ",1,2346,34749450.580000006,19768081,15916439]
[18,"Avon                         ",1,10349488.58,5949758,4399731,0,4399731,10182039.74,5979732,4202308,0,{"$f":"ROUND(100-'Townwide Contributions'!L27,2)","v":36.75},588,552,0,41400,41400,4399731,4416291,0,4441131,0,0,4441131,43.617301772581769,10420863,102.34553455003505,-167448.83999999985,41400,699231.39555000002,6.8673017725817687,18445.72,null,null,null,75,null,18,"Avon                         ",1,552,10182039.74,5979732,4441131]
[19,"Ayer                         ",0,0,0,0,0,0,0,0,0,0,{"$f":"ROUND(100-'Townwide Contributions'!L28,2)","v":17.5},0,0,0,0,0,0,0,0,0,0,0,0,0,0,0,0,0,0,"",0,null,null,null,0,null,19,"Ayer                         ",0,0,0,0,0]
[20,"Barnstable                   ",1,91282281.549999982,68459559,26088377,0,26088377,92442313.109999999,71854310,20588003,0,{"$f":"ROUND(100-'Townwide Contributions'!L29,2)","v":17.5},5230,5038,0,377850,377850,26088377,26239517,0,26466227,0,0,26466227,28.629992164418265,98320537,106.35880225433705,1160031.5600000173,377850,10288822.205750002,11.129992164418265,18349.009999999998,null,null,null,75,null,20,"Barnstable                   ",1,5038,92442313.109999999,71854310,26466227]
[21,"Barre                        ",0,0,0,0,0,0,0,0,0,0,{"$f":"ROUND(100-'Townwide Contributions'!L30,2)","v":53.41},0,0,0,0,0,0,0,0,0,0,0,0,0,0,0,0,0,0,"",0,null,null,null,0,null,21,"Barre                        ",0,0,0,0,0]
[22,"Becket                       ",0,361845.85,287491,76923,0,76923,340043.92000000004,280536,59508,0,{"$f":"ROUND(100-'Townwide Contributions'!L31,2)","v":17.5},19,17,0,0,0,76923,77433,0,76923,0,0,76923,0,357459,105.12142078587965,-21801.929999999935,0,17415.313999999998,"",20002.580000000002,null,null,null,0,null,22,"Becket                       ",0,17,340043.92000000004,280536,76923]
[23,"Bedford                      ",1,35245066.36964,29077179,6667909,0,6667909,35093223.97964,28951910,6141314,0,{"$f":"ROUND(100-'Townwide Contributions'!L32,2)","v":17.5},2528,2416,0,181200,181200,6667909,6740389,0,6849109,0,0,6849109,19.5168987721779,35801019,102.01689938995243,-151842.3900000006,181200,707794.80356300063,2.0168987721778997,14525.34,null,null,null,75,null,23,"Bedford                      ",1,2416,35093223.97964,28951910,6849109]
[24,"Belchertown                  ",1,27957662.77,15052180,14735480,0,14735480,28303896.729999997,15826711,12477186,0,{"$f":"ROUND(100-'Townwide Contributions'!L33,2)","v":37.28},2043,1982,0,148650,148650,14735480,14794940,0,14884130,0,0,14884130,52.586858064048634,30710841,108.50393249014657,346233.95999999717,148650,4332437.299056001,15.306858064048633,14280.47,null,null,null,75,null,24,"Belchertown                  ",1,1982,28303896.729999997,15826711,14884130]
[25,"Bellingham                   ",1,31820375.339999996,22163244,10531532,0,10531532,34592550.339999989,23625313,10967237,435705,{"$f":"ROUND(100-'Townwide Contributions'!L34,2)","v":27.23},2206,2237,1,167775,0,10531532,10598642,0,10967237,0,0,10967237,31.704042900006673,34592550,99.999999017129454,2772174.9999999925,435705,1547685.5424180031,4.4740429000066726,15463.81,null,null,null,194.77201609298166,null,25,"Bellingham                   ",1,2237,34592550.339999989,23625313,10967237]
[26,"Belmont                      ",1,61875520.813840009,49876878,12935419,0,12935419,64651862.962739997,51418074,13233789,298370,{"$f":"ROUND(100-'Townwide Contributions'!L35,2)","v":17.5},4538,4530,1,339750,41380,12935419,13071319,0,13275169,0,0,13275169,20.533312408415384,64693243,100.06400440043599,2776342.1488999873,339750,1961092.9815205019,3.0333124084153837,14271.93,null,null,null,75,null,26,"Belmont                      ",1,4530,64651862.962739997,51418074,13275169]
[27,"Berkley                      ",1,8738336.5500000026,5232212,4318848,0,4318848,8934075.3899999987,5539772,3394303,0,{"$f":"ROUND(100-'Townwide Contributions'!L36,2)","v":33.799999999999997},640,599,0,44925,44925,4318848,4336818,0,4363773,0,0,4363773,48.844147933701294,9903545,110.85137037331404,195738.83999999613,44925,1344055.5181800006,15.044147933701296,14914.98,null,null,null,75,null,27,"Berkley                      ",1,599,8934075.3899999987,5539772,4363773]
[28,"Berlin                       ",0,0,0,0,0,0,0,0,0,0,{"$f":"ROUND(100-'Townwide Contributions'!L37,2)","v":17.5},0,0,0,0,0,0,0,0,0,0,0,0,0,0,0,0,0,0,"",0,null,null,null,0,null,28,"Berlin                       ",0,0,0,0,0]
[29,"Bernardston                  ",0,0,0,0,0,0,0,0,0,0,{"$f":"ROUND(100-'Townwide Contributions'!L38,2)","v":38.86},0,0,0,0,0,0,0,0,0,0,0,0,0,0,0,0,0,0,"",0,null,null,null,0,null,29,"Bernardston                  ",0,0,0,0,0]
[30,"Beverly                      ",1,64124970,51585549,15674495,0,15674495,67719159.889999986,53954926,13764234,0,{"$f":"ROUND(100-'Townwide Contributions'!L39,2)","v":17.5},4437,4461,0,334575,334575,15674495,15808325,0,16009070,0,0,16009070,23.640384827579709,69963996,103.31492019931497,3594189.8899999857,334575,4158217.0192500036,6.1403848275797088,15180.26,null,null,null,75,null,30,"Beverly                      ",1,4461,67719159.889999986,53954926,16009070]
[31,"Billerica                    ",1,68911291.640000015,55154759,21331984,0,21331984,72151964.440000013,57776251,14375713,0,{"$f":"ROUND(100-'Townwide Contributions'!L40,2)","v":17.5},4999,4983,0,373725,373725,21331984,21481474,0,21705709,0,0,21705709,30.083323674506453,79481960,110.15910740184414,3240672.799999997,373725,9079115.2229999993,12.583323674506453,14479.62,null,null,null,75,null,31,"Billerica                    ",1,4983,72151964.440000013,57776251,21705709]
[32,"Blackstone                   ",0,240365.82,120024,234189,0,234189,162422.63999999998,83894,78529,0,{"$f":"ROUND(100-'Townwide Contributions'!L41,2)","v":44.54},12,9,0,0,0,155087.00999999998,155357.00999999998,0,234189,71766.360000000015,0,162422.63999999998,0,246316.63999999998,151.65166629479734,-77943.180000000022,-71766.360000000015,90079.596143999996,"",18046.96,null,null,null,-7974.0400000000018,null,32,"Blackstone                   ",0,9,162422.63999999998,83894,162422.63999999998]
[33,"Blandford                    ",0,223011.53000000003,162784,77586,0,77586,231762.16,158363,73399,0,{"$f":"ROUND(100-'Townwide Contributions'!L42,2)","v":17.5},11,11,0,0,0,77586,77916,0,77586,0,0,77586,0,235949,101.80652441278593,8750.6299999999756,0,37027.622000000003,"",21069.29,null,null,null,0,null,33,"Blandford                    ",0,11,231762.16,158363,77586]
[34,"Bolton                       ",0,17898.514400000004,14425,3474,0,3474,18620.186329999997,15073,3547,73,{"$f":"ROUND(100-'Townwide Contributions'!L43,2)","v":17.5},1,1,0,0,0,3474,3504,0,3547,0,0,3547,0,18620,99.998999311839881,721.67192999999315,73,288.46739225000056,"",18620.189999999999,null,null,null,73,null,34,"Bolton                       ",0,1,18620.186329999997,15073,3547]
[35,"Boston                       ",1,1220875806.5343199,1007222540,245309561,0,245309561,1258580176.0585201,1038328645,220251531,0,{"$f":"ROUND(100-'Townwide Contributions'!L44,2)","v":17.5},57616,55975,0,4198125,4198125,245309561,246988811,0,249507686,0,0,249507686,19.824536469450848,1287836331,102.32453644972394,37704369.524200201,4198125,29256155.189758986,2.3245364694508481,22484.68,null,null,null,75,null,35,"Boston                       ",1,55975,1258580176.0585201,1038328645,249507686]
[36,"Bourne                       ",1,24040569.220000006,19771933,5892775,0,5892775,24467743.599999998,20185888,4281856,0,{"$f":"ROUND(100-'Townwide Contributions'!L45,2)","v":17.5},1624,1585,0,118875,118875,5892775,5940325,0,6011650,0,0,6011650,24.569695098488772,26197538,107.0696931775924,427174.37999999151,118875,1729794.870000001,7.0696950984887721,15437.06,null,null,null,75,null,36,"Bourne                       ",1,1585,24467743.599999998,20185888,6011650]
[37,"Boxborough                   ",0,74532.869360000012,57871,32909,0,32909,58544.935950000006,45409,13136,0,{"$f":"ROUND(100-'Townwide Contributions'!L46,2)","v":17.5},4,3,0,0,0,32909,32999,0,32909,0,0,32909,0,78318,133.77416633760959,-15987.933410000005,0,22663.636208750002,"",19514.98,null,null,null,0,null,37,"Boxborough                   ",0,3,58544.935950000006,45409,32909]
[38,"Boxford                      ",1,9386167.0081999991,7523174,2044923,0,2044923,9544654.4138799999,7685047,1859607,0,{"$f":"ROUND(100-'Townwide Contributions'!L47,2)","v":17.5},749,728,0,54600,54600,2044923,2066763,0,2099523,0,0,2099523,21.9968467055951,9784570,102.5136120776789,158487.40568000078,54600,429208.47757100011,4.4968467055951002,13110.79,null,null,null,75,null,38,"Boxford                      ",1,728,9544654.4138799999,7685047,2099523]
[39,"Boylston                     ",0,156188.61000000002,128856,113472,0,113472,54140.88,44053,10088,0,{"$f":"ROUND(100-'Townwide Contributions'!L48,2)","v":17.5},9,3,0,0,0,51695.67,51785.67,0,113472,59331.12,0,54140.88,0,98193.88,181.36735125103249,-102047.73000000001,-59331.12,44666.225999999995,"",18046.96,null,null,null,-19777.04,null,39,"Boylston                     ",0,3,54140.88,44053,54140.88]
[40,"Braintree                    ",1,75740827.680080011,57604796,21959550,0,21959550,76951750.130320013,60143288,16808462,0,{"$f":"ROUND(100-'Townwide Contributions'!L49,2)","v":17.5},5121,4970,0,372750,372750,21959550,22108650,0,22332300,0,0,22332300,29.021172308855359,82475588,107.17831350206488,1210922.4502400011,372750,8865743.7271939982,11.521172308855359,15483.25,null,null,null,75,null,40,"Braintree                    ",1,4970,76951750.130320013,60143288,22332300]
[41,"Brewster                     ",1,6081078.0800000001,5016889,1484085,0,1484085,5944818.4399999995,4904475,1040343,0,{"$f":"ROUND(100-'Townwide Contributions'!L50,2)","v":17.5},419,394,0,29550,29550,1484085,1495905,0,1513635,0,0,1513635,25.461416782982525,6418110,107.96141320003039,-136259.6400000006,29550,473291.77300000016,7.9614167829825249,15088.37,null,null,null,75,null,41,"Brewster                     ",1,394,5944818.4399999995,4904475,1513635]
[42,"Bridgewater                  ",0,448617.29999999993,258421,190196,0,190196,430278.72000000003,257942,172337,0,{"$f":"ROUND(100-'Townwide Contributions'!L51,2)","v":33.19},24,22,0,0,0,190196,190856,0,190196,0,0,190196,0,448138,104.15063054942618,-18338.5799999999,0,47386.492831999989,"",19558.12,null,null,null,0,null,42,"Bridgewater                  ",0,22,430278.72000000003,257942,190196]
[43,"Brimfield                    ",1,3424747.8600000008,1917011,1791067,0,1791067,3601518.5399999996,2018377,1583142,0,{"$f":"ROUND(100-'Townwide Contributions'!L52,2)","v":39.64},251,252,0,18900,18900,1791067,1798627,0,1809967,0,0,1809967,50.25566243510162,3828344,106.29805059951185,176770.67999999877,18900,382325.05074400012,10.615662435101619,14291.74,null,null,null,75,null,43,"Brimfield                    ",1,252,3601518.5399999996,2018377,1809967]
[44,"Brockton                     ",1,344720845.48999995,62646528,282074317,0,282074317,352935379.09999996,64908788,288026591,5952274,{"$f":"ROUND(100-'Townwide Contributions'!L53,2)","v":76.36},17203,16574,1,1243050,0,282074317,282571537,0,288026591,0,0,288026591,81.608874614520062,352935379,99.999999971666213,8214533.6100000143,5952274,18525135.519240022,5.2488746145200622,21294.52,null,null,null,359.13322070713167,null,44,"Brockton                     ",1,16574,352935379.09999996,64908788,288026591]
[45,"Brookfield                   ",1,3273863.3800000004,1445613,1968286,0,1968286,3203866.4800000004,1520945,1682921,0,{"$f":"ROUND(100-'Townwide Contributions'!L54,2)","v":47.49},221,213,0,15975,15975,1968286,1974676,0,1984261,0,0,1984261,61.933323763229978,3505206,109.4054955748343,-69996.899999999907,15975,462744.80864799954,14.443323763229976,15041.63,null,null,null,75,null,45,"Brookfield                   ",1,213,3203866.4800000004,1520945,1984261]
[46,"Brookline                    ",1,95312162.890479997,78632534,17784893,0,17784893,98953992.458999991,81637044,17316948,0,{"$f":"ROUND(100-'Townwide Contributions'!L55,2)","v":17.5},6881,6822,0,511650,511650,17784893,17989553,0,18296543,0,0,18296543,18.489949263624588,99933587,100.98994948728914,3641829.5685199946,511650,979594.31967500225,0.98994926362458813,14505.13,null,null,null,75,null,46,"Brookline                    ",1,6822,98953992.458999991,81637044,18296543]
[47,"Buckland                     ",0,0,0,0,0,0,18046.96,10370,7677,7677,{"$f":"ROUND(100-'Townwide Contributions'!L56,2)","v":40.5},0,1,0,0,0,7621,7651,0,7677,0,0,7677,0,18047,100.00022164397771,18046.96,7677,367.98120000000017,"",18046.96,null,null,null,7677,null,47,"Buckland                     ",0,1,18046.96,10370,7677]
[48,"Burlington                   ",1,50997674.377630003,41124446,10503556,0,10503556,52951493.562580004,42983788,9967706,0,{"$f":"ROUND(100-'Townwide Contributions'!L57,2)","v":17.5},3523,3477,0,260775,260775,10503556,10607866,0,10764331,0,0,10764331,20.32866360469761,53748119,101.50444375375081,1953819.1849500015,260775,1497819.6265485007,2.8286636046976099,15229.07,null,null,null,75,null,48,"Burlington                   ",1,3477,52951493.562580004,42983788,10764331]
[49,"Cambridge                    ",1,129510666.66434997,106846300,22664367,0,22664367,130485995.78392002,107650947,22835049,170682,{"$f":"ROUND(100-'Townwide Contributions'!L58,2)","v":17.5},7446,7397,1,554775,384093,22664367,22886277,0,23219142,0,0,23219142,17.794355524902489,130870089,100.29435589142916,975329.11957004666,554775,384092.73781399801,0.29435552490248895,17640.39,null,null,null,75,null,49,"Cambridge                    ",1,7397,130485995.78392002,107650947,23219142]
[50,"Canton                       ",1,47358582.59928,38091394,9502600,0,9502600,49640688.383860007,39968834,9671854,169254,{"$f":"ROUND(100-'Townwide Contributions'!L59,2)","v":17.5},3301,3324,1,249300,80046,9502600,9602320,0,9751900,0,0,9751900,19.644973342413795,49720734,100.16125001233065,2282105.7845800072,249300,1064779.5328244995,2.1449733424137953,14934.02,null,null,null,75,null,50,"Canton                       ",1,3324,49640688.383860007,39968834,9751900]
[51,"Carlisle                     ",1,7237676.1200499991,5971083,1533774,0,1533774,7493326.1847400004,6103524,1389802,0,{"$f":"ROUND(100-'Townwide Contributions'!L60,2)","v":17.5},576,571,0,42825,42825,1533774,1550904,0,1576599,0,0,1576599,21.040042314062216,7680123,102.49284243945509,255650.06469000131,42825,265266.9176705,3.5400423140622159,13123.16,null,null,null,75,null,51,"Carlisle                     ",1,571,7493326.1847400004,6103524,1576599]
[52,"Carver                       ",1,21388080.561930001,11861024,10839443,0,10839443,21694607.700759999,12833218,8861390,0,{"$f":"ROUND(100-'Townwide Contributions'!L61,2)","v":37.119999999999997},1467,1424,0,106800,106800,10839443,10882163,0,10946243,0,0,10946243,50.456054107936389,23779461,109.61000691045898,306527.13882999867,106800,2893204.6214778889,13.336054107936391,15234.98,null,null,null,75,null,52,"Carver                       ",1,1424,21694607.700759999,12833218,10946243]
[53,"Charlemont                   ",0,240365.82,133498,106868,0,106868,303950,183419,120531,13663,{"$f":"ROUND(100-'Townwide Contributions'!L62,2)","v":30.39},12,15,0,0,0,106868,107318,0,120531,0,0,120531,0,303950,100,63584.179999999993,13663,28160.595000000001,"",20263.330000000002,null,null,null,910.86666666666667,null,53,"Charlemont                   ",0,15,303950,183419,120531]
[54,"Charlton                     ",0,0,0,0,0,0,0,0,0,0,{"$f":"ROUND(100-'Townwide Contributions'!L63,2)","v":32.159999999999997},0,0,0,0,0,0,0,0,0,0,0,0,0,0,0,0,0,0,"",0,null,null,null,0,null,54,"Charlton                     ",0,0,0,0,0]
[55,"Chatham                      ",0,0,0,0,0,0,0,0,0,0,{"$f":"ROUND(100-'Townwide Contributions'!L64,2)","v":17.5},0,0,0,0,0,0,0,0,0,0,0,0,0,0,0,0,0,0,"",0,null,null,null,0,null,55,"Chatham                      ",0,0,0,0,0]
[56,"Chelmsford                   ",1,68619087.450000003,55152965,15450424,0,15450424,72340954.5,57928714,14412241,0,{"$f":"ROUND(100-'Townwide Contributions'!L65,2)","v":17.5},5132,5175,0,388125,388125,15450424,15605674,0,15838549,0,0,15838549,21.894304698454043,73767263,101.97164733290877,3721867.049999997,388125,3178881.9625000004,4.394304698454043,13978.93,null,null,null,75,null,56,"Chelmsford                   ",1,5175,72340954.5,57928714,15838549]
[57,"Chelsea                      ",1,155824471.33182999,25069966,130754505,0,130754505,158213129.28880003,26862562,131350567,596062,{"$f":"ROUND(100-'Townwide Contributions'!L66,2)","v":76.41},7029,6708,1,503100,0,130754505,130955745,0,131350567,0,0,131350567,83.021281223908105,158213129,99.999999817461401,2388657.956970036,596062,10459914.910427898,6.611281223908108,23585.74,null,null,null,88.858378056052473,null,57,"Chelsea                      ",1,6708,158213129.28880003,26862562,131350567]
[58,"Cheshire                     ",0,17354.29,8633,16351,0,16351,0,0,0,0,{"$f":"ROUND(100-'Townwide Contributions'!L67,2)","v":46.8},1,0,0,0,0,0,0,0,16351,16351,0,0,0,0,0,-17354.29,-16351,0,"",0,null,null,null,0,null,58,"Cheshire                     ",0,0,0,0,0]
[59,"Chester                      ",0,156188.61000000002,76907,79282,0,79282,231762.16,116039,115723,36441,{"$f":"ROUND(100-'Townwide Contributions'!L68,2)","v":45.76},9,11,0,0,0,109685,110015,0,115723,0,0,115723,0,231762,99.99993096370865,75573.549999999988,36441,9668.6355840000033,"",21069.29,null,null,null,3312.818181818182,null,59,"Chester                      ",0,11,231762.16,116039,115723]
[60,"Chesterfield                 ",0,292428.69,227046,133594,0,133594,108281.76,86457,21825,0,{"$f":"ROUND(100-'Townwide Contributions'!L69,2)","v":17.5},15,6,0,0,0,103391.34,103571.34,0,133594,25312.240000000005,0,108281.76,0,194738.76,179.84447242083985,-184146.93,-25312.240000000005,89332.45199999999,"",18046.96,null,null,null,-4218.7066666666678,null,60,"Chesterfield                 ",0,6,108281.76,86457,108281.76]
[61,"Chicopee                     ",1,136705068.66,36463911,100241158,0,100241158,136875016.69,38338156,98536861,0,{"$f":"ROUND(100-'Townwide Contributions'!L70,2)","v":69.14},7198,7057,0,529275,529275,100241158,100452868,0,100770433,0,0,100770433,73.622225178046122,139108589,101.6318334521622,169948.03000000119,529275,6135046.4605340064,4.4822251780461215,19395.64,null,null,null,75,null,61,"Chicopee                     ",1,7057,136875016.69,38338156,100770433]
[62,"Chilmark                     ",0,0,0,0,0,0,0,0,0,0,{"$f":"ROUND(100-'Townwide Contributions'!L71,2)","v":17.5},0,0,0,0,0,0,0,0,0,0,0,0,0,0,0,0,0,0,"",0,null,null,null,0,null,62,"Chilmark                     ",0,0,0,0,0]
[63,"Clarksburg                   ",1,2998078.92,793818,2204261,0,2204261,3011061.5099999993,853595,2157467,0,{"$f":"ROUND(100-'Townwide Contributions'!L72,2)","v":67.89},201,196,0,14700,14700,2204261,2210141,0,2218961,0,0,2218961,73.693645667172063,3072556,102.04228607737743,12982.589999999385,14700,174751.34086100035,5.8036456671720629,15362.56,null,null,null,75,null,63,"Clarksburg                   ",1,196,3011061.5099999993,853595,2218961]
[64,"Clinton                      ",1,36558782.019999996,14710647,21848135,0,21848135,38523372.390000001,15572690,22950682,1102547,{"$f":"ROUND(100-'Townwide Contributions'!L73,2)","v":55.33},2129,2137,1,160275,0,21848135,21912245,0,22950682,0,0,22950682,59.575993938572211,38523372,99.999998987627578,1964590.3700000048,1102547,1635700.0566129982,4.2459939385722123,18026.849999999999,null,null,null,515.93214787084696,null,64,"Clinton                      ",1,2137,38523372.390000001,15572690,22950682]
[65,"Cohasset                     ",1,18191220.125599999,15007757,3333035,0,3333035,{"$f":"SUMIF(dist1755,A74,found1755)","v":18899522.727249999},{"$f":"SUMIF(dist1755,A74,prelcont1755)","v":15592106},{"$f":"ROUND(MAX(found-prelcont436,0),0)","v":3307417},{"$f":"IF(foundaid>priorc70,foundaid-priorc70,0)","v":0},{"$f":"ROUND(100-'Townwide Contributions'!L74,2)","v":17.5},1408,{"$f":"SUMIF(dist1755,A74,enro1755)","v":1396},{"$f":"IF(AND(C74=1,L74>0),1,0)","v":0},{"$f":"IF(nonop=1,enro*$Q$6,0)","v":104700},{"$f":"IF((foundinc)<Q74,Q74-(foundinc),0)","v":104700},3333035,{"$f":"S74+30*enro","v":3374915},{"$f":"IF(AND(T74-priorc70-foundinc-minaid>0,nonop=1), T74-priorc70-foundinc-minaid,0)","v":0},{"$f":"priorc70+ foundinc+minaidadjincrement+minaid","v":3437735},{"$f":"IF(AND(C74=0,V74>found),V74-found,0)","v":0},0,{"$f":"priorc70+foundinc+minaidadjincrement+minaid-rednonop+holdharmlessaid","v":3437735},{"$f":"IF(C74=1, Y74/I74*100, 0)","v":18.189533405747611},{"$f":"prelcont436+chapter70","v":19029841},{"$f":"IF(found>0,AA74*100/found,0)","v":100.68953208306209},{"$f":"I74-D74","v":708302.60164999962},{"$f":"Y74-F74","v":104700},{"$f":"Y74-((M74/100)*I74)","v":130318.52273125062},{"$f":"IF(C74=1, (Y74/I74*100)-M74, \"\")","v":0.68953340574761057},{"$f":"IFERROR(ROUND(I74/O74, 2), 0)","v":13538.34},null,null,null,{"$f":"IFERROR(AD74/O74, 0)","v":75},null,{"$f":"A74","v":65},{"$f":"B74","v":"Cohasset                     "},{"$f":"C74","v":1},1396,{"$f":"I74","v":18899522.727249999},{"$f":"J74","v":15592106},{"$f":"Y74","v":3437735}]
[66,"Colrain                      ",0,0,0,0,0,{"$f":"F75+G75","v":0},18046.96,9287,8760,8760,{"$f":"ROUND(100-'Townwide Contributions'!L75,2)","v":46.5},0,1,0,0,0,8611,8641,0,8760,0,0,8760,0,18047,100.00022164397771,18046.96,8760,368.16359999999986,"",18046.96,null,null,null,8760,null,66,"Colrain                      ",0,{"$f":"O75","v":1},18046.96,9287,8760]
[67,"Concord                      ",1,24461959.490359999,20181116,4524105,0,4524105,24593938.521120001,20289999,4303940,0,{"$f":"ROUND(100-'Townwide Contributions'!L76,2)","v":17.5},1892,1837,0,137775,137775,4524105,4579215,0,4661880,0,0,4661880,18.955402348414506,24951879,101.45540121023161,131979.03076000139,137775,357940.75880399998,1.4554023484145056,13388.1,null,null,null,75,null,67,"Concord                      ",1,1837,24593938.521120001,20289999,4661880]
[68,"Conway                       ",1,1196505.07,987117,656966,0,656966,1135501.8099999998,936789,198713,0,{"$f":"ROUND(100-'Townwide Contributions'!L77,2)","v":17.5},83,78,0,5850,5850,656966,659306,0,662816,0,0,662816,58.372077804085585,1599605,140.87207839853644,-61003.260000000242,5850,464103.18325,40.872077804085585,14557.72,null,null,null,75,null,68,"Conway                       ",1,78,1135501.8099999998,936789,662816]
[69,"Cummington                   ",0,86771.45,71586,59811.12,0,59811.12,126328.72,90358,35971,0,{"$f":"ROUND(100-'Townwide Contributions'!L78,2)","v":17.5},5,7,0,0,0,59811.12,60021.120000000003,0,59811.12,0,0,59811.12,0,150169.12,118.87171816511716,39557.270000000004,0,37703.594000000005,"",18046.96,null,null,null,0,null,69,"Cummington                   ",0,7,126328.72,90358,59811.12]
[70,"Dalton                       ",0,483325.88,221639,261687,0,261687,643993.91999999993,306208,337786,76099,{"$f":"ROUND(100-'Townwide Contributions'!L79,2)","v":48.61},26,32,0,0,0,322697,323657,0,337786,0,0,337786,0,643994,100.00001242247754,160668.03999999992,76099,24740.555488000042,"",20124.810000000001,null,null,null,2378.09375,null,70,"Dalton                       ",0,32,643993.91999999993,306208,337786]
[71,"Danvers                      ",1,46476053.399999999,36728197,10137350,0,10137350,45833930.899999999,37812993,8020938,0,{"$f":"ROUND(100-'Townwide Contributions'!L80,2)","v":17.5},3313,3197,0,239775,239775,10137350,10233260,0,10377125,0,0,10377125,22.640704814607123,48190118,105.14070483097055,-642122.5,239775,2356187.0925000012,5.1407048146071226,14336.54,null,null,null,75,null,71,"Danvers                      ",1,3197,45833930.899999999,37812993,10377125]
[72,"Dartmouth                    ",1,45395663.050000004,37451422,11271317,0,11271317,47009657.390000001,38782967,8226690,0,{"$f":"ROUND(100-'Townwide Contributions'!L81,2)","v":17.5},3203,3181,0,238575,238575,11271317,11366747,0,11509892,0,0,11509892,24.484101010377518,50292859,106.98410027276313,1613994.3399999961,238575,3283201.9567500008,6.9841010103775183,14778.26,null,null,null,75,null,72,"Dartmouth                    ",1,3181,47009657.390000001,38782967,11509892]
[73,"Dedham                       ",1,40094755.539070003,30840581,10145563,0,10145563,38674910.382760003,31906801,6768109,0,{"$f":"ROUND(100-'Townwide Contributions'!L82,2)","v":17.5},2707,2566,0,192450,192450,10145563,10222543,0,10338013,0,0,10338013,26.730541577695149,42244814,109.23054140761847,-1419845.1563099995,192450,3569903.6830169996,9.2305415776951492,15072.06,null,null,null,75,null,73,"Dedham                       ",1,2566,38674910.382760003,31906801,10338013]
[74,"Deerfield                    ",1,3493016.6899999995,2881739,1225219,0,1225219,3599915.77,2969931,629985,0,{"$f":"ROUND(100-'Townwide Contributions'!L83,2)","v":17.5},261,254,0,19050,19050,1225219,1232839,0,1244269,0,0,1244269,34.563836475540647,4214200,117.06385008002562,106899.08000000054,19050,614283.74025000003,17.063836475540647,14172.9,null,null,null,75,null,74,"Deerfield                    ",1,254,3599915.77,2969931,1244269]
[75,"Dennis                       ",0,0,0,0,0,0,0,0,0,0,{"$f":"ROUND(100-'Townwide Contributions'!L84,2)","v":17.5},0,0,0,0,0,0,0,0,0,0,0,0,0,0,0,0,0,0,"",0,null,null,null,0,null,75,"Dennis                       ",0,0,0,0,0]
[76,"Dighton                      ",0,17354.29,9474,8253,0,8253,0,0,0,0,{"$f":"ROUND(100-'Townwide Contributions'!L85,2)","v":40.22},1,0,0,0,0,0,0,0,8253,8253,0,0,0,0,0,-17354.29,-8253,0,"",0,null,null,null,0,null,76,"Dighton                      ",0,0,0,0,0]
[77,"Douglas                      ",1,14294446.849999998,9322034,9195163,0,9195163,14629344.890000002,9866311,4763034,0,{"$f":"ROUND(100-'Townwide Contributions'!L86,2)","v":23.78},1041,1022,0,76650,76650,9195163,9225823,0,9271813,0,0,9271813,63.378183163470403,19138124,130.82010263550492,334898.04000000469,76650,5792954.785157999,39.598183163470402,14314.43,null,null,null,75,null,77,"Douglas                      ",1,1022,14629344.890000002,9866311,9271813]
[78,"Dover                        ",1,6012595.3087300006,4960391,1154911,0,1154911,6029124.488570001,4974028,1055096,0,{"$f":"ROUND(100-'Townwide Contributions'!L87,2)","v":17.5},474,454,0,34050,34050,1154911,1168531,0,1188961,0,0,1188961,19.720292759819923,6162989,102.2202976847431,16529.179840000346,34050,133864.21450024983,2.2202927598199231,13280.01,null,null,null,75,null,78,"Dover                        ",1,454,6029124.488570001,4974028,1188961]
[79,"Dracut                       ",1,55951048.689999998,28785919,28136689,0,28136689,58046318.310000002,30656645,27389673,0,{"$f":"ROUND(100-'Townwide Contributions'!L88,2)","v":38.68},3775,3730,0,279750,279750,28136689,28248589,0,28416439,0,0,28416439,48.954765482696466,59073084,101.76887306532774,2095269.6200000048,279750,5964123.0776920021,10.274765482696466,15562.02,null,null,null,75,null,79,"Dracut                       ",1,3730,58046318.310000002,30656645,28416439]
[80,"Dudley                       ",0,17354.29,6371,10983,0,10983,18046.96,7007,11040,57,{"$f":"ROUND(100-'Townwide Contributions'!L89,2)","v":51},1,1,0,0,0,10983,11013,0,11040,0,0,11040,0,18047,100.00022164397771,692.66999999999825,57,1836.0504000000001,"",18046.96,null,null,null,57,null,80,"Dudley                       ",0,1,18046.96,7007,11040]
[81,"Dunstable                    ",0,0,0,0,0,0,0,0,0,0,{"$f":"ROUND(100-'Townwide Contributions'!L90,2)","v":17.5},0,0,0,0,0,0,0,0,0,0,0,0,0,0,0,0,0,0,"",0,null,null,null,0,null,81,"Dunstable                    ",0,0,0,0,0]
[82,"Duxbury                      ",1,35054190.457200006,28849041,7351890,0,7351890,35156207.320330001,29003871,6152336,0,{"$f":"ROUND(100-'Townwide Contributions'!L91,2)","v":17.5},2693,2572,0,192900,192900,7351890,7429050,0,7544790,0,0,7544790,21.460762053354447,36548661,103.96076194164658,102016.86312999576,192900,1392453.7189422501,3.960762053354447,13668.82,null,null,null,75,null,82,"Duxbury                      ",1,2572,35156207.320330001,29003871,7544790]
[83,"East Bridgewater             ",1,27680260.599999998,15476590,13370869,0,13370869,28408134.669999994,16296001,12112134,0,{"$f":"ROUND(100-'Townwide Contributions'!L92,2)","v":36.43},1956,1918,0,143850,143850,13370869,13428409,0,13514719,0,0,13514719,47.573412182785887,29810720,104.93726654809612,727874.06999999657,143850,3165635.5397190023,11.143412182785887,14811.33,null,null,null,75,null,83,"East Bridgewater             ",1,1918,28408134.669999994,16296001,13514719]
[84,"East Brookfield              ",0,448617.29999999993,227537,221080,0,221080,412231.75999999995,212357,199875,0,{"$f":"ROUND(100-'Townwide Contributions'!L93,2)","v":43.19},24,21,0,0,0,221080,221710,0,221080,0,0,221080,0,433437,105.14400928254534,-36385.539999999979,0,43037.102856000041,"",19630.080000000002,null,null,null,0,null,84,"East Brookfield              ",0,21,412231.75999999995,212357,221080]
[85,"Eastham                      ",1,2811123.1,2319176,556679,0,556679,3056888.3199999994,2521933,534955,0,{"$f":"ROUND(100-'Townwide Contributions'!L94,2)","v":17.5},195,197,0,14775,14775,556679,562589,0,571454,0,0,571454,18.693977017779968,3093387,101.19398146674854,245765.21999999927,14775,36498.544000000111,1.193977017779968,15517.2,null,null,null,75,null,85,"Eastham                      ",1,197,3056888.3199999994,2521933,571454]
[86,"Easthampton                  ",1,23886649.57,15814907,9063542,0,9063542,23938957.649999999,16827061,7111897,0,{"$f":"ROUND(100-'Townwide Contributions'!L95,2)","v":23.95},1565,1533,0,114975,114975,9063542,9109532,0,9178517,0,0,9178517,38.341339394115188,26005578,108.63287524968742,52308.079999998212,114975,3445136.6428250009,14.391339394115189,15615.76,null,null,null,75,null,86,"Easthampton                  ",1,1533,23938957.649999999,16827061,9178517]
[87,"East Longmeadow              ",1,34975334.979999997,20638923,15669936,0,15669936,34286215.829999998,21652294,12633922,0,{"$f":"ROUND(100-'Townwide Contributions'!L96,2)","v":31.47},2468,2355,0,176625,176625,15669936,15740586,0,15846561,0,0,15846561,46.218460149033021,37498855,109.37006051040775,-689119.14999999851,176625,5056688.8782990016,14.748460149033022,14558.9,null,null,null,75,null,87,"East Longmeadow              ",1,2355,34286215.829999998,21652294,15846561]
[88,"Easton                       ",1,45287684.259999998,36311272,11511787,0,11511787,46300939.709999993,38111434,8189506,0,{"$f":"ROUND(100-'Townwide Contributions'!L97,2)","v":17.5},3349,3286,0,246450,246450,11511787,11610367,0,11758237,0,0,11758237,25.395244834437943,49869671,107.70768652289198,1013255.4499999955,246450,3655572.5507500013,7.8952448344379427,14090.37,null,null,null,75,null,88,"Easton                       ",1,3286,46300939.709999993,38111434,11758237]
[89,"Edgartown                    ",1,6271711.71,5174162,1269737,0,1269737,6499194.0899999999,5361835,1137359,0,{"$f":"ROUND(100-'Townwide Contributions'!L98,2)","v":17.5},393,384,0,28800,28800,1269737,1281257,0,1298537,0,0,1298537,19.979969547270436,6660372,102.47996763549494,227482.37999999989,28800,161178.03425000003,2.4799695472704357,16924.98,null,null,null,75,null,89,"Edgartown                    ",1,384,6499194.0899999999,5361835,1298537]
[90,"Egremont                     ",0,0,0,0,0,0,0,0,0,0,{"$f":"ROUND(100-'Townwide Contributions'!L99,2)","v":17.5},0,0,0,0,0,0,0,0,0,0,0,0,0,0,0,0,0,0,"",0,null,null,null,0,null,90,"Egremont                     ",0,0,0,0,0]
[91,"Erving                       ",1,2485223.59,2050310,603466,0,603466,2479188.0699999998,2045330,433858,0,{"$f":"ROUND(100-'Townwide Contributions'!L100,2)","v":17.5},175,165,0,12375,12375,603466,608416,0,615841,0,0,615841,24.840430923822574,2661171,107.3404245608523,-6035.5200000000186,12375,181983.08775000006,7.3404309238225736,15025.38,null,null,null,75,null,91,"Erving                       ",1,165,2479188.0699999998,2045330,615841]
[92,"Essex                        ",0,0,0,0,0,0,0,0,0,0,{"$f":"ROUND(100-'Townwide Contributions'!L101,2)","v":17.5},0,0,0,0,0,0,0,0,0,0,0,0,0,0,0,0,0,0,"",0,null,null,null,0,null,92,"Essex                        ",0,0,0,0,0]
[93,"Everett                      ",1,172711734.58173999,45846412,126865323,0,126865323,174880352.35727996,47849900,127030452,165129,{"$f":"ROUND(100-'Townwide Contributions'!L102,2)","v":70.83},8009,7670,1,575250,410121,126865323,127095423,0,127440573,0,0,127440573,72.873007906365231,175290473,100.23451499107354,2168617.7755399644,575250,3572819.4253386259,2.0430079063652329,22800.57,null,null,null,75,null,93,"Everett                      ",1,7670,174880352.35727996,47849900,127440573]
[94,"Fairhaven                    ",1,24525650.529999997,15860855,10036083,0,10036083,25249369.249999993,16358510,8890859,0,{"$f":"ROUND(100-'Townwide Contributions'!L103,2)","v":28.92},1590,1558,0,116850,116850,10036083,10082823,0,10152933,0,0,10152933,40.210640113316906,26511443,104.99843674312778,723718.71999999508,116850,2850815.4129000017,11.290640113316904,16206.27,null,null,null,75,null,94,"Fairhaven                    ",1,1558,25249369.249999993,16358510,10152933]
[95,"Fall River                   ",1,273966514.06,43178238,230788276,0,230788276,297582870.11000001,47033824,250549046,19760770,{"$f":"ROUND(100-'Townwide Contributions'!L104,2)","v":78.77},13106,13241,1,993075,0,230788276,231185506,0,250549046,0,0,250549046,84.194713864875965,297582870,99.999999963035506,23616356.050000012,19760770,16143019.214352995,5.4247138648759687,22474.35,null,null,null,1492.3925685371196,null,95,"Fall River                   ",1,13241,297582870.11000001,47033824,250549046]
[96,"Falmouth                     ",1,43846641.970000006,36173479,10042889,0,10042889,43356186.710000001,35768854,7587333,0,{"$f":"ROUND(100-'Townwide Contributions'!L105,2)","v":17.5},2810,2721,0,204075,204075,10042889,10124519,0,10246964,0,0,10246964,23.634375570295628,46015818,106.13437548783911,-490455.26000000536,204075,2659631.3257500008,6.134375570295628,15933.92,null,null,null,75,null,96,"Falmouth                     ",1,2721,43356186.710000001,35768854,10246964]
[97,"Fitchburg                    ",1,110532274.87,24320887,86211388,0,86211388,118652851.60999998,25866520,92786332,6574944,{"$f":"ROUND(100-'Townwide Contributions'!L106,2)","v":73.03},5791,5826,1,436950,0,86211388,86386168,0,92786332,0,0,92786332,78.199833161177921,118652852,100.00000032868996,8120576.7399999797,6574944,6134154.4692170024,5.1698331611779196,20366.09,null,null,null,1128.5520082389289,null,97,"Fitchburg                    ",1,5826,118652851.60999998,25866520,92786332]
[98,"Florida                      ",1,767290.65999999992,449313,572487,0,572487,762027.87,502830,259198,0,{"$f":"ROUND(100-'Townwide Contributions'!L107,2)","v":29.88},47,45,0,3375,3375,572487,573837,0,575862,0,0,575862,75.569676998821578,1078692,141.55545255844777,-5262.7899999999208,3375,348168.07244399999,45.689676998821582,16933.95,null,null,null,75,null,98,"Florida                      ",1,45,762027.87,502830,575862]
[99,"Foxborough                   ",1,37172001.841999993,29764062,10082632,0,10082632,37565196.074800007,30991287,6573909,0,{"$f":"ROUND(100-'Townwide Contributions'!L108,2)","v":17.5},2580,2518,0,188850,188850,10082632,10158172,0,10271482,0,0,10271482,27.343081025179195,41262769,109.84308165951634,393194.23280001432,188850,3697572.6869099988,9.8430810251791954,14918.66,null,null,null,75,null,99,"Foxborough                   ",1,2518,37565196.074800007,30991287,10271482]
[100,"Framingham                   ",1,173968070.02614003,81468888,92499182,0,92499182,171534104.08094999,85137964,86396140,0,{"$f":"ROUND(100-'Townwide Contributions'!L109,2)","v":44.17},9532,8948,0,671100,671100,92499182,92767622,0,93170282,0,0,93170282,54.315893914618449,178308246,103.94915166015801,-2433965.9451900423,671100,17403668.227444381,10.145893914618448,19170.11,null,null,null,75,null,100,"Framingham                   ",1,8948,171534104.08094999,85137964,93170282]
[101,"Franklin                     ",1,68009481.34450002,52439022,30460643,0,30460643,68032792.415000007,54507737,13525055,0,{"$f":"ROUND(100-'Townwide Contributions'!L110,2)","v":17.5},4951,4734,0,355050,355050,30460643,30602663,0,30815693,0,0,30815693,45.295352294264632,85323430,125.41515197484047,23311.07049998641,355050,18909954.327375002,27.795352294264632,14371.1,null,null,null,75,null,101,"Franklin                     ",1,4734,68032792.415000007,54507737,30815693]
[102,"Freetown                     ",0,17354.29,13171,16860.330000000016,0,16860.330000000016,18046.96,13223,4824,0,{"$f":"ROUND(100-'Townwide Contributions'!L111,2)","v":21.87},1,1,0,0,0,16860.330000000016,16890.330000000016,0,16860.330000000016,0,0,16860.330000000016,0,30083.330000000016,166.69472310017875,692.66999999999825,0,12913.459848000017,"",18046.96,null,null,null,0,null,102,"Freetown                     ",0,1,18046.96,13223,16860.330000000016]
[103,"Gardner                      ",1,45038410.019999996,12662453,32375957,0,32375957,46507130.32,13487454,33019676,643719,{"$f":"ROUND(100-'Townwide Contributions'!L112,2)","v":65.88},2500,2465,1,184875,0,32375957,32449907,0,33019676,0,0,33019676,70.999168886152859,46507130,99.999999311933465,1468720.3000000045,643719,2380778.5451840013,5.1191688861528633,18866.990000000002,null,null,null,261.14361054766732,null,103,"Gardner                      ",1,2465,46507130.32,13487454,33019676]
[104,"Aquinnah",0,0,0,0,0,0,0,0,0,0,{"$f":"ROUND(100-'Townwide Contributions'!L113,2)","v":17.5},0,0,0,0,0,0,0,0,0,0,0,0,0,0,0,0,0,0,"",0,null,null,null,0,null,104,"Aquinnah",0,0,0,0,0]
[105,"Georgetown                   ",1,15021753.369999997,12206104,6011432,0,6011432,15137073.930000005,12426278,2710796,0,{"$f":"ROUND(100-'Townwide Contributions'!L114,2)","v":17.5},1157,1114,0,83550,83550,6011432,6044852,0,6094982,0,0,6094982,40.265258848478105,18521260,122.35693691957805,115320.56000000797,83550,3445994.062249999,22.765258848478105,13588.04,null,null,null,75,null,105,"Georgetown                   ",1,1114,15137073.930000005,12426278,6094982]
[106,"Gill                         ",0,0,0,0,0,0,0,0,0,0,{"$f":"ROUND(100-'Townwide Contributions'!L115,2)","v":39.729999999999997},0,0,0,0,0,0,0,0,0,0,0,0,0,0,0,0,0,0,"",0,null,null,null,0,null,106,"Gill                         ",0,0,0,0,0]
[107,"Gloucester                   ",1,50710044.196819998,39344590,12161741,0,12161741,52844391.700600013,41501767,11342625,0,{"$f":"ROUND(100-'Townwide Contributions'!L116,2)","v":17.5},3009,2952,0,221400,221400,12161741,12250301,0,12383141,0,0,12383141,23.43321703873336,53884908,101.96901935269732,2134347.5037800148,221400,3135372.4523949977,5.9332170387333605,17901.22,null,null,null,75,null,107,"Gloucester                   ",1,2952,52844391.700600013,41501767,12383141]
[108,"Goshen                       ",0,240365.82,155850,96381,0,96381,303950,192480,111470,15089,{"$f":"ROUND(100-'Townwide Contributions'!L117,2)","v":34.880000000000003},12,15,0,0,0,122996,123446,0,111470,0,0,111470,0,303950,100,63584.179999999993,15089,5452.2400000000052,"",20263.330000000002,null,null,null,1005.9333333333333,null,108,"Goshen                       ",0,15,303950,192480,111470]
[109,"Gosnold                      ",0,0,0,0,0,0,0,0,0,0,{"$f":"ROUND(100-'Townwide Contributions'!L118,2)","v":100},0,0,0,0,0,0,0,0,0,0,0,0,0,0,0,0,0,0,"",0,null,null,null,0,null,109,"Gosnold                      ",0,0,0,0,0]
[110,"Grafton                      ",1,39402336.330000006,27625677,13539728,0,13539728,41546834.43,29482229,12064605,0,{"$f":"ROUND(100-'Townwide Contributions'!L119,2)","v":20.18},2956,2971,0,222825,222825,13539728,13628858,0,13762553,0,0,13762553,33.125394964056234,43244782,104.0868277771217,2144498.099999994,222825,5378401.8120259997,12.945394964056234,13984.12,null,null,null,75,null,110,"Grafton                      ",1,2971,41546834.43,29482229,13762553]
[111,"Granby                       ",1,9473831.2400000002,6338906,4929700,0,4929700,9405693.3199999984,6621887,2783806,0,{"$f":"ROUND(100-'Townwide Contributions'!L120,2)","v":23.24},641,626,0,46950,46950,4929700,4948480,0,4976650,0,0,4976650,52.911038353948804,11598537,123.31400360818911,-68137.920000001788,46950,2790766.8724320005,29.671038353948806,15025.07,null,null,null,75,null,111,"Granby                       ",1,626,9405693.3199999984,6621887,4976650]
[112,"Granville                    ",0,465971.59,326452,139520,0,139520,430278.72000000003,295997,134282,0,{"$f":"ROUND(100-'Townwide Contributions'!L121,2)","v":26.86},25,22,0,0,0,140319,140979,0,139520,0,0,139520,0,435517,101.21741553939734,-35692.869999999995,0,23947.135807999992,"",19558.12,null,null,null,0,null,112,"Granville                    ",0,22,430278.72000000003,295997,139520]
[113,"Great Barrington             ",0,0,0,0,0,0,0,0,0,0,{"$f":"ROUND(100-'Townwide Contributions'!L122,2)","v":17.5},0,0,0,0,0,0,0,0,0,0,0,0,0,0,0,0,0,0,"",0,null,null,null,0,null,113,"Great Barrington             ",0,0,0,0,0]
[114,"Greenfield                   ",1,28110844.75,11981726,16748064,0,16748064,28107599.75,12549723,15557877,0,{"$f":"ROUND(100-'Townwide Contributions'!L123,2)","v":51.44},1686,1631,0,122325,122325,16748064,16796994,0,16870389,0,0,16870389,60.020738697191675,29420112,104.66959918909475,-3245,122325,2411839.6886,8.580738697191677,17233.349999999999,null,null,null,75,null,114,"Greenfield                   ",1,1631,28107599.75,12549723,16870389]
[115,"Groton                       ",0,0,0,0,0,0,0,0,0,0,{"$f":"ROUND(100-'Townwide Contributions'!L124,2)","v":17.5},0,0,0,0,0,0,0,0,0,0,0,0,0,0,0,0,0,0,"",0,null,null,null,0,null,115,"Groton                       ",0,0,0,0,0]
[116,"Groveland                    ",0,138834.32,101705,65470,0,65470,126328.72,94383,31946,0,{"$f":"ROUND(100-'Townwide Contributions'!L125,2)","v":17.5},8,7,0,0,0,65470,65680,0,65470,0,0,65470,0,159853,126.53733846111953,-12505.600000000006,0,43362.474000000002,"",18046.96,null,null,null,0,null,116,"Groveland                    ",0,7,126328.72,94383,65470]
[117,"Hadley                       ",1,6594207.0499999998,5374427,1462046,0,1462046,6534075.6100000003,5390612,1143464,0,{"$f":"ROUND(100-'Townwide Contributions'!L126,2)","v":17.5},435,415,0,31125,31125,1462046,1474496,0,1493171,0,0,1493171,22.852061854239853,6883783,105.35205606535673,-60131.439999999478,31125,349707.76824999996,5.352061854239853,15744.76,null,null,null,75,null,117,"Hadley                       ",1,415,6534075.6100000003,5390612,1493171]
[118,"Halifax                      ",1,7476145.6879400015,4173331,3649183,0,3649183,7659877.793300001,4407182,3252696,0,{"$f":"ROUND(100-'Townwide Contributions'!L127,2)","v":35.39},543,538,0,40350,40350,3649183,3665323,0,3689533,0,0,3689533,48.166995604384034,8096715,105.70292658039656,183732.10535999946,40350,978702.24895112962,12.776995604384034,14237.69,null,null,null,75,null,118,"Halifax                      ",1,538,7659877.793300001,4407182,3689533]
[119,"Hamilton                     ",0,0,0,0,0,0,0,0,0,0,{"$f":"ROUND(100-'Townwide Contributions'!L128,2)","v":17.5},0,0,0,0,0,0,0,0,0,0,0,0,0,0,0,0,0,0,"",0,null,null,null,0,null,119,"Hamilton                     ",0,0,0,0,0]
[120,"Hampden                      ",0,0,0,0,0,0,0,0,0,0,{"$f":"ROUND(100-'Townwide Contributions'!L129,2)","v":17.5},0,0,0,0,0,0,0,0,0,0,0,0,0,0,0,0,0,0,"",0,null,null,null,0,null,120,"Hampden                      ",0,0,0,0,0]
[121,"Hancock                      ",1,1251017.0000000002,855049,463156,0,463156,1236469.67,894467,342003,0,{"$f":"ROUND(100-'Townwide Contributions'!L130,2)","v":17.5},86,79,0,5925,5925,463156,465526,0,469081,0,0,469081,37.937121417624425,1363548,110.2775129130341,-14547.330000000307,5925,252698.80775000004,20.437121417624425,15651.51,null,null,null,75,null,121,"Hancock                      ",1,79,1236469.67,894467,469081]
[122,"Hanover                      ",1,32549060.685959999,25651759,8088931,0,8088931,32396385.677299999,26727018,5669368,0,{"$f":"ROUND(100-'Townwide Contributions'!L131,2)","v":17.5},2472,2366,0,177450,177450,8088931,8159911,0,8266381,0,0,8266381,25.516368036673349,34993399,108.01636746941099,-152675.00865999982,177450,2597013.506472501,8.0163680366733487,13692.47,null,null,null,75,null,122,"Hanover                      ",1,2366,32396385.677299999,26727018,8266381]
[123,"Hanson                       ",0,86771.45,54413,40519,0,40519,90234.8,57838,32397,0,{"$f":"ROUND(100-'Townwide Contributions'!L132,2)","v":28.97},5,5,0,0,0,40519,40669,0,40519,0,0,40519,0,98357,109.00118357884098,3463.3500000000058,0,14377.978439999999,"",18046.96,null,null,null,0,null,123,"Hanson                       ",0,5,90234.8,57838,40519]
[124,"Hardwick                     ",0,0,0,0,0,0,18046.96,7547,10500,10500,{"$f":"ROUND(100-'Townwide Contributions'!L133,2)","v":50.75},0,1,0,0,0,9492,9522,0,10500,0,0,10500,0,18047,100.00022164397771,18046.96,10500,1341.1678000000011,"",18046.96,null,null,null,10500,null,124,"Hardwick                     ",0,1,18046.96,7547,10500]
[125,"Harvard                      ",1,11305864.01,9082614,2418691,0,2418691,11655609.100000001,9391727,2263882,0,{"$f":"ROUND(100-'Townwide Contributions'!L134,2)","v":17.5},868,855,0,64125,64125,2418691,2444341,0,2482816,0,0,2482816,21.301469350065965,11874543,101.87835657597678,349745.09000000171,64125,443084.40749999997,3.8014693500659646,13632.29,null,null,null,75,null,125,"Harvard                      ",1,855,11655609.100000001,9391727,2482816]
[126,"Harwich                      ",0,0,0,0,0,0,0,0,0,0,{"$f":"ROUND(100-'Townwide Contributions'!L135,2)","v":17.5},0,0,0,0,0,0,0,0,0,0,0,0,0,0,0,0,0,0,"",0,null,null,null,0,null,126,"Harwich                      ",0,0,0,0,0]
[127,"Hatfield                     ",1,3981919.64,3285084,969096,0,969096,4069015.5300000003,3356938,712078,0,{"$f":"ROUND(100-'Townwide Contributions'!L136,2)","v":17.5},278,271,0,20325,20325,969096,977226,0,989421,0,0,989421,24.315979939255723,4346359,106.81598455339392,87095.89000000013,20325,277343.28225000005,6.8159799392557225,15014.82,null,null,null,75,null,127,"Hatfield                     ",1,271,4069015.5300000003,3356938,989421]
[128,"Haverhill                    ",1,149713124.65000004,55493490,94219635,0,94219635,154969203.75,58542162,96427042,2207407,{"$f":"ROUND(100-'Townwide Contributions'!L137,2)","v":55.3},8435,8240,1,618000,0,94219635,94466835,0,96427042,0,0,96427042,62.223357716645687,154969204,100.00000016132238,5256079.0999999642,2207407,10729072.326250017,6.9233577166456897,18806.939999999999,null,null,null,267.88919902912619,null,128,"Haverhill                    ",1,8240,154969203.75,58542162,96427042]
[129,"Hawley                       ",0,34708.58,28635,13300,0,13300,{"$f":"SUMIF(dist1755,A138,found1755)","v":108281.76},{"$f":"SUMIF(dist1755,A138,prelcont1755)","v":76034},{"$f":"ROUND(MAX(found-prelcont436,0),0)","v":32248},{"$f":"IF(foundaid>priorc70,foundaid-priorc70,0)","v":18948},{"$f":"ROUND(100-'Townwide Contributions'!L138,2)","v":21.8},2,{"$f":"SUMIF(dist1755,A138,enro1755)","v":6},{"$f":"IF(AND(C138=1,L138>0),1,0)","v":0},{"$f":"IF(nonop=1,enro*$Q$6,0)","v":0},{"$f":"IF((foundinc)<Q138,Q138-(foundinc),0)","v":0},28079,{"$f":"S138+30*enro","v":28259},{"$f":"IF(AND(T138-priorc70-foundinc-minaid>0,nonop=1), T138-priorc70-foundinc-minaid,0)","v":0},{"$f":"priorc70+ foundinc+minaidadjincrement+minaid","v":32248},{"$f":"IF(AND(C138=0,V138>found),V138-found,0)","v":0},0,{"$f":"priorc70+foundinc+minaidadjincrement+minaid-rednonop+holdharmlessaid","v":32248},{"$f":"IF(C138=1, Y138/I138*100, 0)","v":0},{"$f":"prelcont436+chapter70","v":108282},{"$f":"IF(found>0,AA138*100/found,0)","v":100.00022164397771},{"$f":"I138-D138","v":73573.179999999993},{"$f":"Y138-F138","v":18948},{"$f":"Y138-((M138/100)*I138)","v":8642.5763200000001},{"$f":"IF(C138=1, (Y138/I138*100)-M138, \"\")","v":""},{"$f":"IFERROR(ROUND(I138/O138, 2), 0)","v":18046.96},null,null,null,{"$f":"IFERROR(AD138/O138, 0)","v":3158},null,{"$f":"A138","v":129},{"$f":"B138","v":"Hawley                       "},{"$f":"C138","v":0},6,{"$f":"I138","v":108281.76},{"$f":"J138","v":76034},{"$f":"Y138","v":32248}]
[130,"Heath                        ",0,0,0,0,0,{"$f":"F139+G139","v":0},0,0,0,0,{"$f":"ROUND(100-'Townwide Contributions'!L139,2)","v":62.41},0,0,0,0,0,0,0,0,0,0,0,0,0,0,0,0,0,0,"",0,null,null,null,0,null,130,"Heath                        ",0,{"$f":"O139","v":0},0,0,0]
[131,"Hingham                      ",1,46634192.56592001,38473209,9439417,0,9439417,48104960.021279998,39686592,8418368,0,{"$f":"ROUND(100-'Townwide Contributions'!L140,2)","v":17.5},3528,3481,0,261075,261075,9439417,9543847,0,9700492,0,0,9700492,20.165263614622759,49387084,102.66526357812756,1470767.4553599879,261075,1282123.9962760005,2.6652636146227593,13819.29,null,null,null,75,null,131,"Hingham                      ",1,3481,48104960.021279998,39686592,9700492]
[132,"Hinsdale                     ",0,173542.9,123025,104923,0,104923,126328.72,90223,36106,0,{"$f":"ROUND(100-'Townwide Contributions'!L141,2)","v":17.5},10,7,0,0,0,104923,105133,0,104923,0,0,104923,0,195146,154.47477026601709,-47214.179999999993,0,82815.474000000002,"",18046.96,null,null,null,0,null,132,"Hinsdale                     ",0,7,126328.72,90223,104923]
[133,"Holbrook                     ",1,23413602.22656,10616613,12796989,0,12796989,24189420.925409999,11032723,13156698,359709,{"$f":"ROUND(100-'Townwide Contributions'!L142,2)","v":47.47},1394,1383,1,103725,0,12796989,12838479,0,13156698,0,0,13156698,54.390297479917869,24189421,100.00000030835794,775818.69884999841,359709,1673979.886707874,6.9202974799178705,17490.54,null,null,null,260.09327548806942,null,133,"Holbrook                     ",1,1383,24189420.925409999,11032723,13156698]
[134,"Holden                       ",0,17354.29,10322,14521,0,14521,18046.96,11082,6965,0,{"$f":"ROUND(100-'Townwide Contributions'!L143,2)","v":32.72},1,1,0,0,0,14521,14551,0,14521,0,0,14521,0,25603,141.86876903367659,692.66999999999825,0,8616.0346879999997,"",18046.96,null,null,null,0,null,134,"Holden                       ",0,1,18046.96,11082,14521]
[135,"Holland                      ",1,2321784.9899999998,1507847,1052634,0,1052634,2645254.84,1609921,1035334,0,{"$f":"ROUND(100-'Townwide Contributions'!L144,2)","v":33.46},153,175,0,13125,13125,1052634,1057884,0,1065759,0,0,1065759,40.289464133444326,2675680,101.15017878579896,323469.85000000009,13125,180656.73053599999,6.8294641334443256,15115.74,null,null,null,75,null,135,"Holland                      ",1,175,2645254.84,1609921,1065759]
[136,"Holliston                    ",1,33988555.889320008,26548599,9575140,0,9575140,35077456.984029993,27908236,7169221,0,{"$f":"ROUND(100-'Townwide Contributions'!L145,2)","v":17.5},2577,2542,0,190650,190650,9575140,9651400,0,9765790,0,0,9765790,27.840644219009814,37674026,107.40238671563952,1088901.094709985,190650,3627235.0277947513,10.340644219009814,13799.16,null,null,null,75,null,136,"Holliston                    ",1,2542,35077456.984029993,27908236,9765790]
[137,"Holyoke                      ",1,120721754.33999999,13957634,106764120,0,106764120,125376814.92000002,14778343,110598472,3834352,{"$f":"ROUND(100-'Townwide Contributions'!L146,2)","v":81.099999999999994},5804,5620,1,421500,0,106764120,106932720,0,110598472,0,0,110598472,88.212858231061517,125376815,100.00000006380763,4655060.580000028,3834352,8917875.099879995,7.1128582310615229,22309.040000000001,null,null,null,682.26903914590753,null,137,"Holyoke                      ",1,5620,125376814.92000002,14778343,110598472]
[138,"Hopedale                     ",1,12503191.355299996,7211367,6443660,0,6443660,13165360.090000002,7772067,5393293,0,{"$f":"ROUND(100-'Townwide Contributions'!L147,2)","v":38.35},883,885,0,66375,66375,6443660,6470210,0,6510035,0,0,6510035,49.448210724937333,14282102,108.48242586883924,662168.7347000055,66375,1461119.4054849995,11.098210724937331,14876.11,null,null,null,75,null,138,"Hopedale                     ",1,885,13165360.090000002,7772067,6510035]
[139,"Hopkinton                    ",1,55425077.173420005,45725689,10864019,0,10864019,58274271.760200001,47107356,11166916,302897,{"$f":"ROUND(100-'Townwide Contributions'!L148,2)","v":17.5},4208,4228,1,317100,14203,10864019,10990859,0,11181119,0,0,11181119,19.187059163966165,58288475,100.0243730884505,2849194.5867799968,317100,983121.4419650007,1.6870591639661647,13782.94,null,null,null,75,null,139,"Hopkinton                    ",1,4228,58274271.760200001,47107356,11181119]
[140,"Hubbardston                  ",0,0,0,0,0,0,0,0,0,0,{"$f":"ROUND(100-'Townwide Contributions'!L149,2)","v":37.26},0,0,0,0,0,0,0,0,0,0,0,0,0,0,0,0,0,0,"",0,null,null,null,0,null,140,"Hubbardston                  ",0,0,0,0,0]
[141,"Hudson                       ",1,37349315.827400006,23481576,13867740,0,13867740,37694133.730259992,24750368,12943766,0,{"$f":"ROUND(100-'Townwide Contributions'!L150,2)","v":28.69},2414,2346,0,175950,175950,13867740,13938120,0,14043690,0,0,14043690,37.256964440400566,38794058,102.91802506355788,344817.90285998583,175950,3229243.0327884089,8.5669644404005645,16067.41,null,null,null,75,null,141,"Hudson                       ",1,2346,37694133.730259992,24750368,14043690]
[142,"Hull                         ",1,10469817.630829999,8637600,4180024,0,4180024,10380828.725029999,8564184,1816645,0,{"$f":"ROUND(100-'Townwide Contributions'!L151,2)","v":17.5},700,675,0,50625,50625,4180024,4200274,0,4230649,0,0,4230649,40.75444371603168,12794833,123.25444662379809,-88988.905799999833,50625,2414003.9731197502,23.25444371603168,15379.01,null,null,null,75,null,142,"Hull                         ",1,675,10380828.725029999,8564184,4230649]
[143,"Huntington                   ",0,741045.99,304598,436448,0,436448,662040.87999999989,277266,384775,0,{"$f":"ROUND(100-'Townwide Contributions'!L152,2)","v":52.57},39,33,0,0,0,436448,437438,0,436448,0,0,436448,0,713714,107.80512526658477,-79005.110000000102,0,88413.10938400001,"",20061.84,null,null,null,0,null,143,"Huntington                   ",0,33,662040.87999999989,277266,436448]
[144,"Ipswich                      ",1,21484399.094409999,17724629,4538746,0,4538746,21735094.242119998,17931453,3803641,0,{"$f":"ROUND(100-'Townwide Contributions'!L153,2)","v":17.5},1534,1486,0,111450,111450,4538746,4583326,0,4650196,0,0,4650196,21.394873876316026,22581649,103.89487502768441,250695.14770999923,111450,846554.50762900058,3.8948738763160264,14626.58,null,null,null,75,null,144,"Ipswich                      ",1,1486,21735094.242119998,17931453,4650196]
[145,"Kingston                     ",1,16585038.479599999,10539421,6045617,0,6045617,16109128.8708,10977022,5132107,0,{"$f":"ROUND(100-'Townwide Contributions'!L154,2)","v":25.38},1202,1139,0,85425,85425,6045617,6079787,0,6131042,0,0,6131042,38.059426112813291,17108064,106.2010499587641,-475909.60879999958,85425,2042545.0925909607,12.679426112813292,14143.22,null,null,null,75,null,145,"Kingston                     ",1,1139,16109128.8708,10977022,6131042]
[146,"Lakeville                    ",0,379200.13999999996,277801,101399,0,101399,484419.6,364971,119449,18050,{"$f":"ROUND(100-'Townwide Contributions'!L155,2)","v":17.5},20,25,0,0,0,111387,112137,0,119449,0,0,119449,0,484420,100.00008257304205,105219.46000000002,18050,34675.570000000007,"",19376.78,null,null,null,722,null,146,"Lakeville                    ",0,25,484419.6,364971,119449]
[147,"Lancaster                    ",0,17354.29,11992,11693,0,11693,0,0,0,0,{"$f":"ROUND(100-'Townwide Contributions'!L156,2)","v":26.78},1,0,0,0,0,0,0,0,11693,11693,0,0,0,0,0,-17354.29,-11693,0,"",0,null,null,null,0,null,147,"Lancaster                    ",0,0,0,0,0]
[148,"Lanesborough                 ",0,0,0,0,0,0,18046.96,10846,7201,7201,{"$f":"ROUND(100-'Townwide Contributions'!L157,2)","v":30.97},0,1,0,0,0,6610,6640,0,7201,0,0,7201,0,18047,100.00022164397771,18046.96,7201,1611.8564880000004,"",18046.96,null,null,null,7201,null,148,"Lanesborough                 ",0,1,18046.96,10846,7201]
[149,"Lawrence                     ",1,333930425.07999992,16318715,317611710,0,317611710,349301506.88999999,17109259,332192248,14580538,{"$f":"ROUND(100-'Townwide Contributions'!L158,2)","v":84.57},15214,14894,1,1117050,0,317611710,318058530,0,332192248,0,0,332192248,95.101865135844406,349301507,100.00000003149142,15371081.810000062,14580538,36787963.623127043,10.531865135844413,23452.5,null,null,null,978.95380690210823,null,149,"Lawrence                     ",1,14894,349301506.88999999,17109259,332192248]
[150,"Lee                          ",1,8801759.2699999996,7261451,2307885,0,2307885,9200604.0700000003,7560623,1639981,0,{"$f":"ROUND(100-'Townwide Contributions'!L159,2)","v":17.5},537,531,0,39825,39825,2307885,2323815,0,2347710,0,0,2347710,25.516911521658379,9908333,107.69220069264431,398844.80000000075,39825,737604.28775000013,8.0169115216583791,17326.939999999999,null,null,null,75,null,150,"Lee                          ",1,531,9200604.0700000003,7560623,2347710]
[151,"Leicester                    ",1,21685353.440000005,11866934,11448367,0,11448367,23075674.879999999,12302450,10773225,0,{"$f":"ROUND(100-'Townwide Contributions'!L160,2)","v":43.15},1360,1356,0,101700,101700,11448367,11489047,0,11550067,0,0,11550067,50.052997626563887,23852517,103.3664979422695,1390321.4399999939,101700,1592913.2892800011,6.9029976265638879,17017.46,null,null,null,75,null,151,"Leicester                    ",1,1356,23075674.879999999,12302450,11550067]
[152,"Lenox                        ",1,6520538.4500000002,5379444,1461523,0,1461523,6819131.9299999997,5625784,1193348,0,{"$f":"ROUND(100-'Townwide Contributions'!L161,2)","v":17.5},441,452,0,33900,33900,1461523,1475083,0,1495423,0,0,1495423,21.929814752828811,7121207,104.42981706617311,298593.47999999952,33900,302074.91225000005,4.4298147528288112,15086.58,null,null,null,75,null,152,"Lenox                        ",1,452,6819131.9299999997,5625784,1495423]
[153,"Leominster                   ",1,111313888.00000001,38590697,72723191,0,72723191,116573692.46999998,40416037,76157655,3434464,{"$f":"ROUND(100-'Townwide Contributions'!L162,2)","v":59.82},6122,6098,1,457350,0,72723191,72906131,0,76157655,0,0,76157655,65.3300529359135,116573692,99.999999596821567,5259804.469999969,3434464,6423272.1644460112,5.5100529359134995,19116.71,null,null,null,563.21154476877666,null,153,"Leominster                   ",1,6098,116573692.46999998,40416037,76157655]
[154,"Leverett                     ",1,1304428.1500000001,1076153,422288,0,422288,1363486.12,1088545,274941,0,{"$f":"ROUND(100-'Townwide Contributions'!L163,2)","v":17.5},96,95,0,7125,7125,422288,425138,0,429413,0,0,429413,31.493756606777922,1517958,111.32918610128571,59057.969999999972,7125,190802.929,13.993756606777922,14352.49,null,null,null,75,null,154,"Leverett                     ",1,95,1363486.12,1088545,429413]
[155,"Lexington                    ",1,94617837.13944,78059716,19344035,0,19344035,95900340.861210018,79117781,16782560,0,{"$f":"ROUND(100-'Townwide Contributions'!L164,2)","v":17.5},6816,6594,0,494550,494550,19344035,19541855,0,19838585,0,0,19838585,20.686667869836899,98956366,103.18666765034001,1282503.7217700183,494550,3056025.3492882475,3.1866678698368993,14543.58,null,null,null,75,null,155,"Lexington                    ",1,6594,95900340.861210018,79117781,19838585]
[156,"Leyden                       ",0,0,0,0,0,0,0,0,0,0,{"$f":"ROUND(100-'Townwide Contributions'!L165,2)","v":17.5},0,0,0,0,0,0,0,0,0,0,0,0,0,0,0,0,0,0,"",0,null,null,null,0,null,156,"Leyden                       ",0,0,0,0,0]
[157,"Lincoln                      ",1,8265928.5509799998,6819391,1446538,0,1446538,7681767.1268799994,6337458,1344309,0,{"$f":"ROUND(100-'Townwide Contributions'!L166,2)","v":17.5},610,557,0,41775,41775,1446538,1463248,0,1488313,0,0,1488313,19.374617525075745,7825771,101.8746190914341,-584161.42410000041,41775,144003.7527960001,1.8746175250757453,13791.32,null,null,null,75,null,157,"Lincoln                      ",1,557,7681767.1268799994,6337458,1488313]
[158,"Littleton                    ",1,20480046,16667629,5259250,0,5259250,21209266.969999999,17477691,3731576,0,{"$f":"ROUND(100-'Townwide Contributions'!L167,2)","v":17.5},1601,1579,0,118425,118425,5259250,5306620,0,5377675,0,0,5377675,25.355308166032298,22855366,107.76122546964197,729220.96999999881,118425,1666053.2802500003,7.8553081660322981,13432.09,null,null,null,75,null,158,"Littleton                    ",1,1579,21209266.969999999,17477691,5377675]
[159,"Longmeadow                   ",1,35588989.330000006,28680259,7791911,0,7791911,36519529.629999995,29526327,6993203,0,{"$f":"ROUND(100-'Townwide Contributions'!L168,2)","v":17.5},2729,2678,0,200850,200850,7791911,7872251,0,7992761,0,0,7992761,21.88626491353854,37519088,102.73705159986204,930540.29999998957,200850,1601843.3147500008,4.3862649135385396,13636.87,null,null,null,75,null,159,"Longmeadow                   ",1,2678,36519529.629999995,29526327,7992761]
[160,"Lowell                       ",1,330445792.43000001,68956678,261489114,0,261489114,349052320.75999999,73085908,275966413,14477299,{"$f":"ROUND(100-'Townwide Contributions'!L169,2)","v":74.790000000000006},16836,16778,1,1258350,0,261489114,261992454,0,275966413,0,0,275966413,79.061618154874807,349052321,100.0000000687576,18606528.329999983,14477299,14910182.30359599,4.2716181548748011,20804.169999999998,null,null,null,862.87394206699253,null,160,"Lowell                       ",1,16778,349052320.75999999,73085908,275966413]
[161,"Ludlow                       ",1,34386677.929999992,19968467,15020153,0,15020153,35222182.710000001,21458115,13764068,0,{"$f":"ROUND(100-'Townwide Contributions'!L170,2)","v":36.1},2201,2186,0,163950,163950,15020153,15085733,0,15184103,0,0,15184103,43.109489054149535,36642218,104.03165045645179,835504.78000000864,163950,2468895.0416899994,7.0094890541495332,16112.62,null,null,null,75,null,161,"Ludlow                       ",1,2186,35222182.710000001,21458115,15184103]
[162,"Lunenburg                    ",1,22073945.75,13334631,9229410,0,9229410,23089579.619999997,14135611,8953969,0,{"$f":"ROUND(100-'Townwide Contributions'!L171,2)","v":31.12},1603,1599,0,119925,119925,9229410,9277380,0,9349335,0,0,9349335,40.491577386284185,23484946,101.71231519372289,1015633.8699999973,119925,2163857.8222559998,9.3715773862841836,14440.01,null,null,null,75,null,162,"Lunenburg                    ",1,1599,23089579.619999997,14135611,9349335]
[163,"Lynn                         ",1,384629298.81999999,67502992,317126307,0,317126307,398807328.27000004,71472168,327335160,10208853,{"$f":"ROUND(100-'Townwide Contributions'!L172,2)","v":76.27},18512,18077,1,1355775,0,317126307,317668617,0,327335160,0,0,327335160,82.078521831571749,398807328,99.999999932298124,14178029.450000048,10208853,23164810.728470981,5.8085218315717526,22061.59,null,null,null,564.74265641422801,null,163,"Lynn                         ",1,18077,398807328.27000004,71472168,327335160]
[164,"Lynnfield                    ",1,28903113.111520004,23204609,6502690,0,6502690,30099223.853599995,24071411,6027813,0,{"$f":"ROUND(100-'Townwide Contributions'!L173,2)","v":17.5},2196,2174,0,163050,163050,6502690,6567910,0,6665740,0,0,6665740,22.145886659475273,30737151,102.11941394071431,1196110.7420799918,163050,1398375.8256200012,4.6458866594752735,13845.09,null,null,null,75,null,164,"Lynnfield                    ",1,2174,30099223.853599995,24071411,6665740]
[165,"Malden                       ",1,130437793.37532003,60667748,69770045,0,69770045,132410256.17298003,64123681,68286575,0,{"$f":"ROUND(100-'Townwide Contributions'!L174,2)","v":45.34},6927,6680,0,501000,501000,69770045,69970445,0,70271045,0,0,70271045,53.070696357688703,134394726,101.49872818343276,1972462.7976599932,501000,10236234.851170853,7.7306963576887,19821.89,null,null,null,75,null,165,"Malden                       ",1,6680,132410256.17298003,64123681,70271045]
[166,"Manchester                   ",0,0,0,0,0,0,0,0,0,0,{"$f":"ROUND(100-'Townwide Contributions'!L175,2)","v":17.5},0,0,0,0,0,0,0,0,0,0,0,0,0,0,0,0,0,0,"",0,null,null,null,0,null,166,"Manchester                   ",0,0,0,0,0]
[167,"Mansfield                    ",1,45824586.929839998,36857964,20336797,0,20336797,47441613.832800001,38096357,9345257,0,{"$f":"ROUND(100-'Townwide Contributions'!L176,2)","v":17.5},3272,3237,0,242775,242775,20336797,20433907,0,20579572,0,0,20579572,43.378735117505165,58675929,123.68029723186369,1617026.9029600024,242775,12277289.579259999,25.878735117505165,14656.04,null,null,null,75,null,167,"Mansfield                    ",1,3237,47441613.832800001,38096357,20579572]
[168,"Marblehead                   ",1,33445073.459999997,27592185,7006279,0,7006279,33000504.549999997,27225417,5775088,0,{"$f":"ROUND(100-'Townwide Contributions'!L177,2)","v":17.5},2552,2401,0,180075,180075,7006279,7078309,0,7186354,0,0,7186354,21.776497353583647,34411771,104.27649961491271,-444568.91000000015,180075,1411265.7037500013,4.2764973535836468,13744.48,null,null,null,75,null,168,"Marblehead                   ",1,2401,33000504.549999997,27225417,7186354]
[169,"Marion                       ",1,5064172.8500000006,4004960,1250902,0,1250902,4924376.1999999993,4062611,861765,0,{"$f":"ROUND(100-'Townwide Contributions'!L178,2)","v":17.5},372,344,0,25800,25800,1250902,1261222,0,1276702,0,0,1276702,25.926167054417981,5339313,108.42617994945229,-139796.6500000013,25800,414936.16500000015,8.4261670544179808,14315.05,null,null,null,75,null,169,"Marion                       ",1,344,4924376.1999999993,4062611,1276702]
[170,"Marlborough                  ",1,97477474.835680008,45576532,51900943,0,51900943,95710135.489779994,47097956,48612179,0,{"$f":"ROUND(100-'Townwide Contributions'!L179,2)","v":47.52},5378,5041,0,378075,378075,51900943,52052173,0,52279018,0,0,52279018,54.622238002768675,99376974,103.83119143177011,-1767339.345900014,378075,6797561.6152565479,7.1022380027686722,18986.34,null,null,null,75,null,170,"Marlborough                  ",1,5041,95710135.489779994,47097956,52279018]
[171,"Marshfield                   ",1,51268162.588479996,41905509,16133973,0,16133973,50998622.837800011,42073864,8924759,0,{"$f":"ROUND(100-'Townwide Contributions'!L180,2)","v":17.5},3620,3545,0,265875,265875,16133973,16240323,0,16399848,0,0,16399848,32.157433058848184,58473712,114.65743337025853,-269539.75067998469,265875,7475089.0033849981,14.657433058848184,14386.07,null,null,null,75,null,171,"Marshfield                   ",1,3545,50998622.837800011,42073864,16399848]
[172,"Mashpee                      ",1,21964764.180000003,18120931,5216280,0,5216280,22069624.379999999,18207440,3862184,0,{"$f":"ROUND(100-'Townwide Contributions'!L181,2)","v":17.5},1405,1367,0,102525,102525,5216280,5257290,0,5318805,0,0,5318805,24.100115654075307,23526245,106.60011513979379,104860.19999999553,102525,1456620.7335000006,6.6001156540753065,16144.57,null,null,null,75,null,172,"Mashpee                      ",1,1367,22069624.379999999,18207440,5318805]
[173,"Mattapoisett                 ",1,4742122.1000000006,3912251,1099653,0,1099653,4665496.2399999984,3849034,816462,0,{"$f":"ROUND(100-'Townwide Contributions'!L182,2)","v":17.5},364,345,0,25875,25875,1099653,1110003,0,1125528,0,0,1125528,24.124507707244458,4974562,106.6244991765335,-76625.860000002198,25875,309066.15800000029,6.624507707244458,13523.18,null,null,null,75,null,173,"Mattapoisett                 ",1,345,4665496.2399999984,3849034,1125528]
[174,"Maynard                      ",1,18638398.791749999,13605109,5983800,0,5983800,19485079.486799996,14387405,5097674,0,{"$f":"ROUND(100-'Townwide Contributions'!L183,2)","v":20.98},1265,1265,0,94875,94875,5983800,6021750,0,6078675,0,0,6078675,31.196562498592563,20466080,105.03462412798764,846680.69504999742,94875,1990705.3236693605,10.216562498592562,15403.22,null,null,null,75,null,174,"Maynard                      ",1,1265,19485079.486799996,14387405,6078675]
[175,"Medfield                     ",1,31077353.328160003,25638817,7255778,0,7255778,31890716.881099995,26309842,5580875,0,{"$f":"ROUND(100-'Townwide Contributions'!L184,2)","v":17.5},2374,2340,0,175500,175500,7255778,7325978,0,7431278,0,0,7431278,23.302323455777003,33741120,105.80232525282818,813363.5529399924,175500,1850402.5458075013,5.8023234557770031,13628.51,null,null,null,75,null,175,"Medfield                     ",1,2340,31890716.881099995,26309842,7431278]
[176,"Medford                      ",1,76664491.980000004,60826753,18554446,0,18554446,80126099.611029997,64178308,15947792,0,{"$f":"ROUND(100-'Townwide Contributions'!L185,2)","v":17.5},4511,4486,0,336450,336450,18554446,18689026,0,18890896,0,0,18890896,23.576457723145577,83069204,103.67309079470637,3461607.6310299933,336450,4868828.5680697504,6.0764577231455768,17861.37,null,null,null,75,null,176,"Medford                      ",1,4486,80126099.611029997,64178308,18890896]
[177,"Medway                       ",1,29200155.629280001,21596243,11364627,0,11364627,30303728.297169995,22827269,7476459,0,{"$f":"ROUND(100-'Townwide Contributions'!L186,2)","v":17.5},2145,2121,0,159075,159075,11364627,11428257,0,11523702,0,0,11523702,38.027340685588761,34350971,113.35559328918603,1103572.6678899936,159075,6220549.5479952516,20.527340685588761,14287.47,null,null,null,75,null,177,"Medway                       ",1,2121,30303728.297169995,22827269,11523702]
[178,"Melrose                      ",1,54259488.060880005,43224298,13285756,0,13285756,56067589.012019999,45191733,10875856,0,{"$f":"ROUND(100-'Townwide Contributions'!L187,2)","v":17.5},3985,3908,0,293100,293100,13285756,13402996,0,13578856,0,0,13578856,24.218726432286768,58770589,104.82096704283204,1808100.951139994,293100,3767027.9228965007,6.7187264322867684,14346.88,null,null,null,75,null,178,"Melrose                      ",1,3908,56067589.012019999,45191733,13578856]
[179,"Mendon                       ",0,138834.32,114538,38052,0,38052,108281.76,89332,18950,0,{"$f":"ROUND(100-'Townwide Contributions'!L188,2)","v":17.5},8,6,0,0,0,38052,38232,0,38052,0,0,38052,0,127384,117.64123523666406,-30552.560000000012,0,19102.692000000003,"",18046.96,null,null,null,0,null,179,"Mendon                       ",0,6,108281.76,89332,38052]
[180,"Merrimac                     ",0,138834.32,101564,56805,0,56805,36093.919999999998,27386,8708,0,{"$f":"ROUND(100-'Townwide Contributions'!L189,2)","v":17.5},8,2,0,0,0,34463.78,34523.78,0,56805,20711.080000000002,0,36093.919999999998,0,63479.92,175.87427467008294,-102740.40000000001,-20711.080000000002,29777.483999999997,"",18046.96,null,null,null,-10355.540000000001,null,180,"Merrimac                     ",0,2,36093.919999999998,27386,36093.919999999998]
[181,"Methuen                      ",1,120570223.17999999,49535858,71034365,0,71034365,124723583.64,52046906,72676678,1642313,{"$f":"ROUND(100-'Townwide Contributions'!L190,2)","v":52.82},6767,6553,1,491475,0,71034365,71230955,0,72676678,0,0,72676678,58.270197086200405,124723584,100.00000028863828,4153360.4600000083,1642313,6797681.121352002,5.4501970862004043,19033.05,null,null,null,250.62002136426065,null,181,"Methuen                      ",1,6553,124723583.64,52046906,72676678]
[182,"Middleborough                ",1,45765962.310000002,25060283,23101805,0,23101805,48396103.460000001,26329701,22066402,0,{"$f":"ROUND(100-'Townwide Contributions'!L191,2)","v":41.41},3000,3022,0,226650,226650,23101805,23192465,0,23328455,0,0,23328455,48.203167883714578,49658156,102.60775651296618,2630141.1499999985,226650,3287628.5572139993,6.793167883714581,16014.59,null,null,null,75,null,182,"Middleborough                ",1,3022,48396103.460000001,26329701,23328455]
[183,"Middlefield                  ",0,52062.869999999995,41959,13290,0,13290,54140.88,44666,9475,0,{"$f":"ROUND(100-'Townwide Contributions'!L192,2)","v":17.5},3,3,0,0,0,13290,13380,0,13290,0,0,13290,0,57956,107.04665310205523,2078.010000000002,0,3815.3460000000014,"",18046.96,null,null,null,0,null,183,"Middlefield                  ",0,3,54140.88,44666,13290]
[184,"Middleton                    ",1,8953831.1144600008,7386911,1943879,0,1943879,8820111.6593199987,7276592,1543520,0,{"$f":"ROUND(100-'Townwide Contributions'!L193,2)","v":17.5},678,643,0,48225,48225,1943879,1963169,0,1992104,0,0,1992104,22.585927218903084,9268696,105.08592587040543,-133719.45514000207,48225,448584.45961900032,5.085927218903084,13717.13,null,null,null,75,null,184,"Middleton                    ",1,643,8820111.6593199987,7276592,1992104]
[185,"Milford                      ",1,86368278.706520006,31831621,54536658,0,54536658,86403728.090000004,33581632,52822096,0,{"$f":"ROUND(100-'Townwide Contributions'!L194,2)","v":57.36},4791,4585,0,343875,343875,54536658,54674208,0,54880533,0,0,54880533,63.516394735693858,88462165,102.38234733095763,35449.383479997516,343875,5319354.5675759986,6.1563947356938584,18844.87,null,null,null,75,null,185,"Milford                      ",1,4585,86403728.090000004,33581632,54880533]
[186,"Millbury                     ",1,23480532.759999994,15188966,9261393,0,9261393,24323216.77,16403273,7919944,0,{"$f":"ROUND(100-'Townwide Contributions'!L195,2)","v":25.44},1583,1574,0,118050,118050,9261393,9308613,0,9379443,0,0,9379443,38.561688154539276,25782716,106.00043671772943,842684.01000000536,118050,3191616.6537119998,13.121688154539275,15453.12,null,null,null,75,null,186,"Millbury                     ",1,1574,24323216.77,16403273,9379443]
[187,"Millis                       ",1,14821764.156880002,12227955,5267116,0,5267116,15646696.541280001,12908525,2738172,0,{"$f":"ROUND(100-'Townwide Contributions'!L196,2)","v":17.5},1081,1091,0,81825,81825,5267116,5299846,0,5348941,0,0,5348941,34.185752793812554,18257466,116.68575505271748,824932.38439999893,81825,2610769.1052759998,16.685752793812554,14341.61,null,null,null,75,null,187,"Millis                       ",1,1091,15646696.541280001,12908525,5348941]
[188,"Millville                    ",0,121480.03,58377,73662,0,73662,90234.8,47162,43073,0,{"$f":"ROUND(100-'Townwide Contributions'!L197,2)","v":41.02},7,5,0,0,0,73662,73812,0,73662,0,0,73662,0,120824,133.89955981506026,-31245.229999999996,0,36647.685039999997,"",18046.96,null,null,null,0,null,188,"Millville                    ",0,5,90234.8,47162,73662]
[189,"Milton                       ",1,58361210.542160012,46814490,12776644,0,12776644,61112912.354039997,48893991,12218921,0,{"$f":"ROUND(100-'Townwide Contributions'!L198,2)","v":17.5},4355,4354,0,326550,326550,12776644,12907264,0,13103194,0,0,13103194,21.440958212055797,61997185,101.44694895382702,2751701.811879985,326550,2408434.3380430005,3.9409582120557971,14036.04,null,null,null,75,null,189,"Milton                       ",1,4354,61112912.354039997,48893991,13103194]
[190,"Monroe                       ",0,234621.64000000004,93490,141132,0,141132,260752.65999999997,90687,170066,28934,{"$f":"ROUND(100-'Townwide Contributions'!L199,2)","v":64.989999999999995},20,21,0,0,0,164972,165602,0,170066,0,0,170066,0,260753,100.00013039176667,26131.019999999931,28934,602.84626600003685,"",12416.79,null,null,null,1377.8095238095239,null,190,"Monroe                       ",0,21,260752.65999999997,90687,170066]
[191,"Monson                       ",1,11784464.360000001,6807381,7867879,0,7867879,12112206.459999999,7025493,5086713,0,{"$f":"ROUND(100-'Townwide Contributions'!L200,2)","v":38.74},775,779,0,58425,58425,7867879,7891249,0,7926304,0,0,7926304,65.440628230506576,14951797,123.4440401043164,327742.09999999776,58425,3234035.2173960004,26.700628230506574,15548.4,null,null,null,75,null,191,"Monson                       ",1,779,12112206.459999999,7025493,7926304]
[192,"Montague                     ",0,17354.29,8313,9046,0,9046,0,0,0,0,{"$f":"ROUND(100-'Townwide Contributions'!L201,2)","v":47.54},1,0,0,0,0,0,0,0,9046,9046,0,0,0,0,0,-17354.29,-9046,0,"",0,null,null,null,0,null,192,"Montague                     ",0,0,0,0,0]
[193,"Monterey                     ",0,0,0,0,0,0,{"$f":"SUMIF(dist1755,A202,found1755)","v":0},{"$f":"SUMIF(dist1755,A202,prelcont1755)","v":0},{"$f":"ROUND(MAX(found-prelcont436,0),0)","v":0},{"$f":"IF(foundaid>priorc70,foundaid-priorc70,0)","v":0},{"$f":"ROUND(100-'Townwide Contributions'!L202,2)","v":17.5},0,{"$f":"SUMIF(dist1755,A202,enro1755)","v":0},{"$f":"IF(AND(C202=1,L202>0),1,0)","v":0},{"$f":"IF(nonop=1,enro*$Q$6,0)","v":0},{"$f":"IF((foundinc)<Q202,Q202-(foundinc),0)","v":0},0,{"$f":"S202+30*enro","v":0},{"$f":"IF(AND(T202-priorc70-foundinc-minaid>0,nonop=1), T202-priorc70-foundinc-minaid,0)","v":0},{"$f":"priorc70+ foundinc+minaidadjincrement+minaid","v":0},{"$f":"IF(AND(C202=0,V202>found),V202-found,0)","v":0},0,{"$f":"priorc70+foundinc+minaidadjincrement+minaid-rednonop+holdharmlessaid","v":0},{"$f":"IF(C202=1, Y202/I202*100, 0)","v":0},{"$f":"prelcont436+chapter70","v":0},{"$f":"IF(found>0,AA202*100/found,0)","v":0},{"$f":"I202-D202","v":0},{"$f":"Y202-F202","v":0},{"$f":"Y202-((M202/100)*I202)","v":0},{"$f":"IF(C202=1, (Y202/I202*100)-M202, \"\")","v":""},{"$f":"IFERROR(ROUND(I202/O202, 2), 0)","v":0},null,null,null,{"$f":"IFERROR(AD202/O202, 0)","v":0},null,{"$f":"A202","v":193},{"$f":"B202","v":"Monterey                     "},{"$f":"C202","v":0},0,{"$f":"I202","v":0},{"$f":"J202","v":0},{"$f":"Y202","v":0}]
[194,"Montgomery                   ",0,121480.03,90244,31236,0,{"$f":"F203+G203","v":31236},126328.72,94169,32160,924,{"$f":"ROUND(100-'Townwide Contributions'!L203,2)","v":17.5},7,7,0,0,0,31236,31446,0,32160,0,0,32160,0,126329,100.00022164397771,4848.6900000000023,924,10052.474000000002,"",18046.96,null,null,null,132,null,194,"Montgomery                   ",0,{"$f":"O203","v":7},126328.72,94169,32160]
[195,"Mount Washington             ",0,50509.919999999998,41671,13818,0,13818,54677.719999999994,45109,9569,0,{"$f":"ROUND(100-'Townwide Contributions'!L204,2)","v":17.5},5,5,0,0,0,13818,13968,0,13818,0,0,13818,0,58927,107.77150181097531,4167.7999999999956,0,4249.3990000000013,"",10935.54,null,null,null,0,null,195,"Mount Washington             ",0,5,54677.719999999994,45109,13818]
[196,"Nahant                       ",1,3159072.39,2606235,622905,0,622905,3413694.24,2816297,597397,0,{"$f":"ROUND(100-'Townwide Contributions'!L205,2)","v":17.5},245,252,0,18900,18900,622905,630465,0,641805,0,0,641805,18.800892958708566,3458102,101.30087104696288,254621.85000000009,18900,44408.508000000031,1.300892958708566,13546.41,null,null,null,75,null,196,"Nahant                       ",1,252,3413694.24,2816297,641805]
[197,"Nantucket                    ",1,27110453.819999997,22366124,4838877,0,4838877,27241613.429999992,22474331,4767282,0,{"$f":"ROUND(100-'Townwide Contributions'!L206,2)","v":17.5},1701,1627,0,122025,122025,4838877,4887687,0,4960902,0,0,4960902,18.210749567926754,27435233,100.71074927517613,131159.60999999568,122025,193619.64975000173,0.71074956792675437,16743.46,null,null,null,75,null,197,"Nantucket                    ",1,1627,27241613.429999992,22474331,4960902]
[198,"Natick                       ",1,70521736.71668002,56626783,14509257,0,14509257,72661462.079600006,59488956,13172506,0,{"$f":"ROUND(100-'Townwide Contributions'!L207,2)","v":17.5},5287,5218,0,391350,391350,14509257,14665797,0,14900607,0,0,14900607,20.506891237168492,74389563,102.37829087241167,2139725.3629199862,391350,2184851.13607,3.0068912371684924,13925.16,null,null,null,75,null,198,"Natick                       ",1,5218,72661462.079600006,59488956,14900607]
[199,"Needham                      ",1,74618544.113240004,61560299,14721434,0,14721434,77008161.460039988,63531733,13476428,0,{"$f":"ROUND(100-'Townwide Contributions'!L208,2)","v":17.5},5523,5465,0,409875,409875,14721434,14885384,0,15131309,0,0,15131309,19.648967996530768,78663042,102.14896773093166,2389617.3467999846,409875,1654880.7444930021,2.148967996530768,14091.15,null,null,null,75,null,199,"Needham                      ",1,5465,77008161.460039988,63531733,15131309]
[200,"New Ashford                  ",0,123072.46,101535,123072.46,0,123072.46,136849.65999999997,112901,23949,0,{"$f":"ROUND(100-'Townwide Contributions'!L209,2)","v":17.5},12,12,0,0,0,123072.46,123432.46,0,123072.46,0,0,123072.46,0,235973.46000000002,172.43262423889112,13777.199999999968,0,99123.769500000009,"",11404.14,null,null,null,0,null,200,"New Ashford                  ",0,12,136849.65999999997,112901,123072.46]
[201,"New Bedford                  ",1,295054094.75999993,40756053,254298042,0,254298042,314496325.39000005,43254588,271241737,16943695,{"$f":"ROUND(100-'Townwide Contributions'!L210,2)","v":79.27},14156,14160,1,1062000,0,254298042,254722842,0,271241737,0,0,271241737,86.246393074271694,314496325,99.999999875992174,19442230.630000114,16943695,21940499.863346964,6.976393074271698,22210.19,null,null,null,1196.5886299435028,null,201,"New Bedford                  ",1,14160,314496325.39000005,43254588,271241737]
[202,"New Braintree                ",0,0,0,0,0,0,0,0,0,0,{"$f":"ROUND(100-'Townwide Contributions'!L211,2)","v":23.96},0,0,0,0,0,0,0,0,0,0,0,0,0,0,0,0,0,0,"",0,null,null,null,0,null,202,"New Braintree                ",0,0,0,0,0]
[203,"Newbury                      ",0,17830.486349999999,14710,16934,0,16934,55650.842040000003,45912,9739,0,{"$f":"ROUND(100-'Townwide Contributions'!L212,2)","v":17.5},1,3,0,0,0,16934,17024,0,16934,0,0,16934,0,62846,112.92910888002082,37820.355690000004,0,7195.1026430000002,"",18550.28,null,null,null,0,null,203,"Newbury                      ",0,3,55650.842040000003,45912,16934]
[204,"Newburyport                  ",1,26732481.829999998,22054297,6192935,0,6192935,27238492.659999996,22471756,4766737,0,{"$f":"ROUND(100-'Townwide Contributions'!L213,2)","v":17.5},2037,1985,0,148875,148875,6192935,6252485,0,6341810,0,0,6341810,23.282529173550827,28813566,105.78252754166905,506010.82999999821,148875,1575073.784500001,5.7825291735508273,13722.16,null,null,null,75,null,204,"Newburyport                  ",1,1985,27238492.659999996,22471756,6341810]
[205,"New Marlborough              ",0,0,0,0,0,0,0,0,0,0,{"$f":"ROUND(100-'Townwide Contributions'!L214,2)","v":17.5},0,0,0,0,0,0,0,0,0,0,0,0,0,0,0,0,0,0,"",0,null,null,null,0,null,205,"New Marlborough              ",0,0,0,0,0]
[206,"New Salem                    ",0,0,0,0,0,0,0,0,0,0,{"$f":"ROUND(100-'Townwide Contributions'!L215,2)","v":24.18},0,0,0,0,0,0,0,0,0,0,0,0,0,0,0,0,0,0,"",0,null,null,null,0,null,206,"New Salem                    ",0,0,0,0,0]
[207,"Newton                       ",1,163854442.56515002,135179915,30401034,0,30401034,169131329.11532003,139533347,29597982,0,{"$f":"ROUND(100-'Townwide Contributions'!L216,2)","v":17.5},11630,11468,0,860100,860100,30401034,30745074,0,31261134,0,0,31261134,18.483349101268516,170794481,100.98334938498944,5276886.5501700044,860100,1663151.4048189968,0.98334910126851582,14748.11,null,null,null,75,null,207,"Newton                       ",1,11468,169131329.11532003,139533347,31261134]
[208,"Norfolk                      ",1,13116177.873539999,10294403,3873979,0,3873979,13448983.686729999,10764396,2684588,0,{"$f":"ROUND(100-'Townwide Contributions'!L217,2)","v":17.5},1029,1004,0,75300,75300,3873979,3904099,0,3949279,0,0,3949279,29.36488802419116,14713675,109.4036199517281,332805.81319000013,75300,1595706.8548222501,11.86488802419116,13395.4,null,null,null,75,null,208,"Norfolk                      ",1,1004,13448983.686729999,10764396,3949279]
[209,"North Adams                  ",1,22791831.230000004,6084549,16707282,0,16707282,22873270.939999998,6331531,16541740,0,{"$f":"ROUND(100-'Townwide Contributions'!L218,2)","v":70.22},1254,1192,0,89400,89400,16707282,16743042,0,16796682,0,0,16796682,73.433668687177288,23128213,101.11458505724325,81439.709999993443,89400,735071.14593200386,3.2136686871772895,19188.990000000002,null,null,null,75,null,209,"North Adams                  ",1,1192,22873270.939999998,6331531,16796682]
[210,"Northampton                  ",1,37433634.749999993,30204769,8619389,0,8619389,37355374.600000009,30818184,6537191,0,{"$f":"ROUND(100-'Townwide Contributions'!L219,2)","v":17.5},2602,2499,0,187425,187425,8619389,8694359,0,8806814,0,0,8806814,23.575761438087675,39624998,106.07576131762306,-78260.149999983609,187425,2269623.4449999984,6.0757614380876745,14948.13,null,null,null,75,null,210,"Northampton                  ",1,2499,37355374.600000009,30818184,8806814]
[211,"North Andover                ",1,61037819.240000017,49916865,13071489,0,13071489,63468657.769999996,52361642,11107016,0,{"$f":"ROUND(100-'Townwide Contributions'!L220,2)","v":17.5},4433,4403,0,330225,330225,13071489,13203579,0,13401714,0,0,13401714,21.115483564447846,65763356,103.61548252417062,2430838.5299999788,330225,2294698.8902500011,3.615483564447846,14414.87,null,null,null,75,null,211,"North Andover                ",1,4403,63468657.769999996,52361642,13401714]
[212,"North Attleborough           ",1,52893827.050000004,36308302,22282527,0,22282527,53752172.830000006,38296559,15455614,0,{"$f":"ROUND(100-'Townwide Contributions'!L221,2)","v":22.94},3838,3719,0,278925,278925,22282527,22394097,0,22561452,0,0,22561452,41.973097666868767,60858011,113.21962963706298,858345.78000000119,278925,10230703.552797997,19.033097666868766,14453.39,null,null,null,75,null,212,"North Attleborough           ",1,3719,53752172.830000006,38296559,22561452]
[213,"Northborough                 ",1,20570416.460000001,16970593,4644408,0,4644408,22109021.609999996,17861692,4247330,0,{"$f":"ROUND(100-'Townwide Contributions'!L222,2)","v":17.5},1587,1623,0,121725,121725,4644408,4693098,0,4766133,0,0,4766133,21.557412553454014,22627825,102.34656874081369,1538605.1499999948,121725,897054.21825000085,4.0574125534540144,13622.32,null,null,null,75,null,213,"Northborough                 ",1,1623,22109021.609999996,17861692,4766133]
[214,"Northbridge                  ",1,28797160.489999998,16088295,16390353,0,16390353,29934557.589999996,16963175,12971383,0,{"$f":"ROUND(100-'Townwide Contributions'!L223,2)","v":35.36},1900,1886,0,141450,141450,16390353,16446933,0,16531803,0,0,16531803,55.226481802165175,33494978,111.89401379758291,1137397.0999999978,141450,5946943.436176002,19.866481802165175,15871.98,null,null,null,75,null,214,"Northbridge                  ",1,1886,29934557.589999996,16963175,16531803]
[215,"North Brookfield             ",1,8296193.1099999985,3734618,5046966,0,5046966,9042500.3499999996,4010247,5032253,0,{"$f":"ROUND(100-'Townwide Contributions'!L224,2)","v":50.12},551,561,0,42075,42075,5046966,5063796,0,5089041,0,0,5089041,56.279135228344224,9099288,100.62800826985868,746307.24000000115,42075,556939.82458000071,6.1591352283442262,16118.54,null,null,null,75,null,215,"North Brookfield             ",1,561,9042500.3499999996,4010247,5089041]
[216,"Northfield                   ",0,0,0,0,0,0,0,0,0,0,{"$f":"ROUND(100-'Townwide Contributions'!L225,2)","v":17.5},0,0,0,0,0,0,0,0,0,0,0,0,0,0,0,0,0,0,"",0,null,null,null,0,null,216,"Northfield                   ",0,0,0,0,0]
[217,"North Reading                ",1,30731201.128249995,24625659,8066587,0,8066587,32523143.82144,26732590,5790554,0,{"$f":"ROUND(100-'Townwide Contributions'!L226,2)","v":17.5},2262,2271,0,170325,170325,8066587,8134717,0,8236912,0,0,8236912,25.326309305221717,34969502,107.5218994571715,1791942.6931900047,170325,2545361.8312480003,7.8263093052217165,14321.07,null,null,null,75,null,217,"North Reading                ",1,2271,32523143.82144,26732590,8236912]
[218,"Norton                       ",1,30090005.920000002,23659419,13707982,0,13707982,30928801.829999998,24826897,6101905,0,{"$f":"ROUND(100-'Townwide Contributions'!L227,2)","v":17.5},2143,2104,0,157800,157800,13707982,13771102,0,13865782,0,0,13865782,44.831293744300865,38692679,125.10241816890972,838795.90999999642,157800,8453241.6797500011,27.331293744300865,14700,null,null,null,75,null,218,"Norton                       ",1,2104,30928801.829999998,24826897,13865782]
[219,"Norwell                      ",1,27721329.640999999,22870097,5549338,0,5549338,28540632.825939994,23546022,4994611,0,{"$f":"ROUND(100-'Townwide Contributions'!L228,2)","v":17.5},2115,2083,0,156225,156225,5549338,5611828,0,5705563,0,0,5705563,19.99101784041148,29251585,102.49101755520233,819303.18493999541,156225,710952.25546050165,2.4910178404114802,13701.7,null,null,null,75,null,219,"Norwell                      ",1,2083,28540632.825939994,23546022,5705563]
[220,"Norwood                      ",1,59825304.49205,41305173,18520131,0,18520131,60923118.738080002,43524945,17398174,0,{"$f":"ROUND(100-'Townwide Contributions'!L229,2)","v":17.5},3637,3540,0,265500,265500,18520131,18626331,0,18785631,0,0,18785631,30.834979214972524,62310576,102.27739040721953,1097814.2460300028,265500,8124085.2208360005,13.334979214972524,17209.919999999998,null,null,null,75,null,220,"Norwood                      ",1,3540,60923118.738080002,43524945,18785631]
[221,"Oak Bluffs                   ",1,6005152.3400000008,4954251,2053849,0,2053849,6199181.6200000001,5114325,1084857,0,{"$f":"ROUND(100-'Townwide Contributions'!L230,2)","v":17.5},390,383,0,28725,28725,2053849,2065339,0,2082574,0,0,2082574,33.59433756999686,7196899,116.09434020744176,194029.27999999933,28725,997717.2165000001,16.09433756999686,16185.85,null,null,null,75,null,221,"Oak Bluffs                   ",1,383,6199181.6200000001,5114325,2082574]
[222,"Oakham                       ",0,0,0,0,0,0,0,0,0,0,{"$f":"ROUND(100-'Townwide Contributions'!L231,2)","v":35.380000000000003},0,0,0,0,0,0,0,0,0,0,0,0,0,0,0,0,0,0,"",0,null,null,null,0,null,222,"Oakham                       ",0,0,0,0,0]
[223,"Orange                       ",1,9107782.0099999998,2457008,7047875,0,7047875,9347133.2100000009,2507516,6839617,0,{"$f":"ROUND(100-'Townwide Contributions'!L232,2)","v":69.13},511,523,0,39225,39225,7047875,7063565,0,7087100,0,0,7087100,75.821108363127735,9594616,102.64768656271241,239351.20000000112,39225,625426.81192700006,6.6911083631277393,17872.150000000001,null,null,null,75,null,223,"Orange                       ",1,523,9347133.2100000009,2507516,7087100]
[224,"Orleans                      ",1,2277162.9099999997,1878659,492134,0,492134,2343511.5999999996,1933397,410115,0,{"$f":"ROUND(100-'Townwide Contributions'!L233,2)","v":17.5},150,154,0,11550,11550,492134,496754,0,503684,0,0,503684,21.492703513820889,2437081,103.99270052685041,66348.689999999944,11550,93569.470000000088,3.9927035138208886,15217.61,null,null,null,75,null,224,"Orleans                      ",1,154,2343511.5999999996,1933397,503684]
[225,"Otis                         ",0,0,0,0,0,0,0,0,0,0,{"$f":"ROUND(100-'Townwide Contributions'!L234,2)","v":17.5},0,0,0,0,0,0,0,0,0,0,0,0,0,0,0,0,0,0,"",0,null,null,null,0,null,225,"Otis                         ",0,0,0,0,0]
[226,"Oxford                       ",1,24166880.359999996,12243821,12453663,0,12453663,23801612.039999999,12917509,10884103,0,{"$f":"ROUND(100-'Townwide Contributions'!L235,2)","v":39.81},1523,1457,0,109275,109275,12453663,12497373,0,12562938,0,0,12562938,52.78187871849709,25480447,107.0534506535886,-365268.31999999657,109275,3087516.2468759995,12.971878718497088,16336.04,null,null,null,75,null,226,"Oxford                       ",1,1457,23801612.039999999,12917509,12562938]
[227,"Palmer                       ",1,20132069.309999999,7960370,12171699,0,12171699,20520407.920000002,8448110,12072298,0,{"$f":"ROUND(100-'Townwide Contributions'!L236,2)","v":56.64},1219,1177,0,88275,88275,12171699,12207009,0,12259974,0,0,12259974,59.745274303494448,20708084,100.91458259860947,388338.61000000313,88275,637214.9541119989,3.105274303494447,17434.5,null,null,null,75,null,227,"Palmer                       ",1,1177,20520407.920000002,8448110,12259974]
[228,"Paxton                       ",0,0,0,0,0,0,0,0,0,0,{"$f":"ROUND(100-'Townwide Contributions'!L237,2)","v":27.4},0,0,0,0,0,0,0,0,0,0,0,0,0,0,0,0,0,0,"",0,null,null,null,0,null,228,"Paxton                       ",0,0,0,0,0]
[229,"Peabody                      ",1,98600551.810000002,60475751,38124801,0,38124801,101220183.82000001,62683035,38537149,412348,{"$f":"ROUND(100-'Townwide Contributions'!L238,2)","v":32.07},5850,5746,1,430950,18602,38124801,38297181,0,38555751,0,0,38555751,38.090971133349989,101238786,100.01837793540572,2619632.0100000054,430950,6094438.0489259996,6.0209711333499882,17615.759999999998,null,null,null,75,null,229,"Peabody                      ",1,5746,101220183.82000001,62683035,38555751]
[230,"Pelham                       ",1,994542.49000000011,701943,292599,0,292599,1100951.8599999999,742739,358213,65614,{"$f":"ROUND(100-'Townwide Contributions'!L239,2)","v":21.33},65,66,1,4950,0,292599,294579,0,358213,0,0,358213,32.536663319684116,1100952,100.000012716269,106409.36999999976,65614,123379.96826200004,11.206663319684118,16681.09,null,null,null,994.15151515151513,null,230,"Pelham                       ",1,66,1100951.8599999999,742739,358213]
[231,"Pembroke                     ",1,33498160.487529997,26492804,14632674,0,14632674,34261298.371089995,27714122,6547176,0,{"$f":"ROUND(100-'Townwide Contributions'!L240,2)","v":17.5},2437,2387,0,179025,179025,14632674,14704284,0,14811699,0,0,14811699,43.231575288163192,42525821,124.12203571328659,763137.88355999812,179025,8815971.7850592509,25.731575288163192,14353.29,null,null,null,75,null,231,"Pembroke                     ",1,2387,34261298.371089995,27714122,14811699]
[232,"Pepperell                    ",0,0,0,0,0,0,0,0,0,0,{"$f":"ROUND(100-'Townwide Contributions'!L241,2)","v":30.05},0,0,0,0,0,0,0,0,0,0,0,0,0,0,0,0,0,0,"",0,null,null,null,0,null,232,"Pepperell                    ",0,0,0,0,0]
[233,"Peru                         ",0,104125.73999999999,46233,91030,0,91030,126328.72,63744,62585,0,{"$f":"ROUND(100-'Townwide Contributions'!L242,2)","v":46.27},6,7,0,0,0,91030,91240,0,91030,0,0,91030,0,154774,122.51687502256019,22202.98000000001,0,32577.701255999993,"",18046.96,null,null,null,0,null,233,"Peru                         ",0,7,126328.72,63744,91030]
[234,"Petersham                    ",1,1523839.1400000001,809811,714028,0,714028,1303394.22,723389,580005,0,{"$f":"ROUND(100-'Townwide Contributions'!L243,2)","v":33.21},100,83,0,6225,6225,714028,716518,0,720253,0,0,720253,55.259796993729196,1443642,110.7601965581833,-220444.92000000016,6225,287395.779538,22.049796993729196,15703.54,null,null,null,75,null,234,"Petersham                    ",1,83,1303394.22,723389,720253]
[235,"Phillipston                  ",0,0,0,0,0,0,0,0,0,0,{"$f":"ROUND(100-'Townwide Contributions'!L244,2)","v":29.92},0,0,0,0,0,0,0,0,0,0,0,0,0,0,0,0,0,0,"",0,null,null,null,0,null,235,"Phillipston                  ",0,0,0,0,0]
[236,"Pittsfield                   ",1,104024895.27,35574534,68450361,0,68450361,102927840.99999999,37502673,65425168,0,{"$f":"ROUND(100-'Townwide Contributions'!L245,2)","v":61},5576,5396,0,404700,404700,68450361,68612241,0,68855061,0,0,68855061,66.896439613456977,106357734,103.33232774211208,-1097054.2700000107,404700,6069077.9900000095,5.8964396134569768,19074.84,null,null,null,75,null,236,"Pittsfield                   ",1,5396,102927840.99999999,37502673,68855061]
[237,"Plainfield                   ",0,156188.61000000002,103133,53056,0,53056,213715.20000000001,129893,83822,30766,{"$f":"ROUND(100-'Townwide Contributions'!L246,2)","v":39.22},9,10,0,0,0,89012,89312,0,83822,0,0,83822,0,213715,99.999906417512648,57526.59,30766,2.8985600000014529,"",21371.52,null,null,null,3076.6,null,237,"Plainfield                   ",0,10,213715.20000000001,129893,83822]
[238,"Plainville                   ",1,9318021.790000001,7105163,3190373,0,3190373,9110344.2199999988,7467644,1642700,0,{"$f":"ROUND(100-'Townwide Contributions'!L247,2)","v":17.5},650,634,0,47550,47550,3190373,3209393,0,3237923,0,0,3237923,35.541170803313513,10705567,117.51001654249241,-207677.57000000216,47550,1643612.7615000003,18.041170803313513,14369.63,null,null,null,75,null,238,"Plainville                   ",1,634,9110344.2199999988,7467644,3237923]
[239,"Plymouth                     ",1,115252249.87069999,92866994,30162897,0,30162897,116667017.01678,96250289,20416728,0,{"$f":"ROUND(100-'Townwide Contributions'!L248,2)","v":17.5},7381,7247,0,543525,543525,30162897,30380307,0,30706422,0,0,30706422,26.319711247595841,126956711,108.81971121430151,1414767.1460800171,543525,10289694.022063501,8.8197112475958406,16098.66,null,null,null,75,null,239,"Plymouth                     ",1,7247,116667017.01678,96250289,30706422]
[240,"Plympton                     ",1,3562008.9879999999,2543035,1145742,0,1145742,3832357.2770500001,2617477,{"$f":"ROUND(MAX(found-prelcont436,0),0)","v":1214880},{"$f":"IF(foundaid>priorc70,foundaid-priorc70,0)","v":69138},{"$f":"ROUND(100-'Townwide Contributions'!L249,2)","v":26.85},258,264,1,19800,0,1232002,{"$f":"S249+30*enro","v":1239922},{"$f":"IF(AND(T249-priorc70-foundinc-minaid>0,nonop=1), T249-priorc70-foundinc-minaid,0)","v":25042},1239922,0,0,1239922,32.354029396613143,3857399,100.65342871605321,270348.28905000025,94180,210934.07111207489,5.5040293966131415,14516.5,null,null,null,356.74242424242425,null,240,"Plympton                     ",1,264,3832357.2770500001,2617477,1239922]
[241,"Princeton                    ",0,0,0,0,0,0,0,0,0,0,{"$f":"ROUND(100-'Townwide Contributions'!L250,2)","v":17.5},0,0,0,0,0,0,0,0,0,0,0,0,0,0,0,0,0,0,"",0,null,null,null,0,null,241,"Princeton                    ",0,0,0,0,0]
[242,"Provincetown                 ",1,1658443.61,1368216,328599,0,328599,1493180.93,1231874,261307,0,{"$f":"ROUND(100-'Townwide Contributions'!L251,2)","v":17.5},94,79,0,5925,5925,328599,330969,0,334524,0,0,334524,22.403447116083917,1566398,104.90342921805197,-165262.68000000017,5925,73217.337250000041,4.9034471160839175,18901.02,null,null,null,75,null,242,"Provincetown                 ",1,79,1493180.93,1231874,334524]
[243,"Quincy                       ",1,177359599.78528002,135165569,47604553,0,47604553,183203446.08495995,143434414,39769032,0,{"$f":"ROUND(100-'Townwide Contributions'!L252,2)","v":17.5},9851,9674,0,725550,725550,47604553,47894773,0,48330103,0,0,48330103,26.380564357717969,191764517,104.67298574234782,5843846.299679935,725550,16269499.935132012,8.8805643577179687,18937.71,null,null,null,75,null,243,"Quincy                       ",1,9674,183203446.08495995,143434414,48330103]
[244,"Randolph                     ",1,60202189.727940001,29584825,30617365,0,30617365,63464836.434990004,31461041,32003795,1386430,{"$f":"ROUND(100-'Townwide Contributions'!L253,2)","v":42.6},3265,3218,1,241350,0,30617365,30713905,0,32003795,0,0,32003795,50.427601799278222,63464836,99.99999931459682,3262646.7070500031,1386430,4967774.6786942594,7.8276017992782201,19721.830000000002,null,null,null,430.83592293349909,null,244,"Randolph                     ",1,3218,63464836.434990004,31461041,32003795]
[245,"Raynham                      ",0,0,0,0,0,0,0,0,0,0,{"$f":"ROUND(100-'Townwide Contributions'!L254,2)","v":33.68},0,0,0,0,0,0,0,0,0,0,0,0,0,0,0,0,0,0,"",0,null,null,null,0,null,245,"Raynham                      ",0,0,0,0,0]
[246,"Reading                      ",1,48771409.240159996,40236412,12326033,0,12326033,52462148.049119994,42173548,10288600,0,{"$f":"ROUND(100-'Townwide Contributions'!L255,2)","v":17.5},3663,3783,0,283725,283725,12326033,12439523,0,12609758,0,0,12609758,24.035916310924897,54783306,104.42444321705379,3690738.8089599982,283725,3428882.0914040022,6.5359163109248968,13867.87,null,null,null,75,null,246,"Reading                      ",1,3783,52462148.049119994,42173548,12609758]
[247,"Rehoboth                     ",0,0,0,0,0,0,0,0,0,0,{"$f":"ROUND(100-'Townwide Contributions'!L256,2)","v":17.5},0,0,0,0,0,0,0,0,0,0,0,0,0,0,0,0,0,0,"",0,null,null,null,0,null,247,"Rehoboth                     ",0,0,0,0,0]
[248,"Revere                       ",1,159415532.16808999,52200934,107214598,0,107214598,161211763.5869,55820962,105390802,0,{"$f":"ROUND(100-'Townwide Contributions'!L257,2)","v":57.45},7962,7639,0,572925,572925,107214598,107443768,0,107787523,0,0,107787523,66.860829881001791,163608485,101.48669139259684,1796231.41881001,572925,15171364.819325954,9.4108298810017885,21103.78,null,null,null,75,null,248,"Revere                       ",1,7639,161211763.5869,55820962,107787523]
[249,"Richmond                     ",1,1789484.8800000001,1476325,553593,0,553593,1875388.28,1547195,328193,0,{"$f":"ROUND(100-'Townwide Contributions'!L258,2)","v":17.5},123,123,0,9225,9225,553593,557283,0,562818,0,0,562818,30.01074529483569,2110013,112.5107276451573,85903.399999999907,9225,234625.05100000004,12.51074529483569,15247.06,null,null,null,75,null,249,"Richmond                     ",1,123,1875388.28,1547195,562818]
[250,"Rochester                    ",1,6154033.3700000001,4242497,2537232,0,2537232,6139467.4500000002,4486494,1652973,0,{"$f":"ROUND(100-'Townwide Contributions'!L259,2)","v":19.34},473,452,0,33900,33900,2537232,2550792,0,2571132,0,0,2571132,41.878746339798575,7057626,114.95501942925033,-14565.919999999925,33900,1383758.99517,22.538746339798575,13582.89,null,null,null,75,null,250,"Rochester                    ",1,452,6139467.4500000002,4486494,2571132]
[251,"Rockland                     ",1,37854417.122810006,17961039,19893378,0,19893378,39192538.375899993,18983640,20208898,315520,{"$f":"ROUND(100-'Townwide Contributions'!L260,2)","v":46.04},2203,2178,1,163350,0,19893378,19958718,0,20208898,0,0,20208898,51.563126139404936,39192538,99.999999040888881,1338121.2530899867,315520,2164653.3317356445,5.5231261394049369,17994.740000000002,null,null,null,144.86685032139579,null,251,"Rockland                     ",1,2178,39192538.375899993,18983640,20208898]
[252,"Rockport                     ",1,7625722.318,6291221,1726466,0,1726466,7744376.1380000003,6389110,1355266,0,{"$f":"ROUND(100-'Townwide Contributions'!L261,2)","v":17.5},520,516,0,38700,38700,1726466,1741946,0,1765166,0,0,1765166,22.792875352976559,8154276,105.29287130035831,118653.8200000003,38700,409900.17585,5.2928753529765586,15008.48,null,null,null,75,null,252,"Rockport                     ",1,516,7744376.1380000003,6389110,1765166]
[253,"Rowe                         ",1,704404.78000000014,581134,156995,0,156995,750141.88,618867,131275,0,{"$f":"ROUND(100-'Townwide Contributions'!L262,2)","v":17.5},41,38,0,2850,2850,156995,158135,0,159845,0,0,159845,21.308635641033664,778712,103.80862884231981,45737.09999999986,2850,28570.171000000002,3.8086356410336641,19740.580000000002,null,null,null,75,null,253,"Rowe                         ",1,38,750141.88,618867,159845]
[254,"Rowley                       ",0,89152.431750000003,73551,34649,0,34649,18508.337289999996,15180,3328,0,{"$f":"ROUND(100-'Townwide Contributions'!L263,2)","v":17.5},5,1,0,0,0,17693.267289999996,17723.267289999996,0,34649,16140.662710000004,0,18508.337289999996,0,33688.337289999996,182.01709187676036,-70644.094460000008,-16140.662710000004,15269.378264249997,"",18508.34,null,null,null,-16140.662710000004,null,254,"Rowley                       ",0,1,18508.337289999996,15180,18508.337289999996]
[255,"Royalston                    ",0,0,0,0,0,0,0,0,0,0,{"$f":"ROUND(100-'Townwide Contributions'!L264,2)","v":31.39},0,0,0,0,0,0,0,0,0,0,0,0,0,0,0,0,0,0,"",0,null,null,null,0,null,255,"Royalston                    ",0,0,0,0,0]
[256,"Russell                      ",0,448617.29999999993,193038,255579,0,255579,412231.75999999995,173223,239009,0,{"$f":"ROUND(100-'Townwide Contributions'!L265,2)","v":49.61},24,21,0,0,0,255579,256209,0,255579,0,0,255579,0,428802,104.01964176656355,-36385.539999999979,0,51070.823864000035,"",19630.080000000002,null,null,null,0,null,256,"Russell                      ",0,21,412231.75999999995,173223,255579]
[257,"Rutland                      ",0,0,0,0,0,0,{"$f":"SUMIF(dist1755,A266,found1755)","v":0},{"$f":"SUMIF(dist1755,A266,prelcont1755)","v":0},{"$f":"ROUND(MAX(found-prelcont436,0),0)","v":0},{"$f":"IF(foundaid>priorc70,foundaid-priorc70,0)","v":0},{"$f":"ROUND(100-'Townwide Contributions'!L266,2)","v":48.17},0,{"$f":"SUMIF(dist1755,A266,enro1755)","v":0},{"$f":"IF(AND(C266=1,L266>0),1,0)","v":0},{"$f":"IF(nonop=1,enro*$Q$6,0)","v":0},{"$f":"IF((foundinc)<Q266,Q266-(foundinc),0)","v":0},0,{"$f":"S266+30*enro","v":0},{"$f":"IF(AND(T266-priorc70-foundinc-minaid>0,nonop=1), T266-priorc70-foundinc-minaid,0)","v":0},{"$f":"priorc70+ foundinc+minaidadjincrement+minaid","v":0},{"$f":"IF(AND(C266=0,V266>found),V266-found,0)","v":0},0,{"$f":"priorc70+foundinc+minaidadjincrement+minaid-rednonop+holdharmlessaid","v":0},{"$f":"IF(C266=1, Y266/I266*100, 0)","v":0},{"$f":"prelcont436+chapter70","v":0},{"$f":"IF(found>0,AA266*100/found,0)","v":0},{"$f":"I266-D266","v":0},{"$f":"Y266-F266","v":0},{"$f":"Y266-((M266/100)*I266)","v":0},{"$f":"IF(C266=1, (Y266/I266*100)-M266, \"\")","v":""},{"$f":"IFERROR(ROUND(I266/O266, 2), 0)","v":0},null,null,null,{"$f":"IFERROR(AD266/O266, 0)","v":0},null,{"$f":"A266","v":257},{"$f":"B266","v":"Rutland                      "},{"$f":"C266","v":0},0,{"$f":"I266","v":0},{"$f":"J266","v":0},{"$f":"Y266","v":0}]
[258,"Salem                        ",1,79288061.75999999,48249759,31038303,0,{"$f":"F267+G267","v":31038303},84299912.020000011,51401175,32898737,1860434,{"$f":"ROUND(100-'Townwide Contributions'!L267,2)","v":30.48},4278,4335,1,325125,0,31038303,31168353,0,32898737,0,0,32898737,39.025826020073225,84299912,99.999999976275177,5011850.2600000203,{"$f":"Y267-F267","v":1860434},7204123.8163039945,8.5458260200732248,19446.349999999999,null,null,null,429.16585928489042,null,258,"Salem                        ",1,{"$f":"O267","v":4335},84299912.020000011,51401175,32898737]
[259,"Salisbury                    ",0,52062.869999999995,42952,14443,0,14443,90234.8,74444,15791,1348,{"$f":"ROUND(100-'Townwide Contributions'!L268,2)","v":17.5},3,5,0,0,0,15077,15227,0,15791,0,0,15791,0,90235,100.00022164397771,38171.930000000008,1348,-9.0000000000145519E-2,"",18046.96,null,null,null,269.60000000000002,null,259,"Salisbury                    ",0,5,90234.8,74444,15791]
[260,"Sandisfield                  ",0,0,0,0,0,0,0,0,0,0,{"$f":"ROUND(100-'Townwide Contributions'!L269,2)","v":17.5},0,0,0,0,0,0,0,0,0,0,0,0,0,0,0,0,0,0,"",0,null,null,null,0,null,260,"Sandisfield                  ",0,0,0,0,0]
[261,"Sandwich                     ",1,29672861.210000001,24480111,8063976,0,8063976,30358178.609999996,25045497,5312682,0,{"$f":"ROUND(100-'Townwide Contributions'!L270,2)","v":17.5},2162,2124,0,159300,159300,8063976,8127696,0,8223276,0,0,8223276,27.087514391562507,33268773,109.58751322795516,685317.39999999478,159300,2910594.7432500012,9.5875143915625074,14292.93,null,null,null,75,null,261,"Sandwich                     ",1,2124,30358178.609999996,25045497,8223276]
[262,"Saugus                       ",1,50782365.639999993,34611764,16170602,0,16170602,50951259.570000008,36868897,14082363,0,{"$f":"ROUND(100-'Townwide Contributions'!L271,2)","v":17.5},3018,2943,0,220725,220725,16170602,16258892,0,16391327,0,0,16391327,32.17060213689237,53260224,104.53171216862224,168893.9300000146,220725,7474856.5752499998,14.67060213689237,17312.689999999999,null,null,null,75,null,262,"Saugus                       ",1,2943,50951259.570000008,36868897,16391327]
[263,"Savoy                        ",1,599224.78999999992,419808,531339,0,531339,550415.80000000005,403867,146549,0,{"$f":"ROUND(100-'Townwide Contributions'!L272,2)","v":22.98},36,37,0,2775,2775,531339,532449,0,534114,0,0,534114,97.03827542741324,937981,170.41316764526016,-48808.989999999874,2775,407628.44915999996,74.058275427413236,14876.1,null,null,null,75,null,263,"Savoy                        ",1,37,550415.80000000005,403867,534114]
[264,"Scituate                     ",1,35753574.680160008,29496699,7234435,0,7234435,37004547.377539992,30528751,6475796,0,{"$f":"ROUND(100-'Townwide Contributions'!L273,2)","v":17.5},2716,2697,0,202275,202275,7234435,7315345,0,7436710,0,0,7436710,20.096746283981656,37965461,102.59674469912105,1250972.697379984,202275,960914.20893050171,2.5967462839816555,13720.63,null,null,null,75,null,264,"Scituate                     ",1,2697,37004547.377539992,30528751,7436710]
[265,"Seekonk                      ",1,27170412.23,20374751,8276778,0,8276778,28113390.649999999,21373614,6739777,0,{"$f":"ROUND(100-'Townwide Contributions'!L274,2)","v":20.81},2040,2018,0,151350,151350,8276778,8337318,0,8428128,0,0,8428128,29.979051993146903,29801742,106.00550595628707,942978.41999999806,151350,2577731.405735001,9.1690519931469048,13931.31,null,null,null,75,null,265,"Seekonk                      ",1,2018,28113390.649999999,21373614,8428128]
[266,"Sharon                       ",1,46223465.281550005,36996923,11377366,0,11377366,47116523.199549995,38337600,8778923,0,{"$f":"ROUND(100-'Townwide Contributions'!L275,2)","v":17.5},3420,3348,0,251100,251100,11377366,11477806,0,11628466,0,0,11628466,24.68022937675304,49966066,106.04786305725806,893057.91799999028,251100,3383074.4400787512,7.1802293767530401,14073.04,null,null,null,75,null,266,"Sharon                       ",1,3348,47116523.199549995,38337600,11628466]
[267,"Sheffield                    ",0,86771.45,71586,15185,0,15185,90234.8,72330,17905,2720,{"$f":"ROUND(100-'Townwide Contributions'!L276,2)","v":17.5},5,5,0,0,0,15185,15335,0,17905,0,0,17905,0,90235,100.00022164397771,3463.3500000000058,2720,2113.91,"",18046.96,null,null,null,544,null,267,"Sheffield                    ",0,5,90234.8,72330,17905]
[268,"Shelburne                    ",0,0,0,0,0,0,0,0,0,0,{"$f":"ROUND(100-'Townwide Contributions'!L277,2)","v":17.5},0,0,0,0,0,0,0,0,0,0,0,0,0,0,0,0,0,0,"",0,null,null,null,0,null,268,"Shelburne                    ",0,0,0,0,0]
[269,"Sherborn                     ",1,5048450.2009800002,4164971,948465,0,948465,5207058.5938899992,4295823,911236,0,{"$f":"ROUND(100-'Townwide Contributions'!L278,2)","v":17.5},398,393,0,29475,29475,948465,960255,0,977940,0,0,977940,18.781044660175748,5273763,101.28103813136023,158608.39290999901,29475,66704.746069250163,1.2810446601757484,13249.51,null,null,null,75,null,269,"Sherborn                     ",1,393,5207058.5938899992,4295823,977940]
[270,"Shirley                      ",0,0,0,0,0,0,0,0,0,0,{"$f":"ROUND(100-'Townwide Contributions'!L279,2)","v":33.71},0,0,0,0,0,0,0,0,0,0,0,0,0,0,0,0,0,0,"",0,null,null,null,0,null,270,"Shirley                      ",0,0,0,0,0]
[271,"Shrewsbury                   ",1,80350322.87999998,64461566,22487010,0,22487010,82737349.679999992,67575060,15162290,0,{"$f":"ROUND(100-'Townwide Contributions'!L280,2)","v":17.5},5945,5837,0,437775,437775,22487010,22662120,0,22924785,0,0,22924785,27.707903490582297,90499845,109.38209327470932,2387026.8000000119,437775,8445748.8060000017,10.207903490582297,14174.64,null,null,null,75,null,271,"Shrewsbury                   ",1,5837,82737349.679999992,67575060,22924785]
[272,"Shutesbury                   ",1,1485214.6700000002,941768,672182,0,672182,1425997.22,961885,464112,0,{"$f":"ROUND(100-'Townwide Contributions'!L281,2)","v":27.49},106,101,0,7575,7575,672182,675212,0,679757,0,0,679757,47.668886759821319,1641642,115.12238431993578,-59217.450000000186,7575,287750.36422200006,20.178886759821321,14118.78,null,null,null,75,null,272,"Shutesbury                   ",1,101,1425997.22,961885,679757]
[273,"Somerset                     ",1,22010520.120000001,11879285,11039877,0,11039877,21569616.309999999,12247874,9321742,0,{"$f":"ROUND(100-'Townwide Contributions'!L282,2)","v":35.549999999999997},1606,1502,0,112650,112650,11039877,11084937,0,11152527,0,0,11152527,51.704800121222007,23400401,108.48779442196764,-440903.81000000238,112650,3484528.4017950008,16.15480012122201,14360.6,null,null,null,75,null,273,"Somerset                     ",1,1502,21569616.309999999,12247874,11152527]
[274,"Somerville                   ",1,95463549.588399991,78757428,22553482,0,22553482,98699357.768680006,81426970,17272388,0,{"$f":"ROUND(100-'Townwide Contributions'!L283,2)","v":17.5},5155,5080,0,381000,381000,22553482,22705882,0,22934482,0,0,22934482,23.236708443180706,104361452,105.7367082819223,3235808.1802800149,381000,5662094.3904809989,5.7367084431807065,19429.009999999998,null,null,null,75,null,274,"Somerville                   ",1,5080,98699357.768680006,81426970,22934482]
[275,"Southampton                  ",1,6438163.6200000001,4736509,2742798,0,2742798,6669767.8999999994,4991288,1678480,0,{"$f":"ROUND(100-'Townwide Contributions'!L284,2)","v":23.19},476,479,0,35925,35925,2742798,2757168,0,2778723,0,0,2778723,41.661464711538166,7770011,116.49597282088332,231604.27999999933,35925,1232003.8239899999,18.471464711538164,13924.36,null,null,null,75,null,275,"Southampton                  ",1,479,6669767.8999999994,4991288,2778723]
[276,"Southborough                 ",1,15401749.173959998,12482147,3473063,0,3473063,16436576.661360001,13084365,3352212,0,{"$f":"ROUND(100-'Townwide Contributions'!L285,2)","v":17.5},1218,1241,0,93075,93075,3473063,3510293,0,3566138,0,0,3566138,21.69635486435245,16650503,101.30152612096477,1034827.4874000028,93075,689737.08426199993,4.1963548643524504,13244.62,null,null,null,75,null,276,"Southborough                 ",1,1241,16436576.661360001,13084365,3566138]
[277,"Southbridge                  ",1,44392355.590000004,10094448,34297908,0,34297908,47044351.420000002,10602631,36441720,2143812,{"$f":"ROUND(100-'Townwide Contributions'!L286,2)","v":74.239999999999995},2242,2221,1,166575,0,34297908,34364538,0,36441720,0,0,36441720,77.462477215718408,47044351,99.999999107225435,2651995.8299999982,2143812,1515993.5057919994,3.2224772157184134,21181.61,null,null,null,965.24628545700136,null,277,"Southbridge                  ",1,2221,47044351.420000002,10602631,36441720]
[278,"South Hadley                 ",1,26607493.200000003,16689854,11136899,0,11136899,26750270.849999998,17487629,9262642,0,{"$f":"ROUND(100-'Townwide Contributions'!L287,2)","v":29.54},1798,1751,0,131325,131325,11136899,11189429,0,11268224,0,0,11268224,42.1237753560914,28755853,107.49742745128131,142777.64999999478,131325,3366193.9909100011,12.583775356091401,15277.14,null,null,null,75,null,278,"South Hadley                 ",1,1751,26750270.849999998,17487629,11268224]
[279,"Southwick                    ",0,671628.83000000007,451570,220059,0,220059,662040.87999999989,458715,203326,0,{"$f":"ROUND(100-'Townwide Contributions'!L288,2)","v":25.86},35,33,0,0,0,220059,221049,0,220059,0,0,220059,0,678774,102.52750555222514,-9587.9500000001863,0,48855.228432000033,"",20061.84,null,null,null,0,null,279,"Southwick                    ",0,33,662040.87999999989,458715,220059]
[280,"Spencer                      ",0,34708.58,15612,34708.58,0,34708.58,36093.919999999998,16546,19548,0,{"$f":"ROUND(100-'Townwide Contributions'!L289,2)","v":47.88},2,2,0,0,0,34463.78,34523.78,0,34708.58,0,0,34708.58,0,51254.58,142.00336233914189,1385.3399999999965,0,17426.811104000004,"",18046.96,null,null,null,0,null,280,"Spencer                      ",0,2,36093.919999999998,16546,34708.58]
[281,"Springfield                  ",1,600170350.39999998,54330699,545839651,0,545839651,640504628.06999993,57346053,583158575,37318924,{"$f":"ROUND(100-'Townwide Contributions'!L290,2)","v":85.33},28380,28270,1,2120250,0,545839651,546687751,0,583158575,0,0,583158575,91.046738687463062,640504628,99.999999989071128,40334277.669999957,37318924,36615975.867869139,5.7167386874630637,22656.69,null,null,null,1320.0892819243013,null,281,"Springfield                  ",1,28270,640504628.06999993,57346053,583158575]
[282,"Sterling                     ",0,0,0,0,0,0,0,0,0,0,{"$f":"ROUND(100-'Townwide Contributions'!L291,2)","v":17.5},0,0,0,0,0,0,0,0,0,0,0,0,0,0,0,0,0,0,"",0,null,null,null,0,null,282,"Sterling                     ",0,0,0,0,0]
[283,"Stockbridge                  ",0,0,0,0,0,0,0,0,0,0,{"$f":"ROUND(100-'Townwide Contributions'!L292,2)","v":17.5},0,0,0,0,0,0,0,0,0,0,0,0,0,0,0,0,0,0,"",0,null,null,null,0,null,283,"Stockbridge                  ",0,0,0,0,0]
[284,"Stoneham                     ",1,35320286.730629995,27572799,7891703,0,7891703,36759959.435520001,28768336,7991623,99920,{"$f":"ROUND(100-'Townwide Contributions'!L293,2)","v":17.5},2511,2498,1,187350,87430,7891703,7966643,0,8079053,0,0,8079053,21.977861575639999,36847389,100.23783912121382,1439672.7048900053,187350,1646060.0987840006,4.4778615756399986,14715.76,null,null,null,75,null,284,"Stoneham                     ",1,2498,36759959.435520001,28768336,8079053]
[285,"Stoughton                    ",1,65412011.168519996,33998047,31413964,0,31413964,64112449.850499995,36135976,27976474,0,{"$f":"ROUND(100-'Townwide Contributions'!L294,2)","v":39.090000000000003},3860,3656,0,274200,274200,31413964,31523644,0,31688164,0,0,31688164,49.425913490892555,67824140,105.78934381411891,-1299561.3180200011,274200,6626607.3534395508,10.335913490892551,17536.23,null,null,null,75,null,285,"Stoughton                    ",1,3656,64112449.850499995,36135976,31688164]
[286,"Stow                         ",0,0,0,0,0,0,0,0,0,0,{"$f":"ROUND(100-'Townwide Contributions'!L295,2)","v":17.5},0,0,0,0,0,0,0,0,0,0,0,0,0,0,0,0,0,0,"",0,null,null,null,0,null,286,"Stow                         ",0,0,0,0,0]
[287,"Sturbridge                   ",1,10928183.49,6377304,5304154,0,5304154,10921745.060000002,6692501,4229244,0,{"$f":"ROUND(100-'Townwide Contributions'!L296,2)","v":35.130000000000003},827,793,0,59475,59475,5304154,5327944,0,5363629,0,0,5363629,49.109633767627962,12056130,110.38648067472835,-6438.4299999978393,59475,1526819.960421999,13.979633767627959,13772.69,null,null,null,75,null,287,"Sturbridge                   ",1,793,10921745.060000002,6692501,5363629]
[288,"Sudbury                      ",1,30743352.286760002,24941706,6192244,0,6192244,32224355.789999999,26585094,5639262,0,{"$f":"ROUND(100-'Townwide Contributions'!L297,2)","v":17.5},2492,2507,0,188025,188025,6192244,6267454,0,6380269,0,0,6380269,19.799523818502379,32965363,102.29952528711203,1481003.5032399967,188025,741006.73675000016,2.2995238185023794,12853.75,null,null,null,75,null,288,"Sudbury                      ",1,2507,32224355.789999999,26585094,6380269]
[289,"Sunderland                   ",1,2093428.05,1712476,931556,0,931556,2272880.0099999998,1805015,467865,0,{"$f":"ROUND(100-'Townwide Contributions'!L298,2)","v":17.5},142,145,0,10875,10875,931556,935906,0,942431,0,0,942431,41.464177424834674,2747446,120.87950036570564,179451.95999999973,10875,544676.99825000006,23.964177424834674,15675.03,null,null,null,75,null,289,"Sunderland                   ",1,145,2272880.0099999998,1805015,942431]
[290,"Sutton                       ",1,17087859.710000001,14097484,5997981,0,5997981,17294423.279999997,14267899,3026524,0,{"$f":"ROUND(100-'Townwide Contributions'!L299,2)","v":17.5},1280,1245,0,93375,93375,5997981,6035331,0,6091356,0,0,6091356,35.221504073190466,20359255,117.72150288205508,206563.56999999657,93375,3064831.9260000004,17.721504073190466,13891.1,null,null,null,75,null,290,"Sutton                       ",1,1245,17294423.279999997,14267899,6091356]
[291,"Swampscott                   ",1,28287967.390000001,22504337,5783630,0,5783630,28972097.420000002,23020797,5951300,167670,{"$f":"ROUND(100-'Townwide Contributions'!L300,2)","v":17.5},2055,2036,1,152700,0,5783630,5844710,0,5951300,0,0,5951300,20.541488293808172,28972097,99.999998550329323,684130.03000000119,167670,881182.95150000043,3.0414882938081718,14229.91,null,null,null,82.352652259332018,null,291,"Swampscott                   ",1,2036,28972097.420000002,23020797,5951300]
[292,"Swansea                      ",1,27821964.430000003,18113997,11323738,0,11323738,28217787.699999999,19146600,9071188,0,{"$f":"ROUND(100-'Townwide Contributions'!L301,2)","v":26.03},1999,1961,0,147075,147075,11323738,11382568,0,11470813,0,0,11470813,40.651000432610104,30617413,108.50394554495851,395823.26999999583,147075,4125722.8616899997,14.621000432610103,14389.49,null,null,null,75,null,292,"Swansea                      ",1,1961,28217787.699999999,19146600,11470813]
[293,"Taunton                      ",1,153498975.16,48056845,105442130,0,105442130,{"$f":"SUMIF(dist1755,A302,found1755)","v":160533555.88},50916140,109617416,4175286,{"$f":"ROUND(100-'Townwide Contributions'!L302,2)","v":62.78},8457,8364,1,627300,0,105442130,105693050,0,109617416,0,0,109617416,68.283179425702016,160533556,100.00000007475073,7034580.7199999988,4175286,8834449.6185359955,5.5031794257020152,19193.400000000001,null,null,null,499.19727403156384,null,293,"Taunton                      ",1,8364,160533555.88,50916140,109617416]
[294,"Templeton                    ",0,17354.29,5861,11493,0,11493,18046.96,6581,11466,0,{"$f":"ROUND(100-'Townwide Contributions'!L303,2)","v":54.64},1,1,0,0,0,11493,11523,0,11493,0,0,11493,0,18074,100.14983132893296,692.66999999999825,0,1632.1410560000004,"",18046.96,null,null,null,0,null,294,"Templeton                    ",0,1,18046.96,6581,11493]
[295,"Tewksbury                    ",1,44323386.889999993,35797036,14642447,0,14642447,46625859.059999995,37685831,8940028,0,{"$f":"ROUND(100-'Townwide Contributions'!L304,2)","v":17.5},3274,3316,0,248700,248700,14642447,14741927,0,14891147,0,0,14891147,31.937528444971885,52576978,112.7635588061592,2302472.1700000018,248700,6731621.6645000018,14.437528444971885,14060.87,null,null,null,75,null,295,"Tewksbury                    ",1,3316,46625859.059999995,37685831,14891147]
[296,"Tisbury                      ",1,6110458.1700000009,5041128,1736199,0,1736199,5771702.3499999987,4761655,1010047,0,{"$f":"ROUND(100-'Townwide Contributions'!L305,2)","v":17.5},393,364,0,27300,27300,1736199,1747119,0,1763499,0,0,1763499,30.554226345369322,6525154,113.05423606953677,-338755.82000000216,27300,753451.08875000034,13.054226345369322,15856.33,null,null,null,75,null,296,"Tisbury                      ",1,364,5771702.3499999987,4761655,1763499]
[297,"Tolland                      ",0,0,0,0,0,0,0,0,0,0,{"$f":"ROUND(100-'Townwide Contributions'!L306,2)","v":17.5},0,0,0,0,0,0,0,0,0,0,0,0,0,0,0,0,0,0,"",0,null,null,null,0,null,297,"Tolland                      ",0,0,0,0,0]
[298,"Topsfield                    ",1,6879714.2048400007,5572112,1635187,0,1635187,7006867.7280499991,5650936,1355932,0,{"$f":"ROUND(100-'Townwide Contributions'!L307,2)","v":17.5},552,534,0,40050,40050,1635187,1651207,0,1675237,0,0,1675237,23.908500417292963,7326173,104.55703296170061,127153.52320999838,40050,449035.14759125025,6.4085004172929629,13121.48,null,null,null,75,null,298,"Topsfield                    ",1,534,7006867.7280499991,5650936,1675237]
[299,"Townsend                     ",0,0,0,0,0,0,0,0,0,0,{"$f":"ROUND(100-'Townwide Contributions'!L308,2)","v":40.32},0,0,0,0,0,0,0,0,0,0,0,0,0,0,0,0,0,0,"",0,null,null,null,0,null,299,"Townsend                     ",0,0,0,0,0]
[300,"Truro                        ",1,2145078.7199999997,1769689,470826,0,470826,2005803.2399999998,1654788,351015,0,{"$f":"ROUND(100-'Townwide Contributions'!L309,2)","v":17.5},155,140,0,10500,10500,470826,475026,0,481326,0,0,481326,23.996670780130959,2136114,106.49668708282674,-139275.47999999998,10500,130310.43300000008,6.4966707801309589,14327.17,null,null,null,75,null,300,"Truro                        ",1,140,2005803.2399999998,1654788,481326]
[301,"Tyngsborough                 ",1,21820276.790000003,15537955,8055660,0,8055660,23223406.279999997,16393254,6830152,0,{"$f":"ROUND(100-'Townwide Contributions'!L310,2)","v":23.61},1567,1581,0,118575,118575,8055660,8103090,0,8174235,0,0,8174235,35.19826033031017,24567489,105.78762091914797,1403129.4899999946,118575,2691188.7772920001,11.58826033031017,14689.06,null,null,null,75,null,301,"Tyngsborough                 ",1,1581,23223406.279999997,16393254,8174235]
[302,"Tyringham                    ",0,415290.22000000003,342614,72676,0,72676,413286.38999999996,340961,72325,0,{"$f":"ROUND(100-'Townwide Contributions'!L311,2)","v":17.5},35,34,0,0,0,72676,73696,0,72676,0,0,72676,0,413637,100.08483463488842,-2003.8300000000745,0,350.88175000001502,"",12155.48,null,null,null,0,null,302,"Tyringham                    ",0,34,413286.38999999996,340961,72676]
[303,"Upton                        ",0,156188.61000000002,125121,39979,0,39979,144375.67999999999,116271,28105,0,{"$f":"ROUND(100-'Townwide Contributions'!L312,2)","v":17.5},9,8,0,0,0,39979,40219,0,39979,0,0,39979,0,156250,108.22459849193439,-11812.930000000022,0,14713.256000000001,"",18046.96,null,null,null,0,null,303,"Upton                        ",0,8,144375.67999999999,116271,39979]
[304,"Uxbridge                     ",1,22882209.760000002,17241412,10102020,0,10102020,24071934.779999994,18825113,5246822,0,{"$f":"ROUND(100-'Townwide Contributions'!L313,2)","v":17.5},1604,1619,0,121425,121425,10102020,10150590,0,10223445,0,0,10223445,42.470391738075335,29048558,120.67396437171639,1189725.0199999921,121425,6010856.4135000017,24.970391738075335,14868.4,null,null,null,75,null,304,"Uxbridge                     ",1,1619,24071934.779999994,18825113,10223445]
[305,"Wakefield                    ",1,46900988.453170016,37837354,9402623,0,9402623,49378390.627280012,39741317,9637074,234451,{"$f":"ROUND(100-'Townwide Contributions'!L314,2)","v":17.5},3397,3415,1,256125,21674,9402623,9505073,0,9658748,0,0,9658748,19.560678015827929,49400065,100.04389444946392,2477402.1741099954,256125,1017529.6402259991,2.0606780158279285,14459.27,null,null,null,75,null,305,"Wakefield                    ",1,3415,49378390.627280012,39741317,9658748]
[306,"Wales                        ",1,1672912.0100000002,662192,1203868,0,1203868,1877628.0699999998,741752,1135876,0,{"$f":"ROUND(100-'Townwide Contributions'!L315,2)","v":53.56},104,113,0,8475,8475,1203868,1207258,0,1212343,0,0,1212343,64.567792704547728,1954095,104.07252805929771,204716.05999999959,8475,206685.40570799995,11.007792704547725,16616.18,null,null,null,75,null,306,"Wales                        ",1,113,1877628.0699999998,741752,1212343]
[307,"Walpole                      ",1,48588432.383949995,40085457,10801800,0,10801800,50898857.362050004,41289558,9609299,0,{"$f":"ROUND(100-'Townwide Contributions'!L316,2)","v":17.5},3589,3598,0,269850,269850,10801800,10909740,0,11071650,0,0,11071650,21.752256482392042,52361208,102.87305199711678,2310424.9781000093,269850,2164349.9616412502,4.2522564823920419,14146.43,null,null,null,75,null,307,"Walpole                      ",1,3598,50898857.362050004,41289558,11071650]
[308,"Waltham                      ",1,111848740.7475,85467815,26380926,0,26380926,116139540.79914001,90065983,26073558,0,{"$f":"ROUND(100-'Townwide Contributions'!L317,2)","v":17.5},5815,5776,0,433200,433200,26380926,26554206,0,26814126,0,0,26814126,23.087852608591124,116880109,100.63765380486632,4290800.0516400039,433200,6489706.3601505011,5.587852608591124,20107.259999999998,null,null,null,75,null,308,"Waltham                      ",1,5776,116139540.79914001,90065983,26814126]
[309,"Ware                         ",1,21252179.18,6508279,14743900,0,14743900,21265037.789999999,6770588,14494450,0,{"$f":"ROUND(100-'Townwide Contributions'!L318,2)","v":64.63},1213,1192,0,89400,89400,14743900,14779660,0,14833300,0,0,14833300,69.754402256343226,21603888,101.59346159337345,12858.609999999404,89400,1089706.0763230007,5.124402256343231,17839.8,null,null,null,75,null,309,"Ware                         ",1,1192,21265037.789999999,6770588,14833300]
[310,"Wareham                      ",1,38595665.049999997,24257628,16793832,0,16793832,41004971.409999996,25984418,15020553,0,{"$f":"ROUND(100-'Townwide Contributions'!L319,2)","v":31.81},2220,2258,0,169350,169350,16793832,16861572,0,16963182,0,0,16963182,41.368598530136133,42947600,104.73754406648909,2409306.3599999994,169350,3919500.5944790021,9.558598530136134,18159.86,null,null,null,75,null,310,"Wareham                      ",1,2258,41004971.409999996,25984418,16963182]
[311,"Warren                       ",0,17354.29,5565,11789,0,11789,18046.96,5824,12223,434,{"$f":"ROUND(100-'Townwide Contributions'!L320,2)","v":65.540000000000006},1,1,0,0,0,11789,11819,0,12223,0,0,12223,0,18047,100.00022164397771,692.66999999999825,434,395.02241599999797,"",18046.96,null,null,null,434,null,311,"Warren                       ",0,1,18046.96,5824,12223]
[312,"Warwick                      ",1,594996.94999999995,490873,392384,0,392384,904734.07,568003,336731,0,{"$f":"ROUND(100-'Townwide Contributions'!L321,2)","v":25.27},46,58,0,4350,4350,392384,394124,0,396734,0,0,396734,43.850896429710005,964737,106.63210682449485,309737.12,4350,168107.70051100003,18.580896429710005,15598.86,null,null,null,75,null,312,"Warwick                      ",1,58,904734.07,568003,396734]
[313,"Washington                   ",0,86771.45,64812,37233,0,37233,72187.839999999997,59555,12633,0,{"$f":"ROUND(100-'Townwide Contributions'!L322,2)","v":17.5},5,4,0,0,0,37233,37353,0,37233,0,0,37233,0,96788,134.077983217118,-14583.61,0,24600.128000000001,"",18046.96,null,null,null,0,null,313,"Washington                   ",0,4,72187.839999999997,59555,37233]
[314,"Watertown                    ",1,45294898.797560006,37368292,8513866,0,8513866,46749581.240119986,38568405,8181176,0,{"$f":"ROUND(100-'Townwide Contributions'!L323,2)","v":17.5},2825,2816,0,211200,211200,8513866,8598346,0,8725066,0,0,8725066,18.663409956947898,47293471,101.16341097706615,1454682.4425599799,211200,543889.28297900315,1.1634099569478984,16601.41,null,null,null,75,null,314,"Watertown                    ",1,2816,46749581.240119986,38568405,8725066]
[315,"Wayland                      ",1,35459917.689330004,28984466,7949860,0,7949860,36737120.222759999,30308124,6428996,0,{"$f":"ROUND(100-'Townwide Contributions'!L324,2)","v":17.5},2700,2676,0,200700,200700,7949860,8030140,0,8150560,0,0,8150560,22.18617014773637,38458684,104.68616964748757,1277202.5334299952,200700,1721563.9610170005,4.6861701477363695,13728.37,null,null,null,75,null,315,"Wayland                      ",1,2676,36737120.222759999,30308124,8150560]
[316,"Webster                      ",1,35685383.880000003,14323563,21361821,0,21361821,39242117.710000001,14982578,24259540,2897719,{"$f":"ROUND(100-'Townwide Contributions'!L325,2)","v":55.84},1916,1966,1,147450,0,21361821,21420801,0,24259540,0,0,24259540,61.820160112862574,39242118,100.00000073900191,3556733.8299999982,2897719,2346741.4707360007,5.9801601128625705,19960.39,null,null,null,1473.9160732451678,null,316,"Webster                      ",1,1966,39242117.710000001,14982578,24259540]
[317,"Wellesley                    ",1,53406327.744700007,44060220,10942336,0,10942336,54901421.593699984,45293673,9607749,0,{"$f":"ROUND(100-'Townwide Contributions'!L326,2)","v":17.5},3982,3915,0,293625,293625,10942336,11059786,0,11235961,0,0,11235961,20.46570138593523,56529634,102.96570172326258,1495093.8489999771,293625,1628212.2211025041,2.9657013859352297,14023.35,null,null,null,75,null,317,"Wellesley                    ",1,3915,54901421.593699984,45293673,11235961]
[318,"Wellfleet                    ",1,1341102.3700000001,1106410,327563,0,327563,1445799.54,1192785,253015,0,{"$f":"ROUND(100-'Townwide Contributions'!L327,2)","v":17.5},95,93,0,6975,6975,327563,330353,0,334538,0,0,334538,23.138615744752553,1527323,105.63864199320467,104697.16999999993,6975,81523.080500000011,5.6386157447525527,15546.23,null,null,null,75,null,318,"Wellfleet                    ",1,93,1445799.54,1192785,334538]
[319,"Wendell                      ",0,0,0,0,0,0,0,0,0,0,{"$f":"ROUND(100-'Townwide Contributions'!L328,2)","v":54.72},0,0,0,0,0,0,0,0,0,0,0,0,0,0,0,0,0,0,"",0,null,null,null,0,null,319,"Wendell                      ",0,0,0,0,0]
[320,"Wenham                       ",0,0,0,0,0,0,0,0,0,0,{"$f":"ROUND(100-'Townwide Contributions'!L329,2)","v":17.5},0,0,0,0,0,0,0,0,0,0,0,0,0,0,0,0,0,0,"",0,null,null,null,0,null,320,"Wenham                       ",0,0,0,0,0]
[321,"Westborough                  ",1,51329832.729999997,40916886,12875256,0,12875256,{"$f":"SUMIF(dist1755,A330,found1755)","v":51163571.100000001},{"$f":"SUMIF(dist1755,A330,prelcont1755)","v":42209946},{"$f":"ROUND(MAX(found-prelcont436,0),0)","v":8953625},{"$f":"IF(foundaid>priorc70,foundaid-priorc70,0)","v":0},{"$f":"ROUND(100-'Townwide Contributions'!L330,2)","v":17.5},3770,{"$f":"SUMIF(dist1755,A330,enro1755)","v":3610},{"$f":"IF(AND(C330=1,L330>0),1,0)","v":0},{"$f":"IF(nonop=1,enro*$Q$6,0)","v":270750},{"$f":"IF((foundinc)<Q330,Q330-(foundinc),0)","v":270750},12875256,{"$f":"S330+30*enro","v":12983556},{"$f":"IF(AND(T330-priorc70-foundinc-minaid>0,nonop=1), T330-priorc70-foundinc-minaid,0)","v":0},{"$f":"priorc70+ foundinc+minaidadjincrement+minaid","v":13146006},{"$f":"IF(AND(C330=0,V330>found),V330-found,0)","v":0},0,{"$f":"priorc70+foundinc+minaidadjincrement+minaid-rednonop+holdharmlessaid","v":13146006},{"$f":"IF(C330=1, Y330/I330*100, 0)","v":25.694074352835784},{"$f":"prelcont436+chapter70","v":55355952},{"$f":"IF(found>0,AA330*100/found,0)","v":108.19407404499957},{"$f":"I330-D330","v":-166261.62999999523},{"$f":"Y330-F330","v":270750},{"$f":"Y330-((M330/100)*I330)","v":4192381.057500001},{"$f":"IF(C330=1, (Y330/I330*100)-M330, \"\")","v":8.1940743528357842},{"$f":"IFERROR(ROUND(I330/O330, 2), 0)","v":14172.73},null,null,null,{"$f":"IFERROR(AD330/O330, 0)","v":75},null,{"$f":"A330","v":321},{"$f":"B330","v":"Westborough                  "},{"$f":"C330","v":1},3610,{"$f":"I330","v":51163571.100000001},{"$f":"J330","v":42209946},{"$f":"Y330","v":13146006}]
[322,"West Boylston                ",1,12268268.470000003,9365042,3370195,0,{"$f":"F331+G331","v":3370195},12721018.73,9845468,2875551,0,{"$f":"ROUND(100-'Townwide Contributions'!L331,2)","v":17.5},839,833,0,62475,62475,3370195,3395185,0,3432670,0,0,3432670,26.984238234825707,13278138,104.37951772436388,452750.25999999791,62475,1206491.7222500001,9.4842382348257068,15271.33,null,null,null,75,null,322,"West Boylston                ",1,{"$f":"O331","v":833},12721018.73,9845468,3432670]
[323,"West Bridgewater             ",1,16002951.560000002,9541306,7102423,0,7102423,16912875.629999999,10396554,6516322,0,{"$f":"ROUND(100-'Townwide Contributions'!L332,2)","v":31.58},1141,1151,0,86325,86325,7102423,7136953,0,7188748,0,0,7188748,42.504587376310063,17585302,103.97582519206405,909924.06999999657,86325,1847661.876046001,10.924587376310065,14694.07,null,null,null,75,null,323,"West Bridgewater             ",1,1151,16912875.629999999,10396554,7188748]
[324,"West Brookfield              ",0,500680.17000000004,291447,328719,0,328719,376137.83999999997,225731,150407,0,{"$f":"ROUND(100-'Townwide Contributions'!L333,2)","v":33.36},27,19,0,0,0,328719,329289,0,328719,0,0,328719,0,554450,147.40606794572969,-124542.33000000007,0,203239.41657599999,"",19796.73,null,null,null,0,null,324,"West Brookfield              ",0,19,376137.83999999997,225731,328719]
[325,"Westfield                    ",1,80715329.109999985,35572719,45142610,0,45142610,83297544.069999993,37205507,46092037,949427,{"$f":"ROUND(100-'Townwide Contributions'!L334,2)","v":53.18},4730,4665,1,349875,0,45142610,45282560,0,46092037,0,0,46092037,55.334208846861145,83297544,99.999999915963912,2582214.9600000083,949427,1794403.0635740012,2.1542088468611453,17855.849999999999,null,null,null,203.52132904608789,null,325,"Westfield                    ",1,4665,83297544.069999993,37205507,46092037]
[326,"Westford                     ",1,58121126.024580009,45508445,18982269,0,18982269,60365431.103199989,47386640,12978791,0,{"$f":"ROUND(100-'Townwide Contributions'!L335,2)","v":17.5},4511,4441,0,333075,333075,18982269,19115499,0,19315344,0,0,19315344,31.997359493678974,66701984,110.49698938779568,2244305.0786199793,333075,8751393.5569400024,14.497359493678974,13592.76,null,null,null,75,null,326,"Westford                     ",1,4441,60365431.103199989,47386640,19315344]
[327,"Westhampton                  ",1,1313472.22,1083615,514848,0,514848,1247229.23,1028964,218265,0,{"$f":"ROUND(100-'Townwide Contributions'!L336,2)","v":17.5},91,80,0,6000,6000,514848,517248,0,520848,0,0,520848,41.760406785848019,1549812,124.26039758545429,-66242.989999999991,6000,302582.88475000003,24.260406785848019,15590.37,null,null,null,75,null,327,"Westhampton                  ",1,80,1247229.23,1028964,520848]
[328,"Westminster                  ",0,0,0,0,0,0,0,0,0,0,{"$f":"ROUND(100-'Townwide Contributions'!L337,2)","v":32.94},0,0,0,0,0,0,0,0,0,0,0,0,0,0,0,0,0,0,"",0,null,null,null,0,null,328,"Westminster                  ",0,0,0,0,0]
[329,"West Newbury                 ",0,52062.869999999995,42952,13151,0,13151,54140.88,42979,11162,0,{"$f":"ROUND(100-'Townwide Contributions'!L338,2)","v":17.5},3,3,0,0,0,13151,13241,0,13151,0,0,13151,0,56130,103.67397057454552,2078.010000000002,0,3676.3460000000014,"",18046.96,null,null,null,0,null,329,"West Newbury                 ",0,3,54140.88,42979,13151]
[330,"Weston                       ",1,27475067.223499995,22666930,4962659,0,4962659,29003216.312879998,23927653,5075563,112904,{"$f":"ROUND(100-'Townwide Contributions'!L339,2)","v":17.5},2045,2055,1,154125,41221,4962659,5024309,0,5116784,0,0,5116784,17.642126117328907,29044437,100.14212453775927,1528149.0893800035,154125,41221.14524600096,0.14212611732890679,14113.49,null,null,null,75,null,330,"Weston                       ",1,2055,29003216.312879998,23927653,5116784]
[331,"Westport                     ",1,22861328.349999998,17959571,5829452,0,5829452,23725740.499999996,19035294,4690447,0,{"$f":"ROUND(100-'Townwide Contributions'!L340,2)","v":17.5},1557,1550,0,116250,116250,5829452,5875952,0,5945702,0,0,5945702,25.060132475106521,24980996,105.29069050552923,864412.14999999851,116250,1793697.412500001,7.5601324751065206,15306.93,null,null,null,75,null,331,"Westport                     ",1,1550,23725740.499999996,19035294,5945702]
[332,"West Springfield             ",1,72601734.330000013,25460932,47140802,0,47140802,72848167.090000004,26746709,46101458,0,{"$f":"ROUND(100-'Townwide Contributions'!L341,2)","v":58.26},4111,3945,0,295875,295875,47140802,47259152,0,47436677,0,0,47436677,65.117186739090542,74183386,101.83287921074309,246432.75999999046,295875,4995334.853365995,6.8571867390905439,18465.95,null,null,null,75,null,332,"West Springfield             ",1,3945,72848167.090000004,26746709,47436677]
[333,"West Stockbridge             ",0,0,0,0,0,0,0,0,0,0,{"$f":"ROUND(100-'Townwide Contributions'!L342,2)","v":17.5},0,0,0,0,0,0,0,0,0,0,0,0,0,0,0,0,0,0,"",0,null,null,null,0,null,333,"West Stockbridge             ",0,0,0,0,0]
[334,"West Tisbury                 ",0,0,0,0,0,0,0,0,0,0,{"$f":"ROUND(100-'Townwide Contributions'!L343,2)","v":17.5},0,0,0,0,0,0,0,0,0,0,0,0,0,0,0,0,0,0,"",0,null,null,null,0,null,334,"West Tisbury                 ",0,0,0,0,0]
[335,"Westwood                     ",1,37402634.289359994,30857173,7796626,0,7796626,39111176.240100004,32084386,7026790,0,{"$f":"ROUND(100-'Townwide Contributions'!L344,2)","v":17.5},2844,2836,0,212700,212700,7796626,7881706,0,8009326,0,0,8009326,20.478356239739419,40093712,102.51216111187324,1708541.9507400095,212700,1164870.1579824993,2.9783562397394192,13790.96,null,null,null,75,null,335,"Westwood                     ",1,2836,39111176.240100004,32084386,8009326]
[336,"Weymouth                     ",1,95705608.23864001,73567640,30801983,0,30801983,101624016.37731999,77273720,24350296,0,{"$f":"ROUND(100-'Townwide Contributions'!L345,2)","v":17.5},5832,5898,0,442350,442350,30801983,30978923,0,31244333,0,0,31244333,30.74502869872104,108518053,106.78386553537023,5918408.1386799812,442350,13460130.133969001,13.24502869872104,17230.25,null,null,null,75,null,336,"Weymouth                     ",1,5898,101624016.37731999,77273720,31244333]
[337,"Whately                      ",1,1207816.8600000001,966499,351983,0,351983,1424476.9000000001,1082145,342332,0,{"$f":"ROUND(100-'Townwide Contributions'!L346,2)","v":19.23},92,100,0,7500,7500,358349,361349,1866,361349,0,0,361349,25.367136525695848,1443494,101.33502340402993,216660.04000000004,9366,87422.092129999946,6.1371365256958477,14244.77,null,null,null,93.66,null,337,"Whately                      ",1,100,1424476.9000000001,1082145,361349]
[338,"Whitman                      ",0,327137.26999999996,152786,174351,0,174351,267856.07999999996,130007,137849,0,{"$f":"ROUND(100-'Townwide Contributions'!L347,2)","v":43.96},17,13,0,0,0,174351,174741,0,174351,0,0,174351,0,304358,113.62743754033885,-59281.19,0,56601.467232000025,"",20604.310000000001,null,null,null,0,null,338,"Whitman                      ",0,13,267856.07999999996,130007,174351]
[339,"Wilbraham                    ",0,0,0,0,0,0,0,0,0,0,{"$f":"ROUND(100-'Townwide Contributions'!L348,2)","v":31.47},0,0,0,0,0,0,0,0,0,0,0,0,0,0,0,0,0,0,"",0,null,null,null,0,null,339,"Wilbraham                    ",0,0,0,0,0]
[340,"Williamsburg                 ",1,1785677.7,1318975,875431,0,875431,1749761.4900000002,1337813,411948,0,{"$f":"ROUND(100-'Townwide Contributions'!L349,2)","v":19.850000000000001},119,109,0,8175,8175,875431,878701,0,883606,0,0,883606,50.498653962260875,2221419,126.95553152218476,-35916.20999999973,8175,536278.34423499997,30.648653962260873,16052.86,null,null,null,75,null,340,"Williamsburg                 ",1,109,1749761.4900000002,1337813,883606]
[341,"Williamstown                 ",0,0,0,0,0,0,0,0,0,0,{"$f":"ROUND(100-'Townwide Contributions'!L350,2)","v":17.5},0,0,0,0,0,0,0,0,0,0,0,0,0,0,0,0,0,0,"",0,null,null,null,0,null,341,"Williamstown                 ",0,0,0,0,0]
[342,"Wilmington                   ",1,37975001.813760005,31329376,12602570,0,12602570,40162342.191840008,33133932,7028410,0,{"$f":"ROUND(100-'Townwide Contributions'!L351,2)","v":17.5},2778,2805,0,210375,210375,12602570,12686720,0,12812945,0,0,12812945,31.902882901593504,45946877,114.40288213403865,2187340.378080003,210375,5784535.116427999,14.402882901593504,14318.13,null,null,null,75,null,342,"Wilmington                   ",1,2805,40162342.191840008,33133932,12812945]
[343,"Winchendon                   ",1,21245551.259999998,6850740,14394811,0,14394811,21259695.539999999,7229420,14030276,0,{"$f":"ROUND(100-'Townwide Contributions'!L352,2)","v":60.59},1286,1221,0,91575,91575,14394811,14431441,0,14486386,0,0,14486386,68.140138567572365,21715806,102.14542329236009,14144.280000001192,91575,1605136.4723140001,7.5501385675723611,17411.71,null,null,null,75,null,343,"Winchendon                   ",1,1221,21259695.539999999,7229420,14486386]
[344,"Winchester                   ",1,58362713.363759995,47287902,11388803,0,11388803,60361166.947999999,48960912,11400255,11452,{"$f":"ROUND(100-'Townwide Contributions'!L353,2)","v":17.5},4398,4347,1,326025,314573,11388803,11519213,0,11714828,0,0,11714828,19.407888535508437,60675740,100.52115137580259,1998453.5842400044,326025,1151623.7841000017,1.9078885355084374,13885.71,null,null,null,75,null,344,"Winchester                   ",1,4347,60361166.947999999,48960912,11714828]
[345,"Windsor                      ",0,121480.03,92496,28984,0,28984,90234.8,72647,17588,0,{"$f":"ROUND(100-'Townwide Contributions'!L354,2)","v":17.5},7,5,0,0,0,28984,29134,0,28984,0,0,28984,0,101631,112.62949549397793,-31245.229999999996,0,13192.91,"",18046.96,null,null,null,0,null,345,"Windsor                      ",0,5,90234.8,72647,28984]
[346,"Winthrop                     ",1,31680910.483599998,21322094,10448196,0,10448196,32954210.573959999,22617516,10336695,0,{"$f":"ROUND(100-'Townwide Contributions'!L355,2)","v":21.96},1996,1999,0,149925,149925,10448196,10508166,0,10598121,0,0,10598121,32.160142256220517,33215637,100.79330204391719,1273300.0903600007,149925,3361376.3579583839,10.200142256220516,16485.349999999999,null,null,null,75,null,346,"Winthrop                     ",1,1999,32954210.573959999,22617516,10598121]
[347,"Woburn",1,75539782.354959995,60461178,15419389,0,15419389,75547563.502450004,62326740,13220824,0,{"$f":"ROUND(100-'Townwide Contributions'!L356,2)","v":17.5},4600,4416,0,331200,331200,15419389,15551869,0,15750589,0,0,15750589,20.848573097250462,78077329,103.34857324348781,7781.1474900096655,331200,2529765.38707125,3.3485730972504619,17107.689999999999,null,null,null,75,null,347,"Woburn",1,4416,75547563.502450004,62326740,15750589]
[348,"Worcester                    ",1,547442458.76000011,135663200,411779259,0,411779259,581293882.04999995,143531666,437762216,25982957,{"$f":"ROUND(100-'Townwide Contributions'!L357,2)","v":71.11},27173,27183,1,2038725,0,411779259,412594749,0,437762216,0,0,437762216,75.308244163207263,581293882,99.999999991398511,33851423.289999843,25982957,24404136.474245071,4.1982441632072636,21384.46,null,null,null,955.85318029650887,null,348,"Worcester                    ",1,27183,581293882.04999995,143531666,437762216]
[349,"Worthington                  ",1,1728156.65,1251748,495642,0,495642,1757174.0299999998,1354641,402533,0,{"$f":"ROUND(100-'Townwide Contributions'!L358,2)","v":17.5},122,117,0,8775,8775,495642,499152,0,504417,0,0,504417,28.706149270826636,1859058,105.79817185210734,29017.379999999888,8775,196911.54475000006,11.206149270826636,15018.58,null,null,null,75,null,349,"Worthington                  ",1,117,1757174.0299999998,1354641,504417]
[350,"Wrentham                     ",1,12166663.342719998,9726662,4163597,0,4163597,13110944.070250001,10743879,2367065,0,{"$f":"ROUND(100-'Townwide Contributions'!L359,2)","v":17.5},934,965,0,72375,72375,4163597,4192547,0,4235972,0,0,4235972,32.308672642512676,14979851,114.25455649674176,944280.72753000259,72375,1941556.7877062499,14.808672642512676,13586.47,null,null,null,75,null,350,"Wrentham                     ",1,965,13110944.070250001,10743879,4235972]
[351,"Yarmouth                     ",0,0,0,0,0,0,0,0,0,0,{"$f":"ROUND(100-'Townwide Contributions'!L360,2)","v":17.5},0,0,0,0,0,0,0,0,0,0,0,0,0,0,0,0,0,0,"",0,null,null,null,0,null,351,"Yarmouth                     ",0,0,0,0,0]
[406,"Northampton Smith            ",1,4432463.1100000013,3576504,963771,0,963771,4055138.3600000003,3345489,709649,0,{"$f":"ROUND(100-SUMIF(fraclea,A361,memeffpct),2)","v":17.5},139,126,0,9450,9450,963771,967551,0,973221,0,0,973221,23.999698989308961,4318710,106.49969536427851,-377324.75000000093,9450,263571.78700000001,6.4996989893089605,32183.64,null,null,null,75,null,406,"Northampton Smith            ",1,126,4055138.3600000003,3345489,973221]
[600,"Acton Boxborough             ",1,67984250.268440008,54629970,17200971,0,17200971,70066019.896239996,57043353,13022667,0,17.5,4948,4877,0,365775,365775,17200971,17347281,0,17566746,0,0,17566746,25.071705265996847,74610099,106.4854249042393,2081769.6277999878,365775,5305192.5181580018,7.5717052659968473,14366.62,null,null,null,75,null,600,"Acton Boxborough             ",1,4877,70066019.896239996,57043353,17566746]
[603,"Hoosac Valley",1,19020586.490000002,6761402,12259184,0,12259184,19737213.429999996,7102142,12635071,375887,59.4,1145,1121,1,84075,0,12259184,12292814,0,12635071,0,0,12635071,64.016488674105616,19737213,99.999997821374336,716626.93999999389,375887,911166.22258000262,4.6164886741056179,17606.79,null,null,null,335.31400535236395,null,603,"Hoosac Valley",1,1121,19737213.429999996,7102142,12635071]
[605,"Amherst Pelham               ",1,18849215.560000006,14679318,10072810.999999108,0,10072810.999999108,20136499.099999994,15606029,4530470,0,18.45,1249,1274,0,95550,95550,10072810.999999108,10111030.999999108,0,10168360.999999108,0,0,10168360.999999108,50.497164127199802,25774389.999999106,127.99836690579005,1287283.5399999879,95550,6453176.9160491088,32.047164127199807,15805.73,null,null,null,75,null,605,"Amherst Pelham               ",1,1274,20136499.099999994,15606029,10168360.999999108]
[610,"Ashburnham Westminster       ",1,30580474.560000002,15663508,16262637,0,16262637,31231726.960000005,16378039,14853688,0,39.35,2225,2184,0,163800,163800,16262637,16328157,0,16426437,0,0,16426437,52.595352863574071,32804476,105.03574151379554,651252.40000000224,163800,4136752.4412399977,13.24535286357407,14300.24,null,null,null,75,null,610,"Ashburnham Westminster       ",1,2184,31231726.960000005,16378039,16426437]
[615,"Athol Royalston              ",1,30499121.049999993,4978559,25520562,0,25520562,31581407.199999999,5286343,26295064,774502,66.61,1789,1770,1,132750,0,25520562,25573662,0,26295064,0,0,26295064,83.261217061917364,31581407,99.999999366715997,1082286.150000006,774502,5258688.6640800014,16.651217061917365,17842.599999999999,null,null,null,437.57175141242936,null,615,"Athol Royalston              ",1,1770,31581407.199999999,5286343,26295064]
[616,"Ayer Shirley",1,25842986.010000002,16955476,8993333,0,8993333,25470599.260000002,17956001,7514598,0,24.59,1759,1694,0,127050,127050,8993333,9044153,0,9120383,0,0,9120383,35.807492815149409,27076384,106.30446391782303,-372386.75,127050,2857162.6419659993,11.217492815149409,15035.77,null,null,null,75,null,616,"Ayer Shirley",1,1694,25470599.260000002,17956001,9120383]
[618,"Berkshire Hills              ",1,15467725.129845321,12390650,3534167.9999986412,0,3534167.9999986412,15424147.560000001,12724922,2699226,0,17.5,905.99999999094007,881.99999999999989,0,66149.999999999985,66149.999999999985,3534167.9999986412,3560627.9999986412,0,3600317.9999986412,0,0,3600317.9999986412,23.342087373019407,16325239.99999864,105.84208907813795,-43577.569845320657,66150,901092.17699864134,5.8420873730194067,17487.7,null,null,null,75.000000000000014,null,618,"Berkshire Hills              ",1,881.99999999999989,15424147.560000001,12724922,3600317.9999986412]
[620,"Berlin Boylston              ",1,14031141.919999998,10881875,3149921,0,3149921,14577130.409999996,11565684,3011446,0,17.5,1056,1063,0,79725,79725,3149921,3181811,0,3229646,0,0,3229646,22.155567722605017,14795330,101.49686244043147,545988.48999999836,79725,678648.17825000081,4.6555677226050172,13713.2,null,null,null,75,null,620,"Berlin Boylston              ",1,1063,14577130.409999996,11565684,3229646]
[622,"Blackstone Millville         ",1,23905844.130000003,11825836,12080008,0,12080008,24135631.609999999,12501304,11634328,0,43.71,1612,1563,0,117225,117225,12080008,12126898,0,12197233,0,0,12197233,50.536208030894784,24698537,102.33225879105137,229787.47999999672,117225,1647548.4232689999,6.826208030894783,15441.86,null,null,null,75,null,622,"Blackstone Millville         ",1,1563,24135631.609999999,12501304,12197233]
[625,"Bridgewater Raynham          ",1,81321444.98999998,47111455,34209990,0,34209990,82500805.920000002,49605389,32895417,0,33.380000000000003,5748,5595,0,419625,419625,34209990,34377840,0,34629615,0,0,34629615,41.974880867927403,84235004,102.10203774455444,1179360.9300000221,419625,7090845.9839039966,8.5948808679274009,14745.45,null,null,null,75,null,625,"Bridgewater Raynham          ",1,5595,82500805.920000002,49605389,34629615]
[632,"Chesterfield Goshen",1,1502410.1700000002,1079394,796622,0,796622,1630893.5299999998,1183737,447157,0,25.14,104,113,0,8475,8475,796622,800012,0,805097,0,0,805097,49.365392969582764,1988834,121.94750689825842,128483.35999999964,8475,395090.36655800004,24.225392969582764,14432.69,null,null,null,75,null,632,"Chesterfield Goshen",1,113,1630893.5299999998,1183737,805097]
[635,"Central Berkshire            ",1,23071177.270000007,13012711,10080937,0,10080937,23178394.800231785,13587327,9591068,0,36.92,1492,1440.0000000143998,0,108000.00000107998,108000.00000107998,10080937,10124137.000000432,0,10188937.00000108,0,0,10188937.00000108,43.958768878590291,23776264.00000108,102.5794245240974,107217.53023177758,108000.00000108033,1631473.6397555042,7.0387688785902895,16096.11,null,null,null,75.000000000000242,null,635,"Central Berkshire            ",1,1440.0000000143998,23178394.800231785,13587327,10188937.00000108]
[640,"Concord Carlisle             ",1,17837825.063500002,14716205,3610473,0,3610473,17851217.237909999,14679775,3171442,0,17.5,1232,1182,0,88650,88650,3610473,3645933,0,3699123,0,0,3699123,20.721965066585508,18378898,102.95599316874249,13392.174409996718,88650,575159.98336575041,3.2219650665855077,15102.55,null,null,null,75,null,640,"Concord Carlisle             ",1,1182,17851217.237909999,14679775,3699123]
[645,"Dennis Yarmouth              ",1,57336713.649999991,43380429,13956285,0,13956285,58523513.620000005,44609451,13914063,0,17.5,3324,3242.0000000000005,0,243150.00000000003,243150.00000000003,13956285,14053545,0,14199435,0,0,14199435,24.26278622332655,58808886,100.48762003910591,1186799.9700000137,243150,3957820.1164999995,6.7627862233265503,18051.669999999998,null,null,null,74.999999999999986,null,645,"Dennis Yarmouth              ",1,3242.0000000000005,58523513.620000005,44609451,14199435]
[650,"Dighton Rehoboth             ",1,35471876.099999994,25042984,14005428,0,14005428,36682318.539999999,25969444,10712875,0,27.23,2579,2538,0,190350,190350,14005428,14081568,0,14195778,0,0,14195778,38.69923866595375,40165222,109.4947745906576,1210442.4400000051,190350,4207182.6615580004,11.46923866595375,14453.24,null,null,null,75,null,650,"Dighton Rehoboth             ",1,2538,36682318.539999999,25969444,14195778]
[655,"Dover Sherborn               ",1,15210777.810269997,12548892,2942852,0,2942852,15793452.616179995,13029598,2763855,0,17.5,1123,1115,0,83625,83625,2942852,2976302,0,3026477,0,0,3026477,19.162858644977035,16056075,101.66285605942146,582674.80590999871,83625,262622.79216850083,1.6628586449770353,14164.53,null,null,null,75,null,655,"Dover Sherborn               ",1,1115,15793452.616179995,13029598,3026477]
[658,"Dudley Charlton              ",1,48781145.310000002,23854252,25823037,0,25823037,50262588.379999995,26234163,24028425,0,40.880000000000003,3299,3251,0,243825,243825,25823037,25920567,0,26066862,0,0,26066862,51.861360188868176,52301025,104.055574306259,1481443.0699999928,243825,5519515.8702559993,10.981360188868173,15460.65,null,null,null,75,null,658,"Dudley Charlton              ",1,3251,50262588.379999995,26234163,26066862]
[660,"Nauset                       ",1,17601486.190000001,14521226,4000728.9999996317,0,4000728.9999996317,17566088.100000001,14492023,3074065,0,17.5,1150,1096,0,82200,82200,4000728.9999996317,4033608.9999996317,0,4082928.9999996317,0,0,4082928.9999996317,23.24324560343991,18574951.999999631,105.74324741089981,-35398.089999999851,82200,1008863.5824996317,5.7432456034399095,16027.45,null,null,null,75,null,660,"Nauset                       ",1,1096,17566088.100000001,14492023,4082928.9999996317]
[662,"Farmington River",1,3326329.1199999996,2656624,768194,0,768194,3009611.3299999996,2482929,526682,0,17.5,221,196,0,14700,14700,768194,774074,0,782894,0,0,782894,26.013126419217731,3265823,108.51311488118303,-316717.79000000004,14700,256212.01725000015,8.5131264192177305,15355.16,null,null,null,75,null,662,"Farmington River",1,196,3009611.3299999996,2482929,782894]
[665,"Freetown Lakeville           ",1,35189823.379999995,26172762,12333339,0,12333339,36720605.239999995,27336477,9384128,0,19.39,2620,2607,0,195525,195525,12333339,12411549,0,12528864,0,0,12528864,34.119437623953502,39865341,108.56395405099266,1530781.8599999994,195525,5408738.643964,14.729437623953501,14085.39,null,null,null,75,null,665,"Freetown Lakeville           ",1,2607,36720605.239999995,27336477,12528864]
[670,"Frontier                     ",1,6828929.8200682895,5601508,3053027.0000007078,0,3053027.0000007078,7154381.3200000012,5784812,1369569,0,17.7,472.00000000471999,470.00000000000006,0,35250.000000000007,35250.000000000007,3053027.0000007078,3067127.0000007078,0,3088277.0000007078,0,0,3088277.0000007078,43.166234253791593,8873089.0000007078,124.02314893666734,325451.4999317117,35250,1821951.5063607076,25.466234253791594,15222.09,null,null,null,74.999999999999986,null,670,"Frontier                     ",1,470.00000000000006,7154381.3200000012,5784812,3088277.0000007078]
[672,"Gateway                      ",1,11870404.560118703,6060069,6340830.0000011194,0,6340830.0000011194,12635089.439999998,6410413,6224676,0,41.94,746.00000000746002,756,0,56700,56700,6340830.0000011194,6363510.0000011194,0,6397530.0000011194,0,0,6397530.0000011194,50.633040869088774,12807943.000001119,101.36804381814588,764684.87988129444,56700,1098373.4888651203,8.6930408690887759,16713.080000000002,null,null,null,75,null,672,"Gateway                      ",1,756,12635089.439999998,6410413,6397530.0000011194]
[673,"Groton Dunstable             ",1,28651580.750000004,23386350,11831303,0,11831303,29743456.019999992,24296093,5447363,0,17.5,2236,2204,0,165300,165300,11831303,11897423,0,11996603,0,0,11996603,40.333587972874724,36292696,122.0190954796786,1091875.2699999884,165300,6791498.1965000015,22.833587972874724,13495.22,null,null,null,75,null,673,"Groton Dunstable             ",1,2204,29743456.019999992,24296093,11996603]
[674,"Gill Montague                ",1,15531170.66,7651849,8069823,0,8069823,15594412.279999997,7849249,7745163,0,46.5,916,871.99999999999989,0,65399.999999999993,65399.999999999993,8069823,8095983,0,8135223,0,0,8135223,52.167551132616339,15984472,102.50127874649215,63241.619999997318,65400,883821.28980000038,5.6675511326163388,17883.5,null,null,null,75.000000000000014,null,674,"Gill Montague                ",1,871.99999999999989,15594412.279999997,7849249,8135223]
[675,"Hamilton Wenham              ",1,21512127.046379998,17323711,4436892,0,4436892,22942766.253989998,18163797,4778969,342077,17.5,1654,1688,1,126600,0,4436892,4487532,0,4778969,0,0,4778969,20.829959853550289,22942766,99.999998892940823,1430639.2076099999,342077,763984.90555175068,3.3299598535502888,13591.69,null,null,null,202.65225118483411,null,675,"Hamilton Wenham              ",1,1688,22942766.253989998,18163797,4778969]
[680,"Hampden Wilbraham            ",1,38161301.590000004,25909172,13043530,0,13043530,39255852.090000004,27147135,12108717,0,28.56,2757,2723,0,204225,204225,13043530,13125220,0,13247755,0,0,13247755,33.747210402228717,40394890,102.90157479549438,1094550.5,204225,2036283.643096,5.1872104022287182,14416.4,null,null,null,75,null,680,"Hampden Wilbraham            ",1,2723,39255852.090000004,27147135,13247755]
[683,"Hampshire                    ",1,8287100.8399999999,6172310,3510417.000000712,0,3510417.000000712,8528359.459914716,6463533,2064826,0,22.13,580,578.99999999421004,0,43424.999999565756,43424.999999565756,3510417.000000712,3527787.0000005383,0,3553842.0000002775,0,0,3553842.0000002775,41.670874881671743,10017375.000000278,117.45957762550093,241258.61991471611,43424.999999565538,1666516.0515211509,19.540874881671744,14729.46,null,null,null,74.999999999999631,null,683,"Hampshire                    ",1,578.99999999421004,8528359.459914716,6463533,3553842.0000002775]
[685,"Hawlemont                    ",1,1294415.1199999999,763034,669970,0,669970,1313192.7799999998,808260,504933,0,29.34,84.999999999999986,79,0,5925,5925,669970,672340,0,675895,0,0,675895,51.469594586104876,1484155,113.01882119699137,18777.659999999916,5925,290604.23834800004,22.129594586104876,16622.689999999999,null,null,null,75,null,685,"Hawlemont                    ",1,79,1313192.7799999998,808260,675895]
[690,"King Philip                  ",1,27019358.236560002,21201197,8379177.9999976857,0,8379177.9999976857,26983524.274629828,21924818,5058706,0,17.5,1933,1855.0000000185501,0,139125.00000139125,139125.00000139125,8379177.9999976857,8434827.9999982417,0,8518302.9999990761,0,0,8518302.9999990761,31.568533870158937,30443120.999999076,112.82114482214614,-35833.961930174381,139125.00000139046,3796186.2519388562,14.068533870158937,14546.37,null,null,null,74.999999999999574,null,690,"King Philip                  ",1,1855.0000000185501,26983524.274629828,21924818,8518302.9999990761]
[695,"Lincoln Sudbury              ",1,20881710.072960004,16977621,4225817,0,4225817,20372545.949999996,16807350,3565196,0,17.5,1497,1407,0,105525,105525,4225817,4268027,0,4331342,0,0,4331342,21.260680970509732,21138692,103.76067896413312,-509164.12296000868,105525,766146.45875000115,3.7606809705097319,14479.42,null,null,null,75,null,695,"Lincoln Sudbury              ",1,1407,20372545.949999996,16807350,4331342]
[698,"Manchester Essex",1,14962591.459399998,12344138,3514666,0,3514666,14923235.831379998,12311670,2611566,0,17.5,1108,1060,0,79500,79500,3514666,3546466,0,3594166,0,0,3594166,24.084361063586009,15905836,106.58436400605443,-39355.628019999713,79500,982599.72950850055,6.5843610635860088,14078.52,null,null,null,75,null,698,"Manchester Essex",1,1060,14923235.831379998,12311670,3594166]
[700,"Marthas Vineyard             ",1,15074658.800000003,12436593,3749388,0,3749388,14617399.119999997,12059354,2558045,0,{"$f":"ROUND(100-SUMIF(fraclea,A393,memeffpct),2)","v":17.5},791,749,0,56175,56175,3749388,3771858,0,3805563,0,0,3805563,26.034474182162171,15864917,108.53447230768371,-457259.68000000529,56175,1247518.1540000006,8.534474182162171,19515.89,null,null,null,75,null,700,"Marthas Vineyard             ",1,749,14617399.119999997,12059354,3805563]
[705,"Masconomet                   ",1,20779055.20388779,16861796,5842553.0000022696,0,5842553.0000022696,{"$f":"SUMIF(dist1755,A394,found1755)","v":21738293.886449996},{"$f":"SUMIF(dist1755,A394,prelcont1755)","v":17648638},{"$f":"ROUND(MAX(found-prelcont436,0),0)","v":4089656},{"$f":"IF(foundaid>priorc70,foundaid-priorc70,0)","v":0},17.5,1513.0000000151299,{"$f":"SUMIF(dist1755,A394,enro1755)","v":1519},{"$f":"IF(AND(C394=1,L394>0),1,0)","v":0},{"$f":"IF(nonop=1,enro*$Q$6,0)","v":113925},{"$f":"IF((foundinc)<Q394,Q394-(foundinc),0)","v":113925},5842553.0000022696,{"$f":"S394+30*enro","v":5888123.0000022696},{"$f":"IF(AND(T394-priorc70-foundinc-minaid>0,nonop=1), T394-priorc70-foundinc-minaid,0)","v":0},{"$f":"priorc70+ foundinc+minaidadjincrement+minaid","v":5956478.0000022696},{"$f":"IF(AND(C394=0,V394>found),V394-found,0)","v":0},0,{"$f":"priorc70+foundinc+minaidadjincrement+minaid-rednonop+holdharmlessaid","v":5956478.0000022696},{"$f":"IF(C394=1, Y394/I394*100, 0)","v":27.400853218361753},{"$f":"prelcont436+chapter70","v":23605116.000002269},{"$f":"IF(found>0,AA394*100/found,0)","v":108.5877121880108},{"$f":"I394-D394","v":959238.68256220594},{"$f":"Y394-F394","v":113925},{"$f":"Y394-((M394/100)*I394)","v":2152276.5698735206},{"$f":"IF(C394=1, (Y394/I394*100)-M394, \"\")","v":9.9008532183617532},{"$f":"IFERROR(ROUND(I394/O394, 2), 0)","v":14310.92},null,null,null,{"$f":"IFERROR(AD394/O394, 0)","v":75},null,{"$f":"A394","v":705},{"$f":"B394","v":"Masconomet                   "},{"$f":"C394","v":1},1519,{"$f":"I394","v":21738293.886449996},{"$f":"J394","v":17648638},{"$f":"Y394","v":5956478.0000022696}]
[710,"Mendon Upton                 ",1,25324619.460000005,20544075,13252594,0,{"$f":"F395+G395","v":13252594},26165838.989999995,21293835,4872004,0,17.5,1926,1903,0,142725,142725,13252594,13309684,0,13395319,0,0,13395319,51.193921223467719,34689154,132.57420873550979,841219.52999999002,142725,8816297.1767500006,33.693921223467719,13749.78,null,null,null,75,null,710,"Mendon Upton                 ",1,{"$f":"O395","v":1903},26165838.989999995,21293835,13395319]
[712,"Monomoy",1,25246167.830000002,20828088,4624715,0,4624715,24336987.039999999,20078014,4258973,0,17.5,1611,1514,0,113550,113550,4624715,4670135,0,4738265,0,0,4738265,19.469398542277403,24816279,101.96939727671401,-909180.79000000283,113550,479292.26800000016,1.9693985422774034,16074.63,null,null,null,75,null,712,"Monomoy",1,1514,24336987.039999999,20078014,4738265]
[715,"Mount Greylock               ",1,14836487.640000004,10778769,5133546,0,5133546,15147577.490000004,11209300,3938277,0,22.02,1074,1055,0,79125,79125,5133546,5165196,0,5212671,0,0,5212671,34.412571933969346,16421971,108.41318363178083,311089.84999999963,79125,1877174.436701999,12.392571933969347,14357.89,null,null,null,75,null,715,"Mount Greylock               ",1,1055,15147577.490000004,11209300,5212671]
[717,"Mohawk Trail                 ",1,11931880.619999999,7388641,6372134.0000008959,0,6372134.0000008959,12109031.570121091,7584385,4524647,0,34.69,750.00000000000011,735.00000000734997,0,55125.000000551248,55125.000000551248,6372134.0000008959,6394184.0000011167,0,6427259.0000014473,0,0,6427259.0000014473,53.078224817421749,14011644.000001447,115.71234180754003,177150.95012109168,55125.000000551343,2226635.9483264415,18.388224817421751,16474.87,null,null,null,75.000000000000128,null,717,"Mohawk Trail                 ",1,735.00000000734997,12109031.570121091,7584385,6427259.0000014473]
[720,"Narragansett                 ",1,20521967.339999996,7481050,13040917,0,13040917,20098262.939999998,7935411,12162852,0,51,1347,1289,0,96675,96675,13040917,13079587,0,13137592,0,0,13137592,65.366803286533184,21073003,104.84987216512157,-423704.39999999851,96675,2887477.9006000012,14.366803286533184,15592.14,null,null,null,75,null,720,"Narragansett                 ",1,1289,20098262.939999998,7935411,13137592]
[725,"Nashoba                      ",1,40212644.902400002,31151239,10547898,0,10547898,41952293.282669999,32425237,9527056,0,20.58,3005,2987,0,224025,224025,10547898,10637508,0,10771923,0,0,10771923,25.67660110359153,43197160,102.96733889835825,1739648.3802699968,224025,2138141.0424265154,5.0966011035915315,14044.96,null,null,null,75,null,725,"Nashoba                      ",1,2987,41952293.282669999,32425237,10771923]
[728,"New Salem Wendell            ",1,1547562.41,787485,938840,0,938840,1551402.62,785985,765418,0,41.99,98,93,0,6975,6975,938840,941630,0,945815,0,0,945815,60.965154229274141,1731800,111.62801826388561,3840.2100000001956,6975,294381.03986199992,18.975154229274139,16681.75,null,null,null,75,null,728,"New Salem Wendell            ",1,93,1551402.62,785985,945815]
[730,"Northboro Southboro          ",1,17307312.650000002,14180068,3673616,0,3673616,18237601.709999997,14650237,3587365,0,17.5,1228,1234,0,92550,92550,3673616,3710636,0,3766166,0,0,3766166,20.650555154600976,18416403,100.98039913823736,930289.05999999493,92550,574585.70075000077,3.1505551546009762,14779.26,null,null,null,75,null,730,"Northboro Southboro          ",1,1234,18237601.709999997,14650237,3766166]
[735,"North Middlesex              ",1,42024593.629999995,23346390,21623879.000000898,0,21623879.000000898,42041742.600000009,24530131,17511612,0,34.520000000000003,2993,2869,0,215175,215175,21623879.000000898,21709949.000000898,0,21839054.000000898,0,0,21839054.000000898,51.94611985470101,46369185.000000894,110.29320416418916,17148.970000013709,215175,7326244.4544808939,17.426119854701007,14653.8,null,null,null,75,null,735,"North Middlesex              ",1,2869,42041742.600000009,24530131,21839054.000000898]
[740,"Old Rochester                ",1,14030213.399859697,10781799,3710720.999998563,0,3710720.999998563,14289992.949999999,11300852,2989141,0,18.170000000000002,957.99999999041995,942.99999999999989,0,70724.999999999985,70724.999999999985,3710720.999998563,3739010.999998563,0,3781445.999998563,0,0,3781445.999998563,26.462196400163819,15082297.999998562,105.54447474376509,259779.55014030263,70725,1184954.2809835626,8.2921964001638173,15153.76,null,null,null,75.000000000000014,null,740,"Old Rochester                ",1,942.99999999999989,14289992.949999999,11300852,3781445.999998563]
[745,"Pentucket                    ",1,29838475.970000006,22525700,14101990,0,14101990,31338888.220313385,23915925,7422963,0,17.5,2278,2306.0000000230598,0,172950.0000017295,172950.0000017295,14101990,14171170.000000691,0,14274940.00000173,0,0,14274940.00000173,45.550243836502581,38190865.000001729,121.86413484587816,1500412.2503133789,172950.0000017304,8790634.5614468884,28.050243836502581,13590.15,null,null,null,75.000000000000398,null,745,"Pentucket                    ",1,2306.0000000230598,31338888.220313385,23915925,14274940.00000173]
[750,"Pioneer                      ",1,7711982.5599999996,5108508,4151899,0,4151899,7757133.5300775729,5191887,2565247,0,26.93,533,520.00000000520004,0,39000.000000390006,39000.000000390006,4151899,4167499.000000156,0,4190899.0000003902,0,0,4190899.0000003902,54.026387244083963,9382786.0000003912,120.95687103515107,45150.970077573322,39000.000000390224,2101902.9403504999,27.096387244083964,14917.56,null,null,null,75.000000000000426,null,750,"Pioneer                      ",1,520.00000000520004,7757133.5300775729,5191887,4190899.0000003902]
[753,"Quabbin                      ",1,27830416.489999998,13366628,17421662.000001181,0,17421662.000001181,29099070.099999998,14057407,15041663,0,44.69,1882.0000000000002,1892.9999999999998,0,141974.99999999997,141974.99999999997,17421662.000001181,17478452.000001181,0,17563637.000001181,0,0,17563637.000001181,60.358069655295211,31621044.000001181,108.66685392809575,1268653.6099999994,141975,4559262.5723111834,15.668069655295213,15371.93,null,null,null,75.000000000000014,null,753,"Quabbin                      ",1,1892.9999999999998,29099070.099999998,14057407,17563637.000001181]
[755,"Ralph C Mahar                ",1,9593235.6700000018,3082090,6511146,0,6511146,10856393.85,3562741,7293653,782507,61.96,548.00000000000011,588,1,44100,0,6511146,6528786,0,7293653,0,0,7293653,67.183017683169268,10856394,100.00000138167427,1263158.1799999978,782507,567031.37053999957,5.2230176831692674,18463.25,null,null,null,1330.7942176870749,null,755,"Ralph C Mahar                ",1,588,10856393.85,3562741,7293653]
[760,"Silver Lake                  ",1,27216762.713180002,16840436,10796658,0,10796658,27918744.359829191,18081435,9837309,0,28.75,1732,1697.0000000169703,0,127275.00000127277,127275.00000127277,10796658,10847568.000000509,0,10923933.000001272,0,0,10923933.000001272,39.12759420412597,29005368.000001274,103.89209352027868,701981.64664918929,127275.00000127219,2897293.9965503803,10.37759420412597,16451.82,null,null,null,74.999999999999659,null,760,"Silver Lake                  ",1,1697.0000000169703,27918744.359829191,18081435,10923933.000001272]
[763,"Somerset Berkley",1,13826082.76,7668488,7204101,0,7204101,14327078.959999997,8328147,5998932,0,35.1,896,892,0,66900,66900,7204101,7230861,0,7271001,0,0,7271001,50.750058824272728,15599148,108.8787745467971,500996.19999999739,66900,2242196.2850400005,15.650058824272726,16061.75,null,null,null,75,null,763,"Somerset Berkley",1,892,14327078.959999997,8328147,7271001]
[765,"Southern Berkshire           ",1,9453533.7400000021,7799165,2243594.9999993518,0,2243594.9999993518,9585683.8599999994,7788393,1797291,0,17.5,626,605,0,45375,45375,2243594.9999993518,2261744.9999993518,0,2288969.9999993518,0,0,2288969.9999993518,23.879047477780599,10077362.999999352,105.12930686198692,132150.11999999732,45375,611475.3244993519,6.379047477780599,15844.11,null,null,null,75,null,765,"Southern Berkshire           ",1,605,9585683.8599999994,7788393,2288969.9999993518]
[766,"Southwick Tolland Granville",1,18134821.699999999,12301434,10169546.000000769,0,10169546.000000769,18555658.509814449,12882980,5672679,0,25.86,1204,1179.9999999882002,0,88499.999999115011,88499.999999115011,10169546.000000769,10204946.000000415,0,10258045.999999885,0,0,10258045.999999885,55.282575903055154,23141025.999999885,124.71142421466824,420836.8098144494,88499.999999115244,5459552.709361868,29.422575903055154,15725.13,null,null,null,75.000000000000199,null,766,"Southwick Tolland Granville",1,1179.9999999882002,18555658.509814449,12882980,10258045.999999885]
[767,"Spencer East Brookfield      ",1,25189505.220000006,11570866,14306180,0,14306180,25887735.060000002,12116598,13771137,0,47.08,1511,1508,0,113100,113100,14306180,14351420,0,14419280,0,0,14419280,55.699272132461317,26535878,102.50366800532296,698229.83999999613,113100,2231334.3337519988,8.6192721324613188,17166.93,null,null,null,75,null,767,"Spencer East Brookfield      ",1,1508,25887735.060000002,12116598,14419280]
[770,"Tantasqua                    ",1,24773777.030000001,13624328,11688349,0,11688349,24978621.029999997,14160179,10818442,0,38.93,1516,1460,0,109500,109500,11688349,11732149,0,11797849,0,0,11797849,47.231786678017436,25958028,103.92098094135665,204843.99999999627,109500,2073671.8330210019,8.3017866780174359,17108.64,null,null,null,75,null,770,"Tantasqua                    ",1,1460,24978621.029999997,14160179,11797849]
[773,"Triton                       ",1,30165610.537900001,24886629,9645084.9999986663,0,9645084.9999986663,30808429.988011919,25366230,5442200,0,17.5,2092,2076.9999999792299,0,155774.99999844225,155774.99999844225,9645084.9999986663,9707394.9999980424,0,9800859.9999971092,0,0,9800859.9999971092,31.812266979559784,35167089.999997109,114.14762132858188,642819.45011191815,155774.99999844283,4409384.7520950241,14.312266979559784,14833.14,null,null,null,75.000000000000284,null,773,"Triton                       ",1,2076.9999999792299,30808429.988011919,25366230,9800859.9999971092]
[774,"Upisland",1,5263775.71,4342615,1064412,0,1064412,5702220.6200000001,4704332,997889,0,17.5,378.00000000000006,391,0,29325,29325,1064412,1076142,0,1093737,0,0,1093737,19.180895880524524,5798069,101.6808956788487,438444.91000000015,29325,95848.391500000027,1.680895880524524,14583.68,null,null,null,75,null,774,"Upisland",1,391,5702220.6200000001,4704332,1093737]
[775,"Wachusett                    ",1,87973600.930879712,53489620,37561713.000010028,0,37561713.000010028,89982197.079999983,55703719,34278478,0,32.94,6685.0000000668506,6539,0,490425,490425,37561713.000010028,37757883.000010028,0,38052138.000010028,0,0,38052138.000010028,42.288518434573476,93755857.000010028,104.19378504022859,2008596.1491202712,490425,8412002.2818580382,9.348518434573478,13760.85,null,null,null,75,null,775,"Wachusett                    ",1,6539,89982197.079999983,55703719,38052138.000010028]
[778,"Quaboag",1,16872431.539999999,7171361,10600015,0,10600015,17551815.050000001,7616716,9935099,0,52.64,1029,1021,0,76575,76575,10600015,10630645,0,10676590,0,0,10676590,60.828979621683054,18293306,104.22458274479139,679383.51000000164,76575,1437314.5576799996,8.1889796216830533,17190.810000000001,null,null,null,75,null,778,"Quaboag",1,1021,17551815.050000001,7616716,10676590]
[780,"Whitman Hanson               ",1,49842835.700000003,26380549,26188146,0,26188146,51412004.089999996,28083329,23328675,0,38.1,3449,3399,0,254925,254925,26188146,26290116,0,26443071,0,0,26443071,51.433651475071294,54526400,106.05772127565395,1569168.3899999931,254925,6855097.4417100027,13.333651475071292,15125.63,null,null,null,75,null,780,"Whitman Hanson               ",1,3399,51412004.089999996,28083329,26443071]
[801,"Assabet Valley               ",1,25966109.553580347,14882442,11083668,0,11083668,28502828.230079997,16843394,11659434,575766,37.369999999999997,1082.99999998917,1128,1,84600,0,11083668,11117508,0,11659434,0,0,11659434,40.906235359813891,28502828,99.999999192781871,2536718.6764996499,575766,1007927.0904191062,3.5362353598138938,25268.46,null,null,null,510.43085106382978,null,801,"Assabet Valley               ",1,1128,28502828.230079997,16843394,11659434]
[805,"Blackstone Valley            ",1,25246170.35974754,15870390,9595821.999998115,0,9595821.999998115,26103015.320000004,16683171,9419844,0,31.14,1256.9999999874301,1250,0,93750,93750,9595821.999998115,9633321.999998115,0,9689571.999998115,0,0,9689571.999998115,37.120508421009937,26372742.999998115,101.0333200080201,856844.96025246382,93750,1561093.0293501131,5.9805084210099366,20882.41,null,null,null,75,null,805,"Blackstone Valley            ",1,1250,26103015.320000004,16683171,9689571.999998115]
[806,"Blue Hills                   ",1,20652850.586480003,13010907,7641944,0,7641944,22191875.858341917,14244562,7947314,305370,30.03,909.99999999999989,924.00000000924001,1,69300.000000693006,0,7641944,7669664.0000002775,0,7947314,0,0,7947314,35.811817129522233,22191876,100.00000063833308,1539025.2718619145,305370,1283093.6797399223,5.7818171295222314,24017.18,null,null,null,330.4870129837081,null,806,"Blue Hills                   ",1,924.00000000924001,22191875.858341917,14244562,7947314]
[810,"Bristol Plymouth             ",1,28536806.650000006,14173615,14666169.000001416,0,14666169.000001416,29475952.300294753,15163202,14312750,0,43.43,1374,1366.0000000136599,0,102450.0000010245,102450.0000010245,14666169.000001416,14707149.000001825,0,14768619.00000244,0,0,14768619.00000244,50.10395881206103,29931821.00000244,101.54657836009298,939145.6502947472,102450.00000102445,1967212.9159844276,6.6739588120610307,21578.3,null,null,null,74.999999999999972,null,810,"Bristol Plymouth             ",1,1366.0000000136599,29475952.300294753,15163202,14768619.00000244]
[815,"Cape Cod                     ",1,15008925.100150086,11758669,3579390.0000017215,0,3579390.0000017215,15968084.87015968,12608534,3359551,0,17.5,685.00000000685009,710.00000000710008,0,53250.000000532506,53250.000000532506,3579390.0000017215,3600690.0000019344,0,3632640.0000022543,0,0,3632640.0000022543,22.749378084724121,16241174.000002254,101.71021842671257,959159.77000959404,53250.000000532717,838225.1477243104,5.2493780847241212,22490.26,null,null,null,75.000000000000298,null,815,"Cape Cod                     ",1,710.00000000710008,15968084.87015968,12608534,3632640.0000022543]
[817,"Essex North Shore",1,31042516.400310419,22376292,8666224,0,8666224,34241092.870000005,24872145,9368948,702724,{"$f":"ROUND(100-SUMIF(fraclea,A425,memeffpct),2)","v":23.53},1487.0000000148698,1549.9999999999998,1,116249.99999999999,0,8666224,8712724,0,9368948,0,0,9368948,27.361708446544679,34241093,100.00000037966076,3198576.4696895853,702724,1312018.847688999,3.8317084465446776,22091.03,null,null,null,453.37032258064522,null,817,"Essex North Shore",1,1549.9999999999998,34241092.870000005,24872145,9368948]
[818,"Franklin County              ",1,13399887.970000003,7200970,6198918,0,6198918,13549124.020270983,7301102,6248022,49104,42.42,590.99999999999989,579.00000001158003,1,43425.000000868502,0,6198918,6216288.0000003474,0,6248022,0,0,6248022,46.113844634179088,13549124,99.999999850388974,149236.05027098022,49104,500483.59060104843,3.6938446341790865,23400.91,null,null,null,84.808290153744238,null,818,"Franklin County              ",1,579.00000001158003,13549124.020270983,7301102,6248022]
[821,"Greater Fall River           ",1,33636941.949663639,9803875,23833067,0,23833067,35254142.160000004,10447289,24806853,973786,64.87,1479.9999999852002,1486.9999999999998,1,111524.99999999999,0,23833067,23877677,0,24806853,0,0,24806853,70.365782515469377,35254142,99.999999546152608,1617200.2103363648,973786,1937490.9808079973,5.4957825154693722,23708.23,null,null,null,654.86617350369886,null,821,"Greater Fall River           ",1,1486.9999999999998,35254142.160000004,10447289,24806853]
[823,"Greater Lawrence             ",1,50261020.524460003,8813599,41447422,0,41447422,52412318.97797998,9799580,42612739,1165317,72.67,1839.9999999999998,1896,1,142200,0,41447422,41504302,0,42612739,0,0,42612739,81.302907085456226,52412319,100.00000004201306,2151298.4535199776,1165317,4524706.7987019494,8.6329070854562246,27643.63,null,null,null,614.61867088607596,null,823,"Greater Lawrence             ",1,1896,52412318.97797998,9799580,42612739]
[825,"Greater New Bedford          ",1,51145206.98948855,14241953,36903254,0,36903254,54548152.17945452,14622658,39925494,3022240,67.180000000000007,2162.9999999783699,2175.9999999782399,1,163199.999998368,0,36903254,36968533.999999344,0,39925494,0,0,39925494,73.193119115477344,54548152,99.999999671016312,3402945.1899659708,3022240,3280045.3658424467,6.0131191154773376,25068.080000000002,null,null,null,1388.8970588374184,null,825,"Greater New Bedford          ",1,2175.9999999782399,54548152.17945452,14622658,39925494]
[828,"Greater Lowell               ",1,55200721.789447986,16870122,38330600,0,38330600,56165233.089999996,17424745,38740488,409888,63.7,2362.99999997637,2338,1,175350,0,38330600,38400740,0,38740488,0,0,38740488,68.975923126539286,56165233,99.99999983975853,964511.30055201054,409888,2963234.5216699988,5.2759231265392827,24022.77,null,null,null,175.31565440547476,null,828,"Greater Lowell               ",1,2338,56165233.089999996,17424745,38740488]
[829,"South Middlesex              ",1,21738499.531417388,11824771,9913729,0,9913729,22744191.108149998,12937352,9806839,0,37.42,894.00000000893999,903.99999999999989,0,67799.999999999985,67799.999999999985,9913729,9940849,0,9981529,0,0,9981529,43.886058433721509,22918881,100.7680637707419,1005691.5767326094,67800,1470652.6873302702,6.466058433721507,25159.5,null,null,null,75.000000000000014,null,829,"South Middlesex              ",1,903.99999999999989,22744191.108149998,12937352,9981529]
[830,"Minuteman                    ",1,13776715.489875535,10866591,3142029.0000025854,0,3142029.0000025854,14009736.736279998,11074659,2935078,0,18.440000000000001,635.00000001269996,619.00000000000011,0,46425.000000000007,46425.000000000007,3142029.0000025854,3160599.0000025854,0,3188454.0000025854,0,0,3188454.0000025854,22.758843081937989,14263113.000002585,101.80857262696762,233021.24640446343,46425,605058.54583255341,4.3188430819379882,22632.85,null,null,null,74.999999999999986,null,830,"Minuteman                    ",1,619.00000000000011,14009736.736279998,11074659,3188454.0000025854]
[832,"Montachusett                 ",1,30990414.460309908,12227609,18762805,0,18762805,31732841.099682663,12935232,18797609,34804,52.3,1488.0000000148805,1465.9999999853399,1,109949.99999890049,75145.999998900486,18762805,18806784.99999956,0,18872754.999998901,0,0,18872754.999998901,59.473889970058913,31807986.999998901,100.23680798098155,742426.63937275484,109949.99999890104,2276479.1048648674,7.1738899700589158,21645.87,null,null,null,75.000000000000369,null,832,"Montachusett                 ",1,1465.9999999853399,31732841.099682663,12935232,18872754.999998901]
[851,"Northern Berkshire           ",1,10864145.600000003,4022650,7106152,0,7106152,11116421.810222331,4230967,6885455,0,58.13,477.00000000000006,470.00000000939997,0,35250.000000704997,35250.000000704997,7106152,7120252.0000002822,0,7141402.000000705,0,0,7141402.000000705,64.241912747802388,11372369.000000704,102.30242423459508,252276.21022232808,35250.000000705011,679426.00171846338,6.1119127478023856,23651.96,null,null,null,75.000000000000028,null,851,"Northern Berkshire           ",1,470.00000000939997,11116421.810222331,4230967,7141402.000000705]
[852,"Nashoba Valley               ",1,16066337.762080662,11216924,5001664.0000011465,0,5001664.0000011465,16928952.0766,12085287,4843665,0,24.29,764.0000000076401,770,0,57750,57750,5001664.0000011465,5024764.0000011465,0,5059414.0000011465,0,0,5059414.0000011465,29.886161748868723,17144701.000001147,101.27443755777043,862614.31451933831,57750,947371.5405950062,5.5961617488687239,21985.65,null,null,null,75,null,852,"Nashoba Valley               ",1,770,16928952.0766,12085287,5059414.0000011465]
[853,"Northeast Metropolitan       ",1,34145597.992569998,17952021,16193577,0,16193577,36620933.63288001,19901349,16719585,526008,{"$f":"ROUND(100-SUMIF(fraclea,A436,memeffpct),2)","v":40.130000000000003},1381,1416,1,106200,0,16193577,16236057,0,16719585,0,0,16719585,45.655813059305409,36620934,100.0000010024867,2475335.6403100118,526008,2023604.3331252504,5.5258130593054062,25862.240000000002,null,null,null,371.47457627118644,null,853,"Northeast Metropolitan       ",1,1416,36620933.63288001,19901349,16719585]
[855,"Old Colony                   ",1,11281890.140000001,7358019,4312664.9999994244,0,4312664.9999994244,11692555.480116924,7845562,3846993,0,26.93,557,556.00000000555997,0,41700.000000417,41700.000000417,4312664.9999994244,4329344.9999995911,0,4354364.9999998417,0,0,4354364.9999998417,37.240490390696856,12199926.999999842,104.33926972376311,410665.34011692367,41700.000000417233,1205559.809204354,10.310490390696856,21029.78,null,null,null,75.000000000000426,null,855,"Old Colony                   ",1,556.00000000555997,11692555.480116924,7845562,4354364.9999998417]
[860,"Pathfinder                   ",1,14168218.66014168,6336903,7831316,0,7831316,14844488.359999999,6856034,7988454,157138,49.86,637.00000000636999,640,1,48000,0,7831316,7850516,0,7988454,0,0,7988454,53.814276425489417,14844488,99.999997574857474,676269.69985831901,157138,586992.10370400082,3.954276425489418,23194.51,null,null,null,245.52812499999999,null,860,"Pathfinder                   ",1,640,14844488.359999999,6856034,7988454]
[871,"Shawsheen Valley             ",1,26234729.470262349,21239717,6995373.0000032838,0,6995373.0000032838,27512088.859999996,22285956,5226133,0,17.5,1282.00000001282,1293,0,96975,96975,6995373.0000032838,7034163.0000032838,0,7092348.0000032838,0,0,7092348.0000032838,25.779024035920784,29378304.000003286,106.78325498837928,1277359.389737647,96975,2277732.4495032849,8.2790240359207843,21277.72,null,null,null,75,null,871,"Shawsheen Valley             ",1,1293,27512088.859999996,22285956,7092348.0000032838]
[872,"Southeastern                 ",1,38734574.690387338,14188183,24546392,0,24546392,40984464.610000007,14792869,26191596,1645204,59.3,1702.0000000170201,1727.0000000000002,1,129525.00000000001,0,24546392,24598202,0,26191596,0,0,26191596,63.906156269781746,40984465,100.00000095158006,2249889.9196126685,1645204,1887808.4862699956,4.6061562697817493,23731.599999999999,null,null,null,952.63694267515916,null,872,"Southeastern                 ",1,1727.0000000000002,40984464.610000007,14792869,26191596]
[873,"South Shore                  ",1,14594489.375639999,8885161,5963097,0,5963097,15029072.678919999,9643577,5385496,0,31.73,678.99999999999989,687.99999999999989,0,51599.999999999993,51599.999999999993,5963097,5983737,0,6014697,0,0,6014697,40.020413291608492,15658274,104.18656117062052,434583.30327999964,51600,1245972.2389786839,8.2904132916084912,21844.58,null,null,null,75.000000000000014,null,873,"South Shore                  ",1,687.99999999999989,15029072.678919999,9643577,6014697]
[876,"Southern Worcester           ",1,26179600.699738208,11613795,14644386.999998147,0,14644386.999998147,27361415.929999996,12459053,14902363,257976.00000185333,49.04,1235.99999998764,1237,1,92775,0,14644386.999998147,14681496.999998147,0,14902363,0,0,14902363,54.464882366195596,27361416,100.00000025583473,1181815.2302617878,257976.00000185333,1484324.6279280018,5.4248823661955967,22119.17,null,null,null,208.54971705889517,null,876,"Southern Worcester           ",1,1237,27361415.929999996,12459053,14902363]
[878,"Tri County                   ",1,21387428.700500004,16145057,6100766.0000015404,0,6100766.0000015404,21614875.119000003,16826578,4788297,0,19.05,993.00000000000011,980.99999999999989,0,73574.999999999985,73574.999999999985,6100766.0000015404,6130196.0000015404,0,6174341.0000015404,0,0,6174341.0000015404,28.565240215402142,23000919.000001542,106.41245380031445,227446.41849999875,73575,2056707.2898320397,9.5152402154021409,22033.51,null,null,null,75.000000000000014,null,878,"Tri County                   ",1,980.99999999999989,21614875.119000003,16826578,6174341.0000015404]
[879,"Upper Cape Cod               ",1,19100969.820000004,14663624,4720060,0,4720060,20404366.189795956,15791772,4612594,0,21.32,870,891.99999999108013,0,66899.999999331005,66899.999999331005,4720060,4746819.9999997327,0,4786959.9999993313,0,0,4786959.9999993313,23.460468977435074,20578731.999999329,100.8545514650221,1303396.369795952,66899.99999933131,436749.12833483331,2.1404689774350736,22874.85,null,null,null,75.000000000000341,null,879,"Upper Cape Cod               ",1,891.99999999108013,20404366.189795956,15791772,4786959.9999993313]
[885,"Whittier                     ",1,28238744.479999997,14285371,13953373,0,13953373,28990325.859999996,14758704,{"$f":"ROUND(MAX(found-prelcont436,0),0)","v":14231622},278249,43.21,1283,1288,1,96600,0,13953373,13992013,0,14231622,0,0,14231622,49.09093491645217,28990326,100.00000048291973,751581.37999999896,278249,1704902.1958940029,5.8809349164521691,22508.02,null,null,null,216.03183229813664,null,885,"Whittier                     ",1,1288,28990325.859999996,14758704,14231622]
[910,"Bristol County               ",1,11148673.800222971,5907819,5240855,0,5240855,11465527.749770688,6124004,5341524,100669,41.94,527.00000001054002,522.9999999895399,1,39224.999999215492,0,5240855,5256544.9999996861,0,5341524,0,0,5341524,46.587685421692264,11465528,100.00000218244914,316853.94954771735,100669,532881.66174617317,4.6476854216922661,21922.62,null,null,null,192.48374761379236,null,910,"Bristol County               ",1,522.9999999895399,11465527.749770688,6124004,5341524]
[915,"Norfolk County               ",1,5991943.7559198383,4480349,1531455.0000000154,0,1531455.0000000154,6267227.5715119839,4734754,1532474,1018.9999999846332,20.8,263.00000000526001,270.99999999186997,1,20324.999999390249,19305.999999405616,1531455.0000000154,1539584.9999997714,0,1551779.9999994056,0,0,1551779.9999994056,24.760230617013239,6286533.9999994058,100.3080537329645,275283.81559214555,20324.999999390217,248196.66512491275,3.960230617013238,23126.3,null,null,null,74.999999999999886,null,915,"Norfolk County               ",1,270.99999999186997,6267227.5715119839,4734754,1551779.9999994056]
[999,"State total (excluding Devens)",null,{"$f":"SUM(D10:D447)","v":15314834159.408045},8377180548,7361555994.4900179,{"$f":"SUM(G10:G447)","v":0},7361555994.4900179,15830181514.78808,8736823771,7093357752,196780108.00000182,41,{"$f":"SUM(N10:N447)","v":905307.00000009779},{"$f":"SUM(O10:O447)","v":890622.0000000397},{"$f":"SUM(P10:P447)","v":61},null,{"$f":"SUM(R10:R447)","v":45190129.000003852},7361640318.7573071,7388358978.757308,26908,7603553139.4900236,{"$f":"SUM(W10:W447)","v":238604.46271000005},0,7603314535.0273123,null,{"$f":"SUM(AA10:AA447)","v":16340138306.027315},103.22142099737042,null,241758540.53729439,null,null,null,null,null,null,271.44910022128761,null,{"$f":"A448","v":999},{"$f":"B448","v":"State total (excluding Devens)"},null,890622.0000000397,15830181514.78808,8736823771,7603314535.0273123]
[352,"Devens",0,null,null,308558,null,null,null,null,null,null,null,null,null,null,null,null,308558,null,null,null,null,null,308558,null,null,null,null,null,{"$f":"SUMIF(AE10:AE447, \">0\")","v":1112901962.8818018}]
[null,null,null,null,null,{"$f":"F448+F449","v":7361864552.4900179},null,null,null,{"$f":"J441-E441","v":758416},null,null,null,null,{"$f":"O448-N448","v":-14685.000000058091},null,null,null,{"$f":"S448+S449","v":7361948876.7573071},null,null,null,null,null,{"$f":"Y448+Y449","v":7603623093.0273123},"DOR's number",null,null,null,null,{"$f":"SUMIF(AE10:AE447, \"<0\")","v":-9.0000000000145519E-2}]
[null,null,null,null,null,null,null,null,null,null,null,{"$f":"COUNTIF(L10:L447, \">0\")","v":80},null,null,{"$f":"O450/N448","v":-1.622101673803086E-2},null,null,{"$f":"COUNTIF(R10:R447, \">0\")","v":271},null,null,{"$f":"COUNTIF(U10:U447, \">0.0001\")","v":2}]
[null,null,null,null,null,{"$f":"F448/N448","v":8131.5575760368829}]
[null,null,null,null,null,null,null,null,null,null,null,null,null,null,null,null,null,null,null,null,{"$f":"COUNTIFS(U10:U447, \">0.0001\",C10:C447,\"=1\")","v":2},null,null,null,{"$f":"Y448-F448","v":241758540.53729439}]
[null,null,null,null,null,null,null,null,{"$f":"I448-D448","v":515347355.3800354},null,null,null,null,null,null,null,null,null,null,null,{"$f":"SUMIF(C10:C447,\"=1\",U10:U447)","v":26908}]
[]
[]
[]
[]
[]
[]
[]
[]
[{"$f":"COLUMN(A:AS)","v":1},2,3,4,5,6,7,8,9,10,11,12,13,14,15,16,17,18,19,20,21,22,23,24,25,26,27,28,29,30,31,32,33,34,35,36,37,38,39,40,41,42,43,44,45]

{"sheet":"Rates","index":13,"n_rows":33,"n_cols":14,"rows_kept":33,"cut":false,"hidden":false,"merged":[]}
[]
[]
["Massachusetts Department of Elementary and Secondary Education"]
["Office of School Finance"]
[]
[{"$f":"\"Foundation Budget Rates Per Pupil, \"& CYr &\" Chapter 70\"","v":"Foundation Budget Rates Per Pupil, FY27 Chapter 70"}]
[]
[null,null,"Administration","Instructional Leadership","Classroom & Specialist Teachers","Other Teaching Services","Professional Development","Instructional Materials, Equipment & Technology","Guidance & Psychological Services","Pupil Services","Operations & Maintenance","Employee Benefits/Fixed Charges","Special Education Tuition","Total, All Categories"]
[]
[1,"Pre-school",234.97,424.36,1945.84,499.05,76.959999999999994,281.62,226.58,56.31,540.34,1036.8,0,5322.83]
[2,"Kindergarten half-day",234.97,424.36,1945.84,499.05,76.959999999999994,281.62,226.58,56.31,540.34,1036.8,0,5322.83]
[3,"Kindergarten full-day",469.93,848.74,3891.69,998.14,154,563.28,453.16,112.67,1080.67,2073.56,0,10645.84]
[4,"Elementary",469.93,848.74,3891.63,998.14,154.02000000000001,563.28,453.16,168.97,1080.67,2073.56,0,10702.1]
[5,"Junior/Middle",469.93,848.74,3424.65,718.52,166.94,563.28,453.16,276.02,1171.58,2239.9299999999998,0,10332.75]
[6,"High School",469.93,848.74,5036.2299999999996,598.16,161.88,901.24,472.52,636.49,1135.97,1977.51,0,12238.669999999998]
[7,"Vocational",469.93,848.74,8561.64,598.16,267.63,1577.15,472.52,636.49,2126.02,2488.6799999999998,0,18046.96]
[8,"Special Education in-district",3243.28,0,10702.02,9992.32,516.26,450.6,0,0,3622.9,4718.22,0,33245.599999999999]
[9,"Special Education tuitioned-out",4137.24,0,0,63.2,0,0,0,0,0,0,39280.879999999997,43481.32]
[10,"English learners PK-5",120.5,210.87,1476.04,210.87,60.24,150.61000000000001,90.37,30.13,361.48,384.32,0,3095.43]
[11,"English learners 6-8",129.25,226.15,1583.04,226.15,64.61,161.53,96.93,32.32,387.68,412.17,0,3319.8300000000004]
[12,"English learners high school/voc",155.07,271.39,1899.66,271.39,77.53,193.83,116.3,38.770000000000003,465.22,494.61,0,3983.77]
[13,"Low-income group 1 (0-5.99%)",57.28,271.38,2649.26,0,128.53,19.7,107.27,557.44000000000005,0,497.03,0,4287.8900000000003]
[14,"Low-income group 2 (6-11.99%)",60.86,288.35000000000002,2814.85,0,136.57,20.94,113.98,592.28,0,528.1,0,4555.93]
[15,"Low-income group 3 (12-17.99%)",64.44,305.32,2980.43,0,144.6,22.17,120.69,627.13,0,559.16,0,4823.9399999999996]
[16,"Low-income group 4 (18-23.99%)",68.02,322.27,3146,0,152.63,23.39,127.39,661.96,0,590.23,0,5091.8899999999994]
[17,"Low-income group 5 (24-29.99%)",71.59,339.23,3311.58,0,160.66999999999999,24.63,134.1,696.8,0,621.29,0,5359.89]
[18,"Low-income group 6 (30-35.99%)",80.19,379.95,3708.98,0,179.94,27.59,150.18,780.42,0,695.85,0,6003.1]
[19,"Low-income group 7 (36-41.99%)",88.78,420.64,4106.3599999999997,0,199.22,30.54,166.28,864.04,0,770.39,0,6646.25]
[20,"Low-income group 8 (42-47.99%)",97.38,461.36,4503.75,0,218.5,33.5,182.37,947.65,0,844.95,0,7289.4599999999991]
[21,"Low-income group 9 (48-53.99%)",105.97,502.07,4901.1400000000003,0,237.78,36.44,198.45,1031.27,0,919.51,0,7932.6299999999992]
[22,"Low-income group 10 (54-69.99%)",114.55,542.78,5298.53,0,257.06,39.409999999999997,214.55,1114.8800000000001,0,994.08,0,8575.84]
[23,"Low-income group 11 (70-79.99%)",128.88,610.61,5960.85,0,289.19,44.33,241.38,1254.25,0,1118.32,0,9647.81]
[24,"Low-income group 12 (80%+)",143.19999999999999,678.47,6623.17,0,321.32,49.26,268.19,1393.6,0,1242.58,0,10719.789999999999]

{"sheet":"Townwide Contributions","index":14,"n_rows":365,"n_cols":39,"rows_kept":365,"cut":false,"hidden":false,"merged":[[365,21,365,23],[6,27,6,28],[3,8,5,8]]}
[1,null,"DOR updated 11/25/24\n3",4,"DOR 12/5/25\n5",6,7,8,{"$f":"H1+1","v":9},{"$f":"I1+1","v":10},11,12,13,"c70fy26\n14","DOR updated 1/13/26\n15",16,17,18,19,20,21,22,23,24,25,26,27,28,29,30,29]
[null,"Return to Index","1. Calculation of effort goal (target local share)",null,null,null,null,null,null,null,null,null,null,"2. Calculation of annual increments toward goal (required local contribution)",null,null,null,null,null,null,null,null,null,null,null,null,null,"Analysis of Gap Closing"]
[null,"More about the data",null,null,null,null,null,null,null,null,null,null,null,null,null,null,null,null,"Increments","Thresholds"]
[null,null,null,"uniform property percentage",null,"uniform income percentage",null,null,null,null,null,null,null,null,null,null,null,null,{"$f":"parameters!C18","v":0.01},{"$f":"parameters!C16","v":2.5},null,"Effort Reduction","OPTION TO ACTIVATE THIS INCREMENT"]
[null,null,null,{"$f":"parameters!C29","v":3.3093370728761689E-3},null,{"$f":"parameters!C30","v":1.5896634465605342E-2},null,null,null,null,null,null,null,null,null,null,null,null,{"$f":"parameters!C19","v":0.02},{"$f":"parameters!C17","v":7.5},null,{"$f":"effortred","v":1},1,null,null,null,null,null,null,null,null,null,"SUMMARY FOR EXPORT (reads from columns to the left)"]
[null,null,null,null,null,null,null,null,null,"maximum ","target local",null,null,"required",null,null,"preliminary",null,"percentage","dollar"]
[null,null,null,"local effort",null,"local effort","combined",null,null,"local contribution","contribution","target",null,"local",null,"preliminary","contribution","shortfall","increment","increment",null,"excess effort",null,"required",null,null,"Before","After implementation",null,null,null,null,null,null,"CEY%","target"]
[null,null,"total","from property","DOR total","from income","effort ",{"$f":"CYr","v":"FY27"},"CEY %","foundation pct=","(lesser of max local","local ",null,"contribution","mrgf ","contribution","percentage of","from target","toward","toward","excess","times effort","CEY% > 175%","contribution","percentage ",null,"below effort","below effort","above effort","distance from",null,null,null,null,"found","local share","MRGF","RLC","distance from"]
["LEA","Town","EQV 2024","wealth","income 2023","wealth","yield","foundation","Found",{"$f":"maxloc","v":0.82499999999999996},"or effort yield)","share",null,{"$f":"PYr","v":"FY26"},"FY27",{"$f":"CYr","v":"FY27"},"foundation","local share","target","target","effort","reduction %","increment",{"$f":"CYr","v":"FY27"},"of foundation",null,"shortfall","shortfall","excess","target",null,null,"Town code","Town",{"$f":"CYr","v":"FY27"},{"$f":"CYr","v":"FY27"},{"$f":"CYr","v":"FY27"},{"$f":"CYr","v":"FY27"},"target"]
[1,"Abington",3278516900,{"$f":"D$5*C10","v":10849717.521221051},788241000,{"$f":"E10*F$5","v":12530379.047803221},{"$f":"ROUND(D10+F10,0)","v":23380097},{"$f":"(SUMIF(town1755,A10,found1755)/2)","v":36401115.000291139},{"$f":"IF(H10=0,0,G10/H10)","v":0.64229068257422894},{"$f":"ROUND(H10*maxloc,0)","v":30030920},{"$f":"MIN(G10,J10)","v":23380097},{"$f":"IF(H10>0, ROUND((K10*100/H10), 2), 0)","v":64.23},null,20067162,4.1399999999999999E-2,{"$f":"ROUND(N10*(1+O10),0)","v":20897943},{"$f":"IF(H10=0,0,P10*100/H10)","v":57.410172737381416},{"$f":"IF(L10>Q10,L10-Q10,0)","v":6.8198272626185883},{"$f":"IF(AND(R10>$T$4,R10<=$T$5),$S$4,IF(R10>$T$5,$S$5,0))","v":0.01},{"$f":"ROUND(S10*N10,0)","v":200672},{"$f":"MAX(P10-K10,0)","v":0},{"$f":"MAX(U10*(V$5),0)","v":0},{"$f":"IF(AND(I10>1.75,$W$5=1),MAX(K10-(P10+T10),0),0)","v":0},{"$f":"MIN(H10*parameters!C$22,ROUND(P10+T10-V10+W10,0))","v":21098615},{"$f":"IF(H10=0,0,X10*100/H10)","v":57.961452553943062},null,{"$f":"IF(Q10<L10, P10-K10, 0)","v":-2482154},{"$f":"-1*MAX(K10-(P10+T10+W10),0)","v":-2281482},{"$f":"IF(Q10>L10, X10-K10,0)","v":0},{"$f":"Y10-L10","v":-6.2685474460569424},null,null,{"$f":"TEXT(A10,\"000\")","v":"001"},{"$f":"B10","v":"Abington"},{"$f":"I10","v":0.64229068257422894},{"$f":"L10","v":64.23},{"$f":"O10","v":4.1399999999999999E-2},{"$f":"X10","v":21098615},{"$f":"AD10","v":-6.2685474460569424}]
[2,"Acton",6835035500,22619436.374574702,2121881000,{"$f":"E11*F$5","v":33730766.636513129},56350203,{"$f":"(SUMIF(town1755,A11,found1755)/2)","v":59116066.718503766},{"$f":"IF(H11=0,0,G11/H11)","v":0.95321299484158628},48770755,{"$f":"MIN(G11,J11)","v":48770755},{"$f":"IF(H11>0, ROUND((K11*100/H11), 2), 0)","v":82.5},null,46886192,3.7100000000000001E-2,{"$f":"ROUND(N11*(1+O11),0)","v":48625670},{"$f":"IF(H11=0,0,P11*100/H11)","v":82.25457595401862},{"$f":"IF(L11>Q11,L11-Q11,0)","v":0.24542404598138035},{"$f":"IF(AND(R11>$T$4,R11<=$T$5),$S$4,IF(R11>$T$5,$S$5,0))","v":0},{"$f":"ROUND(S11*N11,0)","v":0},{"$f":"MAX(P11-K11,0)","v":0},0,{"$f":"IF(AND(I11>1.75,$W$5=1),MAX(K11-(P11+T11),0),0)","v":0},{"$f":"MIN(H11*parameters!C$22,ROUND(P11+T11-V11+W11,0))","v":48625670},{"$f":"IF(H11=0,0,X11*100/H11)","v":82.25457595401862},null,{"$f":"IF(Q11<L11, P11-K11, 0)","v":-145085},{"$f":"-1*MAX(K11-(P11+T11+W11),0)","v":-145085},{"$f":"IF(Q11>L11, X11-K11,0)","v":0},{"$f":"Y11-L11","v":-0.24542404598138035},null,null,{"$f":"TEXT(A11,\"000\")","v":"002"},{"$f":"B11","v":"Acton"},{"$f":"I11","v":0.95321299484158628},82.5,{"$f":"O11","v":3.7100000000000001E-2},48625670,{"$f":"AD11","v":-0.24542404598138035}]
[3,"Acushnet",1978241600,6546668.2659858689,468113000,{"$f":"E12*F$5","v":7441421.2495979136},13988090,20829075.820520982,{"$f":"IF(H12=0,0,G12/H12)","v":0.67156556155116665},17183988,13988090,67.16,null,11886311,3.9300000000000002E-2,12353443,59.308646751524535,7.851353248475462,0.02,237726,0,0,0,{"$f":"MIN(H12*parameters!C$22,ROUND(P12+T12-V12+W12,0))","v":12591169},60.449964791981188,null,-1634647,-1396921,0,-6.7100352080188088,null,null,"003","Acushnet",0.67156556155116665,67.16,3.9300000000000002E-2,12591169,-6.7100352080188088]
[4,"Adams",787768000,2606989.8472255138,232991000,3703772.7607758543,6310763,17589050.736482825,0.35878928854928782,14510967,6310763,35.880000000000003,null,5220463,4.5600000000000002E-2,5458516,31.033601993529221,4.8463980064707819,0.01,52205,0,0,0,{"$f":"MIN(H13*parameters!C$22,ROUND(P13+T13-V13+W13,0))","v":5510721},31.330405958576165,null,-852247,-800042,0,-4.5495940414238376,null,null,"004","Adams",0.35878928854928782,35.880000000000003,4.5600000000000002E-2,5510721,-4.5495940414238376]
[5,"Agawam",4389799200,14527325.235042147,1043321000,16585292.567289831,31112618,57507213.809999995,0.54102113350151193,47443451,31112618,54.1,null,28135196,5.1400000000000008E-2,29581345,51.439363933948869,2.6606360660511328,0.01,281352,0,0,0,{"$f":"MIN(H14*parameters!C$22,ROUND(P14+T14-V14+W14,0))","v":29862697},51.928610380367864,null,-1531273,-1249921,0,-2.1713896196321372,null,null,"005","Agawam",0.54102113350151193,54.1,5.1400000000000008E-2,29862697,-2.1713896196321372]
[6,"Alford",387943300,1283835.1448639215,23288000,370200.8234350172,1654036,290012.72824779706,5.7033220920798122,239261,239261,82.5,null,253533,3.15E-2,261519,90.175007690196608,0,0,0,22258,22258,0,{"$f":"MIN(H15*parameters!C$22,ROUND(P15+T15-V15+W15,0))","v":239261},82.500172128847737,null,0,0,0,1.7212884773698534E-4,null,null,"006","Alford",5.7033220920798122,82.5,3.15E-2,239261,1.7212884773698534E-4]
[7,"Amesbury",3931853000,13011826.897999384,856909000,13621969.143287409,26633796,31933278.323067803,0.83404515285110614,26344955,26344955,82.5,null,22145281,4.5999999999999999E-2,23163964,72.538634353952105,9.961365646047895,0.02,442906,0,0,0,{"$f":"MIN(H16*parameters!C$22,ROUND(P16+T16-V16+W16,0))","v":23606870},73.925607515677413,null,-3180991,-2738085,0,-8.5743924843225869,null,null,"007","Amesbury",0.83404515285110614,82.5,4.5999999999999999E-2,23606870,-8.5743924843225869]
[8,"Amherst",3668642000,12140772.977710575,893544000,14204342.346934861,26345115,31761986.531463452,0.82945425891112023,26203639,26203639,82.5,null,23730903,4.7E-2,24846255,78.226388564793567,4.2736114352064334,0.01,237309,0,0,0,{"$f":"MIN(H17*parameters!C$22,ROUND(P17+T17-V17+W17,0))","v":25083564},78.973536416408336,null,-1357384,-1120075,0,-3.5264635835916636,null,null,"008","Amherst",0.82945425891112023,82.5,4.7E-2,25083564,-3.5264635835916636]
[9,"Andover",13020574200,43089468.910194963,3771159000,59948736.134677775,103038205,78683224.843615562,1.3095320534305812,64913660,64913660,82.5,null,63160179,4.1900000000000007E-2,65806591,83.634842281556047,0,0,0,892931,892931,0,{"$f":"MIN(H18*parameters!C$22,ROUND(P18+T18-V18+W18,0))","v":64913660},82.499999369646019,null,0,0,0,-6.3035398056854319E-7,null,null,"009","Andover",1.3095320534305812,82.5,4.1900000000000007E-2,64913660,-6.3035398056854319E-7]
[10,"Arlington",15892875700,52594882.748622797,3942801000,62677266.267623208,115272149,90025214.035775125,1.2804429318456494,74270802,74270802,82.5,null,65184566,3.3599999999999998E-2,67374767,74.839885382806131,7.6601146171938694,0.02,1303691,0,0,0,{"$f":"MIN(H19*parameters!C$22,ROUND(P19+T19-V19+W19,0))","v":68678458},76.288025233361694,null,-6896035,-5592344,0,-6.2119747666383063,null,null,"010","Arlington",1.2804429318456494,82.5,3.3599999999999998E-2,68678458,-6.2119747666383063]
[11,"Ashburnham",1146544100,3794300.8958174414,272365000,4329686.8462245986,8123988,15386499.591577891,0.5279945546839534,12693862,8123988,52.8,null,6857568,3.9E-2,7125013,46.306913132471138,6.4930868675288593,0.01,68576,0,0,0,{"$f":"MIN(H20*parameters!C$22,ROUND(P20+T20-V20+W20,0))","v":7193589},46.752602547349724,null,-998975,-930399,0,-6.047397452650273,null,null,"011","Ashburnham",0.5279945546839534,52.8,3.9E-2,7193589,-6.047397452650273]
[12,"Ashby",545913500,1806611.7841335845,130514000,2074733.3506440157,3881345,5882187.0969281923,0.65984725341819273,4852804,3881345,65.98,null,3299800,2.92E-2,3396154,57.736245788127796,8.2437542118722078,0.02,65996,0,0,0,{"$f":"MIN(H21*parameters!C$22,ROUND(P21+T21-V21+W21,0))","v":3462150},58.858209420234374,null,-485191,-419195,0,-7.12179057976563,null,null,"012","Ashby",0.65984725341819273,65.98,2.92E-2,3462150,-7.12179057976563]
[13,"Ashfield",400637000,1325842.8768658896,61341000,975115.45475469728,2300958,2492187.0335749798,0.92326858658731303,2056054,2056054,82.5,null,1826488,5.8899999999999994E-2,1934068,77.605250887836775,4.8947491121632254,0.01,18265,0,0,0,{"$f":"MIN(H22*parameters!C$22,ROUND(P22+T22-V22+W22,0))","v":1952333},78.338141307132446,null,-121986,-103721,0,-4.1618586928675541,null,null,"013","Ashfield",0.92326858658731303,82.5,5.8899999999999994E-2,1952333,-4.1618586928675541]
[14,"Ashland",4577634400,15148935.225993257,1257216000,19985503.196310487,35134438,42973457.912795044,0.81758461400284399,35453103,35134438,81.760000000000005,null,29572693,3.32E-2,30554506,71.100878272359395,10.65912172764061,0.02,591454,0,0,0,{"$f":"MIN(H23*parameters!C$22,ROUND(P23+T23-V23+W23,0))","v":31145960},72.477202237724768,null,-4579932,-3988478,0,-9.2827977622752371,null,null,"014","Ashland",0.81758461400284399,81.760000000000005,3.32E-2,31145960,-9.2827977622752371]
[15,"Athol",1402924800,4642751.0510973847,335413000,5331937.8560120845,9974689,32001653.594305288,0.31169292457359143,26401364,9974689,31.17,null,4588298,4.07E-2,4775042,14.921235197826531,16.248764802173469,0.02,91766,0,0,0,{"$f":"MIN(H24*parameters!C$22,ROUND(P24+T24-V24+W24,0))","v":4866808},15.207989129868125,null,-5199647,-5107881,0,-15.962010870131877,null,null,"015","Athol",0.31169292457359143,31.17,4.07E-2,4866808,-15.962010870131877]
[16,"Attleboro",7548473300,24980442.535305917,1977377000,31433639.369695295,56414082,114442010.80004743,0.49294906307235753,94414659,56414082,49.29,null,48491403,3.9899999999999998E-2,50426210,44.062673879528781,5.2273261204712185,0.01,484914,0,0,0,{"$f":"MIN(H25*parameters!C$22,ROUND(P25+T25-V25+W25,0))","v":50911124},44.486394152014412,null,-5987872,-5502958,0,-4.8036058479855868,null,null,"016","Attleboro",0.49294906307235753,49.29,3.9899999999999998E-2,50911124,-4.8036058479855868]
[17,"Auburn",3312067000,10960746.110949755,761586000,12106654.256122511,23067400,37934611.367374167,0.60808320339981714,31296054,23067400,60.81,null,20335505,5.1200000000000002E-2,21376683,56.351395808380715,4.4586041916192869,0.01,203355,0,0,0,{"$f":"MIN(H26*parameters!C$22,ROUND(P26+T26-V26+W26,0))","v":21580038},56.887462984687403,null,-1690717,-1487362,0,-3.9225370153125994,null,null,"017","Auburn",0.60808320339981714,60.81,5.1200000000000002E-2,21580038,-3.9225370153125994]
[18,"Avon",1239903800,4103259.612140039,214805000,3414676.5663843555,7517936,11885439.507949077,0.63253327695386818,9805488,7517936,63.25,null,6667407,3.6900000000000002E-2,6913434,58.167255787017723,5.0827442129822771,0.01,66674,0,0,0,{"$f":"MIN(H27*parameters!C$22,ROUND(P27+T27-V27+W27,0))","v":6980108},58.728227890366597,null,-604502,-537828,0,-4.5217721096334031,null,null,"018","Avon",0.63253327695386818,63.25,3.6900000000000002E-2,6980108,-4.5217721096334031]
[19,"Ayer",1910859000,6323676.5297390837,422980000,6723958.4462617477,13047635,15647285.976031378,0.83385930441780498,12909011,12909011,82.5,null,11440441,6.7100000000000007E-2,12208095,78.020527129755564,4.479472870244436,0.01,114404,0,0,0,{"$f":"MIN(H28*parameters!C$22,ROUND(P28+T28-V28+W28,0))","v":12322499},78.751669899020769,null,-700916,-586512,0,-3.7483301009792314,null,null,"019","Ayer",0.83385930441780498,82.5,6.7100000000000007E-2,12322499,-3.7483301009792314]
[20,"Barnstable",26295649400,87021167.414773986,2632650000,41850274.725875907,128871442,96917874.925662562,1.3296973556100595,79957247,79957247,82.5,null,71663919,4.1200000000000001E-2,74616472,76.989381016899031,5.5106189831009686,0.01,716639,0,0,0,{"$f":"MIN(H29*parameters!C$22,ROUND(P29+T29-V29+W29,0))","v":75333111},77.728810147541523,null,-5340775,-4624136,0,-4.7711898524584768,null,null,"020","Barnstable",1.3296973556100595,82.5,4.1200000000000001E-2,75333111,-4.7711898524584768]
[21,"Barre",783133600,2591653.0554949767,190971000,3035796.1805311176,5627449,12078971.863410227,0.46588807918716485,9965152,5627449,46.59,null,4597430,3.8699999999999998E-2,4775351,39.53441612415336,7.0555838758466436,0.01,45974,0,0,0,{"$f":"MIN(H30*parameters!C$22,ROUND(P30+T30-V30+W30,0))","v":4821325},39.915027988473241,null,-852098,-806124,0,-6.6749720115267621,null,null,"021","Barre",0.46588807918716485,46.59,3.8699999999999998E-2,4821325,-6.6749720115267621]
[22,"Becket",751539100,2487096.2053459906,73393000,1166701.6933341729,3653798,3114475.5821609236,1.1731663657689932,2569442,2569442,82.5,null,2470246,4.2099999999999999E-2,2574243,82.654139744897506,0,0,0,4801,4801,0,{"$f":"MIN(H31*parameters!C$22,ROUND(P31+T31-V31+W31,0))","v":2569442},82.499988592533398,null,0,0,0,-1.1407466601554006E-5,null,null,"022","Becket",1.1731663657689932,82.5,4.2099999999999999E-2,2569442,-1.1407466601554006E-5]
[23,"Bedford",5675028700,{"$f":"D$5*C32","v":18780582.866546251},1309620000,20818550.428846069,{"$f":"ROUND(D32+F32,0)","v":39599133},36220943.01250691,{"$f":"IF(H32=0,0,G32/H32)","v":1.0932662075177506},29882278,29882278,82.5,null,29836902,4.6699999999999998E-2,31230285,86.221623189700878,0,0,0,1348007,1348007,0,{"$f":"MIN(H32*parameters!C$22,ROUND(P32+T32-V32+W32,0))","v":29882278},82.500000040534005,null,0,0,0,4.0534004597247986E-8,null,null,"023","Bedford",1.0932662075177506,82.5,4.6699999999999998E-2,29882278,4.0534004597247986E-8]
[24,"Belchertown",2374427600,7857781.2835403867,711179000,11305352.602614742,19163134,30553764.497062497,0.62719387661191095,25206856,19163134,62.72,null,16369427,3.3700000000000001E-2,16921077,55.381316438525367,7.3386835614746317,0.01,163694,0,0,0,{"$f":"MIN(H33*parameters!C$22,ROUND(P33+T33-V33+W33,0))","v":17084771},55.917073660898858,null,-2242057,-2078363,0,-6.8029263391011412,null,null,"024","Belchertown",0.62719387661191095,62.72,3.3700000000000001E-2,17084771,-6.8029263391011412]
[25,"Bellingham",4076393600,13490160.464115148,824329000,13104056.792397985,26594217,36547390.598778717,0.72766390607620246,30151597,26594217,72.77,null,23512048,5.16E-2,24725270,67.652627437719801,5.1173725622801953,0.01,235120,0,0,0,{"$f":"MIN(H34*parameters!C$22,ROUND(P34+T34-V34+W34,0))","v":24960390},68.295956540421486,null,-1868947,-1633827,0,-4.4740434595785104,null,null,"025","Bellingham",0.72766390607620246,72.77,5.16E-2,24960390,-4.4740434595785104]
[26,"Belmont",11993488600,39690496.457097702,3085223000,49044662.27587831,{"$f":"ROUND(D35+F35,0)","v":88735159},{"$f":"(SUMIF(town1755,A35,found1755)/2)","v":64651862.962739997},1.3725073792713387,53337787,53337787,82.5,null,49876878,2.0899999999999998E-2,50919305,78.759223116812095,{"$f":"IF(L35>Q35,L35-Q35,0)","v":3.7407768831879054},{"$f":"IF(AND(R35>$T$4,R35<=$T$5),$S$4,IF(R35>$T$5,$S$5,0))","v":0.01},{"$f":"ROUND(S35*N35,0)","v":498769},0,0,0,{"$f":"MIN(H35*parameters!C$22,ROUND(P35+T35-V35+W35,0))","v":51418074},79.530691992020621,null,-2418482,-1919713,0,-2.9693080079793788,null,null,"026","Belmont",1.3725073792713387,82.5,2.0899999999999998E-2,51418074,-2.9693080079793788]
[27,"Berkley",1342184000,4441739.2698212275,354717000,5638806.4877361301,10080546,15227527.874417286,0.66199491362847063,12562710,10080546,66.2,null,8838498,5.8299999999999998E-2,9353782,61.426792826395939,4.7732071736040638,0.01,88385,0,0,0,{"$f":"MIN(H36*parameters!C$22,ROUND(P36+T36-V36+W36,0))","v":9442167},62.007221906735957,null,-726764,-638379,0,-4.1927780932640459,null,null,"027","Berkley",0.66199491362847063,66.2,5.8299999999999998E-2,9442167,-4.1927780932640459]
[28,"Berlin",1056762600,3497183.6494090096,271038000,4308592.0122887408,7805776,6484742.6410395876,1.2037140765772369,5349913,5349913,82.5,null,4671891,4.5199999999999997E-2,4883060,75.300752401442764,7.1992475985572355,0.01,46719,0,0,0,{"$f":"MIN(H37*parameters!C$22,ROUND(P37+T37-V37+W37,0))","v":4929779},76.021197337905349,null,-466853,-420134,0,-6.4788026620946511,null,null,"028","Berlin",1.2037140765772369,82.5,4.5199999999999997E-2,4929779,-6.4788026620946511]
[29,"Bernardston",336001100,1111940.8967571729,82461000,1310852.3746682822,2422793,3962675.1575511247,0.61140338374272662,3269207,2422793,61.14,null,2163661,5.1299999999999998E-2,2274657,57.402055671040792,3.7379443289592089,0.01,21637,0,0,0,{"$f":"MIN(H38*parameters!C$22,ROUND(P38+T38-V38+W38,0))","v":2296294},57.948075698919418,null,-148136,-126499,0,-3.1919243010805829,null,null,"029","Bernardston",0.61140338374272662,61.14,5.1299999999999998E-2,2296294,-3.1919243010805829]
[30,"Beverly",10774988300,35658068.240996964,2461056000,39122507.63138482,74780576,72667550.085329115,1.0290779847702267,59950729,59950729,82.5,null,55061848,4.1500000000000002E-2,57346915,78.916813533222168,3.5831864667778319,0.01,550618,0,0,0,{"$f":"MIN(H39*parameters!C$22,ROUND(P39+T39-V39+W39,0))","v":57897533},79.674535514152367,null,-2603814,-2053196,0,-2.8254644858476325,null,null,"030","Beverly",1.0290779847702267,82.5,4.1500000000000002E-2,57897533,-2.8254644858476325]
[31,"Billerica",11238491600,37191956.895087413,2218912000,35273232.975345284,72465190,82322713.454093859,0.88025754933854594,67916239,67916239,82.5,null,62721749,4.1000000000000009E-2,65293341,79.313883447743663,3.1861165522563368,0.01,627217,0,0,0,{"$f":"MIN(H40*parameters!C$22,ROUND(P40+T40-V40+W40,0))","v":65920558},80.075783746802401,null,-2622898,-1995681,0,-2.4242162531975993,null,null,"031","Billerica",0.88025754933854594,82.5,4.1000000000000009E-2,65920558,-2.4242162531975993]
[32,"Blackstone",1485965200,4917559.7253638506,384107000,6106008.5746802716,11023568,19876525.393798977,0.55460236543350283,16398133,11023568,55.46,null,9742397,4.3799999999999999E-2,10169114,51.161426851659556,4.298573148340445,0.01,97424,0,0,0,{"$f":"MIN(H41*parameters!C$22,ROUND(P41+T41-V41+W41,0))","v":10266538},51.651572881057604,null,-854454,-757030,0,-3.8084271189423973,null,null,"032","Blackstone",0.55460236543350283,55.46,4.3799999999999999E-2,10266538,-3.8084271189423973]
[33,"Blandford",309117600,1022974.3335585064,45697000,726428.50517476734,1749403,1972310.195091726,0.88698167476573875,1627156,1627156,82.5,null,1248664,5.9299999999999999E-2,1322710,67.063994461504308,15.436005538495692,0.02,24973,0,0,0,{"$f":"MIN(H42*parameters!C$22,ROUND(P42+T42-V42+W42,0))","v":1347683},68.330174602039378,null,-304446,-279473,0,-14.169825397960622,null,null,"033","Blandford",0.88698167476573875,82.5,5.9299999999999999E-2,1347683,-14.169825397960622]
[34,"Bolton",1715712600,5677871.3135807617,533768000,8485114.7854372319,14162986,14634415.938018547,0.9677862143583178,12073393,12073393,82.5,null,11488854,3.1099999999999999E-2,11846157,80.947248254882737,1.5527517451172628,0,0,0,0,0,{"$f":"MIN(H43*parameters!C$22,ROUND(P43+T43-V43+W43,0))","v":11846157},80.947248254882737,null,-227236,-227236,0,-1.5527517451172628,null,null,"034","Bolton",0.9677862143583178,82.5,3.1099999999999999E-2,11846157,-1.5527517451172628]
[35,"Boston",239989139200,794204955.44219947,43968185000,698946165.06111181,1493151121,1258580176.0585201,1.1863774349887528,1038328645,1038328645,82.5,null,1007222540,5.8299999999999998E-2,1065943614,84.694136637222613,0,0,0,27614969,27614969,0,{"$f":"MIN(H44*parameters!C$22,ROUND(P44+T44-V44+W44,0))","v":1038328645},82.499999980273088,null,0,0,0,-1.9726911659745383E-8,null,null,"035","Boston",1.1863774349887528,82.5,5.8299999999999998E-2,1038328645,-1.9726911659745383E-8]
[36,"Bourne",8017307700,26531973.596265569,1011976000,16087012.559965432,42618986,29936481.385198098,1.4236471364691738,24697597,24697597,82.5,null,23649457,4.5699999999999991E-2,24730237,82.609030372646629,0,0,0,32640,32640,0,{"$f":"MIN(H45*parameters!C$22,ROUND(P45+T45-V45+W45,0))","v":24697597},82.499999523028677,null,0,0,0,-4.7697132288249122E-7,null,null,"036","Bourne",1.4236471364691738,82.5,4.5699999999999991E-2,24697597,-4.7697132288249122E-7]
[37,"Boxborough",1752893100,5800914.1206188342,442928000,7041064.5105816433,12841979,12615430.760388425,1.0179580264768224,10407730,10407730,82.5,null,9294138,4.2799999999999991E-2,9691927,76.825969592984308,{"$f":"IF(L46>Q46,L46-Q46,0)","v":5.6740304070156924},0.01,92941,0,0,0,{"$f":"MIN(H46*parameters!C$22,ROUND(P46+T46-V46+W46,0))","v":9784868},77.562694337190649,null,-715803,-622862,0,-4.9373056628093508,null,null,"037","Boxborough",1.0179580264768224,82.5,4.2799999999999991E-2,9784868,-4.9373056628093508]
[38,"Boxford",2887833600,9556814.7927774489,903967000,14370032.967969865,23926848,18529968.37364962,1.2912514213475381,15287224,15287224,82.5,null,14343137,4.0199999999999993E-2,14919731,80.516764514377016,1.9832354856229841,0,0,0,0,0,{"$f":"MIN(H47*parameters!C$22,ROUND(P47+T47-V47+W47,0))","v":14919731},80.516764514377016,null,-367493,-367493,0,-1.9832354856229841,null,null,"038","Boxford",1.2912514213475381,82.5,4.0199999999999993E-2,14919731,-1.9832354856229841]
[39,"Boylston",1402273500,4640595.6798618203,366687000,5829089.2022894258,10469685,9106730.3091248702,1.1496645496912827,7513053,7513053,82.5,null,7078635,4.6799999999999994E-2,7409915,81.367458445270145,1.1325415547298547,0,0,0,0,0,{"$f":"MIN(H48*parameters!C$22,ROUND(P48+T48-V48+W48,0))","v":7409915},81.367458445270145,null,-103138,-103138,0,-1.1325415547298547,null,null,"039","Boylston",1.1496645496912827,82.5,4.6799999999999994E-2,7409915,-1.1325415547298547]
[40,"Braintree",10340377900,34219795.932019427,2070363000,32911803.822114073,67131600,80875580.40113166,0.83006019452394131,66722354,66722354,82.5,null,60575029,3.3500000000000002E-2,62604292,77.408151743074228,5.0918482569257719,0.01,605750,0,0,0,{"$f":"MIN(H49*parameters!C$22,ROUND(P49+T49-V49+W49,0))","v":63210042},78.157141731146737,null,-4118062,-3512312,0,-4.3428582688532629,null,null,"040","Braintree",0.83006019452394131,82.5,3.3500000000000002E-2,63210042,-4.3428582688532629]
[41,"Brewster",7154728300,23677407.609546289,576639000,9166619.4016121998,32844027,15550649.022274684,2.112067924171805,12829285,12829285,82.5,null,12714345,4.7699999999999992E-2,13320819,85.660855575348108,0,0,0,491534,491534,0,{"$f":"MIN(H50*parameters!C$22,ROUND(P50+T50-V50+W50,0))","v":12829285},82.499997148822445,null,0,0,0,-2.8511775553852203E-6,null,null,"041","Brewster",2.112067924171805,82.5,4.7699999999999992E-2,12829285,-2.8511775553852203E-6]
[42,"Bridgewater",5299392400,17537475.733038217,1231058000,19569679.03195918,37107155,55539766.876917988,0.6681186667965926,45820308,37107155,66.81,null,31204071,4.7E-2,32670662,58.823909132354935,7.9860908676450677,0.02,624081,0,0,0,{"$f":"MIN(H51*parameters!C$22,ROUND(P51+T51-V51+W51,0))","v":33294743},59.947574273735576,null,-4436493,-3812412,0,-6.8624257262644264,null,null,"042","Bridgewater",0.6681186667965926,66.81,4.7E-2,33294743,-6.8624257262644264]
[43,"Brimfield",633643100,2096938.6018021817,171809000,2731184.8709011883,4828123,7998440.1870547999,0.60363306933446237,6598713,4828123,60.36,null,4267845,4.0300000000000002E-2,4439839,55.508810420133251,4.8511895798667481,0.01,42678,0,0,0,{"$f":"MIN(H52*parameters!C$22,ROUND(P52+T52-V52+W52,0))","v":4482517},56.042389455569094,null,-388284,-345606,0,-4.3176105444309059,null,null,"043","Brimfield",0.60363306933446237,60.36,4.0300000000000002E-2,4482517,-4.3176105444309059]
[44,"Brockton",13372827900,44255195.138662763,2866626000,45569705.671600379,89824901,379910090.45403481,0.23643726043877711,313425825,89824901,23.64,null,67105015,3.1199999999999995E-2,69198691,18.214491464888408,5.425508535111593,0.01,671050,0,0,0,{"$f":"MIN(H53*parameters!C$22,ROUND(P53+T53-V53+W53,0))","v":69869741},18.391125362450335,null,-20626210,-19955160,0,-5.2488746375496653,null,null,"044","Brockton",0.23643726043877711,23.64,3.1199999999999995E-2,69869741,-5.2488746375496653]
[45,"Brookfield",450218000,1489923.118276163,124555000,1980005.3058634733,3469928,6608486.7436028039,0.52507149285863142,5452002,3469928,52.51,null,2989795,3.9300000000000002E-2,3107294,47.019750822802898,5.4902491771971,0.01,29898,0,0,0,{"$f":"MIN(H54*parameters!C$22,ROUND(P54+T54-V54+W54,0))","v":3137192},47.472169071639399,null,-362634,-332736,0,-5.0378309283605986,null,null,"045","Brookfield",0.52507149285863142,52.51,3.9300000000000002E-2,3137192,-5.0378309283605986]
[46,"Brookline",33768586100,111751633.87934089,6405354000,101823571.16080303,213575205,98953992.458999991,2.1583283270605933,81637044,81637044,82.5,null,78632534,3.9399999999999998E-2,81730656,82.594601762898847,0,0,0,93612,93612,0,{"$f":"MIN(H55*parameters!C$22,ROUND(P55+T55-V55+W55,0))","v":81637044},82.500000223664557,null,0,0,0,2.2366455709743605E-7,null,null,"046","Brookline",2.1583283270605933,82.5,3.9399999999999998E-2,81637044,2.2366455709743605E-7]
[47,"Buckland",301585500,998048.07579189586,51044553,811436.60050121858,1809485,3040978.1501022181,0.5950338709073516,2508807,1809485,59.5,null,1655138,4.5699999999999991E-2,1730778,56.915173821351608,2.5848261786483917,0.01,16551,0,0,0,{"$f":"MIN(H56*parameters!C$22,ROUND(P56+T56-V56+W56,0))","v":1747329},57.459439487957717,null,-78707,-62156,0,-2.0405605120422834,null,null,"047","Buckland",0.5950338709073516,59.5,4.5699999999999991E-2,1747329,-2.0405605120422834]
[48,"Burlington",10328040400,34178966.985882819,1839983000,29249537.173927914,63428504,55994207.179794125,1.132769034416985,46195221,46195221,82.5,null,43088192,5.489999999999999E-2,45453734,81.17577922668093,1.3242207733190696,0,0,0,0,0,{"$f":"MIN(H57*parameters!C$22,ROUND(P57+T57-V57+W57,0))","v":45453734},81.17577922668093,null,-741487,-741487,0,-1.3242207733190696,null,null,"048","Burlington",1.132769034416985,82.5,5.489999999999999E-2,45453734,-1.3242207733190696]
[49,"Cambridge",85379281500,282548821.52348042,9475808000,150633456.04225883,433182278,130485995.78392002,3.3197606792788235,107650947,107650947,82.5,null,106846300,5.1299999999999998E-2,112327515,86.083961980111809,0,0,0,4676568,4676568,0,{"$f":"MIN(H58*parameters!C$22,ROUND(P58+T58-V58+W58,0))","v":107650947},82.500000366526677,null,0,0,0,3.6652667745329381E-7,null,null,"049","Cambridge",3.3197606792788235,82.5,5.1299999999999998E-2,107650947,3.6652667745329381E-7]
[50,"Canton",8267137500,27358744.615314808,1846299000,29349940.317212678,56708685,52059882.816588029,1.089297207982395,42949403,42949403,82.5,null,39935860,4.9599999999999998E-2,41916679,80.516276127006449,1.9837238729935507,0,0,0,0,0,{"$f":"MIN(H59*parameters!C$22,ROUND(P59+T59-V59+W59,0))","v":41916679},80.516276127006449,null,-1032724,-1032724,0,-1.9837238729935507,null,null,"050","Canton",1.089297207982395,82.5,4.9599999999999998E-2,41916679,-1.9837238729935507]
[51,"Carlisle",2503552100,8285097.778406986,782318000,12436223.28186344,20721321,12027219.412333101,1.72286879365913,9922456,9922456,82.5,null,9423343,3.9600000000000003E-2,9796507,81.452800220426212,1.0471997795737877,0,0,0,0,0,{"$f":"MIN(H60*parameters!C$22,ROUND(P60+T60-V60+W60,0))","v":9796507},81.452800220426212,null,-125949,-125949,0,-1.0471997795737877,null,null,"051","Carlisle",1.72286879365913,82.5,3.9600000000000003E-2,9796507,-1.0471997795737877]
[52,"Carver",2209528700,7312075.2404938871,479628000,7624470.9954693587,14936546,23755525.753039844,0.6287609104205435,19598309,14936546,62.88,null,12894415,7.9799999999999996E-2,13923389,58.61115912460204,4.268840875397963,0.01,128944,0,0,0,{"$f":"MIN(H61*parameters!C$22,ROUND(P61+T61-V61+W61,0))","v":14052333},59.153954941206941,null,-1013157,-884213,0,-3.726045058793062,null,null,"052","Carver",0.6287609104205435,62.88,7.9799999999999996E-2,14052333,-3.726045058793062]
[53,"Charlemont",193884300,641628.50183864497,46162000,733820.44020127377,1375449,1975955.8149190128,0.69609299439541095,1630164,1375449,69.61,null,1110753,5.3499999999999999E-2,1170178,59.220858642932825,10.389141357067174,0.02,22215,0,0,0,{"$f":"MIN(H62*parameters!C$22,ROUND(P62+T62-V62+W62,0))","v":1192393},60.3451246731887,null,-205271,-183056,0,-9.2648753268112998,null,null,"053","Charlemont",0.69609299439541095,69.61,5.3499999999999999E-2,1192393,-9.2648753268112998]
[54,"Charlton",3079993300,10192736.011900213,670055000,10651619.406851187,20844355,30725591.773571394,0.67840369531724576,25348613,20844355,67.84,null,17790949,9.0499999999999983E-2,19401030,63.142901015458349,4.697098984541654,0.01,177909,0,0,0,{"$f":"MIN(H63*parameters!C$22,ROUND(P63+T63-V63+W63,0))","v":19578939},63.721926478372396,null,-1443325,-1265416,0,-4.1180735216276076,null,null,"054","Charlton",0.67840369531724576,67.84,9.0499999999999983E-2,19578939,-4.1180735216276076]
[55,"Chatham",12659022000,41892970.810955025,622511000,9895829.8178184479,51788801,5909474.7883436438,8.7636893048689686,4875317,4875317,82.5,null,5141537,7.1300000000000002E-2,5508129,93.208435559530727,0,0,0,632812,632812,0,{"$f":"MIN(H64*parameters!C$22,ROUND(P64+T64-V64+W64,0))","v":4875317},82.500005070103597,null,0,0,0,5.0701035974043407E-6,null,null,"055","Chatham",8.7636893048689686,82.5,7.1300000000000002E-2,4875317,5.0701035974043407E-6]
[56,"Chelmsford",9269831700,30676997.704132721,2611235000,41509848.298794962,72186846,77089855.342275798,0.93639877360637613,63599131,63599131,82.5,null,58702461,4.1599999999999998E-2,61144483,79.315861637722634,3.1841383622773662,0.01,587025,0,0,0,{"$f":"MIN(H65*parameters!C$22,ROUND(P65+T65-V65+W65,0))","v":61731508},80.077343154834878,null,-2454648,-1867623,0,-2.4226568451651218,null,null,"056","Chelmsford",0.93639877360637613,82.5,4.1599999999999998E-2,61731508,-2.4226568451651218]
[57,"Chelsea",6348238400,21008460.684576094,1119059000,17789271.868445847,38797733,164471791.67512757,0.23589293096919081,135689228,38797733,23.59,null,26076387,6.0899999999999996E-2,27664439,16.82017245525245,6.7698275447475496,0.01,260764,0,0,0,{"$f":"MIN(H66*parameters!C$22,ROUND(P66+T66-V66+W66,0))","v":27925203},16.978718791584139,null,-11133294,-10872530,0,-6.6112812084158605,null,null,"057","Chelsea",0.23589293096919081,23.59,6.0899999999999996E-2,27925203,-6.6112812084158605]
[58,"Cheshire",447945500,1482402.649778052,124084000,1972517.9910301734,3454921,6494518.5710538281,0.53197492041960392,5357978,3454921,53.2,null,3000872,3.73E-2,3112805,47.929726675566393,5.2702733244336102,0.01,30009,0,0,0,{"$f":"MIN(H67*parameters!C$22,ROUND(P67+T67-V67+W67,0))","v":3142814},48.391793257895536,null,-342116,-312107,0,-4.808206742104467,null,null,"058","Cheshire",0.53197492041960392,53.2,3.73E-2,3142814,-4.808206742104467]
[59,"Chester",176805800,585109.98863952933,38188000,607060.67697253684,1192171,2197936.7922706837,0.54240458788096935,1813298,1192171,54.24,null,1051069,3.6999999999999998E-2,1089959,49.590097578464288,4.6499024215357139,0.01,10511,0,0,0,{"$f":"MIN(H68*parameters!C$22,ROUND(P68+T68-V68+W68,0))","v":1100470},50.068318791966114,null,-102212,-91701,0,-4.1716812080338883,null,null,"059","Chester",0.54240458788096935,54.24,3.6999999999999998E-2,1100470,-4.1716812080338883]
[60,"Chesterfield",257669000,852713.5742309296,32260000,512825.42786042835,1365539,1508216.8146902083,0.90539966581693709,1244279,1244279,82.5,null,1143615,4.2999999999999997E-2,1192790,79.086109396347112,3.413890603652888,0.01,11436,0,0,0,{"$f":"MIN(H69*parameters!C$22,ROUND(P69+T69-V69+W69,0))","v":1204226},79.844355816133188,null,-51489,-40053,0,-2.6556441838668121,null,null,"060","Chesterfield",0.90539966581693709,82.5,4.2999999999999997E-2,1204226,-2.6556441838668121]
[61,"Chicopee",5821733400,19266078.169021428,1445201000,22973832.026327305,42239910,136875016.69,0.30860204456205936,112921889,42239910,30.86,null,36463911,4.1399999999999999E-2,37973517,27.743205384225771,3.1167946157742286,0.01,364639,0,0,0,{"$f":"MIN(H70*parameters!C$22,ROUND(P70+T70-V70+W70,0))","v":38338156},28.009608274116076,null,-4266393,-3901754,0,-2.8503917258839238,null,null,"061","Chicopee",0.30860204456205936,30.86,4.1399999999999999E-2,38338156,-2.8503917258839238]
[62,"Chilmark",5885307500,19476466.295026165,111155000,1766990.4040243619,21243457,1657308.5369561322,12.818045962049069,1367280,1367280,82.5,null,1332371,3.5400000000000001E-2,1379537,83.239600185352543,0,0,0,12257,12257,0,{"$f":"MIN(H71*parameters!C$22,ROUND(P71+T71-V71+W71,0))","v":1367280},82.500027575504546,null,0,0,0,2.7575504546462071E-5,null,null,"062","Chilmark",12.818045962049069,82.5,3.5400000000000001E-2,1367280,2.7575504546462071E-5]
[63,"Clarksburg",161712900,535162.4951323166,52484000,834318.96329283074,1369481,4264615.4588227114,0.32112649152616884,3518308,1369481,32.11,null,1161680,3.0700000000000002E-2,1197344,28.076247707701611,4.0337522922983879,0.01,11617,0,0,0,{"$f":"MIN(H72*parameters!C$22,ROUND(P72+T72-V72+W72,0))","v":1208961},28.348652104115981,null,-172137,-160520,0,-3.7613478958840183,null,null,"063","Clarksburg",0.32112649152616884,32.11,3.0700000000000002E-2,1208961,-3.7613478958840183]
[64,"Clinton",2356461600,7798325.733689094,591970000,9410330.7046043947,17208656,38523372.390000001,0.44670689330581737,31781782,17208656,44.67,null,14710647,4.8599999999999997E-2,15425584,40.042143361270767,4.6278566387292344,0.01,147106,0,0,0,{"$f":"MIN(H73*parameters!C$22,ROUND(P73+T73-V73+W73,0))","v":15572690},40.42400504905536,null,-1783072,-1635966,0,-4.2459949509446417,null,null,"064","Clinton",0.44670689330581737,44.67,4.8599999999999997E-2,15572690,-4.2459949509446417]
[65,"Cohasset",4232219500,14005840.891899444,1319694000,20978693.124452576,34984534,19227191.462961294,1.8195342813012081,{"$f":"ROUND(H74*maxloc,0)","v":15862433},15862433,82.5,null,15202816,4.5499999999999999E-2,15894544,82.667008494812109,0,0,0,32111,{"$f":"MAX(U74*(V$5),0)","v":32111},0,{"$f":"MIN(H74*parameters!C$22,ROUND(P74+T74-V74+W74,0))","v":15862433},82.500000223937718,null,0,0,0,2.2393771814677166E-7,null,null,"065","Cohasset",1.8195342813012081,{"$f":"L74","v":82.5},4.5499999999999999E-2,{"$f":"X74","v":15862433},2.2393771814677166E-7]
[66,"Colrain",226340100,{"$f":"D$5*C75","v":749035.68400849937},58102000,923626.25572060165,{"$f":"ROUND(D75+F75,0)","v":1672662},{"$f":"(SUMIF(town1755,A75,found1755)/2)","v":3126530.6453047832},{"$f":"IF(H75=0,0,G75/H75)","v":0.53498979852057205},2579388,{"$f":"MIN(G75,J75)","v":1672662},{"$f":"IF(H75>0, ROUND((K75*100/H75), 2), 0)","v":53.5},null,1534423,3.85E-2,{"$f":"ROUND(N75*(1+O75),0)","v":1593498},{"$f":"IF(H75=0,0,P75*100/H75)","v":50.966972045932437},{"$f":"IF(L75>Q75,L75-Q75,0)","v":2.5330279540675633},{"$f":"IF(AND(R75>$T$4,R75<=$T$5),$S$4,IF(R75>$T$5,$S$5,0))","v":0.01},{"$f":"ROUND(S75*N75,0)","v":15344},{"$f":"MAX(P75-K75,0)","v":0},0,{"$f":"IF(AND(I75>1.75,$W$5=1),MAX(K75-(P75+T75),0),0)","v":0},{"$f":"MIN(H75*parameters!C$22,ROUND(P75+T75-V75+W75,0))","v":1608842},{"$f":"IF(H75=0,0,X75*100/H75)","v":51.457739664763956},null,{"$f":"IF(Q75<L75, P75-K75, 0)","v":-79164},{"$f":"-1*MAX(K75-(P75+T75+W75),0)","v":-63820},{"$f":"IF(Q75>L75, X75-K75,0)","v":0},{"$f":"Y75-L75","v":-2.042260335236044},null,null,{"$f":"TEXT(A75,\"000\")","v":"066"},{"$f":"B75","v":"Colrain"},{"$f":"I75","v":0.53498979852057205},53.5,{"$f":"O75","v":3.85E-2},1608842,{"$f":"AD75","v":-2.042260335236044}]
[67,"Concord",10005748600,33112394.783858825,3093321000,{"$f":"E76*F$5","v":49173393.221780784},82285788,38861842.406883784,2.1173928692949544,32061020,32061020,82.5,null,32125219,3.8800000000000001E-2,33371677,85.872606477578415,0,0,0,1310657,1310657,0,{"$f":"MIN(H76*parameters!C$22,ROUND(P76+T76-V76+W76,0))","v":32061020},82.50000003685075,null,0,0,0,3.6850750007033639E-8,null,null,"067","Concord",2.1173928692949544,82.5,3.8800000000000001E-2,32061020,3.6850750007033639E-8]
[68,"Conway",361484500,1196274.0571201055,83447000,1326526.4562513691,2522801,2233763.2325611631,1.1293949883432521,1842855,1842855,82.5,null,1938181,4.4999999999999998E-2,2025399,90.672053800336784,0,0,0,182544,182544,0,{"$f":"MIN(H77*parameters!C$22,ROUND(P77+T77-V77+W77,0))","v":1842855},82.50001491371313,null,0,0,0,1.4913713130226824E-5,null,null,"068","Conway",1.1293949883432521,82.5,4.4999999999999998E-2,1842855,1.4913713130226824E-5]
[69,"Cummington",176022200,582516.79210922355,62433000,992474.57959113829,1574991,934877.3758085632,1.6847032998716125,771274,771274,82.5,null,635085,3.2899999999999999E-2,655979,70.167384191178272,12.332615808821728,0.02,12702,0,0,0,{"$f":"MIN(H78*parameters!C$22,ROUND(P78+T78-V78+W78,0))","v":668681},71.526065054432038,null,-115295,-102593,0,-10.973934945567962,null,null,"069","Cummington",1.6847032998716125,82.5,3.2899999999999999E-2,668681,-10.973934945567962]
[70,"Dalton",947874600,3136836.5542176696,251411000,3996588.7676323047,7133425,13881996.422131887,0.51386160773152723,11452647,7133425,51.39,null,6346776,0.03,6537179,47.091058095778358,4.2989419042216426,0.01,63468,0,0,0,{"$f":"MIN(H79*parameters!C$22,ROUND(P79+T79-V79+W79,0))","v":6600647},47.548254583012813,null,-596246,-532778,0,-3.8417454169871874,null,null,"070","Dalton",0.51386160773152723,51.39,0.03,6600647,-3.8417454169871874]
[71,"Danvers",7716583900,25536777.176229373,1596834000,25384286.400250442,50921064,51047413.427435771,0.99752486132102702,42114116,42114116,82.5,null,40654585,4.3099999999999999E-2,42406798,83.073353090223733,0,0,0,292682,292682,0,{"$f":"MIN(H80*parameters!C$22,ROUND(P80+T80-V80+W80,0))","v":42114116},82.499999847916854,null,0,0,0,-1.5208314607662032E-7,null,null,"071","Danvers",0.99752486132102702,82.5,4.3099999999999999E-2,42114116,-1.5208314607662032E-7]
[72,"Dartmouth",8516331800,28183412.550654236,1610098000,25595139.359802231,53778552,54501677.886429034,0.9867320435907333,44963884,44963884,82.5,null,44023382,4.0899999999999999E-2,45823938,84.078031680947944,0,0,0,860054,860054,0,{"$f":"MIN(H81*parameters!C$22,ROUND(P81+T81-V81+W81,0))","v":44963884},82.499999529731994,null,0,0,0,-4.7026800586991158E-7,null,null,"072","Dartmouth",0.9867320435907333,82.5,4.0899999999999999E-2,44963884,-4.7026800586991158E-7]
[73,"Dedham",7957982700,26335647.17441719,1849957000,29408090.206087861,55743737,40971138.098896392,1.3605611068319707,33801189,33801189,82.5,null,32674661,3.8699999999999998E-2,33939170,82.836776264494816,0,0,0,137981,137981,0,{"$f":"MIN(H82*parameters!C$22,ROUND(P82+T82-V82+W82,0))","v":33801189},82.500000166972356,null,0,0,0,1.6697235594165249E-7,null,null,"073","Dedham",1.3605611068319707,82.5,3.8699999999999998E-2,33801189,1.6697235594165249E-7]
[74,"Deerfield",1072783700,3550202.8695872664,274559000,4364564.0622421373,7914767,7536068.8301231889,1.0502514213197043,6217257,6217257,82.5,null,6135766,4.4500000000000005E-2,6408808,85.04179227215522,0,0,0,191551,191551,0,{"$f":"MIN(H83*parameters!C$22,ROUND(P83+T83-V83+W83,0))","v":6217257},82.500002854915124,null,0,0,0,2.8549151238621562E-6,null,null,"074","Deerfield",1.0502514213197043,82.5,4.4500000000000005E-2,6217257,2.8549151238621562E-6]
[75,"Dennis",13066684300,43242062.773558989,739834000,11760870.663226662,55002933,19358365.378363647,2.8413004881845749,15970651,15970651,82.5,null,15662436,2.3700000000000002E-2,16033636,82.825360956976198,0,0,0,62985,62985,0,{"$f":"MIN(H84*parameters!C$22,ROUND(P84+T84-V84+W84,0))","v":15970651},82.499997741803085,null,0,0,0,-2.2581969147950076E-6,null,null,"075","Dennis",2.8413004881845749,82.5,2.3700000000000002E-2,15970651,-2.2581969147950076E-6]
[76,"Dighton",1555183800,5146627.4044764377,377393000,5999278.5708781965,11145906,18645722.619641773,0.59777280974129055,15382721,11145906,59.78,null,9786453,4.130000000000001E-2,10190634,54.654004073111032,5.1259959268889688,0.01,97865,0,0,0,{"$f":"MIN(H85*parameters!C$22,ROUND(P85+T85-V85+W85,0))","v":10288499},55.178869759447622,null,-955272,-857407,0,-4.6011302405523793,null,null,"076","Dighton",0.59777280974129055,59.78,4.130000000000001E-2,10288499,-4.6011302405523793]
[77,"Douglas",1745329400,5775883.28780072,470244000,7475296.9776441185,13251180,17385823.307792,0.76218305946207732,14343304,13251180,76.22,null,10959279,4.99E-2,11506147,66.181202904800955,10.038797095199044,0.02,219186,0,0,0,{"$f":"MIN(H86*parameters!C$22,ROUND(P86+T86-V86+W86,0))","v":11725333},67.441919732066552,null,-1745033,-1525847,0,-8.7780802679334471,null,null,"077","Douglas",0.76218305946207732,76.22,4.99E-2,11725333,-8.7780802679334471]
[78,"Dover",3605308900,11931182.4019404,1603450000,25489458.533874884,37420641,14492210.264604369,2.5821210372165111,11956073,11956073,82.5,null,11693965,3.5999999999999997E-2,12114948,83.596275370013288,0,0,0,158875,158875,0,{"$f":"MIN(H87*parameters!C$22,ROUND(P87+T87-V87+W87,0))","v":11956073},82.499996768618473,null,0,0,0,-3.2313815268025792E-6,null,null,"078","Dover",2.5821210372165111,82.5,3.5999999999999997E-2,11956073,-3.2313815268025792E-6]
[79,"Dracut",5963402500,19734908.973732427,1472857000,23413469.349108089,43148378,70369998.624182612,0.61316440022171725,58055249,43148378,61.32,null,35287967,3.32E-2,36459528,51.811181913922482,9.5088180860775182,0.02,705759,0,0,0,{"$f":"MIN(H88*parameters!C$22,ROUND(P88+T88-V88+W88,0))","v":37165287},52.814107896299106,null,-6688850,-5983091,0,-8.5058921037008943,null,null,"079","Dracut",0.61316440022171725,61.32,3.32E-2,37165287,-8.5058921037008943]
[80,"Dudley",1672279800,5534137.5383619452,451075000,7170574.3915729299,12704712,25925365.140903305,0.49004949133601039,21388426,12704712,49,null,9291366,6.3399999999999998E-2,9880439,38.111089067792165,10.888910932207835,0.02,185827,0,0,0,{"$f":"MIN(H89*parameters!C$22,ROUND(P89+T89-V89+W89,0))","v":10066266},38.827865857588712,null,-2824273,-2638446,0,-10.172134142411288,null,null,"080","Dudley",0.49004949133601039,49,6.3399999999999998E-2,10066266,-10.172134142411288]
[81,"Dunstable",860785500,2848629.3669442497,248953000,3957514.8401158466,6806144,7463799.4840408526,0.91188730546056918,6157635,6157635,82.5,null,5691183,4.4900000000000002E-2,5946717,79.674125928963008,2.8258740710369921,0.01,56912,0,0,0,{"$f":"MIN(H90*parameters!C$22,ROUND(P90+T90-V90+W90,0))","v":6003629},80.436633015624295,null,-210918,-154006,0,-2.0633669843757048,null,null,"081","Dunstable",0.91188730546056918,82.5,4.4900000000000002E-2,6003629,-2.0633669843757048]
[82,"Duxbury",7474272000,24734885.422360308,1862121000,29601456.867727485,54336342,35156207.320330001,1.5455689376532542,29003871,29003871,82.5,null,28849041,3.4599999999999999E-2,29847218,84.898856489391733,0,0,0,843347,843347,0,{"$f":"MIN(H91*parameters!C$22,ROUND(P91+T91-V91+W91,0))","v":29003871},82.499999888292123,null,0,0,0,-1.1170787672654114E-7,null,null,"082","Duxbury",1.5455689376532542,82.5,3.4599999999999999E-2,29003871,-1.1170787672654114E-7]
[83,"East Bridgewater",2735589000,9052986.0938522462,655764000,10424440.603703221,19477427,30640197.053019006,0.63568217157013585,25278163,19477427,63.57,null,16761775,3.8600000000000002E-2,17408780,56.816801699663671,6.7531983003363294,0.01,167618,0,0,0,{"$f":"MIN(H92*parameters!C$22,ROUND(P92+T92-V92+W92,0))","v":17576398},57.363854317210347,null,-2068647,-1901029,0,-6.2061456827896535,null,null,"083","East Bridgewater",0.63568217157013585,63.57,3.8600000000000002E-2,17576398,-6.2061456827896535]
[84,"East Brookfield",391173300,1294524.3036093116,90432000,1437564.4479936224,2732089,4808902.8291089479,0.56813146305687257,3967345,2732089,56.81,null,2355481,4.1700000000000001E-2,2453705,51.024216691328995,5.7857833086710073,0.01,23555,0,0,0,{"$f":"MIN(H93*parameters!C$22,ROUND(P93+T93-V93+W93,0))","v":2477260},51.514037360139731,null,-278384,-254829,0,-5.2959626398602708,null,null,"084","East Brookfield",0.56813146305687257,56.81,4.1700000000000001E-2,2477260,-5.2959626398602708]
[85,"Eastham",5247859100,17366934.672860567,274626000,4365629.1367513323,21732564,7164497.5674988711,3.0333688852918193,5910710,5910710,82.5,null,5744138,2.9700000000000001E-2,5914739,82.556228741450155,0,0,0,4029,4029,0,{"$f":"MIN(H94*parameters!C$22,ROUND(P94+T94-V94+W94,0))","v":5910710},82.499993116243473,null,0,0,0,-6.8837565265766898E-6,null,null,"085","Eastham",3.0333688852918193,82.5,2.9700000000000001E-2,5910710,-6.8837565265766898E-6]
[86,"Easthampton",2471318200,8178424.938133603,630744000,10026706.809373775,18205132,23938957.649999999,0.76048139882147292,19749640,18205132,76.05,null,15814907,5.4000000000000006E-2,16668912,69.630901410613433,6.4190985893865644,0.01,158149,0,0,0,{"$f":"MIN(H95*parameters!C$22,ROUND(P95+T95-V95+W95,0))","v":16827061},70.291535855572235,null,-1536220,-1378071,0,-5.7584641444277622,null,null,"086","Easthampton",0.76048139882147292,76.05,5.4000000000000006E-2,16827061,-5.7584641444277622]
[87,"East Longmeadow",2860095200,9465019.0773151815,882680000,14031641.310100524,23496660,34286215.829999998,0.68530922503966518,28286128,23496660,68.53,null,20638923,3.9100000000000003E-2,21445905,62.54964125039168,5.980358749608321,0.01,206389,0,0,0,{"$f":"MIN(H96*parameters!C$22,ROUND(P96+T96-V96+W96,0))","v":21652294},63.151600361374733,null,-2050755,-1844366,0,-5.3783996386252682,null,null,"087","East Longmeadow",0.68530922503966518,68.53,3.9100000000000003E-2,21652294,-5.3783996386252682]
[88,"Easton",5439498700,18001134.705771726,1655474000,26316465.045313537,44317600,48447184.225221477,0.91476110962354695,39968927,39968927,82.5,null,38215678,4.3499999999999997E-2,39878060,82.312441141294613,0.18755885870538691,0,0,0,0,0,{"$f":"MIN(H97*parameters!C$22,ROUND(P97+T97-V97+W97,0))","v":39878060},82.312441141294613,null,-90867,-90867,0,-0.18755885870538691,null,null,"088","Easton",0.91476110962354695,82.5,4.3499999999999997E-2,39878060,-0.18755885870538691]
[89,"Edgartown",14948876400,49470870.868363641,421376000,6698460.2445789166,56169331,10597530.291932,5.300228397814748,8742962,8742962,82.5,null,8633139,4.41E-2,9013860,85.056232458824269,0,0,0,270898,270898,0,{"$f":"MIN(H98*parameters!C$22,ROUND(P98+T98-V98+W98,0))","v":8742962},82.499995368318025,null,0,0,0,-4.6316819748426497E-6,null,null,"089","Edgartown",5.300228397814748,82.5,4.41E-2,8742962,-4.6316819748426497E-6]
[90,"Egremont",871171800,2883001.1345842634,59556000,946739.96223359171,3829741,1282161.5353810426,2.9869411102415016,1057783,1057783,82.5,null,1098644,4.8099999999999997E-2,1151489,89.80841869178299,0,0,0,93706,93706,0,{"$f":"MIN(H99*parameters!C$22,ROUND(P99+T99-V99+W99,0))","v":1057783},82.499979200018657,null,0,0,0,-2.0799981342634055E-5,null,null,"090","Egremont",2.9869411102415016,82.5,4.8099999999999997E-2,1057783,-2.0799981342634055E-5]
[91,"Erving",888586800,2940633.2397084017,49469000,786390.6103790307,3727024,2947206.1709304843,1.2645956149119062,2431445,2431445,82.5,null,2630178,3.1600000000000003E-2,2713292,92.063189428765568,0,0,0,281847,281847,0,{"$f":"MIN(H100*parameters!C$22,ROUND(P100+T100-V100+W100,0))","v":2431445},82.499996911731174,null,0,0,0,-3.0882688264455282E-6,null,null,"091","Erving",1.2645956149119062,82.5,3.1600000000000003E-2,2431445,-3.0882688264455282E-6]
[92,"Essex",1385759900,4585946.611175173,295097000,4691049.1408967394,9276996,6710809.2166928444,1.3823960271324476,5536418,5536418,82.5,null,5547926,4.4400000000000002E-2,5794254,86.34210589070311,0,0,0,257836,257836,0,{"$f":"MIN(H101*parameters!C$22,ROUND(P101+T101-V101+W101,0))","v":5536418},82.500005904331218,null,0,0,0,5.9043312177209373E-6,null,null,"092","Essex",1.3823960271324476,82.5,4.4400000000000002E-2,5536418,5.9043312177209373E-6]
[93,"Everett",8839550700,29253052.83907849,1368453000,21753797.124361027,51006850,174880352.35727996,0.29166712733854278,144276291,51006850,29.17,null,45846412,4.3700000000000003E-2,47849900,27.361507084708304,1.8084929152916978,0,0,0,0,0,{"$f":"MIN(H102*parameters!C$22,ROUND(P102+T102-V102+W102,0))","v":47849900},27.361507084708304,null,-3156950,-3156950,0,-1.8084929152916978,null,null,"093","Everett",0.29166712733854278,29.17,4.3700000000000003E-2,47849900,-1.8084929152916978]
[94,"Fairhaven",3499585400,11581307.703916177,621916000,9886371.3203114122,21467679,30203126.587873597,0.71077671172689671,24917579,21467679,71.08,null,18837062,2.8799999999999999E-2,19379569,64.164115405789815,6.9158845942101834,0.01,188371,0,0,0,{"$f":"MIN(H103*parameters!C$22,ROUND(P103+T103-V103+W103,0))","v":19567940},64.787795869638316,null,-2088110,-1899739,0,-6.2922041303616822,null,null,"094","Fairhaven",0.71077671172689671,71.08,2.8799999999999999E-2,19567940,-6.2922041303616822]
[95,"Fall River",10205200700,33772449.012651831,2209588000,35125012.75558798,68897462,324533969.13924241,0.21229661160813434,267740525,68897462,21.23,null,47188152,7.6999999999999999E-2,50821640,15.659883042380319,5.5701169576196818,0.01,471882,0,0,0,{"$f":"MIN(H104*parameters!C$22,ROUND(P104+T104-V104+W104,0))","v":51293522},15.805286003201822,null,-18075822,-17603940,0,-5.4247139967981788,null,null,"095","Fall River",0.21229661160813434,21.23,7.6999999999999999E-2,51293522,-5.4247139967981788]
[96,"Falmouth",21506621800,71172660.83506681,1934144000,30746380.171843778,101919041,48135587.799463153,2.1173324282359065,39711860,39711860,82.5,null,40026720,5.67E-2,42296235,87.86894880396936,0,0,0,2584375,2584375,0,{"$f":"MIN(H105*parameters!C$22,ROUND(P105+T105-V105+W105,0))","v":39711860},82.500000135955332,null,0,0,0,1.3595533232546586E-7,null,null,"096","Falmouth",2.1173324282359065,82.5,5.67E-2,39711860,1.3595533232546586E-7]
[97,"Fitchburg",4850966700,16053483.939597769,1146436000,18224474.030210726,34277958,127116385.62771867,0.26965806045169238,104871018,34277958,26.97,null,26135608,5.0299999999999991E-2,27450229,21.594563804223107,5.3754361957768921,0.01,261356,0,0,0,{"$f":"MIN(H106*parameters!C$22,ROUND(P106+T106-V106+W106,0))","v":27711585},21.800167510393155,null,-6827729,-6566373,0,-5.1698324896068435,null,null,"097","Fitchburg",0.26965806045169238,26.97,5.0299999999999991E-2,27711585,-5.1698324896068435]
[98,"Florida",203461600,673323.01578670193,16297000,259067.45188597025,932390,1329674.9411796839,0.70121649368889072,1096982,932390,70.12,null,836094,3.9399999999999998E-2,869036,65.357026223942654,4.7629737760573505,0.01,8361,0,0,0,{"$f":"MIN(H107*parameters!C$22,ROUND(P107+T107-V107+W107,0))","v":877397},65.985826522501497,null,-63354,-54993,0,-4.1341734774985071,null,null,"098","Florida",0.70121649368889072,70.12,3.9399999999999998E-2,877397,-4.1341734774985071]
[99,"Foxborough",4537534100,15016229.816569801,1217816000,19359175.798365634,34375406,38841254.242698245,0.88502306813282738,32044035,32044035,82.5,null,30839327,4.9200000000000001E-2,32356622,83.304781554737545,0,0,0,312587,312587,0,{"$f":"MIN(H108*parameters!C$22,ROUND(P108+T108-V108+W108,0))","v":32044035},82.500000643063544,null,0,0,0,6.430635437482124E-7,null,null,"099","Foxborough",0.88502306813282738,82.5,4.9200000000000001E-2,32044035,6.430635437482124E-7]
[100,"Framingham",15369317800,50862253.180355601,3419639000,54360751.18732819,105223004,188472341.85402864,0.55829413995128763,155489682,105223004,55.83,null,89166869,3.9100000000000003E-2,92653294,49.160154263780385,6.6698457362196137,0.01,891669,0,0,0,{"$f":"MIN(H109*parameters!C$22,ROUND(P109+T109-V109+W109,0))","v":93544963},49.633257633340357,null,-12569710,-11678041,0,-6.1967423666596417,null,null,"100","Framingham",0.55829413995128763,55.83,3.9100000000000003E-2,93544963,-6.1967423666596417]
[101,"Franklin",8538330900,28256214.987854145,2179374000,34644711.841844179,62900927,72436038.687772721,0.86836508648860922,59759732,59759732,82.5,null,55744510,4.1099999999999998E-2,58035609,80.119799551927287,2.3802004480727135,0,0,0,0,0,{"$f":"MIN(H110*parameters!C$22,ROUND(P110+T110-V110+W110,0))","v":58035609},80.119799551927287,null,-1724123,-1724123,0,-2.3802004480727135,null,null,"101","Franklin",0.86836508648860922,82.5,4.1099999999999998E-2,58035609,-2.3802004480727135]
[102,"Freetown",2308870800,7640831.7349212589,432849000,6880842.3318028068,14521674,18585601.66621533,0.78133999968358914,15333121,14521674,78.13,null,12988840,3.8399999999999997E-2,13487611,72.570214525352753,5.5597854746472422,0.01,129888,0,0,0,{"$f":"MIN(H111*parameters!C$22,ROUND(P111+T111-V111+W111,0))","v":13617499},73.269078099062654,null,-1034063,-904175,0,-4.8609219009373419,null,null,"102","Freetown",0.78133999968358914,78.13,3.8399999999999997E-2,13617499,-4.8609219009373419]
[103,"Gardner",2325701800,7696531.1871948373,582205000,9255100.0690477584,16951631,49689072.776946828,0.34115410195105683,40993485,16951631,34.119999999999997,null,13581756,5.0999999999999997E-2,14274426,28.72749520619471,5.392504793805287,0.01,135818,0,0,0,{"$f":"MIN(H112*parameters!C$22,ROUND(P112+T112-V112+W112,0))","v":14410244},29.0008309567121,null,-2677205,-2541387,0,-5.1191690432878971,null,null,"103","Gardner",0.34115410195105683,34.119999999999997,5.0999999999999997E-2,14410244,-5.1191690432878971]
[104,"Aquinnah",986400500,3264331.7433535894,24061000,382488.92187693017,3646821,908298.17959777254,4.015004193463148,749346,749346,82.5,null,692827,0.04,720540,79.328574710904007,3.1714252890959926,0.01,6928,0,0,21878,{"$f":"MIN(H113*parameters!C$22,ROUND(P113+T113-V113+W113,0))","v":749346},82.500000201678006,null,-28806,0,0,2.0167800585113582E-7,null,null,"104","Aquinnah",4.015004193463148,82.5,0.04,749346,2.0167800585113582E-7]
[105,"Georgetown",2011573900,6656976.082100099,546476000,8687129.2162261456,15344105,16600095.033203043,0.92433838296161275,13695078,13695078,82.5,null,13261286,2.76E-2,13627297,82.091680636424456,0.40831936357554355,0,0,0,0,0,{"$f":"MIN(H114*parameters!C$22,ROUND(P114+T114-V114+W114,0))","v":13627297},82.091680636424456,null,-67781,-67781,0,-0.40831936357554355,null,null,"105","Georgetown",0.92433838296161275,82.5,2.76E-2,13627297,-0.40831936357554355]
[106,"Gill",218896700,724402.96444025286,45336000,720689.82013268385,1445093,2397512.1632146081,0.60274688995212644,1977948,1445093,60.27,null,1322239,3.1200000000000002E-2,1363493,56.871160902550542,3.3988390974494607,0.01,13222,0,0,0,{"$f":"MIN(H115*parameters!C$22,ROUND(P115+T115-V115+W115,0))","v":1376715},57.422649241290472,null,-81600,-68378,0,-2.8473507587095312,null,null,"106","Gill",0.60274688995212644,60.27,3.1200000000000002E-2,1376715,-2.8473507587095312]
[107,"Gloucester",11230040300,37163988.694683418,1567978000,24925573.116110932,62089562,55208131.659858279,1.1246452312956137,45546709,45546709,82.5,null,41093876,4.5100000000000001E-2,42947210,77.791456998764602,4.7085430012353982,0.01,410939,0,0,0,{"$f":"MIN(H116*parameters!C$22,ROUND(P116+T116-V116+W116,0))","v":43358149},78.535802057445139,null,-2599499,-2188560,0,-3.9641979425548612,null,null,"107","Gloucester",1.1246452312956137,82.5,4.5100000000000001E-2,43358149,-3.9641979425548612]
[108,"Goshen",220216000,728768.97284049843,16494000,262199.08887569449,990968,1521782.5406083921,0.65118896659428216,1255471,990968,65.12,null,931640,3.44E-2,963688,63.326262083065302,1.7937379169347025,0,0,0,0,0,{"$f":"MIN(H117*parameters!C$22,ROUND(P117+T117-V117+W117,0))","v":963688},63.326262083065302,null,-27280,-27280,0,-1.7937379169347025,null,null,"108","Goshen",0.65118896659428216,65.12,3.44E-2,963688,-1.7937379169347025]
[109,"Gosnold",237378200,785564.47755261383,1357000,21571.732969826451,807136,0,0,0,0,0,null,0,1.1899999999999999E-2,0,0,0,0,0,0,0,0,{"$f":"MIN(H118*parameters!C$22,ROUND(P118+T118-V118+W118,0))","v":0},0,null,0,0,0,0,null,null,"109","Gosnold",0,0,1.1899999999999999E-2,0,0]
[110,"Grafton",4138984600,13697295.180843541,1320964000,20998881.850223895,34696177,43468016.357551999,0.79820014593263111,35861113,34696177,79.819999999999993,null,28949345,4.5499999999999999E-2,30266540,69.629448353563035,10.190551646436958,0.02,578987,0,0,0,{"$f":"MIN(H119*parameters!C$22,ROUND(P119+T119-V119+W119,0))","v":30845527},70.961432300650614,null,-4429637,-3850650,0,-8.8585676993493792,null,null,"110","Grafton",0.79820014593263111,79.819999999999993,4.5499999999999999E-2,30845527,-8.8585676993493792]
[111,"Granby",1036410400,3429831.3594344193,269754000,4288180.7336349031,7718012,10055139.685749998,0.76756884948479209,8295490,7718012,76.760000000000005,null,6651430,4.4299999999999999E-2,6946088,69.079975187653517,7.6800248123464883,0.02,133029,0,0,0,{"$f":"MIN(H120*parameters!C$22,ROUND(P120+T120-V120+W120,0))","v":7079117},70.402970234540092,null,-771924,-638895,0,-6.3570297654599131,null,null,"111","Granby",0.76756884948479209,76.760000000000005,4.4299999999999999E-2,7079117,-6.3570297654599131]
[112,"Granville",299734400,991922.16193629475,65672000,1043963.778625234,2035886,2783524.1865283819,0.73140589539448619,2296407,2035886,73.14,null,1807989,4.9100000000000005E-2,1896761,68.142429269337327,4.9975707306626731,0.01,18080,0,0,0,{"$f":"MIN(H121*parameters!C$22,ROUND(P121+T121-V121+W121,0))","v":1914841},68.791965568950005,null,-139125,-121045,0,-4.3480344310499959,null,null,"112","Granville",0.73140589539448619,73.14,4.9100000000000005E-2,1914841,-4.3480344310499959]
[113,"Great Barrington",2202247500,7287979.2953988612,405021000,6438470.7878939416,13726450,11414551.678842165,1.20253956407619,9417005,9417005,82.5,null,9169459,3.3099999999999997E-2,9472968,82.99027650432339,0,0,0,55963,55963,0,{"$f":"MIN(H122*parameters!C$22,ROUND(P122+T122-V122+W122,0))","v":9417005},82.499998816906796,null,0,0,0,-1.1830932038492392E-6,null,null,"113","Great Barrington",1.20253956407619,82.5,3.3099999999999997E-2,9417005,-1.1830932038492392E-6]
[114,"Greenfield",2226295800,7367563.2261285093,487278000,7746080.24913124,15113643,31126316.500554502,0.48555835380427226,25679211,15113643,48.56,null,13286373,3.5999999999999997E-2,13764682,44.222007444262758,4.3379925557372445,0.01,132864,0,0,0,{"$f":"MIN(H123*parameters!C$22,ROUND(P123+T123-V123+W123,0))","v":13897546},44.648861678677662,null,-1348961,-1216097,0,-3.9111383213223405,null,null,"114","Greenfield",0.48555835380427226,48.56,3.5999999999999997E-2,13897546,-3.9111383213223405]
[115,"Groton",2914473100,9644973.8777303342,1014749000,16131093.927338555,25776068,23603292.522766817,1.092053914729795,19472716,19472716,82.5,null,18659135,3.8300000000000001E-2,19373780,82.080836736285022,0.41916326371497803,0,0,0,0,0,{"$f":"MIN(H124*parameters!C$22,ROUND(P124+T124-V124+W124,0))","v":19373780},82.080836736285022,null,-98936,-98936,0,-0.41916326371497803,null,null,"115","Groton",1.092053914729795,82.5,3.8300000000000001E-2,19373780,-0.41916326371497803]
[116,"Groveland",1529993000,5063262.5561410282,367020000,5834382.7815664727,10897645,13150366.695534514,0.82869514229595787,10849053,10849053,82.5,null,9287204,3.7900000000000003E-2,9639189,73.299773482918852,9.2002265170811484,0.02,185744,0,0,0,{"$f":"MIN(H125*parameters!C$22,ROUND(P125+T125-V125+W125,0))","v":9824933},74.712235996706198,null,-1209864,-1024120,0,-7.7877640032938018,null,null,"116","Groveland",0.82869514229595787,82.5,3.7900000000000003E-2,9824933,-7.7877640032938018]
[117,"Hadley",1405968000,4652822.0256775618,241264000,3835285.6177098071,8488108,6534075.6100000003,1.2990526138095913,5390612,5390612,82.5,null,5374427,2.0099999999999996E-2,5482453,83.905564110850563,0,0,0,91841,91841,0,{"$f":"MIN(H126*parameters!C$22,ROUND(P126+T126-V126+W126,0))","v":5390612},82.499994211116871,null,0,0,0,-5.7888831292984833E-6,null,null,"117","Hadley",1.2990526138095913,82.5,2.0099999999999996E-2,5390612,-5.7888831292984833E-6]
[118,"Halifax",1499440300,4962153.3733545644,362390000,5760781.3639907204,10722935,16597131.818719225,0.64607156930006671,13692634,10722935,64.61,null,9079021,3.1800000000000002E-2,9367734,56.441884672112543,8.1681153278874561,0.02,181580,0,0,0,{"$f":"MIN(H127*parameters!C$22,ROUND(P127+T127-V127+W127,0))","v":9549314},57.535929124993274,null,-1355201,-1173621,0,-7.0740708750067256,null,null,"118","Halifax",0.64607156930006671,64.61,3.1800000000000002E-2,9549314,-7.0740708750067256]
[119,"Hamilton",2357132300,7800545.3060638718,781577000,12424443.875724427,20224989,15436884.533664087,1.310172979262378,12735430,12735430,82.5,null,11824349,3.1800000000000002E-2,12200363,79.03384244012436,3.46615755987564,0.01,118243,0,0,0,{"$f":"MIN(H128*parameters!C$22,ROUND(P128+T128-V128+W128,0))","v":12318606},79.799819537006442,null,-535067,-416824,0,-2.7001804629935577,null,null,"119","Hamilton",1.310172979262378,82.5,3.1800000000000002E-2,12318606,-2.7001804629935577]
[120,"Hampden",914288400,3025688.497420636,240280000,3819643.3293956518,6845332,8187895.8354886882,0.83603066496405198,6755014,6755014,82.5,null,6158086,4.6699999999999998E-2,6445669,78.721922329087562,3.7780776709124382,0.01,61581,0,0,0,{"$f":"MIN(H129*parameters!C$22,ROUND(P129+T129-V129+W129,0))","v":6507250},79.474020319063087,null,-309345,-247764,0,-3.0259796809369135,null,null,"120","Hampden",0.83603066496405198,82.5,4.6699999999999998E-2,6507250,-3.0259796809369135]
[121,"Hancock",403174000,1334238.6650197764,15975000,253948.73558804535,1588187,1236469.67,1.2844528568177496,1020087,1020087,82.5,null,855049,2.6100000000000002E-2,877366,70.95734099163144,11.54265900836856,0.02,17101,0,0,0,{"$f":"MIN(H130*parameters!C$22,ROUND(P130+T130-V130+W130,0))","v":894467},72.340391495409676,null,-142721,-125620,0,-10.159608504590324,null,null,"121","Hancock",1.2844528568177496,82.5,2.6100000000000002E-2,894467,-10.159608504590324]
[122,"Hanover",4434463400,14675134.127932504,1129473000,17954819.419770662,32629954,34275019.762164995,0.95200394416749756,28276891,28276891,82.5,null,27057729,5.4699999999999999E-2,28537787,83.261183211634133,0,0,0,260896,260896,0,{"$f":"MIN(H131*parameters!C$22,ROUND(P131+T131-V131+W131,0))","v":28276891},82.499999113680687,null,0,0,0,-8.8631931305371836E-7,null,null,"122","Hanover",0.95200394416749756,82.5,5.4699999999999999E-2,28276891,-8.8631931305371836E-7]
[123,"Hanson",2117440700,7007325.0081268661,534219000,8492284.1675812211,15499609,21819892.743715346,0.71034304256441683,18001412,15499609,71.03,null,13165818,4.2299999999999997E-2,13722732,62.890923256038811,8.1390767439611906,0.02,263316,0,0,0,{"$f":"MIN(H132*parameters!C$22,ROUND(P132+T132-V132+W132,0))","v":13986048},64.097693624219659,null,-1776877,-1513561,0,-6.9323063757803425,null,null,"123","Hanson",0.71034304256441683,71.03,4.2299999999999997E-2,13986048,-6.9323063757803425]
[124,"Hardwick",391115500,1294333.0239264993,82917000,1318101.2399845982,2612434,5304399.0261406377,0.49250329530747022,4376129,2612434,49.25,null,2095716,3.8399999999999997E-2,2176191,41.026155635643192,8.2238443643568075,0.02,41914,0,0,0,{"$f":"MIN(H133*parameters!C$22,ROUND(P133+T133-V133+W133,0))","v":2218105},41.81632997572288,null,-436243,-394329,0,-7.4336700242771201,null,null,"124","Hardwick",0.49250329530747022,49.25,3.8399999999999997E-2,2218105,-7.4336700242771201]
[125,"Harvard",1920923300,6356982.690841631,555767000,8834824.8470460847,15191808,11850421.903447686,1.2819634713241892,9776598,9776598,82.5,null,9249928,3.2300000000000002E-2,9548701,80.576886441671434,1.9231135583285663,0,0,0,0,0,{"$f":"MIN(H134*parameters!C$22,ROUND(P134+T134-V134+W134,0))","v":9548701},80.576886441671434,null,-227897,-227897,0,-1.9231135583285663,null,null,"125","Harvard",1.2819634713241892,82.5,3.2300000000000002E-2,9548701,-1.9231135583285663]
[126,"Harwich",10308494000,34114281.359721549,735617000,11693834.555685205,45808116,20249223.342423189,2.2622159489954159,16705609,16705609,82.5,null,17349584,5.67E-2,18333305,90.538311963752008,0,0,0,1627696,1627696,0,{"$f":"MIN(H135*parameters!C$22,ROUND(P135+T135-V135+W135,0))","v":16705609},82.499998728350576,null,0,0,0,-1.2716494239839449E-6,null,null,"126","Harwich",2.2622159489954159,82.5,5.67E-2,16705609,-1.2716494239839449E-6]
[127,"Hatfield",762471500,2523275.201961502,151236000,2404143.4100402896,4927419,4069015.5300000003,1.2109609716825043,3356938,3356938,82.5,null,3285084,3.1399999999999997E-2,3388236,83.269183295547649,0,0,0,31298,31298,0,{"$f":"MIN(H136*parameters!C$22,ROUND(P136+T136-V136+W136,0))","v":3356938},82.500004614138192,null,0,0,0,4.6141381915276725E-6,null,null,"127","Hatfield",1.2109609716825043,82.5,3.1399999999999997E-2,3356938,4.6141381915276725E-6]
[128,"Haverhill",11356866500,37583699.340155423,2548209000,40507947.01496572,78091646,174686226.6174435,0.44703951486122528,144116137,78091646,44.7,null,62485173,4.6100000000000002E-2,65365739,37.418942675514195,7.2810573244858077,0.01,624852,0,0,0,{"$f":"MIN(H137*parameters!C$22,ROUND(P137+T137-V137+W137,0))","v":65990591},37.77664231337311,null,-12725907,-12101055,0,-6.9233576866268933,null,null,"128","Haverhill",0.44703951486122528,44.7,4.6100000000000002E-2,65990591,-6.9233576866268933]
[129,"Hawley",65414600,216478.96088736545,8096000,128699.15263354086,345178,441413.38631033723,0.78198353449417457,{"$f":"ROUND(H138*maxloc,0)","v":364166},345178,78.2,null,293350,3.6600000000000001E-2,304087,68.889392444979137,9.3106075550208658,0.02,5867,0,{"$f":"MAX(U138*(V$5),0)","v":0},0,{"$f":"MIN(H138*parameters!C$22,ROUND(P138+T138-V138+W138,0))","v":309954},70.218532018439006,null,-41091,-35224,0,-7.9814679815609963,null,null,"129","Hawley",0.78198353449417457,{"$f":"L138","v":78.2},3.6600000000000001E-2,{"$f":"X138","v":309954},-7.9814679815609963]
[130,"Heath",125842500,{"$f":"D$5*C139","v":416455.2505934193},11093000,176341.36612696006,{"$f":"ROUND(D139+F139,0)","v":592797},{"$f":"(SUMIF(town1755,A139,found1755)/2)","v":1576890.2777559031},{"$f":"IF(H139=0,0,G139/H139)","v":0.3759278678815996},1300934,{"$f":"MIN(G139,J139)","v":592797},{"$f":"IF(H139>0, ROUND((K139*100/H139), 2), 0)","v":37.590000000000003},null,534178,3.5999999999999997E-2,{"$f":"ROUND(N139*(1+O139),0)","v":553408},{"$f":"IF(H139=0,0,P139*100/H139)","v":35.094895808956565},{"$f":"IF(L139>Q139,L139-Q139,0)","v":2.4951041910434384},{"$f":"IF(AND(R139>$T$4,R139<=$T$5),$S$4,IF(R139>$T$5,$S$5,0))","v":0},{"$f":"ROUND(S139*N139,0)","v":0},{"$f":"MAX(P139-K139,0)","v":0},0,{"$f":"IF(AND(I139>1.75,$W$5=1),MAX(K139-(P139+T139),0),0)","v":0},{"$f":"MIN(H139*parameters!C$22,ROUND(P139+T139-V139+W139,0))","v":553408},{"$f":"IF(H139=0,0,X139*100/H139)","v":35.094895808956565},null,{"$f":"IF(Q139<L139, P139-K139, 0)","v":-39389},{"$f":"-1*MAX(K139-(P139+T139+W139),0)","v":-39389},{"$f":"IF(Q139>L139, X139-K139,0)","v":0},{"$f":"Y139-L139","v":-2.4951041910434384},null,null,{"$f":"TEXT(A139,\"000\")","v":"130"},{"$f":"B139","v":"Heath"},{"$f":"I139","v":0.3759278678815996},37.590000000000003,{"$f":"O139","v":3.5999999999999997E-2},553408,{"$f":"AD139","v":-2.4951041910434384}]
[131,"Hingham",10581543600,35017894.52373556,3625736000,{"$f":"E140*F$5","v":57636999.860786051},92654894,48104960.021279998,1.9260985553051624,39686592,39686592,82.5,null,38473209,2.2700000000000001E-2,39346551,81.793126909562801,0.70687309043719893,0,0,0,0,340041,{"$f":"MIN(H140*parameters!C$22,ROUND(P140+T140-V140+W140,0))","v":39686592},82.499999963504806,null,-340041,0,0,-3.6495194422059285E-8,null,null,"131","Hingham",1.9260985553051624,82.5,2.2700000000000001E-2,39686592,-3.6495194422059285E-8]
[132,"Hinsdale",497220700,1645470.8959114398,87385000,1389127.4027769228,3034598,3503208.4000871093,0.86623393570435114,2890147,2890147,82.5,null,2350354,4.4500000000000005E-2,2454945,70.077047084579846,12.422952915420154,0.02,47007,0,0,0,{"$f":"MIN(H141*parameters!C$22,ROUND(P141+T141-V141+W141,0))","v":2501952},71.418874193661665,null,-435202,-388195,0,-11.081125806338335,null,null,"132","Hinsdale",0.86623393570435114,82.5,4.4500000000000005E-2,2501952,-11.081125806338335]
[133,"Holbrook",2100152500,6950112.5269435681,468309000,7444536.9899531724,14394650,27402957.940239187,0.52529548202030174,22607440,14394650,52.53,null,11893051,4.0899999999999999E-2,12379477,45.17569609455068,7.3543039054493207,0.01,118931,0,0,0,{"$f":"MIN(H142*parameters!C$22,ROUND(P142+T142-V142+W142,0))","v":12498408},45.609703986178168,null,-2015173,-1896242,0,-6.920296013821833,null,null,"133","Holbrook",0.52529548202030174,52.53,4.0899999999999999E-2,12498408,-6.920296013821833]
[134,"Holden",3809363300,12606467.192743903,1130376000,17969174.080693103,30575641,45447390.787797794,0.67276999779290469,37494097,30575641,67.28,null,26389055,4.7500000000000001E-2,27642535,60.823150726227759,6.4568492737722423,0.01,263891,0,0,0,{"$f":"MIN(H143*parameters!C$22,ROUND(P143+T143-V143+W143,0))","v":27906426},61.403802322338422,null,-2933106,-2669215,0,-5.8761976776615796,null,null,"134","Holden",0.67276999779290469,67.28,4.7500000000000001E-2,27906426,-5.8761976776615796]
[135,"Holland",511924500,1694130.7263635963,104402000,1659640.431478129,3353771,5040465.0757807977,0.66536935571971623,4158384,3353771,66.540000000000006,null,2929956,3.6999999999999998E-2,3038364,60.279437597915297,6.2605624020847088,0.01,29300,0,0,0,{"$f":"MIN(H144*parameters!C$22,ROUND(P144+T144-V144+W144,0))","v":3067664},60.860733164088053,null,-315407,-286107,0,-5.6792668359119531,null,null,"135","Holland",0.66536935571971623,66.540000000000006,3.6999999999999998E-2,3067664,-5.6792668359119531]
[136,"Holliston",3988078200,13197895.036789261,1107201000,17600769.5769527,30798665,36718269.882997729,0.83878312072272276,30292573,30292573,82.5,null,27865028,3.8399999999999997E-2,28935045,78.802855069699987,3.6971449303000128,0.01,278650,0,0,0,{"$f":"MIN(H145*parameters!C$22,ROUND(P145+T145-V145+W145,0))","v":29213695},79.561741588285741,null,-1357528,-1078878,0,-2.9382584117142585,null,null,"136","Holliston",0.83878312072272276,82.5,3.8399999999999997E-2,29213695,-2.9382584117142585]
[137,"Holyoke",2875783600,9516937.2810492907,892025000,14180195.359181605,23697133,125376814.92000002,0.18900729784147555,103435872,23697133,18.899999999999999,null,13957634,4.8799999999999996E-2,14638767,11.675816624740907,7.2241833752590914,0.01,139576,0,0,0,{"$f":"MIN(H146*parameters!C$22,ROUND(P146+T146-V146+W146,0))","v":14778343},11.787141832746119,null,-9058366,-8918790,0,-7.1128581672538793,null,null,"137","Holyoke",0.18900729784147555,18.899999999999999,4.8799999999999996E-2,14778343,-7.1128581672538793]
[138,"Hopedale",1155394900,3823591.1763820541,322655000,5129128.5934998915,8952720,14522716.886640001,0.61646316387506994,11981241,8952720,61.65,null,8022244,5.8700000000000002E-2,8493150,58.481825861476175,3.168174138523824,0.01,80222,0,0,0,{"$f":"MIN(H147*parameters!C$22,ROUND(P147+T147-V147+W147,0))","v":8573372},59.034215614896212,null,-459570,-379348,0,-2.6157843851037867,null,null,"138","Hopedale",0.61646316387506994,61.65,5.8700000000000002E-2,8573372,-2.6157843851037867]
[139,"Hopkinton",6765955600,22390827.700514123,1963211000,31208447.645855531,53599275,58981083.470643535,0.90875365195143953,48659394,48659394,82.5,null,46249611,3.0899999999999997E-2,47678724,80.837314600588812,1.6626853994111883,0,0,0,0,0,{"$f":"MIN(H148*parameters!C$22,ROUND(P148+T148-V148+W148,0))","v":47678724},80.837314600588812,null,-980670,-980670,0,-1.6626853994111883,null,null,"139","Hopkinton",0.90875365195143953,82.5,3.0899999999999997E-2,47678724,-1.6626853994111883]
[140,"Hubbardston",785431700,2599258.2430221532,194245000,3087841.7617715099,5687100,9065233.2531695832,0.62735285912379068,7478817,5687100,62.74,null,4818338,4.5600000000000002E-2,5038054,55.575558392151535,7.1644416078484667,0.01,48183,0,0,0,{"$f":"MIN(H149*parameters!C$22,ROUND(P149+T149-V149+W149,0))","v":5086237},56.10707257004821,null,-649046,-600863,0,-6.632927429951792,null,null,"140","Hubbardston",0.62735285912379068,62.74,4.5600000000000002E-2,5086237,-6.632927429951792]
[141,"Hudson",4286457700,14185333.377925515,1010466000,16063008.641922368,30248342,42419336.637083814,0.71307909076438292,34995953,30248342,71.31,null,26420969,4.4199999999999996E-2,27588776,65.038207070596556,6.2717929294034462,0.01,264210,0,0,0,{"$f":"MIN(H150*parameters!C$22,ROUND(P150+T150-V150+W150,0))","v":27852986},65.661059809337928,null,-2659566,-2395356,0,-5.6489401906620742,null,null,"141","Hudson",0.71307909076438292,71.31,4.4199999999999996E-2,27852986,-5.6489401906620742]
[142,"Hull",3356024500,11106216.295330709,584663000,9294173.9965642169,20400390,10380828.725029999,1.9651985925565925,8564184,8564184,82.5,null,8637600,4.7500000000000001E-2,9047886,87.159573090575705,0,0,0,483702,483702,0,{"$f":"MIN(H151*parameters!C$22,ROUND(P151+T151-V151+W151,0))","v":8564184},82.500002907766401,null,0,0,0,2.9077664009946602E-6,null,null,"142","Hull",1.9651985925565925,82.5,4.7500000000000001E-2,8564184,2.9077664009946602E-6]
[143,"Huntington",304919300,1009080.7437254505,82731000,1315144.4659739956,2324225,4900597.6691398369,0.47427378391745284,4042993,2324225,47.43,null,1962512,3.5799999999999998E-2,2032770,41.480042583393633,5.9499574166063667,0.01,19625,0,0,0,{"$f":"MIN(H152*parameters!C$22,ROUND(P152+T152-V152+W152,0))","v":2052395},41.880503941884307,null,-291455,-271830,0,-5.5494960581156931,null,null,"143","Huntington",0.47427378391745284,47.43,3.5799999999999998E-2,2052395,-5.5494960581156931]
[144,"Ipswich",4844015900,16030481.399471622,1048266000,16663901.424722251,32694383,22500366.819229107,1.4530599995400499,18562803,18562803,82.5,null,18287533,4.1700000000000001E-2,19050123,84.665833019751105,0,0,0,487320,487320,0,{"$f":"MIN(H153*parameters!C$22,ROUND(P153+T153-V153+W153,0))","v":18562803},82.500001662799491,null,0,0,0,1.6627994909867994E-6,null,null,"144","Ipswich",1.4530599995400499,82.5,4.1700000000000001E-2,18562803,1.6627994909867994E-6]
[145,"Kingston",3439041400,11380947.200175961,782303000,12435984.832346456,23816932,31916184.71525662,0.74623368088902542,26330852,23816932,74.62,null,20438123,4.41E-2,21339444,66.860886382197464,7.7591136178025408,0.02,408762,0,0,0,{"$f":"MIN(H154*parameters!C$22,ROUND(P154+T154-V154+W154,0))","v":21748206},68.141622170784999,null,-2477488,-2068726,0,-6.478377829215006,null,null,"145","Kingston",0.74623368088902542,74.62,4.41E-2,21748206,-6.478377829215006]
[146,"Lakeville",3028818400,10023381.018129481,668923000,10633624.416636122,20657005,24146281.619070277,0.85549424652139761,19920682,19920682,82.5,null,17204725,3.7400000000000003E-2,17848182,73.916896529127882,8.5831034708721177,0.02,344095,0,0,0,{"$f":"MIN(H155*parameters!C$22,ROUND(P155+T155-V155+W155,0))","v":18192277},75.341939959948462,null,-2072500,-1728405,0,-7.158060040051538,null,null,"146","Lakeville",0.85549424652139761,82.5,3.7400000000000003E-2,18192277,-7.158060040051538]
[147,"Lancaster",1497422000,4955474.1383403791,396077000,6296291.2892335672,11251765,15368015.280637821,0.7321547248964615,12678613,11251765,73.22,null,10017975,3.8899999999999997E-2,10407674,67.722954525641569,5.4970454743584298,0.01,100180,0,0,0,{"$f":"MIN(H156*parameters!C$22,ROUND(P156+T156-V156+W156,0))","v":10507854},68.374827901419749,null,-844091,-743911,0,-4.8451720985802496,null,null,"147","Lancaster",0.7321547248964615,73.22,3.8899999999999997E-2,10507854,-4.8451720985802496]
[148,"Lanesborough",604416400,2000217.5999743517,125415000,1993676.411503894,3993894,5785812.0898121381,0.69029099770325919,4773295,3993894,69.03,null,3314358,2.9100000000000001E-2,3410806,58.951205933664305,10.078794066335696,0.02,66287,0,0,0,{"$f":"MIN(H157*parameters!C$22,ROUND(P157+T157-V157+W157,0))","v":3477093},60.096887801153926,null,-583088,-516801,0,-8.9331121988460751,null,null,"148","Lanesborough",0.69029099770325919,69.03,2.9100000000000001E-2,3477093,-8.9331121988460751]
[149,"Lawrence",8313946000,27513649.719690531,2008297000,31925163.307371814,59438813,385321154.37329358,0.15425785043303522,317889952,59438813,15.43,null,18048724,2.5700000000000004E-2,18512576,4.8044535810938847,10.625546418906115,0.02,360974,0,0,0,{"$f":"MIN(H158*parameters!C$22,ROUND(P158+T158-V158+W158,0))","v":18873550},4.8981349157164562,null,-40926237,-40565263,0,-10.531865084283544,null,null,"149","Lawrence",0.15425785043303522,15.43,2.5700000000000004E-2,18873550,-10.531865084283544]
[150,"Lee",1447405100,4789951.3569000382,236799000,3764307.1448208792,8554259,9200604.0700000003,0.92974971370548276,7590498,7590498,82.5,null,7261451,4.1200000000000001E-2,7560623,82.17528917098592,0.3247108290140801,0,0,0,0,0,{"$f":"MIN(H159*parameters!C$22,ROUND(P159+T159-V159+W159,0))","v":7560623},82.17528917098592,null,-29875,-29875,0,-0.3247108290140801,null,null,"150","Lee",0.92974971370548276,82.5,4.1200000000000001E-2,7560623,-0.3247108290140801]
[151,"Leicester",1756545600,5813001.474277514,459535000,7305059.9191519506,13118061,23075674.879999999,0.56848005825258019,19037432,13118061,56.85,null,11866934,2.6699999999999998E-2,12183781,52.799240166795073,4.0507598332049284,0.01,118669,0,0,0,{"$f":"MIN(H160*parameters!C$22,ROUND(P160+T160-V160+W160,0))","v":12302450},53.31350031570561,null,-934280,-815611,0,-3.536499684294391,null,null,"151","Leicester",0.56848005825258019,56.85,2.6699999999999998E-2,12302450,-3.536499684294391]
[152,"Lenox",1921336000,6358348.4542516069,531942000,8456087.5309030376,14814436,6819131.9299999997,2.1724812119891044,5625784,5625784,82.5,null,5379444,4.0899999999999999E-2,5599463,82.114014767272593,0.38598523272740692,0,0,0,0,26321,{"$f":"MIN(H161*parameters!C$22,ROUND(P161+T161-V161+W161,0))","v":5625784},82.500002313344311,null,-26321,0,0,2.3133443107781204E-6,null,null,"152","Lenox",2.1724812119891044,82.5,4.0899999999999999E-2,5625784,2.3133443107781204E-6]
[153,"Leominster",6393443100,21158058.274154339,1615171000,25675782.986446247,46833841,116573692.46999998,0.40175308860575554,96173296,46833841,40.18,null,38590697,3.73E-2,40030130,34.338905418391612,5.8410945816083881,0.01,385907,0,0,0,{"$f":"MIN(H162*parameters!C$22,ROUND(P162+T162-V162+W162,0))","v":40416037},34.669946660908067,null,-6803711,-6417804,0,-5.5100533390919324,null,null,"153","Leominster",0.40175308860575554,40.18,3.73E-2,40416037,-5.5100533390919324]
[154,"Leverett",421128100,1393654.8337599025,88203000,1402130.8497697881,2795786,2865030.4013165645,0.97583118095893684,2363650,2363650,82.5,null,2198490,3.04E-2,2265324,79.06806151023801,3.4319384897619898,0.01,21985,0,0,0,{"$f":"MIN(H163*parameters!C$22,ROUND(P163+T163-V163+W163,0))","v":2287309},79.83541811454829,null,-98326,-76341,0,-2.6645818854517103,null,null,"154","Leverett",0.97583118095893684,82.5,3.04E-2,2287309,-2.6645818854517103]
[155,"Lexington",18712550500,61926137.097717494,5009471000,79633729.353050455,141559866,98186259.133271456,1.4417482369692496,81003664,81003664,82.5,null,79599020,4.9399999999999993E-2,83531212,85.074238225758577,0,0,0,2527548,2527548,0,{"$f":"MIN(H164*parameters!C$22,ROUND(P164+T164-V164+W164,0))","v":81003664},82.500000219023562,null,0,0,0,2.1902356195369066E-7,null,null,"155","Lexington",1.4417482369692496,82.5,4.9399999999999993E-2,81003664,2.1902356195369066E-7]
[156,"Leyden",124635700,412461.54261387233,47505000,755169.62028858182,1167631,1278369.299114407,0.91337534530035946,1054655,1054655,82.5,null,629768,3.5900000000000001E-2,652377,51.031967089004368,31.468032910995632,0.02,12595,0,0,0,{"$f":"MIN(H165*parameters!C$22,ROUND(P165+T165-V165+W165,0))","v":664972},52.017206644485341,null,-402278,-389683,0,-30.482793355514659,null,null,"156","Leyden",0.91337534530035946,82.5,3.5900000000000001E-2,664972,-30.482793355514659]
[157,"Lincoln",3054044300,10106862.024196148,1112425000,17683813.595401023,27790676,10427563.405221369,2.6651169520661404,8602740,8602740,82.5,null,9018103,5.5599999999999997E-2,9519510,91.29179684712652,0,0,0,916770,916770,0,{"$f":"MIN(H166*parameters!C$22,ROUND(P166+T166-V166+W166,0))","v":8602740},82.500001828733744,null,0,0,0,1.8287337439915063E-6,null,null,"157","Lincoln",2.6651169520661404,82.5,5.5599999999999997E-2,8602740,1.8287337439915063E-6]
[158,"Littleton",3200868200,10592751.799650412,759389000,12071729.350201575,22664481,22132664.356073312,1.0240285866794323,18259448,18259448,82.5,null,17454900,4.4900000000000002E-2,18238625,82.405916913456608,9.4083086543392369E-2,0,0,0,0,0,{"$f":"MIN(H167*parameters!C$22,ROUND(P167+T167-V167+W167,0))","v":18238625},82.405916913456608,null,-20823,-20823,0,-9.4083086543392369E-2,null,null,"158","Littleton",1.0240285866794323,82.5,4.4900000000000002E-2,18238625,-9.4083086543392369E-2]
[159,"Longmeadow",3091871800,10232045.972320372,1358265000,21591842.212425441,31823888,36519529.629999995,0.87142108133444773,30128612,30128612,82.5,null,28680259,2.9499999999999998E-2,29526327,80.850786686323488,1.6492133136765119,0,0,0,0,0,{"$f":"MIN(H168*parameters!C$22,ROUND(P168+T168-V168+W168,0))","v":29526327},80.850786686323488,null,-602285,-602285,0,-1.6492133136765119,null,null,"159","Longmeadow",0.87142108133444773,82.5,2.9499999999999998E-2,29526327,-1.6492133136765119]
[160,"Lowell",13763924100,45549464.29238376,3309814000,52614903.307143077,98164368,389458617.61918259,0.25205339812505145,321303360,98164368,25.21,null,77229220,4.590000000000001E-2,80774041,20.740083116861943,4.4699168831380582,0.01,772292,0,0,0,{"$f":"MIN(H169*parameters!C$22,ROUND(P169+T169-V169+W169,0))","v":81546333},20.938381977141667,null,-17390327,-16618035,0,-4.271618022858334,null,null,"160","Lowell",0.25205339812505145,25.21,4.590000000000001E-2,81546333,-4.271618022858334]
[161,"Ludlow",3047944300,10086675.068051605,781382000,12421344.032003634,22508019,35222182.710000001,0.63902964746161806,29058301,22508019,63.9,null,19968467,6.4600000000000005E-2,21258430,60.355231744239624,3.5447682557603741,0.01,199685,0,0,0,{"$f":"MIN(H170*parameters!C$22,ROUND(P170+T170-V170+W170,0))","v":21458115},60.922161402302258,null,-1249589,-1049904,0,-2.9778385976977404,null,null,"161","Ludlow",0.63902964746161806,63.9,6.4600000000000005E-2,21458115,-2.9778385976977404]
[162,"Lunenburg",2375083100,7859950.5539916577,603503000,9593666.5898962207,17453617,25340749.793490563,0.68875692875052263,20906119,17453617,68.88,null,14605342,4.2199999999999994E-2,15221687,60.068021364979856,8.8119786350201394,0.02,292107,0,0,0,{"$f":"MIN(H171*parameters!C$22,ROUND(P171+T171-V171+W171,0))","v":15513794},61.220737848826893,null,-2231930,-1939823,0,-7.6592621511731025,null,null,"162","Lunenburg",0.68875692875052263,68.88,4.2199999999999994E-2,15513794,-7.6592621511731025]
[163,"Lynn",14916282200,49363005.673942901,2848350000,45279178.780106977,94642184,398807328.27000004,0.23731305141896858,329016046,94642184,23.73,null,67502992,4.8799999999999996E-2,70797138,17.752215915167188,5.9777840848328125,0.01,675030,0,0,0,{"$f":"MIN(H172*parameters!C$22,ROUND(P172+T172-V172+W172,0))","v":71472168},17.921478100726375,null,-23845046,-23170016,0,-5.8085218992736252,null,null,"163","Lynn",0.23731305141896858,23.73,4.8799999999999996E-2,71472168,-5.8085218992736252]
[164,"Lynnfield",5091925800,16850898.822274644,1386527000,22041112.895692378,38892012,31115411.125705279,1.2499276272737487,25670214,25670214,82.5,null,23807971,3.5200000000000002E-2,24646012,79.208376519374553,3.2916234806254465,0.01,238080,0,0,0,{"$f":"MIN(H173*parameters!C$22,ROUND(P173+T173-V173+W173,0))","v":24884092},79.973527907020269,null,-1024202,-786122,0,-2.5264720929797306,null,null,"164","Lynnfield",1.2499276272737487,82.5,3.5200000000000002E-2,24884092,-2.5264720929797306]
[165,"Malden",11135454000,36850970.745507225,2429643000,38623146.652916759,75474117,138074087.01029971,0.5466204313512496,113911122,75474117,54.66,null,62933236,5.2499999999999998E-2,66237231,47.972238987217779,6.687761012782218,0.01,629332,0,0,0,{"$f":"MIN(H174*parameters!C$22,ROUND(P174+T174-V174+W174,0))","v":66866563},48.428031970265394,null,-9236886,-8607554,0,-6.2319680297346025,null,null,"165","Malden",0.5466204313512496,54.66,5.2499999999999998E-2,66866563,-6.2319680297346025]
[166,"Manchester",3598193300,11907634.483064642,940053000,14943678.919295698,26851313,8654247.1676275339,3.102674615123223,7139754,7139754,82.5,null,7261224,3.4700000000000002E-2,7513188,86.815038379122896,0,0,0,373434,373434,0,{"$f":"MIN(H175*parameters!C$22,ROUND(P175+T175-V175+W175,0))","v":7139754},82.500001001904423,null,0,0,0,1.0019044225373364E-6,null,null,"166","Manchester",3.102674615123223,82.5,3.4700000000000002E-2,7139754,1.0019044225373364E-6]
[167,"Mansfield",5797594100,19186193.088618148,1501212000,23864218.419380326,43050412,49540367.659082115,0.86899661900485858,40870803,40870803,82.5,null,38510832,3.3000000000000002E-2,39781689,80.301561897486081,2.1984381025139186,0,0,0,0,0,{"$f":"MIN(H176*parameters!C$22,ROUND(P176+T176-V176+W176,0))","v":39781689},80.301561897486081,null,-1089114,-1089114,0,-2.1984381025139186,null,null,"167","Mansfield",0.86899661900485858,82.5,3.3000000000000002E-2,39781689,-2.1984381025139186]
[168,"Marblehead",9503624700,31450697.54641166,2374914000,37753139.745248646,69203837,33773690.517988071,2.0490457494759604,27863295,27863295,82.5,null,28143310,5.0700000000000002E-2,29570176,87.553878615221947,0,0,0,1706881,1706881,0,{"$f":"MIN(H177*parameters!C$22,ROUND(P177+T177-V177+W177,0))","v":27863295},82.500000955358558,null,0,0,0,9.5535855848538631E-7,null,null,"168","Marblehead",2.0490457494759604,82.5,5.0700000000000002E-2,27863295,9.5535855848538631E-7]
[169,"Marion",2653297800,8780656.7749207783,406536000,6462554.1891093338,15243211,10283048.117447816,1.4823630917505872,8483515,8483515,82.5,null,8216811,5.4800000000000001E-2,8667092,84.285242089785285,0,0,0,183577,183577,0,{"$f":"MIN(H178*parameters!C$22,ROUND(P178+T178-V178+W178,0))","v":8483515},82.500002947623585,null,0,0,0,2.9476235852143873E-6,null,null,"169","Marion",1.4823630917505872,82.5,5.4800000000000001E-2,8483515,2.9476235852143873E-6]
[170,"Marlborough",9121416700,30185842.442461804,1819950000,28931079.895678442,59116922,112640006.86769904,0.52483059655203668,92928006,59116922,52.48,null,52504469,4.5699999999999991E-2,54903923,48.742826396031056,3.7371736039689409,0.01,525045,0,0,0,{"$f":"MIN(H179*parameters!C$22,ROUND(P179+T179-V179+W179,0))","v":55428968},49.208952965622522,null,-4212999,-3687954,0,-3.2710470343774745,null,null,"170","Marlborough",0.52483059655203668,52.48,4.5699999999999991E-2,55428968,-3.2710470343774745]
[171,"Marshfield",8350383800,27634234.682084579,1779216000,28283546.387356475,55917781,52462209.857400641,1.065867815175763,43281323,43281323,82.5,null,42573124,4.4900000000000002E-2,44484657,84.793715554330049,0,0,0,1203334,1203334,0,{"$f":"MIN(H180*parameters!C$22,ROUND(P180+T180-V180+W180,0))","v":43281323},82.499999747712636,null,0,0,0,-2.5228736433291488E-7,null,null,"171","Marshfield",1.065867815175763,82.5,4.4900000000000002E-2,43281323,-2.5228736433291488E-7]
[172,"Mashpee",10032766100,33201804.798225258,871913000,13860482.24680935,47062287,23171647.138681032,2.0310289863441646,19116609,19116609,82.5,null,19151288,3.6200000000000003E-2,19844565,85.641581201506185,0,0,0,727956,727956,0,{"$f":"MIN(H181*parameters!C$22,ROUND(P181+T181-V181+W181,0))","v":19116609},82.500000477256307,null,0,0,0,4.7725630736294988E-7,null,null,"172","Mashpee",2.0310289863441646,82.5,3.6200000000000003E-2,19116609,4.7725630736294988E-7]
[173,"Mattapoisett",2833849800,9378164.202102717,541289000,8604673.3732530493,17982838,10065493.870559767,1.7865827778801211,8304032,8304032,82.5,null,8369124,4.6300000000000001E-2,8756614,86.996367119272037,0,0,0,452582,452582,0,{"$f":"MIN(H182*parameters!C$22,ROUND(P182+T182-V182+W182,0))","v":8304032},82.499995596720709,null,0,0,0,-4.4032792914094898E-6,null,null,"173","Mattapoisett",1.7865827778801211,82.5,4.6300000000000001E-2,8304032,-4.4032792914094898E-6]
[174,"Maynard",2226654200,7368749.292535428,577851000,9185886.1225845125,16554635,20950650.441997878,0.79017284192830672,17284287,16554635,79.02,null,14707695,4.1799999999999997E-2,15322477,73.136044355379127,5.883955644620869,0.01,147077,0,0,0,{"$f":"MIN(H183*parameters!C$22,ROUND(P183+T183-V183+W183,0))","v":15469554},73.838060745787544,null,-1232158,-1085081,0,-5.1819392542124518,null,null,"174","Maynard",0.79017284192830672,79.02,4.1799999999999997E-2,15469554,-5.1819392542124518]
[175,"Medfield",4104880400,13584432.887442758,1490814000,23698925.214206964,37283358,32290598.461811595,1.1546196037243808,26639744,26639744,82.5,null,25856153,4.0899999999999999E-2,26913670,83.3483158629884,0,0,0,273926,273926,0,{"$f":"MIN(H184*parameters!C$22,ROUND(P184+T184-V184+W184,0))","v":26639744},82.500000833076641,null,0,0,0,8.3307664056064823E-7,null,null,"175","Medfield",1.1546196037243808,82.5,4.0899999999999999E-2,26639744,8.3307664056064823E-7]
[176,"Medford",16462758900,54480818.349592097,3344661000,53168853.328366026,107649672,80126099.611029997,1.3435032095981514,66104032,66104032,82.5,null,60826753,4.5100000000000001E-2,63570040,79.337494659791318,3.162505340208682,0.01,608268,0,0,0,{"$f":"MIN(H185*parameters!C$22,ROUND(P185+T185-V185+W185,0))","v":64178308},80.096633071560802,null,-2533992,-1925724,0,-2.4033669284391976,null,null,"176","Medford",1.3435032095981514,82.5,4.5100000000000001E-2,64178308,-2.4033669284391976]
[177,"Medway",3638444900,12040840.595187224,965849000,15353748.501970455,27394589,32586293.487025969,0.84067827508234361,26883692,26883692,82.5,null,23083211,4.3400000000000001E-2,24085022,73.911511321744229,8.5884886782557714,0.02,461664,0,0,0,{"$f":"MIN(H186*parameters!C$22,ROUND(P186+T186-V186+W186,0))","v":24546686},75.328254223737076,null,-2798670,-2337006,0,-7.1717457762629238,null,null,"177","Medway",0.84067827508234361,82.5,4.3400000000000001E-2,24546686,-7.1717457762629238]
[178,"Melrose",8147203900,26961843.906551309,2070811000,32918925.514354665,59880769,58007257.10680186,1.0322978879995768,47855987,47855987,82.5,null,44780337,3.4099999999999998E-2,46307346,79.830263159555699,2.6697368404443012,0.01,447803,0,0,0,{"$f":"MIN(H187*parameters!C$22,ROUND(P187+T187-V187+W187,0))","v":46755149},80.602240705702229,null,-1548641,-1100838,0,-1.8977592942977708,null,null,"178","Melrose",1.0322978879995768,82.5,3.4099999999999998E-2,46755149,-1.8977592942977708]
[179,"Mendon",1568183900,5189649.1173575353,425255000,6760123.2896710001,11949772,12920379.454906574,0.92487779029291739,10659313,10659313,82.5,null,10218586,5.2000000000000005E-2,10749952,83.201519255052958,0,0,0,90639,90639,0,{"$f":"MIN(H188*parameters!C$22,ROUND(P188+T188-V188+W188,0))","v":10659313},82.499999610708628,null,0,0,0,-3.8929137247123435E-7,null,null,"179","Mendon",0.92487779029291739,82.5,5.2000000000000005E-2,10659313,-3.8929137247123435E-7]
[180,"Merrimac",1430054300,4732531.7112159785,360283000,5727287.1551716896,10459819,11977873.161371814,0.87326179356553202,9881745,9881745,82.5,null,8646297,4.1099999999999998E-2,9001660,75.152407098699385,7.3475929013006152,0.01,86463,0,0,0,{"$f":"MIN(H189*parameters!C$22,ROUND(P189+T189-V189+W189,0))","v":9088123},75.874263131361673,null,-880085,-793622,0,-6.6257368686383273,null,null,"180","Merrimac",0.87326179356553202,82.5,4.1099999999999998E-2,9088123,-6.6257368686383273]
[181,"Methuen",9604259400,31783731.689939432,2101880000,33412818.050566558,65196550,138186030.55025327,0.47180275560698132,114003475,65196550,47.18,null,54653359,4.5100000000000001E-2,57118225,41.334297520926448,5.8457024790735517,0.01,546534,0,0,0,{"$f":"MIN(H190*parameters!C$22,ROUND(P190+T190-V190+W190,0))","v":57664759},41.729803490541258,null,-8078325,-7531791,0,-5.4501965094587419,null,null,"181","Methuen",0.47180275560698132,47.18,4.5100000000000001E-2,57664759,-5.4501965094587419]
[182,"Middleborough",4420834200,14630030.51109886,1010331000,16060862.596269511,30690893,52378170.437363259,0.58594816779066161,43211991,30690893,58.59,null,27126252,4.0500000000000001E-2,28224865,53.886695095150124,4.7033049048498796,0.01,271263,0,0,0,{"$f":"MIN(H191*parameters!C$22,ROUND(P191+T191-V191+W191,0))","v":28496128},54.404588327645506,null,-2466028,-2194765,0,-4.1854116723544976,null,null,"182","Middleborough",0.58594816779066161,58.59,4.0500000000000001E-2,28496128,-4.1854116723544976]
[183,"Middlefield",84579300,279901.41308791534,9913000,157583.33745754577,437485,360348.40472482058,1.2140611537716801,297287,297287,82.5,null,301524,4.8000000000000001E-2,315997,87.692076850266773,0,0,0,18710,18710,0,{"$f":"MIN(H192*parameters!C$22,ROUND(P192+T192-V192+W192,0))","v":297287},82.499879589316535,null,0,0,0,-1.2041068346491102E-4,null,null,"183","Middlefield",1.2140611537716801,82.5,4.8000000000000001E-2,297287,-1.2041068346491102E-4]
[184,"Middleton",3413509300,11296452.87509758,778907000,12381999.861701259,23678453,16954385.566675317,1.3965975296999953,13987368,13987368,82.5,null,13808973,4.1700000000000001E-2,14384807,84.844165796689495,0,0,0,397439,397439,0,{"$f":"MIN(H193*parameters!C$22,ROUND(P193+T193-V193+W193,0))","v":13987368},82.499999454376351,null,0,0,0,-5.4562364937282837E-7,null,null,"184","Middleton",1.3965975296999953,82.5,4.1700000000000001E-2,13987368,-5.4562364937282837E-7]
[185,"Milford",5647615100,18689862.023765251,1255923000,19964948.847946458,38654811,90663740.190224007,0.4263535887544162,74797586,38654811,42.64,null,33289868,4.8500000000000008E-2,34904427,38.498772416366336,4.1412275836336647,0.01,332899,0,0,0,{"$f":"MIN(H194*parameters!C$22,ROUND(P194+T194-V194+W194,0))","v":35237326},38.865952282651946,null,-3750384,-3417485,0,-3.7740477173480542,null,null,"185","Milford",0.4263535887544162,42.64,4.8500000000000008E-2,35237326,-3.7740477173480542]
[186,"Millbury",2762065900,9140607.0805970803,641167000,10192397.430408781,19333005,25931162.513712,0.74555103303899328,21393209,19333005,74.56,null,16397235,4.6500000000000007E-2,17159706,66.17407141282699,8.3859285871730123,0.02,327945,0,0,0,{"$f":"MIN(H195*parameters!C$22,ROUND(P195+T195-V195+W195,0))","v":17487651},67.438746684622402,null,-2173299,-1845354,0,-7.1212533153776008,null,null,"186","Millbury",0.74555103303899328,74.56,4.6500000000000007E-2,17487651,-7.1212533153776008]
[187,"Millis",2230073300,7380064.246921299,578544000,9196902.4902691767,16576967,16760392.814158102,0.98905599551323431,13827324,13827324,82.5,null,13215521,6.0899999999999996E-2,14020346,83.651655157846378,0,0,0,193022,193022,0,{"$f":"MIN(H196*parameters!C$22,ROUND(P196+T196-V196+W196,0))","v":13827324},82.499999572322466,null,0,0,0,-4.2767753427597199E-7,null,null,"187","Millis",0.98905599551323431,82.5,6.0899999999999996E-2,13827324,-4.2767753427597199E-7]
[188,"Millville",476197900,1575899.3644957787,131801000,2095192.3192012496,3671092,6224121.4611930232,0.58981689590876574,5134900,3671092,58.98,null,3096722,3.0499999999999999E-2,3191172,51.27104314876793,7.7089568512320668,0.02,61934,0,0,0,{"$f":"MIN(H197*parameters!C$22,ROUND(P197+T197-V197+W197,0))","v":3253106},52.266107277675992,null,-479920,-417986,0,-6.7138927223240046,null,null,"188","Millville",0.58981689590876574,58.98,3.0499999999999999E-2,3253106,-6.7138927223240046]
[189,"Milton",9321873200,30849220.569410805,3090730000,49132205.041880399,79981426,62211564.455050774,1.2856359858590012,51324541,51324541,82.5,null,47688970,3.3700000000000001E-2,49296088,79.239428282851676,3.2605717171483235,0.01,476890,0,0,0,{"$f":"MIN(H198*parameters!C$22,ROUND(P198+T198-V198+W198,0))","v":49772978},80.005989940925005,null,-2028453,-1551563,0,-2.494010059074995,null,null,"189","Milton",1.2856359858590012,82.5,3.3700000000000001E-2,49772978,-2.494010059074995]
[190,"Monroe",34088300,112809.67494132472,730000,11604.5431598919,124414,355360.50521514128,0.35010643606744551,293172,124414,35.01,null,120717,2.3799999999999998E-2,123590,34.778766403761303,0.23123359623869533,0,0,0,0,0,{"$f":"MIN(H199*parameters!C$22,ROUND(P199+T199-V199+W199,0))","v":123590},34.778766403761303,null,-824,-824,0,-0.23123359623869533,null,null,"190","Monroe",0.35010643606744551,35.01,2.3799999999999998E-2,123590,-0.23123359623869533]
[191,"Monson",1167651300,3864151.7352820532,316646000,5033605.7169960691,8897757,14524435.818499999,0.61260603242618128,11982660,8897757,61.26,null,8066515,3.44E-2,8344003,57.448035188892597,3.8119648111074014,0.01,80665,0,0,0,{"$f":"MIN(H200*parameters!C$22,ROUND(P200+T200-V200+W200,0))","v":8424668},58.003409600732098,null,-553754,-473089,0,-3.2565903992678997,null,null,"191","Monson",0.61260603242618128,61.26,3.44E-2,8424668,-3.2565903992678997]
[192,"Montague",1280098500,4236277.4229831742,247760000,3938550.1551983794,8174828,15583792.43107019,0.52457243871533055,12856629,8174828,52.46,null,7345739,3.4799999999999998E-2,7601371,48.777414314405043,3.6825856855949581,0.01,73457,0,0,0,{"$f":"MIN(H201*parameters!C$22,ROUND(P201+T201-V201+W201,0))","v":7674828},49.248782245702337,null,-573457,-500000,0,-3.2112177542976639,null,null,"192","Montague",0.52457243871533055,52.46,3.4799999999999998E-2,7674828,-3.2112177542976639]
[193,"Monterey",720562200,2384583.2017732128,56874000,904105.18859683827,3288688,1190578.5686365804,2.7622603720862537,{"$f":"ROUND(H202*maxloc,0)","v":982227},982227,82.5,null,1038279,4.24E-2,1082302,90.905550335869407,0,0,0,100075,{"$f":"MAX(U202*(V$5),0)","v":100075},0,{"$f":"MIN(H202*parameters!C$22,ROUND(P202+T202-V202+W202,0))","v":982227},82.499973195790076,null,0,0,0,-2.6804209923625422E-5,null,null,"193","Monterey",2.7622603720862537,{"$f":"L202","v":82.5},4.24E-2,{"$f":"X202","v":982227},-2.6804209923625422E-5]
[194,"Montgomery",158853200,{"$f":"D$5*C203","v":525698.78390501265},33882000,538609.76896364021,{"$f":"ROUND(D203+F203,0)","v":1064309},{"$f":"(SUMIF(town1755,A203,found1755)/2)","v":1254461.7057684357},{"$f":"IF(H203=0,0,G203/H203)","v":0.84841888365818596},1034931,{"$f":"MIN(G203,J203)","v":1034931},{"$f":"IF(H203>0, ROUND((K203*100/H203), 2), 0)","v":82.5},null,899143,0.02,{"$f":"ROUND(N203*(1+O203),0)","v":917126},{"$f":"IF(H203=0,0,P203*100/H203)","v":73.109126869536709},{"$f":"IF(L203>Q203,L203-Q203,0)","v":9.3908731304632909},{"$f":"IF(AND(R203>$T$4,R203<=$T$5),$S$4,IF(R203>$T$5,$S$5,0))","v":0.02},{"$f":"ROUND(S203*N203,0)","v":17983},{"$f":"MAX(P203-K203,0)","v":0},0,{"$f":"IF(AND(I203>1.75,$W$5=1),MAX(K203-(P203+T203),0),0)","v":0},{"$f":"MIN(H203*parameters!C$22,ROUND(P203+T203-V203+W203,0))","v":935109},{"$f":"IF(H203=0,0,X203*100/H203)","v":74.542650102434791},null,{"$f":"IF(Q203<L203, P203-K203, 0)","v":-117805},{"$f":"-1*MAX(K203-(P203+T203+W203),0)","v":-99822},{"$f":"IF(Q203>L203, X203-K203,0)","v":0},{"$f":"Y203-L203","v":-7.9573498975652086},null,null,{"$f":"TEXT(A203,\"000\")","v":"194"},{"$f":"B203","v":"Montgomery"},{"$f":"I203","v":0.84841888365818596},82.5,{"$f":"O203","v":0.02},935109,{"$f":"AD203","v":-7.9573498975652086}]
[195,"Mount Washington",120785500,399719.93301588448,11263000,{"$f":"E204*F$5","v":179043.79398611296},578764,54677.719999999994,10.585006104863188,45109,45109,82.5,null,41671,3.5700000000000003E-2,43159,78.933430289339071,3.5665697106609286,0.01,417,0,0,1533,{"$f":"MIN(H204*parameters!C$22,ROUND(P204+T204-V204+W204,0))","v":45109},82.499782361078715,null,-1950,0,0,-2.176389212849017E-4,null,null,"195","Mount Washington",10.585006104863188,82.5,3.5700000000000003E-2,45109,-2.176389212849017E-4]
[196,"Nahant",1464847700,4847674.7997273887,249773000,3970550.080377643,8818225,3546240.4058821141,2.4866404954873609,2925648,2925648,82.5,null,2795684,3.61E-2,2896608,81.681095145028095,0.81890485497190468,0,0,0,0,29040,{"$f":"MIN(H205*parameters!C$22,ROUND(P205+T205-V205+W205,0))","v":2925648},82.499990557528378,null,-29040,0,0,-9.4424716223784344E-6,null,null,"196","Nahant",2.4866404954873609,82.5,3.61E-2,2925648,-9.4424716223784344E-6]
[197,"Nantucket",40700588900,134691967.73466229,1329425000,21133383.274437383,155825351,27241613.429999992,5.7201219524096318,22474331,22474331,82.5,null,22366124,5.8099999999999999E-2,23665596,86.872960226130061,0,0,0,1191265,1191265,0,{"$f":"MIN(H206*parameters!C$22,ROUND(P206+T206-V206+W206,0))","v":22474331},82.499999707249373,null,0,0,0,-2.9275062729539059E-7,null,null,"197","Nantucket",5.7201219524096318,82.5,5.8099999999999999E-2,22474331,-2.9275062729539059E-7]
[198,"Natick",12641524500,41835065.685522377,2903978000,46163476.762159668,87998542,74226545.152465045,1.1855400493077859,61236900,61236900,82.5,null,57881999,4.99E-2,60770311,81.871399073168149,0.62860092683185087,0,0,0,0,0,{"$f":"MIN(H207*parameters!C$22,ROUND(P207+T207-V207+W207,0))","v":60770311},81.871399073168149,null,-466589,-466589,0,-0.62860092683185087,null,null,"198","Natick",1.1855400493077859,82.5,4.99E-2,60770311,-0.62860092683185087]
[199,"Needham",14275936100,47243884.585741229,4577470000,72766367.367274493,120010252,78457157.574210584,1.5296278339740441,64727155,64727155,82.5,null,62617230,5.6899999999999992E-2,66180150,84.351959778050741,0,0,0,1452995,1452995,0,{"$f":"MIN(H208*parameters!C$22,ROUND(P208+T208-V208+W208,0))","v":64727155},82.500000001626702,null,0,0,0,1.6267023283944582E-9,null,null,"199","Needham",1.5296278339740441,82.5,5.6899999999999992E-2,64727155,1.6267023283944582E-9]
[200,"New Ashford",59293400,196221.84679687585,7669000,121911.28971672738,318133,136849.65999999997,2.3246897361674121,112901,112901,82.5,null,101535,5.2499999999999998E-2,106866,78.090073442637717,4.409926557362283,0.01,1015,0,0,5020,{"$f":"MIN(H209*parameters!C$22,ROUND(P209+T209-V209+W209,0))","v":112901},82.500022287231133,null,-6035,0,0,2.2287231132622765E-5,null,null,"200","New Ashford",2.3246897361674121,82.5,5.2499999999999998E-2,112901,2.2287231132622765E-5]
[201,"New Bedford",11130331800,36834019.659152538,2361678000,37542731.891461894,74376752,358769038.64001584,0.20731095493061391,295984457,74376752,20.73,null,46406172,5.33E-2,48879621,13.62425843246891,7.1057415675310907,0.01,464062,0,0,0,{"$f":"MIN(H210*parameters!C$22,ROUND(P210+T210-V210+W210,0))","v":49343683},13.753606829353746,null,-25497131,-25033069,0,-6.9763931706462543,null,null,"201","New Bedford",0.20731095493061391,20.73,5.33E-2,49343683,-6.9763931706462543]
[202,"New Braintree",180575900,597586.52033797977,49995000,794752.24010793911,1392339,1831133.270164568,0.76037010669074212,1510685,1392339,76.040000000000006,null,1188171,4.3400000000000001E-2,1239738,67.703319042888779,8.336680957111227,0.02,23763,0,0,0,{"$f":"MIN(H211*parameters!C$22,ROUND(P211+T211-V211+W211,0))","v":1263501},69.001039989101741,null,-152601,-128838,0,-7.0389600108982648,null,null,"202","New Braintree",0.76037010669074212,76.040000000000006,4.3400000000000001E-2,1263501,-7.0389600108982648]
[203,"Newbury",2798995100,9262818.2512287404,585944000,9314537.5853146575,18577356,9436138.7982752807,1.9687455215681582,7784815,7784815,82.5,null,7643928,3.7400000000000003E-2,7929811,84.036608294161539,0,0,0,144996,144996,0,{"$f":"MIN(H212*parameters!C$22,ROUND(P212+T212-V212+W212,0))","v":7784815},82.500005207881145,null,0,0,0,5.2078811449973728E-6,null,null,"203","Newbury",1.9687455215681582,82.5,3.7400000000000003E-2,7784815,5.2078811449973728E-6]
[204,"Newburyport",7410005500,24522205.911366314,1526927000,24273000.374663368,48795206,27823701.10116525,1.7537280832116353,22954553,22954553,82.5,null,22689834,3.5400000000000001E-2,23493054,84.435402445493196,0,0,0,538501,538501,0,{"$f":"MIN(H213*parameters!C$22,ROUND(P213+T213-V213+W213,0))","v":22954553},82.499998531966213,null,0,0,0,-1.4680337869776849E-6,null,null,"204","Newburyport",1.7537280832116353,82.5,3.5400000000000001E-2,22954553,-1.4680337869776849E-6]
[205,"New Marlborough",824064700,2727107.8621585784,68427000,1087759.0065779767,3814867,1709548.7138413903,2.2315052909068132,1410378,1410378,82.5,null,1412542,4.2700000000000002E-2,1472858,86.154783895596537,0,0,0,62480,62480,0,{"$f":"MIN(H214*parameters!C$22,ROUND(P214+T214-V214+W214,0))","v":1410378},82.500018196665025,null,0,0,0,1.8196665024561298E-5,null,null,"205","New Marlborough",2.2315052909068132,82.5,4.2700000000000002E-2,1410378,1.8196665024561298E-5]
[206,"New Salem",177513700,587452.66835341835,32337000,514049.46871427994,1101502,1452787.7091090691,0.7581988704154875,1198550,1101502,75.819999999999993,null,912653,2.64E-2,936747,64.479276230555797,11.340723769444196,0.02,18253,0,0,0,{"$f":"MIN(H215*parameters!C$22,ROUND(P215+T215-V215+W215,0))","v":955000},65.735688291695396,null,-164755,-146502,0,-10.084311708304597,null,null,"206","New Salem",0.7581988704154875,75.819999999999993,2.64E-2,955000,-10.084311708304597]
[207,"Newton",44546079500,147417992.34063911,15168938000,241135062.61743057,388553055,169131329.11532003,2.2973452466341708,139533347,139533347,82.5,null,135179915,4.1099999999999998E-2,140735810,83.21096436488186,0,0,0,1202463,1202463,0,{"$f":"MIN(H216*parameters!C$22,ROUND(P216+T216-V216+W216,0))","v":139533347},82.500000283720922,null,0,0,0,2.837209223116588E-7,null,null,"207","Newton",2.2973452466341708,82.5,4.1099999999999998E-2,139533347,2.837209223116588E-7]
[208,"Norfolk",2848134600,9425437.4203213379,880672000,13999720.868093587,23425158,24790906.357941933,0.94490930108715421,20452498,20452498,82.5,null,18859736,4.2099999999999999E-2,19653731,79.277984903943604,3.2220150960563956,0.01,188597,0,0,0,{"$f":"MIN(H217*parameters!C$22,ROUND(P217+T217-V217+W217,0))","v":19842328},80.038735629540128,null,-798767,-610170,0,-2.4612643704598725,null,null,"208","Norfolk",0.94490930108715421,82.5,4.2099999999999999E-2,19842328,-2.4612643704598725]
[209,"North Adams",1043247700,3452458.2898027957,276377000,4393464.1437006081,7845922,26350109.250822708,0.29775671612272475,21738840,7845922,29.78,null,6996597,4.2500000000000003E-2,7293952,27.680917489069866,2.0990825109301348,0,0,0,0,0,{"$f":"MIN(H218*parameters!C$22,ROUND(P218+T218-V218+W218,0))","v":7293952},27.680917489069866,null,-551970,-551970,0,-2.0990825109301348,null,null,"209","North Adams",0.29775671612272475,29.78,4.2500000000000003E-2,7293952,-2.0990825109301348]
[210,"Northampton",5357739600,17730566.285096735,1398135000,22225641.028569125,39956207,41410512.960000008,0.96488075476377755,34163673,34163673,82.5,null,33781273,6.5500000000000003E-2,35993946,86.919826457517985,0,0,0,1830273,1830273,0,{"$f":"MIN(H219*parameters!C$22,ROUND(P219+T219-V219+W219,0))","v":34163673},82.499999536349605,null,0,0,0,-4.6365039452211931E-7,null,null,"210","Northampton",0.96488075476377755,82.5,6.5500000000000003E-2,34163673,-4.6365039452211931E-7]
[211,"North Andover",8645197100,28609871.265351545,2237653000,35571151.80186519,64181023,65044344.574757554,0.98672718465530374,53661584,53661584,82.5,null,50810421,7.4700000000000003E-2,54605959,83.951893676535732,0,0,0,944375,944375,0,{"$f":"MIN(H220*parameters!C$22,ROUND(P220+T220-V220+W220,0))","v":53661584},82.499999578479901,null,0,0,0,-4.215200988255674E-7,null,null,"211","North Andover",0.98672718465530374,82.5,7.4700000000000003E-2,53661584,-4.215200988255674E-7]
[212,"North Attleborough",6085386300,20138594.485362738,1590661000,25286156.475694258,45424751,58950972.658813551,0.77055134039775175,48634552,45424751,77.06,null,40164984,3.5700000000000003E-2,41598874,70.565203802079594,6.4947961979204081,0.01,401650,0,0,0,{"$f":"MIN(H221*parameters!C$22,ROUND(P221+T221-V221+W221,0))","v":42000524},71.246532679084893,null,-3825877,-3424227,0,-5.8134673209151089,null,null,"212","North Attleborough",0.77055134039775175,77.06,3.5700000000000003E-2,42000524,-5.8134673209151089]
[213,"Northborough",4541082800,15027973.661040317,1194306000,18985445.922079254,34013420,34939282.161013491,0.97350082475230126,28824908,28824908,82.5,null,27154547,3.95E-2,28227152,80.789158374572651,1.7108416254273493,0,0,0,0,0,{"$f":"MIN(H222*parameters!C$22,ROUND(P222+T222-V222+W222,0))","v":28227152},80.789158374572651,null,-597756,-597756,0,-1.7108416254273493,null,null,"213","Northborough",0.97350082475230126,82.5,3.95E-2,28227152,-1.7108416254273493]
[214,"Northbridge",2765026100,9150403.3802002091,783351000,12452644.505266411,21603048,33421920.436751995,0.64637362897448825,27573084,21603048,64.64,null,17838727,4.1700000000000001E-2,18582602,55.600042598287907,9.0399574017120941,0.02,356775,0,0,0,{"$f":"MIN(H223*parameters!C$22,ROUND(P223+T223-V223+W223,0))","v":18939377},56.667530628113013,null,-3020446,-2663671,0,-7.9724693718869872,null,null,"214","Northbridge",0.64637362897448825,64.64,4.1700000000000001E-2,18939377,-7.9724693718869872]
[215,"North Brookfield",675044400,2233949.4587574499,174436000,2772945.3296423336,5006895,10037863.096020224,0.4988008854180444,8281237,5006895,49.88,null,4230428,4.2299999999999997E-2,4409375,43.927427160749119,5.9525728392508839,0.01,42304,0,0,0,{"$f":"MIN(H224*parameters!C$22,ROUND(P224+T224-V224+W224,0))","v":4451679},44.348871442219469,null,-597520,-555216,0,-5.5311285577805336,null,null,"215","North Brookfield",0.4988008854180444,49.88,4.2299999999999997E-2,4451679,-5.5311285577805336]
[216,"Northfield",689983900,2283389.2999576833,110884000,1762682.4160841827,4046072,4692373.2424542625,0.86226559374969369,3871208,3871208,82.5,null,3644939,3.78E-2,3782718,80.614175483225551,1.8858245167744485,0,0,0,0,0,{"$f":"MIN(H225*parameters!C$22,ROUND(P225+T225-V225+W225,0))","v":3782718},80.614175483225551,null,-88490,-88490,0,-1.8858245167744485,null,null,"216","Northfield",0.86226559374969369,82.5,3.78E-2,3782718,-1.8858245167744485]
[217,"North Reading",5003201100,16557278.883284828,1349440000,21451554.413266473,38008833,33428322.265598293,1.1370248467155528,27578366,27578366,82.5,null,25457803,7.9299999999999995E-2,27476607,82.195590857626399,0.30440914237360062,0,0,0,0,0,{"$f":"MIN(H226*parameters!C$22,ROUND(P226+T226-V226+W226,0))","v":27476607},82.195590857626399,null,-101759,-101759,0,-0.30440914237360062,null,null,"217","North Reading",1.1370248467155528,82.5,7.9299999999999995E-2,27476607,-0.30440914237360062]
[218,"Norton",3923573500,12984427.241704505,929526000,14776335.048276272,27760762,33279640.799155548,0.8341665154241813,27455704,27455704,82.5,null,25449121,4.9699999999999994E-2,26713942,80.271124803359811,2.228875196640189,0,0,0,0,0,{"$f":"MIN(H227*parameters!C$22,ROUND(P227+T227-V227+W227,0))","v":26713942},80.271124803359811,null,-741762,-741762,0,-2.228875196640189,null,null,"218","Norton",0.8341665154241813,82.5,4.9699999999999994E-2,26713942,-2.228875196640189]
[219,"Norwell",4286721500,14186206.38104534,1368852000,21760139.881512802,35946346,29064902.803108126,1.2367612664493752,23978545,23978545,82.5,null,23331145,3.5299999999999998E-2,24154734,83.106192247155747,0,0,0,176189,176189,0,{"$f":"MIN(H228*parameters!C$22,ROUND(P228+T228-V228+W228,0))","v":23978545},82.500000644887052,null,0,0,0,6.4488705220355769E-7,null,null,"219","Norwell",1.2367612664493752,82.5,3.5299999999999998E-2,23978545,6.4488705220355769E-7]
[220,"Norwood",8244418000,27283558.1316876,1853578000,29465651.919487819,56749210,64009104.529219531,0.88658028287357993,52807511,52807511,82.5,null,42966877,4.4299999999999999E-2,44870310,70.09988708640212,12.40011291359788,0.02,859338,0,0,0,{"$f":"MIN(H229*parameters!C$22,ROUND(P229+T229-V229+W229,0))","v":45729648},71.442411726170704,null,-7937201,-7077863,0,-11.057588273829296,null,null,"220","Norwood",0.88658028287357993,82.5,4.4299999999999999E-2,45729648,-11.057588273829296]
[221,"Oak Bluffs",6435042000,21295723.056115206,186992000,2972543.471992474,24268267,9946231.8616786953,2.4399458345126566,8205641,8205641,82.5,null,8428950,5.7200000000000001E-2,8911086,89.592582637582041,0,0,0,705445,705445,0,{"$f":"MIN(H230*parameters!C$22,ROUND(P230+T230-V230+W230,0))","v":8205641},82.499997125696169,null,0,0,0,-2.8743038313905345E-6,null,null,"221","Oak Bluffs",2.4399458345126566,82.5,5.7200000000000001E-2,8205641,-2.8743038313905345E-6]
[222,"Oakham",338604900,1120557.7486275278,86808000,1379955.0446902686,2500513,3869490.3886071527,0.64621248507612272,3192330,2500513,64.62,null,2078918,2.8300000000000002E-2,2137751,55.246318902719821,9.3736810972801834,0.02,41578,0,0,0,{"$f":"MIN(H231*parameters!C$22,ROUND(P231+T231-V231+W231,0))","v":2179329},56.320827321772029,null,-362762,-321184,0,-8.2991726782279756,null,null,"222","Oakham",0.64621248507612272,64.62,2.8300000000000002E-2,2179329,-8.2991726782279756]
[223,"Orange",876477100,2900558.1605569934,197576000,3140793.4511764413,6041352,19573184.758774418,0.30865452272869065,16147877,6041352,30.87,null,5040138,3.1800000000000002E-2,5200414,26.569074292668279,4.3009257073317215,0.01,50401,0,0,0,{"$f":"MIN(H232*parameters!C$22,ROUND(P232+T232-V232+W232,0))","v":5250815},26.826574544268396,null,-840938,-790537,0,-4.0434254557316045,null,null,"223","Orange",0.30865452272869065,30.87,3.1800000000000002E-2,5250815,-4.0434254557316045]
[224,"Orleans",6720681000,22240998.788274486,452405000,7191716.9154121848,29432716,6556976.5559213683,4.4887633422175925,5409506,5409506,82.5,null,5322273,5.7299999999999997E-2,5627239,85.820636264411291,0,0,0,217733,217733,0,{"$f":"MIN(H233*parameters!C$22,ROUND(P233+T233-V233+W233,0))","v":5409506},82.500005206132258,null,0,0,0,5.206132257740137E-6,null,null,"224","Orleans",4.4887633422175925,82.5,5.7299999999999997E-2,5409506,5.206132257740137E-6]
[225,"Otis",882749000,2921313.9917443651,80046000,1272462.0024338453,4193776,1741602.4955459803,2.4079983869598673,1436822,1436822,82.5,null,1639083,2.7400000000000001E-2,1683994,96.692213309678309,0,0,0,247172,247172,0,{"$f":"MIN(H234*parameters!C$22,ROUND(P234+T234-V234+W234,0))","v":1436822},82.499996622338685,null,0,0,0,-3.3776613150848789E-6,null,null,"225","Otis",2.4079983869598673,82.5,2.7400000000000001E-2,1436822,-3.3776613150848789E-6]
[226,"Oxford",2263065900,7489247.8812318733,533184000,8475831.1509093195,15965079,26522270.212400552,0.60194994139436409,21880873,15965079,60.19,null,13767626,3.5499999999999997E-2,14256377,53.752476261758304,6.4375237382416941,0.01,137676,0,0,0,{"$f":"MIN(H235*parameters!C$22,ROUND(P235+T235-V235+W235,0))","v":14394053},54.271572096682831,null,-1708702,-1571026,0,-5.9184279033171663,null,null,"226","Oxford",0.60194994139436409,60.19,3.5499999999999997E-2,14394053,-5.9184279033171663]
[227,"Palmer",1412224600,4673527.2240077183,389789000,6196333.2517138403,10869860,25066532.480250001,0.43364035327041728,20679889,10869860,43.36,null,9701719,5.3699999999999998E-2,10222701,40.782270176597017,2.5777298234029828,0.01,97017,0,0,0,{"$f":"MIN(H236*parameters!C$22,ROUND(P236+T236-V236+W236,0))","v":10319718},41.169308152736875,null,-647159,-550142,0,-2.1906918472631247,null,null,"227","Palmer",0.43364035327041728,43.36,5.3699999999999998E-2,10319718,-2.1906918472631247]
[228,"Paxton",837648000,2772059.580420577,248656000,3952793.5396795622,6724853,9263411.9431292228,0.72595853895798079,7642315,6724853,72.599999999999994,null,5843893,3.1699999999999999E-2,6029144,65.085564984205249,7.5144350157947457,0.02,116878,0,0,0,{"$f":"MIN(H237*parameters!C$22,ROUND(P237+T237-V237+W237,0))","v":6146022},66.347281517136608,null,-695709,-578831,0,-6.2527184828633864,null,null,"228","Paxton",0.72595853895798079,72.599999999999994,3.1699999999999999E-2,6146022,-6.2527184828633864]
[229,"Peabody",12011538400,39750229.329395704,2283904000,36306387.042533904,76056616,111956423.26192982,0.67934124531703077,92364049,76056616,67.930000000000007,null,66314405,3.5499999999999997E-2,68668566,61.335083775716129,6.5949162242838781,0.01,663144,0,0,0,{"$f":"MIN(H238*parameters!C$22,ROUND(P238+T238-V238+W238,0))","v":69331710},61.92740709284152,null,-7388050,-6724906,0,-6.0025929071584869,null,null,"229","Peabody",0.67934124531703077,67.930000000000007,3.5499999999999997E-2,69331710,-6.0025929071584869]
[230,"Pelham",264852700,876486.85896135017,61930000,984478.5724549389,1860965,2365410.202256701,0.78674092054923961,1951463,1860965,78.67,null,1523422,2.75E-2,1565316,66.175245143807302,12.494754856192699,0.02,30468,0,0,0,{"$f":"MIN(H239*parameters!C$22,ROUND(P239+T239-V239+W239,0))","v":1595784},67.46330925932233,null,-295649,-265181,0,-11.206690740677672,null,null,"230","Pelham",0.78674092054923961,78.67,2.75E-2,1595784,-11.206690740677672]
[231,"Pembroke",4343610600,14374471.5887179,1044691000,16607070.956507711,30981543,34261298.371089995,0.90427229769384676,28265571,28265571,82.5,null,26492804,4.6100000000000002E-2,27714122,80.890460425123393,1.6095395748766066,0,0,0,0,0,{"$f":"MIN(H240*parameters!C$22,ROUND(P240+T240-V240+W240,0))","v":27714122},80.890460425123393,null,-551449,-551449,0,-1.6095395748766066,null,null,"231","Pembroke",0.90427229769384676,82.5,4.6100000000000002E-2,27714122,-1.6095395748766066]
[232,"Pepperell",2114511400,6997630.9670392899,605828000,9630626.2650287524,16628257,23772069.144137885,0.6994871544070228,19611957,16628257,69.95,null,13976714,4.5600000000000002E-2,14614052,61.475725614754815,8.4742743852451881,0.02,279534,0,0,0,{"$f":"MIN(H241*parameters!C$22,ROUND(P241+T241-V241+W241,0))","v":14893586},62.651618206624264,null,-2014205,-1734671,0,-7.2983817933757393,null,null,"232","Pepperell",0.6994871544070228,69.95,4.5600000000000002E-2,14893586,-7.2983817933757393]
[233,"Peru",133375000,441382.83209485904,21514000,342000.19389303331,783383,1458055.9179114143,0.53727911966651698,1202896,783383,53.73,null,699947,4.1099999999999998E-2,728715,49.978535874251278,3.7514641257487185,0.01,6999,0,0,0,{"$f":"MIN(H242*parameters!C$22,ROUND(P242+T242-V242+W242,0))","v":735714},50.458558616453494,null,-54668,-47669,0,-3.2714413835465024,null,null,"233","Peru",0.53727911966651698,53.73,4.1099999999999998E-2,735714,-3.2714413835465024]
[234,"Petersham",254866000,843437.50241565763,57860000,919779.27017992514,1763217,2639746.2117240657,0.66794943853652178,2177791,1763217,66.790000000000006,null,1378110,4.3099999999999999E-2,1437507,54.45625771202976,12.333742287970246,0.02,27562,0,0,0,{"$f":"MIN(H243*parameters!C$22,ROUND(P243+T243-V243+W243,0))","v":1465069},55.50037323637779,null,-325710,-298148,0,-11.289626763622216,null,null,"234","Petersham",0.66794943853652178,66.790000000000006,4.3099999999999999E-2,1465069,-11.289626763622216]
[235,"Phillipston",354552900,1173335.056265757,77670000,1234691.5989435669,2408027,3435937.8504182156,0.70083543557311423,2834649,2408027,70.08,null,1872073,2.53E-2,1919436,55.863524998462069,14.21647500153793,0.02,37441,0,0,0,{"$f":"MIN(H244*parameters!C$22,ROUND(P244+T244-V244+W244,0))","v":1956877},56.953212927347124,null,-488591,-451150,0,-13.126787072652874,null,null,"235","Phillipston",0.70083543557311423,70.08,2.53E-2,1956877,-13.126787072652874]
[236,"Pittsfield",5177413000,17133804.782491025,1447071000,23003558.732777987,40137364,102927840.99999999,0.38995633844102495,84915469,40137364,39,null,35574534,4.4199999999999996E-2,37146928,36.090262497588,2.9097375024119998,0.01,355745,0,0,0,{"$f":"MIN(H245*parameters!C$22,ROUND(P245+T245-V245+W245,0))","v":37502673},36.435888128655108,null,-2990436,-2634691,0,-2.5641118713448918,null,null,"236","Pittsfield",0.38995633844102495,39,4.4199999999999996E-2,37502673,-2.5641118713448918]
[237,"Plainfield",126683300,419237.74120429356,19678000,312813.97301418195,732052,1204454.1466583801,0.6077873549864844,993675,732052,60.78,null,705196,7.9000000000000001E-2,760906,63.174343507475683,0,0,0,28854,28854,0,{"$f":"MIN(H246*parameters!C$22,ROUND(P246+T246-V246+W246,0))","v":732052},60.778735498648444,null,0,0,0,-1.2645013515566461E-3,null,null,"237","Plainfield",0.6077873549864844,60.78,7.9000000000000001E-2,732052,-1.2645013515566461E-3]
[238,"Plainville",2438980600,8071408.9196057627,520972000,8281701.4508153461,16353110,18560618.104342699,0.88106494665572588,15312510,15312510,82.5,null,14412584,5.5599999999999997E-2,15213924,81.968843464541408,0.53115653545859232,0,0,0,0,0,{"$f":"MIN(H247*parameters!C$22,ROUND(P247+T247-V247+W247,0))","v":15213924},81.968843464541408,null,-98586,-98586,0,-0.53115653545859232,null,null,"238","Plainville",0.88106494665572588,82.5,5.5599999999999997E-2,15213924,-0.53115653545859232]
[239,"Plymouth",18234109200,60342813.566432424,3284649000,52214864.500816122,112557678,116667017.01678,0.96477719991598854,96250289,96250289,82.5,null,92866994,4.9599999999999998E-2,97473197,83.548203676091774,0,0,0,1222908,1222908,0,{"$f":"MIN(H248*parameters!C$22,ROUND(P248+T248-V248+W248,0))","v":96250289},82.499999966705673,null,0,0,0,-3.329432729515247E-8,null,null,"239","Plymouth",0.96477719991598854,82.5,4.9599999999999998E-2,96250289,-3.329432729515247E-8]
[240,"Plympton",786008800,2601168.0614469103,158774000,2523972.2406420228,5125140,7006791.7670033481,0.73145316293478357,5780603,5125140,73.150000000000006,null,4579079,3.5099999999999999E-2,4739805,67.645866433777456,5.5041335662225492,0.01,45791,0,0,0,{"$f":"MIN(H249*parameters!C$22,ROUND(P249+T249-V249+W249,0))","v":4785596},68.299389494297685,null,-385335,-339544,0,-4.8506105057023206,null,null,"240","Plympton",0.73145316293478357,73.150000000000006,3.5099999999999999E-2,4785596,-4.8506105057023206]
[241,"Princeton",813441400,2691951.781632293,255626000,4063593.0819048313,6755545,6746529.7140001198,1.0013362849319662,5565887,5565887,82.5,null,4818955,3.9800000000000002E-2,5010749,74.271502719418848,8.228497280581152,0.02,96379,0,0,0,{"$f":"MIN(H250*parameters!C$22,ROUND(P250+T250-V250+W250,0))","v":5107128},75.70007420855049,null,-555138,-458759,0,-6.7999257914495104,null,null,"241","Princeton",1.0013362849319662,82.5,3.9800000000000002E-2,5107128,-6.7999257914495104]
[242,"Provincetown",5839081100,19323487.555760562,336077000,5342493.2212972464,24665981,1628122.492355908,15.149954082575261,1343201,1343201,82.5,null,1476675,4.7E-2,1546079,94.960852593026317,0,0,0,202878,202878,0,{"$f":"MIN(H251*parameters!C$22,ROUND(P251+T251-V251+W251,0))","v":1343201},82.499996548562876,null,0,0,0,-3.4514371236582519E-6,null,null,"242","Provincetown",15.149954082575261,82.5,4.7E-2,1343201,-3.4514371236582519E-6]
[243,"Quincy",24354195000,80596240.393555433,5008393000,79616592.781096533,160212833,183434709.09496266,0.87340522298350376,151333635,151333635,82.5,null,135460739,5.0200000000000002E-2,142260868,77.553952957917417,4.9460470420825828,0.01,1354607,0,0,0,{"$f":"MIN(H252*parameters!C$22,ROUND(P252+T252-V252+W252,0))","v":143615475},78.292421160954575,null,-9072767,-7718160,0,-4.207578839045425,null,null,"243","Quincy",0.87340522298350376,82.5,5.0200000000000002E-2,143615475,-4.207578839045425]
[244,"Randolph",6232525200,20625526.701994959,1228239000,19524866.41940064,40150393,69947332.08119224,0.57400892650766044,57706549,40150393,57.4,null,32730385,3.9399999999999998E-2,34019962,48.636539790411028,8.7634602095889704,0.02,654608,0,0,0,{"$f":"MIN(H253*parameters!C$22,ROUND(P253+T253-V253+W253,0))","v":34674570},49.572398214918415,null,-6130431,-5475823,0,-7.8276017850815833,null,null,"244","Randolph",0.57400892650766044,57.4,3.9399999999999998E-2,34674570,-7.8276017850815833]
[245,"Raynham",3379957500,11185418.659495853,787939000,12525578.264194608,23710997,35749777.84479975,0.66324879284387106,29493567,23710997,66.319999999999993,null,20744151,3.1300000000000001E-2,21393443,59.842170468513672,6.4778295314863215,0.01,207442,0,0,0,{"$f":"MIN(H254*parameters!C$22,ROUND(P254+T254-V254+W254,0))","v":21600885},60.422431416988843,null,-2317554,-2110112,0,-5.8975685830111502,null,null,"245","Raynham",0.66324879284387106,66.319999999999993,3.1300000000000001E-2,21600885,-5.8975685830111502]
[246,"Reading",7982429600,26416550.206904087,2119784000,33697431.394038752,60113982,53677673.388794944,1.1199066242045546,44284081,44284081,82.5,null,41276728,3.5400000000000001E-2,42737924,79.619553721047481,2.8804462789525189,0.01,412767,0,0,0,{"$f":"MIN(H255*parameters!C$22,ROUND(P255+T255-V255+W255,0))","v":43150691},80.388527064974426,null,-1546157,-1133390,0,-2.1114729350255743,null,null,"246","Reading",1.1199066242045546,82.5,3.5400000000000001E-2,43150691,-2.1114729350255743]
[247,"Rehoboth",2946012100,9749347.0596717764,781904000,12429642.075194679,22178989,23144020.890803687,0.9583031878792011,19093817,19093817,82.5,null,18274358,6.2600000000000003E-2,19418333,83.902158106484876,0,0,0,324516,324516,0,{"$f":"MIN(H256*parameters!C$22,ROUND(P256+T256-V256+W256,0))","v":19093817},82.49999898499469,null,0,0,0,-1.0150053100232981E-6,null,null,"247","Rehoboth",0.9583031878792011,82.5,6.2600000000000003E-2,19093817,-1.0150053100232981E-6]
[248,"Revere",12020129000,39778658.520453952,2011265000,31972344.518465728,71751003,168608364.58902332,0.42554830049440562,139101901,71751003,42.55,null,54435524,5.2499999999999998E-2,57293389,33.980158184708408,8.5698418152915892,0.02,1088710,0,0,0,{"$f":"MIN(H257*parameters!C$22,ROUND(P257+T257-V257+W257,0))","v":58382099},34.625861618611992,null,-14457614,-13368904,0,-7.9241383813880049,null,null,"248","Revere",0.42554830049440562,42.55,5.2499999999999998E-2,58382099,-7.9241383813880049]
[249,"Richmond",659150400,2181350.8553211559,84574000,1344441.9632941063,3525793,1875388.28,1.8800336109597529,1547195,1547195,82.5,null,1476325,2.9600000000000001E-2,1520024,81.051162375825442,1.4488376241745584,0,0,0,0,27171,{"$f":"MIN(H258*parameters!C$22,ROUND(P258+T258-V258+W258,0))","v":1547195},82.499982350321602,null,-27171,0,0,-1.764967839790188E-5,null,null,"249","Richmond",1.8800336109597529,82.5,2.9600000000000001E-2,1547195,-1.764967839790188E-5]
[250,"Rochester",1590034800,5261961.1108032446,327762000,5210312.7057157382,10472274,12983404.687435918,0.8065891999911281,10711309,10472274,80.66,null,8893690,4.6799999999999994E-2,9309915,71.70626830271442,8.9537316972855763,0.02,177874,0,0,0,{"$f":"MIN(H259*parameters!C$22,ROUND(P259+T259-V259+W259,0))","v":9487789},73.076278745138126,null,-1162359,-984485,0,-7.5837212548618709,null,null,"250","Rochester",0.8065891999911281,80.66,4.6799999999999994E-2,9487789,-7.5837212548618709]
[251,"Rockland",3466122900,11470569.012115058,704377000,11197223.694979694,22667793,42010489.503197491,0.53957459834584209,34658654,22667793,53.96,null,19388821,3.95E-2,20154679,47.97534910528951,5.9846508947104908,0.01,193888,0,0,0,{"$f":"MIN(H260*parameters!C$22,ROUND(P260+T260-V260+W260,0))","v":20348567},48.436871935165705,null,-2513114,-2319226,0,-5.523128064834296,null,null,"251","Rockland",0.53957459834584209,53.96,3.95E-2,20348567,-5.523128064834296]
[252,"Rockport",3453376900,11428388.201784179,444979000,7073668.5078705996,18502057,8164105.6636357727,2.2662686842002926,6735387,6735387,82.5,null,6532338,2.9899999999999996E-2,6727655,82.405290636622297,9.4709363377702971E-2,0,0,0,0,7732,{"$f":"MIN(H261*parameters!C$22,ROUND(P261+T261-V261+W261,0))","v":6735387},82.499997887098488,null,-7732,0,0,-2.11290151241883E-6,null,null,"252","Rockport",2.2662686842002926,82.5,2.9899999999999996E-2,6735387,-2.11290151241883E-6]
[253,"Rowe",518012800,1714278.9632643883,14522000,230850.92570952079,1945130,750141.88,2.5930161371606126,618867,618867,82.5,null,581134,5.5E-2,613096,81.730672069662347,0.76932793033765279,0,0,0,0,5771,{"$f":"MIN(H262*parameters!C$22,ROUND(P262+T262-V262+W262,0))","v":618867},82.499993201286131,null,-5771,0,0,-6.7987138692160443E-6,null,null,"253","Rowe",2.5930161371606126,82.5,5.5E-2,618867,-6.7987138692160443E-6]
[254,"Rowley",1820808600,6025669.4025917556,396343000,6300519.7940014182,12326189,10921910.885345254,1.1285743977767637,9010576,9010576,82.5,null,8655610,3.49E-2,8957691,82.015785461307914,0.48421453869208619,0,0,0,0,0,{"$f":"MIN(H263*parameters!C$22,ROUND(P263+T263-V263+W263,0))","v":8957691},82.015785461307914,null,-52885,-52885,0,-0.48421453869208619,null,null,"254","Rowley",1.1285743977767637,82.5,3.49E-2,8957691,-0.48421453869208619]
[255,"Royalston",245698400,813098.82386635814,39087000,621351.75135711604,1434451,2090674.1837821882,0.68611886592724325,1724806,1434451,68.61,null,805895,4.3700000000000003E-2,841113,40.231663380391616,28.378336619608383,0.02,16118,0,0,0,{"$f":"MIN(H264*parameters!C$22,ROUND(P264+T264-V264+W264,0))","v":857231},41.002610863506433,null,-593338,-577220,0,-27.607389136493566,null,null,"255","Royalston",0.68611886592724325,68.61,4.3700000000000003E-2,857231,-27.607389136493566]
[256,"Russell",240358400,795426.96389719937,66226000,1052770.5141191795,1848197,3667701.2330044946,0.50391154638460023,3025854,1848197,50.39,null,1466687,3.0800000000000001E-2,1511861,41.220942054800879,9.1690579451991212,0.02,29334,0,0,0,{"$f":"MIN(H265*parameters!C$22,ROUND(P265+T265-V265+W265,0))","v":1541195},42.020734571596755,null,-336336,-307002,0,-8.3692654284032457,null,null,"256","Russell",0.50391154638460023,50.39,3.0800000000000001E-2,1541195,-8.3692654284032457]
[257,"Rutland",1551643700,5134912.0203047488,452131000,7187361.2375686094,12322273,23774466.382194638,0.51829861507337527,{"$f":"ROUND(H266*maxloc,0)","v":19613935},12322273,51.83,null,10373366,4.6500000000000007E-2,10855728,45.66128982869688,6.1687101713031183,0.01,103734,0,{"$f":"MAX(U266*(V$5),0)","v":0},0,{"$f":"MIN(H266*parameters!C$22,ROUND(P266+T266-V266+W266,0))","v":10959462},46.097615079208872,null,-1466545,-1362811,0,-5.7323849207911266,null,null,"257","Rutland",0.51829861507337527,{"$f":"L266","v":51.83},4.6500000000000007E-2,{"$f":"X266","v":10959462},-5.7323849207911266]
[258,"Salem",9326697900,{"$f":"D$5*C267","v":30865187.127986312},1913167000,30412916.470658775,{"$f":"ROUND(D267+F267,0)","v":61278104},{"$f":"(SUMIF(town1755,A267,found1755)/2)","v":88143750.83263579},{"$f":"IF(H267=0,0,G267/H267)","v":0.69520644879695082},72718594,{"$f":"MIN(G267,J267)","v":61278104},{"$f":"IF(H267>0, ROUND((K267*100/H267), 2), 0)","v":69.52},null,50422107,4.590000000000001E-2,{"$f":"ROUND(N267*(1+O267),0)","v":52736482},{"$f":"IF(H267=0,0,P267*100/H267)","v":59.830086083055562},{"$f":"IF(L267>Q267,L267-Q267,0)","v":9.6899139169444339},{"$f":"IF(AND(R267>$T$4,R267<=$T$5),$S$4,IF(R267>$T$5,$S$5,0))","v":0.02},{"$f":"ROUND(S267*N267,0)","v":1008442},{"$f":"MAX(P267-K267,0)","v":0},0,{"$f":"IF(AND(I267>1.75,$W$5=1),MAX(K267-(P267+T267),0),0)","v":0},{"$f":"MIN(H267*parameters!C$22,ROUND(P267+T267-V267+W267,0))","v":53744924},{"$f":"IF(H267=0,0,X267*100/H267)","v":60.974173996803181},null,{"$f":"IF(Q267<L267, P267-K267, 0)","v":-8541622},{"$f":"-1*MAX(K267-(P267+T267+W267),0)","v":-7533180},{"$f":"IF(Q267>L267, X267-K267,0)","v":0},{"$f":"Y267-L267","v":-8.5458260031968152},null,null,{"$f":"TEXT(A267,\"000\")","v":"258"},{"$f":"B267","v":"Salem"},{"$f":"I267","v":0.69520644879695082},69.52,{"$f":"O267","v":4.590000000000001E-2},53744924,{"$f":"AD267","v":-8.5458260031968152}]
[259,"Salisbury",2730710800,9036842.485743342,402331000,{"$f":"E268*F$5","v":6395708.8411814626},15432551,12775543.91301835,1.2079760443133967,10539824,10539824,82.5,null,10443333,4.5600000000000002E-2,10919549,85.472282623309056,0,0,0,379725,379725,0,{"$f":"MIN(H268*parameters!C$22,ROUND(P268+T268-V268+W268,0))","v":10539824},82.500002127188196,null,0,0,0,2.1271881962547923E-6,null,null,"259","Salisbury",1.2079760443133967,82.5,4.5600000000000002E-2,10539824,2.1271881962547923E-6]
[260,"Sandisfield",345228600,1142477.8045971377,25493000,405252.90243167698,1547731,1268008.8344540193,1.2205995399601641,1046107,1046107,82.5,null,1017541,3.2899999999999999E-2,1051018,82.887277394447224,0,0,0,4911,4911,0,{"$f":"MIN(H269*parameters!C$22,ROUND(P269+T269-V269+W269,0))","v":1046107},82.499977253741605,null,0,0,0,-2.2746258395045515E-5,null,null,"260","Sandisfield",1.2205995399601641,82.5,3.2899999999999999E-2,1046107,-2.2746258395045515E-5]
[261,"Sandwich",7579755600,25083966.21042075,1148436000,18256267.299141936,43340234,34195486.215489298,1.2674255814607622,28211276,28211276,82.5,null,27424568,4.1900000000000007E-2,28573657,83.559733059321687,0,0,0,362381,362381,0,{"$f":"MIN(H270*parameters!C$22,ROUND(P270+T270-V270+W270,0))","v":28211276},82.499999626328844,null,0,0,0,-3.7367115623965219E-7,null,null,"261","Sandwich",1.2674255814607622,82.5,4.1900000000000007E-2,28211276,-3.7367115623965219E-7]
[262,"Saugus",7452151000,24661679.576971214,1339452000,21292778.828224007,45954458,54080590.763163768,0.84974031073827005,44616487,44616487,82.5,null,36583450,4.9699999999999994E-2,38401647,71.008186963365688,11.491813036634312,0.02,731669,0,0,0,{"$f":"MIN(H271*parameters!C$22,ROUND(P271+T271-V271+W271,0))","v":39133316},72.361110423843797,null,-6214840,-5483171,0,-10.138889576156203,null,null,"262","Saugus",0.84974031073827005,82.5,4.9699999999999994E-2,39133316,-10.138889576156203]
[263,"Savoy",99612700,329652.00103929196,23118000,367498.3955758643,697150,905195.21950119792,0.77016535768290961,746786,697150,77.02,null,627242,4.8899999999999999E-2,657914,72.682001166835519,4.3379988331644768,0.01,6272,0,0,0,{"$f":"MIN(H272*parameters!C$22,ROUND(P272+T272-V272+W272,0))","v":664186},73.374890376243428,null,-39236,-32964,0,-3.6451096237565679,null,null,"263","Savoy",0.77016535768290961,77.02,4.8899999999999999E-2,664186,-3.6451096237565679]
[264,"Scituate",8314552400,27515656.501691524,1804214000,28680930.455727678,56196587,38424445.232439235,1.4625217530156276,31700167,31700167,82.5,null,30525191,3.95E-2,31730936,82.580075803441019,0,0,0,30769,30769,0,{"$f":"MIN(H273*parameters!C$22,ROUND(P273+T273-V273+W273,0))","v":31700167},82.49999917562279,null,0,0,0,-8.2437721005135245E-7,null,null,"264","Scituate",1.4625217530156276,82.5,3.95E-2,31700167,-8.2437721005135245E-7]
[265,"Seekonk",3539110000,11712107.927986778,771209000,12259627.569585031,23971735,30271565.844220139,0.79188949535549091,24974042,23971735,79.19,null,21905956,4.0599999999999997E-2,22795338,75.302804345525445,3.887195654474553,0.01,219060,0,0,0,{"$f":"MIN(H274*parameters!C$22,ROUND(P274+T274-V274+W274,0))","v":23014398},76.026453730322061,null,-1176397,-957337,0,-3.1635462696779371,null,null,"265","Seekonk",0.79188949535549091,79.19,4.0599999999999997E-2,23014398,-3.1635462696779371]
[266,"Sharon",5308409500,17567316.356358048,1608750000,25573710.696542595,43141027,47727711.721477456,0.90389891834237157,39375362,39375362,82.5,null,37507157,3.5400000000000001E-2,38834910,81.367634439772019,1.1323655602279814,0,0,0,0,0,{"$f":"MIN(H275*parameters!C$22,ROUND(P275+T275-V275+W275,0))","v":38834910},81.367634439772019,null,-540452,-540452,0,-1.1323655602279814,null,null,"266","Sharon",0.90389891834237157,82.5,3.5400000000000001E-2,38834910,-1.1323655602279814]
[267,"Sheffield",955419300,3161804.5096313981,143157000,2275714.5001926641,5437519,5203617.1138931895,1.0449498648704021,4292984,4292984,82.5,null,4067753,1.54E-2,4130396,79.375478817844112,3.1245211821558883,0.01,40678,0,0,0,{"$f":"MIN(H276*parameters!C$22,ROUND(P276+T276-V276+W276,0))","v":4171074},80.157204281299016,null,-162588,-121910,0,-2.3427957187009838,null,null,"267","Sheffield",1.0449498648704021,82.5,1.54E-2,4171074,-2.3427957187009838]
[268,"Shelburne",355710200,1177164.9520601965,52991526,842386.9185966216,2019552,2443326.0440336023,0.82655853684839853,2015744,2015744,82.5,null,1885293,3.3500000000000002E-2,1948450,79.745804075471298,2.7541959245287018,0.01,18853,0,0,0,{"$f":"MIN(H277*parameters!C$22,ROUND(P277+T277-V277+W277,0))","v":1967303},80.517416200101053,null,-67294,-48441,0,-1.9825837998989471,null,null,"268","Shelburne",0.82655853684839853,82.5,3.3500000000000002E-2,1967303,-1.9825837998989471]
[269,"Sherborn",1888527100,6249772.7451613201,1579841000,25114154.890776411,31363928,12807503.312969251,2.4488713556091741,10566190,10566190,82.5,null,10196220,3.4799999999999998E-2,10551048,82.381770608762608,0.11822939123739218,0,0,0,0,15142,{"$f":"MIN(H278*parameters!C$22,ROUND(P278+T278-V278+W278,0))","v":10566190},82.499998179195231,null,-15142,0,0,-1.82080476918145E-6,null,null,"269","Sherborn",2.4488713556091741,82.5,3.4799999999999998E-2,10566190,-1.82080476918145E-6]
[270,"Shirley",1083934700,3587105.2872869084,282076000,4484059.0635200925,8071164,12175778.05303701,0.66288691899954644,10045017,8071164,66.290000000000006,null,6949223,2.92E-2,7152140,58.740722513548434,7.5492774864515724,0.02,138984,0,0,0,{"$f":"MIN(H279*parameters!C$22,ROUND(P279+T279-V279+W279,0))","v":7291124},59.882201927796899,null,-919024,-780040,0,-6.4077980722031072,null,null,"270","Shirley",0.66288691899954644,66.290000000000006,2.92E-2,7291124,-6.4077980722031072]
[271,"Shrewsbury",9156582700,30302218.589966569,2920473000,46425691.747669831,76727910,82737349.679999992,0.92736726879405174,68258313,68258313,82.5,null,64461566,4.8300000000000003E-2,67575060,81.674189784127023,0.82581021587297698,0,0,0,0,0,{"$f":"MIN(H280*parameters!C$22,ROUND(P280+T280-V280+W280,0))","v":67575060},81.674189784127023,null,-683253,-683253,0,-0.82581021587297698,null,null,"271","Shrewsbury",0.92736726879405174,82.5,4.8300000000000003E-2,67575060,-0.82581021587297698]
[272,"Shutesbury",325438100,1076984.3692563819,62186000,988548.1108781338,2065532,2848512.8549632765,0.72512644498022782,2350023,2065532,72.510000000000005,null,1842737,3.27E-2,1902994,66.806579323811192,5.7034206761888129,0.01,18427,0,0,0,{"$f":"MIN(H281*parameters!C$22,ROUND(P281+T281-V281+W281,0))","v":1921421},67.453478282609723,null,-162538,-144111,0,-5.0565217173902823,null,null,"272","Shutesbury",0.72512644498022782,72.510000000000005,3.27E-2,1921421,-5.0565217173902823]
[273,"Somerset",3532340500,11689705.370671943,742096000,11796828.850387862,23486534,36443764.479404159,0.64445960332317442,30066106,23486534,64.45,null,19746050,2.8000000000000004E-2,20298939,55.69934744658925,8.7506525534107524,0.02,394921,0,0,0,{"$f":"MIN(H282*parameters!C$22,ROUND(P282+T282-V282+W282,0))","v":20693860},56.782992359899964,null,-3187595,-2792674,0,-7.6670076401000387,null,null,"273","Somerset",0.64445960332317442,64.45,2.8000000000000004E-2,20693860,-7.6670076401000387]
[274,"Somerville",26765865600,88577271.317700937,5082599000,80796218.438251242,169373490,98699357.768680006,1.7160546312465148,81426970,81426970,82.5,null,78757428,7.4300000000000005E-2,84609105,85.724068436490654,0,0,0,3182135,3182135,0,{"$f":"MIN(H283*parameters!C$22,ROUND(P283+T283-V283+W283,0))","v":81426970},82.499999838741601,null,0,0,0,-1.6125839863434521E-7,null,null,"274","Somerville",1.7160546312465148,82.5,7.4300000000000005E-2,81426970,-1.6125839863434521E-7]
[275,"Southampton",1130378900,3740804.8001669836,313959000,4990891.4601869872,8731696,11368466.807977876,0.76806276057141587,9378985,8731696,76.81,null,8143521,3.4700000000000002E-2,8426101,74.118182709448064,2.6918172905519384,0.01,81435,0,0,0,{"$f":"MIN(H284*parameters!C$22,ROUND(P284+T284-V284+W284,0))","v":8507536},74.83450621529542,null,-305595,-224160,0,-1.9754937847045824,null,null,"275","Southampton",0.76806276057141587,76.81,3.4700000000000002E-2,8507536,-1.9754937847045824]
[276,"Southborough",3803141500,12585877.159343883,1343601000,21358733.964621805,33944611,24269690.435708843,1.3986421083499321,20022495,20022495,82.5,null,18408697,3.95E-2,19135841,78.846662880564679,3.6533371194353208,0.01,184087,0,0,0,{"$f":"MIN(H285*parameters!C$22,ROUND(P285+T285-V285+W285,0))","v":19319928},79.605168641021947,null,-886654,-702567,0,-2.8948313589780525,null,null,"276","Southborough",1.3986421083499321,82.5,3.95E-2,19319928,-2.8948313589780525]
[277,"Southbridge",1766245500,5845101.7129507056,469496000,7463406.2950638458,13308508,51667258.396161243,0.25758107577445588,42625488,13308508,25.76,null,11105884,3.85E-2,11533461,22.322572085336173,3.4374279146638287,0.01,111059,0,0,0,{"$f":"MIN(H286*parameters!C$22,ROUND(P286+T286-V286+W286,0))","v":11644520},22.537522526771347,null,-1775047,-1663988,0,-3.2224774732286541,null,null,"277","Southbridge",0.25758107577445588,25.76,3.85E-2,11644520,-3.2224774732286541]
[278,"South Hadley",2400504300,7944077.873588657,685928000,10903946.685723741,18848025,26750270.849999998,0.70459193126263253,22068973,18848025,70.459999999999994,null,16689854,3.78E-2,17320730,64.749736917149761,5.7102630828502328,0.01,166899,0,0,0,{"$f":"MIN(H287*parameters!C$22,ROUND(P287+T287-V287+W287,0))","v":17487629},65.373652095189911,null,-1527295,-1360396,0,-5.0863479048100828,null,null,"278","South Hadley",0.70459193126263253,70.459999999999994,3.78E-2,17487629,-5.0863479048100828]
[279,"Southwick",1577171200,5219391.1224325951,444833000,7071347.5992386211,12290739,16578248.393650886,0.74137741866065232,13677055,12290739,74.14,null,11007888,3.3500000000000002E-2,11376652,68.623968768359234,5.5160312316407669,0.01,110079,0,0,0,{"$f":"MIN(H288*parameters!C$22,ROUND(P288+T288-V288+W288,0))","v":11486731},69.287965334137297,null,-914087,-804008,0,-4.8520346658627034,null,null,"279","Southwick",0.74137741866065232,74.14,3.3500000000000002E-2,11486731,-4.8520346658627034]
[280,"Spencer",1756862100,5814048.8794610789,437978000,6962376.1699768966,12776425,24513246.148951724,0.5212049404785325,20223428,12776425,52.12,null,10668461,4.3299999999999998E-2,11130405,45.405675496290712,6.7143245037092854,0.01,106685,0,0,0,{"$f":"MIN(H289*parameters!C$22,ROUND(P289+T289-V289+W289,0))","v":11237090},45.840889173629655,null,-1646020,-1539335,0,-6.2791108263703421,null,null,"280","Spencer",0.5212049404785325,52.12,4.3299999999999998E-2,11237090,-6.2791108263703421]
[281,"Springfield",13220617400,43751479.288131744,3160328000,50238579.007417597,93990058,640504628.06999993,0.14674376090492192,528416318,93990058,14.67,null,54330699,4.5499999999999999E-2,56802746,8.868436465660027,5.801563534339973,0.01,543307,0,0,0,{"$f":"MIN(H290*parameters!C$22,ROUND(P290+T290-V290+W290,0))","v":57346053},8.9532613016080695,null,-37187312,-36644005,0,-5.7167386983919304,null,null,"281","Springfield",0.14674376090492192,14.67,4.5499999999999999E-2,57346053,-5.7167386983919304]
[282,"Sterling",1844345000,6103559.2836737977,486545000,7734428.016067951,13837987,13250690.462444711,1.044321957351567,10931820,10931820,82.5,null,10904363,3.3300000000000003E-2,11267478,85.033138702729801,0,0,0,335658,335658,0,{"$f":"MIN(H291*parameters!C$22,ROUND(P291+T291-V291+W291,0))","v":10931820},82.500002780859717,null,0,0,0,2.7808597167222615E-6,null,null,"282","Sterling",1.044321957351567,82.5,3.3300000000000003E-2,10931820,2.7808597167222615E-6]
[283,"Stockbridge",1310803700,4337891.2796732523,105044000,1669846.0708050476,6007737,2115701.6564151328,2.8395955458954325,1745454,1745454,82.5,null,1775785,3.6900000000000002E-2,1841311,87.030749085858204,0,0,0,95857,95857,0,{"$f":"MIN(H292*parameters!C$22,ROUND(P292+T292-V292+W292,0))","v":1745454},82.500006307955331,null,0,0,0,6.3079553314082659E-6,null,null,"283","Stockbridge",2.8395955458954325,82.5,3.6900000000000002E-2,1745454,6.3079553314082659E-6]
[284,"Stoneham",6156696900,20374585.297631785,1425330000,22657950.002861261,43032535,38622040.806788906,1.114196300896555,31863184,31863184,82.5,null,28885321,3.6400000000000002E-2,29936747,77.512079565556718,4.9879204344432821,0.01,288853,0,0,0,{"$f":"MIN(H293*parameters!C$22,ROUND(P293+T293-V293+W293,0))","v":30225600},78.259976346684937,null,-1926437,-1637584,0,-4.2400236533150633,null,null,"284","Stoneham",1.114196300896555,82.5,3.6400000000000002E-2,30225600,-4.2400236533150633]
[285,"Stoughton",6283557300,20794409.122431684,1261299000,20050409.154833551,40844818,67052539.264348194,0.6091464760040366,55318345,40844818,60.91,null,35370249,5.8500000000000003E-2,37439409,55.83593016872743,5.0740698312725669,0.01,353702,0,0,0,{"$f":"MIN(H294*parameters!C$22,ROUND(P294+T294-V294+W294,0))","v":37793111},56.363429953046655,null,-3405409,-3051707,0,-4.5465700469533417,null,null,"285","Stoughton",0.6091464760040366,60.91,5.8500000000000003E-2,37793111,-4.5465700469533417]
[286,"Stow",2104302800,6963847.268597126,636358000,10115950.515263684,17079798,15318144.668651763,1.1150043539511296,12637469,12637469,82.5,null,12419033,3.5299999999999998E-2,12857425,83.935915726872778,0,0,0,219956,219956,0,{"$f":"MIN(H295*parameters!C$22,ROUND(P295+T295-V295+W295,0))","v":12637469},82.499997704436723,null,0,0,0,-2.2955632772436729E-6,null,null,"286","Stow",1.1150043539511296,82.5,3.5299999999999998E-2,12637469,-2.2955632772436729E-6]
[287,"Sturbridge",1957480400,6477962.4571484728,559717000,8897616.5531852245,15375579,23701902.532287598,0.64870653227329855,19554070,15375579,64.87,null,13882412,3.6200000000000003E-2,14384955,60.691140639044853,4.1788593609551512,0.01,138824,0,0,0,{"$f":"MIN(H296*parameters!C$22,ROUND(P296+T296-V296+W296,0))","v":14523779},61.27684889521074,null,-990624,-851800,0,-3.5931511047892641,null,null,"287","Sturbridge",0.64870653227329855,64.87,3.6200000000000003E-2,14523779,-3.5931511047892641]
[288,"Sudbury",7603766700,25163427.033811286,2484128000,39489274.781775266,64652702,49851105.461658627,1.2969161145227872,41127162,41127162,82.5,null,39720615,4.4999999999999998E-2,41508043,83.26403720760932,0,0,0,380881,380881,0,{"$f":"MIN(H297*parameters!C$22,ROUND(P297+T297-V297+W297,0))","v":41127162},82.499999988228211,null,0,0,0,-1.1771788877013023E-8,null,null,"288","Sudbury",1.2969161145227872,82.5,4.4999999999999998E-2,41127162,-1.1771788877013023E-8]
[289,"Sunderland",648868700,2147325.244338965,130778000,2078930.0621429353,4226255,4553692.1118203476,0.92809414782997834,3756796,3756796,82.5,null,3397528,5.4399999999999997E-2,3582354,78.669218560056464,3.8307814399435358,0.01,33975,0,0,0,{"$f":"MIN(H298*parameters!C$22,ROUND(P298+T298-V298+W298,0))","v":3616329},79.415316433292304,null,-174442,-140467,0,-3.0846835667076959,null,null,"289","Sunderland",0.92809414782997834,82.5,5.4399999999999997E-2,3616329,-3.0846835667076959]
[290,"Sutton",2416680400,7997610.0410132091,653457000,10387767.06799107,18385377,18797956.962431997,0.97805187216586653,15508314,15508314,82.5,null,15406489,5.96E-2,16324716,86.843033169110839,0,0,0,816402,816402,0,{"$f":"MIN(H299*parameters!C$22,ROUND(P299+T299-V299+W299,0))","v":15508314},82.499997372020815,null,0,0,0,-2.6279791853767165E-6,null,null,"290","Sutton",0.97805187216586653,82.5,5.96E-2,15508314,-2.6279791853767165E-6]
[291,"Swampscott",4962059100,16421126.137432557,1191126000,18934894.624478631,35356021,29656919.277400002,1.1921676917717812,24466958,24466958,82.5,null,22869707,2.0400000000000001E-2,23336249,78.687367294361366,3.8126327056386344,0.01,228697,0,0,0,{"$f":"MIN(H300*parameters!C$22,ROUND(P300+T300-V300+W300,0))","v":23564946},79.458509427705863,null,-1130709,-902012,0,-3.041490572294137,null,null,"291","Swampscott",1.1921676917717812,82.5,2.0400000000000001E-2,23564946,-3.041490572294137]
[292,"Swansea",3602751200,11922718.110509105,743397000,11817510.371827615,23740228,32093933.758604731,0.73971075588809643,26477495,23740228,73.97,null,20659026,4.41E-2,21570089,67.209240108239541,6.7607598917604577,0.01,206590,0,0,0,{"$f":"MIN(H301*parameters!C$22,ROUND(P301+T301-V301+W301,0))","v":21776679},67.852944309643675,null,-2170139,-1963549,0,-6.1170556903563238,null,null,"292","Swansea",0.73971075588809643,73.97,4.41E-2,21776679,-6.1170556903563238]
[293,"Taunton",9610677500,31804971.346206859,2014359000,32021528.705502313,63826500,171476083.84821531,0.3722180876051322,141467769,63826500,37.22,null,51624834,4.3499999999999997E-2,53870514,31.415759440648475,5.8042405593515234,0.01,516248,0,0,0,{"$f":"MIN(H302*parameters!C$22,ROUND(P302+T302-V302+W302,0))","v":54386762},31.716820666455899,null,-9955986,-9439738,0,-5.5031793335441002,null,null,"293","Taunton",0.3722180876051322,37.22,4.3499999999999997E-2,54386762,-5.5031793335441002]
[294,"Templeton",1157396800,3830216.1382682449,296214000,4708805.6815948207,8539022,18823312.887823638,0.45364076190454733,15529233,8539022,45.36,null,6501964,3.5700000000000003E-2,6734084,35.775232766577034,9.5847672334229657,0.02,130039,0,0,0,{"$f":"MIN(H303*parameters!C$22,ROUND(P303+T303-V303+W303,0))","v":6864123},36.466072900696673,null,-1804938,-1674899,0,-8.8939270993033261,null,null,"294","Templeton",0.45364076190454733,45.36,3.5700000000000003E-2,6864123,-8.8939270993033261]
[295,"Tewksbury",7701039600,25485335.847967464,1657598000,26350229.496918485,51835565,54073060.220800027,0.9586208878938326,44610275,44610275,82.5,null,41647711,4.9399999999999993E-2,43705108,80.826030229352853,1.6739697706471475,0,0,0,0,0,{"$f":"MIN(H304*parameters!C$22,ROUND(P304+T304-V304+W304,0))","v":43705108},80.826030229352853,null,-905167,-905167,0,-1.6739697706471475,null,null,"295","Tewksbury",0.9586208878938326,82.5,4.9399999999999993E-2,43705108,-1.6739697706471475]
[296,"Tisbury",5350460600,17706477.620543271,155633782.5,2474053.3509020256,20180531,9089403.084848607,2.2202262141547577,7498758,7498758,82.5,null,7729696,6.2199999999999998E-2,8210483,90.330277173935599,0,0,0,711725,711725,0,{"$f":"MIN(H305*parameters!C$22,ROUND(P305+T305-V305+W305,0))","v":7498758},82.500005005828157,null,0,0,0,5.0058281573228669E-6,null,null,"296","Tisbury",2.2202262141547577,82.5,6.2199999999999998E-2,7498758,5.0058281573228669E-6]
[297,"Tolland",261601500,865727.54227001511,16263000,258526.96631413969,1124255,286205.5296351781,3.9281386402040206,236120,236120,82.5,null,263579,3.04E-2,271592,94.894043572880733,0,0,0,35472,35472,0,{"$f":"MIN(H306*parameters!C$22,ROUND(P306+T306-V306+W306,0))","v":236120},82.500153054687175,null,0,0,0,1.5305468717485837E-4,null,null,"297","Tolland",3.9281386402040206,82.5,3.04E-2,236120,1.5305468717485837E-4]
[298,"Topsfield",2104619600,6964895.6665818132,633998000,10078434.457924856,17043330,14386952.204622077,1.1846379801362314,11869236,11869236,82.5,null,11268200,2.9700000000000001E-2,11602866,80.648533719826801,1.8514662801731987,0,0,0,0,0,{"$f":"MIN(H307*parameters!C$22,ROUND(P307+T307-V307+W307,0))","v":11602866},80.648533719826801,null,-266370,-266370,0,-1.8514662801731987,null,null,"298","Topsfield",1.1846379801362314,82.5,2.9700000000000001E-2,11602866,-1.8514662801731987]
[299,"Townsend",1499027900,4960788.6027457109,396074000,6296243.5993301701,11257032,18861701.023013569,0.59681955441161172,15560903,11257032,59.68,null,9522126,3.4799999999999998E-2,9853496,52.240760194308756,7.4392398056912441,0.01,95221,0,0,0,{"$f":"MIN(H308*parameters!C$22,ROUND(P308+T308-V308+W308,0))","v":9948717},52.745598012932952,null,-1403536,-1308315,0,-6.9344019870670479,null,null,"299","Townsend",0.59681955441161172,59.68,3.4799999999999998E-2,9948717,-6.9344019870670479]
[300,"Truro",4060441800,13437370.580996042,150497000,2392395.7971702074,15829766,2208215.5834540213,7.1685781581341708,1821778,1821778,82.5,null,1914301,3.4200000000000001E-2,1979770,89.654742717796879,0,0,0,157992,157992,0,{"$f":"MIN(H309*parameters!C$22,ROUND(P309+T309-V309+W309,0))","v":1821778},82.500006505272111,null,0,0,0,6.5052721112124345E-6,null,null,"300","Truro",7.1685781581341708,82.5,3.4200000000000001E-2,1821778,6.5052721112124345E-6]
[301,"Tyngsborough",2868456300,9492688.7755152062,668911000,10633433.657022536,20126122,26346366.204009213,0.76390504269758996,21735752,20126122,76.39,null,17467579,5.4699999999999999E-2,18423056,69.926364255866545,6.4636357441334553,0.01,174676,0,0,0,{"$f":"MIN(H310*parameters!C$22,ROUND(P310+T310-V310+W310,0))","v":18597732},70.589362707521772,null,-1703066,-1528390,0,-5.8006372924782283,null,null,"301","Tyngsborough",0.76390504269758996,76.39,5.4699999999999999E-2,18597732,-5.8006372924782283]
[302,"Tyringham",248730400,823132.73387131863,11704000,186054.20978544492,1009187,413286.38999999996,2.4418587798160982,340961,340961,82.5,null,342614,5.2999999999999999E-2,360773,87.293704493874102,0,0,0,19812,19812,0,{"$f":"MIN(H311*parameters!C$22,ROUND(P311+T311-V311+W311,0))","v":340961},82.499934246564479,null,0,0,0,-6.5753435521287429E-5,null,null,"302","Tyringham",2.4418587798160982,82.5,5.2999999999999999E-2,340961,-6.5753435521287429E-5]
[303,"Upton",1957299900,6477365.1218068181,571358000,9082669.2749993373,15560034,17006362.234101422,0.91495369708160035,14030249,14030249,82.5,null,13223741,2.5700000000000004E-2,13563591,79.755980810534993,2.744019189465007,0.01,132237,0,0,0,{"$f":"MIN(H312*parameters!C$22,ROUND(P312+T312-V312+W312,0))","v":13695828},80.533554510187443,null,-466658,-334421,0,-1.966445489812557,null,null,"303","Upton",0.91495369708160035,82.5,2.5700000000000004E-2,13695828,-1.966445489812557]
[304,"Uxbridge",3297648400,10913030.103430782,704468000,11198670.288716065,22111700,26452529.777183995,0.83590114768803414,21823337,21823337,82.5,null,19057414,7.5499999999999998E-2,20496249,77.483133645987067,5.016866354012933,0.01,190574,0,0,0,{"$f":"MIN(H313*parameters!C$22,ROUND(P313+T313-V313+W313,0))","v":20686823},78.203571356879948,null,-1327088,-1136514,0,-4.296428643120052,null,null,"304","Uxbridge",0.83590114768803414,82.5,7.5499999999999998E-2,20686823,-4.296428643120052]
[305,"Wakefield",7780888100,25749581.449231017,1760726000,27989617.616087433,53739199,52042201.477534994,1.0326081040825597,42934816,42934816,82.5,null,39792170,5.2600000000000001E-2,41885238,80.483217102336766,2.0167828976632336,0,0,0,0,0,{"$f":"MIN(H314*parameters!C$22,ROUND(P314+T314-V314+W314,0))","v":41885238},80.483217102336766,null,-1049578,-1049578,0,-2.0167828976632336,null,null,"305","Wakefield",1.0326081040825597,82.5,5.2600000000000001E-2,41885238,-2.0167828976632336]
[306,"Wales",273868800,906324.17294410896,56306000,895075.90022037434,1801400,3879339.4812740013,0.46435740122656344,3200455,1801400,46.44,null,1464287,3.6600000000000001E-2,1517880,39.127279458963926,7.3127205410360716,0.01,14643,0,0,0,{"$f":"MIN(H315*parameters!C$22,ROUND(P315+T315-V315+W315,0))","v":1532523},39.504740623955627,null,-283520,-268877,0,-6.935259376044371,null,null,"306","Wales",0.46435740122656344,46.44,3.6600000000000001E-2,1532523,-6.935259376044371]
[307,"Walpole",7392062800,24462827.469068818,1935693000,30771004.058631003,55233832,53607708.801052712,1.0303337567546882,44226360,44226360,82.5,null,42008308,3.5200000000000002E-2,43487000,81.120795819473699,1.3792041805263011,0,0,0,0,0,{"$f":"MIN(H316*parameters!C$22,ROUND(P316+T316-V316+W316,0))","v":43487000},81.120795819473699,null,-739360,-739360,0,-1.3792041805263011,null,null,"307","Walpole",1.0303337567546882,82.5,3.5200000000000002E-2,43487000,-1.3792041805263011]
[308,"Waltham",20412988200,67553458.618443772,3253598000,51721258.104024611,119274717,116139540.79914001,1.026994907843507,95815121,95815121,82.5,null,85467815,4.3799999999999999E-2,89211305,76.813895066356764,5.6861049336432359,0.01,854678,0,0,0,{"$f":"MIN(H317*parameters!C$22,ROUND(P317+T317-V317+W317,0))","v":90065983},77.549801196275197,null,-6603816,-5749138,0,-4.9501988037248026,null,null,"308","Waltham",1.026994907843507,82.5,4.3799999999999999E-2,90065983,-4.9501988037248026]
[309,"Ware",1138361200,3767220.9214838031,292952000,4656950.8599680159,8424172,23816434.226875,0.35371256333972845,19648558,8424172,35.369999999999997,null,7243914,3.6799999999999999E-2,7510490,31.534905386991117,3.8350946130088808,0.01,72439,0,0,0,{"$f":"MIN(H318*parameters!C$22,ROUND(P318+T318-V318+W318,0))","v":7582929},31.839060909643866,null,-913682,-841243,0,-3.5309390903561315,null,null,"309","Ware",0.35371256333972845,35.369999999999997,3.6799999999999999E-2,7582929,-3.5309390903561315]
[310,"Wareham",5953080500,19700749.996466201,753224000,11973726.598721119,31674477,46450731.305265449,0.68189404364468043,38321853,31674477,68.19,null,27636221,5.510000000000001E-2,29158977,62.773989086140972,5.4160109138590258,0.01,276362,0,0,0,{"$f":"MIN(H319*parameters!C$22,ROUND(P319+T319-V319+W319,0))","v":29435339},63.368946349964872,null,-2515500,-2239138,0,-4.8210536500351253,null,null,"310","Wareham",0.68189404364468043,68.19,5.510000000000001E-2,29435339,-4.8210536500351253]
[311,"Warren",615635800,2037346.3763297785,124271000,1975490.6616752415,4012837,11645514.341675013,0.34458220412296708,9607549,4012837,34.46,null,3598215,4.4500000000000005E-2,3758336,32.272821017018522,2.1871789829814787,0,0,0,0,0,{"$f":"MIN(H320*parameters!C$22,ROUND(P320+T320-V320+W320,0))","v":3758336},32.272821017018522,null,-254501,-254501,0,-2.1871789829814787,null,null,"311","Warren",0.34458220412296708,34.46,4.4500000000000005E-2,3758336,-2.1871789829814787]
[312,"Warwick",126808400,419651.7392721104,20534000,326421.49211674009,746073,998337.69021319505,0.7473152694862959,823629,746073,74.73,null,584400,5.2499999999999998E-2,615081,61.610515763323477,13.119484236676527,0.02,11688,0,0,0,{"$f":"MIN(H321*parameters!C$22,ROUND(P321+T321-V321+W321,0))","v":626769},62.781261906094464,null,-130992,-119304,0,-11.94873809390554,null,null,"312","Warwick",0.7473152694862959,74.73,5.2499999999999998E-2,626769,-11.94873809390554]
[313,"Washington",115485200,382179.45372851897,20018000,318218.82873248775,700398,801467.01975344494,0.87389497351427292,661210,661210,82.5,null,631669,5.3100000000000008E-2,665211,82.999173216714354,0,0,0,4001,4001,0,{"$f":"MIN(H322*parameters!C$22,ROUND(P322+T322-V322+W322,0))","v":661210},82.499963654575311,null,0,0,0,-3.6345424689443462E-5,null,null,"313","Washington",0.87389497351427292,82.5,5.3100000000000008E-2,661210,-3.6345424689443462E-5]
[314,"Watertown",13143218800,43495341.231763035,2272941000,36132112.238887474,79627453,46749581.240119986,1.7032762837170523,38568405,38568405,82.5,null,37368292,5.7500000000000002E-2,39516969,84.529033098775571,0,0,0,948564,948564,0,{"$f":"MIN(H323*parameters!C$22,ROUND(P323+T323-V323+W323,0))","v":38568405},82.500001020118248,null,0,0,0,1.0201182476521353E-6,null,null,"314","Watertown",1.7032762837170523,82.5,5.7500000000000002E-2,38568405,1.0201182476521353E-6]
[315,"Wayland",5762993800,19071689.033095509,2196529000,34917418.60610164,53989108,36737120.222759999,1.4696064273037863,30308124,30308124,82.5,null,28984466,4.6699999999999998E-2,30338041,82.581434843127596,0,0,0,29917,29917,0,{"$f":"MIN(H324*parameters!C$22,ROUND(P324+T324-V324+W324,0))","v":30308124},82.499999499751212,null,0,0,0,-5.002487881711204E-7,null,null,"315","Wayland",1.4696064273037863,82.5,4.6699999999999998E-2,30308124,-5.002487881711204E-7]
[316,"Webster",2737484000,9059257.2876053471,619826000,9853147.3542782962,18912405,42825423.595727526,0.44161629733154101,35330974,18912405,44.16,null,15598816,3.8199999999999998E-2,16194691,37.815600267911094,6.3443997320889025,0.01,155988,0,0,0,{"$f":"MIN(H325*parameters!C$22,ROUND(P325+T325-V325+W325,0))","v":16350679},38.179841848969417,null,-2717714,-2561726,0,-5.9801581510305795,null,null,"316","Webster",0.44161629733154101,44.16,3.8199999999999998E-2,16350679,-5.9801581510305795]
[317,"Wellesley",18013343600,59612225.781936668,6636726000,105501607.27037908,165113833,54947674.195700526,3.004928514570679,45331831,45331831,82.5,null,44079016,3.9600000000000003E-2,45824545,83.396696349316315,0,0,0,492714,492714,0,{"$f":"MIN(H326*parameters!C$22,ROUND(P326+T326-V326+W326,0))","v":45331831},82.499999615174005,null,0,0,0,-3.8482599507005943E-7,null,null,"317","Wellesley",3.004928514570679,82.5,3.9600000000000003E-2,45331831,-3.8482599507005943E-7]
[318,"Wellfleet",4268753100,14126742.888785072,212602000,3379656.2806566269,17506399,3693853.0584155042,4.7393328113353412,3047429,3047429,82.5,null,3086166,7.22E-2,3308987,89.580905024397637,0,0,0,261558,261558,0,{"$f":"MIN(H327*parameters!C$22,ROUND(P327+T327-V327+W327,0))","v":3047429},82.500006140125379,null,0,0,0,6.1401253788062604E-6,null,null,"318","Wellfleet",4.7393328113353412,82.5,7.22E-2,3047429,6.1401253788062604E-6]
[319,"Wendell",137073900,453623.73899372068,22416000,356338.95818100934,809963,1788858.1360069548,0.45278213162726222,1475808,809963,45.28,null,697649,1.3000000000000001E-2,706718,39.506654316228705,5.7733456837712964,0.01,6976,0,0,0,{"$f":"MIN(H328*parameters!C$22,ROUND(P328+T328-V328+W328,0))","v":713694},39.896623753132836,null,-103245,-96269,0,-5.3833762468671651,null,null,"319","Wendell",0.45278213162726222,45.28,1.3000000000000001E-2,713694,-5.3833762468671651]
[320,"Wenham",1387335600,4591161.1336009037,482972000,7677629.3411223432,12268790,8411613.8545385115,1.458553639309101,6939581,6939581,82.5,null,6220927,4.4699999999999997E-2,6499002,77.262248510057844,5.2377514899421556,0.01,62209,0,0,0,{"$f":"MIN(H329*parameters!C$22,ROUND(P329+T329-V329+W329,0))","v":6561211},78.001809325327969,null,-440579,-378370,0,-4.4981906746720313,null,null,"320","Wenham",1.458553639309101,82.5,4.4699999999999997E-2,6561211,-4.4981906746720313]
[321,"Westborough",6403012700,21189727.306206934,1523401000,24216948.841537643,45406676,53159779.814612441,0.85415470414568417,{"$f":"ROUND(H330*maxloc,0)","v":43856818},43856818,82.5,null,42159180,5.3800000000000001E-2,44427344,83.573228021136217,0,0,0,570526,{"$f":"MAX(U330*(V$5),0)","v":570526},0,{"$f":"MIN(H330*parameters!C$22,ROUND(P330+T330-V330+W330,0))","v":43856818},82.499999347146911,null,0,0,0,-6.5285308892271132E-7,null,null,"321","Westborough",0.85415470414568417,82.5,5.3800000000000001E-2,43856818,-6.5285308892271132E-7]
[322,"West Boylston",1572830000,{"$f":"D$5*C331","v":5205024.6283318251},365341000,5807692.3322987212,{"$f":"ROUND(D331+F331,0)","v":11012717},{"$f":"(SUMIF(town1755,A331,found1755)/2)","v":12721018.73},{"$f":"IF(H331=0,0,G331/H331)","v":0.86571030463375476},10494840,{"$f":"MIN(G331,J331)","v":10494840},{"$f":"IF(H331>0, ROUND((K331*100/H331), 2), 0)","v":82.5},null,9365042,4.130000000000001E-2,{"$f":"ROUND(N331*(1+O331),0)","v":9751818},{"$f":"IF(H331=0,0,P331*100/H331)","v":76.659096311227586},{"$f":"IF(L331>Q331,L331-Q331,0)","v":5.8409036887724142},{"$f":"IF(AND(R331>$T$4,R331<=$T$5),$S$4,IF(R331>$T$5,$S$5,0))","v":0.01},{"$f":"ROUND(S331*N331,0)","v":93650},{"$f":"MAX(P331-K331,0)","v":0},0,{"$f":"IF(AND(I331>1.75,$W$5=1),MAX(K331-(P331+T331),0),0)","v":0},{"$f":"MIN(H331*parameters!C$22,ROUND(P331+T331-V331+W331,0))","v":9845468},{"$f":"IF(H331=0,0,X331*100/H331)","v":77.395279489538169},null,{"$f":"IF(Q331<L331, P331-K331, 0)","v":-743022},{"$f":"-1*MAX(K331-(P331+T331+W331),0)","v":-649372},{"$f":"IF(Q331>L331, X331-K331,0)","v":0},{"$f":"Y331-L331","v":-5.1047205104618314},null,null,{"$f":"TEXT(A331,\"000\")","v":"322"},{"$f":"B331","v":"West Boylston"},{"$f":"I331","v":0.86571030463375476},{"$f":"L331","v":82.5},{"$f":"O331","v":4.130000000000001E-2},{"$f":"X331","v":9845468},{"$f":"AD331","v":-5.1047205104618314}]
[323,"West Bridgewater",1802754700,5965922.9620117564,421065000,{"$f":"E332*F$5","v":6693516.3912601136},12659439,18503813.711722832,0.68415296420649707,15265646,12659439,68.42,null,10599686,5.3100000000000008E-2,11162529,60.325558687008055,8.0944413129919468,0.02,211994,0,0,0,{"$f":"MIN(H332*parameters!C$22,ROUND(P332+T332-V332+W332,0))","v":11374523},61.471236023057401,null,-1496910,-1284916,0,-6.9487639769426011,null,null,"323","West Bridgewater",0.68415296420649707,68.42,5.3100000000000008E-2,11374523,-6.9487639769426011]
[324,"West Brookfield",647839100,2143917.9508887315,175942000,2796885.6611475353,4940804,7413822.1353249894,0.66643141820982155,6116403,4940804,66.64,null,4212498,3.6200000000000003E-2,4364990,58.876378746691607,7.7636212533083935,0.02,84250,0,0,0,{"$f":"MIN(H333*parameters!C$22,ROUND(P333+T333-V333+W333,0))","v":4449240},60.012769645504378,null,-575814,-491564,0,-6.627230354495623,null,null,"324","West Brookfield",0.66643141820982155,66.64,3.6200000000000003E-2,4449240,-6.627230354495623]
[325,"Westfield",5032955300,16655745.5604186,1405511000,22342894.604387429,38998640,83297544.069999993,0.46818475184847069,68720474,38998640,46.82,null,35572719,3.5900000000000001E-2,36849780,44.238735260949454,2.5812647390505461,0.01,355727,0,0,0,{"$f":"MIN(H334*parameters!C$22,ROUND(P334+T334-V334+W334,0))","v":37205507},44.665791069102767,null,-2148860,-1793133,0,{"$f":"Y334-L334","v":-2.1542089308972336},null,null,"325","Westfield",0.46818475184847069,46.82,3.5900000000000001E-2,37205507,-2.1542089308972336]
[326,"Westford",7150424900,23663166.208386872,2075249000,32989474.778113022,56652641,62520025.003812,0.90615192486800422,51579021,51579021,82.5,null,47072691,3.2599999999999997E-2,48607261,77.746707550159002,4.7532924498409983,0.01,470727,0,0,0,{"$f":"MIN(H335*parameters!C$22,ROUND(P335+T335-V335+W335,0))","v":49077988},78.499629513915892,null,-2971760,-2501033,0,-4.0003704860841083,null,null,"326","Westford",0.90615192486800422,82.5,3.2599999999999997E-2,49077988,-4.0003704860841083]
[327,"Westhampton",290754200,962203.65315445221,89880000,1428789.5057686081,2390993,2381397.9319345169,1.0040291746023684,1964653,1964653,82.5,null,2018064,4.2900000000000001E-2,2104639,88.37829964395354,0,0,0,139986,139986,0,{"$f":"MIN(H336*parameters!C$22,ROUND(P336+T336-V336+W336,0))","v":1964653},82.499987660778046,null,0,0,0,-1.2339221953538981E-5,null,null,"327","Westhampton",1.0040291746023684,82.5,4.2900000000000001E-2,1964653,-1.2339221953538981E-5]
[328,"Westminster",1755661100,5810074.3656365545,431643000,6861670.9906372866,12671745,18897294.623070486,0.67055868327998047,15590268,12671745,67.06,null,10226666,3.49E-2,10583577,56.005778663572272,11.05422133642773,0.02,204533,0,0,0,{"$f":"MIN(H337*parameters!C$22,ROUND(P337+T337-V337+W337,0))","v":10788110},57.088118776692475,null,-2088168,-1883635,0,-9.9718812233075269,null,null,"328","Westminster",0.67055868327998047,67.06,3.49E-2,10788110,-9.9718812233075269]
[329,"West Newbury",1549163800,5126705.1952977227,399353000,6348368.6637428906,11475074,8295377.2921213927,1.3833094741692524,6843686,6843686,82.5,null,6294934,3.61E-2,6522181,78.624283987595092,3.8757160124049079,0.01,62949,0,0,0,{"$f":"MIN(H338*parameters!C$22,ROUND(P338+T338-V338+W338,0))","v":6585130},79.383128314781843,null,-321505,-258556,0,-3.1168716852181575,null,null,"329","West Newbury",1.3833094741692524,82.5,3.61E-2,6585130,-3.1168716852181575]
[330,"Weston",8936733600,29574663.812898107,4024277000,63972460.457342871,93547124,29003216.312879998,3.2254051754410695,23927653,23927653,82.5,null,22666930,4.1099999999999998E-2,23598541,81.365255306254284,1.1347446937457164,0,0,0,0,329112,{"$f":"MIN(H339*parameters!C$22,ROUND(P339+T339-V339+W339,0))","v":23927653},82.499998420430359,null,-329112,0,0,-1.5795696413078986E-6,null,null,"330","Weston",3.2254051754410695,82.5,4.1099999999999998E-2,23927653,-1.5795696413078986E-6]
[331,"Westport",5214086300,17255169.093765736,911738000,14493565.714402083,31748735,26896491.631941661,1.1804043231532817,22189606,22189606,82.5,null,20317489,5.21E-2,21376030,79.475160896502629,3.0248391034973707,0.01,203175,0,0,0,{"$f":"MIN(H340*parameters!C$22,ROUND(P340+T340-V340+W340,0))","v":21579205},80.230556814975188,null,-813576,-610401,0,-2.2694431850248122,null,null,"331","Westport",1.1804043231532817,82.5,5.21E-2,21579205,-2.2694431850248122]
[332,"West Springfield",3979553600,13169684.26197782,1084213000,17235337.743857365,30405022,72848167.090000004,0.41737525066946746,60099738,30405022,41.74,null,25460932,4.0500000000000001E-2,26492100,36.366186080248845,5.3738139197511572,0.01,254609,0,0,0,{"$f":"MIN(H341*parameters!C$22,ROUND(P341+T341-V341+W341,0))","v":26746709},36.715692471652545,null,-3912922,-3658313,0,-5.0243075283474568,null,null,"332","West Springfield",0.41737525066946746,41.74,4.0500000000000001E-2,26746709,-5.0243075283474568]
[333,"West Stockbridge",656200500,2171588.6418898785,82733000,1315176.2592429267,3486765,1893894.2247427031,1.8410558279587645,1562463,1562463,82.5,null,1445406,3.7900000000000003E-2,1500187,79.211762747933264,3.288237252066736,0.01,14454,0,0,47822,{"$f":"MIN(H342*parameters!C$22,ROUND(P342+T342-V342+W342,0))","v":1562463},82.500013970541033,null,-62276,0,0,1.3970541033359041E-5,null,null,"333","West Stockbridge",1.8410558279587645,82.5,3.7900000000000003E-2,1562463,1.3970541033359041E-5]
[334,"West Tisbury",4950031100,16381321.431120003,148099000,2354275.6677216855,18735597,6590925.8449867908,2.842635077475606,5437514,5437514,82.5,null,5131766,4.0800000000000003E-2,5341142,81.037810553772118,1.4621894462278817,0,0,0,0,96372,{"$f":"MIN(H343*parameters!C$22,ROUND(P343+T343-V343+W343,0))","v":5437514},82.50000269895159,null,-96372,0,0,2.6989515902187122E-6,null,null,"334","West Tisbury",2.842635077475606,82.5,4.0800000000000003E-2,5437514,2.6989515902187122E-6]
[335,"Westwood",7283384500,24103174.341861658,2107903000,33508563.479952898,57611738,39299854.253786348,1.4659529683739068,32422380,32422380,82.5,null,31026048,3.9100000000000003E-2,32239166,82.03380549914867,0.46619450085132996,0,0,0,0,0,{"$f":"MIN(H344*parameters!C$22,ROUND(P344+T344-V344+W344,0))","v":32239166},82.03380549914867,null,-183214,-183214,0,-0.46619450085132996,null,null,"335","Westwood",1.4659529683739068,82.5,3.9100000000000003E-2,32239166,-0.46619450085132996]
[336,"Weymouth",13414292900,44392416.800389573,2719913000,43237462.739248022,87629880,102202173.90238942,0.85741698688026902,84316793,84316793,82.5,null,73970440,4.0599999999999997E-2,76973640,75.315071158384043,7.1849288416159567,0.01,739704,0,0,0,{"$f":"MIN(H345*parameters!C$22,ROUND(P345+T345-V345+W345,0))","v":77713344},76.038836585043626,null,-7343153,-6603449,0,-6.4611634149563741,null,null,"336","Weymouth",0.85741698688026902,82.5,4.0599999999999997E-2,77713344,-6.4611634149563741]
[337,"Whately",376116400,1244695.9462367224,51300000,815497.34808555408,2060193,2550681.412986388,0.80770298850764177,2104312,2060193,80.77,null,1847010,3.9100000000000003E-2,1919228,75.243736447388386,5.52626355261161,0.01,18470,0,0,0,{"$f":"MIN(H346*parameters!C$22,ROUND(P346+T346-V346+W346,0))","v":1937698},75.967856672907857,null,-140965,-122495,0,-4.8021433270921392,null,null,"337","Whately",0.80770298850764177,80.77,3.9100000000000003E-2,1937698,-4.8021433270921392]
[338,"Whitman",2686277200,8889796.7259819917,657554000,10452895.579396656,19342692,34517620.706366308,0.56037153210946844,28477037,19342692,56.04,null,15854574,3.6700000000000003E-2,16436437,47.617525958179733,8.4224740418202657,0.02,317091,0,0,0,{"$f":"MIN(H347*parameters!C$22,ROUND(P347+T347-V347+W347,0))","v":16753528},48.536161117588378,null,-2906255,-2589164,0,-7.5038388824116211,null,null,"338","Whitman",0.56037153210946844,56.04,3.6700000000000003E-2,16753528,-7.5038388824116211]
[339,"Wilbraham",2566788100,8494367.0175473839,805046000,12797521.989997718,21291889,31067956.254511315,0.6853327855097725,25631064,21291889,68.53,null,19751086,3.5000000000000003E-2,20442374,65.798901712537344,2.7310982874626575,0.01,197511,0,0,0,{"$f":"MIN(H348*parameters!C$22,ROUND(P348+T348-V348+W348,0))","v":20639885},66.434640344270875,null,-849515,-652004,0,-2.0953596557291263,null,null,"339","Wilbraham",0.6853327855097725,68.53,3.5000000000000003E-2,20639885,-2.0953596557291263]
[340,"Williamsburg",427558500,1414935.1948733255,85361971.5,1356968.0581989209,2771903,3458379.274703722,0.80150347310806969,2853163,2771903,80.150000000000006,null,2536859,3.2300000000000002E-2,2618800,75.723331421605039,4.4266685783949669,0.01,25369,0,0,0,{"$f":"MIN(H349*parameters!C$22,ROUND(P349+T349-V349+W349,0))","v":2644169},76.456883122702763,null,-153103,-127734,0,-3.6931168772972427,null,null,"340","Williamsburg",0.80150347310806969,80.150000000000006,3.2300000000000002E-2,2644169,-3.6931168772972427]
[341,"Williamstown",1425465400,4717345.4943222571,325881000,5180411.1362859346,9897757,10420498.657332093,0.94983525505621746,8596911,8596911,82.5,null,8134410,3.7900000000000003E-2,8442704,81.020153426722317,1.4798465732776833,0,0,0,0,0,{"$f":"MIN(H350*parameters!C$22,ROUND(P350+T350-V350+W350,0))","v":8442704},81.020153426722317,null,-154207,-154207,0,-1.4798465732776833,null,null,"341","Williamstown",0.94983525505621746,82.5,3.7900000000000003E-2,8442704,-1.4798465732776833]
[342,"Wilmington",7566412500,25039809.394923657,1435941000,22826629.1911758,47866439,45886048.226865105,1.0431588870617852,37855990,37855990,82.5,null,36427959,6.0199999999999997E-2,38620922,84.16702569167515,0,0,0,764932,764932,0,{"$f":"MIN(H351*parameters!C$22,ROUND(P351+T351-V351+W351,0))","v":37855990},82.500000463836599,null,0,0,0,4.6383659935145261E-7,null,null,"342","Wilmington",1.0431588870617852,82.5,6.0199999999999997E-2,37855990,4.6383659935145261E-7]
[343,"Winchendon",1274237700,4216882.0602664622,304715000,4843942.9711869322,9060825,22991364.904296741,0.39409687235691987,18967876,9060825,39.409999999999997,null,7428294,4.2500000000000003E-2,7743996,33.682193433208326,5.7278065667916707,0.01,74283,0,0,0,{"$f":"MIN(H352*parameters!C$22,ROUND(P352+T352-V352+W352,0))","v":7818279},34.005284299319179,null,-1316829,-1242546,0,-5.4047157006808177,null,null,"343","Winchendon",0.39409687235691987,39.409999999999997,4.2500000000000003E-2,7818279,-5.4047157006808177]
[344,"Winchester",11634406000,38502171.096692935,3447498000,54803615.526905484,93305787,60749100.56702961,1.5359204684363656,50118008,50118008,82.5,null,47508270,3.7199999999999997E-2,49275578,81.113263472321037,1.3867365276789627,0,0,0,0,0,{"$f":"MIN(H353*parameters!C$22,ROUND(P353+T353-V353+W353,0))","v":49275578},81.113263472321037,null,-842430,-842430,0,-1.3867365276789627,null,null,"344","Winchester",1.5359204684363656,82.5,3.7199999999999997E-2,49275578,-1.3867365276789627]
[345,"Windsor",170569700,564472.6317193663,33478000,532187.52863953565,1096660,1009760.7223784425,1.0860592769115345,833053,833053,82.5,null,785916,3.44E-2,812952,80.509370386791332,1.990629613208668,0,0,0,0,0,{"$f":"MIN(H354*parameters!C$22,ROUND(P354+T354-V354+W354,0))","v":812952},80.509370386791332,null,-20101,-20101,0,-1.990629613208668,null,null,"345","Windsor",1.0860592769115345,82.5,3.44E-2,812952,-1.990629613208668]
[346,"Winthrop",3873447100,12818542.087854685,888870000,14130041.47744262,26948584,34531807.291371509,0.78039888768676358,28488741,26948584,78.040000000000006,null,22287258,4.3400000000000001E-2,23254525,67.342333993073765,10.697666006926241,0.02,445745,0,0,0,{"$f":"MIN(H355*parameters!C$22,ROUND(P355+T355-V355+W355,0))","v":23700270},68.633158409643983,null,-3694059,-3248314,0,-9.4068415903560236,null,null,"346","Winthrop",0.78039888768676358,78.040000000000006,4.3400000000000001E-2,23700270,-9.4068415903560236]
[347,"Woburn",12446872600,41190896.936546594,2295696000,36493840.156152323,77684737,79168277.279815599,0.98126092507265106,65313829,65313829,82.5,null,63053645,5.5500000000000001E-2,66553122,84.065391198007148,0,0,0,1239293,1239293,0,{"$f":"MIN(H356*parameters!C$22,ROUND(P356+T356-V356+W356,0))","v":65313829},82.500000308396423,null,0,0,0,3.0839642306546011E-7,null,null,"347","Woburn",0.98126092507265106,82.5,5.5500000000000001E-2,65313829,3.0839642306546011E-7]
[348,"Worcester",24000575900,79425995.596248329,5569101000,88529962.899037182,167955958,581293882.04999995,0.28893467346961221,479567453,167955958,28.89,null,135663200,4.8000000000000001E-2,142175034,24.458374393792575,4.431625606207426,0.01,1356632,0,0,0,{"$f":"MIN(H357*parameters!C$22,ROUND(P357+T357-V357+W357,0))","v":143531666},24.691755828191244,null,-25780924,-24424292,0,-4.1982441718087564,null,null,"348","Worcester",0.28893467346961221,28.89,4.8000000000000001E-2,143531666,-4.1982441718087564]
[349,"Worthington",273533600,905214.88315728086,59922000,952558.1304480033,1857773,1757174.0299999998,1.0572504306815871,1449669,1449669,82.5,null,1251748,7.22E-2,1342124,76.379685625105679,6.1203143748943205,0.01,12517,0,0,0,{"$f":"MIN(H358*parameters!C$22,ROUND(P358+T358-V358+W358,0))","v":1354641},77.092022581280702,null,-107545,-95028,0,-5.4079774187192982,null,null,"349","Worthington",1.0572504306815871,82.5,7.22E-2,1354641,-5.4079774187192982]
[350,"Wrentham",3513910100,11628712.964684006,914996000,14545356.949491026,26174070,25107835.567038428,1.0424662026368106,20713964,20713964,82.5,null,19670017,4.5999999999999999E-2,20574838,81.94588476200893,0.55411523799106988,0,0,0,0,0,{"$f":"MIN(H359*parameters!C$22,ROUND(P359+T359-V359+W359,0))","v":20574838},81.94588476200893,null,-139126,-139126,0,-0.55411523799106988,null,null,"350","Wrentham",1.0424662026368106,82.5,4.5999999999999999E-2,20574838,-0.55411523799106988]
[351,"Yarmouth",10863736200,35951764.956606872,1103300000,17538756.805902373,53490522,44787713.33676526,1.194312413268279,36949864,36949864,82.5,null,31301280,3.1899999999999998E-2,32299791,72.117526423225101,10.382473576774899,0.02,626026,0,0,0,{"$f":"MIN(H360*parameters!C$22,ROUND(P360+T360-V360+W360,0))","v":32925817},73.515289232174112,null,-4650073,-4024047,0,-8.984710767825888,null,null,"351","Yarmouth",1.194312413268279,82.5,3.1899999999999998E-2,32925817,-8.984710767825888]
[999,"STATE TOTAL",{"$f":"SUM(C10:C360)","v":1955053248000},{"$f":"SUM(D10:D360)","v":6469930193.0533657},406999997833,6469930193.0533686,12939860384,15830181514.788061,0.81741705689931521,13059899750,9339807090,{"$f":"K361*100/H361","v":58.999999976469276},null,{"$f":"SUM(N10:N360)","v":8377180537},4.7300000000000002E-2,{"$f":"SUM(P10:P360)","v":8762687936},55.354311179654957,null,null,{"$f":"SUM(T10:T360)","v":50766150},{"$f":"SUM(U10:U360)","v":77583273},{"$f":"SUM(V10:V360)","v":77583273},{"$f":"SUM(W10:W360)","v":952955},{"$f":"SUM(X10:X360)","v":8736823768},55.190926015840894,null,{"$f":"SUM(AA10:AA360)","v":-654702427},{"$f":"SUM(AB10:AB360)","v":-602983322},{"$f":"SUM(AC10:AC360)","v":0},null,null,null,{"$f":"TEXT(A361,\"000\")","v":"999"},{"$f":"B361","v":"STATE TOTAL"},{"$f":"I361","v":0.81741705689931521},{"$f":"L361","v":58.999999976469276},4.7300000000000002E-2,{"$f":"X361","v":8736823768},{"$f":"AD361","v":0}]
[]
[null,null,null,null,null,null,null,null,null,null,null,{"$f":"COUNTIF(L10:L360,82.5)","v":193}]
[null,null,null,null,null,null,null,null,null,null,null,null,null,null,null,null,null,{"$f":"COUNTIF(R10:R360,\">0\")","v":262},{"$f":"COUNTIF(S10:S360,\".01\")","v":151},{"$f":"COUNTIF(T10:T360,\">0\")","v":211},{"$f":"COUNTIF(U10:U360,\">0\")","v":88},null,{"$f":"COUNTIF(W10:W360,\">0\")","v":13},null,null,null,{"$f":"COUNTIF(AA10:AA360,\"<0\")","v":262},{"$f":"COUNTIF(AB10:AB360,\">0\")","v":0},{"$f":"COUNTIF(AC10:AC360,\">0\")","v":0}]
[null,null,null,null,null,null,null,null,null,null,null,null,null,null,null,null,null,null,{"$f":"COUNTIF(S10:S360,\".02\")","v":60},null,{"$f":"U364/351","v":0.25071225071225073}]

{"sheet":"ceyregionalcalc","index":15,"n_rows":814,"n_cols":8,"rows_kept":814,"cut":false,"hidden":true,"merged":[]}
[null,null,null,null,null,"Total CEY for town","FB for school district/town combo","CEY*% of town's fb"]
["Calculation of CEY as a % of Foundation"]
[]
[]
[]
[]
[null,null,null,null,null,{"$f":"CYr&\" Total\"","v":"FY27 Total"},{"$f":"CYr&\" Proportional\"","v":"FY27 Proportional"},{"$f":"CYr&\" Prop\"","v":"FY27 Prop"}]
[null,null,null,null,null,"CEY","Foundation","CEY"]
["Order","LEA","City or Town","LEA","School District","Members","Members","Members"]
[1,1,"Abington                     ",1,"Abington",{"$f":"VLOOKUP(B10, town351, 7)","v":23380097},{"$f":"VLOOKUP(A10, localcont!$D$10:$L$1764, 8)","v":34347724.25632},{"$f":"VLOOKUP(A10, localcont!$D$10:$L$1764, 9)*F10","v":22061223.257463172}]
[2,1,"Abington                     ",873,"South Shore",{"$f":"VLOOKUP(B11, town351, 7)","v":23380097},{"$f":"VLOOKUP(A11, localcont!$D$10:$L$1764, 8)","v":2053390.7439711408},{"$f":"VLOOKUP(A11, localcont!$D$10:$L$1764, 9)*F11","v":1318873.7425368277}]
[6,2,"Acton                        ",2,"Acton",56350203,{"$f":"VLOOKUP(A12, localcont!$D$10:$L$1764, 8)","v":0},{"$f":"VLOOKUP(A12, localcont!$D$10:$L$1764, 9)*F12","v":0}]
[7,2,"Acton                        ",600,"Acton Boxborough",56350203,{"$f":"VLOOKUP(A13, localcont!$D$10:$L$1764, 8)","v":57509134.071801566},{"$f":"VLOOKUP(A13, localcont!$D$10:$L$1764, 9)*F13","v":54818453.91932828}]
[8,2,"Acton                        ",830,"Minuteman",56350203,{"$f":"VLOOKUP(A14, localcont!$D$10:$L$1764, 8)","v":1606932.6467022013},{"$f":"VLOOKUP(A14, localcont!$D$10:$L$1764, 9)*F14","v":1531749.0806717221}]
[11,3,"Acushnet                     ",3,"Acushnet",13988090,{"$f":"VLOOKUP(A15, localcont!$D$10:$L$1764, 8)","v":15971692.030000001},{"$f":"VLOOKUP(A15, localcont!$D$10:$L$1764, 9)*F15","v":10726038.327049244}]
[12,3,"Acushnet                     ",855,"Old Colony",13988090,{"$f":"VLOOKUP(A16, localcont!$D$10:$L$1764, 8)","v":4353163.6408957159},{"$f":"VLOOKUP(A16, localcont!$D$10:$L$1764, 9)*F16","v":2923434.7850222527}]
[13,3,"Acushnet                     ",910,"Bristol County",13988090,{"$f":"VLOOKUP(A17, localcont!$D$10:$L$1764, 8)","v":504220.1496252637},{"$f":"VLOOKUP(A17, localcont!$D$10:$L$1764, 9)*F17","v":338616.88792850351}]
[16,4,"Adams                        ",4,"Adams",6310763,{"$f":"VLOOKUP(A18, localcont!$D$10:$L$1764, 8)","v":18046.96},{"$f":"VLOOKUP(A18, localcont!$D$10:$L$1764, 9)*F18","v":6475.0559388774554}]
[17,4,"Adams                        ",603,"Hoosac Valley",6310763,{"$f":"VLOOKUP(A19, localcont!$D$10:$L$1764, 8)","v":14354337.039946169},{"$f":"VLOOKUP(A19, localcont!$D$10:$L$1764, 9)*F19","v":5150182.3741589766}]
[18,4,"Adams                        ",851,"Northern Berkshire",6310763,{"$f":"VLOOKUP(A20, localcont!$D$10:$L$1764, 8)","v":3216666.7365366556},{"$f":"VLOOKUP(A20, localcont!$D$10:$L$1764, 9)*F20","v":1154105.569902146}]
[21,5,"Agawam                       ",5,"Agawam",31112618,{"$f":"VLOOKUP(A21, localcont!$D$10:$L$1764, 8)","v":57507213.809999995},{"$f":"VLOOKUP(A21, localcont!$D$10:$L$1764, 9)*F21","v":31112618}]
[26,6,"Alford                       ",6,"Alford",1654036,{"$f":"VLOOKUP(A22, localcont!$D$10:$L$1764, 8)","v":0},{"$f":"VLOOKUP(A22, localcont!$D$10:$L$1764, 9)*F22","v":0}]
[27,6,"Alford                       ",765,"Southern Berkshire",1654036,{"$f":"VLOOKUP(A23, localcont!$D$10:$L$1764, 8)","v":290012.72824779706},{"$f":"VLOOKUP(A23, localcont!$D$10:$L$1764, 9)*F23","v":1654036}]
[31,7,"Amesbury                     ",7,"Amesbury",26633796,{"$f":"VLOOKUP(A24, localcont!$D$10:$L$1764, 8)","v":29502412.490000006},{"$f":"VLOOKUP(A24, localcont!$D$10:$L$1764, 9)*F24","v":24606344.134698436}]
[32,7,"Amesbury                     ",885,"Whittier",26633796,{"$f":"VLOOKUP(A25, localcont!$D$10:$L$1764, 8)","v":2430865.8330677971},{"$f":"VLOOKUP(A25, localcont!$D$10:$L$1764, 9)*F25","v":2027451.8653015625}]
[36,8,"Amherst                      ",8,"Amherst",26345115,{"$f":"VLOOKUP(A26, localcont!$D$10:$L$1764, 8)","v":15814005.690000001},{"$f":"VLOOKUP(A26, localcont!$D$10:$L$1764, 9)*F26","v":13116994.370015189}]
[37,8,"Amherst                      ",605,"Amherst Pelham",26345115,{"$f":"VLOOKUP(A27, localcont!$D$10:$L$1764, 8)","v":15947980.84146345},{"$f":"VLOOKUP(A27, localcont!$D$10:$L$1764, 9)*F27","v":13228120.629984811}]
[41,9,"Andover                      ",9,"Andover",103038205,{"$f":"VLOOKUP(A28, localcont!$D$10:$L$1764, 8)","v":77328687.063940004},{"$f":"VLOOKUP(A28, localcont!$D$10:$L$1764, 9)*F28","v":101264394.35993217}]
[42,9,"Andover                      ",823,"Greater Lawrence",103038205,{"$f":"VLOOKUP(A29, localcont!$D$10:$L$1764, 8)","v":1354537.7796755508},{"$f":"VLOOKUP(A29, localcont!$D$10:$L$1764, 9)*F29","v":1773810.6400678242}]
[46,10,"Arlington                    ",10,"Arlington",115272149,{"$f":"VLOOKUP(A30, localcont!$D$10:$L$1764, 8)","v":85724971.74188},{"$f":"VLOOKUP(A30, localcont!$D$10:$L$1764, 9)*F30","v":109765934.14955826}]
[47,10,"Arlington                    ",830,"Minuteman",115272149,{"$f":"VLOOKUP(A31, localcont!$D$10:$L$1764, 8)","v":4300242.2938951189},{"$f":"VLOOKUP(A31, localcont!$D$10:$L$1764, 9)*F31","v":5506214.8504417259}]
[51,11,"Ashburnham                   ",11,"Ashburnham",8123988,{"$f":"VLOOKUP(A32, localcont!$D$10:$L$1764, 8)","v":0},{"$f":"VLOOKUP(A32, localcont!$D$10:$L$1764, 9)*F32","v":0}]
[52,11,"Ashburnham                   ",610,"Ashburnham Westminster",8123988,{"$f":"VLOOKUP(A33, localcont!$D$10:$L$1764, 8)","v":14044455.834176518},{"$f":"VLOOKUP(A33, localcont!$D$10:$L$1764, 9)*F33","v":7415396.2039444819}]
[53,11,"Ashburnham                   ",832,"Montachusett",8123988,{"$f":"VLOOKUP(A34, localcont!$D$10:$L$1764, 8)","v":1342043.7574013735},{"$f":"VLOOKUP(A34, localcont!$D$10:$L$1764, 9)*F34","v":708591.79605551774}]
[56,12,"Ashby                        ",12,"Ashby",3881345,{"$f":"VLOOKUP(A35, localcont!$D$10:$L$1764, 8)","v":0},{"$f":"VLOOKUP(A35, localcont!$D$10:$L$1764, 9)*F35","v":0}]
[57,12,"Ashby                        ",735,"North Middlesex",3881345,{"$f":"VLOOKUP(A36, localcont!$D$10:$L$1764, 8)","v":5167873.4842866845},{"$f":"VLOOKUP(A36, localcont!$D$10:$L$1764, 9)*F36","v":3410007.1246192744}]
[58,12,"Ashby                        ",832,"Montachusett",3881345,{"$f":"VLOOKUP(A37, localcont!$D$10:$L$1764, 8)","v":714313.61264150776},{"$f":"VLOOKUP(A37, localcont!$D$10:$L$1764, 9)*F37","v":471337.87538072572}]
[61,13,"Ashfield                     ",13,"Ashfield",2300958,{"$f":"VLOOKUP(A38, localcont!$D$10:$L$1764, 8)","v":321996.95999999996},{"$f":"VLOOKUP(A38, localcont!$D$10:$L$1764, 9)*F38","v":297289.67814461153}]
[62,13,"Ashfield                     ",717,"Mohawk Trail",2300958,{"$f":"VLOOKUP(A39, localcont!$D$10:$L$1764, 8)","v":2170190.0735749798},{"$f":"VLOOKUP(A39, localcont!$D$10:$L$1764, 9)*F39","v":2003668.3218553883}]
[66,14,"Ashland                      ",14,"Ashland",35134438,{"$f":"VLOOKUP(A40, localcont!$D$10:$L$1764, 8)","v":41080212.259999998},{"$f":"VLOOKUP(A40, localcont!$D$10:$L$1764, 9)*F40","v":33586549.483746998}]
[67,14,"Ashland                      ",829,"South Middlesex",35134438,{"$f":"VLOOKUP(A41, localcont!$D$10:$L$1764, 8)","v":1893245.6527950473},{"$f":"VLOOKUP(A41, localcont!$D$10:$L$1764, 9)*F41","v":1547888.5162530011}]
[71,15,"Athol                        ",15,"Athol",9974689,{"$f":"VLOOKUP(A42, localcont!$D$10:$L$1764, 8)","v":0},{"$f":"VLOOKUP(A42, localcont!$D$10:$L$1764, 9)*F42","v":0}]
[72,15,"Athol                        ",615,"Athol Royalston",9974689,{"$f":"VLOOKUP(A43, localcont!$D$10:$L$1764, 8)","v":29707191.686715238},{"$f":"VLOOKUP(A43, localcont!$D$10:$L$1764, 9)*F43","v":9259521.4577005561}]
[73,15,"Athol                        ",832,"Montachusett",9974689,{"$f":"VLOOKUP(A44, localcont!$D$10:$L$1764, 8)","v":2294461.9075900507},{"$f":"VLOOKUP(A44, localcont!$D$10:$L$1764, 9)*F44","v":715167.54229944444}]
[76,16,"Attleboro                    ",16,"Attleboro",56414082,{"$f":"VLOOKUP(A45, localcont!$D$10:$L$1764, 8)","v":113893945.42000003},{"$f":"VLOOKUP(A45, localcont!$D$10:$L$1764, 9)*F45","v":56143913.684403241}]
[77,16,"Attleboro                    ",910,"Bristol County",56414082,{"$f":"VLOOKUP(A46, localcont!$D$10:$L$1764, 8)","v":548065.3800474006},{"$f":"VLOOKUP(A46, localcont!$D$10:$L$1764, 9)*F46","v":270168.31559676171}]
[81,17,"Auburn                       ",17,"Auburn",23067400,{"$f":"VLOOKUP(A47, localcont!$D$10:$L$1764, 8)","v":34749450.580000006},{"$f":"VLOOKUP(A47, localcont!$D$10:$L$1764, 9)*F47","v":21130557.225070037}]
[82,17,"Auburn                       ",876,"Southern Worcester",23067400,{"$f":"VLOOKUP(A48, localcont!$D$10:$L$1764, 8)","v":3185160.7873741603},{"$f":"VLOOKUP(A48, localcont!$D$10:$L$1764, 9)*F48","v":1936842.7749299633}]
[86,18,"Avon                         ",18,"Avon",7517936,{"$f":"VLOOKUP(A49, localcont!$D$10:$L$1764, 8)","v":10182039.74},{"$f":"VLOOKUP(A49, localcont!$D$10:$L$1764, 9)*F49","v":6440478.9628167124}]
[87,18,"Avon                         ",806,"Blue Hills",7517936,{"$f":"VLOOKUP(A50, localcont!$D$10:$L$1764, 8)","v":1610894.5639479947},{"$f":"VLOOKUP(A50, localcont!$D$10:$L$1764, 9)*F50","v":1018944.4173611976}]
[88,18,"Avon                         ",915,"Norfolk County",7517936,{"$f":"VLOOKUP(A51, localcont!$D$10:$L$1764, 8)","v":92505.204001081569},{"$f":"VLOOKUP(A51, localcont!$D$10:$L$1764, 9)*F51","v":58512.619822090201}]
[91,19,"Ayer                         ",19,"Ayer",13047635,{"$f":"VLOOKUP(A52, localcont!$D$10:$L$1764, 8)","v":0},{"$f":"VLOOKUP(A52, localcont!$D$10:$L$1764, 9)*F52","v":0}]
[92,19,"Ayer                         ",616,"Ayer Shirley",13047635,{"$f":"VLOOKUP(A53, localcont!$D$10:$L$1764, 8)","v":14328146.853214607},{"$f":"VLOOKUP(A53, localcont!$D$10:$L$1764, 9)*F53","v":11947658.568617694}]
[93,19,"Ayer                         ",852,"Nashoba Valley",13047635,{"$f":"VLOOKUP(A54, localcont!$D$10:$L$1764, 8)","v":1319139.1228167708},{"$f":"VLOOKUP(A54, localcont!$D$10:$L$1764, 9)*F54","v":1099976.4313823059}]
[96,20,"Barnstable                   ",20,"Barnstable",128871442,{"$f":"VLOOKUP(A55, localcont!$D$10:$L$1764, 8)","v":92442313.109999999},{"$f":"VLOOKUP(A55, localcont!$D$10:$L$1764, 9)*F55","v":122920299.28884412}]
[97,20,"Barnstable                   ",815,"Cape Cod",128871442,{"$f":"VLOOKUP(A56, localcont!$D$10:$L$1764, 8)","v":4475561.8156625619},{"$f":"VLOOKUP(A56, localcont!$D$10:$L$1764, 9)*F56","v":5951142.7111558653}]
[101,21,"Barre                        ",21,"Barre",5627449,{"$f":"VLOOKUP(A57, localcont!$D$10:$L$1764, 8)","v":0},{"$f":"VLOOKUP(A57, localcont!$D$10:$L$1764, 9)*F57","v":0}]
[102,21,"Barre                        ",753,"Quabbin",5627449,{"$f":"VLOOKUP(A58, localcont!$D$10:$L$1764, 8)","v":11126553.71322155},{"$f":"VLOOKUP(A58, localcont!$D$10:$L$1764, 9)*F58","v":5183728.7374256048}]
[103,21,"Barre                        ",832,"Montachusett",5627449,{"$f":"VLOOKUP(A59, localcont!$D$10:$L$1764, 8)","v":952418.15018867725},{"$f":"VLOOKUP(A59, localcont!$D$10:$L$1764, 9)*F59","v":443720.26257439557}]
[106,22,"Becket                       ",22,"Becket",3653798,{"$f":"VLOOKUP(A60, localcont!$D$10:$L$1764, 8)","v":340043.92000000004},{"$f":"VLOOKUP(A60, localcont!$D$10:$L$1764, 9)*F60","v":398928.08982824226}]
[107,22,"Becket                       ",635,"Central Berkshire",3653798,{"$f":"VLOOKUP(A61, localcont!$D$10:$L$1764, 8)","v":2774431.6621609237},{"$f":"VLOOKUP(A61, localcont!$D$10:$L$1764, 9)*F61","v":3254869.9101717575}]
[111,23,"Bedford                      ",23,"Bedford",39599133,{"$f":"VLOOKUP(A62, localcont!$D$10:$L$1764, 8)","v":35093223.97964},{"$f":"VLOOKUP(A62, localcont!$D$10:$L$1764, 9)*F62","v":38366235.88979201}]
[112,23,"Bedford                      ",871,"Shawsheen Valley",39599133,{"$f":"VLOOKUP(A63, localcont!$D$10:$L$1764, 8)","v":1127719.0328669092},{"$f":"VLOOKUP(A63, localcont!$D$10:$L$1764, 9)*F63","v":1232897.1102079914}]
[116,24,"Belchertown                  ",24,"Belchertown",19163134,{"$f":"VLOOKUP(A64, localcont!$D$10:$L$1764, 8)","v":28303896.729999997},{"$f":"VLOOKUP(A64, localcont!$D$10:$L$1764, 9)*F64","v":17752030.713311885}]
[117,24,"Belchertown                  ",860,"Pathfinder",19163134,{"$f":"VLOOKUP(A65, localcont!$D$10:$L$1764, 8)","v":2249867.7670624997},{"$f":"VLOOKUP(A65, localcont!$D$10:$L$1764, 9)*F65","v":1411103.2866881129}]
[121,25,"Bellingham                   ",25,"Bellingham",26594217,{"$f":"VLOOKUP(A66, localcont!$D$10:$L$1764, 8)","v":34592550.339999989},{"$f":"VLOOKUP(A66, localcont!$D$10:$L$1764, 9)*F66","v":25171750.301542055}]
[122,25,"Bellingham                   ",805,"Blackstone Valley",26594217,{"$f":"VLOOKUP(A67, localcont!$D$10:$L$1764, 8)","v":1607945.7437120001},{"$f":"VLOOKUP(A67, localcont!$D$10:$L$1764, 9)*F67","v":1170044.0806280784}]
[123,25,"Bellingham                   ",915,"Norfolk County",26594217,{"$f":"VLOOKUP(A68, localcont!$D$10:$L$1764, 8)","v":346894.51506672817},{"$f":"VLOOKUP(A68, localcont!$D$10:$L$1764, 9)*F68","v":252422.61782986548}]
[126,26,"Belmont                      ",26,"Belmont",88735159,{"$f":"VLOOKUP(A69, localcont!$D$10:$L$1764, 8)","v":64651862.962739997},{"$f":"VLOOKUP(A69, localcont!$D$10:$L$1764, 9)*F69","v":88735159}]
[131,27,"Berkley                      ",27,"Berkley",10080546,{"$f":"VLOOKUP(A70, localcont!$D$10:$L$1764, 8)","v":8934075.3899999987},{"$f":"VLOOKUP(A70, localcont!$D$10:$L$1764, 9)*F70","v":5914312.4661532938}]
[132,27,"Berkley                      ",763,"Somerset Berkley",10080546,{"$f":"VLOOKUP(A71, localcont!$D$10:$L$1764, 8)","v":3690552.3980218587},{"$f":"VLOOKUP(A71, localcont!$D$10:$L$1764, 9)*F71","v":2443126.9159698253}]
[133,27,"Berkley                      ",810,"Bristol Plymouth",10080546,{"$f":"VLOOKUP(A72, localcont!$D$10:$L$1764, 8)","v":2142525.1671923026},{"$f":"VLOOKUP(A72, localcont!$D$10:$L$1764, 9)*F72","v":1418340.763002293}]
[134,27,"Berkley                      ",910,"Bristol County",10080546,{"$f":"VLOOKUP(A73, localcont!$D$10:$L$1764, 8)","v":460374.91920312686},{"$f":"VLOOKUP(A73, localcont!$D$10:$L$1764, 9)*F73","v":304765.85487458808}]
[136,28,"Berlin                       ",28,"Berlin",7805776,{"$f":"VLOOKUP(A74, localcont!$D$10:$L$1764, 8)","v":0},{"$f":"VLOOKUP(A74, localcont!$D$10:$L$1764, 9)*F74","v":0}]
[137,28,"Berlin                       ",620,"Berlin Boylston",{"$f":"VLOOKUP(B75, town351, 7)","v":7805776},{"$f":"VLOOKUP(A75, localcont!$D$10:$L$1764, 8)","v":5524540.9808751261},{"$f":"VLOOKUP(A75, localcont!$D$10:$L$1764, 9)*F75","v":6649967.7453072052}]
[138,28,"Berlin                       ",801,"Assabet Valley",7805776,{"$f":"VLOOKUP(A76, localcont!$D$10:$L$1764, 8)","v":960201.66016446112},{"$f":"VLOOKUP(A76, localcont!$D$10:$L$1764, 9)*F76","v":1155808.2546927943}]
[141,29,"Bernardston                  ",29,"Bernardston",2422793,{"$f":"VLOOKUP(A77, localcont!$D$10:$L$1764, 8)","v":0},{"$f":"VLOOKUP(A77, localcont!$D$10:$L$1764, 9)*F77","v":0}]
[142,29,"Bernardston                  ",750,"Pioneer",2422793,{"$f":"VLOOKUP(A78, localcont!$D$10:$L$1764, 8)","v":3424454.3414946166},{"$f":"VLOOKUP(A78, localcont!$D$10:$L$1764, 9)*F78","v":2093722.9718622793}]
[143,29,"Bernardston                  ",818,"Franklin County",2422793,{"$f":"VLOOKUP(A79, localcont!$D$10:$L$1764, 8)","v":538220.81605650799},{"$f":"VLOOKUP(A79, localcont!$D$10:$L$1764, 9)*F79","v":329070.02813772066}]
[146,30,"Beverly                      ",30,"Beverly",74780576,{"$f":"VLOOKUP(A80, localcont!$D$10:$L$1764, 8)","v":67719159.889999986},{"$f":"VLOOKUP(A80, localcont!$D$10:$L$1764, 9)*F80","v":69688296.589933947}]
[147,30,"Beverly                      ",817,"Essex North Shore",74780576,{"$f":"VLOOKUP(A81, localcont!$D$10:$L$1764, 8)","v":4948390.1953291334},{"$f":"VLOOKUP(A81, localcont!$D$10:$L$1764, 9)*F81","v":5092279.4100660533}]
[151,31,"Billerica                    ",31,"Billerica",72465190,{"$f":"VLOOKUP(A82, localcont!$D$10:$L$1764, 8)","v":72151964.440000013},{"$f":"VLOOKUP(A82, localcont!$D$10:$L$1764, 9)*F82","v":63512311.397916324}]
[152,31,"Billerica                    ",871,"Shawsheen Valley",72465190,{"$f":"VLOOKUP(A83, localcont!$D$10:$L$1764, 8)","v":10170749.01409384},{"$f":"VLOOKUP(A83, localcont!$D$10:$L$1764, 9)*F83","v":8952878.6020836756}]
[156,32,"Blackstone                   ",32,"Blackstone",11023568,{"$f":"VLOOKUP(A84, localcont!$D$10:$L$1764, 8)","v":162422.63999999998},{"$f":"VLOOKUP(A84, localcont!$D$10:$L$1764, 9)*F84","v":90079.980343954274}]
[157,32,"Blackstone                   ",622,"Blackstone Millville",11023568,{"$f":"VLOOKUP(A85, localcont!$D$10:$L$1764, 8)","v":18461158.018438976},{"$f":"VLOOKUP(A85, localcont!$D$10:$L$1764, 9)*F85","v":10238601.905667935}]
[158,32,"Blackstone                   ",805,"Blackstone Valley",11023568,{"$f":"VLOOKUP(A86, localcont!$D$10:$L$1764, 8)","v":1252944.73536},{"$f":"VLOOKUP(A86, localcont!$D$10:$L$1764, 9)*F86","v":694886.11398811033}]
[161,33,"Blandford                    ",33,"Blandford",1749403,{"$f":"VLOOKUP(A87, localcont!$D$10:$L$1764, 8)","v":231762.16},{"$f":"VLOOKUP(A87, localcont!$D$10:$L$1764, 9)*F87","v":205568.78882412511}]
[162,33,"Blandford                    ",672,"Gateway",1749403,{"$f":"VLOOKUP(A88, localcont!$D$10:$L$1764, 8)","v":1740548.0350917261},{"$f":"VLOOKUP(A88, localcont!$D$10:$L$1764, 9)*F88","v":1543834.211175875}]
[166,34,"Bolton                       ",34,"Bolton",14162986,{"$f":"VLOOKUP(A89, localcont!$D$10:$L$1764, 8)","v":18620.186329999997},{"$f":"VLOOKUP(A89, localcont!$D$10:$L$1764, 9)*F89","v":18020.359638957194}]
[167,34,"Bolton                       ",725,"Nashoba",14162986,{"$f":"VLOOKUP(A90, localcont!$D$10:$L$1764, 8)","v":13914177.272225391},{"$f":"VLOOKUP(A90, localcont!$D$10:$L$1764, 9)*F90","v":13465948.948197555}]
[168,34,"Bolton                       ",830,"Minuteman",14162986,{"$f":"VLOOKUP(A91, localcont!$D$10:$L$1764, 8)","v":701618.47946315713},{"$f":"VLOOKUP(A91, localcont!$D$10:$L$1764, 9)*F91","v":679016.6921634879}]
[171,35,"Boston                       ",35,"Boston",1493151121,{"$f":"VLOOKUP(A92, localcont!$D$10:$L$1764, 8)","v":1258580176.0585201},{"$f":"VLOOKUP(A92, localcont!$D$10:$L$1764, 9)*F92","v":1493151121}]
[176,36,"Bourne                       ",36,"Bourne",42618986,{"$f":"VLOOKUP(A93, localcont!$D$10:$L$1764, 8)","v":24467743.599999998},{"$f":"VLOOKUP(A93, localcont!$D$10:$L$1764, 9)*F93","v":34833433.112001956}]
[177,36,"Bourne                       ",879,"Upper Cape Cod",42618986,{"$f":"VLOOKUP(A94, localcont!$D$10:$L$1764, 8)","v":5468737.7851980999},{"$f":"VLOOKUP(A94, localcont!$D$10:$L$1764, 9)*F94","v":7785552.8879980473}]
[181,37,"Boxborough                   ",37,"Boxborough",12841979,{"$f":"VLOOKUP(A95, localcont!$D$10:$L$1764, 8)","v":58544.935950000006},{"$f":"VLOOKUP(A95, localcont!$D$10:$L$1764, 9)*F95","v":59596.287459873987}]
[182,37,"Boxborough                   ",600,"Acton Boxborough",12841979,{"$f":"VLOOKUP(A96, localcont!$D$10:$L$1764, 8)","v":12556885.824438425},{"$f":"VLOOKUP(A96, localcont!$D$10:$L$1764, 9)*F96","v":12782382.712540127}]
[186,38,"Boxford",38,"Boxford",23926848,{"$f":"VLOOKUP(A97, localcont!$D$10:$L$1764, 8)","v":9544654.4138799999},{"$f":"VLOOKUP(A97, localcont!$D$10:$L$1764, 9)*F97","v":12324548.578193603}]
[187,38,"Boxford",705,"Masconomet",23926848,{"$f":"VLOOKUP(A98, localcont!$D$10:$L$1764, 8)","v":8101672.8535464499},{"$f":"VLOOKUP(A98, localcont!$D$10:$L$1764, 9)*F98","v":10461296.587434618}]
[188,38,"Boxford",817,"Essex North Shore",23926848,{"$f":"VLOOKUP(A99, localcont!$D$10:$L$1764, 8)","v":883641.10622317111},{"$f":"VLOOKUP(A99, localcont!$D$10:$L$1764, 9)*F99","v":1141002.8343717805}]
[191,39,"Boylston                     ",39,"Boylston",10469685,{"$f":"VLOOKUP(A100, localcont!$D$10:$L$1764, 8)","v":54140.88},{"$f":"VLOOKUP(A100, localcont!$D$10:$L$1764, 9)*F100","v":62243.850425089775}]
[192,39,"Boylston                     ",620,"Berlin Boylston",10469685,{"$f":"VLOOKUP(A101, localcont!$D$10:$L$1764, 8)","v":9052589.4291248694},{"$f":"VLOOKUP(A101, localcont!$D$10:$L$1764, 9)*F101","v":10407441.149574909}]
[196,40,"Braintree                    ",40,"Braintree",67131600,{"$f":"VLOOKUP(A102, localcont!$D$10:$L$1764, 8)","v":76951750.130320013},{"$f":"VLOOKUP(A102, localcont!$D$10:$L$1764, 9)*F102","v":63874584.682131156}]
[197,40,"Braintree                    ",806,"Blue Hills",67131600,{"$f":"VLOOKUP(A103, localcont!$D$10:$L$1764, 8)","v":3438177.9497433067},{"$f":"VLOOKUP(A103, localcont!$D$10:$L$1764, 9)*F103","v":2853894.6577718547}]
[198,40,"Braintree                    ",915,"Norfolk County",67131600,{"$f":"VLOOKUP(A104, localcont!$D$10:$L$1764, 8)","v":485652.32106835057},{"$f":"VLOOKUP(A104, localcont!$D$10:$L$1764, 9)*F104","v":403120.66009699868}]
[201,41,"Brewster                     ",41,"Brewster",32844027,{"$f":"VLOOKUP(A105, localcont!$D$10:$L$1764, 8)","v":5944818.4399999995},{"$f":"VLOOKUP(A105, localcont!$D$10:$L$1764, 9)*F105","v":12555860.342149068}]
[202,41,"Brewster                     ",660,"Nauset",32844027,{"$f":"VLOOKUP(A106, localcont!$D$10:$L$1764, 8)","v":8188944.1782562137},{"$f":"VLOOKUP(A106, localcont!$D$10:$L$1764, 9)*F106","v":17295606.331728388}]
[203,41,"Brewster                     ",815,"Cape Cod",32844027,{"$f":"VLOOKUP(A107, localcont!$D$10:$L$1764, 8)","v":1416886.4040184701},{"$f":"VLOOKUP(A107, localcont!$D$10:$L$1764, 9)*F107","v":2992560.3261225433}]
[206,42,"Bridgewater                  ",42,"Bridgewater",37107155,{"$f":"VLOOKUP(A108, localcont!$D$10:$L$1764, 8)","v":430278.72000000003},{"$f":"VLOOKUP(A108, localcont!$D$10:$L$1764, 9)*F108","v":287477.24475734436}]
[207,42,"Bridgewater                  ",625,"Bridgewater Raynham",37107155,{"$f":"VLOOKUP(A109, localcont!$D$10:$L$1764, 8)","v":51300554.526255645},{"$f":"VLOOKUP(A109, localcont!$D$10:$L$1764, 9)*F109","v":34274858.096007824}]
[208,42,"Bridgewater                  ",810,"Bristol Plymouth",37107155,{"$f":"VLOOKUP(A110, localcont!$D$10:$L$1764, 8)","v":3808933.6306623472},{"$f":"VLOOKUP(A110, localcont!$D$10:$L$1764, 9)*F110","v":2544819.659234832}]
[211,43,"Brimfield                    ",43,"Brimfield",4828123,{"$f":"VLOOKUP(A111, localcont!$D$10:$L$1764, 8)","v":3601518.5399999996},{"$f":"VLOOKUP(A111, localcont!$D$10:$L$1764, 9)*F111","v":2173995.6905651712}]
[212,43,"Brimfield                    ",770,"Tantasqua",4828123,{"$f":"VLOOKUP(A112, localcont!$D$10:$L$1764, 8)","v":4396921.6470547998},{"$f":"VLOOKUP(A112, localcont!$D$10:$L$1764, 9)*F112","v":2654127.3094348283}]
[216,44,"Brockton                     ",44,"Brockton",89824901,{"$f":"VLOOKUP(A113, localcont!$D$10:$L$1764, 8)","v":352935379.09999996},{"$f":"VLOOKUP(A113, localcont!$D$10:$L$1764, 9)*F113","v":83447074.146325216}]
[217,44,"Brockton                     ",872,"Southeastern",89824901,{"$f":"VLOOKUP(A114, localcont!$D$10:$L$1764, 8)","v":26974711.354034826},{"$f":"VLOOKUP(A114, localcont!$D$10:$L$1764, 9)*F114","v":6377826.8536747694}]
[221,45,"Brookfield                   ",45,"Brookfield",3469928,{"$f":"VLOOKUP(A115, localcont!$D$10:$L$1764, 8)","v":3203866.4800000004},{"$f":"VLOOKUP(A115, localcont!$D$10:$L$1764, 9)*F115","v":1682258.9555733288}]
[222,45,"Brookfield                   ",770,"Tantasqua",3469928,{"$f":"VLOOKUP(A116, localcont!$D$10:$L$1764, 8)","v":3404620.2636028035},{"$f":"VLOOKUP(A116, localcont!$D$10:$L$1764, 9)*F116","v":1787669.0444266712}]
[226,46,"Brookline                    ",46,"Brookline",213575205,{"$f":"VLOOKUP(A117, localcont!$D$10:$L$1764, 8)","v":98953992.458999991},{"$f":"VLOOKUP(A117, localcont!$D$10:$L$1764, 9)*F117","v":213575205}]
[227,46,"Brookline                    ",915,"Norfolk County",213575205,{"$f":"VLOOKUP(A118, localcont!$D$10:$L$1764, 8)","v":0},{"$f":"VLOOKUP(A118, localcont!$D$10:$L$1764, 9)*F118","v":0}]
[231,47,"Buckland                     ",47,"Buckland",1809485,{"$f":"VLOOKUP(A119, localcont!$D$10:$L$1764, 8)","v":18046.96},{"$f":"VLOOKUP(A119, localcont!$D$10:$L$1764, 9)*F119","v":10738.552466910138}]
[232,47,"Buckland                     ",717,"Mohawk Trail",1809485,{"$f":"VLOOKUP(A120, localcont!$D$10:$L$1764, 8)","v":2484710.3740457101},{"$f":"VLOOKUP(A120, localcont!$D$10:$L$1764, 9)*F120","v":1478486.8319520722}]
[233,47,"Buckland                     ",818,"Franklin County",1809485,{"$f":"VLOOKUP(A121, localcont!$D$10:$L$1764, 8)","v":538220.81605650799},{"$f":"VLOOKUP(A121, localcont!$D$10:$L$1764, 9)*F121","v":320259.61558101757}]
[236,48,"Burlington                   ",48,"Burlington",63428504,{"$f":"VLOOKUP(A122, localcont!$D$10:$L$1764, 8)","v":52951493.562580004},{"$f":"VLOOKUP(A122, localcont!$D$10:$L$1764, 9)*F122","v":59981812.233820945}]
[237,48,"Burlington                   ",871,"Shawsheen Valley",63428504,{"$f":"VLOOKUP(A123, localcont!$D$10:$L$1764, 8)","v":3042713.6172141219},{"$f":"VLOOKUP(A123, localcont!$D$10:$L$1764, 9)*F123","v":3446691.7661790522}]
[241,49,"Cambridge                    ",49,"Cambridge",433182278,{"$f":"VLOOKUP(A124, localcont!$D$10:$L$1764, 8)","v":130485995.78392002},{"$f":"VLOOKUP(A124, localcont!$D$10:$L$1764, 9)*F124","v":433182278}]
[246,50,"Canton                       ",50,"Canton",56708685,{"$f":"VLOOKUP(A125, localcont!$D$10:$L$1764, 8)","v":49640688.383860007},{"$f":"VLOOKUP(A125, localcont!$D$10:$L$1764, 9)*F125","v":54073463.258862816}]
[247,50,"Canton                       ",806,"Blue Hills",56708685,{"$f":"VLOOKUP(A126, localcont!$D$10:$L$1764, 8)","v":2187931.422725318},{"$f":"VLOOKUP(A126, localcont!$D$10:$L$1764, 9)*F126","v":2383307.5900316378}]
[248,50,"Canton                       ",915,"Norfolk County",56708685,{"$f":"VLOOKUP(A127, localcont!$D$10:$L$1764, 8)","v":231263.01000270396},{"$f":"VLOOKUP(A127, localcont!$D$10:$L$1764, 9)*F127","v":251914.15110555009}]
[251,51,"Carlisle                     ",51,"Carlisle",20721321,{"$f":"VLOOKUP(A128, localcont!$D$10:$L$1764, 8)","v":7493326.1847400004},{"$f":"VLOOKUP(A128, localcont!$D$10:$L$1764, 9)*F128","v":12910017.844397373}]
[252,51,"Carlisle                     ",640,"Concord Carlisle",20721321,{"$f":"VLOOKUP(A129, localcont!$D$10:$L$1764, 8)","v":4533893.2275930997},{"$f":"VLOOKUP(A129, localcont!$D$10:$L$1764, 9)*F129","v":7811303.1556026237}]
[256,52,"Carver                       ",52,"Carver",14936546,{"$f":"VLOOKUP(A130, localcont!$D$10:$L$1764, 8)","v":21694607.700759999},{"$f":"VLOOKUP(A130, localcont!$D$10:$L$1764, 9)*F130","v":13640721.289146392}]
[257,52,"Carver                       ",855,"Old Colony",14936546,{"$f":"VLOOKUP(A131, localcont!$D$10:$L$1764, 8)","v":2060918.0522798458},{"$f":"VLOOKUP(A131, localcont!$D$10:$L$1764, 9)*F131","v":1295824.7108536093}]
[261,53,"Charlemont                   ",53,"Charlemont",1375449,{"$f":"VLOOKUP(A132, localcont!$D$10:$L$1764, 8)","v":303950},{"$f":"VLOOKUP(A132, localcont!$D$10:$L$1764, 9)*F132","v":211577.46564648516}]
[262,53,"Charlemont                   ",685,"Hawlemont",1375449,{"$f":"VLOOKUP(A133, localcont!$D$10:$L$1764, 8)","v":1153047.3190272728},{"$f":"VLOOKUP(A133, localcont!$D$10:$L$1764, 9)*F133","v":802628.16098129493}]
[263,53,"Charlemont                   ",717,"Mohawk Trail",1375449,{"$f":"VLOOKUP(A134, localcont!$D$10:$L$1764, 8)","v":518958.49589174014},{"$f":"VLOOKUP(A134, localcont!$D$10:$L$1764, 9)*F134","v":361243.37337221997}]
[266,54,"Charlton                     ",54,"Charlton",20844355,{"$f":"VLOOKUP(A135, localcont!$D$10:$L$1764, 8)","v":0},{"$f":"VLOOKUP(A135, localcont!$D$10:$L$1764, 9)*F135","v":0}]
[267,54,"Charlton                     ",658,"Dudley Charlton",20844355,{"$f":"VLOOKUP(A136, localcont!$D$10:$L$1764, 8)","v":26987451.682943869},{"$f":"VLOOKUP(A136, localcont!$D$10:$L$1764, 9)*F136","v":18308386.948904742}]
[268,54,"Charlton                     ",876,"Southern Worcester",20844355,{"$f":"VLOOKUP(A137, localcont!$D$10:$L$1764, 8)","v":3738140.0906275241},{"$f":"VLOOKUP(A137, localcont!$D$10:$L$1764, 9)*F137","v":2535968.0510952561}]
[271,55,"Chatham                      ",55,"Chatham",51788801,{"$f":"VLOOKUP(A138, localcont!$D$10:$L$1764, 8)","v":0},{"$f":"VLOOKUP(A138, localcont!$D$10:$L$1764, 9)*F138","v":0}]
[272,55,"Chatham                      ",712,"Monomoy",{"$f":"VLOOKUP(B139, town351, 7)","v":51788801},{"$f":"VLOOKUP(A139, localcont!$D$10:$L$1764, 8)","v":5482159.8411227893},{"$f":"VLOOKUP(A139, localcont!$D$10:$L$1764, 9)*F139","v":48043945.567229949}]
[273,55,"Chatham                      ",815,"Cape Cod",51788801,{"$f":"VLOOKUP(A140, localcont!$D$10:$L$1764, 8)","v":427314.94722085411},{"$f":"VLOOKUP(A140, localcont!$D$10:$L$1764, 9)*F140","v":3744855.4327700469}]
[276,56,"Chelmsford                   ",56,"Chelmsford",72186846,{"$f":"VLOOKUP(A141, localcont!$D$10:$L$1764, 8)","v":72340954.5},{"$f":"VLOOKUP(A141, localcont!$D$10:$L$1764, 9)*F141","v":67739981.075314656}]
[277,56,"Chelmsford                   ",852,"Nashoba Valley",72186846,{"$f":"VLOOKUP(A142, localcont!$D$10:$L$1764, 8)","v":4748900.8422758058},{"$f":"VLOOKUP(A142, localcont!$D$10:$L$1764, 9)*F142","v":4446864.9246853506}]
[281,57,"Chelsea                      ",57,"Chelsea",38797733,{"$f":"VLOOKUP(A143, localcont!$D$10:$L$1764, 8)","v":158213129.28880003},{"$f":"VLOOKUP(A143, localcont!$D$10:$L$1764, 9)*F143","v":37321358.785742566}]
[282,57,"Chelsea                      ",853,"Northeast Metropolitan",38797733,{"$f":"VLOOKUP(A144, localcont!$D$10:$L$1764, 8)","v":6258662.3863275237},{"$f":"VLOOKUP(A144, localcont!$D$10:$L$1764, 9)*F144","v":1476374.2142574296}]
[286,58,"Cheshire                     ",58,"Cheshire",3454921,{"$f":"VLOOKUP(A145, localcont!$D$10:$L$1764, 8)","v":0},{"$f":"VLOOKUP(A145, localcont!$D$10:$L$1764, 9)*F145","v":0}]
[287,58,"Cheshire                     ",603,"Hoosac Valley",3454921,{"$f":"VLOOKUP(A146, localcont!$D$10:$L$1764, 8)","v":5382876.3900538282},{"$f":"VLOOKUP(A146, localcont!$D$10:$L$1764, 9)*F146","v":2863555.23922745}]
[288,58,"Cheshire                     ",851,"Northern Berkshire",3454921,{"$f":"VLOOKUP(A147, localcont!$D$10:$L$1764, 8)","v":1111642.1810000001},{"$f":"VLOOKUP(A147, localcont!$D$10:$L$1764, 9)*F147","v":591365.76077255001}]
[291,59,"Chester                      ",59,"Chester",1192171,{"$f":"VLOOKUP(A148, localcont!$D$10:$L$1764, 8)","v":231762.16},{"$f":"VLOOKUP(A148, localcont!$D$10:$L$1764, 9)*F148","v":125708.85888120328}]
[292,59,"Chester                      ",672,"Gateway",1192171,{"$f":"VLOOKUP(A149, localcont!$D$10:$L$1764, 8)","v":1966174.6322706835},{"$f":"VLOOKUP(A149, localcont!$D$10:$L$1764, 9)*F149","v":1066462.1411187968}]
[296,60,"Chesterfield                 ",60,"Chesterfield",1365539,{"$f":"VLOOKUP(A150, localcont!$D$10:$L$1764, 8)","v":108281.76},{"$f":"VLOOKUP(A150, localcont!$D$10:$L$1764, 9)*F150","v":98038.269318069782}]
[297,60,"Chesterfield                 ",632,"Chesterfield Goshen",1365539,{"$f":"VLOOKUP(A151, localcont!$D$10:$L$1764, 8)","v":913862.75388549641},{"$f":"VLOOKUP(A151, localcont!$D$10:$L$1764, 9)*F151","v":827411.03197047429}]
[298,60,"Chesterfield                 ",683,"Hampshire",1365539,{"$f":"VLOOKUP(A152, localcont!$D$10:$L$1764, 8)","v":486072.30080471188},{"$f":"VLOOKUP(A152, localcont!$D$10:$L$1764, 9)*F152","v":440089.69871145586}]
[301,61,"Chicopee                     ",61,"Chicopee",42239910,{"$f":"VLOOKUP(A153, localcont!$D$10:$L$1764, 8)","v":136875016.69},{"$f":"VLOOKUP(A153, localcont!$D$10:$L$1764, 9)*F153","v":42239910}]
[306,62,"Chilmark                     ",62,"Chilmark",21243457,{"$f":"VLOOKUP(A154, localcont!$D$10:$L$1764, 8)","v":0},{"$f":"VLOOKUP(A154, localcont!$D$10:$L$1764, 9)*F154","v":0}]
[307,62,"Chilmark                     ",700,"Marthas Vineyard",21243457,{"$f":"VLOOKUP(A155, localcont!$D$10:$L$1764, 8)","v":624508.37363747822},{"$f":"VLOOKUP(A155, localcont!$D$10:$L$1764, 9)*F155","v":8004977.0369697092}]
[308,62,"Chilmark                     ",774,"Upisland",21243457,{"$f":"VLOOKUP(A156, localcont!$D$10:$L$1764, 8)","v":1032800.1633186539},{"$f":"VLOOKUP(A156, localcont!$D$10:$L$1764, 9)*F156","v":13238479.963030292}]
[311,63,"Clarksburg                   ",63,"Clarksburg",1369481,{"$f":"VLOOKUP(A157, localcont!$D$10:$L$1764, 8)","v":3011061.5099999993},{"$f":"VLOOKUP(A157, localcont!$D$10:$L$1764, 9)*F157","v":966931.61847578792}]
[312,63,"Clarksburg                   ",851,"Northern Berkshire",1369481,{"$f":"VLOOKUP(A158, localcont!$D$10:$L$1764, 8)","v":1253553.9488227121},{"$f":"VLOOKUP(A158, localcont!$D$10:$L$1764, 9)*F158","v":402549.38152421213}]
[316,64,"Clinton                      ",64,"Clinton",17208656,{"$f":"VLOOKUP(A159, localcont!$D$10:$L$1764, 8)","v":38523372.390000001},{"$f":"VLOOKUP(A159, localcont!$D$10:$L$1764, 9)*F159","v":17208656}]
[321,65,"Cohasset                     ",65,"Cohasset",34984534,{"$f":"VLOOKUP(A160, localcont!$D$10:$L$1764, 8)","v":18899522.727249999},{"$f":"VLOOKUP(A160, localcont!$D$10:$L$1764, 9)*F160","v":34388329.502462678}]
[322,65,"Cohasset                     ",873,"South Shore",34984534,{"$f":"VLOOKUP(A161, localcont!$D$10:$L$1764, 8)","v":327668.73571129661},{"$f":"VLOOKUP(A161, localcont!$D$10:$L$1764, 9)*F161","v":596204.49753732956}]
[323,65,"Cohasset                     ",915,"Norfolk County",34984534,{"$f":"VLOOKUP(A162, localcont!$D$10:$L$1764, 8)","v":0},{"$f":"VLOOKUP(A162, localcont!$D$10:$L$1764, 9)*F162","v":0}]
[326,66,"Colrain                      ",66,"Colrain",1672662,{"$f":"VLOOKUP(A163, localcont!$D$10:$L$1764, 8)","v":18046.96},{"$f":"VLOOKUP(A163, localcont!$D$10:$L$1764, 9)*F163","v":9654.9394943088228}]
[327,66,"Colrain                      ",717,"Mohawk Trail",1672662,{"$f":"VLOOKUP(A164, localcont!$D$10:$L$1764, 8)","v":2453258.3440834},{"$f":"VLOOKUP(A164, localcont!$D$10:$L$1764, 9)*F164","v":1312468.1872200903}]
[328,66,"Colrain                      ",818,"Franklin County",1672662,{"$f":"VLOOKUP(A165, localcont!$D$10:$L$1764, 8)","v":655225.34122138342},{"$f":"VLOOKUP(A165, localcont!$D$10:$L$1764, 9)*F165","v":350538.87328560097}]
[331,67,"Concord                      ",67,"Concord",82285788,{"$f":"VLOOKUP(A166, localcont!$D$10:$L$1764, 8)","v":24593938.521120001},{"$f":"VLOOKUP(A166, localcont!$D$10:$L$1764, 9)*F166","v":52075030.05249799}]
[332,67,"Concord                      ",640,"Concord Carlisle",82285788,{"$f":"VLOOKUP(A167, localcont!$D$10:$L$1764, 8)","v":13317324.010316899},{"$f":"VLOOKUP(A167, localcont!$D$10:$L$1764, 9)*F167","v":28198006.897535488}]
[333,67,"Concord                      ",830,"Minuteman",82285788,{"$f":"VLOOKUP(A168, localcont!$D$10:$L$1764, 8)","v":950579.87544688932},{"$f":"VLOOKUP(A168, localcont!$D$10:$L$1764, 9)*F168","v":2012751.0499665297}]
[336,68,"Conway                       ",68,"Conway",2522801,{"$f":"VLOOKUP(A169, localcont!$D$10:$L$1764, 8)","v":1135501.8099999998},{"$f":"VLOOKUP(A169, localcont!$D$10:$L$1764, 9)*F169","v":1282430.0534686917}]
[337,68,"Conway                       ",670,"Frontier",2522801,{"$f":"VLOOKUP(A170, localcont!$D$10:$L$1764, 8)","v":1004657.8023479682},{"$f":"VLOOKUP(A170, localcont!$D$10:$L$1764, 9)*F170","v":1134655.4869717408}]
[338,68,"Conway                       ",818,"Franklin County",2522801,{"$f":"VLOOKUP(A171, localcont!$D$10:$L$1764, 8)","v":93603.620213195129},{"$f":"VLOOKUP(A171, localcont!$D$10:$L$1764, 9)*F171","v":105715.45955956771}]
[341,69,"Cummington                   ",69,"Cummington",1574991,{"$f":"VLOOKUP(A172, localcont!$D$10:$L$1764, 8)","v":126328.72},{"$f":"VLOOKUP(A172, localcont!$D$10:$L$1764, 9)*F172","v":212826.41145255699}]
[342,69,"Cummington                   ",635,"Central Berkshire",1574991,{"$f":"VLOOKUP(A173, localcont!$D$10:$L$1764, 8)","v":808548.65580856323},{"$f":"VLOOKUP(A173, localcont!$D$10:$L$1764, 9)*F173","v":1362164.588547443}]
[346,70,"Dalton                       ",70,"Dalton",7133425,{"$f":"VLOOKUP(A174, localcont!$D$10:$L$1764, 8)","v":643993.91999999993},{"$f":"VLOOKUP(A174, localcont!$D$10:$L$1764, 9)*F174","v":330923.75110052846}]
[347,70,"Dalton                       ",635,"Central Berkshire",7133425,{"$f":"VLOOKUP(A175, localcont!$D$10:$L$1764, 8)","v":13238002.502131887},{"$f":"VLOOKUP(A175, localcont!$D$10:$L$1764, 9)*F175","v":6802501.2488994719}]
[351,71,"Danvers                      ",71,"Danvers",50921064,{"$f":"VLOOKUP(A176, localcont!$D$10:$L$1764, 8)","v":45833930.899999999},{"$f":"VLOOKUP(A176, localcont!$D$10:$L$1764, 9)*F176","v":45720485.564820036}]
[352,71,"Danvers                      ",817,"Essex North Shore",50921064,{"$f":"VLOOKUP(A177, localcont!$D$10:$L$1764, 8)","v":5213482.5274357731},{"$f":"VLOOKUP(A177, localcont!$D$10:$L$1764, 9)*F177","v":5200578.4351799674}]
[356,72,"Dartmouth                    ",72,"Dartmouth",53778552,{"$f":"VLOOKUP(A178, localcont!$D$10:$L$1764, 8)","v":47009657.390000001},{"$f":"VLOOKUP(A178, localcont!$D$10:$L$1764, 9)*F178","v":46385935.304934919}]
[357,72,"Dartmouth                    ",825,"Greater New Bedford",53778552,{"$f":"VLOOKUP(A179, localcont!$D$10:$L$1764, 8)","v":7119336.0380701805},{"$f":"VLOOKUP(A179, localcont!$D$10:$L$1764, 9)*F179","v":7024876.9978541443}]
[358,72,"Dartmouth                    ",910,"Bristol County",53778552,{"$f":"VLOOKUP(A180, localcont!$D$10:$L$1764, 8)","v":372684.45835885307},{"$f":"VLOOKUP(A180, localcont!$D$10:$L$1764, 9)*F180","v":367739.69721093663}]
[361,73,"Dedham                       ",73,"Dedham",55743737,{"$f":"VLOOKUP(A181, localcont!$D$10:$L$1764, 8)","v":38674910.382760003},{"$f":"VLOOKUP(A181, localcont!$D$10:$L$1764, 9)*F181","v":52619578.876995228}]
[362,73,"Dedham                       ",806,"Blue Hills",55743737,{"$f":"VLOOKUP(A182, localcont!$D$10:$L$1764, 8)","v":1995585.803132877},{"$f":"VLOOKUP(A182, localcont!$D$10:$L$1764, 9)*F182","v":2715116.4290886344}]
[363,73,"Dedham                       ",915,"Norfolk County",55743737,{"$f":"VLOOKUP(A183, localcont!$D$10:$L$1764, 8)","v":300641.9130035151},{"$f":"VLOOKUP(A183, localcont!$D$10:$L$1764, 9)*F183","v":409041.69391614356}]
[366,74,"Deerfield                    ",74,"Deerfield",7914767,{"$f":"VLOOKUP(A184, localcont!$D$10:$L$1764, 8)","v":3599915.77},{"$f":"VLOOKUP(A184, localcont!$D$10:$L$1764, 9)*F184","v":3780816.6540737175}]
[367,74,"Deerfield                    ",670,"Frontier",7914767,{"$f":"VLOOKUP(A185, localcont!$D$10:$L$1764, 8)","v":3257526.813814634},{"$f":"VLOOKUP(A185, localcont!$D$10:$L$1764, 9)*F185","v":3421222.1661958671}]
[368,74,"Deerfield                    ",818,"Franklin County",7914767,{"$f":"VLOOKUP(A186, localcont!$D$10:$L$1764, 8)","v":678626.24630855513},{"$f":"VLOOKUP(A186, localcont!$D$10:$L$1764, 9)*F186","v":712728.17973041569}]
[371,75,"Dennis                       ",75,"Dennis",55002933,{"$f":"VLOOKUP(A187, localcont!$D$10:$L$1764, 8)","v":0},{"$f":"VLOOKUP(A187, localcont!$D$10:$L$1764, 9)*F187","v":0}]
[372,75,"Dennis                       ",645,"Dennis Yarmouth",55002933,{"$f":"VLOOKUP(A188, localcont!$D$10:$L$1764, 8)","v":17649105.589480229},{"$f":"VLOOKUP(A188, localcont!$D$10:$L$1764, 9)*F188","v":50146412.327411279}]
[373,75,"Dennis                       ",815,"Cape Cod",55002933,{"$f":"VLOOKUP(A189, localcont!$D$10:$L$1764, 8)","v":1709259.7888834164},{"$f":"VLOOKUP(A189, localcont!$D$10:$L$1764, 9)*F189","v":4856520.6725887144}]
[376,76,"Dighton                      ",76,"Dighton",11145906,{"$f":"VLOOKUP(A190, localcont!$D$10:$L$1764, 8)","v":0},{"$f":"VLOOKUP(A190, localcont!$D$10:$L$1764, 9)*F190","v":0}]
[377,76,"Dighton                      ",650,"Dighton Rehoboth",11145906,{"$f":"VLOOKUP(A191, localcont!$D$10:$L$1764, 8)","v":15714826.145815339},{"$f":"VLOOKUP(A191, localcont!$D$10:$L$1764, 9)*F191","v":9393895.7797799315}]
[378,76,"Dighton                      ",810,"Bristol Plymouth",11145906,{"$f":"VLOOKUP(A192, localcont!$D$10:$L$1764, 8)","v":2207450.1722051436},{"$f":"VLOOKUP(A192, localcont!$D$10:$L$1764, 9)*F192","v":1319553.6918029645}]
[379,76,"Dighton                      ",910,"Bristol County",11145906,{"$f":"VLOOKUP(A193, localcont!$D$10:$L$1764, 8)","v":723446.30162129283},{"$f":"VLOOKUP(A193, localcont!$D$10:$L$1764, 9)*F193","v":432456.52841710544}]
[381,77,"Douglas                      ",77,"Douglas",13251180,{"$f":"VLOOKUP(A194, localcont!$D$10:$L$1764, 8)","v":14629344.890000002},{"$f":"VLOOKUP(A194, localcont!$D$10:$L$1764, 9)*F194","v":11150238.846186109}]
[382,77,"Douglas                      ",805,"Blackstone Valley",13251180,{"$f":"VLOOKUP(A195, localcont!$D$10:$L$1764, 8)","v":2756478.4177919999},{"$f":"VLOOKUP(A195, localcont!$D$10:$L$1764, 9)*F195","v":2100941.153813893}]
[386,78,"Dover                        ",78,"Dover",37420641,{"$f":"VLOOKUP(A196, localcont!$D$10:$L$1764, 8)","v":6029124.488570001},{"$f":"VLOOKUP(A196, localcont!$D$10:$L$1764, 9)*F196","v":15567929.177933836}]
[387,78,"Dover                        ",655,"Dover Sherborn",37420641,{"$f":"VLOOKUP(A197, localcont!$D$10:$L$1764, 8)","v":8303175.4563376727},{"$f":"VLOOKUP(A197, localcont!$D$10:$L$1764, 9)*F197","v":21439804.021509308}]
[388,78,"Dover                        ",830,"Minuteman",37420641,{"$f":"VLOOKUP(A198, localcont!$D$10:$L$1764, 8)","v":90531.416695884953},{"$f":"VLOOKUP(A198, localcont!$D$10:$L$1764, 9)*F198","v":233763.07557945861}]
[389,78,"Dover                        ",915,"Norfolk County",37420641,{"$f":"VLOOKUP(A199, localcont!$D$10:$L$1764, 8)","v":69378.903000811173},{"$f":"VLOOKUP(A199, localcont!$D$10:$L$1764, 9)*F199","v":179144.72497739823}]
[391,79,"Dracut                       ",79,"Dracut",43148378,{"$f":"VLOOKUP(A200, localcont!$D$10:$L$1764, 8)","v":58046318.310000002},{"$f":"VLOOKUP(A200, localcont!$D$10:$L$1764, 9)*F200","v":35591935.951630041}]
[392,79,"Dracut                       ",828,"Greater Lowell",43148378,{"$f":"VLOOKUP(A201, localcont!$D$10:$L$1764, 8)","v":12323680.314182602},{"$f":"VLOOKUP(A201, localcont!$D$10:$L$1764, 9)*F201","v":7556442.048369959}]
[396,80,"Dudley                       ",80,"Dudley",12704712,{"$f":"VLOOKUP(A202, localcont!$D$10:$L$1764, 8)","v":18046.96},{"$f":"VLOOKUP(A202, localcont!$D$10:$L$1764, 9)*F202","v":8843.9035681613259}]
[397,80,"Dudley                       ",658,"Dudley Charlton",{"$f":"VLOOKUP(B203, town351, 7)","v":12704712},{"$f":"VLOOKUP(A203, localcont!$D$10:$L$1764, 8)","v":23275136.697056122},{"$f":"VLOOKUP(A203, localcont!$D$10:$L$1764, 9)*F203","v":11405968.899168462}]
[398,80,"Dudley                       ",876,"Southern Worcester",12704712,{"$f":"VLOOKUP(A204, localcont!$D$10:$L$1764, 8)","v":2632181.4838471822},{"$f":"VLOOKUP(A204, localcont!$D$10:$L$1764, 9)*F204","v":1289899.1972633768}]
[401,81,"Dunstable                    ",81,"Dunstable",6806144,{"$f":"VLOOKUP(A205, localcont!$D$10:$L$1764, 8)","v":0},{"$f":"VLOOKUP(A205, localcont!$D$10:$L$1764, 9)*F205","v":0}]
[402,81,"Dunstable                    ",673,"Groton Dunstable",6806144,{"$f":"VLOOKUP(A206, localcont!$D$10:$L$1764, 8)","v":7151503.4914152706},{"$f":"VLOOKUP(A206, localcont!$D$10:$L$1764, 9)*F206","v":6521365.2487785248}]
[403,81,"Dunstable                    ",828,"Greater Lowell",6806144,{"$f":"VLOOKUP(A207, localcont!$D$10:$L$1764, 8)","v":312295.99262558244},{"$f":"VLOOKUP(A207, localcont!$D$10:$L$1764, 9)*F207","v":284778.75122147618}]
[406,82,"Duxbury                      ",82,"Duxbury",54336342,{"$f":"VLOOKUP(A208, localcont!$D$10:$L$1764, 8)","v":35156207.320330001},{"$f":"VLOOKUP(A208, localcont!$D$10:$L$1764, 9)*F208","v":54336342}]
[411,83,"East Bridgewater             ",83,"East Bridgewater",19477427,{"$f":"VLOOKUP(A209, localcont!$D$10:$L$1764, 8)","v":28408134.669999994},{"$f":"VLOOKUP(A209, localcont!$D$10:$L$1764, 9)*F209","v":18058544.737282462}]
[412,83,"East Bridgewater             ",872,"Southeastern",19477427,{"$f":"VLOOKUP(A210, localcont!$D$10:$L$1764, 8)","v":2232062.3830190119},{"$f":"VLOOKUP(A210, localcont!$D$10:$L$1764, 9)*F210","v":1418882.262717538}]
[416,84,"East Brookfield              ",84,"East Brookfield",2732089,{"$f":"VLOOKUP(A211, localcont!$D$10:$L$1764, 8)","v":412231.75999999995},{"$f":"VLOOKUP(A211, localcont!$D$10:$L$1764, 9)*F211","v":234201.8329273095}]
[417,84,"East Brookfield              ",767,"Spencer East Brookfield",2732089,{"$f":"VLOOKUP(A212, localcont!$D$10:$L$1764, 8)","v":4396671.0691089481},{"$f":"VLOOKUP(A212, localcont!$D$10:$L$1764, 9)*F212","v":2497887.1670726906}]
[421,85,"Eastham                      ",85,"Eastham",21732564,{"$f":"VLOOKUP(A213, localcont!$D$10:$L$1764, 8)","v":3056888.3199999994},{"$f":"VLOOKUP(A213, localcont!$D$10:$L$1764, 9)*F213","v":9272669.9156999793}]
[422,85,"Eastham                      ",660,"Nauset",21732564,{"$f":"VLOOKUP(A214, localcont!$D$10:$L$1764, 8)","v":3500372.2172964881},{"$f":"VLOOKUP(A214, localcont!$D$10:$L$1764, 9)*F214","v":10617920.170887101}]
[423,85,"Eastham                      ",815,"Cape Cod",21732564,{"$f":"VLOOKUP(A215, localcont!$D$10:$L$1764, 8)","v":607237.03020238399},{"$f":"VLOOKUP(A215, localcont!$D$10:$L$1764, 9)*F215","v":1841973.9134129202}]
[426,86,"Easthampton                  ",86,"Easthampton",18205132,{"$f":"VLOOKUP(A216, localcont!$D$10:$L$1764, 8)","v":23938957.649999999},{"$f":"VLOOKUP(A216, localcont!$D$10:$L$1764, 9)*F216","v":18205132}]
[431,87,"East Longmeadow              ",87,"East Longmeadow",23496660,{"$f":"VLOOKUP(A217, localcont!$D$10:$L$1764, 8)","v":34286215.829999998},{"$f":"VLOOKUP(A217, localcont!$D$10:$L$1764, 9)*F217","v":23496660}]
[436,88,"Easton                       ",88,"Easton",44317600,{"$f":"VLOOKUP(A218, localcont!$D$10:$L$1764, 8)","v":46300939.709999993},{"$f":"VLOOKUP(A218, localcont!$D$10:$L$1764, 9)*F218","v":42354298.985732548}]
[437,88,"Easton                       ",872,"Southeastern",44317600,{"$f":"VLOOKUP(A219, localcont!$D$10:$L$1764, 8)","v":1970863.5936475887},{"$f":"VLOOKUP(A219, localcont!$D$10:$L$1764, 9)*F219","v":1802869.3678417196}]
[438,88,"Easton                       ",910,"Bristol County",44317600,{"$f":"VLOOKUP(A220, localcont!$D$10:$L$1764, 8)","v":175380.92157389229},{"$f":"VLOOKUP(A220, localcont!$D$10:$L$1764, 9)*F220","v":160431.64642573398}]
[441,89,"Edgartown                    ",89,"Edgartown",56169331,{"$f":"VLOOKUP(A221, localcont!$D$10:$L$1764, 8)","v":6499194.0899999999},{"$f":"VLOOKUP(A221, localcont!$D$10:$L$1764, 9)*F221","v":34447213.078727774}]
[442,89,"Edgartown                    ",700,"Marthas Vineyard",56169331,{"$f":"VLOOKUP(A222, localcont!$D$10:$L$1764, 8)","v":4098336.201932},{"$f":"VLOOKUP(A222, localcont!$D$10:$L$1764, 9)*F222","v":21722117.921272222}]
[446,90,"Egremont                     ",90,"Egremont",3829741,{"$f":"VLOOKUP(A223, localcont!$D$10:$L$1764, 8)","v":0},{"$f":"VLOOKUP(A223, localcont!$D$10:$L$1764, 9)*F223","v":0}]
[447,90,"Egremont                     ",765,"Southern Berkshire",3829741,{"$f":"VLOOKUP(A224, localcont!$D$10:$L$1764, 8)","v":1282161.5353810426},{"$f":"VLOOKUP(A224, localcont!$D$10:$L$1764, 9)*F224","v":3829741}]
[451,91,"Erving                       ",91,"Erving",3727024,{"$f":"VLOOKUP(A225, localcont!$D$10:$L$1764, 8)","v":2479188.0699999998},{"$f":"VLOOKUP(A225, localcont!$D$10:$L$1764, 9)*F225","v":3135170.3618639116}]
[452,91,"Erving                       ",818,"Franklin County",3727024,{"$f":"VLOOKUP(A226, localcont!$D$10:$L$1764, 8)","v":468018.10093048442},{"$f":"VLOOKUP(A226, localcont!$D$10:$L$1764, 9)*F226","v":591853.63813608838}]
[456,92,"Essex                        ",92,"Essex",9276996,{"$f":"VLOOKUP(A227, localcont!$D$10:$L$1764, 8)","v":0},{"$f":"VLOOKUP(A227, localcont!$D$10:$L$1764, 9)*F227","v":0}]
[457,92,"Essex                        ",698,"Manchester Essex",9276996,{"$f":"VLOOKUP(A228, localcont!$D$10:$L$1764, 8)","v":6445716.8849286167},{"$f":"VLOOKUP(A228, localcont!$D$10:$L$1764, 9)*F228","v":8910533.4137458559}]
[458,92,"Essex                        ",817,"Essex North Shore",9276996,{"$f":"VLOOKUP(A229, localcont!$D$10:$L$1764, 8)","v":265092.33176422806},{"$f":"VLOOKUP(A229, localcont!$D$10:$L$1764, 9)*F229","v":366462.5862541456}]
[461,93,"Everett                      ",93,"Everett",51006850,{"$f":"VLOOKUP(A230, localcont!$D$10:$L$1764, 8)","v":174880352.35727996},{"$f":"VLOOKUP(A230, localcont!$D$10:$L$1764, 9)*F230","v":51006850}]
[466,94,"Fairhaven                    ",94,"Fairhaven",21467679,{"$f":"VLOOKUP(A231, localcont!$D$10:$L$1764, 8)","v":25249369.249999993},{"$f":"VLOOKUP(A231, localcont!$D$10:$L$1764, 9)*F231","v":17946663.648693215}]
[467,94,"Fairhaven                    ",825,"Greater New Bedford",21467679,{"$f":"VLOOKUP(A232, localcont!$D$10:$L$1764, 8)","v":4361846.7274040664},{"$f":"VLOOKUP(A232, localcont!$D$10:$L$1764, 9)*F232","v":3100299.0739609874}]
[468,94,"Fairhaven                    ",910,"Bristol County",21467679,{"$f":"VLOOKUP(A233, localcont!$D$10:$L$1764, 8)","v":591910.61046953744},{"$f":"VLOOKUP(A233, localcont!$D$10:$L$1764, 9)*F233","v":420716.2773457978}]
[471,95,"Fall River                   ",95,"Fall River",68897462,{"$f":"VLOOKUP(A234, localcont!$D$10:$L$1764, 8)","v":297582870.11000001},{"$f":"VLOOKUP(A234, localcont!$D$10:$L$1764, 9)*F234","v":63175834.996976562}]
[472,95,"Fall River                   ",821,"Greater Fall River",68897462,{"$f":"VLOOKUP(A235, localcont!$D$10:$L$1764, 8)","v":25723432.577995822},{"$f":"VLOOKUP(A235, localcont!$D$10:$L$1764, 9)*F235","v":5460997.575238809}]
[473,95,"Fall River                   ",910,"Bristol County",68897462,{"$f":"VLOOKUP(A236, localcont!$D$10:$L$1764, 8)","v":1227666.4512465568},{"$f":"VLOOKUP(A236, localcont!$D$10:$L$1764, 9)*F236","v":260629.42778462684}]
[476,96,"Falmouth                     ",96,"Falmouth",101919041,{"$f":"VLOOKUP(A237, localcont!$D$10:$L$1764, 8)","v":43356186.710000001},{"$f":"VLOOKUP(A237, localcont!$D$10:$L$1764, 9)*F237","v":91799460.085733652}]
[477,96,"Falmouth                     ",879,"Upper Cape Cod",101919041,{"$f":"VLOOKUP(A238, localcont!$D$10:$L$1764, 8)","v":4779401.0894631529},{"$f":"VLOOKUP(A238, localcont!$D$10:$L$1764, 9)*F238","v":10119580.914266355}]
[481,97,"Fitchburg                    ",97,"Fitchburg",34277958,{"$f":"VLOOKUP(A239, localcont!$D$10:$L$1764, 8)","v":118652851.60999998},{"$f":"VLOOKUP(A239, localcont!$D$10:$L$1764, 9)*F239","v":31995697.83221506}]
[482,97,"Fitchburg                    ",832,"Montachusett",34277958,{"$f":"VLOOKUP(A240, localcont!$D$10:$L$1764, 8)","v":8463534.0177186932},{"$f":"VLOOKUP(A240, localcont!$D$10:$L$1764, 9)*F240","v":2282260.1677849418}]
[486,98,"Florida                      ",98,"Florida",932390,{"$f":"VLOOKUP(A241, localcont!$D$10:$L$1764, 8)","v":762027.87},{"$f":"VLOOKUP(A241, localcont!$D$10:$L$1764, 9)*F241","v":534346.51109461393}]
[487,98,"Florida                      ",851,"Northern Berkshire",932390,{"$f":"VLOOKUP(A242, localcont!$D$10:$L$1764, 8)","v":567647.07117968379},{"$f":"VLOOKUP(A242, localcont!$D$10:$L$1764, 9)*F242","v":398043.48890538607}]
[491,99,"Foxborough                   ",99,"Foxborough",34375406,{"$f":"VLOOKUP(A243, localcont!$D$10:$L$1764, 8)","v":37565196.074800007},{"$f":"VLOOKUP(A243, localcont!$D$10:$L$1764, 9)*F243","v":33246065.085130747}]
[492,99,"Foxborough                   ",872,"Southeastern",34375406,{"$f":"VLOOKUP(A244, localcont!$D$10:$L$1764, 8)","v":1044795.1578955381},{"$f":"VLOOKUP(A244, localcont!$D$10:$L$1764, 9)*F244","v":924667.81621103105}]
[493,99,"Foxborough                   ",915,"Norfolk County",34375406,{"$f":"VLOOKUP(A245, localcont!$D$10:$L$1764, 8)","v":231263.01000270396},{"$f":"VLOOKUP(A245, localcont!$D$10:$L$1764, 9)*F245","v":204673.09865822582}]
[496,100,"Framingham                   ",100,"Framingham",105223004,{"$f":"VLOOKUP(A246, localcont!$D$10:$L$1764, 8)","v":171534104.08094999},{"$f":"VLOOKUP(A246, localcont!$D$10:$L$1764, 9)*F246","v":95766485.110188648}]
[497,100,"Framingham                   ",829,"South Middlesex",105223004,{"$f":"VLOOKUP(A247, localcont!$D$10:$L$1764, 8)","v":16938237.773078643},{"$f":"VLOOKUP(A247, localcont!$D$10:$L$1764, 9)*F247","v":9456518.8898113556}]
[501,101,"Franklin                     ",101,"Franklin",62900927,{"$f":"VLOOKUP(A248, localcont!$D$10:$L$1764, 8)","v":68032792.415000007},{"$f":"VLOOKUP(A248, localcont!$D$10:$L$1764, 9)*F248","v":59077301.669513077}]
[502,101,"Franklin                     ",878,"Tri County",62900927,{"$f":"VLOOKUP(A249, localcont!$D$10:$L$1764, 8)","v":4010099.1557054566},{"$f":"VLOOKUP(A249, localcont!$D$10:$L$1764, 9)*F249","v":3482230.1001720675}]
[503,101,"Franklin                     ",915,"Norfolk County",62900927,{"$f":"VLOOKUP(A250, localcont!$D$10:$L$1764, 8)","v":393147.11706726893},{"$f":"VLOOKUP(A250, localcont!$D$10:$L$1764, 9)*F250","v":341395.23031486635}]
[506,102,"Freetown                     ",102,"Freetown",14521674,{"$f":"VLOOKUP(A251, localcont!$D$10:$L$1764, 8)","v":18046.96},{"$f":"VLOOKUP(A251, localcont!$D$10:$L$1764, 9)*F251","v":14100.811720689746}]
[507,102,"Freetown                     ",665,"Freetown Lakeville",14521674,{"$f":"VLOOKUP(A252, localcont!$D$10:$L$1764, 8)","v":15897762.986807531},{"$f":"VLOOKUP(A252, localcont!$D$10:$L$1764, 9)*F252","v":12421558.127081972}]
[508,102,"Freetown                     ",810,"Bristol Plymouth",14521674,{"$f":"VLOOKUP(A253, localcont!$D$10:$L$1764, 8)","v":2055958.4938418486},{"$f":"VLOOKUP(A253, localcont!$D$10:$L$1764, 9)*F253","v":1606402.6089278623}]
[509,102,"Freetown                     ",910,"Bristol County",14521674,{"$f":"VLOOKUP(A254, localcont!$D$10:$L$1764, 8)","v":613833.22556595074},{"$f":"VLOOKUP(A254, localcont!$D$10:$L$1764, 9)*F254","v":479612.45226947643}]
[511,103,"Gardner                      ",103,"Gardner",16951631,{"$f":"VLOOKUP(A255, localcont!$D$10:$L$1764, 8)","v":46507130.32},{"$f":"VLOOKUP(A255, localcont!$D$10:$L$1764, 9)*F255","v":15866098.278640365}]
[512,103,"Gardner                      ",832,"Montachusett",16951631,{"$f":"VLOOKUP(A256, localcont!$D$10:$L$1764, 8)","v":3181942.4569468279},{"$f":"VLOOKUP(A256, localcont!$D$10:$L$1764, 9)*F256","v":1085532.7213596343}]
[516,104,"Aquinnah",104,"Aquinnah",3646821,{"$f":"VLOOKUP(A257, localcont!$D$10:$L$1764, 8)","v":0},{"$f":"VLOOKUP(A257, localcont!$D$10:$L$1764, 9)*F257","v":0}]
[517,104,"Aquinnah",700,"Marthas Vineyard",3646821,{"$f":"VLOOKUP(A258, localcont!$D$10:$L$1764, 8)","v":253706.52677652173},{"$f":"VLOOKUP(A258, localcont!$D$10:$L$1764, 9)*F258","v":1018632.768916705}]
[518,104,"Aquinnah",774,"Upisland",3646821,{"$f":"VLOOKUP(A259, localcont!$D$10:$L$1764, 8)","v":654591.65282125084},{"$f":"VLOOKUP(A259, localcont!$D$10:$L$1764, 9)*F259","v":2628188.2310832948}]
[521,105,"Georgetown                   ",105,"Georgetown",15344105,{"$f":"VLOOKUP(A260, localcont!$D$10:$L$1764, 8)","v":15137073.930000005},{"$f":"VLOOKUP(A260, localcont!$D$10:$L$1764, 9)*F260","v":13991778.43922659}]
[522,105,"Georgetown                   ",885,"Whittier",15344105,{"$f":"VLOOKUP(A261, localcont!$D$10:$L$1764, 8)","v":1463021.1032030368},{"$f":"VLOOKUP(A261, localcont!$D$10:$L$1764, 9)*F261","v":1352326.5607734097}]
[526,106,"Gill                         ",106,"Gill",1445093,{"$f":"VLOOKUP(A262, localcont!$D$10:$L$1764, 8)","v":0},{"$f":"VLOOKUP(A262, localcont!$D$10:$L$1764, 9)*F262","v":0}]
[527,106,"Gill                         ",674,"Gill Montague",1445093,{"$f":"VLOOKUP(A263, localcont!$D$10:$L$1764, 8)","v":2069899.492671662},{"$f":"VLOOKUP(A263, localcont!$D$10:$L$1764, 9)*F263","v":1247625.4817213286}]
[528,106,"Gill                         ",818,"Franklin County",1445093,{"$f":"VLOOKUP(A264, localcont!$D$10:$L$1764, 8)","v":327612.67054294614},{"$f":"VLOOKUP(A264, localcont!$D$10:$L$1764, 9)*F264","v":197467.51827867143}]
[531,107,"Gloucester                   ",107,"Gloucester",62089562,{"$f":"VLOOKUP(A265, localcont!$D$10:$L$1764, 8)","v":52844391.700600013},{"$f":"VLOOKUP(A265, localcont!$D$10:$L$1764, 9)*F265","v":59431193.126797304}]
[532,107,"Gloucester                   ",817,"Essex North Shore",62089562,{"$f":"VLOOKUP(A266, localcont!$D$10:$L$1764, 8)","v":2363739.9592582667},{"$f":"VLOOKUP(A266, localcont!$D$10:$L$1764, 9)*F266","v":2658368.8732026974}]
[536,108,"Goshen                       ",108,"Goshen",{"$f":"VLOOKUP(B267, town351, 7)","v":990968},{"$f":"VLOOKUP(A267, localcont!$D$10:$L$1764, 8)","v":303950},{"$f":"VLOOKUP(A267, localcont!$D$10:$L$1764, 9)*F267","v":197928.88639633206}]
[537,108,"Goshen                       ",632,"Chesterfield Goshen",990968,{"$f":"VLOOKUP(A268, localcont!$D$10:$L$1764, 8)","v":717030.77611450339},{"$f":"VLOOKUP(A268, localcont!$D$10:$L$1764, 9)*F268","v":466922.5301142995}]
[538,108,"Goshen                       ",683,"Hampshire",990968,{"$f":"VLOOKUP(A269, localcont!$D$10:$L$1764, 8)","v":500801.76449388859},{"$f":"VLOOKUP(A269, localcont!$D$10:$L$1764, 9)*F269","v":326116.58348936832}]
[541,109,"Gosnold                      ",109,"Gosnold",807136,{"$f":"VLOOKUP(A270, localcont!$D$10:$L$1764, 8)","v":0},{"$f":"VLOOKUP(A270, localcont!$D$10:$L$1764, 9)*F270","v":0}]
[546,110,"Grafton                      ",110,"Grafton",34696177,{"$f":"VLOOKUP(A271, localcont!$D$10:$L$1764, 8)","v":41546834.43},{"$f":"VLOOKUP(A271, localcont!$D$10:$L$1764, 9)*F271","v":33162689.305064861}]
[547,110,"Grafton                      ",805,"Blackstone Valley",34696177,{"$f":"VLOOKUP(A272, localcont!$D$10:$L$1764, 8)","v":1921181.9275519999},{"$f":"VLOOKUP(A272, localcont!$D$10:$L$1764, 9)*F272","v":1533487.6949351397}]
[551,111,"Granby                       ",111,"Granby",7718012,{"$f":"VLOOKUP(A273, localcont!$D$10:$L$1764, 8)","v":9405693.3199999984},{"$f":"VLOOKUP(A273, localcont!$D$10:$L$1764, 9)*F273","v":7219517.2002391927}]
[552,111,"Granby                       ",860,"Pathfinder",7718012,{"$f":"VLOOKUP(A274, localcont!$D$10:$L$1764, 8)","v":649446.36574999988},{"$f":"VLOOKUP(A274, localcont!$D$10:$L$1764, 9)*F274","v":498494.79976080684}]
[556,112,"Granville                    ",112,"Granville",2035886,{"$f":"VLOOKUP(A275, localcont!$D$10:$L$1764, 8)","v":430278.72000000003},{"$f":"VLOOKUP(A275, localcont!$D$10:$L$1764, 9)*F275","v":314708.39247079345}]
[557,112,"Granville                    ",766,"Southwick Tolland Granville",2035886,{"$f":"VLOOKUP(A276, localcont!$D$10:$L$1764, 8)","v":2353245.4665283817},{"$f":"VLOOKUP(A276, localcont!$D$10:$L$1764, 9)*F276","v":1721177.6075292064}]
[561,113,"Great Barrington             ",113,"Great Barrington",13726450,{"$f":"VLOOKUP(A277, localcont!$D$10:$L$1764, 8)","v":0},{"$f":"VLOOKUP(A277, localcont!$D$10:$L$1764, 9)*F277","v":0}]
[562,113,"Great Barrington             ",618,"Berkshire Hills",13726450,{"$f":"VLOOKUP(A278, localcont!$D$10:$L$1764, 8)","v":11414551.678842165},{"$f":"VLOOKUP(A278, localcont!$D$10:$L$1764, 9)*F278","v":13726450}]
[566,114,"Greenfield                   ",114,"Greenfield",15113643,{"$f":"VLOOKUP(A279, localcont!$D$10:$L$1764, 8)","v":28107599.75},{"$f":"VLOOKUP(A279, localcont!$D$10:$L$1764, 9)*F279","v":13647879.863999374}]
[567,114,"Greenfield                   ",818,"Franklin County",15113643,{"$f":"VLOOKUP(A280, localcont!$D$10:$L$1764, 8)","v":3018716.7505545034},{"$f":"VLOOKUP(A280, localcont!$D$10:$L$1764, 9)*F280","v":1465763.1360006267}]
[571,115,"Groton                       ",115,"Groton",25776068,{"$f":"VLOOKUP(A281, localcont!$D$10:$L$1764, 8)","v":0},{"$f":"VLOOKUP(A281, localcont!$D$10:$L$1764, 9)*F281","v":0}]
[572,115,"Groton                       ",673,"Groton Dunstable",25776068,{"$f":"VLOOKUP(A282, localcont!$D$10:$L$1764, 8)","v":22591952.528584722},{"$f":"VLOOKUP(A282, localcont!$D$10:$L$1764, 9)*F282","v":24671630.200230636}]
[573,115,"Groton                       ",852,"Nashoba Valley",25776068,{"$f":"VLOOKUP(A283, localcont!$D$10:$L$1764, 8)","v":1011339.9941820962},{"$f":"VLOOKUP(A283, localcont!$D$10:$L$1764, 9)*F283","v":1104437.7997693662}]
[576,116,"Groveland                    ",116,"Groveland",10897645,{"$f":"VLOOKUP(A284, localcont!$D$10:$L$1764, 8)","v":126328.72},{"$f":"VLOOKUP(A284, localcont!$D$10:$L$1764, 9)*F284","v":104687.99659646621}]
[577,116,"Groveland                    ",745,"Pentucket",10897645,{"$f":"VLOOKUP(A285, localcont!$D$10:$L$1764, 8)","v":12281273.4155271},{"$f":"VLOOKUP(A285, localcont!$D$10:$L$1764, 9)*F285","v":10177431.620655796}]
[578,116,"Groveland                    ",885,"Whittier",10897645,{"$f":"VLOOKUP(A286, localcont!$D$10:$L$1764, 8)","v":742764.56000741466},{"$f":"VLOOKUP(A286, localcont!$D$10:$L$1764, 9)*F286","v":615525.38274773897}]
[581,117,"Hadley                       ",117,"Hadley",8488108,{"$f":"VLOOKUP(A287, localcont!$D$10:$L$1764, 8)","v":6534075.6100000003},{"$f":"VLOOKUP(A287, localcont!$D$10:$L$1764, 9)*F287","v":8488108}]
[586,118,"Halifax                      ",118,"Halifax",10722935,{"$f":"VLOOKUP(A288, localcont!$D$10:$L$1764, 8)","v":7659877.793300001},{"$f":"VLOOKUP(A288, localcont!$D$10:$L$1764, 9)*F288","v":4948829.2665640637}]
[587,118,"Halifax                      ",760,"Silver Lake",10722935,{"$f":"VLOOKUP(A289, localcont!$D$10:$L$1764, 8)","v":8937254.0254192241},{"$f":"VLOOKUP(A289, localcont!$D$10:$L$1764, 9)*F289","v":5774105.7334359363}]
[591,119,"Hamilton                     ",119,"Hamilton",20224989,{"$f":"VLOOKUP(A290, localcont!$D$10:$L$1764, 8)","v":0},{"$f":"VLOOKUP(A290, localcont!$D$10:$L$1764, 9)*F290","v":0}]
[592,119,"Hamilton                     ",675,"Hamilton Wenham",20224989,{"$f":"VLOOKUP(A291, localcont!$D$10:$L$1764, 8)","v":14906699.869793219},{"$f":"VLOOKUP(A291, localcont!$D$10:$L$1764, 9)*F291","v":19530355.379377082}]
[593,119,"Hamilton                     ",817,"Essex North Shore",20224989,{"$f":"VLOOKUP(A292, localcont!$D$10:$L$1764, 8)","v":530184.66387086711},{"$f":"VLOOKUP(A292, localcont!$D$10:$L$1764, 9)*F292","v":694633.62062291638}]
[596,120,"Hampden                      ",120,"Hampden",6845332,{"$f":"VLOOKUP(A293, localcont!$D$10:$L$1764, 8)","v":0},{"$f":"VLOOKUP(A293, localcont!$D$10:$L$1764, 9)*F293","v":0}]
[597,120,"Hampden                      ",680,"Hampden Wilbraham",6845332,{"$f":"VLOOKUP(A294, localcont!$D$10:$L$1764, 8)","v":8187895.8354886882},{"$f":"VLOOKUP(A294, localcont!$D$10:$L$1764, 9)*F294","v":6845332}]
[601,121,"Hancock                      ",121,"Hancock",1588187,{"$f":"VLOOKUP(A295, localcont!$D$10:$L$1764, 8)","v":1236469.67},{"$f":"VLOOKUP(A295, localcont!$D$10:$L$1764, 9)*F295","v":1588187}]
[606,122,"Hanover                      ",122,"Hanover",32629954,{"$f":"VLOOKUP(A296, localcont!$D$10:$L$1764, 8)","v":32396385.677299999},{"$f":"VLOOKUP(A296, localcont!$D$10:$L$1764, 9)*F296","v":30841486.941561025}]
[607,122,"Hanover                      ",873,"South Shore",32629954,{"$f":"VLOOKUP(A297, localcont!$D$10:$L$1764, 8)","v":1878634.0848649999},{"$f":"VLOOKUP(A297, localcont!$D$10:$L$1764, 9)*F297","v":1788467.0584389772}]
[611,123,"Hanson                       ",123,"Hanson",15499609,{"$f":"VLOOKUP(A298, localcont!$D$10:$L$1764, 8)","v":90234.8},{"$f":"VLOOKUP(A298, localcont!$D$10:$L$1764, 9)*F298","v":64097.662377191635}]
[612,123,"Hanson                       ",780,"Whitman Hanson",15499609,{"$f":"VLOOKUP(A299, localcont!$D$10:$L$1764, 8)","v":20113158.847509556},{"$f":"VLOOKUP(A299, localcont!$D$10:$L$1764, 9)*F299","v":14287242.451321358}]
[613,123,"Hanson                       ",873,"South Shore",15499609,{"$f":"VLOOKUP(A300, localcont!$D$10:$L$1764, 8)","v":1616499.0962057882},{"$f":"VLOOKUP(A300, localcont!$D$10:$L$1764, 9)*F300","v":1148268.8863014497}]
[616,124,"Hardwick                     ",124,"Hardwick",2612434,{"$f":"VLOOKUP(A301, localcont!$D$10:$L$1764, 8)","v":18046.96},{"$f":"VLOOKUP(A301, localcont!$D$10:$L$1764, 9)*F301","v":8888.187270282102}]
[617,124,"Hardwick                     ",753,"Quabbin",2612434,{"$f":"VLOOKUP(A302, localcont!$D$10:$L$1764, 8)","v":4683294.7265156377},{"$f":"VLOOKUP(A302, localcont!$D$10:$L$1764, 9)*F302","v":2306538.0857050493}]
[618,124,"Hardwick                     ",860,"Pathfinder",2612434,{"$f":"VLOOKUP(A303, localcont!$D$10:$L$1764, 8)","v":603057.33962499991},{"$f":"VLOOKUP(A303, localcont!$D$10:$L$1764, 9)*F303","v":297007.72702466871}]
[621,125,"Harvard                      ",125,"Harvard",15191808,{"$f":"VLOOKUP(A304, localcont!$D$10:$L$1764, 8)","v":11655609.100000001},{"$f":"VLOOKUP(A304, localcont!$D$10:$L$1764, 9)*F304","v":14942065.102233808}]
[622,125,"Harvard                      ",832,"Montachusett",15191808,{"$f":"VLOOKUP(A305, localcont!$D$10:$L$1764, 8)","v":194812.80344768398},{"$f":"VLOOKUP(A305, localcont!$D$10:$L$1764, 9)*F305","v":249742.89776618994}]
[626,126,"Harwich                      ",126,"Harwich",45808116,{"$f":"VLOOKUP(A306, localcont!$D$10:$L$1764, 8)","v":0},{"$f":"VLOOKUP(A306, localcont!$D$10:$L$1764, 9)*F306","v":0}]
[627,126,"Harwich                      ",712,"Monomoy",45808116,{"$f":"VLOOKUP(A307, localcont!$D$10:$L$1764, 8)","v":18854827.198877212},{"$f":"VLOOKUP(A307, localcont!$D$10:$L$1764, 9)*F307","v":42653690.80485259}]
[628,126,"Harwich                      ",815,"Cape Cod",45808116,{"$f":"VLOOKUP(A308, localcont!$D$10:$L$1764, 8)","v":1394396.1435459785},{"$f":"VLOOKUP(A308, localcont!$D$10:$L$1764, 9)*F308","v":3154425.1951474138}]
[631,127,"Hatfield                     ",127,"Hatfield",4927419,{"$f":"VLOOKUP(A309, localcont!$D$10:$L$1764, 8)","v":4069015.5300000003},{"$f":"VLOOKUP(A309, localcont!$D$10:$L$1764, 9)*F309","v":4927419}]
[636,128,"Haverhill                    ",128,"Haverhill",78091646,{"$f":"VLOOKUP(A310, localcont!$D$10:$L$1764, 8)","v":154969203.75},{"$f":"VLOOKUP(A310, localcont!$D$10:$L$1764, 9)*F310","v":69277357.662830368}]
[637,128,"Haverhill                    ",885,"Whittier",78091646,{"$f":"VLOOKUP(A311, localcont!$D$10:$L$1764, 8)","v":19717022.867443502},{"$f":"VLOOKUP(A311, localcont!$D$10:$L$1764, 9)*F311","v":8814288.3371696286}]
[641,129,"Hawley                       ",129,"Hawley",345178,{"$f":"VLOOKUP(A312, localcont!$D$10:$L$1764, 8)","v":108281.76},{"$f":"VLOOKUP(A312, localcont!$D$10:$L$1764, 9)*F312","v":84674.553406049919}]
[642,129,"Hawley                       ",685,"Hawlemont",345178,{"$f":"VLOOKUP(A313, localcont!$D$10:$L$1764, 8)","v":160145.4609727271},{"$f":"VLOOKUP(A313, localcont!$D$10:$L$1764, 9)*F313","v":125231.11360465204}]
[643,129,"Hawley                       ",717,"Mohawk Trail",345178,{"$f":"VLOOKUP(A314, localcont!$D$10:$L$1764, 8)","v":172986.16533761015},{"$f":"VLOOKUP(A314, localcont!$D$10:$L$1764, 9)*F314","v":135272.33298929804}]
[646,130,"Heath                        ",130,"Heath",592797,{"$f":"VLOOKUP(A315, localcont!$D$10:$L$1764, 8)","v":0},{"$f":"VLOOKUP(A315, localcont!$D$10:$L$1764, 9)*F315","v":0}]
[647,130,"Heath                        ",717,"Mohawk Trail",592797,{"$f":"VLOOKUP(A316, localcont!$D$10:$L$1764, 8)","v":1132273.0819125902},{"$f":"VLOOKUP(A316, localcont!$D$10:$L$1764, 9)*F316","v":425653.00554312777}]
[648,130,"Heath                        ",818,"Franklin County",592797,{"$f":"VLOOKUP(A317, localcont!$D$10:$L$1764, 8)","v":444617.19584331283},{"$f":"VLOOKUP(A317, localcont!$D$10:$L$1764, 9)*F317","v":167143.9944568722}]
[651,131,"Hingham                      ",131,"Hingham",92654894,{"$f":"VLOOKUP(A318, localcont!$D$10:$L$1764, 8)","v":48104960.021279998},{"$f":"VLOOKUP(A318, localcont!$D$10:$L$1764, 9)*F318","v":92654894}]
[656,132,"Hinsdale                     ",132,"Hinsdale",3034598,{"$f":"VLOOKUP(A319, localcont!$D$10:$L$1764, 8)","v":126328.72},{"$f":"VLOOKUP(A319, localcont!$D$10:$L$1764, 9)*F319","v":109430.22431809298}]
[657,132,"Hinsdale                     ",635,"Central Berkshire",3034598,{"$f":"VLOOKUP(A320, localcont!$D$10:$L$1764, 8)","v":3376879.6800871091},{"$f":"VLOOKUP(A320, localcont!$D$10:$L$1764, 9)*F320","v":2925167.7756819068}]
[661,133,"Holbrook                     ",133,"Holbrook",14394650,{"$f":"VLOOKUP(A321, localcont!$D$10:$L$1764, 8)","v":24189420.925409999},{"$f":"VLOOKUP(A321, localcont!$D$10:$L$1764, 9)*F321","v":12706593.52480522}]
[662,133,"Holbrook                     ",806,"Blue Hills",14394650,{"$f":"VLOOKUP(A322, localcont!$D$10:$L$1764, 8)","v":3005400.3058267534},{"$f":"VLOOKUP(A322, localcont!$D$10:$L$1764, 9)*F322","v":1578723.2023132269}]
[663,133,"Holbrook                     ",915,"Norfolk County",14394650,{"$f":"VLOOKUP(A323, localcont!$D$10:$L$1764, 8)","v":208136.70900243355},{"$f":"VLOOKUP(A323, localcont!$D$10:$L$1764, 9)*F323","v":109333.27288155261}]
[666,134,"Holden                       ",134,"Holden",30575641,{"$f":"VLOOKUP(A324, localcont!$D$10:$L$1764, 8)","v":18046.96},{"$f":"VLOOKUP(A324, localcont!$D$10:$L$1764, 9)*F324","v":12141.45323936864}]
[667,134,"Holden                       ",775,"Wachusett",30575641,{"$f":"VLOOKUP(A325, localcont!$D$10:$L$1764, 8)","v":41749546.428706884},{"$f":"VLOOKUP(A325, localcont!$D$10:$L$1764, 9)*F325","v":28087842.258695904}]
[668,134,"Holden                       ",832,"Montachusett",30575641,{"$f":"VLOOKUP(A326, localcont!$D$10:$L$1764, 8)","v":3679797.3990909094},{"$f":"VLOOKUP(A326, localcont!$D$10:$L$1764, 9)*F326","v":2475657.2880647276}]
[671,135,"Holland                      ",135,"Holland",3353771,{"$f":"VLOOKUP(A327, localcont!$D$10:$L$1764, 8)","v":2645254.84},{"$f":"VLOOKUP(A327, localcont!$D$10:$L$1764, 9)*F327","v":1760071.5086052609}]
[672,135,"Holland                      ",770,"Tantasqua",3353771,{"$f":"VLOOKUP(A328, localcont!$D$10:$L$1764, 8)","v":2395210.2357807984},{"$f":"VLOOKUP(A328, localcont!$D$10:$L$1764, 9)*F328","v":1593699.4913947394}]
[676,136,"Holliston                    ",136,"Holliston",30798665,{"$f":"VLOOKUP(A329, localcont!$D$10:$L$1764, 8)","v":35077456.984029993},{"$f":"VLOOKUP(A329, localcont!$D$10:$L$1764, 9)*F329","v":29422378.836081747}]
[677,136,"Holliston                    ",829,"South Middlesex",30798665,{"$f":"VLOOKUP(A330, localcont!$D$10:$L$1764, 8)","v":1640812.8989677387},{"$f":"VLOOKUP(A330, localcont!$D$10:$L$1764, 9)*F330","v":1376286.1639182575}]
[681,137,"Holyoke                      ",137,"Holyoke",{"$f":"VLOOKUP(B331, town351, 7)","v":23697133},{"$f":"VLOOKUP(A331, localcont!$D$10:$L$1764, 8)","v":125376814.92000002},{"$f":"VLOOKUP(A331, localcont!$D$10:$L$1764, 9)*F331","v":23697133}]
[686,138,"Hopedale                     ",138,"Hopedale",8952720,{"$f":"VLOOKUP(A332, localcont!$D$10:$L$1764, 8)","v":13165360.090000002},{"$f":"VLOOKUP(A332, localcont!$D$10:$L$1764, 9)*F332","v":8115959.534635976}]
[687,138,"Hopedale                     ",805,"Blackstone Valley",8952720,{"$f":"VLOOKUP(A333, localcont!$D$10:$L$1764, 8)","v":1357356.7966399998},{"$f":"VLOOKUP(A333, localcont!$D$10:$L$1764, 9)*F333","v":836760.46536402416}]
[691,139,"Hopkinton                    ",139,"Hopkinton",53599275,{"$f":"VLOOKUP(A334, localcont!$D$10:$L$1764, 8)","v":58274271.760200001},{"$f":"VLOOKUP(A334, localcont!$D$10:$L$1764, 9)*F334","v":52956957.276892394}]
[692,139,"Hopkinton                    ",829,"South Middlesex",53599275,{"$f":"VLOOKUP(A335, localcont!$D$10:$L$1764, 8)","v":706811.71044353396},{"$f":"VLOOKUP(A335, localcont!$D$10:$L$1764, 9)*F335","v":642317.72310760489}]
[696,140,"Hubbardston                  ",140,"Hubbardston",5687100,{"$f":"VLOOKUP(A336, localcont!$D$10:$L$1764, 8)","v":0},{"$f":"VLOOKUP(A336, localcont!$D$10:$L$1764, 9)*F336","v":0}]
[697,140,"Hubbardston                  ",753,"Quabbin",5687100,{"$f":"VLOOKUP(A337, localcont!$D$10:$L$1764, 8)","v":8307627.9064285904},{"$f":"VLOOKUP(A337, localcont!$D$10:$L$1764, 9)*F337","v":5211814.1196345678}]
[698,140,"Hubbardston                  ",832,"Montachusett",5687100,{"$f":"VLOOKUP(A338, localcont!$D$10:$L$1764, 8)","v":757605.34674099321},{"$f":"VLOOKUP(A338, localcont!$D$10:$L$1764, 9)*F338","v":475285.88036543288}]
[701,141,"Hudson                       ",141,"Hudson",30248342,{"$f":"VLOOKUP(A339, localcont!$D$10:$L$1764, 8)","v":37694133.730259992},{"$f":"VLOOKUP(A339, localcont!$D$10:$L$1764, 9)*F339","v":26878898.607524849}]
[702,141,"Hudson                       ",801,"Assabet Valley",30248342,{"$f":"VLOOKUP(A340, localcont!$D$10:$L$1764, 8)","v":4725202.9068238186},{"$f":"VLOOKUP(A340, localcont!$D$10:$L$1764, 9)*F340","v":3369443.3924751477}]
[706,142,"Hull                         ",142,"Hull",20400390,{"$f":"VLOOKUP(A341, localcont!$D$10:$L$1764, 8)","v":10380828.725029999},{"$f":"VLOOKUP(A341, localcont!$D$10:$L$1764, 9)*F341","v":20400390}]
[711,143,"Huntington                   ",143,"Huntington",2324225,{"$f":"VLOOKUP(A342, localcont!$D$10:$L$1764, 8)","v":662040.87999999989},{"$f":"VLOOKUP(A342, localcont!$D$10:$L$1764, 9)*F342","v":313988.6332656403}]
[712,143,"Huntington                   ",672,"Gateway",2324225,{"$f":"VLOOKUP(A343, localcont!$D$10:$L$1764, 8)","v":4238556.789139837},{"$f":"VLOOKUP(A343, localcont!$D$10:$L$1764, 9)*F343","v":2010236.3667343596}]
[716,144,"Ipswich                      ",144,"Ipswich",32694383,{"$f":"VLOOKUP(A344, localcont!$D$10:$L$1764, 8)","v":21735094.242119998},{"$f":"VLOOKUP(A344, localcont!$D$10:$L$1764, 9)*F344","v":31582396.029457822}]
[717,144,"Ipswich                      ",885,"Whittier",32694383,{"$f":"VLOOKUP(A345, localcont!$D$10:$L$1764, 8)","v":765272.57710911054},{"$f":"VLOOKUP(A345, localcont!$D$10:$L$1764, 9)*F345","v":1111986.9705421769}]
[721,145,"Kingston                     ",145,"Kingston",23816932,{"$f":"VLOOKUP(A346, localcont!$D$10:$L$1764, 8)","v":16109128.8708},{"$f":"VLOOKUP(A346, localcont!$D$10:$L$1764, 9)*F346","v":12021174.533172753}]
[722,145,"Kingston                     ",760,"Silver Lake",23816932,{"$f":"VLOOKUP(A347, localcont!$D$10:$L$1764, 8)","v":15807055.844456621},{"$f":"VLOOKUP(A347, localcont!$D$10:$L$1764, 9)*F347","v":11795757.466827245}]
[726,146,"Lakeville                    ",146,"Lakeville",20657005,{"$f":"VLOOKUP(A348, localcont!$D$10:$L$1764, 8)","v":484419.6},{"$f":"VLOOKUP(A348, localcont!$D$10:$L$1764, 9)*F348","v":414418.18070219684}]
[727,146,"Lakeville                    ",665,"Freetown Lakeville",20657005,{"$f":"VLOOKUP(A349, localcont!$D$10:$L$1764, 8)","v":20822842.253192466},{"$f":"VLOOKUP(A349, localcont!$D$10:$L$1764, 9)*F349","v":17813821.743828811}]
[728,146,"Lakeville                    ",855,"Old Colony",20657005,{"$f":"VLOOKUP(A350, localcont!$D$10:$L$1764, 8)","v":2839019.7658778089},{"$f":"VLOOKUP(A350, localcont!$D$10:$L$1764, 9)*F350","v":2428765.075468991}]
[731,147,"Lancaster                    ",147,"Lancaster",11251765,{"$f":"VLOOKUP(A351, localcont!$D$10:$L$1764, 8)","v":0},{"$f":"VLOOKUP(A351, localcont!$D$10:$L$1764, 9)*F351","v":0}]
[732,147,"Lancaster                    ",725,"Nashoba",11251765,{"$f":"VLOOKUP(A352, localcont!$D$10:$L$1764, 8)","v":13942145.467467487},{"$f":"VLOOKUP(A352, localcont!$D$10:$L$1764, 9)*F352","v":10207807.679200105}]
[733,147,"Lancaster                    ",830,"Minuteman",11251765,{"$f":"VLOOKUP(A353, localcont!$D$10:$L$1764, 8)","v":1425869.8131703341},{"$f":"VLOOKUP(A353, localcont!$D$10:$L$1764, 9)*F353","v":1043957.320799895}]
[736,148,"Lanesborough                 ",148,"Lanesborough",3993894,{"$f":"VLOOKUP(A354, localcont!$D$10:$L$1764, 8)","v":18046.96},{"$f":"VLOOKUP(A354, localcont!$D$10:$L$1764, 9)*F354","v":12457.654023910811}]
[737,148,"Lanesborough                 ",715,"Mount Greylock",3993894,{"$f":"VLOOKUP(A355, localcont!$D$10:$L$1764, 8)","v":5081858.2521691099},{"$f":"VLOOKUP(A355, localcont!$D$10:$L$1764, 9)*F355","v":3507961.0030763559}]
[738,148,"Lanesborough                 ",851,"Northern Berkshire",3993894,{"$f":"VLOOKUP(A356, localcont!$D$10:$L$1764, 8)","v":685906.87764302827},{"$f":"VLOOKUP(A356, localcont!$D$10:$L$1764, 9)*F356","v":473475.34289973334}]
[741,149,"Lawrence                     ",149,"Lawrence",59438813,{"$f":"VLOOKUP(A357, localcont!$D$10:$L$1764, 8)","v":349301506.88999999},{"$f":"VLOOKUP(A357, localcont!$D$10:$L$1764, 9)*F357","v":53882499.605871446}]
[742,149,"Lawrence                     ",823,"Greater Lawrence",59438813,{"$f":"VLOOKUP(A358, localcont!$D$10:$L$1764, 8)","v":36019647.483293615},{"$f":"VLOOKUP(A358, localcont!$D$10:$L$1764, 9)*F358","v":5556313.3941285601}]
[746,150,"Lee                          ",150,"Lee",8554259,{"$f":"VLOOKUP(A359, localcont!$D$10:$L$1764, 8)","v":9200604.0700000003},{"$f":"VLOOKUP(A359, localcont!$D$10:$L$1764, 9)*F359","v":8554259}]
[751,151,"Leicester                    ",151,"Leicester",13118061,{"$f":"VLOOKUP(A360, localcont!$D$10:$L$1764, 8)","v":23075674.879999999},{"$f":"VLOOKUP(A360, localcont!$D$10:$L$1764, 9)*F360","v":13118061}]
[756,152,"Lenox                        ",152,"Lenox",14814436,{"$f":"VLOOKUP(A361, localcont!$D$10:$L$1764, 8)","v":6819131.9299999997},{"$f":"VLOOKUP(A361, localcont!$D$10:$L$1764, 9)*F361","v":14814436}]
[761,153,"Leominster                   ",153,"Leominster",46833841,{"$f":"VLOOKUP(A362, localcont!$D$10:$L$1764, 8)","v":116573692.46999998},{"$f":"VLOOKUP(A362, localcont!$D$10:$L$1764, 9)*F362","v":46833841}]
[766,154,"Leverett                     ",154,"Leverett",2795786,{"$f":"VLOOKUP(A363, localcont!$D$10:$L$1764, 8)","v":1363486.12},{"$f":"VLOOKUP(A363, localcont!$D$10:$L$1764, 9)*F363","v":1330532.2707007187}]
[767,154,"Leverett                     ",605,"Amherst Pelham",2795786,{"$f":"VLOOKUP(A364, localcont!$D$10:$L$1764, 8)","v":1501544.2813165647},{"$f":"VLOOKUP(A364, localcont!$D$10:$L$1764, 9)*F364","v":1465253.7292992813}]
[771,155,"Lexington                    ",155,"Lexington",141559866,{"$f":"VLOOKUP(A365, localcont!$D$10:$L$1764, 8)","v":95900340.861210018},{"$f":"VLOOKUP(A365, localcont!$D$10:$L$1764, 9)*F365","v":138264147.36139962}]
[772,155,"Lexington                    ",830,"Minuteman",141559866,{"$f":"VLOOKUP(A366, localcont!$D$10:$L$1764, 8)","v":2285918.272061436},{"$f":"VLOOKUP(A366, localcont!$D$10:$L$1764, 9)*F366","v":3295718.6386003685}]
[776,156,"Leyden                       ",156,"Leyden",1167631,{"$f":"VLOOKUP(A367, localcont!$D$10:$L$1764, 8)","v":0},{"$f":"VLOOKUP(A367, localcont!$D$10:$L$1764, 9)*F367","v":0}]
[777,156,"Leyden                       ",750,"Pioneer",1167631,{"$f":"VLOOKUP(A368, localcont!$D$10:$L$1764, 8)","v":997558.43861031299},{"$f":"VLOOKUP(A368, localcont!$D$10:$L$1764, 9)*F368","v":911145.28332298202}]
[778,156,"Leyden                       ",818,"Franklin County",1167631,{"$f":"VLOOKUP(A369, localcont!$D$10:$L$1764, 8)","v":280810.86050409416},{"$f":"VLOOKUP(A369, localcont!$D$10:$L$1764, 9)*F369","v":256485.71667701806}]
[781,157,"Lincoln                      ",157,"Lincoln",27790676,{"$f":"VLOOKUP(A370, localcont!$D$10:$L$1764, 8)","v":7681767.1268799994},{"$f":"VLOOKUP(A370, localcont!$D$10:$L$1764, 9)*F370","v":20472807.791672297}]
[782,157,"Lincoln                      ",695,"Lincoln Sudbury",27790676,{"$f":"VLOOKUP(A371, localcont!$D$10:$L$1764, 8)","v":2745796.2783413697},{"$f":"VLOOKUP(A371, localcont!$D$10:$L$1764, 9)*F371","v":7317868.2083277041}]
[786,158,"Littleton                    ",158,"Littleton",22664481,{"$f":"VLOOKUP(A372, localcont!$D$10:$L$1764, 8)","v":21209266.969999999},{"$f":"VLOOKUP(A372, localcont!$D$10:$L$1764, 9)*F372","v":21718895.679795865}]
[787,158,"Littleton                    ",852,"Nashoba Valley",22664481,{"$f":"VLOOKUP(A373, localcont!$D$10:$L$1764, 8)","v":923397.38607331319},{"$f":"VLOOKUP(A373, localcont!$D$10:$L$1764, 9)*F373","v":945585.32020413689}]
[791,159,"Longmeadow                   ",159,"Longmeadow",31823888,{"$f":"VLOOKUP(A374, localcont!$D$10:$L$1764, 8)","v":36519529.629999995},{"$f":"VLOOKUP(A374, localcont!$D$10:$L$1764, 9)*F374","v":31823888}]
[796,160,"Lowell                       ",160,"Lowell",98164368,{"$f":"VLOOKUP(A375, localcont!$D$10:$L$1764, 8)","v":349052320.75999999},{"$f":"VLOOKUP(A375, localcont!$D$10:$L$1764, 9)*F375","v":87979823.570993438}]
[797,160,"Lowell                       ",828,"Greater Lowell",98164368,{"$f":"VLOOKUP(A376, localcont!$D$10:$L$1764, 8)","v":40406296.859182604},{"$f":"VLOOKUP(A376, localcont!$D$10:$L$1764, 9)*F376","v":10184544.429006569}]
[801,161,"Ludlow                       ",161,"Ludlow",22508019,{"$f":"VLOOKUP(A377, localcont!$D$10:$L$1764, 8)","v":35222182.710000001},{"$f":"VLOOKUP(A377, localcont!$D$10:$L$1764, 9)*F377","v":22508019}]
[806,162,"Lunenburg                    ",162,"Lunenburg",17453617,{"$f":"VLOOKUP(A378, localcont!$D$10:$L$1764, 8)","v":23089579.619999997},{"$f":"VLOOKUP(A378, localcont!$D$10:$L$1764, 9)*F378","v":15903107.945211856}]
[807,162,"Lunenburg                    ",832,"Montachusett",17453617,{"$f":"VLOOKUP(A379, localcont!$D$10:$L$1764, 8)","v":2251170.1734905653},{"$f":"VLOOKUP(A379, localcont!$D$10:$L$1764, 9)*F379","v":1550509.0547881429}]
[811,163,"Lynn                         ",163,"Lynn",94642184,{"$f":"VLOOKUP(A380, localcont!$D$10:$L$1764, 8)","v":398807328.27000004},{"$f":"VLOOKUP(A380, localcont!$D$10:$L$1764, 9)*F380","v":94642184}]
[816,164,"Lynnfield                    ",164,"Lynnfield",38892012,{"$f":"VLOOKUP(A381, localcont!$D$10:$L$1764, 8)","v":30099223.853599995},{"$f":"VLOOKUP(A381, localcont!$D$10:$L$1764, 9)*F381","v":37621851.454111658}]
[817,164,"Lynnfield                    ",817,"Essex North Shore",38892012,{"$f":"VLOOKUP(A382, localcont!$D$10:$L$1764, 8)","v":1016187.2721052852},{"$f":"VLOOKUP(A382, localcont!$D$10:$L$1764, 9)*F382","v":1270160.5458883424}]
[821,165,"Malden                       ",165,"Malden",75474117,{"$f":"VLOOKUP(A383, localcont!$D$10:$L$1764, 8)","v":132410256.17298003},{"$f":"VLOOKUP(A383, localcont!$D$10:$L$1764, 9)*F383","v":72378151.344603807}]
[822,165,"Malden                       ",853,"Northeast Metropolitan",75474117,{"$f":"VLOOKUP(A384, localcont!$D$10:$L$1764, 8)","v":5663830.8373196796},{"$f":"VLOOKUP(A384, localcont!$D$10:$L$1764, 9)*F384","v":3095965.6553961928}]
[826,166,"Manchester                   ",166,"Manchester",26851313,{"$f":"VLOOKUP(A385, localcont!$D$10:$L$1764, 8)","v":0},{"$f":"VLOOKUP(A385, localcont!$D$10:$L$1764, 9)*F385","v":0}]
[827,166,"Manchester                   ",698,"Manchester Essex",26851313,{"$f":"VLOOKUP(A386, localcont!$D$10:$L$1764, 8)","v":8477518.9464513827},{"$f":"VLOOKUP(A386, localcont!$D$10:$L$1764, 9)*F386","v":26302982.834380876}]
[828,166,"Manchester                   ",817,"Essex North Shore",26851313,{"$f":"VLOOKUP(A387, localcont!$D$10:$L$1764, 8)","v":176728.22117615206},{"$f":"VLOOKUP(A387, localcont!$D$10:$L$1764, 9)*F387","v":548330.16561912943}]
[831,167,"Mansfield                    ",167,"Mansfield",43050412,{"$f":"VLOOKUP(A388, localcont!$D$10:$L$1764, 8)","v":47441613.832800001},{"$f":"VLOOKUP(A388, localcont!$D$10:$L$1764, 9)*F388","v":41226602.020837329}]
[832,167,"Mansfield                    ",872,"Southeastern",43050412,{"$f":"VLOOKUP(A389, localcont!$D$10:$L$1764, 8)","v":1923372.904708225},{"$f":"VLOOKUP(A389, localcont!$D$10:$L$1764, 9)*F389","v":1671404.5512770016}]
[833,167,"Mansfield                    ",910,"Bristol County",43050412,{"$f":"VLOOKUP(A390, localcont!$D$10:$L$1764, 8)","v":175380.92157389229},{"$f":"VLOOKUP(A390, localcont!$D$10:$L$1764, 9)*F390","v":152405.42788566867}]
[836,168,"Marblehead                   ",168,"Marblehead",69203837,{"$f":"VLOOKUP(A391, localcont!$D$10:$L$1764, 8)","v":33000504.549999997},{"$f":"VLOOKUP(A391, localcont!$D$10:$L$1764, 9)*F391","v":67619543.578739583}]
[837,168,"Marblehead                   ",817,"Essex North Shore",69203837,{"$f":"VLOOKUP(A392, localcont!$D$10:$L$1764, 8)","v":773185.96798807604},{"$f":"VLOOKUP(A392, localcont!$D$10:$L$1764, 9)*F392","v":1584293.421260423}]
[841,169,"Marion                       ",169,"Marion",15243211,{"$f":"VLOOKUP(A393, localcont!$D$10:$L$1764, 8)","v":4924376.1999999993},{"$f":"VLOOKUP(A393, localcont!$D$10:$L$1764, 9)*F393","v":7299713.5287750075}]
[842,169,"Marion                       ",740,"Old Rochester",15243211,{"$f":"VLOOKUP(A394, localcont!$D$10:$L$1764, 8)","v":4485512.1030678656},{"$f":"VLOOKUP(A394, localcont!$D$10:$L$1764, 9)*F394","v":6649157.5891883597}]
[843,169,"Marion                       ",879,"Upper Cape Cod",{"$f":"VLOOKUP(B395, town351, 7)","v":15243211},{"$f":"VLOOKUP(A395, localcont!$D$10:$L$1764, 8)","v":873159.8143799518},{"$f":"VLOOKUP(A395, localcont!$D$10:$L$1764, 9)*F395","v":1294339.8820366343}]
[846,170,"Marlborough                  ",170,"Marlborough",59116922,{"$f":"VLOOKUP(A396, localcont!$D$10:$L$1764, 8)","v":95710135.489779994},{"$f":"VLOOKUP(A396, localcont!$D$10:$L$1764, 9)*F396","v":50231607.50517749}]
[847,170,"Marlborough                  ",801,"Assabet Valley",59116922,{"$f":"VLOOKUP(A397, localcont!$D$10:$L$1764, 8)","v":16929871.377919052},{"$f":"VLOOKUP(A397, localcont!$D$10:$L$1764, 9)*F397","v":8885314.4948225077}]
[851,171,"Marshfield                   ",171,"Marshfield",55917781,{"$f":"VLOOKUP(A398, localcont!$D$10:$L$1764, 8)","v":50998622.837800011},{"$f":"VLOOKUP(A398, localcont!$D$10:$L$1764, 9)*F398","v":54357790.701098673}]
[852,171,"Marshfield                   ",873,"South Shore",55917781,{"$f":"VLOOKUP(A399, localcont!$D$10:$L$1764, 8)","v":1463587.0196006326},{"$f":"VLOOKUP(A399, localcont!$D$10:$L$1764, 9)*F399","v":1559990.2989013328}]
[856,172,"Mashpee                      ",172,"Mashpee",47062287,{"$f":"VLOOKUP(A400, localcont!$D$10:$L$1764, 8)","v":22069624.379999999},{"$f":"VLOOKUP(A400, localcont!$D$10:$L$1764, 9)*F400","v":44824046.833507866}]
[857,172,"Mashpee                      ",815,"Cape Cod",47062287,{"$f":"VLOOKUP(A401, localcont!$D$10:$L$1764, 8)","v":1102022.7586810326},{"$f":"VLOOKUP(A401, localcont!$D$10:$L$1764, 9)*F401","v":2238240.1664921376}]
[861,173,"Mattapoisett                 ",173,"Mattapoisett",17982838,{"$f":"VLOOKUP(A402, localcont!$D$10:$L$1764, 8)","v":4665496.2399999984},{"$f":"VLOOKUP(A402, localcont!$D$10:$L$1764, 9)*F402","v":8335295.2326484574}]
[862,173,"Mattapoisett                 ",740,"Old Rochester",17982838,{"$f":"VLOOKUP(A403, localcont!$D$10:$L$1764, 8)","v":4621895.9169618059},{"$f":"VLOOKUP(A403, localcont!$D$10:$L$1764, 9)*F403","v":8257399.646398413}]
[863,173,"Mattapoisett                 ",855,"Old Colony",17982838,{"$f":"VLOOKUP(A404, localcont!$D$10:$L$1764, 8)","v":778101.71359796345},{"$f":"VLOOKUP(A404, localcont!$D$10:$L$1764, 9)*F404","v":1390143.1209531319}]
[866,174,"Maynard                      ",174,"Maynard",16554635,{"$f":"VLOOKUP(A405, localcont!$D$10:$L$1764, 8)","v":19485079.486799996},{"$f":"VLOOKUP(A405, localcont!$D$10:$L$1764, 9)*F405","v":15396580.633283706}]
[867,174,"Maynard                      ",801,"Assabet Valley",16554635,{"$f":"VLOOKUP(A406, localcont!$D$10:$L$1764, 8)","v":1465570.9551978826},{"$f":"VLOOKUP(A406, localcont!$D$10:$L$1764, 9)*F406","v":1158054.3667162941}]
[871,175,"Medfield                     ",175,"Medfield",37283358,{"$f":"VLOOKUP(A407, localcont!$D$10:$L$1764, 8)","v":31890716.881099995},{"$f":"VLOOKUP(A407, localcont!$D$10:$L$1764, 9)*F407","v":36821646.887742095}]
[872,175,"Medfield                     ",878,"Tri County",37283358,{"$f":"VLOOKUP(A408, localcont!$D$10:$L$1764, 8)","v":330502.67771078687},{"$f":"VLOOKUP(A408, localcont!$D$10:$L$1764, 9)*F408","v":381604.8707682754}]
[873,175,"Medfield                     ",915,"Norfolk County",37283358,{"$f":"VLOOKUP(A409, localcont!$D$10:$L$1764, 8)","v":69378.903000811173},{"$f":"VLOOKUP(A409, localcont!$D$10:$L$1764, 9)*F409","v":80106.241489628839}]
[876,176,"Medford                      ",176,"Medford",107649672,{"$f":"VLOOKUP(A410, localcont!$D$10:$L$1764, 8)","v":80126099.611029997},{"$f":"VLOOKUP(A410, localcont!$D$10:$L$1764, 9)*F410","v":107649672}]
[881,177,"Medway                       ",177,"Medway",27394589,{"$f":"VLOOKUP(A411, localcont!$D$10:$L$1764, 8)","v":30303728.297169995},{"$f":"VLOOKUP(A411, localcont!$D$10:$L$1764, 9)*F411","v":25475686.033428878}]
[882,177,"Medway                       ",878,"Tri County",27394589,{"$f":"VLOOKUP(A412, localcont!$D$10:$L$1764, 8)","v":2005049.5778527283},{"$f":"VLOOKUP(A412, localcont!$D$10:$L$1764, 9)*F412","v":1685601.620563813}]
[883,177,"Medway                       ",915,"Norfolk County",27394589,{"$f":"VLOOKUP(A413, localcont!$D$10:$L$1764, 8)","v":277515.61200324469},{"$f":"VLOOKUP(A413, localcont!$D$10:$L$1764, 9)*F413","v":233301.34600730869}]
[886,178,"Melrose                      ",178,"Melrose",59880769,{"$f":"VLOOKUP(A414, localcont!$D$10:$L$1764, 8)","v":56067589.012019999},{"$f":"VLOOKUP(A414, localcont!$D$10:$L$1764, 9)*F414","v":57878453.722336523}]
[887,178,"Melrose                      ",853,"Northeast Metropolitan",59880769,{"$f":"VLOOKUP(A415, localcont!$D$10:$L$1764, 8)","v":1939668.0947818635},{"$f":"VLOOKUP(A415, localcont!$D$10:$L$1764, 9)*F415","v":2002315.2776634805}]
[891,179,"Mendon                       ",179,"Mendon",11949772,{"$f":"VLOOKUP(A416, localcont!$D$10:$L$1764, 8)","v":108281.76},{"$f":"VLOOKUP(A416, localcont!$D$10:$L$1764, 9)*F416","v":100147.394917828}]
[892,179,"Mendon                       ",710,"Mendon Upton",11949772,{"$f":"VLOOKUP(A417, localcont!$D$10:$L$1764, 8)","v":11266799.187962573},{"$f":"VLOOKUP(A417, localcont!$D$10:$L$1764, 9)*F417","v":10420412.33663686}]
[893,179,"Mendon                       ",805,"Blackstone Valley",11949772,{"$f":"VLOOKUP(A418, localcont!$D$10:$L$1764, 8)","v":1545298.506944},{"$f":"VLOOKUP(A418, localcont!$D$10:$L$1764, 9)*F418","v":1429212.2684453111}]
[896,180,"Merrimac                     ",180,"Merrimac",10459819,{"$f":"VLOOKUP(A419, localcont!$D$10:$L$1764, 8)","v":36093.919999999998},{"$f":"VLOOKUP(A419, localcont!$D$10:$L$1764, 9)*F419","v":31519.441316010827}]
[897,180,"Merrimac                     ",745,"Pentucket",10459819,{"$f":"VLOOKUP(A420, localcont!$D$10:$L$1764, 8)","v":11063966.57933403},{"$f":"VLOOKUP(A420, localcont!$D$10:$L$1764, 9)*F420","v":9661739.2990183402}]
[898,180,"Merrimac                     ",885,"Whittier",10459819,{"$f":"VLOOKUP(A421, localcont!$D$10:$L$1764, 8)","v":877812.66203778342},{"$f":"VLOOKUP(A421, localcont!$D$10:$L$1764, 9)*F421","v":766560.25966564904}]
[901,181,"Methuen                      ",181,"Methuen",65196550,{"$f":"VLOOKUP(A422, localcont!$D$10:$L$1764, 8)","v":124723583.64},{"$f":"VLOOKUP(A422, localcont!$D$10:$L$1764, 9)*F422","v":58844930.450529821}]
[902,181,"Methuen                      ",823,"Greater Lawrence",65196550,{"$f":"VLOOKUP(A423, localcont!$D$10:$L$1764, 8)","v":13462446.91025326},{"$f":"VLOOKUP(A423, localcont!$D$10:$L$1764, 9)*F423","v":6351619.5494701797}]
[906,182,"Middleborough                ",182,"Middleborough",30690893,{"$f":"VLOOKUP(A424, localcont!$D$10:$L$1764, 8)","v":48396103.460000001},{"$f":"VLOOKUP(A424, localcont!$D$10:$L$1764, 9)*F424","v":28357608.150594302}]
[907,182,"Middleborough                ",810,"Bristol Plymouth",30690893,{"$f":"VLOOKUP(A425, localcont!$D$10:$L$1764, 8)","v":3982066.9773632558},{"$f":"VLOOKUP(A425, localcont!$D$10:$L$1764, 9)*F425","v":2333284.849405698}]
[911,183,"Middlefield                  ",183,"Middlefield",437485,{"$f":"VLOOKUP(A426, localcont!$D$10:$L$1764, 8)","v":54140.88},{"$f":"VLOOKUP(A426, localcont!$D$10:$L$1764, 9)*F426","v":65730.33923901408}]
[912,183,"Middlefield                  ",672,"Gateway",437485,{"$f":"VLOOKUP(A427, localcont!$D$10:$L$1764, 8)","v":306207.52472482057},{"$f":"VLOOKUP(A427, localcont!$D$10:$L$1764, 9)*F427","v":371754.66076098592}]
[916,184,"Middleton                    ",184,"Middleton",23678453,{"$f":"VLOOKUP(A428, localcont!$D$10:$L$1764, 8)","v":8820111.6593199987},{"$f":"VLOOKUP(A428, localcont!$D$10:$L$1764, 9)*F428","v":12318146.155084435}]
[917,184,"Middleton                    ",705,"Masconomet",23678453,{"$f":"VLOOKUP(A429, localcont!$D$10:$L$1764, 8)","v":6897176.3584374301},{"$f":"VLOOKUP(A429, localcont!$D$10:$L$1764, 9)*F429","v":9632579.4640989229}]
[918,184,"Middleton                    ",817,"Essex North Shore",23678453,{"$f":"VLOOKUP(A430, localcont!$D$10:$L$1764, 8)","v":1237097.5489178861},{"$f":"VLOOKUP(A430, localcont!$D$10:$L$1764, 9)*F430","v":1727727.3808166387}]
[921,185,"Milford                      ",185,"Milford",38654811,{"$f":"VLOOKUP(A431, localcont!$D$10:$L$1764, 8)","v":86403728.090000004},{"$f":"VLOOKUP(A431, localcont!$D$10:$L$1764, 9)*F431","v":36838539.552932255}]
[922,185,"Milford                      ",805,"Blackstone Valley",38654811,{"$f":"VLOOKUP(A432, localcont!$D$10:$L$1764, 8)","v":4260012.1002240004},{"$f":"VLOOKUP(A432, localcont!$D$10:$L$1764, 9)*F432","v":1816271.4470677401}]
[926,186,"Millbury                     ",186,"Millbury",19333005,{"$f":"VLOOKUP(A433, localcont!$D$10:$L$1764, 8)","v":24323216.77},{"$f":"VLOOKUP(A433, localcont!$D$10:$L$1764, 9)*F433","v":18134199.389704864}]
[927,186,"Millbury                     ",805,"Blackstone Valley",19333005,{"$f":"VLOOKUP(A434, localcont!$D$10:$L$1764, 8)","v":1607945.7437120001},{"$f":"VLOOKUP(A434, localcont!$D$10:$L$1764, 9)*F434","v":1198805.6102951341}]
[931,187,"Millis                       ",187,"Millis",16576967,{"$f":"VLOOKUP(A435, localcont!$D$10:$L$1764, 8)","v":15646696.541280001},{"$f":"VLOOKUP(A435, localcont!$D$10:$L$1764, 9)*F435","v":15475459.024129171}]
[932,187,"Millis                       ",878,"Tri County",16576967,{"$f":"VLOOKUP(A436, localcont!$D$10:$L$1764, 8)","v":859306.96187512681},{"$f":"VLOOKUP(A436, localcont!$D$10:$L$1764, 9)*F436","v":849902.70262885641}]
[933,187,"Millis                       ",915,"Norfolk County",16576967,{"$f":"VLOOKUP(A437, localcont!$D$10:$L$1764, 8)","v":254389.31100297434},{"$f":"VLOOKUP(A437, localcont!$D$10:$L$1764, 9)*F437","v":251605.27324197255}]
[936,188,"Millville                    ",188,"Millville",3671092,{"$f":"VLOOKUP(A438, localcont!$D$10:$L$1764, 8)","v":90234.8},{"$f":"VLOOKUP(A438, localcont!$D$10:$L$1764, 9)*F438","v":53222.009638948293}]
[937,188,"Millville                    ",622,"Blackstone Millville",3671092,{"$f":"VLOOKUP(A439, localcont!$D$10:$L$1764, 8)","v":5674473.5915610231},{"$f":"VLOOKUP(A439, localcont!$D$10:$L$1764, 9)*F439","v":3346900.3996907878}]
[938,188,"Millville                    ",805,"Blackstone Valley",3671092,{"$f":"VLOOKUP(A440, localcont!$D$10:$L$1764, 8)","v":459413.06963200006},{"$f":"VLOOKUP(A440, localcont!$D$10:$L$1764, 9)*F440","v":270969.59067026392}]
[941,189,"Milton                       ",189,"Milton",79981426,{"$f":"VLOOKUP(A441, localcont!$D$10:$L$1764, 8)","v":61112912.354039997},{"$f":"VLOOKUP(A441, localcont!$D$10:$L$1764, 9)*F441","v":78568959.323000953}]
[942,189,"Milton                       ",806,"Blue Hills",79981426,{"$f":"VLOOKUP(A442, localcont!$D$10:$L$1764, 8)","v":913641.69300861552},{"$f":"VLOOKUP(A442, localcont!$D$10:$L$1764, 9)*F442","v":1174610.6387130183}]
[943,189,"Milton                       ",915,"Norfolk County",79981426,{"$f":"VLOOKUP(A443, localcont!$D$10:$L$1764, 8)","v":185010.40800216314},{"$f":"VLOOKUP(A443, localcont!$D$10:$L$1764, 9)*F443","v":237856.03828603707}]
[946,190,"Monroe                       ",190,"Monroe",124414,{"$f":"VLOOKUP(A444, localcont!$D$10:$L$1764, 8)","v":260752.65999999997},{"$f":"VLOOKUP(A444, localcont!$D$10:$L$1764, 9)*F444","v":91291.184487706356}]
[947,190,"Monroe                       ",851,"Northern Berkshire",124414,{"$f":"VLOOKUP(A445, localcont!$D$10:$L$1764, 8)","v":94607.845215141322},{"$f":"VLOOKUP(A445, localcont!$D$10:$L$1764, 9)*F445","v":33122.815512293651}]
[951,191,"Monson                       ",191,"Monson",8897757,{"$f":"VLOOKUP(A446, localcont!$D$10:$L$1764, 8)","v":12112206.459999999},{"$f":"VLOOKUP(A446, localcont!$D$10:$L$1764, 9)*F446","v":7420010.743387362}]
[952,191,"Monson                       ",860,"Pathfinder",8897757,{"$f":"VLOOKUP(A447, localcont!$D$10:$L$1764, 8)","v":2412229.3584999996},{"$f":"VLOOKUP(A447, localcont!$D$10:$L$1764, 9)*F447","v":1477746.2566126373}]
[956,192,"Montague                     ",192,"Montague",8174828,{"$f":"VLOOKUP(A448, localcont!$D$10:$L$1764, 8)","v":0},{"$f":"VLOOKUP(A448, localcont!$D$10:$L$1764, 9)*F448","v":0}]
[957,192,"Montague                     ",674,"Gill Montague",8174828,{"$f":"VLOOKUP(A449, localcont!$D$10:$L$1764, 8)","v":13524512.787328336},{"$f":"VLOOKUP(A449, localcont!$D$10:$L$1764, 9)*F449","v":7094586.6552854991}]
[958,192,"Montague                     ",818,"Franklin County",8174828,{"$f":"VLOOKUP(A450, localcont!$D$10:$L$1764, 8)","v":2059279.6437418542},{"$f":"VLOOKUP(A450, localcont!$D$10:$L$1764, 9)*F450","v":1080241.3447145016}]
[961,193,"Monterey                     ",193,"Monterey",3288688,{"$f":"VLOOKUP(A451, localcont!$D$10:$L$1764, 8)","v":0},{"$f":"VLOOKUP(A451, localcont!$D$10:$L$1764, 9)*F451","v":0}]
[962,193,"Monterey                     ",765,"Southern Berkshire",3288688,{"$f":"VLOOKUP(A452, localcont!$D$10:$L$1764, 8)","v":1190578.5686365804},{"$f":"VLOOKUP(A452, localcont!$D$10:$L$1764, 9)*F452","v":3288688}]
[966,194,"Montgomery                   ",194,"Montgomery",1064309,{"$f":"VLOOKUP(A453, localcont!$D$10:$L$1764, 8)","v":126328.72},{"$f":"VLOOKUP(A453, localcont!$D$10:$L$1764, 9)*F453","v":107179.67159636755}]
[967,194,"Montgomery                   ",672,"Gateway",1064309,{"$f":"VLOOKUP(A454, localcont!$D$10:$L$1764, 8)","v":1128132.9857684358},{"$f":"VLOOKUP(A454, localcont!$D$10:$L$1764, 9)*F454","v":957129.32840363251}]
[971,195,"Mount Washington             ",195,"Mount Washington",578764,{"$f":"VLOOKUP(A455, localcont!$D$10:$L$1764, 8)","v":54677.719999999994},{"$f":"VLOOKUP(A455, localcont!$D$10:$L$1764, 9)*F455","v":578764}]
[976,196,"Nahant                       ",196,"Nahant",8818225,{"$f":"VLOOKUP(A456, localcont!$D$10:$L$1764, 8)","v":3413694.24},{"$f":"VLOOKUP(A456, localcont!$D$10:$L$1764, 9)*F456","v":8488630.336395951}]
[977,196,"Nahant                       ",817,"Essex North Shore",8818225,{"$f":"VLOOKUP(A457, localcont!$D$10:$L$1764, 8)","v":132546.16588211403},{"$f":"VLOOKUP(A457, localcont!$D$10:$L$1764, 9)*F457","v":329594.66360405}]
[981,197,"Nantucket                    ",197,"Nantucket",155825351,{"$f":"VLOOKUP(A458, localcont!$D$10:$L$1764, 8)","v":27241613.429999992},{"$f":"VLOOKUP(A458, localcont!$D$10:$L$1764, 9)*F458","v":155825351}]
[986,198,"Natick                       ",198,"Natick",{"$f":"VLOOKUP(B459, town351, 7)","v":87998542},{"$f":"VLOOKUP(A459, localcont!$D$10:$L$1764, 8)","v":72661462.079600006},{"$f":"VLOOKUP(A459, localcont!$D$10:$L$1764, 9)*F459","v":86143073.336624801}]
[987,198,"Natick                       ",829,"South Middlesex",87998542,{"$f":"VLOOKUP(A460, localcont!$D$10:$L$1764, 8)","v":1565083.0728650347},{"$f":"VLOOKUP(A460, localcont!$D$10:$L$1764, 9)*F460","v":1855468.6633751942}]
[991,199,"Needham                      ",199,"Needham",120010252,{"$f":"VLOOKUP(A461, localcont!$D$10:$L$1764, 8)","v":77008161.460039988},{"$f":"VLOOKUP(A461, localcont!$D$10:$L$1764, 9)*F461","v":117793827.21244442}]
[992,199,"Needham                      ",830,"Minuteman",120010252,{"$f":"VLOOKUP(A462, localcont!$D$10:$L$1764, 8)","v":1425869.8131703341},{"$f":"VLOOKUP(A462, localcont!$D$10:$L$1764, 9)*F462","v":2181050.1538487128}]
[993,199,"Needham                      ",915,"Norfolk County",120010252,{"$f":"VLOOKUP(A463, localcont!$D$10:$L$1764, 8)","v":23126.301000270392},{"$f":"VLOOKUP(A463, localcont!$D$10:$L$1764, 9)*F463","v":35374.633706875364}]
[996,200,"New Ashford                  ",200,"New Ashford",318133,{"$f":"VLOOKUP(A464, localcont!$D$10:$L$1764, 8)","v":136849.65999999997},{"$f":"VLOOKUP(A464, localcont!$D$10:$L$1764, 9)*F464","v":318133}]
[1001,201,"New Bedford                  ",201,"New Bedford",74376752,{"$f":"VLOOKUP(A465, localcont!$D$10:$L$1764, 8)","v":314496325.39000005},{"$f":"VLOOKUP(A465, localcont!$D$10:$L$1764, 9)*F465","v":65198533.538769983}]
[1002,201,"New Bedford                  ",825,"Greater New Bedford",74376752,{"$f":"VLOOKUP(A466, localcont!$D$10:$L$1764, 8)","v":43066969.413980275},{"$f":"VLOOKUP(A466, localcont!$D$10:$L$1764, 9)*F466","v":8928254.5551797915}]
[1003,201,"New Bedford                  ",910,"Bristol County",74376752,{"$f":"VLOOKUP(A467, localcont!$D$10:$L$1764, 8)","v":1205743.8360354882},{"$f":"VLOOKUP(A467, localcont!$D$10:$L$1764, 9)*F467","v":249963.90605021859}]
[1006,202,"New Braintree                ",202,"New Braintree",1392339,{"$f":"VLOOKUP(A468, localcont!$D$10:$L$1764, 8)","v":0},{"$f":"VLOOKUP(A468, localcont!$D$10:$L$1764, 9)*F468","v":0}]
[1007,202,"New Braintree                ",753,"Quabbin",1392339,{"$f":"VLOOKUP(A469, localcont!$D$10:$L$1764, 8)","v":1506410.087289568},{"$f":"VLOOKUP(A469, localcont!$D$10:$L$1764, 9)*F469","v":1145429.1987923789}]
[1008,202,"New Braintree                ",860,"Pathfinder",1392339,{"$f":"VLOOKUP(A470, localcont!$D$10:$L$1764, 8)","v":324723.18287499994},{"$f":"VLOOKUP(A470, localcont!$D$10:$L$1764, 9)*F470","v":246909.80120762106}]
[1011,203,"Newbury                      ",203,"Newbury",18577356,{"$f":"VLOOKUP(A471, localcont!$D$10:$L$1764, 8)","v":55650.842040000003},{"$f":"VLOOKUP(A471, localcont!$D$10:$L$1764, 9)*F471","v":109562.34603774699}]
[1012,203,"Newbury                      ",773,"Triton",18577356,{"$f":"VLOOKUP(A472, localcont!$D$10:$L$1764, 8)","v":8840295.5489835162},{"$f":"VLOOKUP(A472, localcont!$D$10:$L$1764, 9)*F472","v":17404292.271400217}]
[1013,203,"Newbury                      ",885,"Whittier",18577356,{"$f":"VLOOKUP(A473, localcont!$D$10:$L$1764, 8)","v":540192.4072517649},{"$f":"VLOOKUP(A473, localcont!$D$10:$L$1764, 9)*F473","v":1063501.3825620348}]
[1016,204,"Newburyport                  ",204,"Newburyport",48795206,{"$f":"VLOOKUP(A474, localcont!$D$10:$L$1764, 8)","v":27238492.659999996},{"$f":"VLOOKUP(A474, localcont!$D$10:$L$1764, 9)*F474","v":47768909.522195995}]
[1017,204,"Newburyport                  ",885,"Whittier",48795206,{"$f":"VLOOKUP(A475, localcont!$D$10:$L$1764, 8)","v":585208.44116525352},{"$f":"VLOOKUP(A475, localcont!$D$10:$L$1764, 9)*F475","v":1026296.4778040091}]
[1021,205,"New Marlborough              ",205,"New Marlborough",3814867,{"$f":"VLOOKUP(A476, localcont!$D$10:$L$1764, 8)","v":0},{"$f":"VLOOKUP(A476, localcont!$D$10:$L$1764, 9)*F476","v":0}]
[1022,205,"New Marlborough              ",765,"Southern Berkshire",3814867,{"$f":"VLOOKUP(A477, localcont!$D$10:$L$1764, 8)","v":1709548.7138413903},{"$f":"VLOOKUP(A477, localcont!$D$10:$L$1764, 9)*F477","v":3814867}]
[1026,206,"New Salem                    ",206,"New Salem",1101502,{"$f":"VLOOKUP(A478, localcont!$D$10:$L$1764, 8)","v":0},{"$f":"VLOOKUP(A478, localcont!$D$10:$L$1764, 9)*F478","v":0}]
[1027,206,"New Salem                    ",728,"New Salem Wendell",1101502,{"$f":"VLOOKUP(A479, localcont!$D$10:$L$1764, 8)","v":646417.7583385047},{"$f":"VLOOKUP(A479, localcont!$D$10:$L$1764, 9)*F479","v":490113.21418876585}]
[1028,206,"New Salem                    ",755,"Ralph C Mahar",1101502,{"$f":"VLOOKUP(A480, localcont!$D$10:$L$1764, 8)","v":572360.90030532214},{"$f":"VLOOKUP(A480, localcont!$D$10:$L$1764, 9)*F480","v":433963.38808148669}]
[1029,206,"New Salem                    ",818,"Franklin County",1101502,{"$f":"VLOOKUP(A481, localcont!$D$10:$L$1764, 8)","v":234009.05046524221},{"$f":"VLOOKUP(A481, localcont!$D$10:$L$1764, 9)*F481","v":177425.39772974743}]
[1031,207,"Newton                       ",207,"Newton",388553055,{"$f":"VLOOKUP(A482, localcont!$D$10:$L$1764, 8)","v":169131329.11532003},{"$f":"VLOOKUP(A482, localcont!$D$10:$L$1764, 9)*F482","v":388553055}]
[1036,208,"Norfolk                      ",208,"Norfolk",23425158,{"$f":"VLOOKUP(A483, localcont!$D$10:$L$1764, 8)","v":13448983.686729999},{"$f":"VLOOKUP(A483, localcont!$D$10:$L$1764, 9)*F483","v":12708069.775760584}]
[1037,208,"Norfolk                      ",690,"King Philip",23425158,{"$f":"VLOOKUP(A484, localcont!$D$10:$L$1764, 8)","v":9894445.3531881813},{"$f":"VLOOKUP(A484, localcont!$D$10:$L$1764, 9)*F484","v":9349353.4433260858}]
[1038,208,"Norfolk                      ",878,"Tri County",23425158,{"$f":"VLOOKUP(A485, localcont!$D$10:$L$1764, 8)","v":1123709.1039572968},{"$f":"VLOOKUP(A485, localcont!$D$10:$L$1764, 9)*F485","v":1061803.1840455616}]
[1039,208,"Norfolk                      ",915,"Norfolk County",23425158,{"$f":"VLOOKUP(A486, localcont!$D$10:$L$1764, 8)","v":323768.21406645776},{"$f":"VLOOKUP(A486, localcont!$D$10:$L$1764, 9)*F486","v":305931.59686777275}]
[1041,209,"North Adams                  ",209,"North Adams",7845922,{"$f":"VLOOKUP(A487, localcont!$D$10:$L$1764, 8)","v":22873270.939999998},{"$f":"VLOOKUP(A487, localcont!$D$10:$L$1764, 9)*F487","v":6810670.0420797477}]
[1042,209,"North Adams                  ",851,"Northern Berkshire",7845922,{"$f":"VLOOKUP(A488, localcont!$D$10:$L$1764, 8)","v":3476838.3108227123},{"$f":"VLOOKUP(A488, localcont!$D$10:$L$1764, 9)*F488","v":1035251.9579202521}]
[1046,210,"Northampton                  ",210,"Northampton",39956207,{"$f":"VLOOKUP(A489, localcont!$D$10:$L$1764, 8)","v":37355374.600000009},{"$f":"VLOOKUP(A489, localcont!$D$10:$L$1764, 9)*F489","v":36043482.038531654}]
[1047,210,"Northampton                  ",406,"Northampton Smith",39956207,{"$f":"VLOOKUP(A490, localcont!$D$10:$L$1764, 8)","v":4055138.3600000003},{"$f":"VLOOKUP(A490, localcont!$D$10:$L$1764, 9)*F490","v":3912724.9614683478}]
[1051,211,"North Andover                ",211,"North Andover",64181023,{"$f":"VLOOKUP(A491, localcont!$D$10:$L$1764, 8)","v":63468657.769999996},{"$f":"VLOOKUP(A491, localcont!$D$10:$L$1764, 9)*F491","v":62626249.995243065}]
[1052,211,"North Andover                ",823,"Greater Lawrence",64181023,{"$f":"VLOOKUP(A492, localcont!$D$10:$L$1764, 8)","v":1575686.8047575597},{"$f":"VLOOKUP(A492, localcont!$D$10:$L$1764, 9)*F492","v":1554773.004756938}]
[1056,212,"North Attleborough           ",212,"North Attleborough",45424751,{"$f":"VLOOKUP(A493, localcont!$D$10:$L$1764, 8)","v":53752172.830000006},{"$f":"VLOOKUP(A493, localcont!$D$10:$L$1764, 9)*F493","v":41418808.823448122}]
[1057,212,"North Attleborough           ",878,"Tri County",45424751,{"$f":"VLOOKUP(A494, localcont!$D$10:$L$1764, 8)","v":4979573.6768175131},{"$f":"VLOOKUP(A494, localcont!$D$10:$L$1764, 9)*F494","v":3837017.1712810961}]
[1058,212,"North Attleborough           ",910,"Bristol County",45424751,{"$f":"VLOOKUP(A495, localcont!$D$10:$L$1764, 8)","v":219226.15199602919},{"$f":"VLOOKUP(A495, localcont!$D$10:$L$1764, 9)*F495","v":168925.00527078155}]
[1061,213,"Northborough                 ",213,"Northborough",34013420,{"$f":"VLOOKUP(A496, localcont!$D$10:$L$1764, 8)","v":22109021.609999996},{"$f":"VLOOKUP(A496, localcont!$D$10:$L$1764, 9)*F496","v":21523150.771801446}]
[1062,213,"Northborough                 ",730,"Northboro Southboro",34013420,{"$f":"VLOOKUP(A497, localcont!$D$10:$L$1764, 8)","v":11162541.87791626},{"$f":"VLOOKUP(A497, localcont!$D$10:$L$1764, 9)*F497","v":10866743.724483579}]
[1063,213,"Northborough                 ",801,"Assabet Valley",34013420,{"$f":"VLOOKUP(A498, localcont!$D$10:$L$1764, 8)","v":1667718.67309724},{"$f":"VLOOKUP(A498, localcont!$D$10:$L$1764, 9)*F498","v":1623525.5037149768}]
[1066,214,"Northbridge                  ",214,"Northbridge",21603048,{"$f":"VLOOKUP(A499, localcont!$D$10:$L$1764, 8)","v":29934557.589999996},{"$f":"VLOOKUP(A499, localcont!$D$10:$L$1764, 9)*F499","v":19348908.621194109}]
[1067,214,"Northbridge                  ",805,"Blackstone Valley",21603048,{"$f":"VLOOKUP(A500, localcont!$D$10:$L$1764, 8)","v":3487362.846752},{"$f":"VLOOKUP(A500, localcont!$D$10:$L$1764, 9)*F500","v":2254139.3788058921}]
[1071,215,"North Brookfield             ",215,"North Brookfield",5006895,{"$f":"VLOOKUP(A501, localcont!$D$10:$L$1764, 8)","v":9042500.3499999996},{"$f":"VLOOKUP(A501, localcont!$D$10:$L$1764, 9)*F501","v":4510407.1809729757}]
[1072,215,"North Brookfield             ",876,"Southern Worcester",5006895,{"$f":"VLOOKUP(A502, localcont!$D$10:$L$1764, 8)","v":995362.74602022325},{"$f":"VLOOKUP(A502, localcont!$D$10:$L$1764, 9)*F502","v":496487.81902702339}]
[1076,216,"Northfield                   ",216,"Northfield",4046072,{"$f":"VLOOKUP(A503, localcont!$D$10:$L$1764, 8)","v":0},{"$f":"VLOOKUP(A503, localcont!$D$10:$L$1764, 9)*F503","v":0}]
[1077,216,"Northfield                   ",750,"Pioneer",4046072,{"$f":"VLOOKUP(A504, localcont!$D$10:$L$1764, 8)","v":3335120.7499726438},{"$f":"VLOOKUP(A504, localcont!$D$10:$L$1764, 9)*F504","v":2875759.8737020856}]
[1078,216,"Northfield                   ",818,"Franklin County",4046072,{"$f":"VLOOKUP(A505, localcont!$D$10:$L$1764, 8)","v":1357252.4924816189},{"$f":"VLOOKUP(A505, localcont!$D$10:$L$1764, 9)*F505","v":1170312.1262979149}]
[1081,217,"North Reading                ",217,"North Reading",38008833,{"$f":"VLOOKUP(A506, localcont!$D$10:$L$1764, 8)","v":32523143.82144},{"$f":"VLOOKUP(A506, localcont!$D$10:$L$1764, 9)*F506","v":36979622.618280694}]
[1082,217,"North Reading                ",853,"Northeast Metropolitan",38008833,{"$f":"VLOOKUP(A507, localcont!$D$10:$L$1764, 8)","v":905178.44415829435},{"$f":"VLOOKUP(A507, localcont!$D$10:$L$1764, 9)*F507","v":1029210.3817193072}]
[1086,218,"Norton                       ",218,"Norton",27760762,{"$f":"VLOOKUP(A508, localcont!$D$10:$L$1764, 8)","v":30928801.829999998},{"$f":"VLOOKUP(A508, localcont!$D$10:$L$1764, 9)*F508","v":25799770.848776143}]
[1087,218,"Norton                       ",872,"Southeastern",27760762,{"$f":"VLOOKUP(A509, localcont!$D$10:$L$1764, 8)","v":2065844.9715263166},{"$f":"VLOOKUP(A509, localcont!$D$10:$L$1764, 9)*F509","v":1723258.7013046746}]
[1088,218,"Norton                       ",910,"Bristol County",27760762,{"$f":"VLOOKUP(A510, localcont!$D$10:$L$1764, 8)","v":284993.99762923451},{"$f":"VLOOKUP(A510, localcont!$D$10:$L$1764, 9)*F510","v":237732.44991918595}]
[1091,219,"Norwell                      ",219,"Norwell",35946346,{"$f":"VLOOKUP(A511, localcont!$D$10:$L$1764, 8)","v":28540632.825939994},{"$f":"VLOOKUP(A511, localcont!$D$10:$L$1764, 9)*F511","v":35297949.199076153}]
[1092,219,"Norwell                      ",873,"South Shore",35946346,{"$f":"VLOOKUP(A512, localcont!$D$10:$L$1764, 8)","v":524269.97716813273},{"$f":"VLOOKUP(A512, localcont!$D$10:$L$1764, 9)*F512","v":648396.80092384492}]
[1096,220,"Norwood                      ",220,"Norwood",56749210,{"$f":"VLOOKUP(A513, localcont!$D$10:$L$1764, 8)","v":60923118.738080002},{"$f":"VLOOKUP(A513, localcont!$D$10:$L$1764, 9)*F513","v":54013235.844347671}]
[1097,220,"Norwood                      ",806,"Blue Hills",56749210,{"$f":"VLOOKUP(A514, localcont!$D$10:$L$1764, 8)","v":2692838.6740722563},{"$f":"VLOOKUP(A514, localcont!$D$10:$L$1764, 9)*F514","v":2387417.6733918968}]
[1098,220,"Norwood                      ",915,"Norfolk County",56749210,{"$f":"VLOOKUP(A515, localcont!$D$10:$L$1764, 8)","v":393147.11706726893},{"$f":"VLOOKUP(A515, localcont!$D$10:$L$1764, 9)*F515","v":348556.48226043175}]
[1101,221,"Oak Bluffs                   ",221,"Oak Bluffs",24268267,{"$f":"VLOOKUP(A516, localcont!$D$10:$L$1764, 8)","v":6199181.6200000001},{"$f":"VLOOKUP(A516, localcont!$D$10:$L$1764, 9)*F516","v":15125667.371106425}]
[1102,221,"Oak Bluffs                   ",700,"Marthas Vineyard",24268267,{"$f":"VLOOKUP(A517, localcont!$D$10:$L$1764, 8)","v":3747050.2416786952},{"$f":"VLOOKUP(A517, localcont!$D$10:$L$1764, 9)*F517","v":9142599.6288935766}]
[1106,222,"Oakham                       ",222,"Oakham",2500513,{"$f":"VLOOKUP(A518, localcont!$D$10:$L$1764, 8)","v":0},{"$f":"VLOOKUP(A518, localcont!$D$10:$L$1764, 9)*F518","v":0}]
[1107,222,"Oakham                       ",753,"Quabbin",2500513,{"$f":"VLOOKUP(A519, localcont!$D$10:$L$1764, 8)","v":3475183.666544653},{"$f":"VLOOKUP(A519, localcont!$D$10:$L$1764, 9)*F519","v":2245707.0732537718}]
[1108,222,"Oakham                       ",860,"Pathfinder",2500513,{"$f":"VLOOKUP(A520, localcont!$D$10:$L$1764, 8)","v":394306.7220624999},{"$f":"VLOOKUP(A520, localcont!$D$10:$L$1764, 9)*F520","v":254805.9267462281}]
[1111,223,"Orange                       ",223,"Orange",6041352,{"$f":"VLOOKUP(A521, localcont!$D$10:$L$1764, 8)","v":9347133.2100000009},{"$f":"VLOOKUP(A521, localcont!$D$10:$L$1764, 9)*F521","v":2885034.9398140442}]
[1112,223,"Orange                       ",755,"Ralph C Mahar",6041352,{"$f":"VLOOKUP(A522, localcont!$D$10:$L$1764, 8)","v":8400780.9553623125},{"$f":"VLOOKUP(A522, localcont!$D$10:$L$1764, 9)*F522","v":2592939.0363256284}]
[1113,223,"Orange                       ",818,"Franklin County",{"$f":"VLOOKUP(B523, town351, 7)","v":6041352},{"$f":"VLOOKUP(A523, localcont!$D$10:$L$1764, 8)","v":1825270.5934121034},{"$f":"VLOOKUP(A523, localcont!$D$10:$L$1764, 9)*F523","v":563378.02386032674}]
[1116,224,"Orleans                      ",224,"Orleans",29432716,{"$f":"VLOOKUP(A524, localcont!$D$10:$L$1764, 8)","v":2343511.5999999996},{"$f":"VLOOKUP(A524, localcont!$D$10:$L$1764, 9)*F524","v":10519468.962141696}]
[1117,224,"Orleans                      ",660,"Nauset",29432716,{"$f":"VLOOKUP(A525, localcont!$D$10:$L$1764, 8)","v":3853620.7897986285},{"$f":"VLOOKUP(A525, localcont!$D$10:$L$1764, 9)*F525","v":17297991.736055691}]
[1118,224,"Orleans                      ",815,"Cape Cod",29432716,{"$f":"VLOOKUP(A526, localcont!$D$10:$L$1764, 8)","v":359844.16612274054},{"$f":"VLOOKUP(A526, localcont!$D$10:$L$1764, 9)*F526","v":1615255.3018026154}]
[1121,225,"Otis                         ",225,"Otis",4193776,{"$f":"VLOOKUP(A527, localcont!$D$10:$L$1764, 8)","v":0},{"$f":"VLOOKUP(A527, localcont!$D$10:$L$1764, 9)*F527","v":0}]
[1122,225,"Otis                         ",662,"Farmington River",4193776,{"$f":"VLOOKUP(A528, localcont!$D$10:$L$1764, 8)","v":1741602.4955459803},{"$f":"VLOOKUP(A528, localcont!$D$10:$L$1764, 9)*F528","v":4193776}]
[1126,226,"Oxford                       ",226,"Oxford",15965079,{"$f":"VLOOKUP(A529, localcont!$D$10:$L$1764, 8)","v":23801612.039999999},{"$f":"VLOOKUP(A529, localcont!$D$10:$L$1764, 9)*F529","v":14327378.972569389}]
[1127,226,"Oxford                       ",876,"Southern Worcester",15965079,{"$f":"VLOOKUP(A530, localcont!$D$10:$L$1764, 8)","v":2720658.1724005542},{"$f":"VLOOKUP(A530, localcont!$D$10:$L$1764, 9)*F530","v":1637700.0274306114}]
[1131,227,"Palmer                       ",227,"Palmer",10869860,{"$f":"VLOOKUP(A531, localcont!$D$10:$L$1764, 8)","v":20520407.920000002},{"$f":"VLOOKUP(A531, localcont!$D$10:$L$1764, 9)*F531","v":8898476.9396818709}]
[1132,227,"Palmer                       ",860,"Pathfinder",10869860,{"$f":"VLOOKUP(A532, localcont!$D$10:$L$1764, 8)","v":4546124.5602499992},{"$f":"VLOOKUP(A532, localcont!$D$10:$L$1764, 9)*F532","v":1971383.0603181301}]
[1136,228,"Paxton                       ",228,"Paxton",6724853,{"$f":"VLOOKUP(A533, localcont!$D$10:$L$1764, 8)","v":0},{"$f":"VLOOKUP(A533, localcont!$D$10:$L$1764, 9)*F533","v":0}]
[1137,228,"Paxton                       ",775,"Wachusett",6724853,{"$f":"VLOOKUP(A534, localcont!$D$10:$L$1764, 8)","v":8223810.852695507},{"$f":"VLOOKUP(A534, localcont!$D$10:$L$1764, 9)*F534","v":5970145.7112896163}]
[1138,228,"Paxton                       ",876,"Southern Worcester",6724853,{"$f":"VLOOKUP(A535, localcont!$D$10:$L$1764, 8)","v":1039601.0904337162},{"$f":"VLOOKUP(A535, localcont!$D$10:$L$1764, 9)*F535","v":754707.28871038428}]
[1141,229,"Peabody                      ",229,"Peabody",76056616,{"$f":"VLOOKUP(A536, localcont!$D$10:$L$1764, 8)","v":101220183.82000001},{"$f":"VLOOKUP(A536, localcont!$D$10:$L$1764, 9)*F536","v":68763045.727497578}]
[1142,229,"Peabody                      ",817,"Essex North Shore",76056616,{"$f":"VLOOKUP(A537, localcont!$D$10:$L$1764, 8)","v":10736239.441929812},{"$f":"VLOOKUP(A537, localcont!$D$10:$L$1764, 9)*F537","v":7293570.2725024214}]
[1146,230,"Pelham                       ",230,"Pelham",1860965,{"$f":"VLOOKUP(A538, localcont!$D$10:$L$1764, 8)","v":1100951.8599999999},{"$f":"VLOOKUP(A538, localcont!$D$10:$L$1764, 9)*F538","v":866163.87981679745}]
[1147,230,"Pelham                       ",605,"Amherst Pelham",1860965,{"$f":"VLOOKUP(A539, localcont!$D$10:$L$1764, 8)","v":1264458.3422567011},{"$f":"VLOOKUP(A539, localcont!$D$10:$L$1764, 9)*F539","v":994801.12018320244}]
[1151,231,"Pembroke                     ",231,"Pembroke",30981543,{"$f":"VLOOKUP(A540, localcont!$D$10:$L$1764, 8)","v":34261298.371089995},{"$f":"VLOOKUP(A540, localcont!$D$10:$L$1764, 9)*F540","v":30981543}]
[1156,232,"Pepperell                    ",232,"Pepperell",16628257,{"$f":"VLOOKUP(A541, localcont!$D$10:$L$1764, 8)","v":0},{"$f":"VLOOKUP(A541, localcont!$D$10:$L$1764, 9)*F541","v":0}]
[1157,232,"Pepperell                    ",735,"North Middlesex",16628257,{"$f":"VLOOKUP(A542, localcont!$D$10:$L$1764, 8)","v":20584149.597274259},{"$f":"VLOOKUP(A542, localcont!$D$10:$L$1764, 9)*F542","v":14398348.227685835}]
[1158,232,"Pepperell                    ",852,"Nashoba Valley",16628257,{"$f":"VLOOKUP(A543, localcont!$D$10:$L$1764, 8)","v":3187919.5468636258},{"$f":"VLOOKUP(A543, localcont!$D$10:$L$1764, 9)*F543","v":2229908.7723141634}]
[1161,233,"Peru                         ",233,"Peru",783383,{"$f":"VLOOKUP(A544, localcont!$D$10:$L$1764, 8)","v":126328.72},{"$f":"VLOOKUP(A544, localcont!$D$10:$L$1764, 9)*F544","v":67873.783470197915}]
[1162,233,"Peru                         ",635,"Central Berkshire",783383,{"$f":"VLOOKUP(A545, localcont!$D$10:$L$1764, 8)","v":1331727.1979114143},{"$f":"VLOOKUP(A545, localcont!$D$10:$L$1764, 9)*F545","v":715509.21652980207}]
[1166,234,"Petersham                    ",234,"Petersham",1763217,{"$f":"VLOOKUP(A546, localcont!$D$10:$L$1764, 8)","v":1303394.22},{"$f":"VLOOKUP(A546, localcont!$D$10:$L$1764, 9)*F546","v":870601.43744074774}]
[1167,234,"Petersham                    ",755,"Ralph C Mahar",1763217,{"$f":"VLOOKUP(A547, localcont!$D$10:$L$1764, 8)","v":1163185.0553261247},{"$f":"VLOOKUP(A547, localcont!$D$10:$L$1764, 9)*F547","v":776948.80461915792}]
[1168,234,"Petersham                    ",832,"Montachusett",1763217,{"$f":"VLOOKUP(A548, localcont!$D$10:$L$1764, 8)","v":173166.93639794129},{"$f":"VLOOKUP(A548, localcont!$D$10:$L$1764, 9)*F548","v":115666.75794009445}]
[1171,235,"Phillipston                  ",235,"Phillipston",2408027,{"$f":"VLOOKUP(A549, localcont!$D$10:$L$1764, 8)","v":0},{"$f":"VLOOKUP(A549, localcont!$D$10:$L$1764, 9)*F549","v":0}]
[1172,235,"Phillipston                  ",720,"Narragansett",2408027,{"$f":"VLOOKUP(A550, localcont!$D$10:$L$1764, 8)","v":2959728.7753238771},{"$f":"VLOOKUP(A550, localcont!$D$10:$L$1764, 9)*F550","v":2074282.8054323893}]
[1173,235,"Phillipston                  ",832,"Montachusett",2408027,{"$f":"VLOOKUP(A551, localcont!$D$10:$L$1764, 8)","v":476209.07509433862},{"$f":"VLOOKUP(A551, localcont!$D$10:$L$1764, 9)*F551","v":333744.19456761063}]
[1176,236,"Pittsfield                   ",236,"Pittsfield",40137364,{"$f":"VLOOKUP(A552, localcont!$D$10:$L$1764, 8)","v":102927840.99999999},{"$f":"VLOOKUP(A552, localcont!$D$10:$L$1764, 9)*F552","v":40137364}]
[1181,237,"Plainfield                   ",237,"Plainfield",732052,{"$f":"VLOOKUP(A553, localcont!$D$10:$L$1764, 8)","v":213715.20000000001},{"$f":"VLOOKUP(A553, localcont!$D$10:$L$1764, 9)*F553","v":129893.39612840753}]
[1182,237,"Plainfield                   ",717,"Mohawk Trail",732052,{"$f":"VLOOKUP(A554, localcont!$D$10:$L$1764, 8)","v":990738.9466583801},{"$f":"VLOOKUP(A554, localcont!$D$10:$L$1764, 9)*F554","v":602158.60387159255}]
[1186,238,"Plainville                   ",238,"Plainville",16353110,{"$f":"VLOOKUP(A555, localcont!$D$10:$L$1764, 8)","v":9110344.2199999988},{"$f":"VLOOKUP(A555, localcont!$D$10:$L$1764, 9)*F555","v":8026804.9442095999}]
[1187,238,"Plainville                   ",690,"King Philip",16353110,{"$f":"VLOOKUP(A556, localcont!$D$10:$L$1764, 8)","v":7107072.1048386823},{"$f":"VLOOKUP(A556, localcont!$D$10:$L$1764, 9)*F556","v":6261792.1049280912}]
[1188,238,"Plainville                   ",878,"Tri County",16353110,{"$f":"VLOOKUP(A557, localcont!$D$10:$L$1764, 8)","v":2181317.6725021256},{"$f":"VLOOKUP(A557, localcont!$D$10:$L$1764, 9)*F557","v":1921882.5387622775}]
[1189,238,"Plainville                   ",915,"Norfolk County",16353110,{"$f":"VLOOKUP(A558, localcont!$D$10:$L$1764, 8)","v":161884.10700189276},{"$f":"VLOOKUP(A558, localcont!$D$10:$L$1764, 9)*F558","v":142630.41210003247}]
[1191,239,"Plymouth                     ",239,"Plymouth",112557678,{"$f":"VLOOKUP(A559, localcont!$D$10:$L$1764, 8)","v":116667017.01678},{"$f":"VLOOKUP(A559, localcont!$D$10:$L$1764, 9)*F559","v":112557678}]
[1196,240,"Plympton                     ",240,"Plympton",5125140,{"$f":"VLOOKUP(A560, localcont!$D$10:$L$1764, 8)","v":3832357.2770500001},{"$f":"VLOOKUP(A560, localcont!$D$10:$L$1764, 9)*F560","v":2803189.8517943574}]
[1197,240,"Plympton                     ",760,"Silver Lake",5125140,{"$f":"VLOOKUP(A561, localcont!$D$10:$L$1764, 8)","v":3174434.4899533475},{"$f":"VLOOKUP(A561, localcont!$D$10:$L$1764, 9)*F561","v":2321950.1482056426}]
[1201,241,"Princeton                    ",241,"Princeton",6755545,{"$f":"VLOOKUP(A562, localcont!$D$10:$L$1764, 8)","v":0},{"$f":"VLOOKUP(A562, localcont!$D$10:$L$1764, 9)*F562","v":0}]
[1202,241,"Princeton                    ",775,"Wachusett",6755545,{"$f":"VLOOKUP(A563, localcont!$D$10:$L$1764, 8)","v":6140445.4366073254},{"$f":"VLOOKUP(A563, localcont!$D$10:$L$1764, 9)*F563","v":6148650.8213198241}]
[1203,241,"Princeton                    ",832,"Montachusett",6755545,{"$f":"VLOOKUP(A564, localcont!$D$10:$L$1764, 8)","v":606084.27739279461},{"$f":"VLOOKUP(A564, localcont!$D$10:$L$1764, 9)*F564","v":606894.17868017626}]
[1206,242,"Provincetown                 ",242,"Provincetown",24665981,{"$f":"VLOOKUP(A565, localcont!$D$10:$L$1764, 8)","v":1493180.93},{"$f":"VLOOKUP(A565, localcont!$D$10:$L$1764, 9)*F565","v":22621622.526477024}]
[1207,242,"Provincetown                 ",815,"Cape Cod",24665981,{"$f":"VLOOKUP(A566, localcont!$D$10:$L$1764, 8)","v":134941.56235590801},{"$f":"VLOOKUP(A566, localcont!$D$10:$L$1764, 9)*F566","v":2044358.473522973}]
[1211,243,"Quincy                       ",243,"Quincy",160212833,{"$f":"VLOOKUP(A567, localcont!$D$10:$L$1764, 8)","v":183203446.08495995},{"$f":"VLOOKUP(A567, localcont!$D$10:$L$1764, 9)*F567","v":160010846.67918077}]
[1212,243,"Quincy                       ",915,"Norfolk County",160212833,{"$f":"VLOOKUP(A568, localcont!$D$10:$L$1764, 8)","v":231263.01000270396},{"$f":"VLOOKUP(A568, localcont!$D$10:$L$1764, 9)*F568","v":201986.32081924792}]
[1216,244,"Randolph                     ",244,"Randolph",40150393,{"$f":"VLOOKUP(A569, localcont!$D$10:$L$1764, 8)","v":63464836.434990004},{"$f":"VLOOKUP(A569, localcont!$D$10:$L$1764, 9)*F569","v":36429382.633032873}]
[1217,244,"Randolph                     ",806,"Blue Hills",40150393,{"$f":"VLOOKUP(A570, localcont!$D$10:$L$1764, 8)","v":6251232.6361995377},{"$f":"VLOOKUP(A570, localcont!$D$10:$L$1764, 9)*F570","v":3588263.3348545493}]
[1218,244,"Randolph                     ",915,"Norfolk County",40150393,{"$f":"VLOOKUP(A571, localcont!$D$10:$L$1764, 8)","v":231263.01000270396},{"$f":"VLOOKUP(A571, localcont!$D$10:$L$1764, 9)*F571","v":132747.03211258247}]
[1221,245,"Raynham                      ",245,"Raynham",23710997,{"$f":"VLOOKUP(A572, localcont!$D$10:$L$1764, 8)","v":0},{"$f":"VLOOKUP(A572, localcont!$D$10:$L$1764, 9)*F572","v":0}]
[1222,245,"Raynham                      ",625,"Bridgewater Raynham",23710997,{"$f":"VLOOKUP(A573, localcont!$D$10:$L$1764, 8)","v":31200251.393744357},{"$f":"VLOOKUP(A573, localcont!$D$10:$L$1764, 9)*F573","v":20693529.073326249}]
[1223,245,"Raynham                      ",810,"Bristol Plymouth",23710997,{"$f":"VLOOKUP(A574, localcont!$D$10:$L$1764, 8)","v":4176841.9926965376},{"$f":"VLOOKUP(A574, localcont!$D$10:$L$1764, 9)*F574","v":2770285.4095555674}]
[1224,245,"Raynham                      ",910,"Bristol County",23710997,{"$f":"VLOOKUP(A575, localcont!$D$10:$L$1764, 8)","v":372684.45835885307},{"$f":"VLOOKUP(A575, localcont!$D$10:$L$1764, 9)*F575","v":247182.51711818122}]
[1226,246,"Reading                      ",246,"Reading",60113982,{"$f":"VLOOKUP(A576, localcont!$D$10:$L$1764, 8)","v":52462148.049119994},{"$f":"VLOOKUP(A576, localcont!$D$10:$L$1764, 9)*F576","v":58752707.12020953}]
[1227,246,"Reading                      ",853,"Northeast Metropolitan",60113982,{"$f":"VLOOKUP(A577, localcont!$D$10:$L$1764, 8)","v":1215525.3396749534},{"$f":"VLOOKUP(A577, localcont!$D$10:$L$1764, 9)*F577","v":1361274.8797904716}]
[1231,247,"Rehoboth                     ",247,"Rehoboth",22178989,{"$f":"VLOOKUP(A578, localcont!$D$10:$L$1764, 8)","v":0},{"$f":"VLOOKUP(A578, localcont!$D$10:$L$1764, 9)*F578","v":0}]
[1232,247,"Rehoboth                     ",650,"Dighton Rehoboth",22178989,{"$f":"VLOOKUP(A579, localcont!$D$10:$L$1764, 8)","v":20967492.39418466},{"$f":"VLOOKUP(A579, localcont!$D$10:$L$1764, 9)*F579","v":20093214.803180061}]
[1233,247,"Rehoboth                     ",810,"Bristol Plymouth",22178989,{"$f":"VLOOKUP(A580, localcont!$D$10:$L$1764, 8)","v":1211933.4277906397},{"$f":"VLOOKUP(A580, localcont!$D$10:$L$1764, 9)*F580","v":1161399.6673491376}]
[1234,247,"Rehoboth                     ",910,"Bristol County",22178989,{"$f":"VLOOKUP(A581, localcont!$D$10:$L$1764, 8)","v":964595.06882839056},{"$f":"VLOOKUP(A581, localcont!$D$10:$L$1764, 9)*F581","v":924374.52947080403}]
[1236,248,"Revere                       ",248,"Revere",71751003,{"$f":"VLOOKUP(A582, localcont!$D$10:$L$1764, 8)","v":161211763.5869},{"$f":"VLOOKUP(A582, localcont!$D$10:$L$1764, 9)*F582","v":68603392.014111206}]
[1237,248,"Revere                       ",853,"Northeast Metropolitan",71751003,{"$f":"VLOOKUP(A583, localcont!$D$10:$L$1764, 8)","v":7396601.002123313},{"$f":"VLOOKUP(A583, localcont!$D$10:$L$1764, 9)*F583","v":3147610.9858887936}]
[1241,249,"Richmond                     ",249,"Richmond",3525793,{"$f":"VLOOKUP(A584, localcont!$D$10:$L$1764, 8)","v":1875388.28},{"$f":"VLOOKUP(A584, localcont!$D$10:$L$1764, 9)*F584","v":3525793}]
[1246,250,"Rochester                    ",250,"Rochester",10472274,{"$f":"VLOOKUP(A585, localcont!$D$10:$L$1764, 8)","v":6139467.4500000002},{"$f":"VLOOKUP(A585, localcont!$D$10:$L$1764, 9)*F585","v":4952028.1388670718}]
[1247,250,"Rochester                    ",740,"Old Rochester",10472274,{"$f":"VLOOKUP(A586, localcont!$D$10:$L$1764, 8)","v":5182584.9299703268},{"$f":"VLOOKUP(A586, localcont!$D$10:$L$1764, 9)*F586","v":4180217.032550843}]
[1248,250,"Rochester                    ",855,"Old Colony",{"$f":"VLOOKUP(B587, town351, 7)","v":10472274},{"$f":"VLOOKUP(A587, localcont!$D$10:$L$1764, 8)","v":1661352.3074655903},{"$f":"VLOOKUP(A587, localcont!$D$10:$L$1764, 9)*F587","v":1340028.8285820852}]
[1251,251,"Rockland                     ",251,"Rockland",22667793,{"$f":"VLOOKUP(A588, localcont!$D$10:$L$1764, 8)","v":39192538.375899993},{"$f":"VLOOKUP(A588, localcont!$D$10:$L$1764, 9)*F588","v":21147298.152330238}]
[1252,251,"Rockland                     ",873,"South Shore",22667793,{"$f":"VLOOKUP(A589, localcont!$D$10:$L$1764, 8)","v":2817951.1272974997},{"$f":"VLOOKUP(A589, localcont!$D$10:$L$1764, 9)*F589","v":1520494.8476697612}]
[1256,252,"Rockport                     ",252,"Rockport",18502057,{"$f":"VLOOKUP(A590, localcont!$D$10:$L$1764, 8)","v":7744376.1380000003},{"$f":"VLOOKUP(A590, localcont!$D$10:$L$1764, 9)*F590","v":17550837.120217405}]
[1257,252,"Rockport                     ",817,"Essex North Shore",18502057,{"$f":"VLOOKUP(A591, localcont!$D$10:$L$1764, 8)","v":419729.52563577204},{"$f":"VLOOKUP(A591, localcont!$D$10:$L$1764, 9)*F591","v":951219.87978259416}]
[1261,253,"Rowe                         ",253,"Rowe",1945130,{"$f":"VLOOKUP(A592, localcont!$D$10:$L$1764, 8)","v":750141.88},{"$f":"VLOOKUP(A592, localcont!$D$10:$L$1764, 9)*F592","v":1945130}]
[1266,254,"Rowley                       ",254,"Rowley",12326189,{"$f":"VLOOKUP(A593, localcont!$D$10:$L$1764, 8)","v":18508.337289999996},{"$f":"VLOOKUP(A593, localcont!$D$10:$L$1764, 9)*F593","v":20888.035610910963}]
[1267,254,"Rowley                       ",773,"Triton",12326189,{"$f":"VLOOKUP(A594, localcont!$D$10:$L$1764, 8)","v":10475750.225442259},{"$f":"VLOOKUP(A594, localcont!$D$10:$L$1764, 9)*F594","v":11822663.501938295}]
[1268,254,"Rowley                       ",885,"Whittier",12326189,{"$f":"VLOOKUP(A595, localcont!$D$10:$L$1764, 8)","v":427652.3226129954},{"$f":"VLOOKUP(A595, localcont!$D$10:$L$1764, 9)*F595","v":482637.46245079557}]
[1271,255,"Royalston                    ",255,"Royalston",1434451,{"$f":"VLOOKUP(A596, localcont!$D$10:$L$1764, 8)","v":0},{"$f":"VLOOKUP(A596, localcont!$D$10:$L$1764, 9)*F596","v":0}]
[1272,255,"Royalston                    ",615,"Athol Royalston",1434451,{"$f":"VLOOKUP(A597, localcont!$D$10:$L$1764, 8)","v":1874215.5132847617},{"$f":"VLOOKUP(A597, localcont!$D$10:$L$1764, 9)*F597","v":1285934.6224781869}]
[1273,255,"Royalston                    ",832,"Montachusett",1434451,{"$f":"VLOOKUP(A598, localcont!$D$10:$L$1764, 8)","v":216458.67049742662},{"$f":"VLOOKUP(A598, localcont!$D$10:$L$1764, 9)*F598","v":148516.37752181318}]
[1276,256,"Russell                      ",256,"Russell",1848197,{"$f":"VLOOKUP(A599, localcont!$D$10:$L$1764, 8)","v":412231.75999999995},{"$f":"VLOOKUP(A599, localcont!$D$10:$L$1764, 9)*F599","v":207728.34365044537}]
[1277,256,"Russell                      ",672,"Gateway",1848197,{"$f":"VLOOKUP(A600, localcont!$D$10:$L$1764, 8)","v":3255469.4730044948},{"$f":"VLOOKUP(A600, localcont!$D$10:$L$1764, 9)*F600","v":1640468.6563495547}]
[1281,257,"Rutland                      ",257,"Rutland",12322273,{"$f":"VLOOKUP(A601, localcont!$D$10:$L$1764, 8)","v":0},{"$f":"VLOOKUP(A601, localcont!$D$10:$L$1764, 9)*F601","v":0}]
[1282,257,"Rutland                      ",775,"Wachusett",12322273,{"$f":"VLOOKUP(A602, localcont!$D$10:$L$1764, 8)","v":21916455.922847442},{"$f":"VLOOKUP(A602, localcont!$D$10:$L$1764, 9)*F602","v":11359268.752128502}]
[1283,257,"Rutland                      ",876,"Southern Worcester",12322273,{"$f":"VLOOKUP(A603, localcont!$D$10:$L$1764, 8)","v":1858010.4593471959},{"$f":"VLOOKUP(A603, localcont!$D$10:$L$1764, 9)*F603","v":963004.24787149753}]
[1286,258,"Salem                        ",258,"Salem",61278104,{"$f":"VLOOKUP(A604, localcont!$D$10:$L$1764, 8)","v":84299912.020000011},{"$f":"VLOOKUP(A604, localcont!$D$10:$L$1764, 9)*F604","v":58605842.469319589}]
[1287,258,"Salem                        ",817,"Essex North Shore",61278104,{"$f":"VLOOKUP(A605, localcont!$D$10:$L$1764, 8)","v":3843838.8126357729},{"$f":"VLOOKUP(A605, localcont!$D$10:$L$1764, 9)*F605","v":2672261.5306804036}]
[1291,259,"Salisbury                    ",259,"Salisbury",15432551,{"$f":"VLOOKUP(A606, localcont!$D$10:$L$1764, 8)","v":90234.8},{"$f":"VLOOKUP(A606, localcont!$D$10:$L$1764, 9)*F606","v":109001.47676341049}]
[1292,259,"Salisbury                    ",773,"Triton",15432551,{"$f":"VLOOKUP(A607, localcont!$D$10:$L$1764, 8)","v":11492384.213586146},{"$f":"VLOOKUP(A607, localcont!$D$10:$L$1764, 9)*F607","v":13882524.822057519}]
[1293,259,"Salisbury                    ",885,"Whittier",15432551,{"$f":"VLOOKUP(A608, localcont!$D$10:$L$1764, 8)","v":1192924.8994322028},{"$f":"VLOOKUP(A608, localcont!$D$10:$L$1764, 9)*F608","v":1441024.701179069}]
[1296,260,"Sandisfield                  ",260,"Sandisfield",1547731,{"$f":"VLOOKUP(A609, localcont!$D$10:$L$1764, 8)","v":0},{"$f":"VLOOKUP(A609, localcont!$D$10:$L$1764, 9)*F609","v":0}]
[1297,260,"Sandisfield                  ",662,"Farmington River",1547731,{"$f":"VLOOKUP(A610, localcont!$D$10:$L$1764, 8)","v":1268008.8344540193},{"$f":"VLOOKUP(A610, localcont!$D$10:$L$1764, 9)*F610","v":1547731}]
[1301,261,"Sandwich                     ",261,"Sandwich",43340234,{"$f":"VLOOKUP(A611, localcont!$D$10:$L$1764, 8)","v":30358178.609999996},{"$f":"VLOOKUP(A611, localcont!$D$10:$L$1764, 9)*F611","v":38476732.176868916}]
[1302,261,"Sandwich                     ",879,"Upper Cape Cod",43340234,{"$f":"VLOOKUP(A612, localcont!$D$10:$L$1764, 8)","v":3837307.6054893024},{"$f":"VLOOKUP(A612, localcont!$D$10:$L$1764, 9)*F612","v":4863501.8231310835}]
[1306,262,"Saugus                       ",262,"Saugus",45954458,{"$f":"VLOOKUP(A613, localcont!$D$10:$L$1764, 8)","v":50951259.570000008},{"$f":"VLOOKUP(A613, localcont!$D$10:$L$1764, 9)*F613","v":43295339.139518067}]
[1307,262,"Saugus                       ",853,"Northeast Metropolitan",45954458,{"$f":"VLOOKUP(A614, localcont!$D$10:$L$1764, 8)","v":3129331.1931637619},{"$f":"VLOOKUP(A614, localcont!$D$10:$L$1764, 9)*F614","v":2659118.8604819365}]
[1311,263,"Savoy                        ",263,"Savoy",697150,{"$f":"VLOOKUP(A615, localcont!$D$10:$L$1764, 8)","v":550415.80000000005},{"$f":"VLOOKUP(A615, localcont!$D$10:$L$1764, 9)*F615","v":423911.18148132489}]
[1312,263,"Savoy                        ",851,"Northern Berkshire",697150,{"$f":"VLOOKUP(A616, localcont!$D$10:$L$1764, 8)","v":354779.41950119787},{"$f":"VLOOKUP(A616, localcont!$D$10:$L$1764, 9)*F616","v":273238.81851867511}]
[1316,264,"Scituate                     ",264,"Scituate",56196587,{"$f":"VLOOKUP(A617, localcont!$D$10:$L$1764, 8)","v":37004547.377539992},{"$f":"VLOOKUP(A617, localcont!$D$10:$L$1764, 9)*F617","v":54119955.50014963}]
[1317,264,"Scituate                     ",873,"South Shore",56196587,{"$f":"VLOOKUP(A618, localcont!$D$10:$L$1764, 8)","v":1419897.8548992428},{"$f":"VLOOKUP(A618, localcont!$D$10:$L$1764, 9)*F618","v":2076631.4998503698}]
[1321,265,"Seekonk                      ",265,"Seekonk",23971735,{"$f":"VLOOKUP(A619, localcont!$D$10:$L$1764, 8)","v":28113390.649999999},{"$f":"VLOOKUP(A619, localcont!$D$10:$L$1764, 9)*F619","v":22262698.734560274}]
[1322,265,"Seekonk                      ",878,"Tri County",23971735,{"$f":"VLOOKUP(A620, localcont!$D$10:$L$1764, 8)","v":1938949.0422241115},{"$f":"VLOOKUP(A620, localcont!$D$10:$L$1764, 9)*F620","v":1535433.3785668639}]
[1323,265,"Seekonk                      ",910,"Bristol County",23971735,{"$f":"VLOOKUP(A621, localcont!$D$10:$L$1764, 8)","v":219226.15199602919},{"$f":"VLOOKUP(A621, localcont!$D$10:$L$1764, 9)*F621","v":173602.88687286168}]
[1326,266,"Sharon                       ",266,"Sharon",43141027,{"$f":"VLOOKUP(A622, localcont!$D$10:$L$1764, 8)","v":47116523.199549995},{"$f":"VLOOKUP(A622, localcont!$D$10:$L$1764, 9)*F622","v":42588574.356126495}]
[1327,266,"Sharon                       ",872,"Southeastern",43141027,{"$f":"VLOOKUP(A623, localcont!$D$10:$L$1764, 8)","v":379925.51192475529},{"$f":"VLOOKUP(A623, localcont!$D$10:$L$1764, 9)*F623","v":343414.25927945809}]
[1328,266,"Sharon                       ",915,"Norfolk County",43141027,{"$f":"VLOOKUP(A624, localcont!$D$10:$L$1764, 8)","v":231263.01000270396},{"$f":"VLOOKUP(A624, localcont!$D$10:$L$1764, 9)*F624","v":209038.38459404517}]
[1331,267,"Sheffield                    ",267,"Sheffield",5437519,{"$f":"VLOOKUP(A625, localcont!$D$10:$L$1764, 8)","v":90234.8},{"$f":"VLOOKUP(A625, localcont!$D$10:$L$1764, 9)*F625","v":94290.842066607758}]
[1332,267,"Sheffield                    ",765,"Southern Berkshire",5437519,{"$f":"VLOOKUP(A626, localcont!$D$10:$L$1764, 8)","v":5113382.3138931897},{"$f":"VLOOKUP(A626, localcont!$D$10:$L$1764, 9)*F626","v":5343228.1579333926}]
[1336,268,"Shelburne                    ",268,"Shelburne",2019552,{"$f":"VLOOKUP(A627, localcont!$D$10:$L$1764, 8)","v":0},{"$f":"VLOOKUP(A627, localcont!$D$10:$L$1764, 9)*F627","v":0}]
[1337,268,"Shelburne                    ",717,"Mohawk Trail",2019552,{"$f":"VLOOKUP(A628, localcont!$D$10:$L$1764, 8)","v":2185916.0886166799},{"$f":"VLOOKUP(A628, localcont!$D$10:$L$1764, 9)*F628","v":1806787.6038803773}]
[1338,268,"Shelburne                    ",818,"Franklin County",2019552,{"$f":"VLOOKUP(A629, localcont!$D$10:$L$1764, 8)","v":257409.95541692257},{"$f":"VLOOKUP(A629, localcont!$D$10:$L$1764, 9)*F629","v":212764.39611962301}]
[1341,269,"Sherborn                     ",269,"Sherborn",31363928,{"$f":"VLOOKUP(A630, localcont!$D$10:$L$1764, 8)","v":5207058.5938899992},{"$f":"VLOOKUP(A630, localcont!$D$10:$L$1764, 9)*F630","v":12751416.637555804}]
[1342,269,"Sherborn                     ",655,"Dover Sherborn",31363928,{"$f":"VLOOKUP(A631, localcont!$D$10:$L$1764, 8)","v":7490277.1598423226},{"$f":"VLOOKUP(A631, localcont!$D$10:$L$1764, 9)*F631","v":18342725.182311505}]
[1343,269,"Sherborn                     ",878,"Tri County",31363928,{"$f":"VLOOKUP(A632, localcont!$D$10:$L$1764, 8)","v":110167.55923692895},{"$f":"VLOOKUP(A632, localcont!$D$10:$L$1764, 9)*F632","v":269786.18013269221}]
[1346,270,"Shirley                      ",270,"Shirley",8071164,{"$f":"VLOOKUP(A633, localcont!$D$10:$L$1764, 8)","v":0},{"$f":"VLOOKUP(A633, localcont!$D$10:$L$1764, 9)*F633","v":0}]
[1347,270,"Shirley                      ",616,"Ayer Shirley",8071164,{"$f":"VLOOKUP(A634, localcont!$D$10:$L$1764, 8)","v":11142452.406785395},{"$f":"VLOOKUP(A634, localcont!$D$10:$L$1764, 9)*F634","v":7386185.9460330512}]
[1348,270,"Shirley                      ",852,"Nashoba Valley",8071164,{"$f":"VLOOKUP(A635, localcont!$D$10:$L$1764, 8)","v":1033325.6462516143},{"$f":"VLOOKUP(A635, localcont!$D$10:$L$1764, 9)*F635","v":684978.05396694783}]
[1351,271,"Shrewsbury                   ",271,"Shrewsbury",76727910,{"$f":"VLOOKUP(A636, localcont!$D$10:$L$1764, 8)","v":82737349.679999992},{"$f":"VLOOKUP(A636, localcont!$D$10:$L$1764, 9)*F636","v":76727910}]
[1356,272,"Shutesbury                   ",272,"Shutesbury",2065532,{"$f":"VLOOKUP(A637, localcont!$D$10:$L$1764, 8)","v":1425997.22},{"$f":"VLOOKUP(A637, localcont!$D$10:$L$1764, 9)*F637","v":1034028.2946902878}]
[1357,272,"Shutesbury                   ",605,"Amherst Pelham",2065532,{"$f":"VLOOKUP(A638, localcont!$D$10:$L$1764, 8)","v":1422515.6349632768},{"$f":"VLOOKUP(A638, localcont!$D$10:$L$1764, 9)*F638","v":1031503.7053097124}]
[1361,273,"Somerset                     ",273,"Somerset",23486534,{"$f":"VLOOKUP(A639, localcont!$D$10:$L$1764, 8)","v":21569616.309999999},{"$f":"VLOOKUP(A639, localcont!$D$10:$L$1764, 9)*F639","v":13900746.370975673}]
[1362,273,"Somerset                     ",763,"Somerset Berkley",23486534,{"$f":"VLOOKUP(A640, localcont!$D$10:$L$1764, 8)","v":10636526.561978139},{"$f":"VLOOKUP(A640, localcont!$D$10:$L$1764, 9)*F640","v":6854811.6888688402}]
[1363,273,"Somerset                     ",821,"Greater Fall River",23486534,{"$f":"VLOOKUP(A641, localcont!$D$10:$L$1764, 8)","v":3579943.1514379312},{"$f":"VLOOKUP(A641, localcont!$D$10:$L$1764, 9)*F641","v":2307128.7432952044}]
[1364,273,"Somerset                     ",910,"Bristol County",23486534,{"$f":"VLOOKUP(A642, localcont!$D$10:$L$1764, 8)","v":657678.45598808757},{"$f":"VLOOKUP(A642, localcont!$D$10:$L$1764, 9)*F642","v":423847.19686028076}]
[1366,274,"Somerville                   ",274,"Somerville",169373490,{"$f":"VLOOKUP(A643, localcont!$D$10:$L$1764, 8)","v":98699357.768680006},{"$f":"VLOOKUP(A643, localcont!$D$10:$L$1764, 9)*F643","v":169373490}]
[1371,275,"Southampton                  ",275,"Southampton",8731696,{"$f":"VLOOKUP(A644, localcont!$D$10:$L$1764, 8)","v":6669767.8999999994},{"$f":"VLOOKUP(A644, localcont!$D$10:$L$1764, 9)*F644","v":5122800.3456446147}]
[1372,275,"Southampton                  ",683,"Hampshire",8731696,{"$f":"VLOOKUP(A645, localcont!$D$10:$L$1764, 8)","v":4698698.9079778763},{"$f":"VLOOKUP(A645, localcont!$D$10:$L$1764, 9)*F645","v":3608895.6543553853}]
[1376,276,"Southborough                 ",276,"Southborough",33944611,{"$f":"VLOOKUP(A646, localcont!$D$10:$L$1764, 8)","v":16436576.661360001},{"$f":"VLOOKUP(A646, localcont!$D$10:$L$1764, 9)*F646","v":22988888.235699844}]
[1377,276,"Southborough                 ",730,"Northboro Southboro",33944611,{"$f":"VLOOKUP(A647, localcont!$D$10:$L$1764, 8)","v":7075059.8320837384},{"$f":"VLOOKUP(A647, localcont!$D$10:$L$1764, 9)*F647","v":9895476.6002475172}]
[1378,276,"Southborough                 ",801,"Assabet Valley",33944611,{"$f":"VLOOKUP(A648, localcont!$D$10:$L$1764, 8)","v":758053.9422651038},{"$f":"VLOOKUP(A648, localcont!$D$10:$L$1764, 9)*F648","v":1060246.1640526424}]
[1381,277,"Southbridge                  ",277,"Southbridge",13308508,{"$f":"VLOOKUP(A649, localcont!$D$10:$L$1764, 8)","v":47044351.420000002},{"$f":"VLOOKUP(A649, localcont!$D$10:$L$1764, 9)*F649","v":12117734.647875151}]
[1382,277,"Southbridge                  ",876,"Southern Worcester",13308508,{"$f":"VLOOKUP(A650, localcont!$D$10:$L$1764, 8)","v":4622906.9761612434},{"$f":"VLOOKUP(A650, localcont!$D$10:$L$1764, 9)*F650","v":1190773.3521248498}]
[1386,278,"South Hadley                 ",278,"South Hadley",{"$f":"VLOOKUP(B651, town351, 7)","v":18848025},{"$f":"VLOOKUP(A651, localcont!$D$10:$L$1764, 8)","v":26750270.849999998},{"$f":"VLOOKUP(A651, localcont!$D$10:$L$1764, 9)*F651","v":18848025}]
[1391,279,"Southwick                    ",279,"Southwick",12290739,{"$f":"VLOOKUP(A652, localcont!$D$10:$L$1764, 8)","v":662040.87999999989},{"$f":"VLOOKUP(A652, localcont!$D$10:$L$1764, 9)*F652","v":490822.15866222663}]
[1392,279,"Southwick                    ",766,"Southwick Tolland",12290739,{"$f":"VLOOKUP(A653, localcont!$D$10:$L$1764, 8)","v":15916207.513650887},{"$f":"VLOOKUP(A653, localcont!$D$10:$L$1764, 9)*F653","v":11799916.841337774}]
[1396,280,"Spencer                      ",280,"Spencer",12776425,{"$f":"VLOOKUP(A654, localcont!$D$10:$L$1764, 8)","v":36093.919999999998},{"$f":"VLOOKUP(A654, localcont!$D$10:$L$1764, 9)*F654","v":18812.329425236912}]
[1397,280,"Spencer                      ",767,"Spencer East Brookfield",12776425,{"$f":"VLOOKUP(A655, localcont!$D$10:$L$1764, 8)","v":21491063.990891054},{"$f":"VLOOKUP(A655, localcont!$D$10:$L$1764, 9)*F655","v":11201248.728192706}]
[1398,280,"Spencer                      ",876,"Southern Worcester",12776425,{"$f":"VLOOKUP(A656, localcont!$D$10:$L$1764, 8)","v":2986088.23806067},{"$f":"VLOOKUP(A656, localcont!$D$10:$L$1764, 9)*F656","v":1556363.9423820574}]
[1401,281,"Springfield                  ",281,"Springfield",93990058,{"$f":"VLOOKUP(A657, localcont!$D$10:$L$1764, 8)","v":640504628.06999993},{"$f":"VLOOKUP(A657, localcont!$D$10:$L$1764, 9)*F657","v":93990058}]
[1406,282,"Sterling                     ",282,"Sterling",13837987,{"$f":"VLOOKUP(A658, localcont!$D$10:$L$1764, 8)","v":0},{"$f":"VLOOKUP(A658, localcont!$D$10:$L$1764, 9)*F658","v":0}]
[1407,282,"Sterling                     ",775,"Wachusett",13837987,{"$f":"VLOOKUP(A659, localcont!$D$10:$L$1764, 8)","v":11951938.439142823},{"$f":"VLOOKUP(A659, localcont!$D$10:$L$1764, 9)*F659","v":12481671.744911065}]
[1408,282,"Sterling                     ",832,"Montachusett",13837987,{"$f":"VLOOKUP(A660, localcont!$D$10:$L$1764, 8)","v":1298752.0233018883},{"$f":"VLOOKUP(A660, localcont!$D$10:$L$1764, 9)*F660","v":1356315.2550889356}]
[1411,283,"Stockbridge                  ",283,"Stockbridge",6007737,{"$f":"VLOOKUP(A661, localcont!$D$10:$L$1764, 8)","v":0},{"$f":"VLOOKUP(A661, localcont!$D$10:$L$1764, 9)*F661","v":0}]
[1412,283,"Stockbridge                  ",618,"Berkshire Hills",6007737,{"$f":"VLOOKUP(A662, localcont!$D$10:$L$1764, 8)","v":2115701.6564151328},{"$f":"VLOOKUP(A662, localcont!$D$10:$L$1764, 9)*F662","v":6007737}]
[1416,284,"Stoneham                     ",284,"Stoneham",43032535,{"$f":"VLOOKUP(A663, localcont!$D$10:$L$1764, 8)","v":36759959.435520001},{"$f":"VLOOKUP(A663, localcont!$D$10:$L$1764, 9)*F663","v":40957810.824163802}]
[1417,284,"Stoneham                     ",853,"Northeast Metropolitan",43032535,{"$f":"VLOOKUP(A664, localcont!$D$10:$L$1764, 8)","v":1862081.371268908},{"$f":"VLOOKUP(A664, localcont!$D$10:$L$1764, 9)*F664","v":2074724.175836202}]
[1421,285,"Stoughton                    ",285,"Stoughton",40844818,{"$f":"VLOOKUP(A665, localcont!$D$10:$L$1764, 8)","v":64112449.850499995},{"$f":"VLOOKUP(A665, localcont!$D$10:$L$1764, 9)*F665","v":39053872.894417599}]
[1422,285,"Stoughton                    ",872,"Southeastern",40844818,{"$f":"VLOOKUP(A666, localcont!$D$10:$L$1764, 8)","v":2778205.3068463076},{"$f":"VLOOKUP(A666, localcont!$D$10:$L$1764, 9)*F666","v":1692333.9722811417}]
[1423,285,"Stoughton                    ",915,"Norfolk County",40844818,{"$f":"VLOOKUP(A667, localcont!$D$10:$L$1764, 8)","v":161884.10700189276},{"$f":"VLOOKUP(A667, localcont!$D$10:$L$1764, 9)*F667","v":98611.133301263355}]
[1426,286,"Stow                         ",286,"Stow",17079798,{"$f":"VLOOKUP(A668, localcont!$D$10:$L$1764, 8)","v":0},{"$f":"VLOOKUP(A668, localcont!$D$10:$L$1764, 9)*F668","v":0}]
[1427,286,"Stow                         ",725,"Nashoba",17079798,{"$f":"VLOOKUP(A669, localcont!$D$10:$L$1764, 8)","v":14095970.542977121},{"$f":"VLOOKUP(A669, localcont!$D$10:$L$1764, 9)*F669","v":15717068.528586358}]
[1428,286,"Stow                         ",830,"Minuteman",17079798,{"$f":"VLOOKUP(A670, localcont!$D$10:$L$1764, 8)","v":1222174.1256746417},{"$f":"VLOOKUP(A670, localcont!$D$10:$L$1764, 9)*F670","v":1362729.4714136405}]
[1431,287,"Sturbridge                   ",287,"Sturbridge",15375579,{"$f":"VLOOKUP(A671, localcont!$D$10:$L$1764, 8)","v":10921745.060000002},{"$f":"VLOOKUP(A671, localcont!$D$10:$L$1764, 9)*F671","v":7085007.3642456308}]
[1432,287,"Sturbridge                   ",770,"Tantasqua",15375579,{"$f":"VLOOKUP(A672, localcont!$D$10:$L$1764, 8)","v":12780157.472287595},{"$f":"VLOOKUP(A672, localcont!$D$10:$L$1764, 9)*F672","v":8290571.6357543692}]
[1436,288,"Sudbury                      ",288,"Sudbury",64652702,{"$f":"VLOOKUP(A673, localcont!$D$10:$L$1764, 8)","v":32224355.789999999},{"$f":"VLOOKUP(A673, localcont!$D$10:$L$1764, 9)*F673","v":41792286.304166682}]
[1437,288,"Sudbury                      ",695,"Lincoln Sudbury",64652702,{"$f":"VLOOKUP(A674, localcont!$D$10:$L$1764, 8)","v":17626749.671658628},{"$f":"VLOOKUP(A674, localcont!$D$10:$L$1764, 9)*F674","v":22860415.695833322}]
[1441,289,"Sunderland                   ",289,"Sunderland",4226255,{"$f":"VLOOKUP(A675, localcont!$D$10:$L$1764, 8)","v":2272880.0099999998},{"$f":"VLOOKUP(A675, localcont!$D$10:$L$1764, 9)*F675","v":2109446.6360007427}]
[1442,289,"Sunderland                   ",670,"Frontier",4226255,{"$f":"VLOOKUP(A676, localcont!$D$10:$L$1764, 8)","v":2070203.9564422767},{"$f":"VLOOKUP(A676, localcont!$D$10:$L$1764, 9)*F676","v":1921344.1767885443}]
[1443,289,"Sunderland                   ",818,"Franklin County",4226255,{"$f":"VLOOKUP(A677, localcont!$D$10:$L$1764, 8)","v":210608.14537807062},{"$f":"VLOOKUP(A677, localcont!$D$10:$L$1764, 9)*F677","v":195464.18721071264}]
[1446,290,"Sutton                       ",290,"Sutton",18385377,{"$f":"VLOOKUP(A678, localcont!$D$10:$L$1764, 8)","v":17294423.279999997},{"$f":"VLOOKUP(A678, localcont!$D$10:$L$1764, 9)*F678","v":16914843.067032944}]
[1447,290,"Sutton                       ",805,"Blackstone Valley",18385377,{"$f":"VLOOKUP(A679, localcont!$D$10:$L$1764, 8)","v":1503533.6824320001},{"$f":"VLOOKUP(A679, localcont!$D$10:$L$1764, 9)*F679","v":1470533.932967057}]
[1451,291,"Swampscott                   ",291,"Swampscott",35356021,{"$f":"VLOOKUP(A680, localcont!$D$10:$L$1764, 8)","v":28972097.420000002},{"$f":"VLOOKUP(A680, localcont!$D$10:$L$1764, 9)*F680","v":34539598.506988578}]
[1452,291,"Swampscott                   ",817,"Essex North Shore",35356021,{"$f":"VLOOKUP(A681, localcont!$D$10:$L$1764, 8)","v":684821.8574000001},{"$f":"VLOOKUP(A681, localcont!$D$10:$L$1764, 9)*F681","v":816422.49301142199}]
[1456,292,"Swansea                      ",292,"Swansea",23740228,{"$f":"VLOOKUP(A682, localcont!$D$10:$L$1764, 8)","v":28217787.699999999},{"$f":"VLOOKUP(A682, localcont!$D$10:$L$1764, 9)*F682","v":20873001.069056828}]
[1457,292,"Swansea                      ",821,"Greater Fall River",23740228,{"$f":"VLOOKUP(A683, localcont!$D$10:$L$1764, 8)","v":3437693.7546126731},{"$f":"VLOOKUP(A683, localcont!$D$10:$L$1764, 9)*F683","v":2542899.0457363282}]
[1458,292,"Swansea                      ",910,"Bristol County",23740228,{"$f":"VLOOKUP(A684, localcont!$D$10:$L$1764, 8)","v":438452.30399205838},{"$f":"VLOOKUP(A684, localcont!$D$10:$L$1764, 9)*F684","v":324327.88520684291}]
[1461,293,"Taunton                      ",293,"Taunton",63826500,{"$f":"VLOOKUP(A685, localcont!$D$10:$L$1764, 8)","v":160533555.88},{"$f":"VLOOKUP(A685, localcont!$D$10:$L$1764, 9)*F685","v":59753493.166105226}]
[1462,293,"Taunton                      ",810,"Bristol Plymouth",63826500,{"$f":"VLOOKUP(A686, localcont!$D$10:$L$1764, 8)","v":9890242.438542679},{"$f":"VLOOKUP(A686, localcont!$D$10:$L$1764, 9)*F686","v":3681327.1264254753}]
[1463,293,"Taunton                      ",910,"Bristol County",63826500,{"$f":"VLOOKUP(A687, localcont!$D$10:$L$1764, 8)","v":1052285.5296726644},{"$f":"VLOOKUP(A687, localcont!$D$10:$L$1764, 9)*F687","v":391679.70746931271}]
[1466,294,"Templeton                    ",294,"Templeton",8539022,{"$f":"VLOOKUP(A688, localcont!$D$10:$L$1764, 8)","v":18046.96},{"$f":"VLOOKUP(A688, localcont!$D$10:$L$1764, 9)*F688","v":8186.836684460889}]
[1467,294,"Templeton                    ",720,"Narragansett",8539022,{"$f":"VLOOKUP(A689, localcont!$D$10:$L$1764, 8)","v":17138534.164676122},{"$f":"VLOOKUP(A689, localcont!$D$10:$L$1764, 9)*F689","v":7774737.6963907909}]
[1468,294,"Templeton                    ",832,"Montachusett",8539022,{"$f":"VLOOKUP(A690, localcont!$D$10:$L$1764, 8)","v":1666731.7631475134},{"$f":"VLOOKUP(A690, localcont!$D$10:$L$1764, 9)*F690","v":756097.46692474757}]
[1471,295,"Tewksbury                    ",295,"Tewksbury",51835565,{"$f":"VLOOKUP(A691, localcont!$D$10:$L$1764, 8)","v":46625859.059999995},{"$f":"VLOOKUP(A691, localcont!$D$10:$L$1764, 9)*F691","v":44696522.410909891}]
[1472,295,"Tewksbury                    ",871,"Shawsheen Valley",51835565,{"$f":"VLOOKUP(A692, localcont!$D$10:$L$1764, 8)","v":7447201.1608000295},{"$f":"VLOOKUP(A692, localcont!$D$10:$L$1764, 9)*F692","v":7139042.5890901051}]
[1476,296,"Tisbury                      ",296,"Tisbury",20180531,{"$f":"VLOOKUP(A693, localcont!$D$10:$L$1764, 8)","v":5771702.3499999987},{"$f":"VLOOKUP(A693, localcont!$D$10:$L$1764, 9)*F693","v":12814484.857768616}]
[1477,296,"Tisbury                      ",700,"Marthas Vineyard",20180531,{"$f":"VLOOKUP(A694, localcont!$D$10:$L$1764, 8)","v":3317700.7348486083},{"$f":"VLOOKUP(A694, localcont!$D$10:$L$1764, 9)*F694","v":7366046.1422313834}]
[1481,297,"Tolland                      ",297,"Tolland",1124255,{"$f":"VLOOKUP(A695, localcont!$D$10:$L$1764, 8)","v":0},{"$f":"VLOOKUP(A695, localcont!$D$10:$L$1764, 9)*F695","v":0}]
[1482,297,"Tolland                      ",766,"Southwick Tolland",1124255,{"$f":"VLOOKUP(A696, localcont!$D$10:$L$1764, 8)","v":286205.5296351781},{"$f":"VLOOKUP(A696, localcont!$D$10:$L$1764, 9)*F696","v":1124255}]
[1486,298,"Topsfield                    ",298,"Topsfield",17043330,{"$f":"VLOOKUP(A697, localcont!$D$10:$L$1764, 8)","v":7006867.7280499991},{"$f":"VLOOKUP(A697, localcont!$D$10:$L$1764, 9)*F697","v":8300601.6324388962}]
[1487,298,"Topsfield                    ",705,"Masconomet",17043330,{"$f":"VLOOKUP(A698, localcont!$D$10:$L$1764, 8)","v":6739444.6744661173},{"$f":"VLOOKUP(A698, localcont!$D$10:$L$1764, 9)*F698","v":7983802.1263994239}]
[1488,298,"Topsfield                    ",817,"Essex North Shore",17043330,{"$f":"VLOOKUP(A699, localcont!$D$10:$L$1764, 8)","v":640639.80210596207},{"$f":"VLOOKUP(A699, localcont!$D$10:$L$1764, 9)*F699","v":758926.24116168206}]
[1491,299,"Townsend                     ",299,"Townsend",11257032,{"$f":"VLOOKUP(A700, localcont!$D$10:$L$1764, 8)","v":0},{"$f":"VLOOKUP(A700, localcont!$D$10:$L$1764, 9)*F700","v":0}]
[1492,299,"Townsend                     ",735,"North Middlesex",11257032,{"$f":"VLOOKUP(A701, localcont!$D$10:$L$1764, 8)","v":16289719.518439068},{"$f":"VLOOKUP(A701, localcont!$D$10:$L$1764, 9)*F701","v":9722023.1444849391}]
[1493,299,"Townsend                     ",852,"Nashoba Valley",11257032,{"$f":"VLOOKUP(A702, localcont!$D$10:$L$1764, 8)","v":2550335.6375247589},{"$f":"VLOOKUP(A702, localcont!$D$10:$L$1764, 9)*F702","v":1522090.1787875802}]
[1496,300,"Truro                        ",300,"Truro",15829766,{"$f":"VLOOKUP(A703, localcont!$D$10:$L$1764, 8)","v":2005803.2399999998},{"$f":"VLOOKUP(A703, localcont!$D$10:$L$1764, 9)*F703","v":14378757.29577875}]
[1497,300,"Truro                        ",815,"Cape Cod",15829766,{"$f":"VLOOKUP(A704, localcont!$D$10:$L$1764, 8)","v":202412.34345402158},{"$f":"VLOOKUP(A704, localcont!$D$10:$L$1764, 9)*F704","v":1451008.7042212512}]
[1501,301,"Tyngsborough                 ",301,"Tyngsborough",20126122,{"$f":"VLOOKUP(A705, localcont!$D$10:$L$1764, 8)","v":23223406.279999997},{"$f":"VLOOKUP(A705, localcont!$D$10:$L$1764, 9)*F705","v":17740477.16590688}]
[1502,301,"Tyngsborough                 ",828,"Greater Lowell",20126122,{"$f":"VLOOKUP(A706, localcont!$D$10:$L$1764, 8)","v":3122959.9240092146},{"$f":"VLOOKUP(A706, localcont!$D$10:$L$1764, 9)*F706","v":2385644.8340931218}]
[1506,302,"Tyringham                    ",302,"Tyringham",1009187,{"$f":"VLOOKUP(A707, localcont!$D$10:$L$1764, 8)","v":413286.38999999996},{"$f":"VLOOKUP(A707, localcont!$D$10:$L$1764, 9)*F707","v":1009187}]
[1511,303,"Upton                        ",303,"Upton",15560034,{"$f":"VLOOKUP(A708, localcont!$D$10:$L$1764, 8)","v":144375.67999999999},{"$f":"VLOOKUP(A708, localcont!$D$10:$L$1764, 9)*F708","v":132097.06218467007}]
[1512,303,"Upton                        ",710,"Mendon Upton",15560034,{"$f":"VLOOKUP(A709, localcont!$D$10:$L$1764, 8)","v":14899039.802037422},{"$f":"VLOOKUP(A709, localcont!$D$10:$L$1764, 9)*F709","v":13631931.549840054}]
[1513,303,"Upton                        ",805,"Blackstone Valley",15560034,{"$f":"VLOOKUP(A710, localcont!$D$10:$L$1764, 8)","v":1962946.7520640001},{"$f":"VLOOKUP(A710, localcont!$D$10:$L$1764, 9)*F710","v":1796005.3879752762}]
[1516,304,"Uxbridge                     ",304,"Uxbridge",22111700,{"$f":"VLOOKUP(A711, localcont!$D$10:$L$1764, 8)","v":24071934.779999994},{"$f":"VLOOKUP(A711, localcont!$D$10:$L$1764, 9)*F711","v":20121757.909673501}]
[1517,304,"Uxbridge                     ",805,"Blackstone Valley",22111700,{"$f":"VLOOKUP(A712, localcont!$D$10:$L$1764, 8)","v":2380594.997184},{"$f":"VLOOKUP(A712, localcont!$D$10:$L$1764, 9)*F712","v":1989942.0903264983}]
[1521,305,"Wakefield                    ",305,"Wakefield",53739199,{"$f":"VLOOKUP(A713, localcont!$D$10:$L$1764, 8)","v":49378390.627280012},{"$f":"VLOOKUP(A713, localcont!$D$10:$L$1764, 9)*F713","v":50988526.328283653}]
[1522,305,"Wakefield                    ",853,"Northeast Metropolitan",53739199,{"$f":"VLOOKUP(A714, localcont!$D$10:$L$1764, 8)","v":2663810.8502549822},{"$f":"VLOOKUP(A714, localcont!$D$10:$L$1764, 9)*F714","v":2750672.6717163483}]
[1526,306,"Wales                        ",306,"Wales",{"$f":"VLOOKUP(B715, town351, 7)","v":1801400},{"$f":"VLOOKUP(A715, localcont!$D$10:$L$1764, 8)","v":1877628.0699999998},{"$f":"VLOOKUP(A715, localcont!$D$10:$L$1764, 9)*F715","v":871890.49105524796}]
[1527,306,"Wales                        ",770,"Tantasqua",1801400,{"$f":"VLOOKUP(A716, localcont!$D$10:$L$1764, 8)","v":2001711.4112740017},{"$f":"VLOOKUP(A716, localcont!$D$10:$L$1764, 9)*F716","v":929509.50894475228}]
[1531,307,"Walpole                      ",307,"Walpole",55233832,{"$f":"VLOOKUP(A717, localcont!$D$10:$L$1764, 8)","v":50898857.362050004},{"$f":"VLOOKUP(A717, localcont!$D$10:$L$1764, 9)*F717","v":52442810.920361996}]
[1532,307,"Walpole                      ",878,"Tri County",55233832,{"$f":"VLOOKUP(A718, localcont!$D$10:$L$1764, 8)","v":2269451.7199348984},{"$f":"VLOOKUP(A718, localcont!$D$10:$L$1764, 9)*F718","v":2338292.7163739121}]
[1533,307,"Walpole                      ",915,"Norfolk County",55233832,{"$f":"VLOOKUP(A719, localcont!$D$10:$L$1764, 8)","v":439399.71906780981},{"$f":"VLOOKUP(A719, localcont!$D$10:$L$1764, 9)*F719","v":452728.36326409108}]
[1536,308,"Waltham                      ",308,"Waltham",119274717,{"$f":"VLOOKUP(A720, localcont!$D$10:$L$1764, 8)","v":116139540.79914001},{"$f":"VLOOKUP(A720, localcont!$D$10:$L$1764, 9)*F720","v":119274717}]
[1541,309,"Ware                         ",309,"Ware",8424172,{"$f":"VLOOKUP(A721, localcont!$D$10:$L$1764, 8)","v":21265037.789999999},{"$f":"VLOOKUP(A721, localcont!$D$10:$L$1764, 9)*F721","v":7521711.0262170937}]
[1542,309,"Ware                         ",860,"Pathfinder",8424172,{"$f":"VLOOKUP(A722, localcont!$D$10:$L$1764, 8)","v":2551396.4368749997},{"$f":"VLOOKUP(A722, localcont!$D$10:$L$1764, 9)*F722","v":902460.97378290573}]
[1546,310,"Wareham                      ",310,"Wareham",31674477,{"$f":"VLOOKUP(A723, localcont!$D$10:$L$1764, 8)","v":41004971.409999996},{"$f":"VLOOKUP(A723, localcont!$D$10:$L$1764, 9)*F723","v":27961045.764299408}]
[1547,310,"Wareham                      ",879,"Upper Cape Cod",31674477,{"$f":"VLOOKUP(A724, localcont!$D$10:$L$1764, 8)","v":5445759.8952654516},{"$f":"VLOOKUP(A724, localcont!$D$10:$L$1764, 9)*F724","v":3713431.2357005901}]
[1551,311,"Warren                       ",311,"Warren",4012837,{"$f":"VLOOKUP(A725, localcont!$D$10:$L$1764, 8)","v":18046.96},{"$f":"VLOOKUP(A725, localcont!$D$10:$L$1764, 9)*F725","v":6218.661254519021}]
[1552,311,"Warren                       ",778,"Quaboag",4012837,{"$f":"VLOOKUP(A726, localcont!$D$10:$L$1764, 8)","v":10514130.754675012},{"$f":"VLOOKUP(A726, localcont!$D$10:$L$1764, 9)*F726","v":3622982.3498829911}]
[1553,311,"Warren                       ",860,"Pathfinder",4012837,{"$f":"VLOOKUP(A727, localcont!$D$10:$L$1764, 8)","v":1113336.6269999999},{"$f":"VLOOKUP(A727, localcont!$D$10:$L$1764, 9)*F727","v":383635.98886248958}]
[1556,312,"Warwick                      ",312,"Warwick",746073,{"$f":"VLOOKUP(A728, localcont!$D$10:$L$1764, 8)","v":904734.07},{"$f":"VLOOKUP(A728, localcont!$D$10:$L$1764, 9)*F728","v":676121.58533548319}]
[1557,312,"Warwick                      ",818,"Franklin County",746073,{"$f":"VLOOKUP(A729, localcont!$D$10:$L$1764, 8)","v":93603.620213195129},{"$f":"VLOOKUP(A729, localcont!$D$10:$L$1764, 9)*F729","v":69951.414664516808}]
[1561,313,"Washington                   ",313,"Washington",700398,{"$f":"VLOOKUP(A730, localcont!$D$10:$L$1764, 8)","v":72187.839999999997},{"$f":"VLOOKUP(A730, localcont!$D$10:$L$1764, 9)*F730","v":63084.590524852567}]
[1562,313,"Washington                   ",635,"Central Berkshire",700398,{"$f":"VLOOKUP(A731, localcont!$D$10:$L$1764, 8)","v":729279.17975344497},{"$f":"VLOOKUP(A731, localcont!$D$10:$L$1764, 9)*F731","v":637313.40947514749}]
[1566,314,"Watertown                    ",314,"Watertown",79627453,{"$f":"VLOOKUP(A732, localcont!$D$10:$L$1764, 8)","v":46749581.240119986},{"$f":"VLOOKUP(A732, localcont!$D$10:$L$1764, 9)*F732","v":79627453}]
[1571,315,"Wayland                      ",315,"Wayland",53989108,{"$f":"VLOOKUP(A733, localcont!$D$10:$L$1764, 8)","v":36737120.222759999},{"$f":"VLOOKUP(A733, localcont!$D$10:$L$1764, 9)*F733","v":53989108}]
[1576,316,"Webster                      ",316,"Webster",18912405,{"$f":"VLOOKUP(A734, localcont!$D$10:$L$1764, 8)","v":39242117.710000001},{"$f":"VLOOKUP(A734, localcont!$D$10:$L$1764, 9)*F734","v":17329958.722538695}]
[1577,316,"Webster                      ",876,"Southern Worcester",18912405,{"$f":"VLOOKUP(A735, localcont!$D$10:$L$1764, 8)","v":3583305.8857275271},{"$f":"VLOOKUP(A735, localcont!$D$10:$L$1764, 9)*F735","v":1582446.2774613085}]
[1581,317,"Wellesley                    ",317,"Wellesley",165113833,{"$f":"VLOOKUP(A736, localcont!$D$10:$L$1764, 8)","v":54901421.593699984},{"$f":"VLOOKUP(A736, localcont!$D$10:$L$1764, 9)*F736","v":164974847.23737547}]
[1582,317,"Wellesley                    ",915,"Norfolk County",165113833,{"$f":"VLOOKUP(A737, localcont!$D$10:$L$1764, 8)","v":46252.602000540785},{"$f":"VLOOKUP(A737, localcont!$D$10:$L$1764, 9)*F737","v":138985.76262451382}]
[1586,318,"Wellfleet                    ",318,"Wellfleet",17506399,{"$f":"VLOOKUP(A738, localcont!$D$10:$L$1764, 8)","v":1445799.54},{"$f":"VLOOKUP(A738, localcont!$D$10:$L$1764, 9)*F738","v":6852125.1985355429}]
[1587,318,"Wellfleet                    ",660,"Nauset",17506399,{"$f":"VLOOKUP(A739, localcont!$D$10:$L$1764, 8)","v":2023150.9146486714},{"$f":"VLOOKUP(A739, localcont!$D$10:$L$1764, 9)*F739","v":9588385.5120775551}]
[1588,318,"Wellfleet                    ",815,"Cape Cod",17506399,{"$f":"VLOOKUP(A740, localcont!$D$10:$L$1764, 8)","v":224902.6037668325},{"$f":"VLOOKUP(A740, localcont!$D$10:$L$1764, 9)*F740","v":1065888.2893869006}]
[1591,319,"Wendell                      ",319,"Wendell",809963,{"$f":"VLOOKUP(A741, localcont!$D$10:$L$1764, 8)","v":0},{"$f":"VLOOKUP(A741, localcont!$D$10:$L$1764, 9)*F741","v":0}]
[1592,319,"Wendell                      ",728,"New Salem Wendell",809963,{"$f":"VLOOKUP(A742, localcont!$D$10:$L$1764, 8)","v":904984.86166149541},{"$f":"VLOOKUP(A742, localcont!$D$10:$L$1764, 9)*F742","v":409760.97475349496}]
[1593,319,"Wendell                      ",755,"Ralph C Mahar",809963,{"$f":"VLOOKUP(A743, localcont!$D$10:$L$1764, 8)","v":720066.93900624081},{"$f":"VLOOKUP(A743, localcont!$D$10:$L$1764, 9)*F743","v":326033.44355756353}]
[1594,319,"Wendell                      ",818,"Franklin County",809963,{"$f":"VLOOKUP(A744, localcont!$D$10:$L$1764, 8)","v":163806.33533921867},{"$f":"VLOOKUP(A744, localcont!$D$10:$L$1764, 9)*F744","v":74168.581688941558}]
[1596,320,"Wenham                       ",320,"Wenham",12268790,{"$f":"VLOOKUP(A745, localcont!$D$10:$L$1764, 8)","v":0},{"$f":"VLOOKUP(A745, localcont!$D$10:$L$1764, 9)*F745","v":0}]
[1597,320,"Wenham                       ",675,"Hamilton Wenham",12268790,{"$f":"VLOOKUP(A746, localcont!$D$10:$L$1764, 8)","v":8036066.3841967778},{"$f":"VLOOKUP(A746, localcont!$D$10:$L$1764, 9)*F746","v":11721033.870399738}]
[1598,320,"Wenham                       ",817,"Essex North Shore",12268790,{"$f":"VLOOKUP(A747, localcont!$D$10:$L$1764, 8)","v":375547.47034173401},{"$f":"VLOOKUP(A747, localcont!$D$10:$L$1764, 9)*F747","v":547756.12960026274}]
[1601,321,"Westborough                  ",321,"Westborough",45406676,{"$f":"VLOOKUP(A748, localcont!$D$10:$L$1764, 8)","v":51163571.100000001},{"$f":"VLOOKUP(A748, localcont!$D$10:$L$1764, 9)*F748","v":43701604.935957178}]
[1602,321,"Westborough                  ",801,"Assabet Valley",45406676,{"$f":"VLOOKUP(A749, localcont!$D$10:$L$1764, 8)","v":1996208.7146124386},{"$f":"VLOOKUP(A749, localcont!$D$10:$L$1764, 9)*F749","v":1705071.0640428239}]
[1606,322,"West Boylston                ",322,"West Boylston",11012717,{"$f":"VLOOKUP(A750, localcont!$D$10:$L$1764, 8)","v":12721018.73},{"$f":"VLOOKUP(A750, localcont!$D$10:$L$1764, 9)*F750","v":11012717}]
[1611,323,"West Bridgewater             ",323,"West Bridgewater",12659439,{"$f":"VLOOKUP(A751, localcont!$D$10:$L$1764, 8)","v":16912875.629999999},{"$f":"VLOOKUP(A751, localcont!$D$10:$L$1764, 9)*F751","v":11570993.995520325}]
[1612,323,"West Bridgewater             ",872,"Southeastern",12659439,{"$f":"VLOOKUP(A752, localcont!$D$10:$L$1764, 8)","v":1590938.0817228334},{"$f":"VLOOKUP(A752, localcont!$D$10:$L$1764, 9)*F752","v":1088445.0044796749}]
[1616,324,"West Brookfield              ",324,"West Brookfield",4940804,{"$f":"VLOOKUP(A753, localcont!$D$10:$L$1764, 8)","v":376137.83999999997},{"$f":"VLOOKUP(A753, localcont!$D$10:$L$1764, 9)*F753","v":250670.07415357893}]
[1617,324,"West Brookfield              ",778,"Quaboag",4940804,{"$f":"VLOOKUP(A754, localcont!$D$10:$L$1764, 8)","v":7037684.2953249896},{"$f":"VLOOKUP(A754, localcont!$D$10:$L$1764, 9)*F754","v":4690133.9258464212}]
[1621,325,"Westfield                    ",325,"Westfield",38998640,{"$f":"VLOOKUP(A755, localcont!$D$10:$L$1764, 8)","v":83297544.069999993},{"$f":"VLOOKUP(A755, localcont!$D$10:$L$1764, 9)*F755","v":38998640}]
[1626,326,"Westford                     ",326,"Westford",56652641,{"$f":"VLOOKUP(A756, localcont!$D$10:$L$1764, 8)","v":60365431.103199989},{"$f":"VLOOKUP(A756, localcont!$D$10:$L$1764, 9)*F756","v":54700251.589651562}]
[1627,326,"Westford                     ",852,"Nashoba Valley",56652641,{"$f":"VLOOKUP(A757, localcont!$D$10:$L$1764, 8)","v":2154593.9006120116},{"$f":"VLOOKUP(A757, localcont!$D$10:$L$1764, 9)*F757","v":1952389.4103484359}]
[1631,327,"Westhampton                  ",327,"Westhampton",2390993,{"$f":"VLOOKUP(A758, localcont!$D$10:$L$1764, 8)","v":1247229.23},{"$f":"VLOOKUP(A758, localcont!$D$10:$L$1764, 9)*F758","v":1252254.5343368475}]
[1632,327,"Westhampton                  ",683,"Hampshire",2390993,{"$f":"VLOOKUP(A759, localcont!$D$10:$L$1764, 8)","v":1134168.7019345169},{"$f":"VLOOKUP(A759, localcont!$D$10:$L$1764, 9)*F759","v":1138738.4656631525}]
[1636,328,"Westminster                  ",328,"Westminster",12671745,{"$f":"VLOOKUP(A760, localcont!$D$10:$L$1764, 8)","v":0},{"$f":"VLOOKUP(A760, localcont!$D$10:$L$1764, 9)*F760","v":0}]
[1637,328,"Westminster                  ",610,"Ashburnham Westminster",12671745,{"$f":"VLOOKUP(A761, localcont!$D$10:$L$1764, 8)","v":17187271.125823487},{"$f":"VLOOKUP(A761, localcont!$D$10:$L$1764, 9)*F761","v":11525073.895308224}]
[1638,328,"Westminster                  ",832,"Montachusett",12671745,{"$f":"VLOOKUP(A762, localcont!$D$10:$L$1764, 8)","v":1710023.4972469988},{"$f":"VLOOKUP(A762, localcont!$D$10:$L$1764, 9)*F762","v":1146671.1046917748}]
[1641,329,"West Newbury                 ",329,"West Newbury",11475074,{"$f":"VLOOKUP(A763, localcont!$D$10:$L$1764, 8)","v":54140.88},{"$f":"VLOOKUP(A763, localcont!$D$10:$L$1764, 9)*F763","v":74893.592243860592}]
[1642,329,"West Newbury                 ",745,"Pentucket",11475074,{"$f":"VLOOKUP(A764, localcont!$D$10:$L$1764, 8)","v":7993648.2254522545},{"$f":"VLOOKUP(A764, localcont!$D$10:$L$1764, 9)*F764","v":11057689.323444335}]
[1643,329,"West Newbury                 ",885,"Whittier",11475074,{"$f":"VLOOKUP(A765, localcont!$D$10:$L$1764, 8)","v":247588.18666913826},{"$f":"VLOOKUP(A765, localcont!$D$10:$L$1764, 9)*F765","v":342491.08431180433}]
[1646,330,"Weston                       ",330,"Weston",93547124,{"$f":"VLOOKUP(A766, localcont!$D$10:$L$1764, 8)","v":29003216.312879998},{"$f":"VLOOKUP(A766, localcont!$D$10:$L$1764, 9)*F766","v":93547124}]
[1651,331,"Westport                     ",331,"Westport",31748735,{"$f":"VLOOKUP(A767, localcont!$D$10:$L$1764, 8)","v":23725740.499999996},{"$f":"VLOOKUP(A767, localcont!$D$10:$L$1764, 9)*F767","v":28005966.656212896}]
[1652,331,"Westport                     ",821,"Greater Fall River",31748735,{"$f":"VLOOKUP(A768, localcont!$D$10:$L$1764, 8)","v":2513072.6759535773},{"$f":"VLOOKUP(A768, localcont!$D$10:$L$1764, 9)*F768","v":2966441.8510939884}]
[1653,331,"Westport                     ",910,"Bristol County",31748735,{"$f":"VLOOKUP(A769, localcont!$D$10:$L$1764, 8)","v":657678.45598808757},{"$f":"VLOOKUP(A769, localcont!$D$10:$L$1764, 9)*F769","v":776326.49269311386}]
[1656,332,"West Springfield             ",332,"West Springfield",30405022,{"$f":"VLOOKUP(A770, localcont!$D$10:$L$1764, 8)","v":72848167.090000004},{"$f":"VLOOKUP(A770, localcont!$D$10:$L$1764, 9)*F770","v":30405022}]
[1661,333,"West Stockbridge             ",333,"West Stockbridge",3486765,{"$f":"VLOOKUP(A771, localcont!$D$10:$L$1764, 8)","v":0},{"$f":"VLOOKUP(A771, localcont!$D$10:$L$1764, 9)*F771","v":0}]
[1662,333,"West Stockbridge             ",618,"Berkshire Hills",3486765,{"$f":"VLOOKUP(A772, localcont!$D$10:$L$1764, 8)","v":1893894.2247427031},{"$f":"VLOOKUP(A772, localcont!$D$10:$L$1764, 9)*F772","v":3486765}]
[1666,334,"West Tisbury                 ",334,"West Tisbury",18735597,{"$f":"VLOOKUP(A773, localcont!$D$10:$L$1764, 8)","v":0},{"$f":"VLOOKUP(A773, localcont!$D$10:$L$1764, 9)*F773","v":0}]
[1667,334,"West Tisbury                 ",700,"Marthas Vineyard",18735597,{"$f":"VLOOKUP(A774, localcont!$D$10:$L$1764, 8)","v":2576097.0411266955},{"$f":"VLOOKUP(A774, localcont!$D$10:$L$1764, 9)*F774","v":7322903.8120878628}]
[1668,334,"West Tisbury                 ",774,"Upisland",18735597,{"$f":"VLOOKUP(A775, localcont!$D$10:$L$1764, 8)","v":4014828.8038600953},{"$f":"VLOOKUP(A775, localcont!$D$10:$L$1764, 9)*F775","v":11412693.187912136}]
[1671,335,"Westwood                     ",335,"Westwood",57611738,{"$f":"VLOOKUP(A776, localcont!$D$10:$L$1764, 8)","v":39111176.240100004},{"$f":"VLOOKUP(A776, localcont!$D$10:$L$1764, 9)*F776","v":57335144.905769609}]
[1672,335,"Westwood                     ",806,"Blue Hills",57611738,{"$f":"VLOOKUP(A777, localcont!$D$10:$L$1764, 8)","v":96172.809685261149},{"$f":"VLOOKUP(A777, localcont!$D$10:$L$1764, 9)*F777","v":140984.81583496736}]
[1673,335,"Westwood                     ",915,"Norfolk County",57611738,{"$f":"VLOOKUP(A778, localcont!$D$10:$L$1764, 8)","v":92505.204001081569},{"$f":"VLOOKUP(A778, localcont!$D$10:$L$1764, 9)*F778","v":135608.27839541933}]
[1676,336,"Weymouth                     ",336,"Weymouth",{"$f":"VLOOKUP(B779, town351, 7)","v":87629880},{"$f":"VLOOKUP(A779, localcont!$D$10:$L$1764, 8)","v":101624016.37731999},{"$f":"VLOOKUP(A779, localcont!$D$10:$L$1764, 9)*F779","v":87134157.916912809}]
[1677,336,"Weymouth                     ",915,"Norfolk County",87629880,{"$f":"VLOOKUP(A780, localcont!$D$10:$L$1764, 8)","v":578157.5250694321},{"$f":"VLOOKUP(A780, localcont!$D$10:$L$1764, 9)*F780","v":495722.08308718604}]
[1681,337,"Whately                      ",337,"Whately",2060193,{"$f":"VLOOKUP(A781, localcont!$D$10:$L$1764, 8)","v":1424476.9000000001},{"$f":"VLOOKUP(A781, localcont!$D$10:$L$1764, 9)*F781","v":1150554.2491901014}]
[1682,337,"Whately                      ",670,"Frontier",2060193,{"$f":"VLOOKUP(A782, localcont!$D$10:$L$1764, 8)","v":821992.74739512219},{"$f":"VLOOKUP(A782, localcont!$D$10:$L$1764, 9)*F782","v":663925.99860264733}]
[1683,337,"Whately                      ",818,"Franklin County",2060193,{"$f":"VLOOKUP(A783, localcont!$D$10:$L$1764, 8)","v":304211.76559126575},{"$f":"VLOOKUP(A783, localcont!$D$10:$L$1764, 9)*F783","v":245712.75220725156}]
[1686,338,"Whitman                      ",338,"Whitman",19342692,{"$f":"VLOOKUP(A784, localcont!$D$10:$L$1764, 8)","v":267856.07999999996},{"$f":"VLOOKUP(A784, localcont!$D$10:$L$1764, 9)*F784","v":150098.92193443631}]
[1687,338,"Whitman                      ",780,"Whitman Hanson",19342692,{"$f":"VLOOKUP(A785, localcont!$D$10:$L$1764, 8)","v":31298845.242490441},{"$f":"VLOOKUP(A785, localcont!$D$10:$L$1764, 9)*F785","v":17538981.861791514}]
[1688,338,"Whitman                      ",873,"South Shore",19342692,{"$f":"VLOOKUP(A786, localcont!$D$10:$L$1764, 8)","v":2927174.0392012652},{"$f":"VLOOKUP(A786, localcont!$D$10:$L$1764, 9)*F786","v":1640305.0010982743}]
[1691,339,"Wilbraham                    ",339,"Wilbraham",21291889,{"$f":"VLOOKUP(A787, localcont!$D$10:$L$1764, 8)","v":0},{"$f":"VLOOKUP(A787, localcont!$D$10:$L$1764, 9)*F787","v":0}]
[1692,339,"Wilbraham                    ",680,"Hampden Wilbraham",21291889,{"$f":"VLOOKUP(A788, localcont!$D$10:$L$1764, 8)","v":31067956.254511315},{"$f":"VLOOKUP(A788, localcont!$D$10:$L$1764, 9)*F788","v":21291889}]
[1696,340,"Williamsburg                 ",340,"Williamsburg",2771903,{"$f":"VLOOKUP(A789, localcont!$D$10:$L$1764, 8)","v":1749761.4900000002},{"$f":"VLOOKUP(A789, localcont!$D$10:$L$1764, 9)*F789","v":1402439.9113457513}]
[1697,340,"Williamsburg                 ",683,"Hampshire",2771903,{"$f":"VLOOKUP(A790, localcont!$D$10:$L$1764, 8)","v":1708617.7847037218},{"$f":"VLOOKUP(A790, localcont!$D$10:$L$1764, 9)*F790","v":1369463.088654249}]
[1701,341,"Williamstown                 ",341,"Williamstown",9897757,{"$f":"VLOOKUP(A791, localcont!$D$10:$L$1764, 8)","v":0},{"$f":"VLOOKUP(A791, localcont!$D$10:$L$1764, 9)*F791","v":0}]
[1702,341,"Williamstown                 ",715,"Mount Greylock",9897757,{"$f":"VLOOKUP(A792, localcont!$D$10:$L$1764, 8)","v":10065719.237830894},{"$f":"VLOOKUP(A792, localcont!$D$10:$L$1764, 9)*F792","v":9560774.9995893836}]
[1703,341,"Williamstown                 ",851,"Northern Berkshire",9897757,{"$f":"VLOOKUP(A793, localcont!$D$10:$L$1764, 8)","v":354779.41950119787},{"$f":"VLOOKUP(A793, localcont!$D$10:$L$1764, 9)*F793","v":336982.00041061704}]
[1706,342,"Wilmington                   ",342,"Wilmington",47866439,{"$f":"VLOOKUP(A794, localcont!$D$10:$L$1764, 8)","v":40162342.191840008},{"$f":"VLOOKUP(A794, localcont!$D$10:$L$1764, 9)*F794","v":41895704.182634398}]
[1707,342,"Wilmington                   ",871,"Shawsheen Valley",47866439,{"$f":"VLOOKUP(A795, localcont!$D$10:$L$1764, 8)","v":5723706.0350250974},{"$f":"VLOOKUP(A795, localcont!$D$10:$L$1764, 9)*F795","v":5970734.8173656035}]
[1711,343,"Winchendon                   ",343,"Winchendon",9060825,{"$f":"VLOOKUP(A796, localcont!$D$10:$L$1764, 8)","v":21259695.539999999},{"$f":"VLOOKUP(A796, localcont!$D$10:$L$1764, 9)*F796","v":8378379.5195743581}]
[1712,343,"Winchendon                   ",832,"Montachusett",9060825,{"$f":"VLOOKUP(A797, localcont!$D$10:$L$1764, 8)","v":1731669.3642967413},{"$f":"VLOOKUP(A797, localcont!$D$10:$L$1764, 9)*F797","v":682445.48042564141}]
[1716,344,"Winchester                   ",344,"Winchester",93305787,{"$f":"VLOOKUP(A798, localcont!$D$10:$L$1764, 8)","v":60361166.947999999},{"$f":"VLOOKUP(A798, localcont!$D$10:$L$1764, 9)*F798","v":92709951.814137831}]
[1717,344,"Winchester                   ",853,"Northeast Metropolitan",93305787,{"$f":"VLOOKUP(A799, localcont!$D$10:$L$1764, 8)","v":387933.61902961455},{"$f":"VLOOKUP(A799, localcont!$D$10:$L$1764, 9)*F799","v":595835.18586218019}]
[1721,345,"Windsor                      ",345,"Windsor",1096660,{"$f":"VLOOKUP(A800, localcont!$D$10:$L$1764, 8)","v":90234.8},{"$f":"VLOOKUP(A800, localcont!$D$10:$L$1764, 9)*F800","v":98000.341640256942}]
[1722,345,"Windsor                      ",635,"Central Berkshire",1096660,{"$f":"VLOOKUP(A801, localcont!$D$10:$L$1764, 8)","v":919525.92237844248},{"$f":"VLOOKUP(A801, localcont!$D$10:$L$1764, 9)*F801","v":998659.65835974296}]
[1726,346,"Winthrop                     ",346,"Winthrop",26948584,{"$f":"VLOOKUP(A802, localcont!$D$10:$L$1764, 8)","v":32954210.573959999},{"$f":"VLOOKUP(A802, localcont!$D$10:$L$1764, 9)*F802","v":25717429.276513766}]
[1727,346,"Winthrop                     ",853,"Northeast Metropolitan",26948584,{"$f":"VLOOKUP(A803, localcont!$D$10:$L$1764, 8)","v":1577596.7174115132},{"$f":"VLOOKUP(A803, localcont!$D$10:$L$1764, 9)*F803","v":1231154.7234862344}]
[1731,347,"Woburn",347,"Woburn",77684737,{"$f":"VLOOKUP(A804, localcont!$D$10:$L$1764, 8)","v":75547563.502450004},{"$f":"VLOOKUP(A804, localcont!$D$10:$L$1764, 9)*F804","v":74131872.049398944}]
[1732,347,"Woburn",853,"Northeast Metropolitan",77684737,{"$f":"VLOOKUP(A805, localcont!$D$10:$L$1764, 8)","v":3620713.777365596},{"$f":"VLOOKUP(A805, localcont!$D$10:$L$1764, 9)*F805","v":3552864.9506010576}]
[1736,348,"Worcester                    ",348,"Worcester",167955958,{"$f":"VLOOKUP(A806, localcont!$D$10:$L$1764, 8)","v":581293882.04999995},{"$f":"VLOOKUP(A806, localcont!$D$10:$L$1764, 9)*F806","v":167955958}]
[1741,349,"Worthington                  ",349,"Worthington",1857773,{"$f":"VLOOKUP(A807, localcont!$D$10:$L$1764, 8)","v":1757174.0299999998},{"$f":"VLOOKUP(A807, localcont!$D$10:$L$1764, 9)*F807","v":1857773}]
[1746,350,"Wrentham                     ",350,"Wrentham",26174070,{"$f":"VLOOKUP(A808, localcont!$D$10:$L$1764, 8)","v":13110944.070250001},{"$f":"VLOOKUP(A808, localcont!$D$10:$L$1764, 9)*F808","v":13667716.077897128}]
[1747,350,"Wrentham                     ",690,"King Philip",26174070,{"$f":"VLOOKUP(A809, localcont!$D$10:$L$1764, 8)","v":9982006.816602964},{"$f":"VLOOKUP(A809, localcont!$D$10:$L$1764, 9)*F809","v":10405904.74079885}]
[1748,350,"Wrentham                     ",878,"Tri County",26174070,{"$f":"VLOOKUP(A810, localcont!$D$10:$L$1764, 8)","v":1806747.9711830264},{"$f":"VLOOKUP(A810, localcont!$D$10:$L$1764, 9)*F810","v":1883473.6966409311}]
[1749,350,"Wrentham                     ",915,"Norfolk County",26174070,{"$f":"VLOOKUP(A811, localcont!$D$10:$L$1764, 8)","v":208136.70900243355},{"$f":"VLOOKUP(A811, localcont!$D$10:$L$1764, 9)*F811","v":216975.48466308974}]
[1751,351,"Yarmouth                     ",351,"Yarmouth",53490522,{"$f":"VLOOKUP(A812, localcont!$D$10:$L$1764, 8)","v":0},{"$f":"VLOOKUP(A812, localcont!$D$10:$L$1764, 9)*F812","v":0}]
[1752,351,"Yarmouth                     ",645,"Dennis Yarmouth",53490522,{"$f":"VLOOKUP(A813, localcont!$D$10:$L$1764, 8)","v":40874408.030519776},{"$f":"VLOOKUP(A813, localcont!$D$10:$L$1764, 9)*F813","v":48816812.895842396}]
[1753,351,"Yarmouth                     ",815,"Cape Cod",53490522,{"$f":"VLOOKUP(A814, localcont!$D$10:$L$1764, 8)","v":3913305.3062454811},{"$f":"VLOOKUP(A814, localcont!$D$10:$L$1764, 9)*F814","v":4673709.1041576024}]

{"sheet":"disthist","index":16,"n_rows":448,"n_cols":70,"rows_kept":448,"cut":false,"hidden":true,"merged":[]}
[null,null,"c70fy26","c70fy07","c70fy06","c70fy07","c70fy07","c70fy07","c70fy07",null,null,null,"c70fy09 oct 15","c70fy09 oct 15","net of $412m cut",null,"c70fy10finalmay, reflecting weymouth and chelsea waiver, june 29, 2010",null,"c70fy10final, june30, 2010; reflects what weymouth chelsea and associated districts were ELIGIBLE for after June 30 waivers",null,"fy11 fb in localcont pivoted, total difffers because of regionalizers","pymincont pivoted dec 21, reflects raynham waiver and reallocated contributions for a/s, s/b oakhamfor comparison purposes","ayer, shirley, berkley, somerset, freetown, lakeville, ayer/shirley,  berk/som, f/l  adjusted based upon disaagregation file; oakham aid assigned to pathfindeer","ayer, shirley, berkley, somerset,freetown, lakeville,  ayer/shirley, berk/som, freetown/lakevilleadjusted based upon disaagregation file","ayer, shirley, berkley, somerset, freetown, lakeville, ayer/shirley, berk/som, freetown/lakeville  adjusted based upon disaagregation file","c70fy12, oct 14; monomoy, chatham harwich, granville, st","c70fy12, oct 14; monomoy, chatham harwich, granville, st","c70fy12, oct 14; monomoy, chatham harwich, granville, st","c70fy13; adjusts Lanesborough, Chesire, Berlin, Boylston, Ayer, N Berkshire, Nashoba Valley, Berlin Boylston","c70fy13; adjusts Lanesborough, Chesire, Berlin, Boylston, Ayer, N Berkshire, Nashoba Valley, Berlin Boylston","c70fy13; adjusts Lanesborough, Chesire, Berlin, Boylston, Ayer, N Berkshire, Nashoba Valley, Berlin Boylston; New Bedford","c70fy14; adjusts Acton Boxborough; removes Essex","c70fy14; adjusts Acton Boxborough; removes Essex","c70fy14; adjusts Acton Boxborough; removes Essex and allocates aid to sending districts","c70fy15","c70fy15","c70fy15; adjusts Gateway and Worthington; Peabody and ENS","c70fy16","c70fy16","c70fy16, $1M for Framingham (found reserve)","c70fy17","c70fy17","c70fy17\nMinuteman, Boxborough, Carlisle, Lincoln, Sudbury, Wayland, Weston","c70fy18","c70fy18","c70fy18\n","c70fy19\n","c70fy19\n","c70fy19\n","c70fy20","c70fy20","c70fy20","c70fy21","c70fy21","c70fy21","c70fy22","c70fy22","c70fy22","c70fy23","c70fy23","c70fy23","c70fy24","c70fy24","c70fy24","c70fy25","c70fy25","c70fy25","c70fy26","c70fy26","c70fy26"]
[]
[1,2,3,4,5,6,7,8,9,10,11,12,13,14,15,16,17,18,19,20,21,22,23,24,25,26,27,28,29,30,31,32,33,34,35,36,37,38,39,40,41,42,43,44,45,46,47,{"$f":"AU3+1","v":48},{"$f":"AV3+1","v":49},50,51,52,53,54,55,56,57,58,59,60,61,62,63,64,65,66,67,68,69,70]
[]
[]
[]
[null,null,"Prior Year",null,"required",null,"Foundation","Required","FY07","Foundation","Required","FY08","Foundation","Required","chapter 70",null,"Foundation","Required","chapter 70",null,"Foundation","Required",null,null,"edujobs","Foundation","Required",null,"Foundation","Required",null,"Foundation","Required",null,"Foundation","Required",null,"Foundation","Required",null,"Foundation","Required",null,"Foundation","Required",null,"Foundation","Required",null,"Foundation","Required",null,"Foundation","Required",null,"Foundation","Required",null,"Foundation","Required",null,"Foundation","Required",null,"Foundation","Required",null,"Foundation","Required"]
[null,null,"Target Aid Share","foundation","contribution","Chapter 70","Budget","Contribution","chapter 70","Budget","Contribution","chapter 70","Budget","Contribution","aid","FY09 9c cut","Budget","Contribution","aid","FY10","Budget","Contribution","c70","sfsf","total","Budget","Contribution","c70","Budget","Contribution","c70","Budget","Contribution","c70","Budget","Contribution","c70","Budget","Contribution","c70","Budget","Contribution","c70","Budget","Contribution","c70","Budget","Contribution","c70","Budget","Contribution","c70","Budget","Contribution","c70","Budget","Contribution","c70","Budget","Contribution","c70","Budget","Contribution","c70","Budget","Contribution","c70","Budget","Contribution","c70"]
["LEA","District","FY26","FY06","FY06","FY06","FY07","FY07","aid","FY08","FY08","aid","FY09","FY09","FY09","stabilization aid","FY10","FY10","FY10","sfsf","FY11","FY11","FY11","FY11","FY11","FY12","FY12","FY12","FY13","FY13","FY13","FY14","FY14","FY14","FY15","FY15","FY15","FY16","FY16","FY16","FY17","FY17","FY17","FY18","FY18","FY18","FY19","FY19","FY19","FY20","FY20","FY20","FY21","FY21","FY21","FY22","FY22","FY22","FY23","FY23","FY23","FY24","FY24","FY24","FY25","FY25","FY25","FY26","FY26","FY26"]
[1,"Abington                     ",36.79,16523760,10191983,6869653,17243088.48,10835090,7152781,18063555.577898104,11492886,7448806,19020902.029999997,11903143,6987394,821183,19474318.639892824,12084604,7652405,0,18226050.298500001,11741657,7205352,38682,462271,17359608.879999999,12056554,7244034,18273059.900000002,12498017,7324394,18967492.810000002,13020494,7374594,18287521.510000002,12943494,7423394,18870910.490000002,13029356,7472269,19481152.105999999,12843377,7579849,19699144.432921756,12922903,7637749,21515960.214600004,13701008,7816931,23388476.609717574,14463601,8933994,25332546.714959998,15287069,10045478,26529795.66124,15771170,10858340,29563170.916989997,16599047,12964124,31287579.078960005,17104459,14183120,32236384.532019995,17754107,14482278,33501030.561300002,18800612,14812278]
[2,"Acton                        ",17.5,16798342,14323943,2723714,17472326.599199999,14258025,3214302,18387597.604836155,14103803,4283795,19355313.269600004,14127172,4678327,549814,19717633.622768261,14236925,5123578,357131,19649104.540190399,14516319,5160527,27704,353078,19614092.674799997,14543128,5188231,20151482.417030003,14761130,5537500.2082832009,13308,9807,1699,0,0,0,0,0,0,0,0,0,0,0,0,0,0,0,0,0,0,0,0,0,0,0,0,0,0,0,0,0,0,0,0,0,0,0,0]
[3,"Acushnet                     ",32.35,10752617,4702995,6049622,10925643.810000001,5021780,6138021,10761756.058842914,5158813,6206921,11395406.830000002,5414309,5825831,684672,11223341.565244021,5326164,6380293,0,10323398.130179999,5401579,6007556,32251,371236,10560494.92,5591539,6039807,10945583.299999999,5840331,6088327,11227244.859999999,6098928,6118877,11538501.129999999,6393318,6150152,11701370.220000003,6720092,6181252,11862468.339999998,6851396,6250222,11736546.345857544,6867294,6286522,12395984.840000002,7125126,6323332,13443441.482329441,7498601,6361492,13990412.9,7889510,6361492,13489100.060000001,7882117,6397702,14410940.639999999,8355453,6469222,15911255.389999999,8740925,7170330,15622821.810000001,8852864,7292322,15639642.750000002,9288698,7461972]
[4,"Adams                        ",65.040000000000006,0,0,0,0,0,0,0,0,0,11943.49,2802,9141,0,12306.57500478469,3310,8958,39,0,0,0,0,0,0,0,0,12697.210000000001,3609,9088,0,0,0,0,0,0,0,0,0,0,0,0,0,0,0,0,0,0,0,0,0,0,0,0,0,0,0,0,0,0,0,0,0,0,0,0,0,0,0]
[5,"Agawam                       ",44.24,32319935,21493837,10826098,34566078.779999994,22041666,12524413,35551345.780867614,21602566,14029399,37698376.909999989,21211830,14752751,1733796,38739894.035965554,21200429,16156816,1382649,37851740.416679993,20906343,16620258,89225,936907,38691315.740000002,21196318,17494998,40065479.369999997,21799451,18531417.812022001,39705689.879999995,22317126,18633592.812022001,40513463.040000007,22228633,18827346.812022001,40806967.850000001,22728531,18927671.812022001,39809443.760000005,22702754,19138981.812022001,40549530.336503848,22135293,19253911.812022001,41326070.32,22474431,19367102,42227451.049391314,22951211,19477412,42427489.500000007,23256462,19477412,42850725.390000008,23421246,19949538,46476254.920000002,24515018,21961237,50397491.299999997,25373043,25024448,52988778.250000007,26903037,26085741,55345476.310000002,28135196,27210280]
[6,"Alford                       ",17.5,0,0,0,0,0,0,0,0,0,0,0,0,0,0,0,0,0,0,0,0,0,0,0,0,0,0,0,0,0,0,0,0,0,0,0,0,0,0,0,0,0,0,0,0,0,0,0,0,0,0,0,0,0,0,0,0,0,0,0,0,0,0,0,0,0,0,0]
[7,"Amesbury                     ",17.5,19460597,12406221,8455877,19548536.809999999,12809091,8583727,19781530.293151677,13167547,8706827,20756560.399999999,13536773,8124385,954806,21190912.030989472,13555005,8897607,0,21216914.582820002,13646574,8377810,44976,535896,21437478.949999999,13871392,8422786,21788085.690000001,14228051,8517266,22520782.300000004,14645774,{"$f":"8577441+84220","v":8661661},23277123.93,14710835,8807407,23284050.52,14749359,8867257,22775372.140000001,14489823,8995077,22137199.0502779,14640237,9061587,22830750.459999997,15155898,9127527,22996252.745490368,15621860,9190887,22553274.579999998,16118764,9190887,22473928.549999997,16512866,9248787,23505262.730000008,17438478,9361467,24965747.029999997,18234602,9472287,26495878.260000002,19160041,9669679,28109289.029999997,20286760,9957529]
[8,"Amherst                      ",17.5,11114274,5541487,5572787,11497553.710000001,5563556,5933998,11950170.523914317,5791375,6158796,12240957.26,6176229,5607673,659034,12789869.018824883,8287309,6141373,0,12104976.778860003,8244892,5782594,31044,361635,11778216.34,8330699,5813638,12123554.34,8560597,5864398,11999013.530000001,8782052,5895073,11927369.58,8808278,5925198,12222179.260000002,9033626,5954998,12153334.120000001,9054116,6020943,11871248.344619127,8817279,6055023,11969353.380000003,8946746,6088203,12803970.649125857,9508882,6122223,12512134.57,9645618,6122223,12765297.700000001,9889673,6153573,13429756.490000002,10461831,6217473,14207190.940000001,11168148,6280773,13476149.789999999,11117824,6383109,14981907.18,11896370,6538659]
[9,"Andover                      ",17.5,40445552,43398252,5235106,45421092.757479988,43984801,6105826,47430802.160358295,44443293,6764195,50839207.830960013,44963510,6682611,785364,52920927.943806164,46055668,7318616,0,52465302.435107633,46239193,6891063,36994,541909,53641152.655579992,47162432,6928057,55867173.864680015,48525635,7950343.1065797508,57208567.533579998,49906105,{"$f":"8465632.15952894+84220","v":8549852.1595289409},56905481.147259988,49453903,9042864.1595289409,57593754.781260006,49454967,9191614.1595289409,58523208.186840013,48754974,9768234,59213763.705395557,49146929,10066835,60546641.049729995,49950979,10595662,63835635.793936521,52178457,11668291,64237434.876240008,52995883,11668291,64739542.478479996,53410123,11837131,67357496.128189996,55569934,12167131,72244408.493600011,58293608,13950800,72595075.473940015,59890937,14519160,75901319.687480003,62087646,15338760]
[10,"Arlington                    ",17.5,31514908,29608395,5019276.8,34791436.82971999,30151702,5592669.7999999998,35888202.793767765,30613441,5814119.7999999998,38070505.063400008,31841211,5574195,655099,40248798.10830944,33205258,6104708,938832,39642105.945616916,33491571,6632057,35604,490929,41361535.892299995,34480956,6880580,43488849.24750001,35379353,8109496,46406615.112400003,36357635,10048980,47819420.315520003,37584838,10234582,50290292.382299997,39574733,10715559,51156059.770829991,41761139,11012669,54501493.562073596,43805119,11180879,58002940.646099992,46237018,11765923,62294073.096873432,48330137,13979327,64895656.34093,50343449,14566028,64412505.935059994,51220285,14741108,69496899.573259994,53603535,15893365,74896748.635400012,56193340,18703409,77449420.442229986,58893679,19329593,81515548.272249982,61905761,20246693]
[11,"Ashburnham                   ",47.48,0,0,0,0,0,0,0,0,0,0,0,0,0,0,0,0,0,12035.81568,5767,6269,0,0,0,0,0,0,0,0,0,0,0,0,0,0,0,0,0,0,0,0,0,0,0,0,0,0,0,0,0,0,0,0,0,0,0,0,0,0,0,0,0,0,0,0,0,0,0]
[12,"Ashby                        ",38.26,0,0,0,10849.66,3784,7066,0,0,0,0,0,0,0,0,0,0,0,36107.447039999999,17602,18505,0,0,0,0,0,0,0,0,0,0,0,0,0,0,0,0,0,0,0,0,0,0,0,0,0,0,0,0,0,0,0,0,0,0,0,0,0,0,0,0,0,0,0,0,0,0,0]
[13,"Ashfield                     ",17.5,88168,48246,66553,97646.94,58472,71328,158055.47,93913,98741,154299.47,98640,99291,0,171296.79213014356,113319,97305,0,227707.1532,147698,93413,0,0,244010.68,163790,93413,265614.51000000007,185836,93413,205261.50999999998,160515,93413,207026.65000000002,168768,93413,276131.65999999997,227950,93413,236011.40000000002,187511,93413,226884.18269824251,176931,93413,233861.83,163542,93413,100602.5807874735,74854,93413,117262.39999999999,96741,93413,134575.02000000002,111024,93683,141279.39000000001,110785,93683,245151,179015,93683,216797.25000000006,158626,93683,240365.82,182183,93683]
[14,"Ashland                      ",17.5,17600708,15268810,2710446,19209670.376520004,15739323,3470347,20160314.837740563,16316673,3843642,21548050.5513,16954069,4110859,483123,21943205.255612019,17161770,4502102,279333,21499028.046113763,17147082,4502104,24169,317887,22018866.611560002,17141832,4877035,22827562.789220002,17549961,5393484.5103722075,23024892.666360006,17849470,5455184.5103722075,23394153.285179999,18210677,5517159.5103722075,23999962.492609996,18808879,5579509.5103722075,24958578.790420003,19022776,5935803,24948345.559453651,19465664,6012213,26344731.796339996,20247938,6115970,29177890.758524973,21472389,7839520,30232498.719999995,22294876,7937623,30147061.930000003,22838677,8018443,33942250.529999994,24208528,9733723,36758230.609999992,25484731,11273500,37765344.57,26791174,11570628,39209499.740000002,28541470,11996178]
[15,"Athol                        ",69.69,0,0,0,0,0,0,0,0,0,0,0,0,0,0,0,0,0,0,0,0,0,0,0,0,0,0,0,0,0,0,0,0,0,0,0,0,0,26341.840000000004,3873,22469,26833.666687179095,4106,22728,13837.16,2099,13837.16,0,0,0,0,0,0,0,0,0,0,0,0,0,0,0,0,0,0,0,0,0]
[16,"Attleboro                    ",51.09,49581258,24133853,26883243.999999996,51622674.860000007,26137000,27866185.999999996,53454656.395922035,27572010,28728682.999999996,56616897.470000006,28727620,27069945.999999996,3181356,58918761.277305275,28533080,29646276,739405,57958272.469619997,29329457,28610552,153594,1774285,59072872.719999991,30079922,28992951,63511315.789999999,31014381,32496935,65997192.829999998,31917394,34079799,66876305.419999994,32678917,34235474,68325590.250000015,33083184,35242406,68466287.280000016,32806836,35659451,69495854.734565571,33973326,35846981,72980818.829999998,35206834,37773985,77760770.558410808,36638947,41121824,79207276.429999992,38037529,41169747,80741145.670000002,39217459,41523687,89310929.609999999,41515915,47795015,97105120.719999999,43712969,53392152,102004503.33000001,46028760,55975743,110074456.17000002,48277999,61796457]
[17,"Auburn                       ",39.85,16499311,14372371,3851160.4,17023458.98,14092633,4305255.4000000004,18480214.973095328,14055240,5071081.4000000004,19659678.48,13968259,5197030.4000000004,610773,20439500.344528228,14187753,5691647,560100,20652528.680219997,14065172,6460963,34685,91709,20662647.859999999,14287674,6495648,22131023.739999998,14570334,7942820.3625045,22143759.650000002,14877912,8141597.1613508752,22469656.549999997,14563293,8389817.1613508761,22643826.370000001,14394734,8448392.1613508761,23122124.420000002,14141768,8983238,24064548.393377755,13986014,10078534,25672129.779999997,14624535,11066959,26762943.249616574,15076760,11851108,27521289.789999999,15309359,12211931,27367440.740000006,15568309,12284561,30252650.170000002,16217482,14035168,32176028.359999999,17041707,15134321,32470504.220000003,17758731,15380489,34174444.380000003,18808409,15740489]
[18,"Avon                         ",33.36,4314744,5219399,598615.19999999995,4744879.2,5087039,689890.2,4908325.580745657,4879669,821450.2,4880185.91,4634153,787773.2,92582,5079184.7577110045,4655392,862748,0,5003299.8623400005,4683156,812346,4361,59766,5311469.62,4662241,816707,5330691.71,4889789,874133.94566824997,5277960.9499999993,4882181,902872.92975868739,5301350.57,4680844,946828.92975868739,5497208.8500000006,4485828,1011381,5736311.7000000011,4321841,1414471,5634205.6633891659,4254900,1430611,6193899.0300000012,4386495,1807404,6653932.0309206927,4537696,2116236,7045846.1099999985,4598969,2448769,7016240.1299999999,4689958,2465569,8289241.6600000001,5081884,3207358,9536788.9200000018,5390722,4146067,9514711.5199999996,5674808,4205555,10349488.58,5949758,4399731]
[19,"Ayer                         ",23.87,8246427,6215760,3640814,8871545.0322399996,6363490,3883672,9386273.5519316979,6352709,4095225,9764441.5805200022,6347229,3805903,447283,10086779.713210486,6445455,4168122,0,643993,415421.3758135406,253793,1362,16107,769483.96129999985,504740,264744,104146,557301,38995,0,0,0,0,0,0,0,0,0,0,0,0,0,0,0,0,0,0,0,0,0,0,0,0,0,0,0,0,0,0,0,0,0,0,0,0,0,0,0]
[20,"Barnstable                   ",17.5,47026157,46712289,6420888,47204345.670000002,46877880,6788862,48539833.542866066,45893085,7300545,49407513.479999997,45447325,6930189,814460,50897964.509274639,45599938,7589756,0,49664767.726020001,44936193,7146363,38365,542328,49571418,44732590,7184728,52647431.899999999,46300239,7401888,53905631.089999996,47284048,7909787.3601874998,53870372.68999999,46207751,8440922.3601875007,55521659.879999995,46784953,8736707,57300644.839999989,47453547,9847098,58000134.653313488,48045485,10011348,60393953.440000013,49825012,10568941,63524348.519651115,51296149,12228200,65773443.140000001,52762387,13011056,65238260.339999989,53821564,13165466,75594779.840000004,56888584,18706196,84542110.140000001,59790057,24752053,88879328.449999988,63910403,25303877,91282281.549999982,68459559,26088377]
[21,"Barre                        ",53.32,19593,9834,15043,21699.32,7253,16444,22710.54,6521,17100,23886.98,7013,17858,0,61532.87502392345,22041,17501,21991,0,0,0,0,0,12250.07,4767,7483,25394.420000000002,10406,14988,12894.02,5544,12894.02,0,0,0,0,0,0,0,0,0,0,0,0,0,0,0,0,0,0,0,0,0,0,0,0,0,0,0,0,0,0,0,0,0,0,0,0]
[22,"Becket                       ",17.5,48982,54219,48982,140168.19,87604,79274,146700.20000000001,105888,80981,95547.92,70485,81381,0,86146.025033492828,68508,79753,0,155492.25912,142385,76563,0,0,170510.26,161768,76563,227522.88,221631,76563,218155.53,210026,76563,246041.35,221437,76563,118799.64000000001,103997,76563,170156.80000000002,141158,76563,173216.84932388432,131694,76563,206187.50999999995,157270,76563,143717.97255353359,108529,76563,188943.82,155879,76563,207582.36000000004,163858,76923,202094.16,153855,76923,261641.76000000004,189361,76923,250517.91,198708,76923,361845.85,287491,76923]
[23,"Bedford                      ",17.5,17469341,19992834,2053688,18847501.762400001,20198035,2302613,19936512.315641664,20143875,2658496,21540315.715160001,20229106,2707008,318137,22837847.15390702,20263035,2964642,0,22281982.144923359,20213672,2791448,14986,220883,22574959.842000004,20395123,2806434,24305160.20324,20957504,3729645.7841924857,25381920.618640006,21670472,{"$f":"3907693.36520986+16844","v":3924537.3652098598},25862895.333689999,21890571,4145009.3652098598,26053076.229189999,22187734,4209634.3652098598,25950850.370000001,21694256,4352414.3652098598,26915524.993783444,22291183,4624342,27912085.889699996,23027471,4884615,29672258.159568485,24098559,5595167,30502691.57316,25097492,5595167,30729462.661080003,25351806,5674637,32246555.756910007,26379003,5867553,33265363.043120004,27443924,6020493,34828204.54556001,28733269,6288709,35245066.36964,29077179,6667909]
[24,"Belchertown                  ",40.659999999999997,18090392,8585608,9504784,19713838.600000001,9148930,10564909,20636641.406207636,9371626,11265015,22678130.579999998,9514031,11779707,1384393,23575322.127127279,9788345,12900818,886159,22816367.782979999,9964385,12981543,69691,802818,23483392.580000002,10232132,13251261,23567308.230000004,10469424,13355141,23833924.679999996,10829462,13419341,23327151.939999998,11128856,13481666,22973661.619999997,11383708,13541691,23089848.73,11282677,13673306,23338797.006631523,11231898,13744526,23863029.98,11563925,13814846,24514320.307211746,12048062,13884146,24726417.459999997,12418125,13884146,24800115.190000001,12857028,13950266,26384198.330000002,13099002,14080886,27713334.379999995,13763232,14210006,27898291.619999997,14251380,14429030,27957662.77,15052180,14735480]
[25,"Bellingham                   ",25.29,19213556,11849997,7674956.0000000019,19765781.870000005,12301746,7877733.0000000019,20737641.341686606,12839032,8236349,21635191.629999999,13286678,7660683,900310,22336539.266939711,13855656,8389773,91110,21918230.382779997,14070986,7985431,42869,516233,22005905.830000002,14331642,8028300,21897110.52,14719762,8123660,22859867.109999999,15024829,8184635,22925709.119999997,15265577,8245235,23462633.450000003,15314220,8305835,22360509.420000002,15180149,8433985,22943454.173670746,15348243,8503945,23842628.519999996,15794941,8573845,24541929.425553497,16455942,8642425,24676853.43,16772086,8642425,24805882.760000002,17397231,8707945,27015991.390000001,18432465,8837425,29660512.23,19686080,9974432,30088447.590000004,20822076,10200632,31820375.339999996,22163244,10531532]
[26,"Belmont                      ",17.5,25508704,25370522,3002919.2,26906930.229400001,25515369,3344078.2,28888243.350710981,25916568,3857487.2,31086767.443360008,26482952,4119658,484157,33630843.731472418,27745446,4511739,1373659,32919934.323621243,28127012,5541573,29750,410300,33178102.924880005,28699894,5571323,34247348.968879998,29351497,5724243,35925169.712800004,30375090,5864908.424935,37689370.076880001,31269266,6420104,39180121.943280004,32414023,6766099,40728661.169720002,33616892,7111769,42643514.599933475,34843282,7800233,45512607.460039996,36735671,9036713,47857221.466895089,38364680,9637942,50418107.66032999,40662179,9755929,50694465.246789992,40824828,9891949,53256083.380400002,43686648,10158889,57423975.883839987,45639441,11784535,59533725.074059986,47889465,12254719,61875520.813840009,49876878,12935419]
[27,"Berkley                      ",34.99,7643922,2828497,4920431,8272940.120000001,3113070,5258969,8560781.2362940945,3328896,5405595,8827170.8099999987,3585871,4954853,582312,9064946.7510200962,3849845,5426422,0,6358267,2943167.6275719707,3785929,19984,230000,6692981.5599999996,3181543,3805913,6718784.6800000006,3109727,3837513,6637699.4999999991,3087420,3856463,6578224.6799999988,3202757,3875013,6569709.3200000003,3390355,3893088,6930346.8399999989,3591123,3934448,7359719.0961112287,3696563,3957968,7541762.2899999991,3837447,3981188,7578024.2998736957,3944412,4003448,8014902.1800000006,4170576,4003448,7950531.7800000003,4249272,4025438,8601441.5,4571797,4068938,8929788.1399999987,4777868,4151920,8895289.5700000003,5017565,4222848,8738336.5500000026,5232212,4318848]
[28,"Berlin                       ",17.5,1495721,1260426,505156.8,1574409.8655099997,1380034,518927.8,1531631.5569803971,1426621,529127.80000000005,1559344.8398399998,1379744,482385.8,56692,1739191.978516578,1464517,528296,0,1521295.9949798398,1367714,497433,2670,32943,1493144.841,1321677,500103,1366340,1379734,428980,1449658.5541600001,1228268,433030,1474055.7653800002,1240618,437180,1394075.23704,1182830,440980,1517885.7034299998,1268093,449505,1603891.1351568666,1339179,454305,1639651.6628,1352713,0,0,0,0,0,0,0,0,0,0,0,0,0,0,0,0,0,0,0,0,0,0]
[29,"Bernardston                  ",38.479999999999997,0,0,0,0,0,0,0,0,0,0,0,0,0,24613.150009569381,12834,0,11779,24071.631359999999,12891,11308,0,0,12250.07,6787,11308,12697.210000000001,6666,11308,0,0,0,0,0,0,0,0,0,0,0,0,0,0,0,0,0,0,0,0,0,0,0,0,0,0,0,0,0,0,0,0,0,0,0,0,0,0,0]
[30,"Beverly                      ",17.5,34118143,32135174,6332869.2000000002,35715876.831259988,32889802,6612472.2000000002,37367798.212748706,33478649,6901558.2000000002,39386154.621250004,34043028,6491827.2000000002,762943,39194005.831609689,34064888,7109675,0,38562013.260270961,34027524,6694328,35938,485209,39163824.46955999,34390816,6730266,41449624.288350001,35366026,6901866,42458330.514560007,36512325,{"$f":"7033951.460012+193707","v":7227658.4600120001},43026226.781149998,36875947,7336283.4600120001,44949344.692879997,37443198,7506147,44666515.990000002,37114279,7750842,45588032.85854122,37741029,7884162,46490353.889999993,38354542,8135812,49446399.057018369,40188832,9257567,51866271.119999997,41749093,10125430,53925726.18999999,43334812,10590914,58610573.329999998,45452132,13158441,61798815.259999998,47254334,14544481,62707090.120000005,49168020,15008945,64124970,51585549,15674495]
[31,"Billerica                    ",17.5,44723745,33169789,13000488.000000002,47634963.546500005,33645086,14140521.000000002,48947057.0166407,33836479,15747049.000000002,51035401.591280006,33569444,15629163,1836795,52105541.174899884,33750443,17116639,1238459,48993356.292637311,33261644,17282794,92782,1127922,50875415.991750009,33909226,17375576,52527991.367600001,34773532,18204887.04653937,51957284.506579995,35443588,{"$f":"18343562.0465394+8422","v":18351984.0465394},50581059.937599994,35165450,18486609.0465394,51437518.584149994,35483899,18620584.0465394,49371895.506909996,34830635,18904494.0465394,49374269.014992416,35556235,19055514.0465394,50010476.058320001,37025362,19202874.0465394,51908631.204447828,39371685,19348854,52647471.612599999,41417136,19348854,52245953.957079992,43102912,19489674,57705837.690000005,46197969,19777194,63590856.680000007,49635324,20069934,65232366.109999992,52490595,20582134,68911291.640000015,55154759,21331984]
[32,"Blackstone                   ",46.15,78960,54427,38854,194416.49,79381,115035,192121.28,87676,115785,214016.92,93849,127344,0,208216.51714449763,92534,124797,0,84250.709759999998,38469,84250.709759999998,0,0,85750.49,40589,84251,88880.470000000016,43338,84251,116046.18,57626,84251,181016.85000000003,89793,91224,223331.82000000004,112108,111224,249182.32000000004,125734,125414,293968.34941619023,142085,151883,303047.63,146874,156507,357718.72900887078,174004,183898,408810.81999999995,197411,211400,446826.83999999991,218589,234189,437559.81000000006,213832,234189,393567.83999999997,197879,234189,317959.23,163461,234189,240365.82,120024,234189]
[33,"Blandford                    ",17.5,48982,35517,34879,65097.96,37532,43027,34065.81,19175,34065.81,59717.45,34567,45413.81,0,73839.450028708146,45404,44506,0,84250.709759999998,55481,42726,0,0,122500.7,81440,42726,88880.470000000016,61527,42726,128940.2,98474,42726,181016.85000000003,141333,43655,92399.719999999987,77583,43655,105367.36000000002,88144,43655,80501.000061537285,67637,43655,110697.28,91325,43655,114974.37804282685,91083,43655,102604.6,84649,43655,149527.79999999999,123360,43955,156977.1,129506,43955,245151,186549,58602,250517.91,172932,77586,223011.53000000003,162784,77586]
[34,"Bolton                       ",17.5,9973,4632,5341,11170.821760000001,8623,5551,11756.7567,9885,5654,12414.87736,10106,5769,0,0,0,5654,0,0,0,0,0,0,0,0,0,0,0,0,0,0,0,0,0,0,13623.25469,11667,1956,27251.545720000002,22684,4568,13854.834543589546,11515,4568,14264.24656,11464,4568,14861.542035353355,12091,4568,15157.29088,12505,4568,15459.313859999998,12370,4598,0,0,0,0,0,0,0,0,0,17898.514400000004,14425,3474]
[35,"Boston                       ",17.5,586105185,399376878,203634716.00000003,619256557.27349997,422061485,210540147.00000003,645423775.69285941,450972697,215807608.00000003,674654547.49265981,485336817,198137070.00000003,23285769,698913738.66387761,510847386,216994382,0,680748415.44375777,527398841,204317586,1096867,13086129,706116381.62752008,551817407,205414453,724294011.71002996,579960095,207858813,750290537.27947998,604305866,{"$f":"209406563+8422","v":209414985},780383012.88296986,627463814,210991435,805600562.75407994,657393838,212596335,802914847.56588995,666445514,216128435,829896970.52937865,686260642,218066495,861999611.91060007,711149680,220001735,910864776.36300993,749907338,221915045,924506066.0076499,762717504,221915045,978880394.48934996,788497356,223736165,1012695285.9958402,827212576,227236505,1095713386.0691998,880485066,230700785,1145949554.1332099,945408382,236667161,1220875806.5343199,1007222540,245309561]
[36,"Bourne                       ",17.5,17925620,14175597,4520605,19096415.879999999,14957841,4725494,19833297.543827865,15646627,4854448,20945577.219999999,16223237,4518112,530985,20772043.229703348,16779418,4948115,0,19969976.504640002,16817476,4659046,25012,321732,19955194.440000001,17178276,4684058,20413172.529999997,17508247,4771738,20231816.77,17624172,4825238,19753593.370000005,16968423,4877338,19473369.859999999,16682400,4927363,19315319.800000001,16178695,5034613,20067959.034898311,16608266,5094043,21368782.289999999,17629245,5155183,22123862.831195891,18252187,5215213,22664002.020000003,18697802,5215213,20951766.189999998,17285207,5268883,21855345.039999999,17827720,5371903,22858350.509999994,18409357,5472583,24109451.629999992,19319804,5649175,24040569.220000006,19771933,5892775]
[37,"Boxborough                   ",17.5,4097907,3155257,1318163,4120404.6616799999,3160718,1344663,4148265.2990540327,3153303,1370363,4158143.8214699994,3122645,1248173,146690,4221713.9749441538,3141987,1366966,0,3719555.6312304004,3019563,1287108,6910,83923,3688231.1508000009,3037911,1294018,3802586.1715900004,3281068,1310578,0,0,0,0,0,0,0,0,0,0,0,{"$f":"14864","v":14864},88385.021661537277,73448,14937,106694.35,87553,19141,127474.53052282683,104905,22674,143372.81232,117755,25618,144995.14512,119621,25888,171344.57700000002,138436,32909,107478.84312000001,82107,32909,90908.905050000016,69316,32909,74532.869360000012,57871,32909]
[38,"Boxford                      ",17.5,6071885,5163711,1491956.8,6289686.6546200002,5060226,1536106.8,6441226.7548756497,5155389,1579156.8,6868240.9885999989,5466446,1479954.8,173929,6715149.8644612292,5538616,1620806,0,6426161.3153402992,5556487,1526119,8193,106694,6278578.7740599988,5546995,1534312,6142159.6714999992,5438279,1563632,6321744.6236000005,5657134,{"$f":"1582232+25266","v":1607498},6315613.1311499998,5486948,1625748,6380974.8437599996,5508993,1643973,6361983.2980000013,5310704,1683463,6728318.9448366938,5579890,1705633,6655216.9083199995,5490554,1726753,7004474.1685977643,5765598,1747903,7419452.1552000009,6121048,1747903,7077684.451799999,5839090,1768093,8106140.9460000005,6300062,1811833,8528050.2678800002,6718468,1855093,9024222.1102399994,7139841,1932573,9386167.0081999991,7523174,2044923]
[39,"Boylston                     ",17.5,2456202,2401450,399441.2,2596679.29,2468253,424025.2,2637266.6833377071,2412440,441425.2,2748598.3,2379694,412437.2,48471,2995460.8425033498,2540646,451690,3125,2900472.82014,2577094,428244,2299,33097,2809495.56,2592747,430543,2762062,2804850,404281,2837168.6900000004,2524555,427336.88018750004,2701535.6,2336823,443237.88018750004,2619960.2999999998,2263384,450312.88018750004,2586705.9099999997,2165226,465437.88018750004,2629403.7758567845,2172204,473687.88018750004,2856144.64,2256220,72374,429577.71528563765,344845,84733,438126.42,353125,85001,579645.30000000005,466173,113472,500350.65000000008,412789,113472,377077.07999999996,311089,113472,267378.24,220587,113472,156188.61000000002,128856,113472]
[40,"Braintree                    ",18.21,36257909,32433077,4903921.2,39382974.82124,33034864,6348111,41131026.449868038,33655897,7475129,44050195.07244999,34532907,8516409,1000879,46447721.11701142,34269687,9326942,2851092,45861987.164652348,35115999,11466594,61558,781482,47773435.682659999,35619436,12154000,49979205.223809995,36669696,13546898.562588248,51154368.228680007,37491319,13863900.583767677,53388255.002250001,38760993,14627262,55247735.783950001,39956696,15291040,56110509.381990001,39512030,16598479,58118969.896002591,40917885,17201085,60365199.038079999,42548094,17817105,63032117.839880839,44795946,18297651,64248920.529949985,46089277,18297651,63352380.463700004,47033101,18459141,68308994.308569983,48941926,19367068,72501248.639650002,51848673,20652576,73532608.806799993,55176708,21191400,75740827.680080011,57604796,21959550]
[41,"Brewster                     ",17.5,3745908,3609192,847877.2,3716661.11,3503455,872877.2,3870065.49,3592082,899723.2,4197809.6900000004,3789305,856428.2,100650,4216302.6441186611,3870397,937937,0,4075130.8498800001,3786992,883143,4741,62353,4135853.54,3959695,887884,4270180.41,4095847,906844,4270777.8100000005,4059699,918344,4371530.74,3934378,930169,4481450.93,3903212,942019,4710846.5600000005,3929503,968749,4863009.8651172351,4034625,983449,4845032.0600000005,3997151,997669,5028082.1512436774,4091479,1011979,5175998.03,4206025,1011979,4895214.0599999996,4038551,1024909,5580574.6600000001,4228204,1352371,5743102.1100000003,4394765,1377451,5984373.9899999993,4937108,1421235,6081078.0800000001,5016889,1484085]
[42,"Bridgewater                  ",33.72,88168,50372,88168,97646.94,52590,91714,79486.89,42308,79486.89,95547.92,49903,85767.89,0,110759.17504306222,61737,84053,0,36107.447039999999,20964,36107.447039999999,0,0,49000.28,28706,36107,38091.630000000005,22925,36107,51576.08,31717,36107,78029.39999999998,48603,36107,131999.6,81574,50426,196498.64000000004,121288,76038,200050.51601106342,124537,76038,124534.43999999997,80047,76038,129346.17529818021,81640,76038,117262.39999999999,73653,76038,104669.45999999999,65145,76248,156977.1,93380,76248,228660.24000000002,131975,96685,334819.56000000006,195386,139434,448617.29999999993,258421,190196]
[43,"Brimfield                    ",39.47,2082262,1222310,892997.6,2227974.4500000002,1181088,1046886,2430566.1536758002,1254545,1176021,2380996.33,1252428,1065723,125248,2416094.560888038,1320275,1167152,0,2491980.6652200003,1418885,1098967,5900,69910,2587336.7200000002,1412114,1175223,2627653.7399999998,1439707,1187947,2589280.4,1451989,1195297,2557047.06,1495359,1202422,2535170.4500000002,1464818,1209272,2386674.08,1412227,1223352,2534076.5705832485,1459687,1231392,2588960.9799999995,1544601,1239312,2714228.2124121352,1546449,1247172,3081860.73,1716855,1365006,2957057.94,1755767,1373076,3134102.29,1768013,1388436,3511281.75,1913482,1597800,3675840.4599999995,1922423,1753417,3424747.8600000008,1917011,1791067]
[44,"Brockton                     ",76.95,138977359,28667300,110310059,148050710.59000003,30752545,117298166,154658101.48941717,32078890,122579211,162730674.18000001,33821654,115352398,13556622,165249140.34832537,32323782,126330840,6594518,165226027.56366,32681998,130000851,697902,2623405,173663222.44,34080582,139582640,183049366.26000002,34969008,148088586,194125642.31999999,36202770,157922872,202656340.72,37791281,164865060,209479318.44,39438390,170040928,202933234.47,40436538,171012998,210658023.1896143,42271112,171549638,219005794.21000001,43627822,178296402.16310808,232535452.17106631,46034943,186500509,237304378.99000001,48074759,189236745,261944926.60000005,49559396,212385531,276250953.13999999,52190600,224060353,295646847.72000003,54579267,241067581,314919037.44,58428285,256490752,344720845.48999995,62646528,282074317]
[45,"Brookfield                   ",51.11,2025359,709065,1322058.3999999999,2063441.72,801638,1345037.4,2050160.4735631028,812205,1357887.4,2003095.25,823505,1225913.3999999999,144074,2262218.9634143542,963341,1342588,0,2318727.5348999999,997242,1296130,6958,46050,2344861.94,1042415,1303088,2462784.7700000005,1111388,1354889.719122,2368076.6400000006,1081418,1361089.719122,2293424.8199999998,1033581,1366889.719122,2475237.4299999997,1069272,1405965,2406993.0500000003,1047029,1419330,2393041.9473765823,1030082,1426350,2539081.3000000003,1093626,1445497,2740659.0357464454,1155170,1585489,2871199.0500000003,1170696,1700503,2739833.1099999994,1154807,1707403,2950079.4100000006,1240313,1721083,3240938.5500000003,1329203,1911736,3232462.2,1406803,1935136,3273863.3800000004,1445613,1968286]
[46,"Brookline                    ",17.5,43182454,61282406,5214247.2,46243374.585639991,59029263,5789916.2000000002,49807109.097208999,56651328,6667814.2000000002,52046875.491919994,53580843,6687235.2000000002,785907,55448797.678294986,53202974,7323679,0,55383764.102746435,52241986,6895830,37020,549129,57861961.59826,52548862,6932850,63110212.205569983,54160831,8949381,66334276.020650007,55964810,10369466,68558216.958700001,57398755,11159462,71400245.83788,59216726,12183520,73409265.273400009,60679638,12729627,75819883.374121532,62590117,13229766,79599261.272049993,64824584,14774677,83235896.760623336,68669614,15006787,83874467.613419995,69196436,15006787,77422819.851260006,63873826,15212527,82255132.52319999,67860485,15620467,89394640.063260004,73750578,16035247,91993751.557960004,75894845,16752743,95312162.890479997,78632534,17784893]
[47,"Buckland                     ",43.35,0,0,0,0,0,0,0,0,0,0,0,0,0,12306.57500478469,6213,0,6094,12035.81568,5834,6202,0,0,0,0,0,0,0,0,0,0,0,0,0,0,0,0,0,0,0,0,13416.833343589547,8460,4957,27674.32,17242,10478,28743.594510706713,15670,13074,29315.599999999999,16598,13074,29905.56,18425,13134,15697.710000000001,8117,13134,16490.760000000002,8510,13134,16860.330000000002,8952,13134,0,0,0]
[48,"Burlington                   ",17.5,26346430,31715482,3726893.6,28476092.515739989,31274657,4099584.6,29703889.542099517,30286140,4663527.5999999996,32206347.779779997,29440791,4943419.5999999996,580968,33076725.604208447,30090020,5413900,0,32935307.252465941,30061628,5097620,27366,382764,33128199.854009997,30481205,5124986,33884514.180340007,31423998,5326186.995389875,34352845.412480004,32068110,5497577.2333384063,34467698.66996,30725441,5684571.2333384063,34239007.273680001,30149693,5771296.2333384063,34371376.749679998,28843485,5961486.2333384063,35700016.024699226,29571420,6128596,37486525.891100004,30926384,6560142,39132795.405252784,32284557,6851477,40012176.135040008,33010045,7002131,40093789.187169999,33077377,7104731,44168133.059200004,35018289,9149844,46103747.98904001,36818680,9355284,49033422.446800001,39058316,9975106,50997674.377630003,41124446,10503556]
[49,"Cambridge                    ",17.5,58192422,121371348,7122204.7999999998,59270960.026400015,88906440,7772247.7999999998,58586280.466038458,83184123,8516352.8000000007,62523713.757140018,76283365,8336916.8000000007,979784,65306358.733187631,75386475,9130367,0,63289437.868766032,70899052,8596971,46152,639119,65583156.403349996,70070141,8643123,68855555.119200006,68855555,8892163,72833197.092889979,69898977,9053613,75565946.828440011,67728118,10513263,79533780.825280011,68456380,11077401,80655732.60428001,67464934,13287462,84055799.773383468,69688258,{"$f":"14474654-107112","v":14367542},88309460.905200005,72855305,15454156,95754602.358881176,78997547,16757055,97837766.086960018,80716157,17121609,100848386.94927999,83199919,17648468,105936291.71016,87397441,18538851,112732473.50964999,93004291,19728183,118963463.14608002,98144857,20818606,129510666.66434997,106846300,22664367]
[50,"Canton                       ",17.5,21297642,22689136,2658679.6,23120445.500109997,22714049,2977670.6,24474543.710445229,22506106,3369282.6,26022801.77039,22769714,3364793.6,395442,26782117.437980484,23032985,3685031,64101,26442324.635255523,23230516,3530108,18951,275998,27781523.257420003,23943285,3838238,29173938.351570003,24768223,4580646.0528811878,30084633.497920007,25615490,4751687.2551948912,30171279.553439993,25776936,4936587.2551948912,31710377.389359999,26583708,5126669,31711055.289259996,26390963,5320092,33816147.853070647,27788653,6027495,34875442.289380006,28772240,6127065,36127373.083982036,29805082,6327312,37234938.635360003,30718825,6516115,37413396.475199997,30866052,6613135,40961226.355149999,33070790,7890436,43350134.769279994,34684949,8665186,44999693.302450001,36588682,9007450,47358582.59928,38091394,9502600]
[51,"Carlisle                     ",17.5,5380976,5527723,625736.4,5564262.385809999,5588855,695338.4,5581542.8067216659,5455408,779767.4,5703345.7581000021,5287388,762232.4,89580,5621329.9800242223,5264374,834776,0,5332769.3760069599,4994997,786008,4220,61148,5279778.722959999,5047262,790228,5237293.4315999998,5073775,815308,5211682.2159700003,5137653,839492.09694868745,5130124.3316099988,4617112,859890.09694868745,5330419.6237000003,4642180,875115.09694868745,5096190.4877600009,4276513,{"$f":"906850.096948687+7432","v":914282.09694868699},5148187.6529762335,4284734,931172.09694868699,5496906.7434400003,4534948,961959,5645404.4536545286,4644791,1009657,5783671.1796799991,4771528,1012143,5777297.3325199997,4766270,1028823,6420143.4459200008,5066173,1353970,6639945.1630799994,5477955,1387990,6853478.0810400005,5654120,1447374,7237676.1200499991,5971083,1533774]
[52,"Carver                       ",37.869999999999997,14692519,5600310,9266231,15522693.041550003,5937552,9740177,16020593.808795983,6229859,10016064,16571482.380320001,6622023,9233907,1085201,17214969.206102479,7603064,10112726,0,16524123.59413152,7761924,9521941,51118,586792,16233062.765200002,8021055,9573059,16560679.89696,8171863,9644539,16614966.67595,8403720,9688439,16482096.760799997,8461514,9731289,16197468.462199999,8567837,9772714,16376740.850159999,8366875,9863519,16782096.605596974,8454008,9913049,16982947.176720001,8706167,9961139,17414154.77758931,9062138,10008599,18039221.234960001,9418559,10008599,17600656.3972,9595425,10053629,19740695.12156,10252128,10144409,21283331.499319997,10820042,10463289,20958681.776560001,11414545,10619393,21388080.561930001,11861024,10839443]
[53,"Charlemont                   ",33.57,78372,24481,66503,140168.19,52863,104458,180766.01,75004,130303,202073.43,86198,143418,0,183603.36713492827,78176,140550,0,96286.525439999998,48181,96286.525439999998,0,0,61250.35,31272,61250.35,63486.049999999996,33682,61250.35,77364.119999999981,42623,61250.35,65024.500000000007,36024,61250.35,65999.8,37958,61250.35,118538.28,62581,61250.35,186633.68266747385,94583,92051,178513.19,86258,92255,199628.95919998386,93353,106276,102604.6,52817,102604.6,104669.45999999999,54679,102815,109883.97,52817,102815,131926.08000000002,67011,102815,216797.25000000006,121733,102815,240365.82,133498,106868]
[54,"Charlton                     ",33.51,9796,3731,6065,0,1019,0,0,0,0,0,0,0,0,12306.57500478469,4735,0,7572,12035.81568,4895,7269,0,0,36750.21,15574,21176,38091.630000000005,16459,21633,25788.04,11686,21633,26009.8,11935,21633,26399.920000000002,12481,21633,26341.840000000004,13326,21633,40250.500030768642,20853,21633,41511.479999999996,21350,21633,0,0,0,14657.8,7900,6759,14952.78,8396,6789,15697.710000000001,8363,7335,0,0,0,0,0,0,0,0,0]
[55,"Chatham                      ",17.5,4193476,7336875,477224.8,4300106.45,6443767,532283.80000000005,4585029.6806893088,6009057,613312.80000000005,4990261.8899999997,5494357,625585.80000000005,73521,4899882.2308746418,5453455,685125,0,4739534.5728599997,5103025,645100,3463,50262,0,0,0,0,0,0,0,0,0,0,0,0,0,0,0,0,0,0,0,0,0,0,0,0,0,0,0,0,0,0,0,0,0,0,0,0,0,0,0,0,0,0,0,0,0]
[56,"Chelmsford                   ",17.5,40243143,36260612,6876856,42592748.364599995,37179861,7440307,44064611.171122938,37500357,8365004,46153358.467759997,37130897,8440095,991910,47744450.184116684,37306579,9243365,1194506,45545882.214795649,37406417,9828091,52762,692768,45821656.65101999,38188765,9880853,47211208.199219994,38901400,10089893,46881673.41488,39656173,10218568,47335965.470179997,39489751,10346618,47241970.625249989,39434421,10473018,46800513.146480002,38219600,10746368,47405594.168949671,37968938,10894328,50869628.260760002,40222347,11047148,52945358.502223566,42445789,11199428,54223728,43879883,11199428,54364865.709999993,44851014,11348108,59337599.049999997,47375444,11962155,63812307.760000005,49670508,14141800,66887500.860000007,52463272,14680624,68619087.450000003,55152965,15450424]
[57,"Chelsea                      ",77.44,50386551,8453650,42000702,53256173.620359994,9142672,44127092,58311558.942627169,9794441,48517118,61064521.992660001,10267187,45455271,5342064,62117725.984426871,10206209,49781388,2130129,63694269.530000001,10946147,51355990,277725,1118615,64097834.562419996,11332640,52765195,67545521.032000005,11524290,56040644,73447858.946570009,11993753,61454106,77392158.150499985,12901270,64490888,84321341.850099981,13967161,70354181,83654803.231740028,14735937,71681078,87574481.054575801,16070465,{"$f":"73109660-1214292","v":71895368},94734546.746300012,17306968,77723604.353151083,100163293.24265932,18590816,81572477,105670798.9015,19903086,85769782,114106347.65687999,19018231,95092112,125093687.61760001,20484593,104609095,138863180.45907998,22081668,116781512,146924932.87000003,23727035,123197898,155824471.33182999,25069966,130754505]
[58,"Cheshire                     ",44.28,411606,147670,263936,421381.96,162084,269956,475084.72,183097,302591,499694.78,201075,316850,0,453352.7593033493,179424,310513,0,479485.93776,198341,298092,0,0,488021.36,199213,298092,38092,238032,21802,38682.05999999999,17166,21802,13004.9,5919,13004.9,13199.960000000001,6175,13004.9,0,0,0,0,0,0,0,0,0,0,0,0,14657.8,6986,7672,14952.78,7513,7702,31395.420000000002,15812,15583,32981.520000000004,16631,16351,16860.330000000002,8468,16351,17354.29,8633,16351]
[59,"Chester                      ",45.86,147024,57724,89300,108496.6,52566,89800,158055.47,67713,121002,178186.45,77758,133451,0,183603.36713492827,77294,130782,0,167528.0748,73335,125551,0,0,170510.26,80804,125551,214825.67,97804,125551,243943.57,117682,126262,220031.55,109806,126262,210131.86,99091,126262,131709.20000000001,66688,126262,93917.833405126818,48725,93917.833405126818,55348.639999999999,28255,55349,100602.5807874735,51760,55349,131920.19999999998,68221,63699,134575.02000000002,64400,72014,109883.97,57072,72014,98944.56,48005,72014,118022.31000000001,59715,72014,156188.61000000002,76907,79282]
[60,"Chesterfield                 ",17.5,147024,74106,85640,151017.85,79291,87945,226187.09,122154,128461,202073.43,103249,129211,0,183603.36713492827,91172,126627,0,179563.89048,95302,121562,0,0,170510.26,94294,121562,303706.14,170592,133114,256837.59,151126,133114,259046.25,153673,133114,289331.62,163969,133114,262353.24,155148,133114,267134.68272901117,162099,133114,261536.15000000002,168199,133114,300231.53998745733,197488,133114,276890.62,199297,133114,267393.48,209594,133594,296280.42,213654,133594,294623.28000000003,216744,133594,267378.24,204860,133594,292428.69,227046,133594]
[61,"Chicopee                     ",70.47,63096901,25483093,37613808,66358804.090000004,26441283,39917521,70099506.047638729,26325951,43773555,74549552.000000015,26468494,43024649,5056409,76114569.038086131,26127050,47119437,2868082,78296359.978620008,26109119,51185902,274789,726550,80257160.099999994,26628690,53628470,83403437.559999987,27382282,56021156,85269685.210000008,28420070,56849615,86339875.140000001,29088958,57250917,89726607.379999995,30214682,59511925,89575524.349999979,30016446,59936745,91782958.022283211,29420367,62362591,93898617.529999986,30063802,63834816,99336604.583217233,30513907,68822698,99981143.989999995,30903112,69078032,103803922.04000001,31307943,72495979,112893440.48,32109426,80784014,122693363.2,33865812,88827551,129158251.12,35132393,94025858,136705068.66,36463911,100241158]
[62,"Chilmark                     ",17.5,0,0,0,0,0,0,0,0,0,0,0,0,0,0,0,0,0,0,0,0,0,0,0,0,0,0,0,0,0,0,0,0,0,0,0,0,0,0,0,0,0,0,0,0,0,0,0,0,0,0,0,0,0,0,0,0,0,0,0,0,0,0,0,0,0,0,0]
[63,"Clarksburg                   ",70.08,1993186,524551,1478268,1972655.02,539994,1491068,2196793.9275769964,547599,1656057,2288928.2000000002,572047,1542133,181237,2376571.2172095692,528092,1688903,159576,2231781.7016399996,543566,1740491,9344,104994,2136484.0499999998,549697,1749835,2103294.87,569562,1758875,1986375.6900000002,576786,1764100,1905986.03,594708,1769100,1772262.85,585884,1773600,1783981.5799999998,612660,1783225,1862062.3235625066,641854,1788625,2064205.6799999997,709296,1794475,2056910.8702206635,685446,1799935,2005332.3699999996,683465,1799935,2139256.1799999997,735842,1805335,2565630.8000000003,761205,1817095,2395286.75,736864,1827355,2889718.2099999995,806811,2082907,2998078.92,793818,2204261]
[64,"Clinton                      ",55.13,15756067,6894665,8894104,17332015.639999997,7423486,9908530,18272407.502293319,7817673,10454735,19345443.02,8132725,10033541,1179177,19828374.571238272,8774199,10988464,65712,19382689.431299996,8846816,10408392,55877,640182,19545739.000000004,9048453,10497286,20163527.150000002,9343931,10857440.780578749,20693064.010000002,9644943,11124661.80557175,20886485.84,9674943,11251678.80557175,21129205.020000003,9800189,11329016,21580495.630000003,9661218,12016981,21918110.246938307,9770470,{"$f":"12209651-62011","v":12147640},22676410.390000004,10266561,12409849,24086138.195584625,10670037,13416101,25739349.560000002,11372125,14367225,26864608.990000002,11925947,14938662,29918745.999999996,12528207,17390539,32534279.410000004,13217258,19317021,34438020.57,14024833,20413188,36558782.019999996,14710647,21848135]
[65,"Cohasset                     ",17.5,10255772,9352895,1220622.8,11254255.086480001,9701624,1552631,11621501.817125602,10016645,1696971,11287341.726259999,10125783,1600696,188119,11947087.452460095,10452621,1753039,0,11786894.642872915,10479155,1650626,8861,129327,12238484.622929998,10714412,1659487,12695055.016299998,10974758,1720297,13558190.14047,11461151,2165950.0686455625,14009300.662070001,11815460,2265937.0686455625,14047813.289400002,11968705,2304762.0686455625,14622821.151839999,12122957,2499864,14375663.798876762,11992671,2545614,15141702.031119999,12491904,2649798,15680191.001538649,12936157,2748292,15514224.726079997,12799236,2748292,15385213.724099997,12692802,2790862,15911489.32886,13126979,2873722,16687439.717179999,13767138,2955742,17839057.451559998,14717222,3121835,18191220.125599999,15007757,3333035]
[66,"Colrain                      ",46.76,0,0,0,0,0,0,0,0,0,0,0,0,0,0,0,0,0,0,0,0,0,0,0,0,0,0,0,0,0,0,0,13004.9,7860,5145,13199.960000000001,8241,5145,13170.920000000002,7776,5395,13416.833343589547,7440,5977,0,0,0,0,0,0,0,0,0,0,0,0,0,0,0,0,0,0,0,0,0,0,0,0]
[67,"Concord                      ",17.5,13711708,16586109,1639229.6,13626561.195820002,15556720,1788313.6000000001,13775795.201134795,14723944,1975048.6,14398286.772480002,14186610,1928177.6,226606,15022515.681104843,14230911,2111688,0,14880065.931155697,14212716,1988323,10674,157941,15431249.350580001,14620020,1998997,16485820.2147,15013137,2075197,17831572.198360004,15783717,2125997,18417417.455640003,15844185,2573232,18462886.786499996,15757030,2705857,18255708.435599998,15225394,3030314,18805576.707899675,15575689,3229888,19595700.444320001,16166453,3429247,20298530.027942974,16746287,3552455,21359034.911680002,17621204,3737831,21236752.310529996,17520320,3797771,22336390.42678,18427522,3916391,23075622.333200004,19037389,4038233,24161392.54073,19933149,4240305,24461959.490359999,20181116,4524105]
[68,"Conway                       ",17.5,900481,519131,563283.19999999995,887748.23,570221,569433.19999999995,1081794.7444083365,683924,619012.19999999995,1153948.4099999999,705236,571560.19999999995,67172,1145043.3689110049,908027,625958,0,1249385.60142,1005920,589390,3164,37129,1252208.6499999999,987728,592554,1423805.89,1108375,598954,1317133.4800000004,1067389,602704,1306815.92,1065116,606379,1311758.95,1106711,610004,1259226.5200000005,1022166,617374,1137791.5559876624,909237,620884,1045830.0300000001,858867,623884,982498.98211336427,810562,626464,894594.8200000003,738041,626464,926021.78,763968,628804,1051296.6600000004,810426,633484,941811.15000000014,776994,637444,969244.91999999993,799627,644516,1196505.07,987117,656966]
[69,"Cummington                   ",17.5,48982,82658,32727.599999999999,75947.62,69777,41165.599999999999,90842.16,76148,45639.6,166242.96,127944,70567.600000000006,0,208216.51714449763,147140,69156,0,203635.52184,157619,66390,0,0,268510.82,194827,73684,164036.83000000002,133703,73684,166579.44999999998,138227,73684,168011.94999999998,147058,73684,118799.64000000001,105143,73684,118538.28,100240,73684,120751.50009230593,96880,73684,110697.28,91325,73684,86230.783532120156,71140,73684,87946.800000000017,72556,73684,59811.12,49344,59811.12,78488.55,57133,59811.12,98944.56,81629,59811.12,84301.650000000009,69549,59811.12,86771.45,71586,59811.12]
[70,"Dalton                       ",50.39,166617,55122,142474,226965.47,100136,177549,271608.17,128312,203607,297621.34999999998,135954,218598,0,294362.54217799043,133527,214226,0,275850.41592,131098,205657,0,0,403261.59,190360,212902,531229.02000000014,258303,272926,513675.18,262243,272926,350080.55,180975,272926,289331.62,153272,272926,236011.40000000002,127014,236011.40000000002,240301.01604183207,128163,236011.40000000002,289210.46999999997,146665,236011.40000000002,285859.74273210397,144148,236011,379495.22,187215,236011,312251.82,155489,236581,264885,125579,236581,212169.47999999998,97790,212169.47999999998,267378.24,121597,212169.47999999998,483325.88,221639,261687]
[71,"Danvers                      ",17.5,26325457,27029911,3753262,27291804.810000006,27200094,3957823,28772437.490009252,27211346,4306061,29725451.43,27058817,4117771,483935,31202047.404463161,27175421,4509672,0,31223555.451959997,27353004,4246217,22796,332859,31951682.219999999,27692459,4269013,33482299.539999999,28151599,5786817.6029244997,34213600.439999998,29050571,{"$f":"6079019.44455637+101064","v":6180083.4445563704},34741461.949999996,29063843,6334657.4445563704,34881940.840000004,29397926,6426157.4445563704,35588532.009999998,29520671,6629052.4445563704,33833411.73052796,28261906,6732852.4445563704,35346165.090000004,29017711,6838332.4445563704,37107615.193679869,30032857,7108192,37325532.020000011,30589946,7108192,37556776.830000006,30917580,7209712,39586571.120000005,31703302,7883269,42331707.480000004,33039603,9292104,44328380.18,34918958,9640400,46476053.399999999,36728197,10137350]
[72,"Dartmouth                    ",17.5,30013625,21693435,8320190,31787364.080000002,22637645,9149719,33384729.905952133,24241171,9429258,34838597.450000003,25612050,8665307,1018378,34865610.348156936,25982767,9490011,0,33815804.735880002,26783708,8935606,47970,604210,34643308.829999998,27284947,8983576,35441243.159999996,28041617,9138016,35496365.130000003,28917668,9233066,35239525.229999997,29520834,9326041,36075718.260000005,30256260,9419066,36117171.75,29976096,9622951,36194408.009417139,30013628,9732331,37575677.390000001,30999934,9841531,38394448.348769426,31675420,9948121,38785092.380000003,31997701,9948121,38413025.859999999,31690747,10049191,42137530.870000005,33036538,10251151,43916766.759999998,34831363,10449331,44678547.479999989,36166183,10790867,45395663.050000004,37451422,11271317]
[73,"Dedham                       ",17.5,20084837,24834561,3188973.6,21999587.074999996,24648038,3524054.6,22956468.83366517,24204569,3691508.6,24352509.547620002,23678833,3521908.6,413907,25074340.33835483,23853832,3857099,0,25207774.047433194,23636066,3631768,19497,275484,25446765.917099997,23938734,3651265,26335982.540799998,24613424,3890647.9861599999,26535745.209500007,25162541,4078924.8425356252,27117828.372749999,24153827,4312267.8425356252,26929202.733199999,23751768,4379292.8425356252,26660498.619539998,22460566,4525097.8425356252,27026023.747824714,22421830,4604194,28479923.262210004,23238711,5241212,30327812.140098155,24319967,6066360,31069861.763470002,25205198,6066360,30666508.900769994,25299870,6143940,33049835.113800008,26263407,6786428,34648058.12985,27655361,6992697,39060888.148359999,29321375,9739513,40094755.539070003,30840581,10145563]
[74,"Deerfield                    ",17.5,2642380,1930020,712360,2837157.02,1916205,920952,2894786.9036194519,1943673,951114,3308363.25,2201765,990223,116375,3364244.2070966512,2590037,1084466,0,3310478.6745599997,2602950,1021111,5482,67823,3402540.04,2702788,1026593,3431229.1799999997,2733958,1041993,3138146.3000000003,2712329,1050593,3182088.0800000005,2730251,1059343,3228031.8499999992,2757185,1067968,2985824.2499999995,2500490,1085623,3148595.0953759653,2614687,1095493,3139879.44,2590401,1104883,3354720.4057858582,2690443,1114363,3368724.2699999996,2732273,1114363,3195342.38,2636157,1123153,3310653.2399999988,2731289,1140193,3505682.31,2863682,1157053,3547455.8600000003,2926651,1186069,3493016.6899999995,2881739,1225219]
[75,"Dennis                       ",17.5,0,0,0,0,0,0,0,0,0,0,0,0,0,0,0,0,0,0,0,0,0,0,0,0,0,0,0,0,0,0,0,0,0,0,0,0,0,0,0,0,0,0,0,0,0,0,0,0,0,0,0,0,0,0,0,0,0,0,0,0,0,0,0,0,0,0,0]
[76,"Dighton                      ",35,0,0,0,0,0,0,0,0,0,0,0,0,0,0,0,0,0,0,0,0,0,0,0,0,0,0,0,0,0,0,0,0,0,0,0,0,0,0,0,0,0,0,0,0,0,0,0,0,0,0,0,0,0,0,0,0,0,0,0,0,0,16860.330000000002,8607,8253,17354.29,9474,8253]
[77,"Douglas                      ",25.89,10549229,3948825,6600404,11244182.879999999,4402719,6966367,11934136.084547279,4703853,7317967,13091381.120000001,5025155,7217947,848279,13862037.638614353,5156920,7904901,800217,13727725.332659999,5395470,8196565,44003,505400,13936065.529999997,5567549,8368517,14220617.059999999,5766202,8454415,14221466.569999998,5973388,8493140,13898746.319999997,6212332,8530840,13645814.699999997,6463272,8567140,13394369.66,6691646,8644415,12935870.449951056,6783425,8684255,12935309.570000002,6890730,8722775,12970126.823695926,7112759,8759585,13102757.229999999,7355911,8759585,12319421.250000002,7492002,8792765,13450769.330000004,7945377,8859605,14574247.939999998,8454786,8927525,14237865.390000002,8850986,9039013,14294446.849999998,9322034,9195163]
[78,"Dover                        ",17.5,4317253,5147915,363450,4498246.3891599998,4992151,448199,4612399.3686480699,4726827,555890,4778687.8410799997,4574431,580225,68190,4840708.6085977424,4416450,635447,0,4717531.5725570414,4342062,598324,3212,48386,4590181.74,4311579,601536,4512264.4704399994,4166423,622456,4653466.1436000001,4299403,635731,4528034.3919200003,4059051,690567,4322776.7936200006,3814498,702567,4235362.0299200006,3546655,728362,4468986.3633566014,3701130,767856,4640414.5082099997,3828342,812073,4873658.0694900909,4020768,853856,4983216.4504999993,4111154,872062,4983017.6314199995,4110989,886342,5377259.1472499995,4436239,941020,5901407.9242000002,4868661,1032747,5959421.4737200011,4916523,1083811,6012595.3087300006,4960391,1154911]
[79,"Dracut                       ",40.159999999999997,29756497,15882927,14241936.999999998,31544589.330080003,16574636,15009207,33257290.873810038,17250683,16006608,35284541.199999996,17874077,15579505,1830959,36242185.987368427,17529513,17062255,1650418,34827941.444459997,17559786,17619480,94589,1101079,35260306.700000003,17528088,17732219,36135215.210000008,18026125,18109090,37152939.319999993,18540729,{"$f":"18612210+50532","v":18662742},37334953.579999998,19220889,18761667,37644250.119999997,20168359,18858492,37207996.850000001,20566818,19068977,37300000.771409988,20889283,19182047,39508798.249999993,21923341,19297217,41837070.949357763,23013126,19413857,44096709.129999995,23979412,20128364,46058563.059999995,25045152,21013411,50418700.75,26100541,24318160,54539267.460000008,27369124,27170143,54583406.889999993,27974680,27570439,55951048.689999998,28785919,28136689]
[80,"Dudley                       ",52.05,0,0,0,0,0,0,0,0,0,0,0,0,0,0,0,0,0,0,0,0,0,0,0,0,0,0,0,0,12894.02,3632,9262,13004.9,3770,9262,13199.960000000001,3905,9295,26341.840000000004,8192,18150,26833.666687179095,8759,18150,27674.32,9399,18275,14371.797255353356,4870,14383,0,0,0,0,0,0,0,0,0,16490.760000000002,5890,10601,0,0,0,17354.29,6371,10983]
[81,"Dunstable                    ",17.5,0,0,0,0,0,0,0,0,0,0,0,0,0,12306.57500478469,8124,0,4183,12035.81568,7678,4358,0,0,12250.07,7858,4392,12697.210000000001,8271,4426,0,0,0,0,0,0,13199.960000000001,10239,2961,13170.920000000002,10950,2961,13416.833343589547,11048,2961,13837.16,10927,2961,0,0,0,0,0,0,0,0,0,0,0,0,0,0,0,0,0,0,0,0,0]
[82,"Duxbury                      ",17.5,22544989,21198757,2814514.4,24332599.68414,21799788,3127346.4,25877873.382828854,22471945,3547730.4,27351540.51557,23010054,3884918,456569,28050327.867297076,23415077,4254657,380594,26964189.833086807,23687032,4364460,23430,327711,26802911.094560001,23914065,4387890,27796890.404080003,24315649,4513610,28443468.301800001,24930173,4629609.23820375,28945039.577839997,24862384,4782129.23820375,29322453.03464001,24866076,4860479.23820375,29421665.884350002,24493520,5031584.23820375,29298212.848171137,24357911,5122424.23820375,30016424.79888,24763550,5252875,30413600.834905829,25091221,5340535,30754555.552399997,25372508,5382048,29901986.556480002,24669139,5463948,31970862.733219996,25660838,6310025,33659011.201460004,26987503,6671508,33652713.458800003,27763489,6947940,35054190.457200006,28849041,7351890]
[83,"East Bridgewater             ",37.18,17015111,7598854,9416257,18126132.039999999,8088898,10037234,18786648.513602465,8685044,10382618,19759944.039999999,9220450,9750332,1145894,19857784.98755981,9205039,10678301,0,19438423.617059994,9401494,10054475,53977,626999,19386079.859999999,9557760,10108452,19766953.350000001,9774113,10196332,20120825.100000001,10170405,10251257,20492729.260000002,10728557,10306507,20764631.130000003,11106385,10361132,20397715.370000001,11201362,10479107,21105299.528073356,11373002,10543697,22148437.780000001,11682386,10609367,23021485.869153682,12183037,10847253,23574021.350000001,12580578,10995125,23394636.07,12898727,11057135,25682682.969999995,13482733,12199950,26867274.059999999,13993957,12873317,26713492.300000004,14744525,13077469,27680260.599999998,15476590,13370869]
[84,"East Brookfield              ",43.7,176413,103434,72979,172717.17,67453,105264,102197.43,29983,102197.43,95547.92,28245,95547.92,0,86146.025033492828,25739,93637,0,60179.078399999999,19896,60179.078399999999,0,0,110250.63,34586,75665,202128.46000000002,61700,140428,218155.53,71512,146644,285056.05,99040,186016,276131.65999999997,108182,186016,275524.15999999997,112798,186016,253717.84938542161,113257,186016,247698.99,118843,186016,328975.13449816412,163597,186016,335521.82,162027,186016,357110.16,175397,186676,264885,139226,186676,278132.51999999996,144480,186676,267378.24,141860,186676,448617.29999999993,227537,221080]
[85,"Eastham                      ",17.5,1507950,2243267,252703.6,1616181.59,1929935,271644.59999999998,1859265.36,2013378,314184.59999999998,2009843.22,2095073,304723.59999999998,35812,2013733.9113952154,2116114,333725,0,2017979.0678399999,2078576,314229,1687,23709,1921167.55,1979180,315916,1990036.0999999999,1895355,324556,1954308.02,1817599,329806,1871143.94,1673613,334856,1830657.57,1584800,339456,1797116.2700000003,1503602,349191,1861930.3816340552,1558793,354681,1784959.9300000002,1472592,359871,1859186.0779373366,1533829,364971,2151871.9300000002,1775294,376578,2320433.8899999997,1914358,406076,2709776.2300000004,2235566,474210,2896212.01,2389375,506837,2893667.62,2387276,527429,2811123.1,2319176,556679]
[86,"Easthampton                  ",27.45,14379873,7394800,7061164,14811911.220000003,7910957,7246465,16177354.557884984,8342895,7856409,16862713.349999998,8754200,7300531,857984,17116009.975915793,9909425,7995345,0,16500250.305240002,9949274,7528257,40415,471948,16577826.099999998,10194026,7568672,17510302.93,10521254,7641192,17991276.290000003,10956834,7687117,17813516.280000001,11344349,7731667,18095294,11793004,7776017,18091522.210000005,11897561,7873092,18534768.099589158,11761853,7926222,18672296.820000004,12132351,7977702,19700559.137801927,12320207,8029692,20082994.249999996,12651233,8029692,19817458.09,12976004,8078592,21391869.32,13077217,8314652,22559015.459999997,13894543,8664472,23097746.730000004,14936633,8828792,23886649.57,15814907,9063542]
[87,"East Longmeadow              ",35.39,19356365,16081730,3415856.4,20729712.940000001,16113527,4616186,22100300.970615972,15537297,6563004,23422159.73,15098039,7448721,875400,24224414.35406699,15193256,8157639,873519,23669359.72518,14824125,8675518,46574,379066,24105912.68,14975127,9130786,24771812.159999996,15279722,9767174.2199039999,24746375.960000001,15736133,9834624.2199039999,25028520.540000003,15784772,9901624.2199039999,25486357.480000004,16206963,9967774.2199039999,26003641.129999999,15891476,10115944.219904,26517601.927612852,15918988,10598614,27763311.460000001,16509582,11253729,28769862.744360216,16848895,12102248,29030299.670000002,17494208,12102248,27993088.180000003,17190078,12175958,31009727.380000003,17979103,13030624,33881345.879999995,18843898,15037448,34416160.82,19663608,15299736,34975334.979999997,20638923,15669936]
[88,"Easton                       ",17.5,25936350,18495624,7668206.9999999991,27484649.059999999,19567354,8115511,29177633.708206084,20413260,8764374,30904576.539999995,21110331,8764241,1030005,32240256.071471777,22529505,9598361,112390,31588230.077280004,22880367,9143450,49086,613290,32076583.279999997,23438516,9192536,33281209.900000002,24208253,9343416,33673060.710000001,25085982,9437566,34368780.379999988,25617334,9531741,34281775.100000001,26279966,9624016,34160203.240000002,25837978,9823611,34946347.827118024,26650276,9933051,36092236.609999999,27619276,10041681,37265050.035474405,28602736,10148451,37563612.82,29384825,10148451,37338104.880000003,30163362,10249641,39647570.750000007,31564199,10450341,43192301.489999995,33376275,10655421,44308894.519999996,34692019,11009437,45287684.259999998,36311272,11511787]
[89,"Edgartown                    ",17.5,2906462,3581665,343128.4,3005078.93,3288955,379680.4,2849766.471590891,3031703,415389.4,3070457.61,3082373,407713.4,47916,3245618.0710277515,3016515,446517,0,3164477.4653399996,3012929,420431,2257,33529,3286331.37,3029696,422688,3631686.44,3207706,438768,3600508.11,3160574,448818,3756339.3899999997,3220458,535881,3949969.68,3348602,601368,4012060.0799999996,3327566,684494,4120509.4730720278,3417460,703049,4383670.7300000004,3563552,820119,4884680.5483374586,4029861,854820,5167542.74,4263223,904320,5243884.84,4326205,917680,5932989.4900000002,4894716,1038273,6660865.3400000008,5495214,1165651,6714943.7300000014,5539828,1210787,6271711.71,5174162,1269737]
[90,"Egremont                     ",17.5,0,0,0,0,0,0,0,0,0,0,0,0,0,0,0,0,0,0,0,0,0,0,0,0,0,0,0,0,0,0,0,0,0,0,0,0,0,0,0,0,0,0,0,0,0,0,0,0,0,0,0,0,0,0,0,0,0,0,0,0,0,0,0,0,0,0,0]
[91,"Erving                       ",17.5,1736037,1696174,257383.6,1886102.04,1693156,283644.59999999998,2063705.1585349285,1733353,330352,2321411.09,1908319,369649,43443,2466755.7200229666,2035074,404830,26852,2428316.4251399999,2032401,406463,2182,30012,2407929.63,2045398,408645,2354101.85,2051456,418845,2478101.1,2103316,425470,2387006.7599999998,2050836,431895,2412269.36,2019029,438270,2249261.63,1884292,451195,2174084.4728259463,1812979,457975,2317098.66,1911606,464995,2280809.0489276485,1881667,471505,2326189.63,1919106,471505,2355746.09,1943490,477715,2504088.0100000002,2013666,490422,2671388.7799999998,2115389,556000,2756151.77,2220663,577216,2485223.59,2050310,603466]
[92,"Essex                        ",17.5,0,0,0,0,0,0,0,0,0,0,0,0,0,0,0,0,0,0,0,0,0,0,0,0,0,0,0,0,0,0,0,0,0,0,0,0,0,0,0,0,0,0,0,0,0,0,0,0,0,0,0,0,0,0,0,0,0,0,0,0,0,0,0,0,0,0,0]
[93,"Everett                      ",71.86,45371743,24514676,20857067,48207134.680500001,25038448,23168687,53450079.377155341,25416336,28033743,59682692.571389988,25762913,30352631,3567149,62892763.612918936,25931368,33241384,3720012,64793932.005067073,25957484,38091277,204491,540680,68020957.110019997,25027814,42993143,74288708.336989999,25279517,49378544.796454601,79707323.959860012,25001383,55042003.302143387,85328324.66643998,24693137,60635188,89667949.965919986,25666047,64001903,87583038.240480021,26203286,64492532,90558887.124926507,27455803,{"$f":"65650979-929397","v":64721582},96231897.969240025,28814865,68940060.192849353,105617503.49762131,30615794,75001709,109071464.1568,35431511,75001709,120819748.25191998,36483827,84335921,131079661.89111,38446657,92633005,152643280.48403001,40961068,111682212,161811104.85304004,43738229,118072876,172711734.58173999,45846412,126865323]
[94,"Fairhaven                    ",26.97,15772369,8958998,6900863.9999999991,16146316.320000002,8999243,7147073,16755601.389419528,9196548,7559053,16953034.73,9303393,6852118,805285,17423766.603881337,9798899,7504255,120613,16843034.112059999,10187330,7179423,38542,454353,17104751.050000001,10317258,7217965,17453568.07,10832169,7292285,17879851.399999999,11242923,7338560,17736701.940000001,11371020,7383635,17707799.16,11597160,7428260,18309668.060000002,11486709,7526930,18758475.280269191,11557489,7580960,19508511.550000001,11713786,7794726,20489574.57642154,12333105,8156470,20977288.109999999,12688884,8291230,20710203.66,12632417,8343040,22300570.939999998,13273418,9027153,23768492.649999999,14136790,9631703,23598054.430000003,14889430,9797583,24525650.529999997,15860855,10036083]
[95,"Fall River                   ",77.95,102479194,13825097,88654097,104481870.5,14847016,90065583,106032214.10539405,15513206,91119662,109717451.8,16580407,83793405,9847697,113237307.34539331,19000896,91768280,2468131,110588545.43874,19582705,89259672,479186,4762753,113992339.77,20197065,93795275,117801266.98000002,21470723,96330544,122984522.46999998,22747952,100236570,126851512.44000001,23922480,102929032,130963260.19999999,25218449,105744811,133322500.97999999,26181193,107141308,140367627.0677751,27932437,112435190,149318107.95999998,29668942,119649166,162111258.55386746,31184570,130926689,169915017.67999995,32906432,137016364,179465809.67000002,34286248,145182843,204753290.08000001,36332032,168421258,226544925.61000004,38520449,188024477,243053149.76999998,40721548,202331602,273966514.06,43178238,230788276]
[96,"Falmouth                     ",17.5,30137881,32265939,4439705.5999999996,31282681.59,32702864,4646658.5999999996,32408337.333121564,31997640,4954098.5999999996,32989864.899999995,31420687,4674989.5999999996,549421,32976356.55624881,31044599,5119922,0,32249708.827199996,30294456,4820816,25880,366051,32627799.279999997,30223796,4846696,32919523.759999994,30639342,4988896,33718540.630000003,31562698,5077571,34334682.75,30535810,5403420,35910247.149999999,30727509,5492795,35716152.020000003,29797870,5918282,35776347.341015682,29665659,6110688,37204346.420000009,30580964,6623382,38230735.995907485,31450637,6780099,38101629.059999995,31433844,6780099,36995294.280000001,30521118,6871209,41087216.109999992,32002344,9084872,42847018.859999999,33524110,9322909,43218462.880000003,35655232,9621389,43846641.970000006,36173479,10042889]
[97,"Fitchburg                    ",72.73,48848791,12405593,36443198,52232259.629999988,13502431,38857303,53959279.694781937,14179903,40080379,55478399.75,14473238,36822755,4327540,55319139.938725367,14039877,40327289,951974,54357220.723620005,14307424,39281344,210880,1921789,55048365.490000002,14570762,40477603,58628763.059999995,14936099,43692664,59765864.699999996,15456359,44309506,61364752.100000001,15954871,45409881,62363310.040000007,16662973,45700337,64368039,16963311,47404728,66887262.052477211,17058113,49829149,70117764.530000001,17761102,52356663,75293069.019942045,18599162,56693907,77039272.929999992,19328344,57710929,80948312.820000008,19699066,61251183,88839002.539999992,20577723,68261280,96678430.429999992,21950317,74728113,101071841.39,23118748,77953093,110532274.87,24320887,86211388]
[98,"Florida                      ",35.57,741408,396558,420539.6,831136.1,382280,473569,875058.42915476626,374728,500454,898069.22,381234,462482,54353,938109.73427751218,382731,506498,48881,920526.84221999999,383625,526600,2827,28377,784588.89,384062,529427,794115.07999999984,388914,532667,872998.09999999986,415121,534842,924504.84,460528,537067,872994.29,469626,539192,894111.96999999986,487635,544087,837564.72544684017,470893,546637,718962.58,450463,548737,740254.54001652624,441172,550717,747149.5,475424,550717,710252.54,432738,552457,969371.9800000001,458631,556297,917915.93000000017,425391,559717,865066.34,439942,565437,767290.65999999992,449313,572487]
[99,"Foxborough                   ",17.5,21688050,15487944,6200106,23679618.058180004,16211628,7467990,24391941.818536025,16728189,7700920,25837985.804400004,17375190,7572812,889984,26373440.684976753,17554085,8293540,525816,25261529.643114474,17725290,8304130,44580,543071,25263537.016260002,18503444,8348710,25735907.438639998,19355356,8460190,26223593.931839999,20174842,8529165,26242664.986009996,20657534,8597390,26484573.869379997,21281099,8664640,26222277.008499999,21252070,8810280,26331117.517189495,21807366,8888190,27859184.160679996,22576625,8967870,28934003.214451049,23797381,9046950,29781054.52984,24569370,9046950,29685008.984399997,24490132,9123240,32116850.096899997,25779824,9275820,34005786.001159996,27296530,9428040,35604499.836640008,28583943,9695632,37172001.841999993,29764062,10082632]
[100,"Framingham                   ",47.53,63860283,61259855,8530320.4000000004,69363562.731240004,61627654,10628154.4,71074303.101445913,60232844,13996312.4,75064337.095980003,59230314,15333796.399999999,1802082,78471847.638417289,59169653,16793161,2509034,77781484.489536598,57763279,19634107,105405,278693,79535372.041889995,57510511,22024861,84912568.179920003,58401638,28083628.771975774,89880263.175519973,59388693,31805022.666226074,91598610.68881999,58137448,33596454.666226074,95619668.628199995,57889811,{"$f":"37729858+1000000","v":38729858},97409677.469920009,56417775,42091391,100719920.94220732,59331897,42363221,108226362.06195001,60883909,47636211.300379075,114246010.44154748,63283830,50962180,121857618.34246999,65102393,56755225,124104569.45571999,67201559,57034315,139318256.59154996,70464780,68853477,159351946.7809,74355413,84996534,164084535.65007001,78033062,85986718,173968070.02614003,81468888,92499182]
[101,"Franklin                     ",17.5,44517161,21157822,23359339,48378503.32774999,22883906,25494597,50651137.614666902,24244322,26478420,54191343.764519997,25464638,25705683,3021023,56699650.475846313,28327955,28152172,219523,54564219.318353519,28507883,26714222,143414,1674609,55195445.872189999,29273443,26857636,57091389.563199997,30265045,27111396,57706781.893489994,31221709,27268946,57559562.145959996,32626068,27423796,57388919.031509995,34322367,27575946,56727033.490920007,35443923,27903911,57148940.326983534,36769474,28078451,57909532.281709999,38481997,28248881,59674983.513386771,40088811,28416161,60169866.394320011,41152523,28416161,59769256.119000003,42443297,28574921,62458712.611599997,44800360,28885721,65275976.234380007,47235495,29191961,66584573.909320004,49904466,29717993,68009481.34450002,52439022,30460643]
[102,"Freetown                     ",17.5,4190819,3370570,920190,4507080.37,3270816,1236264,4667891.46,3208836,1459055,4729864.9000000004,3182970,1384217,162678,4714528.3669741629,3198884,1515957,0,1175619,817563.31469409086,351185,1885,11299,1172043.8400000001,834757,353070,1240218.98,861891,378328,1272336.7400000002,903996,378328,1283278.0999999999,908860,388787,1342125.9200000004,945781,396345,1326002.28,873318,452684,1336875.3977878354,897676,452684,1281376.3199999998,845733,452684,1402131.3215247765,943415,459454,1444691.88,998607,459454,1116188.82,798958,461524,1030120.6499999999,716199,461524,966323.64,674176,461524,16860.330000000002,12290,16860.330000000016,17354.29,13171,16860.330000000016]
[103,"Gardner                      ",66.42,23488604,5365218,18123386,24280379.689999998,5820028,18638594,24266064.215644144,6154419,18778744,24824626.379999999,6443188,17123527,2012418,25171808.228991386,6290979,18753226,127603,24334327.323839996,6408008,17777812,95439,1071628,24492666.370000005,6454822,18037844,25131322.549999997,6708647,18422676,26124799.240000002,7163394,18961405,26236297.479999997,7521101,19023155,27133681.380000003,8111579,19085780,27651776.550000001,8469172,19225095,28300931.482949637,8779067,19521864,28813726.650000002,9088523,19725204,30422248.530316565,9418789,21003460,30692122.609999999,9927325,21003460,30713287.02,10332365,21072010,34029130.219999999,10721731,23307399,38690363.829999998,11262118,27428246,41586508.200000003,11909298,29677210,45038410.019999996,12662453,32375957]
[104,"Aquinnah",17.5,0,0,0,0,0,0,0,0,0,0,0,0,0,0,0,0,0,0,0,0,0,0,0,0,0,0,0,0,0,0,0,0,0,0,0,0,0,0,0,0,0,0,0,0,0,0,0,0,0,0,0,0,0,0,0,0,0,0,0,0,0,0,0,0,0,0,0]
[105,"Georgetown                   ",17.5,9890177,6461877,3428300,11110810.230000002,7042873,4067937,11765704.999744495,7509511,4294072,12224355.249999996,7808142,3977475,467447,13336299.693443066,7954056,4356024,1026220,12957759.106319999,8151601,5067813,27206,326500,13112600.769999998,8111641,5095019,13510524.82,8329567,5180958,13168838.209999999,8562303,{"$f":"5218183+42110","v":5260293},13311710.359999999,8894215,5297543,12726852.809999999,9153957,5332268,12709129.820000002,9404745,5407948,12771696.514767833,9356963,5448358,13014006.640000001,9674567,5488348,13380030.102942491,10305171,5527768,13521537.540000001,10617926,5527768,13268519.02,10680486,5564938,14264533.799999997,11007817,5639758,15011687.49,11377637,5713498,15097839.610000001,11942079,5837882,15021753.369999997,12206104,6011432]
[106,"Gill                         ",36.880000000000003,0,0,0,0,0,0,0,0,0,0,0,0,0,0,0,0,0,0,0,0,0,0,0,0,0,0,0,0,0,0,0,0,0,0,0,0,0,0,0,0,0,0,0,0,0,0,0,0,0,0,0,0,0,0,0,0,0,0,0,0,0,0,0,0,0,0,0]
[107,"Gloucester                   ",17.5,31232007,26625347,5446301.5999999996,32559971.797839999,27559732,5678695.5999999996,34505025.028608091,28613858,6019080,34138942.174929991,29038790,5551677,652453,34553577.53120216,28958748,6080047,0,33723505.701047271,29373670,5724851,30734,413662,33676197.520679988,29773120,5755585,35226845.308150001,30509144,5893705,35681068.365740001,31184657,{"$f":"5981325.49100113+92942","v":6074267.4910011301},35333205.213599995,30916076,6157967.4910011301,34881817.403679989,30325627,6238892.4910011301,34761401.33839,29058004,6413737.4910011301,35423863.383190274,29347381,6509407.4910011301,36267476.233949997,29920668,6605077.4910011301,37845891.761949673,31169618,6699157,38460242.64918001,31729700,6730543,39342679.288419999,32457710,6884969,43648880.139679991,33989778,9659102,47045109.888499998,35714197,11330913,49375946.820559993,37665556,11710391,50710044.196819998,39344590,12161741]
[108,"Goshen                       ",31.17,127431,75115,71846.8,97646.94,63992,72296.800000000003,113552.7,67109,80208.800000000003,154299.47,77762,102158.8,0,158990.21712535885,82506,100116,0,167528.0748,89091,96111,0,0,110250.63,62127,96111,189431.25,104098,96111,192367.49000000002,104174,96111,168011.94999999998,107732,96111,105599.68000000001,71097,96111,105367.36000000002,68309,96111,107334.66674871638,72157,96111,138371.6,82071,96111,143717.97255353359,88003,96111,146578.00000000003,88586,96111,134575.02000000002,87682,96381,125581.68000000001,71786,96381,148416.84,89000,96381,151742.96999999997,99954,96381,240365.82,155850,96381]
[109,"Gosnold                      ",100,41274,33796,8396.4,51911.4,35263,16648,54330.509943651086,37234,17097,50519.31,38690,17447,0,38313.742821052641,38151,17098,0,28361.246939999997,34636,16414,0,0,39039.35,35217,16414,35111.69,34852,16414,31217.899999999998,31218,16414,22957.61,20662,16414,31484.75,22007,16414,21496.61,18430,16414,21755.78608038156,18105,16414,22611,18574,16414,28232.853971617853,23292,16414,8254.48,6810,8254.48,41750.770000000004,34444,8404.48,8618.84,7111,8404.48,0,0,0,0,0,0,0,0,0]
[110,"Grafton                      ",17.5,17156243,11239997,5916246,18952992.459999997,12369492,6583500,21091974.376996525,13330299,7761675,22437094.370000001,14299322,7320485,860329,23677504.63712154,14635325,8017198,1024982,23187153.685799997,15109681,8513937,45707,552411,23744711.860000003,15535022,8559644,25114629.089999996,16118863,8995766,27387656.219999999,16893716,10493940,28066998.630000003,17847710,10571515,29002097.030000001,18689770,10650490,29937376.269999996,19574310,10827425,30005660.380291101,19822623,10921955,30766240.780000001,20470454,11015375,32167051.495621532,21474332,11108735,32659858.43,22211911,11108735,33113667.029999997,22380816,11350399,36001737.560000002,23384218,12617520,36858149.159999996,24436656,12794520,37107723.809999995,25816666,13096328,39402336.330000006,27625677,13539728]
[111,"Granby                       ",25.62,7544687,4071482,3480552,8086549.8600000003,4268438,3818112,8451939.3722802009,4295869,4156070,9035827.3699999992,4303354,4234786,497687,9050222.3941818178,4343476,4637824,68922,8636188.0120199993,4357208,4431778,23792,276151,8744249.379999999,4488653,4455570,8663530.7500000019,4623232,4493290,8574245.4499999993,4727723,4516215,8273052.5900000017,4695999,4537515,7978374.4699999979,4781695,4557815,7719354.0099999998,4716269,4600550,7516650.875846277,4649745,4622810,7333030.3400000008,4806929,4643750,7816401.3026422542,4990654,4664780,8181734.8699999992,5150983,4664780,8293230.8600000022,5148277,4685330,8631463.3900000025,5431578,4725110,9588488.8899999987,5667319,4765430,9658208.7799999993,5916543,4833550,9473831.2400000002,6338906,4929700]
[112,"Granville                    ",23.79,2157167,1168273,1194161,2358065.48,1185776,1307669,2400533.1579714394,1206660,1331035,2341550.79,1228016,1203272,141413,2240177.4551578951,1250541,1317791,0,2244631.2231000001,1266515,1240805,6661,76800,0,0,0,0,0,0,0,0,0,0,0,0,0,0,0,0,0,0,0,0,0,0,0,0,0,0,0,0,0,0,0,0,0,0,0,0,0,0,0,0,0,0,465971.59,326452,139520]
[113,"Great Barrington             ",17.5,0,0,0,0,0,0,0,0,0,0,0,0,0,0,0,0,0,0,0,0,0,0,0,0,0,0,0,0,0,0,0,0,0,0,0,0,0,0,0,0,0,0,0,0,0,0,0,0,0,0,0,0,0,0,0,0,0,0,0,0,0,0,0,0,0,0,0]
[114,"Greenfield                   ",53.35,17313166,9111371,8732668,17803363.970000003,9283824,9054173,18475981.23195523,9232071,9486783,18457057.809999999,9067762,8710983,1023745,18757500.666304301,8914962,9540033,302506,18168641.884320002,8874442,9267538,49752,572724,19123336.359999999,9165933,9957403,19845137.929999996,9446211,10481761.769687749,21688417.030000001,9832399,11932187.357180249,21246903.91,9761739,11983812.357180249,21378359.310000002,9879409,12035012.357180249,20360058.930000003,9575385,12140007.357180249,20807903.147397026,9604767,12197397.357180249,22188290.889999997,9949462,12256917.357180249,23758804.479078908,10147449,13611355,24159291.550000001,10256971,13902321,23851070.390000001,10181012,13958091,26326536.470000003,10621969,15704567,27294290.690000001,11091044,16203247,27960950.600000009,11465787,16495164,28110844.75,11981726,16748064]
[115,"Groton                       ",17.5,0,0,0,0,0,0,0,0,0,0,0,0,0,0,0,0,0,12362.3995134,9161,3201,0,0,12532.104200000002,9543,3201,13020.859919999999,10245,3201,0,0,0,0,0,0,0,0,0,0,0,0,0,0,0,0,0,0,0,0,0,0,0,0,0,0,0,0,0,0,0,0,0,0,0,0,0,0,0]
[116,"Groveland                    ",18.87,0,0,0,0,0,0,0,0,0,0,0,0,0,0,0,0,0,0,0,0,0,0,0,0,0,0,0,0,0,0,{"$f":"0+42110","v":42110},65024.500000000007,41295,42110,79199.760000000009,51428,42110,118538.28,77239,42110,134168.3334358955,90748,43420,206187.50999999995,141367,65200,185257.16194463047,131944,65200,117262.39999999999,84803,65200,134575.02000000002,100582,65470,125581.68000000001,92564,65470,148416.84,106462,65470,168603.30000000002,122594,65470,138834.32,101705,65470]
[117,"Hadley                       ",17.5,4520668,5166154,625061.19999999995,4764269,5245116,667691.19999999995,5019642.6810837509,5189433,730915.2,5205800.76,5053095,707232.2,83116,5406525.5920688985,4995543,774541,0,5658505.69092,4937924,729292,3915,57584,5783756.2999999998,5102966,733207,6074126.3499999996,5356386,815648.27781250002,6128452.2700000014,5607720,879855.99517187499,5981187.5199999996,5351851,938253.99517187499,5986156.3800000008,5261618,953528.99517187499,5790379.5499999998,4888340,985813.99517187499,5654945.3746561082,4724445,1002763.995171875,5888757.8200000003,4858225,1030533,6230653.9028760213,4968021,1279420,5921818.3199999994,4885500,1279420,5857373.9399999985,4832334,1294360,6025430.8700000001,4970980,1322740,6277106.5899999999,5178613,1350100,6210751.3199999984,5123870,1396796,6594207.0499999998,5374427,1462046]
[118,"Halifax                      ",37.729999999999997,4947085,2594870,2352215,5102050.8600000003,2752876,2423716,5360750.4569571586,2911501,2541088,5579019.2300000014,2979985,2365166,277963,5830872.9364822973,3036721,2590266,203886,5481069.2047199989,3009340,2630918,14124,166110,5309028.63,2928688,2645042,5256094.54,2947000,2669842,5316163.6799999988,2900902,2684967,5366429.71,2903829,2699817,5540979.4299999988,2982219,2714617,5481688.6299299989,2891843,2746462,6142874.2903718846,3223996,{"$f":"2923648-4770","v":2918878},6353417.4649799988,3373628,2989257,6718564.0537173413,3664674,3063392,6764091.2584799994,3795461,3063392,6881455.87414,3833817,3081842,7179616.2489300007,4006503,3173113,7849455.0234599989,4340378,3509077,7511760.5564400004,4050476,3567733,7476145.6879400015,4173331,3649183]
[119,"Hamilton                     ",17.5,0,0,0,0,0,0,0,0,0,0,0,0,0,0,0,0,0,0,0,0,0,0,0,0,0,0,0,0,0,0,{"$f":"0+16844","v":16844},39912.938879999994,35608,16844,0,0,0,0,0,0,0,0,0,0,0,0,0,0,0,0,0,0,0,0,0,0,0,0,0,0,0,0,0,0,0,0,0]
[120,"Hampden                      ",17.5,0,0,0,0,0,0,0,0,0,0,0,0,0,0,0,0,0,0,0,0,0,0,0,0,0,0,0,0,0,0,0,0,0,0,0,0,0,0,0,0,0,0,0,0,0,0,0,0,0,0,0,0,0,0,0,0,0,0,0,0,0,0,0,0,0,0,0]
[121,"Hancock                      ",17.5,853878,675229,178649,880073.22,741790,184299,762441.64943651087,762443,188899,856176.18,765743,183712,21591,853326.37133779912,779131,201197,0,790173.65255999996,768393,189443,1017,13112,776252.26,758287,190460,853060.55999999982,775699,194340,908416.76,820354,196865,806235.6399999999,725612,199115,700017.85,630016,200990,719680.2,604602,205060,672606.53356161958,562854,207160,715919.97,571860,209260,800339.26922275487,609145,211450,883632.04,673593,211450,936904.25999999989,689423,247481,1024022.3699999999,729685,294337,1216494.7500000002,780690,435805,1270682.74,820427,450256,1251017.0000000002,855049,463156]
[122,"Hanover                      ",17.5,18966432,14270699,4695733,20142433.842250001,14796651,5345783,21096225.834211223,15271206,5825020,21748945.017949998,15848159,5373174,631474,22213294.657841306,15909369,5884555,419371,21774380.339327995,16297523,5935651,31865,401910,22331596.871920001,16434712,5967516,23401737.684919998,16986703,6460513.713344737,23673254.269769996,17673274,6526113.713344737,23675035.831840001,17821949,6590763.713344737,24041587.167499997,18466336,6654913.713344737,23962139.080309998,18266304,6795548.713344737,24249684.484178498,19005451,6871448.713344737,25234803.157349996,19689734,6947439,26655202.675033823,20506773,7023879,27226298.169830002,21124278,7023879,27986422.446649998,21593458,7100319,29637166.854109999,22439160,7309583,30800181.273539998,23372172,7458443,31861566.581689995,24358612,7718131,32549060.685959999,25651759,8088931]
[123,"Hanson                       ",29.9,29389,7918,28480,32548.98,8976,30063,22710.54,6659,22710.54,11943.49,3468,11943.49,0,36919.725014354073,12160,11705,13055,48143.262719999999,16555,31588,0,0,36750.21,13241,31588,63486.049999999996,23471,40015,64470.1,24990,40015,91034.3,38572,52462,105599.68000000001,47255,58345,105367.36000000002,49870,58345,120751.50009230593,61304,59448,83022.959999999992,44311,59448,43115.391766060078,23914,43148,14657.8,8507,14657.8,14952.78,9162,14688,47093.130000000005,28410,18683,82453.8,47057,35397,101161.98000000001,61192,40519,86771.45,54413,40519]
[124,"Hardwick                     ",46.66,0,0,0,10849.66,2254,8596,0,0,0,0,0,0,0,0,0,0,0,0,0,0,0,0,0,0,0,0,0,0,0,0,0,13004.9,5113,7892,13199.960000000001,4892,8308,13170.920000000002,4778,8393,0,0,0,13837.16,5264,8588,14371.797255353356,5991,8588,29315.599999999999,11840,17476,44858.340000000004,16753,28114,31395.420000000002,11967,28114,0,0,0,0,0,0,0,0,0]
[125,"Harvard                      ",17.5,8751097,7733519,1207690,9436456.4439200014,8041734,1394722,9734129.4134850893,8255080,1487347,10286417.543199999,8498460,1599929,188029,10374344.582891179,8558834,1752199,63312,9724196.0291673597,8552465,1709449,9177,125810,9832645.2214000002,8627525,1718626,10074274.181770001,8807063,1763706,9949641.3842999991,8901871,1790806,9617698.6389000006,8555966,1816706,9693663.2637600005,8402066,1842181,9175786.1101999991,7758081,1896961,9274857.1529690847,7706220,1926361,9216263.0621200018,7603417,1954741,9480813.6788152698,7821672,1982671,9458347.1900000013,7803137,1982671,9395298.2599999998,7751121,2008951,9947885.4299999997,8018632,2061331,10576374.949999999,8379508,2196867,10978851.09,8697832,2288491,11305864.01,9082614,2418691]
[126,"Harwich                      ",17.5,11161455,11250796,1441301.6,11707485.16,11494628,1562803.6,12038269.950589731,11546692,1725971.6,12378598.029999999,11167921,1674475.6,196790,12611946.734974166,11483505,1833840,0,12195817.037459999,11202192,1726707,9270,133013,0,0,0,0,0,0,0,0,0,0,0,0,0,0,0,0,0,0,0,0,0,0,0,0,0,0,0,0,0,0,0,0,0,0,0,0,0,0,0,0,0,0,0,0,0]
[127,"Hatfield                     ",17.5,3541366,2921690,619676,3642953.19,2938353,707251,3688012.9120416823,2957523,790818,3648857.07,2998072,726623,85395,3508714.1457454548,3029964,795778,0,3258631.5302400002,3006599,749289,4022,51717,3188704,2995877,753311,3317758.7599999988,3073443,767671,3450986.7199999997,3186043,776846,3505759.1100000003,3095381,786221,3617908.4000000004,3106474,795746,3350319.81,2835513,814996,3456804.2799801859,2864170,825616,3557025.64,2934546,835846,3779440.8478222261,3053395,846256,3943217.63,3167592,846256,3877179.38,3198673,856276,4125023.4699999997,3287596,876136,4215602.3500000006,3472030,895156,4167872.81,3438495,927396,3981919.64,3285084,969096]
[128,"Haverhill                    ",55.85,59731907,29319627,31984671,61978683.149999999,32052321,33057731,65881401.521652639,33678683,34988016,68099107.280000016,34744794,33819377,2258641,71235841.205159843,34829065,35356458,1050318,70567491.926159993,35268131,34622057,185867,1787452,71678180.060000002,35711436,35966744,77249638.609999985,36816955,40527259.019415751,81685330.230000004,37879800,{"$f":"44126723.07174+387413","v":44514136.071740001},83661746.030000001,38734196,45091781.071740001,85387258.689999998,38924761,46462498,87808524.019999996,38182889,49625635,91533733.132029355,39059148,52474585,95275049.070000008,40630210,54644839,100463268.08911894,42109344,58353924,107173075.29000002,43835110,63349956,109839437.75000001,44857002,64982436,121331843.41000001,47425533,73906310,132551888.25,49918077,82633811,140921702.34,52953650,87968052,149713124.65000004,55493490,94219635]
[129,"Hawley                       ",17.5,48982,21657,27325,32548.98,22929,27475,11355.27,7744,11355.27,11943.49,6852,11668.27,0,49226.300019138762,29178,11435,8613,60179.078399999999,31929,28250,0,0,49000.28,31936,28250,76183.260000000009,40981,35202,38682.05999999999,25218,35202,39014.69999999999,24838,35202,65999.8,34098,35202,39512.76,25830,35202,26833.666687179095,20424,26833.666687179095,13837.16,9530,13837.16,0,0,0,14657.8,8781,5877,59811.12,46542,13300,62790.840000000004,51375,13300,65963.040000000008,54419,13300,67441.320000000007,55639,13300,34708.58,28635,13300]
[130,"Heath                        ",57.34,0,0,0,0,0,0,0,0,0,0,0,0,0,0,0,0,0,0,0,0,0,0,0,0,0,0,0,0,0,0,0,0,0,0,0,0,0,0,0,0,0,0,0,0,0,0,0,0,0,0,0,0,0,0,0,0,0,0,0,0,0,0,0,0,0,0,0]
[131,"Hingham                      ",17.5,25403781,22762272,3340480.4,27560964.819960002,23564072,3996893,29139913.603763632,24642808,4497106,31044967.342000008,26194370,4340488,510109,32711413.88404119,26992341,4753585,965488,32995448.474696219,27678867,5384965,28909,403099,34007006.427199997,28453971,5553035,35828380.478589997,29594328,6234052,37036862.488399997,30669232,6396085.2338675,37371415.691150002,31288570,6499060.2338675,39001020.533249997,32512856,6603785.2338675,40329887.992679983,33379675,6950213,41440808.001251943,34293632,7147176,42815000.845129997,35322376,7492625,43961797.366181195,36268483,7695110,45460703.839160003,37505081,7955623,43233894.313900001,35667963,8074033,45163141.519900002,37259592,8306773,47057670.467040002,38822578,8535193,45884665.988949992,37854849,8910217,46634192.56592001,38473209,9439417]
[132,"Hinsdale                     ",17.5,88168,40638,75997,97646.94,51939,80464,158055.47,85670,107527,166242.96,90274,111270,0,123065.7500478469,72206,109045,0,179563.89048,109118,104683,0,0,231760.61,138940,104683,176734.04000000004,114460,104683,218155.53,163644,104683,259046.25,194505,104683,210131.86,161349,104683,222840.48,184676,104683,226884.18269824251,188237,104683,124534.43999999997,102741,104683,214000.75645533722,176551,104683,117262.39999999999,96741,104683,119622.24,96740,104923,109883.97,85327,104923,131926.08000000002,99112,104923,168603.30000000002,122029,104923,173542.9,123025,104923]
[133,"Holbrook                     ",47.67,10315927,6313474,4191804,11106581.581619998,6669358,4533288,11701251.39486149,6808999,4892252,11345667.9342,6751013,4434897,521205,11124134.858732402,6628581,4856980,0,10564226.240915999,6698225,4573236,24551,288168,11116936.478390001,6800968,4597787,11381036.588100001,6914226,4644027,11961763.44396,7174489,4881727.8637754824,12460674.085960001,7150740,5309934,12443297.537840001,7047648,5395650,12499752.025560001,6931227,5617684,12628237.26938205,7152474,5652634,13757037.007840002,7518971,6238066,15200054.581420457,7861744,7338311,16096140.681580001,8273118,7826400,17262299.148400001,8486011,8776288,18684757.824399997,8938395,9746363,20493828.679550003,9611922,10881907,21278519.472400002,10008705,11269814,23413602.22656,10616613,12796989]
[134,"Holden                       ",33.93,0,41626,0,0,10840,0,11355.27,8053,4441,0,0,0,0,0,0,0,0,0,0,0,0,0,0,0,0,0,0,0,0,0,0,0,0,0,13199.960000000001,7925,5275,13170.920000000002,7908,5318,13416.833343589547,7918,5499,13837.16,8242,5619,0,0,0,0,0,0,14952.78,8857,6363,15697.710000000001,8905,6793,16490.760000000002,9127,7364,33720.660000000003,19200,14521,17354.29,10322,14521]
[135,"Holland                      ",29.71,1359210,887960,664264.4,1587801.09,867451,792435,1588437.3443519876,838841,802385,1766981.09,954681,795938,93541,1972860.5563712921,1032537,871689,68635,1871122.0890599999,1073712,885390,4753,55456,1879808.57,1112638,890143,1763923.64,1024852,897623,1787430.03,1049519,902423,1736861.59,1013330,907048,1599126.75,961437,911123,1464807.0700000003,854286,919098,1612152.0989724461,930261,923658,1748738.7699999998,1013627,928518,1957811.3888900897,1087826,933678,1899540.24,1117998,933678,1813558.83,1163643,938238,2386918.7400000002,1401973,984946,2529520.8899999997,1516165,1013356,2372741.1,1515869,1029684,2321784.9899999998,1507847,1052634]
[136,"Holliston                    ",17.5,20308343,15968390,5943728.7999999998,21289179.32736,16431845,6258871.7999999998,21897651.375525266,16494287,6476815.7999999998,23131552.826769996,16702590,6156408.7999999998,723523,23686855.094075777,16771102,6742333,173420,22575963.196708795,16700563,6511735,34958,435435,23040981.368379999,16787957,6546693,23796222.088170003,17016065,7025699.6612902638,24224596.215680003,17524292,7091024.6612902638,24025115.2018,17695327,7155224.6612902638,24361946.347450003,17968840,7219349.6612902638,24902897.913260002,17988443,7363119.6612902638,25340457.438654266,18649605,7441479.6612902638,26788678.931649998,19393070,7521070,27996289.160540704,20267619,7936216,28673820.518239997,21202129,7936216,28327730.336479999,21443054,8014336,31404798.240489997,22733659,8671139,32828254.537319999,23937028,8912782,33400106.240699988,25423217,9188590,33988555.889320008,26548599,9575140]
[137,"Holyoke                      ",81.3,67827362,6811798,61015564,72388532.229999989,7289305,65099227,73576060.433260515,7637734,66054475,75721641.38000001,7973794,60651347,7127961,76657779.796516746,8297090,66423722,1936968,73138531.001340002,8592467,64367063,345551,3815151,76399996.650000006,8863130,67536867,78653933.859999999,9198156,69455778,78916203.399999991,9463063,69621603,78698902.669999987,9692069,69785403,80596955.480000004,10055521,70541434,80344375.670000002,10380314,70897779,81981180.868534818,10580654,71400527,82326983.739999995,10886435,71590427,88111145.825201109,11074770,77036376,90161028.659999996,11207668,78953361,94346220.059999973,11493463,82853878,101613348.83999999,11842864,89770485,109412142.28999999,12452771,96959371,114374878.07000002,13183748,101191130,120721754.33999999,13957634,106764120]
[138,"Hopedale                     ",38.65,7472867,2486366,5057500,8292536.7375000007,2670563,5621974,8815309.2047224138,2839812,5975497,9235166.8740800004,2966673,5609272,659222,9728111.1448041964,4701926,6143124,0,9332695.0668703802,4752702,5784243,31052,355029,9580765.2985399999,4942015,5815295,10187944.10832,5093347,5859695,10400760.003870001,5244027,5887320,10475107.010799998,5458850,5914920,10396781.262500001,5558390,5941845,10041924.281359999,5468971,5999100,9875547.1322113276,5451538,6029670,10063593.190549999,5625392,6059280,9935233.2153440155,5786456,6087390,9927021.4951400012,5864081,6087390,10312156.29149,6099344,6114810,11008174.74,6377665,6168750,11489500.85,6489561,6221250,11657637.4,6842443,6311210,12503191.355299996,7211367,6443660]
[139,"Hopkinton                    ",17.5,24098111,19256994,4841117,25867183.04544,20502679,5364504,26814198.336775228,21690292,5538660,28242723.701650001,22606527,5179893,608759,29889258.479898021,24108745,5672879,107634,29092218.3157188,24749829,5442815,29220,392928,29701471.955480002,25246689,5472035,31278850.639399998,26008119,5705503.4027372804,32117617.453449998,26860574,5789203.4027372804,32526014.474999998,27549192,5873878.4027372804,33687637.267440006,28536777,5961103.4027372804,33817637.171700001,28266492,6152833.4027372804,34051687.916279338,28376314,6256963.4027372804,37266306.274479993,30427150,6839156,39305559.544661731,32314609,7021215,41585309.188900001,34279876,7305433,43582814.802780002,35955822,8050421,46722628.012559995,37984044,8738584,50873294.826880008,41073636,9799659,52668757.257279992,43451724,10232819,55425077.173420005,45725689,10864019]
[140,"Hubbardston                  ",37.54,9796,1348,8448,0,362,0,11355.27,3159,8196,11943.49,3356,8587,0,12306.57500478469,4308,8415,0,0,0,0,0,0,24500.14,9683,14817,0,0,0,0,0,0,0,0,0,0,0,0,0,0,0,0,0,0,0,0,0,0,0,0,0,0,0,0,0,0,0,0,0,0,0,0,0,0,0,0,0,0]
[141,"Hudson                       ",30.44,19050737,14410446,5370695,20737185.89144,14946735,5923344,22500615.0596264,15356761,7143854,23936352.536320001,15521036,7530326,884991,25532071.962211221,16165733,8247011,1119328,25192997.510822278,16204219,8819158,47345,569311,25384240.533760004,16175387,9208854,26736601.318939991,16738223,10247974.530620005,26971069.026599996,17041341,10495017.737085393,27792860.269480001,16943537,10859646.737085393,28189612.605080001,16846912,11342701,27512651.906879999,16516841,11490541,28097682.163007021,16800420,11571901,29167889.792099994,17227184,11940706,29439397.279731382,17734729,12020446,30603552.288509995,18666759,12020446,30183664.778300002,18931449,12095806,31921911.970039997,20140158,12241726,34207457.530000001,21209511,12997947,35386035.233459994,22432839,13248275,37349315.827400006,23481576,13867740]
[142,"Hull                         ",17.5,11353848,8981808,3687093.2,11214367.350959999,9384311,3756143.2,11280495.442531671,9618212,3823493.2,11671069.35836,9831732,3482560.2,409283,11794688.48922978,9783137,3814006,0,11155892.276219161,9798290,3591192,19279,234235,10984440.041849999,9799215,3610471,10867343.796599999,9900725,3654871,10592145.907740001,9917428,3681846,10591221.700679999,9492718,3708196,10627740.812809998,9322055,3734246,10359200.878399998,8708283,3789356,10207764.981851343,8510548,3818486,10202468.317680001,8417036,3846626,10718331.726392865,8741934,3874466,10567859.950760001,8718484,3874466,10312532.869039997,8507840,3899576,10651125.811000003,8780091,3948836,10986735.571280001,9052274,3996296,10813118.211879998,8920823,4075024,10469817.630829999,8637600,4180024]
[143,"Huntington                   ",54.57,127431,66133,89877,216115.81,74385,144631,248897.63,92185,163818,345395.31,131667,218880,0,380508.56721148331,174361,214502,0,360101.12568,174095,205922,0,0,403261.59,188394,214868,493137.38999999996,235451,257686,474993.12,238640,257686,466072.9,251663,257686,328931.5,187234,257686,328207.83999999997,191008,257686,361052.51613413799,191170,257686,372233.43000000005,195413,257686,372090.52626422414,177377,257686,423468.62,191404,257686,431874.06000000006,198796,258496,437559.81000000006,185653,258496,572755.80000000005,217988,354768,686499.45000000007,265317,421182,741045.99,304598,436448]
[144,"Ipswich                      ",17.5,14041498,12710447,2066540,14992137.828520002,13156596,2232902,15825233.977843994,13644898,2393856,16400242.809939997,14112689,2282723,268274,16957084.776921969,14253296,2499977,203812,16906352.002642978,14393705,2545833,13667,193189,17102812.789599996,14677975,2559500,17797548.09409,15205869,2722401.9791164375,18113898.173040003,15501270,{"$f":"2834284.52940783+109486","v":2943770.52940783},18277939.337160002,15616820,3032974.52940783,18118176.856480002,15505476,3079599.52940783,17848954.323200006,14939873,3178709.52940783,17585142.68474175,14661641,3231029.52940783,17790224.73598,14676936,3282240,18376694.040241551,15160772,3332340,18495911.746960003,15259127,3332340,18360232.905999996,15147192,3379890,19884295.035099998,15849509,4034786,20567036.155019999,16419694,4147342,21036885.203640003,17194551,4308646,21484399.094409999,17724629,4538746]
[145,"Kingston                     ",28.15,7998550,4971749,3291409,8273057.0684000002,5048628,3382518,8552328.663848212,5164589,3471243,9261013.0245499983,5370868,3481041,409104,10163781.091275636,6164282,3812342,187157,9993589.1704833005,6118107,3801121,20406,208222,10250129.685999997,6235286,4014844,10455362.598579997,6361939,4130764.5356259407,10405973.177240001,6503570,4159864.5356259407,10520096.445809999,6787210,4188864.5356259407,10093730.667000001,6547555,4216164.5356259402,10429935.11328,6471707,4276884.5356259402,10083448.835693419,6275524,4308264.5356259402,10631780.77052,6659009,4340125,11332153.547165975,7314667,4372585,11789935.42196,7692593,4372585,11891965.326339999,7846238,4404865,13087068.680339999,8280400,4806669,14371240.407579998,8940323,5430917,14866128.19836,9396563,5550621,16585038.479599999,10539421,6045617]
[146,"Lakeville                    ",17.5,4799043,2658720,2146114,5190670.9800000004,2889584,2301087,5317162.33,3023826,2348711,5543481.6000000006,3105681,2181431,256370,5602857.9883483276,3253249,2389045,0,120358,71289.72480853874,48927,263,3142,122500.7,75884,49190,189431.25,117945,71486,192367.49000000002,118421,73946,130049.00000000001,82782,73946,196931.90000000002,131323,73946,105367.36000000002,69257,73946,107334.66674871638,71015,73946,192350.35000000003,123826,73946,242744.35096604392,156739,86148,203601.62000000002,133221,86148,134575.02000000002,93268,86418,202094.16,132585,86418,212169.47999999998,138249,86418,267378.24,183306,86418,379200.13999999996,277801,101399]
[147,"Lancaster                    ",23.39,0,0,0,0,0,0,0,0,0,0,0,0,0,0,0,0,0,0,0,0,0,0,0,0,0,0,0,0,12894.02,9530,3364,13004.9,9489,3597,26399.920000000002,18957,7443,26341.840000000004,17904,8468,13416.833343589547,9288,8468,13837.16,9663,8468,0,0,0,0,0,0,14952.78,10266,4694,31395.420000000002,21168,10227,32981.520000000004,21289,11693,33720.660000000003,22101,11693,17354.29,11992,11693]
[148,"Lanesborough                 ",31.49,1916314,1602997,511327.6,2000612.16,1636328,598919.6,2254707.4840702428,1643144,740945.6,2340403.35,1550747,771260.6,90641,2211537.9160803831,1508600,844664,0,2101664.4740400002,1386013,795318,4270,51076,2085248.98,1418502,799588,2003814,1493112,737198,1859232.2499999993,1282510,742373,1841661.51,1232284,747323,1924866.88,1307443,752323,1846691.1099999999,1231226,762663,1897447.2242952588,1143811,{"$f":"768543-768543","v":0},0,0,0,0,0,0,29315.599999999999,18020,11311,14952.78,8521,11341,0,0,0,0,0,0,0,0,0,0,0,0]
[149,"Lawrence                     ",84.67,120547909,3240618,117307291,127369323.28,4587152,123087075,133779067.90829407,5310337,128507796,141941371.93000001,5886137,121747087,14308148,146793573.0315024,5813067,133334130,7646376,144327894.38892001,6144533,135531978,727596,5051357,152346056.93000001,6462722,145883335,158948561.05000004,6790964,152157597,166158253.06999999,7071945,{"$f":"159086308+320037","v":159406345},177176380.49999997,8004505,169171876,186136094.67000002,8507699,177628396,185788081.69999999,8809108,178458236,189722671.68810713,9390191,{"$f":"180602480-269999","v":180332481},196866060.98999995,10121526,188612758.94704434,210870986.66280565,10875618,199995369,218786376.44,11530073,207256303,234592260.91,12048747,222543514,253714474.64999995,13007684,240706791,279873222.13999999,13728391,266144831,301454148.42000002,15203337,286250811,333930425.07999992,16318715,317611710]
[150,"Lee                          ",17.5,5823545,5026681,1520616,6350292.3199999994,5174125,1676639,6681418.6652666908,5156036,1878003,7031845.7699999986,5144595,1850212,217444,6993248.0376650728,5210177,2026303,0,6834255.432719999,5256806,1907927,10242,126584,6866001.4999999991,5431263,1918169,7058725.3000000007,5598309,1947049,6795658.4500000011,5748371,1964149,6714728.879999999,5764466,1980674,6274000.4799999986,5563066,1995699,6504171.9400000004,5425885,2029359,6757761.9564577993,5587191,2047989,7003346.3699999992,5777761,2066619,7374237.8470487166,5858890,2085069,7515008.5899999989,6036549,2085069,7363633.6299999999,6074998,2102439,7917418.4799999995,6383000,2136039,8739704.6600000001,6760874,2170239,8566370.1999999974,7067255,2227335,8801759.2699999996,7261451,2307885]
[151,"Leicester                    ",41.97,13764844,5533064,8584389,14951710.08,6005588,9273246,15396418.602011576,6321482,9525396,16077270.590000004,6607213,8869110,1042329,16403919.290181819,7103381,9713210,0,16141548.42372,7199987,9145765,49099,563921,16759773.840000002,7378547,9381227,16738311.800000001,7574816,9450987,16586640.989999998,7776403,9493437,16135346.720000001,7906856,9534162,16315414.450000001,8170911,9574112,15935660.719999999,7913187,9661287,16281458.222080152,7799077,9708447,17044107.479999997,8057611,9755847,17701915.196191557,8369468,9802497,18032789.120000001,8592877,9802497,17918102.010000005,8874997,9846237,19402050.66,9299222,10102829,20759208.559999999,9660962,11098247,21380842.219999999,10610635,11244367,21685353.440000005,11866934,11448367]
[152,"Lenox                        ",17.5,5379558,5779799,1111972.8,5557057.9500000002,5755763,1149222.8,5681111.1449849457,5626258,1185272.8,5690851.3399999999,5524370,1091138.8,128234,5746214.0793875596,5564115,1194985,0,5692629.6463799989,5437790,1125174,6041,80270,5550215.3299999982,5659278,1131215,5797767.8000000007,5640423,1156055,5519096.620000001,5519097,1170680,5600729.1799999997,5040656,1185105,5259228.0599999996,4733305,1198130,5241794.76,4408169,1226895,5339115.7336442946,4429745,1242525,5362646.540000001,4424183,1257705,5511981.8499129619,4547385,1272525,5736170.5799999991,4728371,1272525,5879254.1000000006,4784639,1287405,6111653.4900000002,5042114,1315905,6717817.4100000001,5422289,1345245,6823610.0699999994,5629478,1395373,6520538.4500000002,5379444,1461523]
[153,"Leominster                   ",59.67,50087399,17364613,32722786,52403637.229999997,18470739,33951319,55214981.567387104,19608537,35606445,61199688.75,20722302,36220613,4256774,63052401.664000005,21186482,39667839,2198081,61830792.262439989,21870806,39420116,211625,2394129,64079292.579999998,22623162,41456131,66413236.799999997,23577860,42835377,67647235.61999999,24414874,43232362,68009798.659999996,25511102,43390737,68789894.089999989,26480524,43547587,69488787.129999995,27478840,43889797,69633698.04886961,27880085,44073487,72123478.449999988,28957291,44256877,77172702.956447005,30127166,47045537,79655609.189999998,30886014,48769595,81402160.149999991,32019531,49388806,91159936.339999989,33607699,57552237,99599000.579999998,35204065,64394936,103734761.66000001,36964269,66770493,111313888.00000001,38590697,72723191]
[154,"Leverett                     ",17.5,803815,973857,223181.2,852583.6,827268,239065.2,947175.22926746425,853066,261625.2,1053847.72,849640,257545.2,30268,1038637.2936880384,875032,282057,0,1122116.9748600002,937904,265580,1426,18126,1105463.82,928988,267006,1073636.7000000002,916296,271766,1092855.1200000001,934972,274716,934315.57,840884,277216,982131.53,843668,279816,997887.19000000006,837493,285371,1195068.007035923,990119,289061,1040580.59,858479,292151,1166005.2401467538,885170,295511,1203602.1499999999,992972,295511,1142444.52,942517,298661,1361700.11,970792,390908,1255147.3,954740,396968,1407132.92,1083930,407888,1304428.1500000001,1076153,422288]
[155,"Lexington                    ",17.5,44428216,48013339,5197253.5999999996,48149485.159400001,48176671,5848475.5999999996,50405171.392957248,48167038,6740204.5999999996,53421979.384980008,48294113,6801697.5999999996,799359,55137317.164318644,49717650,7449035,0,53464106.958999999,49818987,7013863,37654,548918,56211262.726240009,51205216,7051517,59157960.380999997,52989430,7876798.51666875,62856513.067499988,55493228,{"$f":"8657571.33420469+8422","v":8665993.3342046905},64514813.130400017,56156903,9584428.3342046905,67063773.197500005,57095237,9968536,69116723.419239998,57485649,11631074,74054892.120399058,60055998,13998894,76234730.040079996,62875494,14217984,80260931.779566333,66088777,14438034,81400953.564800009,67155786,14438034,80618068.692389995,66509907,14647494,84119411.739810005,69398514,15058494,90646899.40639998,73037768,17609131,91458917.922800004,75453607,18321635,94617837.13944,78059716,19344035]
[156,"Leyden                       ",17.5,0,0,0,0,0,0,0,0,0,0,0,0,0,0,0,0,0,0,0,0,0,0,0,0,0,0,0,0,0,0,0,0,0,0,0,0,0,0,0,0,0,0,0,0,0,0,0,0,0,0,0,0,0,0,0,0,0,0,0,0,0,0,0,0,0,0,0]
[157,"Lincoln                      ",17.5,5018892,5683798,493536.8,5151111.5048699994,5403675,575118.80000000005,5228858.1013507508,5190002,677097.8,5555855.546620002,5184708,693055.8,81450,5820338.6126000388,5207737,759016,0,5740716.07941732,5163138,714674,3837,57830,5352912.2345500002,5178637,718511,5424170.2317799991,5128408,743071,5868235.8212800017,5381474,759321,5682114.4160699993,5004725,841588,5601678.0140399989,4808245,857038,6043300.8275599992,5030628,{"$f":"1012673+19818","v":1032491},6203608.5789318336,5157876,1052081,6185737.5497599998,5103233,1082505,6701030.6023767004,5528351,1174169,6274212.1128000012,5176225,1174169,6357796.1330000004,5245182,1191509,7110979.0267200004,5866558,1244421,7355301.9672800004,6068124,1287178,7515362.2277600011,6200174,1348018,8265928.5509799998,6819391,1446538]
[158,"Littleton                    ",17.5,11139291,10499232,1464107.2,12115413.634199999,10452829,1818491.2,12477893.258578453,10490580,2325579.2000000002,13440913.22665,10423513,2700077,317323,14231659.398570258,10530521,2957052,744086,13640184.029312642,10374233,3484917,18709,237937,13593606.621599995,10469428,3503626,14276865.484880002,10931785,3693487.508446292,14181867.184600001,11325231,3731912.508446292,14701467.741599999,11519536,3770462.508446292,15178691.897499997,11837909,3809412.508446292,14722352.576169997,11622810,3895817.508446292,15312226.682937402,12240112,3943487.508446292,15912198.077959999,12532062,3991548,16632291.76270235,13448982,4039908,16791308.800700001,13852830,4039908,16227167.91492,13387414,4085358,18465845.970000003,14142192,4323654,20056951.579999998,15207996,4848956,20185599.029999997,15942774,5019100,20480046,16667629,5259250]
[159,"Longmeadow                   ",17.5,22710932,20812705,3547400,23361827.510000005,21048279,3906490,23686877.90819297,21094587,4239607,24733177.429999996,21260686,3963684,465826,25548586.481975123,21378942,4340920,0,24685139.268599994,21321759,4087324,21942,306429,24642877.109999999,21481517,4109266,25335232.990000002,21911262,4224986,24962248.150000006,22263076,4294961,24849640.570000004,21747129,4363911,25612986.450000003,21804274,4434186,25829656.509999998,21477556,4587691,26663231.188728545,22022317,4672411,27927235.790000003,22667571,5259665,29113308.339486767,23465469,5669282,29237892.870000001,24121262,5669282,29129978.330000002,24032232,5750432,31528951.400000002,25041585,6487366,33192700.990000002,26093332,7099369,34218165.739999995,27327546,7382561,35588989.330000006,28680259,7791911]
[160,"Lowell                       ",74.63,134573109,29664794,108399118,139116837.98003998,31162657,111660607,147723629.79585069,32819557,117869547,150534733.39768001,34088424,107274461,12607274,154968734.65788475,33789587,117484100,3695048,151465731.89643282,34730786,114495103,614660,6425960,157898864.58336002,36240147,121658718,163641193.22828004,37162840,126478353,168760616.72439998,38859325,{"$f":"129901292+25266","v":129926558},176078571.80969998,40949807,135128765,177537953.73000002,43089941,135511265,183238361.64999998,44649981,138588381,189897176.96033403,45829544,144067633,198336328.19000003,47400845,150935483,212748263.5454053,49724317,163023947,218744159.73000002,51808768,166954483,232660515.38,54112190,178553488,257876444.75999999,56906426,200970019,288791629.52999997,60097975,229138873,308040584.44,64989538,243051046,330445792.43000001,68956678,261489114]
[161,"Ludlow                       ",37.06,22679461,13063961,9615500,24089447.75,13513577,10575871,25130130.610954065,13594068,11536063,26252078.679999992,13563370,11354310,1334399,27121644.13746221,13598080,12434935,1088629,26588449.146960001,13600623,12738623,68387,790929,26899330.039999999,13801952,13097378,27321398.960000005,14243896,13211578,27755975.950000003,14764702,13282703,27236633.910000004,14951306,13351728,27187438.540000007,15433886,13418728,27123791.77,15449969,13564533,27107617.460779078,15438923,13642593,27633670.819999997,15760434,13719693,29028174.444039177,16193284,13795983,29294399.16,16443714,13795983,28842661.469999999,16677575,13867413,30691074.190000001,17421395,14006073,32627792.160000004,18168773,14459019,33328396.509999994,18877355,14690003,34386677.929999992,19968467,15020153]
[162,"Lunenburg                    ",31.3,11716392,8601526,3708907,12276374.15,8871625,3921700,13121501.42336395,8885020,4314259,13675383.389999999,9084809,4134848,485942,13799998.378687082,9022501,4528374,249123,13414483.32636,8836567,4498396,24149,295077,13457816.690000003,8981951,4522545,14298145.129999995,9188886,5219936.6884947494,14546535.939999999,9433283,5354695.9110325621,14945462.859999999,9374156,5605871.9110325621,15341249.750000002,9506767,5834483,15538424.619999999,9187168,6351257,16554528.397230644,9282023,7272505,17203377.800000001,9678671,7538072,17948505.284198701,10176765,7771740,18301715.41,10527777,7773938,18408485.399999999,10908378,7823618,20056630.419999998,11334402,8722228,20659694.909999996,11910986,8819128,21553250.210000001,12595979,8988960,22073945.75,13334631,9229410]
[163,"Lynn                         ",76.599999999999994,129974090,29799249,100174841,135144695.81999999,31653289,103751349,144686831.68873173,33225614,111461218,152073058.32999998,34465340,105239589,12368129,155276011.32322299,36436147,115255564,3584300,152859294.83544001,37505365,113140585,607389,5439440,156427178.34000003,38215898,118211280,165697522.48000002,39600037,126107787,173772185.64999998,40871553,{"$f":"132900633+471634","v":133372267},181764114.65000001,43133574,138630541,191949856.55000001,44587175,147362682,192172422.52999997,46018423,151448721,201554686.66682765,48112261,{"$f":"157028802-3586376","v":153442426},217113702.87999997,50739190,167691187.76438755,238010020.23206508,52164961,185845059,252551048.48000005,53396054,199154994,268344427.44,55110068,213234359,299740597.38000005,57821484,241919113,329943497.06999999,60851330,269092167,351967448.88,64398962,287568487,384629298.81999999,67502992,317126307]
[164,"Lynnfield                    ",17.5,14215391,13251512,1760537.6000000001,15771023.292079998,13495114,2275909,17356642.058858942,13944761,3411881,18585463.714159999,14489660,3665072,430732,19408007.987414353,16010874,4013888,0,19103918.4621954,16284477,3779396,20290,270977,19086223.734719999,16630403,3799686,19513606.067749999,17151894,3887366,19765823.121270001,17368045,{"$f":"3941766+42110","v":3983876},19490234.623029999,17091539,4036801,19743094.595660001,17067615,4089401,20021615.672320001,16786039,4206331,21073446.154188275,17422551,4272061,22155796.556120005,18211808,4338661,23010166.94368434,18762401,4404631,23513323.468790006,19317442,4404631,23928671.94923,19741154,4469881,25488528.222080003,20492517,4996011,27452371.780520003,21507362,5945010,27975039.198300004,22407746,6173290,28903113.111520004,23204609,6502690]
[165,"Malden                       ",46.78,54185598,21722732,32462866,58405248.022889994,23530624,34874624,62297084.542392798,24505538,37791547,66974103.664699994,25736533,36900852,4336719,70256109.620756119,28341018,40412820,1502272,69445049.599893317,29256886,39466415,211873,2408479,74002031.259239987,29910919,44091112,78173570.110089988,31406125,46767445,79552182.518289998,32589651,{"$f":"46962532+101064","v":47063596},80737953.747600004,34410984,47246321,84059175.637440011,35620417,48438759,84148786.035580009,37450081,48846419,87320752.243724763,38872647,49072289,90460805.376449972,41267281,49297769,95060966.502866924,43854744,51206223,94879629.913439989,45560692,51206223,97816216.363690004,47782256,51413853,105452144.24998,51377517,54074627,117616659.13781999,54419682,63196977,121527751.11873999,57647090,63910729,130437793.37532003,60667748,69770045]
[166,"Manchester                   ",17.5,0,0,0,0,0,0,0,0,0,0,0,0,0,0,0,0,0,0,0,0,0,0,0,0,0,0,0,0,0,0,0,0,0,0,0,0,0,0,0,0,0,0,0,0,0,0,0,0,0,0,0,0,0,0,0,0,0,0,0,0,0,0,0,0,0,0,0]
[167,"Mansfield                    ",17.5,34070637,22637801,11432836,37066064.086240001,23186796,13879268,38933172.153506003,23627132,15306040,41292178.534949996,24028768,15447917,1815494,43173220.767601192,24399237,16918143,1855841,42531299.518475883,24405336,17778173,95441,1022220,42752257.461410008,25008185,17873614,43053921.076990001,25772728,18060214,43496373.837260008,26613090,18175039,41985292.046640001,26566576,18283964,40931631.918399997,26810067,18388239,40048769.469539993,26489859,18610109,40453621.247440323,27314680,18728069,41538657.52544,27745189,18846329,42363212.754154898,28659688,18962339,41671720.92024,29709526,18962339,41585191.998259999,29922569,19070309,43764978.669519998,31365406,19282049,46129087.005899996,32585038,19491149,46131542.886,34993046,19845997,45824586.929839998,36857964,20336797]
[168,"Marblehead                   ",17.5,22442162,18815418,3626744,23820222.600000001,19829287,3990936,24883005.764629867,20408599,4474407,26084987.150000002,21181516,4387801,515670,27241689.681577034,22473658,4805402,0,26691563.970600002,22521401,4524671,24290,337066,27367247.329999998,23246510,4548961,28162380.189999998,24103028,4677641,29501925.989999995,24213134,{"$f":"5288792+8422","v":5297214},30687140.549999997,25404870,5381364,30592758.849999998,25878831,5464064,30713624.370000001,25564980,5644629,30825074.044045713,25552661,5741619,31517682.5,26002088,5837259,32505638.687593605,26599814,5952147,31915735.240000002,26330482,5952147,30235711.089999996,24944462,6035307,30912361.050000004,25502698,6194847,32681938.290000007,26962599,6354327,32926181.66,27164100,6623479,33445073.459999997,27592185,7006279]
[169,"Marion                       ",17.5,2842071,3116566,338668.4,2997167.17,2911376,375835.4,3025165.423394056,2851568,421906.4,3162483.16,2895625,416376.4,48934,3266374.1133779911,3033215,456004,0,3153015.2271000003,2931584,429364,2305,34185,3339019.88,3088812,431669,3695947.6200000006,3317639,449149,3724025.8699999996,3296965,459899,3955020.5,3359179,595842,4014302.5699999994,3344045,670258,4098862.3900000006,3406086,694733,4343663.5149533721,3510380,833284,4470718.4500000011,3641644,846844,4612923.7963335682,3799640,860344,4522671.7799999993,3731204,860344,4374312.4499999993,3608808,872434,4816493.6300000008,3774727,1041767,5068217.2599999988,3913467,1154750,5105842.0000000009,3952749,1195102,5064172.8500000006,4004960,1250902]
[170,"Marlborough                  ",48.32,37010306,32604757,6151638.0000000028,39489888.753479995,33387418,7207775.0000000028,41647924.173341915,33111874,9149845.0000000037,44383211.209059998,32757172,10403395,1222644,46013474.233912654,32958768,11393518,1661188,46421470.443365268,33104620,13061334,70119,185397,47531356.683839999,33125854,14405503,50561006.405809999,33652670,17545220.816238921,51938566.105600007,33591541,18678850.960200321,52135804.352599993,32592161,19543643,55409404.919719994,32493304,22916101,54854523.918049991,31931943,24140701,56761909.559497736,32073087,{"$f":"24972052-283229","v":24688823},60815717.02979999,33579775,27459350.453954868,64168256.450577833,35637847,28530409,67959735.832000002,36937156,31032674,68784010.9164,38142644,31188884,77315386.541280001,39639041,37676346,87221684.996450007,41360456,45861229,91366536.508999988,43502723,47863814,97477474.835680008,45576532,51900943]
[171,"Marshfield                   ",17.5,32271473,20214215,12057258,34872556.111840002,21245140,13627416,36714948.679464169,22881016,14129652,38563639.171119995,24240148,13086402,1537960,40253567.818422206,26140832,14331875,0,39637274.173409283,27040077,13494608,72445,878947,39583756.739600003,27951328,13567053,41137358.67464,28739555,13747293,40558278.62376,29710952,13855893,40490934.449160002,31137078,13963368,40254049.280549996,32113539,14068193,40243211.142080009,32421451,14297323,41036767.216783047,33760457,14421163,41808529.701789998,34492037,14543473,43523657.528021462,35619824,14664853,43514601.597520001,35899546,14664853,43275872.179899998,35702595,14778583,47025005.911919996,37291361,15006223,49950295.557299994,39070159,15233203,49730334.689119995,40410183,15590973,51268162.588479996,41905509,16133973]
[172,"Mashpee                      ",17.5,15407543,12020189,4044754,15474024.460000001,12882004,4145104,17073801.756701652,13860224,4425065,17636286.130000006,14142204,4051695,476170,16283467.18671005,14193190,4437308,0,16336474.718640003,14184603,4178081,22430,283872,16170543.359999999,14364504,4200511,16786403.150000002,14863230,4271711,17312286.150000002,15116709,4316511,16847491.769999996,14820989,4359861,16578175.300000003,14402235,4402061,16891753.790000003,14087772,4493526,16431104.565356754,13722805,4541226,17705538.060000002,14379434,4590756,18627382.034490988,15124670,4640166,18424932.769999996,15200570,4640166,18231111.670000002,15040667,4685466,19613343.369999997,15743229,4772946,20496134.48,16524355,4858266,21264618.640000001,17203029,5005530,21964764.180000003,18120931,5216280]
[173,"Mattapoisett                 ",17.5,3297524,3310959,473897.6,3387984.92,3308386,497697.6,3488042.5977460435,3193722,531510.6,3669467.71,3252117,508287.6,59736,3955927.7226870819,3490891,556663,0,3799146.5653200001,3492437,524142,2814,41557,3951256.51,3548014,526956,4131578.0200000009,3667812,546236,4068140.6800000006,3673844,587658.15474999999,4564402.3699999992,3935161,661547.15474999999,4686148.55,3913634,772515,4517988.9499999983,3760023,799465,4222689.9150018794,3517981,812995,4347489.0200000014,3586679,826405,4426546.9809879502,3651901,839485,4546818.59,3751126,839485,4252682.29,3508463,851365,4913934.4400000004,3933553,980381,5079932.7300000004,4120905,1005221,4865916.0799999991,4014381,1045053,4742122.1000000006,3912251,1099653]
[174,"Maynard                      ",19.62,10044441,8591307,2211508,10644015.071359999,8569489,2382686,11391224.980435096,8539540,2851685,11937003.731199998,8673841,2919995,343168,12185553.479722442,8524586,3197900,463067,12064502.865547679,8480324,3515408,18872,160487,12168260.781569999,8664177,3534280,12727909.260160001,8836949,3990864.5528999842,12848218.426860001,9277415,4024014.5528999842,13617361.215549998,9450152,4180312.5528999842,13850824.283779997,9411919,4438905,14059518.789270002,9349998,4733058,14745073.193424072,9744969,5000104,15215994.512989998,9813974,5402021,15291603.711841691,10005157,5442941,14950228.72524,10176959,5442941,14868952.430520002,10603032,5480621,16124411.021999998,11396750,5554961,17768872.032999996,12105654,5663218,17943402.248780001,12813459,5794050,18638398.791749999,13605109,5983800]
[175,"Medfield                     ",17.5,21083357,16366654,4716703,22222544.690400001,17108794,5113751,23437455.400163922,17719122,5718333,24405492.276769999,18347283,5421102,637107,24887881.817815583,19908771,5937045,0,24403976.669405282,20304518,5590203,30011,389731,24263807.570240002,20679989,5620214,24324022.98694,21208313,5730534,24155267.42306,21603285,5797959,23366471.620039996,20811592,5862409,23395043.4848,20516702,5925859,23253777.20984,19507465,6063084,23865982.219953917,19763909,6137784,24827316.099710003,20482536,6213144,26032948.58113708,21176396,6288744,26552098.786160003,21905481,6288744,26424181.490199994,21799950,6361734,28101468.769180004,22588503,6507474,29777088.9976,23849002,6653094,29971700.2535,24726652,6899678,31077353.328160003,25638817,7255778]
[176,"Medford                      ",17.5,40248747,32874703,10251400.4,43002389.842659995,34340915,10733287.4,46366010.244539626,35851875,11321921.4,48419758.008079998,37389566,10452869.4,1228458,50459876.273372002,41624962,11447701,0,49632982.275670551,42205952,10778927,57866,741233,51296237.986520007,42820019,10836793,53745484.954950012,44080589,11047553,52242342.704740003,45112884,{"$f":"11173603+33688","v":11207291},52268719.305079997,45014043,11332041,52826959.864799984,45090390,11454441,53575422.423319995,44545699,11719376,54710623.722724512,45337673,11864786,55510529.107759997,45796187,12004766,58384769.501052216,48076837,12143306,59524340.664400004,49107581,12143306,59164566.017499991,48810767,12275726,64950374.201000012,51012133,13938241,71888258.341159999,54480958,17407300,73681605.546039999,57259487,17877796,76664491.980000004,60826753,18554446]
[177,"Medway                       ",18.13,19580722,13433801,6292863,20747660.14057,13372805,7374855,21605016.00124561,13383579,8221437,22347779.065000005,13117342,8860400,370037,23324796.46238941,12868279,9045828,1410689,22310016.342912722,12851891,9845648,52856,624313,22260938.035379998,13120301,9898504,22211260.904100001,13680191,9997944,22149987.50784,14085853,10058469,21554025.020479999,14114067,10117244,21958660.335269995,14480057,10175519,21801549.408149999,14412519,10301469,22011641.938089047,14975709,10368909,22271105.480700001,15492710,10434849,23515724.418579098,16195477,10501419,23623580.679760002,16885292,10501419,23134189.308129996,17421552,10564089,25231553.767439991,18439545,10691349,26890897.844290003,19298650,10818549,28282405.937880002,20376839,11042877,29200155.629280001,21596243,11364627]
[178,"Melrose                      ",17.5,24907341,20737665,5187289.5999999996,26011915.689749997,21369417,5380590.5999999996,27602185.703187775,21907581,5694605,30260569.438900001,22718830,6748618,793121,32562555.060026802,24854305,7390904,317346,32186376.980879758,25348596,7257935,38964,504526,33172689.346400008,25849124,7323565,34237368.45262,26657847,7672924,34787745.958120003,27402853,{"$f":"7765699+8422","v":7774121},35264711.847039998,28117748,7867296,36086251.428580001,29102972,7960596,36017412.116479993,29811821,8166076,37544107.266331017,31014280,8280046,39714034.698880002,32332045,8396206,42022188.056045689,33686027,8514496,43519030.447039999,35108451,8514496,44344391.455760002,36147679,8631916,47377571.272,37697349,9680222,51330398.765020005,39070041,12260358,53488054.658699989,41053058,12688006,54259488.060880005,43224298,13285756]
[179,"Mendon                       ",17.5,0,4125,0,11108.373639999998,4683,6425,23065.342200000003,9814,13251,48402.476480000005,20739,27663,0,49954.876631578947,22735,27110,110,36523.099191600006,17440,26131,0,0,24882.900699999998,12459,24882.900699999998,0,0,0,26487.781899999998,14438,12050,26544.465999999997,15491,12050,26877.483239999998,16445,12050,53506.747079999994,35758,17749,94454.384875126823,67071,27383,125950.56911999999,90115,35836,114974.37804282685,83426,35836,102604.6,77719,35836,89716.680000000008,68581,36016,109883.97,82330,36016,164907.6,126856,38052,168603.30000000002,135517,38052,138834.32,114538,38052]
[180,"Merrimac                     ",17.5,0,0,0,0,0,0,0,0,0,0,0,0,0,0,0,0,0,0,0,0,0,0,0,0,0,0,0,0,0,0,{"$f":"0+50532","v":50532},39014.69999999999,23081,39014.69999999999,39599.880000000005,24335,39014.69999999999,52683.680000000008,33389,39014.69999999999,80501.000061537285,51057,39014.69999999999,96860.12,61806,39015,114974.37804282685,73617,41368,146578.00000000003,99096,47504,134575.02000000002,96496,47774,202094.16,145289,56805,164907.6,115885,56805,134882.64000000001,97208,56805,138834.32,101564,56805]
[181,"Methuen                      ",53.2,56448568,25976682,30471886,60543616.070000008,27289639,33253977,64593404.869511366,28479615,36113790,66932258.720000006,29640305,33440001,3929987,70754596.227797136,29742140,36622588,4389868,67174266.656939983,30293532,38616511,207311,2370809,66167336.409999996,30557302,38823822,68082307.960000008,31301841,39110902,72821269.290000007,32658088,{"$f":"40240901.1178455+421101","v":40662002.117845498},73674473.939999998,33532493,40839452.117845498,75476679.289999992,34357316,41119363,76096298.539999992,34166160,42147523,76802334.286958128,35661626,42360163,81561883.420000002,37125698,44704725.328574821,86487500.831909508,38919879,47567622,88769466.079999998,40325303,48444163,89379134.690000013,40893031,48647173,99305681.999999985,42704657,56601025,109298849.82999998,44617436,64681414,115622808.23,47005987,68616821,120570223.17999999,49535858,71034365]
[182,"Middleborough                ",41.08,26467283,12717234,15072339.000000002,28711248.540000003,13593641,16271963.000000002,29349175.555037435,13995503,16591501.000000002,30535052.200000003,14305024,15378099,1807289,32049946.575188514,14608790,16841680,599477,31398532.903860003,14805660,16422246,88162,1020099,32141290.059999999,15132961,17008329,32752133.430000003,15459649,17292484,32588658.5,15715800,17376809,32073963.209999997,15945136,17459284,32000342.629999999,16053881,17539709,31055481.599999998,15735683,17709989,29289460.260108851,15577573,17796089,32018438.089999996,16144274,17887019,34113306.289279848,16968154,17978609,35057530.5,18220402,17978609,35767383,19089621,18069239,40901731.939999998,20691229,20210503,44333813.130000003,22002952,22330861,45255834.980000012,23019131,22651805,45765962.310000002,25060283,23101805]
[183,"Middlefield                  ",17.5,0,2821,0,0,746,0,0,0,0,35830.47,21223,17650,0,36919.725014354073,21121,17297,0,36107.447039999999,18057,18050,0,0,36750.21,21942,18050,38091.630000000005,24466,18050,51576.08,33824,18050,52019.6,39422,18050,13199.960000000001,11856,13199.960000000001,26341.840000000004,21863,13199.960000000001,53667.33337435819,44587,13199.960000000001,55348.639999999999,44006,13200,43115.391766060078,34267,13200,43973.400000000009,36278,13200,44858.340000000004,37008,13290,47093.130000000005,38852,13290,49472.28,40815,13290,33720.660000000003,22929,13290,52062.869999999995,41959,13290]
[184,"Middleton                    ",17.5,5089625,4017323,1072302,5471810.5766400006,4145862,1325949,5832959.1376389088,4345126,1487833,6321846.7792799994,4793498,1430804,168153,6442872.8063946106,5100614,1566978,0,6158787.1565006413,5254874,1475435,7921,102722,6001241.5991799999,5162532,1483356,6436171.7904999992,5445815,1513276,6537210.6908500008,5536081,1531951,6500381.7589600012,5534548,1550526,6509297.9842300005,5617606,1568751,6306838.4600999998,5269521,1606481,6172360.6719304342,5171627,1626461,6287830.7335999999,5187460,1646051,6689182.2107968954,5513538,1666151,7013290.1260299999,5785964,1666151,6927207.1538000004,5714946,1685891,7809075.6739000008,6381487,1726991,8542770.1967999991,6914393,1769171,8701795.6002499983,7178981,1842179,8953831.1144600008,7386911,1943879]
[185,"Milford                      ",58.52,30216135,22301521,9514224.4000000004,33490000.671320003,22721351,10882700,34771548.012968563,22716028,12145146,36857352.51055,22611874,12747364,1498115,38573246.502751864,22694316,13960569,1918362,37839983.058274925,22556065,14990659,80476,910271,39488612.219000004,22785673,16702939,41626385.357300006,23315453,18734609.200679597,42774603.567850001,23819112,19457577.302150823,43366941.909150004,23509175,20022624.302150823,44418717.093200006,23574280,20844437,45013216.029600002,22766643,22246573,46388900.526972406,23243232,23145669,48944312.482440002,24011188,24933124,52148898.387319937,24846959,27301939,56604613.875760004,25435714,31168900,58526188.083009996,26079517,32446671,66524190.045280002,27110718,39413472,75437511.279999986,28632172,46805339,79260184.288840011,30457781,48802403,86368278.706520006,31831621,54536658]
[186,"Millbury                     ",26.23,14287540,8778478,5889114,15323374.32,9000628,6392219,15891803.931504436,9533703,6643067,16607443.680000002,9835784,6225068,731592,17069156.465240195,10132004,6817527,119625,16354315.981439997,10084315,6531884,35066,416852,16266575.289999999,10291233,6566950,16716297.900000002,10391532,6638870,16935435.850000001,10537672,6745941.8450512495,17048501.060000002,10443623,6879057.8450512495,17130949.16,10531645,6922982.8450512495,17429845.489999998,10473626,7019397.8450512495,17780962.153000448,10630390,7150572,18494289.77,11140779,7371495,19134294.708830908,11458671,7675624,19675592.059999999,11797270,7878322,19104092.829999998,12049555,7927312,20670955.990000002,12891181,8024392,22434599.240000002,13581840,8852759,23341579.899999999,14332855,9023943,23480532.759999994,15188966,9261393]
[187,"Millis                       ",17.5,9097512,7264775,1884585.6,9483891.5441799983,7426472,2102687.6,10117122.766417645,7330284,2786839,11000973.682880001,7435813,3190233,374928,11653273.708027104,7440876,3493858,718540,11328953.966638198,7432660,3966310,21293,257445,11812388.784249999,7564328,4248061,12313171.274950001,7862256,4534410.8393613929,12451955.106319999,8164569,4592771.5320735266,12356473.845559999,8219727,4625471.5320735266,12205625.68949,8273796,4657396.5320735266,11856222.087119998,8128057,4725651.5320735266,11737004.51467457,8397650,4761621.5320735266,11946580.289849997,8451032,4796932,12179710.209867777,8612588,4831312,11739340.2481,8676571,4831312,11844886.359460002,9095464,4862842,12954292.108449999,9957083,4926682,14054851.192480003,11047181,4992022,14399304.707199998,11879426,5104966,14821764.156880002,12227955,5267116]
[188,"Millville                    ",45.1,0,3591,0,10849.66,3214,7636,22710.54,6563,16148,59717.45,16523,43194,0,49226.300019138762,15127,42330,0,60179.078399999999,19123,41056,0,0,85750.49,27251,58499,50788.840000000004,16406,50788.840000000004,77364.119999999981,26377,50987,26009.8,9583,26009.8,79199.760000000009,30473,48727,118538.28,48101,70899,93917.833405126818,39748,70899,124534.43999999997,52967,71567,114974.37804282685,48557,71567,73289.000000000015,33038,71567,119622.24,56307,71807,141279.39000000001,67617,73662,98944.56,47019,73662,84301.650000000009,40692,73662,121480.03,58377,73662]
[189,"Milton                       ",17.5,25151267,24801774,3395206.4,27293508.643200006,25682096,3770098.4,29370007.727681536,26209746,4180994.4,31229186.953800008,26442315,4283464,503408,33226179.825447932,27411598,4691135,1123447,33177677.717974804,27962065,5474895,29392,405395,33445350.979459997,28316699,5504287,34576600.406800002,28905665,5765927.5177974999,35318011.521599993,29777694,5869608.6424181247,35082060.980719998,29715046,5964021.6424181247,36501504.885839999,30504862,6060521.6424181247,37238061.294160001,30828228,6409833,39699383.469837926,32142381,7557002,41890853.241980009,33540779,8350074,44445617.572931923,35446365,9033561,46912230.011340007,37346878,9567275,48097215.820799999,38757408,9697475,51259127.086869985,40535520,10723607,53957475.515560001,42281594,11675882,55677434.427500002,44754901,12123394,58361210.542160012,46814490,12776644]
[190,"Monroe                       ",60.15,156484,91583,84030,67149.83,77281,67149.83,56859.984915476627,50042,56859.984915476627,117805.94,70637,89563.984915476627,0,128295.88296267943,75685,87773,0,87282.108779999995,71027,84262,0,0,79783.97,68985,79783.97,75976.200000000012,45544,75976.200000000012,84306.74,69217,75976.200000000012,49377.140000000007,41572,49377.140000000007,57396.78,39279,49377.140000000007,64197.68,43424,49377.140000000007,70057.67309236154,39434,49377.140000000007,85324.37,62999,49377.140000000007,101469.77918132796,74699,49377,149215.03999999998,79783,69432,147610.14000000001,75426,75502,226091.72999999998,85510,140582,203019.31000000003,74223,140582,215323.09999999998,98797,140582,234621.64000000004,93490,141132]
[191,"Monson                       ",35.869999999999997,11167185,4551198,6615987,11949570.529999999,4838959,7111941,12159308.518842915,4984969,7241370,12797798,5089158,6897967,810673,12822835.034947371,5153721,7554467,114647,12214501.473179998,5102395,7221084,38766,444464,12125247.350000001,5200769,7259850,12141055.580000002,5290215,7312050,11640741.35,5397705,7342725,11227559.509999998,5516259,7372025,10642912.68,5415578,7399425,10115062.609999999,5426446,7455965,9765311.1307165027,5261486,7484975,9770916.2999999989,5525534,7512995,10353119.728939803,5746939,7541075,10603017.180000002,5893568,7541075,10403183.449999999,6007448,7567565,11078294.98,6264895,7618685,11361547.17,6395027,7667285,11739604.360000001,6544648,7751629,11784464.360000001,6807381,7867879]
[192,"Montague                     ",48.56,0,4422,0,0,1165,0,0,0,0,11943.49,5779,6507,0,12306.57500478469,5964,6377,0,0,0,0,0,0,0,0,0,0,0,0,0,0,0,0,0,0,0,0,0,0,0,0,0,0,0,0,0,0,0,0,0,0,0,0,0,0,0,0,0,0,16490.760000000002,7445,9046,16860.330000000002,7814,9046,17354.29,8313,9046]
[193,"Monterey                     ",17.5,0,0,0,0,0,0,0,0,0,0,0,0,0,0,0,0,0,0,0,0,0,0,0,0,0,0,0,0,0,0,0,0,0,0,0,0,0,0,0,0,0,0,0,0,0,0,0,0,0,0,0,0,0,0,0,0,0,0,0,0,0,0,0,0,0,0,0]
[194,"Montgomery                   ",17.5,39186,23670,15516,32548.98,24028,15666,45421.08,32646,19296,35830.47,26083,19446,0,61532.87502392345,39614,19057,2862,36107.447039999999,25001,21042,0,0,36750.21,25778,21042,25394.420000000002,18584,21042,25788.04,20780,21042,26009.8,21585,21042,39599.880000000005,35467,21042,65854.600000000006,55442,21042,80501.000061537285,67534,21042,83022.959999999992,68494,21042,114974.37804282685,94854,21042,87946.800000000017,68444,21042,59811.12,49337,21162,47093.130000000005,38310,21162,49472.28,37079,21162,84301.650000000009,65350,21162,121480.03,90244,31236]
[195,"Mount Washington             ",17.5,107132,88820,19858,144190.37,111238,32952,126517.21994365109,115279,33752,132726.99,118261,34839,0,129580.38256076556,116497,34142,0,126342.90066,112337,32776,0,0,120558.2,108747,32776,128118.72,110906,32776,91796.300000000017,91796,32776,92960.28,83664,32776,89843.44,79980,32776,57421.64,51679,32776,32643.359126604621,29379,32643.359126604621,25705.73,21207,25706,7755.8152895000003,6399,7771,17625.62,14541,7771,43505.390000000007,35892,7921,47889.06,39508,8381,78957.830000000016,65140,13818,71641.610000000015,59104,13818,50509.919999999998,41671,13818]
[196,"Nahant                       ",17.5,2818535,2890705,384990,2885508.92,2876891,408985,2958071.3727178685,2848361,441588,3103459.42,2795562,425127,49962,3140215.3490373208,2769683,465587,0,3009436.1228999998,2673399,438388,2353,34021,2959458.31,2711123,440741,2836358.0599999996,2696296,454021,2809900.4000000004,2700890,{"$f":"462021+8422","v":470443},2670798.36,2403719,477893,2552657.5399999991,2291916,484943,2541982.4700000002,2138805,499903,2576635.3961993451,2132494,508003,2540955.2600000002,2096288,515803,2602347.1905727275,2146936,523513,2739284.95,2259910,523513,2845521.7600000002,2347555,531403,2856293.17,2356441,546523,2954392.4200000004,2437374,561403,2904538.0700000003,2396244,586155,3159072.39,2606235,622905]
[197,"Nantucket                    ",17.5,8624608,13225325,835167.6,9230081.2999999989,12823739,991186.6,10186787.557364723,12276662,1228636.6000000001,10648679.940000001,11576039,1286905.6000000001,151242,10683423.649684211,11534629,1409385,0,10295374.04874,10871032,1327049,7124,105962,11144212.01,10901757,1334173,11866373.959999999,11286314,1387053,12800411.420000002,11568827,1421503,13869821.479999997,11742876,2126945,15206451.73,12225508,2980944,15743715.589999998,12702303,3067074,16351990.158213655,13342499,3114564,17684068.190000005,14133709,3550359,19008236.734527193,15681795,3600249,19472349.760000002,16064689,3600249,20100924.599999998,16583263,3650139,22613557.840000004,18656185,3957373,25201462.489999998,20791207,4410255,25535123.509999998,21066477,4583727,27110453.819999997,22366124,4838877]
[198,"Natick                       ",17.5,33697813,33961720,4176645.6,36447202.92904,34581099,4657788.5999999996,37564403.525144182,34454333,5232583.5999999996,40487600.791560009,35263961,5229410.5999999996,614579,42629277.234462015,35169154,5727110,1733013,41207446.519019037,35490451,7024303,37710,518585,43072103.861760005,36948274,7062013,45906950.422800004,38397808,7640285.5809975006,47764102.86208,39466673,8312752.0002159998,49956678.079499997,41275438,8681240,51546022.215100005,42809644,8816665,52558195.004939988,43516697,9117845,53048542.559902228,43988233,9281825,55788455.043029986,46025476,9762979,57774437.098210081,47663911,10120767,58312471.325909987,48107789,10204682,57529966.215679981,47462222,10362782,61356636.239639997,49137791,12218845,65231071.033819996,52065336,13165735,67714131.173480004,54650974,13716207,70521736.71668002,56626783,14509257]
[199,"Needham                      ",17.5,34180438,33290098,3838947.6,37003280.957180008,33919990,4366272.5999999996,39386972.010866001,34874779,5124206.5999999996,42028556.259200007,35909710,5475362,643484,43829318.414363444,36829428,5996469,1003421,44582496.208305366,37987380,6590957,35383,500900,46025845.81216,39034126,6991720,48336042.998220004,40702053,7633990,49744211.758409992,42426414,7901801.7644304372,50670510.318260007,43099948,8239739.7644304372,51969545.140780009,44250723,8373789.7644304372,52228570.584080003,43661684,8671394.7644304372,54000176.557778552,44833817,9166360,56435153.947120003,46559002,9876152,59693731.68588265,49247329,10451715,63004475.701059997,51978693,11025783,62757965.939740002,51775322,11192613,66681599.624000005,54310286,12371314,70773642.887999997,57461187,13312456,72809517.784119993,60067852,13892984,74618544.113240004,61560299,14721434]
[200,"New Ashford                  ",17.5,314618,165062,149556,313210.37,163541,154825,331313.9947464299,168568,163915,321985.11,171991,166015,0,311594.91233684216,178509,162695,0,360381.76277999999,180785,179597,0,0,334159.74,188252,179597,346722.85000000003,196667,179597,273043.12,204082,179597,266775.95,209694,179597,217953.86999999997,196158,179597,232405.55000000002,193546,179597,288557.29529165302,204578,179597,269904.96999999997,214173,179597,289597.24013319105,220898,179597,278897.32,226155,179597,234545.27,193500,180257,236678.27999999997,195260,180257,223427.56,184328,180257,183449.93,151346,180257,123072.46,101535,123072.46]
[201,"New Bedford                  ",78.650000000000006,119985462,15908482,104076980,120904310.03999999,17009241,104762165,124529300.86950365,17999927,107414208,129350707.3,18772687,99286975,11668556,131101527.27395219,18393495,108736420,3971612,126977747.19852,18868260,106123637,569719,6333076,131413254.92999999,19608717,111804538,134200121.78,20555694,{"$f":"113644428+2452653","v":116097081},141486159.03000003,21429480,120056679,146174509.68000001,22672562,123501948,149495329.88,24366967,125128363,157744521.90000004,25358897,132385625,165003222.23219585,27078190,137925032,173832434.18000001,28522973,145309461,189742059.78296334,29911096,159830964,197388756.04999998,31307615,166091904,206188927.62000003,32442344,173746584,233389315.13999999,34303277,199086038,259908138.25999999,35809016,224099122,274431862.38999999,38100672,236331190,295054094.75999993,40756053,254298042]
[202,"New Braintree                ",26.77,0,0,0,0,0,0,0,0,0,0,0,0,0,0,0,0,0,0,0,0,0,0,0,0,0,0,0,0,0,0,0,13004.9,7410,5595,13199.960000000001,7496,5704,0,0,0,0,0,0,27674.32,14896,12778,28743.594510706713,16002,12778,43973.400000000009,26677,17296,44858.340000000004,28827,17386,31395.420000000002,18664,17386,32981.520000000004,19885,17386,16860.330000000002,11115,16860.330000000002,0,0,0]
[203,"Newbury                      ",17.5,0,0,0,0,0,0,0,0,0,0,0,0,0,0,0,0,0,0,0,0,0,0,0,0,0,0,0,0,0,0,{"$f":"0+16844","v":16844},39848.778960000003,35337,16844,26986.020340000003,23796,16844,53983.259600000005,45708,16844,82603.405821537279,69230,16844,70871.668000000005,58469,16844,88469.616812120148,72987,16844,45293.483039999999,37367,16844,46160.855639999994,38083,16934,32378.457899999998,24501,16934,17004.397409999998,12936,16934,52022.572920000006,42919,16934,17830.486349999999,14710,16934]
[204,"Newburyport                  ",17.5,16302852,18514828,2908020,17369387.83083,18382676,3094664,18138185.240466557,18210192,3229204,19046240.388799995,17810116,3031805,356309,19278084.056310378,17751548,3320352,0,18957046.974179041,17434050,3126377,16784,232641,19604538.718400002,17669920,3143161,20981094.095319998,18161476,3236321,22075535.224889997,18717331,{"$f":"3484457.66608894+42110","v":3526567.6660889401},22313844.746979997,18921662,3658991.6660889401,22958152.764539998,19326232,3720116.6660889401,22075387.820000004,18475881,3851291.6660889401,22572192.428649735,18688498,3923141.6660889401,23394062.990000002,19300102,4093961,23879060.905683298,19700226,4182944,24204978.57,19969107,4235872,24047193.300000001,19838934,4302202,25407534.990000002,20726102,4681433,27448207.989999998,21788063,5660145,27513365.690000001,22663896,5887385,26732481.829999998,22054297,6192935]
[205,"New Marlborough              ",17.5,0,0,0,0,0,0,0,0,0,0,0,0,0,0,0,0,0,0,0,0,0,0,0,0,0,0,0,0,0,0,0,0,0,0,0,0,0,13170.920000000002,10884,2287,0,0,0,0,0,0,0,0,0,0,0,0,0,0,0,0,0,0,0,0,0,0,0,0,0,0,0]
[206,"New Salem                    ",24.66,0,0,0,0,0,0,0,0,0,0,0,0,0,0,0,0,0,0,0,0,0,0,0,0,0,0,0,0,0,0,0,0,0,0,0,0,0,0,0,0,13416.833343589547,7366,6051,13837.16,7670,6167,0,0,0,0,0,0,0,0,0,0,0,0,0,0,0,0,0,0,0,0,0]
[207,"Newton                       ",17.5,84474234,95571853,9687799.5999999996,91783004.913320005,95493364,10966834.6,96710790.081070766,94016028,12754100.6,102430485.62952003,93680526,12939868.6,1520739,106034164.82356572,94358670,14171395,0,105360168.87611745,93963930,13343503,71634,1051383,109411944.70578998,95907724,13504221,114655007.73854002,98481856,16173152,119052135.41824004,101648356,17403779,123275321.48661001,103657391,19617930,126316298.67331998,106090242,20226057,126430397.79993999,105306467,21180365,131452274.44548996,108662422,22789852,137300637.26189998,113273026,24027611,141578979.06415501,116802658,24814496,143592665.22735,118463949,25128716,140792530.04910001,116153837,25492106,148413207.17159998,122440896,26212526,156764603.61603001,129330798,27433806,159609730.37020001,131678028,28656534,163854442.56515002,135179915,30401034]
[208,"Norfolk                      ",17.5,7375598,4537885,3290521,7514189.6858999999,4696531,3342421,7568629.1283759158,4835814,3392371,7931793.3029600009,5010638,3120270,366705,8090406.3416947154,5856554,3417236,0,7969864.5064924797,6096820,3217602,17273,206986,7607426.2368400004,5982259,3234875,7567557.911940001,6205265,3270355,7354058.3719600011,6196881,3291530,7315213.0608799998,6240752,3312405,7167206.0455,6157870,3332480,7797859.3176300004,6475611,3380055,8254868.1418577991,6844844,3406815,8641112.9091999996,7128918,3433905,9114958.3381727356,7519840,3461385,9555961.1148400009,7883668,3461385,10190816.706399998,8337473,3490425,11453635.647089999,9052188,3551805,11993145.444000002,9300692,3612405,12579945.423040001,9800477,3719629,13116177.873539999,10294403,3873979]
[209,"North Adams                  ",71.37,15707349,2559119,13830276,15487886.440000003,2982732,13921926,16104425.472575067,3199929,14379275,16069533.560000001,3273841,12943553,1521172,15683925.830859331,4425733,14175431,0,15476062.162319999,4393858,13347304,71654,795823,15392110.870000001,4489714,13418958,15076472.880000003,4662123,13480318,15891428.520000001,4776899,13517943,16417451.109999998,4941966,13556793,16664714.390000004,5074150,13595418,16484834.819999997,5063315,13676653,17145309.629568465,5100302,13721833,17356231.859999999,5097649,13766383,17859474.703748006,5053318,13809703,18178355.150000002,5057245,13809703,17897202.07,5027520,13848943,20196370.640000001,5276853,14919518,21755055.919999998,5538974,16216082,22174984.270000003,5756158,16418826,22791831.230000004,6084549,16707282]
[210,"Northampton                  ",17.5,22339621,16647759,6574009.5999999996,23515503.420000002,17537821,6925715.5999999996,23897225.215249706,17925565,7068615.5999999996,25081306.799999997,18789705,6600629.5999999996,775729,25514471.712826792,19225734,7228831,0,24684605.485979997,19535341,6806523,36541,454267,25014294.639999997,20035749,6843064,26386688.750000007,20803896,6954104,26834026.780000009,21624168,7023429,27395100.530000001,22476877,7093554,27323757.340000004,22846792,7162729,27410585.139999997,22747409,7313539,27919380.14575414,23143930,7395919,28576804.530000001,23575863,7477309,30030364.251233194,24547028,7558369,31063338.950000003,25627255,7558369,30678559.000000004,25309811,7638049,33723796.18,26638955,7798609,35618666.020000003,28077001,7958689,35941837.469999999,29043502,8229089,37433634.749999993,30204769,8619389]
[211,"North Andover                ",17.5,30541004,28946886,4129740,33510013.210000001,29846221,4649317,34908316.443979926,30883606,5087208,37117714.300000004,31904083,4968107,583870,38689087.713684224,32219076,5440937,1029075,37806576.337559998,32564460,6092035,32705,458122,38936234,33092191,6124740,40712824.369999997,34010095,6808232.8161875,42340329.710000001,35385415,{"$f":"7068575.6748125+25266","v":7093841.6748125004},43286349.479999997,36224040,7262285.6748125004,45462873.919999987,37541377,7921497,44605186.620000005,37087784,8181977,46314260.801910989,38259940,8326307,48675062.219999999,39658845,9016217,50326384.478882119,41262379,9160097,50577443.990000002,41726391,9160097,51229167.579999998,42264063,9298097,54375769.079999991,43673850,10701919,57569717.300000004,45627018,11942699,58940201.540000007,47473051,12406539,61037819.240000017,49916865,13071489]
[212,"North Attleborough           ",23.86,33128817,14691852,18436965,34913727.249999993,15594284,19319443,37024105.29144422,16763755,20260350,38863802.869999997,17813103,18836919,2213781,39803852.803245947,20703716,20629686,0,39026226.24995999,21382362,19424502,104279,1217430,39843826.230000004,21810997,19528781,41161023.43,22566227,19712661,41797469,23207648,19827086,42114635.469999991,24223806,19941736,42858323.110000007,25023400,20055686,41721975.079999998,25316072,20297411,42205783.552439779,25945113,20427791,43299173.010000005,26709708,20556671,44126489.423501156,26972001,20682041,45073173.739999995,28270188,20682041,45683012.360000007,29002278,20804831,49368540.359999999,30579150,21051671,51608133.329999998,32183541,21293531,52550990.75,34400627,21706827,52893827.050000004,36308302,22282527]
[213,"Northborough                 ",17.5,12830969,10921083,2584464.4,13031020.219999999,10898179,2763949.4,13379613.142081046,10658966,3082735.4,13939628.030000001,10678879,2995439.4,352035,14512145.583586603,11014309,3280525,217312,14386023.880859999,11224364,3293494,17681,232062,14878106.429999998,11738874,3311175,15714470.859999999,12259650,3621985.0384160001,15886379.650000002,12722162,3668085.0384160001,15486011.710000001,13010542,3712560.0384160001,15526446.370000001,13153691,3756435.0384160001,15196910.26,12701763,3849770.0384160001,15015400.577264598,12501814,3899030.0384160001,15211638.35,12549602,3947270.0384160001,15348450.348561112,12662472,3993500,15653167.560000001,12913864,3993500,16551243.649999999,13451109,4040510,18027328.710000005,14581324,4135910,19538316.099999998,15713655,4232990,20846041.259999998,16677517,4406358,20570416.460000001,16970593,4644408]
[214,"Northbridge                  ",34.43,19224254,6253429,12970825,19859815.41,6987828,13322608,21326300.527729061,7490514,14114803,21595688.16,7937843,12757564,1499314,22343513.91142584,8072415,13971740,299359,22038684.843239997,8329249,13446387,72186,815376,22423099.34,8388993,14034106,23980196.999999996,8893916,15086281,24363998.650000002,9349395,15150056,24874347.920000002,9900452,15214206,24091597.779999997,10435707,15275081,23427188.930000003,10848805,15403891,23615219.37740108,11369969,15473041,23583382.150000002,11810469,15539941,23912162.03207574,12120372,15603931,23651358.309999999,12499433,15603931,24066339.760000002,12899827,15664621,26403426.609999999,13630647,15786061,28109617.770000007,14472856,15905881,27773856.899999991,15208759,16105353,28797160.489999998,16088295,16390353]
[215,"North Brookfield             ",47.37,6615681,2219735,4285292.8970251717,6571910.5099999998,2316586,4326992.8970251717,6609236.9636889221,2348384,4367042.8970251717,6747317.700000002,2443115,3983453.8970251717,468150,6520066.3495043078,2624892,4362572,0,6139849.1636400009,2611475,4107711,22052,250034,6001484.8899999997,2543410,4129763,6089693.8600000003,2658631,4155363,6187292.3999999994,2707976,4171238,6138607.5700000012,2853212,4187213,6330664.1299999999,2902390,4203088,6192391.8499999996,2909397,4236418,6199650.4699848695,2812304,4254298,6455723.8399999999,2876546,4272568,6861155.1426662346,2904011,4290838,6921441.0200000014,2970928,4290838,6863578.7700000005,3115388,4308028,7789173.0300000003,3255249,4533924,8281136.6699999999,3375581,4905556,8161429.120000002,3523318,4964316,8296193.1099999985,3734618,5046966]
[216,"Northfield                   ",17.5,0,0,0,0,0,0,0,0,0,0,0,0,0,0,0,0,0,0,0,0,0,0,0,0,0,0,0,0,0,0,0,0,0,0,26399.920000000002,17135,9265,13170.920000000002,9108,9265,0,0,0,0,0,0,0,0,0,14657.8,10697,3986,14952.78,11661,4016,15697.710000000001,11109,4589,16490.760000000002,11472,5019,0,0,0,0,0,0]
[217,"North Reading                ",17.5,18601689,14816885,3784804,20183617.97724,15266492,4917126,21182764.789605197,15869112,5313653,22674352.994799998,16503487,5521911,648955,23612463.797106899,16789073,6047449,775942,22639942.1421276,17274696,6424769,34491,430556,22670246.940660004,17894010,6459260,23098274.900569998,18576477,6562100,23398817.806239996,19321117,{"$f":"6625625+50532","v":6676157},23706840.709970001,19832830,6739782,23928340.855640002,20127141,6802307,23635143.14844,19692373,6937937,23960205.841541711,19895201,7010717,24928075.440800004,20565663,7083527,25154643.367806662,20752580,7153937,25345400.252699994,20909956,7153937,25122867.634200003,20726365,7221227,27056349.750239998,21810649,7356107,29062440.792260002,23011257,7492247,29675954.006980006,24047692,7727287,30731201.128249995,24625659,8066587]
[218,"Norton                       ",17.5,22990850,11013370,11977480,23419989.289999999,11653397,12175056,24274093.506333459,12205403,12560940,25467467.109999999,12826588,11717531,1377086,25652702.988677517,13933589,12832725,0,24934930.297499999,14175872,12083038,64867,758645,25121296.479999997,14682739,12147905,25245341.509999998,15231907,12260025,25252431.439999998,15724845,12328675,24839826.120000001,15755447,12395800,24716889.330000006,15884891,12461075,24673640,15870288,12603140,24605799.037226401,16138030,12678650,25627290.710000001,16534896,12754400,25977850.920649342,17399530,12827390,26443914.049999997,18367335,12827390,26330388.290000003,18951479,12896420,27305331.41,19965440,13029200,29128867.219999995,20948264,13160540,29386897.029999994,22278223,13386532,30090005.920000002,23659419,13707982]
[219,"Norwell                      ",17.5,14440386,14597702,1917411.6,16098434.99767,14916801,2207570.6,17382511.444969099,15372590,2457881.6000000001,18475933.129799999,15697102,2486597,292234,19354658.580467265,16176665,2723254,454740,19154668.326163501,16412838,2992336,16064,226269,19420562.385559998,16745375,3008400,20138619.813699998,17114763,3148957.366849375,20549300.995200001,17494372,3260749.9436770314,20295768.49016,17370172,3362602.9436770314,20603272.396599997,17503826,3417652.9436770314,20258808.089429993,16921990,3535957.9436770314,20701123.007093545,17167966,3600307.9436770314,21451763.513980005,17697705,3754059,22329816.442800608,18350859,4011711,22887277.58972,18882004,4011711,23347458.345409997,19261653,4092385,24690512.978599999,19938599,4751914,25956168.805050001,20944041,5012128,26697645.459049996,22025558,5232088,27721329.640999999,22870097,5549338]
[220,"Norwood                      ",17.5,28041822,27289969,3544044,29886710.074549999,27700512,3933871,30207570.065640491,28071619,4534446,31869888.767040003,28472241,4638435,545125,32601763.614237398,28057436,5079889,0,31939204.05633672,28648256,4783122,25678,357914,32665738.414279997,29934115,4808800,34403459.751600005,30967635,5111751.3641325003,35162876.923280001,32031042,5372189.3884928748,35458013.178439997,31475235,5663726.3884928748,36030240.360470004,31220839,5751026.3884928748,36087087.065760002,30230754,5941876.3884928748,36598980.152771384,30391526,6207454,38062700.293799996,31401727,6660973,40452845.134236395,32400134,8052711,42697305.215410002,33534173,9166992,43678902.616409995,34547211,9271812,48677498.672449999,35990878,12686621,53483623.868720002,37142187,16341437,56535316.259999998,39118730,17416586,59825304.49205,41305173,18520131]
[221,"Oak Bluffs                   ",17.5,3344833,2798198,546635,3068927.37,2724857,567385,3482507.5606329595,2861389,639762,3500874.88,2916146,591900,69562,3641145.0682794261,3042048,648233,0,3315880.6575599997,2896108,610364,3277,44592,3397147.27,2962918,613641,3454522.33,3045879,629001,3719346.8900000006,3186194,639201,3839529.9800000004,3213640,650652,4306524.25,3420717,885807,4345993.05,3494124,910282,4614741.4748551529,3814150,924052,4566695.8900000006,3767524,936832,4939842.5494836336,3951377,988466,5068644.3499999996,3984819,1083825,5250477.3999999994,4061903,1190134,6081567.2300000004,4486599,1594968,6470637.9299999997,4519073,1951565,6233849.8500000006,5142926,1995349,6005152.3400000008,4954251,2053849]
[222,"Oakham                       ",35.630000000000003,88168,23979,64189,97646.94,23754,73893,102197.43,24731,77466,107491.41,27810,80415,0,183603.36713492827,66144,78807,38652,0,0,0,0,0,0,0,0,0,0,0,0,0,0,0,0,0,13199.960000000001,7320,5880,13170.920000000002,7638,5880,13416.833343589547,8143,5880,13837.16,7937,5900,14371.797255353356,8519,5900,14657.8,8004,6654,44858.340000000004,24647,20299,0,0,0,0,0,0,0,0,0,0,0,0]
[223,"Orange                       ",69.510000000000005,5726579,1106334,4911542,5794416.4100000001,1365123,4961898,5977476.5872389013,1437195,5097546,6544119.3700000001,1531082,4936583,580165,6699540.3565933015,1785567,5406413,0,6697536.4997399999,1819535,5090570,27329,306189,6427741.0799999991,1820190,5117899,6143522.4500000002,1791132,5142779,6178576.1000000006,1796299,5158204,6225638.2200000016,1814005,5173729,6497667.1399999978,1883340,5189379,6410831.3199999994,1858029,5222159,6801556.0005172687,1896835,5240609,6913169.459999999,1888769,5259029,7421674.387598698,1989628,5432046,7238630.1499999985,2020501,5432046,6806427.04,1964703,5448006,8547480.9700000007,2251919,6295562,9212499.9199999981,2332598,6879902,9418168.6300000008,2446944,6971225,9107782.0099999998,2457008,7047875]
[224,"Orleans                      ",17.5,1619773,2314304,225962.4,1599992.33,1928689,236862.4,1527004.24,1747368,246812.4,1489750.36,1601503,229223.4,26939,1586853.2817454548,1643573,251039,0,1471893.3349799998,1497065,236373,1269,17747,1548813.24,1556406,237642,1684181.3199999998,1657933,245322,1746797.08,1713633,250272,1909216.98,1715171,279616,2072439.67,1813057,285191,2091738.9399999997,1737899,353840,2186402.5084648258,1814388,372015,2345513.3400000003,1934693,410820,2457051.7958840481,2027068,429984,2333514.6599999997,1925150,429984,2121258.23,1750038,435474,2265527.7100000004,1869061,445614,2114047.8800000004,1744090,454554,2052611.2499999998,1693404,469634,2277162.9099999997,1878659,492134]
[225,"Otis                         ",17.5,0,4865,0,0,1222,0,0,0,0,0,0,0,0,0,0,0,0,0,0,0,0,0,0,0,0,0,0,0,0,0,0,0,0,0,0,0,0,0,0,0,0,0,0,0,0,0,0,0,0,0,0,0,0,0,0,0,0,0,0,0,0,0,0,0,0,0,0]
[226,"Oxford                       ",43.55,15678123,7200883,8477240,16425478.989999998,7646890,8877524,17109033.364616748,8150080,9240150,17439260.300000004,8260539,8426242,990282,17832934.835016266,8214327,9228194,390414,17925538.693260003,8351513,9390325,50411,228497,18299262.16,8535109,9764153,19039445.560000002,8878897,10160549,18857808.949999999,9147593,10209599,18717632.59,9144757,10258149,19226330.559999999,9307209,10306499,18814492.639999997,9045951,10408194,18658337.210024625,8970216,10461744,19085189.02,9428164,10514754,19698237.275810093,9622553,10566894,19171590.48,9891135,10566894,18679880.199999996,10080418,10613784,21026624.100000001,10588629,10708044,21950126.810000002,10995071,10955056,23877644.359999999,11652431,12225213,24166880.359999996,12243821,12453663]
[227,"Palmer                       ",57.09,15382941,5150016,10232925,16293473.060000004,5491599,10828140,16630337.504335003,5686758,11045384,16912374.970000003,5850602,10045276,1180556,17367767.6769378,6255521,11001315,110932,16420213.2009,6331779,10463070,56170,638157,15673257.680000003,6390223,10519240,16134047.02,6470869,10585480,16198575.519999998,6747578,10626130,15478309.109999996,6819446,10664455,15466730.400000002,6815260,10701980,15564758.360000001,6592394,10784150,15937384.115527295,6595198,10829000,16355731.319999998,6739159,10873130,16594239.756346451,6825833,10915640,17071234.920000002,6857027,10915640,16709438.479999997,6791117,10955180,18251116.599999998,7077995,11173122,19001379.489999998,7280709,11720670,19106951.319999997,7584489,11845054,20132069.309999999,7960370,12171699]
[228,"Paxton                       ",26.86,196006,125093,0,0,0,0,0,0,0,0,0,0,0,0,0,0,0,0,0,0,0,0,0,0,0,0,0,0,0,0,0,0,0,0,0,0,0,0,0,0,0,0,0,13837.16,8832,5026,14371.797255353356,9461,5026,14657.8,9737,5026,0,0,0,0,0,0,0,0,0,0,0,0,0,0,0]
[229,"Peabody                      ",32.18,52895313,34167033,18728280,54951902.25,36075831,19286644,56602396.857231177,38043319,19741190,58044809.350000001,39953502,18002388,2115704,59750176.473661244,40112796,19715730,0,57582047.419799998,41285234,18563939,99659,1206582,59014857.119999997,42743764,18663598,60749406.699999996,44345547,18906718,{"$f":"62298319.99-2406437","v":59891882.990000002},{"$f":"45533417-1758848","v":43774569},{"$f":"19059168-736211","v":18322957},61102630.279999994,44118255,{"$f":"18472707+125260","v":18597967},62367587.499999993,45733796,18747217,62459203.560000002,44792470,19070452,63749465.754188508,45449042,19247212,65184413.379999995,46771496,19423672,69609817.438056916,48453163,21156654,72290192.479999989,50135481,22171771,74033830.659999996,50930549,23103282,83523634.23999998,52837629,30686005,91177548.530000001,55819170,35358379,95329652.76000002,58256933,37072720,98600551.810000002,60475751,38124801]
[230,"Pelham                       ",17.95,709807,760482,118052.8,749939.66,643809,164606.79999999999,733964.10943651071,561236,210786.8,674439.18,490547,208647.8,24521,670880.08917129191,496664,228505,0,663890.04804000002,481763,215156,1155,14219,580669.32999999996,480192,216311,560019.19999999995,482745,218831,655277.24,566477,220506,689081.27,620173,222256,696611.65,626950,224081,724220.01,609074,228151,830020.58176676114,620333,230581,859407.46,668413,233071,905329.72853302001,687532,235531,928975.21,690492,238483,782638.4700000002,645677,240583,789892.39999999991,635687,244483,858482.55999999994,631932,248263,910076.45,661794,254815,994542.49000000011,701943,292599]
[231,"Pembroke                     ",17.5,22515538,14046314,8469224,24815140.279400006,14742688,10072452,26921544.8071214,15414393,11507152,28631944.000619993,16182768,11139968,1309208,29986707.348423712,16470418,12200192,1316097,29225596.232482802,16691260,12726668,68322,805499,29344771.673250001,17053741,12794990,30140603.210499994,17494279,12925750,30742484.871859998,17997108,13013732.304039083,30579313.617779996,18171451,13095032.304039083,30953452.00279,18734967,13174507.304039083,30278155.873739995,18592537,13344512.304039083,30076801.769575488,18988785,13434662.304039083,30098844.630960006,19889115,13521752,31408204.402095743,20722469,13608752,31797805.646810003,21249366,13608752,31570380.367049992,21759351,13690952,33225728.808800004,22712411,13852952,33926554.381990001,23884371,14008892,33089290.707739998,25260111,14267124,33498160.487529997,26492804,14632674]
[232,"Pepperell                    ",32.200000000000003,9796,2034,7762,10849.66,4054,8308,11355.27,4893,8571,11943.49,5146,8877,0,0,0,8699,0,0,0,0,0,0,0,0,0,0,0,0,0,0,0,0,0,0,0,0,0,0,0,0,0,0,0,0,0,0,0,0,0,0,0,0,0,0,0,0,0,0,0,0,0,0,0,0,0,0,0]
[233,"Peru                         ",51.44,48982,11961,37021,97646.94,29593,71992,79486.89,29514,72342,107491.41,39254,91528,0,98452.600038277524,35805,89697,0,84250.709759999998,35751,84250.709759999998,0,0,73500.42,33517,73500.42,76183.260000000009,35598,73500.42,103152.16,50799,73500.42,117044.1,56662,73500.42,105599.68000000001,54600,73500.42,170156.80000000002,80315,89842,107334.66674871638,47752,89842,110697.28,49777,89842,114974.37804282685,52709,89842,117262.39999999999,58074,89842,134575.02000000002,64606,90112,156977.1,73240,90112,164907.6,73878,91030,134882.64000000001,60567,91030,104125.73999999999,46233,91030]
[234,"Petersham                    ",32.869999999999997,794648,460434,334214,887913.94,484109,403805,910107.84943651082,464081,446027,884202.43,440655,403908,47469,727844.57486698567,387334,442349,0,686761.92768000008,379916,416507,2236,25481,656167.6,383839,418743,637666.18999999983,396428,421383,594228.81999999995,438845,422883,566086.55000000005,454106,424308,611232.30999999994,479273,425758,627194.55000000005,512362,429223,716629.18602344103,573272,431323,772220.59,581489,433423,825450.36454343062,571360,435523,932984.68,640821,435523,859319.13,588398,437533,934128.69,553478,441433,1133842.72,637636,496207,1204091.5800000003,666342,537750,1523839.1400000001,809811,714028]
[235,"Phillipston                  ",39.81,0,0,0,0,0,0,0,0,0,0,0,0,0,0,0,0,0,0,0,0,0,0,0,0,0,0,0,0,0,0,0,0,0,0,0,0,0,0,0,0,0,0,0,0,0,0,0,0,0,0,0,0,0,0,0,0,0,0,0,0,0,0,0,0,0,0,0]
[236,"Pittsfield                   ",62.71,52725657,24611444,28114213,57082753.469999999,25485280,31597473,59041738.979034342,25796426,33245313,61752172.609999992,25995833,31996051,3760289,63207565.231892832,25852192,35041213,2314160,62148014.552700013,25940936,35512358,190646,1809494,63704268.780000001,26794850,36909419,65754169.920000002,27822547,38017592.827607997,67796003.910000011,28757787,39290437.62740925,67481752.38000001,29005679,39447162.62740925,68905111.570000008,29086218,39818894,68494174.319999993,28442404,40155219,68570957.773763955,28025316,40545642,70785982.700000003,28120602,42665381,75857280.533894911,28171219,47686062,76463876.149999991,28300807,48163069,79110404.659999996,29449820,49660585,84729484.75,30474674,54254811,92916030.260000005,32068500,60847530,97815674.270000011,33854715,63960959,104024895.27,35574534,68450361]
[237,"Plainfield                   ",33.97,19593,16836,18987,43398.64,22879,30740,68131.62,37773,41615,95547.92,47108,54235,0,98452.600038277524,55480,53150,0,96286.525439999998,58428,51024,0,0,61250.35,41319,51024,63486.049999999996,42461,51024,51576.08,40855,51024,78029.39999999998,64254,51024,39599.880000000005,32922,39599.880000000005,39512.76,29669,39512.76,40250.500030768642,28875,39512.76,27674.32,19519,27674.32,28743.594510706713,19101,27674,43973.400000000009,31321,27674,59811.12,47653,27794,78488.55,60901,27794,65963.040000000008,46971,27794,118022.31000000001,81309,37431,156188.61000000002,103133,53056]
[238,"Plainville                   ",17.5,5675056,3322319,2374850,6041437.8299999991,3487590,2553848,6193164.1266190642,3616015,2618681,6360137.9900000002,3728363,2405042,282649,6513212.2174468907,3852023,2633937,27252,6313858.9432200007,3881974,2505722,13452,161615,6272346.2599999998,3923605,2519174,6913476.3999999994,4145967,2768880.59601,6826165.1400000006,4169061,2788255.59601,6579213.379999999,4253996,2806755.59601,6450343.1600000001,4374579,2824580.59601,6794336.419999999,4700337,2864950.59601,6634193.2430846673,4712959,2885980.59601,6762343.2399999993,4806288,2906741,7272815.8487452483,5127708,2927801,7517996.1499999994,5427402,2927801,7127762.9100000001,5273871,2947541,8036459.790000001,5785122,2987741,8340185.2700000005,6122586,3027041,8367252.290000001,6374798,3092873,9318021.790000001,7105163,3190373]
[239,"Plymouth                     ",17.5,65808603,50709654,16749442.999999998,70785947.548399985,52596289,18464636,72586825.799855381,54446578,19542986,77105661.264829993,55729593,19128070,2247998,79497521.622687668,56638333,20948547,1910642,78742171.183430165,56893637,21523756,115549,1428409,79081949.172639996,57303942,21778007,80478825.04377,59037999,22208459.478195209,83431824.025150001,60777692,23291787.509499453,83619257.170059979,61240645,23670916.509499453,84831859.535599992,62123870,23872516.509499453,84727196.122590005,61058495,24315046.509499453,88349686.529343486,62464730,25884957,89987228.589259982,64955484,26128197,93345303.481633395,68683929,26369547,94027629.56190002,71603127,26369547,96767564.539159998,74471293,26600787,104649211.54707,79081066,27066867,111949866.57694001,83683584,28266283,112170810.485,88503759,29055747,115252249.87069999,92866994,30162897]
[240,"Plympton                     ",23.18,1607157,1349172,489958,1606594.6,1279333,506035,1709080.5840138937,1275953,543319,1853769.61,1327166,531833,62503,1908834.034465072,1361877,582449,0,2009833.57968,1434960,563844,3027,21828,1974807.62,1416646,566871,2018759.52,1484742,591347.62748400006,2207684.7599999998,1597361,652019.25887999998,2194273.0299999998,1544590,702595.25887999998,2074615.8599999996,1557980,708270.25887999998,2281485.7581900004,1667056,721030.25887999998,2208586.3887203764,1594867,727660.25887999998,2244246.1515200003,1618008,734170.25887999998,2239539.0976047828,1665166,740470,2429975.0922999997,1772432,740470,2366031.9386399998,1783978,746890,2979879.4445200004,2095520,884359,3146739.0944000003,2196202,950537,3445673.1154400003,2338631,1107042,3562008.9879999999,2543035,1145742]
[241,"Princeton                    ",17.5,0,0,0,0,0,0,0,0,0,0,0,0,0,12306.57500478469,10005,0,2302,0,0,0,0,0,0,0,0,0,0,0,0,0,0,0,0,0,0,0,0,0,0,0,0,0,0,0,0,0,0,0,0,0,0,0,14952.78,12336,2631,15697.710000000001,12201,3497,16490.760000000002,13140,3497,0,0,0,0,0,0]
[242,"Provincetown                 ",17.5,1291811,4055956,255800.8,1285826.94,1956162,263550.8,1321743.9439575451,1727275,271200.8,1263192.58,1561249,248898.8,29252,1338933.845374163,1591643,272588,0,1375097.9072400001,1521466,256663,1378,18272,1289521.3,1431340,258041,1203806.04,1203806,262841,1231636.8800000001,1215446,265966,1414247.5399999998,1209208,269641,1284862.27,1156376,272866,1411461.41,1172251,280401,1300534.3107840288,1090154,283851,1343546.56,1102452,287481,1386868.4082193591,1144166,290781,1297760.2800000003,1070652,290781,1357829.1199999996,1120209,293751,1535068,1266431,299571,1708796.98,1409758,305451,1580908.4799999997,1304249,314499,1658443.61,1368216,328599]
[243,"Quincy                       ",17.5,73098901,63941052,12561073.199999999,77782533.934249982,67709257,13380709.199999999,83528509.845593929,70748789,14388553.199999999,89488958.460700005,73362291,14430718,1695949,92909519.333574429,72784382,15804134,4321003,92692070.835875496,74238283,18949428,101729,1298455,96661211.859239995,75702194,20959018,102157664.34112,79182392,23565229.189149439,105786949.41116999,81483004,24789394.287227817,108294787.80678003,82452996,26024786.287227817,109837246.19363996,84853939,26257161.287227817,109074296.63971998,85429167,26763766.287227817,112465494.00668323,87353305,27043396.287227817,117829054.19366997,90433969,28364113.480534859,123682608.20704634,95726151,28647763,129336079.22404,101589945,28647763,138447528.00444001,106595521,31872332,146803428.35284004,111395437,35407991,164068488.81255996,118960682,45107807,167877095.85800001,127478124,46126903,177359599.78528002,135165569,47604553]
[244,"Randolph                     ",42.1,28415668,20365108,10420471,30652225.832729999,20844001,11313976,31690386.102510918,20566218,11852877,32016655.867279999,20344448,10904100,1281488,31481792.989716146,20147871,11941876,0,30820251.731979597,19924468,11244232,60364,716005,31980943.732399996,20085920,11895024,34252525.530859999,20607886,13913057.555152636,35279771.078940004,21206980,14424784.13735972,35955443.988719992,20964754,14990690,36417465.611719996,21159883,15257583,35981002.85723,20358913,15693730,37100685.939180903,20804157,16296529,39313342.30715999,21866831,17446511,41045165.956319869,22557750,18487416,42468258.92028001,23490641,18986721,44771562.799199991,24106610,20667301,47526055.611459993,24874680,22651376,50608513.309120007,26405867,24202646,53653467.411599994,27738483,25914984,60202189.727940001,29584825,30617365]
[245,"Raynham                      ",34.82,0,0,0,0,0,0,0,0,0,0,0,0,0,0,0,0,0,0,0,0,0,0,0,0,0,12697.210000000001,7860,4837,0,0,0,26009.8,16567,9443,0,0,0,0,0,0,0,0,0,0,0,0,0,0,0,0,0,0,0,0,0,0,0,0,0,0,0,0,0,0,0,0,0]
[246,"Reading                      ",17.5,29463124,23184689,6290156.9999999981,31463026.360140003,24343136,7119890,33194639.301516734,25152672,8041967,35385849.034999996,26121634,8289951,974264,36474849.126737088,26451786,9078931,944132,35612661.075852714,26779324,9437516,50665,641507,36437713.051029995,27264731,9488181,38136802.087369993,28233100,9903702,38817531.163199998,29008253,{"$f":"10011427+8422","v":10019849},38963364.685199998,30125539,10126574,39638139.190400004,31807445,10232699,39861932.613879994,32924851,10465569,40268620.860512272,33365588,10591299,40642299.144709997,33529896,10713609,42311533.287209027,34907015,10834809,42488891.059600003,35053335,10834809,42274011.335760005,34876059,10949859,43201150.09262,35640949,11171799,46064559.298859999,37284680,11394279,47040957.59142001,38808790,11776583,48771409.240159996,40236412,12326033]
[247,"Rehoboth                     ",17.5,0,0,0,0,0,0,0,0,0,0,0,0,0,0,0,0,0,0,0,0,0,0,0,0,0,0,0,0,116046.18,81889,34157,91034.3,64373,34157,26399.920000000002,18518,26399.920000000002,0,0,0,0,0,0,0,0,0,0,0,0,0,0,0,0,0,0,0,0,0,0,0,0,0,0,0,0,0,0]
[248,"Revere                       ",59.13,46478555,22374964,24103591,51922904.798499994,24134938,27787967,56922955.069418222,25539984,31382971,60166072.687420011,26575341,30058188,3532544,64653955.409767158,26216203,32918917,5518835,65723577.218013175,27005010,37975657,203870,539040,68075146.155200005,27339812,40735334,74073065.5757,28043890,46214315.401124246,76694917.361529991,28826715,{"$f":"48007444.2055175+33688","v":48041132.205517501},79960501.103390008,29010426,50950075,84281832.122129992,30065688,54216144,82249270.676439986,30306709,56509506,88195564.570087463,31495119,{"$f":"60824236-4085080","v":56739156},96064542.993500009,32918306,65040589.077949196,104529856.46755695,34860627,69669229,107222329.50896001,36927909,70298333,119408964.46437,38458098,80950866,125462677.79059999,41009518,84453160,142967579.12336001,44549397,98418182,150716408.54799998,48522644,102193765,159415532.16808999,52200934,107214598]
[249,"Richmond                     ",17.5,1762868,2078922,321695.2,1791554.66,2029927,333845.2,1666525.1984222305,1918538,344495.2,1733844.42,1800907,356276.2,0,1714724.0778717706,1779707,349151,0,1627120.605,1690989,328754,1765,23307,1432341.44,1629712,330519,1455405.7799999998,1455406,336919,1341137.6900000002,1341138,340519,1381559.82,1243404,344169,1238912.1900000002,1115021,347244,1203251.3800000001,1015683,353789,1268580.5002314509,1047475,357479,1277797.2200000002,1054183,361049,1333384.0206293394,1100042,364649,1449827.3,1196108,364649,1294266.8799999999,1067770,368009,1633317.1499999997,1118062,515255,1653453.7499999998,1364099,522455,1660447.3899999997,1369869,535143,1789484.8800000001,1476325,553593]
[250,"Rochester                    ",20.74,3680270,2350290,1329980,3824253.2,2478288,1395317,4020213.9527178695,2498485,1521729,4281470.25,2647282,1462330,171858,4601636.8752688998,2799668,1601504,200465,4449279.2438400006,2835130,1696698,9109,109987,4206398.72,2715486,1705807,4265135.9700000007,2781320,1725847,4306372.08,2817361,1738272,4252932.9000000004,2742703,1750422,4382165.5599999996,2807707,1762322,4400657.959999999,2745493,1788722,4319981.4040858541,2706641,1802732,4788761.0199999996,2933529,1855232,5204047.0350275449,3146498,2057549,5386708.8799999999,3382851,2057549,5247585.0799999991,3517393,2072039,6070731.0099999998,3686389,2384342,6163095.8600000003,3840072,2414282,6292946.6200000001,4161563,2466282,6154033.3700000001,4242497,2537232]
[251,"Rockland                     ",46.94,19513418,11054067,8952545,20522022.761699997,11421237,9430825,21120295.814178336,11629129,9714945,21933698.112469997,11574215,9270036,1089447,22004828.13255582,11463450,10152293,389085,21074812.564186316,11539567,9925552,53285,619191,21774162.33845,11752002,10022160,22355995.259560004,12117742,10325639.588731904,22663493.787000004,12382935,10386793.067113128,23580543.138319999,12524805,11055738,25189073.019840002,12589951,12599122,25814155.980160002,12429362,13635665,25966055.368246898,12806197,13706495,25871093.227260001,13345423,13774895,27535663.693475917,13793841,13843235,29202100.0068,14473503,14728597,29636842.031679999,14836781,14800061,31695075.426849995,15340167,16354908,34848972.482560009,16311436,18537536,35665890.654100001,17102717,18764880,37854417.122810006,17961039,19893378]
[252,"Rockport                     ",17.5,7402784,7362604,1194220.8,7628241.0882799998,7471074,1244120.8,8076762.8806776693,7497665,1322611.8,8284122.9709999999,7446648,1226740.8,144171,8104260.50920715,7413825,1343494,0,7620062.4644836802,7138013,1265007,6791,93921,7319480.6514099985,7150187,1271798,7190513.3909999989,7094748,1304118,7275247.9357000012,7139271,{"$f":"1324168+33688","v":1357856},7619731.0979199996,6857758,1377981,7726823.8438600004,6690331,1397406,7673923.8114000009,6409651,1439096,7549140.3215470212,6289613,1461146,7350864.6990399994,6064463,1481756,7685699.8726646928,6224394,1502126,7619056.3994999984,6285722,1502126,6998375.1413199985,5773659,1519946,7658338.1696900008,6318129,1555526,8129580.1188599998,6706904,1590746,7652804.31757,6313563,1648466,7625722.318,6291221,1726466]
[253,"Rowe                         ",17.5,475150,699660,45294.8,409882.39,614824,50581.8,523549.62469008093,580213,70473.8,419120.95,513500,65254.8,7669,441524.18143540673,501807,71465,0,552009.03876000002,498355,67290,361,5289,560185.52,501042,67651,613859.06999999995,514712,99147,620119.16,527677,100747,618393.5,525865,103362,676330.15,545165,131165,642285.43000000005,535088,134795,637861.27157375612,530325,136715,598648,493885,138335,582531.02683389105,480588,139775,643874.47,531196,139775,580639.88,479028,141065,687426.26,567127,143705,751366.82,619878,146165,784243.28,647001,150845,704404.78000000014,581134,156995]
[254,"Rowley                       ",17.5,0,0,0,0,0,0,0,0,0,0,0,0,0,0,0,0,0,0,0,0,0,0,0,0,0,0,0,0,0,0,{"$f":"0+25266","v":25266},66468.098199999993,52584,25266,27029.435180000004,21899,25266,27164.907080000004,22563,25266,69109.922267947739,57514,25266,42624.152879999994,35165,25266,103785.9218574735,85623,25266,105768.04224000001,87259,25266,107793.08546999999,88929,25476,145589.63310000001,110941,34649,102026.38446,75107,34649,86837.768100000001,67825,34649,89152.431750000003,73551,34649]
[255,"Royalston                    ",35.35,0,0,0,0,0,0,0,0,0,0,0,0,0,0,0,0,0,0,0,0,0,0,0,0,0,0,0,0,0,0,0,0,0,0,0,0,0,0,0,0,0,0,0,0,0,0,0,0,0,0,0,0,0,0,0,0,0,0,0,0,0,0,0,0,0,0,0]
[256,"Russell                      ",47.65,244989,94511,150478,183566.83,77676,151228,226187.09,88946,178215,225960.41,85118,179065,0,232829.66715406702,86171,175484,0,191599.70616,75063,168465,0,0,207260.47,79133,168465,189431.25,72090,168465,205261.50999999998,81982,168465,220031.55,83474,168465,210131.86,84199,168465,236011.40000000002,100692,168465,240301.01604183207,93424,168465,289210.46999999997,105564,183646,314603.33724281075,115978,198625,335521.82,128757,206765,357110.16,152804,207425,327675.83999999997,136549,207425,344095.56,136909,207425,267378.24,106157,207425,448617.29999999993,193038,255579]
[257,"Rutland                      ",48.21,9796,4598,8945.2000000000007,10849.66,4565,9555.2000000000007,11355.27,4214,9848.2000000000007,11943.49,4379,10197.200000000001,0,0,0,9993,0,0,0,0,0,0,0,0,0,0,0,0,0,0,0,0,0,0,13199.960000000001,5917,7283,0,0,0,0,0,0,0,0,0,0,0,0,0,0,0,0,0,0,0,0,0,0,0,0,0,0,0,0,0,0]
[258,"Salem                        ",28.54,39985833,29992288,10536329.999999998,42136154.640000001,30487993,11648162,42852484.075050555,30556126,12876914,44915008.079999983,30543822,12859851,1511335,47512497.335793309,30403931,14083762,3024804,47422424.260079995,30121364,16969097,91098,240865,49075889.510000005,30553623,18522267,51691291.730000004,31398532,20759584.19116275,51136476.850000001,31823721,{"$f":"20879459.1911628+134752","v":21014211.191162799},52070759.630000003,31881386,21231627.191162799,52542429.829999998,31669846,21348402.191162799,52561026.710000008,31386760,21600632.191162799,52768572.013673805,32317455,21736742.191162799,54862156.089999996,33573950,21872762,59983631.397195973,34176479,25807152,59442159.61999999,35764101,25807152,59973101.910000004,36940239,25936602,62736825.24000001,39750153,26184942,69935642.150000006,42479762,27455880,75190968.379999995,45548652,29642316,79288061.75999999,48249759,31038303]
[259,"Salisbury                    ",17.5,0,0,0,0,0,0,0,0,0,0,0,0,0,0,0,0,0,0,0,0,0,0,0,0,0,0,0,0,0,0,{"$f":"0+33688","v":33688},52019.6,44990,33688,79199.760000000009,67740,33688,79025.52,66069,33688,40250.500030768642,33612,33688,69185.8,57078,33688,14371.797255353356,11857,14383,29315.599999999999,24185,14383,29905.56,24672,14443,31395.420000000002,24408,14443,32981.520000000004,25025,14443,50580.990000000005,40556,14443,52062.869999999995,42952,14443]
[260,"Sandisfield                  ",17.5,0,0,0,0,0,0,0,0,0,0,0,0,0,0,0,0,0,0,0,0,0,0,0,0,0,0,0,0,0,0,0,0,0,0,0,0,0,0,0,0,0,0,0,0,0,0,0,0,0,0,0,0,0,0,0,0,0,0,0,0,0,0,0,0,0,0,0]
[261,"Sandwich                     ",17.5,27631550,23236639,5651356.0000000019,28541824.359999999,23538127,6229598.0000000019,29371842.072332684,23681935,6694018.0000000019,29341477.619999997,23800113,6150491.0000000019,722827,30244193.036922485,24197825,6735852,0,29670856.676279996,24024554,6342344,34049,449184,28621462.630000006,24051894,6376393,29161934.479999997,24620229,6508793,28830810.450000003,24951122,6588268,28304004.249999989,24542435,6665593,27987804.329999994,24211459,6740018,27982398.590000007,23359532,6902818,28141702.856564838,23400169,6989398,27742486.25,22887551,7071628,28195096.030377951,23260955,7151788,28550950.060000002,23554534,7151788,27638904.289999999,22802096,7226188,29279714.52,23596865,7371508,29251950.23,24132859,7508068,29473433.750000004,24315583,7739676,29672861.210000001,24480111,8063976]
[262,"Saugus                       ",17.5,22412040,22359654,3538314.4,24160470.339740004,22578923,3844289.4,24646309.885408901,22714754,3997139.4,25756505.726459999,22756006,3750635.4,440788,26465118.450756904,22613204,4107595,0,25120399.373848077,22610471,3867629,20763,290803,25149470.265000004,22560247,3888392,26683232.319300003,22948688,4144389.7674957826,28162538.90636,23659244,{"$f":"4883463.0180176+202129","v":5085592.0180176003},28469688.994549997,23886601,5266627.0180176003,28704386.50144,24111062,5338002.0180176003,27795391.629999999,23261068,5488812.0180176003,27708148.930856943,23048854,5569152.0180176003,28856877.780000001,23763905,5649702.0180176003,31417986.972791355,25343552,6136490,33051187.879999995,26786282,6270812,31864908.979999997,26288549,6349172,37560632.350000001,28130603,9430029,42085454.029999994,30096004,11989450,46319897.799999997,32254007,14065891,50782365.639999993,34611764,16170602]
[263,"Savoy                        ",22.22,759317,298094,461223,819788.07,322710,499459,805305.56435198744,325832,504459,842480.55,336900,471826,55451,868256.36446315795,341085,516731,10440,771221.57736,360142,496374,2665,30432,690277.05,333540,499039,695640.89999999991,312586,502079,593525.96,291675,503704,600300.83000000007,298627,505329,592852.67000000004,321122,506879,644284.77,314279,510509,634366.34950279677,316323,512309,668959.30000000005,357593,514049,751434.40349266853,362123,515849,635304.58000000007,372887,515849,542332.33000000007,447424,517199,652497.02999999991,427939,519899,576479.4,429924,522299,622293.56000000006,425422,525939,599224.78999999992,419808,531339]
[264,"Scituate                     ",17.5,21888018,18307200,3580818,23195983.650910005,19230638,3965346,24538930.345499434,20008979,4529951,26018135.560409993,20809421,4660944,547771,26573232.383127034,21922917,5104541,0,26489575.520701922,22264352,4806334,25802,351455,26874930.164800003,22799362,4832136,27918935.093200006,23462809,4957576,28025063.522399995,24028869,5034826,27783603.550999999,23886438,5110701,28197733.99712,24057987,5185901,27740691.55742,23172735,5346391,28537003.198598668,23614603,5434351,29192076.879900001,24083464,5521321,30755855.729239803,24906358,5863240,32099035.583470002,26068183,6030853,30894315.612089995,25487810,6114553,32814594.939320002,26600278,6281773,34295600.022,27754773,6540827,35051638.613499999,28917602,6827035,35753574.680160008,29496699,7234435]
[265,"Seekonk                      ",20.91,16068884,14714809,3044575.2,16695154.580000002,14553529,3620014.2,17298382.43925048,14521219,4210223.2,17542753.499999996,14157726,4120766.2,484287,18026023.068662196,14305874,4512952,0,17708321.343119998,14225007,4249306,22812,293384,18141473.569999997,14541315,4272118,18781878.59,14551240,4595356.15655425,18801442.079999998,14822067,4787529.9737716876,18854298.620000001,14466350,4931239.9737716876,18460114.679999996,14348947,4979514.9737716876,18466575.149999999,14127909,5086214.9737716876,18642353.387814865,14172922,5143574.9737716876,20162615.929999996,14723649,5454099,21995792.007408068,15294251,6705263,22173871.389999997,15952238,6705263,22858887.199999999,16514693,6766703,24525300.480000004,17348780,7176520,25865534.950000003,18110661,7754874,26822442.259999998,19300371,7970778,27170412.23,20374751,8276778]
[266,"Sharon                       ",17.5,24896987,18670749,6270630.0000000009,26202037.429339994,19586419,6615618,27015017.202182684,20567259,6785118,28024961.712149993,21309075,6231888,732394,28860669.078239046,22028864,6824996,6809,28790563.702690437,22591942,6432692,34533,448580,29804844.627760001,23242013,6562832,30203331.846320003,24076220,6695952,31456583.212149996,24940038,6780652,31433647.07305,25641123,6865177,32275546.17168,26573303,6950527,32581200.061299995,26421487,7138517,33110463.782192025,27317316,7240547,34930860.248220004,28416519,7344287,37027112.382259734,29719389,7449437,38206192.104400009,30736571,7469972,38638373.186679997,31062235,8528536,42035594.013680004,32315527,9720067,44179615.271480002,33681121,10498494,45602230.371939994,35374920,10864366,46223465.281550005,36996923,11377366]
[267,"Sheffield                    ",17.5,19593,10223,9370,43398.64,32920,14036,45421.08,40042,14610,35830.47,28711,14760,0,36919.725014354073,30951,14465,0,24071.631359999999,20857,13886,0,0,24500.14,21717,13886,50788.840000000004,46205,13886,64470.1,62545,13886,78029.39999999998,70226,13886,92399.719999999987,80706,13886,105367.36000000002,88541,16826,93917.833405126818,79039,16826,96860.12,79910,16950,0,0,0,0,0,0,0,0,0,0,0,0,65963.040000000008,51793,14170,45335.72,37402,14170,86771.45,71586,15185]
[268,"Shelburne                    ",21.07,0,0,0,0,0,0,0,0,0,0,0,0,0,0,0,0,0,12035.81568,7620,4416,0,0,12250.07,7587,4663,12697.210000000001,8809,4663,12894.02,9180,4663,13004.9,10008,4663,0,0,0,0,0,0,0,0,0,13837.16,10789,3071,14371.797255353356,10195,4177,14657.8,10057,4601,0,0,0,0,0,0,0,0,0,0,0,0,0,0,0]
[269,"Sherborn                     ",17.5,3380552,3318579,340731.2,3421487.44172,3345012,392337.2,3609943.9431416788,3395988,464158.2,3944872.97248,3531728,482139.2,56663,4018165.4634094238,3568870,528026,0,3616285.1801423398,3274399,497179,2669,39428,3544554.8176799999,3168291,499848,3322207.8539100001,3024786,515408,3446195.4454399999,3128611,525258,3327431.3505500001,2944257,545223,3380505.0839999993,2917753,554673,3478451.7794499998,2909277,575738,3806638.9460125784,3143918,662721,3863587.5212599998,3181825,681763,3922730.1411090656,3236252,693583,4086891.646209999,3371686,715207,4092250.4348000004,3376106,726817,4431918.9769299999,3656333,775586,4685609.0321299993,3865627,846957,4869362.1741699995,4017224,888765,5048450.2009800002,4164971,948465]
[270,"Shirley                      ",33.6,6819383,2858481,3995219,7141364.7989100004,3138806,4154632,7495917.7602271345,3284354,4330455,7800802.5329999998,3435489,4012957,471617,7655204.9791285908,3754395,4394883,0,12461,6250.1276655997626,6812,37,420,0,0,0,0,0,0,0,0,0,0,0,0,0,0,0,0,0,0,0,0,0,0,0,0,0,0,0,0,0,0,0,0,0,0,0,0,0,0,0,0,0,0,0,0,0]
[271,"Shrewsbury                   ",17.5,39662058,25861451,13800607,43006922.329999998,27107973,15898949,46216469.143160932,28796799,17419670,49163922.700000003,30297112,16882697,1984114,50640024.753362693,31084837,18489475,1065713,49767093.421020001,32455678,18412775,98848,1189765,51780005.259999998,33692240,18511623,53574891.730000004,35083729,18748463,55072809.080000006,36553737,18897238,55423621.549999997,38578814,19045813,57096131.690000013,40658212,19195638,56301993.68999999,42573214,19524868,58194036.86341849,44655044,19706038,60487338.449999981,47137864,19887358,63259403.708104163,49749302,20068648,66373147.319999993,50487975,20068648,67854307.580000013,52472153,20252968,70918716.61999999,55216447,20613148,74633713.99000001,57993834,20971468,77754351.169999987,60858729,21595260,80350322.87999998,64461566,22487010]
[272,"Shutesbury                   ",32.72,980949,744787,465653.2,1097675.33,693858,532129.19999999995,1087472.3443519874,671283,540635.19999999995,1238144.68,732474,551624.19999999995,64829,1224192.060937799,728091,604124,0,1121281.2738600001,660237,568831,3054,35764,1133132.5,652599,571885,1250486.46,696787,584974.46020800003,1178320.1300000001,657620,588274.46020800003,1268845.75,689268,593590.46020800003,1336733.0899999999,723367,613366,1115064.6000000001,624029,619856,1157848.556575418,680124,623336,1166902.03,669164,626876,1321150.8039989388,730491,630386,1221694.1099999999,712492,630386,1167665.8499999999,713413,633326,1228431.31,719067,639326,1442294.2199999997,820401,645986,1330308.4500000002,822355,656282,1485214.6700000002,941768,672182]
[273,"Somerset                     ",37.74,18801260,18110659,2685723.2,19720957.539999995,17515386,3559416.2,20657264.747334611,16992794,4521167.2,21503415.919999998,16475983,4807347.2,564976,21570952.204983734,16298338,5264877,7737,14275069,10715794.64921918,3499899,19110,75402,14571529.510000002,10467269,4104261,15524516.379999997,10738045,5022377.9989644997,15769354.82,11107578,5109544.062146375,16069095.370000001,11192906,5217678.062146375,16337259.259999998,11103046,5262728.062146375,16558627.16,10170448,6388179,17125371.876508925,9582995,7542377,17732666.670000002,9557082,8175585,18329520.115415696,9423790,8920409,18501842.410000004,9406646,9096902,17923179.719999999,9348329,9146162,20421920.32,10007089,10414831,21144659.59,10510731,10633929,20961593.84,10906308,10798977,22010520.120000001,11879285,11039877]
[274,"Somerville                   ",17.5,51199725,35731948,19725438.800000001,52325941.29772,38065244,19994838.800000001,53650930.251636975,40215930,20255638.800000001,55603076.77403,42134230,18431168.800000001,2166096,57459406.133968234,47404010,20185320,0,56711003.467927195,48121353,19006095,102033,1205842,58313543.709569983,48819464,19108128,60645451.388249993,50545090,19316888,61833356.366640002,51800992,19448713,62767269.546019986,52703692,19582488,64208758.285060003,54026428,19717388,62011654.562320009,51954315,20010098,64130648.10950844,53229236,20170688,65998570.132249989,54448820,20329028,68863033.368161425,56812003,20486918,72325602.754360005,59668622,20486918,77023976.661080003,62371611,20638388,80143330.545699999,66118248,20939048,88070540.975499988,71896983,21245048,92273702.112999991,76125804,21780232,95463549.588399991,78757428,22553482]
[275,"Southampton                  ",23.68,3817595,1937134,2294612,4033879.67,2117278,2404074,4219769.7429432645,2252330,2496629,4454454.5199999996,2332152,2339180,274909,4552925.5780440187,2372375,2561807,0,4426092.5655599991,2463679,2412147,12949,149736,4394778.41,2552882,2425096,4300263.7899999991,2555321,2444176,4418126.47,2686385,2456276,4598039.57,2840365,2468676,4683286.6400000006,2974492,2480926,4702769.24,3078158,2507986,4863203.5231375461,3146804,2522746,4914639.3900000006,3298766,2537146,5018160.4177704034,3476888,2551486,4972548.3299999991,3367625,2551486,5095671.4799999995,3512848,2564926,5851647.4900000002,3885985,2593726,6284662,4309371,2623246,6090235.1399999997,4421614,2671398,6438163.6200000001,4736509,2742798]
[276,"Southborough                 ",17.5,10775916,8618521,2581627,11112363.866560001,8827786,2657427,11560282.354900939,9325599,2735813,12278597.972959999,9676623,2560589,300929,12791303.833687706,10552826,2804288,0,12125426.22289644,10423982,2640461,14175,186952,12100378.3814,10488914,2654636,12191121.0648,10539005,2710636,12056861.715160001,10683506,2744686,11801364.191059999,10384154,2777761,11574099.806239998,10152043,2809611,11260409.134279998,9485040,2877481,11409894.389389778,9486965,2914531,11677611.934810001,9634030,2950921,11760311.474915259,9702257,2986051,12497359.942009997,10310322,2986051,12226979.455160001,10087258,3020731,13166912.130260002,10631673,3091171,14230837.126399998,11416440,3163171,14839839.35713,12011425,3290363,15401749.173959998,12482147,3473063]
[277,"Southbridge                  ",73.930000000000007,20428362,5691750,14736612,20103131.259999998,5866161,14851612,21509239.16868699,5955255,15829982,22155409.049999997,6064486,14570274,1712350,22728459.686706219,6844242,15956972,0,22931317.140119996,6910142,15713770,84358,223047,24396090.530000005,7165928,17230163,25154189.23,7503317,17682899.236941002,26268571.68,7736324,18620961.75948,26907889.430000003,7788520,19119369,27590853.959999993,7902804,19688050,27951569.609999992,7518500,20433070,28503932.0841102,7316033,21187899,28731938.279999997,7510318,21257319,30836388.956011005,7846557,22989832,29979243.07,8016911,22989832,31977786.810000002,8279716,23698071,34733982.75,8618946,26115037,38095220.899999999,9107735,28987486,41980389.5,9707895,32272495,44392355.590000004,10094448,34297908]
[278,"South Hadley                 ",30.74,16765667,11233847,5531820,17331909.950000003,11613713,5867471,18060956.990095712,11637991,6422966,19336375.739999998,11671079,6859182,806115,19536753.464956939,11564704,7511991,460058,18934829.861939996,11597234,7506322,40297,478280,18784553.009999998,11810114,7546619,19235881.489999998,12212647,7627179,19156845.539999999,12497985,7676404,19070528.080000002,12680992,7724754,19296183.16,12948752,7772779,19049378.099999998,12973564,7876784,19637074.331034068,12896757,7933784,20537051.940000001,13237650,7991294,22011471.953325644,13763185,8248287,22558199.090000004,14027360,8530839,22281902.760000002,14084456,8585949,24351460.979999997,14674595,9676866,25928069.819999997,15249839,10678231,26078106.460000001,15934556,10867199,26607493.200000003,16689854,11136899]
[279,"Southwick                    ",26.16,0,0,0,0,0,0,0,0,0,0,0,0,0,0,0,0,0,0,0,0,0,0,0,0,0,0,0,0,0,0,0,0,0,0,0,0,0,0,0,0,0,0,0,0,0,0,0,0,0,0,0,0,0,0,0,0,0,0,0,0,0,0,0,0,671628.83000000007,451570,220059]
[280,"Spencer                      ",48.26,637001,478936,10778.186440677964,54248.3,12811,41437,45421.08,12291,41637,0,0,0,0,0,0,0,0,12035.81568,3941,8095,0,0,12250.07,4119,8131,12697.210000000001,4307,8390,25788.04,8782,17006,52019.6,18303,33717,79199.760000000009,29599,49601,65854.600000000006,27190,49601,53667.33337435819,23403,49601,41511.479999999996,18504,41511.479999999996,43115.391766060078,19467,41511,29315.599999999999,13937,29315.599999999999,59811.12,28819,30998,47093.130000000005,21605,30998,65963.040000000008,30103,35860,67441.320000000007,30010,37431,34708.58,15612,34708.58]
[281,"Springfield                  ",85.07,253464385,28100362,225364023,262628553.05000001,30283760,232799829,286041159.20882511,31670757,254370402,296198428.4600001,33567836,235104590,27630323,305615195.21157515,33218730,257480215,14916250,302574194.31083989,34730182,262704775,1410316,8988999,309609750.70000011,34205756,275403995,320618386.81000006,34766731,285851656,330986295.45999998,35173501,295812794,337653427.27999997,36066908,301586519,345592031.43000001,36405937,309186094,356553651.79000002,36682622,319871030,370375982.61382222,37357582,333018401,383693957.99999988,38246693,345447265,411555995.64407492,40832170,370723826,419043165.70000011,41873391,377169775,446524567.99999994,43175654,403348914,483882872.08000004,44717025,439165847,525763852.88000005,48026085,477737768,557622637.52999997,51503174,506119464,600170350.39999998,54330699,545839651]
[282,"Sterling                     ",17.5,0,0,0,0,0,0,0,0,0,0,0,0,0,0,0,0,0,0,0,0,0,0,0,0,0,0,0,0,0,0,0,0,0,0,0,0,0,0,0,0,0,0,0,0,0,0,0,0,0,0,0,0,29905.56,24672,5362,31395.420000000002,25217,6178,16490.760000000002,13193,6178,16860.330000000002,13853,6178,0,0,0]
[283,"Stockbridge                  ",17.5,0,0,0,0,0,0,0,0,0,0,0,0,0,0,0,0,0,0,0,0,0,0,0,0,0,0,0,0,0,0,0,0,0,0,0,0,0,0,0,0,0,0,0,0,0,0,0,0,0,0,0,0,0,0,0,0,0,0,0,0,0,0,0,0,0,0,0]
[284,"Stoneham                     ",17.5,20419437,19045680,2769263.2,21921969.618560001,19522076,3032206.2,22673086.945864055,19670018,3312881.2,22727888.293199997,19736135,3160708.2,371458,23370068.911074977,19854576,3461523,53970,22707298.597098894,19664269,3310118,17770,252255,22408566.778700002,19761522,3327888,22578725.166379999,20034480,3483735.226029125,22242673.456560001,20042778,{"$f":"3585918.38324634+84220","v":3670138.3832463399},22756236.458160002,19732979,3779409.3832463399,23623782.041999996,19986407,3838859.3832463399,23858093.313949995,19851817,4059406,24538424.857372392,20290210,{"$f":"4269807-21592","v":4248215},25266909.403280001,20845200,4421709,26898862.887115043,21654643,5266351,27298622.593199998,22148293,5266351,27721100.205059998,22660313,5337631,29345841.392800011,23608286,5737555,32165599.711240005,24905971,7259629,33190354.091199998,26075035,7515053,35320286.730629995,27572799,7891703]
[285,"Stoughton                    ",42.4,30205157,21534491,8780857,31850504.109099995,21895939,9954565,33770063.061032131,22305523,11464540,35164976.446949996,22405193,11417910,1341873,35727786.25349389,22804647,12504587,418552,34710176.447902016,22865525,12168170,65324,784845,35682635.053249992,22821888,12860747,37103273.115960002,23411556,14019928.662023555,37422637.886239998,23911700,14304924.148446621,37491590.603239998,23503750,14600824.148446621,38474628.719349995,23660828,14813801,38325837.797450006,22995806,15330032,38830414.515473194,23973760,15439562,41181928.998719998,25335924,15846005,42580952.190584734,26370325,16210627,44058289.500399999,27084504,16973793,44927626.417459995,27845850,17235177,50610297.858939998,29115684,21494614,56987020.295979992,30547654,26439366,60534150.371639997,31939620,28594530,65412011.168519996,33998047,31413964]
[286,"Stow                         ",17.5,0,0,0,0,0,0,0,0,0,0,0,0,0,0,0,0,0,0,0,0,0,0,0,0,0,0,0,0,0,0,0,0,0,0,13655.815820000002,11465,2191,13669.092180000001,11412,2257,27906.769627179092,23174,4733,28685.840799999998,23666,5020,0,0,0,15240.539360000001,12573,2668,15555.7965,12834,2736,0,0,0,0,0,0,0,0,0,0,0,0]
[287,"Sturbridge                   ",37.57,5388381,4493704,1078308.3999999999,5516983.2500000009,4220516,1296467,5996978.0763373207,4176875,1820103,6345206.4400000004,4283593,1844805,216808,6820126.4317856468,4456964,2020381,342781,6646558.3768799985,4437863,2225107,11945,146635,6992372.2599999998,4640856,2351516,7793154.3099999987,5063140,2770520.3911102498,7764309.5599999996,4966483,2865678.1422669999,8029576.1899999995,4960281,3069295,8483866.0799999982,4983525,3500341,8568351.209999999,4799267,3769084,8170415.9676968697,4697967,3795214,8423098.5899999999,4848123,3821314,8568656.4989129324,4956813,3846634,8866569.3900000006,5185477,3846634,8608625.4299999997,5070480,3870754,9620721.5300000012,5377239,4243483,10737439.589999998,6009212,4728228,11550189.470000001,6370085,5180104,10928183.49,6377304,5304154]
[288,"Sudbury                      ",17.5,21263672,18207063,3502825,22258494.250949997,18693151,3676919,23679206.276443515,19595273,4083933,24596035.436999999,20228054,3908626,459355,25394888.37452016,20950783,4280621,163484,24480270.235956777,21160359,4184481,22464,312735,24225298.832720004,21111921,4206945,25075914.117840003,21703788,4325145,24959360.853349999,21986344,4397070,24443508.479559995,21216573,4466220,24450575.494369991,21153252,4534395,25153175.96328,20930012,{"$f":"4688560+56978","v":4745538},25474395.707632355,21173624,4829178,25690225.098839991,21194436,4910568,25917962.070728827,21382319,4990518,26639866.135919996,21977890,4990518,25581450.369169995,21104696,5066238,26839555.450000003,21886829,5215698,28628096.43,23070588,5557508,29591077.410479996,23968199,5818444,30743352.286760002,24941706,6192244]
[289,"Sunderland                   ",17.5,1491367,811746,843699,1434832.39,731500,853199,1506338.8093238133,728448,877325,1550511.91,767335,797608,93738,1651251.6745186604,1124871,873519,0,1426674.3802799999,1068529,822488,4415,50791,1427166.29,1106475,826903,1450167.1600000001,1171657,833063,1488182.91,1281235,836963,1659835.8300000003,1346071,841288,1744222.4,1440699,845663,1863761.3099999998,1490797,855618,2030461.9982605327,1547169,861528,2072735.7500000005,1562671,867288,2147362.3185696225,1649338,872838,2034470.88,1662285,872838,1721299.0999999999,1420072,877068,2091284.38,1575365,886728,1946645.5199999998,1555821,895488,2077119.5199999998,1678357,910256,2093428.05,1712476,931556]
[290,"Sutton                       ",17.5,11351923,6730648,4751948,12029949.919999998,7218489,5011361,12654100.683758389,7579591,5245542,13334009.530000001,8022384,4918279,578013,13738054.398713876,8347934,5386366,3754,13180445.080379996,8462731,5075229,27246,327595,13280919.139999997,8832665,5102475,13287888.290000001,9081755,5163355,13559813.799999999,9456038,5201455,13581958.960000001,9692460,5239230,13719822.630000001,9853703,5276480,13322264.810000002,9795149,5355735,13414412.031556375,9713548,5398395,13539897.419999996,9968231,5440035,13566435.924644973,10402774,5479815,13916186.880000001,10856059,5479815,13690363.949999999,11091587,5517525,14448148.280000001,11629509,5591685,16076441.029999997,12750768,5669325,16892397.649999999,13481611,5805981,17087859.710000001,14097484,5997981]
[291,"Swampscott                   ",17.5,15093910,15315544,2051980.4,16210766.109999999,15382522,2247430.4,17414723.955687378,15557542,2487474.4,17927585.210000001,15655737,2417779.4,284146,18487892.611490913,15778863,2647887,61143,18190629.378119998,16021305,2550769,13694,198667,18506840.309999999,16211795,2564463,19282648.440000001,16709525,2773458.11925,19665111.27,17029285,{"$f":"2940442.2075+16844","v":2957286.2075},19890269.34,16959906,3140515.2075,20062283.009999998,17079677,3193515.2075,20368467.029999997,16975480,3392987,20655963.815009337,17159833,3496131,21383228.149999999,17641164,3742064,22677171.816726971,18340193,4351751,23409223.779999994,18964138,4447386,23502231.440000005,19389341,4509966,24578055.190000001,20086942,4631706,26012947.399999999,20898493,5114454,26943739.010000002,21599799,5343940,28287967.390000001,22504337,5783630]
[292,"Swansea                      ",27.98,14565457,11774730,4075230.8,15460786.719999999,11848674,4383582.8,16127292.304335002,12243842,4579268.8,16666358.550000001,12395050,4237389.8,497993,17381654.481270812,12399806,4640675,341173,17156168.303639997,12593443,4690809,25182,316157,17312134.07,12740418,4715991,18589115.77,13137149,5657431.8930937499,19231862.370000001,13411309,6098205.5495370002,19734625.710000001,13253165,6481461,20558168.07,13514200,7043968,19920849.289999999,12860612,7327857,20221515.14252951,12930499,{"$f":"7716864-327537","v":7389327},21190611.529999997,13387790,8081352.9380667778,22235382.677427534,13936344,8449049,22877752.370000001,14533757,8449049,23940769.109999999,14745527,9195242,25270425.829999994,15443111,9827315,26694462.580000002,16252187,10442276,28125194.139999993,17101306,11023888,27821964.430000003,18113997,11323738]
[293,"Taunton                      ",63.14,64458276,23828389,40629887,66658595.349999994,25423363,41894411,69472944.332918555,26621725,43477482,72404300.269999996,27417594,40398788,4747808,74169525.406621993,27604965,44243664,2320896,72854522.334359989,28606446,43844262,235375,2681198,75257775.25999999,29692749,45565026,78583025.370000005,30952805,47630220,79522976.520000011,32366269,47822170,83736224.63000001,33362611,50373614,86795145.73999998,33623458,53171688,89152710,33343214,55809496,91224275.812842891,33052858,58171418,94602367.189999998,34133205,60469162,100148666.35428402,35674642,64474024,103523189.69,36893138,66638377,107043467.58,38153915,68896940,118729147.73,40100760,78628388,131396476.31,42467828,88928648,140024274.21000001,45058660,94965614,153498975.16,48056845,105442130]
[294,"Templeton                    ",57.82,0,0,0,0,0,0,0,0,0,0,0,0,0,0,0,0,0,0,0,0,0,0,0,0,0,0,0,0,0,0,0,0,0,0,0,0,0,13170.920000000002,4915,8256,13416.833343589547,5085,8332,13837.16,5212,8632,0,0,0,0,0,0,0,0,0,0,0,0,0,0,0,16860.330000000002,5783,11077,17354.29,5861,11493]
[295,"Tewksbury                    ",17.5,33347082,21518968,11930760,35015994.193659998,22768638,12514712,36101824.202872381,23213156,12918858,36695412.811939992,23595558,11758059,1381849,36766196.446410596,23754317,12877110,134769,34573601.27935721,23683428,12251726,65773,796855,34519814.968239993,23924435,12317499,35261727.251350001,24776381,12472939,34626787.82553,25513488,{"$f":"12566614+67376","v":12633990},35271376.15231999,26187077,12727415,34761232.521389998,26940200,12818290,33549032.422599997,26824591,13012055,34900617.062578723,27764062,13119905,34817273.780000009,28182890,13224155,35772861.621506803,29512611,13326215,35851430.130000003,29577430,13326215,35982818.319999993,29685825,13423895,38546581.100000001,30874054,13617575,41191248.019999996,32555022,13812515,42576904.100000009,34163893,14151347,44323386.889999993,35797036,14642447]
[296,"Tisbury                      ",17.5,2394089,3644342,300736.40000000002,2565498.85,3203874,330733.40000000002,2664557.161478193,3032752,371402.4,2795073.49,2902213,367111.4,43144,2952272.706204785,2990763,402050,0,2875847.00508,2872767,378562,2032,29731,3137805.37,3040803,380594,3467659.8899999997,3144657,395514,3400472.2900000005,3151771,404664,3448541.2399999993,3079391,474255,3757350.99,3164190,593161,3769019.7499999991,3133723,635297,3760490.3019716195,3062266,698224,3990246.73,3288715,709444,3863980.926163726,3187784,719854,4358704.2899999991,3499193,859511,4207932.1499999994,3462684,869801,4872085.7,3860887,1011199,5475942.1799999988,3835613,1640329,5499468.6799999997,4537062,1677249,6110458.1700000009,5041128,1736199]
[297,"Tolland                      ",17.5,0,0,0,0,0,0,0,0,0,0,0,0,0,0,0,0,0,0,0,0,0,0,0,0,0,0,0,0,0,0,0,0,0,0,0,0,0,0,0,0,0,0,0,0,0,0,0,0,0,0,0,0,0,0,0,0,0,0,0,0,0,0,0,0,0,0,0]
[298,"Topsfield                    ",17.5,4607578,3944399,663179,4657195.6704799999,3710245,946951,4725499.3510903148,3656031,1069468,4933644.223199999,3831911,989593,116300,5003494.1629533703,4127543,1083775,0,4814774.8945071595,4174269,1020461,5478,72911,4836646.4862000002,4219482,1025939,4821533.5831799991,4339766,1048739,4793485.8869399996,4387064,{"$f":"1062714+16844","v":1079558},4950981.2964300001,4373961,1093858,4876256.0624799998,4295264,1107808,5219302.4780799998,4362303,1140038,5307497.2466114936,4411689,1157318,5459714.7223999994,4504265,1174628,5789256.4546096604,4709771,1192358,6270046.2603099989,5031835,1239023,5583546.5710300002,4606426,1255283,6327129.1521899998,4950549,1376580,6737747.4920000006,5269483,1468264,7135071.2786099995,5582684,1552387,6879714.2048400007,5572112,1635187]
[299,"Townsend                     ",41.29,9892,2331,7561,10849.66,4644,8090,11355.27,5441,8370,11943.49,5490,8704,0,0,0,8530,0,0,0,0,0,0,0,0,0,0,0,0,0,0,0,0,0,0,0,0,0,0,0,0,0,0,0,0,0,0,0,0,0,0,0,0,0,0,0,0,0,0,0,0,0,0,0,0,0,0,0]
[300,"Truro                        ",17.5,1704648,2280388,221476.8,1722060.76,2234440,237453.8,1600608.8736194517,2062541,250249.8,1678407.63,1925541,236768.8,27826,1755899.2957244022,1970181,259303,0,1611078.6274799998,1832624,244155,1311,18512,1679937.99,1758607,245466,1835519.57,1798100,253586,1792085.3099999998,1792085,258486,1788414.01,1609573,277556,1879850.1199999996,1621100,282481,1912666.2499999995,1596786,315880,2003679.8419243183,1618203,{"$f":"394659-9182","v":385477},1934442.0499999998,1595915,391237,2296521.4702778542,1894630,402446,2296768.69,1894834,402446,2253510.1199999996,1859146,408416,2317885.7700000005,1912256,419516,2300504.7399999998,1897916,429896,2291577.2599999998,1890551,447576,2145078.7199999997,1769689,470826]
[301,"Tyngsborough                 ",19.440000000000001,14979885,8412477,6567408,15541436.869999997,8616640,6924797,16038143.446318682,8917341,7143646,16743697.889999999,9241021,6713664,789013,16627737.4536268,9341709,7352623,0,16055926.01182,9486124,6923083,37166,441174,15581685.049999999,9652634,6960249,16365479.893119998,10162808,7034649,16473614.73,10531483,7080574,16424708.550000001,10954033,7125624,16310112.57,11087277,7169374,15994837.789999999,11008609,7262434,16426722.369211081,11396682,7312774,16125261.67,11397568,7361014,16876605.054087967,12035384,7409074,17653818.739999998,12650386,7409074,18200500.57,12713256,7457854,20161771.900000002,13501934,7557694,21286361.979999997,13961757,7654834,21384094.800000001,14900523,7820610,21820276.790000003,15537955,8055660]
[302,"Tyringham                    ",17.5,221575,466915,30873.599999999999,217685.02,326528,32323.599999999999,242227.8797746044,303598,36618.6,211474.7,266822,37968.6,0,221493.48244210528,260037,37209,0,250239.19739999998,250313,35721,0,0,241848.72,244240,35721,258128.17,247395,35721,251901.56999999998,248608,35721,249461.65000000002,224515,38498,249733.64,219336,38498,225957.46000000002,192376,38498,234931.13370609152,194462,40469,251821.94999999995,202533,49289,295787.37665969401,244025,51836,321152.71999999997,264951,56202,305094.65999999997,251703,57162,325767.26999999996,268758,57162,268153.68999999994,221227,57162,322864.62,266363,57162,415290.22000000003,342614,72676]
[303,"Upton                        ",17.5,9988,4028,6880,11197.585239999999,4809,7349,46690.898399999998,20600,26091,24535.137620000001,10563,24535.137620000001,0,25382.203100478469,11203,24044,0,49251.668457600004,23544,25708,0,0,12582.467449999998,6272,12582.467449999998,26250.526239999996,13295,12956,39954.317999999999,20706,19248,40041.258719999991,21792,19248,27007.727760000002,15988,19248,52683.680000000008,34232,19248,53667.33337435819,35821,19248,110697.28,75315,35382,129346.17529818021,89703,39799,87946.800000000017,63657,39799,89716.680000000008,68168,39979,78488.55,59336,39979,82453.8,61452,39979,84301.650000000009,65499,39979,156188.61000000002,125121,39979]
[304,"Uxbridge                     ",17.5,15694459,7254008,8978422,16305919.27,7699224,9271984,16540051.93015206,8083909,9377789,17120711.660000004,8646597,8631945,1014457,17477190.309787564,9596633,9453474,0,17147339.203259997,9663507,8901203,47786,554635,16877042.539999999,9962236,8948989,17330083.23,10285734,9025989,17729556.77,10515859,9074414,18066543.430000003,10926419,9122764,18526071.940000001,11067180,9171114,18410939.780000005,10786060,9275834,18455125.454438496,11060991,9331904,18397204.830000002,11363380,9385304,19102321.172340635,11756863,9438614,19464063.84,12445154,9438614,19398107.32,12927160,9489404,20484522.960000001,13953398,9588524,22214657.669999998,14882274,9689924,22397904.870000001,15614534,9861420,22882209.760000002,17241412,10102020]
[305,"Wakefield                    ",17.5,24912170,24531402,4066920,26617789.348280001,24791745,4365403,28230853.006573763,24914208,4647689,29490621.523280002,25175571,4356193,511955,30299105.328824647,25233915,4770785,294405,29492136.843027599,25278570,4769282,25604,354054,30243376.094500005,25690110,4794886,31226177.075480007,26692542,4962309.7470522504,31777096.588499997,27531423,{"$f":"5111980.28603606+58954","v":5170934.2860360602},31933215.629270006,27532408,5317017.2860360602,32600249.418120001,27898292,5401367.2860360602,34230683.749200001,28386107,5844577,35673992.74237927,29443005,6230988,36359382.278080001,29996491,6362891,37851806.805738397,31170923,6720549,38545137.935350008,31799739,6745399,38638839.541639999,31877042,6846919,40977611.282850005,33133651,7843960,43061534.5506,34517798,8543737,44741734.350440003,36213785,8893073,46900988.453170016,37837354,9402623]
[306,"Wales                        ",53.17,1057649,551254,600096.4,1097738.68,542623,623689.4,1214081.5491547664,568369,692029.4,1083615.01,511611,625113.4,73466,1237788.8446468899,562473,684608,0,1290629.74896,586443,690675,3708,9804,1324350.96,599347,725004,1325356.92,604836,730684,1277849.4100000001,602399,734009,1356194.98,645271,737534,1467392.6599999997,661118,806275,1585577.72,646690,938888,1580013.0996064784,594640,985373,1631406.07,654753,990083,1548538.4556649411,599075,994373,1614023.6,613294,1000730,1543003.67,564773,1004630,1787635.85,616948,1170688,1628374.74,566808,1177348,1625333.8399999999,599401,1188268,1672912.0100000002,662192,1203868]
[307,"Walpole                      ",17.5,26410304,22394550,4500224.4000000004,28924699.423300002,23409707,5514992,31050181.709740832,24570828,6479354,32983538.436549999,25479114,6715227,789197,33992625.661692321,26485132,7354336,153158,32863427.944973391,26734779,7068906,37949,496139,33583986.553500004,27739862,7106855,35385662.980499998,28681277,7325008.0005256878,36597932.707249992,29680601,7446255.7103260532,36833859.746200003,30016055,7542980.7103260532,37317617.441239998,30729479,7638830.7103260532,36843723.371769994,30659945,7848820.7103260532,36969856.911350518,30718767,7961140.7103260532,38230557.63222,31540211,8073101,39185793.937174484,32328280,8182871,39454988.392580003,32550365,8182871,40749021.079649992,33446471,8290061,43228473.531800002,34931941,8504201,47191402.9124,37306825,9884578,47733569.965189993,39164094,10263450,48588432.383949995,40085457,10801800]
[308,"Waltham                      ",17.5,38879439,61572349,5965643.2000000002,42761499.772249997,59697543,6645004.2000000002,46074539.537751034,56268437,7224786.2000000002,48110738.181689993,52317305,6817755.2000000002,801247,49403220.555879377,50761236,7466622,0,47912898.078373261,48460847,7030422,37743,519232,50081563.292000003,48664297,7068165,54877131.504830003,50008834,7701998.2533363122,57878574.668200001,51531811,8308686.3317359835,58974377.85684,51151815,9012826.3317359835,62218743.565559998,52507147,9711597,62274785.537900016,51887299,10863166,65721454.701030053,54285104,{"$f":"12031585-595234","v":11436351},70511885.580779999,57308784,13203102,75037559.479823217,60191416,14846143,78968509.286119998,63760767,15541249,79126547.643249989,65279402,15706969,87977903.347709998,69072135,18905768,98129290.060850009,74508112,23621178,103566216.31179999,79254279,24311937,111848740.7475,85467815,26380926]
[309,"Ware                         ",65.540000000000006,10543852,4213722,7097968,11341610.789999999,4490738,7590105,11984338.616012348,4670870,7988468,12279413.380000001,4853748,7307532,858807,12947330.615364594,4961196,8003012,0,13334594.007599998,5116642,8060271,43271,114410,13217323.799999999,5226096,8103542,13610889.48,5398699,8212190,14182968.479999997,5508648,8674320,14311776.950000001,5575059,8736718,14379106.989999996,5507809,8871298,14839037.079999998,5469680,9369357,14617553.305294422,5149596,9467957,14793547.390000001,5213248,9588570,15862338.797222899,5271105,10591234,15723620.550000001,5305670,10591234,16595927.159999996,5393117,11202810,17965623.27,5630390,12335233,19400007.25,5872745,13527262,20308799.120000001,6201461,14107338,21252179.18,6508279,14743900]
[310,"Wareham                      ",29.68,26787120,16030344,11226580.000000002,27620251.569999997,16502182,11620568.000000002,28330642.11136163,17161382,11916801.000000002,29713674.899999999,17701346,11178168.000000002,1313698,30323433.981795222,17409106,12242029,672299,29157976.018979996,17518457,12159874,65280,765499,28986212.199999999,17900064,12225154,30086115.449999996,18383155,12345207.138633749,29686081.27,18523807,12416757.138633749,29801464.629999995,18563068,12488232.138633749,30579432.949999999,18285648,12558607.138633749,29850414.400000002,17354464,12708042.138633749,30448305.403478537,17216125,13232180,30391882.289999999,17563012,13308860,30196685.358659841,18151699,13381730,29995900.239999998,18760166,13381730,30246630.430000003,19008275,13449800,34329630.080000013,20639982,13689648,37763668.480000004,21536212,16227456,37911821.280000001,22749870,16460832,38595665.049999997,24257628,16793832]
[311,"Warren                       ",64.5,538960,185240,353720,702595.73,196083,506513,158055.47,44646,137959,71660.94,20366,71660.94,0,24613.150009569381,7172,70228,0,0,0,0,0,0,0,0,0,0,0,0,0,0,0,0,0,0,0,0,0,0,0,0,0,0,0,0,0,0,0,0,0,0,0,0,0,0,0,15697.710000000001,4781,10917,16490.760000000002,4845,11646,16860.330000000002,5405,11646,17354.29,5565,11789]
[312,"Warwick                      ",17.5,0,0,0,0,0,0,0,0,0,0,0,0,0,0,0,0,0,0,0,0,0,0,0,0,0,0,0,0,0,0,0,0,0,0,0,0,0,0,0,0,0,0,0,0,0,0,0,0,0,0,0,0,0,0,0,0,0,246092,860882.41,480702,380180,700343.84,501075,385484,594996.94999999995,490873,392384]
[313,"Washington                   ",23.02,29389,10836,18553,32548.98,18105,20004,34065.81,20948,20700,11943.49,6978,11943.49,0,24613.150009569381,16085,11705,0,24071.631359999999,16378,11237,0,0,12250.07,9358,11237,25394.420000000002,19302,11237,0,0,0,13004.9,10244,2761,13199.960000000001,10149,3051,13170.920000000002,10882,3051,26833.666687179095,22444,4390,27674.32,22157,5517,28743.594510706713,20897,7847,14657.8,10895,7847,0,0,0,0,0,0,65963.040000000008,45577,20386,101161.98000000001,63929,37233,86771.45,64812,37233]
[314,"Watertown                    ",17.5,19464616,27494743,2500103.6,21408022.994499996,26660901,2840199.6,22755172.082941681,25584736,3182786.6,23442917.806000002,24228635,3119661.6,366634,24506187.214984823,24010035,3416570,0,24666914.422698718,23332261,3216974,17270,246976,25827066.428560004,23433118,3234244,26990163.684909999,23875646,3341524,28042729.455369998,24440387,3928625.9136724374,28744449.526519999,24409669,4334781,26987815.659180008,23909715,4399531,27574866.376769997,23092613,4540881,28658582.599711496,23755394,4903189,29636571.161200002,24450171,5186400,31550834.623976581,25692240,5858595,33148323.506280009,27347367,5858595,33614343.104620002,27731833,5936805,36321233.870360002,29965018,6356216,39855550.60148,32047587,7807964,42285807.326579988,34885791,8090116,45294898.797560006,37368292,8513866]
[315,"Wayland                      ",17.5,20528254,22426179,2433825.2000000002,21706401.2687,22177863,2706784.2,22348945.189632639,21508290,3068068.2,23105602.879149996,21557416,3033452.2,356502,23487595.690153036,21787470,3322155,0,22901223.710748963,21497031,3128075,16793,244512,22873243.606079999,21683970,3144868,23638559.356320001,22212916,3250268,24223145.583800003,22634976,3316668,24309849.451349992,21783923,3644813,24601190.323630001,21539908,3710313,24640382.589680005,20643819,{"$f":"4042462+17341","v":4059803},25043290.042167287,20778238,4265052,26378777.201239996,21731959,4646818,27841232.66770371,22568639,5299764,28213341.421039999,23276007,5299764,29175011.111419998,23897476,5379174,30979999.4738,24877273,6102726,33119434.224909998,25852462,7266972,33905314.106570005,27971884,7544860,35459917.689330004,28984466,7949860]
[316,"Webster                      ",53.06,15041385,7642041,7399344,16432266.58,8269809,8162458,17755144.59782863,8781928,8973217,18280915.910000004,9216413,8231908,967443,19369599.058311965,9323234,9015364,1031001,19122110.4267,9432847,9503351,51018,541696,19221499.239999998,9741513,9554369,19780303.73,9875242,9905062,20497532.719999999,10176657,10320876,20776506.130000003,10261282,10515224,21401884.859999996,10346397,11055488,22136766.249999996,10147763,11989003,22425991.213709842,10170354,12255637,23346664.300000001,10636864,12709800,24776507.500713076,11062493,13714015,26082448.07,11471908,14610856,25360639.029999997,11546702,14666956,29048367.420000002,12256734,16791633,31971769.840000004,12851534,19120236,33656707.75,13578012,20078696,35685383.880000003,14323563,21361821]
[317,"Wellesley                    ",17.5,31887905,31509960,3170547.2,35128683.6228,32249496,3765942.2,37728351.069279179,33113521,4616898.2,41021667.78360001,34503446,5832738,685484,43474466.332122765,35866435,6387858,1220173,42176324.226688981,36405114,7163571,38457,528228,42989228.138499998,37498680,7202028,45335499.620400004,38747883,7402108,46194904.987919994,39997992,7526408,47297420.926149994,40402136,7789132,48641677.772080004,41171516,7916157,49005990.891000003,40807164,8198827,49446876.963866338,41046916,8399961,51173115.289380006,42217820,8955295,52951270.696678318,43684798,9273504,52873250.972209997,43620433,9273504,49998663.731600001,41248897,9407484,51015282.939499997,42087609,9665964,52634797.2425,43423707,9916764,53567076.591169998,44192838,10345036,53406327.744700007,44060220,10942336]
[318,"Wellfleet                    ",17.5,1043179,1587533,123912.4,1024829.69,1362731,134999.4,1014001.08,1199684,147734.39999999999,1017218.98,1111542,141139.4,16587,1114134.5932248805,1172923,154572,0,1206261.3075600001,1220593,145542,781,11899,1181905.93,1149462,146323,1149133.73,1123089,151483,1232950.69,1194924,154808,1240792.6900000002,1116713,176624,1150249.74,993135,179724,1067714.3400000001,892056,185664,1107735.4422992696,917147,190588,1136908.3900000001,937949,198959,1139476.1400684477,940068,202109,1257777.1000000001,1037666,220111,1274233.2699999998,1051243,223660,1688189.7200000002,1392757,295433,1610248.3900000004,1328455,302393,1446546.9000000001,1193401,313313,1341102.3700000001,1106410,327563]
[319,"Wendell                      ",55.23,0,0,0,0,0,0,0,0,0,0,0,0,0,0,0,0,0,0,0,0,0,0,0,0,0,0,0,0,0,0,0,0,0,0,0,0,0,0,0,0,0,0,0,0,0,0,0,0,0,0,0,0,0,0,0,0,0,0,0,0,0,0,0,0,0,0,0]
[320,"Wenham                       ",17.5,0,0,0,0,0,0,0,0,0,0,0,0,0,0,0,0,0,0,0,0,0,0,0,0,0,0,0,0,0,0,{"$f":"0+8422","v":8422},13282.92632,11679,8422,0,0,0,0,0,0,0,0,0,0,0,0,0,0,0,0,0,0,0,0,0,0,0,0,0,0,0,0,0,0,0,0,0]
[321,"Westborough                  ",17.5,24595216,23154460,2766040.8,26156767.179999996,24071950,3129365.8,27284907.908756465,24682401,3731061.8,28924388.270000003,24976329,3966523.8,466160,29970816.824099522,25527660,4344030,99127,29700461.313299999,25642790,4183588,22459,325510,29045979.329999998,26179724,4206047,30072174.120000001,26844072,4475455.4982209997,31092026.789999999,27788304,4736300.3124719998,31788292.559999999,27852628,5025628.3124719998,32643542.910000004,27945222,5113078.3124719998,33283538.019999992,27451731,5881737,36606246.041138574,28766772,{"$f":"7878155-38681","v":7839474},37382713.520000003,29912840,7951974,39131440.051199019,31441549,8064504,40523119.020000003,32212271,8310848,42200577.130000003,31967462,11190003,45181193.88000001,33675087,11506107,47373904.239999995,35784512,11912580,49809693.649999991,38095421,12309756,51329832.729999997,40916886,12875256]
[322,"West Boylston                ",17.5,7463040,5272275,2604355,7862835.5099999998,5529064,2737047,8303886.0469139311,5698232,2880036,8764535.4300000016,6056904,2705190,317924,8721965.5391540695,6143068,2962652,0,8556984.7309199981,6224632,2789574,14976,182302,8200894.7400000002,6360524,2804550,8653273.7799999993,6565606,2841510,8616496.2100000009,6706677,2864560,8413020.9400000013,6777592,2886885,8930152.6600000001,6857750,2909285,8692760.0099999998,6831386,2957025,8877321.1119815204,6760095,2982885,9051419.8800000027,6981458,3008415,9510996.4243331663,7267000,3034005,9693716.8899999987,7543146,3034005,9723140.6099999994,7800056,3058965,10560011.300000001,8098019,3108465,11278495.76,8476196,3158025,11804797.720000001,8971206,3244345,12268268.470000003,9365042,3370195]
[323,"West Bridgewater             ",33.33,7087351,6483027,1620335.6,7481921.1700000018,6519525,1739646.6,8080095.9730690857,6637938,1930659.6,8849560.0699999984,6740361,1992175.6,234128,9332740.0692976061,6973221,2181778,177741,9121055.2676399983,6925166,2221676,11927,152991,9407934.3300000001,6966042,2441892,9384522.75,7101110,2550273.4426500001,9746407.75,7107926,2817296.2266937499,9789063.1500000022,6918340,3006077.2266937499,9864782.7299999986,6849766,3031677.2266937499,10285489.059999999,6653790,3631699,10346624.462660685,6795040,3663259,10778968.260000002,7138403,3694909,11563083.632389149,7525433,4058306,12165316.310000001,8009301,4157054,12509536.450000003,8120160,4569989,13585538.109999998,8270877,5314661,15250441.900000002,8732058,6518384,15992142.17,9060869,6931273,16002951.560000002,9541306,7102423]
[324,"West Brookfield              ",34.9,254785,111031,143754,388832.98,151067,237766,328384.52,139713,239116,214016.92,95359,214016.92,0,245136.2421588517,105919,209737,0,251778.78455999997,114004,201348,0,0,231760.61,101090,201348,303706.14,139106,201348,321307.69,147913,201348,233036.45,115505,201348,355331.41999999993,184172,201348,354549.68000000005,186072,201348,507435.69877084321,254467,252969,675281.05999999994,347672,327609,657950.26899632823,345483,327609,656385.84,351215,327609,609550.86,327849,328719,453257.52,246970,328719,393567.83999999997,200356,328719,469702.2,266402,328719,500680.17000000004,291447,328719]
[325,"Westfield                    ",53.39,49973231,20368440,29644636,53649787.230000004,21748478,31901309,55203857.608358152,22572618,32840745,57201000.020000011,23301263,30462915,3580110,58064880.787414365,23683434,33362165,1019282,56542890.625020012,24024402,32372885,173792,1986845,56348311.590000004,24659576,32546677,58680126.160000004,25776861,32927874.488096002,59626032.379999988,26817278,33072499.488096002,59091820.839999996,27452394,33214624.488096002,59194723.68,27572737,33353974.488096002,59795241.399999999,26781337,33656694.488095999,60917916.743617475,26596469,34321448,61979381.029999994,27249072,34730309,65007737.903743565,27712077,37295661,65292799.700000003,27986427,37306373,64714818.569999993,28674517,37455773,69264756.579999998,30194266,39070491,75008744.25999999,32011961,42996783,77785675.980000004,33756613,44029063,80715329.109999985,35572719,45142610]
[326,"Westford                     ",17.5,35723685,24675698,11305202,38818431.875120007,25842739,12975693,40555313.116589576,26531707,14023606,42911329.967289984,27280805,13986752,1643773,44563082.297898509,27807520,15317915,1437647,42723467.157275043,28681127,15776704,84696,1021312,43881686.305879995,29241053,15861400,45585175.226279989,30308996,16064000,45685221.157399982,31603683,16189875,45600413.679659985,32229875,16313850,45124999.36552,33597365,16436625,45233495.410999998,33677123,16706565,46319271.278671294,35059135,16853055,47840867.455200009,36197500,16998615,50292113.17611514,37292159,17144235,49470077.997149989,38573963,17144235,49437144.66234,38453895,17281815,51138938.126499996,40088937,17551275,56419497.774939992,42434964,17830755,56506301.348869994,43815994,18305619,58121126.024580009,45508445,18982269]
[327,"Westhampton                  ",17.5,1143015,871506,286065.2,1161647.67,830817,341741.2,1170704.509380162,836402,392663.2,1157514.8700000001,778624,376209.2,44213,1296948.5063349283,829588,412014,55347,1232065.9646999999,806088,440058,2362,28516,1193876.6000000001,823754,442420,1195530.31,868868,447620,1215188.8099999998,921372,450895,1314694.2799999998,956723,454345,1294416.6200000001,964619,457770,1360673,968330,465470,1297572.8942240474,918872,469400,1357190.3900000001,952974,473330,1392808.786186093,993885,477140,1307846.49,960638,477140,1221027.5199999998,977281,480230,1276796.4100000001,1028968,486110,1280165.0299999996,1028923,491630,1321578.7600000002,1072012,501198,1313472.22,1083615,514848]
[328,"Westminster                  ",32.85,0,0,0,0,0,0,0,0,0,0,0,0,0,0,0,0,0,0,0,0,0,0,0,0,0,0,0,0,0,0,0,0,0,0,0,0,0,0,0,0,0,0,0,0,0,0,0,0,0,0,0,0,0,0,0,0,0,0,0,0,0,0,0,0,0,0,0]
[329,"West Newbury                 ",17.5,0,0,0,0,0,0,0,0,0,0,0,0,0,0,0,0,0,0,0,0,0,0,0,0,0,0,0,0,0,0,{"$f":"0+33688","v":33688},13004.9,10405,13004.900000000001,13199.960000000001,11094,13004.900000000001,0,0,0,13416.833343589547,11105,2312,13837.16,11416,2421,0,0,0,29315.599999999999,24185,5131,29905.56,24672,5263,31395.420000000002,25174,6221,32981.520000000004,26579,6403,67441.320000000007,54290,13151,52062.869999999995,42952,13151]
[330,"Weston                       ",17.5,16162814,20181705,1480949.6,17307605.129800003,19912849,1790525.6,18370485.452483337,19288255,2217818.6,19437327.17588,18964744,2334128.6,274315,20595641.906424958,19452416,2556275,0,20090660.412545517,19197587,2406938,12921,195391,20217500.017579999,19394331,2419859,21125018.31106,19897050,2512979,21575268.311200004,20375359,2571779,21506483.175400004,19355835,2988929,21219806.953260001,18857119,3045154,20900052.866529997,17600265,{"$f":"3299788+17341","v":3317129},21251738.294267315,17672626,3579112,21305867.837200001,17577341,3728527,22508837.582984712,18569791,3949220,22266149.914000005,18369574,3949220,21554028.930860002,17782074,4007060,23331116.658349998,19248171,4124960,25392258.954960003,20948614,4443645,26381907.903000001,21765074,4655909,27475067.223499995,22666930,4962659]
[331,"Westport                     ",17.5,12968630,9738097,4035010,13865149.07,10429878,4191901,14462425.445800073,11075177,4296424,15502132.710000001,11580866,4007408,470965,15990008.832857417,11793167,4388806,0,15747912.792959997,12196747,4132413,22184,279609,15633780.250000004,12313381,4154597,15649507.84,12625582,4221997,15457275.029999999,12949560,4262947,15286780.110000001,12928118,4303047,14995933.330000002,12876991,4341772,14911266.000000002,12467729,4425482,14885291.294271678,12354601,4470212,15341227.09,12656512,4514672,16245198.777909063,13146344,4559462,16658171.17,13742991,4559462,16990670.259999998,14017303,4603592,19394381.850000001,14765539,4696172,20926189.139999997,15677019,5249170,22168976.699999999,16573075,5595902,22861328.349999998,17959571,5829452]
[332,"West Springfield             ",59.75,31130339,18106441,13445170,33870575.43,18598514,15272061,35265587.219952904,18707901,16557686,36643826.119999997,18919840,15860056,1863930,38205385.345714822,19265177,17369506,1570702,37738816.076999992,19240559,18143323,97401,797859,38457480.989999995,19599705,18857776,39534882.329999998,20240555,19563826.466162249,40948666.769999996,20335136,20717957.063267998,41551686.519999996,20188627,21363060,42891023.810000002,20277457,22613567,44295065.429999992,20212569,24082496,46379224.347272687,20257037,26122187,48360495.230000004,20291474,28069021,51872243.869854257,20465981,31406263,52593244.399999991,20539659,32053585,53788012.660000004,20662897,33125116,57525467.20000001,21830351,35695116,63567924.089999989,22906588,40661336,68366792.900000006,24010686,44356107,72601734.330000013,25460932,47140802]
[333,"West Stockbridge             ",17.5,0,0,0,0,0,0,0,0,0,0,0,0,0,0,0,0,0,0,0,0,0,0,0,0,0,0,0,0,0,0,0,0,0,0,0,0,0,0,0,0,0,0,0,0,0,0,0,0,0,0,0,0,0,0,0,0,0,0,0,0,0,0,0,0,0,0,0]
[334,"West Tisbury                 ",17.5,0,0,0,0,0,0,0,0,0,0,0,0,0,0,0,0,0,0,0,0,0,0,0,0,0,0,0,0,0,0,0,0,0,0,0,0,0,0,0,0,0,0,0,0,0,0,0,0,0,0,0,0,0,0,0,0,0,0,0,0,0,0,0,0,0,0,0]
[335,"Westwood                     ",17.5,20567480,21740599,2250702.4,22498088.821120001,21936416,2588559.4,24472148.293146249,22175336,3096779.4,25508214.087440003,22412158,3174824.4,373117,26986270.471055556,22996257,3476983,513030,25931255.131285079,23233856,3756916,20169,287878,26758357.153839998,23390650,3777085,28328703.767000001,24138538,4382005.2898062505,28396775.81552,24768521,4528862.9092836883,29096356.715499997,24830260,4725912.9092836883,29539997.822689999,25123982,4803412.9092836883,29301469.672719996,24485112,4971877.9092836883,30014821.710917722,24903789,5111033,30492581.964960001,25156380,5336202,31407909.177556276,25911525,5496384,32201274.010420009,26566051,5635223,32473679.60554,26790785,5723453,33902334.173579998,27895202,6007132,36039140.915650003,28969675,7069466,36920748.450279996,30155173,7370026,37402634.289359994,30857173,7796626]
[336,"Weymouth                     ",17.5,51107904,31463668,19644236,54069183.504560001,33009395,21059789,57436766.066748992,35313488,22123278,61362559.405040011,37036094,21768190,2558275,62237990.731232964,37337725,23839936,1060330,62823242.56985008,38124103,22447209,130052,2523813,64565174.840659991,39054922,25510253,67376255.928720012,40341671,27034585,68036042.431139991,41955039,27200610,68999976.990219995,43802418,27366185,69769188.724899977,45695271,27530085,69159899.607649997,47454854,27883625,69172635.260738254,49020130,28071515,69340075.166419998,51161839,28253945,71911345.754917458,54222905,28433225,73265345.799600005,56687928,28433225,76134831.638579994,58393693,28611095,83362016.189649999,62293612,28964195,89980250.507149994,65671537,29315975,92545801.942100003,69831655,29927183,95705608.23864001,73567640,30801983]
[337,"Whately                      ",19.850000000000001,905765,834822,131052.8,847599.61,747909,172887.8,801658.09440833644,665132,207744.8,828878.44,601232,220473.8,25911,831398.74939712929,581336,241457,8606,770958.84743999992,548156,235454,1264,15670,778131.94,571400,236718,871685.15,643358,240518,1002641.6199999999,761189,247640.0875275,973888.2100000002,773751,250115.0875275,877253.83999999985,745655,252340.0875275,852415.71000000008,714075,256850.0875275,869184.11954740097,720991,259340.0875275,981559.89999999991,785698,262160.0875275,968969.2611512969,792219,264770,904197.0199999999,739905,264770,961185.17,774927,267200,966975.82,730678,271820,1127263.1800000002,797920,329343,1124388.7500000002,859258,338183,1207816.8600000001,966499,351983]
[338,"Whitman                      ",46.34,97965,35557,87102,172717.17,52188,126825,180766.01,61318,131107,119434.9,40958,119434.9,0,110759.17504306222,40065,117046,0,167528.0748,60734,112364,0,0,158260.19,58829,112364,189431.25,70715,118716,192367.49000000002,71155,121212,78029.39999999998,29915,78029.39999999998,118799.64000000001,47836,78029.39999999998,118538.28,48874,78029.39999999998,120751.50009230593,51831,78029.39999999998,124534.43999999997,54467,78029.39999999998,143717.97255353359,64098,80336,203601.62000000002,93108,110494,134575.02000000002,63660,110764,249187.29,115290,133897,245151,105688,139463,250517.91,110381,140137,327137.26999999996,152786,174351]
[339,"Wilbraham                    ",31.28,0,0,0,0,0,0,0,0,0,0,0,0,0,0,0,0,0,0,0,0,0,0,0,0,0,0,0,0,0,0,0,0,0,0,0,0,0,0,0,0,0,0,0,0,0,0,0,0,0,0,0,0,0,0,0,0,0,0,0,0,0,0,0,0,0,0,0]
[340,"Williamsburg                 ",22.34,1353554,1305103,359184.4,1431625.05,1223519,401047.4,1303227.8492111149,1103460,410847.4,1358267.99,1050677,386941.4,45475,1529284.0745033494,1098680,423768,6836,1588795.8168000001,1185579,405448,2177,27379,1626834.23,1211055,415779,1690611.6400000001,1270564,434689.03882100002,1847447.82,1352484,509920.14508649998,1740594.9700000002,1393645,514620.14508649998,1731396.01,1404042,519245.14508649998,1665309.4700000002,1295778,528925.14508649998,1640814.868103652,1224301,534055.14508649998,1888347.0699999998,1281224,608437,1900770.6075914244,1235134,665637,2006916.64,1291212,715705,2025767.98,1285613,785367,2178719.5099999998,1344523,834197,2130357.6900000004,1343356,843437,2006164.9200000002,1353300,857581,1785677.7,1318975,875431]
[341,"Williamstown                 ",17.5,2838804,2951735,900860.4,2993564.97,3003582,927943.4,2947485.2032250096,2967122,946993.4,2926746.36,2854443,863644.4,101499,3169486.7944727275,2914408,945841,0,2954221.7637,2820665,890585,4781,59525,2930427.46,2765115,895366,3160940.25,2913200,909926,3339446.0000000005,3057274,919376,3344865.7700000005,2917285,928776,3691422.7599999993,3123894,938701,3780882.2300000004,3127725,960921,3766818.1625702963,3122141,{"$f":"972741-972741","v":0},0,0,0,0,0,0,0,0,0,0,0,0,0,0,0,0,0,0,0,0,0,0,0,0]
[342,"Wilmington                   ",17.5,26946504,24426636,3493482.8,28589474.265000004,24012970,4787472.8,30225618.082184222,23520068,6758866.7999999998,32940341.795039997,22982850,8910320,1047172,33354631.307536971,23083400,9758342,512889,33071492.365163159,22741572,10131715,54392,180399,33089929.46198,23047600,10186107,33475095.871219996,23350005,10653175.75580658,33711449.013840005,24229668,{"$f":"10743100.7558066+58954","v":10802054.755806601},33711949.045720004,24256928,10891329.755806601,33895541.813259996,24840882,10978729.755806601,33396838.325240005,24739359,11167159.755806601,34239954.195590727,25512508,11270329.755806601,34794527.347199991,26550382,11371910,34910848.030844986,27323352,11469170,35336725.314499997,28856084,11469170,31976675.075399999,26380757,11553710,34415669.88318,27066348,11724230,36154606.173280001,28577249,11894150,36803962.054719999,29777494,12185870,37975001.813760005,31329376,12602570]
[343,"Winchendon                   ",62.08,13575447,4042511,9746972,14428042.68,4236403,10353509,14745121.603420299,4352216,10575115,15156933.289999999,4512742,9718917,1142201,16219065.234373206,4477183,10643896,1097986,15672163.269959999,4664700,11055922,59353,669132,15461197.040000001,4686612,11115275,15336037.73,4744751,11177635,14932867.66,4859333,11215085,14667673.109999999,4914309,11251885,14868534.459999999,4931923,11288335,14883842.210000001,4860783,11366930,14578929.593496464,4751326,11408120,15435431.700000001,4871517,11450030,15998737.235770881,5085773,11491100,15745625.66,5282604,11491100,16192011.48,5511010,11529590,18305278.439999994,5813202,12492076,20130691.019999996,6129765,14000926,20484346.350000001,6462904,14135502,21245551.259999998,6850740,14394811]
[344,"Winchester                   ",17.5,25105213,24915091,3131320.8,27686227.761740003,25368782,3582998.8,30248338.701930307,26104922,4143417,32130973.606599998,26921385,4661726,547863,33869183.152500734,27942076,5105397,821710,34209062.642022774,28412977,5684874,30519,312514,35352719.397000007,29111601,6241118,37274561.601149991,30107863,7166699,38667213.748349994,31202716,7464498,39564443.627320006,32332932,7572048,40749515.511779994,33648454,7680548,41694755.431160003,34474073,7924363,43175541.000589445,35662566,8058883,46376139.481770001,37332874,9043265,48242100.959599502,38833443,9421254,49895727.543140002,40278256,9617689,49628251.23258999,40943308,9753079,51185910.074539989,42158204,10016359,53860981.504270002,43974784,10277119,55351171.165500008,45664717,10729103,58362713.363759995,47287902,11388803]
[345,"Windsor                      ",17.5,19593,9317,18987,43398.64,22696,30997,79486.89,46037,50091,59717.45,33889,50341,0,49226.300019138762,30072,49334,0,48143.262719999999,30554,47361,0,0,98000.56,57428,47361,88880.470000000016,53746,47361,90258.14,59063,47361,91034.3,66927,47361,39599.880000000005,33367,39599.880000000005,26341.840000000004,22244,26341.840000000004,26833.666687179095,22290,26341.840000000004,41511.479999999996,34247,26342,71858.986276766795,59284,26342,58631.199999999997,48371,26342,59811.12,49344,26462,62790.840000000004,46140,26462,65963.040000000008,48534,26462,84301.650000000009,68029,26462,121480.03,92496,28984]
[346,"Winthrop                     ",20.74,14203032,10524171,4649575,15189263.146560002,10737357,4843961,16040450.497654758,11241167,5042458,16653713.865099998,11482366,4639322,545229,17547573.530765843,12509487,5080860,0,16947233.724507775,12482874,4784037,25683,318165,17937168.698699996,12779319,5157850,18416072.0348,13141365,5274707,19449615.869399998,13466250,{"$f":"6026961.59606301+25266","v":6052227.5960630104},19874501.94588,13576177,6298325,19501001.633919992,13757564,6346975,19355380.740320001,13740113,6450815,20873787.706656512,14619405,6509855,22361612.680800002,15285867,7075746,23351887.112957381,16010984,7340903,23537383.711800005,16793461,7340903,23441502.304000001,17313006,7398113,25999605.057999998,17986284,8013321,28718694.131870005,18971710,9746984,30384003.300080005,20235207,10148796,31680910.483599998,21322094,10448196]
[347,"Woburn",17.5,34930602,37657788,4733852.8,37332334.363359995,38094517,5154155.8,40314036.275784098,38276911,5788495.7999999998,42494196.208999999,37749504,6002692.7999999998,705458,43397769.300633483,37761424,6573988,0,43013306.744314127,37654434,6189936,33230,468697,44725938.827559993,38469627,6256312,46091897.869999997,39862499,6819375.0867005,47182460.705740005,40697687,{"$f":"7323850.03757165+16844","v":7340694.03757165},48695159.223999999,40727571,8202269.03757165,49230530.561499998,41631275,8321994.03757165,49930543.991250016,41567504,8583684.03757165,50380963.059562519,41884963,8724234.03757165,51790238.039180018,42726946,9063292,53841305.779622279,44419077,9422229,54604897.586800009,45049041,9555857,54858831.045920007,45258536,9687377,60994707.780599996,48301038,12693670,65492150.344600007,51893336,13598814,70723977.379679993,55994588,14729389,75539782.354959995,60461178,15419389]
[348,"Worcester                    ",70.62,233243474,72184115,161059359,242782324.40000004,77309187,167480913,252522466.45670471,80540711,174025314,262175701.59,83762339,161512435,18981512,274595072.36176842,81810677,176884068,15900327,275818706.70521998,84305903,187838166,1008399,4578055,286908104.64000005,85772826,201135279,298950312.13000005,88586175,210364137,311832464.69999999,91934732,219897733,314854112.86000001,96374700,220569583,329468506.71999997,97927769,231540738,332590291.94999999,97188059,235402233,342886580.84977067,97679398,245207183,353662082.21999997,100450297,253211785,379530589.18986362,104076553,275454036,382606983.73000002,105210987,277395997,400051102.55999994,108945977,291115647,430557179.73999995,114317014,316240166,477974878.60999995,120432974,357541905,505110665.75,127670996,377439670,547442458.76000011,135663200,411779259]
[349,"Worthington                  ",17.5,156820,105031,69958,108496.6,89804,70458,113552.7,89058,72331,95547.92,69044,72731,0,73839.450028708146,58793,71276,0,60179.078399999999,50743,60179.078399999999,0,0,49000.28,61740,49000.28,101577.68000000001,101578,49000.28,103152.16,103152,49000.28,181016.85000000003,161882,{"$f":"49000.28+144899","v":193899.28},1164871.5999999999,939802,225070,1206120.8500000003,969030,237091,1160346.2789760442,967158,240361,1138991.4000000001,939668,243571,1201024.652987523,968704,246841,1374749.7299999997,1018495,356255,1188969.8699999999,980900,359315,1326979.1100000001,1027100,365735,1568790.0099999995,1103824,464966,1599602.0399999998,1175020,477342,1728156.65,1251748,495642]
[350,"Wrentham                     ",17.5,8108218,4773537,3446005,8536881.8352199998,4905786,3631096,8611109.7637538575,5032071,3688296,9026427.3732400015,5280507,3413547,401172,9476432.1319100633,5747185,3738425,0,9107308.40131188,5781211,3520026,18897,227952,8997163.6104499996,5880789,3538923,8996680.8980999999,5899004,3581123,8892422.6601499971,6253155,3606873,9069999.5540800001,6555043,3632823,8534196.4301100001,6762850,3656773,8711771.7903999984,6915585,3709903,8596118.8600556906,7106012,3737593,9153991.6259199996,7552043,3765913,9200581.1460926738,7590479,3793153,9053868.8087499999,7469442,3793153,8698911.8334400002,7176602,3817813,9667437.7704000026,7781640,3868573,11250378.938039999,8771480,3924073,12020258.945529999,9445383,4023497,12166663.342719998,9726662,4163597]
[351,"Yarmouth                     ",17.5,0,0,0,0,0,0,0,0,0,11943.49,9336,2607,0,24613.150009569381,19848,2555,2210,12035.81568,10055,4574,0,0,12250.07,10608,4574,12697.210000000001,10850,4574,0,0,0,0,0,0,0,0,0,0,0,0,0,0,0,0,0,0,0,0,0,0,0,0,0,0,0,0,0,0,0,0,0,0,0,0,0,0,0]
[406,"Northampton Smith            ",17.5,1567616,1276116,738533.6,2025133,1468568,875376.6,2278216,1708914,947960.6,2111565,1581883,854264.6,100396,2146693.9467942584,1617583,935567,0,2230337.8020000001,1765084,880911,4729,53277,2070902,1658734,885640,2229442,1757745,890560,2020055,1627859,893210,1764814,1447978,895485,1980086,1655651,897910,2177668,1807196,903575,2248554.7171424888,1863952,906755,2391969.2199999997,1973375,909905,2535730.135235467,2072723,913025,2690854.48,2219955,913025,3117227.3600000003,2571713,916505,3397887.14,2684044,923645,3641524.6399999997,2870492,930545,3830697.23,3095469,942921,4432463.1100000013,3576504,963771]
[600,"Acton Boxborough             ",17.5,20024105,16885593,3138512,22506705,17791669,4715036,23994743,18369316,5625427,25793437,18940607,6132157,720673,26931634.808038283,19569628,6715773,646234,26278547.039999999,19800807,6931919,37214,467099,26873147,20359612,6969133,27636880,20909979,7124121.5619999999,{"$f":"28337812+3710701+20514396","v":52562909},{"$f":"21701014+3337251+15117599","v":40155864},{"$f":"7198421.562+1320503+5594326","v":14113250.561999999},52422543,40290368,14254475.561999999,52599957,41315952,14393075.561999999,52547574,40653492,14696070.561999999,53421566.907991789,42045809,14859360.561999999,55170323.107940018,43056913,15022441,57507919.285240643,45085137,15185311,57745972.612679996,46230356,15185311,57822927.827799991,46723042,15338911,61160337.808100007,48377825,15641731,64406283.823839992,50399193,15942931,65611192.994459994,52313929,16458771,67984250.268440008,54629970,17200971]
[603,"Adams Cheshire               ",59.64,13106574,3602054,9630920,13377962,3796726,9810525,14106031,3891220,10299351,14355783,4039739,9363751,1100461,14762561.506602872,4503688,10254928,3946,14205800.124,4515273,9659551,51857,585716,14489416,4653780,9835636,14848664,4798921,10049743,14525980,4882095,10085868,14419594,4988650,10121468,14523439,5160616,10156418,15296780,5502583,10234243,15055572.515187521,5538278,10275553,15232490.400000002,5717786,10316023,15617632.338179186,5891351,10354753,15339849.779999997,5843907,10354753,15216793.440000001,5725567,10390093,16371180.810000002,5945277,10460113,17400551.630000003,6167321,11233231,18240972.630000003,6410290,11830683,19020586.490000002,6761402,12259184]
[605,"Amherst Pelham               ",18.68,15073351,7265229,9343785,15860056,8312731,9689857,16118464,8736670,9793582,16270720,8932603,8844227,1039405,16430082.97033493,10908954,9685959,0,15978763.512,10987020,9120106,48961,560042,15588078,11132046,9169067,15882762,11359856,9233467,15889254,11667688,9272992,15504219,11484398,9311217,15834018,11664726,9349517,15535447,11457106,9431797,15847416.836753655,11645169,9476496.999999553,16044645.359999998,11852511,9519487,16548734.048677344,12082979,9561457,16921238.979830787,12834959,9561457,16668696.930166688,12787466,9601357.0000003986,17544562.199999999,13310597,9679957.0000003986,18078526.210000001,13803543,9756397.0000003986,17938493.399820615,14305435,9885460.9999991078,18849215.560000006,14679318,10072810.999999108]
[610,"Ashburnham Westminster       ",39.36,16693060,7990286,8905601,17725876,8610748,9391438,18827304,8914333,9934552,19657064,9471071,9246935,1086732,20747434.319617227,10251619,10126994,368821,20412503.039999999,10455439,9882650,53054,619686,20584849,10676599,9935704,20759601,10923476,10026904,20785812,11067299,10083104,20944478,11060794,10138704,21651624,11097471,10554153,21190453,11043254,10675483,21596182.828853481,11367955,10741723,22810309.799999997,11550868,11259442,23747271.339990951,12136491,11669561,24646397.09,12303561,12361170,24454471.870000005,12482932,12426690,27181254.040000007,13193830,13987424,29646112.5,13950290,15695823,29665602.809999995,14854145,15928887,30580474.560000002,15663508,16262637]
[615,"Athol Royalston              ",67.489999999999995,17339154,518662,16820492,17708359,623845,17084514,18516080,678872,17837208,19014821,720901,16370053,1923867,18226670.661818184,2067242,17928042,0,17923395.240000002,2103961,16880687,90623,1004932,17935653,2172893,16971310,17818204,2286653,17043590,17517520,2367862,17086740,17539155,2500939,17129715,17879139,2687482,17172640,18244828,2897520,17267570,18603786.772762485,3090653,17319440,19486246.010000002,3220286,17371580,20420115.158179153,3408285,17423570,21729158.719999999,3616401,18112758,21516033.310000002,3826520,18162738,25100227.810000002,4138714,20961514,27758995.789999995,4374330,23384666,28689338.050000004,4712028,24764149,30499121.049999993,4978559,25520562]
[616,"Ayer Shirley",27.84,null,null,null,null,null,null,null,null,null,null,null,null,null,0,null,null,null,16872486,9799433.7010924481,7802151,41885,487764,16879384,9899773,7844036,17419519,10045000,7915436,17689265,10457924,7959611,18020997,10736761,8003886,17776166,10841421,8047361,17539418,10906245,8144051,17859764.734966867,11291639,8197181,18209773.010000002,11893424,8249321,19201202.775432397,12571064,8301431,19068236.100000005,12820462,8301431,19326736.270000003,13326540,8350691,20782030.890000001,14087905,8450171,23119470.369999997,14814575,8552891,23852633.539999999,15653161,8729483,25842986.010000002,16955476,8993333]
[618,"Berkshire Hills              ",17.5,8878410,10098842,2672816.7999999998,9250332,10102954,2737902.8,9395655,9910102,2793902.8,9799535,9631380,2563329.7999999998,301252,9958320.0275598094,9695771,2807290,0,9969549.1140000001,9487659,2643288,14190,177387,9915801,9513236,2657478,10178607,9534109,2700038,10635683,9671358,2726838,10662018,9324675,2753513,10878643,9349872,2780663,11414759,9456019,2839128,11592012.389038036,9603359,2871498,11863555.439999999,9773550,2903088,12066016.316021007,9920455,2933388,11846383.439999999,9773266,2933388,11959904.129880402,9866921,2961498,13314694.690000001,10497795,3017538,14027795.750000002,11020467,3072618,15185337.219999997,11787069,3398268,15467725.129845321,12390650,3534167.9999986412]
[620,"Berlin Boylston              ",17.5,2881502,2980030,790482,3230183,3023460,851501,3463889,3187414,892400,3734852,3255818,840984,98835,3848242.2752153119,3256016,921023,0,3748889.16,3345125,867217,4656,59925,3766444,3420481,871873,{"$f":"3871973+250741+384591","v":4507305},3391112,{"$f":"888833+78723+56292","v":1023848},4631328,4040189,1036398,4817370,4122172,1049323,5052434,4334259,1062648,5023757,4202073,1091688,5247616.0529560801,4352079,1107888,5654505.5700000003,4534769,2111104,9927446.3516566418,8048259,2139724,10107518.1,8212670,2139724,10696909.850000001,8558303,2169034,11425016.279999997,8986309,2438707,12479595.730000002,9682981,2796615,13467608.219999999,10476087,2991521,14031141.919999998,10881875,3149921]
[622,"Blackstone Millville         ",45.89,15426759,5876193,10378194,15675653,6231925,10509983,16290966,6659559,10845267,17163606,6723921,10139052,1191577,17821603.166315794,7213787,11104016,0,17631668.597999997,7334869,10455320,56129,643892,17725268,7567852,10511449,18008630,7894508,10589769,17925439,8081231,10637619,17804636,8183978,10684594,17580139,8234791,10729594,17055908,8133559,10826779,17728142.592629228,8280761,10880269,18045228.880000003,8455406,10932919,18718435.629910786,8774546,10985239,19305133.509999998,9159231,10985239,19313058.34,9358379,11035489,20463628.09,9949334,11133169,21242438.940000005,10531596,11228029,22150137.41,11211778,11394117,23905844.130000003,11825836,12080008]
[625,"Bridgewater Raynham          ",34.14,40912576,21884965,19283254,41935929,23349196,19665067,44782550,24739437,20734543,47098996,25851193,19340030,2272909,48428019.06526316,27952831,21180680,0,47983788.083999999,28495798,19943306,107065,1272209,48390610,29073200,20050371,49427213,30075604,20269571,49488995,30660371,20403671,49690981,31221396,20536596,51489038,31846579,20671771,51178987,31816877,20968661,52866849.261870295,32583398,21132011,54041579.230000004,34169692,21293351,57734650.603288382,35678127,22061362,59327586.659999996,36619588,22716693,60696669.610000007,37575602,23266232,67218280.400000006,39672721,27545559,73247622.790000021,42311090,30936533,76500993.25,44978242,31528709,81321444.98999998,47111455,34209990]
[632,"Chesterfield Goshen",23.69,1195209,674787,646741,1312143,731037,711347,1277283,717531,719547,1377086,699752,691531,81271,1450752.9125358853,732969,757346,0,1401680.358,744562,713102,3828,44616,1350534,753143,716930,1413142,785219,723330,1413824,797176,727230,1269753,783121,730880,1290268,795911,734280,1239669,767824,741100,1195139.8127151553,763068,744760,1273267,786037,748510,1171005.0238210852,742974,751930,1184019.3600000001,774310,751930,1138617.54,808979,754930,1538719.12,991104,762250,1596663.71,1065120,769270,1573384.0799999998,1124623,781022,1502410.1700000002,1079394,796622]
[635,"Central Berkshire            ",38.89,16411075,9277515,7747832.0000000009,17068928,9492361,8092876.0000000009,17956787,9547848,8550035,18638347,9708028,7991169,939150,18841797.769186605,10035980,8751713,54105,17732901.377999999,10045858,8291382,44512,520024,17880776,10085382,8335894,17613394,10334614,8410334,17159555,10602338,8454734,16974405,10521566,8498034,16927679,10815311,8540559,16389265,10548832,8629219,16770478.528573444,10582972,8677909,17387170.660173871,10650195,8726209.0000004824,17917236.795122694,10887646,8773249,17769137.719999999,10821874,8773249,18403560.679815963,11139154,8818729,20199482.520201996,11643487,8909149.0000009034,21682070.819999997,12180728,9501343,22485789.989999998,12628653,9857137,23071177.270000007,13012711,10080937]
[640,"Concord Carlisle             ",17.5,9779664,11276561,1482929.2,11043068,11833214,1704025.2,11535486,12039761,1798430.2,12261008,11881005,1722913.2,202483,12736972.591770336,12027622,1886888,0,12226662.599999998,11610510,1776656,9538,132844,12055418,11452179,1786194,12584072,11667076,1836274,12876490,11748056,1867899,13172186,11470046,2020931,13659882,11719574,2053456,14101517,11779839,2321678,14235386.188628448,11805585,2429801,14677154.57313,12108652,2568503,15326809.636647012,12636179,2700821,15698387.201840004,12951170,2747217,16437449.391079996,13560896,2885882,17547215.867280003,14333307,3213909,18206295.725200001,15020194,3294009,17738546.515740003,14634301,3425673,17837825.063500002,14716205,3610473]
[645,"Dennis Yarmouth              ",17.5,31552699,26916269,6323844,31921636,27640649,6521044,32866009,28181902,6712794,33929083,28230096,6176777,725917,34720683.78947369,29362682,6764640,0,33550155.035999998,29272877,6369450,34194,452946,33188220,29829472,6403644,34159114,30421379,6543564,34997479,31287824,6631289,34668834,30189585,6718014,35460503,30284637,6803239,36706251,30483143,6993814,36833288.857110716,30597193,7095664,38305323.740000002,31508282,7197874,40299027.11670664,32486327,7812700,40772315.190000005,32996593,7812700,40000864.339999996,32339804,7906900,45626329.120000012,35577617,10048712,49764294.759999998,38104613,11659682,53177397.429999992,40603887,12573510,57336713.649999991,43380429,13956285]
[650,"Dighton Rehoboth             ",24.96,23502323,12171196,11331127,25227557,13220377,12078498,26488176,14032590,12595982,27834400,14867498,11760784,1382169,28579093.545645937,15934995,12880094,0,27227094.57,16519761,12127640,65106,766523,27435686,16943069,12192746,28588235,17614915,12315946,28145868,17936311,12390171,28150365,18051150,12463021,28723483,18028977,12536246,29000399,17773340,12696956,28781591.615531329,18150262,12783266,30099135.230000004,18922107,12870026,31540121.095252328,19831231,12956936,31470516.579999998,20472580,12956936,30297677.200000003,20851154,13036886,31909002.190000005,21814425,13193246,33303334.109999999,22502125,13347866,34651952.299999982,23801972,13618578,35471876.099999994,25042984,14005428]
[655,"Dover Sherborn               ",17.5,7739997,8275872,1191754.3999999999,8206331,8468634,1273362.3999999999,8844812,8708826,1385096.4,9304310,8639071,1311389.3999999999,154119,9990853.0587559827,9006852,1436198,0,10131211.535999998,9255639,1352295,7260,106168,10389452,9537204,1359555,11120543,10202046,1408555,11227795,10290387,1438730,11333898,10098983,1629376,11580014,10114738,1659576,11702650,9794356,1908294,11848628.162153138,9800905,2047723,12427515.957589999,10244725,2182791,13018705.445376281,10740432,2282394,13502936.345999997,11139922,2363014,13732496.655719997,11329309,2413514,14245103.0352,11752210,2492893,15061557.844200004,12425785,2655010,15036111.261020001,12404791,2774402,15210777.810269997,12548892,2942852]
[658,"Dudley Charlton              ",42.16,30449329,9274397,21174932,32233347,10252229,22188433,33797564,11029311,23069087,36110116,11697527,21845257,2567332,36777726.03406699,11966621,23924337,886768,35729459.82,12287043,23361642,125416,1429447,35694097,12669036,23487058,36205278,13079319,23647098,36078034,13510547,23744648,36713400,14006333,23842023,37460711,14629068,23938773,37500027,15535167,24151183,37720695.5316194,16113609,24265243,38840211.679999992,16771540,24378193,39553020.497260436,17196696,24488263,39294595.160000004,17806070,24488263,38219798.009999998,18216746,24588403,42267945.799999997,18990742,24788383,44767304.399999999,20147144,24984883,46546244.079999998,22032809,25328187,48781145.310000002,23854252,25823037]
[660,"Nauset                       ",17.5,13094670,13143058,3212073.2,13492342,13864524,3298923.2,13240289,13643131,3379473.2,12973291,12791886,3090604.2,363219,12824763.657799043,12606630,3384747,0,12466861.355999999,12161887,3187010,17109,216203,11987364,11783104,3204119,12271544,11841626,3256279,12583436,12006085,3289004,12650853,11365672,3321529,12867301,11188533,3353354,12935106,10790864,3421279,12490516.601979394,10380459,3456769.0000003548,12759247.84,10525994,3491269.0000003548,13781730.292193582,11296893,3526849,13928035.579999996,11407465,3526849,14255426.050142555,11760727,3562549.0000003572,16185145.729838148,12835323,3635088.9999996317,17092062.400000002,13610271,3706548.9999996317,17234196.510000002,14218211,3828228.9999996317,17601486.190000001,14521226,4000728.9999996317]
[662,"Farmington River",17.5,2207961,2145103,375505.6,2244629,2179857,389405.6,2032717,2125018,401955.6,2101262,2056801,370690.6,43565,2272476.6989473687,2094866,405970,0,2284470.102,2094019,382253,2052,28215,2507654,2157223,384305,2477293,2210649,394745,2381535,2239793,400995,2333265,2082363,407070,2496034,2114411,413420,2464478,2057324,427060,2368941.0110670594,1978521,434200,2470961.3200000003,1982431,488530,2310316.8825038802,1903782,494950,2289345.04,1877720,494950,2405493.8899999997,1931789,501250,2843384.1900000004,2231273,612111,2970098.28,2351188,625131,3242282.6100000003,2507239,735044,3326329.1199999996,2656624,768194]
[665,"Freetown Lakeville           ",17.5,13524454,7948805,6460005.0000000009,14519330,8906388,6832785.0000000009,15553549,9668371,7200036.0000000009,16583275,10105484,6769499.0000000009,795575,17047222.562296651,10617731,7413773,0,25704555.482000001,16324122.86063578,10304430,55318,621851,25567244,16827381,10359748,26403268,17241340,10478788,26716909,17493884,10552138,26295108,17518350,10623488,25836232,17647952,10692488,27153763,17863322,10849513,26949047.128918782,17944798,10933153,28557208.850000001,18586174,11018173,29471189.782152213,19374781,11102173,30420774.669999998,20383874,11102173,30046775.879999999,21121724,11183623,33397815.079999998,22481677,11350423,35485915.870000005,23828457,11657459,35494251.229999989,24992714,11940339,35189823.379999995,26172762,12333339]
[670,"Frontier                     ",17.77,5418605,3086349,2650507,5733999,3534975,2746608,5983480,3789925,2814392,6338406,3919060,2608966,306615,6166668.8979904307,4548404,2857269,0,5993205.5159999998,4594579,2690347,14443,168829,5922687,4614585,2704790,5890106,4643352,2729670,5648702,4748410,2744045,5716411,4750289,2758445,5662972,4785017,2772595,5886720,4852262,2804715,5732224.0889145313,4635171,2821244.9999998347,6131417.1100000003,4934660,2838225,6490224.3564851899,5195546,2855535,6668350.6099999994,5440174,2855535,6641609.6799999997,5465964,2872335,6777309.0700000012,5342316,2903235,6859405.6100000003,5502061,2932515,6897529.5600000005,5613913,2982227,6828929.8200682895,5601508,3053027.0000007078]
[672,"Gateway                      ",42.34,10512746,5273227,5377752,11307523,5576855,5817025,11430685,5636748,5921631,11453179,5658310,5356783,629548,11448115.732822968,5871665,5866604,0,11136859.595999999,5975739,5523878,29655,343896,10684938,5977311,5553533,10913250,6024049,5598773,10501988,6111205,5625873,10475106,6121175,{"$f":"5652523-144899","v":5507624},9565466,5566378,5531374,9151021,5435268,5580489,9186465.9257388338,5185242,5606889,9373307.580093734,5155696,5632899.0000002598,9819284.5359783657,5242416,5658699,10053035.289899468,5377560,5658699,9593037.4600000009,5218013,5682099,10224749.509999998,5398856,5727339,11571635.25,5636489,5935146,12121904.290000001,5892974,6228930,11870404.560118703,6060069,6340830.0000011194]
[673,"Groton Dunstable             ",17.5,19963557,10573496,9690045,22069166,11478206,10590960,22567813,12305992,10757109,23533501,13095797,9914811,1165224,23587738.32880383,16063245,10858434,0,22939192.446000002,16429914,10224085,54888,648086,23308786,17069512,10278973,23452027,17673118,10384573,23574679,18322278,10449473,23421974,18828192,10513273,23366261,19288600,10575673,21908747,18375113,10706573,22374529.724943254,18540836,10778123,23046297.120000005,18825814,10849343,23962885.117804695,19528829,10920053,24034914.079999994,19807347,10920053,23977455.170000002,19781401,10987643,26006774.040000003,20809059,11124923,27429942.139999997,21929584,11261903,27803440.189999998,22810900,11495903,28651580.750000004,23386350,11831303]
[674,"Gill Montague                ",47.15,9776132,4890426,5898325.9999999991,10362291,5144962,6225636.9999999991,10629600,5170843,6375222.9999999991,10694903,5178227,5756498.9999999991,676524,10705697.249377992,5206242,6304363,0,10709037.408,5230945,5936062,31867,364384,10890170,5322669,5967929,10709407,5432442,6010369,11221184,5642595,6037994,11383341,5825645,6065444,11391876,6028359,6092669,11388880,6051487,6152674,11605184.313327502,6037197,6185014,12227502.840000002,6132607,6217984,12729673.495022506,6160944,6568729,13224252.970000001,6123497,7100756,12355223.119999999,6065329,7129856,14265559.650000002,6487509,7778051,14525789.259999998,6845441,7834871,15171727.360000001,7362219,7932423,15531170.66,7651849,8069823]
[675,"Hamilton Wenham              ",17.5,14468765,11376222,3164291,15069063,11961487,3269343,15863562,12603727,3408380,16231350,12979612,3137455,368725,16539445.386411486,13759009,3436056,0,16099995.413999999,13883368,3235322,17369,231115,15671050,13956082,3252691,16304849,14293365,3325691,16257548,14512213,3370416,15726746,13965278,3413341,16707535,14120458,3457966,16651753,13827676,3554656,16696408.934955347,13868580,3606706,17608636.820320003,14365369,3659746,17895419.978166122,14618380,3711406,18910528.193439998,15169999,3742189,17836078.693319999,14714765,3791389,19041996.94004,15355459,3889489,19935627.51244,15916460,4019168,20510939.057600003,16533729,4188792,21512127.046379998,17323711,4436892]
[680,"Hampden Wilbraham            ",28.53,27186575,17817946,9591950,28628962,18371310,10257652,29666356,18507813,11187984,30302280,18629304,10514180,1235664,30835123.285741627,19103251,11514847,217025,29974196.813999999,18956605,11046497,59302,714898,30318463,19431538,11105799,30471568,19904990,11241439,30267610,20416003,11323964,30372595,20400941,11405264,29954423,20917022,11483814,29402188,20490243,11651894,29683317.843047649,20807570,11742374,30100033.420000002,20633481,11831384,31472652.18943473,21135655,11920364,31697327.079999998,22048457,11920364,31633420.859999996,21974391,12004544,34362938.020000003,22803354,12175004,35889670.800000012,23968793,12342524,36624239.559999995,24791314,12629980,38161301.590000004,25909172,13043530]
[683,"Hampshire                    ",22.77,6298064,3937642,2426572,6805484,4138583,2676375,6739463,4154095,2812809,7281652,4261680,2743722,322452,7552394.2032535886,4295649,3004851,251894,7104748.4820000008,4238418,3066486,16462,194072,7166323,4430064,3082948,7159285,4518959,3114108,7221048,4622819,3133233,7159547,4689344,3151983,7223607,4822063,3170333,7226816,4870971,3210153,7135055.1371439751,4768992,3231273.0000002114,7177310.4399999985,4802721,3251703.0000002114,7292664.1560150869,4957708,3271593,7581893.040000001,5141694,3271593,7385184.3199999994,5155929,3290733,7612495.6600761265,5113589,3327153.0000003641,7679400.380076794,5295241,3361953.000000712,7980532.2599999988,5799556,3423417.000000712,8287100.8399999999,6172310,3510417.000000712]
[685,"Hawlemont                    ",31.54,1068768,490624,613734.80000000005,1007233,489631,620084.80000000005,935837,424000,625634.80000000005,977501,437137,582347.80000000005,68440,1015177.688803828,455789,637772,0,943708.38599999994,475782,600513,3224,36635,852740,451986,603737,880128,468192,607377,950613,539883,609827,933646,531341,612202,950854,532283,614527,966196,536672,619422,948610.29681259417,528435,621882,1319629.0000000005,686073,633556,1194591.6655308905,597682,636346,1210178.3199999998,645856,636346,1114456.54,626296,638716,1180054.7600000002,626211,643276,1359496.83,747723,648796,1168904.8600000001,694848,657220,1294415.1199999999,763034,669970]
[690,"King Philip                  ",17.5,14979166,8734642,6244524,16295851,9507703,6788148,17396805,10500808,7139022,18770909,11301852,6776559,796405,19266152.972248808,12421086,7421505,0,18766472.316,12655997,6987941,37514,450050,19491490,13489687,7025455,20106153,14008919,7113575,20756038,15085093,7169225,20668060,15441355,7224100,20796265,16339640,7278450,21464344,16747910,7399780,21686949.863603115,17288364,7465059.9999993471,22108494.793599997,17573207,7529320,22968588.71954523,18207740,7592980,22821189.415249996,18216801,7592980,23108672.780000001,18487068,7653700,24040989.472959593,18683871,7771359.9999988237,24882496.668651178,19073760,7885179.9999976857,26298806.635959998,20432925,8089227.9999976857,27019358.236560002,21201197,8379177.9999976857]
[695,"Lincoln Sudbury              ",17.5,11315184,11075410,1787678.4,13657169,11726968,2197526,14669142,12512472,2374621,15512737,13029848,2256999,265251,16180111.874449763,13524542,2471805,183765,15640388.226,13606478,2500432,13423,182915,15881721,14058638,2513855,16550937,14522938,2609494.7437499999,16660368,14759478,2686012.1578124999,17538177,15255513,2820121.1578124999,17586404,15195939,2862021.1578124999,17527242,14585219,2953706.1578124999,17315388.091420949,14392659,3002696.1578124999,17438816.760160003,14387024,3051793,17865441.864525706,14738989,3127363,17971715.490000002,14826665,3145998,18587999.26021,15335100,3264670,19460408.700000003,15892482,3567927,20042623.919999998,16199749,3842875,20426551.245900005,16585404,4001267,20881710.072960004,16977621,4225817]
[698,"Manchester Essex",17.5,8366673,9103515,1375984,9141258,9202986,1511536,9630975,9237772,1597236,10323403,9323664,1537696,180715,10893473.5984689,9499354,1684043,0,11219611.109999999,9669672,1585661,8513,123169,12153403,10046472,2106931,13132240,10490205,2642035,13658346,10881653,2776693,13572189,11221647,2813718,13636380,11449215,2850168,13222782,11043112,2926838,13044522.634690613,10860009,2967368,13504654.921019997,11094289,3007748,14371784.479899097,11738511,3048668,14540612.442779997,11993491,3048668,13975373.452520002,11529683,3086258,14799834.747719998,11860322,3160298,14995281.195770001,11980929,3230738,14742042.944370005,12025689,3348466,14962591.459399998,12344138,3514666]
[700,"Marthas Vineyard             ",17.5,7093516,6601054,2673935,7932850,7970360,2820735,8068434,8233407,2861785,7978454,7784419,2596397,305138,8027782.3081339709,7579454,2843504,0,7689159.2280000001,7354264,2677387,14373,170469,7459791,6982300,2691760,7821993,7071878,2720400,8027352,7261038,2738625,8168795,7068505,2756975,8315537,6895864,2775225,8366347,6863098,2814000,8775465.4854839947,7160292,2835120,8807318.8500000015,7199058,2855370,9542318.3659465611,7809437,2875680,10520255.699999999,8507902,2875680,11375989.939999998,9214998,2897790,11706772.639999997,9266700,2943090,14493699.970000001,10945434,3548266,14025834.07,11571313,3630738,15074658.800000003,12436593,3749388]
[705,"Masconomet                   ",17.5,15318665,11142823,4419317,17202789,12854203,4773155,18048378,13991386,4933394,18669125,14530501,4520949,531318,19727906.272153113,16061599,4951222,0,18612164.453999996,16036618,4661972,25027,317398,18928100,16514464,4686999,19357735,16963367,4770799,19715478,17420377,4823099,19907859,17251458,4875399,19398726,16836310,4925724,19430987,16230896,5034459,18987857.036568414,15814213,5090919,19183372.217599999,15826282,5146299,19848020.362871911,16294823,5201349,19718785.499960002,16147421,5201349,19942249.616000004,16452356,5253339,20626908.302099995,16338880,5354919,20800201.785499997,16501157,5451699,21025301.581389997,16808710,5615603,20779055.20388779,16861796,5842553.0000022696]
[710,"Mendon Upton                 ",17.5,17625772,7917147,9708625,19301063,8448890,10852173,20644958,8956960,11687998,21996366,9449432,11227445,1319489,22672457.180478469,10147020,12295995,229442,22132247.579999998,10574513,11793702,63314,734621,22155000,11066163,11857016,22015006,11315699,11954456,22375411,11860177,12014831,21900366,12299101,12074206,21475634,12907063,12131581,20452434,13459709,12253186,20207384.356621977,13867755,12317476,21244024.41,14784122,12382726,22449446.899046388,15888903,12448756,22739749.350000001,16799739,12448756,22629367.129999995,17240401,12511846,23959502.060000002,18041593,12636586,24957462.550000001,18856411,12758086,25098754.039999999,19792146,12963694,25324619.460000005,20544075,13252594]
[712,"Monomoy",17.5,0,0,0,0,0,0,0,0,0,0,0,0,0,0,0,0,0,0,0,0,0,0,17110771.399999999,16296303,2384540,17569657,16140983,2460460,17319106,16031006,2506360,17618966,15518373,2708296,18464076,15720020,2755146,19086298,15841935,3244363,19283171.949603103,15996456,3300373,20057741.48,16512901,3544840,20829711.826521438,17031398,3798314,21026943.91,17347229,3798314,20768967.640000001,17123821,3850274,22033322.210000001,17917457,4115865,23706658.220000003,19557993,4215105,24010799.069999997,19808909,4383065,25246167.830000002,20828088,4624715]
[715,"Mount Greylock               ",22.3,4676875,4597031,1666950,4791177,4533455,1699377,4697972,4234702,1727227,4870291,4171647,1590024,186865,5038820.6667942591,4176618,1741351,0,4954695.6780000003,4130699,1639621,8802,106828,4795752,4018167,1648423,4847655,3957893,1668783,4713594,3902934,1680908,5049227,3998439,1693808,4887694,3824463,1705983,4960436,3813364,1733153,5175933.9315482499,3845508,{"$f":"1748153+972741+768543","v":3489437},10983817.570000002,8251697,3521567,11569192.327752113,8401578,3554057,11284468.84,8495288,3554057,11519400.35,8440595,3584477,12823121.489999998,8909296,3913825,14323308.950000001,9465991,4857318,15022012.140000004,10049816,4972446,14836487.640000004,10778769,5133546]
[717,"Mohawk Trail                 ",34.96,10399815,5552327,5972084,10269301,5648614,6034784,10605776,5769493,6204233,10359333,5721445,5603580,658553,10590789.40784689,5820331,6136890,0,10304179.638,5807577,5778373,31021,355446,10123559,5977059,5809394,9875049,6107017,5850194,9444879,6294792,5874244,9300413,6365060,5897844,9310511,6523226,5921294,9915353,6433157,5973434,9838051.3509327304,6364738,6001454,10008929.639999999,6399727,6028994,10650334.810213417,6438287,6056894,10427668.720104279,6461323,6056894,9675020.5800967515,6376119,6081374.0000002449,10916936.219890831,6617874,6131053.9999997485,11381489.499886185,6907293,6178513.9999992736,11760100.9102352,7264768,6259634.0000008959,11931880.619999999,7388641,6372134.0000008959]
[720,"Narragansett                 ",55.17,11727704,2977580,8750124,12694975,3200990,9493985,13440494,3363034,10077460,13890162,3558412,9267025,1089094,14047951.990813399,4510425,10148997,0,13273695.708000001,4548674,9556093,51301,579303,13213993,4564055,9607394,13537728,4721311,9664194,13335812,4863858,9698544,12841231,4967494,9731269,13170587,5169393,9764044,13256830,5303181,9834774,13504485.349651586,5366791,9873894,13898169.749999998,5553556,9912744,14647552.849426208,5831335,9951444,15197160.489999998,5910692,9951444,14626287.25,6105079,9988464,16984442.759999998,6309076,10675367,19090731.800000001,6749883,12340849,19056826.82,7014900,12479169,20521967.339999996,7481050,13040917]
[725,"Nashoba                      ",19.43,21474489,17977668,5332822.8,23697784,19133543,5871971.7999999998,25411849,20274365,6289003.7999999998,26805348,21157439,5911057.7999999998,694688,28088852.89033493,22132725,6473631,0,27791843.604000002,22306466,6095442,32723,426391,28345672,22733730,6128165,29407907,23699381,6330455.0653249994,29650929,24483221,6411680.0653249994,29833754,24514579,6492305.0653249994,30925691,25002991,6574230.0653249994,31260414,24600261,6756060.0653249994,31083245.77955449,24524720,6852150.0653249994,31883434.353059992,24892165,6991269,32964566.540986888,25692699,7273744,33255128.344112549,26177398,7273744,34773057.486100003,26910918,7867074,37188533.335978121,28095417,9093116,38851075.754790001,29074040,9777036,39516916.723600008,30118867,10097148,40212644.902400002,31151239,10547898]
[728,"New Salem Wendell            ",42.26,1009815,579782,602215.19999999995,1068078,538560,635233.19999999995,1119947,538342,663419.19999999995,1108280,538661,599333.19999999995,70436,1124015.5376076559,570244,656374,0,1039961.19,627734,618029,3318,37952,1102692,649363,621347,1136073,642537,626107,1171083,681574,629007,1217420,707520,631982,1255062,711713,635007,1416772,739591,677181,1424931.186973576,745274,{"$f":"694961-13670","v":681291},1262167.6700000002,672920,684861,1230159.2284731646,644109,688101,1245264.42,622259,688101,1358881.8199999998,631626,727256,1400561.7699999998,625870,774692,1670707.68,758216,912492,1606229.6800000002,779247,924140,1547562.41,787485,938840]
[730,"Northboro Southboro          ",17.5,9277131,7604912,1700728,11057753,8704773,2352980,12033372,9631771,2591421,12946742,10026161,2613440,307141,13338720.275598086,10464106,2862169,12445,13069614.491999999,10623654,2706679,14531,189279,13569441,11147301,2721210,14179585,11573173,2838863.6458749999,14882231,12443854,2876913.6458749999,14903362,12767292,2914613.6458749999,15041278,12932868,2951913.6458749999,15182003,12730046,3034083.6458749999,15250791.830538824,12690623,3078273.6458749999,16210848.68,13373950,3123514,16651310.611277679,13737332,3168064,16134802.42,13311213,3168064,16306106.100000001,13325314,3209584,16339014.660000002,13206889,3287524,16594258.149999997,13332899,3362224,16786924.07,13490437,3489416,17307312.650000002,14180068,3673616]
[735,"North Middlesex              ",36.47,32397974,13915496,19063721,33499786,15279377,19658038,34412577,15653174,20148846,36029257,16080023,18814143,2211105,36456713.541818187,16064311,20604743,0,34774968.005999997,16111990,19401015,104153,1203025,34052825,16450543,19505168,34577589,16881292,19659168,33991777,17328829,19751668,32881223,17183613,19840443,32371795,17231131,19925993,31685058,17154907,20107493,31435627.826777488,17200693,20203733.000000961,32197040.990000002,17771448,20298593.000000961,33435820.144966502,18529976,20393183,34146333.740000002,19126198,20393183,33474930.930334739,19920829,20482913.000000898,37611036.840000004,20649455,20666873.000000898,40550528.920000002,21382473,20852633.000000898,41616153.899999991,22365493,21174929.000000898,42024593.629999995,23346390,21623879.000000898]
[740,"Old Rochester                ",18.59,8705281,7603741,1530510,9257160,7909870,1701522,9923961,8215414,1954417,10120297,8156604,1890481,222176,10028263.973971292,8036971,2070404,0,9726308.7780000009,7998372,1949451,10466,138637,10036210,8109683,1959917,10099046,8089994,2124850.6151999999,10378205,8357878,2238124.4918999998,10659228,8277118,2382613.4918999998,11419777,8704098,2715679,11377043,8557549,2819494,11640017.384192124,8739091,2900926,11899255.350000001,8889101,3010154,11988191.8913587,8962996,3043394,12077635.709879227,9154169,3043394,12039903.340120399,9317336,3074894.0000003148,12541083.76,9156644,3384440,13019997.510000002,9551673,3468325,13306821.640000001,10043860,3567021,14030213.399859697,10781799,3710720.999998563]
[745,"Pentucket                    ",18.04,22757511,10704624,12362390,24589511,11578381,13099037,24625431,12223789,13258787,25233854,12938684,12077530,1419394,26043317.600765556,14358256,13226986,0,25398255.107999999,14404858,12454267,66860,782234,24895122,14749468,12521127,25088106,15200680,12635127,24540719,15640639,12703677,24290785,16086295,12770527,23602673,16203424,12834852,22548383,15627476,12968282,22740652.535892259,15945385,13040102.000000719,23352744.289999999,16491919,13111292.000000719,24330802.105539996,17437199,13182092,24591001.459999997,18039518,13182092,24481014.440000001,18526892,13250162,25863556.119999997,19335867,13385162,27982141.810000002,20548996,13522442,28773485.359999992,21416293,13760290,29838475.970000006,22525700,14101990]
[750,"Pioneer                      ",26.24,7285294,3967896,3857345,7629462,4135816,4031666,7722039,4259679,4078816,8137059,4327512,3981402,300027,8250102.2009569379,4422230,4195800,0,8263519.067999999,4563544,3950682,21209,247084,8098758,4668314,3971891,8564268,4778263,4007811,7994487,4761551,4028736,7816227,4803095,4048786,7481050,4776255,4067561,7219392,4777146,4107161,7406666.4166055983,4744769,4128880.999999783,7354252.5499999998,4872782,4149941,7528912.3458293099,4812665,4170581,7480877.54,4952541,4170581,7287026.7699271282,4945385,4189121,8172163.4400000004,5256957,{"$f":"4227221-246092","v":3981129},7858151.0500000017,4907463,4015269,7649537.5300000003,5011238,4071949,7711982.5599999996,5108508,4151899]
[753,"Quabbin                      ",44.13,21479251,5822139,15657112,22828423,6355417,16510059,23457369,6739031,16898056,24154885,7104683,15503658,1822045,24370491.302583735,9043482,16979189,0,23447229.215999998,9241790.7475171536,15987266,85827,973446,22899542,9371400,16073093,22525878,9626834,16170613,22333577,9850748,16229913,21722178,9941651,16286563,22051647,10090036,16342038,22002910,10064723,16463038,21204474.702048939,9931036,16525257.999999378,21914160.40978086,10117115,16587418,21665640.411876366,10317745,16646098,21987482.310000002,10612170,16646098,22572922.539774276,10987702,16703518,25601192.900256008,11596905,16821478.000001181,27040442.530000001,12220640,16938538.000001181,27702274.299999997,12767470,17139362.000001181,27830416.489999998,13366628,17421662.000001181]
[755,"Ralph C Mahar                ",63.05,6412185,2094096,4365173,6917262,2152974,4764288,7718288,2334381,5383907,8079301,2414941,5068672,595688,8102223.5314832535,2701871,5551073,0,7695444.8340000007,2655320,5226780,28060,316133,7780312,2783833,5254840,8048219,2944041,5286040,7625909,2829128,5304190,7705540,2887638,5322215,7640717,2842068,5339690,7427448,2738987,5375880,7313027.7024783818,2601573,5394990,7595605.8999999985,2666288,5413830,7772179.2052953094,2691122,5432010,7840085.4000000013,2752972,5432010,8156581.7700000005,2902578,5450340,8477857.6699999999,2803575,5674283,8804675.8299999982,2757119,6047557,9180437.4699081965,2903267,6277170,9593235.6700000018,3082090,6511146]
[760,"Silver Lake                  ",30.72,13321046,7724834,5693535.0000000009,14290967,8518476,6060844,15151746,9152272,6377611,16633749,9695605,6223582,731417,17042793.321339712,10087324,6815899,139570,17072736.708000001,10313024,6630012,35593,335739,17435883,10508810,6927073,18150262,11017327,7202389.2436499996,19039526,11580385,7571134.5369499996,18899966,11622559,7617506.5369499996,19669150,12263148,7663956.5369499996,20069649,12089575,7980074,20138841.102995191,12153382,8035064,20786645.581067868,12641731,8163253,20683221.322407395,12966860,8215063,20918448.416320004,13276729,8215063,21627662.329539999,13837284,8266093,22886572.072338864,14138025,8748547,24399125.516533989,14887605,9511521,26861456.846319992,16324599,10536858,27216762.713180002,16840436,10796658]
[763,"Somerset Berkley",37.04,null,null,null,null,null,null,null,null,null,null,null,null,null,0,null,null,null,8934024,6024631.0156340012,3020271,16235,120381,9240084,6119915,3120169,9949356,6253551,3771017.8262999998,10006703,6377384,3795642.8262999998,10050573,6394899,3820117.8262999998,9594365,6056531,3843167.8262999998,10019595,5882456,4137139,10632804.845514916,5777303,4855502,11100397.199999999,5893170,5210007,11820562.719098523,6097432,5723131,12334812.139999997,6312225,6024105,12639534.48,6636166,6054825,13192993.539999999,6608074,6584920,14135320.560000001,7164940,6970381,14145681.890000004,7510406,7069701,13826082.76,7668488,7204101]
[765,"Southern Berkshire           ",17.5,6853294,6969793,1733974,7077639,7054068,1779274,7434729,7019446,1862619,7749803,6862924,1735164,203923,7701585.2769377995,6957008,1900305,0,7684458.96,6952302,1789290,9606,123334,7591122,6997774,1798896,7425917,6948964,1830896,7307651,7007679,1850096,7132076,6413209,1869396,7553559,6368170,1888246,7411694,6160497,1927571,7039960.838086525,5901594,1947431.0000001986,7011413.5700000003,5742395,1966751.0000001986,7823768.9358960092,6244537,1986791,7868392.9199999999,6306994,1986791,7970637.4099999983,6494543,2006891,8757628.3300875779,7076021,2045891.00000039,9252135.43990748,7434693,2084591.000000003,9110625.4799088929,7516265,2149694.9999993518,9453533.7400000021,7799165,2243594.9999993518]
[766,"Southwick Tolland Granville",25.73,12815911,5574268,7241643,13803858,5990969,7812889,14257212,6442013,8037753,14939371,6703364,7499327,881347,15526560.214354068,6881234,8213061,432265,14765244.486,7056511,8140267,43700,503859,16668383,8578921,9431433,16707052,8956864,9503073,16783207,9329641,9546823,16539210,9831214,9588623,16275297,10235762,9628898,16154792,10380318,9715578,15643746.01680854,10452364,9760098.0000004452,15797808.300000001,10650508,9803658.0000004452,16378978.109002503,10967956,9846558,16651613.440000001,10981419,9846558,15958927.809999997,11074236,9886188,17233969.48,11574750,9964248,18106696.800181068,12099173,10041108.000000769,18485700.379999999,12602300,10171940.000000769,18134821.699999999,12301434,10169546.000000769]
[767,"Spencer East Brookfield      ",47.5,16645826,4067456,12578370,17597929,4757111,13106216,18350163,5038864,13522201,19528044,5259510,12767994,1500540,19758448.511387561,5909466,13983163,0,18373741.745999999,6026675,13166267,70682,795214,18885409,6269918,13236949,19620951,6527063,13315389,19752991,6679987,13363889,19886690,6981057,13412164,19202300,7237563,13457639,18292027,7540396,13553834,17851020.249539986,7818739,13601594,17809206.539999999,8048938,13648634,18497944.461317483,8498469,13695254,18621361.77,8878789,13695254,18910770.789999999,9144752,13740734,21076435.030000001,9910023,13831994,22391801.729999993,10460047,13921034,24082014.090000004,11053262,14079530,25189505.220000006,11570866,14306180]
[770,"Tantasqua                    ",40.380000000000003,13580390,7605305,6707029,15046973,8686343,7420522,15970260,9193635,7855113,16430281,9386267,7217816,848263,16633736.353684211,9400405,7904757,0,15980906.310000001,9314281,7442962,39957,462563,16224252,9446479,7482919,16427458,9458186,7547159,17338059,10016205,7602665.309475,17582598,10044332,7701145.309475,18183142,10066601,8116541,18521079,9975508,8545571,18792623.115065213,10112568,8680055,18681754.369813181,10189936,8727575,19884199.797400139,10661347,9222853,20061782.279999997,10777102,9284680,20438009.030000001,11223460,9331150,21751912.98,11388899,10363014,22722962.140000004,11779194,10943768,23965742.399760343,12504793,11460949,24773777.030000001,13624328,11688349]
[773,"Triton                       ",17.5,24298847,17072630,7792907.9999999981,25952449,18085444,8297753,26566548,19085868,8463498,27588090,19936190,7824273,919536,27881099.599617224,20765902,8568933,0,27238757.220000003,21107766,8068337,43314,535182,26824765,21271799,8111651,26774026,21942837,8226571,26448890,22380186,8295596,25789437,21866153,8362546,25722812,21834988,8428221,24821868,20787254,8564841,24376762.312073089,20355041,8636541,25305209.704000004,20876797,8708421,25527954.966463432,21060563,8777631,26062844.622510001,21501846,8777631,24917419.660840005,20556872,8841441,28334955.815970004,21719660,8973621,30407397.850965925,22865013,9107060.9999986663,30126360.845719993,24150274,9331284.9999986663,30165610.537900001,24886629,9645084.9999986663]
[774,"Upisland",17.5,2818004,3631100,787574.4,2663328,3211483,806324.4,2717737,2976843,824474.4,2781909,2936509,753921.4,88603,2963440.2602870818,3058634,825674,0,2883583.122,2954241,777438,4174,53162,2947159,2938229,781612,2938330,2789900,795572,2924404,2799531,804072,3060576,2703741,812797,3393222,2857444,821922,3590852,2932767,842602,3842627.4814848243,3031561,854362,4032194.76,3211065,866452,4538258.3027917985,3744064,879292,4423020.3299557688,3648991,879292,4428346.7900442835,3653385,891082.00000011793,5035196.55,4154037,915262.00000011793,5529555.0699999994,4561883,967672,5151589.76,4250062,1007712,5263775.71,4342615,1064412]
[775,"Wachusett                    ",33.46,48282346,33777538,14580116,51403850,35230245,16173605,54801725,35455524,19346201,58236852,36308065,19622662,2306125,59911476.039043061,37367519,21490211,1053746,59254110.450000003,37595289,21243244,114043,1365920,60601665,38212334,22389331,63034725,39189250,24301041.254999999,63737669,39961275,24731803.504425,63713837,39643665,24988919.504425,65656785,40218460,25438325,65958496,39859181,26385616,67325906.778581902,40480754,26845153,68658655.170000017,40985980,27699197,71271709.733221024,42635066,28647835,73935156.649260655,44374979,29560178,73176176.700000003,45202423,29762018,79469578.500000015,47034063,32435516,84952456.879999995,49101422,35851035,86493263.779999971,51193105,36558963,87973600.930879712,53489620,37561713.000010028]
[778,"Quaboag",52.68,11141894,3567006,7574888,11791190,3881276,7991217,12254851,4136812,8281608,12617536,4373441,8157632,347753,12703713.843444977,4409832,8335277,0,12453350.286,4490234,7848331,42133,479238,13025123,4631357,8393766,12911828,4742222,8447086,13046235,4894859,8479786,13203478,5067470,8512186,13357209,5095756,8544111,13599319,5113624,8615171,14168290.710392267,5082901,9085390,13641132.549999999,5096479,9122230,14192752.457797423,5363869,9158560,14111900.640000004,5557868,9158560,14365916.490000002,5833977,9192100,15230825.089999996,6110748,9257500,16750016.709999999,6411888,10338129,15692440.66,6621808,10445665,16872431.539999999,7171361,10600015]
[780,"Whitman Hanson               ",39.950000000000003,30538240,9106058,21432182,32259424,9879380,22380044,33351647,10636667,22947017,35222900,11243141,21457945,2521814,36937606.644976079,12830981,23500164,606462,36853531.943999998,13057622,23339328,125296,749752,36625906,13430108,23464624,37691613,14011112,23680501,38579785,14560975,24018810,38173063,15278470,24120485,38322360,16147370,24219585,38333512,16774824,24436230,38233603.852514476,17627386,24552030,38780823.010000005,18467197,24665460,39870087.686414868,19523939,24776700,40183483.009999998,20355354,24776700,40067180.660000011,21155625,24882540,42679524.109999999,22110222,25089060,47694959.75,23154753,25303260,48997412.140000001,24688171,25670796,49842835.700000003,26380549,26188146]
[801,"Assabet Valley               ",37.54,8391985,7333682,2477600.4,9303432,7595626,2733990.4,9764859,7625516,2878463.4,9921868,7323853,2679432.4,314896,10283013.364976078,7403603,2934442,0,9970968.1919999998,7231682,2763012,14833,173097,10706516,7640401,3066115,11638299,8079707,3688749.9498749999,11645533,8015009,3773901.0669062501,11767240,7930239,3884226.0669062501,12473207,8071058,4402149,12802558,8119414,4744172,13483457.122205222,8363523,5119934,14604237.100950003,8891580,5712657,15341279.497413153,9400672,5955175,16217721.547997823,10027775,6208186,17308906.848700002,10888732,6421072,18912027.71474912,11434042,7477986,21431809.599349998,12336877,9094933,23337072.609233376,13488592,9848481,25966109.553580347,14882442,11083668]
[805,"Blackstone Valley            ",31.06,9538740,4657490,4881250,11634064,5661661,5972403,13058784,6650789,6607116,14423992,7306124,6462753,759526,15755118.710813399,8124101,7077833,553185,16047786.84,8574515,7329879,39350,290739,16495490,8881138,7614352,17182760,9269607,7913153,17574009,9547590,8026419,17695720,9764199,8056069,18218330,10300542,8086169,18149119,10436837,8153324,18527694.600344807,10824531,8190134.0000003679,19306561.990193069,11314851,8227334.0000007395,20173355.695973717,11937858,8264744,20447639.179795522,12329585,8264744,20972471.779999997,13049503,8302034,22300397.41,13631634,8668763,23489724.719765104,14213597,9276128,24426954.559999999,15281189,9407272,25246170.35974754,15870390,9595821.999998115]
[806,"Blue Hills                   ",29.75,8736268,7619162,3073959.2,10491975,8307024,3600320.2,11368895,8741919,3875673.2,12148540,8967009,3684433.2,433008,12332269.926889954,8910498,4035092,0,12217671.845999999,9020653,3799362,20397,236383,12473226,9088881,3819759,12759498,9108222,3898019.6005500001,13021004,9407988,3973984.1981125004,13656513,9688001,4130304.1981125004,14060446,9823319,4237127,14501647,9816982,4689160,14512296.336987162,9777318,4734978,14654739.316559998,9802331,4852408,15320678.136437576,10064969,5255709,15853872.642718541,10498516,5377315,16985563.998199999,11273090,5713327,18993506.711260065,12263867,6729640,20180627.194921803,12979952,7200675,20640945.172657177,13165278,7475667,20652850.586480003,13010907,7641944]
[810,"Bristol Plymouth             ",44.22,11388476,4427094,6961382,13514890,5510850,8086042,14637445,6248486,8665617,15904781,6720290,8345601,980805,17087281.950622011,7152445,9139878,794959,17171584.145999998,7555546.2191998027,9422839,50586,492612,17835184,7974320,9860864,18840987,8467645,10373342,19809952,9275499,10562802.050000001,19738678,9454533,10595527.050000001,20776046,10001847,10774199,20622505,9983312,10847624,21211911.426807255,10210686,11001225,21504737.259999998,10229317,11289055,22657735.468634516,10614555,12043180,23238134.84,11152285,12133330,24404455.759999998,12064493,12341965,25870713.669741295,12269006,13601708,26611587.789733887,12417077,14194511,27594090.620275941,13255197,14460069.000001416,28536806.650000006,14173615,14666169.000001416]
[815,"Cape Cod                     ",17.5,8147786,7106299,1812921.2,8939780,8238693,1951441.2,8959018,8344063,1986191.2,10056493,8988695,1949175.2,229074,10128081.632153112,9004924,2134684,0,9662450.2679999992,8722672,2009976,10791,131042,9969203,9140927,2020767,10009944,9018171,2047487,9858315,8884266,2063837,10012278,8734661,2080187,10180996,8693872,2096487,9867056,8195699,2130477,10216575.999388266,8480852,2149167,9979923.8499999996,8211309,2166897,10322933.41173223,8376084,2184147,11419229.199999999,9275007,2184147,11917313.979880825,9759779,2203137,13454322.920269083,10498402,2955921,14522131.980000004,11114860,3407272,14535867.460145356,11273432,3476640.0000006938,15008925.100150086,11758669,3579390.0000017215]
[817,"Essex North Shore",23.27,5267177,4108620,1440224,5871980,4830228,1577696,6088638,5073417,1627614,6185029,5030466,1476268,173496,6597337.6428708136,5303791,1616769,0,6438150.5279999999,5257509,1522317,8173,97479,6657128,5422037,1530490,7032311,5606831,1578772.356525,{"$f":"7223671+2406437","v":9630108},{"$f":"5744390+1758848","v":7503238},{"$f":"1633572.19536875+736211+279092","v":2648875.19536875},10537063,8095297,{"$f":"2685804.19536875+374740","v":3060544.19536875},12253746,9478745,3080269.19536875,14380155,10925830,3454325,16129989.412692271,12242834,3887155,17744843.639999997,13488298,4256546,18580518.657194056,13828438,4752081,19917637.840199184,14966372,4972500,22210361.840000004,16751014,5459940,24470236.15951059,17821075,6649161,27035849.729459278,19200403,7835447,28509097.570855275,20417318,8091780,31042516.400310419,22376292,8666224]
[818,"Franklin County              ",42.69,5609534,2938885,2670649,6238167,3104015,3134152,6391771,3127422,3264349,6770398,3246800,3153041,370557,6937473.1758851679,3512111,3453126,0,6832233.6720000003,3565201,3251395,17455,196151,6816703,3635743,3268850,7147655,3823257,3344405.5191250001,7343776,3944755,3416932.8843999999,7425790,4056096,3437610.8843999999,7597275,4196134,3449560.8843999999,7510077,4120671,3475025.8843999999,7241932.8547982732,3955977,3488135.8844003933,7536848.149849263,4066594,3501516,8190176.2362149609,4215767,3974409,8790347.6998241916,4547736,4242612,10081677.069899183,5276878,4805223,10955190.530000001,5484326,5470865,11960851.490000004,6003158,5957693,12480308.010249607,6519373,6017077.0000011874,13399887.970000003,7200970,6198918]
[821,"Greater Fall River           ",64.459999999999994,14786630,3199554,11587076,17060238,4544760,12983299,18611314,5287988,13901536,19717271,5629515,13024771,1530717,20071537.276937805,5932617,14264378,0,19949613.684,6306552.870136939,13431054,72104,796545,20383237,6467055,13916182,20957230,6715829,14241401,21919605,7123557,14796048,22550978,7369160,15181818,23275199,7579429,15695770,23332972,7431313,15901659,23441355.209892597,7581869,15945069,24261247.829999998,7936940,16324308,25634449.811339363,8117565,17516885,26716946.030000001,8563722,18196847,28548221.689714517,8806953,19741656,29219681.09,8541329,20678352,30840956.849999994,8881164,21959793,32450539.059999999,9405908,23044631,33636941.949663639,9803875,23833067]
[823,"Greater Lawrence             ",73.66,20801927,3447460,17354467,23397863,2950685,20447178,24270329,2925720,21344609,22243985,2764043,19164616,2252293,21086064.186794262,2952089,20988571,0,21516841.079999998,3448145,19762420,106093,1154758,22406284,3637418,19868513,23647271,3930189,19925633,24165774,3918941,20246833,25639135,4446591,21192544,25953903,4514175,21439728,27130809,4613664,22517145,28198339.274539281,4675584,23522755,29226821.741229992,4527429,24699393,31698687.99088544,4601974,27096714,32861439.491759997,4907043,27954396,35868845.641520008,5883228,29985618,39053522.538119987,6645884,32407639,43068009.264110669,7518634,35549375,46223891.29065223,7953337,38270554,50261020.524460003,8813599,41447422]
[825,"Greater New Bedford          ",65.67,22363849,4239109,18124740,25632190,5757999,20279884,27124010,6752296,21235693,28611071,7172648,19857283,2333698,30517951.37531101,7763883,21747161,1006907,30298830.222000003,8132720,21740799,116714,949205,31299153,8624602,22674551,32530714,8972206,23558508,33301712,9217036,24084676,33725633,9588800,24138401,34323634,9854302,24469332,34911179,10102835,24808344,35334771.991298027,10506130,24873053.999999352,36428065.790000007,10914841,25513225,38180025.886437774,11239871,26940155,38691322.399999999,11380986,27384112,41130342.100000001,12175349,28956006,43594626.830435947,12514815,31079812,46465556.500000007,12909410,33556147,49088629.350000009,13645535,35443094,51145206.98948855,14241953,36903254]
[828,"Greater Lowell               ",63.81,24208574,6905055,17303519,27036778,7606125,19430653,27800682,7909037,19937045,29465237,8510997,18820473,2211849,29630457.502009567,8466385,20611676,552397,30423897.84,9232155,20785128,111584,319986,31597336,9860549,21736787,33772319,10353219,23419100,34324570,10693693,23630877,34545660,10980189,23685627,34992565,11434404,23740502,35531900,11891870,23860787,37509502.791465104,12482002,25027501,40339926.969999999,13264027,27075900,42372428.797708727,13540919,28831510,43544496.41956456,14050785,29582555,46396730.020000003,14488947,31907783,49349500.229999997,14778865,34570635,52221931.380522214,14996648,37225283,53599212.039999992,15928699,37683807,55200721.789447986,16870122,38330600]
[829,"South Middlesex              ",40.21,8446819,8588762,2167094,9208715,8268805,2366025,9654723,8165281,2493762,9715858,7715501,2327422,273527,9614405.0465071779,7341351,2548930,0,9792459.7200000007,7492557,2400022,12884,152274,10544997,7892246,2652751,10989581,7883290,3269602.165025,11813873,8259858,3686820.5708499998,11573926,7868569,3818290.5708499998,11914131,7823272,4090859,11942604,7592237,4386161,12170547.123704944,7850604,4407641.0000002151,12903118.393199999,8092298,4810820,13895820.049220048,8568391,5327429,15367478.658029996,9170454,6197025,16551959.786334479,10013400,6548952,18188255.970868111,10266168,7922088,19205858.345507938,10232414,8973444,20411990.153714113,11298529,9063820,21738499.531417388,11824771,9913729]
[830,"Minuteman                    ",18.05,6066584,5495202,2078300.4,6914249,6039013,2248003.4,6679422,5830500,2272053.4,6716739,5664903,2053740.4,241363,6448437.4476555018,5389510,2249201,0,6278768.8019999992,5380998,2117803,11369,130554,6529848,5563357,2129172,6720937,5635287,2146052,6466600,5367418,2155902,7154168,5853666,2166677,7012158,5684556,2177027,6744963,5436063,{"$f":"2198257-133774","v":2064483},6331977.4709823718,5038148,2074863,6123549.9733787654,4836180,2085122.9999998973,6695949.827739303,5244391,1977748,7604263.0698360428,5992288,1977748,9892046.4984500017,7861244,2031339,10873494.496371264,8487544,2385950,12893971.225288942,9915208,2978763,13658261.271336583,10712608,3046779.0000006803,13776715.489875535,10866591,3142029.0000025854]
[832,"Montachusett                 ",53.42,13742072,4888977,8853095,15840334,5296832,10543502,17251828,5727859,11523969,18210278,5909892,11006825,1293561,19239467.091291867,6487260,12054378,697829,19087950.695999995,6671879,12177840,65376,543116,19926696,7025474,12901222,21362521,7634846,13727675,21644238,8117570,13764000,22098279,8502935,13800675,22705864,8952868,13837825,22983366,9077316,13920325,23339671.662662312,9194861,14144811,24114937.890482295,9381190,14733748,25030257.115778331,9604460,15425797,25382631.02025383,9937436,15445809,25893443.339741066,10458906,15489639,27936175.670000002,10715954,17220222,29486021.359115418,11167317,18318704,29905696.930299059,11646249,18472208.000001535,30990414.460309908,12227609,18762805]
[851,"Northern Berkshire           ",59.04,4866072,1480368,3385704,5410246,1532260,3877986,5840580,1651415,4189165,6022166,1628309,3931780,462077,6405552.1010526326,1973265,4305980,126307,6194470.0919999992,1959117,4173354,22404,247404,6032835,2076564,4195758,{"$f":"5901249+265615+518532","v":6685396},2057940,{"$f":"4211358+97719+296789","v":4605866},7074072,2680139,4617441,7193835,2748884,4629241,7377904,2797399,4641116,7221555,2766472,4666196,7333874.6106536184,2825783,4679876,7476126.9300747626,2937807,4693196.0000001332,7897883.8046400165,3067978,4829906,8244375,3172855,5071520,8582446.4999999981,3268863,5316141,9724718.370000001,3451123,6273595,10599770.639894003,3758739,6841032,10940101.949890599,3905500,7034602,10864145.600000003,4022650,7106152]
[852,"Nashoba Valley               ",25.37,5158946,3321776,1931065.2,5389599,3394928,2023465,6238440,3743767,2494673,7033183,4130123,2597762,305298,7866987.6486124406,4598216,2844999,423773,8233340.9220000003,5083135.795428413,3080894,16540,185963,8193934,5151981,3097434,{"$f":"8811361+786722","v":9598083},5561630,{"$f":"3273055.84085+294572","v":3567627.8408499998},9643398,6347664,3583552.8408499998,10305011,6808953,3602853.8408499998,10872297,7267551,3620453.8408499998,10716963,7187884,3658183.8408499998,10765279.843473723,7259409,3678433.8408499998,10686139.044199999,7286534,3698114,10895286.797909893,7517024,3717284,11332310.899736676,8006848,3717284,11843081.30975157,8677220,3737294,13039564.664050002,9138788,3900777,14548100.2422,9846166,4701934,15600626.052483993,10713562,4887064,16066337.762080662,11216924,5001664.0000011465]
[853,"Northeast Metropolitan       ",41.11,13805435,8368989,5436446,15298678,8834989,6463689,16448129,9382830,7065299,17520203,9753752,6949698,816753,18195495.392153114,9906992,7611122,677381,18075511.403999995,10403784,7787386,41897,489726,18846605,10860660,7985945,19273753,10987834,8285919,19964083,11419748,8564871.3160750009,20104161,11494298,8609863,20386925,11746592,8640688,20458840,11667126,8818904,21001845.715027004,11813188,9188658,21695597.037383042,11983464,9712133,22663144.184447043,12097696,10565448,23843254.848850004,13124735,10745350,25599015.769705985,14354270,11244913,28012736.845560264,15244239,12768498,29763086.943302374,15690113,14072974,31943468.563439425,16660786,15282683,34145597.992569998,17952021,16193577]
[855,"Old Colony                   ",26.62,4989253,2641742,2546991,5820992,2972628,2935912,6621083,3475932,3292273,6827603,3546608,3028077,355870,7042233.7959808633,3704307,3316268,21659,6779947.8360000001,3833931.4919956997,3142926,16873,190453,6636605,3861415,3159799,6993936,4108774,3179079,7318581,4348047,3191479,7268292,4341070,3203704,7329579,4522220,3215679,7070588,4320680,3240924,7132027.5606843857,4376933,3254694,7339792.9800000004,4416012,3268404,7752983.70072567,4672558,3282354,7921696.2200000016,4845112,3282354,8771732.7200877182,5624848,3297294.0000001495,9593176.8600959312,5909947,3683230,10531538.940105317,6359936,4171603,10906849.549890932,6864321,4229114.9999994244,11281890.140000001,7358019,4312664.9999994244]
[860,"Pathfinder                   ",50.42,6096738,2786084,3310654,6802165,2722408,4079757,7765674,2973205,4792469,8192718,3079140,4575812,537766,7922637.1368421055,3002367,5011306,0,8264011.2758400002,3272693.2524828459,{"$f":"4773477+124459","v":4897936},25626,226728,8310204,3406888,4923562,9047750,3742148,5305602,9290876,3937256,5362159.7480999995,8740342,3869273,5376309.7480999995,9330426,4172839,5391009.7480999995,9305841,4136686,5422744.7480999995,9526647.0681404825,4148472,5440054.748100346,9675019.1999999993,4221512,5459444,10638203.377264135,4587025,6051178,10484384.559895158,4455062,6051178,10521613.089894783,4559455,6068008,11620603.830116205,4877462,6743142,12791606.58,5336459,7455148,13574951.48,5890946,7684005,14168218.66014168,6336903,7831316]
[871,"Shawsheen Valley             ",17.5,13777348,11493572,3136056.8,15354177,11614893,3739284,16399600,11925006,4474594,17333155,11848099,4908224,576832,18045396.186028711,12240655,5375355,429386,17891209.259999998,12538270,5465628,29342,342521,18725824,13125229,5600595,19899113,13950931,6159525.7945499998,20418808,14772092,6206185.7275124993,20894661,15270792,6241110.7275124993,20905729,15410372,6275835.7275124993,20610764,15409506,6350690.7275124993,20779974.22357462,15673209,6391250.7275124993,21319072.907946814,16426446,6431361,21756421.654655538,17141547,6470511,21443569.573314432,17321815,6470511,22505083.522360001,18566695,6509961,24071025.330000002,19187031,6589341,24972413.579999994,19694909,6667041,25845027.64025845,20804980,6803073.0000013607,26234729.470262349,21239717,6995373.0000032838]
[872,"Southeastern                 ",58.66,14936857,5393902,9542955,16539295,5950716,10588579,17132435,6118865,11013570,18651251,6606221,10778323,1266707,19547466.962679427,6794855,11804129,948483,18976858.698000003,6830054,12007606,64462,713969,19791640,7163181,12628459,20139028,7253938,12885090,20816397,7493594,13322803,21227292,7726584,13500708,22565360,8283596,14281764,23532615,8586706,14945909,24658561.658426791,9068356,15590206,25369687.710253701,9264693,16104995,26705365.084122326,9834210,16871155,26978734.039999999,10323654,16871155,31199664.219999995,11824738,19375182,32362813.119999997,12184542,20178271,34786651.119999997,12652345,22134306,36650377,13488405,23161972,38734574.690387338,14188183,24546392]
[873,"South Shore                  ",34.090000000000003,5603587,3304900,2298687,6624462,3491969,3132493,7292760,3896693,3409503,8002552,4267730,3342052,392770,8068943.0905263163,4326150,3660126,82667,8159816.8379999995,4585112,3524139,18919,214385,8361233,4747142,3614091,8898769,5090951,3814659,8843168,4991245,3851923,8975128,5135646,3866773,9246000,5264595,3981405,9836290,5547660,4288630,10085090.357912248,5811066,4307229.9999998137,10179751.535079999,5849405,4342636,10278115.468662532,5835267,4442848,9696307.4090200011,5540283,4442848,10334881.008950002,6044013,4459678,11690753.246806186,6690356,5000397,12906720.28764,7232154,5674566,13836188.897828359,7981179,5861247,14594489.375639999,8885161,5963097]
[876,"Southern Worcester           ",49.2,9571032,4238701,5725706.91653415,12372691,5102480,7282028,13883285,5546098,8337187,15012157,5773697,8266904,971556,15581392.28478469,6076724,9053691,450977,15894028.614,6360940,9350174,50196,132719,15689978,6367969,9400370,16052759,6598237,9454522,16721381,6992891,9728490,17132815,7280728,9852087,17642332,7557770,10084562,17712277,7652484,10147042,18134754.555626247,7810739,10324016,18654311.879813455,8130478,10527326,19584275.952675201,8498663,11085613,20163226.599596739,8939018,11243208,21417723.040214177,9831831,11586540,22869920.629999999,9976240,12893681,24914513.250249147,10695233,14219280,25679391.349743202,11220404,14458987,26179600.699738208,11613795,14644386.999998147]
[878,"Tri County                   ",19.46,9016173,5636406,3446914,10212901,5924588,4288313,11290959,6500818,4790141,12442959,7015291,4856871,570797,12923675.155598087,7663565,5319115,0,13370766.120000003,8194447,5076999,27256,238385,13542704,8344586,5198118,14397568,8892150,5505418,14698799,9224159,5529518,15102844,9768353,5553893,15108183,10085613,5577743,15221337,10205482,5630378,15811834.242360983,10767622,5659267.9999997113,15797799.39597,10833554,5687408,17150334.906830095,11677869,5716838,16446455.91653554,11583064,5716838,16893468.743349999,12199549,5743988,17544445.759440001,12480824,5797748,19173060.333461732,13669772,5853848.0000005607,19698359.004916985,14493433,5951816.0000015404,21387428.700500004,16145057,6100766.0000015404]
[879,"Upper Cape Cod               ",20.93,7297579,5382948,2593253,7871760,6175413,2762062,8334135,6672582,2884730,9055851,7109422,2747270,322869,9359958.3663157895,7254471,3008736,0,9469840.0140000004,7444031,2832966,15209,177786,9659521,7711247,2848175,9618705,7624553,2874735,10084443,8024477,2891885,10314759,8119608,2909460,11054587,8517332,2927510,11535664,8638647,2968265,11636066.279966651,8609575,3026491,12366494.259999998,9126256,3240238,12375568.23018039,9213425,3262258,12856564.119999999,9721410,3262258,13571524.320135718,10320217,3285088.0000002282,15047376.250150472,11135028,3912348,16601530.709999997,12150289,4451242,18130702.799999997,13570576,4589560,19100969.820000004,14663624,4720060]
[885,"Whittier                     ",43.16,11536179,7149342,4829933,11990774,6974949,5032319,12092901,6752086,5340815,12653763,7029551,5032746,591466,14137619.469473682,7657177,5511728,968714,14275034.699999999,7892558,6260014,33606,212122,15261656,8442171,6819485,16269465,8729868,7563919.4677499998,16875591,9062382,7879914.9927000003,17494788,9523686,8010858.9927000003,18310028,10028034,8281994,19322789,10384757,8938032,19762413.323503122,10544137,9218276,20237272.480202377,10694772,9542746,21419842.533375792,11214984,10204859,22219393.409999993,11408976,10835866,22987502.880689632,11920144,11067840,24944833.849999998,12643217,12301617,26519398.819734812,13131792,13387607,27194608.429999992,13749864,13520415,28238744.479999997,14285371,13953373]
[910,"Bristol County               ",41.15,4169889,2377115,1792774,4678752,2165472,2513280,4979099,2115459,2863640,5282006,2203905,2754395,323706,5380792.1852631588,2265291,3016539,98962,5285460.1679999996,2485563.5502734138,2933494,15748,175709,5518473,2608341,2949242,5541328,2713112,2964202,5650536,2907343,2973677,5797631,3091923,2983352,5839373,3169711,2992952,6281807,3336386,3015502,6434258.3084468814,3461793,3027862,6272468.1098745503,3267780,3039532,6469200.7539703678,3230305,3238896,6594994.5600000005,3396297,3238896,6769003.2801353801,3495898,3291775,8260047.1499999994,4239142,4020905,9916498.0400991645,4990303,4926195,10653111.429680407,5504395,5148716,11148673.800222971,5907819,5240855]
[915,"Norfolk County               ",20.6,2581809,2385271,605727.6,3153664,2376238,777426,3314326,2403121,911205,3538156,2513756,916670,107730,3601674.9504306214,2554390,1003912,43373,3636172.7040000004,2694070,968927,5294,79925,3894722,2866575,1028147,4009287,2928531,1097231.0205000001,4057136,3005158,1109762.7805750002,3937649,2863375,1119500.7805750002,4240624,3129643,1126275.7805750002,4615273,3398333,1216940,4595770.9606507998,3415991,1225309.999999749,4801803.415529999,3550450,1251353,4971875.5058426186,3680317,1291559,4921619.8021892179,3697896,1291559,5268916.5291999988,3999047,1300079,5528618.7214800008,4095337,1433282,5446250.7874944638,3980038,1466213,5461945.0265061418,4073476,1492004.9999992263,5991943.7559198383,4480349,1531455.0000000154]
[999,"State Total",41,7551933454,4743946672,3288603061.8000002,8014672861.3798904,4876428772,3505192038.9270248,8406096436.3857374,4997705374,3725343326.8219399,8811314229.2926865,5110365426,3536496064.2495604,411999998,9088557473.2006893,5250106061,3869526145,173630555,8921047970,5302200670.3241692,3850884455.5488005,20667814,200480583,9119340580.3732376,5413602268,3990504093.3881507,9467117140.6663704,5582113529,4173223954.2949104,9711217584.8007889,5748475145,4300854366.3566036,9866011313.0677662,5817618237,4400335961.8829308,10090177272.100754,5943909029,4511521973.6381674,10128238382.975546,5926185567,4627705061.1446953,10379173843.167685,6046916786,4745645155.949439,10777588551.40456,6246842886,{"$f":"SUM(AW10:AW447)","v":4906614765.8021221},11359048511.850758,6513607368,5175694094,11626531095.326303,6705321561,5283343073.4799995,11926225791.726231,6827673657,5502959666.6000013,12890335880.607767,7166744291,5997901328.6000023,13963389872.29413,7566302116,6592314527.6000013,14535103399.717712,7972055321,6901610127.2600069,{"$f":"SUM(BP10:BP447)","v":15314834159.408045},{"$f":"SUM(BQ10:BQ447)","v":8377180548},7361555994.4900179]

{"sheet":"dist435","index":17,"n_rows":448,"n_cols":38,"rows_kept":448,"cut":false,"hidden":false,"merged":[[6,37,8,37],[2,17,2,18],[2,20,2,21],[6,34,8,34],[6,36,8,36],[6,35,8,35]]}
[]
[]
[]
[null,null,"Foundation Enrollment",null,null,null,null,null,null,null,null,null,null,null,null,null,null,null,null,null,"Foundation Categories"]
[1,2,3,4,5,6,7,8,12,13,14,15,16,17,21,23,24,null,null,20,21,22,23,24,25,26,27,28,29,30,31,32,33,34,{"$f":"AH5+1","v":35},{"$f":"AI5+1","v":36},{"$f":"AJ5+1","v":37},{"$f":"AK5+1","v":38}]
[null,null,null,null,null,null,null,null,null,null,null,null,null,null,null,null,null,null,null,null,null,null,null,null,null,null,null,null,null,null,null,null,null,null,null,"Low-income group assignment"]
[null,null,null,null,null,null,null,null,null,null,null,null,null,null,null,null,null,null,null,null,null,null,null,null,null,null,null,null,null,null,null,null,null,null,"Total \nLow-Income Enrollment","Total Enrollment of Students Attending School in the District \nplus the Total Resident Students Attending Charter Schools","Low-Income % \nfor Group Assignment","Low-Income\nGroup"]
[null,null,null,null,null,null,null,null,null,null,null,null,null,null,null,null,null,"Low-Income","Low-Income"]
["LEA","District Name","PK","K Half","K Full","Elem","Jr/Middle","High School","Vocational","Assumed Special Education In-District","Assumed Special Education Tuition","EL PK-5","EL 6-8","EL high school/voc","Low-Income","Total Foundation Enrollment","WAF","Group","Percentage",null,"Administration","Instructional Leadership","Classroom & Specialist Teachers","Other Teaching Services","Professional Development","Instructional Materials, Equipment & Technology","Guidance & Psychological Services","Pupil Services","Operations & Maintenance","Employee Benefits & Fixed Charges","Special Education Tuition","Total Foundation Budget"]
[1,"Abington                     ",21,0,163,904,523,593,5,87,22,154,35,55,770,2199,1.0309999999999999,6,0.35799999999999998,null,1546171.8842500001,2282460.6476599998,13596636.615469998,2819804.5786899999,566911.56762999995,1543804.93,1182757.18927,1346592.2445499997,2960449.2787999995,5637955.96,864179.36,34347724.25632,null,null,770,2151,0.35799999999999998,6]
[2,"Acton                        ",0,0,0,0,0,0,0,0,0,0,0,0,0,0,1.054,0,0,null,0,0,0,0,0,0,0,0,0,0,0,0,null,null,0,0,0,0]
[3,"Acushnet                     ",23,0,85,488,331,202,0,44,11,0,1,0,314,1118,1,6,0.34749999999999998,null,738669.76,1067997.17,6062632.6600000001,1382654.2399999998,257259.95,726384.05,557570.47,558347.24,1408705.9300000002,2779380.88,432089.68,15971692.030000001,null,null,314,903.5,0.34749999999999998,6]
[4,"Adams                        ",0,0,0,0,0,0,1,0,0,0,0,0,0,1,1,0,0,null,469.93,848.74,8561.64,598.16,267.63,1577.15,472.52,636.49,2126.02,2488.6799999999998,0,18046.96,null,null,0,0,0,0]
[5,"Agawam                       ",37,1,233,1271,803,969,141,138,33,170,42,59,1591,3437,1,8,0.46179999999999999,null,2388775.44,3711652.2299999995,23836098.91,4203479.59,999622.34000000008,2565173.46,1894993.69,2687778.84,4592305.4299999988,9331064.8399999999,1296269.0399999998,57507213.809999995,null,null,1591,3445.5,0.46179999999999999,8]
[6,"Alford                       ",0,0,0,0,0,0,0,0,0,0,0,0,0,0,1,0,0,null,0,0,0,0,0,0,0,0,0,0,0,0,null,null,0,0,0,0]
[7,"Amesbury                     ",29,0,153,789,427,556,13,78,19,60,19,20,679,1953,1,6,0.35859999999999997,null,1316358.03,1937527.4600000002,11605913.09,2404860.02,480923.60000000003,1370752.3700000003,1007372.8300000001,1165314.6400000001,2514108.5599999996,4952945.1700000009,746336.72,29502412.490000006,null,null,679,1893.5,0.35859999999999997,6]
[8,"Amherst                      ",43,1,127,724,159,0,0,40,10,96,17,0,409,1033,1,7,0.38679999999999998,null,706147.85,1072029.07,6218114.6199999992,1410032.8900000001,270010.96999999997,629023.51,545992.97000000009,539842.47,1315914.9900000002,2714087.55,392808.8,15814005.690000001,null,null,409,1057.5,0.38679999999999998,7]
[9,"Andover                      ",56,0,336,2041,1317,1643,5,213,53,135,32,25,744,5370,1.077,3,0.1406,null,3775790.0569500001,5199088.6046400005,29058940.02417,7007809.4482199987,1170978.4815,3727969.45,2771527.0828499999,2445853.9359900001,7392016.4896199992,12696826.849999998,2081886.64,77328687.063940004,null,null,744,5291,0.1406,3]
[10,"Arlington                    ",33,0,431,2403,1484,1788,0,244,61,225,34,30,773,6123,1.042,3,0.12770000000000001,null,4175137.4603400007,5726518.5976600004,31820768.211339999,7800671.4580000006,1283769.0288399998,4225231.5999999996,3052537.9788400005,2602837.2560599996,8172038.5907999994,14469327.879999997,2396133.6799999997,85724971.74188,null,null,773,6054.5,0.12770000000000001,3]
[11,"Ashburnham                   ",0,0,0,0,0,0,0,0,0,0,0,0,0,0,1,0,0,null,0,0,0,0,0,0,0,0,0,0,0,0,null,null,0,0,0,0]
[12,"Ashby                        ",0,0,0,0,0,0,0,0,0,0,0,0,0,0,1,0,0,null,0,0,0,0,0,0,0,0,0,0,0,0,null,null,0,0,0,0]
[13,"Ashfield                     ",0,0,0,0,0,0,16,1,0,0,0,0,0,16,1,0,0,null,10762.16,13579.84,147688.25999999998,19562.879999999997,4798.34,25685,7560.32,10183.84,37639.22,44537.1,0,321996.95999999996,null,null,0,0,0,0]
[14,"Ashland                      ",28,0,188,1049,675,890,2,112,28,150,29,39,773,2818,1,5,0.26960000000000001,null,1886563.0100000002,2702746.89,15779326.319999998,3436914.8,645919.21,1994476.05,1418835.47,1499665.96,3647373.2500000005,6968526.6599999992,1099864.6399999999,41080212.259999998,null,null,773,2867,0.26960000000000001,5]
[15,"Athol                        ",0,0,0,0,0,0,0,0,0,0,0,0,0,0,1,0,0,null,0,0,0,0,0,0,0,0,0,0,0,0,null,null,0,0,0,0]
[16,"Attleboro                    ",241,0,429,2256,1423,401,1734,267,45,389,91,133,2761,6364,1,8,0.44429999999999997,null,4390659.0600000005,6813472.4900000002,48919872.74000001,7909298.8999999994,1979366.68,5789869.6100000003,3487983.2899999996,4831064.82,10046105.040000003,17958613.190000001,1767639.5999999999,113893945.42000003,null,null,2761,6214,0.44429999999999997,8]
[17,"Auburn                       ",27,0,170,832,599,727,4,93,23,40,19,18,730,2346,1,6,0.30330000000000001,null,1567608.22,2285699.5700000003,13525068.76,2829615.0999999996,559558.01,1645554.01,1194220.21,1364091.2199999997,3000679.99,5873895.25,903460.24,34749450.580000006,null,null,730,2406.5,0.30330000000000001,6]
[18,"Avon                         ",12,0,38,228,143,137,0,22,5,53,7,28,362,552,1,9,0.52769999999999995,null,401434.13000000006,670611.77999999991,4390373.4000000004,696695.24,191191.97,394875.6,333360.06,546380.76,731708.29000000015,1629004.1099999999,196404.4,10182039.74,null,null,362,686,0.52769999999999995,9]
[19,"Ayer                         ",0,0,0,0,0,0,0,0,0,0,0,0,0,0,1,0,0,null,0,0,0,0,0,0,0,0,0,0,0,0,null,null,0,0,0,0]
[20,"Barnstable                   ",162,0,348,1882,1118,1508,101,199,49,672,161,260,2741,5038,1,10,0.56630000000000003,null,3671730.6300000004,6012386.6699999999,39675353.670000002,6312687.7699999996,1692088.2400000002,3825150.2099999995,3008824.24,4790452.8500000006,6882271.7399999993,14646603.969999999,1924763.1199999999,92442313.109999999,null,null,2741,4840,0.56630000000000003,10]
[21,"Barre                        ",0,0,0,0,0,0,0,0,0,0,0,0,0,0,1,0,0,null,0,0,0,0,0,0,0,0,0,0,0,0,null,null,0,0,0,0]
[22,"Becket                       ",0,0,0,0,0,0,17,1,0,0,0,0,0,17,1,0,0,null,11232.09,14428.58,156249.9,20161.04,5065.97,27262.15,8032.84,10820.33,39765.24,47025.78,0,340043.92000000004,null,null,0,0,0,0]
[23,"Bedford                      ",16,0,129,809,605,862,3,96,24,80,7,15,346,2416,1.0760000000000001,3,0.14560000000000001,null,1701335.30464,2344302.6124000004,13274182.277879998,3098510.0066399998,530541.88892000006,1722262.67,1251379.7255600002,1172725.1262400001,3338949.4373599994,5716293.8100000005,942741.11999999988,35093223.97964,null,null,346,2377,0.14560000000000001,3]
[24,"Belchertown                  ",57,0,123,754,498,567,11,79,19,40,9,9,503,1982,1,5,0.2535,null,1309381.9100000001,1865323.09,10780646.139999999,2410880.8099999991,442616.22,1376122.9999999998,982112.79,1002156.05,2537819.4200000004,4850500.58,746336.72,28303896.729999997,null,null,503,1984.5,0.2535,5]
[25,"Bellingham                   ",39,0,155,858,533,665,6,88,22,110,13,24,818,2237,1,7,0.37580000000000002,null,1518705.5300000003,2274939.15,13773235.489999998,2728278.86,574975.49,1578554.9899999998,1176491.93,1450289.31,2883203.4,5769696.8300000001,864179.36,34592550.339999989,null,null,818,2176.5,0.37580000000000002,7]
[26,"Belmont                      ",35,0,274,1550,1116,1564,8,180,45,275,45,42,626,4530,1.0429999999999999,3,0.1421,null,3112646.2189199994,4292009.8537400002,24283716.859499998,5696110.7949899994,971474.30372999993,3239870.34,2286957.1880399999,2093612.2311999998,6132544.1426199991,10775281.43,1767639.5999999999,64651862.962739997,null,null,626,4406,0.1421,3]
[27,"Berkley                      ",10,0,50,310,234,0,0,24,6,16,3,0,249,599,1,6,0.30759999999999998,null,406433.33999999997,607055.08000000007,3430566.56,776701.83,153632.73000000001,357983.18000000005,310574.36999999994,318069.59999999998,762490.64000000013,1574882.78,235685.27999999997,8934075.3899999987,null,null,249,809.5,0.30759999999999998,6]
[28,"Berlin                       ",0,0,0,0,0,0,0,0,0,0,0,0,0,0,1.0269999999999999,0,0,null,0,0,0,0,0,0,0,0,0,0,0,0,null,null,0,0,0,0]
[29,"Bernardston                  ",0,0,0,0,0,0,0,0,0,0,0,0,0,0,1,0,0,null,0,0,0,0,0,0,0,0,0,0,0,0,null,null,0,0,0,0]
[30,"Beverly                      ",55,0,346,1785,1065,1188,49,177,44,184,47,42,1586,4461,1,6,0.35489999999999999,null,3014163.1900000004,4449232.43,26652399.119999997,5491880.7599999988,1109800.8600000001,3130644.4000000008,2309522.3700000006,2671429.17,5779592.330000001,11382136.540000001,1728358.72,67719159.889999986,null,null,1586,4469,0.35489999999999999,6]
[31,"Billerica                    ",80,0,425,2052,1185,1279,2,198,49,156,36,35,1465,4983,1,5,0.29849999999999999,null,3320313.59,4776778.3400000008,27636136.350000001,6162117.870000001,1145097.5,3402497.26,2501010.64,2569576.13,6369491.0200000014,12344182.619999999,1924763.1199999999,72151964.440000013,null,null,1465,4907.5,0.29849999999999999,5]
[32,"Blackstone                   ",0,0,0,0,0,0,9,0,0,0,0,0,0,9,1,0,0,null,4229.37,7638.66,77054.759999999995,5383.44,2408.67,14194.35,4252.68,5728.41,19134.18,22398.12,0,162422.63999999998,null,null,0,0,0,0]
[33,"Blandford                    ",0,0,0,0,0,0,11,1,0,0,0,0,0,11,1,0,0,null,8412.51,9336.14,104880.06,16572.079999999998,3460.1899999999996,17799.25,5197.7199999999993,7001.39,27009.120000000003,32093.7,0,231762.16,null,null,0,0,0,0]
[34,"Bolton                       ",0,0,0,0,0,0,1,0,0,0,0,0,0,1,1.0409999999999999,0,0,null,489.19712999999996,883.53833999999995,8912.6672399999989,622.68455999999992,278.60282999999998,1577.15,491.89331999999996,662.58609000000001,2213.1868199999999,2488.6799999999998,0,18620.186329999997,null,null,0,0,0,0]
[35,"Boston                       ",3011,0,3977,20230,12119,16300,1843,2197,526,9563,2658,4084,40930,55975,1.0860000000000001,11,0.74229999999999996,null,46708901.832720004,82781487.682740003,578846759.52396011,77037754.456800014,25141173.726299997,44372193.540000007,40391764.972500004,76886252.765280008,85540356.848220006,180211787.82999998,20661742.879999999,1258580176.0585201,null,null,40930,55138,0.74229999999999996,11]
[36,"Bourne                       ",26,0,104,648,411,408,1,63,16,12,4,7,626,1585,1,7,0.40579999999999999,null,1073986.43,1613908.0500000003,9730129.3499999996,1939397.8699999999,411509.06000000006,1083015.9200000002,832554.38,1038094.2,2011221.56,4105432.7,628494.07999999996,24467743.599999998,null,null,626,1542.5,0.40579999999999999,7]
[37,"Boxborough                   ",0,0,0,0,0,0,3,0,0,0,0,0,0,3,1.105,0,0,null,1557.8179499999999,2813.5731000000001,28381.836599999999,1982.9004,887.19344999999998,4731.4500000000007,1566.4037999999998,2109.9643500000002,7047.7562999999991,7466.0399999999991,0,58544.935950000006,null,null,0,0,0,0]
[38,"Boxford                      ",3,0,81,533,112,0,0,29,7,0,0,0,53,728,1.0429999999999999,2,7.1400000000000005E-2,null,488244.43520999991,659948.72741000005,3377661.2440899997,1027406.1382899998,141539.86650999999,423963.36,350150.57811999996,168612.72546999998,940195.09877999988,1691966.0799999998,274966.15999999997,9544654.4138799999,null,null,53,742,7.1400000000000005E-2,2]
[39,"Boylston                     ",0,0,0,0,0,0,3,0,0,0,0,0,0,3,1,0,0,null,1409.79,2546.2200000000003,25684.92,1794.48,802.89,4731.4500000000007,1417.56,1909.47,6378.0599999999995,7466.0399999999991,0,54140.88,null,null,0,0,0,0]
[40,"Braintree                    ",58,332,14,1959,1239,1563,0,198,49,220,48,51,1561,4970,1.048,6,0.31940000000000002,null,3506867.2856799993,5116779.6603200007,30348139.512720007,6331799.8290400002,1254630.6072799999,3510785.0400000005,2669634.5375999999,3059914.7784800003,6716839.3991999999,12511596.360000001,1924763.1199999999,76951750.130320013,null,null,1561,4887,0.31940000000000002,6]
[41,"Brewster                     ",14,0,51,336,0,0,0,15,4,20,0,0,150,394,1,7,0.37740000000000001,null,266077.65000000002,401716.82000000007,2339310.73,547621.88,99513.86,236284.24,205294.44,193517.03,487357.14999999997,1011001.1200000001,157123.51999999999,5944818.4399999995,null,null,150,397.5,0.37740000000000001,7]
[42,"Bridgewater                  ",0,0,0,0,0,0,22,1,0,0,0,0,0,22,1,0,0,null,13581.740000000002,18672.28,199058.09999999998,23151.839999999997,6404.12,35147.9,10395.439999999999,14002.78,50395.340000000004,59469.18,0,430278.72000000003,null,null,0,0,0,0]
[43,"Brimfield                    ",9,0,38,156,50,0,3,10,2,1,0,0,81,252,1,6,0.31950000000000001,null,165510.60999999999,244444.84,1378332.1,336111.56,59519.63,151597.75,126282.77,110102.19,316060.58,634994.74999999988,78561.759999999995,3601518.5399999996,null,null,81,253.5,0.31950000000000001,6]
[44,"Brockton                     ",536,0,1233,6654,3692,4227,500,657,158,2745,1065,1358,12509,16574,1,11,0.77510000000000001,null,12864310.110000001,22893367.41,159862007.50999999,21383274.500000004,6986520.5999999996,12970527.129999999,11130842.48,21180375.280000001,23420250.940000005,54037524.099999994,6206379.04,352935379.09999996,null,null,12509,16138.5,0.77510000000000001,11]
[45,"Brookfield                   ",5,0,25,149,36,0,0,8,2,3,0,0,97,213,1,6,0.34460000000000002,null,142220.80000000002,217844.96,1259977.06,282735.90000000002,54958.600000000006,126429.76000000001,111135.06999999999,114002.68,262982.80000000005,553017.09,78561.759999999995,3203866.4800000004,null,null,97,281.5,0.34460000000000002,6]
[46,"Brookline                    ",54,0,453,2580,1563,2199,0,272,68,588,115,66,1135,6822,1.0449999999999999,3,0.16600000000000001,null,4742689.6341000004,6588257.3520499999,37416110.279899999,8760054.3299499992,1505534.3737499998,4853522.6800000006,3493407.4328999999,3194427.3003499992,9310213.0659999978,16418676.17,2671099.84,98953992.458999991,null,null,1135,6836.5,0.16600000000000001,3]
[47,"Buckland                     ",0,0,0,0,0,0,1,0,0,0,0,0,0,1,1,0,0,null,469.93,848.74,8561.64,598.16,267.63,1577.15,472.52,636.49,2126.02,2488.6799999999998,0,18046.96,null,null,0,0,0,0]
[48,"Burlington                   ",24,0,260,1395,846,961,3,138,35,212,52,70,812,3477,1.0860000000000001,4,0.23760000000000001,null,2524599.1242600004,3570999.8827199996,20427404.551080003,4675237.34136,837396.01854000019,2421417.7100000004,1878867.7922400003,1804651.4753400001,4908717.4370400012,8527371.4299999997,1374830.7999999998,52951493.562580004,null,null,812,3417.5,0.23760000000000001,4]
[49,"Cambridge                    ",377,0,610,2843,1502,1644,609,294,66,512,93,137,2936,7397,1.1120000000000001,7,0.40560000000000002,null,5624540.7135200007,8538912.8920000009,54682285.648719996,10196686.26168,2251641.68456,5680177.2100000018,4397772.2165600006,5537202.3764800001,11350468.060400002,19633770.639999997,2592538.0799999996,130485995.78392002,null,null,2936,7238,0.40560000000000002,7]
[50,"Canton                       ",60,0,253,1282,742,1017,0,132,33,90,24,25,802,3324,1.0620000000000001,5,0.24490000000000001,null,2338447.9926600005,3318181.0547400001,19158730.313400004,4307281.8489000006,781046.65746000002,2317556.67,1749016.5933600001,1767073.5351,4510880.5982400011,8096204.0799999991,1296269.0399999998,49640688.383860007,null,null,802,3275,0.24490000000000001,5]
[51,"Carlisle                     ",1,54,0,347,195,0,1,23,6,8,0,0,31,571,1.0509999999999999,1,5.4100000000000002E-2,null,389136.84889999998,519514.93336000002,2600034.2590399999,784467.88190999988,112287.78899999999,334543.39,275987.83897000004,140531.00720999998,758311.05634999997,1342825.9,235685.27999999997,7493326.1847400004,null,null,31,572.5,5.4100000000000002E-2,1]
[52,"Carver                       ",44,0,83,569,344,401,5,56,14,17,2,3,477,1424,1.0329999999999999,6,0.3231,null,981090.11785999988,1440717.5900899996,8538607.6066500004,1785101.7848999999,354952.06371999992,984560.10000000009,750861.78203,861824.15249999997,1868436.6530099998,3578523.53,549932.31999999995,21694607.700759999,null,null,477,1476.5,0.3231,6]
[53,"Charlemont                   ",0,0,0,0,0,0,15,1,0,0,0,0,0,15,1,0,0,null,10292.23,12731.1,139126.62,18964.72,4530.71,24107.85,7087.7999999999993,9547.35,35513.199999999997,42048.42,0,303950,null,null,0,0,0,0]
[54,"Charlton                     ",0,0,0,0,0,0,0,0,0,0,0,0,0,0,1,0,0,null,0,0,0,0,0,0,0,0,0,0,0,0,null,null,0,0,0,0]
[55,"Chatham                      ",0,0,0,0,0,0,0,0,0,0,0,0,0,0,1,0,0,null,0,0,0,0,0,0,0,0,0,0,0,0,null,null,0,0,0,0]
[56,"Chelmsford                   ",172,0,351,1996,1237,1505,0,204,51,201,29,36,1034,5175,1,4,0.20200000000000001,null,3408400.92,4784168.22,27131335.390000001,6317880.96,1104758.69,3581642.879999999,2531123.2000000002,2378706.5699999998,6627870,12471742.790000001,2003324.88,72340954.5,null,null,1034,5118.5,0.20200000000000001,4]
[57,"Chelsea                      ",217,0,494,2420,1541,2143,1,264,66,1695,437,625,5411,6708,1.04,12,0.82540000000000002,null,5630397.7808000008,10389593.24,73720758.643999994,9021566.1120000016,3248636.0504000001,5335978.9800000014,4992496.7976000002,10292840.552800002,9919076.4712000005,23069246.579999998,2592538.0799999996,158213129.28880003,null,null,5411,6555.5,0.82540000000000002,12]
[58,"Cheshire                     ",0,0,0,0,0,0,0,0,0,0,0,0,0,0,1,0,0,null,0,0,0,0,0,0,0,0,0,0,0,0,null,null,0,0,0,0]
[59,"Chester                      ",0,0,0,0,0,0,11,1,0,0,0,0,0,11,1,0,0,null,8412.51,9336.14,104880.06,16572.079999999998,3460.1899999999996,17799.25,5197.7199999999993,7001.39,27009.120000000003,32093.7,0,231762.16,null,null,0,0,0,0]
[60,"Chesterfield                 ",0,0,0,0,0,0,6,0,0,0,0,0,0,6,1,0,0,null,2819.58,5092.4400000000005,51369.84,3588.96,1605.78,9462.9000000000015,2835.12,3818.94,12756.119999999999,14932.079999999998,0,108281.76,null,null,0,0,0,0]
[61,"Chicopee                     ",357,0,455,2333,1670,1758,662,282,62,314,98,148,4721,7057,1,10,0.69340000000000002,null,5101421.08,8680136.2199999988,60717314.070000008,8558745.0099999998,2593306.4400000004,5645025.9300000006,4312553.0100000007,7748548.3499999996,9808816.160000002,21273735.859999999,2435414.56,136875016.69,null,null,4721,6808.5,0.69340000000000002,10]
[62,"Chilmark                     ",0,0,0,0,0,0,0,0,0,0,0,0,0,0,1,0,0,null,0,0,0,0,0,0,0,0,0,0,0,0,null,null,0,0,0,0]
[63,"Clarksburg                   ",8,0,19,100,57,16,0,8,2,0,0,0,84,196,1,7,0.4138,null,133784.56,201686.72,1185006.96,253362.22,51913.900000000009,121980.23999999999,103096.64,117984.55,246861.23,516822.73,78561.759999999995,3011061.5099999993,null,null,84,203,0.4138,7]
[64,"Clinton                      ",136,0,161,768,489,629,22,83,20,178,98,73,1157,2137,1,10,0.56189999999999996,null,1534148.0900000003,2521261.5099999998,16485981.859999999,2646036.89,705874.15,1578393.9,1263315.53,2006172.6300000001,2848626.7,6147943.5299999993,785617.6,38523372.390000001,null,null,1157,2059,0.56189999999999996,10]
[65,"Cohasset                     ",7,0,109,590,298,395,0,56,14,0,0,4,100,1396,1.0389999999999999,2,7.2999999999999995E-2,null,937218.17813000001,1261696.3092400001,6890783.1738999989,1779937.5503499997,275090.75188,947654.22,677319.09201999987,525129.39550999994,1830461.3462199999,3224300.3899999997,549932.31999999995,18899522.727249999,null,null,100,1370.5,7.2999999999999995E-2,2]
[66,"Colrain                      ",0,0,0,0,0,0,1,0,0,0,0,0,0,1,1,0,0,null,469.93,848.74,8561.64,598.16,267.63,1577.15,472.52,636.49,2126.02,2488.6799999999998,0,18046.96,null,null,0,0,0,0]
[67,"Concord                      ",22,0,165,998,663,0,0,73,18,30,5,0,185,1837,1.0589999999999999,2,0.10050000000000001,null,1260222.31617,1715513.0288400003,8676935.69967,2527015.9709100001,377617.13982000004,1076838.5699999998,907284.45123000012,510543.88940999989,2459759.1350699998,4375152.4799999986,707055.84,24593938.521120001,null,null,185,1840.5,0.10050000000000001,2]
[68,"Conway                       ",2,0,10,54,13,0,0,3,1,0,0,0,32,78,1,4,0.23100000000000001,null,52698.27,76514.34,430255.11000000004,104259.98,18614.16,46036.08,39422.960000000006,35134.68,96342.8,196942.55,39280.879999999997,1135501.8099999998,null,null,32,138.5,0.23100000000000001,4]
[69,"Cummington                   ",0,0,0,0,0,0,7,0,0,0,0,0,0,7,1,0,0,null,3289.51,5941.18,59931.479999999996,4187.12,1873.4099999999999,11040.050000000001,3307.64,4455.43,14882.14,17420.759999999998,0,126328.72,null,null,0,0,0,0]
[70,"Dalton                       ",0,0,0,0,0,0,32,2,0,0,0,0,0,32,1,0,0,null,21524.32,27159.68,295376.51999999996,39125.759999999995,9596.68,51370,15120.64,20367.68,75278.44,89074.2,0,643993.91999999993,null,null,0,0,0,0]
[71,"Danvers                      ",44,0,219,1317,772,867,0,127,32,67,16,27,859,3197,1,5,0.27789999999999998,null,2122478.87,3029894.1299999994,17452732.889999997,3924524.6599999988,719927.92,2190108.7300000004,1591475.31,1616743.9499999997,4076121.11,7852935.1700000009,1256988.1599999999,45833930.899999999,null,null,859,3091.5,0.27789999999999998,5]
[72,"Dartmouth                    ",44,0,213,1254,873,819,0,126,32,50,7,6,1043,3181,1,6,0.32529999999999998,null,2127390.8499999996,3109884.2399999998,18222244.669999998,3878200.19,764303.29,2163958.2000000002,1619890.3499999999,1816558.92,4042331.0999999996,8007907.419999999,1256988.1599999999,47009657.390000001,null,null,1043,3206,0.32529999999999998,6]
[73,"Dedham                       ",27,19,180,1063,573,726,0,102,26,97,21,43,756,2566,1.0429999999999999,5,0.2979,null,1792860.9700399998,2576573.8296899996,15017853.048940001,3303549.7943700003,618315.26512,1781088.7099999997,1349217.1652399998,1413042.2256299995,3438669.943729999,6362436.5500000007,1021302.8799999999,38674910.382760003,null,null,756,2538,0.2979,5]
[74,"Deerfield                    ",6,0,20,184,46,0,1,10,3,2,0,0,79,254,1,5,0.27960000000000002,null,170103.38,242800.81,1343251.4000000001,340799.48,57804.32,150839.85999999996,125896.64,102122.60999999999,316669.38000000006,631785.25,117842.63999999998,3599915.77,null,null,79,282.5,0.27960000000000002,5]
[75,"Dennis                       ",0,0,0,0,0,0,0,0,0,0,0,0,0,0,1,0,0,null,0,0,0,0,0,0,0,0,0,0,0,0,null,null,0,0,0,0]
[76,"Dighton                      ",0,0,0,0,0,0,0,0,0,0,0,0,0,0,1,0,0,null,0,0,0,0,0,0,0,0,0,0,0,0,null,null,0,0,0,0]
[77,"Douglas                      ",9,1,71,399,268,266,12,41,10,4,3,1,277,1022,1,5,0.26469999999999999,null,675000.71,962323.46999999986,5577355.2400000012,1245078.5799999998,230353.71,703750.44999999984,505972.70999999996,520169.13000000006,1306595.0799999998,2509937.0099999998,392808.8,14629344.890000002,null,null,277,1046.5,0.26469999999999999,5]
[78,"Dover                        ",7,0,78,372,0,0,0,18,5,7,0,0,23,454,1.0569999999999999,1,5.0799999999999998E-2,null,311116.81978999998,415000.76695000002,2144400.0387599999,670465.88140000007,87220.162469999981,265065.51,220498.50802000001,89920.364099999977,589622.54708000005,1039409.4899999999,196404.4,6029124.488570001,null,null,23,452.5,5.0799999999999998E-2,1]
[79,"Dracut                       ",63,0,274,1482,1051,890,1,148,37,135,44,47,1487,3730,1,7,0.40720000000000001,null,2546946.2199999997,3842040.2600000007,23094679.59,4604674.21,982362.66,2551201.2299999995,1976499.3100000003,2434181.56,4800080.0999999996,9760260.6099999994,1453392.5599999998,58046318.310000002,null,null,1487,3652,0.40720000000000001,7]
[80,"Dudley                       ",0,0,0,0,0,0,1,0,0,0,0,0,0,1,1,0,0,null,469.93,848.74,8561.64,598.16,267.63,1577.15,472.52,636.49,2126.02,2488.6799999999998,0,18046.96,null,null,0,0,0,0]
[81,"Dunstable                    ",0,0,0,0,0,0,0,0,0,0,0,0,0,0,1,0,0,null,0,0,0,0,0,0,0,0,0,0,0,0,null,null,0,0,0,0]
[82,"Duxbury                      ",25,189,0,1043,607,811,3,102,26,8,0,0,234,2572,1.0389999999999999,2,9.1800000000000007E-2,null,1726588.5264600001,2339068.7611400001,12910924.775290001,3214091.8485999997,514959.85053,1777381.8099999996,1255348.5595199999,1052265.5467899998,3380903.9219999993,5963370.8400000008,1021302.8799999999,35156207.320330001,null,null,234,2548,9.1800000000000007E-2,2]
[83,"East Bridgewater             ",24,0,129,715,467,586,9,76,19,40,13,13,587,1918,1,6,0.30370000000000003,null,1282010.3900000001,1865816.5499999998,11053682.189999998,2321381.3399999994,456186.63,1348624.9600000002,975222.53000000014,1104548.22,2457881.4,4796443.7399999993,746336.72,28408134.669999994,null,null,587,1933,0.30370000000000003,6]
[84,"East Brookfield              ",0,0,0,0,0,0,21,1,0,0,0,0,0,21,1,0,0,null,13111.810000000001,17823.54,190496.46,22553.68,6136.49,33570.75,9922.92,13366.29,48269.32,56980.5,0,412231.75999999995,null,null,0,0,0,0]
[85,"Eastham                      ",0,0,30,167,0,0,0,8,2,14,0,0,76,197,1,8,0.42699999999999999,null,135884.81,205217.32,1215218.6299999999,279650.72000000003,51920.78,119225.49999999999,104397.81999999999,104041.31,246935.91000000003,515833.76,78561.759999999995,3056888.3199999994,null,null,76,178,0.42699999999999999,8]
[86,"Easthampton                  ",24,0,116,556,386,395,68,61,15,21,10,14,563,1533,1,7,0.38879999999999998,null,1036278.6099999999,1548427.7300000002,9593426.129999999,1857992.8299999998,398575.71999999991,1118117.4700000002,801768.87,997560.3,2023663.6500000001,3973933.1400000006,589213.19999999995,23938957.649999999,null,null,563,1448,0.38879999999999998,7]
[87,"East Longmeadow              ",18,0,112,871,589,714,60,94,23,40,1,11,648,2355,1,5,0.27529999999999999,null,1559755.4200000002,2230249.7999999998,13220604.219999999,2828716.5599999996,538722.12,1695294.38,1174064.27,1269214.92,3061246.0300000007,5804887.8699999992,903460.24,34286215.829999998,null,null,648,2353.5,0.27529999999999999,5]
[88,"Easton                       ",51,0,248,1187,802,1023,0,130,33,81,16,19,735,3286,1,4,0.22539999999999999,null,2166880.12,3051258.49,17466928.379999999,3972895.65,711110.94000000006,2290624.81,1613374.6599999997,1594113.55,4195322.2,7942161.8699999992,1296269.0399999998,46300939.709999993,null,null,735,3261,0.22539999999999999,4]
[89,"Edgartown                    ",0,0,48,211,125,0,0,15,4,63,12,0,193,384,1,9,0.50719999999999998,null,275245.99,438814.28,2654453.62,514469.47,118963.6,241518.22999999998,219170.76,276884.46999999997,508109.93,1094440.2200000002,157123.51999999999,6499194.0899999999,null,null,193,380.5,0.50719999999999998,9]
[90,"Egremont                     ",0,0,0,0,0,0,0,0,0,0,0,0,0,0,1,0,0,null,0,0,0,0,0,0,0,0,0,0,0,0,null,null,0,0,0,0]
[91,"Erving                       ",2,0,11,68,48,37,0,7,2,3,1,0,47,165,1,8,0.44340000000000002,null,113583.51000000001,162584.75999999998,954656.37000000011,207403.43999999994,40452.61,110787.73999999999,84427.15,94303.299999999988,211552.76,420874.67,78561.759999999995,2479188.0699999998,null,null,47,106,0.44340000000000002,8]
[92,"Essex                        ",0,0,0,0,0,0,0,0,0,0,0,0,0,0,1.0389999999999999,0,0,null,0,0,0,0,0,0,0,0,0,0,0,0,null,null,0,0,0,0]
[93,"Everett                      ",360,0,470,2772,1711,1573,964,309,65,1870,459,701,5686,7670,1.044,11,0.75470000000000004,null,6265707.48288,11139620.7312,80775293.786640003,10380133.427759999,3472143.4893600005,6712285.7400000002,5420812.6378799994,10292459.76936,12359394.052199999,25509244.039999999,2553257.1999999997,174880352.35727996,null,null,5686,7534,0.75470000000000004,11]
[94,"Fairhaven                    ",15,0,108,583,414,445,0,62,16,21,3,5,714,1558,1,8,0.4304,null,1072418.17,1657787.1099999999,10301684.859999999,1887847.68,438593.46,1084173.25,847394.14000000013,1186578.49,1981088.86,4163309.1499999994,628494.07999999996,25249369.249999993,null,null,714,1659,0.4304,8]
[95,"Fall River                   ",444,0,1023,5327,3108,2542,1019,531,120,1870,584,801,10440,13241,1,12,0.81859999999999999,null,10361031.9,19065170.590000004,137781070.09999999,16980262.93,6056437.6600000001,10635384.5,9187891.4400000013,18820234.039999999,18996260.060000002,44985421.290000007,4713705.5999999996,297582870.11000001,null,null,10440,12753,0.81859999999999999,12]
[96,"Falmouth                     ",135,0,167,1039,680,731,36,107,26,148,23,45,1161,2721,1,7,0.41039999999999999,null,1863902.92,2845981.62,17527418.009999998,3337955.1099999994,738047.18,1934347.5799999996,1461559.6300000001,1887956.69,3550839.9900000007,7186875.1000000015,1021302.8799999999,43356186.710000001,null,null,1161,2829,0.41039999999999999,7]
[97,"Fitchburg                    ",172,0,428,2240,1389,1633,50,231,57,710,227,247,4133,5826,1,11,0.76400000000000001,null,4408691.4800000004,7736495.7300000004,53111577.609999999,7333517.080000001,2324830.23,4363028.93,3785208.49,7113125.71,7861284.0700000003,18376082.119999997,2239010.1599999997,118652851.60999998,null,null,4133,5409.5,0.76400000000000001,11]
[98,"Florida                      ",3,0,5,20,14,4,0,2,0,0,0,0,30,45,1,8,0.43480000000000002,null,30319.86,51609.700000000004,327735.13,58887.21,14653.480000000001,28323.94,25714.160000000003,38951.42,56829.57,129003.39999999998,0,762027.87,null,null,30,69,0.43480000000000002,8]
[99,"Foxborough                   ",34,0,190,973,576,762,0,100,25,56,14,11,629,2518,1.06,5,0.2535,null,1766316.4674000004,2510570.5256000003,14502118.841400003,3250216.5942000006,592610.32040000008,1749243.8599999996,1322726.4484000001,1348930.5388,3401230.2786000003,6139210.2000000002,982021.99999999988,37565196.074800007,null,null,629,2481,0.2535,5]
[100,"Framingham                   ",209,0,686,3591,2111,2438,17,354,88,1958,553,628,5218,8948,1.0149999999999999,10,0.60250000000000004,null,6820209.3410499999,11301722.966449998,74195763.658099979,11783992.634399997,3200194.6773999999,6752225.3799999999,5608162.1942499997,8891148.0262499992,12698288.303049998,26825679.459999997,3456717.44,171534104.08094999,null,null,5218,8660,0.60250000000000004,10]
[101,"Franklin                     ",59,0,329,1762,1164,1449,0,188,47,112,26,18,853,4734,1.05,4,0.18379999999999999,null,3261583.1745000002,4543128.3135000002,25695809.643000003,6022332.466500001,1042171.9455000001,3285210.2499999995,2411308.3994999998,2258803.8585000001,6343412.5440000007,11322830.459999999,1846201.3599999999,68032792.415000007,null,null,853,4642,0.18379999999999999,4]
[102,"Freetown                     ",0,0,0,0,0,0,1,0,0,0,0,0,0,1,1,0,0,null,469.93,848.74,8561.64,598.16,267.63,1577.15,472.52,636.49,2126.02,2488.6799999999998,0,18046.96,null,null,0,0,0,0]
[103,"Gardner                      ",46,0,193,1017,576,643,13,98,24,188,42,41,1642,2465,1,10,0.67349999999999999,null,1798044.3500000003,3043657.25,20291441.609999999,3077999.19,883529.44,1770888.8599999999,1507859.5800000003,2611947.4299999997,3223722.41,7355299.0799999991,942741.11999999988,46507130.32,null,null,1642,2438,0.67349999999999999,10]
[104,"Aquinnah",0,0,0,0,0,0,0,0,0,0,0,0,0,0,1,0,0,null,0,0,0,0,0,0,0,0,0,0,0,0,null,null,0,0,0,0]
[105,"Georgetown                   ",14,0,84,465,309,226,23,44,11,7,8,7,166,1114,1,3,0.1588,null,725376.08000000007,1001364.3599999999,5559008.7000000002,1371472.3800000001,228157.88,754401.54999999993,531897.55000000005,437444.3,1436794.4300000002,2659067.0200000009,432089.68,15137073.930000005,null,null,166,1045.5,0.1588,3]
[106,"Gill                         ",0,0,0,0,0,0,0,0,0,0,0,0,0,0,1,0,0,null,0,0,0,0,0,0,0,0,0,0,0,0,null,null,0,0,0,0]
[107,"Gloucester                   ",40,0,228,1180,645,629,250,120,27,171,39,80,1364,2952,1.044,9,0.49840000000000001,null,2161839.5830800002,3400196.6887200004,22456306.159200005,3843951.39432,941319.12348000018,2280182.64,1726743.7404000005,2485763.9582400001,4273921.3431600006,8213583.3099999996,1060583.76,52844391.700600013,null,null,1364,2737,0.49840000000000001,9]
[108,"Goshen                       ",0,0,0,0,0,0,15,1,0,0,0,0,0,15,1,0,0,null,10292.23,12731.1,139126.62,18964.72,4530.71,24107.85,7087.7999999999993,9547.35,35513.199999999997,42048.42,0,303950,null,null,0,0,0,0]
[109,"Gosnold                      ",0,0,0,0,0,0,0,0,0,0,0,0,0,0,1,0,0,null,0,0,0,0,0,0,0,0,0,0,0,0,null,null,0,0,0,0]
[110,"Grafton                      ",35,0,202,1125,718,907,1,118,30,48,12,24,613,2971,1,4,0.19950000000000001,null,1955504.42,2738082.2499999995,15594405.08,3601363.85,634038.24,2062094.56,1450072.8499999999,1399482.76,3787276.92,7146087.1000000006,1178426.3999999999,41546834.43,null,null,613,3072.5,0.19950000000000001,4]
[111,"Granby                       ",31,0,39,235,175,158,3,24,6,15,5,6,228,626,1,6,0.3543,null,418271.01999999996,623437.29999999993,3691302.69,757122.68999999983,155289.28,430105.01000000007,323347.57999999996,375408.01,800843.46,1594881.0000000002,235685.27999999997,9405693.3199999984,null,null,228,643.5,0.3543,6]
[112,"Granville                    ",0,0,0,0,0,0,22,1,0,0,0,0,0,22,1,0,0,null,13581.740000000002,18672.28,199058.09999999998,23151.839999999997,6404.12,35147.9,10395.439999999999,14002.78,50395.340000000004,59469.18,0,430278.72000000003,null,null,0,0,0,0]
[113,"Great Barrington             ",0,0,0,0,0,0,0,0,0,0,0,0,0,0,1,0,0,null,0,0,0,0,0,0,0,0,0,0,0,0,null,null,0,0,0,0]
[114,"Greenfield                   ",46,0,123,642,409,434,0,64,16,32,19,19,826,1631,1,10,0.60470000000000002,null,1144098.2,1848831.86,11827938.280000001,1996730.3,509897.92000000004,1138345.8199999998,931667.71,1437262,2083393.4500000002,4560940.13,628494.07999999996,28107599.75,null,null,826,1366,0.60470000000000002,10]
[115,"Groton                       ",0,0,0,0,0,0,0,0,0,0,0,0,0,0,1,0,0,null,0,0,0,0,0,0,0,0,0,0,0,0,null,null,0,0,0,0]
[116,"Groveland                    ",0,0,0,0,0,0,7,0,0,0,0,0,0,7,1,0,0,null,3289.51,5941.18,59931.479999999996,4187.12,1873.4099999999999,11040.050000000001,3307.64,4455.43,14882.14,17420.759999999998,0,126328.72,null,null,0,0,0,0]
[117,"Hadley                       ",8,0,28,168,79,114,22,17,4,11,4,1,166,415,1,6,0.31769999999999998,null,282014.82,418794.28,2633454.81,511358.48,107978.54999999999,309330.42000000004,217122.33,270409.62,552543.4,1073945.3800000001,157123.51999999999,6534075.6100000003,null,null,166,522.5,0.31769999999999998,6]
[118,"Halifax                      ",0,0,83,385,69,0,1,21,5,9,1,0,155,538,1.026,5,0.29189999999999999,null,363129.73811999999,524621.24550000008,2892350.4607799998,748553.45076000004,123343.94502000003,318855.78000000003,272418.59519999998,207656.67492000002,685819.95299999998,1326723.5499999998,196404.4,7659877.793300001,null,null,155,531,0.29189999999999999,5]
[119,"Hamilton                     ",0,0,0,0,0,0,0,0,0,0,0,0,0,0,1.0409999999999999,0,0,null,0,0,0,0,0,0,0,0,0,0,0,0,null,null,0,0,0,0]
[120,"Hampden                      ",0,0,0,0,0,0,0,0,0,0,0,0,0,0,1,0,0,null,0,0,0,0,0,0,0,0,0,0,0,0,null,null,0,0,0,0]
[121,"Hancock                      ",3,0,4,35,14,11,13,4,1,0,0,0,17,79,1,7,0.40960000000000002,null,55509.140000000007,73776.94,484872.48000000004,104872.21,19286.39,63436.869999999995,38864.460000000006,40362.28,114794.8,201413.22,39280.879999999997,1236469.67,null,null,17,41.5,0.40960000000000002,7]
[122,"Hanover                      ",20,160,2,967,620,684,3,94,24,28,2,0,258,2366,1.034,2,0.1106,null,1587553.6991600001,2159889.5120000006,11882424.42794,2957856.8016799991,479475.30245999998,1619222.1900000002,1155606.6099600005,967692.35112000012,3107832.7629799997,5536090.8999999994,942741.11999999988,32396385.677299999,null,null,258,2333,0.1106,2]
[123,"Hanson                       ",0,0,0,0,0,0,5,0,0,0,0,0,0,5,1,0,0,null,2349.65,4243.7,42808.2,2990.7999999999997,1338.15,7885.75,2362.6,3182.45,10630.1,12443.4,0,90234.8,null,null,0,0,0,0]
[124,"Hardwick                     ",0,0,0,0,0,0,1,0,0,0,0,0,0,1,1,0,0,null,469.93,848.74,8561.64,598.16,267.63,1577.15,472.52,636.49,2126.02,2488.6799999999998,0,18046.96,null,null,0,0,0,0]
[125,"Harvard                      ",10,53,2,320,212,289,0,34,9,20,6,6,114,855,1,2,0.1159,null,560116.14000000013,765322.23999999999,4292367.75,1025546.03,171796.94,601843.86,408900.76,368854.17999999993,1094213.0500000003,2013120.2299999997,353527.92,11655609.100000001,null,null,114,984,0.1159,2]
[126,"Harwich                      ",0,0,0,0,0,0,0,0,0,0,0,0,0,0,1,0,0,null,0,0,0,0,0,0,0,0,0,0,0,0,null,null,0,0,0,0]
[127,"Hatfield                     ",7,0,13,99,59,74,22,11,2,3,0,1,85,271,1,5,0.27910000000000001,null,177668.38,259322.65000000002,1618109.97,326046.99,65099.199999999997,207377.08999999994,136224.25,155332.29,366176.42000000004,679096.53,78561.759999999995,4069015.5300000003,null,null,85,304.5,0.27910000000000001,5]
[128,"Haverhill                    ",311,0,625,3228,2037,1975,219,326,79,687,235,276,5208,8240,1,10,0.65339999999999998,null,6008674.0000000009,10092904.939999999,67391172.389999986,10312431.950000001,2920777.62,6077716.4499999993,5010625.5999999996,8437368.1900000013,11076422.520000003,24537920.57,3103189.52,154969203.75,null,null,5208,7971,0.65339999999999998,10]
[129,"Hawley                       ",0,0,0,0,0,0,6,0,0,0,0,0,0,6,1,0,0,null,2819.58,5092.4400000000005,51369.84,3588.96,1605.78,9462.9000000000015,2835.12,3818.94,12756.119999999999,14932.079999999998,0,108281.76,null,null,0,0,0,0]
[130,"Heath                        ",0,0,0,0,0,0,0,0,0,0,0,0,0,0,1,0,0,null,0,0,0,0,0,0,0,0,0,0,0,0,null,null,0,0,0,0]
[131,"Hingham                      ",26,224,55,1406,833,1057,5,139,35,24,1,3,333,3481,1.0509999999999999,2,9.6500000000000002E-2,null,2370214.9267399996,3212468.9326899997,17718393.119299997,4428981.0537999999,709161.57736000011,2397029.83,1722147.9268299998,1431277.2342000001,4640440.7403599992,8100013.8799999999,1374830.7999999998,48104960.021279998,null,null,333,3450,9.6500000000000002E-2,2]
[132,"Hinsdale                     ",0,0,0,0,0,0,7,0,0,0,0,0,0,7,1,0,0,null,3289.51,5941.18,59931.479999999996,4187.12,1873.4099999999999,11040.050000000001,3307.64,4455.43,14882.14,17420.759999999998,0,126328.72,null,null,0,0,0,0]
[133,"Holbrook                     ",31,0,109,549,380,329,0,55,14,88,31,37,668,1383,1.0429999999999999,9,0.49430000000000002,null,1019132.4469199999,1610782.2280199998,10107851.291369999,1802460.3978499996,435795.06291999994,964480.56000000017,814257.82388999988,1163007.7781699998,1884770.76627,3836950.25,549932.31999999995,24189420.925409999,null,null,668,1351.5,0.49430000000000002,9]
[134,"Holden                       ",0,0,0,0,0,0,1,0,0,0,0,0,0,1,1,0,0,null,469.93,848.74,8561.64,598.16,267.63,1577.15,472.52,636.49,2126.02,2488.6799999999998,0,18046.96,null,null,0,0,0,0]
[135,"Holland                      ",6,0,27,127,17,0,1,7,2,1,0,0,75,175,1,6,0.33629999999999999,null,119349.97,177236.55999999997,1032332.0500000002,239804.36999999997,44455.47,104961.80999999998,90676.23,88729.600000000006,217429.88,451717.13999999996,78561.759999999995,2645254.84,null,null,75,223,0.33629999999999999,6]
[136,"Holliston                    ",17,4,171,936,597,808,19,102,25,82,19,7,357,2542,1.0069999999999999,3,0.13619999999999999,null,1676655.0805599999,2305586.5776200001,13036016.359989995,3104923.7324499995,522281.32538999995,1794562.7000000002,1229415.3850999998,1104686.7639699997,3298065.8289499991,6023241.2300000004,982021.99999999988,35077456.984029993,null,null,357,2621,0.13619999999999999,3]
[137,"Holyoke                      ",317,0,393,1986,1233,1394,455,223,50,444,162,295,4437,5620,1,12,0.86960000000000004,null,4326451.209999999,7990185.2800000012,58259456.590000004,6966476.8999999994,2544978.9800000004,4567041.68,3862423.7300000004,8128360.5799999991,7906089.0099999998,18861306.959999997,1964043.9999999998,125376814.92000002,null,null,4437,5102.5,0.86960000000000004,12]
[138,"Hopedale                     ",10,0,53,356,233,232,6,35,9,57,20,5,292,885,1,5,0.27200000000000002,null,597771.19000000006,868089.5,5095702.34,1091206.54,211919.95,618740.0199999999,452482.67000000004,488508.47,1154162.2900000003,2233249.2000000002,353527.92,13165360.090000002,null,null,292,1073.5,0.27200000000000002,5]
[139,"Hopkinton                    ",18,0,279,1571,1045,1321,3,169,42,178,14,17,383,4228,1.036,2,9.11E-2,null,2857232.6776000001,3879017.2864800002,21440830.348839998,5319891.2975599999,857719.82604000019,2947570.78,2076835.4678400003,1722217.38164,5625698.5441999994,9897461.1900000013,1649796.96,58274271.760200001,null,null,383,4205,9.11E-2,2]
[140,"Hubbardston                  ",0,0,0,0,0,0,0,0,0,0,0,0,0,0,1,0,0,null,0,0,0,0,0,0,0,0,0,0,0,0,null,null,0,0,0,0]
[141,"Hudson                       ",20,0,186,888,594,667,1,93,23,261,61,52,970,2346,1.0009999999999999,7,0.3931,null,1634385.1824299998,2484591.24914,15194738.548989996,2924961.0189799992,639947.20789999992,1678658.97,1274157.2243400002,1612840.8996699997,3109405.1088099992,6236988.0799999982,903460.24,37694133.730259992,null,null,970,2467.5,0.3931,7]
[142,"Hull                         ",10,0,52,225,166,223,4,27,7,5,3,6,229,675,1.0289999999999999,6,0.34079999999999999,null,467182.69037999993,682503.89360999991,4100666.8915799996,833621.81489999988,169187.55231,480519.29,356146.55202,425943.38534999994,889711.18488000007,1700379.3099999998,274966.15999999997,10380828.725029999,null,null,229,672,0.34079999999999999,6]
[143,"Huntington                   ",0,0,0,0,0,0,33,2,0,0,0,0,0,33,1,0,0,null,21994.25,28008.420000000002,303938.15999999997,39723.919999999998,9864.31,52947.15,15593.16,21004.170000000002,77404.460000000006,91562.87999999999,0,662040.87999999989,null,null,0,0,0,0]
[144,"Ipswich                      ",19,0,115,559,344,446,12,60,15,34,8,10,301,1486,1.054,4,0.20300000000000001,null,1034914.4104200002,1443451.97762,8282150.5222800011,1913575.3129,335556.06705999997,1042076.33,764562.60938000004,733441.82594000001,2014441.0365200003,3581710.95,589213.19999999995,21735094.242119998,null,null,301,1483,0.20300000000000001,4]
[145,"Kingston                     ",0,0,152,822,160,0,5,45,11,48,10,0,249,1139,1.0449999999999999,4,0.2215,null,784503.43454999989,1107013.8007499999,5990811.6972000003,1622754.6048999999,253762.76309999998,681590.96000000008,578170.50445000001,386610.61395000003,1499484.9419000002,2772335.8699999996,432089.68,16109128.8708,null,null,249,1124,0.2215,4]
[146,"Lakeville                    ",0,0,0,0,0,0,25,1,0,0,0,0,0,25,1,0,0,null,14991.53,21218.5,224743.02,24946.32,7207.01,39879.35,11813,15912.25,56773.4,66935.219999999987,0,484419.6,null,null,0,0,0,0]
[147,"Lancaster                    ",0,0,0,0,0,0,0,0,0,0,0,0,0,0,1,0,0,null,0,0,0,0,0,0,0,0,0,0,0,0,null,null,0,0,0,0]
[148,"Lanesborough                 ",0,0,0,0,0,0,1,0,0,0,0,0,0,1,1,0,0,null,469.93,848.74,8561.64,598.16,267.63,1577.15,472.52,636.49,2126.02,2488.6799999999998,0,18046.96,null,null,0,0,0,0]
[149,"Lawrence                     ",713,0,1063,6057,3580,3745,92,583,144,3271,1186,1657,12927,14894,1,12,0.88080000000000003,null,12141044.210000003,22818946.649999999,162714797.68000001,19572307.229999997,7236804.3100000005,11653012.680000002,10893583.259999998,22829928.099999998,21248900.510000002,52535735.539999992,5656446.7199999997,349301506.88999999,null,null,12927,14676.5,0.88080000000000003,12]
[150,"Lee                          ",18,0,26,191,133,163,9,21,5,27,4,6,304,531,1,8,0.47349999999999998,null,372632.44000000006,599160.62999999989,3884414.71,642407.11,165420.78999999998,388835.79999999987,302923.87,471664.22,694531.84,1482208.2599999998,196404.4,9200604.0700000003,null,null,304,642,0.47349999999999998,8]
[151,"Leicester                    ",65,0,102,478,322,221,200,55,11,51,13,16,592,1356,1,8,0.44359999999999999,null,928836.31,1441628.1,9692786.4699999988,1662857.61,400287.06999999995,1098485.18,738101.74000000011,1016346.7899999999,1945591.1700000002,3718664.7599999993,432089.68,23075674.879999999,null,null,592,1334.5,0.44359999999999999,8]
[152,"Lenox                        ",0,0,33,149,102,157,11,19,4,11,5,2,164,452,1,4,0.22070000000000001,null,304016.81000000006,440475.86,2689692.4299999997,549541.38,109398.95999999999,334064.23000000004,230684.08000000002,273111.01,593596.82999999996,1137426.82,157123.51999999999,6819131.9299999997,null,null,164,743,0.22070000000000001,4]
[153,"Leominster                   ",72,0,413,2201,1423,1277,748,250,53,508,155,172,3617,6098,1,10,0.5847,null,4417974.3600000003,7327705.3499999987,51183724.509999998,7569081.4099999992,2165407.41,5014911.4399999995,3659536.74,6163663.75,8801295.9300000016,18188504.93,2081886.64,116573692.46999998,null,null,3617,6186,0.5847,10]
[154,"Leverett                     ",6,0,15,62,15,0,0,4,1,0,0,0,33,95,1,5,0.26090000000000002,null,64116.21,91824.83,514791.42000000004,130661.36,22192.25,56126.67,47475.500000000007,39638.75,118518.93000000001,238859.32,39280.879999999997,1363486.12,null,null,33,126.5,0.26090000000000002,5]
[155,"Lexington                    ",39,0,307,2129,1714,2424,0,263,66,271,60,55,787,6594,1.083,3,0.1212,null,4683084.514080001,6413628.7333799992,36164931.651270002,8501774.928270001,1441215.9716099997,4730324.2899999991,3429346.2500999989,3160476.7063200003,9221632.8661800008,15561386.869999999,2592538.0799999996,95900340.861210018,null,null,787,6493,0.1212,3]
[156,"Leyden                       ",0,0,0,0,0,0,0,0,0,0,0,0,0,0,1,0,0,null,0,0,0,0,0,0,0,0,0,0,0,0,null,null,0,0,0,0]
[157,"Lincoln                      ",24,0,53,291,201,0,0,22,5,23,5,0,109,557,1.048,2,0.11890000000000001,null,381305.34704000008,534646.47480000008,2785485.4041599999,760730.28863999993,121920.35856000002,330213.82000000007,280232.16080000001,185900.89480000001,744250.25808000006,1360677.7200000002,196404.4,7681767.1268799994,null,null,109,917,0.11890000000000001,2]
[158,"Littleton                    ",21,0,109,614,377,467,1,63,16,33,4,4,179,1579,1,2,0.1082,null,1028314.8099999999,1400299.4,7746817.3000000007,1922432.4200000002,311299.29999999993,1086505.8800000001,748611.09,626444.75,2010564.3599999999,3699483.58,628494.07999999996,21209266.969999999,null,null,179,1654,0.1082,2]
[159,"Longmeadow                   ",19,0,166,965,656,866,15,107,27,20,0,4,387,2678,1,3,0.14399999999999999,null,1744942.6700000002,2395962.96,13510446.620000001,3212893.97,542085.65,1876644.74,1279371.69,1168102.9599999997,3413441.8099999996,6315052.8000000007,1060583.76,36519529.629999995,null,null,387,2687,0.14399999999999999,3]
[160,"Lowell                       ",647,0,1303,6720,4157,4221,53,659,164,3023,895,951,12344,16778,1,11,0.75029999999999997,null,12918399.23,22875054.870000001,156748377.91000003,21567645.880000003,6900558.1699999999,12559032.159999998,11135773.419999998,20825835.039999999,23067324.84,54012254.919999994,6442064.3199999994,349052320.75999999,null,null,12344,16452.5,0.75029999999999997,11]
[161,"Ludlow                       ",34,0,139,744,504,672,110,88,21,93,17,31,884,2186,1,7,0.4098,null,1496250.27,2259059.6100000003,14349499.610000003,2640740.4300000002,591619.42000000004,1659375.85,1166396.32,1548503.3699999999,2933758.7500000005,5752080.5999999996,824898.48,35222182.710000001,null,null,884,2157,0.4098,7]
[162,"Lunenburg                    ",22,0,111,589,406,482,0,64,16,46,12,10,438,1599,1,5,0.28029999999999999,null,1065185.06,1520845.4999999998,8826119.1400000006,1945356.7399999998,363044.45999999996,1114012.06,799153.34000000008,839480.74,2049353.54,3938534.9600000004,628494.07999999996,23089579.619999997,null,null,438,1562.5,0.28029999999999999,5]
[163,"Lynn                         ",469,0,1213,6795,3925,4562,1347,727,165,4795,1072,1582,13882,18077,1,11,0.78520000000000001,null,14285987.550000001,25501625.370000001,182335187.41,23539616.079999998,7894317.5899999999,15234527.379999999,12378001.850000001,23807580.189999998,27070636.300000004,60278503.349999994,6481345.1999999993,398807328.27000004,null,null,13882,17680,0.78520000000000001,11]
[164,"Lynnfield                    ",10,0,142,889,532,606,0,87,22,20,7,7,264,2174,1.04,3,0.1225,null,1472873.9064000002,2010803.9327999998,11104512.213599999,2763522.1743999994,449032.00160000008,1479929.0799999998,1073346.7368000003,900634.48800000001,2870030.5399999996,5110359.42,864179.36,30099223.853599995,null,null,264,2154.5,0.1225,3]
[165,"Malden                       ",105,0,500,2560,1510,2050,7,265,66,1154,290,397,4278,6680,1.038,10,0.64729999999999999,null,5189555.9332200009,8727337.8473400008,58219239.058200009,8813548.2626399994,2512711.1590799992,5047944.879999999,4321316.9199600006,7317746.4071400017,9498352.1754000001,20169965.449999999,2592538.0799999996,132410256.17298003,null,null,4278,6608.5,0.64729999999999999,10]
[166,"Manchester                   ",0,0,0,0,0,0,0,0,0,0,0,0,0,0,1.0409999999999999,0,0,null,0,0,0,0,0,0,0,0,0,0,0,0,null,null,0,0,0,0]
[167,"Mansfield                    ",54,0,235,1241,760,974,0,128,32,79,22,19,741,3237,1.052,4,0.22989999999999999,null,2245396.5322000002,3169637.4441999998,18142507.434,4141425.42136,739412.65447999991,2246652.7300000004,1674376.8128800001,1644556.58944,4345537.5542400004,7835122.5,1256988.1599999999,47441613.832800001,null,null,741,3223.5,0.22989999999999999,4]
[168,"Marblehead                   ",11,141,16,898,573,837,0,96,24,41,9,15,372,2401,1,3,0.157,null,1570882.8800000001,2165305.39,12269741.199999999,2876058.83,491188.50000000006,1696782.55,1155007.04,1088398.6099999999,3065072.79,5679325.6400000006,942741.11999999988,33000504.549999997,null,null,372,2369.5,0.157,3]
[169,"Marion                       ",5,0,45,240,51,4,1,14,3,0,0,0,110,344,1,6,0.32929999999999998,null,228059.51999999999,333336.64,1880026.24,466682.55,80729.73000000001,205195.58999999994,172277.05999999997,149010.16999999998,427833.73000000004,863382.33000000007,117842.63999999998,4924376.1999999993,null,null,110,334,0.32929999999999998,6]
[170,"Marlborough                  ",184,0,371,2103,1279,1195,1,198,49,913,238,189,3024,5041,1.0189999999999999,10,0.62570000000000003,null,3801173.33592,6335636.5148599986,41389855.86305999,6597848.5907199979,1800601.10402,3665346.4499999997,3142485.1022300003,5029480.9901599996,6988934.7888099998,15034009.629999999,1924763.1199999999,95710135.489779994,null,null,3024,4833,0.62570000000000003,10]
[171,"Marshfield                   ",48,0,270,1338,794,1115,4,141,35,95,13,18,720,3545,1.036,4,0.20369999999999999,null,2416885.8296799995,3386347.1342400005,19361881.378840003,4462876.8424800001,783334.57020000019,2477979.7000000002,1794119.3972800002,1731352.2183999999,4690575.0866799997,8518439.8800000008,1374830.7999999998,50998622.837800011,null,null,720,3534.5,0.20369999999999999,4]
[172,"Mashpee                      ",96,0,94,512,298,415,0,53,13,77,7,15,586,1367,1,8,0.433,null,937646.7300000001,1452474.4700000002,9015351.0300000012,1667442.4500000002,379307.20000000007,969403.16999999981,743754.44,1007357.3899999999,1756856.77,3629379.29,510651.43999999994,22069624.379999999,null,null,586,1353.5,0.433,8]
[173,"Mattapoisett                 ",8,0,34,252,45,5,5,13,3,1,0,0,75,345,1,4,0.21249999999999999,null,221922.24999999997,317196.34000000003,1727225.8399999999,458076.06999999995,72543.44,208853.25,166178.42000000004,115324.63,429884.56999999995,830448.78999999992,117842.63999999998,4665496.2399999984,null,null,75,353,0.21249999999999999,4]
[174,"Maynard                      ",25,0,94,490,308,309,51,51,12,74,9,11,334,1265,1.0649999999999999,5,0.2646,null,899901.41025000007,1285624.6758000001,7630976.1163499998,1664620.0381499999,311877.25185,914342.13,674804.09655000002,686523.23939999985,1794559.2184499998,3150480.75,471370.55999999994,19485079.486799996,null,null,334,1262.5,0.2646,5]
[175,"Medfield                     ",15,151,1,964,571,720,0,93,23,8,1,4,195,2340,1.0409999999999999,2,8.3199999999999996E-2,null,1571420.61549,2128249.6729199998,11685398.649209999,2936385.7075499995,467180.97935999994,1608970.63,1142384.6868299998,941220.63926999981,3082904.5004700003,5423140.5599999996,903460.24,31890716.881099995,null,null,195,2343,8.3199999999999996E-2,2]
[176,"Medford                      ",91,0,325,1761,1001,527,826,186,36,343,101,122,1779,4486,1.0509999999999999,8,0.40079999999999999,null,3265042.3805000004,4998620.04794,33999627.051369995,5933114.0809499994,1390625.5106099998,3777181.28,2562605.9314299999,3343192.4493199997,7067668.5389099987,12374310.66,1414111.68,80126099.611029997,null,null,1779,4438.5,0.40079999999999999,8]
[177,"Medway                       ",27,0,157,842,520,588,0,84,21,86,16,11,397,2121,1.0369999999999999,4,0.18590000000000001,null,1448631.9338899998,2024672.6061999998,11410632.331009997,2697636.5353599996,465573.78065999993,1457960.4799999997,1071724.2457299998,980588.97326999984,2818650.6710499991,5102758.2599999988,824898.48,30303728.297169995,null,null,397,2135,0.18590000000000001,4]
[178,"Melrose                      ",35,0,281,1581,920,1101,7,155,39,157,32,37,723,3908,1.0389999999999999,4,0.185,null,2678835.9954399993,3740230.88197,21149768.785290007,4988719.360869999,860216.05949000013,2702947.3600000003,1980198.4105,1813822.02097,5218355.5874899989,9402540.2300000004,1531954.3199999998,56067589.012019999,null,null,723,3907.5,0.185,4]
[179,"Mendon                       ",0,0,0,0,0,0,6,0,0,0,0,0,0,6,1,0,0,null,2819.58,5092.4400000000005,51369.84,3588.96,1605.78,9462.9000000000015,2835.12,3818.94,12756.119999999999,14932.079999999998,0,108281.76,null,null,0,0,0,0]
[180,"Merrimac                     ",0,0,0,0,0,0,2,0,0,0,0,0,0,2,1,0,0,null,939.86,1697.48,17123.28,1196.32,535.26,3154.3,945.04,1272.98,4252.04,4977.3599999999997,0,36093.919999999998,null,null,0,0,0,0]
[181,"Methuen                      ",128,0,396,2476,1699,1148,770,268,57,666,219,288,3790,6553,1,10,0.60140000000000005,null,4771837.0600000005,7887054.7300000004,54444788.370000005,8248243.5899999999,2316945.9500000002,5321458.33,3934742.95,6423646.1400000006,9535059.2999999989,19600797.059999999,2239010.1599999997,124723583.64,null,null,3790,6302,0.60140000000000005,10]
[182,"Middleborough                ",30,0,226,1184,711,857,29,120,30,28,6,12,1283,3022,1,8,0.44069999999999998,null,2064388.2900000003,3167334.8,19681026.809999999,3674678.7199999997,829950.69000000006,2125830.2300000004,1625090.7300000002,2204731.31,3860907.3100000005,7983738.1699999999,1178426.3999999999,48396103.460000001,null,null,1283,2911,0.44069999999999998,8]
[183,"Middlefield                  ",0,0,0,0,0,0,3,0,0,0,0,0,0,3,1,0,0,null,1409.79,2546.2200000000003,25684.92,1794.48,802.89,4731.4500000000007,1417.56,1909.47,6378.0599999999995,7466.0399999999991,0,54140.88,null,null,0,0,0,0]
[184,"Middleton                    ",3,0,63,484,94,0,0,26,6,31,0,0,97,643,1.046,3,0.14560000000000001,null,440433.92723999993,608215.97778000007,3210792.6880800007,922297.00659999985,135443.73672000002,380442.33999999991,319724.23019999999,184891.10644000003,845458.06626000011,1536727.2999999998,235685.27999999997,8820111.6593199987,null,null,97,666,0.14560000000000001,3]
[185,"Milford                      ",64,0,348,1808,1036,1352,9,182,45,918,180,243,2703,4585,1,10,0.61629999999999996,null,3412276.7899999996,5658840.0300000003,37320147.57,5864091.1899999995,1605768.2800000003,3451654.77,2812684.17,4556949.0600000005,6307266.0799999991,13646410.549999999,1767639.5999999999,86403728.090000004,null,null,2703,4386,0.61629999999999996,10]
[186,"Millbury                     ",31,0,119,597,382,455,5,62,16,43,12,23,583,1574,1,7,0.36930000000000002,null,1068772.06,1598748.38,9672935.9100000001,1918325.25,404728.54000000004,1103776.31,826618.07000000007,1020563.9300000002,2021065.9300000002,4059188.31,628494.07999999996,24323216.77,null,null,583,1578.5,0.36930000000000002,7]
[187,"Millis                       ",20,63,11,456,284,298,0,43,11,23,8,7,232,1091,1.036,4,0.20899999999999999,null,743953.04003999999,1045195.24592,5907544.9342,1376624.1504399998,242445.1862,745882.62000000011,552356.65044,524034.47208000004,1441309.73196,2635260.8299999996,432089.68,15646696.541280001,null,null,232,1110,0.20899999999999999,4]
[188,"Millville                    ",0,0,0,0,0,0,5,0,0,0,0,0,0,5,1,0,0,null,2349.65,4243.7,42808.2,2990.7999999999997,1338.15,7885.75,2362.6,3182.45,10630.1,12443.4,0,90234.8,null,null,0,0,0,0]
[189,"Milton                       ",24,0,327,1841,1003,1171,0,174,43,80,12,22,658,4354,1.0429999999999999,3,0.152,null,2967659.8319199998,4090508.5951799997,22756455.109359998,5594652.938699998,923090.8583399998,2959515.4799999991,2175796.6469399999,1864622.0714100001,5773387.0821899995,10318145.899999999,1689077.8399999999,61112912.354039997,null,null,658,4328.5,0.152,3]
[190,"Monroe                       ",0,0,0,13,5,3,0,1,0,0,0,0,0,21,1,0,0,null,13111.81,17823.54,93525.150000000009,28355.219999999998,3838.8599999999997,13293.359999999999,9574.44,5486.18,26937.420000000002,48806.68,0,260752.65999999997,null,null,0,0,0,0]
[191,"Monson                       ",30,0,49,314,216,184,1,31,8,5,2,2,325,779,1,7,0.40450000000000003,null,529739.86,799925.59000000008,4826667.41,955473.19,205665.71000000002,527350.89999999991,411512.55,518743.51,988522.28999999992,2034358.4100000001,314247.03999999998,12112206.459999999,null,null,325,803.5,0.40450000000000003,7]
[192,"Montague                     ",0,0,0,0,0,0,0,0,0,0,0,0,0,0,1,0,0,null,0,0,0,0,0,0,0,0,0,0,0,0,null,null,0,0,0,0]
[193,"Monterey                     ",0,0,0,0,0,0,0,0,0,0,0,0,0,0,1,0,0,null,0,0,0,0,0,0,0,0,0,0,0,0,null,null,0,0,0,0]
[194,"Montgomery                   ",0,0,0,0,0,0,7,0,0,0,0,0,0,7,1,0,0,null,3289.51,5941.18,59931.479999999996,4187.12,1873.4099999999999,11040.050000000001,3307.64,4455.43,14882.14,17420.759999999998,0,126328.72,null,null,0,0,0,0]
[195,"Mount Washington             ",0,0,0,3,1,1,0,0,0,0,0,0,0,5,1,0,0,null,2349.65,4243.7,20135.769999999997,4311.1000000000004,790.88,3154.3599999999997,2285.16,1419.42,5549.56,10438.120000000001,0,54677.719999999994,null,null,0,0,0,0]
[196,"Nahant                       ",0,0,19,114,45,74,0,10,3,0,0,0,31,252,1,4,0.18509999999999999,null,165375.50000000003,223872.85,1248924.3999999999,309462.65999999997,49869.829999999994,172186.68999999997,119578.05,101445.23000000001,316740.99,588395.39999999991,117842.63999999998,3413694.24,null,null,31,167.5,0.18509999999999999,4]
[197,"Nantucket                    ",15,0,90,610,361,558,0,65,16,239,44,68,700,1627,1,8,0.42959999999999998,null,1154547.5199999998,1782230.51,11199709.489999998,2028657.7999999998,468580.12,1213778.8500000001,909298.37000000011,1243475.7999999998,2191960.84,4420880.0499999989,628494.07999999996,27241613.429999992,null,null,700,1629.5,0.42959999999999998,8]
[198,"Natick                       ",44,0,361,1908,1235,1678,14,208,52,187,46,47,825,5218,1.01,3,0.1595,null,3465071.6097000004,4790636.8480000012,27107233.439900003,6393781.4266000008,1089750.2969,3677204.7299999995,2548976.7131999996,2332794.4952000002,6786691.9801000012,12426714.779999999,2042605.7599999998,72661462.079600006,null,null,825,5172.5,0.1595,3]
[199,"Needham                      ",33,0,374,2074,1322,1678,0,218,54,105,18,13,450,5465,1.081,2,8.3400000000000002E-2,null,3829724.1653600005,5186029.4186199997,28513562.943999995,7161614.1575699998,1139806.1081299998,3774034.959999999,2781213.4365900001,2268094.38827,7522756.2915000003,12710158.07,2121167.52,77008161.460039988,null,null,450,5392.5,8.3400000000000002E-2,2]
[200,"New Ashford                  ",0,0,1,3,2,6,0,0,0,0,0,0,0,12,1,0,0,null,5639.16,10184.880000000001,52633.259999999995,9018.5600000000013,1921.22,8787.1200000000008,5554.08,4990.5599999999995,13481.66,24639.159999999996,0,136849.65999999997,null,null,0,0,0,0]
[201,"New Bedford                  ",481,0,1172,5903,3470,3251,123,558,138,2190,551,727,11415,14160,1,12,0.82950000000000002,null,11117141.24,20546178.75,144839750.72999999,18181490.43,6444988.8900000006,10572658.549999999,9879097.339999998,20281793.729999997,19290611.340000004,47921852.950000003,5420761.4399999995,314496325.39000005,null,null,11415,13760.5,0.82950000000000002,12]
[202,"New Braintree                ",0,0,0,0,0,0,0,0,0,0,0,0,0,0,1,0,0,null,0,0,0,0,0,0,0,0,0,0,0,0,null,null,0,0,0,0]
[203,"Newbury                      ",0,0,0,0,0,0,3,0,0,0,0,0,0,3,1.036,0,0,null,1460.5424399999999,2637.8839200000002,26609.577119999998,1859.0812800000001,831.79404,4731.4500000000007,1468.5921599999999,1978.21092,6607.6701599999997,7466.0399999999991,0,55650.842040000003,null,null,0,0,0,0]
[204,"Newburyport                  ",15,0,126,702,486,659,4,79,20,33,5,10,309,1985,1,3,0.14369999999999999,null,1297625.49,1789471.6199999996,10111000.399999999,2381187.11,406114.93,1394763.9899999998,954054.76999999979,885123.36,2534124.5900000003,4699408.8,785617.6,27238492.659999996,null,null,309,2151,0.14369999999999999,3]
[205,"New Marlborough              ",0,0,0,0,0,0,0,0,0,0,0,0,0,0,1,0,0,null,0,0,0,0,0,0,0,0,0,0,0,0,null,null,0,0,0,0]
[206,"New Salem                    ",0,0,0,0,0,0,0,0,0,0,0,0,0,0,1,0,0,null,0,0,0,0,0,0,0,0,0,0,0,0,null,null,0,0,0,0]
[207,"Newton                       ",82,0,687,4075,2660,3512,493,462,109,500,125,109,1835,11468,1.0580000000000001,3,0.16120000000000001,null,7987972.4201000016,11063396.983679999,64819030.900859997,14693064.591440002,2575981.2747799996,8511929.7000000011,5888637.3272400014,5531271.1762199998,16185500.361000001,27592928.460000001,4281615.92,169131329.11532003,null,null,1835,11386.5,0.16120000000000001,3]
[208,"Norfolk                      ",18,0,115,748,132,0,0,40,10,29,0,0,91,1004,1.0509999999999999,2,8.9300000000000004E-2,null,685195.42466999998,929598.84285999998,4805802.4108199999,1441617.1718899999,200912.89104999995,589829.99,491831.79304999998,243375.95008000001,1316263.7923099999,2351746.6199999996,392808.8,13448983.686729999,null,null,91,1019,8.9300000000000004E-2,2]
[209,"North Adams                  ",100,0,89,450,319,282,2,46,11,10,3,2,802,1192,1,11,0.73650000000000004,null,860122.2300000001,1504736.2299999997,10118184.860000001,1450659.63,446779.91,827418.83,740678.81,1366892.97,1507206.4100000001,3618501.38,432089.68,22873270.939999998,null,null,802,1089,0.73650000000000004,11]
[210,"Northampton                  ",39,0,141,852,638,847,1,99,25,63,14,19,809,2499,1,6,0.32050000000000001,null,1675857.06,2449563.37,14610771.380000001,2988698.41,602682.12,1776982.6199999996,1279393.1900000002,1512336.3599999999,3201646.2600000002,6275421.8300000001,982021.99999999988,37355374.600000009,null,null,809,2524,0.32050000000000001,6]
[211,"North Andover                ",57,0,299,1651,1049,1333,42,175,43,157,34,47,1106,4403,1,5,0.25690000000000002,null,2924122.2600000002,4165316.68,24275257.279999997,5355940.9499999993,990211.15,3117265.8599999989,2192921.3100000005,2258898.48,5696440.4700000007,10803205.49,1689077.8399999999,63468657.769999996,null,null,1106,4305.5,0.25690000000000002,5]
[212,"North Attleborough           ",78,0,242,1479,932,1027,0,147,37,113,22,32,1061,3719,1,5,0.28470000000000001,null,2474889.3300000005,3553874.4000000004,20562459.120000001,4549393.33,849975.89,2561067.4600000004,1863530.7300000002,1937151.9899999998,4757362.8800000008,9189075.1399999987,1453392.5599999998,53752172.830000006,null,null,1061,3726.5,0.28470000000000001,5]
[213,"Northborough                 ",18,0,181,858,567,6,2,64,16,93,25,0,342,1623,1,4,0.21510000000000001,null,1074162.83,1512985.84,8005265.7599999998,2124020.8200000003,350027.63,973141.34,790028.60000000009,557978.78,2083071.21,4009844.7199999997,628494.07999999996,22109021.609999996,null,null,342,1590,0.21510000000000001,4]
[214,"Northbridge                  ",34,0,135,788,403,531,12,75,19,57,9,21,740,1886,1,8,0.42030000000000001,null,1291491.1300000001,1961883.83,12088953.909999998,2322994.2899999996,507273.86,1326662.57,1008591.8,1311206.94,2422269.62,4946892.92,746336.72,29934557.589999996,null,null,740,1760.5,0.42030000000000001,8]
[215,"North Brookfield             ",19,0,40,233,142,136,0,22,6,10,2,2,216,561,1,10,0.55310000000000004,null,386087.9,596062.84000000008,3672268.65,688667.79,156999.41999999998,382323.19999999995,304302.09999999998,411961.74,711170.05,1496971.3800000001,235685.27999999997,9042500.3499999996,null,null,216,390.5,0.55310000000000004,10]
[216,"Northfield                   ",0,0,0,0,0,0,0,0,0,0,0,0,0,0,1,0,0,null,0,0,0,0,0,0,0,0,0,0,0,0,null,null,0,0,0,0]
[217,"North Reading                ",21,177,6,948,536,671,10,91,23,36,1,2,271,2271,1.0820000000000001,3,0.12180000000000001,null,1600578.4930400001,2183194.4527799999,12160090.520359999,2989161.45102,488528.65885999997,1568535.32,1166555.2704,1000365.4154800001,3130685.5795,5331988.42,903460.24,32523143.82144,null,null,271,2224.5,0.12180000000000001,3]
[218,"Norton                       ",28,0,129,822,502,579,58,84,20,38,7,10,643,2104,1,5,0.28339999999999999,null,1396980.0000000002,2016183.58,12001640.999999996,2557858.3899999997,491873.6,1502103.5399999998,1057282.83,1148811.8999999999,2737441.4400000004,5233007.95,785617.6,30928801.829999998,null,null,643,2269,0.28339999999999999,5]
[219,"Norwell                      ",16,169,9,834,530,615,2,83,21,2,2,3,132,2083,1.0589999999999999,2,6.3799999999999996E-2,null,1422981.1169400001,1913877.33699,10422401.876339998,2664459.4190400001,417251.34794999997,1424269.69,1028733.44112,815196.44813999988,2794037.4094200004,4812526.26,824898.48,28540632.825939994,null,null,132,2069,6.3799999999999996E-2,2]
[220,"Norwood                      ",59,0,267,1418,824,1001,0,140,35,374,86,82,1559,3540,1.056,8,0.44819999999999999,null,2621935.8422400001,4059203.9558400009,25237319.215680003,4671568.2288000006,1067638.1971199999,2533450.62,2069047.1683200004,2779587.61344,4930659.2966400003,9577877.7999999989,1374830.7999999998,60923118.738080002,null,null,1559,3478.5,0.44819999999999999,8]
[221,"Oak Bluffs                   ",11,0,39,214,124,0,0,15,4,48,15,0,176,383,1,8,0.44280000000000003,null,269808.07,419356.31,2478431.39,510767.06,110573.96999999999,237761.61000000002,211222.53000000003,244117.04,502138.91,1057881.2100000002,157123.51999999999,6199181.6200000001,null,null,176,397.5,0.44280000000000003,8]
[222,"Oakham                       ",0,0,0,0,0,0,0,0,0,0,0,0,0,0,1,0,0,null,0,0,0,0,0,0,0,0,0,0,0,0,null,null,0,0,0,0]
[223,"Orange                       ",26,0,64,361,85,0,0,20,5,16,2,0,332,523,1,10,0.69669999999999999,null,371542.42,627919.93999999994,3995568.7600000002,702247.62000000011,178410.25999999998,319423.86,309873.06000000006,463821.69000000006,651934.93000000017,1529986.2700000003,196404.4,9347133.2100000009,null,null,332,476.5,0.69669999999999999,10]
[224,"Orleans                      ",0,0,23,131,0,0,0,6,2,8,0,0,58,154,1,7,0.39190000000000003,null,106216.62,156790.04,913501.72,215480.83999999997,38852.86,92424.920000000013,80153.840000000026,75081.84,191052.42,395394.74,78561.759999999995,2343511.5999999996,null,null,58,148,0.39190000000000003,7]
[225,"Otis                         ",0,0,0,0,0,0,0,0,0,0,0,0,0,0,1,0,0,null,0,0,0,0,0,0,0,0,0,0,0,0,null,null,0,0,0,0]
[226,"Oxford                       ",23,0,100,544,358,442,1,58,14,53,11,13,669,1457,1,8,0.46800000000000003,null,1005456.14,1562031.2500000002,9765635.0899999999,1774126.5399999998,413570.97000000003,1031634.3000000002,797977.29,1121696.31,1871628.68,3907923.1500000004,549932.31999999995,23801612.039999999,null,null,669,1429.5,0.46800000000000003,8]
[227,"Palmer                       ",51,0,87,513,321,230,0,46,12,27,9,12,640,1177,1,10,0.59930000000000005,null,831300.25,1356906.8199999998,8652115.0899999999,1463947.91,378560.04999999993,794224.89999999991,679615.5,1049443.6600000001,1498794.74,3344128.44,471370.55999999994,20520407.920000002,null,null,640,1068,0.59930000000000005,10]
[228,"Paxton                       ",0,0,0,0,0,0,0,0,0,0,0,0,0,0,1,0,0,null,0,0,0,0,0,0,0,0,0,0,0,0,null,null,0,0,0,0]
[229,"Peabody                      ",76,0,472,2404,1366,1073,393,233,53,569,173,211,2836,5746,1,9,0.50209999999999999,null,4099351.5600000005,6517102.0700000022,42694675.890000001,7314911.7499999991,1812162.4900000002,4360560.8999999994,3287772.04,4729398.8599999994,8018920.5899999999,16303441.030000001,2081886.64,101220183.82000001,null,null,2836,5648.5,0.50209999999999999,9]
[230,"Pelham                       ",0,0,9,48,9,0,0,3,1,1,0,0,42,66,1,6,0.3256,null,48370.94,72185.610000000015,442004.55999999994,93611.689999999988,19447.920000000002,39837.67,36306.49,44416.54,83372.59,182116.97000000003,39280.879999999997,1100951.8599999999,null,null,42,129,0.3256,6]
[231,"Pembroke                     ",25,0,166,918,546,726,18,95,24,24,2,5,473,2387,1.0389999999999999,4,0.20130000000000001,null,1626027.45686,2270029.6423999998,12987804.967280002,3002149.251699999,525288.41446,1666653.16,1204273.61571,1156998.8143999998,3162271.8482799991,5717060.0800000001,942741.11999999988,34261298.371089995,null,null,473,2350,0.20130000000000001,4]
[232,"Pepperell                    ",0,0,0,0,0,0,0,0,0,0,0,0,0,0,1,0,0,null,0,0,0,0,0,0,0,0,0,0,0,0,null,null,0,0,0,0]
[233,"Peru                         ",0,0,0,0,0,0,7,0,0,0,0,0,0,7,1,0,0,null,3289.51,5941.18,59931.479999999996,4187.12,1873.4099999999999,11040.050000000001,3307.64,4455.43,14882.14,17420.759999999998,0,126328.72,null,null,0,0,0,0]
[234,"Petersham                    ",0,0,9,55,19,0,0,3,1,3,0,0,45,83,1,6,0.33829999999999999,null,56841.32,88175.78,517571.49,108205.60999999999,22855.760000000002,49797.420000000006,44641.49,50761.05,103376.04,221887.38,39280.879999999997,1303394.22,null,null,45,133,0.33829999999999999,6]
[235,"Phillipston                  ",0,0,0,0,0,0,0,0,0,0,0,0,0,0,1,0,0,null,0,0,0,0,0,0,0,0,0,0,0,0,null,null,0,0,0,0]
[236,"Pittsfield                   ",190,0,382,1966,1234,1049,670,219,46,269,100,150,3275,5396,1,10,0.6895,null,3880085.84,6477451.1699999999,45289337.82,6664615.75,1920609.4,4386758.76,3232629.98,5489053.3200000003,7701077.6299999999,16079300.85,1806920.48,102927840.99999999,null,null,3275,4750,0.6895,10]
[237,"Plainfield                   ",0,0,0,0,0,0,10,1,0,0,0,0,0,10,1,0,0,null,7942.58,8487.4,96318.42,15973.919999999998,3192.5600000000004,16222.1,4725.2,6364.9,24883.100000000002,29605.02,0,213715.20000000001,null,null,0,0,0,0]
[238,"Plainville                   ",20,0,95,443,86,0,0,25,6,38,2,0,191,634,1,6,0.3044,null,423994.94999999995,619136.77,3462360.62,867425.60000000009,148450.28,379700.05,319615.74,260691.08000000002,798047.24,1595236.61,235685.27999999997,9110344.2199999988,null,null,191,627.5,0.3044,6]
[239,"Plymouth                     ",115,0,511,2572,1693,1649,764,295,64,221,58,85,2435,7247,1.0369999999999999,6,0.34499999999999997,null,5049640.2655600002,7423217.8993099993,47321857.255530007,9155711.5038099997,1920341.2494899998,5672936.6899999995,3869780.2938099992,4577260.4776099995,10458658.501659999,18703636.559999999,2513976.3199999998,116667017.01678,null,null,2435,7058,0.34499999999999997,6]
[240,"Plympton                     ",0,0,35,181,47,0,1,11,3,7,2,0,64,264,1.0549999999999999,5,0.249,null,187613.89939999997,261330.32584999996,1427706.2538500002,381910.36924999993,61078.243849999999,157630.03999999998,136160.88475,98122.595999999976,352130.11410000006,650831.90999999992,117842.63999999998,3832357.2770500001,null,null,64,257,0.249,5]
[241,"Princeton                    ",0,0,0,0,0,0,0,0,0,0,0,0,0,0,1,0,0,null,0,0,0,0,0,0,0,0,0,0,0,0,null,null,0,0,0,0]
[242,"Provincetown                 ",5,0,5,30,15,26,0,3,1,15,2,0,58,79,1,8,0.47149999999999997,null,58470.649999999994,97000.270000000019,646878.52,97415.62000000001,27742.980000000003,58881.35,48203.29,82083.33,104700.33,232523.71,39280.879999999997,1493180.93,null,null,58,123,0.47149999999999997,8]
[243,"Quincy                       ",256,0,635,3572,2239,1772,1328,395,82,968,300,340,4953,9674,1.0489999999999999,9,0.51970000000000005,null,7237539.403909998,11603724.002829997,79602690.304179981,12699595.368380001,3324696.8445800003,8013076.080000001,5856470.3346499996,8854161.4756199978,14895384.270810001,27895075.839999996,3221032.1599999997,183203446.08495995,null,null,4953,9530,0.51970000000000005,9]
[244,"Randolph                     ",65,0,245,1245,802,893,0,127,32,422,136,176,2090,3218,1.0409999999999999,10,0.67569999999999997,null,2489467.3455599993,4198080.9658799991,27872309.058809999,4235445.9015899999,1211313.80436,2373383.06,2077344.3356999999,3524220.8250599997,4524815.6280299993,9701467.3500000015,1256988.1599999999,63464836.434990004,null,null,2090,3093,0.67569999999999997,10]
[245,"Raynham                      ",0,0,0,0,0,0,0,0,0,0,0,0,0,0,1,0,0,null,0,0,0,0,0,0,0,0,0,0,0,0,null,null,0,0,0,0]
[246,"Reading                      ",37,0,290,1413,950,1100,11,151,38,41,15,10,473,3783,1.0369999999999999,3,0.124,null,2554515.60256,3494199.3538199994,19408405.057920001,4761324.0784899993,783254.45822000015,2602577.7000000002,1865557.9705499997,1598651.7373299997,4996964.7202300001,8904023.9299999997,1492673.44,52462148.049119994,null,null,473,3815,0.124,3]
[247,"Rehoboth                     ",0,0,0,0,0,0,0,0,0,0,0,0,0,0,1,0,0,null,0,0,0,0,0,0,0,0,0,0,0,0,null,null,0,0,0,0]
[248,"Revere                       ",84,0,520,2846,1811,2403,17,304,76,1511,348,578,5293,7639,1.03,11,0.71079999999999999,null,6065700.7455000011,10577761.068200001,72507621.5009,10039516.1209,3158707.4065999999,5899686.8900000006,5174376.8966999995,9581382.5754000004,10940558.1227,24281105.380000003,2985346.88,161211763.5869,null,null,5293,7446.5,0.71079999999999999,11]
[249,"Richmond                     ",7,0,8,49,36,18,8,4,1,3,0,0,51,123,1,6,0.33889999999999998,null,79128.010000000009,123980.64,754271.10999999987,142471.29999999999,31805.120000000003,86857.219999999972,63945.750000000007,75952.329999999987,160589.11000000002,317106.81,39280.879999999997,1875388.28,null,null,51,150.5,0.33889999999999998,6]
[250,"Rochester                    ",7,0,51,315,70,2,10,19,4,2,0,0,88,452,1,4,0.1991,null,296571.47000000003,411987.54,2256513.34,616815.53,94955.74,276056.34000000003,216225.12000000002,144637.90999999997,574408.4,1094172.5400000003,157123.51999999999,6139467.4500000002,null,null,88,442,0.1991,4]
[251,"Rockland                     ",75,0,175,818,521,622,4,85,21,150,47,60,1109,2178,1.0589999999999999,9,0.505,null,1627480.16973,2608813.8616200001,16643440.7622,2845105.3757999996,711383.85363000003,1561333.4700000002,1317444.2056799997,1965980.85711,3015400.9101300002,6071256.4299999997,824898.48,39192538.375899993,null,null,1109,2196,0.505,9]
[252,"Rockport                     ",17,0,22,179,124,182,0,20,5,9,1,1,169,516,1.03,5,0.27660000000000001,null,351506.3799,512168.05620000005,3035423.5650999998,627918.24080000003,124209.09050000001,366764.54,268641.46879999997,310906.28280000004,674636.7439,1275797.3699999999,196404.4,7744376.1380000003,null,null,169,611,0.27660000000000001,5]
[253,"Rowe                         ",3,0,2,11,9,4,10,2,0,0,0,0,26,38,1,9,0.51490000000000002,null,26864.170000000002,44881.54,341845.68000000005,49298.53,14274.18,34462.120000000003,22424.240000000002,40461,59263.83,116366.59,0,750141.88,null,null,26,50.5,0.51490000000000002,9]
[254,"Rowley                       ",0,0,0,0,0,0,1,0,0,0,0,0,0,1,1.0329999999999999,0,0,null,485.43768999999998,876.7484199999999,8844.1741199999979,617.89927999999986,276.46178999999995,1577.15,488.11315999999994,657.49416999999994,2196.1786599999996,2488.6799999999998,0,18508.337289999996,null,null,0,0,0,0]
[255,"Royalston                    ",0,0,0,0,0,0,0,0,0,0,0,0,0,0,1,0,0,null,0,0,0,0,0,0,0,0,0,0,0,0,null,null,0,0,0,0]
[256,"Russell                      ",0,0,0,0,0,0,21,1,0,0,0,0,0,21,1,0,0,null,13111.810000000001,17823.54,190496.46,22553.68,6136.49,33570.75,9922.92,13366.29,48269.32,56980.5,0,412231.75999999995,null,null,0,0,0,0]
[257,"Rutland                      ",0,0,0,0,0,0,0,0,0,0,0,0,0,0,1,0,0,null,0,0,0,0,0,0,0,0,0,0,0,0,null,null,0,0,0,0]
[258,"Salem                        ",202,0,341,1580,1004,708,601,175,36,416,129,165,2687,4335,1,10,0.62849999999999995,null,3153845.8499999996,5299410.3599999994,37260138.759999998,5435226.3799999999,1581728.65,3590649.0599999996,2635574.08,4445840.1500000004,6354542.0499999989,13128845,1414111.68,84299912.020000011,null,null,2687,4275.5,0.62849999999999995,10]
[259,"Salisbury                    ",0,0,0,0,0,0,5,0,0,0,0,0,0,5,1,0,0,null,2349.65,4243.7,42808.2,2990.7999999999997,1338.15,7885.75,2362.6,3182.45,10630.1,12443.4,0,90234.8,null,null,0,0,0,0]
[260,"Sandisfield                  ",0,0,0,0,0,0,0,0,0,0,0,0,0,0,1,0,0,null,0,0,0,0,0,0,0,0,0,0,0,0,null,null,0,0,0,0]
[261,"Sandwich                     ",28,1,158,800,501,648,2,84,21,14,3,6,566,2124,1,5,0.25769999999999998,null,1400739.17,1999562.25,11591105.949999999,2565414.1400000006,474657.70999999996,1472697.4100000001,1053023.6300000001,1101755.5699999998,2691612.58,5182711.7200000007,824898.48,30358178.609999996,null,null,566,2196,0.25769999999999998,5]
[262,"Saugus                       ",30,0,206,1159,695,842,26,117,29,285,48,81,1478,2943,1,9,0.51880000000000004,null,2092178.6899999997,3332836.72,21360253.600000001,3659876.86,910217.49000000022,2141611.42,1683591.8499999996,2502538.6100000003,3900528.6699999995,8228480.1400000006,1139145.52,50951259.570000008,null,null,1478,2849,0.51880000000000004,9]
[263,"Savoy                        ",2,0,4,13,12,6,1,1,0,0,0,0,15,37,1,8,0.42859999999999998,null,22091.399999999998,38323.760000000002,228182.72,40768.160000000003,9808.130000000001,24836.050000000003,19637.989999999998,24742.33,46075.77,95949.489999999991,0,550415.80000000005,null,null,15,35,0.42859999999999998,8]
[264,"Scituate                     ",25,0,193,1084,683,722,2,107,27,11,2,2,321,2697,1.0389999999999999,2,0.1192,null,1815478.9973899999,2477497.744239999,13592687.587189998,3413236.8954799986,550734.44917000004,1822222.25,1323655.5469100003,1087056.2955499999,3544515.241609999,6316878.6099999994,1060583.76,37004547.377539992,null,null,321,2693.5,0.1192,2]
[265,"Seekonk                      ",17,0,157,823,524,505,0,80,20,54,11,13,425,2018,1,4,0.21379999999999999,null,1329144.22,1866700.23,10499725.629999999,2483288.63,432610.85000000003,1365505.17,985625.96,907590.25,2575479.4099999997,4882102.6999999993,785617.6,28113390.649999999,null,null,425,1987.5,0.21379999999999999,4]
[266,"Sharon                       ",24,201,2,1202,850,1181,0,133,33,52,13,14,459,3348,1.0429999999999999,3,0.1401,null,2274441.0524499998,3127958.4914899999,17623979.480519999,4151123.9169400004,704991.99659000011,2367457.1199999996,1671721.9644999998,1556876.8068699997,4456032.1901899995,7885671.1400000006,1296269.0399999998,47116523.199549995,null,null,459,3276,0.1401,3]
[267,"Sheffield                    ",0,0,0,0,0,0,5,0,0,0,0,0,0,5,1,0,0,null,2349.65,4243.7,42808.2,2990.7999999999997,1338.15,7885.75,2362.6,3182.45,10630.1,12443.4,0,90234.8,null,null,0,0,0,0]
[268,"Shelburne                    ",0,0,0,0,0,0,0,0,0,0,0,0,0,0,1,0,0,null,0,0,0,0,0,0,0,0,0,0,0,0,null,null,0,0,0,0]
[269,"Sherborn                     ",6,0,53,334,0,0,3,15,4,12,0,0,26,393,1.0409999999999999,2,6.7299999999999999E-2,null,263278.31063999998,357669.1742999999,1868441.7960299999,566030.21699999995,75875.29412999998,233521.29,189667.99307999999,83712.702059999996,506467.99664999999,905270.3,157123.51999999999,5207058.5938899992,null,null,26,386.5,6.7299999999999999E-2,2]
[270,"Shirley                      ",0,0,0,0,0,0,0,0,0,0,0,0,0,0,1,0,0,null,0,0,0,0,0,0,0,0,0,0,0,0,null,null,0,0,0,0]
[271,"Shrewsbury                   ",52,0,332,2069,1401,1981,28,232,58,210,57,45,1238,5837,1,4,0.2142,null,3859241.71,5422450.9199999999,31322742.449999999,7022104.3399999989,1264408.44,4168805.12,2871434.19,2884766.59,7533511.3199999994,14109593.559999995,2278291.04,82737349.679999992,null,null,1238,5780.5,0.2142,4]
[272,"Shutesbury                   ",2,0,7,78,15,0,0,4,1,1,0,0,32,101,1,5,0.28320000000000001,null,66984.679999999993,96788.95,536305.08000000007,136861.15000000002,23016.300000000003,59632.409999999996,50150.73,40549,125364.41,251063.62999999998,39280.879999999997,1425997.22,null,null,32,113,0.28320000000000001,5]
[273,"Somerset                     ",25,0,137,786,566,0,0,60,15,22,4,0,498,1502,1,6,0.33260000000000001,null,1005358.04,1469141.7000000002,8106978.8900000006,1946472.73,360739.2,890499.77999999991,757585.24000000011,695322.58000000007,1900958.47,3847346.48,589213.19999999995,21569616.309999999,null,null,498,1497.5,0.33260000000000001,6]
[274,"Somerville                   ",283,0,402,1888,1117,636,895,207,40,724,209,258,2481,5080,1.0680000000000001,9,0.49680000000000002,null,3888624.6217200002,6222981.3033600003,43166681.121000007,6927297.52752,1791411.8719200001,4360022.6999999993,3139399.3286399995,4549869.5593200009,8302924.5252000019,14778910.01,1571235.2,98699357.768680006,null,null,2481,4993.5,0.49680000000000002,9]
[275,"Southampton                  ",10,0,56,311,59,0,48,19,4,10,1,0,78,479,1,3,0.1663,null,309628.37000000005,432696.17000000004,2512858.4,634853.97,101744.27,330434.97000000003,228407.37000000002,155508.75,646019.05000000005,1160493.0599999998,157123.51999999999,6669767.8999999994,null,null,78,469,0.1663,3]
[276,"Southborough                 ",27,0,112,672,436,6,1,49,12,80,9,0,131,1241,1.024,2,0.1031,null,829738.81344000006,1136169.4720000003,5796847.2371199988,1661711.3395199999,251330.77504000004,740115.04,599361.38240000012,340764.01663999999,1629711.1552000002,2979456.87,471370.55999999994,16436576.661360001,null,null,131,1270,0.1031,2]
[277,"Southbridge                  ",65,0,176,930,537,544,1,87,22,217,67,92,1636,2221,1,12,0.84240000000000004,null,1700014.4200000002,3080482.16,21385655.690000001,2804824.4899999993,948449.98,1616754.85,1492356.02,2967942.0499999993,2941983.5400000005,7241708.8599999985,864179.36,47044351.420000002,null,null,1636,1942,0.84240000000000004,12]
[278,"South Hadley                 ",43,0,104,632,437,468,88,70,16,41,9,17,595,1751,1,6,0.35880000000000001,null,1172291.1100000001,1727083.8399999999,10617912.77,2118428.64,436501.82000000007,1292288.56,899932.48,1061972.43,2329133.4600000004,4466231.66,628494.07999999996,26750270.849999998,null,null,595,1658.5,0.35880000000000001,6]
[279,"Southwick                    ",0,0,0,0,0,0,33,2,0,0,0,0,0,33,1,0,0,null,21994.25,28008.420000000002,303938.15999999997,39723.919999999998,9864.31,52947.15,15593.16,21004.170000000002,77404.460000000006,91562.87999999999,0,662040.87999999989,null,null,0,0,0,0]
[280,"Spencer                      ",0,0,0,0,0,0,2,0,0,0,0,0,0,2,1,0,0,null,939.86,1697.48,17123.28,1196.32,535.26,3154.3,945.04,1272.98,4252.04,4977.3599999999997,0,36093.919999999998,null,null,0,0,0,0]
[281,"Springfield                  ",2036,0,1999,9701,6326,7558,1668,1106,256,2734,752,1171,23608,28270,1,12,0.86009999999999998,null,21920027.969999999,41075560.270000003,299149571.72000003,34890351.669999994,13145419.529999999,22590828.629999995,19777028.32,42649600.25,39118770.639999993,96131563.790000007,10055905.279999999,640504628.06999993,null,null,23608,27448,0.86009999999999998,12]
[282,"Sterling                     ",0,0,0,0,0,0,0,0,0,0,0,0,0,0,1,0,0,null,0,0,0,0,0,0,0,0,0,0,0,0,null,null,0,0,0,0]
[283,"Stockbridge                  ",0,0,0,0,0,0,0,0,0,0,0,0,0,0,1,0,0,null,0,0,0,0,0,0,0,0,0,0,0,0,null,null,0,0,0,0]
[284,"Stoneham                     ",36,0,196,1056,558,661,9,99,25,96,21,26,614,2498,1.038,5,0.249,null,1723776.8820600002,2450186.7412200007,14092391.627219999,3209710.7933400003,578249.35139999993,1722211.5999999999,1288196.5409400002,1261610.8178400001,3331782.0015000007,6119821.0800000001,982021.99999999988,36759959.435520001,null,null,614,2466,0.249,5]
[285,"Stoughton                    ",41,0,280,1429,820,1106,0,145,36,284,68,69,1726,3656,1.0449999999999999,9,0.48020000000000002,null,2689475.33745,4245973.6401499994,26937962.400249999,4725684.8507000003,1143665.9844499999,2628216.9700000002,2153477.7516999999,3133966.0874499995,4987304.9583500009,10052610.190000001,1414111.68,64112449.850499995,null,null,1726,3594.5,0.48020000000000002,9]
[286,"Stow                         ",0,0,0,0,0,0,0,0,0,0,0,0,0,0,1.046,0,0,null,0,0,0,0,0,0,0,0,0,0,0,0,null,null,0,0,0,0]
[287,"Sturbridge                   ",12,0,91,552,144,0,0,31,8,17,2,0,197,793,1,5,0.248,null,522704.37999999995,743916.10000000009,4031225.870000001,1065564.1100000001,172805.27,468384.93999999994,387503.73,281793.45999999996,989292.83000000019,1944307.3299999998,314247.03999999998,10921745.060000002,null,null,197,794.5,0.248,5]
[288,"Sudbury                      ",31,0,259,1352,872,0,8,99,25,54,5,0,245,2507,1,2,9.7900000000000001E-2,null,1624459.3699999999,2210529.98,11221300.02,3258146.22,486364.92,1478651.9499999997,1169290.1500000001,652053.16,3176461.25,5965076.7700000005,982021.99999999988,32224355.789999999,null,null,245,2503,9.7900000000000001E-2,2]
[289,"Sunderland                   ",9,0,16,99,23,0,2,6,1,15,2,0,64,145,1,7,0.39879999999999999,null,99249.770000000019,153179.15,913267.0399999998,200632.3,39659.96,90661.89,77711.67,82474.13,188273.45,388489.77,39280.879999999997,2272880.0099999998,null,null,64,160.5,0.39879999999999999,7]
[290,"Sutton                       ",22,0,69,495,322,331,17,50,12,16,1,8,234,1245,1,4,0.19,null,816088.33000000007,1137863.45,6464631.21,1519598.7699999998,263622.8,862508.9,603203.99000000011,558753.36,1601820.65,2994961.26,471370.55999999994,17294423.279999997,null,null,234,1231.5,0.19,4]
[291,"Swampscott                   ",25,0,135,776,478,626,8,81,20,56,12,23,488,2036,1,4,0.23230000000000001,null,1347052.49,1905642.27,10999543.349999998,2475874.2000000002,447741.21,1428973.3900000001,1005746.52,1009214.45,2615189.4900000002,4951502.4500000011,785617.6,28972097.420000002,null,null,488,2101,0.23230000000000001,4]
[292,"Swansea                      ",23,0,145,777,499,528,0,78,19,13,5,7,581,1961,1,5,0.29780000000000001,null,1297773.3100000003,1866818.96,10800062.549999999,2392506.7399999998,447815.75,1336332.0799999998,979027.92,1028388.1499999999,2485696.5200000005,4837029,746336.72,28217787.699999999,null,null,581,1951,0.29780000000000001,5]
[293,"Taunton                      ",193,0,599,3205,1986,1519,958,340,73,466,210,284,5210,8364,1,10,0.6341,null,6059135.1199999992,10149150.539999999,70636587.549999982,10426698.33,3013030.9400000004,6713320.4999999991,5051260.8,8585030.7200000007,11917948.73,25113888.41,2867504.2399999998,160533555.88,null,null,5210,8217,0.6341,10]
[294,"Templeton                    ",0,0,0,0,0,0,1,0,0,0,0,0,0,1,1,0,0,null,469.93,848.74,8561.64,598.16,267.63,1577.15,472.52,636.49,2126.02,2488.6799999999998,0,18046.96,null,null,0,0,0,0]
[295,"Tewksbury                    ",60,0,275,1391,812,802,6,131,33,104,17,16,775,3316,1,4,0.23980000000000001,null,2189612.6500000004,3094297.7600000002,17522393.600000001,4100792.55,722720.36,2243628.9999999995,1629955.7800000005,1525134.5599999998,4234171.5399999991,8066882.2200000007,1296269.0399999998,46625859.059999995,null,null,775,3231.5,0.23980000000000001,4]
[296,"Tisbury                      ",3,0,36,205,121,0,0,14,4,55,12,0,148,364,1,8,0.47060000000000002,null,255365.19,391109.89,2274667.12,483446.73999999993,101202.88,226240.52999999994,197847.93000000002,214559.50999999998,479077.82999999996,991061.20999999985,157123.51999999999,5771702.3499999987,null,null,148,314.5,0.47060000000000002,8]
[297,"Tolland                      ",0,0,0,0,0,0,0,0,0,0,0,0,0,0,1,0,0,null,0,0,0,0,0,0,0,0,0,0,0,0,null,null,0,0,0,0]
[298,"Topsfield                    ",3,0,77,369,86,0,0,21,5,3,0,0,40,534,1.0449999999999999,2,7.2700000000000001E-2,null,357702.08925000008,485892.99164999998,2484794.2701999997,751613.78379999986,104253.46359999999,311261.84999999998,257687.77265,124055.87919999998,691289.50769999996,1241911.7200000002,196404.4,7006867.7280499991,null,null,40,550.5,7.2700000000000001E-2,2]
[299,"Townsend                     ",0,0,0,0,0,0,0,0,0,0,0,0,0,0,1,0,0,null,0,0,0,0,0,0,0,0,0,0,0,0,null,null,0,0,0,0]
[300,"Truro                        ",13,0,10,47,34,42,0,5,1,2,0,0,31,140,1,9,0.496,null,89435.010000000024,134385.01,783476.70999999985,163380.57,32327.3,96455.48,70361.63,77947.210000000006,175004.53,343748.91,39280.879999999997,2005803.2399999998,null,null,31,62.5,0.496,9]
[301,"Tyngsborough                 ",20,0,117,606,386,462,0,63,16,107,21,15,465,1581,1,5,0.29270000000000002,null,1064705.06,1530982.78,8935012.4499999993,1947245.31,368322.08999999997,1108938.3999999997,801196.4,845802.69,2051219.87,3941487.15,628494.07999999996,23223406.279999997,null,null,465,1588.5,0.29270000000000002,5]
[302,"Tyringham                    ",0,0,2,9,10,13,0,1,0,0,0,0,0,34,1,0,0,null,19220.899999999998,28857.160000000003,153227.55999999997,35933.14,5984.2800000000007,23995.599999999999,15659.12,12780.64,41993.68,75634.31,0,413286.38999999996,null,null,0,0,0,0]
[303,"Upton                        ",0,0,0,0,0,0,8,0,0,0,0,0,0,8,1,0,0,null,3759.44,6789.92,68493.119999999995,4785.28,2141.04,12617.2,3780.16,5091.92,17008.16,19909.439999999999,0,144375.67999999999,null,null,0,0,0,0]
[304,"Uxbridge                     ",27,0,126,621,383,463,12,65,16,40,8,17,504,1619,1,6,0.31559999999999999,null,1086496.8299999998,1580037.8499999999,9374705.3299999982,1983773.7199999995,387719.51,1134116.1700000002,824693.52,924150.09999999986,2082989.0399999998,4064758.6299999994,628494.07999999996,24071934.779999994,null,null,504,1597,0.31559999999999999,6]
[305,"Wakefield                    ",45,0,268,1372,824,918,10,136,34,89,19,27,636,3415,1.056,4,0.18679999999999999,null,2372785.8633600008,3308846.9673600001,18659209.620480005,4433147.0726400008,761225.66784000013,2341569.0499999998,1752247.8758400001,1592457.0288000002,4615659.4809600003,8205692.0800000001,1335549.92,49378390.627280012,null,null,636,3405.5,0.18679999999999999,4]
[306,"Wales                        ",2,0,13,80,18,0,1,4,1,1,0,0,57,113,1,10,0.54810000000000003,null,76862.310000000012,127056.93,782319.72,147599.99,34527.770000000004,68863.849999999991,63546.159999999996,84278.07,139650.53000000003,313641.86,39280.879999999997,1877628.0699999998,null,null,57,104,0.54810000000000003,10]
[307,"Walpole                      ",22,0,282,1476,885,944,0,143,36,96,19,26,590,3598,1.0449999999999999,3,0.1661,null,2465795.6894999999,3412449.1824500002,18997408.868349999,4628342.5468499986,774529.80824999989,2445798.5499999998,1811500.8224500001,1569649.5858999998,4799839.3882999998,8579431.2400000002,1414111.68,50898857.362050004,null,null,590,3551.5,0.1661,3]
[308,"Waltham                      ",66,0,428,2144,1272,1063,836,238,49,814,168,329,3033,5776,1.1020000000000001,9,0.53359999999999996,null,4607646.5298999995,7409879.4951600004,51253574.362220004,8077896.1696199998,2136589.4147400004,4891619.7299999995,3729414.5945400009,5669300.34834,9548793.4246200025,16890063.609999999,1924763.1199999999,116139540.79914001,null,null,3033,5684.5,0.53359999999999996,9]
[309,"Ware                         ",54,0,90,469,310,295,1,47,12,15,10,9,696,1192,1,10,0.66890000000000005,null,846460.30000000016,1397339.48,9082232.6799999997,1462970.0199999998,395450.30000000005,826367.23,698595.63000000012,1143475.77,1517462.14,3423313.6800000006,471370.55999999994,21265037.789999999,null,null,696,1040.5,0.66890000000000005,10]
[310,"Wareham                      ",39,2,187,899,538,563,50,91,22,31,2,6,1366,2258,1,10,0.66069999999999995,null,1608424.66,2666085.2300000004,17684039.109999999,2776986.0599999996,765336.46,1613562.37,1331644.81,2238106.5300000003,2916380.1699999995,6540226.6499999994,864179.36,41004971.409999996,null,null,1366,2067.5,0.66069999999999995,10]
[311,"Warren                       ",0,0,0,0,0,0,1,0,0,0,0,0,0,1,1,0,0,null,469.93,848.74,8561.64,598.16,267.63,1577.15,472.52,636.49,2126.02,2488.6799999999998,0,18046.96,null,null,0,0,0,0]
[312,"Warwick                      ",4,0,5,22,16,13,0,2,1,0,0,0,22,58,1,8,0.4783,null,40022.120000000003,59376.799999999996,353609.6,68266.219999999987,15081.28,38701.839999999997,30547.1,38044.92,72098.14,149705.16999999998,39280.879999999997,904734.07,null,null,22,46,0.4783,8]
[313,"Washington                   ",0,0,0,0,0,0,4,0,0,0,0,0,0,4,1,0,0,null,1879.72,3394.96,34246.559999999998,2392.64,1070.52,6308.6,1890.08,2545.96,8504.08,9954.7199999999993,0,72187.839999999997,null,null,0,0,0,0]
[314,"Watertown                    ",169,0,254,1092,613,739,33,110,27,252,57,107,1031,2816,1.071,7,0.37540000000000001,null,2074969.2801599998,3125578.7039399995,19006986.727259994,3776344.168589999,793022.79608999996,2018075.09,1609707.5700299998,1914550.6375799999,4000406.2364700004,7369356.2699999996,1060583.76,46749581.240119986,null,null,1031,2746.5,0.37540000000000001,7]
[315,"Wayland                      ",19,0,168,1005,670,818,5,106,27,45,7,2,261,2676,1.038,2,9.8799999999999999E-2,null,1801254.70716,2447269.7743800003,13503565.419119999,3349108.6088999989,541230.4204200001,1850100.6500000001,1311086.7972000004,1094905.94184,3536095.15374,6241918.9900000002,1060583.76,36737120.222759999,null,null,261,2642,9.8799999999999999E-2,2]
[316,"Webster                      ",49,0,151,754,482,518,36,78,19,169,49,66,1344,1966,1,11,0.76870000000000005,null,1465378.1500000001,2553487.94,17483485.090000004,2450709.3099999996,764512.79,1459575.62,1253524.04,2327779.31,2627530.91,6109797.8300000001,746336.72,39242117.710000001,null,null,1344,1748.5,0.76870000000000005,11]
[317,"Wellesley                    ",28,0,260,1457,929,1255,0,156,39,81,22,19,355,3915,1.0649999999999999,2,9.1399999999999995E-2,null,2709611.0843999996,3676798.8112500003,20339010.945899993,5042194.106399999,811148.2187999998,2726543.58,1970828.5399499999,1646942.9444999998,5321273.0324999997,9125116.0099999998,1531954.3199999998,54901421.593699984,null,null,355,3882.5,9.1399999999999995E-2,2]
[318,"Wellfleet                    ",1,0,12,80,0,0,0,4,1,1,0,0,38,93,1,8,0.46339999999999998,null,64399.83,96250.989999999991,575403.14,132571.28,24674.840000000004,55329.389999999992,48937.73,50966.78,114815.06000000001,243169.62,39280.879999999997,1445799.54,null,null,38,82,0.46339999999999998,8]
[319,"Wendell                      ",0,0,0,0,0,0,0,0,0,0,0,0,0,0,1,0,0,null,0,0,0,0,0,0,0,0,0,0,0,0,null,null,0,0,0,0]
[320,"Wenham                       ",0,0,0,0,0,0,0,0,0,0,0,0,0,0,1.0269999999999999,0,0,null,0,0,0,0,0,0,0,0,0,0,0,0,null,null,0,0,0,0]
[321,"Westborough                  ",34,0,247,1306,875,1164,1,144,36,249,43,54,705,3610,1,4,0.19589999999999999,null,2404310.56,3368037.5500000003,19274384.079999998,4410695.9400000004,780483.41000000015,2564130.2800000003,1781222.27,1711114.7100000002,4699677.9099999992,8755402.709999999,1414111.68,51163571.100000001,null,null,705,3598.5,0.19589999999999999,4]
[322,"West Boylston                ",17,0,55,347,196,197,29,33,8,30,10,9,294,833,1,6,0.33019999999999999,null,561221.96,829311.29,5029989.4300000006,1027032.48,208685.14,595769.94000000006,430511.08,494752.88,1097149.3499999999,2132348.14,314247.03999999998,12721018.73,null,null,294,890.5,0.33019999999999999,6]
[323,"West Bridgewater             ",9,0,82,456,280,319,9,45,11,28,4,13,378,1151,1,5,0.28000000000000003,null,765079.68,1115041.25,6559453.5500000007,1399559.48,271263.36000000004,801957.65999999992,582830.44000000006,637717.69999999995,1476565.0499999998,2871317.7800000003,432089.68,16912875.629999999,null,null,378,1350,0.28000000000000003,5]
[324,"West Brookfield              ",0,0,0,0,0,0,19,1,0,0,0,0,0,19,1,0,0,null,12171.95,16126.06,173373.17999999996,21357.360000000001,5601.2300000000005,30416.45,8977.8799999999992,12093.31,44017.279999999999,52003.14,0,376137.83999999997,null,null,0,0,0,0]
[325,"Westfield                    ",230,0,309,1608,1080,1050,503,187,40,230,77,88,2422,4665,1,9,0.51770000000000005,null,3272180.31,5265179.3100000005,35701377.04999999,5694047.7699999996,1495934.6400000001,3729186.24,2663186.4899999998,4116606.8999999994,6554798.9700000016,13233811.189999999,1571235.2,83297544.069999993,null,null,2422,4678,0.51770000000000005,9]
[326,"Westford                     ",53,0,253,1581,1101,1479,0,177,44,130,23,17,493,4441,1.0089999999999999,2,0.1104,null,2920148.3832299998,3983748.0975299994,22200104.642829996,5389530.3047099989,887022.2220699999,3117755.84,2132054.4843499996,1857782.53467,5736838.0938099995,10412087.779999999,1728358.72,60365431.103199989,null,null,493,4466.5,0.1104,2]
[327,"Westhampton                  ",3,0,7,48,10,0,13,4,1,0,0,0,24,80,1,5,0.26369999999999999,null,56187.97,75616.320000000007,487711.41,111388.60999999999,19771.550000000003,60354.53,39496.300000000003,36825.949999999997,114903.53,205692.18,39280.879999999997,1247229.23,null,null,24,91,0.26369999999999999,5]
[328,"Westminster                  ",0,0,0,0,0,0,0,0,0,0,0,0,0,0,1,0,0,null,0,0,0,0,0,0,0,0,0,0,0,0,null,null,0,0,0,0]
[329,"West Newbury                 ",0,0,0,0,0,0,3,0,0,0,0,0,0,3,1,0,0,null,1409.79,2546.2200000000003,25684.92,1794.48,802.89,4731.4500000000007,1417.56,1909.47,6378.0599999999995,7466.0399999999991,0,54140.88,null,null,0,0,0,0]
[330,"Weston                       ",10,0,139,790,459,662,0,82,21,34,15,17,200,2055,1.0680000000000001,2,9.7500000000000003E-2,null,1430459.0575200003,1940562.4720800002,10773397.069920002,2663504.48808,428934.49608000001,1433245.72,1039548.2130000001,874034.53920000012,2800515.2069999999,4794116.5699999994,824898.48,29003216.312879998,null,null,200,2052,9.7500000000000003E-2,2]
[331,"Westport                     ",14,0,119,596,393,434,1,62,15,20,4,8,571,1550,1,7,0.38190000000000002,null,1046394.4700000001,1563025.4200000002,9409244.2999999989,1890999.7199999997,395176.55,1071356.73,808891.00000000012,994660.08,1972933.6300000001,3983845.4,589213.19999999995,23725740.499999996,null,null,571,1495,0.38190000000000002,7]
[332,"West Springfield             ",231,0,245,1368,941,1130,145,154,37,294,79,140,2302,3945,1,10,0.59989999999999999,null,2837224.69,4715188.41,31551971.739999998,4823073.5999999996,1349953.52,2995049.92,2356575.9700000002,3926315.35,5322274.2700000005,11517147.060000001,1453392.5599999998,72848167.090000004,null,null,2302,3837,0.59989999999999999,10]
[333,"West Stockbridge             ",0,0,0,0,0,0,0,0,0,0,0,0,0,0,1,0,0,null,0,0,0,0,0,0,0,0,0,0,0,0,null,null,0,0,0,0]
[334,"West Tisbury                 ",0,0,0,0,0,0,0,0,0,0,0,0,0,0,1,0,0,null,0,0,0,0,0,0,0,0,0,0,0,0,null,null,0,0,0,0]
[335,"Westwood                     ",16,0,211,1123,645,849,0,113,28,18,3,3,251,2836,1.054,2,8.9200000000000002E-2,null,1932353.7879600003,2618863.9029400004,14397757.48938,3633113.5893600006,575409.61922000011,1944340.6,1404427.3114200002,1140700.39576,3782616.1640600013,6581728.7399999993,1099864.6399999999,39111176.240100004,null,null,251,2814,8.9200000000000002E-2,2]
[336,"Weymouth                     ",78,0,517,2303,1253,1295,491,240,54,331,78,107,2494,5898,1.042,8,0.4254,null,4254351.4778000005,6536440.9711600002,42471002.998319998,7648640.55284,1763753.6164399998,4532576.3099999996,3346969.1562600005,4495694.5787200006,8483699.425780002,15969719.77,2121167.52,101624016.37731999,null,null,2494,5863,0.4254,8]
[337,"Whately                      ",5,0,19,67,11,0,0,4,1,2,0,0,34,100,1,5,0.25469999999999998,null,66543.48000000001,96405.140000000014,540435.55000000005,136693.23000000001,23114.78,58987.299999999996,49829.560000000005,40530.949999999997,123741.26000000002,248914.77000000002,39280.879999999997,1424476.9000000001,null,null,34,133.5,0.25469999999999998,5]
[338,"Whitman                      ",0,0,0,0,0,0,13,1,0,0,0,0,0,13,1,0,0,null,9352.3700000000008,11033.62,122003.34,17768.400000000001,3995.45,20953.55,6142.76,8274.3700000000008,31261.16,37071.06,0,267856.07999999996,null,null,0,0,0,0]
[339,"Wilbraham                    ",0,0,0,0,0,0,0,0,0,0,0,0,0,0,1,0,0,null,0,0,0,0,0,0,0,0,0,0,0,0,null,null,0,0,0,0]
[340,"Williamsburg                 ",2,0,4,65,24,0,15,5,1,0,0,0,41,109,1,7,0.37609999999999999,null,75216,109758.88,704901.45,146111.44,29551.55,80110.67,56502.32,63143.82,153769.63,291414.85000000003,39280.879999999997,1749761.4900000002,null,null,41,109,0.37609999999999999,7]
[341,"Williamstown                 ",0,0,0,0,0,0,0,0,0,0,0,0,0,0,1,0,0,null,0,0,0,0,0,0,0,0,0,0,0,0,null,null,0,0,0,0]
[342,"Wilmington                   ",15,0,229,1143,733,688,4,112,28,58,6,5,443,2805,1.0720000000000001,3,0.16109999999999999,null,1966150.4939200003,2712687.6920000003,15009632.162880003,3702033.5011200006,614710.94608000002,1887252.6399999997,1440933.6776000001,1224766.8929600001,3828097.78528,6676211.7599999979,1099864.6399999999,40162342.191840008,null,null,443,2750,0.16109999999999999,3]
[343,"Winchendon                   ",63,0,96,477,304,311,1,48,12,13,5,8,656,1221,1,10,0.59499999999999997,null,857472.31000000017,1397993.4,9000254.0799999982,1494863.31,389600.33999999997,845399.39000000013,702456.76000000024,1109682.23,1549096.94,3441506.22,471370.55999999994,21259695.539999999,null,null,656,1102.5,0.59499999999999997,10]
[344,"Winchester                   ",25,0,262,1550,1067,1454,1,173,43,95,20,22,390,4347,1.05,2,9.0499999999999997E-2,null,2963855.0235000001,4023632.4345000004,22310982.718500003,5481004.9979999997,888368.32350000006,3048626.94,2158131.4545000005,1836227.3684999999,5832409.3169999989,10128850.530000001,1689077.8399999999,60361166.947999999,null,null,390,4310,9.0499999999999997E-2,2]
[345,"Windsor                      ",0,0,0,0,0,0,5,0,0,0,0,0,0,5,1,0,0,null,2349.65,4243.7,42808.2,2990.7999999999997,1338.15,7885.75,2362.6,3182.45,10630.1,12443.4,0,90234.8,null,null,0,0,0,0]
[346,"Winthrop                     ",27,0,150,779,468,584,4,79,20,142,52,56,815,1999,1.044,7,0.41139999999999999,null,1443842.3743200002,2188150.2936000004,13401255.606120002,2585247.0836399999,561985.38792000001,1428266.8200000003,1124312.6649600002,1425900.2111999998,2737882.2222000002,5271750.3100000005,785617.6,32954210.573959999,null,null,815,1981,0.41139999999999999,7]
[347,"Woburn",106,0,349,1747,966,1288,13,175,44,402,110,114,1884,4416,1.0549999999999999,8,0.43880000000000002,null,3258498.7103499998,5019501.9146000007,31239917.427699994,5812331.2496000007,1314933.9278499999,3178294.2900000005,2563835.9331999999,3418885.6761500002,6139969.8130000001,11873035.84,1728358.72,75547563.502450004,null,null,1884,4294,0.43880000000000002,8]
[348,"Worcester                    ",1014,0,2038,10147,5955,6274,2262,1090,244,4694,1458,2102,19888,27183,1,11,0.75509999999999999,null,20961970.100000001,37105113.219999999,264194519.03999999,34850114.82,11423942.379999999,22448048.719999999,18094054,34292607.450000003,39817638.629999995,88521338.969999999,9584534.7199999988,581293882.04999995,null,null,19888,26336.5,0.75509999999999999,11]
[349,"Worthington                  ",7,0,5,39,34,20,15,5,1,0,0,0,26,117,1,7,0.36620000000000003,null,77408.800000000003,109814.78000000001,690715.65999999992,142801.59,28004.53,90636.26999999999,57794.020000000004,61674.22,163889.78,295153.5,39280.879999999997,1757174.0299999998,null,null,26,71,0.36620000000000003,7]
[350,"Wrentham                     ",10,0,144,691,125,0,0,38,10,19,1,0,162,965,1.0309999999999999,3,0.1633,null,650517.25467000005,899783.10411999992,4759295.5603599995,1353522.8224399998,200522.45827,567302.46000000008,472883.75933999999,278625.89419999998,1236309.5768500001,2299372.38,392808.8,13110944.070250001,null,null,162,992,0.1633,3]
[351,"Yarmouth                     ",0,0,0,0,0,0,0,0,0,0,0,0,0,0,1,0,0,null,0,0,0,0,0,0,0,0,0,0,0,0,null,null,0,0,0,0]
[406,"Northampton Smith            ",0,0,0,0,0,0,126,6,0,0,0,15,229,126,1,7,0.38879999999999998,null,101327.53,207338.65000000002,2111830.0999999996,139392.93,83603.26999999999,211325.61000000004,99360.14,278644.45,296594.22000000003,525721.46,0,4055138.3600000003,null,null,229,589,0.38879999999999998,7]
[600,"Acton Boxborough             ",62,282,36,1768,1226,1675,0,194,48,280,44,46,686,4877,1.054,3,0.1419,null,3383761.8424200006,4669461.576799999,26366098.764380001,6195583.9073999999,1056919.0529999998,3474011.9999999995,2487651.83292,2285641.2337799999,6658146.9955400005,11603260.449999999,1885482.2399999998,70066019.896239996,null,null,686,4836,0.1419,3]
[603,"Hoosac Valley",69,0,73,430,298,285,0,43,11,6,3,4,638,1121,1,10,0.61970000000000003,null,786341.52,1300335.3499999999,8409481.4800000004,1354487.6199999999,365733.61,774155.40999999992,651464.49,1060147.27,1414720.2599999998,3188256.7399999993,432089.68,19737213.429999996,null,null,638,1029.5,0.61970000000000003,10]
[605,"Amherst Pelham               ",0,0,0,0,396,842,36,52,12,0,28,46,427,1274,1,6,0.33360000000000001,null,861981.60999999987,1262349.5499999996,8176835.0800000001,1348893.5799999998,321101.24,1087331.51,666514.62,1004069.86,1717615.1,3218436.3899999997,471370.55999999994,20136499.099999994,null,null,427,1280,0.33360000000000001,6]
[610,"Ashburnham Westminster       ",84,0,132,803,577,630,0,86,21,21,6,2,606,2184,1,5,0.2762,null,1439131.3399999999,2065548.65,11922466.080000002,2633602.61,492351.61999999988,1501313.67,1085874.79,1138702.6200000001,2769894.77,5357942.3299999991,824898.48,31231726.960000005,null,null,606,2194,0.2762,5]
[615,"Athol Royalston              ",67,0,133,695,393,515,0,69,17,34,15,18,1020,1770,1,10,0.66359999999999997,null,1251328.8800000001,2070927.2100000004,13543259.620000001,2156318.36,583893.83000000007,1253094.2499999998,1037297.95,1711844.9200000002,2252912.61,5052754.6099999994,667774.96,31581407.199999999,null,null,1020,1537,0.66359999999999997,10]
[616,"Ayer Shirley",19,0,122,674,424,464,0,67,17,52,11,20,592,1694,1,6,0.35149999999999998,null,1141721.02,1681152.0899999999,9968490.3000000007,2075640.64,416462.28999999992,1170736.3700000001,873407.53,1005771.5700000001,2169419.9199999995,4300022.57,667774.96,25470599.260000002,null,null,592,1684,0.35149999999999998,6]
[618,"Berkshire Hills              ",47,0,53,286,208,277,34,35,8,44,5,31,495,882,1,8,0.46829999999999999,null,619814.77000000014,995359.16000000015,6544856.2700000005,1066363.6499999999,276096.18,670413.6,503820.88000000006,784079.99,1181446.96,2467649.06,314247.03999999998,15424147.560000001,null,null,495,1057,0.46829999999999999,8]
[620,"Berlin Boylston              ",7,0,81,457,261,260,0,42,11,29,5,5,188,1063,1,3,0.17130000000000001,null,698058.87999999989,967789.27,5380600.4699999997,1312523.5599999998,220385.37999999995,715592.10999999987,512892.70000000007,443398.00999999995,1353226.6400000001,2540573.71,432089.68,14577130.409999996,null,null,188,1097.5,0.17130000000000001,3]
[622,"Blackstone Millville         ",31,0,91,587,416,453,0,62,15,47,10,11,593,1563,1,7,0.40289999999999998,null,1058716.05,1590753.14,9609615.4900000002,1897709.7899999998,404063.97000000003,1090093.7799999998,821932.61000000022,1028879.76,2002020.0700000003,4042633.75,589213.19999999995,24135631.609999999,null,null,593,1472,0.40289999999999998,7]
[625,"Bridgewater Raynham          ",48,0,417,2266,1441,1447,0,223,56,159,34,55,1713,5595,1,6,0.31409999999999999,null,3753643.79,5455698.0499999998,31890042.310000002,6890859.2999999989,1331124.55,3828423.8899999997,2844763.41,3096199.5,7161519.54,14048802.300000003,2199729.2799999998,82500805.920000002,null,null,1713,5454,0.31409999999999999,6]
[632,"Chesterfield Goshen",7,0,15,76,18,0,0,4,1,0,0,0,43,113,1,6,0.35680000000000001,null,73425.69,111821.03,631698.03,147289.93,27361.620000000003,66357.63,57438.239999999998,53452.36,137703.39000000001,285064.73,39280.879999999997,1630893.5299999998,null,null,43,120.5,0.35680000000000001,6]
[635,"Central Berkshire            ",44,0,111,511,380,416,0,57,14,5,5,6,647,1440,1,8,0.4234,null,984671.77000000014,1524498.5200000003,9453290.9100000001,1738933.9200000002,401849.49,1001796.0599999999,780231.85000000021,1084669.54,1826758.0399999998,3831762.3800000004,549932.31999999995,23178394.800000001,null,null,647,1528,0.4234,8]
[640,"Concord Carlisle             ",0,0,0,0,0,1182,0,47,12,0,0,5,114,1182,1.0589999999999999,2,9.9199999999999997E-2,null,810401.53971000004,1098648.46227,7186596.3899999997,1248327.5010899997,245225.22758999999,1089800.1899999997,605847.39773999993,868427.60204999999,1604722.75746,2621849.6099999994,471370.55999999994,17851217.237909999,null,null,114,1149,9.9199999999999997E-2,2]
[645,"Dennis Yarmouth              ",128,0,245,1231,786,916,0,127,32,301,81,96,1811,3242,1,10,0.60680000000000001,null,2336878.4599999995,3842431.84,25007765.689999998,4028694.82,1078585.6300000001,2341345.4899999998,1921646.0300000005,3077247.11,4270619.82,9361310.5700000003,1256988.1599999999,58523513.619999997,null,null,1811,2984.5,0.60680000000000001,10]
[650,"Dighton Rehoboth             ",31,0,181,1078,637,356,270,104,23,11,0,4,537,2538,1,4,0.2172,null,1663377.69,2330141.5599999996,14072183.960000001,3148334.22,569149.59,1885235.9,1231880.56,1134515.05,3484660.01,6259379.7599999988,903460.24,36682318.539999999,null,null,537,2472,0.2172,4]
[655,"Dover Sherborn               ",0,0,0,0,472,643,0,45,11,0,3,5,88,1115,1.0569999999999999,2,8.2000000000000003E-2,null,763099.00428999995,1029259.3520999999,5917377.5311699994,1243183.4892399998,231182.66401999997,868938.94,558756.00136999995,625697.44971999992,1532580.35427,2591288.149999999,432089.68,15793452.616179995,null,null,88,1073,8.2000000000000003E-2,2]
[658,"Dudley Charlton              ",46,0,220,1263,859,886,0,129,32,85,12,29,1255,3251,1,7,0.372,null,2206226.89,3315664.54,19998275.66,3969916.0999999996,843537.28999999992,2247471.2999999998,1711274.8299999998,2130261.5099999998,4156569.33,8426402.7699999996,1256988.1599999999,50262588.379999995,null,null,1255,3374,0.372,7]
[660,"Nauset                       ",0,0,0,0,464,632,0,44,11,0,6,13,455,1096,1,7,0.36370000000000002,null,746443.55000000016,1126495.21,7145411.46,1156672.6499999999,294524.41000000003,868156.67000000016,586649.76,924171.09000000008,1429327.7000000004,2856145.9200000004,432089.68,17566088.100000001,null,null,455,1251,0.36370000000000002,7]
[662,"Farmington River",3,0,16,82,45,41,10,8,2,3,0,0,55,196,1,9,0.53139999999999998,null,132281.9,194175.1,1193036.28,242851.99999999997,49538.9,140177.06999999998,100766,117519.31999999999,258150.39,502552.60999999993,78561.759999999995,3009611.3299999996,null,null,55,103.5,0.53139999999999998,9]
[665,"Freetown Lakeville           ",20,0,209,1029,721,638,0,104,26,24,1,7,639,2607,1,5,0.24729999999999999,null,1719829.72,2436619.71,13818469.989999998,3193388.5599999996,574267.21,1751822.99,1282509.6099999999,1249917.43,3307235.6400000006,6365241.4999999981,1021302.8799999999,36720605.239999995,null,null,639,2584,0.24729999999999999,5]
[670,"Frontier                     ",0,0,0,0,179,291,0,19,5,0,1,3,164,470,1,5,0.2702,null,315510.84000000008,455581.83999999997,2832274.8,493890.04,113445.35999999999,376431.70000000007,241057.19,349050,610898.53,1169836.6200000001,196404.4,7154381.3200000012,null,null,164,607,0.2702,5]
[672,"Gateway                      ",56,0,60,291,192,147,38,30,7,10,3,5,347,756,1,9,0.49569999999999997,null,520666.13,820009.2699999999,5248897.7,931265.47999999986,223569.69999999998,543168.26,416808.70000000007,588273.12,998084.8600000001,2069380.06,274966.15999999997,12635089.439999998,null,null,347,700,0.49569999999999997,9]
[673,"Groton Dunstable             ",20,123,10,859,570,693,0,88,22,28,4,8,269,2204,1,3,0.1226,null,1434385.31,1961308.3200000005,10908612.069999997,2652523.73,439080.77999999997,1527421.27,1048268.6299999999,922724.28,2805607.7800000003,5179344.4899999993,864179.36,29743456.019999996,null,null,269,2194,0.1226,3]
[674,"Gill Montague                ",35,0,70,331,231,222,0,34,9,32,9,11,504,872,1,10,0.5796,null,621509.07000000007,1025006.16,6654494.1399999987,1068566.6900000004,289427.8,609513.4,512403.57000000007,834429.25,1118433.3900000001,2507100.8899999997,353527.92,15594412.279999999,null,null,504,869.5,0.5796,10]
[675,"Hamilton Wenham              ",11,0,140,693,404,445,0,67,17,11,4,1,145,1688,1.0409999999999999,2,8.5699999999999998E-2,null,1136211.98364,1538134.7029500001,8367014.8374299984,2152224.6628499995,337298.01185999997,1136650.1400000001,823793.15348999994,639819.03483000014,2221174.7669399995,3922670.0000000005,667774.96,22942766.253989998,null,null,145,1692,8.5699999999999998E-2,2]
[680,"Hampden Wilbraham            ",42,0,172,1006,621,831,72,109,26,14,5,5,693,2723,1,5,0.24640000000000001,null,1793425.8300000003,2551644.8700000006,15093851.779999999,3279354.3800000004,611296.53,1957723.3299999998,1346699.3900000001,1421546.64,3524560.5500000003,6654445.9099999992,1021302.8799999999,39255852.090000004,null,null,693,2812,0.24640000000000001,5]
[683,"Hampshire                    ",0,0,0,0,209,369,1,23,6,0,0,5,155,579,1,4,0.2162,null,382826.8,542729.26,3325957.1199999996,603049.3899999999,130811.08999999998,466818.63,289869.79000000004,395987.12999999995,751811.96999999986,1402812.9999999998,235685.27999999997,8528359.459999999,null,null,155,717,0.2162,4]
[685,"Hawlemont                    ",7,0,6,58,11,0,0,3,1,0,0,0,39,79,1,10,0.59089999999999998,null,55224.07,87794.439999999988,539105.43999999994,105318.18999999999,23806.34,47106.13,43940.510000000009,57386.990000000005,96701.340000000011,217528.45,39280.879999999997,1313192.7799999998,null,null,39,66,0.59089999999999998,10]
[690,"King Philip                  ",0,0,0,0,696,1159,0,74,19,0,7,9,324,1855,1.0309999999999999,4,0.18029999999999999,null,1252324.0379899999,1735022.20594,10371838.008769996,1998093.8773999996,404785.61135999998,1480377.98,934137.14790999994,1180342.4532399999,2481621.3817499997,4398644.8499999996,746336.72,26983524.274359994,null,null,324,1797,0.18029999999999999,4]
[695,"Lincoln Sudbury              ",0,0,0,0,0,1407,0,56,14,0,0,2,148,1407,1,2,0.1087,null,910053.97000000009,1237395.76,8105685.8499999996,1402608.62,277043.14,1296765.06,681937.28,983276.41000000015,1802122.63,3125724.9099999997,549932.31999999995,20372545.949999999,null,null,148,1362,0.1087,2]
[698,"Manchester Essex",10,0,63,390,253,349,0,42,11,2,1,3,166,1060,1.0409999999999999,3,0.14599999999999999,null,719732.56575000007,990833.66867999989,5580719.3960100003,1321576.5868199996,224205.93713999999,738674.29999999993,528585.81134999997,489103.59615,1397519.8894799999,2500194.4000000004,432089.68,14923235.831379998,null,null,166,1137,0.14599999999999999,3]
[700,"Marthas Vineyard             ",0,0,0,0,0,412,337,33,4,0,0,74,290,749,1,7,0.39140000000000003,null,512776.15,777774.72,6644785.3399999999,798104.05999999994,237433.46999999997,940880.25000000012,410744.88,730171.59,1338470.3599999999,2069134.7799999998,157123.51999999999,14617399.119999999,null,null,290,741,0.39140000000000003,7]
[705,"Masconomet                   ",0,0,0,0,550,969,0,61,15,0,4,2,173,1519,1.0449999999999999,2,0.1153,null,1029406.79215,1400893.5495500001,8269699.5853999984,1658132.7873,317900.17105,1215248.5600000003,760183.93329999992,910446.91815000004,2057189.0795499997,3529979.31,589213.19999999995,21738293.886449996,null,null,173,1501,0.1153,2]
[710,"Mendon Upton                 ",12,0,142,800,499,456,0,76,19,51,13,10,352,1903,1,3,0.17280000000000001,null,1251433.02,1739032.96,9672014.3299999982,2354564.2599999998,397950.29,1279800.1000000001,920706.48,802918.53,2430563.88,4570518.42,746336.72,26165838.989999995,null,null,352,2036.5,0.17280000000000001,3]
[712,"Monomoy",47,0,89,495,366,540,0,60,15,39,17,27,680,1514,1,7,0.41120000000000001,null,1039348.7300000001,1589998.73,9907371.8999999985,1812237.0399999998,414064.5,1096678.1499999997,817694.80000000016,1131360.77,1949352.56,3989666.6600000006,589213.19999999995,24336987.039999999,null,null,680,1653.5,0.41120000000000001,7]
[715,"Mount Greylock               ",54,0,56,385,273,314,0,41,10,19,5,1,299,1055,1,5,0.2641,null,694619.52999999991,1002258.6000000001,5804398.0800000001,1266832.43,239234.61,730080.79999999993,526576.72,558731.06999999995,1340100.3899999999,2591936.46,392808.8,15147577.490000002,null,null,299,1132,0.2641,5]
[717,"Mohawk Trail                 ",71,0,42,263,223,171,0,28,7,1,3,0,356,735,1,9,0.48010000000000003,null,503170.02999999997,803025.06,5000684.1500000004,883497.24999999988,216707.55,497743.54000000004,407185.94,590820.72,926447.41999999993,2004783.75,274966.15999999997,12109031.57,null,null,356,741.5,0.48010000000000003,9]
[720,"Narragansett                 ",17,0,72,518,337,341,12,52,13,16,3,4,520,1289,1,7,0.38890000000000002,null,877041.2,1317472.0499999998,8031123.0999999978,1576238.34,338757.80999999994,896178.40999999992,679398.25,864330.60000000009,1651679.95,3355391.7899999996,510651.43999999994,20098262.939999998,null,null,520,1337,0.38890000000000002,7]
[725,"Nashoba                      ",26,0,197,1169,727,881,0,119,30,67,12,10,439,2987,1.0409999999999999,3,0.1477,null,2033294.6497199999,2799017.4711899995,15627540.229530001,3785404.5500099994,631752.75263999985,2057581.1600000001,1490721.3065399998,1312393.4157299998,3963525.1673100004,7072636.1799999997,1178426.3999999999,41952293.282669999,null,null,439,2972.5,0.1477,3]
[728,"New Salem Wendell            ",6,0,11,63,16,0,0,4,1,0,0,0,53,93,1,8,0.42230000000000001,null,65975.01999999999,103384.84,635957.55000000005,128385.46,28175.600000000002,55962.82,51809.49,66864.11,116448.50000000001,259158.35,39280.879999999997,1551402.62,null,null,53,125.5,0.42230000000000001,8]
[730,"Northboro Southboro          ",0,0,0,0,0,1234,0,49,12,0,0,17,190,1234,1,3,0.1573,null,803341.00999999989,1109969.5900000001,7337682.7199999988,1233125.1499999997,253848.66999999998,1141716.97,607997.87999999989,905242.45,1587217.82,2786088.8899999997,471370.55999999994,18237601.709999997,null,null,190,1208,0.1573,3]
[735,"North Middlesex              ",38,0,216,1179,718,737,0,114,29,64,12,11,858,2869,1,6,0.30859999999999999,null,1917715.0299999998,2780226.55,16210073.360000001,3528262.53,675672.21,1953876.23,1451464.9399999997,1565310.6099999999,3652386.8000000007,7167608.8200000003,1139145.52,42041742.600000009,null,null,858,2780,0.30859999999999999,6]
[740,"Old Rochester                ",0,0,0,0,400,469,74,39,9,0,0,0,260,943,1,5,0.24929999999999999,null,625480.47000000009,888561.62000000011,5643802.8099999996,1002478.16,224410.68,788679.8600000001,472708.36,637190.07000000007,1300020.5100000002,2353132.4899999998,353527.92,14289992.949999999,null,null,260,1043,0.24929999999999999,5]
[745,"Pentucket                    ",29,0,190,930,582,589,0,92,23,11,6,3,386,2306,1,3,0.1694,null,1504402.09,2079113.9399999997,11541017.609999999,2828121.81,471831.25,1550920.0999999999,1104674.3100000003,958432.48000000021,2917970.97,5478943.419999999,903460.24,31338888.219999995,null,null,386,2278.5,0.1694,3]
[750,"Pioneer                      ",2,0,41,218,145,115,0,21,5,1,0,0,192,520,1,6,0.3599,null,348675.67,514506.05000000005,3025909.6300000004,642855.75,128316.95999999999,346681.44999999995,266794.52999999997,304657.56999999995,657932.24,1324399.28,196404.4,7757133.5300000021,null,null,192,533.5,0.3599,6]
[753,"Quabbin                      ",116,0,135,727,485,488,0,73,18,11,2,3,755,1893,1,7,0.36370000000000002,null,1269885.94,1927832.9000000001,11605596.850000001,2292833.7599999993,490775.77,1289723.9600000002,994357.79,1241923,2387405.64,4891678.6499999985,707055.84,29099070.099999998,null,null,755,2076,0.36370000000000002,7]
[755,"Ralph C Mahar                ",0,0,0,0,236,351,1,23,6,0,5,13,351,588,1,10,0.61360000000000003,null,418606.92999999993,694233.72,4723037.04,614984.41999999981,199918.33000000002,478370.61999999994,350576.40000000008,681173.69,768657.33000000007,1691150.09,235685.27999999997,10856393.85,null,null,351,572,0.61360000000000003,10]
[760,"Silver Lake                  ",37,0,0,0,548,780,350,71,13,0,10,18,418,1697,1.0449999999999999,5,0.25219999999999998,null,1165490.3914500002,1660329.1265,11565689.881899999,1886807.5352499997,439029.26649999991,1621459.2600000002,888019.30580000009,1217278.2715499997,2676933.3205999993,4287056.5600000005,510651.43999999994,27918744.359550003,null,null,418,1657.5,0.25219999999999998,5]
[763,"Somerset Berkley",0,0,0,0,0,868,24,36,9,0,0,14,271,892,1,6,0.30080000000000001,null,597073.27,863841.99,5993928.54,897650.5,215369.48,846540.03,463814.81999999995,779785.68,1173983.9200000002,2141562.81,353527.92,14327078.959999999,null,null,271,901,0.30080000000000001,6]
[765,"Southern Berkshire           ",47,0,34,229,133,179,6,23,6,17,1,1,242,605,1,8,0.4325,null,409390.58,628794.30999999994,3887918.0100000002,726473.82000000007,162826.22,428466.41000000003,323399.87999999995,429547.38999999996,771851.84,1581330.12,235685.27999999997,9585683.8599999994,null,null,242,559.5,0.4325,8]
[766,"Southwick Tolland Granville",18,0,75,436,290,312,58,48,11,28,1,3,445,1180,1,7,0.36,null,799180.12999999989,1195642.5,7474318.2300000004,1435993.6799999997,309947,869097.22000000009,618862.79,784171.91999999993,1565242.4699999997,3071112.8899999997,432089.68,18555658.510000002,null,null,445,1236,0.36,7]
[767,"Spencer East Brookfield      ",34,0,117,597,390,294,93,61,14,41,17,9,745,1508,1,9,0.51749999999999996,null,1051897.0799999998,1668874.46,10865985.819999998,1866699.43,463077.43000000005,1108375.6000000001,845102.53,1240371.3,2025176.2999999996,4202242.79,549932.31999999995,25887735.060000002,null,null,745,1439.5,0.51749999999999996,9]
[770,"Tantasqua                    ",0,0,0,0,463,589,408,62,11,0,6,11,503,1460,1,6,0.30209999999999998,null,975507.64,1434617.44,10604638.219999999,1553601.51,405592.00999999995,1480022.48,758316.94000000006,1155549.44,2311007.3299999996,3867678.34,432089.68,24978621.029999997,null,null,503,1665,0.30209999999999998,6]
[773,"Triton                       ",28,0,165,815,507,576,0,83,21,29,6,12,606,2077,1.036,5,0.29480000000000001,null,1431372.2127600003,2050383.7460399996,11888764.397160001,2633925.3329200004,491326.33591999998,1424585.3699999999,1075603.3688399999,1127408.23804,2736685.4166400009,5123477.09,824898.48,30808429.988320004,null,null,606,2055.5,0.29480000000000001,5]
[774,"Upisland",3,0,45,210,134,0,0,16,4,13,2,0,137,391,1,6,0.31069999999999998,null,264760.15000000002,386679.7,2158826.1500000004,515628.06,95699.319999999992,233231.19999999995,198902.31,185083.33,497624.58999999997,1008662.2899999999,157123.51999999999,5702220.6200000001,null,null,137,441,0.31069999999999998,6]
[775,"Wachusett                    ",53,0,463,2616,1574,1859,0,260,65,77,21,25,1155,6539,1,4,0.18029999999999999,null,4279243.57,5949478.7000000002,33448782.359999999,7972534.7199999988,1360444.47,4475279.16,3158013.8700000006,2883398.33,8301415.8399999999,15600348.859999999,2553257.1999999997,89982197.079999983,null,null,1155,6406,0.18029999999999999,4]
[778,"Quaboag",45,1,68,353,267,269,40,40,10,17,2,7,527,1021,1,9,0.48110000000000003,null,709671.1100000001,1136242.05,7392019.9299999997,1226111.1399999999,314861.58999999997,747478.84000000008,575332.84,884598.51,1338339.3600000001,2834350.8799999994,392808.8,17551815.050000001,null,null,527,1095.5,0.48110000000000003,9]
[780,"Whitman Hanson               ",41,0,233,1291,833,1021,0,135,34,154,41,57,1164,3399,1,6,0.33779999999999999,null,2301602.6700000004,3383919.6399999997,20167882.66,4159202.2899999996,837708.11999999988,2393174.1599999997,1759160.55,2043065.9500000002,4392018.37,8638719.7599999998,1335549.92,51412004.089999996,null,null,1164,3446,0.33779999999999999,6]
[801,"Assabet Valley               ",0,0,0,0,0,0,1128,56,0,0,0,155,611,1128,1.0189999999999999,10,0.54020000000000001,null,821039.50178000005,1356373.32225,14050677.321229998,1300610.6871499997,509375.69218999997,1858381.9600000002,695079.37308999989,1431859.8232499999,2723931.7591399997,3755498.7899999996,0,28502828.230079997,null,null,611,1131,0.54020000000000001,10]
[805,"Blackstone Valley            ",0,0,0,0,0,0,1250,63,0,0,0,15,273,1250,1,4,0.22090000000000001,null,812634.65,1152975.56,12263630.16,1381287.0100000002,409892.82,2009118.22,627171.97,976909.13000000012,2892746,3576649.8,0,26103015.32,null,null,273,1236,0.22090000000000001,4]
[806,"Blue Hills                   ",0,0,0,0,0,0,924,46,0,0,0,13,397,924,1.0620000000000001,8,0.42970000000000003,null,662775.05214000004,1031121.0225000001,10849320.43182,1078858.8570599998,381035.47914000007,1493833.4900000002,542173.58874000004,1024657.7648400001,2269646.6518799998,2858453.52,0,22191875.858120002,null,null,397,924,0.42970000000000003,8]
[810,"Bristol Plymouth             ",0,0,0,0,0,0,1366,68,0,0,0,12,419,1366,1,6,0.3125,null,897927.87,1321834.57,13999796.139999997,1499820.9999999998,477013.48,2198913.8699999996,709783.34,1196906.56,3156083.16,4017872.3099999996,0,29475952.299999993,null,null,419,1341,0.3125,6]
[815,"Cape Cod                     ",0,0,0,0,0,0,710,36,0,0,0,21,282,710,1,7,0.40060000000000001,null,478700.81,726925.07,7661923.5,790116.30999999994,266410.82999999996,1148680.81,384822.46,696381.35,1649668.22,2164455.5099999998,0,15968084.870000001,null,null,282,704,0.40060000000000001,7]
[817,"Essex North Shore",0,0,0,0,0,0,1550,78,0,0,0,41,585,1550,1,6,0.30359999999999998,null,1034636.3600000001,1548944.74,16352938.920000002,1717675.95,563538.41,2503816.4799999995,825029.60000000009,1444694.77,3596991.22,4652826.419999999,0,34241092.870000005,null,null,585,1927,0.30359999999999998,6]
[818,"Franklin County              ",0,0,0,0,0,0,579,29,0,0,0,0,293,579,1,8,0.46810000000000002,null,394676.93000000005,626598.94000000006,6587146.8899999997,636111.91999999993,233949.81,936052.75000000012,327023.49,646189.16,1336029.6800000002,1825344.4500000002,0,13549124.02,null,null,293,626,0.46810000000000002,8]
[821,"Greater Fall River           ",0,0,0,0,0,0,1487,74,0,0,0,42,730,1487,1,9,0.49359999999999998,null,1022659.6699999999,1639985.8599999999,17180726.080000002,1640293.9799999997,613004.71,2413308.5100000002,852390.34,1700916.0699999998,3449025.58,4741831.3599999994,0,35254142.160000004,null,null,730,1479,0.49359999999999998,9]
[823,"Greater Lawrence             ",0,0,0,0,0,0,1896,95,0,0,0,192,1308,1896,1.077,10,0.69059999999999999,null,1484863.9064399998,2553862.2703200001,26434720.844099995,2299921.2652799995,977475.95933999983,3121847.04,1291171.05684,2878273.7978399997,4808192.8978199996,6561989.9399999995,0,52412318.977979988,null,null,1308,1894,0.69059999999999999,10]
[825,"Greater New Bedford          ",0,0,0,0,0,0,2176,109,0,0,0,114,1306,2176,1,10,0.60429999999999995,null,1543365.4800000002,2586667.38,26933090.239999998,2421697.5,983194,3554559.8800000004,1321664.02,2845455.3,5074150.6999999993,7284307.6799999997,0,54548152.18,null,null,1306,2161,0.60429999999999995,10]
[828,"Greater Lowell               ",0,0,0,0,0,0,2338,117,0,0,0,189,1176,2338,1,9,0.50870000000000004,null,1632089.05,2626081.15,27392027.039999999,2618892.2299999995,980403.81,3819584.2100000004,1360109.66,2708214.67,5482440.6399999997,7545390.6299999999,0,56165233.090000004,null,null,1176,2312,0.50870000000000004,9]
[829,"South Middlesex              ",0,0,0,0,0,0,904,45,0,0,0,103,496,904,1.0149999999999999,10,0.54690000000000005,null,653206.62994999997,1080399.5051499999,11210725.059799999,1033619.37315,406666.41854999994,1485532.4500000002,553737.08669999999,1149346.1612499999,2164863.2936,3006095.13,0,22744191.108149998,null,null,496,907,0.54690000000000005,10]
[830,"Minuteman                    ",0,0,0,0,0,0,619,31,0,0,0,8,171,619,1.083,5,0.26029999999999998,null,438518.39639999997,634150.11933000002,6728565.5449199993,738816.18863999995,227172.07272,995986.82000000007,342608.54453999997,556066.64240999997,1550897.1973199998,1796955.21,0,14009736.736279998,null,null,171,657,0.26029999999999998,5]
[832,"Montachusett                 ",0,0,0,0,0,0,1466,73,0,0,0,22,460,1466,1,6,0.32790000000000002,null,965975.76000000013,1425000.4200000002,15080535.02,1612312.5,514510.62,2361951.3599999994,764355.72,1292940.48,3391451.86,4323807.3599999994,0,31732841.099999998,null,null,460,1403,0.32790000000000002,6]
[851,"Northern Berkshire           ",0,0,0,0,0,0,470,24,0,0,0,3,230,470,1,9,0.49569999999999997,null,323544.13,515198.06999999995,5413780.4600000009,521765.05,193098.33,761037.59,268076.79999999999,536458.71,1087574.6599999999,1495888.01,0,11116421.810000001,null,null,230,464,0.49569999999999997,9]
[852,"Nashoba Valley               ",0,0,0,0,0,0,770,39,0,0,0,8,264,770,1.0089999999999999,6,0.34329999999999999,null,515341.44265999994,762811.78948000004,8076247.4662199989,860126.89319999982,276802.6427599999,1240813.2999999998,408058.08487999998,702706.28505999991,1798088.7123399999,2287955.4599999995,0,16928952.076599997,null,null,264,769,0.34329999999999999,6]
[853,"Northeast Metropolitan       ",0,0,0,0,0,0,1416,71,0,0,0,84,793,1416,1.056,10,0.56079999999999997,null,1055533.02624,1747719.2198400002,18210119.547839999,1667683.8182399999,661034.49984000018,2312770.85,896539.42751999991,1888789.4361600003,3491926.6272,4688817.1800000006,0,36620933.632880002,null,null,793,1414,0.56079999999999997,10]
[855,"Old Colony                   ",0,0,0,0,0,0,556,28,0,0,0,1,135,556,1,5,0.2437,null,361912.64000000007,517966.88,5508891.3599999994,612633.30999999994,185025.53999999998,893031.08000000007,280940.92,447995.21,1283973.5399999998,1600184.9999999998,0,11692555.479999999,null,null,135,554,0.2437,5]
[860,"Pathfinder                   ",0,0,0,0,0,0,640,32,0,0,0,0,306,640,1,8,0.47299999999999998,null,434338.44000000006,684369.76,7200061.7399999993,702576.6399999999,254664.52000000002,1034046.2,358218.02,697334.5,1476585.6,2002292.94,0,14844488.359999998,null,null,306,647,0.47299999999999998,8]
[871,"Shawsheen Valley             ",0,0,0,0,0,0,1293,65,0,0,0,7,371,1293,1,5,0.28689999999999999,null,846078.07,1225174.8800000001,13007725.619999999,1424821.41,439753.77,2079038.4900000002,661533.55999999994,1081765.76,2987688.9,3758508.3999999994,0,27512088.859999999,null,null,371,1293,0.28689999999999999,5]
[872,"Southeastern                 ",0,0,0,0,0,0,1727,86,0,0,0,76,839,1727,1,9,0.51280000000000003,null,1191185.3400000001,1907636.3499999999,19962756.620000001,1912987.4799999997,711985.07000000007,2807793.8900000006,991380.3899999999,1967400.28,4018562.66,5512776.5299999993,0,40984464.610000007,null,null,839,1636,0.51280000000000003,9]
[873,"South Shore                  ",0,0,0,0,0,0,688,34,0,0,0,10,196,688,1.034,5,0.28199999999999997,null,464437.33380000008,675342.72739999997,7157702.9515199987,779622.41324000002,241903.16260000001,1107165.3799999999,364526.73223999998,594411.05108,1644610.6670400002,1999350.26,0,15029072.678919999,null,null,196,695,0.28199999999999997,5]
[876,"Southern Worcester           ",0,0,0,0,0,0,1237,62,0,0,0,23,434,1237,1,7,0.36780000000000002,null,824483.9,1238691.1100000001,13080126.34,1365689.7299999997,451311.1,1996584.2000000002,659347.66,1163223.2,2865206.5999999996,3716752.09,0,27361415.929999996,null,null,434,1180,0.36780000000000002,7]
[878,"Tri County                   ",0,0,0,0,0,0,981,49,0,0,0,8,267,981,1.05,5,0.26919999999999999,null,672290.99700000021,971627.44350000017,10313894.808,1132519.2480000001,347928.94500000001,1577390.4,525291.08100000001,851290.07250000013,2380212.9539999994,2842429.1699999995,0,21614875.118999999,null,null,267,992,0.26919999999999999,5]
[879,"Upper Cape Cod               ",0,0,0,0,0,0,892,45,0,0,0,1,385,892,1,8,0.44409999999999999,null,602771.53,934971.07,9854417.1900000013,983484.50999999989,346157.69,1440186.1300000001,491816.58999999997,932633.1,2059905.56,2758022.82,0,20404366.190000001,null,null,385,867,0.44409999999999999,8]
[885,"Whittier                     ",0,0,0,0,0,0,1288,64,0,0,0,24,530,1288,1,7,0.4118,null,863614.84000000008,1322629.6800000002,13934284.239999998,1416451.9200000002,485195.4,2081045.72,699525.36,1278670.7999999998,2981344.6399999997,3927563.2600000002,0,28990325.859999999,null,null,530,1287,0.4118,7]
[910,"Bristol County               ",0,0,0,0,0,0,523,26,0,0,0,1,193,523,1,6,0.30299999999999999,null,345730.41000000003,517492.76,5473723.04,572909.39,188199.2,842083.75,276229,483544.10000000003,1206569.0799999998,1559047.02,0,11465527.75,null,null,193,637,0.30299999999999999,6]
[915,"Norfolk County               ",0,0,0,0,0,0,271,14,0,0,0,2,135,271,1.0449999999999999,4,0.22539999999999999,null,190451.03055000002,286390.36965000001,3028976.4317999994,316150.76789999998,105038.67659999999,437261.36000000004,152029.91265000001,273717.82185000001,656053.57069999992,821157.62999999989,0,6267227.5716999993,null,null,135,599,0.22539999999999999,4]
[999,"State Total",21890,2349,58624,326832,203341,229811,59819,35776,8203,71335,19470,27478,400805,890622,1,0,0,null,643470596.35572994,1018897922.3172003,6714813494.4597692,1126809523.5489202,281766540.5087201,690786304.62000072,516646633.06221032,762161143.92741108,1260366604.2375898,2492241693.110003,322221058.63999993,15830181514.78756]

{"sheet":"RegPivot","index":18,"n_rows":547,"n_cols":18,"rows_kept":547,"cut":false,"hidden":true,"merged":[]}
[]
[null,null,null,null,null,null,null,null,1,2,3,4,5,6,7,8,9,10]
["LEA","School District","Town","City or Town","Sum of Enrollment27","Sum of Budget27","Sum of Contribution272",null,"Lookup","LEA","District","Town ID","Member city or town","Foundation enrollment","Foundation budget ","Required contribution","Chapter 70 \nAid","Required net school spending"]
[406,"Northampton Smith",210,"Northampton                  ",126,4055138.3600000003,3345489,null,{"$f":"IF(L4=0,J4&999,J4&TEXT(L4,\"000\"))","v":"406210"},{"$f":"VALUE(LEFT(A4,3))","v":406},{"$f":"B4","v":"Northampton Smith"},{"$f":"C4","v":210},{"$f":"D4","v":"Northampton                  "},{"$f":"E4","v":126},{"$f":"F4","v":4055138.3600000003},3345489]
["406 Total",null,null,null,126,4055138.3600000003,3345489,null,{"$f":"IF(L5=0,J5&999,J5&TEXT(L5,\"000\"))","v":"406999"},{"$f":"VALUE(LEFT(A5,3))","v":406},{"$f":"B5","v":0},{"$f":"C5","v":0},{"$f":"D5","v":0},{"$f":"E5","v":126},{"$f":"F5","v":4055138.3600000003},{"$f":"G5","v":3345489},{"$f":"VLOOKUP($J5,aidcalc,25,FALSE)","v":973221},{"$f":"VLOOKUP($J5,aidcalc,27,FALSE)","v":4318710}]
[600,"Acton Boxborough",2,"Acton                        ",4002.9681617926099,57509134.071801566,47303894,null,"600002",600,"Acton Boxborough",2,"Acton                        ",4002.9681617926099,{"$f":"F6","v":57509134.071801566},47303894]
[600,"Acton Boxborough",37,"Boxborough                   ",874.03183820738991,12556885.824438425,9739459,null,"600037",600,"Acton Boxborough",37,"Boxborough                   ",874.03183820738991,12556885.824438425,9739459]
["600 Total",null,null,null,4877,70066019.896239996,57043353,null,"600999",600,0,0,0,4877,70066019.896239996,57043353,{"$f":"VLOOKUP($J8,aidcalc,25,FALSE)","v":17566746},{"$f":"VLOOKUP($J8,aidcalc,27,FALSE)","v":74610099}]
[603,"Hoosac Valley",4,"Adams                        ",815.27272726966999,14354337.039946169,4497272,null,"603004",603,"Hoosac Valley",4,"Adams                        ",815.27272726966999,14354337.039946169,4497272]
[603,"Hoosac Valley",58,"Cheshire                     ",305.72727273033001,5382876.3900538282,2604870,null,"603058",603,"Hoosac Valley",58,"Cheshire                     ",305.72727273033001,5382876.3900538282,2604870]
["603 Total",null,null,null,1121,19737213.429999996,7102142,null,"603999",603,0,0,0,1121,19737213.429999996,7102142,{"$f":"VLOOKUP($J11,aidcalc,25,FALSE)","v":12635071},{"$f":"VLOOKUP($J11,aidcalc,27,FALSE)","v":19737213}]
[605,"Amherst Pelham",8,"Amherst                      ",1009.0000000061799,15947980.84146345,12594684,null,"605008",605,"Amherst Pelham",8,"Amherst                      ",1009.0000000061799,15947980.84146345,12594684]
[605,"Amherst Pelham",154,"Leverett                     ",94.999999994899994,1501544.2813165647,1198764,null,"605154",605,"Amherst Pelham",154,"Leverett                     ",94.999999994899994,1501544.2813165647,1198764]
[605,"Amherst Pelham",230,"Pelham                       ",80.000000001740005,1264458.3422567011,853045,null,"605230",605,"Amherst Pelham",230,"Pelham                       ",80.000000001740005,1264458.3422567011,853045]
[605,"Amherst Pelham",272,"Shutesbury                   ",89.999999997179998,1422515.6349632768,959536,null,"605272",605,"Amherst Pelham",272,"Shutesbury                   ",89.999999997179998,1422515.6349632768,959536]
["605 Total",null,null,null,1274,20136499.099999994,15606029,null,"605999",605,0,0,0,1274,20136499.099999994,15606029,{"$f":"VLOOKUP($J16,aidcalc,25,FALSE)","v":10168360.999999108},{"$f":"VLOOKUP($J16,aidcalc,27,FALSE)","v":25774389.999999106}]
[610,"Ashburnham Westminster",11,"Ashburnham                   ",982.11320754455994,14044455.834176518,6566149,null,"610011",610,"Ashburnham Westminster",11,"Ashburnham                   ",982.11320754455994,14044455.834176518,6566149]
[610,"Ashburnham Westminster",328,"Westminster                  ",1201.8867924554399,17187271.125823487,9811890,null,"610328",610,"Ashburnham Westminster",328,"Westminster                  ",1201.8867924554399,17187271.125823487,9811890]
["610 Total",null,null,null,2184,31231726.960000005,16378039,null,"610999",610,0,0,0,2184,31231726.960000005,16378039,{"$f":"VLOOKUP($J19,aidcalc,25,FALSE)","v":16426437},{"$f":"VLOOKUP($J19,aidcalc,27,FALSE)","v":32804476}]
[615,"Athol Royalston",15,"Athol                        ",1664.9584026606001,29707191.686715238,4517866,null,"615015",615,"Athol Royalston",15,"Athol                        ",1664.9584026606001,29707191.686715238,4517866]
[615,"Athol Royalston",255,"Royalston                    ",105.0415973394,1874215.5132847617,768477,null,"615255",615,"Athol Royalston",255,"Royalston                    ",105.0415973394,1874215.5132847617,768477]
["615 Total",null,null,null,1770,31581407.199999999,5286343,null,"615999",615,0,0,0,1770,31581407.199999999,5286343,{"$f":"VLOOKUP($J22,aidcalc,25,FALSE)","v":26295064},{"$f":"VLOOKUP($J22,aidcalc,27,FALSE)","v":31581407}]
[616,"Ayer Shirley",19,"Ayer                         ",952.93716969835998,14328146.853214607,11283655,null,"616019",616,"Ayer Shirley",19,"Ayer                         ",952.93716969835998,14328146.853214607,11283655]
[616,"Ayer Shirley",270,"Shirley                      ",741.06283030164002,11142452.406785395,6672346,null,"616270",616,"Ayer Shirley",270,"Shirley                      ",741.06283030164002,11142452.406785395,6672346]
["616 Total",null,null,null,1694,25470599.260000002,17956001,null,"616999",616,0,0,0,1694,25470599.260000002,17956001,{"$f":"VLOOKUP($J25,aidcalc,25,FALSE)","v":9120383},{"$f":"VLOOKUP($J25,aidcalc,27,FALSE)","v":27076384}]
[618,"Berkshire Hills",113,"Great Barrington             ",652.71902655077997,11414551.678842165,9417005,null,"618113",618,"Berkshire Hills",113,"Great Barrington             ",652.71902655077997,11414551.678842165,9417005]
[618,"Berkshire Hills",283,"Stockbridge                  ",120.98230088237999,2115701.6564151328,1745454,null,"618283",618,"Berkshire Hills",283,"Stockbridge                  ",120.98230088237999,2115701.6564151328,1745454]
[618,"Berkshire Hills",333,"West Stockbridge             ",108.29867256684,1893894.2247427031,1562463,null,"618333",618,"Berkshire Hills",333,"West Stockbridge             ",108.29867256684,1893894.2247427031,1562463]
["618 Total",null,null,null,881.99999999999989,15424147.560000001,12724922,null,"618999",618,0,0,0,881.99999999999989,15424147.560000001,12724922,{"$f":"VLOOKUP($J29,aidcalc,25,FALSE)","v":3600317.9999986412},{"$f":"VLOOKUP($J29,aidcalc,27,FALSE)","v":16325239.99999864}]
[620,"Berlin Boylston",28,"Berlin                       ",402.86303939776997,5524540.9808751261,4199822,null,"620028",620,"Berlin Boylston",28,"Berlin                       ",402.86303939776997,5524540.9808751261,4199822]
[620,"Berlin Boylston",39,"Boylston                     ",660.13696060222992,9052589.4291248694,7365862,null,"620039",620,"Berlin Boylston",39,"Boylston                     ",660.13696060222992,9052589.4291248694,7365862]
["620 Total",null,null,null,1063,14577130.409999996,11565684,null,"620999",620,0,0,0,1063,14577130.409999996,11565684,{"$f":"VLOOKUP($J32,aidcalc,25,FALSE)","v":3229646},{"$f":"VLOOKUP($J32,aidcalc,27,FALSE)","v":14795330}]
[622,"Blackstone Millville",32,"Blackstone                   ",1195.52661596247,18461158.018438976,9535478,null,"622032",622,"Blackstone Millville",32,"Blackstone                   ",1195.52661596247,18461158.018438976,9535478]
[622,"Blackstone Millville",188,"Millville                    ",367.47338403753002,5674473.5915610231,2965826,null,"622188",622,"Blackstone Millville",188,"Millville                    ",367.47338403753002,5674473.5915610231,2965826]
["622 Total",null,null,null,1563,24135631.609999999,12501304,null,"622999",622,0,0,0,1563,24135631.609999999,12501304,{"$f":"VLOOKUP($J35,aidcalc,25,FALSE)","v":12197233},{"$f":"VLOOKUP($J35,aidcalc,27,FALSE)","v":24698537}]
[625,"Bridgewater Raynham",42,"Bridgewater                  ",3479.0763480871497,51300554.526255645,30753438,null,"625042",625,"Bridgewater Raynham",42,"Bridgewater                  ",3479.0763480871497,51300554.526255645,30753438]
[625,"Bridgewater Raynham",245,"Raynham                      ",2115.9236519128499,31200251.393744357,18851951,null,"625245",625,"Bridgewater Raynham",245,"Raynham                      ",2115.9236519128499,31200251.393744357,18851951]
["625 Total",null,null,null,5595,82500805.920000002,49605389,null,"625999",625,0,0,0,5595,82500805.920000002,49605389,{"$f":"VLOOKUP($J38,aidcalc,25,FALSE)","v":34629615},{"$f":"VLOOKUP($J38,aidcalc,27,FALSE)","v":84235004}]
[632,"Chesterfield Goshen",60,"Chesterfield                 ",63.318965517670001,913862.75388549641,729668,null,"632060",632,"Chesterfield Goshen",60,"Chesterfield                 ",63.318965517670001,913862.75388549641,729668]
[632,"Chesterfield Goshen",108,"Goshen                       ",49.681034482329999,717030.77611450339,454069,null,"632108",632,"Chesterfield Goshen",108,"Goshen                       ",49.681034482329999,717030.77611450339,454069]
["632 Total",null,null,null,113,1630893.5299999998,1183737,null,"632999",632,0,0,0,113,1630893.5299999998,1183737,{"$f":"VLOOKUP($J41,aidcalc,25,FALSE)","v":805097},{"$f":"VLOOKUP($J41,aidcalc,27,FALSE)","v":1988834}]
[635,"Central Berkshire",22,"Becket                       ",172.36662107039999,2774431.6621609237,2288906,null,"635022",635,"Central Berkshire",22,"Becket                       ",172.36662107039999,2774431.6621609237,2288906]
[635,"Central Berkshire",69,"Cummington                   ",50.232558139200002,808548.65580856323,578323,null,"635069",635,"Central Berkshire",69,"Cummington                   ",50.232558139200002,808548.65580856323,578323]
[635,"Central Berkshire",70,"Dalton                       ",822.43502052479994,13238002.502131887,6294439,null,"635070",635,"Central Berkshire",70,"Dalton                       ",822.43502052479994,13238002.502131887,6294439]
[635,"Central Berkshire",132,"Hinsdale                     ",209.7948016368,3376879.6800871091,2411729,null,"635132",635,"Central Berkshire",132,"Hinsdale                     ",209.7948016368,3376879.6800871091,2411729]
[635,"Central Berkshire",233,"Peru                         ",82.735978118399998,1331727.1979114143,671970,null,"635233",635,"Central Berkshire",233,"Peru                         ",82.735978118399998,1331727.1979114143,671970]
[635,"Central Berkshire",313,"Washington                   ",45.307797537600003,729279.17975344497,601655,null,"635313",635,"Central Berkshire",313,"Washington                   ",45.307797537600003,729279.17975344497,601655]
[635,"Central Berkshire",345,"Windsor                      ",57.127222987200007,919525.92237844248,740305,null,"635345",635,"Central Berkshire",345,"Windsor                      ",57.127222987200007,919525.92237844248,740305]
["635 Total",null,null,null,1440.0000000143998,23178394.800231785,13587327,null,"635999",635,0,0,0,1440.0000000143998,23178394.800231785,13587327,{"$f":"VLOOKUP($J49,aidcalc,25,FALSE)","v":10188937.00000108},{"$f":"VLOOKUP($J49,aidcalc,27,FALSE)","v":23776264.00000108}]
[640,"Concord Carlisle",51,"Carlisle                     ",300.20707964016003,4533893.2275930997,3692983,null,"640051",640,"Concord Carlisle",51,"Carlisle                     ",300.20707964016003,4533893.2275930997,3692983]
[640,"Concord Carlisle",67,"Concord                      ",881.79292035984008,13317324.010316899,10986792,null,"640067",640,"Concord Carlisle",67,"Concord                      ",881.79292035984008,13317324.010316899,10986792]
["640 Total",null,null,null,1182,17851217.237909999,14679775,null,"640999",640,0,0,0,1182,17851217.237909999,14679775,{"$f":"VLOOKUP($J52,aidcalc,25,FALSE)","v":3699123},{"$f":"VLOOKUP($J52,aidcalc,27,FALSE)","v":18378898}]
[645,"Dennis Yarmouth",75,"Dennis                       ",977.69933453792009,17649105.589480229,14560512,null,"645075",645,"Dennis Yarmouth",75,"Dennis                       ",977.69933453792009,17649105.589480229,14560512]
[645,"Dennis Yarmouth",351,"Yarmouth                     ",2264.3006654620804,40874408.030519776,30048939,null,"645351",645,"Dennis Yarmouth",351,"Yarmouth                     ",2264.3006654620804,40874408.030519776,30048939]
["645 Total",null,null,null,3242.0000000000005,58523513.620000005,44609451,null,"645999",645,0,0,0,3242.0000000000005,58523513.620000005,44609451,{"$f":"VLOOKUP($J55,aidcalc,25,FALSE)","v":14199435},{"$f":"VLOOKUP($J55,aidcalc,27,FALSE)","v":58808886}]
[650,"Dighton Rehoboth",76,"Dighton                      ",1087.2875637505799,15714826.145815339,8671263,null,"650076",650,"Dighton Rehoboth",76,"Dighton                      ",1087.2875637505799,15714826.145815339,8671263]
[650,"Dighton Rehoboth",247,"Rehoboth                     ",1450.7124362494201,20967492.39418466,17298181,null,"650247",650,"Dighton Rehoboth",247,"Rehoboth                     ",1450.7124362494201,20967492.39418466,17298181]
["650 Total",null,null,null,2538,36682318.539999999,25969444,null,"650999",650,0,0,0,2538,36682318.539999999,25969444,{"$f":"VLOOKUP($J58,aidcalc,25,FALSE)","v":14195778},{"$f":"VLOOKUP($J58,aidcalc,27,FALSE)","v":40165222}]
[655,"Dover Sherborn",78,"Dover                        ",586.19485294380002,8303175.4563376727,6850119,null,"655078",655,"Dover Sherborn",78,"Dover                        ",586.19485294380002,8303175.4563376727,6850119]
[655,"Dover Sherborn",269,"Sherborn                     ",528.80514705619998,7490277.1598423226,6179479,null,"655269",655,"Dover Sherborn",269,"Sherborn                     ",528.80514705619998,7490277.1598423226,6179479]
["655 Total",null,null,null,1115,15793452.616179995,13029598,null,"655999",655,0,0,0,1115,15793452.616179995,13029598,{"$f":"VLOOKUP($J61,aidcalc,25,FALSE)","v":3026477},{"$f":"VLOOKUP($J61,aidcalc,27,FALSE)","v":16056075}]
[658,"Dudley Charlton",54,"Charlton                     ",1745.5568495187499,26987451.682943869,17196924,null,"658054",658,"Dudley Charlton",54,"Charlton                     ",1745.5568495187499,26987451.682943869,17196924]
[658,"Dudley Charlton",80,"Dudley                       ",1505.4431504812499,23275136.697056122,9037239,null,"658080",658,"Dudley Charlton",80,"Dudley                       ",1505.4431504812499,23275136.697056122,9037239]
["658 Total",null,null,null,3251,50262588.379999995,26234163,null,"658999",658,0,0,0,3251,50262588.379999995,26234163,{"$f":"VLOOKUP($J64,aidcalc,25,FALSE)","v":26066862},{"$f":"VLOOKUP($J64,aidcalc,27,FALSE)","v":52301025}]
[660,"Nauset",41,"Brewster                     ",510.93235831880003,8188944.1782562137,6755879,null,"660041",660,"Nauset",41,"Brewster                     ",510.93235831880003,8188944.1782562137,6755879]
[660,"Nauset",85,"Eastham                      ",218.39853747271999,3500372.2172964881,2887807,null,"660085",660,"Nauset",85,"Eastham                      ",218.39853747271999,3500372.2172964881,2887807]
[660,"Nauset",224,"Orleans                      ",240.43875685783999,3853620.7897986285,3179237,null,"660224",660,"Nauset",224,"Orleans                      ",240.43875685783999,3853620.7897986285,3179237]
[660,"Nauset",318,"Wellfleet                    ",126.23034735064,2023150.9146486714,1669100,null,"660318",660,"Nauset",318,"Wellfleet                    ",126.23034735064,2023150.9146486714,1669100]
["660 Total",null,null,null,1096,17566088.100000001,14492023,null,{"$f":"IF(L69=0,J69&999,J69&TEXT(L69,\"000\"))","v":"660999"},{"$f":"VALUE(LEFT(A69,3))","v":660},{"$f":"B69","v":0},{"$f":"C69","v":0},{"$f":"D69","v":0},{"$f":"E69","v":1096},{"$f":"F69","v":17566088.100000001},{"$f":"G69","v":14492023},{"$f":"VLOOKUP($J69,aidcalc,25,FALSE)","v":4082928.9999996317},{"$f":"VLOOKUP($J69,aidcalc,27,FALSE)","v":18574951.999999631}]
[662,"Farmington River",225,"Otis                         ",113.4213197978,1741602.4955459803,1436822,null,"662225",662,"Farmington River",225,"Otis                         ",113.4213197978,1741602.4955459803,1436822]
[662,"Farmington River",260,"Sandisfield                  ",82.578680202200005,1268008.8344540193,1046107,null,"662260",662,"Farmington River",260,"Sandisfield                  ",82.578680202200005,1268008.8344540193,1046107]
["662 Total",null,null,null,196,3009611.3299999996,2482929,null,"662999",662,0,0,0,196,3009611.3299999996,2482929,{"$f":"VLOOKUP($J72,aidcalc,25,FALSE)","v":782894},{"$f":"VLOOKUP($J72,aidcalc,27,FALSE)","v":3265823}]
[665,"Freetown Lakeville",102,"Freetown                     ",1128.6706151961901,15897762.986807531,11648144,null,"665102",665,"Freetown Lakeville",102,"Freetown                     ",1128.6706151961901,15897762.986807531,11648144]
[665,"Freetown Lakeville",146,"Lakeville                    ",1478.3293848038102,20822842.253192466,15688333,null,"665146",665,"Freetown Lakeville",146,"Lakeville                    ",1478.3293848038102,20822842.253192466,15688333]
["665 Total",null,null,null,2607,36720605.239999995,27336477,null,"665999",665,0,0,0,2607,36720605.239999995,27336477,{"$f":"VLOOKUP($J75,aidcalc,25,FALSE)","v":12528864},{"$f":"VLOOKUP($J75,aidcalc,27,FALSE)","v":39865341}]
[670,"Frontier",68,"Conway                       ",65.999999997700002,1004657.8023479682,828843,null,"670068",670,"Frontier",68,"Conway                       ",65.999999997700002,1004657.8023479682,828843]
[670,"Frontier",74,"Deerfield                    ",214.00000000179998,3257526.813814634,2687460,null,"670074",670,"Frontier",74,"Deerfield                    ",214.00000000179998,3257526.813814634,2687460]
[670,"Frontier",289,"Sunderland                   ",136.00000000110001,2070203.9564422767,1644059,null,"670289",670,"Frontier",289,"Sunderland                   ",136.00000000110001,2070203.9564422767,1644059]
[670,"Frontier",337,"Whately                      ",53.999999999400004,821992.74739512219,624450,null,"670337",670,"Frontier",337,"Whately                      ",53.999999999400004,821992.74739512219,624450]
["670 Total",null,null,null,470.00000000000006,7154381.3200000012,5784812,null,"670999",670,0,0,0,470.00000000000006,7154381.3200000012,5784812,{"$f":"VLOOKUP($J80,aidcalc,25,FALSE)","v":3088277.0000007078},{"$f":"VLOOKUP($J80,aidcalc,27,FALSE)","v":8873089.0000007078}]
[672,"Gateway",33,"Blandford                    ",104.14285714223999,1740548.0350917261,1189320,null,"672033",672,"Gateway",33,"Blandford                    ",104.14285714223999,1740548.0350917261,1189320]
[672,"Gateway",59,"Chester                      ",117.6428571444,1966174.6322706835,984431,null,"672059",672,"Gateway",59,"Chester                      ",117.6428571444,1966174.6322706835,984431]
[672,"Gateway",143,"Huntington                   ",253.60714285451999,4238556.789139837,1775129,null,"672143",672,"Gateway",143,"Huntington                   ",253.60714285451999,4238556.789139837,1775129]
[672,"Gateway",183,"Middlefield                  ",18.321428573280002,306207.52472482057,252621,null,"672183",672,"Gateway",183,"Middlefield                  ",18.321428573280002,306207.52472482057,252621]
[672,"Gateway",194,"Montgomery                   ",67.500000003240004,1128132.9857684358,840940,null,"672194",672,"Gateway",194,"Montgomery                   ",67.500000003240004,1128132.9857684358,840940]
[672,"Gateway",256,"Russell                      ",194.78571428231999,3255469.4730044948,1367972,null,"672256",672,"Gateway",256,"Russell                      ",194.78571428231999,3255469.4730044948,1367972]
["672 Total",null,null,null,756,12635089.439999998,6410413,null,"672999",672,0,0,0,756,12635089.439999998,6410413,{"$f":"VLOOKUP($J87,aidcalc,25,FALSE)","v":6397530.0000011194},{"$f":"VLOOKUP($J87,aidcalc,27,FALSE)","v":12807943.000001119}]
[673,"Groton Dunstable",81,"Dunstable                    ",529.92879120975999,7151503.4914152706,5752429,null,"673081",673,"Groton Dunstable",81,"Dunstable                    ",529.92879120975999,7151503.4914152706,5752429]
[673,"Groton Dunstable",115,"Groton                       ",1674.07120879024,22591952.528584722,18543664,null,"673115",673,"Groton Dunstable",115,"Groton                       ",1674.07120879024,22591952.528584722,18543664]
["673 Total",null,null,null,2204,29743456.019999992,24296093,null,"673999",673,0,0,0,2204,29743456.019999992,24296093,{"$f":"VLOOKUP($J90,aidcalc,25,FALSE)","v":11996603},{"$f":"VLOOKUP($J90,aidcalc,27,FALSE)","v":36292696}]
[674,"Gill Montague",106,"Gill                         ",115.74353205503999,2069899.492671662,1188591,null,"674106",674,"Gill Montague",106,"Gill                         ",115.74353205503999,2069899.492671662,1188591]
[674,"Gill Montague",192,"Montague                     ",756.25646794495992,13524512.787328336,6660658,null,"674192",674,"Gill Montague",192,"Montague                     ",756.25646794495992,13524512.787328336,6660658]
["674 Total",null,null,null,871.99999999999989,15594412.279999997,7849249,null,"674999",674,0,0,0,871.99999999999989,15594412.279999997,7849249,{"$f":"VLOOKUP($J93,aidcalc,25,FALSE)","v":8135223},{"$f":"VLOOKUP($J93,aidcalc,27,FALSE)","v":15984472}]
[675,"Hamilton Wenham",119,"Hamilton                     ",1096.7513290091999,14906699.869793219,11895520,null,"675119",675,"Hamilton Wenham",119,"Hamilton                     ",1096.7513290091999,14906699.869793219,11895520]
[675,"Hamilton Wenham",320,"Wenham                       ",591.24867099079995,8036066.3841967778,6268277,null,"675320",675,"Hamilton Wenham",320,"Wenham                       ",591.24867099079995,8036066.3841967778,6268277]
["675 Total",null,null,null,1688,22942766.253989998,18163797,null,"675999",675,0,0,0,1688,22942766.253989998,18163797,{"$f":"VLOOKUP($J96,aidcalc,25,FALSE)","v":4778969},{"$f":"VLOOKUP($J96,aidcalc,27,FALSE)","v":22942766}]
[680,"Hampden Wilbraham",120,"Hampden                      ",567.95711143702999,8187895.8354886882,6507250,null,"680120",680,"Hampden Wilbraham",120,"Hampden                      ",567.95711143702999,8187895.8354886882,6507250]
[680,"Hampden Wilbraham",339,"Wilbraham                    ",2155.0428885629699,31067956.254511315,20639885,null,"680339",680,"Hampden Wilbraham",339,"Wilbraham                    ",2155.0428885629699,31067956.254511315,20639885]
["680 Total",null,null,null,2723,39255852.090000004,27147135,null,"680999",680,0,0,0,2723,39255852.090000004,27147135,{"$f":"VLOOKUP($J99,aidcalc,25,FALSE)","v":13247755},{"$f":"VLOOKUP($J99,aidcalc,27,FALSE)","v":40394890}]
[683,"Hampshire",60,"Chesterfield                 ",32.999999998349999,486072.30080471188,388101,null,"683060",683,"Hampshire",60,"Chesterfield                 ",32.999999998349999,486072.30080471188,388101]
[683,"Hampshire",108,"Goshen                       ",34.000000000230003,500801.76449388859,317139,null,"683108",683,"Hampshire",108,"Goshen                       ",34.000000000230003,500801.76449388859,317139]
[683,"Hampshire",275,"Southampton                  ",318.99999999756,4698698.9079778763,3516248,null,"683275",683,"Hampshire",275,"Southampton                  ",318.99999999756,4698698.9079778763,3516248]
[683,"Hampshire",327,"Westhampton                  ",77.000000000010004,1134168.7019345169,935689,null,"683327",683,"Hampshire",327,"Westhampton                  ",77.000000000010004,1134168.7019345169,935689]
[683,"Hampshire",340,"Williamsburg                 ",115.99999999806001,1708617.7847037218,1306356,null,"683340",683,"Hampshire",340,"Williamsburg                 ",115.99999999806001,1708617.7847037218,1306356]
["683 Total",null,null,null,578.99999999421004,8528359.459914716,6463533,null,"683999",683,0,0,0,578.99999999421004,8528359.459914716,6463533,{"$f":"VLOOKUP($J105,aidcalc,25,FALSE)","v":3553842.0000002775},{"$f":"VLOOKUP($J105,aidcalc,27,FALSE)","v":10017375.000000278}]
[685,"Hawlemont",53,"Charlemont                   ",69.365853658709995,1153047.3190272728,695808,null,"685053",685,"Hawlemont",53,"Charlemont                   ",69.365853658709995,1153047.3190272728,695808]
[685,"Hawlemont",129,"Hawley                       ",9.6341463412900001,160145.4609727271,112452,null,"685129",685,"Hawlemont",129,"Hawley                       ",9.6341463412900001,160145.4609727271,112452]
["685 Total",null,null,null,79,1313192.7799999998,808260,null,"685999",685,0,0,0,79,1313192.7799999998,808260,{"$f":"VLOOKUP($J108,aidcalc,25,FALSE)","v":675895},{"$f":"VLOOKUP($J108,aidcalc,27,FALSE)","v":1484155}]
[690,"King Philip",208,"Norfolk                      ",680.20010816765,9894445.3531881813,7919389,null,"690208",690,"King Philip",208,"Norfolk                      ",680.20010816765,9894445.3531881813,7919389]
[690,"King Philip",238,"Plainville                   ",488.58031369174995,7107072.1048386823,5825585,null,"690238",690,"King Philip",238,"Plainville                   ",488.58031369174995,7107072.1048386823,5825585]
[690,"King Philip",350,"Wrentham                     ",686.21957815915005,9982006.816602964,8179844,null,"690350",690,"King Philip",350,"Wrentham                     ",686.21957815915005,9982006.816602964,8179844]
["690 Total",null,null,null,1855.0000000185501,26983524.274629828,21924818,null,"690999",690,0,0,0,1855.0000000185501,26983524.274629828,21924818,{"$f":"VLOOKUP($J112,aidcalc,25,FALSE)","v":8518302.9999990761},{"$f":"VLOOKUP($J112,aidcalc,27,FALSE)","v":30443120.999999076}]
[695,"Lincoln Sudbury",157,"Lincoln                      ",189.63439194630001,2745796.2783413697,2265282,null,"695157",695,"Lincoln Sudbury",157,"Lincoln                      ",189.63439194630001,2745796.2783413697,2265282]
[695,"Lincoln Sudbury",288,"Sudbury                      ",1217.3656080537,17626749.671658628,14542068,null,"695288",695,"Lincoln Sudbury",288,"Sudbury                      ",1217.3656080537,17626749.671658628,14542068]
["695 Total",null,null,null,1407,20372545.949999996,16807350,null,"695999",695,0,0,0,1407,20372545.949999996,16807350,{"$f":"VLOOKUP($J115,aidcalc,25,FALSE)","v":4331342},{"$f":"VLOOKUP($J115,aidcalc,27,FALSE)","v":21138692}]
[698,"Manchester Essex",92,"Essex                        ",457.8403755878,6445716.8849286167,5317717,null,"698092",698,"Manchester Essex",92,"Essex                        ",457.8403755878,6445716.8849286167,5317717]
[698,"Manchester Essex",166,"Manchester                   ",602.15962441220006,8477518.9464513827,6993953,null,"698166",698,"Manchester Essex",166,"Manchester                   ",602.15962441220006,8477518.9464513827,6993953]
["698 Total",null,null,null,1060,14923235.831379998,12311670,null,"698999",698,0,0,0,1060,14923235.831379998,12311670,{"$f":"VLOOKUP($J118,aidcalc,25,FALSE)","v":3594166},{"$f":"VLOOKUP($J118,aidcalc,27,FALSE)","v":15905836}]
[700,"Marthas Vineyard",62,"Chilmark                     ",32.000000000989999,624508.37363747822,515220,null,"700062",700,"Marthas Vineyard",62,"Chilmark                     ",32.000000000989999,624508.37363747822,515220]
[700,"Marthas Vineyard",89,"Edgartown                    ",210.00000000322001,4098336.201932,3381127,null,"700089",700,"Marthas Vineyard",89,"Edgartown                    ",210.00000000322001,4098336.201932,3381127]
[700,"Marthas Vineyard",104,"Aquinnah",12.9999999997,253706.52677652173,209308,null,"700104",700,"Marthas Vineyard",104,"Aquinnah",12.9999999997,253706.52677652173,209308]
[700,"Marthas Vineyard",221,"Oak Bluffs                   ",191.99999999844999,3747050.2416786952,3091316,null,"700221",700,"Marthas Vineyard",221,"Oak Bluffs                   ",191.99999999844999,3747050.2416786952,3091316]
[700,"Marthas Vineyard",296,"Tisbury                      ",170.00000000010999,3317700.7348486083,2737103,null,"700296",700,"Marthas Vineyard",296,"Tisbury                      ",170.00000000010999,3317700.7348486083,2737103]
[700,"Marthas Vineyard",334,"West Tisbury                 ",131.99999999753001,2576097.0411266955,2125280,null,"700334",700,"Marthas Vineyard",334,"West Tisbury                 ",131.99999999753001,2576097.0411266955,2125280]
["700 Total",null,null,null,749,14617399.119999997,12059354,null,"700999",700,0,0,0,749,14617399.119999997,12059354,{"$f":"VLOOKUP($J125,aidcalc,25,FALSE)","v":3805563},{"$f":"VLOOKUP($J125,aidcalc,27,FALSE)","v":15864917}]
[705,"Masconomet",38,"Boxford",566.11807388472005,8101672.8535464499,6523205,null,"705038",705,"Masconomet",38,"Boxford",566.11807388472005,8101672.8535464499,6523205]
[705,"Masconomet",184,"Middleton                    ",481.95184696609999,6897176.3584374301,5690170,null,"705184",705,"Masconomet",184,"Middleton                    ",481.95184696609999,6897176.3584374301,5690170]
[705,"Masconomet",298,"Topsfield                    ",470.93007914917996,6739444.6744661173,5435263,null,"705298",705,"Masconomet",298,"Topsfield                    ",470.93007914917996,6739444.6744661173,5435263]
["705 Total",null,null,null,1519,21738293.886449996,17648638,null,"705999",705,0,0,0,1519,21738293.886449996,17648638,{"$f":"VLOOKUP($J129,aidcalc,25,FALSE)","v":5956478.0000022696},{"$f":"VLOOKUP($J129,aidcalc,27,FALSE)","v":23605116.000002269}]
[710,"Mendon Upton",179,"Mendon                       ",819.41644840384993,11266799.187962573,9295109,null,"710179",710,"Mendon Upton",179,"Mendon                       ",819.41644840384993,11266799.187962573,9295109]
[710,"Mendon Upton",303,"Upton                        ",1083.5835515961501,14899039.802037422,11998726,null,"710303",710,"Mendon Upton",303,"Upton                        ",1083.5835515961501,14899039.802037422,11998726]
["710 Total",null,null,null,1903,26165838.989999995,21293835,null,"710999",710,0,0,0,1903,26165838.989999995,21293835,{"$f":"VLOOKUP($J132,aidcalc,25,FALSE)","v":13395319},{"$f":"VLOOKUP($J132,aidcalc,27,FALSE)","v":34689154}]
[712,"Monomoy",55,"Chatham                      ",341.04427083837999,5482159.8411227893,4522782,null,{"$f":"IF(L133=0,J133&999,J133&TEXT(L133,\"000\"))","v":"712055"},{"$f":"VALUE(LEFT(A133,3))","v":712},{"$f":"B133","v":"Monomoy"},{"$f":"C133","v":55},{"$f":"D133","v":"Chatham                      "},{"$f":"E133","v":341.04427083837999},{"$f":"F133","v":5482159.8411227893},{"$f":"G133","v":4522782}]
[712,"Monomoy",126,"Harwich                      ",1172.95572916162,18854827.198877212,15555232,null,"712126",712,"Monomoy",126,"Harwich                      ",1172.95572916162,18854827.198877212,15555232]
["712 Total",null,null,null,1514,24336987.039999999,20078014,null,"712999",712,0,0,0,1514,24336987.039999999,20078014,{"$f":"VLOOKUP($J135,aidcalc,25,FALSE)","v":4738265},{"$f":"VLOOKUP($J135,aidcalc,27,FALSE)","v":24816279}]
[715,"Mount Greylock",148,"Lanesborough                 ",353.94177449020003,5081858.2521691099,3054039,null,"715148",715,"Mount Greylock",148,"Lanesborough                 ",353.94177449020003,5081858.2521691099,3054039]
[715,"Mount Greylock",341,"Williamstown                 ",701.05822550980008,10065719.237830894,8155261,null,"715341",715,"Mount Greylock",341,"Williamstown                 ",701.05822550980008,10065719.237830894,8155261]
["715 Total",null,null,null,1055,15147577.490000004,11209300,null,"715999",715,0,0,0,1055,15147577.490000004,11209300,{"$f":"VLOOKUP($J138,aidcalc,25,FALSE)","v":5212671},{"$f":"VLOOKUP($J138,aidcalc,27,FALSE)","v":16421971}]
[717,"Mohawk Trail",13,"Ashfield                     ",131.72727272669999,2170190.0735749798,1700087,null,"717013",717,"Mohawk Trail",13,"Ashfield                     ",131.72727272669999,2170190.0735749798,1700087]
[717,"Mohawk Trail",47,"Buckland                     ",150.81818181464999,2484710.3740457101,1427701,null,"717047",717,"Mohawk Trail",47,"Buckland                     ",150.81818181464999,2484710.3740457101,1427701]
[717,"Mohawk Trail",53,"Charlemont                   ",31.500000002100002,518958.49589174014,313166,null,"717053",717,"Mohawk Trail",53,"Charlemont                   ",31.500000002100002,518958.49589174014,313166]
[717,"Mohawk Trail",66,"Colrain                      ",148.90909091099999,2453258.3440834,1262391,null,"717066",717,"Mohawk Trail",66,"Colrain                      ",148.90909091099999,2453258.3440834,1262391]
[717,"Mohawk Trail",129,"Hawley                       ",10.500000003149999,172986.16533761015,121468,null,"717129",717,"Mohawk Trail",129,"Hawley                       ",10.500000003149999,172986.16533761015,121468]
[717,"Mohawk Trail",130,"Heath                        ",68.72727272985,1132273.0819125902,397370,null,"717130",717,"Mohawk Trail",130,"Heath                        ",68.72727272985,1132273.0819125902,397370]
[717,"Mohawk Trail",237,"Plainfield                   ",60.136363637700001,990738.9466583801,602159,null,"717237",717,"Mohawk Trail",237,"Plainfield                   ",60.136363637700001,990738.9466583801,602159]
[717,"Mohawk Trail",268,"Shelburne                    ",132.6818181822,2185916.0886166799,1760043,null,"717268",717,"Mohawk Trail",268,"Shelburne                    ",132.6818181822,2185916.0886166799,1760043]
["717 Total",null,null,null,735.00000000734997,12109031.570121091,7584385,null,"717999",717,0,0,0,735.00000000734997,12109031.570121091,7584385,{"$f":"VLOOKUP($J147,aidcalc,25,FALSE)","v":6427259.0000014473},{"$f":"VLOOKUP($J147,aidcalc,27,FALSE)","v":14011644.000001447}]
[720,"Narragansett",235,"Phillipston                  ",189.82189668737999,2959728.7753238771,1685661,null,"720235",720,"Narragansett",235,"Phillipston                  ",189.82189668737999,2959728.7753238771,1685661]
[720,"Narragansett",294,"Templeton                    ",1099.1781033126201,17138534.164676122,6249750,null,"720294",720,"Narragansett",294,"Templeton                    ",1099.1781033126201,17138534.164676122,6249750]
["720 Total",null,null,null,1289,20098262.939999998,7935411,null,"720999",720,0,0,0,1289,20098262.939999998,7935411,{"$f":"VLOOKUP($J150,aidcalc,25,FALSE)","v":13137592},{"$f":"VLOOKUP($J150,aidcalc,27,FALSE)","v":21073003}]
[725,"Nashoba",34,"Bolton                       ",990.68833334328997,13914177.272225391,11263144,null,"725034",725,"Nashoba",34,"Bolton                       ",990.68833334328997,13914177.272225391,11263144]
[725,"Nashoba",147,"Lancaster                    ",992.67966665670997,13942145.467467487,9532918,null,"725147",725,"Nashoba",147,"Lancaster                    ",992.67966665670997,13942145.467467487,9532918]
[725,"Nashoba",286,"Stow                         ",1003.6320000000001,14095970.542977121,11629175,null,"725286",725,"Nashoba",286,"Stow                         ",1003.6320000000001,14095970.542977121,11629175]
["725 Total",null,null,null,2987,41952293.282669999,32425237,null,"725999",725,0,0,0,2987,41952293.282669999,32425237,{"$f":"VLOOKUP($J154,aidcalc,25,FALSE)","v":10771923},{"$f":"VLOOKUP($J154,aidcalc,27,FALSE)","v":43197160}]
[728,"New Salem Wendell",206,"New Salem                    ",38.750000000310003,646417.7583385047,424927,null,"728206",728,"New Salem Wendell",206,"New Salem                    ",38.750000000310003,646417.7583385047,424927]
[728,"New Salem Wendell",319,"Wendell                      ",54.249999999690004,904984.86166149541,361058,null,"728319",728,"New Salem Wendell",319,"Wendell                      ",54.249999999690004,904984.86166149541,361058]
["728 Total",null,null,null,93,1551402.62,785985,null,"728999",728,0,0,0,93,1551402.62,785985,{"$f":"VLOOKUP($J157,aidcalc,25,FALSE)","v":945815},{"$f":"VLOOKUP($J157,aidcalc,27,FALSE)","v":1731800}]
[730,"Northboro Southboro",213,"Northborough                 ",755.28443357746005,11162541.87791626,9018124,null,"730213",730,"Northboro Southboro",213,"Northborough                 ",755.28443357746005,11162541.87791626,9018124]
[730,"Northboro Southboro",276,"Southborough                 ",478.71556642254001,7075059.8320837384,5632113,null,"730276",730,"Northboro Southboro",276,"Southborough                 ",478.71556642254001,7075059.8320837384,5632113]
["730 Total",null,null,null,1234,18237601.709999997,14650237,null,"730999",730,0,0,0,1234,18237601.709999997,14650237,{"$f":"VLOOKUP($J160,aidcalc,25,FALSE)","v":3766166},{"$f":"VLOOKUP($J160,aidcalc,27,FALSE)","v":18416403}]
[735,"North Middlesex",12,"Ashby                        ",352.66447367523,5167873.4842866845,3041718,null,"735012",735,"North Middlesex",12,"Ashby                        ",352.66447367523,5167873.4842866845,3041718]
[735,"North Middlesex",232,"Pepperell                    ",1404.6973684335298,20584149.597274259,12896303,null,"735232",735,"North Middlesex",232,"Pepperell                    ",1404.6973684335298,20584149.597274259,12896303]
[735,"North Middlesex",299,"Townsend                     ",1111.6381578912401,16289719.518439068,8592110,null,"735299",735,"North Middlesex",299,"Townsend                     ",1111.6381578912401,16289719.518439068,8592110]
["735 Total",null,null,null,2869,42041742.600000009,24530131,null,"735999",735,0,0,0,2869,42041742.600000009,24530131,{"$f":"VLOOKUP($J164,aidcalc,25,FALSE)","v":21839054.000000898},{"$f":"VLOOKUP($J164,aidcalc,27,FALSE)","v":46369185.000000894}]
[740,"Old Rochester",169,"Marion                       ",295.99999999950995,4485512.1030678656,3700548,null,"740169",740,"Old Rochester",169,"Marion                       ",295.99999999950995,4485512.1030678656,3700548]
[740,"Old Rochester",173,"Mattapoisett                 ",304.99999999615,4621895.9169618059,3813064,null,"740173",740,"Old Rochester",173,"Mattapoisett                 ",304.99999999615,4621895.9169618059,3813064]
[740,"Old Rochester",250,"Rochester                    ",342.00000000434,5182584.9299703268,3787240,null,"740250",740,"Old Rochester",250,"Rochester                    ",342.00000000434,5182584.9299703268,3787240]
["740 Total",null,null,null,942.99999999999989,14289992.949999999,11300852,null,"740999",740,0,0,0,942.99999999999989,14289992.949999999,11300852,{"$f":"VLOOKUP($J168,aidcalc,25,FALSE)","v":3781445.999998563},{"$f":"VLOOKUP($J168,aidcalc,27,FALSE)","v":15082297.999998562}]
[745,"Pentucket",116,"Groveland                    ",903.68925334536004,12281273.4155271,9175614,null,"745116",745,"Pentucket",116,"Groveland                    ",903.68925334536004,12281273.4155271,9175614]
[745,"Pentucket",180,"Merrimac                     ",814.11653000701995,11063966.57933403,8394703,null,"745180",745,"Pentucket",180,"Merrimac                     ",814.11653000701995,11063966.57933403,8394703]
[745,"Pentucket",329,"West Newbury                 ",588.19421667068002,7993648.2254522545,6345608,null,"745329",745,"Pentucket",329,"West Newbury                 ",588.19421667068002,7993648.2254522545,6345608]
["745 Total",null,null,null,2306.0000000230598,31338888.220313385,23915925,null,"745999",745,0,0,0,2306.0000000230598,31338888.220313385,23915925,{"$f":"VLOOKUP($J172,aidcalc,25,FALSE)","v":14274940.00000173},{"$f":"VLOOKUP($J172,aidcalc,27,FALSE)","v":38190865.000001729}]
[750,"Pioneer",29,"Bernardston                  ",229.55854126919999,3424454.3414946166,1984405,null,"750029",750,"Pioneer",29,"Bernardston                  ",229.55854126919999,3424454.3414946166,1984405]
[750,"Pioneer",156,"Leyden                       ",66.871401152399997,997558.43861031299,518902,null,"750156",750,"Pioneer",156,"Leyden                       ",66.871401152399997,997558.43861031299,518902]
[750,"Pioneer",216,"Northfield                   ",223.57005758359998,3335120.7499726438,2688580,null,"750216",750,"Pioneer",216,"Northfield                   ",223.57005758359998,3335120.7499726438,2688580]
["750 Total",null,null,null,520.00000000520004,7757133.5300775729,5191887,null,"750999",750,0,0,0,520.00000000520004,7757133.5300775729,5191887,{"$f":"VLOOKUP($J176,aidcalc,25,FALSE)","v":4190899.0000003902},{"$f":"VLOOKUP($J176,aidcalc,27,FALSE)","v":9382786.0000003912}]
[753,"Quabbin",21,"Barre                        ",723.82265504520001,11126553.71322155,4441167,null,"753021",753,"Quabbin",21,"Barre                        ",723.82265504520001,11126553.71322155,4441167]
[753,"Quabbin",124,"Hardwick                     ",304.66529984730005,4683294.7265156377,1958382,null,"753124",753,"Quabbin",124,"Hardwick                     ",304.66529984730005,4683294.7265156377,1958382]
[753,"Quabbin",140,"Hubbardston                  ",540.44131213901994,8307627.9064285904,4661167,null,"753140",753,"Quabbin",140,"Hubbardston                  ",540.44131213901994,8307627.9064285904,4661167]
[753,"Quabbin",202,"New Braintree                ",97.997437218420004,1506410.087289568,1039439,null,"753202",753,"Quabbin",202,"New Braintree                ",97.997437218420004,1506410.087289568,1039439]
[753,"Quabbin",222,"Oakham                       ",226.07329575006,3475183.666544653,1957252,null,"753222",753,"Quabbin",222,"Oakham                       ",226.07329575006,3475183.666544653,1957252]
["753 Total",null,null,null,1892.9999999999998,29099070.099999998,14057407,null,"753999",753,0,0,0,1892.9999999999998,29099070.099999998,14057407,{"$f":"VLOOKUP($J182,aidcalc,25,FALSE)","v":17563637.000001181},{"$f":"VLOOKUP($J182,aidcalc,27,FALSE)","v":31621044.000001181}]
[755,"Ralph C Mahar",206,"New Salem                    ",31.00000000272,572360.90030532214,376245,null,"755206",755,"Ralph C Mahar",206,"New Salem                    ",31.00000000272,572360.90030532214,376245]
[755,"Ralph C Mahar",223,"Orange                       ",455.00000000028001,8400780.9553623125,2253642,null,"755223",755,"Ralph C Mahar",223,"Orange                       ",455.00000000028001,8400780.9553623125,2253642]
[755,"Ralph C Mahar",234,"Petersham                    ",62.99999999832,1163185.0553261247,645572,null,"755234",755,"Ralph C Mahar",234,"Petersham                    ",62.99999999832,1163185.0553261247,645572]
[755,"Ralph C Mahar",319,"Wendell                      ",38.999999998680003,720066.93900624081,287282,null,"755319",755,"Ralph C Mahar",319,"Wendell                      ",38.999999998680003,720066.93900624081,287282]
["755 Total",null,null,null,588,10856393.85,3562741,null,"755999",755,0,0,0,588,10856393.85,3562741,{"$f":"VLOOKUP($J187,aidcalc,25,FALSE)","v":7293653},{"$f":"VLOOKUP($J187,aidcalc,27,FALSE)","v":10856394}]
[760,"Silver Lake",118,"Halifax                      ",543.23790088176008,8937254.0254192241,5142132,null,"760118",760,"Silver Lake",118,"Halifax                      ",543.23790088176008,8937254.0254192241,5142132]
[760,"Silver Lake",145,"Kingston                     ",960.80874635993996,15807055.844456621,10771184,null,"760145",760,"Silver Lake",145,"Kingston                     ",960.80874635993996,15807055.844456621,10771184]
[760,"Silver Lake",240,"Plympton                     ",192.95335277526999,3174434.4899533475,2168119,null,"760240",760,"Silver Lake",240,"Plympton                     ",192.95335277526999,3174434.4899533475,2168119]
["760 Total",null,null,null,1697.0000000169703,27918744.359829191,18081435,null,"760999",760,0,0,0,1697.0000000169703,27918744.359829191,18081435,{"$f":"VLOOKUP($J191,aidcalc,25,FALSE)","v":10923933.000001272},{"$f":"VLOOKUP($J191,aidcalc,27,FALSE)","v":29005368.000001274}]
[763,"Somerset Berkley",27,"Berkley                      ",229.77277840279999,3690552.3980218587,2288409,null,"763027",763,"Somerset Berkley",27,"Berkley                      ",229.77277840279999,3690552.3980218587,2288409]
[763,"Somerset Berkley",273,"Somerset                     ",662.22722159720001,10636526.561978139,6039738,null,"763273",763,"Somerset Berkley",273,"Somerset                     ",662.22722159720001,10636526.561978139,6039738]
["763 Total",null,null,null,892,14327078.959999997,8328147,null,"763999",763,0,0,0,892,14327078.959999997,8328147,{"$f":"VLOOKUP($J194,aidcalc,25,FALSE)","v":7271001},{"$f":"VLOOKUP($J194,aidcalc,27,FALSE)","v":15599148}]
[765,"Southern Berkshire",6,"Alford                       ",18.304140127349999,290012.72824779706,239261,null,"765006",765,"Southern Berkshire",6,"Alford                       ",18.304140127349999,290012.72824779706,239261]
[765,"Southern Berkshire",90,"Egremont                     ",80.923566876899997,1282161.5353810426,1057783,null,"765090",765,"Southern Berkshire",90,"Egremont                     ",80.923566876899997,1282161.5353810426,1057783]
[765,"Southern Berkshire",193,"Monterey                     ",75.143312104300009,1190578.5686365804,982227,null,{"$f":"IF(L197=0,J197&999,J197&TEXT(L197,\"000\"))","v":"765193"},{"$f":"VALUE(LEFT(A197,3))","v":765},{"$f":"B197","v":"Southern Berkshire"},{"$f":"C197","v":193},{"$f":"D197","v":"Monterey                     "},{"$f":"E197","v":75.143312104300009},{"$f":"F197","v":1190578.5686365804},{"$f":"G197","v":982227}]
[765,"Southern Berkshire",205,"New Marlborough              ",107.89808916920001,1709548.7138413903,1410378,null,"765205",765,"Southern Berkshire",205,"New Marlborough              ",107.89808916920001,1709548.7138413903,1410378]
[765,"Southern Berkshire",267,"Sheffield                    ",322.73089172225002,5113382.3138931897,4098744,null,"765267",765,"Southern Berkshire",267,"Sheffield                    ",322.73089172225002,5113382.3138931897,4098744]
["765 Total",null,null,null,605,9585683.8599999994,7788393,null,"765999",765,0,0,0,605,9585683.8599999994,7788393,{"$f":"VLOOKUP($J200,aidcalc,25,FALSE)","v":2288969.9999993518},{"$f":"VLOOKUP($J200,aidcalc,27,FALSE)","v":10077362.999999352}]
[766,"Southwick Tolland",279,"Southwick                    ",1012.1508140488,15916207.513650887,11028016,null,"766279",766,"Southwick Tolland",279,"Southwick                    ",1012.1508140488,15916207.513650887,11028016]
[766,"Southwick Tolland",297,"Tolland                      ",18.200514133599999,286205.5296351781,236120,null,"766297",766,"Southwick Tolland",297,"Tolland                      ",18.200514133599999,286205.5296351781,236120]
[766,"Southwick Tolland Granville",112,"Granville                    ",149.64867180580001,2353245.4665283817,1618844,null,"766112",766,"Southwick Tolland Granville",112,"Granville                    ",149.64867180580001,2353245.4665283817,1618844]
["766 Total",null,null,null,1179.9999999882,18555658.509814445,12882980,null,"766999",766,0,0,0,1179.9999999882,18555658.509814445,12882980,{"$f":"VLOOKUP($J204,aidcalc,25,FALSE)","v":10258045.999999885},{"$f":"VLOOKUP($J204,aidcalc,27,FALSE)","v":23141025.999999885}]
[767,"Spencer East Brookfield",84,"East Brookfield              ",256.11278687956002,4396671.0691089481,2264903,null,"767084",767,"Spencer East Brookfield",84,"East Brookfield              ",256.11278687956002,4396671.0691089481,2264903]
[767,"Spencer East Brookfield",280,"Spencer                      ",1251.88721312044,21491063.990891054,9851695,null,"767280",767,"Spencer East Brookfield",280,"Spencer                      ",1251.88721312044,21491063.990891054,9851695]
["767 Total",null,null,null,1508,25887735.060000002,12116598,null,"767999",767,0,0,0,1508,25887735.060000002,12116598,{"$f":"VLOOKUP($J207,aidcalc,25,FALSE)","v":14419280},{"$f":"VLOOKUP($J207,aidcalc,27,FALSE)","v":26535878}]
[770,"Tantasqua",43,"Brimfield                    ",256.99999999959999,4396921.6470547998,2464140,null,"770043",770,"Tantasqua",43,"Brimfield                    ",256.99999999959999,4396921.6470547998,2464140]
[770,"Tantasqua",45,"Brookfield                   ",198.99999999559998,3404620.2636028035,1616247,null,"770045",770,"Tantasqua",45,"Brookfield                   ",198.99999999559998,3404620.2636028035,1616247]
[770,"Tantasqua",135,"Holland                      ",140.0000000016,2395210.2357807984,1457743,null,"770135",770,"Tantasqua",135,"Holland                      ",140.0000000016,2395210.2357807984,1457743]
[770,"Tantasqua",287,"Sturbridge                   ",747.00000000520004,12780157.472287595,7831278,null,"770287",770,"Tantasqua",287,"Sturbridge                   ",747.00000000520004,12780157.472287595,7831278]
[770,"Tantasqua",306,"Wales                        ",116.99999999800001,2001711.4112740017,790771,null,"770306",770,"Tantasqua",306,"Wales                        ",116.99999999800001,2001711.4112740017,790771]
["770 Total",null,null,null,1460,24978621.029999997,14160179,null,"770999",770,0,0,0,1460,24978621.029999997,14160179,{"$f":"VLOOKUP($J213,aidcalc,25,FALSE)","v":11797849},{"$f":"VLOOKUP($J213,aidcalc,27,FALSE)","v":25958028}]
[773,"Triton",203,"Newbury                      ",595.98278335506996,8840295.5489835162,7293244,null,"773203",773,"Triton",203,"Newbury                      ",595.98278335506996,8840295.5489835162,7293244]
[773,"Triton",254,"Rowley                       ",706.23959826880002,10475750.225442259,8591769,null,"773254",773,"Triton",254,"Rowley                       ",706.23959826880002,10475750.225442259,8591769]
[773,"Triton",259,"Salisbury                    ",774.77761835536,11492384.213586146,9481217,null,"773259",773,"Triton",259,"Salisbury                    ",774.77761835536,11492384.213586146,9481217]
["773 Total",null,null,null,2076.9999999792299,30808429.988011919,25366230,null,"773999",773,0,0,0,2076.9999999792299,30808429.988011919,25366230,{"$f":"VLOOKUP($J217,aidcalc,25,FALSE)","v":9800859.9999971092},{"$f":"VLOOKUP($J217,aidcalc,27,FALSE)","v":35167089.999997109}]
[774,"Upisland",62,"Chilmark                     ",70.818877551179995,1032800.1633186539,852060,null,"774062",774,"Upisland",62,"Chilmark                     ",70.818877551179995,1032800.1633186539,852060]
[774,"Upisland",104,"Aquinnah",44.885204082670001,654591.65282125084,540038,null,"774104",774,"Upisland",104,"Aquinnah",44.885204082670001,654591.65282125084,540038]
[774,"Upisland",334,"West Tisbury                 ",275.29591836614998,4014828.8038600953,3312234,null,"774334",774,"Upisland",334,"West Tisbury                 ",275.29591836614998,4014828.8038600953,3312234]
["774 Total",null,null,null,391,5702220.6200000001,4704332,null,"774999",774,0,0,0,391,5702220.6200000001,4704332,{"$f":"VLOOKUP($J221,aidcalc,25,FALSE)","v":1093737},{"$f":"VLOOKUP($J221,aidcalc,27,FALSE)","v":5798069}]
[775,"Wachusett",134,"Holden                       ",3033.9366336498701,41749546.428706884,25635809,null,"775134",775,"Wachusett",134,"Holden                       ",3033.9366336498701,41749546.428706884,25635809]
[775,"Wachusett",228,"Paxton                       ",597.62376237564001,8223810.852695507,5456275,null,"775228",775,"Wachusett",228,"Paxton                       ",597.62376237564001,8223810.852695507,5456275]
[775,"Wachusett",241,"Princeton                    ",446.22574256857996,6140445.4366073254,4648322,null,"775241",775,"Wachusett",241,"Princeton                    ",446.22574256857996,6140445.4366073254,4648322]
[775,"Wachusett",257,"Rutland                      ",1592.66732676116,21916455.922847442,10102963,null,"775257",775,"Wachusett",257,"Rutland                      ",1592.66732676116,21916455.922847442,10102963]
[775,"Wachusett",282,"Sterling                     ",868.54653464474995,11951938.439142823,9860350,null,"775282",775,"Wachusett",282,"Sterling                     ",868.54653464474995,11951938.439142823,9860350]
["775 Total",null,null,null,6539,89982197.079999983,55703719,null,"775999",775,0,0,0,6539,89982197.079999983,55703719,{"$f":"VLOOKUP($J227,aidcalc,25,FALSE)","v":38052138.000010028},{"$f":"VLOOKUP($J227,aidcalc,27,FALSE)","v":93755857.000010028}]
[778,"Quaboag",311,"Warren                       ",611.61352657502994,10514130.754675012,3393207,null,"778311",778,"Quaboag",311,"Warren                       ",611.61352657502994,10514130.754675012,3393207]
[778,"Quaboag",324,"West Brookfield              ",409.38647342497001,7037684.2953249896,4223509,null,"778324",778,"Quaboag",324,"West Brookfield              ",409.38647342497001,7037684.2953249896,4223509]
["778 Total",null,null,null,1021,17551815.050000001,7616716,null,"778999",778,0,0,0,1021,17551815.050000001,7616716,{"$f":"VLOOKUP($J230,aidcalc,25,FALSE)","v":10676590},{"$f":"VLOOKUP($J230,aidcalc,27,FALSE)","v":18293306}]
[780,"Whitman Hanson",123,"Hanson                       ",1329.74055636906,20113158.847509556,12892071,null,"780123",780,"Whitman Hanson",123,"Hanson                       ",1329.74055636906,20113158.847509556,12892071]
[780,"Whitman Hanson",338,"Whitman                      ",2069.25944363094,31298845.242490441,15191258,null,"780338",780,"Whitman Hanson",338,"Whitman                      ",2069.25944363094,31298845.242490441,15191258]
["780 Total",null,null,null,3399,51412004.089999996,28083329,null,"780999",780,0,0,0,3399,51412004.089999996,28083329,{"$f":"VLOOKUP($J233,aidcalc,25,FALSE)","v":26443071},{"$f":"VLOOKUP($J233,aidcalc,27,FALSE)","v":54526400}]
[801,"Assabet Valley",28,"Berlin                       ",37.99999999728,960201.66016446112,729957,null,"801028",801,"Assabet Valley",28,"Berlin                       ",37.99999999728,960201.66016446112,729957]
[801,"Assabet Valley",141,"Hudson                       ",186.99999999552,4725202.9068238186,3102618,null,"801141",801,"Assabet Valley",141,"Hudson                       ",186.99999999552,4725202.9068238186,3102618]
[801,"Assabet Valley",170,"Marlborough                  ",670.00000000488001,16929871.377919052,8331012,null,"801170",801,"Assabet Valley",170,"Marlborough                  ",670.00000000488001,16929871.377919052,8331012]
[801,"Assabet Valley",174,"Maynard                      ",58.00000000416,1465570.9551978826,1082149,null,"801174",801,"Assabet Valley",174,"Maynard                      ",58.00000000416,1465570.9551978826,1082149]
[801,"Assabet Valley",213,"Northborough                 ",66.0000000024,1667718.67309724,1347336,null,"801213",801,"Assabet Valley",213,"Northborough                 ",66.0000000024,1667718.67309724,1347336]
[801,"Assabet Valley",276,"Southborough                 ",29.999999999039996,758053.9422651038,603450,null,"801276",801,"Assabet Valley",276,"Southborough                 ",29.999999999039996,758053.9422651038,603450]
[801,"Assabet Valley",321,"Westborough                  ",78.999999996720007,1996208.7146124386,1646872,null,"801321",801,"Assabet Valley",321,"Westborough                  ",78.999999996720007,1996208.7146124386,1646872]
["801 Total",null,null,null,1128,28502828.230079997,16843394,null,"801999",801,0,0,0,1128,28502828.230079997,16843394,{"$f":"VLOOKUP($J241,aidcalc,25,FALSE)","v":11659434},{"$f":"VLOOKUP($J241,aidcalc,27,FALSE)","v":28502828}]
[805,"Blackstone Valley",25,"Bellingham                   ",77,1607945.7437120001,1098162,null,"805025",805,"Blackstone Valley",25,"Bellingham                   ",77,1607945.7437120001,1098162]
[805,"Blackstone Valley",32,"Blackstone                   ",60,1252944.73536,647166,null,"805032",805,"Blackstone Valley",32,"Blackstone                   ",60,1252944.73536,647166]
[805,"Blackstone Valley",77,"Douglas                      ",132,2756478.4177919999,1859022,null,"805077",805,"Blackstone Valley",77,"Douglas                      ",132,2756478.4177919999,1859022]
[805,"Blackstone Valley",110,"Grafton                      ",92,1921181.9275519999,1363298,null,"805110",805,"Blackstone Valley",110,"Grafton                      ",92,1921181.9275519999,1363298]
[805,"Blackstone Valley",138,"Hopedale                     ",65,1357356.7966399998,801305,null,"805138",805,"Blackstone Valley",138,"Hopedale                     ",65,1357356.7966399998,801305]
[805,"Blackstone Valley",179,"Mendon                       ",74,1545298.506944,1274871,null,"805179",805,"Blackstone Valley",179,"Mendon                       ",74,1545298.506944,1274871]
[805,"Blackstone Valley",185,"Milford                      ",204.00000000000003,4260012.1002240004,1655694,null,"805185",805,"Blackstone Valley",185,"Milford                      ",204.00000000000003,4260012.1002240004,1655694]
[805,"Blackstone Valley",186,"Millbury                     ",77,1607945.7437120001,1084378,null,"805186",805,"Blackstone Valley",186,"Millbury                     ",77,1607945.7437120001,1084378]
[805,"Blackstone Valley",188,"Millville                    ",22,459413.06963200006,240117,null,"805188",805,"Blackstone Valley",188,"Millville                    ",22,459413.06963200006,240117]
[805,"Blackstone Valley",214,"Northbridge                  ",167,3487362.846752,1976202,null,"805214",805,"Blackstone Valley",214,"Northbridge                  ",167,3487362.846752,1976202]
[805,"Blackstone Valley",290,"Sutton                       ",72,1503533.6824320001,1240415,null,"805290",805,"Blackstone Valley",290,"Sutton                       ",72,1503533.6824320001,1240415]
[805,"Blackstone Valley",303,"Upton                        ",94,1962946.7520640001,1580831,null,"805303",805,"Blackstone Valley",303,"Upton                        ",94,1962946.7520640001,1580831]
[805,"Blackstone Valley",304,"Uxbridge                     ",114,2380594.997184,1861710,null,"805304",805,"Blackstone Valley",304,"Uxbridge                     ",114,2380594.997184,1861710]
["805 Total",null,null,null,1250,26103015.320000004,16683171,null,"805999",805,0,0,0,1250,26103015.320000004,16683171,{"$f":"VLOOKUP($J255,aidcalc,25,FALSE)","v":9689571.999998115},{"$f":"VLOOKUP($J255,aidcalc,27,FALSE)","v":26372742.999998115}]
[806,"Blue Hills",18,"Avon                         ",67.072589383800008,1610894.5639479947,946050,null,"806018",806,"Blue Hills",18,"Avon                         ",67.072589383800008,1610894.5639479947,946050]
[806,"Blue Hills",40,"Braintree                    ",143.15492957303999,3438177.9497433067,2687182,null,"806040",806,"Blue Hills",40,"Braintree                    ",143.15492957303999,3438177.9497433067,2687182]
[806,"Blue Hills",50,"Canton                       ",91.098591553199995,2187931.422725318,1761641,null,"806050",806,"Blue Hills",50,"Canton                       ",91.098591553199995,2187931.422725318,1761641]
[806,"Blue Hills",73,"Dedham                       ",83.089924163399999,1995585.803132877,1646358,null,"806073",806,"Blue Hills",73,"Dedham                       ",83.089924163399999,1995585.803132877,1646358]
[806,"Blue Hills",133,"Holbrook                     ",125.13542795292,3005400.3058267534,1370754,null,"806133",806,"Blue Hills",133,"Holbrook                     ",125.13542795292,3005400.3058267534,1370754]
[806,"Blue Hills",189,"Milton                       ",38.041170099240006,913641.69300861552,730968,null,{"$f":"IF(L261=0,J261&999,J261&TEXT(L261,\"000\"))","v":"806189"},{"$f":"VALUE(LEFT(A261,3))","v":806},{"$f":"B261","v":"Blue Hills"},{"$f":"C261","v":189},{"$f":"D261","v":"Milton                       "},{"$f":"E261","v":38.041170099240006},{"$f":"F261","v":913641.69300861552},{"$f":"G261","v":730968}]
[806,"Blue Hills",220,"Norwood                      ",112.12134344796,2692838.6740722563,1923829,null,"806220",806,"Blue Hills",220,"Norwood                      ",112.12134344796,2692838.6740722563,1923829]
[806,"Blue Hills",244,"Randolph                     ",260.28169014539998,6251232.6361995377,3098886,null,"806244",806,"Blue Hills",244,"Randolph                     ",260.28169014539998,6251232.6361995377,3098886]
[806,"Blue Hills",335,"Westwood                     ",4.0043336902800002,96172.809685261149,78894,null,"806335",806,"Blue Hills",335,"Westwood                     ",4.0043336902800002,96172.809685261149,78894]
["806 Total",null,null,null,924.00000000924001,22191875.858341917,14244562,null,"806999",806,0,0,0,924.00000000924001,22191875.858341917,14244562,{"$f":"VLOOKUP($J265,aidcalc,25,FALSE)","v":7947314},{"$f":"VLOOKUP($J265,aidcalc,27,FALSE)","v":22191876}]
[810,"Bristol Plymouth",27,"Berkley                      ",99.290748899219992,2142525.1671923026,1328520,null,"810027",810,"Bristol Plymouth",27,"Berkley                      ",99.290748899219992,2142525.1671923026,1328520]
[810,"Bristol Plymouth",42,"Bridgewater                  ",176.51688693650001,3808933.6306623472,2283363,null,"810042",810,"Bristol Plymouth",42,"Bridgewater                  ",176.51688693650001,3808933.6306623472,2283363]
[810,"Bristol Plymouth",76,"Dighton                      ",102.29955946944,2207450.1722051436,1218046,null,"810076",810,"Bristol Plymouth",76,"Dighton                      ",102.29955946944,2207450.1722051436,1218046]
[810,"Bristol Plymouth",102,"Freetown                     ",95.279001472260006,2055958.4938418486,1506382,null,"810102",810,"Bristol Plymouth",102,"Freetown                     ",95.279001472260006,2055958.4938418486,1506382]
[810,"Bristol Plymouth",182,"Middleborough                ",184.54038179041999,3982066.9773632558,2166427,null,"810182",810,"Bristol Plymouth",182,"Middleborough                ",184.54038179041999,3982066.9773632558,2166427]
[810,"Bristol Plymouth",245,"Raynham                      ",193.56681351474001,4176841.9926965376,2523749,null,"810245",810,"Bristol Plymouth",245,"Raynham                      ",193.56681351474001,4176841.9926965376,2523749]
[810,"Bristol Plymouth",247,"Rehoboth                     ",56.164464018419999,1211933.4277906397,999845,null,"810247",810,"Bristol Plymouth",247,"Rehoboth                     ",56.164464018419999,1211933.4277906397,999845]
[810,"Bristol Plymouth",293,"Taunton                      ",458.34214391265999,9890242.438542679,3136870,null,"810293",810,"Bristol Plymouth",293,"Taunton                      ",458.34214391265999,9890242.438542679,3136870]
["810 Total",null,null,null,1366.0000000136599,29475952.300294753,15163202,null,"810999",810,0,0,0,1366.0000000136599,29475952.300294753,15163202,{"$f":"VLOOKUP($J274,aidcalc,25,FALSE)","v":14768619.00000244},{"$f":"VLOOKUP($J274,aidcalc,27,FALSE)","v":29931821.00000244}]
[815,"Cape Cod",20,"Barnstable                   ",198.99999999939999,4475561.8156625619,3478801,null,"815020",815,"Cape Cod",20,"Barnstable                   ",198.99999999939999,4475561.8156625619,3478801]
[815,"Cape Cod",41,"Brewster                     ",63.000000002699998,1416886.4040184701,1168931,null,"815041",815,"Cape Cod",41,"Brewster                     ",63.000000002699998,1416886.4040184701,1168931]
[815,"Cape Cod",55,"Chatham                      ",18.9999999998,427314.94722085411,352535,null,"815055",815,"Cape Cod",55,"Chatham                      ",18.9999999998,427314.94722085411,352535]
[815,"Cape Cod",75,"Dennis                       ",75.9999999992,1709259.7888834164,1410139,null,"815075",815,"Cape Cod",75,"Dennis                       ",75.9999999992,1709259.7888834164,1410139]
[815,"Cape Cod",85,"Eastham                      ",26.999999997100002,607237.03020238399,500971,null,"815085",815,"Cape Cod",85,"Eastham                      ",26.999999997100002,607237.03020238399,500971]
[815,"Cape Cod",126,"Harwich                      ",61.999999998600003,1394396.1435459785,1150377,null,"815126",815,"Cape Cod",126,"Harwich                      ",61.999999998600003,1394396.1435459785,1150377]
[815,"Cape Cod",172,"Mashpee                      ",49.000000002100002,1102022.7586810326,909169,null,"815172",815,"Cape Cod",172,"Mashpee                      ",49.000000002100002,1102022.7586810326,909169]
[815,"Cape Cod",224,"Orleans                      ",16.000000001700002,359844.16612274054,296871,null,"815224",815,"Cape Cod",224,"Orleans                      ",16.000000001700002,359844.16612274054,296871]
[815,"Cape Cod",242,"Provincetown                 ",6.0000000033000003,134941.56235590801,111327,null,"815242",815,"Cape Cod",242,"Provincetown                 ",6.0000000033000003,134941.56235590801,111327]
[815,"Cape Cod",300,"Truro                        ",9.0000000014000001,202412.34345402158,166990,null,"815300",815,"Cape Cod",300,"Truro                        ",9.0000000014000001,202412.34345402158,166990]
[815,"Cape Cod",318,"Wellfleet                    ",9.9999999983999999,224902.6037668325,185545,null,"815318",815,"Cape Cod",318,"Wellfleet                    ",9.9999999983999999,224902.6037668325,185545]
[815,"Cape Cod",351,"Yarmouth                     ",174.0000000034,3913305.3062454811,2876878,null,"815351",815,"Cape Cod",351,"Yarmouth                     ",174.0000000034,3913305.3062454811,2876878]
["815 Total",null,null,null,710.00000000710008,15968084.87015968,12608534,null,"815999",815,0,0,0,710.00000000710008,15968084.87015968,12608534,{"$f":"VLOOKUP($J287,aidcalc,25,FALSE)","v":3632640.0000022543},{"$f":"VLOOKUP($J287,aidcalc,27,FALSE)","v":16241174.000002254}]
[817,"Essex North Shore",30,"Beverly                      ",223.99999999649998,4948390.1953291334,3942607,null,"817030",817,"Essex North Shore",30,"Beverly                      ",223.99999999649998,4948390.1953291334,3942607]
[817,"Essex North Shore",38,"Boxford",39.999999995499998,883641.10622317111,711479,null,"817038",817,"Essex North Shore",38,"Boxford",39.999999995499998,883641.10622317111,711479]
[817,"Essex North Shore",71,"Danvers                      ",236.00000000600002,5213482.5274357731,4301123,null,"817071",817,"Essex North Shore",71,"Danvers                      ",236.00000000600002,5213482.5274357731,4301123]
[817,"Essex North Shore",92,"Essex                        ",11.999999994,265092.33176422806,218701,null,"817092",817,"Essex North Shore",92,"Essex                        ",11.999999994,265092.33176422806,218701]
[817,"Essex North Shore",107,"Gloucester                   ",106.999999993,2363739.9592582667,1856382,null,"817107",817,"Essex North Shore",107,"Gloucester                   ",106.999999993,2363739.9592582667,1856382]
[817,"Essex North Shore",119,"Hamilton                     ",24.000000003500002,530184.66387086711,423086,null,"817119",817,"Essex North Shore",119,"Hamilton                     ",24.000000003500002,530184.66387086711,423086]
[817,"Essex North Shore",164,"Lynnfield                    ",45.999999992500001,1016187.2721052852,812681,null,"817164",817,"Essex North Shore",164,"Lynnfield                    ",45.999999992500001,1016187.2721052852,812681]
[817,"Essex North Shore",166,"Manchester                   ",7.9999999960000006,176728.22117615206,145801,null,"817166",817,"Essex North Shore",166,"Manchester                   ",7.9999999960000006,176728.22117615206,145801]
[817,"Essex North Shore",168,"Marblehead                   ",34.999999998,773185.96798807604,637878,null,"817168",817,"Essex North Shore",168,"Marblehead                   ",34.999999998,773185.96798807604,637878]
[817,"Essex North Shore",184,"Middleton                    ",56.000000002999997,1237097.5489178861,1020605,null,"817184",817,"Essex North Shore",184,"Middleton                    ",56.000000002999997,1237097.5489178861,1020605]
[817,"Essex North Shore",196,"Nahant                       ",5.9999999969999998,132546.16588211403,109351,null,"817196",817,"Essex North Shore",196,"Nahant                       ",5.9999999969999998,132546.16588211403,109351]
[817,"Essex North Shore",229,"Peabody                      ",486.000000005,10736239.441929812,6648675,null,"817229",817,"Essex North Shore",229,"Peabody                      ",486.000000005,10736239.441929812,6648675]
[817,"Essex North Shore",252,"Rockport                     ",19.000000006,419729.52563577204,346277,null,"817252",817,"Essex North Shore",252,"Rockport                     ",19.000000006,419729.52563577204,346277]
[817,"Essex North Shore",258,"Salem                        ",174.00000000600002,3843838.8126357729,2343749,null,"817258",817,"Essex North Shore",258,"Salem                        ",174.00000000600002,3843838.8126357729,2343749]
[817,"Essex North Shore",291,"Swampscott                   ",31,684821.8574000001,544149,null,"817291",817,"Essex North Shore",291,"Swampscott                   ",31,684821.8574000001,544149]
[817,"Essex North Shore",298,"Topsfield                    ",29.000000001,640639.80210596207,516667,null,"817298",817,"Essex North Shore",298,"Topsfield                    ",29.000000001,640639.80210596207,516667]
[817,"Essex North Shore",320,"Wenham                       ",17.000000007000001,375547.47034173401,292934,null,"817320",817,"Essex North Shore",320,"Wenham                       ",17.000000007000001,375547.47034173401,292934]
["817 Total",null,null,null,1549.9999999999998,34241092.870000005,24872145,null,"817999",817,0,0,0,1549.9999999999998,34241092.870000005,24872145,{"$f":"VLOOKUP($J305,aidcalc,25,FALSE)","v":9368948},{"$f":"VLOOKUP($J305,aidcalc,27,FALSE)","v":34241093}]
[818,"Franklin County",29,"Bernardston                  ",23.000000002709999,538220.81605650799,311889,null,"818029",818,"Franklin County",29,"Bernardston                  ",23.000000002709999,538220.81605650799,311889]
[818,"Franklin County",47,"Buckland                     ",23.000000002709999,538220.81605650799,309259,null,"818047",818,"Franklin County",47,"Buckland                     ",23.000000002709999,538220.81605650799,309259]
[818,"Franklin County",66,"Colrain                      ",28.000000000529997,655225.34122138342,337164,null,"818066",818,"Franklin County",66,"Colrain                      ",28.000000000529997,655225.34122138342,337164]
[818,"Franklin County",68,"Conway                       ",4.0000000017300001,93603.620213195129,77223,null,"818068",818,"Franklin County",68,"Conway                       ",4.0000000017300001,93603.620213195129,77223]
[818,"Franklin County",74,"Deerfield                    ",29.000000002410001,678626.24630855513,559867,null,"818074",818,"Franklin County",74,"Deerfield                    ",29.000000002410001,678626.24630855513,559867]
[818,"Franklin County",91,"Erving                       ",20.000000002859998,468018.10093048442,386115,null,"818091",818,"Franklin County",91,"Erving                       ",20.000000002859998,468018.10093048442,386115]
[818,"Franklin County",106,"Gill                         ",13.999999997370001,327612.67054294614,188124,null,"818106",818,"Franklin County",106,"Gill                         ",13.999999997370001,327612.67054294614,188124]
[818,"Franklin County",114,"Greenfield                   ",128.99999999933999,3018716.7505545034,1347823,null,"818114",818,"Franklin County",114,"Greenfield                   ",128.99999999933999,3018716.7505545034,1347823]
[818,"Franklin County",130,"Heath                        ",19.000000000979998,444617.19584331283,156038,null,"818130",818,"Franklin County",130,"Heath                        ",19.000000000979998,444617.19584331283,156038]
[818,"Franklin County",156,"Leyden                       ",11.9999999994,280810.86050409416,146070,null,"818156",818,"Franklin County",156,"Leyden                       ",11.9999999994,280810.86050409416,146070]
[818,"Franklin County",192,"Montague                     ",87.999999997529997,2059279.6437418542,1014170,null,"818192",818,"Franklin County",192,"Montague                     ",87.999999997529997,2059279.6437418542,1014170]
[818,"Franklin County",206,"New Salem                    ",10.000000001429999,234009.05046524221,153827,null,"818206",818,"Franklin County",206,"New Salem                    ",10.000000001429999,234009.05046524221,153827]
[818,"Franklin County",216,"Northfield                   ",57.999999999030003,1357252.4924816189,1094138,null,"818216",818,"Franklin County",216,"Northfield                   ",57.999999999030003,1357252.4924816189,1094138]
[818,"Franklin County",223,"Orange                       ",78.000000001890001,1825270.5934121034,489658,null,"818223",818,"Franklin County",223,"Orange                       ",78.000000001890001,1825270.5934121034,489658]
[818,"Franklin County",268,"Shelburne                    ",10.99999999752,257409.95541692257,207260,null,"818268",818,"Franklin County",268,"Shelburne                    ",10.99999999752,257409.95541692257,207260]
[818,"Franklin County",289,"Sunderland                   ",8.9999999995500009,210608.14537807062,167255,null,"818289",818,"Franklin County",289,"Sunderland                   ",8.9999999995500009,210608.14537807062,167255]
[818,"Franklin County",312,"Warwick                      ",4.0000000017300001,93603.620213195129,58766,null,"818312",818,"Franklin County",312,"Warwick                      ",4.0000000017300001,93603.620213195129,58766]
[818,"Franklin County",319,"Wendell                      ",7.0000000015799992,163806.33533921867,65353,null,"818319",818,"Franklin County",319,"Wendell                      ",7.0000000015799992,163806.33533921867,65353]
[818,"Franklin County",337,"Whately                      ",13.00000000128,304211.76559126575,231103,null,"818337",818,"Franklin County",337,"Whately                      ",13.00000000128,304211.76559126575,231103]
["818 Total",null,null,null,579.00000001158003,13549124.020270983,7301102,null,{"$f":"IF(L325=0,J325&999,J325&TEXT(L325,\"000\"))","v":"818999"},{"$f":"VALUE(LEFT(A325,3))","v":818},{"$f":"B325","v":0},{"$f":"C325","v":0},{"$f":"D325","v":0},{"$f":"E325","v":579.00000001158003},{"$f":"F325","v":13549124.020270983},{"$f":"G325","v":7301102},{"$f":"VLOOKUP($J325,aidcalc,25,FALSE)","v":6248022},{"$f":"VLOOKUP($J325,aidcalc,27,FALSE)","v":13549124}]
[821,"Greater Fall River",95,"Fall River                   ",1084.9999999965898,25723432.577995822,4065662,null,"821095",821,"Greater Fall River",95,"Fall River                   ",1084.9999999965898,25723432.577995822,4065662]
[821,"Greater Fall River",273,"Somerset                     ",151.00000000080001,3579943.1514379312,2032799,null,"821273",821,"Greater Fall River",273,"Somerset                     ",151.00000000080001,3579943.1514379312,2032799]
[821,"Greater Fall River",292,"Swansea                      ",144.99999999741999,3437693.7546126731,2332576,null,"821292",821,"Greater Fall River",292,"Swansea                      ",144.99999999741999,3437693.7546126731,2332576]
[821,"Greater Fall River",331,"Westport                     ",106.00000000518999,2513072.6759535773,2016252,null,"821331",821,"Greater Fall River",331,"Westport                     ",106.00000000518999,2513072.6759535773,2016252]
["821 Total",null,null,null,1486.9999999999998,35254142.160000004,10447289,null,"821999",821,0,0,0,1486.9999999999998,35254142.160000004,10447289,{"$f":"VLOOKUP($J330,aidcalc,25,FALSE)","v":24806853},{"$f":"VLOOKUP($J330,aidcalc,27,FALSE)","v":35254142}]
[823,"Greater Lawrence",9,"Andover                      ",49.000000006560001,1354537.7796755508,1117494,null,"823009",823,"Greater Lawrence",9,"Andover                      ",49.000000006560001,1354537.7796755508,1117494]
[823,"Greater Lawrence",149,"Lawrence                     ",1303.0000000003201,36019647.483293615,1764291,null,"823149",823,"Greater Lawrence",149,"Lawrence                     ",1303.0000000003201,36019647.483293615,1764291]
[823,"Greater Lawrence",181,"Methuen                      ",486.99999999167994,13462446.91025326,5617853,null,"823181",823,"Greater Lawrence",181,"Methuen                      ",486.99999999167994,13462446.91025326,5617853]
[823,"Greater Lawrence",211,"North Andover                ",57.00000000144,1575686.8047575597,1299942,null,"823211",823,"Greater Lawrence",211,"North Andover                ",57.00000000144,1575686.8047575597,1299942]
["823 Total",null,null,null,1896,52412318.97797998,9799580,null,"823999",823,0,0,0,1896,52412318.97797998,9799580,{"$f":"VLOOKUP($J335,aidcalc,25,FALSE)","v":42612739},{"$f":"VLOOKUP($J335,aidcalc,27,FALSE)","v":52412319}]
[825,"Greater New Bedford",72,"Dartmouth                    ",283.99999999488,7119336.0380701805,5873452,null,"825072",825,"Greater New Bedford",72,"Dartmouth                    ",283.99999999488,7119336.0380701805,5873452]
[825,"Greater New Bedford",94,"Fairhaven                    ",173.99999999104,4361846.7274040664,2825944,null,"825094",825,"Greater New Bedford",94,"Fairhaven                    ",173.99999999104,4361846.7274040664,2825944]
[825,"Greater New Bedford",201,"New Bedford                  ",1717.99999999232,43066969.413980275,5923262,null,"825201",825,"Greater New Bedford",201,"New Bedford                  ",1717.99999999232,43066969.413980275,5923262]
["825 Total",null,null,null,2175.9999999782399,54548152.17945452,14622658,null,"825999",825,0,0,0,2175.9999999782399,54548152.17945452,14622658,{"$f":"VLOOKUP($J339,aidcalc,25,FALSE)","v":39925494},{"$f":"VLOOKUP($J339,aidcalc,27,FALSE)","v":54548152}]
[828,"Greater Lowell",79,"Dracut                       ",512.99999998911994,12323680.314182602,6508642,null,"828079",828,"Greater Lowell",79,"Dracut                       ",512.99999998911994,12323680.314182602,6508642]
[828,"Greater Lowell",81,"Dunstable                    ",13.000000010480001,312295.99262558244,251200,null,"828081",828,"Greater Lowell",81,"Dunstable                    ",13.000000010480001,312295.99262558244,251200]
[828,"Greater Lowell",160,"Lowell                       ",1681.9999999891202,40406296.859182604,8460425,null,"828160",828,"Greater Lowell",160,"Lowell                       ",1681.9999999891202,40406296.859182604,8460425]
[828,"Greater Lowell",301,"Tyngsborough                 ",130.00000001128001,3122959.9240092146,2204478,null,"828301",828,"Greater Lowell",301,"Tyngsborough                 ",130.00000001128001,3122959.9240092146,2204478]
["828 Total",null,null,null,2338,56165233.089999996,17424745,null,"828999",828,0,0,0,2338,56165233.089999996,17424745,{"$f":"VLOOKUP($J344,aidcalc,25,FALSE)","v":38740488},{"$f":"VLOOKUP($J344,aidcalc,27,FALSE)","v":56165233}]
[829,"South Middlesex",14,"Ashland                      ",75.24972253304,1893245.6527950473,1372171,null,"829014",829,"South Middlesex",14,"Ashland                      ",75.24972253304,1893245.6527950473,1372171]
[829,"South Middlesex",100,"Framingham                   ",673.23418423863995,16938237.773078643,8406999,null,"829100",829,"South Middlesex",100,"Framingham                   ",673.23418423863995,16938237.773078643,8406999]
[829,"South Middlesex",136,"Holliston                    ",65.216426190479993,1640812.8989677387,1305459,null,"829136",829,"South Middlesex",136,"Holliston                    ",65.216426190479993,1640812.8989677387,1305459]
[829,"South Middlesex",139,"Hopkinton                    ",28.093229748319999,706811.71044353396,571368,null,"829139",829,"South Middlesex",139,"Hopkinton                    ",28.093229748319999,706811.71044353396,571368]
[829,"South Middlesex",198,"Natick                       ",62.206437289520004,1565083.0728650347,1281355,null,"829198",829,"South Middlesex",198,"Natick                       ",62.206437289520004,1565083.0728650347,1281355]
["829 Total",null,null,null,903.99999999999989,22744191.108149998,12937352,null,"829999",829,0,0,0,903.99999999999989,22744191.108149998,12937352,{"$f":"VLOOKUP($J350,aidcalc,25,FALSE)","v":9981529},{"$f":"VLOOKUP($J350,aidcalc,27,FALSE)","v":22918881}]
[830,"Minuteman",2,"Acton                        ",71.000000002340002,1606932.6467022013,1321776,null,"830002",830,"Minuteman",2,"Acton                        ",71.000000002340002,1606932.6467022013,1321776]
[830,"Minuteman",10,"Arlington                    ",190.00000000199,4300242.2938951189,3280570,null,"830010",830,"Minuteman",10,"Arlington                    ",190.00000000199,4300242.2938951189,3280570]
[830,"Minuteman",34,"Bolton                       ",30.999999997360003,701618.47946315713,567941,null,"830034",830,"Minuteman",34,"Bolton                       ",30.999999997360003,701618.47946315713,567941]
[830,"Minuteman",67,"Concord                      ",41.999999998419995,950579.87544688932,784228,null,"830067",830,"Minuteman",67,"Concord                      ",41.999999998419995,950579.87544688932,784228]
[830,"Minuteman",78,"Dover                        ",3.9999999992599999,90531.416695884953,74688,null,"830078",830,"Minuteman",78,"Dover                        ",3.9999999992599999,90531.416695884953,74688]
[830,"Minuteman",147,"Lancaster                    ",62.999999997629999,1425869.8131703341,974936,null,"830147",830,"Minuteman",147,"Lancaster                    ",62.999999997629999,1425869.8131703341,974936]
[830,"Minuteman",155,"Lexington                    ",101.00000000298,2285918.272061436,1885883,null,"830155",830,"Minuteman",155,"Lexington                    ",101.00000000298,2285918.272061436,1885883]
[830,"Minuteman",199,"Needham                      ",62.999999997629999,1425869.8131703341,1176343,null,"830199",830,"Minuteman",199,"Needham                      ",62.999999997629999,1425869.8131703341,1176343]
[830,"Minuteman",286,"Stow                         ",54.000000002390003,1222174.1256746417,1008294,null,"830286",830,"Minuteman",286,"Stow                         ",54.000000002390003,1222174.1256746417,1008294]
["830 Total",null,null,null,619.00000000000011,14009736.736279998,11074659,null,"830999",830,0,0,0,619.00000000000011,14009736.736279998,11074659,{"$f":"VLOOKUP($J360,aidcalc,25,FALSE)","v":3188454.0000025854},{"$f":"VLOOKUP($J360,aidcalc,27,FALSE)","v":14263113.000002585}]
[832,"Montachusett",11,"Ashburnham                   ",62.000000004740002,1342043.7574013735,627440,null,"832011",832,"Montachusett",11,"Ashburnham                   ",62.000000004740002,1342043.7574013735,627440]
[832,"Montachusett",12,"Ashby                        ",32.99999999472,714313.61264150776,420432,null,"832012",832,"Montachusett",12,"Ashby                        ",32.99999999472,714313.61264150776,420432]
[832,"Montachusett",15,"Athol                        ",105.9999999977,2294461.9075900507,348942,null,"832015",832,"Montachusett",15,"Athol                        ",105.9999999977,2294461.9075900507,348942]
[832,"Montachusett",21,"Barre                        ",43.999999992959999,952418.15018867725,380158,null,"832021",832,"Montachusett",21,"Barre                        ",43.999999992959999,952418.15018867725,380158]
[832,"Montachusett",97,"Fitchburg                    ",390.99999999607996,8463534.0177186932,1845065,null,"832097",832,"Montachusett",97,"Fitchburg                    ",390.99999999607996,8463534.0177186932,1845065]
[832,"Montachusett",103,"Gardner                      ",147.00000000579999,3181942.4569468279,922790,null,"832103",832,"Montachusett",103,"Gardner                      ",147.00000000579999,3181942.4569468279,922790]
[832,"Montachusett",125,"Harvard                      ",8.9999999985599999,194812.80344768398,156974,null,"832125",832,"Montachusett",125,"Harvard                      ",8.9999999985599999,194812.80344768398,156974]
[832,"Montachusett",134,"Holden                       ",170.00000000212,3679797.3990909094,2259536,null,"832134",832,"Montachusett",134,"Holden                       ",170.00000000212,3679797.3990909094,2259536]
[832,"Montachusett",140,"Hubbardston                  ",34.9999999944,757605.34674099321,425070,null,"832140",832,"Montachusett",140,"Hubbardston                  ",34.9999999944,757605.34674099321,425070]
[832,"Montachusett",162,"Lunenburg                    ",103.99999999802,2251170.1734905653,1378183,null,"832162",832,"Montachusett",162,"Lunenburg                    ",103.99999999802,2251170.1734905653,1378183]
[832,"Montachusett",234,"Petersham                    ",7.9999999987199999,173166.93639794129,96108,null,"832234",832,"Montachusett",234,"Petersham                    ",7.9999999987199999,173166.93639794129,96108]
[832,"Montachusett",235,"Phillipston                  ",21.99999999648,476209.07509433862,271216,null,"832235",832,"Montachusett",235,"Phillipston                  ",21.99999999648,476209.07509433862,271216]
[832,"Montachusett",241,"Princeton                    ",27.99999999552,606084.27739279461,458806,null,"832241",832,"Montachusett",241,"Princeton                    ",27.99999999552,606084.27739279461,458806]
[832,"Montachusett",255,"Royalston                    ",9.9999999983999999,216458.67049742662,88754,null,"832255",832,"Montachusett",255,"Royalston                    ",9.9999999983999999,216458.67049742662,88754]
[832,"Montachusett",282,"Sterling                     ",60.000000005060002,1298752.0233018883,1071470,null,"832282",832,"Montachusett",282,"Sterling                     ",60.000000005060002,1298752.0233018883,1071470]
[832,"Montachusett",294,"Templeton                    ",77.000000002340002,1666731.7631475134,607792,null,"832294",832,"Montachusett",294,"Templeton                    ",77.000000002340002,1666731.7631475134,607792]
[832,"Montachusett",299,"Townsend                     ",0.99999999983999999,21645.867049742661,11417,null,"832299",832,"Montachusett",299,"Townsend                     ",0.99999999983999999,21645.867049742661,11417]
[832,"Montachusett",328,"Westminster                  ",79.000000002020002,1710023.4972469988,976220,null,"832328",832,"Montachusett",328,"Westminster                  ",79.000000002020002,1710023.4972469988,976220]
[832,"Montachusett",343,"Winchendon                   ",80.000000001860002,1731669.3642967413,588859,null,"832343",832,"Montachusett",343,"Winchendon                   ",80.000000001860002,1731669.3642967413,588859]
["832 Total",null,null,null,1465.9999999853399,31732841.099682663,12935232,null,"832999",832,0,0,0,1465.9999999853399,31732841.099682663,12935232,{"$f":"VLOOKUP($J379,aidcalc,25,FALSE)","v":18872754.999998901},{"$f":"VLOOKUP($J379,aidcalc,27,FALSE)","v":31807986.999998901}]
[851,"Northern Berkshire",4,"Adams                        ",136.00000000110001,3216666.7365366556,1007795,null,"851004",851,"Northern Berkshire",4,"Adams                        ",136.00000000110001,3216666.7365366556,1007795]
[851,"Northern Berkshire",58,"Cheshire                     ",47,1111642.1810000001,537944,null,"851058",851,"Northern Berkshire",58,"Cheshire                     ",47,1111642.1810000001,537944]
[851,"Northern Berkshire",63,"Clarksburg                   ",53.000000001499998,1253553.9488227121,355366,null,"851063",851,"Northern Berkshire",63,"Clarksburg                   ",53.000000001499998,1253553.9488227121,355366]
[851,"Northern Berkshire",98,"Florida                      ",24.000000001300002,567647.07117968379,374567,null,"851098",851,"Northern Berkshire",98,"Florida                      ",24.000000001300002,567647.07117968379,374567]
[851,"Northern Berkshire",148,"Lanesborough                 ",29.0000000002,685906.87764302827,412209,null,"851148",851,"Northern Berkshire",148,"Lanesborough                 ",29.0000000002,685906.87764302827,412209]
[851,"Northern Berkshire",190,"Monroe                       ",4.0000000010000001,94607.845215141322,32903,null,"851190",851,"Northern Berkshire",190,"Monroe                       ",4.0000000010000001,94607.845215141322,32903]
[851,"Northern Berkshire",209,"North Adams                  ",147.00000000150001,3476838.3108227123,962421,null,"851209",851,"Northern Berkshire",209,"North Adams                  ",147.00000000150001,3476838.3108227123,962421]
[851,"Northern Berkshire",263,"Savoy                        ",15.000000001400002,354779.41950119787,260319,null,"851263",851,"Northern Berkshire",263,"Savoy                        ",15.000000001400002,354779.41950119787,260319]
[851,"Northern Berkshire",341,"Williamstown                 ",15.000000001400002,354779.41950119787,287443,null,{"$f":"IF(L389=0,J389&999,J389&TEXT(L389,\"000\"))","v":"851341"},{"$f":"VALUE(LEFT(A389,3))","v":851},{"$f":"B389","v":"Northern Berkshire"},{"$f":"C389","v":341},{"$f":"D389","v":"Williamstown                 "},{"$f":"E389","v":15.000000001400002},{"$f":"F389","v":354779.41950119787},{"$f":"G389","v":287443}]
["851 Total",null,null,null,470.00000000939997,11116421.810222331,4230967,null,"851999",851,0,0,0,470.00000000939997,11116421.810222331,4230967,{"$f":"VLOOKUP($J389,aidcalc,25,FALSE)","v":7141402.000000705},{"$f":"VLOOKUP($J389,aidcalc,27,FALSE)","v":11372369.000000704}]
[852,"Nashoba Valley",19,"Ayer                         ",59.9999999984,1319139.1228167708,1038844,null,"852019",852,"Nashoba Valley",19,"Ayer                         ",59.9999999984,1319139.1228167708,1038844]
[852,"Nashoba Valley",56,"Chelmsford                   ",216.00000000039998,4748900.8422758058,3802794,null,"852056",852,"Nashoba Valley",56,"Chelmsford                   ",216.00000000039998,4748900.8422758058,3802794]
[852,"Nashoba Valley",115,"Groton                       ",45.999999999800004,1011339.9941820962,830116,null,"852115",852,"Nashoba Valley",115,"Groton                       ",45.999999999800004,1011339.9941820962,830116]
[852,"Nashoba Valley",158,"Littleton                    ",42.000000003499999,923397.38607331319,760934,null,"852158",852,"Nashoba Valley",158,"Littleton                    ",42.000000003499999,923397.38607331319,760934]
[852,"Nashoba Valley",232,"Pepperell                    ",144.99999999869999,3187919.5468636258,1997283,null,"852232",852,"Nashoba Valley",232,"Pepperell                    ",144.99999999869999,3187919.5468636258,1997283]
[852,"Nashoba Valley",270,"Shirley                      ",47.0000000008,1033325.6462516143,618778,null,"852270",852,"Nashoba Valley",270,"Shirley                      ",47.0000000008,1033325.6462516143,618778]
[852,"Nashoba Valley",299,"Townsend                     ",116.00000000050001,2550335.6375247589,1345190,null,"852299",852,"Nashoba Valley",299,"Townsend                     ",116.00000000050001,2550335.6375247589,1345190]
[852,"Nashoba Valley",326,"Westford                     ",97.999999997899991,2154593.9006120116,1691348,null,"852326",852,"Nashoba Valley",326,"Westford                     ",97.999999997899991,2154593.9006120116,1691348]
["852 Total",null,null,null,770,16928952.0766,12085287,null,"852999",852,0,0,0,770,16928952.0766,12085287,{"$f":"VLOOKUP($J398,aidcalc,25,FALSE)","v":5059414.0000011465},{"$f":"VLOOKUP($J398,aidcalc,27,FALSE)","v":17144701.000001147}]
[853,"Northeast Metropolitan",57,"Chelsea                      ",241.9999999968,6258662.3863275237,1062641,null,"853057",853,"Northeast Metropolitan",57,"Chelsea                      ",241.9999999968,6258662.3863275237,1062641]
[853,"Northeast Metropolitan",165,"Malden                       ",219.00000000120002,5663830.8373196796,2742882,null,"853165",853,"Northeast Metropolitan",165,"Malden                       ",219.00000000120002,5663830.8373196796,2742882]
[853,"Northeast Metropolitan",178,"Melrose                      ",74.999999993040007,1939668.0947818635,1563416,null,"853178",853,"Northeast Metropolitan",178,"Melrose                      ",74.999999993040007,1939668.0947818635,1563416]
[853,"Northeast Metropolitan",217,"North Reading                ",34.999999993919999,905178.44415829435,744017,null,"853217",853,"Northeast Metropolitan",217,"North Reading                ",34.999999993919999,905178.44415829435,744017]
[853,"Northeast Metropolitan",246,"Reading                      ",47.000000006400001,1215525.3396749534,977143,null,"853246",853,"Northeast Metropolitan",246,"Reading                      ",47.000000006400001,1215525.3396749534,977143]
[853,"Northeast Metropolitan",248,"Revere                       ",286.00000000008004,7396601.002123313,2561137,null,"853248",853,"Northeast Metropolitan",248,"Revere                       ",286.00000000008004,7396601.002123313,2561137]
[853,"Northeast Metropolitan",262,"Saugus                       ",120.9999999984,3129331.1931637619,2264419,null,"853262",853,"Northeast Metropolitan",262,"Saugus                       ",120.9999999984,3129331.1931637619,2264419]
[853,"Northeast Metropolitan",284,"Stoneham                     ",72.000000004080007,1862081.371268908,1457264,null,"853284",853,"Northeast Metropolitan",284,"Stoneham                     ",72.000000004080007,1862081.371268908,1457264]
[853,"Northeast Metropolitan",305,"Wakefield                    ",102.99999999383999,2663810.8502549822,2143921,null,"853305",853,"Northeast Metropolitan",305,"Wakefield                    ",102.99999999383999,2663810.8502549822,2143921]
[853,"Northeast Metropolitan",344,"Winchester                   ",15.000000001440002,387933.61902961455,314666,null,"853344",853,"Northeast Metropolitan",344,"Winchester                   ",15.000000001440002,387933.61902961455,314666]
[853,"Northeast Metropolitan",346,"Winthrop                     ",61.000000006800001,1577596.7174115132,1082754,null,"853346",853,"Northeast Metropolitan",346,"Winthrop                     ",61.000000006800001,1577596.7174115132,1082754]
[853,"Northeast Metropolitan",347,"Woburn",140.00000000399999,3620713.777365596,2987089,null,"853347",853,"Northeast Metropolitan",347,"Woburn",140.00000000399999,3620713.777365596,2987089]
["853 Total",null,null,null,1416,36620933.63288001,19901349,null,"853999",853,0,0,0,1416,36620933.63288001,19901349,{"$f":"VLOOKUP($J411,aidcalc,25,FALSE)","v":16719585},{"$f":"VLOOKUP($J411,aidcalc,27,FALSE)","v":36620934}]
[855,"Old Colony",3,"Acushnet                     ",206.99999999812002,4353163.6408957159,2631486,null,"855003",855,"Old Colony",3,"Acushnet                     ",206.99999999812002,4353163.6408957159,2631486]
[855,"Old Colony",52,"Carver                       ",98.000000002359997,2060918.0522798458,1219115,null,"855052",855,"Old Colony",52,"Carver                       ",98.000000002359997,2060918.0522798458,1219115]
[855,"Old Colony",146,"Lakeville                    ",135.00000000239999,2839019.7658778089,2138973,null,"855146",855,"Old Colony",146,"Lakeville                    ",135.00000000239999,2839019.7658778089,2138973]
[855,"Old Colony",173,"Mattapoisett                 ",37.000000000040004,778101.71359796345,641934,null,"855173",855,"Old Colony",173,"Mattapoisett                 ",37.000000000040004,778101.71359796345,641934]
[855,"Old Colony",250,"Rochester                    ",79.000000002640007,1661352.3074655903,1214054,null,"855250",855,"Old Colony",250,"Rochester                    ",79.000000002640007,1661352.3074655903,1214054]
["855 Total",null,null,null,556.00000000555997,11692555.480116924,7845562,null,"855999",855,0,0,0,556.00000000555997,11692555.480116924,7845562,{"$f":"VLOOKUP($J417,aidcalc,25,FALSE)","v":4354364.9999998417},{"$f":"VLOOKUP($J417,aidcalc,27,FALSE)","v":12199926.999999842}]
[860,"Pathfinder",24,"Belchertown                  ",97,2249867.7670624997,1258060,null,"860024",860,"Pathfinder",24,"Belchertown                  ",97,2249867.7670624997,1258060]
[860,"Pathfinder",111,"Granby                       ",28,649446.36574999988,457230,null,"860111",860,"Pathfinder",111,"Granby                       ",28,649446.36574999988,457230]
[860,"Pathfinder",124,"Hardwick                     ",26,603057.33962499991,252176,null,"860124",860,"Pathfinder",124,"Hardwick                     ",26,603057.33962499991,252176]
[860,"Pathfinder",191,"Monson                       ",104,2412229.3584999996,1399175,null,"860191",860,"Pathfinder",191,"Monson                       ",104,2412229.3584999996,1399175]
[860,"Pathfinder",202,"New Braintree                ",14,324723.18287499994,224062,null,"860202",860,"Pathfinder",202,"New Braintree                ",14,324723.18287499994,224062]
[860,"Pathfinder",222,"Oakham                       ",17,394306.7220624999,222077,null,"860222",860,"Pathfinder",222,"Oakham                       ",17,394306.7220624999,222077]
[860,"Pathfinder",227,"Palmer                       ",196,4546124.5602499992,1871608,null,"860227",860,"Pathfinder",227,"Palmer                       ",196,4546124.5602499992,1871608]
[860,"Pathfinder",309,"Ware                         ",110,2551396.4368749997,812341,null,"860309",860,"Pathfinder",309,"Ware                         ",110,2551396.4368749997,812341]
[860,"Pathfinder",311,"Warren                       ",48,1113336.6269999999,359305,null,"860311",860,"Pathfinder",311,"Warren                       ",48,1113336.6269999999,359305]
["860 Total",null,null,null,640,14844488.359999999,6856034,null,"860999",860,0,0,0,640,14844488.359999999,6856034,{"$f":"VLOOKUP($J427,aidcalc,25,FALSE)","v":7988454},{"$f":"VLOOKUP($J427,aidcalc,27,FALSE)","v":14844488}]
[871,"Shawsheen Valley",23,"Bedford                      ",52.999999996980002,1127719.0328669092,930368,null,"871023",871,"Shawsheen Valley",23,"Bedford                      ",52.999999996980002,1127719.0328669092,930368]
[871,"Shawsheen Valley",31,"Billerica                    ",478.00000000520998,10170749.01409384,8144307,null,"871031",871,"Shawsheen Valley",31,"Billerica                    ",478.00000000520998,10170749.01409384,8144307]
[871,"Shawsheen Valley",48,"Burlington                   ",143.00000000283001,3042713.6172141219,2469946,null,"871048",871,"Shawsheen Valley",48,"Burlington                   ",143.00000000283001,3042713.6172141219,2469946]
[871,"Shawsheen Valley",295,"Tewksbury                    ",349.99999999689004,7447201.1608000295,6019277,null,"871295",871,"Shawsheen Valley",295,"Tewksbury                    ",349.99999999689004,7447201.1608000295,6019277]
[871,"Shawsheen Valley",342,"Wilmington                   ",268.99999999809,5723706.0350250974,4722058,null,"871342",871,"Shawsheen Valley",342,"Wilmington                   ",268.99999999809,5723706.0350250974,4722058]
["871 Total",null,null,null,1293,27512088.859999996,22285956,null,"871999",871,0,0,0,1293,27512088.859999996,22285956,{"$f":"VLOOKUP($J433,aidcalc,25,FALSE)","v":7092348.0000032838},{"$f":"VLOOKUP($J433,aidcalc,27,FALSE)","v":29378304.000003286}]
[872,"Southeastern",44,"Brockton                     ",1136.6581691798301,26974711.354034826,4960953,null,"872044",872,"Southeastern",44,"Brockton                     ",1136.6581691798301,26974711.354034826,4960953]
[872,"Southeastern",83,"East Bridgewater             ",94.05446117583999,2232062.3830190119,1280397,null,"872083",872,"Southeastern",83,"East Bridgewater             ",94.05446117583999,2232062.3830190119,1280397]
[872,"Southeastern",88,"Easton                       ",83.048088065030001,1970863.5936475887,1622266,null,"872088",872,"Southeastern",88,"Easton                       ",83.048088065030001,1970863.5936475887,1622266]
[872,"Southeastern",99,"Foxborough                   ",44.025492460510002,1044795.1578955381,861956,null,"872099",872,"Southeastern",99,"Foxborough                   ",44.025492460510002,1044795.1578955381,861956]
[872,"Southeastern",167,"Mansfield                    ",81.046929319179995,1923372.904708225,1544498,null,"872167",872,"Southeastern",167,"Mansfield                    ",81.046929319179995,1923372.904708225,1544498]
[872,"Southeastern",218,"Norton                       ",87.050405556729999,2065844.9715263166,1658277,null,"872218",872,"Southeastern",218,"Norton                       ",87.050405556729999,2065844.9715263166,1658277]
[872,"Southeastern",266,"Sharon                       ",16.009269984070002,379925.51192475529,309136,null,"872266",872,"Southeastern",266,"Sharon                       ",16.009269984070002,379925.51192475529,309136]
[872,"Southeastern",285,"Stoughton                    ",117.06778679628999,2778205.3068463076,1565892,null,"872285",872,"Southeastern",285,"Stoughton                    ",117.06778679628999,2778205.3068463076,1565892]
[872,"Southeastern",323,"West Bridgewater             ",67.038818080959999,1590938.0817228334,977969,null,"872323",872,"Southeastern",323,"West Bridgewater             ",67.038818080959999,1590938.0817228334,977969]
[872,"Southeastern",338,"Whitman                      ",1.0005793815599999,23745.344674604235,11525,null,"872338",872,"Southeastern",338,"Whitman                      ",1.0005793815599999,23745.344674604235,11525]
["872 Total",null,null,null,1727.0000000000002,40984464.610000007,14792869,null,"872999",872,0,0,0,1727.0000000000002,40984464.610000007,14792869,{"$f":"VLOOKUP($J443,aidcalc,25,FALSE)","v":26191596},{"$f":"VLOOKUP($J443,aidcalc,27,FALSE)","v":40984465}]
[873,"South Shore",1,"Abington                     ",94.00000000224,2053390.7439711408,1190175,null,"873001",873,"South Shore",1,"Abington                     ",94.00000000224,2053390.7439711408,1190175]
[873,"South Shore",65,"Cohasset                     ",14.99999999904,327668.73571129661,270327,null,"873065",873,"South Shore",65,"Cohasset                     ",14.99999999904,327668.73571129661,270327]
[873,"South Shore",122,"Hanover                      ",86,1878634.0848649999,1549873,null,"873122",873,"South Shore",122,"Hanover                      ",86,1878634.0848649999,1549873]
[873,"South Shore",123,"Hanson                       ",73.99999999664,1616499.0962057882,1036139,null,"873123",873,"South Shore",123,"Hanson                       ",73.99999999664,1616499.0962057882,1036139]
[873,"South Shore",171,"Marshfield                   ",66.99999999984,1463587.0196006326,1207459,null,"873171",873,"South Shore",171,"Marshfield                   ",66.99999999984,1463587.0196006326,1207459]
[873,"South Shore",219,"Norwell                      ",23.99999999984,524269.97716813273,432523,null,"873219",873,"South Shore",219,"Norwell                      ",23.99999999984,524269.97716813273,432523]
[873,"South Shore",251,"Rockland                     ",129,2817951.1272974997,1364927,null,"873251",873,"South Shore",251,"Rockland                     ",129,2817951.1272974997,1364927]
[873,"South Shore",264,"Scituate                     ",65.00000000272,1419897.8548992428,1171416,null,{"$f":"IF(L453=0,J453&999,J453&TEXT(L453,\"000\"))","v":"873264"},{"$f":"VALUE(LEFT(A453,3))","v":873},{"$f":"B453","v":"South Shore"},{"$f":"C453","v":264},{"$f":"D453","v":"Scituate                     "},{"$f":"E453","v":65.00000000272},{"$f":"F453","v":1419897.8548992428},{"$f":"G453","v":1171416}]
[873,"South Shore",338,"Whitman                      ",133.99999999968,2927174.0392012652,1420738,null,"873338",873,"South Shore",338,"Whitman                      ",133.99999999968,2927174.0392012652,1420738]
["873 Total",null,null,null,687.99999999999989,15029072.678919999,9643577,null,"873999",873,0,0,0,687.99999999999989,15029072.678919999,9643577,{"$f":"VLOOKUP($J453,aidcalc,25,FALSE)","v":6014697},{"$f":"VLOOKUP($J453,aidcalc,27,FALSE)","v":15658274}]
[876,"Southern Worcester",17,"Auburn                       ",144.00000000226001,3185160.7873741603,1811957,null,"876017",876,"Southern Worcester",17,"Auburn                       ",144.00000000226001,3185160.7873741603,1811957]
[876,"Southern Worcester",54,"Charlton                     ",168.99999999767002,3738140.0906275241,2382015,null,"876054",876,"Southern Worcester",54,"Charlton                     ",168.99999999767002,3738140.0906275241,2382015]
[876,"Southern Worcester",80,"Dudley                       ",118.99999999448001,2632181.4838471822,1022020,null,"876080",876,"Southern Worcester",80,"Dudley                       ",118.99999999448001,2632181.4838471822,1022020]
[876,"Southern Worcester",215,"North Brookfield             ",44.999999999159996,995362.74602022325,441432,null,"876215",876,"Southern Worcester",215,"North Brookfield             ",44.999999999159996,995362.74602022325,441432]
[876,"Southern Worcester",226,"Oxford                       ",122.99999999523,2720658.1724005542,1476544,null,"876226",876,"Southern Worcester",226,"Oxford                       ",122.99999999523,2720658.1724005542,1476544]
[876,"Southern Worcester",228,"Paxton                       ",47.000000005719997,1039601.0904337162,689747,null,"876228",876,"Southern Worcester",228,"Paxton                       ",47.000000005719997,1039601.0904337162,689747]
[876,"Southern Worcester",257,"Rutland                      ",84.000000003380009,1858010.4593471959,856499,null,"876257",876,"Southern Worcester",257,"Rutland                      ",84.000000003380009,1858010.4593471959,856499]
[876,"Southern Worcester",277,"Southbridge                  ",209.00000000516999,4622906.9761612434,1041889,null,"876277",876,"Southern Worcester",277,"Southbridge                  ",209.00000000516999,4622906.9761612434,1041889]
[876,"Southern Worcester",280,"Spencer                      ",134.99999999747999,2986088.23806067,1368849,null,"876280",876,"Southern Worcester",280,"Spencer                      ",134.99999999747999,2986088.23806067,1368849]
[876,"Southern Worcester",316,"Webster                      ",161.99999999945001,3583305.8857275271,1368101,null,"876316",876,"Southern Worcester",316,"Webster                      ",161.99999999945001,3583305.8857275271,1368101]
["876 Total",null,null,null,1237,27361415.929999996,12459053,null,"876999",876,0,0,0,1237,27361415.929999996,12459053,{"$f":"VLOOKUP($J464,aidcalc,25,FALSE)","v":14902363},{"$f":"VLOOKUP($J464,aidcalc,27,FALSE)","v":27361416}]
[878,"Tri County",101,"Franklin                     ",182.00000000411998,4010099.1557054566,3212883,null,"878101",878,"Tri County",101,"Franklin                     ",182.00000000411998,4010099.1557054566,3212883]
[878,"Tri County",175,"Medfield                     ",15.00000000228,330502.67771078687,272665,null,"878175",878,"Tri County",175,"Medfield                     ",15.00000000228,330502.67771078687,272665]
[878,"Tri County",177,"Medway                       ",91.000000002059991,2005049.5778527283,1510369,null,"878177",878,"Tri County",177,"Medway                       ",91.000000002059991,2005049.5778527283,1510369]
[878,"Tri County",187,"Millis                       ",38.99999999808,859306.96187512681,708928,null,"878187",878,"Tri County",187,"Millis                       ",38.99999999808,859306.96187512681,708928]
[878,"Tri County",208,"Norfolk                      ",50.999999995979998,1123709.1039572968,899403,null,"878208",878,"Tri County",208,"Norfolk                      ",50.999999995979998,1123709.1039572968,899403]
[878,"Tri County",212,"North Attleborough           ",226.00000000296001,4979573.6768175131,3547774,null,"878212",878,"Tri County",212,"North Attleborough           ",226.00000000296001,4979573.6768175131,3547774]
[878,"Tri County",238,"Plainville                   ",98.999999997390006,2181317.6725021256,1788001,null,"878238",878,"Tri County",238,"Plainville                   ",98.999999997390006,2181317.6725021256,1788001]
[878,"Tri County",265,"Seekonk                      ",87.999999997679993,1938949.0422241115,1474114,null,"878265",878,"Tri County",265,"Seekonk                      ",87.999999997679993,1938949.0422241115,1474114]
[878,"Tri County",269,"Sherborn                     ",5.0000000007600001,110167.55923692895,90888,null,"878269",878,"Tri County",269,"Sherborn                     ",5.0000000007600001,110167.55923692895,90888]
[878,"Tri County",307,"Walpole                      ",102.99999999996,2269451.7199348984,1840997,null,"878307",878,"Tri County",307,"Walpole                      ",102.99999999996,2269451.7199348984,1840997]
[878,"Tri County",350,"Wrentham                     ",81.999999998730004,1806747.9711830264,1480556,null,"878350",878,"Tri County",350,"Wrentham                     ",81.999999998730004,1806747.9711830264,1480556]
["878 Total",null,null,null,980.99999999999989,21614875.119000003,16826578,null,"878999",878,0,0,0,980.99999999999989,21614875.119000003,16826578,{"$f":"VLOOKUP($J476,aidcalc,25,FALSE)","v":6174341.0000015404},{"$f":"VLOOKUP($J476,aidcalc,27,FALSE)","v":23000919.000001542}]
[879,"Upper Cape Cod",36,"Bourne                       ",239.07207207384002,5468737.7851980999,4511709,null,"879036",879,"Upper Cape Cod",36,"Bourne                       ",239.07207207384002,5468737.7851980999,4511709]
[879,"Upper Cape Cod",96,"Falmouth                     ",208.93693693316001,4779401.0894631529,3943006,null,"879096",879,"Upper Cape Cod",96,"Falmouth                     ",208.93693693316001,4779401.0894631529,3943006]
[879,"Upper Cape Cod",169,"Marion                       ",38.171171168679997,873159.8143799518,720357,null,"879169",879,"Upper Cape Cod",169,"Marion                       ",38.171171168679997,873159.8143799518,720357]
[879,"Upper Cape Cod",261,"Sandwich                     ",167.75225224952001,3837307.6054893024,3165779,null,"879261",879,"Upper Cape Cod",261,"Sandwich                     ",167.75225224952001,3837307.6054893024,3165779]
[879,"Upper Cape Cod",310,"Wareham                      ",238.06756756588001,5445759.8952654516,3450921,null,"879310",879,"Upper Cape Cod",310,"Wareham                      ",238.06756756588001,5445759.8952654516,3450921]
["879 Total",null,null,null,891.99999999108013,20404366.189795956,15791772,null,"879999",879,0,0,0,891.99999999108013,20404366.189795956,15791772,{"$f":"VLOOKUP($J482,aidcalc,25,FALSE)","v":4786959.9999993313},{"$f":"VLOOKUP($J482,aidcalc,27,FALSE)","v":20578731.999999329}]
[885,"Whittier",7,"Amesbury                     ",108.00000000384,2430865.8330677971,1797032,null,"885007",885,"Whittier",7,"Amesbury                     ",108.00000000384,2430865.8330677971,1797032]
[885,"Whittier",105,"Georgetown                   ",65.000000000879993,1463021.1032030368,1201019,null,"885105",885,"Whittier",105,"Georgetown                   ",65.000000000879993,1463021.1032030368,1201019]
[885,"Whittier",116,"Groveland                    ",32.99999999688,742764.56000741466,554936,null,"885116",885,"Whittier",116,"Groveland                    ",32.99999999688,742764.56000741466,554936]
[885,"Whittier",128,"Haverhill                    ",875.99999999680006,19717022.867443502,7448429,null,"885128",885,"Whittier",128,"Haverhill                    ",875.99999999680006,19717022.867443502,7448429]
[885,"Whittier",144,"Ipswich                      ",34.00000000264,765272.57710911054,631350,null,"885144",885,"Whittier",144,"Ipswich                      ",34.00000000264,765272.57710911054,631350]
[885,"Whittier",180,"Merrimac                     ",39.00000000568,877812.66203778342,666034,null,"885180",885,"Whittier",180,"Merrimac                     ",39.00000000568,877812.66203778342,666034]
[885,"Whittier",203,"Newbury                      ",23.99999999656,540192.4072517649,445659,null,"885203",885,"Whittier",203,"Newbury                      ",23.99999999656,540192.4072517649,445659]
[885,"Whittier",204,"Newburyport                  ",25.999999995200003,585208.44116525352,482797,null,"885204",885,"Whittier",204,"Newburyport                  ",25.999999995200003,585208.44116525352,482797]
[885,"Whittier",254,"Rowley                       ",19.000000006400001,427652.3226129954,350742,null,"885254",885,"Whittier",254,"Rowley                       ",19.000000006400001,427652.3226129954,350742]
[885,"Whittier",259,"Salisbury                    ",52.999999996160007,1192924.8994322028,984163,null,"885259",885,"Whittier",259,"Salisbury                    ",52.999999996160007,1192924.8994322028,984163]
[885,"Whittier",329,"West Newbury                 ",10.999999998960002,247588.18666913826,196543,null,"885329",885,"Whittier",329,"West Newbury                 ",10.999999998960002,247588.18666913826,196543]
["885 Total",null,null,null,1288,28990325.859999996,14758704,null,"885999",885,0,0,0,1288,28990325.859999996,14758704,{"$f":"VLOOKUP($J494,aidcalc,25,FALSE)","v":14231622},{"$f":"VLOOKUP($J494,aidcalc,27,FALSE)","v":28990326}]
[910,"Bristol County",3,"Acushnet                     ",23.000000000349999,504220.1496252637,304801,null,"910003",910,"Bristol County",3,"Acushnet                     ",23.000000000349999,504220.1496252637,304801]
[910,"Bristol County",16,"Attleboro                    ",25.000000001290001,548065.3800474006,243815,null,"910016",910,"Bristol County",16,"Attleboro                    ",25.000000001290001,548065.3800474006,243815]
[910,"Bristol County",27,"Berkley                      ",20.999999999410001,460374.91920312686,285466,null,"910027",910,"Bristol County",27,"Berkley                      ",20.999999999410001,460374.91920312686,285466]
[910,"Bristol County",72,"Dartmouth                    ",16.999999997530001,372684.45835885307,307465,null,"910072",910,"Bristol County",72,"Dartmouth                    ",16.999999997530001,372684.45835885307,307465]
[910,"Bristol County",76,"Dighton                      ",32.999999999819998,723446.30162129283,399189,null,"910076",910,"Bristol County",76,"Dighton                      ",32.999999999819998,723446.30162129283,399189]
[910,"Bristol County",88,"Easton                       ",7.9999999985299999,175380.92157389229,144360,null,"910088",910,"Bristol County",88,"Easton                       ",7.9999999985299999,175380.92157389229,144360]
[910,"Bristol County",94,"Fairhaven                    ",27.000000002229999,591910.61046953744,383486,null,"910094",910,"Bristol County",94,"Fairhaven                    ",27.000000002229999,591910.61046953744,383486]
[910,"Bristol County",95,"Fall River                   ",56.000000000170004,1227666.4512465568,194036,null,"910095",910,"Bristol County",95,"Fall River                   ",56.000000000170004,1227666.4512465568,194036]
[910,"Bristol County",102,"Freetown                     ",27.999999997470002,613833.22556595074,449750,null,"910102",910,"Bristol County",102,"Freetown                     ",27.999999997470002,613833.22556595074,449750]
[910,"Bristol County",167,"Mansfield                    ",7.9999999985299999,175380.92157389229,140834,null,"910167",910,"Bristol County",167,"Mansfield                    ",7.9999999985299999,175380.92157389229,140834]
[910,"Bristol County",201,"New Bedford                  ",54.999999999700002,1205743.8360354882,165833,null,"910201",910,"Bristol County",201,"New Bedford                  ",54.999999999700002,1205743.8360354882,165833]
[910,"Bristol County",212,"North Attleborough           ",9.9999999994700008,219226.15199602919,156191,null,"910212",910,"Bristol County",212,"North Attleborough           ",9.9999999994700008,219226.15199602919,156191]
[910,"Bristol County",218,"Norton                       ",13.00000000088,284993.99762923451,228768,null,"910218",910,"Bristol County",218,"Norton                       ",13.00000000088,284993.99762923451,228768]
[910,"Bristol County",245,"Raynham                      ",16.999999997530001,372684.45835885307,225185,null,"910245",910,"Bristol County",245,"Raynham                      ",16.999999997530001,372684.45835885307,225185]
[910,"Bristol County",247,"Rehoboth                     ",43.99999999976,964595.06882839056,795791,null,"910247",910,"Bristol County",247,"Rehoboth                     ",43.99999999976,964595.06882839056,795791]
[910,"Bristol County",265,"Seekonk                      ",9.9999999994700008,219226.15199602919,166670,null,"910265",910,"Bristol County",265,"Seekonk                      ",9.9999999994700008,219226.15199602919,166670]
[910,"Bristol County",273,"Somerset                     ",29.999999998410001,657678.45598808757,373450,null,"910273",910,"Bristol County",273,"Somerset                     ",29.999999998410001,657678.45598808757,373450]
[910,"Bristol County",292,"Swansea                      ",19.999999998940002,438452.30399205838,297503,null,"910292",910,"Bristol County",292,"Swansea                      ",19.999999998940002,438452.30399205838,297503]
[910,"Bristol County",293,"Taunton                      ",48.000000001640004,1052285.5296726644,333752,null,"910293",910,"Bristol County",293,"Taunton                      ",48.000000001640004,1052285.5296726644,333752]
[910,"Bristol County",331,"Westport                     ",29.999999998410001,657678.45598808757,527659,null,"910331",910,"Bristol County",331,"Westport                     ",29.999999998410001,657678.45598808757,527659]
["910 Total",null,null,null,522.9999999895399,11465527.749770688,6124004,null,{"$f":"IF(L517=0,J517&999,J517&TEXT(L517,\"000\"))","v":"910999"},{"$f":"VALUE(LEFT(A517,3))","v":910},{"$f":"B517","v":0},{"$f":"C517","v":0},{"$f":"D517","v":0},{"$f":"E517","v":522.9999999895399},{"$f":"F517","v":11465527.749770688},{"$f":"G517","v":6124004},{"$f":"VLOOKUP($J515,aidcalc,25,FALSE)","v":5341524},{"$f":"VLOOKUP($J515,aidcalc,27,FALSE)","v":11465528}]
[915,"Norfolk County",18,"Avon                         ",3.9999999996,92505.204001081569,54327,null,"915018",915,"Norfolk County",18,"Avon                         ",3.9999999996,92505.204001081569,54327]
[915,"Norfolk County",25,"Bellingham                   ",15.000000001209999,346894.51506672817,236915,null,"915025",915,"Norfolk County",25,"Bellingham                   ",15.000000001209999,346894.51506672817,236915]
[915,"Norfolk County",40,"Braintree                    ",21.000000000610001,485652.32106835057,379572,null,"915040",915,"Norfolk County",40,"Braintree                    ",21.000000000610001,485652.32106835057,379572]
[915,"Norfolk County",46,"Brookline                    ",0,0,0,null,"915046",915,"Norfolk County",46,"Brookline                    ",0,0,0]
[915,"Norfolk County",50,"Canton                       ",9.9999999989999999,231263.01000270396,186204,null,"915050",915,"Norfolk County",50,"Canton                       ",9.9999999989999999,231263.01000270396,186204]
[915,"Norfolk County",65,"Cohasset                     ",0,0,0,null,"915065",915,"Norfolk County",65,"Cohasset                     ",0,0,0]
[915,"Norfolk County",73,"Dedham                       ",12.9999999987,300641.9130035151,248030,null,"915073",915,"Norfolk County",73,"Dedham                       ",12.9999999987,300641.9130035151,248030]
[915,"Norfolk County",78,"Dover                        ",2.9999999997,69378.903000811173,57238,null,"915078",915,"Norfolk County",78,"Dover                        ",2.9999999997,69378.903000811173,57238]
[915,"Norfolk County",99,"Foxborough                   ",9.9999999989999999,231263.01000270396,190792,null,"915099",915,"Norfolk County",99,"Foxborough                   ",9.9999999989999999,231263.01000270396,190792]
[915,"Norfolk County",101,"Franklin                     ",17.000000001009997,393147.11706726893,314989,null,"915101",915,"Norfolk County",101,"Franklin                     ",17.000000001009997,393147.11706726893,314989]
[915,"Norfolk County",133,"Holbrook                     ",8.9999999991000017,208136.70900243355,94931,null,"915133",915,"Norfolk County",133,"Holbrook                     ",8.9999999991000017,208136.70900243355,94931]
[915,"Norfolk County",175,"Medfield                     ",2.9999999997,69378.903000811173,57238,null,"915175",915,"Norfolk County",175,"Medfield                     ",2.9999999997,69378.903000811173,57238]
[915,"Norfolk County",177,"Medway                       ",11.9999999988,277515.61200324469,209048,null,"915177",915,"Norfolk County",177,"Medway                       ",11.9999999988,277515.61200324469,209048]
[915,"Norfolk County",187,"Millis                       ",10.9999999989,254389.31100297434,209871,null,"915187",915,"Norfolk County",187,"Millis                       ",10.9999999989,254389.31100297434,209871]
[915,"Norfolk County",189,"Milton                       ",7.9999999991999999,185010.40800216314,148019,null,"915189",915,"Norfolk County",189,"Milton                       ",7.9999999991999999,185010.40800216314,148019]
[915,"Norfolk County",199,"Needham                      ",0.99999999989999999,23126.301000270392,19079,null,"915199",915,"Norfolk County",199,"Needham                      ",0.99999999989999999,23126.301000270392,19079]
[915,"Norfolk County",208,"Norfolk                      ",14.000000001309999,323768.21406645776,259140,null,"915208",915,"Norfolk County",208,"Norfolk                      ",14.000000001309999,323768.21406645776,259140]
[915,"Norfolk County",220,"Norwood                      ",17.000000001009997,393147.11706726893,280874,null,"915220",915,"Norfolk County",220,"Norwood                      ",17.000000001009997,393147.11706726893,280874]
[915,"Norfolk County",238,"Plainville                   ",6.9999999992999999,161884.10700189276,132695,null,"915238",915,"Norfolk County",238,"Plainville                   ",6.9999999992999999,161884.10700189276,132695]
[915,"Norfolk County",243,"Quincy                       ",9.9999999989999999,231263.01000270396,181061,null,"915243",915,"Norfolk County",243,"Quincy                       ",9.9999999989999999,231263.01000270396,181061]
[915,"Norfolk County",244,"Randolph                     ",9.9999999989999999,231263.01000270396,114643,null,"915244",915,"Norfolk County",244,"Randolph                     ",9.9999999989999999,231263.01000270396,114643]
[915,"Norfolk County",266,"Sharon                       ",9.9999999989999999,231263.01000270396,188173,null,"915266",915,"Norfolk County",266,"Sharon                       ",9.9999999989999999,231263.01000270396,188173]
[915,"Norfolk County",285,"Stoughton                    ",6.9999999992999999,161884.10700189276,91243,null,"915285",915,"Norfolk County",285,"Stoughton                    ",6.9999999992999999,161884.10700189276,91243]
[915,"Norfolk County",307,"Walpole                      ",19.000000000810001,439399.71906780981,356445,null,"915307",915,"Norfolk County",307,"Walpole                      ",19.000000000810001,439399.71906780981,356445]
[915,"Norfolk County",317,"Wellesley                    ",1.9999999998,46252.602000540785,38158,null,"915317",915,"Norfolk County",317,"Wellesley                    ",1.9999999998,46252.602000540785,38158]
[915,"Norfolk County",335,"Westwood                     ",3.9999999996,92505.204001081569,75886,null,"915335",915,"Norfolk County",335,"Westwood                     ",3.9999999996,92505.204001081569,75886]
[915,"Norfolk County",336,"Weymouth                     ",25.000000000210001,578157.5250694321,439624,null,"915336",915,"Norfolk County",336,"Weymouth                     ",25.000000000210001,578157.5250694321,439624]
[915,"Norfolk County",350,"Wrentham                     ",8.9999999991000017,208136.70900243355,170559,null,{"$f":"IF(L545=0,J545&999,J545&TEXT(L545,\"000\"))","v":"915350"},{"$f":"VALUE(LEFT(A545,3))","v":915},{"$f":"B545","v":"Norfolk County"},{"$f":"C545","v":350},{"$f":"D545","v":"Wrentham                     "},{"$f":"E545","v":8.9999999991000017},{"$f":"F545","v":208136.70900243355},{"$f":"G545","v":170559}]
["915 Total",null,null,null,270.99999999186997,6267227.5715119839,4734754,null,{"$f":"IF(L546=0,J546&999,J546&TEXT(L546,\"000\"))","v":"915999"},{"$f":"VALUE(LEFT(A546,3))","v":915},{"$f":"B546","v":0},{"$f":"C546","v":0},{"$f":"D546","v":0},{"$f":"E546","v":270.99999999186997},{"$f":"F546","v":6267227.5715119839},{"$f":"G546","v":4734754},{"$f":"VLOOKUP($J544,aidcalc,25,FALSE)","v":1551779.9999994056},{"$f":"VLOOKUP($J544,aidcalc,27,FALSE)","v":6286533.9999994058}]
["Grand Total",null,null,null,126733.00000003978,2175361222.0572777,1329042237]

{"sheet":"leas","index":19,"n_rows":537,"n_cols":18,"rows_kept":537,"cut":false,"hidden":true,"merged":[[1,0,1,4],[1,11,1,16]]}
[]
["leas",null,null,null,null,null,null,null,null,null,null,"regdetail"]
[{"$f":"Index!C4","v":999},{"$f":"'Regional District Members'!D4","v":49}]
["lea_order","reg_order","lea_list and reg_list ","LEA","District","org4code","org4code",null,"regcount",null,null,null,"Record"]
[null,null,null,null,"Select a district",999,"0999"]
[1,null,{"$f":"PROPER(D6&\" \"&E6)","v":"1 Abington"},1,"Abington",1,"0001",null,406,1,null,"code","Number","fraclea","District","memlea","Town"]
[2,null,"2 Acton",2,"Acton",2,"0002",null,600,2,null,40601,1,406,"NORTHAMPTON SMITH",210,{"$f":"VLOOKUP(P7,'Townwide Contributions'!$A$9:$B$361,2,0)","v":"Northampton"},"NORTHAMPTON                  "]
[355,null,"600 Acton Boxborough",600,"Acton Boxborough",600,"0600",null,603,2,null,60001,1,600,"ACTON BOXBOROUGH",2,{"$f":"VLOOKUP(P8,'Townwide Contributions'!$A$9:$B$361,2,0)","v":"Acton"},"ACTON                        "]
[3,null,"3 Acushnet",3,"Acushnet",3,"0003",null,605,4,null,60002,2,600,"ACTON BOXBOROUGH",37,{"$f":"VLOOKUP(P9,'Townwide Contributions'!$A$9:$B$361,2,0)","v":"Boxborough"},"BOXBOROUGH                   "]
[4,null,"4 Adams",4,"Adams",4,"0004",null,610,2,null,60301,1,603,"HOOSAC VALLEY",4,{"$f":"VLOOKUP(P10,'Townwide Contributions'!$A$9:$B$361,2,0)","v":"Adams"},"ADAMS                        "]
[5,null,"5 Agawam",5,"Agawam",5,"0005",null,615,2,null,60302,2,603,"HOOSAC VALLEY",58,{"$f":"VLOOKUP(P11,'Townwide Contributions'!$A$9:$B$361,2,0)","v":"Cheshire"},"CHESHIRE                     "]
[6,null,"6 Alford",6,"Alford",6,"0006",null,616,2,null,60501,1,605,"AMHERST PELHAM",8,{"$f":"VLOOKUP(P12,'Townwide Contributions'!$A$9:$B$361,2,0)","v":"Amherst"},"AMHERST                      "]
[7,null,"7 Amesbury",7,"Amesbury",7,"0007",null,618,3,null,60502,2,605,"AMHERST PELHAM",154,{"$f":"VLOOKUP(P13,'Townwide Contributions'!$A$9:$B$361,2,0)","v":"Leverett"},"LEVERETT                     "]
[8,null,"8 Amherst",8,"Amherst",8,"0008",null,620,2,null,60503,3,605,"AMHERST PELHAM",230,{"$f":"VLOOKUP(P14,'Townwide Contributions'!$A$9:$B$361,2,0)","v":"Pelham"},"PELHAM                       "]
[357,null,"605 Amherst Pelham",605,"Amherst Pelham",605,"0605",null,622,2,null,60504,4,605,"AMHERST PELHAM",272,{"$f":"VLOOKUP(P15,'Townwide Contributions'!$A$9:$B$361,2,0)","v":"Shutesbury"},"SHUTESBURY                   "]
[9,null,"9 Andover",9,"Andover",9,"0009",null,625,2,null,61001,1,610,"ASHBURNHAM WESTMINSTER",11,{"$f":"VLOOKUP(P16,'Townwide Contributions'!$A$9:$B$361,2,0)","v":"Ashburnham"},"ASHBURNHAM                   "]
[104,null,"104 Aquinnah",104,"Aquinnah",104,"0104",null,632,2,null,61002,2,610,"ASHBURNHAM WESTMINSTER",328,{"$f":"VLOOKUP(P17,'Townwide Contributions'!$A$9:$B$361,2,0)","v":"Westminster"},"WESTMINSTER                  "]
[10,null,"10 Arlington",10,"Arlington",10,"0010",null,635,7,null,61501,1,615,"ATHOL ROYALSTON",15,{"$f":"VLOOKUP(P18,'Townwide Contributions'!$A$9:$B$361,2,0)","v":"Athol"},"ATHOL                        "]
[11,null,"11 Ashburnham",11,"Ashburnham",11,"0011",null,640,2,null,61502,2,615,"ATHOL ROYALSTON",255,{"$f":"VLOOKUP(P19,'Townwide Contributions'!$A$9:$B$361,2,0)","v":"Royalston"},"ROYALSTON                    "]
[358,null,"610 Ashburnham Westminster",610,"Ashburnham Westminster",610,"0610",null,645,2,null,61601,1,616,"AYER SHIRLEY",19,{"$f":"VLOOKUP(P20,'Townwide Contributions'!$A$9:$B$361,2,0)","v":"Ayer"},"AYER                         "]
[12,null,"12 Ashby",12,"Ashby",12,"0012",null,650,2,null,61602,2,616,"AYER SHIRLEY",270,{"$f":"VLOOKUP(P21,'Townwide Contributions'!$A$9:$B$361,2,0)","v":"Shirley"},"SHIRLEY                      "]
[13,null,"13 Ashfield",13,"Ashfield",13,"0013",null,655,2,null,61801,1,618,"BERKSHIRE HILLS",113,{"$f":"VLOOKUP(P22,'Townwide Contributions'!$A$9:$B$361,2,0)","v":"Great Barrington"},"GREAT BARRINGTON             "]
[14,null,"14 Ashland",14,"Ashland",14,"0014",null,658,2,null,61802,2,618,"BERKSHIRE HILLS",283,{"$f":"VLOOKUP(P23,'Townwide Contributions'!$A$9:$B$361,2,0)","v":"Stockbridge"},"STOCKBRIDGE                  "]
[413,null,"801 Assabet Valley",801,"Assabet Valley",801,"0801",null,660,4,null,61803,3,618,"BERKSHIRE HILLS",333,{"$f":"VLOOKUP(P24,'Townwide Contributions'!$A$9:$B$361,2,0)","v":"West Stockbridge"},"WEST STOCKBRIDGE             "]
[15,null,"15 Athol",15,"Athol",15,"0015",null,662,2,null,62001,1,620,"BERLIN BOYLSTON",28,{"$f":"VLOOKUP(P25,'Townwide Contributions'!$A$9:$B$361,2,0)","v":"Berlin"},"BERLIN                       "]
[359,null,"615 Athol Royalston",615,"Athol Royalston",615,"0615",null,665,2,null,62002,2,620,"BERLIN BOYLSTON",39,{"$f":"VLOOKUP(P26,'Townwide Contributions'!$A$9:$B$361,2,0)","v":"Boylston"},"BOYLSTON                     "]
[16,null,"16 Attleboro",16,"Attleboro",16,"0016",null,670,4,null,62201,1,622,"BLACKSTONE MILLVILLE",32,{"$f":"VLOOKUP(P27,'Townwide Contributions'!$A$9:$B$361,2,0)","v":"Blackstone"},"BLACKSTONE                   "]
[17,null,"17 Auburn",17,"Auburn",17,"0017",null,672,6,null,62202,2,622,"BLACKSTONE MILLVILLE",188,{"$f":"VLOOKUP(P28,'Townwide Contributions'!$A$9:$B$361,2,0)","v":"Millville"},"MILLVILLE                    "]
[18,null,"18 Avon",18,"Avon",18,"0018",null,673,2,null,62501,1,625,"BRIDGEWATER RAYNHAM",42,{"$f":"VLOOKUP(P29,'Townwide Contributions'!$A$9:$B$361,2,0)","v":"Bridgewater"},"BRIDGEWATER                  "]
[19,null,"19 Ayer",19,"Ayer",19,"0019",null,674,2,null,62502,2,625,"BRIDGEWATER RAYNHAM",245,{"$f":"VLOOKUP(P30,'Townwide Contributions'!$A$9:$B$361,2,0)","v":"Raynham"},"RAYNHAM                      "]
[360,null,"616 Ayer Shirley",616,"Ayer Shirley",616,"0616",null,675,2,null,63201,1,632,"CHESTERFIELD GOSHEN",60,{"$f":"VLOOKUP(P31,'Townwide Contributions'!$A$9:$B$361,2,0)","v":"Chesterfield"},"CHESTERFIELD                 "]
[20,null,"20 Barnstable",20,"Barnstable",20,"0020",null,680,2,null,63202,2,632,"CHESTERFIELD GOSHEN",108,{"$f":"VLOOKUP(P32,'Townwide Contributions'!$A$9:$B$361,2,0)","v":"Goshen"},"GOSHEN                       "]
[21,null,"21 Barre",21,"Barre",21,"0021",null,683,5,null,63501,1,635,"CENTRAL BERKSHIRE",22,{"$f":"VLOOKUP(P33,'Townwide Contributions'!$A$9:$B$361,2,0)","v":"Becket"},"BECKET                       "]
[22,null,"22 Becket",22,"Becket",22,"0022",null,685,2,null,63502,2,635,"CENTRAL BERKSHIRE",69,{"$f":"VLOOKUP(P34,'Townwide Contributions'!$A$9:$B$361,2,0)","v":"Cummington"},"CUMMINGTON                   "]
[23,null,"23 Bedford",23,"Bedford",23,"0023",null,690,3,null,63503,3,635,"CENTRAL BERKSHIRE",70,{"$f":"VLOOKUP(P35,'Townwide Contributions'!$A$9:$B$361,2,0)","v":"Dalton"},"DALTON                       "]
[24,null,"24 Belchertown",24,"Belchertown",24,"0024",null,695,2,null,63504,4,635,"CENTRAL BERKSHIRE",132,{"$f":"VLOOKUP(P36,'Townwide Contributions'!$A$9:$B$361,2,0)","v":"Hinsdale"},"HINSDALE                     "]
[25,null,"25 Bellingham",25,"Bellingham",25,"0025",null,698,2,null,63505,5,635,"CENTRAL BERKSHIRE",233,{"$f":"VLOOKUP(P37,'Townwide Contributions'!$A$9:$B$361,2,0)","v":"Peru"},"PERU                         "]
[26,null,"26 Belmont",26,"Belmont",26,"0026",null,700,6,null,63506,6,635,"CENTRAL BERKSHIRE",313,{"$f":"VLOOKUP(P38,'Townwide Contributions'!$A$9:$B$361,2,0)","v":"Washington"},"WASHINGTON                   "]
[27,null,"27 Berkley",27,"Berkley",27,"0027",null,705,3,null,63507,7,635,"CENTRAL BERKSHIRE",345,{"$f":"VLOOKUP(P39,'Townwide Contributions'!$A$9:$B$361,2,0)","v":"Windsor"},"WINDSOR                      "]
[361,null,"618 Berkshire Hills",618,"Berkshire Hills",618,"0618",null,710,2,null,64001,1,640,"CONCORD CARLISLE",51,{"$f":"VLOOKUP(P40,'Townwide Contributions'!$A$9:$B$361,2,0)","v":"Carlisle"},"CARLISLE                     "]
[28,null,"28 Berlin",28,"Berlin",28,"0028",null,712,2,null,64002,2,640,"CONCORD CARLISLE",67,{"$f":"VLOOKUP(P41,'Townwide Contributions'!$A$9:$B$361,2,0)","v":"Concord"},"CONCORD                      "]
[362,null,"620 Berlin Boylston",620,"Berlin Boylston",620,"0620",null,715,2,null,64501,1,645,"DENNIS YARMOUTH",75,{"$f":"VLOOKUP(P42,'Townwide Contributions'!$A$9:$B$361,2,0)","v":"Dennis"},"DENNIS                       "]
[29,null,"29 Bernardston",29,"Bernardston",29,"0029",null,717,8,null,64502,2,645,"DENNIS YARMOUTH",351,{"$f":"VLOOKUP(P43,'Townwide Contributions'!$A$9:$B$361,2,0)","v":"Yarmouth"},"YARMOUTH                     "]
[30,null,"30 Beverly",30,"Beverly",30,"0030",null,720,2,null,65001,1,650,"DIGHTON REHOBOTH",76,{"$f":"VLOOKUP(P44,'Townwide Contributions'!$A$9:$B$361,2,0)","v":"Dighton"},"DIGHTON                      "]
[31,null,"31 Billerica",31,"Billerica",31,"0031",null,725,3,null,65002,2,650,"DIGHTON REHOBOTH",247,{"$f":"VLOOKUP(P45,'Townwide Contributions'!$A$9:$B$361,2,0)","v":"Rehoboth"},"REHOBOTH                     "]
[32,null,"32 Blackstone",32,"Blackstone",32,"0032",null,728,2,null,65501,1,655,"DOVER SHERBORN",78,{"$f":"VLOOKUP(P46,'Townwide Contributions'!$A$9:$B$361,2,0)","v":"Dover"},"DOVER                        "]
[363,null,"622 Blackstone Millville",622,"Blackstone Millville",622,"0622",null,730,2,null,65502,2,655,"DOVER SHERBORN",269,{"$f":"VLOOKUP(P47,'Townwide Contributions'!$A$9:$B$361,2,0)","v":"Sherborn"},"SHERBORN                     "]
[414,null,"805 Blackstone Valley",805,"Blackstone Valley",805,"0805",null,735,3,null,65801,1,658,"DUDLEY CHARLTON",54,{"$f":"VLOOKUP(P48,'Townwide Contributions'!$A$9:$B$361,2,0)","v":"Charlton"},"CHARLTON                     "]
[33,null,"33 Blandford",33,"Blandford",33,"0033",null,740,3,null,65802,2,658,"DUDLEY CHARLTON",80,{"$f":"VLOOKUP(P49,'Townwide Contributions'!$A$9:$B$361,2,0)","v":"Dudley"},"DUDLEY                       "]
[415,null,"806 Blue Hills",806,"Blue Hills",806,"0806",null,745,3,null,66001,1,660,"NAUSET",41,{"$f":"VLOOKUP(P50,'Townwide Contributions'!$A$9:$B$361,2,0)","v":"Brewster"},"BREWSTER                     "]
[34,null,"34 Bolton",34,"Bolton",34,"0034",null,750,3,null,66002,2,660,"NAUSET",85,{"$f":"VLOOKUP(P51,'Townwide Contributions'!$A$9:$B$361,2,0)","v":"Eastham"},"EASTHAM                      "]
[35,null,"35 Boston",35,"Boston",35,"0035",null,753,5,null,66003,3,660,"NAUSET",224,{"$f":"VLOOKUP(P52,'Townwide Contributions'!$A$9:$B$361,2,0)","v":"Orleans"},"ORLEANS                      "]
[36,null,"36 Bourne",36,"Bourne",36,"0036",null,755,4,null,66004,4,660,"NAUSET",318,{"$f":"VLOOKUP(P53,'Townwide Contributions'!$A$9:$B$361,2,0)","v":"Wellfleet"},"WELLFLEET                    "]
[37,null,"37 Boxborough",37,"Boxborough",37,"0037",null,760,3,null,66201,1,662,"FARMINGTON RIVER",225,{"$f":"VLOOKUP(P54,'Townwide Contributions'!$A$9:$B$361,2,0)","v":"Otis"},"OTIS                         "]
[38,null,"38 Boxford",38,"Boxford",38,"0038",null,763,2,null,66202,2,662,"FARMINGTON RIVER",260,{"$f":"VLOOKUP(P55,'Townwide Contributions'!$A$9:$B$361,2,0)","v":"Sandisfield"},"SANDISFIELD                  "]
[39,null,"39 Boylston",39,"Boylston",39,"0039",null,765,5,null,66501,1,665,"FREETOWN LAKEVILLE",102,{"$f":"VLOOKUP(P56,'Townwide Contributions'!$A$9:$B$361,2,0)","v":"Freetown"},"FREETOWN                     "]
[40,null,"40 Braintree",40,"Braintree",40,"0040",null,766,3,null,66502,2,665,"FREETOWN LAKEVILLE",146,{"$f":"VLOOKUP(P57,'Townwide Contributions'!$A$9:$B$361,2,0)","v":"Lakeville"},"LAKEVILLE                    "]
[41,null,"41 Brewster",41,"Brewster",41,"0041",null,767,2,null,67001,1,670,"FRONTIER",68,{"$f":"VLOOKUP(P58,'Townwide Contributions'!$A$9:$B$361,2,0)","v":"Conway"},"CONWAY                       "]
[42,null,"42 Bridgewater",42,"Bridgewater",42,"0042",null,770,5,null,67002,2,670,"FRONTIER",74,{"$f":"VLOOKUP(P59,'Townwide Contributions'!$A$9:$B$361,2,0)","v":"Deerfield"},"DEERFIELD                    "]
[364,null,"625 Bridgewater Raynham",625,"Bridgewater Raynham",625,"0625",null,773,3,null,67003,3,670,"FRONTIER",289,{"$f":"VLOOKUP(P60,'Townwide Contributions'!$A$9:$B$361,2,0)","v":"Sunderland"},"SUNDERLAND                   "]
[43,null,"43 Brimfield",43,"Brimfield",43,"0043",null,774,3,null,67004,4,670,"FRONTIER",337,{"$f":"VLOOKUP(P61,'Townwide Contributions'!$A$9:$B$361,2,0)","v":"Whately"},"WHATELY                      "]
[439,null,"910 Bristol County",910,"Bristol County",910,"0910",null,775,5,null,67201,1,672,"GATEWAY",33,{"$f":"VLOOKUP(P62,'Townwide Contributions'!$A$9:$B$361,2,0)","v":"Blandford"},"BLANDFORD                    "]
[416,null,"810 Bristol Plymouth",810,"Bristol Plymouth",810,"0810",null,778,2,null,67202,2,672,"GATEWAY",59,{"$f":"VLOOKUP(P63,'Townwide Contributions'!$A$9:$B$361,2,0)","v":"Chester"},"CHESTER                      "]
[44,null,"44 Brockton",44,"Brockton",44,"0044",null,780,2,null,67203,3,672,"GATEWAY",143,{"$f":"VLOOKUP(P64,'Townwide Contributions'!$A$9:$B$361,2,0)","v":"Huntington"},"HUNTINGTON                   "]
[45,null,"45 Brookfield",45,"Brookfield",45,"0045",null,801,7,null,67204,4,672,"GATEWAY",183,{"$f":"VLOOKUP(P65,'Townwide Contributions'!$A$9:$B$361,2,0)","v":"Middlefield"},"MIDDLEFIELD                  "]
[46,null,"46 Brookline",46,"Brookline",46,"0046",null,805,13,null,67205,5,672,"GATEWAY",194,{"$f":"VLOOKUP(P66,'Townwide Contributions'!$A$9:$B$361,2,0)","v":"Montgomery"},"MONTGOMERY                   "]
[47,null,"47 Buckland",47,"Buckland",47,"0047",null,806,9,null,67206,6,672,"GATEWAY",256,{"$f":"VLOOKUP(P67,'Townwide Contributions'!$A$9:$B$361,2,0)","v":"Russell"},"RUSSELL                      "]
[48,null,"48 Burlington",48,"Burlington",48,"0048",null,810,8,null,67301,1,673,"GROTON DUNSTABLE",81,{"$f":"VLOOKUP(P68,'Townwide Contributions'!$A$9:$B$361,2,0)","v":"Dunstable"},"DUNSTABLE                    "]
[49,null,"49 Cambridge",49,"Cambridge",49,"0049",null,815,12,null,67302,2,673,"GROTON DUNSTABLE",115,{"$f":"VLOOKUP(P69,'Townwide Contributions'!$A$9:$B$361,2,0)","v":"Groton"},"GROTON                       "]
[50,null,{"$f":"PROPER(D70&\" \"&E70)","v":"50 Canton"},50,"Canton",50,"0050",null,817,17,null,67401,1,674,"GILL MONTAGUE",106,{"$f":"VLOOKUP(P70,'Townwide Contributions'!$A$9:$B$361,2,0)","v":"Gill"},"GILL                         "]
[417,null,"815 Cape Cod",815,"Cape Cod",815,"0815",null,818,19,null,67402,2,674,"GILL MONTAGUE",192,{"$f":"VLOOKUP(P71,'Townwide Contributions'!$A$9:$B$361,2,0)","v":"Montague"},"MONTAGUE                     "]
[51,null,"51 Carlisle",51,"Carlisle",51,"0051",null,821,4,null,67501,1,675,"HAMILTON WENHAM",119,{"$f":"VLOOKUP(P72,'Townwide Contributions'!$A$9:$B$361,2,0)","v":"Hamilton"},"HAMILTON                     "]
[52,null,"52 Carver",52,"Carver",52,"0052",null,823,4,null,67502,2,675,"HAMILTON WENHAM",320,{"$f":"VLOOKUP(P73,'Townwide Contributions'!$A$9:$B$361,2,0)","v":"Wenham"},"WENHAM                       "]
[366,null,"635 Central Berkshire",635,"Central Berkshire",635,"0635",null,825,3,null,68001,1,680,"HAMPDEN WILBRAHAM",120,{"$f":"VLOOKUP(P74,'Townwide Contributions'!$A$9:$B$361,2,0)","v":"Hampden"},"HAMPDEN                      "]
[53,null,"53 Charlemont",53,"Charlemont",53,"0053",null,828,4,null,68002,2,680,"HAMPDEN WILBRAHAM",339,{"$f":"VLOOKUP(P75,'Townwide Contributions'!$A$9:$B$361,2,0)","v":"Wilbraham"},"WILBRAHAM                    "]
[54,null,"54 Charlton",54,"Charlton",54,"0054",null,829,5,null,68301,1,683,"HAMPSHIRE",60,{"$f":"VLOOKUP(P76,'Townwide Contributions'!$A$9:$B$361,2,0)","v":"Chesterfield"},"CHESTERFIELD                 "]
[55,null,"55 Chatham",55,"Chatham",55,"0055",null,830,9,null,68302,2,683,"HAMPSHIRE",108,{"$f":"VLOOKUP(P77,'Townwide Contributions'!$A$9:$B$361,2,0)","v":"Goshen"},"GOSHEN                       "]
[56,null,"56 Chelmsford",56,"Chelmsford",56,"0056",null,832,18,null,68303,3,683,"HAMPSHIRE",275,{"$f":"VLOOKUP(P78,'Townwide Contributions'!$A$9:$B$361,2,0)","v":"Southampton"},"SOUTHAMPTON                  "]
[57,null,"57 Chelsea",57,"Chelsea",57,"0057",null,851,9,null,68304,4,683,"HAMPSHIRE",327,{"$f":"VLOOKUP(P79,'Townwide Contributions'!$A$9:$B$361,2,0)","v":"Westhampton"},"WESTHAMPTON                  "]
[58,null,"58 Cheshire",58,"Cheshire",58,"0058",null,852,8,null,68305,5,683,"HAMPSHIRE",340,{"$f":"VLOOKUP(P80,'Townwide Contributions'!$A$9:$B$361,2,0)","v":"Williamsburg"},"WILLIAMSBURG                 "]
[59,null,"59 Chester",59,"Chester",59,"0059",null,853,12,null,68501,1,685,"HAWLEMONT",53,{"$f":"VLOOKUP(P81,'Townwide Contributions'!$A$9:$B$361,2,0)","v":"Charlemont"},"CHARLEMONT                   "]
[60,null,"60 Chesterfield",60,"Chesterfield",60,"0060",null,855,5,null,68502,2,685,"HAWLEMONT",129,{"$f":"VLOOKUP(P82,'Townwide Contributions'!$A$9:$B$361,2,0)","v":"Hawley"},"HAWLEY                       "]
[365,null,"632 Chesterfield Goshen",632,"Chesterfield Goshen",632,"0632",null,860,9,null,69001,1,690,"KING PHILIP",208,{"$f":"VLOOKUP(P83,'Townwide Contributions'!$A$9:$B$361,2,0)","v":"Norfolk"},"NORFOLK                      "]
[61,null,"61 Chicopee",61,"Chicopee",61,"0061",null,871,5,null,69002,2,690,"KING PHILIP",238,{"$f":"VLOOKUP(P84,'Townwide Contributions'!$A$9:$B$361,2,0)","v":"Plainville"},"PLAINVILLE                   "]
[62,null,"62 Chilmark",62,"Chilmark",62,"0062",null,872,9,null,69003,3,690,"KING PHILIP",350,{"$f":"VLOOKUP(P85,'Townwide Contributions'!$A$9:$B$361,2,0)","v":"Wrentham"},"WRENTHAM                     "]
[63,null,"63 Clarksburg",63,"Clarksburg",63,"0063",null,873,9,null,69501,1,695,"LINCOLN SUDBURY",157,{"$f":"VLOOKUP(P86,'Townwide Contributions'!$A$9:$B$361,2,0)","v":"Lincoln"},"LINCOLN                      "]
[64,null,"64 Clinton",64,"Clinton",64,"0064",null,876,10,null,69502,2,695,"LINCOLN SUDBURY",288,{"$f":"VLOOKUP(P87,'Townwide Contributions'!$A$9:$B$361,2,0)","v":"Sudbury"},"SUDBURY                      "]
[65,null,"65 Cohasset",65,"Cohasset",65,"0065",null,878,11,null,69801,1,698,"MANCHESTER ESSEX",92,{"$f":"VLOOKUP(P88,'Townwide Contributions'!$A$9:$B$361,2,0)","v":"Essex"},"ESSEX                        "]
[66,null,"66 Colrain",66,"Colrain",66,"0066",null,879,5,null,69802,2,698,"MANCHESTER ESSEX",166,{"$f":"VLOOKUP(P89,'Townwide Contributions'!$A$9:$B$361,2,0)","v":"Manchester"},"MANCHESTER                   "]
[67,null,"67 Concord",67,"Concord",67,"0067",null,885,11,null,70001,1,700,"MARTHAS VINEYARD",62,{"$f":"VLOOKUP(P90,'Townwide Contributions'!$A$9:$B$361,2,0)","v":"Chilmark"},"CHILMARK                     "]
[367,null,"640 Concord Carlisle",640,"Concord Carlisle",640,"0640",null,910,20,null,70002,2,700,"MARTHAS VINEYARD",89,{"$f":"VLOOKUP(P91,'Townwide Contributions'!$A$9:$B$361,2,0)","v":"Edgartown"},"EDGARTOWN                    "]
[68,null,"68 Conway",68,"Conway",68,"0068",null,915,28,null,70003,3,700,"MARTHAS VINEYARD",104,{"$f":"VLOOKUP(P92,'Townwide Contributions'!$A$9:$B$361,2,0)","v":"Aquinnah"},"AQUINNAH"]
[69,null,"69 Cummington",69,"Cummington",69,"0069",null,999,0,null,70004,4,700,"MARTHAS VINEYARD",221,{"$f":"VLOOKUP(P93,'Townwide Contributions'!$A$9:$B$361,2,0)","v":"Oak Bluffs"},"OAK BLUFFS                   "]
[70,null,"70 Dalton",70,"Dalton",70,"0070",null,null,null,null,70005,5,700,"MARTHAS VINEYARD",296,{"$f":"VLOOKUP(P94,'Townwide Contributions'!$A$9:$B$361,2,0)","v":"Tisbury"},"TISBURY                      "]
[71,null,"71 Danvers",71,"Danvers",71,"0071",null,null,null,null,70006,6,700,"MARTHAS VINEYARD",334,{"$f":"VLOOKUP(P95,'Townwide Contributions'!$A$9:$B$361,2,0)","v":"West Tisbury"},"WEST TISBURY                 "]
[72,null,"72 Dartmouth",72,"Dartmouth",72,"0072",null,null,null,null,70501,1,705,"MASCONOMET",38,{"$f":"VLOOKUP(P96,'Townwide Contributions'!$A$9:$B$361,2,0)","v":"Boxford"},"BOXFORD                      "]
[73,null,"73 Dedham",73,"Dedham",73,"0073",null,null,null,null,70502,2,705,"MASCONOMET",184,{"$f":"VLOOKUP(P97,'Townwide Contributions'!$A$9:$B$361,2,0)","v":"Middleton"},"MIDDLETON                    "]
[74,null,"74 Deerfield",74,"Deerfield",74,"0074",null,null,null,null,70503,3,705,"MASCONOMET",298,{"$f":"VLOOKUP(P98,'Townwide Contributions'!$A$9:$B$361,2,0)","v":"Topsfield"},"TOPSFIELD                    "]
[75,null,"75 Dennis",75,"Dennis",75,"0075",null,null,null,null,71001,1,710,"MENDON UPTON",179,{"$f":"VLOOKUP(P99,'Townwide Contributions'!$A$9:$B$361,2,0)","v":"Mendon"},"MENDON                       "]
[368,null,"645 Dennis Yarmouth",645,"Dennis Yarmouth",645,"0645",null,null,null,null,71002,2,710,"MENDON UPTON",303,{"$f":"VLOOKUP(P100,'Townwide Contributions'!$A$9:$B$361,2,0)","v":"Upton"},"UPTON                        "]
[352,null,"352 Devens",352,"Devens",352,"0352",null,null,null,null,71201,1,712,"MONOMOY",55,{"$f":"VLOOKUP(P101,'Townwide Contributions'!$A$9:$B$361,2,0)","v":"Chatham"},"CHATHAM                      "]
[76,null,"76 Dighton",76,"Dighton",76,"0076",null,null,null,null,71202,2,712,"MONOMOY",126,{"$f":"VLOOKUP(P102,'Townwide Contributions'!$A$9:$B$361,2,0)","v":"Harwich"},"HARWICH                      "]
[369,null,"650 Dighton Rehoboth",650,"Dighton Rehoboth",650,"0650",null,null,null,null,71501,1,715,"MOUNT GREYLOCK",148,{"$f":"VLOOKUP(P103,'Townwide Contributions'!$A$9:$B$361,2,0)","v":"Lanesborough"},"LANESBOROUGH                 "]
[77,null,"77 Douglas",77,"Douglas",77,"0077",null,null,null,null,71502,2,715,"MOUNT GREYLOCK",341,{"$f":"VLOOKUP(P104,'Townwide Contributions'!$A$9:$B$361,2,0)","v":"Williamstown"},"WILLIAMSTOWN                 "]
[78,null,"78 Dover",78,"Dover",78,"0078",null,null,null,null,71701,1,717,"MOHAWK TRAIL",13,{"$f":"VLOOKUP(P105,'Townwide Contributions'!$A$9:$B$361,2,0)","v":"Ashfield"},"ASHFIELD                     "]
[370,null,"655 Dover Sherborn",655,"Dover Sherborn",655,"0655",null,null,null,null,71702,2,717,"MOHAWK TRAIL",47,{"$f":"VLOOKUP(P106,'Townwide Contributions'!$A$9:$B$361,2,0)","v":"Buckland"},"BUCKLAND                     "]
[79,null,"79 Dracut",79,"Dracut",79,"0079",null,null,null,null,71703,3,717,"MOHAWK TRAIL",53,{"$f":"VLOOKUP(P107,'Townwide Contributions'!$A$9:$B$361,2,0)","v":"Charlemont"},"CHARLEMONT                   "]
[80,null,"80 Dudley",80,"Dudley",80,"0080",null,null,null,null,71704,4,717,"MOHAWK TRAIL",66,{"$f":"VLOOKUP(P108,'Townwide Contributions'!$A$9:$B$361,2,0)","v":"Colrain"},"COLRAIN                      "]
[371,null,"658 Dudley Charlton",658,"Dudley Charlton",658,"0658",null,null,null,null,71705,5,717,"MOHAWK TRAIL",129,{"$f":"VLOOKUP(P109,'Townwide Contributions'!$A$9:$B$361,2,0)","v":"Hawley"},"HAWLEY                       "]
[81,null,"81 Dunstable",81,"Dunstable",81,"0081",null,null,null,null,71706,6,717,"MOHAWK TRAIL",130,{"$f":"VLOOKUP(P110,'Townwide Contributions'!$A$9:$B$361,2,0)","v":"Heath"},"HEATH                        "]
[82,null,"82 Duxbury",82,"Duxbury",82,"0082",null,null,null,null,71707,7,717,"MOHAWK TRAIL",237,{"$f":"VLOOKUP(P111,'Townwide Contributions'!$A$9:$B$361,2,0)","v":"Plainfield"},"PLAINFIELD                   "]
[83,null,"83 East Bridgewater",83,"East Bridgewater",83,"0083",null,null,null,null,71708,8,717,"MOHAWK TRAIL",268,{"$f":"VLOOKUP(P112,'Townwide Contributions'!$A$9:$B$361,2,0)","v":"Shelburne"},"SHELBURNE                    "]
[84,null,"84 East Brookfield",84,"East Brookfield",84,"0084",null,null,null,null,72001,1,720,"NARRAGANSETT",235,{"$f":"VLOOKUP(P113,'Townwide Contributions'!$A$9:$B$361,2,0)","v":"Phillipston"},"PHILLIPSTON                  "]
[87,null,"87 East Longmeadow",87,"East Longmeadow",87,"0087",null,null,null,null,72002,2,720,"NARRAGANSETT",294,{"$f":"VLOOKUP(P114,'Townwide Contributions'!$A$9:$B$361,2,0)","v":"Templeton"},"TEMPLETON                    "]
[85,null,"85 Eastham",85,"Eastham",85,"0085",null,null,null,null,72501,1,725,"NASHOBA",34,{"$f":"VLOOKUP(P115,'Townwide Contributions'!$A$9:$B$361,2,0)","v":"Bolton"},"BOLTON                       "]
[86,null,"86 Easthampton",86,"Easthampton",86,"0086",null,null,null,null,72502,2,725,"NASHOBA",147,{"$f":"VLOOKUP(P116,'Townwide Contributions'!$A$9:$B$361,2,0)","v":"Lancaster"},"LANCASTER                    "]
[88,null,"88 Easton",88,"Easton",88,"0088",null,null,null,null,72503,3,725,"NASHOBA",286,{"$f":"VLOOKUP(P117,'Townwide Contributions'!$A$9:$B$361,2,0)","v":"Stow"},"STOW                         "]
[89,null,"89 Edgartown",89,"Edgartown",89,"0089",null,null,null,null,72801,1,728,"NEW SALEM WENDELL",206,{"$f":"VLOOKUP(P118,'Townwide Contributions'!$A$9:$B$361,2,0)","v":"New Salem"},"NEW SALEM                    "]
[90,null,"90 Egremont",90,"Egremont",90,"0090",null,null,null,null,72802,2,728,"NEW SALEM WENDELL",319,{"$f":"VLOOKUP(P119,'Townwide Contributions'!$A$9:$B$361,2,0)","v":"Wendell"},"WENDELL                      "]
[91,null,"91 Erving",91,"Erving",91,"0091",null,null,null,null,73001,1,730,"NORTHBORO SOUTHBORO",213,{"$f":"VLOOKUP(P120,'Townwide Contributions'!$A$9:$B$361,2,0)","v":"Northborough"},"NORTHBOROUGH                 "]
[92,null,"92 Essex",92,"Essex",92,"0092",null,null,null,null,73002,2,730,"NORTHBORO SOUTHBORO",276,{"$f":"VLOOKUP(P121,'Townwide Contributions'!$A$9:$B$361,2,0)","v":"Southborough"},"SOUTHBOROUGH                 "]
[418,null,"817 Essex North Shore",817,"Essex North Shore",817,"0817",null,null,null,null,73501,1,735,"NORTH MIDDLESEX",12,{"$f":"VLOOKUP(P122,'Townwide Contributions'!$A$9:$B$361,2,0)","v":"Ashby"},"ASHBY                        "]
[93,null,"93 Everett",93,"Everett",93,"0093",null,null,null,null,73502,2,735,"NORTH MIDDLESEX",232,{"$f":"VLOOKUP(P123,'Townwide Contributions'!$A$9:$B$361,2,0)","v":"Pepperell"},"PEPPERELL                    "]
[94,null,"94 Fairhaven",94,"Fairhaven",94,"0094",null,null,null,null,73503,3,735,"NORTH MIDDLESEX",299,{"$f":"VLOOKUP(P124,'Townwide Contributions'!$A$9:$B$361,2,0)","v":"Townsend"},"TOWNSEND                     "]
[95,null,"95 Fall River",95,"Fall River",95,"0095",null,null,null,null,74001,1,740,"OLD ROCHESTER",169,{"$f":"VLOOKUP(P125,'Townwide Contributions'!$A$9:$B$361,2,0)","v":"Marion"},"MARION                       "]
[96,null,"96 Falmouth",96,"Falmouth",96,"0096",null,null,null,null,74002,2,740,"OLD ROCHESTER",173,{"$f":"VLOOKUP(P126,'Townwide Contributions'!$A$9:$B$361,2,0)","v":"Mattapoisett"},"MATTAPOISETT                 "]
[373,null,"662 Farmington River",662,"Farmington River",662,"0662",null,null,null,null,74003,3,740,"OLD ROCHESTER",250,{"$f":"VLOOKUP(P127,'Townwide Contributions'!$A$9:$B$361,2,0)","v":"Rochester"},"ROCHESTER                    "]
[97,null,"97 Fitchburg",97,"Fitchburg",97,"0097",null,null,null,null,74501,1,745,"PENTUCKET",116,{"$f":"VLOOKUP(P128,'Townwide Contributions'!$A$9:$B$361,2,0)","v":"Groveland"},"GROVELAND                    "]
[98,null,"98 Florida",98,"Florida",98,"0098",null,null,null,null,74502,2,745,"PENTUCKET",180,{"$f":"VLOOKUP(P129,'Townwide Contributions'!$A$9:$B$361,2,0)","v":"Merrimac"},"MERRIMAC                     "]
[99,null,"99 Foxborough",99,"Foxborough",99,"0099",null,null,null,null,74503,3,745,"PENTUCKET",329,{"$f":"VLOOKUP(P130,'Townwide Contributions'!$A$9:$B$361,2,0)","v":"West Newbury"},"WEST NEWBURY                 "]
[100,null,"100 Framingham",100,"Framingham",100,"0100",null,null,null,null,75001,1,750,"PIONEER",29,{"$f":"VLOOKUP(P131,'Townwide Contributions'!$A$9:$B$361,2,0)","v":"Bernardston"},"BERNARDSTON                  "]
[101,null,"101 Franklin",101,"Franklin",101,"0101",null,null,null,null,75002,2,750,"PIONEER",156,{"$f":"VLOOKUP(P132,'Townwide Contributions'!$A$9:$B$361,2,0)","v":"Leyden"},"LEYDEN                       "]
[419,null,"818 Franklin County",818,"Franklin County",818,"0818",null,null,null,null,75003,3,750,"PIONEER",216,{"$f":"VLOOKUP(P133,'Townwide Contributions'!$A$9:$B$361,2,0)","v":"Northfield"},"NORTHFIELD                   "]
[102,null,{"$f":"PROPER(D134&\" \"&E134)","v":"102 Freetown"},102,"Freetown",102,"0102",null,null,null,null,75301,1,753,"QUABBIN",21,{"$f":"VLOOKUP(P134,'Townwide Contributions'!$A$9:$B$361,2,0)","v":"Barre"},"BARRE                        "]
[374,null,"665 Freetown Lakeville",665,"Freetown Lakeville",665,"0665",null,null,null,null,75302,2,753,"QUABBIN",124,{"$f":"VLOOKUP(P135,'Townwide Contributions'!$A$9:$B$361,2,0)","v":"Hardwick"},"HARDWICK                     "]
[375,null,"670 Frontier",670,"Frontier",670,"0670",null,null,null,null,75303,3,753,"QUABBIN",140,{"$f":"VLOOKUP(P136,'Townwide Contributions'!$A$9:$B$361,2,0)","v":"Hubbardston"},"HUBBARDSTON                  "]
[103,null,"103 Gardner",103,"Gardner",103,"0103",null,null,null,null,75304,4,753,"QUABBIN",202,{"$f":"VLOOKUP(P137,'Townwide Contributions'!$A$9:$B$361,2,0)","v":"New Braintree"},"NEW BRAINTREE                "]
[376,null,"672 Gateway",672,"Gateway",672,"0672",null,null,null,null,75305,5,753,"QUABBIN",222,{"$f":"VLOOKUP(P138,'Townwide Contributions'!$A$9:$B$361,2,0)","v":"Oakham"},"OAKHAM                       "]
[105,null,"105 Georgetown",105,"Georgetown",105,"0105",null,null,null,null,75501,1,755,"RALPH C MAHAR",206,{"$f":"VLOOKUP(P139,'Townwide Contributions'!$A$9:$B$361,2,0)","v":"New Salem"},"NEW SALEM                    "]
[106,null,"106 Gill",106,"Gill",106,"0106",null,null,null,null,75502,2,755,"RALPH C MAHAR",223,{"$f":"VLOOKUP(P140,'Townwide Contributions'!$A$9:$B$361,2,0)","v":"Orange"},"ORANGE                       "]
[378,null,"674 Gill Montague",674,"Gill Montague",674,"0674",null,null,null,null,75503,3,755,"RALPH C MAHAR",234,{"$f":"VLOOKUP(P141,'Townwide Contributions'!$A$9:$B$361,2,0)","v":"Petersham"},"PETERSHAM                    "]
[107,null,"107 Gloucester",107,"Gloucester",107,"0107",null,null,null,null,75504,4,755,"RALPH C MAHAR",319,{"$f":"VLOOKUP(P142,'Townwide Contributions'!$A$9:$B$361,2,0)","v":"Wendell"},"WENDELL                      "]
[108,null,"108 Goshen",108,"Goshen",108,"0108",null,null,null,null,76001,1,760,"SILVER LAKE",118,{"$f":"VLOOKUP(P143,'Townwide Contributions'!$A$9:$B$361,2,0)","v":"Halifax"},"HALIFAX                      "]
[109,null,"109 Gosnold",109,"Gosnold",109,"0109",null,null,null,null,76002,2,760,"SILVER LAKE",145,{"$f":"VLOOKUP(P144,'Townwide Contributions'!$A$9:$B$361,2,0)","v":"Kingston"},"KINGSTON                     "]
[110,null,"110 Grafton",110,"Grafton",110,"0110",null,null,null,null,76003,3,760,"SILVER LAKE",240,{"$f":"VLOOKUP(P145,'Townwide Contributions'!$A$9:$B$361,2,0)","v":"Plympton"},"PLYMPTON                     "]
[111,null,"111 Granby",111,"Granby",111,"0111",null,null,null,null,76301,1,763,"SOMERSET BERKLEY",27,{"$f":"VLOOKUP(P146,'Townwide Contributions'!$A$9:$B$361,2,0)","v":"Berkley"},"BERKLEY                      "]
[112,null,"112 Granville",112,"Granville",112,"0112",null,null,null,null,76302,2,763,"SOMERSET BERKLEY",273,{"$f":"VLOOKUP(P147,'Townwide Contributions'!$A$9:$B$361,2,0)","v":"Somerset"},"SOMERSET                     "]
[113,null,"113 Great Barrington",113,"Great Barrington",113,"0113",null,null,null,null,76501,1,765,"SOUTHERN BERKSHIRE",6,{"$f":"VLOOKUP(P148,'Townwide Contributions'!$A$9:$B$361,2,0)","v":"Alford"},"ALFORD                       "]
[420,null,"821 Greater Fall River",821,"Greater Fall River",821,"0821",null,null,null,null,76502,2,765,"SOUTHERN BERKSHIRE",90,{"$f":"VLOOKUP(P149,'Townwide Contributions'!$A$9:$B$361,2,0)","v":"Egremont"},"EGREMONT                     "]
[421,null,"823 Greater Lawrence",823,"Greater Lawrence",823,"0823",null,null,null,null,76503,3,765,"SOUTHERN BERKSHIRE",193,{"$f":"VLOOKUP(P150,'Townwide Contributions'!$A$9:$B$361,2,0)","v":"Monterey"},"MONTEREY                     "]
[423,null,"828 Greater Lowell",828,"Greater Lowell",828,"0828",null,null,null,null,76504,4,765,"SOUTHERN BERKSHIRE",205,{"$f":"VLOOKUP(P151,'Townwide Contributions'!$A$9:$B$361,2,0)","v":"New Marlborough"},"NEW MARLBOROUGH              "]
[422,null,"825 Greater New Bedford",825,"Greater New Bedford",825,"0825",null,null,null,null,76505,5,765,"SOUTHERN BERKSHIRE",267,{"$f":"VLOOKUP(P152,'Townwide Contributions'!$A$9:$B$361,2,0)","v":"Sheffield"},"SHEFFIELD                    "]
[114,null,"114 Greenfield",114,"Greenfield",114,"0114",null,null,null,null,76601,1,766,"SOUTHWICK TOLLAND GRANVILLE",112,{"$f":"VLOOKUP(P153,'Townwide Contributions'!$A$9:$B$361,2,0)","v":"Granville"},"GRANVILLE                    "]
[115,null,"115 Groton",115,"Groton",115,"0115",null,null,null,null,76602,2,766,"SOUTHWICK TOLLAND GRANVILLE",279,{"$f":"VLOOKUP(P154,'Townwide Contributions'!$A$9:$B$361,2,0)","v":"Southwick"},"SOUTHWICK                    "]
[377,null,"673 Groton Dunstable",673,"Groton Dunstable",673,"0673",null,null,null,null,76603,3,766,"SOUTHWICK TOLLAND GRANVILLE",297,{"$f":"VLOOKUP(P155,'Townwide Contributions'!$A$9:$B$361,2,0)","v":"Tolland"},"TOLLAND                      "]
[116,null,"116 Groveland",116,"Groveland",116,"0116",null,null,null,null,76701,1,767,"SPENCER EAST BROOKFIELD",84,{"$f":"VLOOKUP(P156,'Townwide Contributions'!$A$9:$B$361,2,0)","v":"East Brookfield"},"EAST BROOKFIELD              "]
[117,null,"117 Hadley",117,"Hadley",117,"0117",null,null,null,null,76702,2,767,"SPENCER EAST BROOKFIELD",280,{"$f":"VLOOKUP(P157,'Townwide Contributions'!$A$9:$B$361,2,0)","v":"Spencer"},"SPENCER                      "]
[118,null,"118 Halifax",118,"Halifax",118,"0118",null,null,null,null,77001,1,770,"TANTASQUA",43,{"$f":"VLOOKUP(P158,'Townwide Contributions'!$A$9:$B$361,2,0)","v":"Brimfield"},"BRIMFIELD                    "]
[119,null,"119 Hamilton",119,"Hamilton",119,"0119",null,null,null,null,77002,2,770,"TANTASQUA",45,{"$f":"VLOOKUP(P159,'Townwide Contributions'!$A$9:$B$361,2,0)","v":"Brookfield"},"BROOKFIELD                   "]
[379,null,"675 Hamilton Wenham",675,"Hamilton Wenham",675,"0675",null,null,null,null,77003,3,770,"TANTASQUA",135,{"$f":"VLOOKUP(P160,'Townwide Contributions'!$A$9:$B$361,2,0)","v":"Holland"},"HOLLAND                      "]
[120,null,"120 Hampden",120,"Hampden",120,"0120",null,null,null,null,77004,4,770,"TANTASQUA",287,{"$f":"VLOOKUP(P161,'Townwide Contributions'!$A$9:$B$361,2,0)","v":"Sturbridge"},"STURBRIDGE                   "]
[380,null,"680 Hampden Wilbraham",680,"Hampden Wilbraham",680,"0680",null,null,null,null,77005,5,770,"TANTASQUA",306,{"$f":"VLOOKUP(P162,'Townwide Contributions'!$A$9:$B$361,2,0)","v":"Wales"},"WALES                        "]
[381,null,"683 Hampshire",683,"Hampshire",683,"0683",null,null,null,null,77301,1,773,"TRITON",203,{"$f":"VLOOKUP(P163,'Townwide Contributions'!$A$9:$B$361,2,0)","v":"Newbury"},"NEWBURY                      "]
[121,null,"121 Hancock",121,"Hancock",121,"0121",null,null,null,null,77302,2,773,"TRITON",254,{"$f":"VLOOKUP(P164,'Townwide Contributions'!$A$9:$B$361,2,0)","v":"Rowley"},"ROWLEY                       "]
[122,null,"122 Hanover",122,"Hanover",122,"0122",null,null,null,null,77303,3,773,"TRITON",259,{"$f":"VLOOKUP(P165,'Townwide Contributions'!$A$9:$B$361,2,0)","v":"Salisbury"},"SALISBURY                    "]
[123,null,"123 Hanson",123,"Hanson",123,"0123",null,null,null,null,77401,1,774,"UPISLAND",62,{"$f":"VLOOKUP(P166,'Townwide Contributions'!$A$9:$B$361,2,0)","v":"Chilmark"},"CHILMARK                     "]
[124,null,"124 Hardwick",124,"Hardwick",124,"0124",null,null,null,null,77402,2,774,"UPISLAND",104,{"$f":"VLOOKUP(P167,'Townwide Contributions'!$A$9:$B$361,2,0)","v":"Aquinnah"},"AQUINNAH"]
[125,null,"125 Harvard",125,"Harvard",125,"0125",null,null,null,null,77403,3,774,"UPISLAND",334,{"$f":"VLOOKUP(P168,'Townwide Contributions'!$A$9:$B$361,2,0)","v":"West Tisbury"},"WEST TISBURY                 "]
[126,null,"126 Harwich",126,"Harwich",126,"0126",null,null,null,null,77501,1,775,"WACHUSETT",134,{"$f":"VLOOKUP(P169,'Townwide Contributions'!$A$9:$B$361,2,0)","v":"Holden"},"HOLDEN                       "]
[127,null,"127 Hatfield",127,"Hatfield",127,"0127",null,null,null,null,77502,2,775,"WACHUSETT",228,{"$f":"VLOOKUP(P170,'Townwide Contributions'!$A$9:$B$361,2,0)","v":"Paxton"},"PAXTON                       "]
[128,null,"128 Haverhill",128,"Haverhill",128,"0128",null,null,null,null,77503,3,775,"WACHUSETT",241,{"$f":"VLOOKUP(P171,'Townwide Contributions'!$A$9:$B$361,2,0)","v":"Princeton"},"PRINCETON                    "]
[382,null,"685 Hawlemont",685,"Hawlemont",685,"0685",null,null,null,null,77504,4,775,"WACHUSETT",257,{"$f":"VLOOKUP(P172,'Townwide Contributions'!$A$9:$B$361,2,0)","v":"Rutland"},"RUTLAND                      "]
[129,null,"129 Hawley",129,"Hawley",129,"0129",null,null,null,null,77505,5,775,"WACHUSETT",282,{"$f":"VLOOKUP(P173,'Townwide Contributions'!$A$9:$B$361,2,0)","v":"Sterling"},"STERLING                     "]
[130,null,"130 Heath",130,"Heath",130,"0130",null,null,null,null,77801,1,778,"QUABOAG",311,{"$f":"VLOOKUP(P174,'Townwide Contributions'!$A$9:$B$361,2,0)","v":"Warren"},"WARREN                       "]
[131,null,"131 Hingham",131,"Hingham",131,"0131",null,null,null,null,77802,2,778,"QUABOAG",324,{"$f":"VLOOKUP(P175,'Townwide Contributions'!$A$9:$B$361,2,0)","v":"West Brookfield"},"WEST BROOKFIELD              "]
[132,null,"132 Hinsdale",132,"Hinsdale",132,"0132",null,null,null,null,78001,1,780,"WHITMAN HANSON",123,{"$f":"VLOOKUP(P176,'Townwide Contributions'!$A$9:$B$361,2,0)","v":"Hanson"},"HANSON                       "]
[133,null,"133 Holbrook",133,"Holbrook",133,"0133",null,null,null,null,78002,2,780,"WHITMAN HANSON",338,{"$f":"VLOOKUP(P177,'Townwide Contributions'!$A$9:$B$361,2,0)","v":"Whitman"},"WHITMAN                      "]
[134,null,"134 Holden",134,"Holden",134,"0134",null,null,null,null,80101,1,801,"ASSABET VALLEY",28,{"$f":"VLOOKUP(P178,'Townwide Contributions'!$A$9:$B$361,2,0)","v":"Berlin"},"BERLIN                       "]
[135,null,"135 Holland",135,"Holland",135,"0135",null,null,null,null,80102,2,801,"ASSABET VALLEY",141,{"$f":"VLOOKUP(P179,'Townwide Contributions'!$A$9:$B$361,2,0)","v":"Hudson"},"HUDSON                       "]
[136,null,"136 Holliston",136,"Holliston",136,"0136",null,null,null,null,80103,3,801,"ASSABET VALLEY",170,{"$f":"VLOOKUP(P180,'Townwide Contributions'!$A$9:$B$361,2,0)","v":"Marlborough"},"MARLBOROUGH                  "]
[137,null,"137 Holyoke",137,"Holyoke",137,"0137",null,null,null,null,80104,4,801,"ASSABET VALLEY",174,{"$f":"VLOOKUP(P181,'Townwide Contributions'!$A$9:$B$361,2,0)","v":"Maynard"},"MAYNARD                      "]
[356,null,"603 Hoosac Valley",603,"Hoosac Valley",603,"0603",null,null,null,null,80105,5,801,"ASSABET VALLEY",213,{"$f":"VLOOKUP(P182,'Townwide Contributions'!$A$9:$B$361,2,0)","v":"Northborough"},"NORTHBOROUGH                 "]
[138,null,"138 Hopedale",138,"Hopedale",138,"0138",null,null,null,null,80106,6,801,"ASSABET VALLEY",276,{"$f":"VLOOKUP(P183,'Townwide Contributions'!$A$9:$B$361,2,0)","v":"Southborough"},"SOUTHBOROUGH                 "]
[139,null,"139 Hopkinton",139,"Hopkinton",139,"0139",null,null,null,null,80107,7,801,"ASSABET VALLEY",321,{"$f":"VLOOKUP(P184,'Townwide Contributions'!$A$9:$B$361,2,0)","v":"Westborough"},"WESTBOROUGH                  "]
[140,null,"140 Hubbardston",140,"Hubbardston",140,"0140",null,null,null,null,80501,1,805,"BLACKSTONE VALLEY",25,{"$f":"VLOOKUP(P185,'Townwide Contributions'!$A$9:$B$361,2,0)","v":"Bellingham"},"BELLINGHAM                   "]
[141,null,"141 Hudson",141,"Hudson",141,"0141",null,null,null,null,80502,2,805,"BLACKSTONE VALLEY",32,{"$f":"VLOOKUP(P186,'Townwide Contributions'!$A$9:$B$361,2,0)","v":"Blackstone"},"BLACKSTONE                   "]
[142,null,"142 Hull",142,"Hull",142,"0142",null,null,null,null,80503,3,805,"BLACKSTONE VALLEY",77,{"$f":"VLOOKUP(P187,'Townwide Contributions'!$A$9:$B$361,2,0)","v":"Douglas"},"DOUGLAS                      "]
[143,null,"143 Huntington",143,"Huntington",143,"0143",null,null,null,null,80504,4,805,"BLACKSTONE VALLEY",110,{"$f":"VLOOKUP(P188,'Townwide Contributions'!$A$9:$B$361,2,0)","v":"Grafton"},"GRAFTON                      "]
[144,null,"144 Ipswich",144,"Ipswich",144,"0144",null,null,null,null,80505,5,805,"BLACKSTONE VALLEY",138,{"$f":"VLOOKUP(P189,'Townwide Contributions'!$A$9:$B$361,2,0)","v":"Hopedale"},"HOPEDALE                     "]
[383,null,"690 King Philip",690,"King Philip",690,"0690",null,null,null,null,80506,6,805,"BLACKSTONE VALLEY",179,{"$f":"VLOOKUP(P190,'Townwide Contributions'!$A$9:$B$361,2,0)","v":"Mendon"},"MENDON                       "]
[145,null,"145 Kingston",145,"Kingston",145,"0145",null,null,null,null,80507,7,805,"BLACKSTONE VALLEY",185,{"$f":"VLOOKUP(P191,'Townwide Contributions'!$A$9:$B$361,2,0)","v":"Milford"},"MILFORD                      "]
[146,null,"146 Lakeville",146,"Lakeville",146,"0146",null,null,null,null,80508,8,805,"BLACKSTONE VALLEY",186,{"$f":"VLOOKUP(P192,'Townwide Contributions'!$A$9:$B$361,2,0)","v":"Millbury"},"MILLBURY                     "]
[147,null,"147 Lancaster",147,"Lancaster",147,"0147",null,null,null,null,80509,9,805,"BLACKSTONE VALLEY",188,{"$f":"VLOOKUP(P193,'Townwide Contributions'!$A$9:$B$361,2,0)","v":"Millville"},"MILLVILLE                    "]
[148,null,"148 Lanesborough",148,"Lanesborough",148,"0148",null,null,null,null,80510,10,805,"BLACKSTONE VALLEY",214,{"$f":"VLOOKUP(P194,'Townwide Contributions'!$A$9:$B$361,2,0)","v":"Northbridge"},"NORTHBRIDGE                  "]
[149,null,"149 Lawrence",149,"Lawrence",149,"0149",null,null,null,null,80511,11,805,"BLACKSTONE VALLEY",290,{"$f":"VLOOKUP(P195,'Townwide Contributions'!$A$9:$B$361,2,0)","v":"Sutton"},"SUTTON                       "]
[150,null,"150 Lee",150,"Lee",150,"0150",null,null,null,null,80512,12,805,"BLACKSTONE VALLEY",303,{"$f":"VLOOKUP(P196,'Townwide Contributions'!$A$9:$B$361,2,0)","v":"Upton"},"UPTON                        "]
[151,null,"151 Leicester",151,"Leicester",151,"0151",null,null,null,null,80513,13,805,"BLACKSTONE VALLEY",304,{"$f":"VLOOKUP(P197,'Townwide Contributions'!$A$9:$B$361,2,0)","v":"Uxbridge"},"UXBRIDGE                     "]
[152,null,{"$f":"PROPER(D198&\" \"&E198)","v":"152 Lenox"},152,"Lenox",152,"0152",null,null,null,null,80601,1,806,"BLUE HILLS",18,{"$f":"VLOOKUP(P198,'Townwide Contributions'!$A$9:$B$361,2,0)","v":"Avon"},"AVON                         "]
[153,null,"153 Leominster",153,"Leominster",153,"0153",null,null,null,null,80602,2,806,"BLUE HILLS",40,{"$f":"VLOOKUP(P199,'Townwide Contributions'!$A$9:$B$361,2,0)","v":"Braintree"},"BRAINTREE                    "]
[154,null,"154 Leverett",154,"Leverett",154,"0154",null,null,null,null,80603,3,806,"BLUE HILLS",50,{"$f":"VLOOKUP(P200,'Townwide Contributions'!$A$9:$B$361,2,0)","v":"Canton"},"CANTON                       "]
[155,null,"155 Lexington",155,"Lexington",155,"0155",null,null,null,null,80604,4,806,"BLUE HILLS",73,{"$f":"VLOOKUP(P201,'Townwide Contributions'!$A$9:$B$361,2,0)","v":"Dedham"},"DEDHAM                       "]
[156,null,"156 Leyden",156,"Leyden",156,"0156",null,null,null,null,80605,5,806,"BLUE HILLS",133,{"$f":"VLOOKUP(P202,'Townwide Contributions'!$A$9:$B$361,2,0)","v":"Holbrook"},"HOLBROOK                     "]
[157,null,"157 Lincoln",157,"Lincoln",157,"0157",null,null,null,null,80606,6,806,"BLUE HILLS",189,{"$f":"VLOOKUP(P203,'Townwide Contributions'!$A$9:$B$361,2,0)","v":"Milton"},"MILTON                       "]
[384,null,"695 Lincoln Sudbury",695,"Lincoln Sudbury",695,"0695",null,null,null,null,80607,7,806,"BLUE HILLS",220,{"$f":"VLOOKUP(P204,'Townwide Contributions'!$A$9:$B$361,2,0)","v":"Norwood"},"NORWOOD                      "]
[158,null,"158 Littleton",158,"Littleton",158,"0158",null,null,null,null,80608,8,806,"BLUE HILLS",244,{"$f":"VLOOKUP(P205,'Townwide Contributions'!$A$9:$B$361,2,0)","v":"Randolph"},"RANDOLPH                     "]
[159,null,"159 Longmeadow",159,"Longmeadow",159,"0159",null,null,null,null,80609,9,806,"BLUE HILLS",335,{"$f":"VLOOKUP(P206,'Townwide Contributions'!$A$9:$B$361,2,0)","v":"Westwood"},"WESTWOOD                     "]
[160,null,"160 Lowell",160,"Lowell",160,"0160",null,null,null,null,81001,1,810,"BRISTOL PLYMOUTH",27,{"$f":"VLOOKUP(P207,'Townwide Contributions'!$A$9:$B$361,2,0)","v":"Berkley"},"BERKLEY                      "]
[161,null,"161 Ludlow",161,"Ludlow",161,"0161",null,null,null,null,81002,2,810,"BRISTOL PLYMOUTH",42,{"$f":"VLOOKUP(P208,'Townwide Contributions'!$A$9:$B$361,2,0)","v":"Bridgewater"},"BRIDGEWATER                  "]
[162,null,"162 Lunenburg",162,"Lunenburg",162,"0162",null,null,null,null,81003,3,810,"BRISTOL PLYMOUTH",76,{"$f":"VLOOKUP(P209,'Townwide Contributions'!$A$9:$B$361,2,0)","v":"Dighton"},"DIGHTON                      "]
[163,null,"163 Lynn",163,"Lynn",163,"0163",null,null,null,null,81004,4,810,"BRISTOL PLYMOUTH",102,{"$f":"VLOOKUP(P210,'Townwide Contributions'!$A$9:$B$361,2,0)","v":"Freetown"},"FREETOWN                     "]
[164,null,"164 Lynnfield",164,"Lynnfield",164,"0164",null,null,null,null,81005,5,810,"BRISTOL PLYMOUTH",182,{"$f":"VLOOKUP(P211,'Townwide Contributions'!$A$9:$B$361,2,0)","v":"Middleborough"},"MIDDLEBOROUGH                "]
[165,null,"165 Malden",165,"Malden",165,"0165",null,null,null,null,81006,6,810,"BRISTOL PLYMOUTH",245,{"$f":"VLOOKUP(P212,'Townwide Contributions'!$A$9:$B$361,2,0)","v":"Raynham"},"RAYNHAM                      "]
[166,null,"166 Manchester",166,"Manchester",166,"0166",null,null,null,null,81007,7,810,"BRISTOL PLYMOUTH",247,{"$f":"VLOOKUP(P213,'Townwide Contributions'!$A$9:$B$361,2,0)","v":"Rehoboth"},"REHOBOTH                     "]
[385,null,"698 Manchester Essex",698,"Manchester Essex",698,"0698",null,null,null,null,81008,8,810,"BRISTOL PLYMOUTH",293,{"$f":"VLOOKUP(P214,'Townwide Contributions'!$A$9:$B$361,2,0)","v":"Taunton"},"TAUNTON                      "]
[167,null,"167 Mansfield",167,"Mansfield",167,"0167",null,null,null,null,81501,1,815,"CAPE COD",20,{"$f":"VLOOKUP(P215,'Townwide Contributions'!$A$9:$B$361,2,0)","v":"Barnstable"},"BARNSTABLE                   "]
[168,null,"168 Marblehead",168,"Marblehead",168,"0168",null,null,null,null,81502,2,815,"CAPE COD",41,{"$f":"VLOOKUP(P216,'Townwide Contributions'!$A$9:$B$361,2,0)","v":"Brewster"},"BREWSTER                     "]
[169,null,"169 Marion",169,"Marion",169,"0169",null,null,null,null,81503,3,815,"CAPE COD",55,{"$f":"VLOOKUP(P217,'Townwide Contributions'!$A$9:$B$361,2,0)","v":"Chatham"},"CHATHAM                      "]
[170,null,"170 Marlborough",170,"Marlborough",170,"0170",null,null,null,null,81504,4,815,"CAPE COD",75,{"$f":"VLOOKUP(P218,'Townwide Contributions'!$A$9:$B$361,2,0)","v":"Dennis"},"DENNIS                       "]
[171,null,"171 Marshfield",171,"Marshfield",171,"0171",null,null,null,null,81505,5,815,"CAPE COD",85,{"$f":"VLOOKUP(P219,'Townwide Contributions'!$A$9:$B$361,2,0)","v":"Eastham"},"EASTHAM                      "]
[386,null,"700 Marthas Vineyard",700,"Marthas Vineyard",700,"0700",null,null,null,null,81506,6,815,"CAPE COD",126,{"$f":"VLOOKUP(P220,'Townwide Contributions'!$A$9:$B$361,2,0)","v":"Harwich"},"HARWICH                      "]
[387,null,"705 Masconomet",705,"Masconomet",705,"0705",null,null,null,null,81507,7,815,"CAPE COD",172,{"$f":"VLOOKUP(P221,'Townwide Contributions'!$A$9:$B$361,2,0)","v":"Mashpee"},"MASHPEE                      "]
[172,null,"172 Mashpee",172,"Mashpee",172,"0172",null,null,null,null,81508,8,815,"CAPE COD",224,{"$f":"VLOOKUP(P222,'Townwide Contributions'!$A$9:$B$361,2,0)","v":"Orleans"},"ORLEANS                      "]
[173,null,"173 Mattapoisett",173,"Mattapoisett",173,"0173",null,null,null,null,81509,9,815,"CAPE COD",242,{"$f":"VLOOKUP(P223,'Townwide Contributions'!$A$9:$B$361,2,0)","v":"Provincetown"},"PROVINCETOWN                 "]
[174,null,"174 Maynard",174,"Maynard",174,"0174",null,null,null,null,81510,10,815,"CAPE COD",300,{"$f":"VLOOKUP(P224,'Townwide Contributions'!$A$9:$B$361,2,0)","v":"Truro"},"TRURO                        "]
[175,null,"175 Medfield",175,"Medfield",175,"0175",null,null,null,null,81511,11,815,"CAPE COD",318,{"$f":"VLOOKUP(P225,'Townwide Contributions'!$A$9:$B$361,2,0)","v":"Wellfleet"},"WELLFLEET                    "]
[176,null,"176 Medford",176,"Medford",176,"0176",null,null,null,null,81512,12,815,"CAPE COD",351,{"$f":"VLOOKUP(P226,'Townwide Contributions'!$A$9:$B$361,2,0)","v":"Yarmouth"},"YARMOUTH                     "]
[177,null,"177 Medway",177,"Medway",177,"0177",null,null,null,null,81701,1,817,"ESSEX NORTH SHORE",30,{"$f":"VLOOKUP(P227,'Townwide Contributions'!$A$9:$B$361,2,0)","v":"Beverly"},"BEVERLY                      "]
[178,null,"178 Melrose",178,"Melrose",178,"0178",null,null,null,null,81702,2,817,"ESSEX NORTH SHORE",38,{"$f":"VLOOKUP(P228,'Townwide Contributions'!$A$9:$B$361,2,0)","v":"Boxford"},"BOXFORD                      "]
[179,null,"179 Mendon",179,"Mendon",179,"0179",null,null,null,null,81703,3,817,"ESSEX NORTH SHORE",71,{"$f":"VLOOKUP(P229,'Townwide Contributions'!$A$9:$B$361,2,0)","v":"Danvers"},"DANVERS                      "]
[388,null,"710 Mendon Upton",710,"Mendon Upton",710,"0710",null,null,null,null,81704,4,817,"ESSEX NORTH SHORE",92,{"$f":"VLOOKUP(P230,'Townwide Contributions'!$A$9:$B$361,2,0)","v":"Essex"},"ESSEX                        "]
[180,null,"180 Merrimac",180,"Merrimac",180,"0180",null,null,null,null,81705,5,817,"ESSEX NORTH SHORE",107,{"$f":"VLOOKUP(P231,'Townwide Contributions'!$A$9:$B$361,2,0)","v":"Gloucester"},"GLOUCESTER                   "]
[181,null,"181 Methuen",181,"Methuen",181,"0181",null,null,null,null,81706,6,817,"ESSEX NORTH SHORE",119,{"$f":"VLOOKUP(P232,'Townwide Contributions'!$A$9:$B$361,2,0)","v":"Hamilton"},"HAMILTON                     "]
[182,null,"182 Middleborough",182,"Middleborough",182,"0182",null,null,null,null,81707,7,817,"ESSEX NORTH SHORE",164,{"$f":"VLOOKUP(P233,'Townwide Contributions'!$A$9:$B$361,2,0)","v":"Lynnfield"},"LYNNFIELD                    "]
[183,null,"183 Middlefield",183,"Middlefield",183,"0183",null,null,null,null,81708,8,817,"ESSEX NORTH SHORE",166,{"$f":"VLOOKUP(P234,'Townwide Contributions'!$A$9:$B$361,2,0)","v":"Manchester"},"MANCHESTER                   "]
[184,null,"184 Middleton",184,"Middleton",184,"0184",null,null,null,null,81709,9,817,"ESSEX NORTH SHORE",168,{"$f":"VLOOKUP(P235,'Townwide Contributions'!$A$9:$B$361,2,0)","v":"Marblehead"},"MARBLEHEAD                   "]
[185,null,"185 Milford",185,"Milford",185,"0185",null,null,null,null,81710,10,817,"ESSEX NORTH SHORE",184,{"$f":"VLOOKUP(P236,'Townwide Contributions'!$A$9:$B$361,2,0)","v":"Middleton"},"MIDDLETON                    "]
[186,null,"186 Millbury",186,"Millbury",186,"0186",null,null,null,null,81711,11,817,"ESSEX NORTH SHORE",196,{"$f":"VLOOKUP(P237,'Townwide Contributions'!$A$9:$B$361,2,0)","v":"Nahant"},"NAHANT                       "]
[187,null,"187 Millis",187,"Millis",187,"0187",null,null,null,null,81712,12,817,"ESSEX NORTH SHORE",229,{"$f":"VLOOKUP(P238,'Townwide Contributions'!$A$9:$B$361,2,0)","v":"Peabody"},"PEABODY"]
[188,null,"188 Millville",188,"Millville",188,"0188",null,null,null,null,81713,13,817,"ESSEX NORTH SHORE",252,{"$f":"VLOOKUP(P239,'Townwide Contributions'!$A$9:$B$361,2,0)","v":"Rockport"},"ROCKPORT                     "]
[189,null,"189 Milton",189,"Milton",189,"0189",null,null,null,null,81714,14,817,"ESSEX NORTH SHORE",258,{"$f":"VLOOKUP(P240,'Townwide Contributions'!$A$9:$B$361,2,0)","v":"Salem"},"SALEM                        "]
[425,null,"830 Minuteman",830,"Minuteman",830,"0830",null,null,null,null,81715,15,817,"ESSEX NORTH SHORE",291,{"$f":"VLOOKUP(P241,'Townwide Contributions'!$A$9:$B$361,2,0)","v":"Swampscott"},"SWAMPSCOTT                   "]
[391,null,"717 Mohawk Trail",717,"Mohawk Trail",717,"0717",null,null,null,null,81716,16,817,"ESSEX NORTH SHORE",298,{"$f":"VLOOKUP(P242,'Townwide Contributions'!$A$9:$B$361,2,0)","v":"Topsfield"},"TOPSFIELD                    "]
[389,null,"712 Monomoy",712,"Monomoy",712,"0712",null,null,null,null,81717,17,817,"ESSEX NORTH SHORE",320,{"$f":"VLOOKUP(P243,'Townwide Contributions'!$A$9:$B$361,2,0)","v":"Wenham"},"WENHAM                       "]
[190,null,"190 Monroe",190,"Monroe",190,"0190",null,null,null,null,81801,1,818,"FRANKLIN COUNTY",29,{"$f":"VLOOKUP(P244,'Townwide Contributions'!$A$9:$B$361,2,0)","v":"Bernardston"},"BERNARDSTON                  "]
[191,null,"191 Monson",191,"Monson",191,"0191",null,null,null,null,81802,2,818,"FRANKLIN COUNTY",47,{"$f":"VLOOKUP(P245,'Townwide Contributions'!$A$9:$B$361,2,0)","v":"Buckland"},"BUCKLAND                     "]
[426,null,"832 Montachusett",832,"Montachusett",832,"0832",null,null,null,null,81803,3,818,"FRANKLIN COUNTY",66,{"$f":"VLOOKUP(P246,'Townwide Contributions'!$A$9:$B$361,2,0)","v":"Colrain"},"COLRAIN                      "]
[192,null,"192 Montague",192,"Montague",192,"0192",null,null,null,null,81804,4,818,"FRANKLIN COUNTY",68,{"$f":"VLOOKUP(P247,'Townwide Contributions'!$A$9:$B$361,2,0)","v":"Conway"},"CONWAY                       "]
[193,null,"193 Monterey",193,"Monterey",193,"0193",null,null,null,null,81805,5,818,"FRANKLIN COUNTY",74,{"$f":"VLOOKUP(P248,'Townwide Contributions'!$A$9:$B$361,2,0)","v":"Deerfield"},"DEERFIELD                    "]
[194,null,"194 Montgomery",194,"Montgomery",194,"0194",null,null,null,null,81806,6,818,"FRANKLIN COUNTY",91,{"$f":"VLOOKUP(P249,'Townwide Contributions'!$A$9:$B$361,2,0)","v":"Erving"},"ERVING                       "]
[390,null,"715 Mount Greylock",715,"Mount Greylock",715,"0715",null,null,null,null,81807,7,818,"FRANKLIN COUNTY",106,{"$f":"VLOOKUP(P250,'Townwide Contributions'!$A$9:$B$361,2,0)","v":"Gill"},"GILL                         "]
[195,null,"195 Mount Washington",195,"Mount Washington",195,"0195",null,null,null,null,81808,8,818,"FRANKLIN COUNTY",114,{"$f":"VLOOKUP(P251,'Townwide Contributions'!$A$9:$B$361,2,0)","v":"Greenfield"},"GREENFIELD                   "]
[196,null,"196 Nahant",196,"Nahant",196,"0196",null,null,null,null,81809,9,818,"FRANKLIN COUNTY",130,{"$f":"VLOOKUP(P252,'Townwide Contributions'!$A$9:$B$361,2,0)","v":"Heath"},"HEATH                        "]
[197,null,"197 Nantucket",197,"Nantucket",197,"0197",null,null,null,null,81810,10,818,"FRANKLIN COUNTY",156,{"$f":"VLOOKUP(P253,'Townwide Contributions'!$A$9:$B$361,2,0)","v":"Leyden"},"LEYDEN                       "]
[392,null,"720 Narragansett",720,"Narragansett",720,"0720",null,null,null,null,81811,11,818,"FRANKLIN COUNTY",192,{"$f":"VLOOKUP(P254,'Townwide Contributions'!$A$9:$B$361,2,0)","v":"Montague"},"MONTAGUE                     "]
[393,null,"725 Nashoba",725,"Nashoba",725,"0725",null,null,null,null,81812,12,818,"FRANKLIN COUNTY",206,{"$f":"VLOOKUP(P255,'Townwide Contributions'!$A$9:$B$361,2,0)","v":"New Salem"},"NEW SALEM                    "]
[428,null,"852 Nashoba Valley",852,"Nashoba Valley",852,"0852",null,null,null,null,81813,13,818,"FRANKLIN COUNTY",216,{"$f":"VLOOKUP(P256,'Townwide Contributions'!$A$9:$B$361,2,0)","v":"Northfield"},"NORTHFIELD                   "]
[198,null,"198 Natick",198,"Natick",198,"0198",null,null,null,null,81814,14,818,"FRANKLIN COUNTY",223,{"$f":"VLOOKUP(P257,'Townwide Contributions'!$A$9:$B$361,2,0)","v":"Orange"},"ORANGE                       "]
[372,null,"660 Nauset",660,"Nauset",660,"0660",null,null,null,null,81815,15,818,"FRANKLIN COUNTY",268,{"$f":"VLOOKUP(P258,'Townwide Contributions'!$A$9:$B$361,2,0)","v":"Shelburne"},"SHELBURNE                    "]
[199,null,"199 Needham",199,"Needham",199,"0199",null,null,null,null,81816,16,818,"FRANKLIN COUNTY",289,{"$f":"VLOOKUP(P259,'Townwide Contributions'!$A$9:$B$361,2,0)","v":"Sunderland"},"SUNDERLAND                   "]
[200,null,"200 New Ashford",200,"New Ashford",200,"0200",null,null,null,null,81817,17,818,"FRANKLIN COUNTY",312,{"$f":"VLOOKUP(P260,'Townwide Contributions'!$A$9:$B$361,2,0)","v":"Warwick"},"WARWICK                      "]
[201,null,"201 New Bedford",201,"New Bedford",201,"0201",null,null,null,null,81818,18,818,"FRANKLIN COUNTY",319,{"$f":"VLOOKUP(P261,'Townwide Contributions'!$A$9:$B$361,2,0)","v":"Wendell"},"WENDELL                      "]
[202,null,{"$f":"PROPER(D262&\" \"&E262)","v":"202 New Braintree"},202,"New Braintree",202,"0202",null,null,null,null,81819,19,818,"FRANKLIN COUNTY",337,{"$f":"VLOOKUP(P262,'Townwide Contributions'!$A$9:$B$361,2,0)","v":"Whately"},"WHATELY                      "]
[205,null,"205 New Marlborough",205,"New Marlborough",205,"0205",null,null,null,null,82101,1,821,"GREATER FALL RIVER",95,{"$f":"VLOOKUP(P263,'Townwide Contributions'!$A$9:$B$361,2,0)","v":"Fall River"},"FALL RIVER                   "]
[206,null,"206 New Salem",206,"New Salem",206,"0206",null,null,null,null,82102,2,821,"GREATER FALL RIVER",273,{"$f":"VLOOKUP(P264,'Townwide Contributions'!$A$9:$B$361,2,0)","v":"Somerset"},"SOMERSET                     "]
[394,null,"728 New Salem Wendell",728,"New Salem Wendell",728,"0728",null,null,null,null,82103,3,821,"GREATER FALL RIVER",292,{"$f":"VLOOKUP(P265,'Townwide Contributions'!$A$9:$B$361,2,0)","v":"Swansea"},"SWANSEA                      "]
[203,null,"203 Newbury",203,"Newbury",203,"0203",null,null,null,null,82104,4,821,"GREATER FALL RIVER",331,{"$f":"VLOOKUP(P266,'Townwide Contributions'!$A$9:$B$361,2,0)","v":"Westport"},"WESTPORT                     "]
[204,null,"204 Newburyport",204,"Newburyport",204,"0204",null,null,null,null,82301,1,823,"GREATER LAWRENCE",9,{"$f":"VLOOKUP(P267,'Townwide Contributions'!$A$9:$B$361,2,0)","v":"Andover"},"ANDOVER                      "]
[207,null,"207 Newton",207,"Newton",207,"0207",null,null,null,null,82302,2,823,"GREATER LAWRENCE",149,{"$f":"VLOOKUP(P268,'Townwide Contributions'!$A$9:$B$361,2,0)","v":"Lawrence"},"LAWRENCE                     "]
[208,null,"208 Norfolk",208,"Norfolk",208,"0208",null,null,null,null,82303,3,823,"GREATER LAWRENCE",181,{"$f":"VLOOKUP(P269,'Townwide Contributions'!$A$9:$B$361,2,0)","v":"Methuen"},"METHUEN                      "]
[440,null,"915 Norfolk County",915,"Norfolk County",915,"0915",null,null,null,null,82304,4,823,"GREATER LAWRENCE",211,{"$f":"VLOOKUP(P270,'Townwide Contributions'!$A$9:$B$361,2,0)","v":"North Andover"},"NORTH ANDOVER                "]
[209,null,"209 North Adams",209,"North Adams",209,"0209",null,null,null,null,82501,1,825,"GREATER NEW BEDFORD",72,{"$f":"VLOOKUP(P271,'Townwide Contributions'!$A$9:$B$361,2,0)","v":"Dartmouth"},"DARTMOUTH                    "]
[211,null,"211 North Andover",211,"North Andover",211,"0211",null,null,null,null,82502,2,825,"GREATER NEW BEDFORD",94,{"$f":"VLOOKUP(P272,'Townwide Contributions'!$A$9:$B$361,2,0)","v":"Fairhaven"},"FAIRHAVEN                    "]
[212,null,"212 North Attleborough",212,"North Attleborough",212,"0212",null,null,null,null,82503,3,825,"GREATER NEW BEDFORD",201,{"$f":"VLOOKUP(P273,'Townwide Contributions'!$A$9:$B$361,2,0)","v":"New Bedford"},"NEW BEDFORD                  "]
[215,null,"215 North Brookfield",215,"North Brookfield",215,"0215",null,null,null,null,82801,1,828,"GREATER LOWELL",79,{"$f":"VLOOKUP(P274,'Townwide Contributions'!$A$9:$B$361,2,0)","v":"Dracut"},"DRACUT                       "]
[396,null,"735 North Middlesex",735,"North Middlesex",735,"0735",null,null,null,null,82802,2,828,"GREATER LOWELL",81,{"$f":"VLOOKUP(P275,'Townwide Contributions'!$A$9:$B$361,2,0)","v":"Dunstable"},"DUNSTABLE                    "]
[217,null,"217 North Reading",217,"North Reading",217,"0217",null,null,null,null,82803,3,828,"GREATER LOWELL",160,{"$f":"VLOOKUP(P276,'Townwide Contributions'!$A$9:$B$361,2,0)","v":"Lowell"},"LOWELL                       "]
[210,null,"210 Northampton",210,"Northampton",210,"0210",null,null,null,null,82804,4,828,"GREATER LOWELL",301,{"$f":"VLOOKUP(P277,'Townwide Contributions'!$A$9:$B$361,2,0)","v":"Tyngsborough"},"TYNGSBOROUGH                 "]
[354,null,"406 Northampton Smith",406,"Northampton Smith",406,"0406",null,null,null,null,82901,1,829,"SOUTH MIDDLESEX",14,{"$f":"VLOOKUP(P278,'Townwide Contributions'!$A$9:$B$361,2,0)","v":"Ashland"},"ASHLAND                      "]
[395,null,"730 Northboro Southboro",730,"Northboro Southboro",730,"0730",null,null,null,null,82902,2,829,"SOUTH MIDDLESEX",100,{"$f":"VLOOKUP(P279,'Townwide Contributions'!$A$9:$B$361,2,0)","v":"Framingham"},"FRAMINGHAM                   "]
[213,null,"213 Northborough",213,"Northborough",213,"0213",null,null,null,null,82903,3,829,"SOUTH MIDDLESEX",136,{"$f":"VLOOKUP(P280,'Townwide Contributions'!$A$9:$B$361,2,0)","v":"Holliston"},"HOLLISTON                    "]
[214,null,"214 Northbridge",214,"Northbridge",214,"0214",null,null,null,null,82904,4,829,"SOUTH MIDDLESEX",139,{"$f":"VLOOKUP(P281,'Townwide Contributions'!$A$9:$B$361,2,0)","v":"Hopkinton"},"HOPKINTON                    "]
[429,null,"853 Northeast Metropolitan",853,"Northeast Metropolitan",853,"0853",null,null,null,null,82905,5,829,"SOUTH MIDDLESEX",198,{"$f":"VLOOKUP(P282,'Townwide Contributions'!$A$9:$B$361,2,0)","v":"Natick"},"NATICK                       "]
[427,null,"851 Northern Berkshire",851,"Northern Berkshire",851,"0851",null,null,null,null,83001,1,830,"MINUTEMAN",2,{"$f":"VLOOKUP(P283,'Townwide Contributions'!$A$9:$B$361,2,0)","v":"Acton"},"ACTON                        "]
[216,null,"216 Northfield",216,"Northfield",216,"0216",null,null,null,null,83002,2,830,"MINUTEMAN",10,{"$f":"VLOOKUP(P284,'Townwide Contributions'!$A$9:$B$361,2,0)","v":"Arlington"},"ARLINGTON                    "]
[218,null,"218 Norton",218,"Norton",218,"0218",null,null,null,null,83003,3,830,"MINUTEMAN",34,{"$f":"VLOOKUP(P285,'Townwide Contributions'!$A$9:$B$361,2,0)","v":"Bolton"},"BOLTON                       "]
[219,null,"219 Norwell",219,"Norwell",219,"0219",null,null,null,null,83004,4,830,"MINUTEMAN",67,{"$f":"VLOOKUP(P286,'Townwide Contributions'!$A$9:$B$361,2,0)","v":"Concord"},"CONCORD                      "]
[220,null,"220 Norwood",220,"Norwood",220,"0220",null,null,null,null,83005,5,830,"MINUTEMAN",78,{"$f":"VLOOKUP(P287,'Townwide Contributions'!$A$9:$B$361,2,0)","v":"Dover"},"DOVER                        "]
[221,null,"221 Oak Bluffs",221,"Oak Bluffs",221,"0221",null,null,null,null,83006,6,830,"MINUTEMAN",147,{"$f":"VLOOKUP(P288,'Townwide Contributions'!$A$9:$B$361,2,0)","v":"Lancaster"},"LANCASTER                    "]
[222,null,"222 Oakham",222,"Oakham",222,"0222",null,null,null,null,83007,7,830,"MINUTEMAN",155,{"$f":"VLOOKUP(P289,'Townwide Contributions'!$A$9:$B$361,2,0)","v":"Lexington"},"LEXINGTON                    "]
[430,null,"855 Old Colony",855,"Old Colony",855,"0855",null,null,null,null,83008,8,830,"MINUTEMAN",199,{"$f":"VLOOKUP(P290,'Townwide Contributions'!$A$9:$B$361,2,0)","v":"Needham"},"NEEDHAM                      "]
[397,null,"740 Old Rochester",740,"Old Rochester",740,"0740",null,null,null,null,83009,9,830,"MINUTEMAN",286,{"$f":"VLOOKUP(P291,'Townwide Contributions'!$A$9:$B$361,2,0)","v":"Stow"},"STOW                         "]
[223,null,"223 Orange",223,"Orange",223,"0223",null,null,null,null,83201,1,832,"MONTACHUSETT",11,{"$f":"VLOOKUP(P292,'Townwide Contributions'!$A$9:$B$361,2,0)","v":"Ashburnham"},"ASHBURNHAM                   "]
[224,null,"224 Orleans",224,"Orleans",224,"0224",null,null,null,null,83202,2,832,"MONTACHUSETT",12,{"$f":"VLOOKUP(P293,'Townwide Contributions'!$A$9:$B$361,2,0)","v":"Ashby"},"ASHBY                        "]
[225,null,"225 Otis",225,"Otis",225,"0225",null,null,null,null,83203,3,832,"MONTACHUSETT",15,{"$f":"VLOOKUP(P294,'Townwide Contributions'!$A$9:$B$361,2,0)","v":"Athol"},"ATHOL                        "]
[226,null,"226 Oxford",226,"Oxford",226,"0226",null,null,null,null,83204,4,832,"MONTACHUSETT",21,{"$f":"VLOOKUP(P295,'Townwide Contributions'!$A$9:$B$361,2,0)","v":"Barre"},"BARRE                        "]
[227,null,"227 Palmer",227,"Palmer",227,"0227",null,null,null,null,83205,5,832,"MONTACHUSETT",97,{"$f":"VLOOKUP(P296,'Townwide Contributions'!$A$9:$B$361,2,0)","v":"Fitchburg"},"FITCHBURG                    "]
[431,null,"860 Pathfinder",860,"Pathfinder",860,"0860",null,null,null,null,83206,6,832,"MONTACHUSETT",103,{"$f":"VLOOKUP(P297,'Townwide Contributions'!$A$9:$B$361,2,0)","v":"Gardner"},"GARDNER                      "]
[228,null,"228 Paxton",228,"Paxton",228,"0228",null,null,null,null,83207,7,832,"MONTACHUSETT",125,{"$f":"VLOOKUP(P298,'Townwide Contributions'!$A$9:$B$361,2,0)","v":"Harvard"},"HARVARD                      "]
[229,null,"229 Peabody",229,"Peabody",229,"0229",null,null,null,null,83208,8,832,"MONTACHUSETT",134,{"$f":"VLOOKUP(P299,'Townwide Contributions'!$A$9:$B$361,2,0)","v":"Holden"},"HOLDEN                       "]
[230,null,"230 Pelham",230,"Pelham",230,"0230",null,null,null,null,83209,9,832,"MONTACHUSETT",140,{"$f":"VLOOKUP(P300,'Townwide Contributions'!$A$9:$B$361,2,0)","v":"Hubbardston"},"HUBBARDSTON                  "]
[231,null,"231 Pembroke",231,"Pembroke",231,"0231",null,null,null,null,83210,10,832,"MONTACHUSETT",162,{"$f":"VLOOKUP(P301,'Townwide Contributions'!$A$9:$B$361,2,0)","v":"Lunenburg"},"LUNENBURG                    "]
[398,null,"745 Pentucket",745,"Pentucket",745,"0745",null,null,null,null,83211,11,832,"MONTACHUSETT",234,{"$f":"VLOOKUP(P302,'Townwide Contributions'!$A$9:$B$361,2,0)","v":"Petersham"},"PETERSHAM                    "]
[232,null,"232 Pepperell",232,"Pepperell",232,"0232",null,null,null,null,83212,12,832,"MONTACHUSETT",235,{"$f":"VLOOKUP(P303,'Townwide Contributions'!$A$9:$B$361,2,0)","v":"Phillipston"},"PHILLIPSTON                  "]
[233,null,"233 Peru",233,"Peru",233,"0233",null,null,null,null,83213,13,832,"MONTACHUSETT",241,{"$f":"VLOOKUP(P304,'Townwide Contributions'!$A$9:$B$361,2,0)","v":"Princeton"},"PRINCETON                    "]
[234,null,"234 Petersham",234,"Petersham",234,"0234",null,null,null,null,83214,14,832,"MONTACHUSETT",255,{"$f":"VLOOKUP(P305,'Townwide Contributions'!$A$9:$B$361,2,0)","v":"Royalston"},"ROYALSTON                    "]
[235,null,"235 Phillipston",235,"Phillipston",235,"0235",null,null,null,null,83215,15,832,"MONTACHUSETT",282,{"$f":"VLOOKUP(P306,'Townwide Contributions'!$A$9:$B$361,2,0)","v":"Sterling"},"STERLING                     "]
[399,null,"750 Pioneer",750,"Pioneer",750,"0750",null,null,null,null,83216,16,832,"MONTACHUSETT",294,{"$f":"VLOOKUP(P307,'Townwide Contributions'!$A$9:$B$361,2,0)","v":"Templeton"},"TEMPLETON                    "]
[236,null,"236 Pittsfield",236,"Pittsfield",236,"0236",null,null,null,null,83217,17,832,"MONTACHUSETT",328,{"$f":"VLOOKUP(P308,'Townwide Contributions'!$A$9:$B$361,2,0)","v":"Westminster"},"WESTMINSTER                  "]
[237,null,"237 Plainfield",237,"Plainfield",237,"0237",null,null,null,null,83218,18,832,"MONTACHUSETT",343,{"$f":"VLOOKUP(P309,'Townwide Contributions'!$A$9:$B$361,2,0)","v":"Winchendon"},"WINCHENDON                   "]
[238,null,"238 Plainville",238,"Plainville",238,"0238",null,null,null,null,85101,1,851,"NORTHERN BERKSHIRE",4,{"$f":"VLOOKUP(P310,'Townwide Contributions'!$A$9:$B$361,2,0)","v":"Adams"},"ADAMS                        "]
[239,null,"239 Plymouth",239,"Plymouth",239,"0239",null,null,null,null,85102,2,851,"NORTHERN BERKSHIRE",58,{"$f":"VLOOKUP(P311,'Townwide Contributions'!$A$9:$B$361,2,0)","v":"Cheshire"},"CHESHIRE"]
[240,null,"240 Plympton",240,"Plympton",240,"0240",null,null,null,null,85103,3,851,"NORTHERN BERKSHIRE",63,{"$f":"VLOOKUP(P312,'Townwide Contributions'!$A$9:$B$361,2,0)","v":"Clarksburg"},"CLARKSBURG                   "]
[241,null,"241 Princeton",241,"Princeton",241,"0241",null,null,null,null,85104,4,851,"NORTHERN BERKSHIRE",98,{"$f":"VLOOKUP(P313,'Townwide Contributions'!$A$9:$B$361,2,0)","v":"Florida"},"FLORIDA                      "]
[242,null,"242 Provincetown",242,"Provincetown",242,"0242",null,null,null,null,85105,5,851,"NORTHERN BERKSHIRE",148,{"$f":"VLOOKUP(P314,'Townwide Contributions'!$A$9:$B$361,2,0)","v":"Lanesborough"},"LANESBOROUGH                 "]
[400,null,"753 Quabbin",753,"Quabbin",753,"0753",null,null,null,null,85106,6,851,"NORTHERN BERKSHIRE",190,{"$f":"VLOOKUP(P315,'Townwide Contributions'!$A$9:$B$361,2,0)","v":"Monroe"},"MONROE                       "]
[411,null,"778 Quaboag",778,"Quaboag",778,"0778",null,null,null,null,85107,7,851,"NORTHERN BERKSHIRE",209,{"$f":"VLOOKUP(P316,'Townwide Contributions'!$A$9:$B$361,2,0)","v":"North Adams"},"NORTH ADAMS                  "]
[243,null,"243 Quincy",243,"Quincy",243,"0243",null,null,null,null,85108,8,851,"NORTHERN BERKSHIRE",263,{"$f":"VLOOKUP(P317,'Townwide Contributions'!$A$9:$B$361,2,0)","v":"Savoy"},"SAVOY                        "]
[401,null,"755 Ralph C Mahar",755,"Ralph C Mahar",755,"0755",null,null,null,null,85109,9,851,"NORTHERN BERKSHIRE",341,{"$f":"VLOOKUP(P318,'Townwide Contributions'!$A$9:$B$361,2,0)","v":"Williamstown"},"WILLIAMSTOWN                 "]
[244,null,"244 Randolph",244,"Randolph",244,"0244",null,null,null,null,85201,1,852,"NASHOBA VALLEY",19,{"$f":"VLOOKUP(P319,'Townwide Contributions'!$A$9:$B$361,2,0)","v":"Ayer"},"AYER"]
[245,null,"245 Raynham",245,"Raynham",245,"0245",null,null,null,null,85202,2,852,"NASHOBA VALLEY",56,{"$f":"VLOOKUP(P320,'Townwide Contributions'!$A$9:$B$361,2,0)","v":"Chelmsford"},"CHELMSFORD                   "]
[246,null,"246 Reading",246,"Reading",246,"0246",null,null,null,null,85203,3,852,"NASHOBA VALLEY",115,{"$f":"VLOOKUP(P321,'Townwide Contributions'!$A$9:$B$361,2,0)","v":"Groton"},"GROTON                       "]
[247,null,"247 Rehoboth",247,"Rehoboth",247,"0247",null,null,null,null,85204,4,852,"NASHOBA VALLEY",158,{"$f":"VLOOKUP(P322,'Townwide Contributions'!$A$9:$B$361,2,0)","v":"Littleton"},"LITTLETON                    "]
[248,null,"248 Revere",248,"Revere",248,"0248",null,null,null,null,85205,5,852,"NASHOBA VALLEY",232,{"$f":"VLOOKUP(P323,'Townwide Contributions'!$A$9:$B$361,2,0)","v":"Pepperell"},"PEPPERELL                    "]
[249,null,"249 Richmond",249,"Richmond",249,"0249",null,null,null,null,85206,6,852,"NASHOBA VALLEY",270,{"$f":"VLOOKUP(P324,'Townwide Contributions'!$A$9:$B$361,2,0)","v":"Shirley"},"SHIRLEY                      "]
[250,null,"250 Rochester",250,"Rochester",250,"0250",null,null,null,null,85207,7,852,"NASHOBA VALLEY",299,{"$f":"VLOOKUP(P325,'Townwide Contributions'!$A$9:$B$361,2,0)","v":"Townsend"},"TOWNSEND                     "]
[251,null,{"$f":"PROPER(D326&\" \"&E326)","v":"251 Rockland"},251,"Rockland",251,"0251",null,null,null,null,85208,8,852,"NASHOBA VALLEY",326,{"$f":"VLOOKUP(P326,'Townwide Contributions'!$A$9:$B$361,2,0)","v":"Westford"},"WESTFORD                     "]
[252,null,"252 Rockport",252,"Rockport",252,"0252",null,null,null,null,85301,1,853,"NORTHEAST METROPOLITAN",57,{"$f":"VLOOKUP(P327,'Townwide Contributions'!$A$9:$B$361,2,0)","v":"Chelsea"},"CHELSEA                      "]
[253,null,"253 Rowe",253,"Rowe",253,"0253",null,null,null,null,85302,2,853,"NORTHEAST METROPOLITAN",165,{"$f":"VLOOKUP(P328,'Townwide Contributions'!$A$9:$B$361,2,0)","v":"Malden"},"MALDEN                       "]
[254,null,"254 Rowley",254,"Rowley",254,"0254",null,null,null,null,85303,3,853,"NORTHEAST METROPOLITAN",178,{"$f":"VLOOKUP(P329,'Townwide Contributions'!$A$9:$B$361,2,0)","v":"Melrose"},"MELROSE                      "]
[255,null,"255 Royalston",255,"Royalston",255,"0255",null,null,null,null,85304,4,853,"NORTHEAST METROPOLITAN",217,{"$f":"VLOOKUP(P330,'Townwide Contributions'!$A$9:$B$361,2,0)","v":"North Reading"},"NORTH READING                "]
[256,null,"256 Russell",256,"Russell",256,"0256",null,null,null,null,85305,5,853,"NORTHEAST METROPOLITAN",246,{"$f":"VLOOKUP(P331,'Townwide Contributions'!$A$9:$B$361,2,0)","v":"Reading"},"READING                      "]
[257,null,"257 Rutland",257,"Rutland",257,"0257",null,null,null,null,85306,6,853,"NORTHEAST METROPOLITAN",248,{"$f":"VLOOKUP(P332,'Townwide Contributions'!$A$9:$B$361,2,0)","v":"Revere"},"REVERE                       "]
[258,null,"258 Salem",258,"Salem",258,"0258",null,null,null,null,85307,7,853,"NORTHEAST METROPOLITAN",262,{"$f":"VLOOKUP(P333,'Townwide Contributions'!$A$9:$B$361,2,0)","v":"Saugus"},"SAUGUS                       "]
[259,null,"259 Salisbury",259,"Salisbury",259,"0259",null,null,null,null,85308,8,853,"NORTHEAST METROPOLITAN",284,{"$f":"VLOOKUP(P334,'Townwide Contributions'!$A$9:$B$361,2,0)","v":"Stoneham"},"STONEHAM                     "]
[260,null,"260 Sandisfield",260,"Sandisfield",260,"0260",null,null,null,null,85309,9,853,"NORTHEAST METROPOLITAN",305,{"$f":"VLOOKUP(P335,'Townwide Contributions'!$A$9:$B$361,2,0)","v":"Wakefield"},"WAKEFIELD                    "]
[261,null,"261 Sandwich",261,"Sandwich",261,"0261",null,null,null,null,85310,10,853,"NORTHEAST METROPOLITAN",344,{"$f":"VLOOKUP(P336,'Townwide Contributions'!$A$9:$B$361,2,0)","v":"Winchester"},"WINCHESTER                   "]
[262,null,"262 Saugus",262,"Saugus",262,"0262",null,null,null,null,85311,11,853,"NORTHEAST METROPOLITAN",346,{"$f":"VLOOKUP(P337,'Townwide Contributions'!$A$9:$B$361,2,0)","v":"Winthrop"},"WINTHROP                     "]
[263,null,"263 Savoy",263,"Savoy",263,"0263",null,null,null,null,85312,12,853,"NORTHEAST METROPOLITAN",347,{"$f":"VLOOKUP(P338,'Townwide Contributions'!$A$9:$B$361,2,0)","v":"Woburn"},"WOBURN"]
[264,null,"264 Scituate",264,"Scituate",264,"0264",null,null,null,null,85501,1,855,"OLD COLONY",3,{"$f":"VLOOKUP(P339,'Townwide Contributions'!$A$9:$B$361,2,0)","v":"Acushnet"},"ACUSHNET                     "]
[265,null,"265 Seekonk",265,"Seekonk",265,"0265",null,null,null,null,85502,2,855,"OLD COLONY",52,{"$f":"VLOOKUP(P340,'Townwide Contributions'!$A$9:$B$361,2,0)","v":"Carver"},"CARVER                       "]
[266,null,{"$f":"PROPER(D341&\" \"&E341)","v":"266 Sharon"},266,"Sharon",266,"0266",null,null,null,null,85503,3,855,"OLD COLONY",146,{"$f":"VLOOKUP(P341,'Townwide Contributions'!$A$9:$B$361,2,0)","v":"Lakeville"},"LAKEVILLE                    "]
[432,null,"871 Shawsheen Valley",871,"Shawsheen Valley",871,"0871",null,null,null,null,85504,4,855,"OLD COLONY",173,{"$f":"VLOOKUP(P342,'Townwide Contributions'!$A$9:$B$361,2,0)","v":"Mattapoisett"},"MATTAPOISETT                 "]
[267,null,"267 Sheffield",267,"Sheffield",267,"0267",null,null,null,null,85505,5,855,"OLD COLONY",250,{"$f":"VLOOKUP(P343,'Townwide Contributions'!$A$9:$B$361,2,0)","v":"Rochester"},"ROCHESTER                    "]
[268,null,"268 Shelburne",268,"Shelburne",268,"0268",null,null,null,null,86001,1,860,"PATHFINDER",24,{"$f":"VLOOKUP(P344,'Townwide Contributions'!$A$9:$B$361,2,0)","v":"Belchertown"},"BELCHERTOWN                  "]
[269,null,"269 Sherborn",269,"Sherborn",269,"0269",null,null,null,null,86002,2,860,"PATHFINDER",111,{"$f":"VLOOKUP(P345,'Townwide Contributions'!$A$9:$B$361,2,0)","v":"Granby"},"GRANBY                       "]
[270,null,"270 Shirley",270,"Shirley",270,"0270",null,null,null,null,86003,3,860,"PATHFINDER",124,{"$f":"VLOOKUP(P346,'Townwide Contributions'!$A$9:$B$361,2,0)","v":"Hardwick"},"HARDWICK                     "]
[271,null,"271 Shrewsbury",271,"Shrewsbury",271,"0271",null,null,null,null,86004,4,860,"PATHFINDER",191,{"$f":"VLOOKUP(P347,'Townwide Contributions'!$A$9:$B$361,2,0)","v":"Monson"},"MONSON                       "]
[272,null,"272 Shutesbury",272,"Shutesbury",272,"0272",null,null,null,null,86005,5,860,"PATHFINDER",202,{"$f":"VLOOKUP(P348,'Townwide Contributions'!$A$9:$B$361,2,0)","v":"New Braintree"},"NEW BRAINTREE                "]
[402,null,"760 Silver Lake",760,"Silver Lake",760,"0760",null,null,null,null,86006,6,860,"PATHFINDER",222,{"$f":"VLOOKUP(P349,'Townwide Contributions'!$A$9:$B$361,2,0)","v":"Oakham"},"OAKHAM                       "]
[273,null,"273 Somerset",273,"Somerset",273,"0273",null,null,null,null,86007,7,860,"PATHFINDER",227,{"$f":"VLOOKUP(P350,'Townwide Contributions'!$A$9:$B$361,2,0)","v":"Palmer"},"PALMER                       "]
[403,null,"763 Somerset Berkley",763,"Somerset Berkley",763,"0763",null,null,null,null,86008,8,860,"PATHFINDER",309,{"$f":"VLOOKUP(P351,'Townwide Contributions'!$A$9:$B$361,2,0)","v":"Ware"},"WARE                         "]
[274,null,"274 Somerville",274,"Somerville",274,"0274",null,null,null,null,86009,9,860,"PATHFINDER",311,{"$f":"VLOOKUP(P352,'Townwide Contributions'!$A$9:$B$361,2,0)","v":"Warren"},"WARREN                       "]
[278,null,"278 South Hadley",278,"South Hadley",278,"0278",null,null,null,null,87101,1,871,"SHAWSHEEN VALLEY",23,{"$f":"VLOOKUP(P353,'Townwide Contributions'!$A$9:$B$361,2,0)","v":"Bedford"},"BEDFORD                      "]
[424,null,"829 South Middlesex",829,"South Middlesex",829,"0829",null,null,null,null,87102,2,871,"SHAWSHEEN VALLEY",31,{"$f":"VLOOKUP(P354,'Townwide Contributions'!$A$9:$B$361,2,0)","v":"Billerica"},"BILLERICA                    "]
[434,null,"873 South Shore",873,"South Shore",873,"0873",null,null,null,null,87103,3,871,"SHAWSHEEN VALLEY",48,{"$f":"VLOOKUP(P355,'Townwide Contributions'!$A$9:$B$361,2,0)","v":"Burlington"},"BURLINGTON                   "]
[275,null,"275 Southampton",275,"Southampton",275,"0275",null,null,null,null,87104,4,871,"SHAWSHEEN VALLEY",295,{"$f":"VLOOKUP(P356,'Townwide Contributions'!$A$9:$B$361,2,0)","v":"Tewksbury"},"TEWKSBURY                    "]
[276,null,"276 Southborough",276,"Southborough",276,"0276",88,null,null,null,87105,5,871,"SHAWSHEEN VALLEY",342,{"$f":"VLOOKUP(P357,'Townwide Contributions'!$A$9:$B$361,2,0)","v":"Wilmington"},"WILMINGTON                   "]
[277,null,"277 Southbridge",277,"Southbridge",277,"0277",{"$f":"B358","v":0},null,null,null,87201,1,872,"SOUTHEASTERN",44,{"$f":"VLOOKUP(P358,'Townwide Contributions'!$A$9:$B$361,2,0)","v":"Brockton"},"BROCKTON                     "]
[433,null,"872 Southeastern",872,"Southeastern",872,"0872",{"$f":"B359","v":0},null,null,null,87202,2,872,"SOUTHEASTERN",83,{"$f":"VLOOKUP(P359,'Townwide Contributions'!$A$9:$B$361,2,0)","v":"East Bridgewater"},"EAST BRIDGEWATER             "]
[404,null,"765 Southern Berkshire",765,"Southern Berkshire",765,"0765",0,null,null,null,87203,3,872,"SOUTHEASTERN",88,{"$f":"VLOOKUP(P360,'Townwide Contributions'!$A$9:$B$361,2,0)","v":"Easton"},"EASTON                       "]
[435,null,"876 Southern Worcester",876,"Southern Worcester",876,"0876",0,null,null,null,87204,4,872,"SOUTHEASTERN",99,{"$f":"VLOOKUP(P361,'Townwide Contributions'!$A$9:$B$361,2,0)","v":"Foxborough"},"FOXBOROUGH                   "]
[279,null,"279 Southwick",279,"Southwick",279,"0279",0,null,null,null,87205,5,872,"SOUTHEASTERN",167,{"$f":"VLOOKUP(P362,'Townwide Contributions'!$A$9:$B$361,2,0)","v":"Mansfield"},"MANSFIELD                    "]
[405,null,"766 Southwick Tolland Granville",766,"Southwick Tolland Granville",766,"0766",0,null,null,null,87206,6,872,"SOUTHEASTERN",218,{"$f":"VLOOKUP(P363,'Townwide Contributions'!$A$9:$B$361,2,0)","v":"Norton"},"NORTON                       "]
[280,null,"280 Spencer",280,"Spencer",280,"0280",0,null,null,null,87207,7,872,"SOUTHEASTERN",266,{"$f":"VLOOKUP(P364,'Townwide Contributions'!$A$9:$B$361,2,0)","v":"Sharon"},"SHARON                       "]
[406,null,"767 Spencer East Brookfield",767,"Spencer East Brookfield",767,"0767",0,null,null,null,87208,8,872,"SOUTHEASTERN",285,{"$f":"VLOOKUP(P365,'Townwide Contributions'!$A$9:$B$361,2,0)","v":"Stoughton"},"STOUGHTON                    "]
[281,null,"281 Springfield",281,"Springfield",281,"0281",0,null,null,null,87209,9,872,"SOUTHEASTERN",323,{"$f":"VLOOKUP(P366,'Townwide Contributions'!$A$9:$B$361,2,0)","v":"West Bridgewater"},"WEST BRIDGEWATER             "]
[282,null,"282 Sterling",282,"Sterling",282,"0282",0,null,null,null,87301,1,873,"SOUTH SHORE",1,{"$f":"VLOOKUP(P367,'Townwide Contributions'!$A$9:$B$361,2,0)","v":"Abington"},"ABINGTON                     "]
[283,null,"283 Stockbridge",283,"Stockbridge",283,"0283",0,null,null,null,87302,2,873,"SOUTH SHORE",65,{"$f":"VLOOKUP(P368,'Townwide Contributions'!$A$9:$B$361,2,0)","v":"Cohasset"},"COHASSET                     "]
[284,null,"284 Stoneham",284,"Stoneham",284,"0284",0,null,null,null,87303,3,873,"SOUTH SHORE",122,{"$f":"VLOOKUP(P369,'Townwide Contributions'!$A$9:$B$361,2,0)","v":"Hanover"},"HANOVER                      "]
[285,null,"285 Stoughton",285,"Stoughton",285,"0285",0,null,null,null,87304,4,873,"SOUTH SHORE",123,{"$f":"VLOOKUP(P370,'Townwide Contributions'!$A$9:$B$361,2,0)","v":"Hanson"},"HANSON                       "]
[286,null,"286 Stow",286,"Stow",286,"0286",0,null,null,null,87305,5,873,"SOUTH SHORE",171,"Marshfield","MARSHFIELD"]
[287,null,"287 Sturbridge",287,"Sturbridge",287,"0287",0,null,null,null,87306,6,873,"SOUTH SHORE",219,{"$f":"VLOOKUP(P372,'Townwide Contributions'!$A$9:$B$361,2,0)","v":"Norwell"},"NORWELL                      "]
[288,null,{"$f":"PROPER(D373&\" \"&E373)","v":"288 Sudbury"},288,"Sudbury",288,"0288",0,null,null,null,87307,7,873,"SOUTH SHORE",251,{"$f":"VLOOKUP(P373,'Townwide Contributions'!$A$9:$B$361,2,0)","v":"Rockland"},"ROCKLAND                     "]
[289,null,"289 Sunderland",289,"Sunderland",289,"0289",0,null,null,null,87308,8,873,"SOUTH SHORE",264,{"$f":"VLOOKUP(P374,'Townwide Contributions'!$A$9:$B$361,2,0)","v":"Scituate"},"SCITUATE                     "]
[290,null,"290 Sutton",290,"Sutton",290,"0290",0,null,null,null,87309,9,873,"SOUTH SHORE",338,{"$f":"VLOOKUP(P375,'Townwide Contributions'!$A$9:$B$361,2,0)","v":"Whitman"},"WHITMAN                      "]
[291,null,"291 Swampscott",291,"Swampscott",291,"0291",0,null,null,null,87601,1,876,"SOUTHERN WORCESTER",17,{"$f":"VLOOKUP(P376,'Townwide Contributions'!$A$9:$B$361,2,0)","v":"Auburn"},"AUBURN                       "]
[292,null,"292 Swansea",292,"Swansea",292,"0292",0,null,null,null,87602,2,876,"SOUTHERN WORCESTER",54,{"$f":"VLOOKUP(P377,'Townwide Contributions'!$A$9:$B$361,2,0)","v":"Charlton"},"CHARLTON                     "]
[407,null,"770 Tantasqua",770,"Tantasqua",770,"0770",0,null,null,null,87603,3,876,"SOUTHERN WORCESTER",80,{"$f":"VLOOKUP(P378,'Townwide Contributions'!$A$9:$B$361,2,0)","v":"Dudley"},"DUDLEY                       "]
[293,null,"293 Taunton",293,"Taunton",293,"0293",0,null,null,null,87604,4,876,"SOUTHERN WORCESTER",215,{"$f":"VLOOKUP(P379,'Townwide Contributions'!$A$9:$B$361,2,0)","v":"North Brookfield"},"NORTH BROOKFIELD             "]
[294,null,"294 Templeton",294,"Templeton",294,"0294",0,null,null,null,87605,5,876,"SOUTHERN WORCESTER",226,{"$f":"VLOOKUP(P380,'Townwide Contributions'!$A$9:$B$361,2,0)","v":"Oxford"},"OXFORD                       "]
[295,null,"295 Tewksbury",295,"Tewksbury",295,"0295",0,null,null,null,87606,6,876,"SOUTHERN WORCESTER",228,{"$f":"VLOOKUP(P381,'Townwide Contributions'!$A$9:$B$361,2,0)","v":"Paxton"},"PAXTON                       "]
[296,null,"296 Tisbury",296,"Tisbury",296,"0296",0,null,null,null,87607,7,876,"SOUTHERN WORCESTER",257,{"$f":"VLOOKUP(P382,'Townwide Contributions'!$A$9:$B$361,2,0)","v":"Rutland"},"RUTLAND                      "]
[297,null,"297 Tolland",297,"Tolland",297,"0297",0,null,null,null,87608,8,876,"SOUTHERN WORCESTER",277,{"$f":"VLOOKUP(P383,'Townwide Contributions'!$A$9:$B$361,2,0)","v":"Southbridge"},"SOUTHBRIDGE                  "]
[298,null,"298 Topsfield",298,"Topsfield",298,"0298",0,null,null,null,87609,9,876,"SOUTHERN WORCESTER",280,{"$f":"VLOOKUP(P384,'Townwide Contributions'!$A$9:$B$361,2,0)","v":"Spencer"},"SPENCER                      "]
[299,null,"299 Townsend",299,"Townsend",299,"0299",0,null,null,null,87610,10,876,"SOUTHERN WORCESTER",316,{"$f":"VLOOKUP(P385,'Townwide Contributions'!$A$9:$B$361,2,0)","v":"Webster"},"WEBSTER                      "]
[436,null,"878 Tri County",878,"Tri County",878,"0878",0,null,null,null,87801,1,878,"TRI COUNTY",101,{"$f":"VLOOKUP(P386,'Townwide Contributions'!$A$9:$B$361,2,0)","v":"Franklin"},"FRANKLIN                     "]
[408,null,"773 Triton",773,"Triton",773,"0773",0,null,null,null,87802,2,878,"TRI COUNTY",175,{"$f":"VLOOKUP(P387,'Townwide Contributions'!$A$9:$B$361,2,0)","v":"Medfield"},"MEDFIELD                     "]
[300,null,"300 Truro",300,"Truro",300,"0300",0,null,null,null,87803,3,878,"TRI COUNTY",177,{"$f":"VLOOKUP(P388,'Townwide Contributions'!$A$9:$B$361,2,0)","v":"Medway"},"MEDWAY                       "]
[301,null,"301 Tyngsborough",301,"Tyngsborough",301,"0301",0,null,null,null,87804,4,878,"TRI COUNTY",187,{"$f":"VLOOKUP(P389,'Townwide Contributions'!$A$9:$B$361,2,0)","v":"Millis"},"MILLIS                       "]
[302,null,"302 Tyringham",302,"Tyringham",302,"0302",0,null,null,null,87805,5,878,"TRI COUNTY",208,{"$f":"VLOOKUP(P390,'Townwide Contributions'!$A$9:$B$361,2,0)","v":"Norfolk"},"NORFOLK                      "]
[409,null,"774 Upisland",774,"Upisland",774,"0774",0,null,null,null,87806,6,878,"TRI COUNTY",212,{"$f":"VLOOKUP(P391,'Townwide Contributions'!$A$9:$B$361,2,0)","v":"North Attleborough"},"NORTH ATTLEBOROUGH           "]
[437,null,"879 Upper Cape Cod",879,"Upper Cape Cod",879,"0879",0,null,null,null,87807,7,878,"TRI COUNTY",238,{"$f":"VLOOKUP(P392,'Townwide Contributions'!$A$9:$B$361,2,0)","v":"Plainville"},"PLAINVILLE                   "]
[303,null,"303 Upton",303,"Upton",303,"0303",0,null,null,null,87808,8,878,"TRI COUNTY",265,{"$f":"VLOOKUP(P393,'Townwide Contributions'!$A$9:$B$361,2,0)","v":"Seekonk"},"SEEKONK                      "]
[304,null,"304 Uxbridge",304,"Uxbridge",304,"0304",0,null,null,null,87809,9,878,"TRI COUNTY",269,{"$f":"VLOOKUP(P394,'Townwide Contributions'!$A$9:$B$361,2,0)","v":"Sherborn"},"SHERBORN                     "]
[410,null,"775 Wachusett",775,"Wachusett",775,"0775",0,null,null,null,87810,10,878,"TRI COUNTY",307,{"$f":"VLOOKUP(P395,'Townwide Contributions'!$A$9:$B$361,2,0)","v":"Walpole"},"WALPOLE                      "]
[305,null,"305 Wakefield",305,"Wakefield",305,"0305",0,null,null,null,87811,11,878,"TRI COUNTY",350,{"$f":"VLOOKUP(P396,'Townwide Contributions'!$A$9:$B$361,2,0)","v":"Wrentham"},"WRENTHAM                     "]
[306,null,"306 Wales",306,"Wales",306,"0306",0,null,null,null,87901,1,879,"UPPER CAPE COD",36,{"$f":"VLOOKUP(P397,'Townwide Contributions'!$A$9:$B$361,2,0)","v":"Bourne"},"BOURNE                       "]
[307,null,"307 Walpole",307,"Walpole",307,"0307",0,null,null,null,87902,2,879,"UPPER CAPE COD",96,{"$f":"VLOOKUP(P398,'Townwide Contributions'!$A$9:$B$361,2,0)","v":"Falmouth"},"FALMOUTH                     "]
[308,null,"308 Waltham",308,"Waltham",308,"0308",0,null,null,null,87903,3,879,"UPPER CAPE COD",169,{"$f":"VLOOKUP(P399,'Townwide Contributions'!$A$9:$B$361,2,0)","v":"Marion"},"MARION                       "]
[309,null,"309 Ware",309,"Ware",309,"0309",0,null,null,null,87904,4,879,"UPPER CAPE COD",261,{"$f":"VLOOKUP(P400,'Townwide Contributions'!$A$9:$B$361,2,0)","v":"Sandwich"},"SANDWICH                     "]
[310,null,"310 Wareham",310,"Wareham",310,"0310",0,null,null,null,87905,5,879,"UPPER CAPE COD",310,{"$f":"VLOOKUP(P401,'Townwide Contributions'!$A$9:$B$361,2,0)","v":"Wareham"},"WAREHAM                      "]
[311,null,"311 Warren",311,"Warren",311,"0311",0,null,null,null,88501,1,885,"WHITTIER",7,{"$f":"VLOOKUP(P402,'Townwide Contributions'!$A$9:$B$361,2,0)","v":"Amesbury"},"AMESBURY                     "]
[312,null,"312 Warwick",312,"Warwick",312,"0312",0,null,null,null,88502,2,885,"WHITTIER",105,{"$f":"VLOOKUP(P403,'Townwide Contributions'!$A$9:$B$361,2,0)","v":"Georgetown"},"GEORGETOWN                   "]
[313,null,"313 Washington",313,"Washington",313,"0313",0,null,null,null,88503,3,885,"WHITTIER",116,{"$f":"VLOOKUP(P404,'Townwide Contributions'!$A$9:$B$361,2,0)","v":"Groveland"},"GROVELAND                    "]
[314,null,{"$f":"PROPER(D405&\" \"&E405)","v":"314 Watertown"},314,"Watertown",314,"0314",0,null,null,null,88504,4,885,"WHITTIER",128,{"$f":"VLOOKUP(P405,'Townwide Contributions'!$A$9:$B$361,2,0)","v":"Haverhill"},"HAVERHILL                    "]
[315,null,"315 Wayland",315,"Wayland",315,"0315",0,null,null,null,88505,5,885,"WHITTIER",144,{"$f":"VLOOKUP(P406,'Townwide Contributions'!$A$9:$B$361,2,0)","v":"Ipswich"},"IPSWICH                      "]
[316,null,"316 Webster",316,"Webster",316,"0316",0,null,null,null,88506,6,885,"WHITTIER",180,{"$f":"VLOOKUP(P407,'Townwide Contributions'!$A$9:$B$361,2,0)","v":"Merrimac"},"MERRIMAC                     "]
[317,null,"317 Wellesley",317,"Wellesley",317,"0317",0,null,null,null,88507,7,885,"WHITTIER",203,{"$f":"VLOOKUP(P408,'Townwide Contributions'!$A$9:$B$361,2,0)","v":"Newbury"},"NEWBURY                      "]
[318,null,"318 Wellfleet",318,"Wellfleet",318,"0318",0,null,null,null,88508,8,885,"WHITTIER",204,{"$f":"VLOOKUP(P409,'Townwide Contributions'!$A$9:$B$361,2,0)","v":"Newburyport"},"NEWBURYPORT                  "]
[319,null,"319 Wendell",319,"Wendell",319,"0319",0,null,null,null,88509,9,885,"WHITTIER",254,{"$f":"VLOOKUP(P410,'Townwide Contributions'!$A$9:$B$361,2,0)","v":"Rowley"},"ROWLEY                       "]
[320,null,"320 Wenham",320,"Wenham",320,"0320",0,null,null,null,88510,10,885,"WHITTIER",259,{"$f":"VLOOKUP(P411,'Townwide Contributions'!$A$9:$B$361,2,0)","v":"Salisbury"},"SALISBURY                    "]
[322,null,"322 West Boylston",322,"West Boylston",322,"0322",0,null,null,null,88511,11,885,"WHITTIER",329,{"$f":"VLOOKUP(P412,'Townwide Contributions'!$A$9:$B$361,2,0)","v":"West Newbury"},"WEST NEWBURY                 "]
[323,null,"323 West Bridgewater",323,"West Bridgewater",323,"0323",0,null,null,null,91001,1,910,"BRISTOL COUNTY",3,{"$f":"VLOOKUP(P413,'Townwide Contributions'!$A$9:$B$361,2,0)","v":"Acushnet"},"ACUSHNET                     "]
[324,null,"324 West Brookfield",324,"West Brookfield",324,"0324",0,null,null,null,91002,2,910,"BRISTOL COUNTY",16,{"$f":"VLOOKUP(P414,'Townwide Contributions'!$A$9:$B$361,2,0)","v":"Attleboro"},"ATTLEBORO                    "]
[329,null,"329 West Newbury",329,"West Newbury",329,"0329",0,null,null,null,91003,3,910,"BRISTOL COUNTY",27,{"$f":"VLOOKUP(P415,'Townwide Contributions'!$A$9:$B$361,2,0)","v":"Berkley"},"BERKLEY                      "]
[332,null,"332 West Springfield",332,"West Springfield",332,"0332",0,null,null,null,91004,4,910,"BRISTOL COUNTY",72,{"$f":"VLOOKUP(P416,'Townwide Contributions'!$A$9:$B$361,2,0)","v":"Dartmouth"},"DARTMOUTH                    "]
[333,null,"333 West Stockbridge",333,"West Stockbridge",333,"0333",0,null,null,null,91005,5,910,"BRISTOL COUNTY",76,{"$f":"VLOOKUP(P417,'Townwide Contributions'!$A$9:$B$361,2,0)","v":"Dighton"},"DIGHTON                      "]
[334,null,"334 West Tisbury",334,"West Tisbury",334,"0334",0,null,null,null,91006,6,910,"BRISTOL COUNTY",88,{"$f":"VLOOKUP(P418,'Townwide Contributions'!$A$9:$B$361,2,0)","v":"Easton"},"EASTON                       "]
[321,null,"321 Westborough",321,"Westborough",321,"0321",0,null,null,null,91007,7,910,"BRISTOL COUNTY",94,{"$f":"VLOOKUP(P419,'Townwide Contributions'!$A$9:$B$361,2,0)","v":"Fairhaven"},"FAIRHAVEN                    "]
[325,null,"325 Westfield",325,"Westfield",325,"0325",0,null,null,null,91008,8,910,"BRISTOL COUNTY",95,{"$f":"VLOOKUP(P420,'Townwide Contributions'!$A$9:$B$361,2,0)","v":"Fall River"},"FALL RIVER                   "]
[326,null,"326 Westford",326,"Westford",326,"0326",0,null,null,null,91009,9,910,"BRISTOL COUNTY",102,{"$f":"VLOOKUP(P421,'Townwide Contributions'!$A$9:$B$361,2,0)","v":"Freetown"},"FREETOWN                     "]
[327,null,"327 Westhampton",327,"Westhampton",327,"0327",0,null,null,null,91010,10,910,"BRISTOL COUNTY",167,{"$f":"VLOOKUP(P422,'Townwide Contributions'!$A$9:$B$361,2,0)","v":"Mansfield"},"MANSFIELD                    "]
[328,null,"328 Westminster",328,"Westminster",328,"0328",{"$f":"B423","v":0},null,null,null,91011,11,910,"BRISTOL COUNTY",201,{"$f":"VLOOKUP(P423,'Townwide Contributions'!$A$9:$B$361,2,0)","v":"New Bedford"},"NEW BEDFORD                  "]
[330,null,"330 Weston",330,"Weston",330,"0330",0,null,null,null,91012,12,910,"BRISTOL COUNTY",212,{"$f":"VLOOKUP(P424,'Townwide Contributions'!$A$9:$B$361,2,0)","v":"North Attleborough"},"NORTH ATTLEBOROUGH           "]
[331,null,"331 Westport",331,"Westport",331,"0331",0,null,null,null,91013,13,910,"BRISTOL COUNTY",218,{"$f":"VLOOKUP(P425,'Townwide Contributions'!$A$9:$B$361,2,0)","v":"Norton"},"NORTON                       "]
[335,null,"335 Westwood",335,"Westwood",335,"0335",0,null,null,null,91014,14,910,"BRISTOL COUNTY",245,{"$f":"VLOOKUP(P426,'Townwide Contributions'!$A$9:$B$361,2,0)","v":"Raynham"},"RAYNHAM                      "]
[336,null,"336 Weymouth",336,"Weymouth",336,"0336",0,null,null,null,91015,15,910,"BRISTOL COUNTY",247,{"$f":"VLOOKUP(P427,'Townwide Contributions'!$A$9:$B$361,2,0)","v":"Rehoboth"},"REHOBOTH                     "]
[337,null,"337 Whately",337,"Whately",337,"0337",0,null,null,null,91016,16,910,"BRISTOL COUNTY",265,{"$f":"VLOOKUP(P428,'Townwide Contributions'!$A$9:$B$361,2,0)","v":"Seekonk"},"SEEKONK                      "]
[338,null,"338 Whitman",338,"Whitman",338,"0338",0,null,null,null,91017,17,910,"BRISTOL COUNTY",273,{"$f":"VLOOKUP(P429,'Townwide Contributions'!$A$9:$B$361,2,0)","v":"Somerset"},"SOMERSET                     "]
[412,null,"780 Whitman Hanson",780,"Whitman Hanson",780,"0780",0,null,null,null,91018,18,910,"BRISTOL COUNTY",292,{"$f":"VLOOKUP(P430,'Townwide Contributions'!$A$9:$B$361,2,0)","v":"Swansea"},"SWANSEA                      "]
[438,null,"885 Whittier",885,"Whittier",885,"0885",0,null,null,null,91019,19,910,"BRISTOL COUNTY",293,{"$f":"VLOOKUP(P431,'Townwide Contributions'!$A$9:$B$361,2,0)","v":"Taunton"},"TAUNTON                      "]
[339,null,"339 Wilbraham",339,"Wilbraham",339,"0339",0,null,null,null,91020,20,910,"BRISTOL COUNTY",331,{"$f":"VLOOKUP(P432,'Townwide Contributions'!$A$9:$B$361,2,0)","v":"Westport"},"WESTPORT                     "]
[340,null,"340 Williamsburg",340,"Williamsburg",340,"0340",0,null,null,null,91501,1,915,"NORFOLK COUNTY",18,{"$f":"VLOOKUP(P433,'Townwide Contributions'!$A$9:$B$361,2,0)","v":"Avon"},"AVON                         "]
[341,null,"341 Williamstown",341,"Williamstown",341,"0341",0,null,null,null,91502,2,915,"NORFOLK COUNTY",25,{"$f":"VLOOKUP(P434,'Townwide Contributions'!$A$9:$B$361,2,0)","v":"Bellingham"},"BELLINGHAM                   "]
[342,null,"342 Wilmington",342,"Wilmington",342,"0342",0,null,null,null,91503,3,915,"NORFOLK COUNTY",40,{"$f":"VLOOKUP(P435,'Townwide Contributions'!$A$9:$B$361,2,0)","v":"Braintree"},"BRAINTREE                    "]
[343,null,"343 Winchendon",343,"Winchendon",343,"0343",0,null,null,null,91504,4,915,"NORFOLK COUNTY",46,{"$f":"VLOOKUP(P436,'Townwide Contributions'!$A$9:$B$361,2,0)","v":"Brookline"},"BROOKLINE                    "]
[344,null,{"$f":"PROPER(D437&\" \"&E437)","v":"344 Winchester"},344,"Winchester",344,"0344",0,null,null,null,91505,5,915,"NORFOLK COUNTY",50,{"$f":"VLOOKUP(P437,'Townwide Contributions'!$A$9:$B$361,2,0)","v":"Canton"},"CANTON                       "]
[345,null,"345 Windsor",345,"Windsor",345,"0345",0,null,null,null,91506,6,915,"NORFOLK COUNTY",65,{"$f":"VLOOKUP(P438,'Townwide Contributions'!$A$9:$B$361,2,0)","v":"Cohasset"},"COHASSET                     "]
[346,null,"346 Winthrop",346,"Winthrop",346,"0346",0,null,null,null,91507,7,915,"NORFOLK COUNTY",73,{"$f":"VLOOKUP(P439,'Townwide Contributions'!$A$9:$B$361,2,0)","v":"Dedham"},"DEDHAM                       "]
[347,null,"347 Woburn",347,"Woburn",347,"0347",0,null,null,null,91508,8,915,"NORFOLK COUNTY",78,{"$f":"VLOOKUP(P440,'Townwide Contributions'!$A$9:$B$361,2,0)","v":"Dover"},"DOVER                        "]
[348,null,"348 Worcester",348,"Worcester",348,"0348",0,null,null,null,91509,9,915,"NORFOLK COUNTY",99,{"$f":"VLOOKUP(P441,'Townwide Contributions'!$A$9:$B$361,2,0)","v":"Foxborough"},"FOXBOROUGH                   "]
[349,null,"349 Worthington",349,"Worthington",349,"0349",0,null,null,null,91510,10,915,"NORFOLK COUNTY",101,{"$f":"VLOOKUP(P442,'Townwide Contributions'!$A$9:$B$361,2,0)","v":"Franklin"},"FRANKLIN                     "]
[350,null,"350 Wrentham",350,"Wrentham",350,"0350",0,null,null,null,91511,11,915,"NORFOLK COUNTY",133,{"$f":"VLOOKUP(P443,'Townwide Contributions'!$A$9:$B$361,2,0)","v":"Holbrook"},"HOLBROOK                     "]
[351,null,"351 Yarmouth",351,"Yarmouth",351,"0351",0,null,null,null,91512,12,915,"NORFOLK COUNTY",175,{"$f":"VLOOKUP(P444,'Townwide Contributions'!$A$9:$B$361,2,0)","v":"Medfield"},"MEDFIELD                     "]
[441,null,{"$f":"PROPER(D445&\" \"&E445)","v":"999 State Total"},999,"State Total",999,"0999",88,null,null,null,91513,13,915,"NORFOLK COUNTY",177,{"$f":"VLOOKUP(P445,'Townwide Contributions'!$A$9:$B$361,2,0)","v":"Medway"},"MEDWAY                       "]
[null,null,null,null,null,null,null,null,null,null,null,91514,14,915,"NORFOLK COUNTY",187,{"$f":"VLOOKUP(P446,'Townwide Contributions'!$A$9:$B$361,2,0)","v":"Millis"},"MILLIS                       "]
[null,null,null,null,null,null,null,null,null,null,null,91515,15,915,"NORFOLK COUNTY",189,{"$f":"VLOOKUP(P447,'Townwide Contributions'!$A$9:$B$361,2,0)","v":"Milton"},"MILTON                       "]
[null,null,null,null,null,null,null,null,null,null,null,91516,16,915,"NORFOLK COUNTY",199,{"$f":"VLOOKUP(P448,'Townwide Contributions'!$A$9:$B$361,2,0)","v":"Needham"},"NEEDHAM                      "]
[null,88,"Select a regional district",null,"Select a regional district",999,"0999",88,null,null,null,91517,17,915,"NORFOLK COUNTY",208,{"$f":"VLOOKUP(P449,'Townwide Contributions'!$A$9:$B$361,2,0)","v":"Norfolk"},"NORFOLK                      "]
[null,1,{"$f":"PROPER(D450&\" \"&E450)","v":"600 Acton Boxborough"},600,"Acton Boxborough",{"$f":"D450","v":600},{"$f":"TEXT(D450,\"0000\")","v":"0600"},{"$f":"B450","v":1},null,null,null,91518,18,915,"NORFOLK COUNTY",220,{"$f":"VLOOKUP(P450,'Townwide Contributions'!$A$9:$B$361,2,0)","v":"Norwood"},"NORWOOD                      "]
[null,{"$f":"B450+1","v":2},"605 Amherst Pelham",605,"Amherst Pelham",{"$f":"D451","v":605},{"$f":"TEXT(D451,\"0000\")","v":"0605"},2,null,null,null,91519,19,915,"NORFOLK COUNTY",238,{"$f":"VLOOKUP(P451,'Townwide Contributions'!$A$9:$B$361,2,0)","v":"Plainville"},"PLAINVILLE                   "]
[null,{"$f":"B451+1","v":3},"610 Ashburnham Westminster",610,"Ashburnham Westminster",610,"0610",3,null,null,null,91520,20,915,"NORFOLK COUNTY",243,{"$f":"VLOOKUP(P452,'Townwide Contributions'!$A$9:$B$361,2,0)","v":"Quincy"},"QUINCY                       "]
[null,4,"801 Assabet Valley",801,"Assabet Valley",801,"0801",4,null,null,null,91521,21,915,"NORFOLK COUNTY",244,{"$f":"VLOOKUP(P453,'Townwide Contributions'!$A$9:$B$361,2,0)","v":"Randolph"},"RANDOLPH                     "]
[null,5,"615 Athol Royalston",615,"Athol Royalston",615,"0615",5,null,null,null,91522,22,915,"NORFOLK COUNTY",266,{"$f":"VLOOKUP(P454,'Townwide Contributions'!$A$9:$B$361,2,0)","v":"Sharon"},"SHARON                       "]
[null,6,"616 Ayer Shirley",616,"Ayer Shirley",616,"0616",6,null,null,null,91523,23,915,"NORFOLK COUNTY",285,{"$f":"VLOOKUP(P455,'Townwide Contributions'!$A$9:$B$361,2,0)","v":"Stoughton"},"STOUGHTON                    "]
[null,7,"618 Berkshire Hills",618,"Berkshire Hills",618,"0618",7,null,null,null,91524,24,915,"NORFOLK COUNTY",307,{"$f":"VLOOKUP(P456,'Townwide Contributions'!$A$9:$B$361,2,0)","v":"Walpole"},"WALPOLE                      "]
[null,8,"620 Berlin Boylston",620,"Berlin Boylston",620,"0620",8,null,null,null,91525,25,915,"NORFOLK COUNTY",317,{"$f":"VLOOKUP(P457,'Townwide Contributions'!$A$9:$B$361,2,0)","v":"Wellesley"},"WELLESLEY                    "]
[null,9,"622 Blackstone Millville",622,"Blackstone Millville",622,"0622",9,null,null,null,91526,26,915,"NORFOLK COUNTY",335,{"$f":"VLOOKUP(P458,'Townwide Contributions'!$A$9:$B$361,2,0)","v":"Westwood"},"WESTWOOD                     "]
[null,10,"805 Blackstone Valley",805,"Blackstone Valley",805,"0805",10,null,null,null,91527,27,915,"NORFOLK COUNTY",336,{"$f":"VLOOKUP(P459,'Townwide Contributions'!$A$9:$B$361,2,0)","v":"Weymouth"},"WEYMOUTH                     "]
[null,11,"806 Blue Hills",806,"Blue Hills",806,"0806",11,null,null,null,91528,28,915,"NORFOLK COUNTY",350,{"$f":"VLOOKUP(P460,'Townwide Contributions'!$A$9:$B$361,2,0)","v":"Wrentham"},"WRENTHAM                     "]
[null,12,"625 Bridgewater Raynham",625,"Bridgewater Raynham",625,"0625",12,null,null,null,99901,1,999," "," "," "]
[null,13,"910 Bristol County",910,"Bristol County",910,"0910",13]
[null,14,"810 Bristol Plymouth",810,"Bristol Plymouth",810,"0810",14]
[null,15,"815 Cape Cod",815,"Cape Cod",815,"0815",15]
[null,16,"635 Central Berkshire",635,"Central Berkshire",635,"0635",16]
[null,17,"632 Chesterfield Goshen",632,"Chesterfield Goshen",632,"0632",17]
[null,18,"640 Concord Carlisle",640,"Concord Carlisle",640,"0640",18]
[null,19,"645 Dennis Yarmouth",645,"Dennis Yarmouth",645,"0645",19]
[null,20,"650 Dighton Rehoboth",650,"Dighton Rehoboth",650,"0650",20]
[null,21,"655 Dover Sherborn",655,"Dover Sherborn",655,"0655",21]
[null,22,"658 Dudley Charlton",658,"Dudley Charlton",658,"0658",22]
[null,23,"817 Essex North Shore",817,"Essex North Shore",817,"0817",23]
[null,24,"662 Farmington River",662,"Farmington River",662,"0662",24]
[null,25,"818 Franklin County",818,"Franklin County",818,"0818",25]
[null,26,"665 Freetown Lakeville",665,"Freetown Lakeville",665,"0665",26]
[null,27,"670 Frontier",670,"Frontier",670,"0670",27]
[null,28,"672 Gateway",672,"Gateway",672,"0672",28]
[null,29,"674 Gill Montague",674,"Gill Montague",674,"0674",29]
[null,30,"821 Greater Fall River",821,"Greater Fall River",821,"0821",30]
[null,31,"823 Greater Lawrence",823,"Greater Lawrence",823,"0823",31]
[null,32,"828 Greater Lowell",828,"Greater Lowell",828,"0828",32]
[null,33,{"$f":"PROPER(D482&\" \"&E482)","v":"825 Greater New Bedford"},825,"Greater New Bedford",825,"0825",33]
[null,34,"673 Groton Dunstable",673,"Groton Dunstable",673,"0673",34]
[null,35,"675 Hamilton Wenham",675,"Hamilton Wenham",675,"0675",35]
[null,36,"680 Hampden Wilbraham",680,"Hampden Wilbraham",680,"0680",36]
[null,37,"683 Hampshire",683,"Hampshire",683,"0683",37]
[null,38,"685 Hawlemont",685,"Hawlemont",685,"0685",38]
[null,39,"603 Hoosac Valley",603,"Hoosac Valley",603,"0603",39]
[null,40,"690 King Philip",690,"King Philip",690,"0690",40]
[null,41,"695 Lincoln Sudbury",695,"Lincoln Sudbury",695,"0695",41]
[null,42,"698 Manchester Essex",698,"Manchester Essex",698,"0698",42]
[null,43,"700 Marthas Vineyard",700,"Marthas Vineyard",700,"0700",43]
[null,44,"705 Masconomet",705,"Masconomet",705,"0705",44]
[null,45,"710 Mendon Upton",710,"Mendon Upton",710,"0710",45]
[null,46,"830 Minuteman",830,"Minuteman",830,"0830",46]
[null,47,"717 Mohawk Trail",717,"Mohawk Trail",717,"0717",47]
[null,48,"712 Monomoy",712,"Monomoy",712,"0712",48]
[null,49,"832 Montachusett",832,"Montachusett",832,"0832",49]
[null,50,"715 Mount Greylock",715,"Mount Greylock",715,"0715",50]
[null,51,"720 Narragansett",720,"Narragansett",720,"0720",51]
[null,52,"725 Nashoba",725,"Nashoba",725,"0725",52]
[null,53,"852 Nashoba Valley",852,"Nashoba Valley",852,"0852",53]
[null,54,"660 Nauset",660,"Nauset",660,"0660",54]
[null,55,"728 New Salem Wendell",728,"New Salem Wendell",728,"0728",55]
[null,56,"915 Norfolk County",915,"Norfolk County",915,"0915",56]
[null,57,"735 North Middlesex",735,"North Middlesex",735,"0735",57]
[null,58,"406 Northampton Smith",406,"Northampton Smith",406,"0406",58]
[null,59,"730 Northboro Southboro",730,"Northboro Southboro",730,"0730",59]
[null,60,"853 Northeast Metropolitan",853,"Northeast Metropolitan",853,"0853",60]
[null,61,"851 Northern Berkshire",851,"Northern Berkshire",851,"0851",61]
[null,62,"855 Old Colony",855,"Old Colony",855,"0855",62]
[null,63,"740 Old Rochester",740,"Old Rochester",740,"0740",63]
[null,64,"860 Pathfinder",860,"Pathfinder",860,"0860",64]
[null,65,{"$f":"PROPER(D514&\" \"&E514)","v":"745 Pentucket"},745,"Pentucket",745,"0745",{"$f":"B514","v":65}]
[null,66,"750 Pioneer",750,"Pioneer",{"$f":"D515","v":750},{"$f":"TEXT(D515,\"0000\")","v":"0750"},66]
[null,{"$f":"B515+1","v":67},"753 Quabbin",753,"Quabbin",753,"0753",67]
[null,68,"778 Quaboag",778,"Quaboag",778,"0778",68]
[null,69,"755 Ralph C Mahar",755,"Ralph C Mahar",755,"0755",69]
[null,70,"871 Shawsheen Valley",871,"Shawsheen Valley",871,"0871",70]
[null,71,"760 Silver Lake",760,"Silver Lake",760,"0760",71]
[null,72,"763 Somerset Berkley",763,"Somerset Berkley",763,"0763",72]
[null,73,"829 South Middlesex",829,"South Middlesex",829,"0829",73]
[null,74,"873 South Shore",873,"South Shore",873,"0873",74]
[null,75,"872 Southeastern",872,"Southeastern",872,"0872",75]
[null,76,"765 Southern Berkshire",765,"Southern Berkshire",765,"0765",76]
[null,77,"876 Southern Worcester",876,"Southern Worcester",876,"0876",77]
[null,78,"766 Southwick Tolland Granville",766,"Southwick Tolland Granville",766,"0766",78]
[null,79,"767 Spencer East Brookfield",767,"Spencer East Brookfield",767,"0767",79]
[null,80,{"$f":"PROPER(D529&\" \"&E529)","v":"770 Tantasqua"},770,"Tantasqua",770,"0770",80]
[null,81,"878 Tri County",878,"Tri County",878,"0878",81]
[null,82,"773 Triton",773,"Triton",773,"0773",82]
[null,83,"774 Upisland",774,"Upisland",774,"0774",83]
[null,84,"879 Upper Cape Cod",879,"Upper Cape Cod",879,"0879",84]
[null,85,"775 Wachusett",775,"Wachusett",775,"0775",85]
[null,86,"780 Whitman Hanson",780,"Whitman Hanson",780,"0780",86]
[null,87,"885 Whittier",885,"Whittier",885,"0885",87]
[null,null,"999 State Total",999,"State Total",999,"0999"]

{"sheet":"frac","index":20,"n_rows":465,"n_cols":11,"rows_kept":465,"cut":false,"hidden":true,"merged":[[0,6,0,10],[1,6,1,10]]}
[]
[]
[]
["fraclea","regorder",null,null,"memlea",null,null,null,null,null,"memeffpct"]
[null,null,null,null,null,null,"distfrac27","distfrac27","distfrac27"]
[]
[null,null,null,null,null,null,null,"FY27","FY27","town ","weighted"]
[null,"Record",null,null,null,null,"Foundation","Reg'l Total","Member","effort ","effort goal"]
["fraclea","Number","fraconcat","District","memlea","Town","Percentage","Headcount","Headcount","goal pct","percentage"]
[406,1,{"$f":"A10*1000+E10","v":406210},"NORTHAMPTON SMITH            ",210,"NORTHAMPTON                  ",1,126,126,{"$f":"ROUND(VLOOKUP(E10,town351,12),2)","v":82.5},{"$f":"G10*J10","v":82.5}]
[600,{"$f":"B10+1","v":2},600002,"ACTON BOXBOROUGH             ",2,"ACTON                        ",0.82078494192999996,4994,4099,{"$f":"ROUND(VLOOKUP(E11,town351,12),2)","v":82.5},{"$f":"G11*J11","v":67.714757709224997}]
[600,{"$f":"B11+1","v":3},600037,"ACTON BOXBOROUGH             ",37,"BOXBOROUGH                   ",0.17921505806999999,4994,895,82.5,14.785242290774999]
[603,4,603004,"HOOSAC VALLEY",4,"ADAMS                        ",0.72727272727000003,1155,840,35.880000000000003,26.094545454447601]
[603,5,603058,"HOOSAC VALLEY",58,"CHESHIRE                     ",0.27272727273000003,1155,315,53.2,14.509090909236003]
[605,6,605008,"AMHERST PELHAM               ",8,"AMHERST                      ",0.79199372056999995,1274,1009,82.5,65.339481947024993]
[605,7,605154,"AMHERST PELHAM               ",154,"LEVERETT                     ",7.4568288849999997E-2,1274,95,82.5,6.1518838301249996]
[605,8,605230,"AMHERST PELHAM               ",230,"PELHAM                       ",6.279434851E-2,1274,80,78.67,4.9400313972817003]
[605,9,605272,"AMHERST PELHAM               ",272,"SHUTESBURY                   ",7.0643642069999998E-2,1274,90,72.510000000000005,5.1223704864956998]
[610,10,610011,"ASHBURNHAM WESTMINSTER       ",11,"ASHBURNHAM                   ",0.44968553458999999,2226,1001,52.8,23.743396226351997]
[610,11,610328,"ASHBURNHAM WESTMINSTER       ",328,"WESTMINSTER                  ",0.55031446540999995,2226,1225,67.06,36.904088050394598]
[615,12,615015,"ATHOL ROYALSTON              ",15,"ATHOL                        ",0.94065446478000003,1803,1696,31.17,29.320199667192604]
[615,13,615255,"ATHOL ROYALSTON              ",255,"ROYALSTON                    ",5.9345535220000002E-2,1803,107,68.61,4.0716971714442005]
[616,14,616019,"AYER SHIRLEY",19,"AYER",0.56253669994,1703,958,82.5,46.409277745049998]
[616,15,616270,"AYER SHIRLEY",270,"SHIRLEY",0.43746330006,1703,745,66.290000000000006,28.999442160977402]
[618,16,618113,"BERKSHIRE HILLS              ",113,"GREAT BARRINGTON             ",0.74004424779,904,669,82.5,61.053650442675]
[618,17,618283,"BERKSHIRE HILLS              ",283,"STOCKBRIDGE                  ",0.13716814158999999,904,124,82.5,11.316371681174999]
[618,18,618333,"BERKSHIRE HILLS              ",333,"WEST STOCKBRIDGE             ",0.12278761062,904,111,82.5,10.129977876150001]
[620,19,620028,"BERLIN BOYLSTON              ",28,"BERLIN                       ",0.37898686678999999,1066,404,82.5,31.266416510174999]
[620,20,620039,"BERLIN BOYLSTON              ",39,"BOYLSTON                     ",0.62101313320999996,1066,662,82.5,51.233583489824994]
[622,21,622032,"BLACKSTONE MILLVILLE         ",32,"BLACKSTONE                   ",0.76489226869000004,1578,1207,55.46,42.4209252215474]
[622,22,622188,"BLACKSTONE MILLVILLE         ",188,"MILLVILLE                    ",0.23510773131000001,1578,371,58.98,13.866653992663799]
[625,23,625042,"BRIDGEWATER RAYNHAM          ",42,"BRIDGEWATER                  ",0.62181882896999996,5619,3494,66.81,41.543715963485695]
[625,24,625245,"BRIDGEWATER RAYNHAM          ",245,"RAYNHAM                      ",0.37818117102999999,5619,2125,66.319999999999993,25.080975262709597]
[632,25,632060,"CHESTERFIELD GOSHEN",60,"CHESTERFIELD                 ",0.56034482759000004,116,65,82.5,46.228448276175001]
[632,26,632108,"CHESTERFIELD GOSHEN",108,"GOSHEN                       ",0.43965517241000002,116,51,65.12,28.630344827339204]
[635,27,635022,"CENTRAL BERKSHIRE            ",22,"BECKET                       ",0.11969904241,1462,175,82.5,9.8751709988250003]
[635,28,635069,"CENTRAL BERKSHIRE            ",69,"CUMMINGTON                   ",3.4883720930000001E-2,1462,51,82.5,2.8779069767249998]
[635,29,635070,"CENTRAL BERKSHIRE            ",70,"DALTON                       ",0.57113543091999996,1462,835,51.39,29.3506497949788]
[635,30,635132,"CENTRAL BERKSHIRE            ",132,"HINSDALE                     ",0.14569083447,1462,213,82.5,12.019493843775001]
[635,31,635233,"CENTRAL BERKSHIRE            ",233,"PERU                         ",5.7455540360000001E-2,1462,84,53.73,3.0870861835427998]
[635,32,635313,"CENTRAL BERKSHIRE            ",313,"WASHINGTON                   ",3.1463748290000003E-2,1462,46,82.5,2.5957592339250004]
[635,33,635345,"CENTRAL BERKSHIRE            ",345,"WINDSOR                      ",3.9671682630000003E-2,1462,58,82.5,3.2729138169750001]
[640,34,640051,"CONCORD CARLISLE             ",51,"CARLISLE                     ",0.25398230088000001,1130,287,82.5,20.9535398226]
[640,35,640067,"CONCORD CARLISLE             ",67,"CONCORD                      ",0.74601769912000004,1130,843,82.5,61.5464601774]
[645,36,645075,"DENNIS YARMOUTH              ",75,"DENNIS                       ",0.30157289776000001,3306,997,82.5,24.8797640652]
[645,37,645351,"DENNIS YARMOUTH              ",351,"YARMOUTH                     ",0.69842710224000004,3306,2309,82.5,57.6202359348]
[650,38,650076,"DIGHTON REHOBOTH             ",76,"DIGHTON                      ",0.42840329541,2549,1092,59.78,25.609948999609799]
[650,39,650247,"DIGHTON REHOBOTH             ",247,"REHOBOTH                     ",0.57159670459,2549,1457,82.5,47.156728128674999]
[655,40,655078,"DOVER SHERBORN               ",78,"DOVER                        ",0.52573529411999997,1088,572,82.5,43.373161764899997]
[655,41,655269,"DOVER SHERBORN               ",269,"SHERBORN                     ",0.47426470588000003,1088,516,82.5,39.126838235100003]
[658,42,658054,"DUDLEY CHARLTON              ",54,"CHARLTON                     ",0.53692920624999996,3263,1752,67.84,36.425277352000002]
[658,43,658080,"DUDLEY CHARLTON              ",80,"DUDLEY                       ",0.46307079374999999,3263,1511,49,22.690468893749998]
[660,44,660041,"NAUSET                       ",41,"BREWSTER                     ",0.46617915905000001,1094,510,82.5,38.459780621625001]
[660,45,660085,"NAUSET                       ",85,"EASTHAM                      ",0.19926873856999999,1094,218,82.5,16.439670932024999]
[660,46,660224,"NAUSET                       ",224,"ORLEANS                      ",0.21937842779,1094,240,82.5,18.098720292675001]
[660,47,660318,"NAUSET                       ",318,"WELLFLEET                    ",0.11517367459,1094,126,82.5,9.5018281536749996]
[662,48,662225,"FARMINGTON RIVER",225,"OTIS                         ",0.57868020305000001,197,114,82.5,47.741116751625]
[662,49,662260,"FARMINGTON RIVER",260,"SANDISFIELD                  ",0.42131979694999999,197,83,82.5,34.758883248375]
[665,50,665102,"FREETOWN LAKEVILLE           ",102,"FREETOWN                     ",0.43293847917,2617,1133,78.13,33.825483377552096]
[665,51,665146,"FREETOWN LAKEVILLE           ",146,"LAKEVILLE                    ",0.56706152083000005,2617,1484,82.5,46.782575468475002]
[670,52,670068,"FRONTIER                     ",68,"CONWAY                       ",0.14042553191000001,470,66,82.5,11.585106382575001]
[670,53,670074,"FRONTIER                     ",74,"DEERFIELD                    ",0.45531914893999997,470,214,82.5,37.563829787549999]
[670,54,670289,"FRONTIER                     ",289,"SUNDERLAND                   ",0.28936170213000001,470,136,82.5,23.872340425725]
[670,55,670337,"FRONTIER                     ",337,"WHATELY                      ",0.11489361702000001,470,54,80.77,9.2799574467053993]
[672,56,672033,"GATEWAY                      ",33,"BLANDFORD                    ",0.13775510203999999,784,108,82.5,11.364795918299999]
[672,57,672059,"GATEWAY                      ",59,"CHESTER                      ",0.1556122449,784,122,54.24,8.4404081633760004]
[672,58,672143,"GATEWAY                      ",143,"HUNTINGTON                   ",0.33545918366999999,784,263,47.43,15.910829081468099]
[672,59,672183,"GATEWAY                      ",183,"MIDDLEFIELD                  ",2.4234693880000002E-2,784,19,82.5,1.9993622451000002]
[672,60,672194,"GATEWAY                      ",194,"MONTGOMERY                   ",8.9285714289999998E-2,784,70,82.5,7.3660714289250002]
[672,61,672256,"GATEWAY                      ",256,"RUSSELL                      ",0.25765306121999998,784,202,50.39,12.983137754875798]
[673,62,673081,"GROTON DUNSTABLE             ",81,"DUNSTABLE                    ",0.24043956044000001,2275,547,82.5,19.836263736300001]
[673,63,673115,"GROTON DUNSTABLE             ",115,"GROTON                       ",0.75956043955999997,2275,1728,82.5,62.663736263699995]
[674,64,674106,"GILL MONTAGUE                ",106,"GILL                         ",0.13273340832,889,118,60.27,7.9998425194463998]
[674,65,{"$f":"A74*1000+E74","v":674192},"GILL MONTAGUE                ",192,"MONTAGUE                     ",0.86726659167999998,889,771,52.46,45.496805399532796]
[675,66,675119,"HAMILTON WENHAM              ",119,"HAMILTON                     ",0.64973419965000001,1693,1100,{"$f":"ROUND(VLOOKUP(E75,town351,12),2)","v":82.5},{"$f":"G75*J75","v":53.603071471124998}]
[675,{"$f":"B75+1","v":67},675320,"HAMILTON WENHAM              ",320,"WENHAM                       ",0.35026580034999999,1693,593,82.5,28.896928528874998]
[680,68,680120,"HAMPDEN WILBRAHAM            ",120,"HAMPDEN                      ",0.20857771260999999,2728,569,82.5,17.207661290324999]
[680,69,680339,"HAMPDEN WILBRAHAM            ",339,"WILBRAHAM                    ",0.79142228738999998,2728,2159,68.53,54.236169354836697]
[683,70,683060,"HAMPSHIRE                    ",60,"CHESTERFIELD                 ",5.6994818650000001E-2,579,33,82.5,4.702072538625]
[683,71,683108,"HAMPSHIRE                    ",108,"GOSHEN                       ",5.8721934369999999E-2,579,34,65.12,3.8239723661744001]
[683,72,683275,"HAMPSHIRE                    ",275,"SOUTHAMPTON                  ",0.55094991364000001,579,319,76.81,42.3184628666884]
[683,73,683327,"HAMPSHIRE                    ",327,"WESTHAMPTON                  ",0.13298791019,579,77,82.5,10.971502590675]
[683,74,683340,"HAMPSHIRE                    ",340,"WILLIAMSBURG                 ",0.20034542314000001,579,116,80.150000000000006,16.057685664671002]
[685,75,685053,"HAWLEMONT                    ",53,"CHARLEMONT                   ",0.87804878049000001,82,72,69.61,61.120975609908903]
[685,76,685129,"HAWLEMONT                    ",129,"HAWLEY                       ",0.12195121951,82,10,78.2,9.5365853656820008]
[690,77,690208,"KING PHILIP                  ",208,"NORFOLK                      ",0.36668469443000001,1849,678,82.5,30.251487290475001]
[690,78,690238,"KING PHILIP                  ",238,"PLAINVILLE                   ",0.26338561384999998,1849,487,82.5,21.729313142624999]
[690,79,690350,"KING PHILIP                  ",350,"WRENTHAM                     ",0.36992969173000001,1849,684,82.5,30.519199567725]
[695,80,695157,"LINCOLN SUDBURY              ",157,"LINCOLN                      ",0.13477924090000001,1291,174,82.5,11.119287374250002]
[695,81,695288,"LINCOLN SUDBURY              ",288,"SUDBURY                      ",0.86522075909999996,1291,1117,82.5,71.380712625749993]
[698,82,698092,"MANCHESTER ESSEX",92,"ESSEX",0.43192488263000001,1065,460,82.5,35.633802816974999]
[698,83,698166,"MANCHESTER ESSEX",166,"MANCHESTER",0.56807511737000005,1065,605,82.5,46.866197183025001]
[700,84,700062,"MARTHAS VINEYARD             ",62,"CHILMARK                     ",4.2723631509999999E-2,749,32,82.5,3.5246995995749999]
[700,85,700089,"MARTHAS VINEYARD             ",89,"EDGARTOWN                    ",0.28037383178000003,749,210,82.5,23.130841121850001]
[700,86,700104,"MARTHAS VINEYARD             ",104,"GAY HEAD                     ",1.73564753E-2,749,13,82.5,1.4319092122500001]
[700,87,700221,"MARTHAS VINEYARD             ",221,"OAK BLUFFS                   ",0.25634178904999999,749,192,82.5,21.148197596625]
[700,88,700296,"MARTHAS VINEYARD             ",296,"TISBURY                      ",0.22696929238999999,749,170,82.5,18.724966622175]
[700,89,700334,"MARTHAS VINEYARD             ",334,"WEST TISBURY                 ",0.17623497997000001,749,132,82.5,14.539385847525001]
[705,90,705038,"MASCONOMET                   ",38,"BOXFORD                      ",0.37269129288000002,1516,565,82.5,30.747031662600001]
[705,91,705184,"MASCONOMET                   ",184,"MIDDLETON                    ",0.3172823219,1516,481,82.5,26.175791556749999]
[705,92,705298,"MASCONOMET                   ",298,"TOPSFIELD                    ",0.31002638521999998,1516,470,82.5,25.577176780649999]
[710,93,710179,"MENDON UPTON                 ",179,"MENDON                       ",0.43059193294999998,1909,822,82.5,35.523834468375]
[710,94,710303,"MENDON UPTON                 ",303,"UPTON                        ",0.56940806705000002,1909,1087,82.5,46.976165531625]
[712,95,712055,"MONOMOY",55,"CHATHAM                      ",0.22526041666999999,1536,346,82.5,18.583984375274998]
[712,96,712126,"MONOMOY",126,"HARWICH                      ",0.77473958333000004,1536,1190,82.5,63.916015624725006]
[715,97,715148,"MOUNT GREYLOCK               ",148,"LANESBOROUGH                 ",0.33548983364000001,1082,363,69.03,23.158863216169202]
[715,98,715341,"MOUNT GREYLOCK               ",341,"WILLIAMSTOWN                 ",0.66451016636000004,1082,719,82.5,54.822088724700002]
[717,99,717013,"MOHAWK TRAIL                 ",13,"ASHFIELD                     ",0.17922077921999999,770,138,82.5,14.785714285649998]
[717,100,717047,"MOHAWK TRAIL                 ",47,"BUCKLAND                     ",0.20519480519,770,158,59.5,12.209090908804999]
[717,101,717053,"MOHAWK TRAIL                 ",53,"CHARLEMONT                   ",4.2857142860000003E-2,770,33,69.61,2.9832857144846003]
[717,102,717066,"MOHAWK TRAIL                 ",66,"COLRAIN                      ",0.2025974026,770,156,53.5,10.838961039100001]
[717,103,717129,"MOHAWK TRAIL                 ",129,"HAWLEY                       ",1.4285714289999999E-2,770,11,78.2,1.117142857478]
[717,104,717130,"MOHAWK TRAIL                 ",130,"HEATH                        ",9.3506493509999997E-2,770,72,37.590000000000003,3.5149090910409]
[717,105,717237,"MOHAWK TRAIL                 ",237,"PLAINFIELD                   ",8.1818181820000002E-2,770,63,60.78,4.9729090910196003]
[717,106,717268,"MOHAWK TRAIL                 ",268,"SHELBURNE                    ",0.18051948052,770,139,82.5,14.892857142900001]
[720,107,720235,"NARRAGANSETT                 ",235,"PHILLIPSTON                  ",0.14726291442,1297,191,70.08,10.3201850425536]
[720,108,720294,"NARRAGANSETT                 ",294,"TEMPLETON                    ",0.85273708558000005,1297,1106,45.36,38.680154201908799]
[725,109,725034,"NASHOBA                      ",34,"BOLTON                       ",0.33166666667,3000,995,82.5,27.362500000274999]
[725,110,725147,"NASHOBA                      ",147,"LANCASTER                    ",0.33233333332999998,3000,997,73.22,24.333446666422599]
[725,111,725286,"NASHOBA                      ",286,"STOW                         ",0.33600000000000002,3000,1008,82.5,27.720000000000002]
[728,112,728206,"NEW SALEM WENDELL            ",206,"NEW SALEM                    ",0.41666666667000002,96,40,75.819999999999993,31.591666666919398]
[728,113,728319,"NEW SALEM WENDELL            ",319,"WENDELL                      ",0.58333333333000004,96,56,45.28,26.413333333182404]
[730,114,730213,"NORTHBORO SOUTHBORO          ",213,"NORTHBOROUGH                 ",0.61206193969,1227,751,82.5,50.495110024425003]
[730,115,730276,"NORTHBORO SOUTHBORO          ",276,"SOUTHBOROUGH                 ",0.38793806031,1227,476,82.5,32.004889975574997]
[735,116,735012,"NORTH MIDDLESEX              ",12,"ASHBY                        ",0.12292243767,2888,355,65.98,8.1104224374665996]
[735,117,735232,"NORTH MIDDLESEX              ",232,"PEPPERELL                    ",0.48961218836999998,2888,1414,69.95,34.248372576481501]
[735,118,735299,"NORTH MIDDLESEX              ",299,"TOWNSEND                     ",0.38746537396000003,2888,1119,59.68,23.123933517932802]
[740,119,740169,"OLD ROCHESTER                ",169,"MARION                       ",0.31389183456999997,943,296,82.5,25.896076352024998]
[740,120,740173,"OLD ROCHESTER                ",173,"MATTAPOISETT                 ",0.32343584305,943,305,82.5,26.683457051625002]
[740,121,740250,"OLD ROCHESTER                ",250,"ROCHESTER                    ",0.36267232238000002,943,342,80.66,29.253149523170801]
[745,122,745116,"PENTUCKET                    ",116,"GROVELAND                    ",0.39188605956,2317,908,82.5,32.330599913699999]
[745,123,745180,"PENTUCKET                    ",180,"MERRIMAC                     ",0.35304272767,2317,818,82.5,29.126025032775001]
[745,124,745329,"PENTUCKET                    ",329,"WEST NEWBURY                 ",0.25507121278,2317,591,82.5,21.043375054350001]
[750,125,750029,"PIONEER                      ",29,"BERNARDSTON                  ",0.44145873321000001,521,230,61.14,26.990786948459402]
[750,126,750156,"PIONEER                      ",156,"LEYDEN                       ",0.12859884836999999,521,67,82.5,10.609404990524999]
[750,127,750216,"PIONEER                      ",216,"NORTHFIELD                   ",0.42994241842999997,521,224,82.5,35.470249520475001]
[753,128,753021,"QUABBIN                      ",21,"BARRE                        ",0.38236801640000001,1951,746,46.59,17.814525884076001]
[753,129,{"$f":"A138*1000+E138","v":753124},"QUABBIN                      ",124,"HARDWICK                     ",0.16094310610000001,1951,314,49.25,7.9264479754250008]
[753,130,753140,"QUABBIN                      ",140,"HUBBARDSTON                  ",0.28549461813999999,1951,557,{"$f":"ROUND(VLOOKUP(E139,town351,12),2)","v":62.74},{"$f":"G139*J139","v":17.911932342103601}]
[753,{"$f":"B139+1","v":131},753202,"QUABBIN                      ",202,"NEW BRAINTREE                ",5.1768323939999999E-2,1951,101,76.040000000000006,3.9364633523976003]
[753,132,753222,"QUABBIN                      ",222,"OAKHAM                       ",0.11942593542,1951,233,64.62,7.717303946840401]
[755,133,755206,"RALPH C MAHAR                ",206,"NEW SALEM                    ",5.2721088440000001E-2,588,31,75.819999999999993,3.9973129255207995]
[755,134,755223,"RALPH C MAHAR                ",223,"ORANGE                       ",0.77380952381000001,588,455,30.87,23.8875000000147]
[755,135,755234,"RALPH C MAHAR                ",234,"PETERSHAM                    ",0.10714285714000001,588,63,66.790000000000006,7.1560714283806011]
[755,136,755319,"RALPH C MAHAR                ",319,"WENDELL                      ",6.6326530610000003E-2,588,39,45.28,3.0032653060208001]
[760,137,760118,"SILVER LAKE                  ",118,"HALIFAX                      ",0.32011661808000003,1715,549,64.61,20.682734694148802]
[760,138,760145,"SILVER LAKE                  ",145,"KINGSTON                     ",0.56618075802000001,1715,971,74.62,42.248408163452403]
[760,139,760240,"SILVER LAKE                  ",240,"PLYMPTON                     ",0.11370262390999999,1715,195,73.150000000000006,8.3173469390165007]
[763,140,763027,"SOMERSET BERKLEY",27,"BERKLEY                      ",0.25759280089999997,889,229,66.2,17.052643419580001]
[763,141,763273,"SOMERSET BERKLEY",273,"SOMERSET                     ",0.74240719909999997,889,660,64.45,47.848143981995001]
[765,142,765006,"SOUTHERN BERKSHIRE           ",6,"ALFORD                       ",3.0254777069999999E-2,628,19,82.5,2.4960191082750001]
[765,143,765090,"SOUTHERN BERKSHIRE           ",90,"EGREMONT                     ",0.13375796177999999,628,84,82.5,11.03503184685]
[765,144,765193,"SOUTHERN BERKSHIRE           ",193,"MONTEREY                     ",0.12420382166000001,628,78,82.5,10.24681528695]
[765,145,765205,"SOUTHERN BERKSHIRE           ",205,"NEW MARLBOROUGH              ",0.17834394904,628,112,82.5,14.713375795800001]
[765,146,765267,"SOUTHERN BERKSHIRE           ",267,"SHEFFIELD                    ",0.53343949045000005,628,335,82.5,44.008757962125003]
[766,147,766112,"SOUTHWICK TOLLAND",112,"GRANVILLE",0.12682090831000001,1167,148,73.14,9.2756812337934011]
[766,148,766279,"SOUTHWICK TOLLAND",279,"SOUTHWICK                    ",0.85775492716000001,1167,1001,74.14,63.593950299642401]
[766,149,766297,"SOUTHWICK TOLLAND",297,"TOLLAND                      ",1.542416452E-2,1167,18,82.5,1.2724935729]
[767,150,767084,"SPENCER EAST BROOKFIELD      ",84,"EAST BROOKFIELD              ",0.16983606557,1525,259,56.81,9.6483868850316998]
[767,151,767280,"SPENCER EAST BROOKFIELD      ",280,"SPENCER                      ",0.83016393443000003,1525,1266,52.12,43.268144262491596]
[770,152,770043,"TANTASQUA                    ",43,"BRIMFIELD                    ",0.17602739726,1460,257,60.36,10.6250136986136]
[770,153,770045,"TANTASQUA                    ",45,"BROOKFIELD                   ",0.13630136985999999,1460,199,52.51,7.1571849313485991]
[770,154,770135,"TANTASQUA                    ",135,"HOLLAND                      ",9.5890410960000005E-2,1460,140,66.540000000000006,6.3805479452784013]
[770,155,770287,"TANTASQUA                    ",287,"STURBRIDGE                   ",0.51164383562000004,1460,747,64.87,33.190335616669408]
[770,156,770306,"TANTASQUA                    ",306,"WALES                        ",8.0136986300000004E-2,1460,117,46.44,3.721561643772]
[773,157,773203,"TRITON                       ",203,"NEWBURY                      ",0.28694404591,2091,600,82.5,23.672883787575]
[773,158,773254,"TRITON                       ",254,"ROWLEY                       ",0.3400286944,2091,711,82.5,28.052367287999999]
[773,159,773259,"TRITON                       ",259,"SALISBURY                    ",0.37302725968,2091,780,82.5,30.774748923600001]
[774,160,774062,"UPISLAND",62,"CHILMARK                     ",0.18112244897999999,392,71,82.5,14.94260204085]
[774,161,774104,"UPISLAND",104,"AQUINNAH",0.11479591837,392,45,82.5,9.4706632655249994]
[774,162,774334,"UPISLAND",334,"WEST TISBURY                 ",0.70408163265000001,392,276,82.5,58.086734693625004]
[775,163,775134,"WACHUSETT                    ",134,"HOLDEN                       ",0.46397562833,6565,3046,67.28,31.216280274042401]
[775,164,775228,"WACHUSETT                    ",228,"PAXTON                       ",9.1393754760000001E-2,6565,600,72.599999999999994,6.6351865955759992]
[775,165,775241,"WACHUSETT                    ",241,"PRINCETON                    ",6.8240670219999994E-2,6565,448,82.5,5.6298552931499994]
[775,166,775257,"WACHUSETT                    ",257,"RUTLAND                      ",0.24356435643999999,6565,1599,51.83,12.6239405942852]
[775,167,775282,"WACHUSETT                    ",282,"STERLING                     ",0.13282559024999999,6565,872,82.5,10.958111195624999]
[778,168,778311,"QUABOAG",311,"WARREN                       ",0.59903381642999998,1035,620,34.46,20.6427053141778]
[778,169,778324,"QUABOAG",324,"WEST BROOKFIELD              ",0.40096618357000002,1035,415,66.64,26.720386473104803]
[780,170,780123,"WHITMAN HANSON               ",123,"HANSON                       ",0.39121522693999999,3415,1336,71.03,27.788017569548199]
[780,171,780338,"WHITMAN HANSON               ",338,"WHITMAN                      ",0.60878477306000001,3415,2079,56.04,34.116298682282398]
[801,172,801028,"ASSABET VALLEY               ",28,"BERLIN                       ",3.3687943259999999E-2,1128,38,82.5,2.7792553189499998]
[801,173,801141,"ASSABET VALLEY               ",141,"HUDSON                       ",0.16578014184000001,1128,187,71.31,11.821781914610401]
[801,174,801170,"ASSABET VALLEY               ",170,"MARLBOROUGH                  ",0.59397163120999996,1128,670,52.48,31.171631205900795]
[801,175,801174,"ASSABET VALLEY               ",174,"MAYNARD                      ",5.141843972E-2,1128,58,79.02,4.0630851066744]
[801,176,801213,"ASSABET VALLEY               ",213,"NORTHBOROUGH                 ",5.8510638300000001E-2,1128,66,82.5,4.8271276597500004]
[801,177,801276,"ASSABET VALLEY               ",276,"SOUTHBOROUGH                 ",2.6595744679999998E-2,1128,30,82.5,2.1941489360999999]
[801,178,801321,"ASSABET VALLEY               ",321,"WESTBOROUGH                  ",7.0035460990000006E-2,1128,79,82.5,5.7779255316750007]
[805,179,805025,"BLACKSTONE VALLEY            ",25,"BELLINGHAM                   ",6.1600000000000002E-2,1250,77,72.77,4.4826319999999997]
[805,180,805032,"BLACKSTONE VALLEY            ",32,"BLACKSTONE                   ",4.8000000000000001E-2,1250,60,55.46,2.66208]
[805,181,805077,"BLACKSTONE VALLEY            ",77,"DOUGLAS                      ",0.1056,1250,132,76.22,8.0488319999999991]
[805,182,805110,"BLACKSTONE VALLEY            ",110,"GRAFTON                      ",7.3599999999999999E-2,1250,92,79.819999999999993,5.8747519999999991]
[805,183,805138,"BLACKSTONE VALLEY            ",138,"HOPEDALE                     ",5.1999999999999998E-2,1250,65,61.65,3.2058]
[805,184,805179,"BLACKSTONE VALLEY            ",179,"MENDON                       ",5.9200000000000003E-2,1250,74,82.5,4.8840000000000003]
[805,185,805185,"BLACKSTONE VALLEY            ",185,"MILFORD                      ",0.16320000000000001,1250,204,42.64,6.9588480000000006]
[805,186,805186,"BLACKSTONE VALLEY            ",186,"MILLBURY                     ",6.1600000000000002E-2,1250,77,74.56,4.5928960000000005]
[805,187,805188,"BLACKSTONE VALLEY            ",188,"MILLVILLE                    ",1.7600000000000001E-2,1250,22,58.98,1.0380480000000001]
[805,188,805214,"BLACKSTONE VALLEY            ",214,"NORTHBRIDGE                  ",0.1336,1250,167,64.64,8.635904]
[805,189,805290,"BLACKSTONE VALLEY            ",290,"SUTTON                       ",5.7599999999999998E-2,1250,72,82.5,4.7519999999999998]
[805,190,805303,"BLACKSTONE VALLEY            ",303,"UPTON                        ",7.5200000000000003E-2,1250,94,82.5,6.2040000000000006]
[805,191,805304,"BLACKSTONE VALLEY            ",304,"UXBRIDGE                     ",9.1200000000000003E-2,1250,114,82.5,7.524]
[806,192,806018,"BLUE HILLS                   ",18,"AVON                         ",7.2589382450000003E-2,923,67,63.25,4.5912784399625002]
[806,193,{"$f":"A202*1000+E202","v":806040},"BLUE HILLS                   ",40,"BRAINTREE                    ",0.15492957746,923,143,82.5,12.781690140449999]
[806,194,806050,"BLUE HILLS                   ",50,"CANTON                       ",9.8591549299999998E-2,923,91,{"$f":"ROUND(VLOOKUP(E203,town351,12),2)","v":82.5},{"$f":"G203*J203","v":8.1338028172500003}]
[806,{"$f":"B203+1","v":195},806073,"BLUE HILLS                   ",73,"DEDHAM                       ",8.9924160350000004E-2,923,83,82.5,7.4187432288749999]
[806,196,806133,"BLUE HILLS                   ",133,"HOLBROOK                     ",0.13542795232999999,923,125,52.53,7.1140303358949]
[806,197,806189,"BLUE HILLS                   ",189,"MILTON                       ",4.1170097510000003E-2,923,38,82.5,3.3965330445750004]
[806,198,806220,"BLUE HILLS                   ",220,"NORWOOD                      ",0.12134344529,923,112,82.5,10.010834236425]
[806,199,806244,"BLUE HILLS                   ",244,"RANDOLPH                     ",0.28169014084999999,923,260,57.4,16.16901408479]
[806,200,806335,"BLUE HILLS                   ",335,"WESTWOOD                     ",4.3336944699999998E-3,923,4,82.5,0.35752979377499999]
[810,201,810027,"BRISTOL PLYMOUTH             ",27,"BERKLEY                      ",7.2687224669999995E-2,1362,99,66.2,4.8118942731539995]
[810,202,810042,"BRISTOL PLYMOUTH             ",42,"BRIDGEWATER                  ",0.12922173275000001,1362,176,66.81,8.6333039650275012]
[810,203,810076,"BRISTOL PLYMOUTH             ",76,"DIGHTON                      ",7.4889867839999999E-2,1362,102,59.78,4.4769162994752003]
[810,204,810102,"BRISTOL PLYMOUTH             ",102,"FREETOWN                     ",6.9750367110000003E-2,1362,95,78.13,5.4495961823043002]
[810,205,810182,"BRISTOL PLYMOUTH             ",182,"MIDDLEBOROUGH                ",0.13509544787,1362,184,58.59,7.9152422907033007]
[810,206,810245,"BRISTOL PLYMOUTH             ",245,"RAYNHAM                      ",0.14170337739,1362,193,66.319999999999993,9.397767988504798]
[810,207,810247,"BRISTOL PLYMOUTH             ",247,"REHOBOTH                     ",4.111600587E-2,1362,56,82.5,3.392070484275]
[810,208,810293,"BRISTOL PLYMOUTH             ",293,"TAUNTON                      ",0.33553597651,1362,457,37.22,12.4886490457022]
[815,209,815020,"CAPE COD                     ",20,"BARNSTABLE                   ",0.28028169013999998,710,199,82.5,23.123239436549998]
[815,210,815041,"CAPE COD                     ",41,"BREWSTER                     ",8.8732394369999995E-2,710,63,82.5,7.3204225355249992]
[815,211,815055,"CAPE COD                     ",55,"CHATHAM                      ",2.6760563380000001E-2,710,19,82.5,2.2077464788500003]
[815,212,815075,"CAPE COD                     ",75,"DENNIS                       ",0.10704225352000001,710,76,82.5,8.8309859154000012]
[815,213,815085,"CAPE COD                     ",85,"EASTHAM                      ",3.8028169010000001E-2,710,27,82.5,3.1373239433250002]
[815,214,815126,"CAPE COD                     ",126,"HARWICH                      ",8.732394366E-2,710,62,82.5,7.2042253519499999]
[815,215,815172,"CAPE COD                     ",172,"MASHPEE                      ",6.9014084510000004E-2,710,49,82.5,5.6936619720750006]
[815,216,815224,"CAPE COD                     ",224,"ORLEANS                      ",2.2535211270000001E-2,710,16,82.5,1.8591549297750001]
[815,217,815242,"CAPE COD                     ",242,"PROVINCETOWN                 ",8.4507042299999998E-3,710,6,82.5,0.69718309897499997]
[815,218,815300,"CAPE COD                     ",300,"TRURO                        ",1.267605634E-2,710,9,82.5,1.0457746480500001]
[815,219,815318,"CAPE COD                     ",318,"WELLFLEET                    ",1.4084507039999999E-2,710,10,82.5,1.1619718308]
[815,220,815351,"CAPE COD                     ",351,"YARMOUTH                     ",0.24507042254,710,174,82.5,20.218309859550001]
[817,221,817030,"ESSEX NORTH SHORE",30,"BEVERLY                      ",0.14451612903,1550,224,82.5,11.922580644975]
[817,222,817038,"ESSEX NORTH SHORE",38,"BOXFORD                      ",2.580645161E-2,1550,40,82.5,2.1290322578250001]
[817,223,817071,"ESSEX NORTH SHORE",71,"DANVERS                      ",0.15225806452000001,1550,236,82.5,12.561290322900001]
[817,224,817092,"ESSEX NORTH SHORE",92,"ESSEX                        ",7.74193548E-3,1550,12,82.5,0.63870967710000004]
[817,225,817107,"ESSEX NORTH SHORE",107,"GLOUCESTER                   ",6.9032258060000004E-2,1550,107,82.5,5.6951612899500006]
[817,226,817119,"ESSEX NORTH SHORE",119,"HAMILTON                     ",1.5483870970000001E-2,1550,24,82.5,1.2774193550250001]
[817,227,817164,"ESSEX NORTH SHORE",164,"LYNNFIELD                    ",2.9677419350000001E-2,1550,46,82.5,2.4483870963750003]
[817,228,817166,"ESSEX NORTH SHORE",166,"MANCHESTER                   ",5.1612903200000003E-3,1550,8,82.5,0.42580645140000001]
[817,229,817168,"ESSEX NORTH SHORE",168,"MARBLEHEAD                   ",2.2580645159999999E-2,1550,35,82.5,1.8629032257]
[817,230,817184,"ESSEX NORTH SHORE",184,"MIDDLETON                    ",3.6129032259999999E-2,1550,56,82.5,2.98064516145]
[817,231,817196,"ESSEX NORTH SHORE",196,"NAHANT                       ",3.87096774E-3,1550,6,82.5,0.31935483855000002]
[817,232,817229,"ESSEX NORTH SHORE",229,"PEABODY",0.31354838709999999,1550,486,67.930000000000007,21.299341935703001]
[817,233,817252,"ESSEX NORTH SHORE",252,"ROCKPORT                     ",1.225806452E-2,1550,19,82.5,1.0112903229000001]
[817,234,817258,"ESSEX NORTH SHORE",258,"SALEM                        ",0.11225806452000001,1550,174,69.52,7.8041806454304004]
[817,235,817291,"ESSEX NORTH SHORE",291,"SWAMPSCOTT                   ",0.02,1550,31,82.5,1.6500000000000001]
[817,236,817298,"ESSEX NORTH SHORE",298,"TOPSFIELD                    ",1.8709677420000001E-2,1550,29,82.5,1.54354838715]
[817,237,817320,"ESSEX NORTH SHORE",320,"WENHAM                       ",1.0967741939999999E-2,1550,17,82.5,0.90483871004999994]
[818,238,818029,"FRANKLIN COUNTY              ",29,"BERNARDSTON                  ",3.9723661489999999E-2,579,23,61.14,2.4287046634985998]
[818,239,818047,"FRANKLIN COUNTY              ",47,"BUCKLAND                     ",3.9723661489999999E-2,579,23,59.5,2.3635578586550001]
[818,240,818066,"FRANKLIN COUNTY              ",66,"COLRAIN                      ",4.8359240069999997E-2,579,28,53.5,2.5872193437449997]
[818,241,818068,"FRANKLIN COUNTY              ",68,"CONWAY                       ",6.9084628699999998E-3,579,4,82.5,0.56994818677500003]
[818,242,818074,"FRANKLIN COUNTY              ",74,"DEERFIELD                    ",5.0086355790000002E-2,579,29,82.5,4.1321243526750004]
[818,243,818091,"FRANKLIN COUNTY              ",91,"ERVING                       ",3.4542314339999998E-2,579,20,82.5,2.8497409330499996]
[818,244,818106,"FRANKLIN COUNTY              ",106,"GILL                         ",2.4179620030000001E-2,579,14,60.27,1.4573056992081002]
[818,245,818114,"FRANKLIN COUNTY              ",114,"GREENFIELD                   ",0.22279792745999999,579,129,48.56,10.8190673574576]
[818,246,818130,"FRANKLIN COUNTY              ",130,"HEATH                        ",3.281519862E-2,579,19,37.590000000000003,1.2335233161258001]
[818,247,818156,"FRANKLIN COUNTY              ",156,"LEYDEN                       ",2.0725388599999998E-2,579,12,82.5,1.7098445594999998]
[818,248,818192,"FRANKLIN COUNTY              ",192,"MONTAGUE                     ",0.15198618307,579,88,52.46,7.9731951638521998]
[818,249,818206,"FRANKLIN COUNTY              ",206,"NEW SALEM                    ",1.7271157169999999E-2,579,10,75.819999999999993,1.3094991366293998]
[818,250,818216,"FRANKLIN COUNTY              ",216,"NORTHFIELD                   ",0.10017271157,579,58,82.5,8.2642487045250004]
[818,251,818223,"FRANKLIN COUNTY              ",223,"ORANGE                       ",0.13471502591000001,579,78,30.87,4.1586528498417001]
[818,252,818268,"FRANKLIN COUNTY              ",268,"SHELBURNE                    ",1.899827288E-2,579,11,82.5,1.5673575126000001]
[818,253,818289,"FRANKLIN COUNTY              ",289,"SUNDERLAND                   ",1.5544041450000001E-2,579,9,82.5,1.2823834196250001]
[818,254,818312,"FRANKLIN COUNTY              ",312,"WARWICK                      ",6.9084628699999998E-3,579,4,74.73,0.51626943027509997]
[818,255,818319,"FRANKLIN COUNTY              ",319,"WENDELL                      ",1.2089810019999999E-2,579,7,45.28,0.54742659770559998]
[818,256,818337,"FRANKLIN COUNTY              ",337,"WHATELY                      ",2.245250432E-2,579,13,80.77,1.8134887739263998]
[821,257,{"$f":"A266*1000+E266","v":821095},"GREATER FALL RIVER           ",95,"FALL RIVER                   ",0.72965702756999995,1487,1085,21.23,15.490618695311099]
[821,258,821273,"GREATER FALL RIVER           ",273,"SOMERSET                     ",0.1015467384,1487,151,{"$f":"ROUND(VLOOKUP(E267,town351,12),2)","v":64.45},{"$f":"G267*J267","v":6.5446872898800006}]
[821,{"$f":"B267+1","v":259},821292,"GREATER FALL RIVER           ",292,"SWANSEA                      ",9.7511768659999998E-2,1487,145,73.97,7.2129455277801995]
[821,260,821331,"GREATER FALL RIVER           ",331,"WESTPORT                     ",7.1284465369999994E-2,1487,106,82.5,5.8809683930249994]
[823,261,823009,"GREATER LAWRENCE             ",9,"ANDOVER                      ",2.5843881860000001E-2,1896,49,82.5,2.1321202534500001]
[823,262,823149,"GREATER LAWRENCE             ",149,"LAWRENCE                     ",0.68723628692000005,1896,1303,15.43,10.604055907175601]
[823,263,823181,"GREATER LAWRENCE             ",181,"METHUEN                      ",0.25685654007999997,1896,487,47.18,12.118491560974398]
[823,264,823211,"GREATER LAWRENCE             ",211,"NORTH ANDOVER                ",3.006329114E-2,1896,57,82.5,2.4802215190500001]
[825,265,825072,"GREATER NEW BEDFORD          ",72,"DARTMOUTH                    ",0.13051470588,2176,284,82.5,10.767463235099999]
[825,266,825094,"GREATER NEW BEDFORD          ",94,"FAIRHAVEN                    ",7.9963235290000004E-2,2176,174,71.08,5.6837867644131999]
[825,267,825201,"GREATER NEW BEDFORD          ",201,"NEW BEDFORD                  ",0.78952205882000004,2176,1718,20.73,16.3667922793386]
[828,268,828079,"GREATER LOWELL               ",79,"DRACUT                       ",0.21941830624,2338,513,61.32,13.454730538636801]
[828,269,828081,"GREATER LOWELL               ",81,"DUNSTABLE                    ",5.5603079600000001E-3,2338,13,82.5,0.4587254067]
[828,270,828160,"GREATER LOWELL               ",160,"LOWELL                       ",0.71941830624000003,2338,1682,25.21,18.136535500310401]
[828,271,828301,"GREATER LOWELL               ",301,"TYNGSBOROUGH                 ",5.5603079559999997E-2,2338,130,76.39,4.2475192475884]
[829,272,829014,"SOUTH MIDDLESEX              ",14,"ASHLAND                      ",8.3240843509999995E-2,901,75,81.760000000000005,6.8057713653776002]
[829,273,829100,"SOUTH MIDDLESEX              ",100,"FRAMINGHAM                   ",0.74472807991000001,901,671,55.83,41.578168701375297]
[829,274,829136,"SOUTH MIDDLESEX              ",136,"HOLLISTON                    ",7.2142064369999995E-2,901,65,82.5,5.9517203105249994]
[829,275,829139,"SOUTH MIDDLESEX              ",139,"HOPKINTON                    ",3.1076581579999998E-2,901,28,82.5,2.5638179803500001]
[829,276,829198,"SOUTH MIDDLESEX              ",198,"NATICK                       ",6.8812430630000004E-2,901,62,82.5,5.6770255269750001]
[830,277,830002,"MINUTEMAN                    ",2,"ACTON                        ",0.11470113086,619,71,82.5,9.46284329595]
[830,278,830010,"MINUTEMAN                    ",10,"ARLINGTON                    ",0.30694668820999998,619,190,82.5,25.323101777325]
[830,279,830034,"MINUTEMAN                    ",34,"BOLTON                       ",5.0080775440000003E-2,619,31,82.5,4.1316639738000003]
[830,280,830067,"MINUTEMAN                    ",67,"CONCORD                      ",6.7851373179999994E-2,619,42,82.5,5.5977382873499995]
[830,281,830078,"MINUTEMAN                    ",78,"DOVER                        ",6.4620355400000001E-3,619,4,82.5,0.53311793205000002]
[830,282,830147,"MINUTEMAN                    ",147,"LANCASTER                    ",0.10177705977,619,63,73.22,7.4521163163593993]
[830,283,830155,"MINUTEMAN                    ",155,"LEXINGTON                    ",0.16316639742,619,101,82.5,13.461227787149999]
[830,284,830199,"MINUTEMAN                    ",199,"NEEDHAM                      ",0.10177705977,619,63,82.5,8.3966074310250001]
[830,285,830286,"MINUTEMAN                    ",286,"STOW                         ",8.7237479810000004E-2,619,54,82.5,7.1970920843249999]
[832,286,832011,"MONTACHUSETT                 ",11,"ASHBURNHAM                   ",4.2291950889999999E-2,1466,62,52.8,2.2330150069919998]
[832,287,832012,"MONTACHUSETT                 ",12,"ASHBY                        ",2.2510231919999998E-2,1466,33,65.98,1.4852251020816001]
[832,288,832015,"MONTACHUSETT                 ",15,"ATHOL                        ",7.2305593449999997E-2,1466,106,31.17,2.2537653478365001]
[832,289,832021,"MONTACHUSETT                 ",21,"BARRE                        ",3.0013642560000001E-2,1466,44,46.59,1.3983356068704003]
[832,290,832097,"MONTACHUSETT                 ",97,"FITCHBURG                    ",0.26671214187999998,1466,391,26.97,7.1932264665035994]
[832,291,832103,"MONTACHUSETT                 ",103,"GARDNER                      ",0.10027285129999999,1466,147,34.119999999999997,3.4213096863559995]
[832,292,832125,"MONTACHUSETT                 ",125,"HARVARD                      ",6.1391541600000002E-3,1466,9,82.5,0.5064802182]
[832,293,832134,"MONTACHUSETT                 ",134,"HOLDEN",0.11596180082,1466,170,67.28,7.8019099591696]
[832,294,832140,"MONTACHUSETT                 ",140,"HUBBARDSTON                  ",2.3874488400000001E-2,1466,35,62.74,1.4978854022160002]
[832,295,832162,"MONTACHUSETT                 ",162,"LUNENBURG                    ",7.0941336970000005E-2,1466,104,68.88,4.8864392904936]
[832,296,832234,"MONTACHUSETT                 ",234,"PETERSHAM                    ",5.4570259199999997E-3,1466,8,66.790000000000006,0.3644747611968]
[832,297,832235,"MONTACHUSETT                 ",235,"PHILLIPSTON                  ",1.5006821280000001E-2,1466,22,70.08,1.0516780353024]
[832,298,832241,"MONTACHUSETT                 ",241,"PRINCETON                    ",1.909959072E-2,1466,28,82.5,1.5757162344]
[832,299,832255,"MONTACHUSETT                 ",255,"ROYALSTON                    ",6.8212823999999998E-3,1466,10,68.61,0.46800818546399997]
[832,300,832282,"MONTACHUSETT                 ",282,"STERLING                     ",4.092769441E-2,1466,60,82.5,3.3765347888249999]
[832,301,832294,"MONTACHUSETT                 ",294,"TEMPLETON                    ",5.2523874489999997E-2,1466,77,45.36,2.3824829468663999]
[832,302,832299,"MONTACHUSETT                 ",299,"TOWNSEND                     ",6.8212823999999996E-4,1466,1,59.68,4.0709413363199998E-2]
[832,303,832328,"MONTACHUSETT                 ",328,"WESTMINSTER                  ",5.3888130970000003E-2,1466,79,67.06,3.6137380628482005]
[832,304,832343,"MONTACHUSETT                 ",343,"WINCHENDON                   ",5.4570259209999999E-2,1466,80,39.409999999999997,2.1506139154660997]
[851,305,851004,"NORTHERN BERKSHIRE           ",4,"ADAMS                        ",0.28936170213000001,470,136,35.880000000000003,10.382297872424401]
[851,306,851058,"NORTHERN BERKSHIRE           ",58,"CHESIRE",0.1,470,47,53.2,5.32]
[851,307,851063,"NORTHERN BERKSHIRE           ",63,"CLARKSBURG                   ",0.11276595745,470,53,32.11,3.6209148937194997]
[851,308,851098,"NORTHERN BERKSHIRE           ",98,"FLORIDA                      ",5.1063829790000001E-2,470,24,70.12,3.5805957448748003]
[851,309,851148,"NORTHERN BERKSHIRE           ",148,"LANESBOROUGH                 ",6.1702127660000002E-2,470,29,69.03,4.2592978723698005]
[851,310,851190,"NORTHERN BERKSHIRE           ",190,"MONROE                       ",8.5106382999999997E-3,470,4,35.01,0.29795744688299997]
[851,311,851209,"NORTHERN BERKSHIRE           ",209,"NORTH ADAMS                  ",0.31276595745000002,470,147,29.78,9.3141702128610007]
[851,312,851263,"NORTHERN BERKSHIRE           ",263,"SAVOY                        ",3.1914893620000002E-2,470,15,77.02,2.4580851066123999]
[851,313,851341,"NORTHERN BERKSHIRE           ",341,"WILLIAMSTOWN                 ",3.1914893620000002E-2,470,15,82.5,2.6329787236500004]
[852,314,852019,"NASHOBA VALLEY               ",19,"AYER",7.7922077919999999E-2,770,60,82.5,6.4285714283999997]
[852,315,852056,"NASHOBA VALLEY               ",56,"CHELMSFORD                   ",0.28051948051999998,770,216,82.5,23.142857142899999]
[852,316,852115,"NASHOBA VALLEY               ",115,"GROTON                       ",5.9740259740000003E-2,770,46,82.5,4.9285714285500006]
[852,317,852158,"NASHOBA VALLEY               ",158,"LITTLETON                    ",5.4545454549999997E-2,770,42,82.5,4.5000000003749996]
[852,318,852232,"NASHOBA VALLEY               ",232,"PEPPERELL                    ",0.18831168831,770,145,69.95,13.172402597284501]
[852,319,852270,"NASHOBA VALLEY               ",270,"SHIRLEY                      ",6.1038961039999999E-2,770,47,66.290000000000006,4.0462727273416004]
[852,320,852299,"NASHOBA VALLEY               ",299,"TOWNSEND                     ",0.15064935065000001,770,116,59.68,8.9907532467919999]
[852,321,{"$f":"A330*1000+E330","v":852326},"NASHOBA VALLEY               ",326,"WESTFORD                     ",0.12727272727,770,98,82.5,10.499999999775]
[853,322,853057,"NORTHEAST METROPOLITAN       ",57,"CHELSEA                      ",0.17090395480000001,1416,242,{"$f":"ROUND(VLOOKUP(E331,town351,12),2)","v":23.59},{"$f":"G331*J331","v":4.0316242937320004}]
[853,{"$f":"B331+1","v":323},853165,"NORTHEAST METROPOLITAN       ",165,"MALDEN                       ",0.15466101695000001,1416,219,54.66,8.4537711864869998]
[853,324,853178,"NORTHEAST METROPOLITAN       ",178,"MELROSE                      ",5.2966101690000003E-2,1416,75,82.5,4.3697033894250001]
[853,325,853217,"NORTHEAST METROPOLITAN       ",217,"NORTH READING                ",2.4717514119999999E-2,1416,35,82.5,2.0391949148999999]
[853,326,853246,"NORTHEAST METROPOLITAN       ",246,"READING                      ",3.3192090399999999E-2,1416,47,82.5,2.7383474579999998]
[853,327,853248,"NORTHEAST METROPOLITAN       ",248,"REVERE                       ",0.20197740113000001,1416,286,42.55,8.5941384180814993]
[853,328,853262,"NORTHEAST METROPOLITAN       ",262,"SAUGUS                       ",8.5451977400000004E-2,1416,121,82.5,7.0497881355000001]
[853,329,853284,"NORTHEAST METROPOLITAN       ",284,"STONEHAM                     ",5.0847457630000002E-2,1416,72,82.5,4.1949152544750001]
[853,330,853305,"NORTHEAST METROPOLITAN       ",305,"WAKEFIELD                    ",7.2740112989999994E-2,1416,103,82.5,6.0010593216749992]
[853,331,853344,"NORTHEAST METROPOLITAN       ",344,"WINCHESTER                   ",1.0593220340000001E-2,1416,15,82.5,0.87394067805000009]
[853,332,853346,"NORTHEAST METROPOLITAN       ",346,"WINTHROP                     ",4.3079096050000001E-2,1416,61,78.040000000000006,3.3618926557420004]
[853,333,853347,"NORTHEAST METROPOLITAN       ",347,"WOBURN",9.8870056499999998E-2,1416,140,82.5,8.156779661249999]
[855,334,855003,"OLD COLONY                   ",3,"ACUSHNET                     ",0.37230215827000002,556,207,67.16,25.003812949413199]
[855,335,855052,"OLD COLONY                   ",52,"CARVER                       ",0.17625899280999999,556,98,62.88,11.083165467892799]
[855,336,855146,"OLD COLONY                   ",146,"LAKEVILLE                    ",0.24280575539999999,556,135,82.5,20.031474820499998]
[855,337,855173,"OLD COLONY                   ",173,"MATTAPOISETT                 ",6.6546762590000003E-2,556,37,82.5,5.4901079136750006]
[855,338,855250,"OLD COLONY                   ",250,"ROCHESTER                    ",0.14208633094000001,556,79,80.66,11.460683453620399]
[860,339,860024,"PATHFINDER                   ",24,"BELCHERTOWN                  ",0.15156249999999999,640,97,62.72,9.5059999999999985]
[860,340,860111,"PATHFINDER                   ",111,"GRANBY                       ",4.3749999999999997E-2,640,28,76.760000000000005,3.35825]
[860,341,860124,"PATHFINDER                   ",124,"HARDWICK",4.0625000000000001E-2,640,26,49.25,2.0007812500000002]
[860,342,860191,"PATHFINDER                   ",191,"MONSON                       ",0.16250000000000001,640,104,61.26,9.9547500000000007]
[860,343,860202,"PATHFINDER                   ",202,"NEW BRAINTREE                ",2.1874999999999999E-2,640,14,76.040000000000006,1.663375]
[860,344,860222,"PATHFINDER                   ",222,"OAKHAM",2.6562499999999999E-2,640,17,64.62,1.71646875]
[860,345,860227,"PATHFINDER                   ",227,"PALMER                       ",0.30625000000000002,640,196,43.36,13.279]
[860,346,860309,"PATHFINDER                   ",309,"WARE                         ",0.171875,640,110,35.369999999999997,6.0792187499999999]
[860,347,860311,"PATHFINDER                   ",311,"WARREN                       ",7.4999999999999997E-2,640,48,34.46,2.5844999999999998]
[871,348,871023,"SHAWSHEEN VALLEY             ",23,"BEDFORD                      ",4.0989945860000002E-2,1293,53,82.5,3.3816705334500003]
[871,349,871031,"SHAWSHEEN VALLEY             ",31,"BILLERICA                    ",0.36968290796999997,1293,478,82.5,30.498839907524999]
[871,350,871048,"SHAWSHEEN VALLEY             ",48,"BURLINGTON                   ",0.11059551431,1293,143,82.5,9.1241299305750001]
[871,351,871295,"SHAWSHEEN VALLEY             ",295,"TEWKSBURY                    ",0.27068832173000001,1293,350,82.5,22.331786542725002]
[871,352,871342,"SHAWSHEEN VALLEY             ",342,"WILMINGTON                   ",0.20804331012999999,1293,269,82.5,17.163573085724998]
[872,353,872044,"SOUTHEASTERN                 ",44,"BROCKTON                     ",0.65816917729000002,1726,1136,23.64,15.559119351135601]
[872,354,872083,"SOUTHEASTERN                 ",83,"EAST BRIDGEWATER             ",5.4461181919999997E-2,1726,94,63.57,3.4620973346543997]
[872,355,872088,"SOUTHEASTERN                 ",88,"EASTON                       ",4.8088064889999997E-2,1726,83,82.5,3.9672653534249998]
[872,356,872099,"SOUTHEASTERN                 ",99,"FOXBOROUGH                   ",2.5492468130000001E-2,1726,44,82.5,2.1031286207250002]
[872,357,872167,"SOUTHEASTERN                 ",167,"MANSFIELD                    ",4.6929316339999999E-2,1726,81,82.5,3.8716685980499999]
[872,358,872218,"SOUTHEASTERN                 ",218,"NORTON                       ",5.040556199E-2,1726,87,82.5,4.1584588641750004]
[872,359,872266,"SOUTHEASTERN                 ",266,"SHARON                       ",9.2699884100000008E-3,1726,16,82.5,0.76477404382500003]
[872,360,872285,"SOUTHEASTERN                 ",285,"STOUGHTON                    ",6.7786790269999994E-2,1726,117,60.91,4.128893395345699]
[872,361,872323,"SOUTHEASTERN                 ",323,"WEST BRIDGEWATER             ",3.8818076479999998E-2,1726,67,68.42,2.6559327927615999]
[872,362,872338,"SOUTHEASTERN                 ",338,"WHITMAN                      ",5.7937427999999998E-4,1726,1,56.04,3.2468134651199999E-2]
[873,363,873001,"SOUTH SHORE                  ",1,"ABINGTON                     ",0.13662790697999999,688,94,64.23,8.7756104653253999]
[873,364,873065,"SOUTH SHORE                  ",65,"COHASSET                     ",2.180232558E-2,688,15,82.5,1.7986918603499999]
[873,365,873122,"SOUTH SHORE                  ",122,"HANOVER                      ",0.125,688,86,82.5,10.3125]
[873,366,873123,"SOUTH SHORE                  ",123,"HANSON                       ",0.10755813953,688,74,71.03,7.6398546508159004]
[873,367,873171,"SOUTH SHORE                  ",171,"MARSHFIELD",9.7383720930000001E-2,688,67,82.5,8.0341569767250007]
[873,368,873219,"SOUTH SHORE                  ",219,"NORWELL                      ",3.4883720930000001E-2,688,24,82.5,2.8779069767249998]
[873,369,873251,"SOUTH SHORE                  ",251,"ROCKLAND                     ",0.1875,688,129,53.96,10.1175]
[873,370,873264,"SOUTH SHORE                  ",264,"SCITUATE                     ",9.4476744190000003E-2,688,65,82.5,7.794331395675]
[873,371,873338,"SOUTH SHORE                  ",338,"WHITMAN                      ",0.19476744186,688,134,56.04,10.9147674418344]
[876,372,876017,"SOUTHERN WORCESTER           ",17,"AUBURN                       ",0.11641067098000001,1237,144,60.81,7.0789329022938006]
[876,373,876054,"SOUTHERN WORCESTER           ",54,"CHARLTON                     ",0.13662085691,1237,169,67.84,9.2683589327744009]
[876,374,876080,"SOUTHERN WORCESTER           ",80,"DUDLEY                       ",9.6200485040000006E-2,1237,119,49,4.7138237669600001]
[876,375,876215,"SOUTHERN WORCESTER           ",215,"NORTH BROOKFIELD",3.6378334679999999E-2,1237,45,49.88,1.8145513338384001]
[876,376,876226,"SOUTHERN WORCESTER           ",226,"OXFORD                       ",9.943411479E-2,1237,123,60.19,5.9849393692100996]
[876,377,876228,"SOUTHERN WORCESTER           ",228,"PAXTON                       ",3.7995149559999997E-2,1237,47,72.599999999999994,2.7584478580559995]
[876,378,876257,"SOUTHERN WORCESTER           ",257,"RUTLAND",6.7906224740000007E-2,1237,84,51.83,3.5195796282742005]
[876,379,876277,"SOUTHERN WORCESTER           ",277,"SOUTHBRIDGE                  ",0.16895715441,1237,209,25.76,4.3523362976016005]
[876,380,876280,"SOUTHERN WORCESTER           ",280,"SPENCER                      ",0.10913500404,1237,135,52.12,5.6881164105647999]
[876,381,876316,"SOUTHERN WORCESTER           ",316,"WEBSTER                      ",0.13096200485000001,1237,162,44.16,5.7832821341759999]
[878,382,878101,"TRI COUNTY                   ",101,"FRANKLIN                     ",0.18552497452,981,182,82.5,15.3058103979]
[878,383,878175,"TRI COUNTY                   ",175,"MEDFIELD                     ",1.5290519880000001E-2,981,15,82.5,1.2614678901]
[878,384,878177,"TRI COUNTY                   ",177,"MEDWAY                       ",9.2762487259999998E-2,981,91,82.5,7.6529051989500001]
[878,385,{"$f":"A394*1000+E394","v":878187},"TRI COUNTY                   ",187,"MILLIS                       ",3.9755351680000002E-2,981,39,82.5,3.2798165136000001]
[878,386,878208,"TRI COUNTY                   ",208,"NORFOLK                      ",5.1987767579999997E-2,981,51,{"$f":"ROUND(VLOOKUP(E395,town351,12),2)","v":82.5},{"$f":"G395*J395","v":4.28899082535}]
[878,{"$f":"B395+1","v":387},878212,"TRI COUNTY                   ",212,"NORTH ATTLEBOROUGH           ",0.23037716616000001,981,226,77.06,17.752864424289601]
[878,388,878238,"TRI COUNTY                   ",238,"PLAINVILLE                   ",0.10091743119,981,99,82.5,8.3256880731749998]
[878,389,878265,"TRI COUNTY                   ",265,"SEEKONK                      ",8.9704383279999994E-2,981,88,79.19,7.103690111943199]
[878,390,878269,"TRI COUNTY                   ",269,"SHERBORN                     ",5.0968399600000002E-3,981,5,82.5,0.42048929670000001]
[878,391,878307,"TRI COUNTY                   ",307,"WALPOLE                      ",0.10499490316,981,103,82.5,8.6620795106999999]
[878,392,878350,"TRI COUNTY                   ",350,"WRENTHAM                     ",8.358817533E-2,981,82,82.5,6.8960244647250004]
[879,393,879036,"UPPER CAPE COD               ",36,"BOURNE                       ",0.26801801802000003,888,238,82.5,22.111486486650001]
[879,394,879096,"UPPER CAPE COD               ",96,"FALMOUTH                     ",0.23423423423,888,208,82.5,19.324324323974999]
[879,395,879169,"UPPER CAPE COD               ",169,"MARION                       ",4.2792792789999999E-2,888,38,82.5,3.5304054051749998]
[879,396,879261,"UPPER CAPE COD               ",261,"SANDWICH                     ",0.18806306306000001,888,167,82.5,15.515202702450001]
[879,397,879310,"UPPER CAPE COD               ",310,"WAREHAM                      ",0.26689189189000001,888,237,68.19,18.199358107979101]
[885,398,885007,"WHITTIER                     ",7,"AMESBURY                     ",8.3850931680000004E-2,1288,108,82.5,6.9177018636000005]
[885,399,885105,"WHITTIER                     ",105,"GEORGETOWN                   ",5.046583851E-2,1288,65,82.5,4.1634316770749997]
[885,400,885116,"WHITTIER                     ",116,"GROVELAND                    ",2.5621118009999999E-2,1288,33,82.5,2.1137422358249998]
[885,401,885128,"WHITTIER                     ",128,"HAVERHILL                    ",0.68012422360000002,1288,876,44.7,30.401552794920004]
[885,402,885144,"WHITTIER                     ",144,"IPSWICH                      ",2.6397515529999999E-2,1288,34,82.5,2.1777950312250001]
[885,403,885180,"WHITTIER                     ",180,"MERRIMAC                     ",3.0279503110000001E-2,1288,39,82.5,2.4980590065750001]
[885,404,885203,"WHITTIER                     ",203,"NEWBURY                      ",1.863354037E-2,1288,24,82.5,1.5372670805249999]
[885,405,885204,"WHITTIER                     ",204,"NEWBURYPORT                  ",2.0186335400000002E-2,1288,26,82.5,1.6653726705]
[885,406,885254,"WHITTIER                     ",254,"ROWLEY                       ",1.47515528E-2,1288,19,82.5,1.2170031059999999]
[885,407,885259,"WHITTIER                     ",259,"SALISBURY                    ",4.1149068320000003E-2,1288,53,82.5,3.3947981364000004]
[885,408,885329,"WHITTIER                     ",329,"WEST NEWBURY                 ",8.5403726700000009E-3,1288,11,82.5,0.70458074527500003]
[910,409,910003,"BRISTOL COUNTY               ",3,"ACUSHNET                     ",4.3977055449999997E-2,523,23,67.16,2.9534990440219997]
[910,410,910016,"BRISTOL COUNTY               ",16,"ATTLEBORO                    ",4.780114723E-2,523,25,49.29,2.3561185469666999]
[910,411,910027,"BRISTOL COUNTY               ",27,"BERKLEY                      ",4.015296367E-2,523,21,66.2,2.6581261949540003]
[910,412,910072,"BRISTOL COUNTY               ",72,"DARTMOUTH                    ",3.2504780109999999E-2,523,17,82.5,2.6816443590749999]
[910,413,910076,"BRISTOL COUNTY               ",76,"DIGHTON                      ",6.3097514339999994E-2,523,33,59.78,3.7719694072451997]
[910,414,910088,"BRISTOL COUNTY               ",88,"EASTON                       ",1.529636711E-2,523,8,82.5,1.2619502865750001]
[910,415,910094,"BRISTOL COUNTY               ",94,"FAIRHAVEN                    ",5.1625239009999997E-2,523,27,71.08,3.6695219888307995]
[910,416,910095,"BRISTOL COUNTY               ",95,"FALL RIVER                   ",0.10707456979,523,56,21.23,2.2731931166417003]
[910,417,910102,"BRISTOL COUNTY               ",102,"FREETOWN                     ",5.3537284890000002E-2,523,28,78.13,4.1828680684556998]
[910,418,910167,"BRISTOL COUNTY               ",167,"MANSFIELD                    ",1.529636711E-2,523,8,82.5,1.2619502865750001]
[910,419,910201,"BRISTOL COUNTY               ",201,"NEW BEDFORD                  ",0.1051625239,523,55,20.73,2.1800191204470001]
[910,420,910212,"BRISTOL COUNTY               ",212,"NORTH ATTLEBOROUGH           ",1.9120458890000001E-2,523,10,77.06,1.4734225620634001]
[910,421,910218,"BRISTOL COUNTY               ",218,"NORTON                       ",2.4856596559999999E-2,523,13,82.5,2.0506692161999998]
[910,422,910245,"BRISTOL COUNTY               ",245,"RAYNHAM                      ",3.2504780109999999E-2,523,17,66.319999999999993,2.1557170168951996]
[910,423,910247,"BRISTOL COUNTY               ",247,"REHOBOTH                     ",8.4130019119999996E-2,523,44,82.5,6.9407265773999995]
[910,424,910265,"BRISTOL COUNTY               ",265,"SEEKONK                      ",1.9120458890000001E-2,523,10,79.19,1.5141491394991]
[910,425,910273,"BRISTOL COUNTY               ",273,"SOMERSET                     ",5.7361376669999999E-2,523,30,64.45,3.6969407263815]
[910,426,910292,"BRISTOL COUNTY               ",292,"SWANSEA                      ",3.8240917780000001E-2,523,20,73.97,2.8286806881866]
[910,427,910293,"BRISTOL COUNTY               ",293,"TAUNTON                      ",9.1778202680000004E-2,523,48,37.22,3.4159847037495998]
[910,428,910331,"BRISTOL COUNTY               ",331,"WESTPORT                     ",5.7361376669999999E-2,523,30,82.5,4.7323135752749996]
[915,429,915018,"NORFOLK COUNTY               ",18,"AVON                         ",1.4760147600000001E-2,271,4,63.25,0.93357933570000007]
[915,430,915025,"NORFOLK COUNTY               ",25,"BELLINGHAM                   ",5.5350553509999997E-2,271,15,72.77,4.0278597789227]
[915,431,915040,"NORFOLK COUNTY               ",40,"BRAINTREE                    ",7.7490774910000004E-2,271,21,82.5,6.392988930075]
[915,432,915046,"NORFOLK COUNTY               ",46,"BROOKLINE                    ",0,271,0,82.5,0]
[915,433,915050,"NORFOLK COUNTY               ",50,"CANTON                       ",3.6900369000000002E-2,271,10,82.5,3.0442804425000003]
[915,434,915065,"NORFOLK COUNTY               ",65,"COHASSET                     ",0,271,0,82.5,0]
[915,435,915073,"NORFOLK COUNTY               ",73,"DEDHAM                       ",4.7970479699999999E-2,271,13,82.5,3.9575645752499997]
[915,436,915078,"NORFOLK COUNTY               ",78,"DOVER                        ",1.10701107E-2,271,3,82.5,0.91328413274999998]
[915,437,915099,"NORFOLK COUNTY               ",99,"FOXBOROUGH                   ",3.6900369000000002E-2,271,10,82.5,3.0442804425000003]
[915,438,915101,"NORFOLK COUNTY               ",101,"FRANKLIN                     ",6.2730627309999995E-2,271,17,82.5,5.1752767530749999]
[915,439,915133,"NORFOLK COUNTY               ",133,"HOLBROOK                     ",3.3210332100000003E-2,271,9,52.53,1.7445387452130001]
[915,440,915175,"NORFOLK COUNTY               ",175,"MEDFIELD                     ",1.10701107E-2,271,3,82.5,0.91328413274999998]
[915,441,915177,"NORFOLK COUNTY               ",177,"MEDWAY                       ",4.42804428E-2,271,12,82.5,3.6531365309999999]
[915,442,915187,"NORFOLK COUNTY               ",187,"MILLIS                       ",4.0590405900000001E-2,271,11,82.5,3.3487084867500001]
[915,443,915189,"NORFOLK COUNTY               ",189,"MILTON                       ",2.9520295200000001E-2,271,8,82.5,2.4354243540000002]
[915,444,915199,"NORFOLK COUNTY               ",199,"NEEDHAM                      ",3.6900369000000001E-3,271,1,82.5,0.30442804425000003]
[915,445,915208,"NORFOLK COUNTY               ",208,"NORFOLK                      ",5.1660516609999999E-2,271,14,82.5,4.2619926203249996]
[915,446,915220,"NORFOLK COUNTY               ",220,"NORWOOD                      ",6.2730627309999995E-2,271,17,82.5,5.1752767530749999]
[915,447,915238,"NORFOLK COUNTY               ",238,"PLAINVILLE                   ",2.5830258299999999E-2,271,7,82.5,2.13099630975]
[915,448,915243,"NORFOLK COUNTY               ",243,"QUINCY                       ",3.6900369000000002E-2,271,10,82.5,3.0442804425000003]
[915,449,{"$f":"A458*1000+E458","v":915244},"NORFOLK COUNTY               ",244,"RANDOLPH                     ",3.6900369000000002E-2,271,10,57.4,2.1180811805999999]
[915,450,915266,"NORFOLK COUNTY               ",266,"SHARON                       ",3.6900369000000002E-2,271,10,{"$f":"ROUND(VLOOKUP(E459,town351,12),2)","v":82.5},{"$f":"G459*J459","v":3.0442804425000003}]
[915,{"$f":"B459+1","v":451},915285,"NORFOLK COUNTY               ",285,"STOUGHTON                    ",2.5830258299999999E-2,271,7,60.91,1.5733210330529999]
[915,452,915307,"NORFOLK COUNTY               ",307,"WALPOLE                      ",7.0110701110000007E-2,271,19,82.5,5.7841328415750004]
[915,453,915317,"NORFOLK COUNTY               ",317,"WELLESLEY",7.3800738000000003E-3,271,2,82.5,0.60885608850000006]
[915,454,915335,"NORFOLK COUNTY               ",335,"WESTWOOD                     ",1.4760147600000001E-2,271,4,82.5,1.2177121770000001]
[915,455,{"$f":"A464*1000+E464","v":915336},"NORFOLK COUNTY               ",336,"WEYMOUTH                     ",9.225092251E-2,271,25,{"$f":"ROUND(VLOOKUP(E464,town351,12),2)","v":82.5},{"$f":"G464*J464","v":7.6107011070750001}]
[915,456,915350,"NORFOLK COUNTY               ",350,"WRENTHAM                     ",3.3210332100000003E-2,271,9,82.5,2.7398523982500005]